{"text_format":"1","workbook":"xlsx","n_sheets":3,"sheets":["Instructions","Sheet1","Sheet2"],"not_rendered":{"charts":0,"images":2,"macros":1,"external_links":0,"defined_names":9,"comments":3,"pivot_tables":0},"unopened":[],"bounds":{"document_bytes":16777216,"sheet_cells":100000,"rows_first":2000,"rows_last":500,"rows_between":2000,"halvings":0,"cell_chars":16384,"cell_head_chars":4096},"cells_cut":0,"cells_raw":0,"read":"whole","date_system":"1900"}

{"sheet":"Instructions","index":0,"n_rows":16,"n_cols":1,"rows_kept":16,"cut":false,"hidden":false,"merged":[]}
["Simple instructions on how to use the excel OF:"]
["Notes"]
["~ Enter the ship to and bill to information for the customer that you're creating the list for "]
["~ Enter the qty of LB books/LB sets/ebooks/etc that your customer wants in the \"QTY\" column (column A)"]
["~ You'll notice that in the fields next to the bill to area, you'll find the \"Summary\" box - here is where you'll see (at a glance) a quick summary of the products ordered - these fields are dynamically updated as new qtys are added to the overall file"]
["~ Under the summary box, you'll find a manilla colored box where you can enter any notes, instructions, etc that you see fit"]
["~ When done entering your qtys, please go up to the top of the excel file and click the \"Order Summary\" button"]
["~ The file will automatically remove all NON-SELECTED titles and only list the titles with a QTY chosen (you can always go back and add more titles by clicking \"Clear Summary\" at the top above the Bill to, and it'll bring back all titles)"]
["~ Once completed, click the \"Finalize Order\" button above the Bill to box and wait about 5-10 seconds, and you'll see \"Sheet2\" will open up a printer-friendly version of the order will appear. This version is ready to be sent as a final order/proposal to customers/customer service"]
["~ Please make sure to adjust the print area for this form so that it only prints the pages you want printed"]
["~ You can click on the top row of the notes box on this page - click and hold - and then you can drag this box to the bottom of your title listing - thus enabling the notes to also print out"]
[]
["A few quick tips on this excel OF:"]
["~ The titles are listed here as they appear on the 2020 catalog"]
["~ Row 22 is the header row - you can use this row to sort or filter out specific types of data, to make this OF easier to navigate. For instance, if you want to ONLY DISPLAY the library bound books, go to cell G22, click on the box in the bottom right portion of the cell, and deselect \"Select All\" and then select \"Library Bound Book\" and close out of the menu - now your excel file will only display the print books. This function/capability is available for any column in Row 22."]
["~ If you find any issues or have any ideas on how we can make this more user friendly, please be sure to let us know"]

{"sheet":"Sheet1","index":1,"n_rows":3151,"n_cols":33,"rows_kept":2250,"cut":true,"hidden":false,"merged":[[19,8,19,15],[6,3,6,4],[6,7,6,14],[7,7,7,8],[8,7,8,8],[7,9,7,14],[8,9,8,14],[14,9,14,14],[15,9,15,14],[16,9,16,14],[17,9,17,14],[6,17,6,22],[13,17,13,20],[10,17,10,20],[11,17,11,20],[12,17,12,20],[7,17,7,20],[8,17,8,20],[9,17,9,20],[9,9,9,14],[10,9,10,14],[11,9,11,14],[12,9,12,14],[13,9,13,14],[9,7,9,8],[10,7,10,8],[11,7,11,8],[12,7,12,8],[13,7,13,8],[14,7,14,8],[15,7,15,8],[16,7,16,8],[17,7,17,8]],"bounds":{"rows_first":1000,"rows_last":250,"rows_between":1000,"halvings":1}}
[]
[]
[]
[]
[]
[]
[null,null,null,"Ship to",null,null,null,"Bill to",null,null,null,null,null,null,null,null,null,"Summary"]
[null,null,null,"School/Library:",null,null,null,"School/Library:",null,null,null,null,null,null,null,null,null,null,null,null,null,"Print","eBooks"]
[null,null,null,"Attention:",null,null,null,"Attention:",null,null,null,null,null,null,null,null,null,"# of Books",null,null,null,{"$f":"SUMPRODUCT(((Sheet1!$G$23:$G$3151=\"Library Bound Book\")\n+(Sheet1!$G$23:$G$3151=\"Library Set\")\n+(Sheet1!$G$23:$G$3151=\"Hardcover\")\n+(Sheet1!$G$23:$G$3151=\"Single Copy Set\")\n+(Sheet1!$G$23:$G$3151=\"Paperback Book\"))\n*(Sheet1!$AE$23:$AE$3151))","v":0},{"$f":"SUMPRODUCT(((Sheet1!$G$23:$G$3151=\"eBook\")\n+(Sheet1!$G$23:$G$3151=\"eBook Set\"))\n*(Sheet1!$AE$23:$AE$3151))","v":0}]
[null,null,null,"Title:",null,null,null,"Title:",null,null,null,null,null,null,null,null,null,"Subtotal",null,null,null,{"$f":"SUMPRODUCT(((Sheet1!$G$23:$G$3151=\"Library Bound Book\")\n+(Sheet1!$G$23:$G$3151=\"Library Set\")\n+(Sheet1!$G$23:$G$3151=\"Hardcover\")\n+(Sheet1!$G$23:$G$3151=\"Single Copy Set\")\n+(Sheet1!$G$23:$G$3151=\"Paperback Book\"))\n*(Sheet1!$AF$23:$AF$3151))","v":0},{"$f":"SUMPRODUCT(((Sheet1!$G$23:$G$3151=\"eBook\")\n+(Sheet1!$G$23:$G$3151=\"eBook Set\"))\n*(Sheet1!$AF$23:$AF$3151))","v":0}]
[null,null,null,"Street Address:",null,null,null,"Street Address:",null,null,null,null,null,null,null,null,null,null,null,null,null,"Book Subtotal",{"$f":"V10+W10","v":0}]
[null,null,null,"City:",null,null,null,"City:",null,null,null,null,null,null,null,null,null,"(where applicable)",null,null,null,"Library Processsing",0]
[null,null,null,"State:",null,null,null,"State:",null,null,null,null,null,null,null,null,null,"*9% S&H (12% for Alaska & Hawaii) - FREE on all orders over $500",null,null,null,"Shipping & Handling",{"$f":"IF(W11<500,(W11*0.09),(\"0.00\"))","v":0}]
[null,null,null,"Zip:",null,null,null,"Zip:",null,null,null,null,null,null,null,null,null,"(where applicable)",null,null,null,"Tax"]
[null,null,null,"Contact Name:",null,null,null,"Contact Name:",null,null,null,null,null,null,null,null,null,null,null,null,null,"GRAND TOTAL",{"$f":"W11+W12+W13+W14","v":0}]
[null,null,null,"Phone:",null,null,null,"Phone:"]
[null,null,null,"Fax:",null,null,null,"Fax:",null,null,null,null,null,null,null,null,null,"Notes"]
[null,null,null,"Email:",null,null,null,"Email:"]
[]
[null,null,null,"PO# (if needed)",null,null,null,"Rep Name:","mikewhite@booklookindiana.com"]
[]
["QTY","Spring 2021 Page #","Fall 2021 Page #","Series","Title","# of Books","Product Type","ISBN","Weblink","Imprint","© Date","Season","Trim","Contributor Type","Contributor(s)","ATOS","Points","DRA","EIL","GRL","Lexile","Reading Level","Interest Level","Description","Language","List Price","School & Library Price","Dewey","Page Count","Hyperlink","Subtotal QTY","Subtotal","Hyperlink2"]
[null,null,6,"Creepy Critter Keepers","Can We Keep a Bigfoot?",1,"Hardcover","978-1-5383-8455-8",null,"West 44 Books","2022","August 2021","5.250 X 7.125","Author","Ryan Wolf"," ",null,null,null,"M",null,"Grade 2 - 3","Grade 2 - 3","When the Creepy Critter Keepers find a baby Bigfoot inside their clubhouse, they want to keep her as a pet. But then the Boggy Brothers come to town on a hunt to find Bigfoot themselves. The kids know they need to get their new buddy back to her mother soon. Can they take their furry friend home in time? Or will the Boggy Brothers catch up with them first?","English",17.95,13.45,"[Fic]--dc23","64 pp.",null,{"$f":"Table1[[#This Row],[QTY]]*Table1[[#This Row],['# of Books]]","v":0},{"$f":"Table1[[#This Row],[QTY]]*Table1[[#This Row],[School & Library Price]]","v":0}]
[null,null,6,"Creepy Critter Keepers","Can We Keep a Bigfoot?",1,"eBook","978-1-5383-8457-2",null,"West 44 Books","2022","August 2021",null,"Author","Ryan Wolf"," ",null,null,null,"M",null,"Grade 2 - 3","Grade 2 - 3","When the Creepy Critter Keepers find a baby Bigfoot inside their clubhouse, they want to keep her as a pet. But then the Boggy Brothers come to town on a hunt to find Bigfoot themselves. The kids know they need to get their new buddy back to her mother soon. Can they take their furry friend home in time? Or will the Boggy Brothers catch up with them first?","English",17.95,13.45,"[Fic]--dc23","64 pp.",null,{"$f":"Table1[[#This Row],[QTY]]*Table1[[#This Row],['# of Books]]","v":0},{"$f":"Table1[[#This Row],[QTY]]*Table1[[#This Row],[School & Library Price]]","v":0}]
[null,null,6,"Creepy Critter Keepers","Can We Keep a Bigfoot?",1,"Paperback Book","978-1-5383-8456-5",null,"West 44 Books","2022","August 2021","5.250 X 7.125","Author","Ryan Wolf"," ",null,null,null,"M",null,"Grade 2 - 3","Grade 2 - 3","When the Creepy Critter Keepers find a baby Bigfoot inside their clubhouse, they want to keep her as a pet. But then the Boggy Brothers come to town on a hunt to find Bigfoot themselves. The kids know they need to get their new buddy back to her mother soon. Can they take their furry friend home in time? Or will the Boggy Brothers catch up with them first?","English",10.55,8.9499999999999993,"[Fic]--dc23","64 pp.",null,{"$f":"Table1[[#This Row],[QTY]]*Table1[[#This Row],['# of Books]]","v":0},{"$f":"Table1[[#This Row],[QTY]]*Table1[[#This Row],[School & Library Price]]","v":0}]
[null,null,6,"Creepy Critter Keepers","Can We Keep a Werewolf?",1,"Hardcover","978-1-5383-8458-9",null,"West 44 Books","2022","August 2021","5.250 X 7.125","Author","Ryan Wolf"," ",null,null,null,"M",null,"Grade 2 - 3","Grade 2 - 3","It’s Halloween, and Creepy Critter Keepers come face to face with a werewolf while trick-or-treating! At first, they’re scared of the creepy critter, but soon realize that it’s actually their new classmate, Will. Can they keep Will from turning into a wild animal every full moon? The Creepy Critter Keepers are on the case. But what happens if a werewolf doesn’t want to change his howl?","English",17.95,13.45,"[Fic]--dc23","64 pp.",null,{"$f":"Table1[[#This Row],[QTY]]*Table1[[#This Row],['# of Books]]","v":0},{"$f":"Table1[[#This Row],[QTY]]*Table1[[#This Row],[School & Library Price]]","v":0}]
[null,null,6,"Creepy Critter Keepers","Can We Keep a Werewolf?",1,"eBook","978-1-5383-8460-2",null,"West 44 Books","2022","August 2021",null,"Author","Ryan Wolf"," ",null,null,null,"M",null,"Grade 2 - 3","Grade 2 - 3","It’s Halloween, and Creepy Critter Keepers come face to face with a werewolf while trick-or-treating! At first, they’re scared of the creepy critter, but soon realize that it’s actually their new classmate, Will. Can they keep Will from turning into a wild animal every full moon? The Creepy Critter Keepers are on the case. But what happens if a werewolf doesn’t want to change his howl?","English",17.95,13.45,"[Fic]--dc23","64 pp.",null,{"$f":"Table1[[#This Row],[QTY]]*Table1[[#This Row],['# of Books]]","v":0},{"$f":"Table1[[#This Row],[QTY]]*Table1[[#This Row],[School & Library Price]]","v":0}]
[null,null,6,"Creepy Critter Keepers","Can We Keep a Werewolf?",1,"Paperback Book","978-1-5383-8459-6",null,"West 44 Books","2022","August 2021","5.250 X 7.125","Author","Ryan Wolf"," ",null,null,null,"M",null,"Grade 2 - 3","Grade 2 - 3","It’s Halloween, and Creepy Critter Keepers come face to face with a werewolf while trick-or-treating! At first, they’re scared of the creepy critter, but soon realize that it’s actually their new classmate, Will. Can they keep Will from turning into a wild animal every full moon? The Creepy Critter Keepers are on the case. But what happens if a werewolf doesn’t want to change his howl?","English",10.55,8.9499999999999993,"[Fic]--dc23","64 pp.",null,{"$f":"Table1[[#This Row],[QTY]]*Table1[[#This Row],['# of Books]]","v":0},{"$f":"Table1[[#This Row],[QTY]]*Table1[[#This Row],[School & Library Price]]","v":0}]
[null,null,6,"Creepy Critter Keepers","Can We Keep an Alien?",1,"Hardcover","978-1-5383-8452-7",{"$f":"HYPERLINK(Table1[[#This Row],[Hyperlink]],\"Weblink\")","v":"Weblink"},"West 44 Books","2021","January 2021","5.250 X 7.125","Author","Ryan Wolf"," ",null,null,null,"M",null,"Grade 2 - 3","Grade 2 - 3","Bruce tends to tell tall tales, but when he sees an alien crash-land in his neighborhood, he needs his best friends to help him. Mei, Nia, Pablo and Bruce bring the alien back to their tree house to investigate, but can they care for a creepy critter with a taste for mischief?","English",17.95,13.45,"[Fic]--dc23","64 pp.","https://www.enslow.com/books/can_we_keep_an_alien/422285",{"$f":"Table1[[#This Row],[QTY]]*Table1[[#This Row],['# of Books]]","v":0},{"$f":"Table1[[#This Row],[QTY]]*Table1[[#This Row],[School & Library Price]]","v":0}]
[null,null,6,"Creepy Critter Keepers","Can We Keep an Alien?",1,"eBook","978-1-5383-8454-1",{"$f":"HYPERLINK(Table1[[#This Row],[Hyperlink]],\"Weblink\")","v":"Weblink"},"West 44 Books","2021","January 2021",null,"Author","Ryan Wolf"," ",null,null,null,"M",null,"Grade 2 - 3","Grade 2 - 3","Bruce tends to tell tall tales, but when he sees an alien crash-land in his neighborhood, he needs his best friends to help him. Mei, Nia, Pablo and Bruce bring the alien back to their tree house to investigate, but can they care for a creepy critter with a taste for mischief?","English",17.95,13.45,"[Fic]--dc23","64 pp.","https://www.enslow.com/books/can_we_keep_an_alien/422285",{"$f":"Table1[[#This Row],[QTY]]*Table1[[#This Row],['# of Books]]","v":0},{"$f":"Table1[[#This Row],[QTY]]*Table1[[#This Row],[School & Library Price]]","v":0}]
[null,null,6,"Creepy Critter Keepers","Can We Keep an Alien?",1,"Paperback Book","978-1-5383-8453-4",{"$f":"HYPERLINK(Table1[[#This Row],[Hyperlink]],\"Weblink\")","v":"Weblink"},"West 44 Books","2021","January 2021","5.250 X 7.125","Author","Ryan Wolf"," ",null,null,null,"M",null,"Grade 2 - 3","Grade 2 - 3","Bruce tends to tell tall tales, but when he sees an alien crash-land in his neighborhood, he needs his best friends to help him. Mei, Nia, Pablo and Bruce bring the alien back to their tree house to investigate, but can they care for a creepy critter with a taste for mischief?","English",10.55,8.9499999999999993,"[Fic]--dc23","64 pp.","https://www.enslow.com/books/can_we_keep_an_alien/422285",{"$f":"Table1[[#This Row],[QTY]]*Table1[[#This Row],['# of Books]]","v":0},{"$f":"Table1[[#This Row],[QTY]]*Table1[[#This Row],[School & Library Price]]","v":0}]
[null,null,7,"Graveyard Gruber","Mystery at Cate's Creek",1,"Hardcover","978-1-5383-8495-4",null,"West 44 Books","2022","August 2021","5.250 X 7.125","Author","D. J. Brandon"," ",null,null,null,"M",null,"Grade 2 - 3","Grade 2 - 3","When Graveyard Gruber discovers a locket buried along Cate's Creek, his scalp tingles...a sure sign of ghostly involvement! At the history museum, Graveyard learns of the creek's history: a diphtheria outbreak, an abandoned settlement, and a tragic drowning. As the mystery of the Cate's Creek ghost gets muddier, Graveyard Gruber wants to keep investigating. But is this one mystery that's too dangerous to solve?","English",17.95,13.45,"[Fic]--dc23","64 pp.",null,{"$f":"Table1[[#This Row],[QTY]]*Table1[[#This Row],['# of Books]]","v":0},{"$f":"Table1[[#This Row],[QTY]]*Table1[[#This Row],[School & Library Price]]","v":0}]
[null,null,7,"Graveyard Gruber","Mystery at Cate's Creek",1,"eBook","978-1-5383-8497-8",null,"West 44 Books","2022","August 2021",null,"Author","D. J. Brandon"," ",null,null,null,"M",null,"Grade 2 - 3","Grade 2 - 3","When Graveyard Gruber discovers a locket buried along Cate's Creek, his scalp tingles...a sure sign of ghostly involvement! At the history museum, Graveyard learns of the creek's history: a diphtheria outbreak, an abandoned settlement, and a tragic drowning. As the mystery of the Cate's Creek ghost gets muddier, Graveyard Gruber wants to keep investigating. But is this one mystery that's too dangerous to solve?","English",17.95,13.45,"[Fic]--dc23","64 pp.",null,{"$f":"Table1[[#This Row],[QTY]]*Table1[[#This Row],['# of Books]]","v":0},{"$f":"Table1[[#This Row],[QTY]]*Table1[[#This Row],[School & Library Price]]","v":0}]
[null,null,7,"Graveyard Gruber","Mystery at Cate's Creek",1,"Paperback Book","978-1-5383-8496-1",null,"West 44 Books","2022","August 2021","5.250 X 7.125","Author","D. J. Brandon"," ",null,null,null,"M",null,"Grade 2 - 3","Grade 2 - 3","When Graveyard Gruber discovers a locket buried along Cate's Creek, his scalp tingles...a sure sign of ghostly involvement! At the history museum, Graveyard learns of the creek's history: a diphtheria outbreak, an abandoned settlement, and a tragic drowning. As the mystery of the Cate's Creek ghost gets muddier, Graveyard Gruber wants to keep investigating. But is this one mystery that's too dangerous to solve?","English",10.55,8.9499999999999993,"[Fic]--dc23","64 pp.",null,{"$f":"Table1[[#This Row],[QTY]]*Table1[[#This Row],['# of Books]]","v":0},{"$f":"Table1[[#This Row],[QTY]]*Table1[[#This Row],[School & Library Price]]","v":0}]
[null,null,7,"Graveyard Gruber","The Firehouse Phantom",1,"Hardcover","978-1-5383-8489-3",null,"West 44 Books","2022","August 2021","5.250 X 7.125","Author","D. J. Brandon"," ",null,null,null,"M",null,"Grade 2 - 3","Grade 2 - 3","While on a tour of the brand-new firehouse with his friends, Graveyard Gruber feels an urgent tug from an invisible hand. Stories of a vacant house burned to the ground on the very same site, suspicions of arson, and a strange boy seen running from the blaze add to the mystery. Can an unexpected classmate provide the missing clue? Graveyard Gruber eagerly agrees to help out at the firehouse, determined to solve the mystery and set the record straight.","English",17.95,13.45,"[Fic]--dc23","64 pp.",null,{"$f":"Table1[[#This Row],[QTY]]*Table1[[#This Row],['# of Books]]","v":0},{"$f":"Table1[[#This Row],[QTY]]*Table1[[#This Row],[School & Library Price]]","v":0}]
[null,null,7,"Graveyard Gruber","The Firehouse Phantom",1,"eBook","978-1-5383-8491-6",null,"West 44 Books","2022","August 2021",null,"Author","D. J. Brandon"," ",null,null,null,"M",null,"Grade 2 - 3","Grade 2 - 3","While on a tour of the brand-new firehouse with his friends, Graveyard Gruber feels an urgent tug from an invisible hand. Stories of a vacant house burned to the ground on the very same site, suspicions of arson, and a strange boy seen running from the blaze add to the mystery. Can an unexpected classmate provide the missing clue? Graveyard Gruber eagerly agrees to help out at the firehouse, determined to solve the mystery and set the record straight.","English",17.95,13.45,"[Fic]--dc23","64 pp.",null,{"$f":"Table1[[#This Row],[QTY]]*Table1[[#This Row],['# of Books]]","v":0},{"$f":"Table1[[#This Row],[QTY]]*Table1[[#This Row],[School & Library Price]]","v":0}]
[null,null,7,"Graveyard Gruber","The Firehouse Phantom",1,"Paperback Book","978-1-5383-8490-9",null,"West 44 Books","2022","August 2021","5.250 X 7.125","Author","D. J. Brandon"," ",null,null,null,"M",null,"Grade 2 - 3","Grade 2 - 3","While on a tour of the brand-new firehouse with his friends, Graveyard Gruber feels an urgent tug from an invisible hand. Stories of a vacant house burned to the ground on the very same site, suspicions of arson, and a strange boy seen running from the blaze add to the mystery. Can an unexpected classmate provide the missing clue? Graveyard Gruber eagerly agrees to help out at the firehouse, determined to solve the mystery and set the record straight.","English",10.55,8.9499999999999993,"[Fic]--dc23","64 pp.",null,{"$f":"Table1[[#This Row],[QTY]]*Table1[[#This Row],['# of Books]]","v":0},{"$f":"Table1[[#This Row],[QTY]]*Table1[[#This Row],[School & Library Price]]","v":0}]
[null,null,7,"Graveyard Gruber","The Legend of Graveyard Gruber",1,"Hardcover","978-1-5383-8492-3",{"$f":"HYPERLINK(Table1[[#This Row],[Hyperlink]],\"Weblink\")","v":"Weblink"},"West 44 Books","2021","January 2021","5.250 X 7.125","Author","D. J. Brandon"," ",null,null,null,"M",null,"Grade 2 - 3","Grade 2 - 3","Passing a cemetery on the way to a baseball game, Grady earns the cool new name of Graveyard Gruber. Balancing friendships, school, and baseball, Grady rides the tide of fame until a rotten hot dog, a haunted house, and a gloomy cemetery guarded by a half-crazed ghost threaten to strip it away. Back at the baseball field, his team in jeopardy, his scalp tingling, Grady must face his fears regardless of the consequences. From the shadows of the cemetery, Grady hopes to save the day and live up to his new name.","English",17.95,13.45,"[Fic]--dc23","64 pp.","http://www.enslow.com/books/the_legend_of_graveyard_gruber/422289",{"$f":"Table1[[#This Row],[QTY]]*Table1[[#This Row],['# of Books]]","v":0},{"$f":"Table1[[#This Row],[QTY]]*Table1[[#This Row],[School & Library Price]]","v":0}]
[null,null,7,"Graveyard Gruber","The Legend of Graveyard Gruber",1,"eBook","978-1-5383-8494-7",{"$f":"HYPERLINK(Table1[[#This Row],[Hyperlink]],\"Weblink\")","v":"Weblink"},"West 44 Books","2021","January 2021",null,"Author","D. J. Brandon"," ",null,null,null,"M",null,"Grade 2 - 3","Grade 2 - 3","Passing a cemetery on the way to a baseball game, Grady earns the cool new name of Graveyard Gruber. Balancing friendships, school, and baseball, Grady rides the tide of fame until a rotten hot dog, a haunted house, and a gloomy cemetery guarded by a half-crazed ghost threaten to strip it away. Back at the baseball field, his team in jeopardy, his scalp tingling, Grady must face his fears regardless of the consequences. From the shadows of the cemetery, Grady hopes to save the day and live up to his new name.","English",17.95,13.45,"[Fic]--dc23","64 pp.","http://www.enslow.com/books/the_legend_of_graveyard_gruber/422289",{"$f":"Table1[[#This Row],[QTY]]*Table1[[#This Row],['# of Books]]","v":0},{"$f":"Table1[[#This Row],[QTY]]*Table1[[#This Row],[School & Library Price]]","v":0}]
[null,null,7,"Graveyard Gruber","The Legend of Graveyard Gruber",1,"Paperback Book","978-1-5383-8493-0",{"$f":"HYPERLINK(Table1[[#This Row],[Hyperlink]],\"Weblink\")","v":"Weblink"},"West 44 Books","2021","January 2021","5.250 X 7.125","Author","D. J. Brandon"," ",null,null,null,"M",null,"Grade 2 - 3","Grade 2 - 3","Passing a cemetery on the way to a baseball game, Grady earns the cool new name of Graveyard Gruber. Balancing friendships, school, and baseball, Grady rides the tide of fame until a rotten hot dog, a haunted house, and a gloomy cemetery guarded by a half-crazed ghost threaten to strip it away. Back at the baseball field, his team in jeopardy, his scalp tingling, Grady must face his fears regardless of the consequences. From the shadows of the cemetery, Grady hopes to save the day and live up to his new name.","English",10.55,8.9499999999999993,"[Fic]--dc23","64 pp.","http://www.enslow.com/books/the_legend_of_graveyard_gruber/422289",{"$f":"Table1[[#This Row],[QTY]]*Table1[[#This Row],['# of Books]]","v":0},{"$f":"Table1[[#This Row],[QTY]]*Table1[[#This Row],[School & Library Price]]","v":0}]
[null,null,8,"Izzy Jeen the Big-Mouth Queen","No One Closes My Park and Gets Away with It",1,"Hardcover","978-1-5383-8425-1",{"$f":"HYPERLINK(Table1[[#This Row],[Hyperlink]],\"Weblink\")","v":"Weblink"},"West 44 Books","2021","January 2021","5.250 X 7.125","Author","Wil Mara"," ",null,null,null,"M",null,"Grade 2 - 3","Grade 2 - 3","While walking home from school one day, Izzy discovers that the only park she's ever known is being closed so townhouses can be built on the site. But Izzy plans to fight this any way she can, even if that means going all the way to town hall. Will she be able to save Harmony Hill Park?","English",17.95,13.45,"[Fic]--dc23","64 pp.","http://www.enslow.com/books/no_one_closes_my_park_and_gets_away_with_it/422283",{"$f":"Table1[[#This Row],[QTY]]*Table1[[#This Row],['# of Books]]","v":0},{"$f":"Table1[[#This Row],[QTY]]*Table1[[#This Row],[School & Library Price]]","v":0}]
[null,null,8,"Izzy Jeen the Big-Mouth Queen","No One Closes My Park and Gets Away with It",1,"eBook","978-1-5383-8427-5",{"$f":"HYPERLINK(Table1[[#This Row],[Hyperlink]],\"Weblink\")","v":"Weblink"},"West 44 Books","2021","January 2021",null,"Author","Wil Mara"," ",null,null,null,"M",null,"Grade 2 - 3","Grade 2 - 3","While walking home from school one day, Izzy discovers that the only park she's ever known is being closed so townhouses can be built on the site. But Izzy plans to fight this any way she can, even if that means going all the way to town hall. Will she be able to save Harmony Hill Park?","English",17.95,13.45,"[Fic]--dc23","64 pp.","http://www.enslow.com/books/no_one_closes_my_park_and_gets_away_with_it/422283",{"$f":"Table1[[#This Row],[QTY]]*Table1[[#This Row],['# of Books]]","v":0},{"$f":"Table1[[#This Row],[QTY]]*Table1[[#This Row],[School & Library Price]]","v":0}]
[null,null,8,"Izzy Jeen the Big-Mouth Queen","No One Closes My Park and Gets Away with It",1,"Paperback Book","978-1-5383-8426-8",{"$f":"HYPERLINK(Table1[[#This Row],[Hyperlink]],\"Weblink\")","v":"Weblink"},"West 44 Books","2021","January 2021","5.250 X 7.125","Author","Wil Mara"," ",null,null,null,"M",null,"Grade 2 - 3","Grade 2 - 3","While walking home from school one day, Izzy discovers that the only park she's ever known is being closed so townhouses can be built on the site. But Izzy plans to fight this any way she can, even if that means going all the way to town hall. Will she be able to save Harmony Hill Park?","English",10.55,8.9499999999999993,"[Fic]--dc23","64 pp.","http://www.enslow.com/books/no_one_closes_my_park_and_gets_away_with_it/422283",{"$f":"Table1[[#This Row],[QTY]]*Table1[[#This Row],['# of Books]]","v":0},{"$f":"Table1[[#This Row],[QTY]]*Table1[[#This Row],[School & Library Price]]","v":0}]
[null,null,8,"Izzy Jeen the Big-Mouth Queen","What Happened to My Favorite Flavor?!",1,"Hardcover","978-1-5383-8431-2",null,"West 44 Books","2022","August 2021","5.250 X 7.125","Author","Wil Mara"," ",null,null,null,"M",null,"Grade 2 - 3","Grade 2 - 3","Izzy stops in at the Hip Hop Ice Cream Shop to find that her favorite flavor is no longer on the menu. Most people would just order something else, but Izzy has no intention of giving up so easily. She's got a bad taste in her mouth, and a craving for sweet justice!","English",17.95,13.45,"[Fic]--dc23","64 pp.",null,{"$f":"Table1[[#This Row],[QTY]]*Table1[[#This Row],['# of Books]]","v":0},{"$f":"Table1[[#This Row],[QTY]]*Table1[[#This Row],[School & Library Price]]","v":0}]
[null,null,8,"Izzy Jeen the Big-Mouth Queen","What Happened to My Favorite Flavor?!",1,"eBook","978-1-5383-8433-6",null,"West 44 Books","2022","August 2021",null,"Author","Wil Mara"," ",null,null,null,"M",null,"Grade 2 - 3","Grade 2 - 3","Izzy stops in at the Hip Hop Ice Cream Shop to find that her favorite flavor is no longer on the menu. Most people would just order something else, but Izzy has no intention of giving up so easily. She's got a bad taste in her mouth, and a craving for sweet justice!","English",17.95,13.45,"[Fic]--dc23","64 pp.",null,{"$f":"Table1[[#This Row],[QTY]]*Table1[[#This Row],['# of Books]]","v":0},{"$f":"Table1[[#This Row],[QTY]]*Table1[[#This Row],[School & Library Price]]","v":0}]
[null,null,8,"Izzy Jeen the Big-Mouth Queen","What Happened to My Favorite Flavor?!",1,"Paperback Book","978-1-5383-8432-9",null,"West 44 Books","2022","August 2021","5.250 X 7.125","Author","Wil Mara"," ",null,null,null,"M",null,"Grade 2 - 3","Grade 2 - 3","Izzy stops in at the Hip Hop Ice Cream Shop to find that her favorite flavor is no longer on the menu. Most people would just order something else, but Izzy has no intention of giving up so easily. She's got a bad taste in her mouth, and a craving for sweet justice!","English",10.55,8.9499999999999993,"[Fic]--dc23","64 pp.",null,{"$f":"Table1[[#This Row],[QTY]]*Table1[[#This Row],['# of Books]]","v":0},{"$f":"Table1[[#This Row],[QTY]]*Table1[[#This Row],[School & Library Price]]","v":0}]
[null,null,8,"Izzy Jeen the Big-Mouth Queen","Whoever Stole My Bike Is Gonna Get It",1,"Hardcover","978-1-5383-8428-2",null,"West 44 Books","2022","August 2021","5.250 X 7.125","Author","Wil Mara"," ",null,null,null,"M",null,"Grade 2 - 3","Grade 2 - 3","No one messes with Izzy Jeen and gets away with it. But then one day, Izzy finds that her beloved bike has been stolen! Who would do such a thing? Izzy insists that everyone help her launch a full-blown investigation at once. She vows to find the culprit and make them sorry that they ever stole from Izzy Jeen \"the Big Mouth Queen\" Marino.","English",17.95,13.45,"[Fic]--dc23","64 pp.",null,{"$f":"Table1[[#This Row],[QTY]]*Table1[[#This Row],['# of Books]]","v":0},{"$f":"Table1[[#This Row],[QTY]]*Table1[[#This Row],[School & Library Price]]","v":0}]
[null,null,8,"Izzy Jeen the Big-Mouth Queen","Whoever Stole My Bike Is Gonna Get It",1,"eBook","978-1-5383-8430-5",null,"West 44 Books","2022","August 2021",null,"Author","Wil Mara"," ",null,null,null,"M",null,"Grade 2 - 3","Grade 2 - 3","No one messes with Izzy Jeen and gets away with it. But then one day, Izzy finds that her beloved bike has been stolen! Who would do such a thing? Izzy insists that everyone help her launch a full-blown investigation at once. She vows to find the culprit and make them sorry that they ever stole from Izzy Jeen \"the Big Mouth Queen\" Marino.","English",17.95,13.45,"[Fic]--dc23","64 pp.",null,{"$f":"Table1[[#This Row],[QTY]]*Table1[[#This Row],['# of Books]]","v":0},{"$f":"Table1[[#This Row],[QTY]]*Table1[[#This Row],[School & Library Price]]","v":0}]
[null,null,8,"Izzy Jeen the Big-Mouth Queen","Whoever Stole My Bike Is Gonna Get It",1,"Paperback Book","978-1-5383-8429-9",null,"West 44 Books","2022","August 2021","5.250 X 7.125","Author","Wil Mara"," ",null,null,null,"M",null,"Grade 2 - 3","Grade 2 - 3","No one messes with Izzy Jeen and gets away with it. But then one day, Izzy finds that her beloved bike has been stolen! Who would do such a thing? Izzy insists that everyone help her launch a full-blown investigation at once. She vows to find the culprit and make them sorry that they ever stole from Izzy Jeen \"the Big Mouth Queen\" Marino.","English",10.55,8.9499999999999993,"[Fic]--dc23","64 pp.",null,{"$f":"Table1[[#This Row],[QTY]]*Table1[[#This Row],['# of Books]]","v":0},{"$f":"Table1[[#This Row],[QTY]]*Table1[[#This Row],[School & Library Price]]","v":0}]
[null,null,9,"Logan Lewis: Kid from Planet 27","The Creepy Old House",1,"Hardcover","978-1-5383-8434-3",{"$f":"HYPERLINK(Table1[[#This Row],[Hyperlink]],\"Weblink\")","v":"Weblink"},"West 44 Books","2021","January 2021","5.250 X 7.125","Author","Wil Mara"," ",null,null,null,"M",null,"Grade 2 - 3","Grade 2 - 3","Logan might be new to Earth, but he already has a terrestrial best friend named Abby. She's figured out his secret identity, and is excited to help him observe humans in their natural habitat. When all of his neighbors are invited to a party at the creepiest house on the street, Logan watches as they give in to their deepest fears before they even enter the house. Can Logan come up with a plan to uncover the truth behind the biggest mystery on the block?","English",17.95,13.45,"[Fic]--dc23","64 pp.","http://www.enslow.com/books/the_creepy_old_house/422284",{"$f":"Table1[[#This Row],[QTY]]*Table1[[#This Row],['# of Books]]","v":0},{"$f":"Table1[[#This Row],[QTY]]*Table1[[#This Row],[School & Library Price]]","v":0}]
[null,null,9,"Logan Lewis: Kid from Planet 27","The Creepy Old House",1,"eBook","978-1-5383-8436-7",{"$f":"HYPERLINK(Table1[[#This Row],[Hyperlink]],\"Weblink\")","v":"Weblink"},"West 44 Books","2021","January 2021",null,"Author","Wil Mara"," ",null,null,null,"M",null,"Grade 2 - 3","Grade 2 - 3","Logan might be new to Earth, but he already has a terrestrial best friend named Abby. She's figured out his secret identity, and is excited to help him observe humans in their natural habitat. When all of his neighbors are invited to a party at the creepiest house on the street, Logan watches as they give in to their deepest fears before they even enter the house. Can Logan come up with a plan to uncover the truth behind the biggest mystery on the block?","English",17.95,13.45,"[Fic]--dc23","64 pp.","http://www.enslow.com/books/the_creepy_old_house/422284",{"$f":"Table1[[#This Row],[QTY]]*Table1[[#This Row],['# of Books]]","v":0},{"$f":"Table1[[#This Row],[QTY]]*Table1[[#This Row],[School & Library Price]]","v":0}]
[null,null,9,"Logan Lewis: Kid from Planet 27","The Creepy Old House",1,"Paperback Book","978-1-5383-8435-0",{"$f":"HYPERLINK(Table1[[#This Row],[Hyperlink]],\"Weblink\")","v":"Weblink"},"West 44 Books","2021","January 2021","5.250 X 7.125","Author","Wil Mara"," ",null,null,null,"M",null,"Grade 2 - 3","Grade 2 - 3","Logan might be new to Earth, but he already has a terrestrial best friend named Abby. She's figured out his secret identity, and is excited to help him observe humans in their natural habitat. When all of his neighbors are invited to a party at the creepiest house on the street, Logan watches as they give in to their deepest fears before they even enter the house. Can Logan come up with a plan to uncover the truth behind the biggest mystery on the block?","English",10.55,8.9499999999999993,"[Fic]--dc23","64 pp.","http://www.enslow.com/books/the_creepy_old_house/422284",{"$f":"Table1[[#This Row],[QTY]]*Table1[[#This Row],['# of Books]]","v":0},{"$f":"Table1[[#This Row],[QTY]]*Table1[[#This Row],[School & Library Price]]","v":0}]
[null,null,9,"Logan Lewis: Kid from Planet 27","The Girl Who Knows Everything",1,"Hardcover","978-1-5383-8437-4",null,"West 44 Books","2022","August 2021","5.250 X 7.125","Author","Wil Mara"," ",null,null,null,"M",null,"Grade 2 - 3","Grade 2 - 3","Logan Lewis is new to Earth, and there are some human behaviors that are still a mystery! When he catches his classmate Madison cheating on a test, he doesn't understand why. She's one of the smartest kids in school. Madison doesn't get caught, but Logan decides to investigate the matter further. Logan discovers something he never expected, but can he step in before Madison's luck runs out?","English",17.95,13.45,"[Fic]--dc23","64 pp.",null,{"$f":"Table1[[#This Row],[QTY]]*Table1[[#This Row],['# of Books]]","v":0},{"$f":"Table1[[#This Row],[QTY]]*Table1[[#This Row],[School & Library Price]]","v":0}]
[null,null,9,"Logan Lewis: Kid from Planet 27","The Girl Who Knows Everything",1,"eBook","978-1-5383-8439-8",null,"West 44 Books","2022","August 2021",null,"Author","Wil Mara"," ",null,null,null,"M",null,"Grade 2 - 3","Grade 2 - 3","Logan Lewis is new to Earth, and there are some human behaviors that are still a mystery! When he catches his classmate Madison cheating on a test, he doesn't understand why. She's one of the smartest kids in school. Madison doesn't get caught, but Logan decides to investigate the matter further. Logan discovers something he never expected, but can he step in before Madison's luck runs out?","English",17.95,13.45,"[Fic]--dc23","64 pp.",null,{"$f":"Table1[[#This Row],[QTY]]*Table1[[#This Row],['# of Books]]","v":0},{"$f":"Table1[[#This Row],[QTY]]*Table1[[#This Row],[School & Library Price]]","v":0}]
[null,null,9,"Logan Lewis: Kid from Planet 27","The Girl Who Knows Everything",1,"Paperback Book","978-1-5383-8438-1",null,"West 44 Books","2022","August 2021","5.250 X 7.125","Author","Wil Mara"," ",null,null,null,"M",null,"Grade 2 - 3","Grade 2 - 3","Logan Lewis is new to Earth, and there are some human behaviors that are still a mystery! When he catches his classmate Madison cheating on a test, he doesn't understand why. She's one of the smartest kids in school. Madison doesn't get caught, but Logan decides to investigate the matter further. Logan discovers something he never expected, but can he step in before Madison's luck runs out?","English",10.55,8.9499999999999993,"[Fic]--dc23","64 pp.",null,{"$f":"Table1[[#This Row],[QTY]]*Table1[[#This Row],['# of Books]]","v":0},{"$f":"Table1[[#This Row],[QTY]]*Table1[[#This Row],[School & Library Price]]","v":0}]
[null,null,9,"Logan Lewis: Kid from Planet 27","The Meanest Boy Around",1,"Hardcover","978-1-5383-8440-4",null,"West 44 Books","2022","August 2021","5.250 X 7.125","Author","Wil Mara"," ",null,null,null,"M",null,"Grade 2 - 3","Grade 2 - 3","Evan Hall is the town bully. Logan observes as Evan teases and hurts any kid who gets in his way. Not even getting in trouble can stop him! This doesn’t make any sense to Logan, until he discovers what he thinks is the reason behind Evan’s behavior. Is there anything Logan can do to turn Evan around, or will he become the next victim?","English",17.95,13.45,"[Fic]--dc23","64 pp.",null,{"$f":"Table1[[#This Row],[QTY]]*Table1[[#This Row],['# of Books]]","v":0},{"$f":"Table1[[#This Row],[QTY]]*Table1[[#This Row],[School & Library Price]]","v":0}]
[null,null,9,"Logan Lewis: Kid from Planet 27","The Meanest Boy Around",1,"eBook","978-1-5383-8442-8",null,"West 44 Books","2022","August 2021",null,"Author","Wil Mara"," ",null,null,null,"M",null,"Grade 2 - 3","Grade 2 - 3","Evan Hall is the town bully. Logan observes as Evan teases and hurts any kid who gets in his way. Not even getting in trouble can stop him! This doesn’t make any sense to Logan, until he discovers what he thinks is the reason behind Evan’s behavior. Is there anything Logan can do to turn Evan around, or will he become the next victim?","English",17.95,13.45,"[Fic]--dc23","64 pp.",null,{"$f":"Table1[[#This Row],[QTY]]*Table1[[#This Row],['# of Books]]","v":0},{"$f":"Table1[[#This Row],[QTY]]*Table1[[#This Row],[School & Library Price]]","v":0}]
[null,null,9,"Logan Lewis: Kid from Planet 27","The Meanest Boy Around",1,"Paperback Book","978-1-5383-8441-1",null,"West 44 Books","2022","August 2021","5.250 X 7.125","Author","Wil Mara"," ",null,null,null,"M",null,"Grade 2 - 3","Grade 2 - 3","Evan Hall is the town bully. Logan observes as Evan teases and hurts any kid who gets in his way. Not even getting in trouble can stop him! This doesn’t make any sense to Logan, until he discovers what he thinks is the reason behind Evan’s behavior. Is there anything Logan can do to turn Evan around, or will he become the next victim?","English",10.55,8.9499999999999993,"[Fic]--dc23","64 pp.",null,{"$f":"Table1[[#This Row],[QTY]]*Table1[[#This Row],['# of Books]]","v":0},{"$f":"Table1[[#This Row],[QTY]]*Table1[[#This Row],[School & Library Price]]","v":0}]
[null,6,10,"Minecraft® Explorers","A Wider World: An Unofficial Minecraft® Adventure",1,"Hardcover","978-1-9785-9515-6",{"$f":"HYPERLINK(Table1[[#This Row],[Hyperlink]],\"Weblink\")","v":"Weblink"},"West 44 Books","2021","August 2020","5.250 X 7.125","Author","Jill Keppeler"," ",null,null,null,"N",null,"Grade 2 - 3","Grade 2 - 5","The team has more than a base now. They have a fortress, a thriving farm, and a road to the village, where they can trade for items with the villagers. However, all four of them will have to leave their comfort zones, as Dave and Kayla venture into the jungle and Matt and Jaz search for obsidian in the depths of the earth. Their adventures will bring them deeper than ever into the wider Minecraft world.","English",17.95,13.45,"[Fic]--dc23","64 pp.","https://www.enslow.com/books/A_Wider_World/422279",{"$f":"Table1[[#This Row],[QTY]]*Table1[[#This Row],['# of Books]]","v":0},{"$f":"Table1[[#This Row],[QTY]]*Table1[[#This Row],[School & Library Price]]","v":0}]
[null,6,10,"Minecraft® Explorers","A Wider World: An Unofficial Minecraft® Adventure",1,"eBook","978-1-9785-9511-8",{"$f":"HYPERLINK(Table1[[#This Row],[Hyperlink]],\"Weblink\")","v":"Weblink"},"West 44 Books","2021","August 2020",null,"Author","Jill Keppeler"," ",null,null,null,"N",null,"Grade 2 - 3","Grade 2 - 5","The team has more than a base now. They have a fortress, a thriving farm, and a road to the village, where they can trade for items with the villagers. However, all four of them will have to leave their comfort zones, as Dave and Kayla venture into the jungle and Matt and Jaz search for obsidian in the depths of the earth. Their adventures will bring them deeper than ever into the wider Minecraft world.","English",17.95,13.45,"[Fic]--dc23","64 pp.","https://www.enslow.com/books/A_Wider_World/422279",{"$f":"Table1[[#This Row],[QTY]]*Table1[[#This Row],['# of Books]]","v":0},{"$f":"Table1[[#This Row],[QTY]]*Table1[[#This Row],[School & Library Price]]","v":0}]
[null,6,10,"Minecraft® Explorers","A Wider World: An Unofficial Minecraft® Adventure",1,"Paperback Book","978-1-9785-9509-5",{"$f":"HYPERLINK(Table1[[#This Row],[Hyperlink]],\"Weblink\")","v":"Weblink"},"West 44 Books","2021","August 2020","5.250 X 7.125","Author","Jill Keppeler"," ",null,null,null,"N",null,"Grade 2 - 3","Grade 2 - 5","The team has more than a base now. They have a fortress, a thriving farm, and a road to the village, where they can trade for items with the villagers. However, all four of them will have to leave their comfort zones, as Dave and Kayla venture into the jungle and Matt and Jaz search for obsidian in the depths of the earth. Their adventures will bring them deeper than ever into the wider Minecraft world.","English",10.55,8.9499999999999993,"[Fic]--dc23","64 pp.","https://www.enslow.com/books/A_Wider_World/422279",{"$f":"Table1[[#This Row],[QTY]]*Table1[[#This Row],['# of Books]]","v":0},{"$f":"Table1[[#This Row],[QTY]]*Table1[[#This Row],[School & Library Price]]","v":0}]
[null,6,10,"Minecraft® Explorers","All for One: An Unofficial Minecraft® Adventure",1,"Hardcover","978-1-9785-9513-2",{"$f":"HYPERLINK(Table1[[#This Row],[Hyperlink]],\"Weblink\")","v":"Weblink"},"West 44 Books","2021","August 2020","5.250 X 7.125","Author","Jill Keppeler"," ",null,null,null,"M",null,"Grade 2 - 3","Grade 2 - 5","For the first time, Matt, Dave, Jaz, and Kayla venture into the Minecraft world together. However, they all have different styles of playing. Jaz and Dave want to improve their home first, while Kayla and Matt want to explore. But four people need more resources than one, and after creepers destroy part of their base, they're going to have to learn to work together if they want to survive and return to the Minecraft world again.","English",17.95,13.45,"[Fic]--dc23","64 pp.","https://www.enslow.com/books/All_for_One/422277",{"$f":"Table1[[#This Row],[QTY]]*Table1[[#This Row],['# of Books]]","v":0},{"$f":"Table1[[#This Row],[QTY]]*Table1[[#This Row],[School & Library Price]]","v":0}]
[null,6,10,"Minecraft® Explorers","All for One: An Unofficial Minecraft® Adventure",1,"eBook","978-1-9785-9502-6",{"$f":"HYPERLINK(Table1[[#This Row],[Hyperlink]],\"Weblink\")","v":"Weblink"},"West 44 Books","2021","August 2020",null,"Author","Jill Keppeler"," ",null,null,null,"M",null,"Grade 2 - 3","Grade 2 - 5","For the first time, Matt, Dave, Jaz, and Kayla venture into the Minecraft world together. However, they all have different styles of playing. Jaz and Dave want to improve their home first, while Kayla and Matt want to explore. But four people need more resources than one, and after creepers destroy part of their base, they're going to have to learn to work together if they want to survive and return to the Minecraft world again.","English",17.95,13.45,"[Fic]--dc23","64 pp.","https://www.enslow.com/books/All_for_One/422277",{"$f":"Table1[[#This Row],[QTY]]*Table1[[#This Row],['# of Books]]","v":0},{"$f":"Table1[[#This Row],[QTY]]*Table1[[#This Row],[School & Library Price]]","v":0}]
[null,6,10,"Minecraft® Explorers","All for One: An Unofficial Minecraft® Adventure",1,"Paperback Book","978-1-9785-9500-2",{"$f":"HYPERLINK(Table1[[#This Row],[Hyperlink]],\"Weblink\")","v":"Weblink"},"West 44 Books","2021","August 2020","5.250 X 7.125","Author","Jill Keppeler"," ",null,null,null,"M",null,"Grade 2 - 3","Grade 2 - 5","For the first time, Matt, Dave, Jaz, and Kayla venture into the Minecraft world together. However, they all have different styles of playing. Jaz and Dave want to improve their home first, while Kayla and Matt want to explore. But four people need more resources than one, and after creepers destroy part of their base, they're going to have to learn to work together if they want to survive and return to the Minecraft world again.","English",10.55,8.9499999999999993,"[Fic]--dc23","64 pp.","https://www.enslow.com/books/All_for_One/422277",{"$f":"Table1[[#This Row],[QTY]]*Table1[[#This Row],['# of Books]]","v":0},{"$f":"Table1[[#This Row],[QTY]]*Table1[[#This Row],[School & Library Price]]","v":0}]
[null,6,10,"Minecraft® Explorers","Farm or Fortress?: An Unofficial Minecraft® Adventure",1,"Hardcover","978-1-9785-9516-3",{"$f":"HYPERLINK(Table1[[#This Row],[Hyperlink]],\"Weblink\")","v":"Weblink"},"West 44 Books","2021","August 2020","5.250 X 7.125","Author","Jill Keppeler"," ",null,null,null,"N",null,"Grade 2 - 3","Grade 2 - 5","Matt and Dave are hard at work expanding their group's Minecraft base. However, while Dave wants to create a self-sustaining farm they’ll never need to leave, Matt wants to build a grand castle with all the bells and whistles...and a golden throne! Either way, they'll need a lot of materials. Can the friends agree on a plan and work together to build the perfect base?","English",17.95,13.45,"[Fic]--dc23","64 pp.","https://www.enslow.com/books/Farm_or_Fortress/422280",{"$f":"Table1[[#This Row],[QTY]]*Table1[[#This Row],['# of Books]]","v":0},{"$f":"Table1[[#This Row],[QTY]]*Table1[[#This Row],[School & Library Price]]","v":0}]
[null,6,10,"Minecraft® Explorers","Farm or Fortress?: An Unofficial Minecraft® Adventure",1,"eBook","978-1-9785-9505-7",{"$f":"HYPERLINK(Table1[[#This Row],[Hyperlink]],\"Weblink\")","v":"Weblink"},"West 44 Books","2021","August 2020",null,"Author","Jill Keppeler"," ",null,null,null,"N",null,"Grade 2 - 3","Grade 2 - 5","Matt and Dave are hard at work expanding their group's Minecraft base. However, while Dave wants to create a self-sustaining farm they’ll never need to leave, Matt wants to build a grand castle with all the bells and whistles...and a golden throne! Either way, they'll need a lot of materials. Can the friends agree on a plan and work together to build the perfect base?","English",17.95,13.45,"[Fic]--dc23","64 pp.","https://www.enslow.com/books/Farm_or_Fortress/422280",{"$f":"Table1[[#This Row],[QTY]]*Table1[[#This Row],['# of Books]]","v":0},{"$f":"Table1[[#This Row],[QTY]]*Table1[[#This Row],[School & Library Price]]","v":0}]
[null,6,10,"Minecraft® Explorers","Farm or Fortress?: An Unofficial Minecraft® Adventure",1,"Paperback Book","978-1-9785-9503-3",{"$f":"HYPERLINK(Table1[[#This Row],[Hyperlink]],\"Weblink\")","v":"Weblink"},"West 44 Books","2021","August 2020","5.250 X 7.125","Author","Jill Keppeler"," ",null,null,null,"N",null,"Grade 2 - 3","Grade 2 - 5","Matt and Dave are hard at work expanding their group's Minecraft base. However, while Dave wants to create a self-sustaining farm they’ll never need to leave, Matt wants to build a grand castle with all the bells and whistles...and a golden throne! Either way, they'll need a lot of materials. Can the friends agree on a plan and work together to build the perfect base?","English",10.55,8.9499999999999993,"[Fic]--dc23","64 pp.","https://www.enslow.com/books/Farm_or_Fortress/422280",{"$f":"Table1[[#This Row],[QTY]]*Table1[[#This Row],['# of Books]]","v":0},{"$f":"Table1[[#This Row],[QTY]]*Table1[[#This Row],[School & Library Price]]","v":0}]
[null,6,10,"Minecraft® Explorers","First Night: An Unofficial Minecraft® Adventure",1,"Hardcover","978-1-5383-8418-3",{"$f":"HYPERLINK(Table1[[#This Row],[Hyperlink]],\"Weblink\")","v":"Weblink"},"West 44 Books","2020","August 2019","5.250 X 7.125","Author","Jill Keppeler"," ",null,null,null,"M","460L","Grade 2 - 3","Grade 2 - 5","Matt Lopez is an ordinary kid. He likes hanging out with his friends, playing Minecraft, and teasing his brother and sister. But when Matt buys a secondhand VR headset at a lawn sale and tries it out one night, he gets a huge surprise: he wakes up in the world of Minecraft! It'll take all his skills and smarts to stay alive, because gathering resources, putting together tools, and creating a safe spot to avoid nighttime monsters is far easier on screen than it is in reality.","English",17.95,13.45,"[Fic]--dc23","64 pp.","https://www.enslow.com/books/First_Night/421941",{"$f":"Table1[[#This Row],[QTY]]*Table1[[#This Row],['# of Books]]","v":0},{"$f":"Table1[[#This Row],[QTY]]*Table1[[#This Row],[School & Library Price]]","v":0}]
[null,6,10,"Minecraft® Explorers","First Night: An Unofficial Minecraft® Adventure",1,"eBook","978-1-5383-8407-7",{"$f":"HYPERLINK(Table1[[#This Row],[Hyperlink]],\"Weblink\")","v":"Weblink"},"West 44 Books","2020","August 2019",null,"Author","Jill Keppeler"," ",null,null,null,"M","460L","Grade 2 - 3","Grade 2 - 5","Matt Lopez is an ordinary kid. He likes hanging out with his friends, playing Minecraft, and teasing his brother and sister. But when Matt buys a secondhand VR headset at a lawn sale and tries it out one night, he gets a huge surprise: he wakes up in the world of Minecraft! It'll take all his skills and smarts to stay alive, because gathering resources, putting together tools, and creating a safe spot to avoid nighttime monsters is far easier on screen than it is in reality.","English",17.95,13.45,"[Fic]--dc23","64 pp.","https://www.enslow.com/books/First_Night/421941",{"$f":"Table1[[#This Row],[QTY]]*Table1[[#This Row],['# of Books]]","v":0},{"$f":"Table1[[#This Row],[QTY]]*Table1[[#This Row],[School & Library Price]]","v":0}]
[null,6,10,"Minecraft® Explorers","First Night: An Unofficial Minecraft® Adventure",1,"Paperback Book","978-1-5383-8408-4",{"$f":"HYPERLINK(Table1[[#This Row],[Hyperlink]],\"Weblink\")","v":"Weblink"},"West 44 Books","2020","August 2019","5.250 X 7.125","Author","Jill Keppeler"," ",null,null,null,"M","460L","Grade 2 - 3","Grade 2 - 5","Matt Lopez is an ordinary kid. He likes hanging out with his friends, playing Minecraft, and teasing his brother and sister. But when Matt buys a secondhand VR headset at a lawn sale and tries it out one night, he gets a huge surprise: he wakes up in the world of Minecraft! It'll take all his skills and smarts to stay alive, because gathering resources, putting together tools, and creating a safe spot to avoid nighttime monsters is far easier on screen than it is in reality.","English",10.55,8.9499999999999993,"[Fic]--dc23","64 pp.","https://www.enslow.com/books/First_Night/421941",{"$f":"Table1[[#This Row],[QTY]]*Table1[[#This Row],['# of Books]]","v":0},{"$f":"Table1[[#This Row],[QTY]]*Table1[[#This Row],[School & Library Price]]","v":0}]
[null,6,10,"Minecraft® Explorers","Making It Home: An Unofficial Minecraft® Adventure",1,"Hardcover","978-1-5383-8417-6",{"$f":"HYPERLINK(Table1[[#This Row],[Hyperlink]],\"Weblink\")","v":"Weblink"},"West 44 Books","2020","August 2019","5.250 X 7.125","Author","Jill Keppeler"," ",null,null,null,"N","520L","Grade 2 - 3","Grade 2 - 5","Jasmine Jackson has a great imagination, but when her friend Matt tells their group of friends that he has a VR headset that can send him into the world of Minecraft, she finds it a little hard to believe. When Jaz tries the headset out for herself, she learns the truth, but then a creeper comes along and does what creepers do! She'll need to rebuild her shelter and maybe improve on it before she can find her way home.","English",17.95,13.45,"[Fic]--dc23","64 pp.","https://www.enslow.com/books/Making_It_Home/421940",{"$f":"Table1[[#This Row],[QTY]]*Table1[[#This Row],['# of Books]]","v":0},{"$f":"Table1[[#This Row],[QTY]]*Table1[[#This Row],[School & Library Price]]","v":0}]
[null,6,10,"Minecraft® Explorers","Making It Home: An Unofficial Minecraft® Adventure",1,"eBook","978-1-5383-8406-0",{"$f":"HYPERLINK(Table1[[#This Row],[Hyperlink]],\"Weblink\")","v":"Weblink"},"West 44 Books","2020","August 2019",null,"Author","Jill Keppeler"," ",null,null,null,"N","520L","Grade 2 - 3","Grade 2 - 5","Jasmine Jackson has a great imagination, but when her friend Matt tells their group of friends that he has a VR headset that can send him into the world of Minecraft, she finds it a little hard to believe. When Jaz tries the headset out for herself, she learns the truth, but then a creeper comes along and does what creepers do! She'll need to rebuild her shelter and maybe improve on it before she can find her way home.","English",17.95,13.45,"[Fic]--dc23","64 pp.","https://www.enslow.com/books/Making_It_Home/421940",{"$f":"Table1[[#This Row],[QTY]]*Table1[[#This Row],['# of Books]]","v":0},{"$f":"Table1[[#This Row],[QTY]]*Table1[[#This Row],[School & Library Price]]","v":0}]
[null,6,10,"Minecraft® Explorers","Making It Home: An Unofficial Minecraft® Adventure",1,"Paperback Book","978-1-5383-8411-4",{"$f":"HYPERLINK(Table1[[#This Row],[Hyperlink]],\"Weblink\")","v":"Weblink"},"West 44 Books","2020","August 2019","5.250 X 7.125","Author","Jill Keppeler"," ",null,null,null,"N","520L","Grade 2 - 3","Grade 2 - 5","Jasmine Jackson has a great imagination, but when her friend Matt tells their group of friends that he has a VR headset that can send him into the world of Minecraft, she finds it a little hard to believe. When Jaz tries the headset out for herself, she learns the truth, but then a creeper comes along and does what creepers do! She'll need to rebuild her shelter and maybe improve on it before she can find her way home.","English",10.55,8.9499999999999993,"[Fic]--dc23","64 pp.","https://www.enslow.com/books/Making_It_Home/421940",{"$f":"Table1[[#This Row],[QTY]]*Table1[[#This Row],['# of Books]]","v":0},{"$f":"Table1[[#This Row],[QTY]]*Table1[[#This Row],[School & Library Price]]","v":0}]
[null,6,10,"Minecraft® Explorers","Setting Forth: An Unofficial Minecraft® Adventure",1,"Hardcover","978-1-5383-8419-0",{"$f":"HYPERLINK(Table1[[#This Row],[Hyperlink]],\"Weblink\")","v":"Weblink"},"West 44 Books","2020","August 2019","5.250 X 7.125","Author","Jill Keppeler"," ",null,null,null,"N","570L","Grade 2 - 3","Grade 2 - 5","Kayla Jackson has waited for her sister, Jaz, and her friends Matt and Dave to venture into the world of Minecraft with Matt's unusual VR headset. Now, she'll finally take a turn. But Kayla's not content with what they've already told her, she wants to learn more. Before she explores, though, she'll need more resources and more information. And maybe what she finds will help her friends too.","English",17.95,13.45,"[Fic]--dc23","64 pp.","https://www.enslow.com/books/Setting_Forth/421942",{"$f":"Table1[[#This Row],[QTY]]*Table1[[#This Row],['# of Books]]","v":0},{"$f":"Table1[[#This Row],[QTY]]*Table1[[#This Row],[School & Library Price]]","v":0}]
[null,6,10,"Minecraft® Explorers","Setting Forth: An Unofficial Minecraft® Adventure",1,"eBook","978-1-5383-8405-3",{"$f":"HYPERLINK(Table1[[#This Row],[Hyperlink]],\"Weblink\")","v":"Weblink"},"West 44 Books","2020","August 2019",null,"Author","Jill Keppeler"," ",null,null,null,"N","570L","Grade 2 - 3","Grade 2 - 5","Kayla Jackson has waited for her sister, Jaz, and her friends Matt and Dave to venture into the world of Minecraft with Matt's unusual VR headset. Now, she'll finally take a turn. But Kayla's not content with what they've already told her, she wants to learn more. Before she explores, though, she'll need more resources and more information. And maybe what she finds will help her friends too.","English",17.95,13.45,"[Fic]--dc23","64 pp.","https://www.enslow.com/books/Setting_Forth/421942",{"$f":"Table1[[#This Row],[QTY]]*Table1[[#This Row],['# of Books]]","v":0},{"$f":"Table1[[#This Row],[QTY]]*Table1[[#This Row],[School & Library Price]]","v":0}]
[null,6,10,"Minecraft® Explorers","Setting Forth: An Unofficial Minecraft® Adventure",1,"Paperback Book","978-1-5383-8410-7",{"$f":"HYPERLINK(Table1[[#This Row],[Hyperlink]],\"Weblink\")","v":"Weblink"},"West 44 Books","2020","August 2019","5.250 X 7.125","Author","Jill Keppeler"," ",null,null,null,"N","570L","Grade 2 - 3","Grade 2 - 5","Kayla Jackson has waited for her sister, Jaz, and her friends Matt and Dave to venture into the world of Minecraft with Matt's unusual VR headset. Now, she'll finally take a turn. But Kayla's not content with what they've already told her, she wants to learn more. Before she explores, though, she'll need more resources and more information. And maybe what she finds will help her friends too.","English",10.55,8.9499999999999993,"[Fic]--dc23","64 pp.","https://www.enslow.com/books/Setting_Forth/421942",{"$f":"Table1[[#This Row],[QTY]]*Table1[[#This Row],['# of Books]]","v":0},{"$f":"Table1[[#This Row],[QTY]]*Table1[[#This Row],[School & Library Price]]","v":0}]
[null,6,10,"Minecraft® Explorers","Staying Alive: An Unofficial Minecraft® Adventure",1,"Hardcover","978-1-5383-8416-9",{"$f":"HYPERLINK(Table1[[#This Row],[Hyperlink]],\"Weblink\")","v":"Weblink"},"West 44 Books","2020","August 2019","5.250 X 7.125","Author","Jill Keppeler"," ",null,null,null,"M","530L","Grade 2 - 3","Grade 2 - 5","Dave Lee's friends like having adventures. Dave, himself, however, isn't so sure about that. Still, he's curious enough about his friend Matt's special VR headset that he'll give it a try just to see the world of Minecraft. But survival is more than defeating monsters and building houses, and Dave knows that. He'll teach his friends too, and along the way, he might just have an adventure!","English",17.95,13.45,"[Fic]--dc23","64 pp.","https://www.enslow.com/books/Staying_Alive/421939",{"$f":"Table1[[#This Row],[QTY]]*Table1[[#This Row],['# of Books]]","v":0},{"$f":"Table1[[#This Row],[QTY]]*Table1[[#This Row],[School & Library Price]]","v":0}]
[null,6,10,"Minecraft® Explorers","Staying Alive: An Unofficial Minecraft® Adventure",1,"eBook","978-1-5383-8404-6",{"$f":"HYPERLINK(Table1[[#This Row],[Hyperlink]],\"Weblink\")","v":"Weblink"},"West 44 Books","2020","August 2019",null,"Author","Jill Keppeler"," ",null,null,null,"M","530L","Grade 2 - 3","Grade 2 - 5","Dave Lee's friends like having adventures. Dave, himself, however, isn't so sure about that. Still, he's curious enough about his friend Matt's special VR headset that he'll give it a try just to see the world of Minecraft. But survival is more than defeating monsters and building houses, and Dave knows that. He'll teach his friends too, and along the way, he might just have an adventure!","English",17.95,13.45,"[Fic]--dc23","64 pp.","https://www.enslow.com/books/Staying_Alive/421939",{"$f":"Table1[[#This Row],[QTY]]*Table1[[#This Row],['# of Books]]","v":0},{"$f":"Table1[[#This Row],[QTY]]*Table1[[#This Row],[School & Library Price]]","v":0}]
[null,6,10,"Minecraft® Explorers","Staying Alive: An Unofficial Minecraft® Adventure",1,"Paperback Book","978-1-5383-8409-1",{"$f":"HYPERLINK(Table1[[#This Row],[Hyperlink]],\"Weblink\")","v":"Weblink"},"West 44 Books","2020","August 2019","5.250 X 7.125","Author","Jill Keppeler"," ",null,null,null,"M","530L","Grade 2 - 3","Grade 2 - 5","Dave Lee's friends like having adventures. Dave, himself, however, isn't so sure about that. Still, he's curious enough about his friend Matt's special VR headset that he'll give it a try just to see the world of Minecraft. But survival is more than defeating monsters and building houses, and Dave knows that. He'll teach his friends too, and along the way, he might just have an adventure!","English",10.55,8.9499999999999993,"[Fic]--dc23","64 pp.","https://www.enslow.com/books/Staying_Alive/421939",{"$f":"Table1[[#This Row],[QTY]]*Table1[[#This Row],['# of Books]]","v":0},{"$f":"Table1[[#This Row],[QTY]]*Table1[[#This Row],[School & Library Price]]","v":0}]
[null,6,10,"Minecraft® Explorers","Temple Raiders: An Unofficial Minecraft® Adventure",1,"Hardcover","978-1-9785-9514-9",{"$f":"HYPERLINK(Table1[[#This Row],[Hyperlink]],\"Weblink\")","v":"Weblink"},"West 44 Books","2021","August 2020","5.250 X 7.125","Author","Jill Keppeler"," ",null,null,null,"M",null,"Grade 2 - 3","Grade 2 - 5","Kayla's main project in the group's Minecraft base is the map wall, and while she's filling out her third map, she comes across something special: a desert temple! Excited, she returns to enlist her sister Jaz to help with the adventure. Jaz, however, isn't nearly so sure she wants any kind of adventure that includes dangerous falling sand, prickly cacti, husk zombies that can attack in daylight, and explosive TNT traps. Still, the sisters will need each other's skills to succeed and make it home with their loot.","English",17.95,13.45,"[Fic]--dc23","64 pp.","https://www.enslow.com/books/Temple_Raiders/422278",{"$f":"Table1[[#This Row],[QTY]]*Table1[[#This Row],['# of Books]]","v":0},{"$f":"Table1[[#This Row],[QTY]]*Table1[[#This Row],[School & Library Price]]","v":0}]
[null,6,10,"Minecraft® Explorers","Temple Raiders: An Unofficial Minecraft® Adventure",1,"eBook","978-1-9785-9508-8",{"$f":"HYPERLINK(Table1[[#This Row],[Hyperlink]],\"Weblink\")","v":"Weblink"},"West 44 Books","2021","August 2020",null,"Author","Jill Keppeler"," ",null,null,null,"M",null,"Grade 2 - 3","Grade 2 - 5","Kayla's main project in the group's Minecraft base is the map wall, and while she's filling out her third map, she comes across something special: a desert temple! Excited, she returns to enlist her sister Jaz to help with the adventure. Jaz, however, isn't nearly so sure she wants any kind of adventure that includes dangerous falling sand, prickly cacti, husk zombies that can attack in daylight, and explosive TNT traps. Still, the sisters will need each other's skills to succeed and make it home with their loot.","English",17.95,13.45,"[Fic]--dc23","64 pp.","https://www.enslow.com/books/Temple_Raiders/422278",{"$f":"Table1[[#This Row],[QTY]]*Table1[[#This Row],['# of Books]]","v":0},{"$f":"Table1[[#This Row],[QTY]]*Table1[[#This Row],[School & Library Price]]","v":0}]
[null,6,10,"Minecraft® Explorers","Temple Raiders: An Unofficial Minecraft® Adventure",1,"Paperback Book","978-1-9785-9506-4",{"$f":"HYPERLINK(Table1[[#This Row],[Hyperlink]],\"Weblink\")","v":"Weblink"},"West 44 Books","2021","August 2020","5.250 X 7.125","Author","Jill Keppeler"," ",null,null,null,"M",null,"Grade 2 - 3","Grade 2 - 5","Kayla's main project in the group's Minecraft base is the map wall, and while she's filling out her third map, she comes across something special: a desert temple! Excited, she returns to enlist her sister Jaz to help with the adventure. Jaz, however, isn't nearly so sure she wants any kind of adventure that includes dangerous falling sand, prickly cacti, husk zombies that can attack in daylight, and explosive TNT traps. Still, the sisters will need each other's skills to succeed and make it home with their loot.","English",10.55,8.9499999999999993,"[Fic]--dc23","64 pp.","https://www.enslow.com/books/Temple_Raiders/422278",{"$f":"Table1[[#This Row],[QTY]]*Table1[[#This Row],['# of Books]]","v":0},{"$f":"Table1[[#This Row],[QTY]]*Table1[[#This Row],[School & Library Price]]","v":0}]
[null,null,11,"Yucky, Disgustingly Gross, Icky Short Stories","Barf Blast",1,"Hardcover","978-1-9785-9580-4",null,"West 44 Books","2022","August 2021","6.000 X 8.250","Author","Susan Berran"," ",null,null,null,"P",null,"Grade 3 - 4","Grade 3 - 6","If you throw up, will it land on your head? Where does your nose go when it runs? This seriously gross, action-packed collection of short stories asks all the icky questions—and gives disgustingly accurate answers! Witty language and wacky illustrations will hook even the most reluctant readers, and have kids gagging for more. Silly situations and fun facts make this book on barf a perfect choice for readers who can’t wait to be grossed out!","English",19.95,14.95,"[F]--dc23","144 pp.",null,{"$f":"Table1[[#This Row],[QTY]]*Table1[[#This Row],['# of Books]]","v":0},{"$f":"Table1[[#This Row],[QTY]]*Table1[[#This Row],[School & Library Price]]","v":0}]
[null,null,11,"Yucky, Disgustingly Gross, Icky Short Stories","Barf Blast",1,"eBook","978-1-9785-9582-8",null,"West 44 Books","2022","August 2021",null,"Author","Susan Berran"," ",null,null,null,"P",null,"Grade 3 - 4","Grade 3 - 6","If you throw up, will it land on your head? Where does your nose go when it runs? This seriously gross, action-packed collection of short stories asks all the icky questions—and gives disgustingly accurate answers! Witty language and wacky illustrations will hook even the most reluctant readers, and have kids gagging for more. Silly situations and fun facts make this book on barf a perfect choice for readers who can’t wait to be grossed out!","English",19.95,14.95,"[F]--dc23","144 pp.",null,{"$f":"Table1[[#This Row],[QTY]]*Table1[[#This Row],['# of Books]]","v":0},{"$f":"Table1[[#This Row],[QTY]]*Table1[[#This Row],[School & Library Price]]","v":0}]
[null,null,11,"Yucky, Disgustingly Gross, Icky Short Stories","Barf Blast",1,"Paperback Book","978-1-9785-9581-1",null,"West 44 Books","2022","August 2021","6.000 X 8.250","Author","Susan Berran"," ",null,null,null,"P",null,"Grade 3 - 4","Grade 3 - 6","If you throw up, will it land on your head? Where does your nose go when it runs? This seriously gross, action-packed collection of short stories asks all the icky questions—and gives disgustingly accurate answers! Witty language and wacky illustrations will hook even the most reluctant readers, and have kids gagging for more. Silly situations and fun facts make this book on barf a perfect choice for readers who can’t wait to be grossed out!","English",12.9,10.95,"[F]--dc23","144 pp.",null,{"$f":"Table1[[#This Row],[QTY]]*Table1[[#This Row],['# of Books]]","v":0},{"$f":"Table1[[#This Row],[QTY]]*Table1[[#This Row],[School & Library Price]]","v":0}]
[null,null,11,"Yucky, Disgustingly Gross, Icky Short Stories","Booga Blast",1,"Hardcover","978-1-9785-9577-4",null,"West 44 Books","2022","August 2021","6.000 X 8.250","Author","Susan Berran"," ",null,null,null,"P",null,"Grade 3 - 4","Grade 3 - 6","Why are boogers green? And can you put toe jam on toast for breakfast? This fun, action-packed seriously gross book of short stories is sure to disgust adults and delight young readers! This book about boogers and other “gross” body oddities tells wildly humorous stories through descriptive, accessible language and wacky images. Full of fun facts and silly situations, this book on boogers is sure to be a blast!","English",19.95,14.95,"[F]--dc23","128 pp.",null,{"$f":"Table1[[#This Row],[QTY]]*Table1[[#This Row],['# of Books]]","v":0},{"$f":"Table1[[#This Row],[QTY]]*Table1[[#This Row],[School & Library Price]]","v":0}]
[null,null,11,"Yucky, Disgustingly Gross, Icky Short Stories","Booga Blast",1,"eBook","978-1-9785-9579-8",null,"West 44 Books","2022","August 2021",null,"Author","Susan Berran"," ",null,null,null,"P",null,"Grade 3 - 4","Grade 3 - 6","Why are boogers green? And can you put toe jam on toast for breakfast? This fun, action-packed seriously gross book of short stories is sure to disgust adults and delight young readers! This book about boogers and other “gross” body oddities tells wildly humorous stories through descriptive, accessible language and wacky images. Full of fun facts and silly situations, this book on boogers is sure to be a blast!","English",19.95,14.95,"[F]--dc23","128 pp.",null,{"$f":"Table1[[#This Row],[QTY]]*Table1[[#This Row],['# of Books]]","v":0},{"$f":"Table1[[#This Row],[QTY]]*Table1[[#This Row],[School & Library Price]]","v":0}]
[null,null,11,"Yucky, Disgustingly Gross, Icky Short Stories","Booga Blast",1,"Paperback Book","978-1-9785-9578-1",null,"West 44 Books","2022","August 2021","6.000 X 8.250","Author","Susan Berran"," ",null,null,null,"P",null,"Grade 3 - 4","Grade 3 - 6","Why are boogers green? And can you put toe jam on toast for breakfast? This fun, action-packed seriously gross book of short stories is sure to disgust adults and delight young readers! This book about boogers and other “gross” body oddities tells wildly humorous stories through descriptive, accessible language and wacky images. Full of fun facts and silly situations, this book on boogers is sure to be a blast!","English",12.9,10.95,"[F]--dc23","128 pp.",null,{"$f":"Table1[[#This Row],[QTY]]*Table1[[#This Row],['# of Books]]","v":0},{"$f":"Table1[[#This Row],[QTY]]*Table1[[#This Row],[School & Library Price]]","v":0}]
[null,null,11,"Yucky, Disgustingly Gross, Icky Short Stories","Brain Blast",1,"Hardcover","978-1-9785-9586-6",null,"West 44 Books","2022","August 2021","6.000 X 8.250","Author","Susan Berran"," ",null,null,null,"P",null,"Grade 3 - 4","Grade 3 - 6","What happens when you spin 360 times on a chair in under two minutes? Can you safely insert ping-pong balls up your nose? Brain Blast hilariously answers these crazy questions and more! This book of action-packed, silly short stories combines the gross factor with fun facts and engaging stories. Kids will love reading this hilarious collection of brain-twisting stories, combined with totally disgusting illustrations, which is sure to make adults cringe and make kids shriek with laughter!","English",19.95,14.95,"[F]--dc23","152 pp.",null,{"$f":"Table1[[#This Row],[QTY]]*Table1[[#This Row],['# of Books]]","v":0},{"$f":"Table1[[#This Row],[QTY]]*Table1[[#This Row],[School & Library Price]]","v":0}]
[null,null,11,"Yucky, Disgustingly Gross, Icky Short Stories","Brain Blast",1,"eBook","978-1-9785-9588-0",null,"West 44 Books","2022","August 2021",null,"Author","Susan Berran"," ",null,null,null,"P",null,"Grade 3 - 4","Grade 3 - 6","What happens when you spin 360 times on a chair in under two minutes? Can you safely insert ping-pong balls up your nose? Brain Blast hilariously answers these crazy questions and more! This book of action-packed, silly short stories combines the gross factor with fun facts and engaging stories. Kids will love reading this hilarious collection of brain-twisting stories, combined with totally disgusting illustrations, which is sure to make adults cringe and make kids shriek with laughter!","English",19.95,14.95,"[F]--dc23","152 pp.",null,{"$f":"Table1[[#This Row],[QTY]]*Table1[[#This Row],['# of Books]]","v":0},{"$f":"Table1[[#This Row],[QTY]]*Table1[[#This Row],[School & Library Price]]","v":0}]
[null,null,11,"Yucky, Disgustingly Gross, Icky Short Stories","Brain Blast",1,"Paperback Book","978-1-9785-9587-3",null,"West 44 Books","2022","August 2021","6.000 X 8.250","Author","Susan Berran"," ",null,null,null,"P",null,"Grade 3 - 4","Grade 3 - 6","What happens when you spin 360 times on a chair in under two minutes? Can you safely insert ping-pong balls up your nose? Brain Blast hilariously answers these crazy questions and more! This book of action-packed, silly short stories combines the gross factor with fun facts and engaging stories. Kids will love reading this hilarious collection of brain-twisting stories, combined with totally disgusting illustrations, which is sure to make adults cringe and make kids shriek with laughter!","English",12.9,10.95,"[F]--dc23","152 pp.",null,{"$f":"Table1[[#This Row],[QTY]]*Table1[[#This Row],['# of Books]]","v":0},{"$f":"Table1[[#This Row],[QTY]]*Table1[[#This Row],[School & Library Price]]","v":0}]
[null,null,11,"Yucky, Disgustingly Gross, Icky Short Stories","Butt Blast",1,"Hardcover","978-1-9785-9583-5",null,"West 44 Books","2022","August 2021","6.000 X 8.250","Author","Susan Berran"," ",null,null,null,"P",null,"Grade 3 - 4","Grade 3 - 6","How can my butt smell when it doesn’t have a nose? This gross question and more are answered in this hilarious book all about disgusting body happenings. This book of short stories features wacky, icky stories that will make kids enjoy reading, gag a little, and laugh a lot. Butt Blast combines seriously silly language with icky illustrations to create a cringe-worthy reading experience that kids will love!","English",19.95,14.95,"[F]--dc23","128 pp.",null,{"$f":"Table1[[#This Row],[QTY]]*Table1[[#This Row],['# of Books]]","v":0},{"$f":"Table1[[#This Row],[QTY]]*Table1[[#This Row],[School & Library Price]]","v":0}]
[null,null,11,"Yucky, Disgustingly Gross, Icky Short Stories","Butt Blast",1,"eBook","978-1-9785-9585-9",null,"West 44 Books","2022","August 2021",null,"Author","Susan Berran"," ",null,null,null,"P",null,"Grade 3 - 4","Grade 3 - 6","How can my butt smell when it doesn’t have a nose? This gross question and more are answered in this hilarious book all about disgusting body happenings. This book of short stories features wacky, icky stories that will make kids enjoy reading, gag a little, and laugh a lot. Butt Blast combines seriously silly language with icky illustrations to create a cringe-worthy reading experience that kids will love!","English",19.95,14.95,"[F]--dc23","128 pp.",null,{"$f":"Table1[[#This Row],[QTY]]*Table1[[#This Row],['# of Books]]","v":0},{"$f":"Table1[[#This Row],[QTY]]*Table1[[#This Row],[School & Library Price]]","v":0}]
[null,null,11,"Yucky, Disgustingly Gross, Icky Short Stories","Butt Blast",1,"Paperback Book","978-1-9785-9584-2",null,"West 44 Books","2022","August 2021","6.000 X 8.250","Author","Susan Berran"," ",null,null,null,"P",null,"Grade 3 - 4","Grade 3 - 6","How can my butt smell when it doesn’t have a nose? This gross question and more are answered in this hilarious book all about disgusting body happenings. This book of short stories features wacky, icky stories that will make kids enjoy reading, gag a little, and laugh a lot. Butt Blast combines seriously silly language with icky illustrations to create a cringe-worthy reading experience that kids will love!","English",12.9,10.95,"[F]--dc23","128 pp.",null,{"$f":"Table1[[#This Row],[QTY]]*Table1[[#This Row],['# of Books]]","v":0},{"$f":"Table1[[#This Row],[QTY]]*Table1[[#This Row],[School & Library Price]]","v":0}]
[null,7,12,"Alton Heights All-Stars","Big Shots",1,"Hardcover","978-1-5383-8220-2",{"$f":"HYPERLINK(Table1[[#This Row],[Hyperlink]],\"Weblink\")","v":"Weblink"},"West 44 Books","2022","August 2021","5.250 X 7.125","Author","David Aro"," ",null,null,null,"K",null,"Grade 2 - 3","Grade 5 - 8","After winning the youth basketball tournament and getting TV coverage, the All-Stars are riding high. Soon, a former basketball star approaches them asking to be their coach. The All-Stars are divided. Do they want to become a legitimate basketball team or keep things the same?","English",17.95,13.45,"[Fic]--dc23","64 pp.","https://www.enslow.com/books/Big_Shots/422184",{"$f":"Table1[[#This Row],[QTY]]*Table1[[#This Row],['# of Books]]","v":0},{"$f":"Table1[[#This Row],[QTY]]*Table1[[#This Row],[School & Library Price]]","v":0}]
[null,7,12,"Alton Heights All-Stars","Big Shots",1,"eBook","978-1-5383-8310-0",{"$f":"HYPERLINK(Table1[[#This Row],[Hyperlink]],\"Weblink\")","v":"Weblink"},"West 44 Books","2022","August 2021",null,"Author","David Aro"," ",null,null,null,"K",null,"Grade 2 - 3","Grade 5 - 8","After winning the youth basketball tournament and getting TV coverage, the All-Stars are riding high. Soon, a former basketball star approaches them asking to be their coach. The All-Stars are divided. Do they want to become a legitimate basketball team or keep things the same?","English",17.95,13.45,"[Fic]--dc23","64 pp.","https://www.enslow.com/books/Big_Shots/422184",{"$f":"Table1[[#This Row],[QTY]]*Table1[[#This Row],['# of Books]]","v":0},{"$f":"Table1[[#This Row],[QTY]]*Table1[[#This Row],[School & Library Price]]","v":0}]
[null,7,12,"Alton Heights All-Stars","Big Shots",1,"Paperback Book","978-1-5383-8219-6",{"$f":"HYPERLINK(Table1[[#This Row],[Hyperlink]],\"Weblink\")","v":"Weblink"},"West 44 Books","2022","August 2021","5.250 X 7.125","Author","David Aro"," ",null,null,null,"K",null,"Grade 2 - 3","Grade 5 - 8","After winning the youth basketball tournament and getting TV coverage, the All-Stars are riding high. Soon, a former basketball star approaches them asking to be their coach. The All-Stars are divided. Do they want to become a legitimate basketball team or keep things the same?","English",10.55,8.9499999999999993,"[Fic]--dc23","64 pp.","https://www.enslow.com/books/Big_Shots/422184",{"$f":"Table1[[#This Row],[QTY]]*Table1[[#This Row],['# of Books]]","v":0},{"$f":"Table1[[#This Row],[QTY]]*Table1[[#This Row],[School & Library Price]]","v":0}]
[null,7,12,"Alton Heights All-Stars","Fast Break",1,"Hardcover","978-1-5383-8218-9",{"$f":"HYPERLINK(Table1[[#This Row],[Hyperlink]],\"Weblink\")","v":"Weblink"},"West 44 Books","2022","August 2021","5.250 X 7.125","Author","David Aro"," ",null,null,null,"K",null,"Grade 2 - 3","Grade 5 - 8","It's the annual citywide youth basketball tournament. Youth teams from all over the city have come together to play on a real pro basketball court. The All-Stars quickly realize they're in over their heads. Other teams have real coaches, real uniforms, great sneakers, and real tournament experience. All the All-Stars have is talent and determination. The team has to make a decision: give up and go home, or play to win.","English",17.95,13.45,"[Fic]--dc23","64 pp.","https://www.enslow.com/books/Fast_Break/422183",{"$f":"Table1[[#This Row],[QTY]]*Table1[[#This Row],['# of Books]]","v":0},{"$f":"Table1[[#This Row],[QTY]]*Table1[[#This Row],[School & Library Price]]","v":0}]
[null,7,12,"Alton Heights All-Stars","Fast Break",1,"eBook","978-1-5383-8309-4",{"$f":"HYPERLINK(Table1[[#This Row],[Hyperlink]],\"Weblink\")","v":"Weblink"},"West 44 Books","2022","August 2021",null,"Author","David Aro"," ",null,null,null,"K",null,"Grade 2 - 3","Grade 5 - 8","It's the annual citywide youth basketball tournament. Youth teams from all over the city have come together to play on a real pro basketball court. The All-Stars quickly realize they're in over their heads. Other teams have real coaches, real uniforms, great sneakers, and real tournament experience. All the All-Stars have is talent and determination. The team has to make a decision: give up and go home, or play to win.","English",17.95,13.45,"[Fic]--dc23","64 pp.","https://www.enslow.com/books/Fast_Break/422183",{"$f":"Table1[[#This Row],[QTY]]*Table1[[#This Row],['# of Books]]","v":0},{"$f":"Table1[[#This Row],[QTY]]*Table1[[#This Row],[School & Library Price]]","v":0}]
[null,7,12,"Alton Heights All-Stars","Fast Break",1,"Paperback Book","978-1-5383-8217-2",{"$f":"HYPERLINK(Table1[[#This Row],[Hyperlink]],\"Weblink\")","v":"Weblink"},"West 44 Books","2022","August 2021","5.250 X 7.125","Author","David Aro"," ",null,null,null,"K",null,"Grade 2 - 3","Grade 5 - 8","It's the annual citywide youth basketball tournament. Youth teams from all over the city have come together to play on a real pro basketball court. The All-Stars quickly realize they're in over their heads. Other teams have real coaches, real uniforms, great sneakers, and real tournament experience. All the All-Stars have is talent and determination. The team has to make a decision: give up and go home, or play to win.","English",10.55,8.9499999999999993,"[Fic]--dc23","64 pp.","https://www.enslow.com/books/Fast_Break/422183",{"$f":"Table1[[#This Row],[QTY]]*Table1[[#This Row],['# of Books]]","v":0},{"$f":"Table1[[#This Row],[QTY]]*Table1[[#This Row],[School & Library Price]]","v":0}]
[null,7,12,"Alton Heights All-Stars","Meet Me on the Court",1,"Hardcover","978-1-5383-8212-7",{"$f":"HYPERLINK(Table1[[#This Row],[Hyperlink]],\"Weblink\")","v":"Weblink"},"West 44 Books","2019","August 2018","5.250 X 7.125","Author","David Aro"," ",null,null,null,"K","550L","Grade 2 - 3","Grade 5 - 8","Cam, Tyler, and Markus are upset that their school cut the basketball team because of lack of funding. They decide to make their own. They don't have jerseys, a coach, or even a regular court to practice on. There's one more problem, they need at least two more people on the team to play. Can the team find two more players? Can they win their first game against the snooty prep school kids that keep stealing their court?","English",17.95,13.45,"[E]--dc23","64 pp.","https://www.enslow.com/books/Meet_Me_on_the_Court/421786",{"$f":"Table1[[#This Row],[QTY]]*Table1[[#This Row],['# of Books]]","v":0},{"$f":"Table1[[#This Row],[QTY]]*Table1[[#This Row],[School & Library Price]]","v":0}]
[null,7,12,"Alton Heights All-Stars","Meet Me on the Court",1,"eBook","978-1-5383-8306-3",{"$f":"HYPERLINK(Table1[[#This Row],[Hyperlink]],\"Weblink\")","v":"Weblink"},"West 44 Books","2019","August 2018",null,"Author","David Aro"," ",null,null,null,"K","550L","Grade 2 - 3","Grade 5 - 8","Cam, Tyler, and Markus are upset that their school cut the basketball team because of lack of funding. They decide to make their own. They don't have jerseys, a coach, or even a regular court to practice on. There's one more problem, they need at least two more people on the team to play. Can the team find two more players? Can they win their first game against the snooty prep school kids that keep stealing their court?","English",17.95,13.45,"[E]--dc23","64 pp.","https://www.enslow.com/books/Meet_Me_on_the_Court/421786",{"$f":"Table1[[#This Row],[QTY]]*Table1[[#This Row],['# of Books]]","v":0},{"$f":"Table1[[#This Row],[QTY]]*Table1[[#This Row],[School & Library Price]]","v":0}]
[null,7,12,"Alton Heights All-Stars","Meet Me on the Court",1,"Paperback Book","978-1-5383-8211-0",{"$f":"HYPERLINK(Table1[[#This Row],[Hyperlink]],\"Weblink\")","v":"Weblink"},"West 44 Books","2019","August 2018","5.250 X 7.125","Author","David Aro"," ",null,null,null,"K","550L","Grade 2 - 3","Grade 5 - 8","Cam, Tyler, and Markus are upset that their school cut the basketball team because of lack of funding. They decide to make their own. They don't have jerseys, a coach, or even a regular court to practice on. There's one more problem, they need at least two more people on the team to play. Can the team find two more players? Can they win their first game against the snooty prep school kids that keep stealing their court?","English",10.55,8.9499999999999993,"[E]--dc23","64 pp.","https://www.enslow.com/books/Meet_Me_on_the_Court/421786",{"$f":"Table1[[#This Row],[QTY]]*Table1[[#This Row],['# of Books]]","v":0},{"$f":"Table1[[#This Row],[QTY]]*Table1[[#This Row],[School & Library Price]]","v":0}]
[null,7,12,"Alton Heights All-Stars","Nothing But Net",1,"Hardcover","978-1-5383-8214-1",{"$f":"HYPERLINK(Table1[[#This Row],[Hyperlink]],\"Weblink\")","v":"Weblink"},"West 44 Books","2020","August 2019","5.250 X 7.125","Author","David Aro"," ",null,null,null,"K","550L","Grade 2 - 3","Grade 5 - 8","Spring has arrived and the Alton Heights All-Stars are ready to practice at the basketball court in their local park. Unfortunately, the city is planning to turn the park into a parking lot. Can the All-Stars convince the city that their park is necessary? They plan a neighborhood basketball game to try to change the minds of local officials.","English",17.95,13.45,"[E]--dc23","64 pp.","https://www.enslow.com/books/Nothing_But_Net/421928",{"$f":"Table1[[#This Row],[QTY]]*Table1[[#This Row],['# of Books]]","v":0},{"$f":"Table1[[#This Row],[QTY]]*Table1[[#This Row],[School & Library Price]]","v":0}]
[null,7,12,"Alton Heights All-Stars","Nothing But Net",1,"eBook","978-1-5383-8307-0",{"$f":"HYPERLINK(Table1[[#This Row],[Hyperlink]],\"Weblink\")","v":"Weblink"},"West 44 Books","2020","August 2019",null,"Author","David Aro"," ",null,null,null,"K","550L","Grade 2 - 3","Grade 5 - 8","Spring has arrived and the Alton Heights All-Stars are ready to practice at the basketball court in their local park. Unfortunately, the city is planning to turn the park into a parking lot. Can the All-Stars convince the city that their park is necessary? They plan a neighborhood basketball game to try to change the minds of local officials.","English",17.95,13.45,"[E]--dc23","64 pp.","https://www.enslow.com/books/Nothing_But_Net/421928",{"$f":"Table1[[#This Row],[QTY]]*Table1[[#This Row],['# of Books]]","v":0},{"$f":"Table1[[#This Row],[QTY]]*Table1[[#This Row],[School & Library Price]]","v":0}]
[null,7,12,"Alton Heights All-Stars","Nothing But Net",1,"Paperback Book","978-1-5383-8213-4",{"$f":"HYPERLINK(Table1[[#This Row],[Hyperlink]],\"Weblink\")","v":"Weblink"},"West 44 Books","2020","August 2019","5.250 X 7.125","Author","David Aro"," ",null,null,null,"K","550L","Grade 2 - 3","Grade 5 - 8","Spring has arrived and the Alton Heights All-Stars are ready to practice at the basketball court in their local park. Unfortunately, the city is planning to turn the park into a parking lot. Can the All-Stars convince the city that their park is necessary? They plan a neighborhood basketball game to try to change the minds of local officials.","English",10.55,8.9499999999999993,"[E]--dc23","64 pp.","https://www.enslow.com/books/Nothing_But_Net/421928",{"$f":"Table1[[#This Row],[QTY]]*Table1[[#This Row],['# of Books]]","v":0},{"$f":"Table1[[#This Row],[QTY]]*Table1[[#This Row],[School & Library Price]]","v":0}]
[null,7,12,"Alton Heights All-Stars","Swish",1,"Hardcover","978-1-5383-8216-5",{"$f":"HYPERLINK(Table1[[#This Row],[Hyperlink]],\"Weblink\")","v":"Weblink"},"West 44 Books","2020","January 2020","5.250 X 7.125","Author","David Aro"," ",null,null,null,"K","560L","Grade 2 - 3","Grade 5 - 8","It's summertime, and that means it's time to play basketball! Tyler signs the All-Stars up for their first tournament at the local rec center. But he doesn't plan on the challenges that can come with summer. Cam and Brianna are in summer school, Jasmine has to go stay with her dad, and Markus has to mow laws all summer. Tyler is left alone to practice, and worries that the All-Stars are breaking up. Can the All-Stars find a way to deal with their summer schedules and still practice for the big game?","English",17.95,13.45,"[Fic]--dc23","64 pp.","https://www.enslow.com/books/Swish/422086",{"$f":"Table1[[#This Row],[QTY]]*Table1[[#This Row],['# of Books]]","v":0},{"$f":"Table1[[#This Row],[QTY]]*Table1[[#This Row],[School & Library Price]]","v":0}]
[null,7,12,"Alton Heights All-Stars","Swish",1,"eBook","978-1-5383-8308-7",{"$f":"HYPERLINK(Table1[[#This Row],[Hyperlink]],\"Weblink\")","v":"Weblink"},"West 44 Books","2020","January 2020",null,"Author","David Aro"," ",null,null,null,"K","560L","Grade 2 - 3","Grade 5 - 8","It's summertime, and that means it's time to play basketball! Tyler signs the All-Stars up for their first tournament at the local rec center. But he doesn't plan on the challenges that can come with summer. Cam and Brianna are in summer school, Jasmine has to go stay with her dad, and Markus has to mow laws all summer. Tyler is left alone to practice, and worries that the All-Stars are breaking up. Can the All-Stars find a way to deal with their summer schedules and still practice for the big game?","English",17.95,13.45,"[Fic]--dc23","64 pp.","https://www.enslow.com/books/Swish/422086",{"$f":"Table1[[#This Row],[QTY]]*Table1[[#This Row],['# of Books]]","v":0},{"$f":"Table1[[#This Row],[QTY]]*Table1[[#This Row],[School & Library Price]]","v":0}]
[null,7,12,"Alton Heights All-Stars","Swish",1,"Paperback Book","978-1-5383-8215-8",{"$f":"HYPERLINK(Table1[[#This Row],[Hyperlink]],\"Weblink\")","v":"Weblink"},"West 44 Books","2020","January 2020","5.250 X 7.125","Author","David Aro"," ",null,null,null,"K","560L","Grade 2 - 3","Grade 5 - 8","It's summertime, and that means it's time to play basketball! Tyler signs the All-Stars up for their first tournament at the local rec center. But he doesn't plan on the challenges that can come with summer. Cam and Brianna are in summer school, Jasmine has to go stay with her dad, and Markus has to mow laws all summer. Tyler is left alone to practice, and worries that the All-Stars are breaking up. Can the All-Stars find a way to deal with their summer schedules and still practice for the big game?","English",10.55,8.9499999999999993,"[Fic]--dc23","64 pp.","https://www.enslow.com/books/Swish/422086",{"$f":"Table1[[#This Row],[QTY]]*Table1[[#This Row],['# of Books]]","v":0},{"$f":"Table1[[#This Row],[QTY]]*Table1[[#This Row],[School & Library Price]]","v":0}]
[null,11,13,"Brothers","Just Maybe",1,"Hardcover","978-1-5383-8236-3",{"$f":"HYPERLINK(Table1[[#This Row],[Hyperlink]],\"Weblink\")","v":"Weblink"},"West 44 Books","2022","August 2021","5.250 X 7.125","Author","Cyn Bermudez"," ",null,null,null,"L",null,"Grade 2 - 3","Grade 5 - 8","Victor and Isaac are nervous. There's a chance that their mother will be released from prison. What might this mean for their family? The brothers and their sisters could return to each other, but at what cost? Although their mother says she's turned over a new leaf, the boys aren't certain they can trust her to keep their family together.","English",18.95,14.2,"[Fic]--dc23","88 pp.","https://www.enslow.com/books/Just_Maybe/422186",{"$f":"Table1[[#This Row],[QTY]]*Table1[[#This Row],['# of Books]]","v":0},{"$f":"Table1[[#This Row],[QTY]]*Table1[[#This Row],[School & Library Price]]","v":0}]
[null,11,13,"Brothers","Just Maybe",1,"eBook","978-1-5383-8318-6",{"$f":"HYPERLINK(Table1[[#This Row],[Hyperlink]],\"Weblink\")","v":"Weblink"},"West 44 Books","2022","August 2021",null,"Author","Cyn Bermudez"," ",null,null,null,"L",null,"Grade 2 - 3","Grade 5 - 8","Victor and Isaac are nervous. There's a chance that their mother will be released from prison. What might this mean for their family? The brothers and their sisters could return to each other, but at what cost? Although their mother says she's turned over a new leaf, the boys aren't certain they can trust her to keep their family together.","English",18.95,14.2,"[Fic]--dc23","88 pp.","https://www.enslow.com/books/Just_Maybe/422186",{"$f":"Table1[[#This Row],[QTY]]*Table1[[#This Row],['# of Books]]","v":0},{"$f":"Table1[[#This Row],[QTY]]*Table1[[#This Row],[School & Library Price]]","v":0}]
[null,11,13,"Brothers","Just Maybe",1,"Paperback Book","978-1-5383-8235-6",{"$f":"HYPERLINK(Table1[[#This Row],[Hyperlink]],\"Weblink\")","v":"Weblink"},"West 44 Books","2022","August 2021","5.250 X 7.125","Author","Cyn Bermudez"," ",null,null,null,"L",null,"Grade 2 - 3","Grade 5 - 8","Victor and Isaac are nervous. There's a chance that their mother will be released from prison. What might this mean for their family? The brothers and their sisters could return to each other, but at what cost? Although their mother says she's turned over a new leaf, the boys aren't certain they can trust her to keep their family together.","English",11.7,9.9499999999999993,"[Fic]--dc23","88 pp.","https://www.enslow.com/books/Just_Maybe/422186",{"$f":"Table1[[#This Row],[QTY]]*Table1[[#This Row],['# of Books]]","v":0},{"$f":"Table1[[#This Row],[QTY]]*Table1[[#This Row],[School & Library Price]]","v":0}]
[null,11,13,"Brothers","Not Home for the Holidays",1,"Hardcover","978-1-5383-8234-9",{"$f":"HYPERLINK(Table1[[#This Row],[Hyperlink]],\"Weblink\")","v":"Weblink"},"West 44 Books","2020","January 2020","5.250 X 7.125","Author","Cyn Bermudez"," ",null,null,null,"L","480L","Grade 2 - 3","Grade 5 - 8","Christmas is coming. Victor and Isaac want to spend the holidays together. But they're stuck in their new foster homes and their mom is stuck in jail. Victor and Isaac struggle to adjust to the unfamiliar customs of their foster families. They worry that their own traditions will be lost. Does accepting their present lives mean they've rejected their past?","English",18.95,14.2,"[E]--dc23","88 pp.","https://www.enslow.com/books/Not_Home_for_the_Holidays/422087",{"$f":"Table1[[#This Row],[QTY]]*Table1[[#This Row],['# of Books]]","v":0},{"$f":"Table1[[#This Row],[QTY]]*Table1[[#This Row],[School & Library Price]]","v":0}]
[null,11,13,"Brothers","Not Home for the Holidays",1,"eBook","978-1-5383-8317-9",{"$f":"HYPERLINK(Table1[[#This Row],[Hyperlink]],\"Weblink\")","v":"Weblink"},"West 44 Books","2020","January 2020",null,"Author","Cyn Bermudez"," ",null,null,null,"L","480L","Grade 2 - 3","Grade 5 - 8","Christmas is coming. Victor and Isaac want to spend the holidays together. But they're stuck in their new foster homes and their mom is stuck in jail. Victor and Isaac struggle to adjust to the unfamiliar customs of their foster families. They worry that their own traditions will be lost. Does accepting their present lives mean they've rejected their past?","English",18.95,14.2,"[E]--dc23","88 pp.","https://www.enslow.com/books/Not_Home_for_the_Holidays/422087",{"$f":"Table1[[#This Row],[QTY]]*Table1[[#This Row],['# of Books]]","v":0},{"$f":"Table1[[#This Row],[QTY]]*Table1[[#This Row],[School & Library Price]]","v":0}]
[null,11,13,"Brothers","Not Home for the Holidays",1,"Paperback Book","978-1-5383-8233-2",{"$f":"HYPERLINK(Table1[[#This Row],[Hyperlink]],\"Weblink\")","v":"Weblink"},"West 44 Books","2020","January 2020","5.250 X 7.125","Author","Cyn Bermudez"," ",null,null,null,"L","480L","Grade 2 - 3","Grade 5 - 8","Christmas is coming. Victor and Isaac want to spend the holidays together. But they're stuck in their new foster homes and their mom is stuck in jail. Victor and Isaac struggle to adjust to the unfamiliar customs of their foster families. They worry that their own traditions will be lost. Does accepting their present lives mean they've rejected their past?","English",11.7,9.9499999999999993,"[E]--dc23","88 pp.","https://www.enslow.com/books/Not_Home_for_the_Holidays/422087",{"$f":"Table1[[#This Row],[QTY]]*Table1[[#This Row],['# of Books]]","v":0},{"$f":"Table1[[#This Row],[QTY]]*Table1[[#This Row],[School & Library Price]]","v":0}]
[null,11,13,"Brothers","Taken Away",1,"Hardcover","978-1-5383-8230-1",{"$f":"HYPERLINK(Table1[[#This Row],[Hyperlink]],\"Weblink\")","v":"Weblink"},"West 44 Books","2019","August 2018","5.250 X 7.125","Author","Cyn Bermudez"," ",null,null,null,"L","500L","Grade 2 - 3","Grade 5 - 8","Victor, Isaac, Vanessa, and Sara have been taken away from their mother. They've been forced to leave behind their home, school, friends, and worst of all, each other. Vanessa and Sara have been placed in the same foster home, but Victor and Isaac have been separated from their younger siblings and each other. As Victor and Isaac grapple with the many challenges of their new lives, they try to keep in touch through email. Will their messages be enough to get them through the hard times and keep them together?","English",18.95,14.2,"[E]--dc23","88 pp.","https://www.enslow.com/books/Taken_Away/421787",{"$f":"Table1[[#This Row],[QTY]]*Table1[[#This Row],['# of Books]]","v":0},{"$f":"Table1[[#This Row],[QTY]]*Table1[[#This Row],[School & Library Price]]","v":0}]
[null,11,13,"Brothers","Taken Away",1,"eBook","978-1-5383-8315-5",{"$f":"HYPERLINK(Table1[[#This Row],[Hyperlink]],\"Weblink\")","v":"Weblink"},"West 44 Books","2019","August 2018",null,"Author","Cyn Bermudez"," ",null,null,null,"L","500L","Grade 2 - 3","Grade 5 - 8","Victor, Isaac, Vanessa, and Sara have been taken away from their mother. They've been forced to leave behind their home, school, friends, and worst of all, each other. Vanessa and Sara have been placed in the same foster home, but Victor and Isaac have been separated from their younger siblings and each other. As Victor and Isaac grapple with the many challenges of their new lives, they try to keep in touch through email. Will their messages be enough to get them through the hard times and keep them together?","English",18.95,14.2,"[E]--dc23","88 pp.","https://www.enslow.com/books/Taken_Away/421787",{"$f":"Table1[[#This Row],[QTY]]*Table1[[#This Row],['# of Books]]","v":0},{"$f":"Table1[[#This Row],[QTY]]*Table1[[#This Row],[School & Library Price]]","v":0}]
[null,11,13,"Brothers","Taken Away",1,"Paperback Book","978-1-5383-8229-5",{"$f":"HYPERLINK(Table1[[#This Row],[Hyperlink]],\"Weblink\")","v":"Weblink"},"West 44 Books","2019","August 2018","5.250 X 7.125","Author","Cyn Bermudez"," ",null,null,null,"L","500L","Grade 2 - 3","Grade 5 - 8","Victor, Isaac, Vanessa, and Sara have been taken away from their mother. They've been forced to leave behind their home, school, friends, and worst of all, each other. Vanessa and Sara have been placed in the same foster home, but Victor and Isaac have been separated from their younger siblings and each other. As Victor and Isaac grapple with the many challenges of their new lives, they try to keep in touch through email. Will their messages be enough to get them through the hard times and keep them together?","English",11.7,9.9499999999999993,"[E]--dc23","88 pp.","https://www.enslow.com/books/Taken_Away/421787",{"$f":"Table1[[#This Row],[QTY]]*Table1[[#This Row],['# of Books]]","v":0},{"$f":"Table1[[#This Row],[QTY]]*Table1[[#This Row],[School & Library Price]]","v":0}]
[null,11,13,"Brothers","This Place Is Not My Home",1,"Hardcover","978-1-5383-8232-5",{"$f":"HYPERLINK(Table1[[#This Row],[Hyperlink]],\"Weblink\")","v":"Weblink"},"West 44 Books","2019","January 2019","5.250 X 7.125","Author","Cyn Bermudez"," ",null,null,null,"L","500L","Grade 2 - 3","Grade 5 - 8","Victor and Isaac aren't sure how long they'll make it in their foster homes. Isaac is comfortable around his foster parents, but afraid they'll give him up. Victor has just landed in a new, crowded home with lots of rules, and is accused of stealing. The brothers make a secret plan to run away from their foster parents and make a home of their own. Will their plan work, or will they lose everything trying?","English",18.95,14.2,"[E]--dc23","88 pp.","https://www.enslow.com/books/This_Place_Is_Not_My_Home/4670",{"$f":"Table1[[#This Row],[QTY]]*Table1[[#This Row],['# of Books]]","v":0},{"$f":"Table1[[#This Row],[QTY]]*Table1[[#This Row],[School & Library Price]]","v":0}]
[null,11,13,"Brothers","This Place Is Not My Home",1,"eBook","978-1-5383-8316-2",{"$f":"HYPERLINK(Table1[[#This Row],[Hyperlink]],\"Weblink\")","v":"Weblink"},"West 44 Books","2019","January 2019",null,"Author","Cyn Bermudez"," ",null,null,null,"L","500L","Grade 2 - 3","Grade 5 - 8","Victor and Isaac aren't sure how long they'll make it in their foster homes. Isaac is comfortable around his foster parents, but afraid they'll give him up. Victor has just landed in a new, crowded home with lots of rules, and is accused of stealing. The brothers make a secret plan to run away from their foster parents and make a home of their own. Will their plan work, or will they lose everything trying?","English",18.95,14.2,"[E]--dc23","88 pp.","https://www.enslow.com/books/This_Place_Is_Not_My_Home/4670",{"$f":"Table1[[#This Row],[QTY]]*Table1[[#This Row],['# of Books]]","v":0},{"$f":"Table1[[#This Row],[QTY]]*Table1[[#This Row],[School & Library Price]]","v":0}]
[null,11,13,"Brothers","This Place Is Not My Home",1,"Paperback Book","978-1-5383-8231-8",{"$f":"HYPERLINK(Table1[[#This Row],[Hyperlink]],\"Weblink\")","v":"Weblink"},"West 44 Books","2019","January 2019","5.250 X 7.125","Author","Cyn Bermudez"," ",null,null,null,"L","500L","Grade 2 - 3","Grade 5 - 8","Victor and Isaac aren't sure how long they'll make it in their foster homes. Isaac is comfortable around his foster parents, but afraid they'll give him up. Victor has just landed in a new, crowded home with lots of rules, and is accused of stealing. The brothers make a secret plan to run away from their foster parents and make a home of their own. Will their plan work, or will they lose everything trying?","English",11.7,9.9499999999999993,"[E]--dc23","88 pp.","https://www.enslow.com/books/This_Place_Is_Not_My_Home/4670",{"$f":"Table1[[#This Row],[QTY]]*Table1[[#This Row],['# of Books]]","v":0},{"$f":"Table1[[#This Row],[QTY]]*Table1[[#This Row],[School & Library Price]]","v":0}]
[null,12,14,"The Bad Kids in 4B","Cutting Through the Noise",1,"Hardcover","978-1-5383-8228-8",{"$f":"HYPERLINK(Table1[[#This Row],[Hyperlink]],\"Weblink\")","v":"Weblink"},"West 44 Books","2022","August 2021","5.250 X 7.125","Author","Brynn Kelly"," ",null,null,null,"L",null,"Grade 2 - 3","Grade 5 - 8","Jayme's life is noisy. Since her mom started dating again, she's had to take care of her younger siblings. If the baby isn't crying, then the toddler is throwing a tantrum, or her brother is asking for homework help. Jayme is never able to take a moment for herself, which is why she usually gets her sleep during class. When Jayme hears about auditions to sing in the school choir, part of her wants to try out. Can she follow her dream, or will she be on babysitting duty forever?","English",18.95,14.2,"[Fic]--dc23","88 pp.","https://www.enslow.com/books/Cutting_Through_the_Noise/422185",{"$f":"Table1[[#This Row],[QTY]]*Table1[[#This Row],['# of Books]]","v":0},{"$f":"Table1[[#This Row],[QTY]]*Table1[[#This Row],[School & Library Price]]","v":0}]
[null,12,14,"The Bad Kids in 4B","Cutting Through the Noise",1,"eBook","978-1-5383-8314-8",{"$f":"HYPERLINK(Table1[[#This Row],[Hyperlink]],\"Weblink\")","v":"Weblink"},"West 44 Books","2022","August 2021",null,"Author","Brynn Kelly"," ",null,null,null,"L",null,"Grade 2 - 3","Grade 5 - 8","Jayme's life is noisy. Since her mom started dating again, she's had to take care of her younger siblings. If the baby isn't crying, then the toddler is throwing a tantrum, or her brother is asking for homework help. Jayme is never able to take a moment for herself, which is why she usually gets her sleep during class. When Jayme hears about auditions to sing in the school choir, part of her wants to try out. Can she follow her dream, or will she be on babysitting duty forever?","English",18.95,14.2,"[Fic]--dc23","88 pp.","https://www.enslow.com/books/Cutting_Through_the_Noise/422185",{"$f":"Table1[[#This Row],[QTY]]*Table1[[#This Row],['# of Books]]","v":0},{"$f":"Table1[[#This Row],[QTY]]*Table1[[#This Row],[School & Library Price]]","v":0}]
[null,12,14,"The Bad Kids in 4B","Cutting Through the Noise",1,"Paperback Book","978-1-5383-8227-1",{"$f":"HYPERLINK(Table1[[#This Row],[Hyperlink]],\"Weblink\")","v":"Weblink"},"West 44 Books","2022","August 2021","5.250 X 7.125","Author","Brynn Kelly"," ",null,null,null,"L",null,"Grade 2 - 3","Grade 5 - 8","Jayme's life is noisy. Since her mom started dating again, she's had to take care of her younger siblings. If the baby isn't crying, then the toddler is throwing a tantrum, or her brother is asking for homework help. Jayme is never able to take a moment for herself, which is why she usually gets her sleep during class. When Jayme hears about auditions to sing in the school choir, part of her wants to try out. Can she follow her dream, or will she be on babysitting duty forever?","English",11.7,9.9499999999999993,"[Fic]--dc23","88 pp.","https://www.enslow.com/books/Cutting_Through_the_Noise/422185",{"$f":"Table1[[#This Row],[QTY]]*Table1[[#This Row],['# of Books]]","v":0},{"$f":"Table1[[#This Row],[QTY]]*Table1[[#This Row],[School & Library Price]]","v":0}]
[null,12,14,"The Bad Kids in 4B","Detention Is a Lot Like Jail",1,"Hardcover","978-1-5383-8226-4",{"$f":"HYPERLINK(Table1[[#This Row],[Hyperlink]],\"Weblink\")","v":"Weblink"},"West 44 Books","2020","August 2019","5.250 X 7.125","Author","Brynn Kelly"," ",null,null,null,"L","330L","Grade 2 - 3","Grade 5 - 8","Jordan's father was sent to jail for a reason Jordan doesn't know. His mom won't talk about it and spends most of her time crying. Jordan tags school property, refuses to take tests, and picks on kids who look like easy targets. He's sent to detention almost every day, wondering if that's what it feels like to be in jail. But when Jordan discovers the truth about his dad's crime, he has to question the path he's on.","English",18.95,14.2,"[E]--dc23","88 pp.","https://www.enslow.com/books/Detention_Is_a_Lot_Like_Jail/421929",{"$f":"Table1[[#This Row],[QTY]]*Table1[[#This Row],['# of Books]]","v":0},{"$f":"Table1[[#This Row],[QTY]]*Table1[[#This Row],[School & Library Price]]","v":0}]
[null,12,14,"The Bad Kids in 4B","Detention Is a Lot Like Jail",1,"eBook","978-1-5383-8313-1",{"$f":"HYPERLINK(Table1[[#This Row],[Hyperlink]],\"Weblink\")","v":"Weblink"},"West 44 Books","2020","August 2019",null,"Author","Brynn Kelly"," ",null,null,null,"L","330L","Grade 2 - 3","Grade 5 - 8","Jordan's father was sent to jail for a reason Jordan doesn't know. His mom won't talk about it and spends most of her time crying. Jordan tags school property, refuses to take tests, and picks on kids who look like easy targets. He's sent to detention almost every day, wondering if that's what it feels like to be in jail. But when Jordan discovers the truth about his dad's crime, he has to question the path he's on.","English",18.95,14.2,"[E]--dc23","88 pp.","https://www.enslow.com/books/Detention_Is_a_Lot_Like_Jail/421929",{"$f":"Table1[[#This Row],[QTY]]*Table1[[#This Row],['# of Books]]","v":0},{"$f":"Table1[[#This Row],[QTY]]*Table1[[#This Row],[School & Library Price]]","v":0}]
[null,12,14,"The Bad Kids in 4B","Detention Is a Lot Like Jail",1,"Paperback Book","978-1-5383-8225-7",{"$f":"HYPERLINK(Table1[[#This Row],[Hyperlink]],\"Weblink\")","v":"Weblink"},"West 44 Books","2020","August 2019","5.250 X 7.125","Author","Brynn Kelly"," ",null,null,null,"L","330L","Grade 2 - 3","Grade 5 - 8","Jordan's father was sent to jail for a reason Jordan doesn't know. His mom won't talk about it and spends most of her time crying. Jordan tags school property, refuses to take tests, and picks on kids who look like easy targets. He's sent to detention almost every day, wondering if that's what it feels like to be in jail. But when Jordan discovers the truth about his dad's crime, he has to question the path he's on.","English",11.7,9.9499999999999993,"[E]--dc23","88 pp.","https://www.enslow.com/books/Detention_Is_a_Lot_Like_Jail/421929",{"$f":"Table1[[#This Row],[QTY]]*Table1[[#This Row],['# of Books]]","v":0},{"$f":"Table1[[#This Row],[QTY]]*Table1[[#This Row],[School & Library Price]]","v":0}]
[null,12,14,"The Bad Kids in 4B","Things That Don't Make Sense",1,"Hardcover","978-1-5383-8224-0",{"$f":"HYPERLINK(Table1[[#This Row],[Hyperlink]],\"Weblink\")","v":"Weblink"},"West 44 Books","2019","January 2019","5.250 X 7.125","Author","Brynn Kelly"," ",null,null,null,"L","510L","Grade 2 - 3","Grade 5 - 8","Landon currently has an F in life. He won't do his homework, won't take tests, won't even look at the chalkboard during class. His parents and teachers think it's because he's just not trying, but really, Landon is hiding a deep secret: nothing makes sense to him. He struggles to read, has trouble focusing, and can't wrap his mind around math. Maybe this a problem only the kids in 4B can solve.","English",18.95,14.2,"[E]--dc23","88 pp.","https://www.enslow.com/books/Things_That_Dont_Make_Sense/4669",{"$f":"Table1[[#This Row],[QTY]]*Table1[[#This Row],['# of Books]]","v":0},{"$f":"Table1[[#This Row],[QTY]]*Table1[[#This Row],[School & Library Price]]","v":0}]
[null,12,14,"The Bad Kids in 4B","Things That Don't Make Sense",1,"eBook","978-1-5383-8312-4",{"$f":"HYPERLINK(Table1[[#This Row],[Hyperlink]],\"Weblink\")","v":"Weblink"},"West 44 Books","2019","January 2019",null,"Author","Brynn Kelly"," ",null,null,null,"L","510L","Grade 2 - 3","Grade 5 - 8","Landon currently has an F in life. He won't do his homework, won't take tests, won't even look at the chalkboard during class. His parents and teachers think it's because he's just not trying, but really, Landon is hiding a deep secret: nothing makes sense to him. He struggles to read, has trouble focusing, and can't wrap his mind around math. Maybe this a problem only the kids in 4B can solve.","English",18.95,14.2,"[E]--dc23","88 pp.","https://www.enslow.com/books/Things_That_Dont_Make_Sense/4669",{"$f":"Table1[[#This Row],[QTY]]*Table1[[#This Row],['# of Books]]","v":0},{"$f":"Table1[[#This Row],[QTY]]*Table1[[#This Row],[School & Library Price]]","v":0}]
[null,12,14,"The Bad Kids in 4B","Things That Don't Make Sense",1,"Paperback Book","978-1-5383-8223-3",{"$f":"HYPERLINK(Table1[[#This Row],[Hyperlink]],\"Weblink\")","v":"Weblink"},"West 44 Books","2019","January 2019","5.250 X 7.125","Author","Brynn Kelly"," ",null,null,null,"L","510L","Grade 2 - 3","Grade 5 - 8","Landon currently has an F in life. He won't do his homework, won't take tests, won't even look at the chalkboard during class. His parents and teachers think it's because he's just not trying, but really, Landon is hiding a deep secret: nothing makes sense to him. He struggles to read, has trouble focusing, and can't wrap his mind around math. Maybe this a problem only the kids in 4B can solve.","English",11.7,9.9499999999999993,"[E]--dc23","88 pp.","https://www.enslow.com/books/Things_That_Dont_Make_Sense/4669",{"$f":"Table1[[#This Row],[QTY]]*Table1[[#This Row],['# of Books]]","v":0},{"$f":"Table1[[#This Row],[QTY]]*Table1[[#This Row],[School & Library Price]]","v":0}]
[null,12,14,"The Bad Kids in 4B","Welcome to 4B",1,"Hardcover","978-1-5383-8222-6",{"$f":"HYPERLINK(Table1[[#This Row],[Hyperlink]],\"Weblink\")","v":"Weblink"},"West 44 Books","2019","August 2018","5.250 X 7.125","Author","Brynn Kelly"," ",null,null,null,"L","500L","Grade 2 - 3","Grade 5 - 8","Mila is sent to 4B after a bad first week of school. So far, she already made her teacher cry, and it's only Wednesday. Classroom 4B is full of angry, tough kids who are nothing like her. Mila used to be a happy-go-lucky, popular cheerleader, but that was before she was taken away from her mom and placed with her aunt. That was before moving to a whole new town and whole new school. That was before not being able to talk to her mom while she's in treatment. Mila doesn't want anything to do with the kids in 4B, until she realizes that maybe they all have problems, just like her. Mila may have just found her new friends.","English",18.95,14.2,"[E]--dc23","88 pp.","https://www.enslow.com/books/Welcome_to_4B/421789",{"$f":"Table1[[#This Row],[QTY]]*Table1[[#This Row],['# of Books]]","v":0},{"$f":"Table1[[#This Row],[QTY]]*Table1[[#This Row],[School & Library Price]]","v":0}]
[null,12,14,"The Bad Kids in 4B","Welcome to 4B",1,"eBook","978-1-5383-8311-7",{"$f":"HYPERLINK(Table1[[#This Row],[Hyperlink]],\"Weblink\")","v":"Weblink"},"West 44 Books","2019","August 2018",null,"Author","Brynn Kelly"," ",null,null,null,"L","500L","Grade 2 - 3","Grade 5 - 8","Mila is sent to 4B after a bad first week of school. So far, she already made her teacher cry, and it's only Wednesday. Classroom 4B is full of angry, tough kids who are nothing like her. Mila used to be a happy-go-lucky, popular cheerleader, but that was before she was taken away from her mom and placed with her aunt. That was before moving to a whole new town and whole new school. That was before not being able to talk to her mom while she's in treatment. Mila doesn't want anything to do with the kids in 4B, until she realizes that maybe they all have problems, just like her. Mila may have just found her new friends.","English",18.95,14.2,"[E]--dc23","88 pp.","https://www.enslow.com/books/Welcome_to_4B/421789",{"$f":"Table1[[#This Row],[QTY]]*Table1[[#This Row],['# of Books]]","v":0},{"$f":"Table1[[#This Row],[QTY]]*Table1[[#This Row],[School & Library Price]]","v":0}]
[null,12,14,"The Bad Kids in 4B","Welcome to 4B",1,"Paperback Book","978-1-5383-8221-9",{"$f":"HYPERLINK(Table1[[#This Row],[Hyperlink]],\"Weblink\")","v":"Weblink"},"West 44 Books","2019","August 2018","5.250 X 7.125","Author","Brynn Kelly"," ",null,null,null,"L","500L","Grade 2 - 3","Grade 5 - 8","Mila is sent to 4B after a bad first week of school. So far, she already made her teacher cry, and it's only Wednesday. Classroom 4B is full of angry, tough kids who are nothing like her. Mila used to be a happy-go-lucky, popular cheerleader, but that was before she was taken away from her mom and placed with her aunt. That was before moving to a whole new town and whole new school. That was before not being able to talk to her mom while she's in treatment. Mila doesn't want anything to do with the kids in 4B, until she realizes that maybe they all have problems, just like her. Mila may have just found her new friends.","English",11.7,9.9499999999999993,"[E]--dc23","88 pp.","https://www.enslow.com/books/Welcome_to_4B/421789",{"$f":"Table1[[#This Row],[QTY]]*Table1[[#This Row],['# of Books]]","v":0},{"$f":"Table1[[#This Row],[QTY]]*Table1[[#This Row],[School & Library Price]]","v":0}]
[null,13,15,"The Club","Addy's Big Splash",1,"Hardcover","978-1-5383-8244-8",{"$f":"HYPERLINK(Table1[[#This Row],[Hyperlink]],\"Weblink\")","v":"Weblink"},"West 44 Books","2020","January 2020","5.250 X 7.125","Author","Elizabeth Gordon","1","1",null,null,"M","390L","Grade 2 - 3","Grade 5 - 8","Addy has never been good at sports. She's so clumsy, she's earned the name Hurricane Addy, but this year, all of that is going to change. Addy wants to join the swim team at the Club. She's surprised to learn how much exercise and training it takes to become a strong swimmer. Does Addy have what it takes to be the athlete she always dreamed of becoming?","English",18.95,14.2,"[Fic]--dc23","88 pp.","https://www.enslow.com/books/Addys_Big_Splash/422088",{"$f":"Table1[[#This Row],[QTY]]*Table1[[#This Row],['# of Books]]","v":0},{"$f":"Table1[[#This Row],[QTY]]*Table1[[#This Row],[School & Library Price]]","v":0}]
[null,13,15,"The Club","Addy's Big Splash",1,"eBook","978-1-5383-8322-3",{"$f":"HYPERLINK(Table1[[#This Row],[Hyperlink]],\"Weblink\")","v":"Weblink"},"West 44 Books","2020","January 2020",null,"Author","Elizabeth Gordon","1","1",null,null,"M","390L","Grade 2 - 3","Grade 5 - 8","Addy has never been good at sports. She's so clumsy, she's earned the name Hurricane Addy, but this year, all of that is going to change. Addy wants to join the swim team at the Club. She's surprised to learn how much exercise and training it takes to become a strong swimmer. Does Addy have what it takes to be the athlete she always dreamed of becoming?","English",18.95,14.2,"[Fic]--dc23","88 pp.","https://www.enslow.com/books/Addys_Big_Splash/422088",{"$f":"Table1[[#This Row],[QTY]]*Table1[[#This Row],['# of Books]]","v":0},{"$f":"Table1[[#This Row],[QTY]]*Table1[[#This Row],[School & Library Price]]","v":0}]
[null,13,15,"The Club","Addy's Big Splash",1,"Paperback Book","978-1-5383-8243-1",{"$f":"HYPERLINK(Table1[[#This Row],[Hyperlink]],\"Weblink\")","v":"Weblink"},"West 44 Books","2020","January 2020","5.250 X 7.125","Author","Elizabeth Gordon","1","1",null,null,"M","390L","Grade 2 - 3","Grade 5 - 8","Addy has never been good at sports. She's so clumsy, she's earned the name Hurricane Addy, but this year, all of that is going to change. Addy wants to join the swim team at the Club. She's surprised to learn how much exercise and training it takes to become a strong swimmer. Does Addy have what it takes to be the athlete she always dreamed of becoming?","English",11.7,9.9499999999999993,"[Fic]--dc23","88 pp.","https://www.enslow.com/books/Addys_Big_Splash/422088",{"$f":"Table1[[#This Row],[QTY]]*Table1[[#This Row],['# of Books]]","v":0},{"$f":"Table1[[#This Row],[QTY]]*Table1[[#This Row],[School & Library Price]]","v":0}]
[null,null,15,"The Club","Club Zoe",1,"Hardcover","978-1-5383-8242-4",{"$f":"HYPERLINK(Table1[[#This Row],[Hyperlink]],\"Weblink\")","v":"Weblink"},"West 44 Books","2021","January 2021","5.250 X 7.125","Author","Elizabeth Gordon"," ",null,null,null,"M",null,"Grade 2 - 3","Grade 5 - 8","Zoe is the most popular girl at school and at The Club. She gets a lot of attention from boys and she is always asked to dances. Now, she has her eye on an older boy, Steve, the basketball coach at The Club, but it seems like no matter how hard she tries, Zoe can't get Steve to ask her out. When The Club throws a big dance, Zoe knows that it's her last chance. But can she learn to value herself beyond what boys think of her?","English",18.95,14.2,"[Fic]--dc23","88 pp.","https://www.enslow.com/books/club_zoe/422188",{"$f":"Table1[[#This Row],[QTY]]*Table1[[#This Row],['# of Books]]","v":0},{"$f":"Table1[[#This Row],[QTY]]*Table1[[#This Row],[School & Library Price]]","v":0}]
[null,null,15,"The Club","Club Zoe",1,"eBook","978-1-5383-8321-6",{"$f":"HYPERLINK(Table1[[#This Row],[Hyperlink]],\"Weblink\")","v":"Weblink"},"West 44 Books","2021","January 2021",null,"Author","Elizabeth Gordon"," ",null,null,null,"M",null,"Grade 2 - 3","Grade 5 - 8","Zoe is the most popular girl at school and at The Club. She gets a lot of attention from boys and she is always asked to dances. Now, she has her eye on an older boy, Steve, the basketball coach at The Club, but it seems like no matter how hard she tries, Zoe can't get Steve to ask her out. When The Club throws a big dance, Zoe knows that it's her last chance. But can she learn to value herself beyond what boys think of her?","English",18.95,14.2,"[Fic]--dc23","88 pp.","https://www.enslow.com/books/club_zoe/422188",{"$f":"Table1[[#This Row],[QTY]]*Table1[[#This Row],['# of Books]]","v":0},{"$f":"Table1[[#This Row],[QTY]]*Table1[[#This Row],[School & Library Price]]","v":0}]
[null,null,15,"The Club","Club Zoe",1,"Paperback Book","978-1-5383-8241-7",{"$f":"HYPERLINK(Table1[[#This Row],[Hyperlink]],\"Weblink\")","v":"Weblink"},"West 44 Books","2021","January 2021","5.250 X 7.125","Author","Elizabeth Gordon"," ",null,null,null,"M",null,"Grade 2 - 3","Grade 5 - 8","Zoe is the most popular girl at school and at The Club. She gets a lot of attention from boys and she is always asked to dances. Now, she has her eye on an older boy, Steve, the basketball coach at The Club, but it seems like no matter how hard she tries, Zoe can't get Steve to ask her out. When The Club throws a big dance, Zoe knows that it's her last chance. But can she learn to value herself beyond what boys think of her?","English",11.7,9.9499999999999993,"[Fic]--dc23","88 pp.","https://www.enslow.com/books/club_zoe/422188",{"$f":"Table1[[#This Row],[QTY]]*Table1[[#This Row],['# of Books]]","v":0},{"$f":"Table1[[#This Row],[QTY]]*Table1[[#This Row],[School & Library Price]]","v":0}]
[null,13,15,"The Club","Javi Takes a Bow",1,"Hardcover","978-1-5383-8246-2",{"$f":"HYPERLINK(Table1[[#This Row],[Hyperlink]],\"Weblink\")","v":"Weblink"},"West 44 Books","2020","August 2019","5.250 X 7.125","Author","Elizabeth Gordon"," ",null,null,null,"M","560L","Grade 2 - 3","Grade 5 - 8","Javi is painfully shy. English is his second language and he struggles with his speech. Rather than communicating in broken English, Javi prefers not to speak at all. That is, until the Club holds auditions for Javi's favorite musical. Can Javi overcome his fear of speaking in front of people to audition for the part?","English",18.95,14.2,"[E]--dc23","88 pp.","https://www.enslow.com/books/Javi_Takes_a_Bow/421930",{"$f":"Table1[[#This Row],[QTY]]*Table1[[#This Row],['# of Books]]","v":0},{"$f":"Table1[[#This Row],[QTY]]*Table1[[#This Row],[School & Library Price]]","v":0}]
[null,13,15,"The Club","Javi Takes a Bow",1,"eBook","978-1-5383-8323-0",{"$f":"HYPERLINK(Table1[[#This Row],[Hyperlink]],\"Weblink\")","v":"Weblink"},"West 44 Books","2020","August 2019",null,"Author","Elizabeth Gordon"," ",null,null,null,"M","560L","Grade 2 - 3","Grade 5 - 8","Javi is painfully shy. English is his second language and he struggles with his speech. Rather than communicating in broken English, Javi prefers not to speak at all. That is, until the Club holds auditions for Javi's favorite musical. Can Javi overcome his fear of speaking in front of people to audition for the part?","English",18.95,14.2,"[E]--dc23","88 pp.","https://www.enslow.com/books/Javi_Takes_a_Bow/421930",{"$f":"Table1[[#This Row],[QTY]]*Table1[[#This Row],['# of Books]]","v":0},{"$f":"Table1[[#This Row],[QTY]]*Table1[[#This Row],[School & Library Price]]","v":0}]
[null,13,15,"The Club","Javi Takes a Bow",1,"Paperback Book","978-1-5383-8245-5",{"$f":"HYPERLINK(Table1[[#This Row],[Hyperlink]],\"Weblink\")","v":"Weblink"},"West 44 Books","2020","August 2019","5.250 X 7.125","Author","Elizabeth Gordon"," ",null,null,null,"M","560L","Grade 2 - 3","Grade 5 - 8","Javi is painfully shy. English is his second language and he struggles with his speech. Rather than communicating in broken English, Javi prefers not to speak at all. That is, until the Club holds auditions for Javi's favorite musical. Can Javi overcome his fear of speaking in front of people to audition for the part?","English",11.7,9.9499999999999993,"[E]--dc23","88 pp.","https://www.enslow.com/books/Javi_Takes_a_Bow/421930",{"$f":"Table1[[#This Row],[QTY]]*Table1[[#This Row],['# of Books]]","v":0},{"$f":"Table1[[#This Row],[QTY]]*Table1[[#This Row],[School & Library Price]]","v":0}]
[null,13,15,"The Club","Milo on Wheels",1,"Hardcover","978-1-5383-8238-7",{"$f":"HYPERLINK(Table1[[#This Row],[Hyperlink]],\"Weblink\")","v":"Weblink"},"West 44 Books","2019","August 2018","5.250 X 7.125","Author","Elizabeth Gordon"," ",null,null,null,"M","450L","Grade 2 - 3","Grade 5 - 8","Milo doesn't need friends. He's got his journal, which he fills with sketches of plants and animals. When Milo's mom makes him go to the Club, he keeps his distance from the others. That is, until the annual go-kart rally. Milo has used crutches to walk his whole life, but could he be the fastest for once? Milo wants to find out.","English",18.95,14.2,"[E]--dc23","88 pp.","https://www.enslow.com/books/Milo_on_Wheels/421790",{"$f":"Table1[[#This Row],[QTY]]*Table1[[#This Row],['# of Books]]","v":0},{"$f":"Table1[[#This Row],[QTY]]*Table1[[#This Row],[School & Library Price]]","v":0}]
[null,13,15,"The Club","Milo on Wheels",1,"eBook","978-1-5383-8319-3",{"$f":"HYPERLINK(Table1[[#This Row],[Hyperlink]],\"Weblink\")","v":"Weblink"},"West 44 Books","2019","August 2018",null,"Author","Elizabeth Gordon"," ",null,null,null,"M","450L","Grade 2 - 3","Grade 5 - 8","Milo doesn't need friends. He's got his journal, which he fills with sketches of plants and animals. When Milo's mom makes him go to the Club, he keeps his distance from the others. That is, until the annual go-kart rally. Milo has used crutches to walk his whole life, but could he be the fastest for once? Milo wants to find out.","English",18.95,14.2,"[E]--dc23","88 pp.","https://www.enslow.com/books/Milo_on_Wheels/421790",{"$f":"Table1[[#This Row],[QTY]]*Table1[[#This Row],['# of Books]]","v":0},{"$f":"Table1[[#This Row],[QTY]]*Table1[[#This Row],[School & Library Price]]","v":0}]
[null,13,15,"The Club","Milo on Wheels",1,"Paperback Book","978-1-5383-8237-0",{"$f":"HYPERLINK(Table1[[#This Row],[Hyperlink]],\"Weblink\")","v":"Weblink"},"West 44 Books","2019","August 2018","5.250 X 7.125","Author","Elizabeth Gordon"," ",null,null,null,"M","450L","Grade 2 - 3","Grade 5 - 8","Milo doesn't need friends. He's got his journal, which he fills with sketches of plants and animals. When Milo's mom makes him go to the Club, he keeps his distance from the others. That is, until the annual go-kart rally. Milo has used crutches to walk his whole life, but could he be the fastest for once? Milo wants to find out.","English",11.7,9.9499999999999993,"[E]--dc23","88 pp.","https://www.enslow.com/books/Milo_on_Wheels/421790",{"$f":"Table1[[#This Row],[QTY]]*Table1[[#This Row],['# of Books]]","v":0},{"$f":"Table1[[#This Row],[QTY]]*Table1[[#This Row],[School & Library Price]]","v":0}]
[null,null,15,"The Club","Noah the Con Artist",1,"Hardcover","978-1-5383-8240-0",{"$f":"HYPERLINK(Table1[[#This Row],[Hyperlink]],\"Weblink\")","v":"Weblink"},"West 44 Books","2021","January 2021","5.250 X 7.125","Author","Elizabeth Gordon"," ",null,null,null,"M",null,"Grade 2 - 3","Grade 5 - 8","Noah is an artist. Ever since he learned to draw, people have been impressed by his remarkable skills. When there's an art contest at The Club, Noah is certain that he'll win the big prize, until he sees Milo's painting. Noah is scared. Everyone expects Noah to win the contest. If he loses, he believes he'll lose the one skill he's most proud of. Noah is determined to beat Milo, but at what cost? Is winning worth compromising his values?","English",18.95,14.2,"[Fic]--dc23","88 pp.","https://www.enslow.com/books/noah_the_con_artist/422187",{"$f":"Table1[[#This Row],[QTY]]*Table1[[#This Row],['# of Books]]","v":0},{"$f":"Table1[[#This Row],[QTY]]*Table1[[#This Row],[School & Library Price]]","v":0}]
[null,null,15,"The Club","Noah the Con Artist",1,"eBook","978-1-5383-8320-9",{"$f":"HYPERLINK(Table1[[#This Row],[Hyperlink]],\"Weblink\")","v":"Weblink"},"West 44 Books","2021","January 2021",null,"Author","Elizabeth Gordon"," ",null,null,null,"M",null,"Grade 2 - 3","Grade 5 - 8","Noah is an artist. Ever since he learned to draw, people have been impressed by his remarkable skills. When there's an art contest at The Club, Noah is certain that he'll win the big prize, until he sees Milo's painting. Noah is scared. Everyone expects Noah to win the contest. If he loses, he believes he'll lose the one skill he's most proud of. Noah is determined to beat Milo, but at what cost? Is winning worth compromising his values?","English",18.95,14.2,"[Fic]--dc23","88 pp.","https://www.enslow.com/books/noah_the_con_artist/422187",{"$f":"Table1[[#This Row],[QTY]]*Table1[[#This Row],['# of Books]]","v":0},{"$f":"Table1[[#This Row],[QTY]]*Table1[[#This Row],[School & Library Price]]","v":0}]
[null,null,15,"The Club","Noah the Con Artist",1,"Paperback Book","978-1-5383-8239-4",{"$f":"HYPERLINK(Table1[[#This Row],[Hyperlink]],\"Weblink\")","v":"Weblink"},"West 44 Books","2021","January 2021","5.250 X 7.125","Author","Elizabeth Gordon"," ",null,null,null,"M",null,"Grade 2 - 3","Grade 5 - 8","Noah is an artist. Ever since he learned to draw, people have been impressed by his remarkable skills. When there's an art contest at The Club, Noah is certain that he'll win the big prize, until he sees Milo's painting. Noah is scared. Everyone expects Noah to win the contest. If he loses, he believes he'll lose the one skill he's most proud of. Noah is determined to beat Milo, but at what cost? Is winning worth compromising his values?","English",11.7,9.9499999999999993,"[Fic]--dc23","88 pp.","https://www.enslow.com/books/noah_the_con_artist/422187",{"$f":"Table1[[#This Row],[QTY]]*Table1[[#This Row],['# of Books]]","v":0},{"$f":"Table1[[#This Row],[QTY]]*Table1[[#This Row],[School & Library Price]]","v":0}]
[null,8,16,"The Totally Secret Diary of Dani D.","Best Friends For-Never",1,"Hardcover","978-1-5383-8202-8",{"$f":"HYPERLINK(Table1[[#This Row],[Hyperlink]],\"Weblink\")","v":"Weblink"},"West 44 Books","2022","August 2021","5.250 X 7.125","Author","J. M. Klein"," ",null,null,null,"K",null,"Grade 2 - 3","Grade 5 - 8","It's summertime and Dani is spending it with her father in her old town. She's excited to meet up with her best friends. She soon realizes that her friends don't have time for her anymore and have changed since she left. Can Dani revive her old friendships, or will she have to leave old friends behind?","English",17.95,13.45,"[Fic]--dc23","64 pp.","https://www.enslow.com/books/Best_Friends_For_Never/422181",{"$f":"Table1[[#This Row],[QTY]]*Table1[[#This Row],['# of Books]]","v":0},{"$f":"Table1[[#This Row],[QTY]]*Table1[[#This Row],[School & Library Price]]","v":0}]
[null,8,16,"The Totally Secret Diary of Dani D.","Best Friends For-Never",1,"eBook","978-1-5383-8301-8",{"$f":"HYPERLINK(Table1[[#This Row],[Hyperlink]],\"Weblink\")","v":"Weblink"},"West 44 Books","2022","August 2021",null,"Author","J. M. Klein"," ",null,null,null,"K",null,"Grade 2 - 3","Grade 5 - 8","It's summertime and Dani is spending it with her father in her old town. She's excited to meet up with her best friends. She soon realizes that her friends don't have time for her anymore and have changed since she left. Can Dani revive her old friendships, or will she have to leave old friends behind?","English",17.95,13.45,"[Fic]--dc23","64 pp.","https://www.enslow.com/books/Best_Friends_For_Never/422181",{"$f":"Table1[[#This Row],[QTY]]*Table1[[#This Row],['# of Books]]","v":0},{"$f":"Table1[[#This Row],[QTY]]*Table1[[#This Row],[School & Library Price]]","v":0}]
[null,8,16,"The Totally Secret Diary of Dani D.","Best Friends For-Never",1,"Paperback Book","978-1-5383-8201-1",{"$f":"HYPERLINK(Table1[[#This Row],[Hyperlink]],\"Weblink\")","v":"Weblink"},"West 44 Books","2022","August 2021","5.250 X 7.125","Author","J. M. Klein"," ",null,null,null,"K",null,"Grade 2 - 3","Grade 5 - 8","It's summertime and Dani is spending it with her father in her old town. She's excited to meet up with her best friends. She soon realizes that her friends don't have time for her anymore and have changed since she left. Can Dani revive her old friendships, or will she have to leave old friends behind?","English",10.55,8.9499999999999993,"[Fic]--dc23","64 pp.","https://www.enslow.com/books/Best_Friends_For_Never/422181",{"$f":"Table1[[#This Row],[QTY]]*Table1[[#This Row],['# of Books]]","v":0},{"$f":"Table1[[#This Row],[QTY]]*Table1[[#This Row],[School & Library Price]]","v":0}]
[null,8,16,"The Totally Secret Diary of Dani D.","My Home Is a Battlefield",1,"Hardcover","978-1-5383-8198-4",{"$f":"HYPERLINK(Table1[[#This Row],[Hyperlink]],\"Weblink\")","v":"Weblink"},"West 44 Books","2019","January 2019","5.250 X 7.125","Author","J. M. Klein"," ",null,null,null,"K","540L","Grade 2 - 3","Grade 5 - 8","Dani tries to get her parents back together by lying about how much one person loves and misses the other. Her dad even comes to visit. Dani thinks her plan worked perfectly and they can be one happy family again. However, old problems creep in. Dani's parents are fighting more than ever, and she's in the middle of it. Can she keep her family together, or will she have to accept that it might never work?","English",17.95,13.45,"[E]--dc23","64 pp.","https://www.enslow.com/books/My_Home_Is_a_Battlefield/4667",{"$f":"Table1[[#This Row],[QTY]]*Table1[[#This Row],['# of Books]]","v":0},{"$f":"Table1[[#This Row],[QTY]]*Table1[[#This Row],[School & Library Price]]","v":0}]
[null,8,16,"The Totally Secret Diary of Dani D.","My Home Is a Battlefield",1,"eBook","978-1-5383-8299-8",{"$f":"HYPERLINK(Table1[[#This Row],[Hyperlink]],\"Weblink\")","v":"Weblink"},"West 44 Books","2019","January 2019",null,"Author","J. M. Klein"," ",null,null,null,"K","540L","Grade 2 - 3","Grade 5 - 8","Dani tries to get her parents back together by lying about how much one person loves and misses the other. Her dad even comes to visit. Dani thinks her plan worked perfectly and they can be one happy family again. However, old problems creep in. Dani's parents are fighting more than ever, and she's in the middle of it. Can she keep her family together, or will she have to accept that it might never work?","English",17.95,13.45,"[E]--dc23","64 pp.","https://www.enslow.com/books/My_Home_Is_a_Battlefield/4667",{"$f":"Table1[[#This Row],[QTY]]*Table1[[#This Row],['# of Books]]","v":0},{"$f":"Table1[[#This Row],[QTY]]*Table1[[#This Row],[School & Library Price]]","v":0}]
[null,8,16,"The Totally Secret Diary of Dani D.","My Home Is a Battlefield",1,"Paperback Book","978-1-5383-8197-7",{"$f":"HYPERLINK(Table1[[#This Row],[Hyperlink]],\"Weblink\")","v":"Weblink"},"West 44 Books","2019","January 2019","5.250 X 7.125","Author","J. M. Klein"," ",null,null,null,"K","540L","Grade 2 - 3","Grade 5 - 8","Dani tries to get her parents back together by lying about how much one person loves and misses the other. Her dad even comes to visit. Dani thinks her plan worked perfectly and they can be one happy family again. However, old problems creep in. Dani's parents are fighting more than ever, and she's in the middle of it. Can she keep her family together, or will she have to accept that it might never work?","English",10.55,8.9499999999999993,"[E]--dc23","64 pp.","https://www.enslow.com/books/My_Home_Is_a_Battlefield/4667",{"$f":"Table1[[#This Row],[QTY]]*Table1[[#This Row],['# of Books]]","v":0},{"$f":"Table1[[#This Row],[QTY]]*Table1[[#This Row],[School & Library Price]]","v":0}]
[null,8,16,"The Totally Secret Diary of Dani D.","New School, New Me!",1,"Hardcover","978-1-5383-8196-0",{"$f":"HYPERLINK(Table1[[#This Row],[Hyperlink]],\"Weblink\")","v":"Weblink"},"West 44 Books","2019","August 2018","5.250 X 7.125","Author","J. M. Klein"," ",null,null,null,"K","490L","Grade 2 - 3","Grade 5 - 8","Dani's parents have just separated and she moved with her mom to a new town. Not only does she live with her grumpy grandparents now, she also has to start at a new school. Dani pretends that she was a popular drama club star at her old school and starts to attract new, cool friends. Can she keep up her lies forever, or will she totally blow her cover?","English",17.95,13.45,"[E]--dc23","64 pp.","https://www.enslow.com/books/New_School_New_Me/421791",{"$f":"Table1[[#This Row],[QTY]]*Table1[[#This Row],['# of Books]]","v":0},{"$f":"Table1[[#This Row],[QTY]]*Table1[[#This Row],[School & Library Price]]","v":0}]
[null,8,16,"The Totally Secret Diary of Dani D.","New School, New Me!",1,"eBook","978-1-5383-8298-1",{"$f":"HYPERLINK(Table1[[#This Row],[Hyperlink]],\"Weblink\")","v":"Weblink"},"West 44 Books","2019","August 2018",null,"Author","J. M. Klein"," ",null,null,null,"K","490L","Grade 2 - 3","Grade 5 - 8","Dani's parents have just separated and she moved with her mom to a new town. Not only does she live with her grumpy grandparents now, she also has to start at a new school. Dani pretends that she was a popular drama club star at her old school and starts to attract new, cool friends. Can she keep up her lies forever, or will she totally blow her cover?","English",17.95,13.45,"[E]--dc23","64 pp.","https://www.enslow.com/books/New_School_New_Me/421791",{"$f":"Table1[[#This Row],[QTY]]*Table1[[#This Row],['# of Books]]","v":0},{"$f":"Table1[[#This Row],[QTY]]*Table1[[#This Row],[School & Library Price]]","v":0}]
[null,8,16,"The Totally Secret Diary of Dani D.","New School, New Me!",1,"Paperback Book","978-1-5383-8195-3",{"$f":"HYPERLINK(Table1[[#This Row],[Hyperlink]],\"Weblink\")","v":"Weblink"},"West 44 Books","2019","August 2018","5.250 X 7.125","Author","J. M. Klein"," ",null,null,null,"K","490L","Grade 2 - 3","Grade 5 - 8","Dani's parents have just separated and she moved with her mom to a new town. Not only does she live with her grumpy grandparents now, she also has to start at a new school. Dani pretends that she was a popular drama club star at her old school and starts to attract new, cool friends. Can she keep up her lies forever, or will she totally blow her cover?","English",10.55,8.9499999999999993,"[E]--dc23","64 pp.","https://www.enslow.com/books/New_School_New_Me/421791",{"$f":"Table1[[#This Row],[QTY]]*Table1[[#This Row],['# of Books]]","v":0},{"$f":"Table1[[#This Row],[QTY]]*Table1[[#This Row],[School & Library Price]]","v":0}]
[null,8,16,"The Totally Secret Diary of Dani D.","Star of the Show",1,"Hardcover","978-1-5383-8200-4",{"$f":"HYPERLINK(Table1[[#This Row],[Hyperlink]],\"Weblink\")","v":"Weblink"},"West 44 Books","2020","January 2020","5.250 X 7.125","Author","J. M. Klein"," ",null,null,null,"K","540L","Grade 2 - 3","Grade 5 - 8","Dani decides to try out for the school play to prove to everyone that she does have talent. However, remembering lines and acting is harder than she thought! Besides, she would much rather be dancing. Does Dani have what it takes to be the star of the show?","English",17.95,13.45,"[Fic]--dc23","64 pp.","https://www.enslow.com/books/Star_of_the_Show/422084",{"$f":"Table1[[#This Row],[QTY]]*Table1[[#This Row],['# of Books]]","v":0},{"$f":"Table1[[#This Row],[QTY]]*Table1[[#This Row],[School & Library Price]]","v":0}]
[null,8,16,"The Totally Secret Diary of Dani D.","Star of the Show",1,"eBook","978-1-5383-8300-1",{"$f":"HYPERLINK(Table1[[#This Row],[Hyperlink]],\"Weblink\")","v":"Weblink"},"West 44 Books","2020","January 2020",null,"Author","J. M. Klein"," ",null,null,null,"K","540L","Grade 2 - 3","Grade 5 - 8","Dani decides to try out for the school play to prove to everyone that she does have talent. However, remembering lines and acting is harder than she thought! Besides, she would much rather be dancing. Does Dani have what it takes to be the star of the show?","English",17.95,13.45,"[Fic]--dc23","64 pp.","https://www.enslow.com/books/Star_of_the_Show/422084",{"$f":"Table1[[#This Row],[QTY]]*Table1[[#This Row],['# of Books]]","v":0},{"$f":"Table1[[#This Row],[QTY]]*Table1[[#This Row],[School & Library Price]]","v":0}]
[null,8,16,"The Totally Secret Diary of Dani D.","Star of the Show",1,"Paperback Book","978-1-5383-8199-1",{"$f":"HYPERLINK(Table1[[#This Row],[Hyperlink]],\"Weblink\")","v":"Weblink"},"West 44 Books","2020","January 2020","5.250 X 7.125","Author","J. M. Klein"," ",null,null,null,"K","540L","Grade 2 - 3","Grade 5 - 8","Dani decides to try out for the school play to prove to everyone that she does have talent. However, remembering lines and acting is harder than she thought! Besides, she would much rather be dancing. Does Dani have what it takes to be the star of the show?","English",10.55,8.9499999999999993,"[Fic]--dc23","64 pp.","https://www.enslow.com/books/Star_of_the_Show/422084",{"$f":"Table1[[#This Row],[QTY]]*Table1[[#This Row],['# of Books]]","v":0},{"$f":"Table1[[#This Row],[QTY]]*Table1[[#This Row],[School & Library Price]]","v":0}]
[null,null,17,"Twisted","A Pool of Deathly Blue",1,"Hardcover","978-1-9785-9527-9",null,"West 44 Books","2022","August 2021","5.250 X 7.125","Author","Wil Mara"," ",null,null,null,"M",null,"Grade 2 - 3","Grade 5 - 8","Twins Madison and Mason Page have everything two kids could ever want, but they don't seem to appreciate any of it. One day, they dive into their luxurious swimming pool and surface in a very different place. They emerge into another town, long since abandoned. Trapped in this new world, they venture forth, finding evidence that the town's former residents must have suffered some sort of horrible fate before disappearing. Then it hits them. They have somehow been transported to the ghost town of Pripyat, which has stood empty since the local power station exploded many years earlier, a nuclear plant known as Chernobyl.","English",19.95,14.95,"[F]--dc23","120 pp.",null,{"$f":"Table1[[#This Row],[QTY]]*Table1[[#This Row],['# of Books]]","v":0},{"$f":"Table1[[#This Row],[QTY]]*Table1[[#This Row],[School & Library Price]]","v":0}]
[null,null,17,"Twisted","A Pool of Deathly Blue",1,"eBook","978-1-9785-9529-3",null,"West 44 Books","2022","August 2021",null,"Author","Wil Mara"," ",null,null,null,"M",null,"Grade 2 - 3","Grade 5 - 8","Twins Madison and Mason Page have everything two kids could ever want, but they don't seem to appreciate any of it. One day, they dive into their luxurious swimming pool and surface in a very different place. They emerge into another town, long since abandoned. Trapped in this new world, they venture forth, finding evidence that the town's former residents must have suffered some sort of horrible fate before disappearing. Then it hits them. They have somehow been transported to the ghost town of Pripyat, which has stood empty since the local power station exploded many years earlier, a nuclear plant known as Chernobyl.","English",19.95,14.95,"[F]--dc23","120 pp.",null,{"$f":"Table1[[#This Row],[QTY]]*Table1[[#This Row],['# of Books]]","v":0},{"$f":"Table1[[#This Row],[QTY]]*Table1[[#This Row],[School & Library Price]]","v":0}]
[null,null,17,"Twisted","A Pool of Deathly Blue",1,"Paperback Book","978-1-9785-9528-6",null,"West 44 Books","2022","August 2021","5.250 X 7.125","Author","Wil Mara"," ",null,null,null,"M",null,"Grade 2 - 3","Grade 5 - 8","Twins Madison and Mason Page have everything two kids could ever want, but they don't seem to appreciate any of it. One day, they dive into their luxurious swimming pool and surface in a very different place. They emerge into another town, long since abandoned. Trapped in this new world, they venture forth, finding evidence that the town's former residents must have suffered some sort of horrible fate before disappearing. Then it hits them. They have somehow been transported to the ghost town of Pripyat, which has stood empty since the local power station exploded many years earlier, a nuclear plant known as Chernobyl.","English",12.9,10.95,"[F]--dc23","120 pp.",null,{"$f":"Table1[[#This Row],[QTY]]*Table1[[#This Row],['# of Books]]","v":0},{"$f":"Table1[[#This Row],[QTY]]*Table1[[#This Row],[School & Library Price]]","v":0}]
[null,14,17,"Twisted","House of a Million Rooms",1,"Hardcover","978-1-5383-8358-2",{"$f":"HYPERLINK(Table1[[#This Row],[Hyperlink]],\"Weblink\")","v":"Weblink"},"West 44 Books","2019","January 2019","5.250 X 7.125","Author","Wil Mara"," ",null,null,null,"M","420L","Grade 2 - 3","Grade 5 - 8","Three friends go against their parents' wishes and enter the old house that's been sitting abandoned on the edge of town for over a hundred years, and quickly realize getting back out isn't simply a matter of turning around.","English",19.95,14.95,"[Fic]--dc23","120 pp.","https://www.enslow.com/books/House_of_a_Million_Rooms/4678",{"$f":"Table1[[#This Row],[QTY]]*Table1[[#This Row],['# of Books]]","v":0},{"$f":"Table1[[#This Row],[QTY]]*Table1[[#This Row],[School & Library Price]]","v":0}]
[null,14,17,"Twisted","House of a Million Rooms",1,"eBook","978-1-5383-8353-7",{"$f":"HYPERLINK(Table1[[#This Row],[Hyperlink]],\"Weblink\")","v":"Weblink"},"West 44 Books","2019","January 2019",null,"Author","Wil Mara"," ",null,null,null,"M","420L","Grade 2 - 3","Grade 5 - 8","Three friends go against their parents' wishes and enter the old house that's been sitting abandoned on the edge of town for over a hundred years, and quickly realize getting back out isn't simply a matter of turning around.","English",19.95,14.95,"[Fic]--dc23","120 pp.","https://www.enslow.com/books/House_of_a_Million_Rooms/4678",{"$f":"Table1[[#This Row],[QTY]]*Table1[[#This Row],['# of Books]]","v":0},{"$f":"Table1[[#This Row],[QTY]]*Table1[[#This Row],[School & Library Price]]","v":0}]
[null,14,17,"Twisted","House of a Million Rooms",1,"Paperback Book","978-1-5383-8363-6",{"$f":"HYPERLINK(Table1[[#This Row],[Hyperlink]],\"Weblink\")","v":"Weblink"},"West 44 Books","2019","January 2019","5.250 X 7.125","Author","Wil Mara"," ",null,null,null,"M","420L","Grade 2 - 3","Grade 5 - 8","Three friends go against their parents' wishes and enter the old house that's been sitting abandoned on the edge of town for over a hundred years, and quickly realize getting back out isn't simply a matter of turning around.","English",12.9,10.95,"[Fic]--dc23","120 pp.","https://www.enslow.com/books/House_of_a_Million_Rooms/4678",{"$f":"Table1[[#This Row],[QTY]]*Table1[[#This Row],['# of Books]]","v":0},{"$f":"Table1[[#This Row],[QTY]]*Table1[[#This Row],[School & Library Price]]","v":0}]
[null,14,17,"Twisted","The Girl Who Grew Nasty Things",1,"Hardcover","978-1-5383-8361-2",{"$f":"HYPERLINK(Table1[[#This Row],[Hyperlink]],\"Weblink\")","v":"Weblink"},"West 44 Books","2020","January 2020","5.250 X 7.125","Author","Wil Mara"," ",null,null,null,"M","460L","Grade 2 - 3","Grade 5 - 8","Maddie Dragonette doesn't like people. A loner, she prefers to be among the rare plants she grows in her greenhouse, plants that can cause great pain. When Maddie doesn't get a part in the school play, her anger grows as wild as her nasty plants. What happens when anger and hate grow out of control?","English",19.95,14.95,"[Fic]--dc23","120 pp.","https://www.enslow.com/books/The_Girl_Who_Grew_Nasty_Things/422091",{"$f":"Table1[[#This Row],[QTY]]*Table1[[#This Row],['# of Books]]","v":0},{"$f":"Table1[[#This Row],[QTY]]*Table1[[#This Row],[School & Library Price]]","v":0}]
[null,14,17,"Twisted","The Girl Who Grew Nasty Things",1,"eBook","978-1-5383-8356-8",{"$f":"HYPERLINK(Table1[[#This Row],[Hyperlink]],\"Weblink\")","v":"Weblink"},"West 44 Books","2020","January 2020",null,"Author","Wil Mara"," ",null,null,null,"M","460L","Grade 2 - 3","Grade 5 - 8","Maddie Dragonette doesn't like people. A loner, she prefers to be among the rare plants she grows in her greenhouse, plants that can cause great pain. When Maddie doesn't get a part in the school play, her anger grows as wild as her nasty plants. What happens when anger and hate grow out of control?","English",19.95,14.95,"[Fic]--dc23","120 pp.","https://www.enslow.com/books/The_Girl_Who_Grew_Nasty_Things/422091",{"$f":"Table1[[#This Row],[QTY]]*Table1[[#This Row],['# of Books]]","v":0},{"$f":"Table1[[#This Row],[QTY]]*Table1[[#This Row],[School & Library Price]]","v":0}]
[null,14,17,"Twisted","The Girl Who Grew Nasty Things",1,"Paperback Book","978-1-5383-8366-7",{"$f":"HYPERLINK(Table1[[#This Row],[Hyperlink]],\"Weblink\")","v":"Weblink"},"West 44 Books","2020","January 2020","5.250 X 7.125","Author","Wil Mara"," ",null,null,null,"M","460L","Grade 2 - 3","Grade 5 - 8","Maddie Dragonette doesn't like people. A loner, she prefers to be among the rare plants she grows in her greenhouse, plants that can cause great pain. When Maddie doesn't get a part in the school play, her anger grows as wild as her nasty plants. What happens when anger and hate grow out of control?","English",12.9,10.95,"[Fic]--dc23","120 pp.","https://www.enslow.com/books/The_Girl_Who_Grew_Nasty_Things/422091",{"$f":"Table1[[#This Row],[QTY]]*Table1[[#This Row],['# of Books]]","v":0},{"$f":"Table1[[#This Row],[QTY]]*Table1[[#This Row],[School & Library Price]]","v":0}]
[null,null,17,"Twisted","The Other",1,"Hardcover","978-1-9785-9530-9",null,"West 44 Books","2022","August 2021","5.250 X 7.125","Author","Wil Mara"," ",null,null,null,"M",null,"Grade 2 - 3","Grade 5 - 8","Aiden Williams is nothing if not ordinary. He goes to school, plays baseball, hangs out with his friends, and loves his parents. His world is thrown into chaos when his aging great-grandmother starts referring to him as \"David.\" What's most peculiar is how insistent she is that this is his name. At first, Aiden dismisses it as another saddening example of her growing dementia. Then, while rummaging through the attic, he comes across a photo album he's never seen before. Inside, he finds photos of himself and his parents on a trip. What's strange is that he has no memory of it. Then he discovers something even stranger. The photographs were taken three years before he was born.","English",19.95,14.95,"[F]--dc23","120 pp.",null,{"$f":"Table1[[#This Row],[QTY]]*Table1[[#This Row],['# of Books]]","v":0},{"$f":"Table1[[#This Row],[QTY]]*Table1[[#This Row],[School & Library Price]]","v":0}]
[null,null,17,"Twisted","The Other",1,"eBook","978-1-9785-9532-3",null,"West 44 Books","2022","August 2021",null,"Author","Wil Mara"," ",null,null,null,"M",null,"Grade 2 - 3","Grade 5 - 8","Aiden Williams is nothing if not ordinary. He goes to school, plays baseball, hangs out with his friends, and loves his parents. His world is thrown into chaos when his aging great-grandmother starts referring to him as \"David.\" What's most peculiar is how insistent she is that this is his name. At first, Aiden dismisses it as another saddening example of her growing dementia. Then, while rummaging through the attic, he comes across a photo album he's never seen before. Inside, he finds photos of himself and his parents on a trip. What's strange is that he has no memory of it. Then he discovers something even stranger. The photographs were taken three years before he was born.","English",19.95,14.95,"[F]--dc23","120 pp.",null,{"$f":"Table1[[#This Row],[QTY]]*Table1[[#This Row],['# of Books]]","v":0},{"$f":"Table1[[#This Row],[QTY]]*Table1[[#This Row],[School & Library Price]]","v":0}]
[null,null,17,"Twisted","The Other",1,"Paperback Book","978-1-9785-9531-6",null,"West 44 Books","2022","August 2021","5.250 X 7.125","Author","Wil Mara"," ",null,null,null,"M",null,"Grade 2 - 3","Grade 5 - 8","Aiden Williams is nothing if not ordinary. He goes to school, plays baseball, hangs out with his friends, and loves his parents. His world is thrown into chaos when his aging great-grandmother starts referring to him as \"David.\" What's most peculiar is how insistent she is that this is his name. At first, Aiden dismisses it as another saddening example of her growing dementia. Then, while rummaging through the attic, he comes across a photo album he's never seen before. Inside, he finds photos of himself and his parents on a trip. What's strange is that he has no memory of it. Then he discovers something even stranger. The photographs were taken three years before he was born.","English",12.9,10.95,"[F]--dc23","120 pp.",null,{"$f":"Table1[[#This Row],[QTY]]*Table1[[#This Row],['# of Books]]","v":0},{"$f":"Table1[[#This Row],[QTY]]*Table1[[#This Row],[School & Library Price]]","v":0}]
[null,14,17,"Twisted","The Time Trap",1,"Hardcover","978-1-5383-8359-9",{"$f":"HYPERLINK(Table1[[#This Row],[Hyperlink]],\"Weblink\")","v":"Weblink"},"West 44 Books","2019","August 2019","5.250 X 7.125","Author","Wil Mara"," ",null,null,null,"M","410L","Grade 2 - 3","Grade 5 - 8","Delilah Bremmer wants to return to the happier times before her parents divorced. Then, through an incredible set of circumstances, she discovers a gateway to those perfect days. But are they as perfect as she remembers?","English",19.95,14.95,"[Fic]--dc23","120 pp.","https://www.enslow.com/books/The_Time_Trap/421937",{"$f":"Table1[[#This Row],[QTY]]*Table1[[#This Row],['# of Books]]","v":0},{"$f":"Table1[[#This Row],[QTY]]*Table1[[#This Row],[School & Library Price]]","v":0}]
[null,14,17,"Twisted","The Time Trap",1,"eBook","978-1-5383-8354-4",{"$f":"HYPERLINK(Table1[[#This Row],[Hyperlink]],\"Weblink\")","v":"Weblink"},"West 44 Books","2019","August 2019",null,"Author","Wil Mara"," ",null,null,null,"M","410L","Grade 2 - 3","Grade 5 - 8","Delilah Bremmer wants to return to the happier times before her parents divorced. Then, through an incredible set of circumstances, she discovers a gateway to those perfect days. But are they as perfect as she remembers?","English",19.95,14.95,"[Fic]--dc23","120 pp.","https://www.enslow.com/books/The_Time_Trap/421937",{"$f":"Table1[[#This Row],[QTY]]*Table1[[#This Row],['# of Books]]","v":0},{"$f":"Table1[[#This Row],[QTY]]*Table1[[#This Row],[School & Library Price]]","v":0}]
[null,14,17,"Twisted","The Time Trap",1,"Paperback Book","978-1-5383-8364-3",{"$f":"HYPERLINK(Table1[[#This Row],[Hyperlink]],\"Weblink\")","v":"Weblink"},"West 44 Books","2019","August 2019","5.250 X 7.125","Author","Wil Mara"," ",null,null,null,"M","410L","Grade 2 - 3","Grade 5 - 8","Delilah Bremmer wants to return to the happier times before her parents divorced. Then, through an incredible set of circumstances, she discovers a gateway to those perfect days. But are they as perfect as she remembers?","English",12.9,10.95,"[Fic]--dc23","120 pp.","https://www.enslow.com/books/The_Time_Trap/421937",{"$f":"Table1[[#This Row],[QTY]]*Table1[[#This Row],['# of Books]]","v":0},{"$f":"Table1[[#This Row],[QTY]]*Table1[[#This Row],[School & Library Price]]","v":0}]
[null,14,17,"Twisted","The Videomaniac",1,"Hardcover","978-1-5383-8357-5",{"$f":"HYPERLINK(Table1[[#This Row],[Hyperlink]],\"Weblink\")","v":"Weblink"},"West 44 Books","2019","January 2019","5.250 X 7.125","Author","Wil Mara"," ",null,null,null,"M","430L","Grade 2 - 3","Grade 5 - 8","At a local flea market, thirteen-year-old Brian Hart meets a creepy old man who gives him computer software that can predict future football NFL games. But is the power to see the future really as beneficial as Brian believes?","English",19.95,14.95,"[E]--dc23","120 pp.","https://www.enslow.com/books/The_Videomaniac/4677",{"$f":"Table1[[#This Row],[QTY]]*Table1[[#This Row],['# of Books]]","v":0},{"$f":"Table1[[#This Row],[QTY]]*Table1[[#This Row],[School & Library Price]]","v":0}]
[null,14,17,"Twisted","The Videomaniac",1,"eBook","978-1-5383-8352-0",{"$f":"HYPERLINK(Table1[[#This Row],[Hyperlink]],\"Weblink\")","v":"Weblink"},"West 44 Books","2019","January 2019",null,"Author","Wil Mara"," ",null,null,null,"M","430L","Grade 2 - 3","Grade 5 - 8","At a local flea market, thirteen-year-old Brian Hart meets a creepy old man who gives him computer software that can predict future football NFL games. But is the power to see the future really as beneficial as Brian believes?","English",19.95,14.95,"[E]--dc23","120 pp.","https://www.enslow.com/books/The_Videomaniac/4677",{"$f":"Table1[[#This Row],[QTY]]*Table1[[#This Row],['# of Books]]","v":0},{"$f":"Table1[[#This Row],[QTY]]*Table1[[#This Row],[School & Library Price]]","v":0}]
[null,14,17,"Twisted","The Videomaniac",1,"Paperback Book","978-1-5383-8362-9",{"$f":"HYPERLINK(Table1[[#This Row],[Hyperlink]],\"Weblink\")","v":"Weblink"},"West 44 Books","2019","January 2019","5.250 X 7.125","Author","Wil Mara"," ",null,null,null,"M","430L","Grade 2 - 3","Grade 5 - 8","At a local flea market, thirteen-year-old Brian Hart meets a creepy old man who gives him computer software that can predict future football NFL games. But is the power to see the future really as beneficial as Brian believes?","English",12.9,10.95,"[E]--dc23","120 pp.","https://www.enslow.com/books/The_Videomaniac/4677",{"$f":"Table1[[#This Row],[QTY]]*Table1[[#This Row],['# of Books]]","v":0},{"$f":"Table1[[#This Row],[QTY]]*Table1[[#This Row],[School & Library Price]]","v":0}]
[null,14,17,"Twisted","Where Did My Family Go?",1,"Hardcover","978-1-5383-8360-5",{"$f":"HYPERLINK(Table1[[#This Row],[Hyperlink]],\"Weblink\")","v":"Weblink"},"West 44 Books","2020","August 2019","5.250 X 7.125","Author","Wil Mara"," ",null,null,null,"M","410L","Grade 2 - 3","Grade 5 - 8","Michael Cooper wakes one morning to a horrifying reality...his family isn't the same as when he went to sleep the night before. For that matter, neither is anything else. What's worse, everyone thinks he's lost his mind and that everything's just fine.","English",19.95,14.95,"[Fic]--dc23","120 pp.","https://www.enslow.com/books/Where_Did_My_Family_Go/421938",{"$f":"Table1[[#This Row],[QTY]]*Table1[[#This Row],['# of Books]]","v":0},{"$f":"Table1[[#This Row],[QTY]]*Table1[[#This Row],[School & Library Price]]","v":0}]
[null,14,17,"Twisted","Where Did My Family Go?",1,"eBook","978-1-5383-8355-1",{"$f":"HYPERLINK(Table1[[#This Row],[Hyperlink]],\"Weblink\")","v":"Weblink"},"West 44 Books","2020","August 2019",null,"Author","Wil Mara"," ",null,null,null,"M","410L","Grade 2 - 3","Grade 5 - 8","Michael Cooper wakes one morning to a horrifying reality...his family isn't the same as when he went to sleep the night before. For that matter, neither is anything else. What's worse, everyone thinks he's lost his mind and that everything's just fine.","English",19.95,14.95,"[Fic]--dc23","120 pp.","https://www.enslow.com/books/Where_Did_My_Family_Go/421938",{"$f":"Table1[[#This Row],[QTY]]*Table1[[#This Row],['# of Books]]","v":0},{"$f":"Table1[[#This Row],[QTY]]*Table1[[#This Row],[School & Library Price]]","v":0}]
[null,14,17,"Twisted","Where Did My Family Go?",1,"Paperback Book","978-1-5383-8365-0",{"$f":"HYPERLINK(Table1[[#This Row],[Hyperlink]],\"Weblink\")","v":"Weblink"},"West 44 Books","2020","August 2019","5.250 X 7.125","Author","Wil Mara"," ",null,null,null,"M","410L","Grade 2 - 3","Grade 5 - 8","Michael Cooper wakes one morning to a horrifying reality...his family isn't the same as when he went to sleep the night before. For that matter, neither is anything else. What's worse, everyone thinks he's lost his mind and that everything's just fine.","English",12.9,10.95,"[Fic]--dc23","120 pp.","https://www.enslow.com/books/Where_Did_My_Family_Go/421938",{"$f":"Table1[[#This Row],[QTY]]*Table1[[#This Row],['# of Books]]","v":0},{"$f":"Table1[[#This Row],[QTY]]*Table1[[#This Row],[School & Library Price]]","v":0}]
[null,10,18,"We the Weirdos","Amy Price for President!",1,"Hardcover","978-1-5383-8204-2",{"$f":"HYPERLINK(Table1[[#This Row],[Hyperlink]],\"Weblink\")","v":"Weblink"},"West 44 Books","2019","January 2019","5.250 X 7.125","Author","Charley Pickle"," ",null,null,null,"K","350L","Grade 2 - 3","Grade 5 - 8","It's the first day of middle school. Amy Price knows that's the most important day for making an impression on people. With her stutter, Amy has a hard time making friends. She has one dream, to be the class president. If only people could see her as a leader. Amy might be stuck sitting alone at lunch the first day. That is, until she find the Weirdo Table. They are all very different, but Amy finds a friendship in this unlikely place, and perhaps, the courage to launch her presidential campaign.","English",17.95,13.45,"[E]--dc23","64 pp.","https://www.enslow.com/books/Amy_Price_for_President/4668",{"$f":"Table1[[#This Row],[QTY]]*Table1[[#This Row],['# of Books]]","v":0},{"$f":"Table1[[#This Row],[QTY]]*Table1[[#This Row],[School & Library Price]]","v":0}]
[null,10,18,"We the Weirdos","Amy Price for President!",1,"eBook","978-1-5383-8302-5",{"$f":"HYPERLINK(Table1[[#This Row],[Hyperlink]],\"Weblink\")","v":"Weblink"},"West 44 Books","2019","January 2019",null,"Author","Charley Pickle"," ",null,null,null,"K","350L","Grade 2 - 3","Grade 5 - 8","It's the first day of middle school. Amy Price knows that's the most important day for making an impression on people. With her stutter, Amy has a hard time making friends. She has one dream, to be the class president. If only people could see her as a leader. Amy might be stuck sitting alone at lunch the first day. That is, until she find the Weirdo Table. They are all very different, but Amy finds a friendship in this unlikely place, and perhaps, the courage to launch her presidential campaign.","English",17.95,13.45,"[E]--dc23","64 pp.","https://www.enslow.com/books/Amy_Price_for_President/4668",{"$f":"Table1[[#This Row],[QTY]]*Table1[[#This Row],['# of Books]]","v":0},{"$f":"Table1[[#This Row],[QTY]]*Table1[[#This Row],[School & Library Price]]","v":0}]
[null,10,18,"We the Weirdos","Amy Price for President!",1,"Paperback Book","978-1-5383-8203-5",{"$f":"HYPERLINK(Table1[[#This Row],[Hyperlink]],\"Weblink\")","v":"Weblink"},"West 44 Books","2019","January 2019","5.250 X 7.125","Author","Charley Pickle"," ",null,null,null,"K","350L","Grade 2 - 3","Grade 5 - 8","It's the first day of middle school. Amy Price knows that's the most important day for making an impression on people. With her stutter, Amy has a hard time making friends. She has one dream, to be the class president. If only people could see her as a leader. Amy might be stuck sitting alone at lunch the first day. That is, until she find the Weirdo Table. They are all very different, but Amy finds a friendship in this unlikely place, and perhaps, the courage to launch her presidential campaign.","English",10.55,8.9499999999999993,"[E]--dc23","64 pp.","https://www.enslow.com/books/Amy_Price_for_President/4668",{"$f":"Table1[[#This Row],[QTY]]*Table1[[#This Row],['# of Books]]","v":0},{"$f":"Table1[[#This Row],[QTY]]*Table1[[#This Row],[School & Library Price]]","v":0}]
[null,10,18,"We the Weirdos","Eli Michaels, Rule Breaker",1,"Hardcover","978-1-5383-8210-3",{"$f":"HYPERLINK(Table1[[#This Row],[Hyperlink]],\"Weblink\")","v":"Weblink"},"West 44 Books","2022","August 2021","5.250 X 7.125","Author","Charley Pickle"," ",null,null,null,"K",null,"Grade 2 - 3","Grade 5 - 8","Eli Michaels is the school \"goody two-shoes.\" As the son of a well-known pastor, Eli is expected to do the right thing at all times. But when Eli tries out for the football team, he's expected to go along with team traditions. And one of the traditions means breaking school rules and defacing school property. Will Eli try to break out of his goody two-shoes role to join the team?","English",17.95,13.45,"[Fic]--dc23","64 pp.","https://www.enslow.com/books/Eli_Michaels_Rule_Breaker/422182",{"$f":"Table1[[#This Row],[QTY]]*Table1[[#This Row],['# of Books]]","v":0},{"$f":"Table1[[#This Row],[QTY]]*Table1[[#This Row],[School & Library Price]]","v":0}]
[null,10,18,"We the Weirdos","Eli Michaels, Rule Breaker",1,"eBook","978-1-5383-8344-5",{"$f":"HYPERLINK(Table1[[#This Row],[Hyperlink]],\"Weblink\")","v":"Weblink"},"West 44 Books","2022","August 2021",null,"Author","Charley Pickle"," ",null,null,null,"K",null,"Grade 2 - 3","Grade 5 - 8","Eli Michaels is the school \"goody two-shoes.\" As the son of a well-known pastor, Eli is expected to do the right thing at all times. But when Eli tries out for the football team, he's expected to go along with team traditions. And one of the traditions means breaking school rules and defacing school property. Will Eli try to break out of his goody two-shoes role to join the team?","English",17.95,13.45,"[Fic]--dc23","64 pp.","https://www.enslow.com/books/Eli_Michaels_Rule_Breaker/422182",{"$f":"Table1[[#This Row],[QTY]]*Table1[[#This Row],['# of Books]]","v":0},{"$f":"Table1[[#This Row],[QTY]]*Table1[[#This Row],[School & Library Price]]","v":0}]
[null,10,18,"We the Weirdos","Eli Michaels, Rule Breaker",1,"Paperback Book","978-1-5383-8209-7",{"$f":"HYPERLINK(Table1[[#This Row],[Hyperlink]],\"Weblink\")","v":"Weblink"},"West 44 Books","2022","August 2021","5.250 X 7.125","Author","Charley Pickle"," ",null,null,null,"K",null,"Grade 2 - 3","Grade 5 - 8","Eli Michaels is the school \"goody two-shoes.\" As the son of a well-known pastor, Eli is expected to do the right thing at all times. But when Eli tries out for the football team, he's expected to go along with team traditions. And one of the traditions means breaking school rules and defacing school property. Will Eli try to break out of his goody two-shoes role to join the team?","English",10.55,8.9499999999999993,"[Fic]--dc23","64 pp.","https://www.enslow.com/books/Eli_Michaels_Rule_Breaker/422182",{"$f":"Table1[[#This Row],[QTY]]*Table1[[#This Row],['# of Books]]","v":0},{"$f":"Table1[[#This Row],[QTY]]*Table1[[#This Row],[School & Library Price]]","v":0}]
[null,10,18,"We the Weirdos","Maci Masaki Makes Her Mark",1,"Hardcover","978-1-5383-8208-0",{"$f":"HYPERLINK(Table1[[#This Row],[Hyperlink]],\"Weblink\")","v":"Weblink"},"West 44 Books","2020","January 2020","5.250 X 7.125","Author","Charley Pickle"," ",null,null,null,"K","530L","Grade 2 - 3","Grade 5 - 8","Maci's parents won't stop bugging her about getting involved in middle school. Join clubs, meet people, make friends. However, Maci would rather draw quietly than join any of the clubs at school. With the help of some new \"weirdo\" friends, she finds a way to make her mark at school by painting the school mural.","English",17.95,13.45,"[Fic]--dc23","64 pp.","https://www.enslow.com/books/Maci_Masaki_Makes_Her_Mark/422085",{"$f":"Table1[[#This Row],[QTY]]*Table1[[#This Row],['# of Books]]","v":0},{"$f":"Table1[[#This Row],[QTY]]*Table1[[#This Row],[School & Library Price]]","v":0}]
[null,10,18,"We the Weirdos","Maci Masaki Makes Her Mark",1,"eBook","978-1-5383-8304-9",{"$f":"HYPERLINK(Table1[[#This Row],[Hyperlink]],\"Weblink\")","v":"Weblink"},"West 44 Books","2020","January 2020",null,"Author","Charley Pickle"," ",null,null,null,"K","530L","Grade 2 - 3","Grade 5 - 8","Maci's parents won't stop bugging her about getting involved in middle school. Join clubs, meet people, make friends. However, Maci would rather draw quietly than join any of the clubs at school. With the help of some new \"weirdo\" friends, she finds a way to make her mark at school by painting the school mural.","English",17.95,13.45,"[Fic]--dc23","64 pp.","https://www.enslow.com/books/Maci_Masaki_Makes_Her_Mark/422085",{"$f":"Table1[[#This Row],[QTY]]*Table1[[#This Row],['# of Books]]","v":0},{"$f":"Table1[[#This Row],[QTY]]*Table1[[#This Row],[School & Library Price]]","v":0}]
[null,10,18,"We the Weirdos","Maci Masaki Makes Her Mark",1,"Paperback Book","978-1-5383-8207-3",{"$f":"HYPERLINK(Table1[[#This Row],[Hyperlink]],\"Weblink\")","v":"Weblink"},"West 44 Books","2020","January 2020","5.250 X 7.125","Author","Charley Pickle"," ",null,null,null,"K","530L","Grade 2 - 3","Grade 5 - 8","Maci's parents won't stop bugging her about getting involved in middle school. Join clubs, meet people, make friends. However, Maci would rather draw quietly than join any of the clubs at school. With the help of some new \"weirdo\" friends, she finds a way to make her mark at school by painting the school mural.","English",10.55,8.9499999999999993,"[Fic]--dc23","64 pp.","https://www.enslow.com/books/Maci_Masaki_Makes_Her_Mark/422085",{"$f":"Table1[[#This Row],[QTY]]*Table1[[#This Row],['# of Books]]","v":0},{"$f":"Table1[[#This Row],[QTY]]*Table1[[#This Row],[School & Library Price]]","v":0}]
[null,10,18,"We the Weirdos","What's the Matter with Jayden Jackson?",1,"Hardcover","978-1-5383-8206-6",{"$f":"HYPERLINK(Table1[[#This Row],[Hyperlink]],\"Weblink\")","v":"Weblink"},"West 44 Books","2020","August 2019","5.250 X 7.125","Author","Charley Pickle"," ",null,null,null,"K","520L","Grade 2 - 3","Grade 5 - 8","Jayden Jackson is always in trouble. He has a quick temper and gets detention on the regular. When Jayden meets rule-following Eli, they find common ground in the music they love. But Jayden can't tell Eli the truth behind his anger: that his dad is in jail. Jayden has fun hanging out with Eli, but can he really let another person in and show them who he really is?","English",17.95,13.45,"[E]--dc23","64 pp.","https://www.enslow.com/books/Whats_the_Matter_with_Jayden_Jackson/421927",{"$f":"Table1[[#This Row],[QTY]]*Table1[[#This Row],['# of Books]]","v":0},{"$f":"Table1[[#This Row],[QTY]]*Table1[[#This Row],[School & Library Price]]","v":0}]
[null,10,18,"We the Weirdos","What's the Matter with Jayden Jackson?",1,"eBook","978-1-5383-8303-2",{"$f":"HYPERLINK(Table1[[#This Row],[Hyperlink]],\"Weblink\")","v":"Weblink"},"West 44 Books","2020","August 2019",null,"Author","Charley Pickle"," ",null,null,null,"K","520L","Grade 2 - 3","Grade 5 - 8","Jayden Jackson is always in trouble. He has a quick temper and gets detention on the regular. When Jayden meets rule-following Eli, they find common ground in the music they love. But Jayden can't tell Eli the truth behind his anger: that his dad is in jail. Jayden has fun hanging out with Eli, but can he really let another person in and show them who he really is?","English",17.95,13.45,"[E]--dc23","64 pp.","https://www.enslow.com/books/Whats_the_Matter_with_Jayden_Jackson/421927",{"$f":"Table1[[#This Row],[QTY]]*Table1[[#This Row],['# of Books]]","v":0},{"$f":"Table1[[#This Row],[QTY]]*Table1[[#This Row],[School & Library Price]]","v":0}]
[null,10,18,"We the Weirdos","What's the Matter with Jayden Jackson?",1,"Paperback Book","978-1-5383-8205-9",{"$f":"HYPERLINK(Table1[[#This Row],[Hyperlink]],\"Weblink\")","v":"Weblink"},"West 44 Books","2020","August 2019","5.250 X 7.125","Author","Charley Pickle"," ",null,null,null,"K","520L","Grade 2 - 3","Grade 5 - 8","Jayden Jackson is always in trouble. He has a quick temper and gets detention on the regular. When Jayden meets rule-following Eli, they find common ground in the music they love. But Jayden can't tell Eli the truth behind his anger: that his dad is in jail. Jayden has fun hanging out with Eli, but can he really let another person in and show them who he really is?","English",10.55,8.9499999999999993,"[E]--dc23","64 pp.","https://www.enslow.com/books/Whats_the_Matter_with_Jayden_Jackson/421927",{"$f":"Table1[[#This Row],[QTY]]*Table1[[#This Row],['# of Books]]","v":0},{"$f":"Table1[[#This Row],[QTY]]*Table1[[#This Row],[School & Library Price]]","v":0}]
[null,null,19," -","Everything It Takes",1,"Hardcover","978-1-9785-9566-8",null,"West 44 Books","2022","August 2021","5.500 X 8.250","Author","Sandi Van"," ",null,null,null,"N",null,"Grade 2 - 3","Grade 9 - 12","Lily Landon knows college is the ticket out of her boring small town and her first step to becoming a lawyer like the ones she watches on television. To help her applications stand out, Lily joins Green for Good, her school's environmental club, and meets Fiona, a passionate activist who will do everything it takes to protect the planet. As Lily grows closer to Fiona, she realizes \"\"everything it takes\"\" may mean getting arrested, and a criminal record does not look good on college applications. How can Lily save the Earth without destroying her future?","English",19.95,14.95,"811’.60809282--dc23","200 pp.",null,{"$f":"Table1[[#This Row],[QTY]]*Table1[[#This Row],['# of Books]]","v":0},{"$f":"Table1[[#This Row],[QTY]]*Table1[[#This Row],[School & Library Price]]","v":0}]
[null,null,19," -","Everything It Takes",1,"eBook","978-1-9785-9556-9",null,"West 44 Books","2022","August 2021",null,"Author","Sandi Van"," ",null,null,null,"N",null,"Grade 2 - 3","Grade 9 - 12","Lily Landon knows college is the ticket out of her boring small town and her first step to becoming a lawyer like the ones she watches on television. To help her applications stand out, Lily joins Green for Good, her school's environmental club, and meets Fiona, a passionate activist who will do everything it takes to protect the planet. As Lily grows closer to Fiona, she realizes \"\"everything it takes\"\" may mean getting arrested, and a criminal record does not look good on college applications. How can Lily save the Earth without destroying her future?","English",19.95,14.95,"811’.60809282--dc23","200 pp.",null,{"$f":"Table1[[#This Row],[QTY]]*Table1[[#This Row],['# of Books]]","v":0},{"$f":"Table1[[#This Row],[QTY]]*Table1[[#This Row],[School & Library Price]]","v":0}]
[null,null,19," -","Everything It Takes",1,"Paperback Book","978-1-9785-9554-5",null,"West 44 Books","2022","August 2021","5.500 X 8.250","Author","Sandi Van"," ",null,null,null,"N",null,"Grade 2 - 3","Grade 9 - 12","Lily Landon knows college is the ticket out of her boring small town and her first step to becoming a lawyer like the ones she watches on television. To help her applications stand out, Lily joins Green for Good, her school's environmental club, and meets Fiona, a passionate activist who will do everything it takes to protect the planet. As Lily grows closer to Fiona, she realizes \"\"everything it takes\"\" may mean getting arrested, and a criminal record does not look good on college applications. How can Lily save the Earth without destroying her future?","English",12.9,10.95,"811’.60809282--dc23","200 pp.",null,{"$f":"Table1[[#This Row],[QTY]]*Table1[[#This Row],['# of Books]]","v":0},{"$f":"Table1[[#This Row],[QTY]]*Table1[[#This Row],[School & Library Price]]","v":0}]
[null,17,20," -","Our Broken Earth",1,"Hardcover","978-1-9785-9539-2",null,"West 44 Books","2022","August 2021","5.500 X 8.250","Author","Demitria Lunetta"," ",null,null,null,"N",null,"Grade 2 - 3","Grade 9 - 12","In the near future, the tides are rising, the weather is out of control, and the rain is poison. Mal lost his family in a storm and now lives with other young people, trying to survive the changing world. Faced with the threat of the rising water and his friend’s illness, Mal and his makeshift family must travel across the country to reach a safe place. But the road is dangerous and not all will find their way safely to their new home.","English",19.95,14.95,"811’.60809282--dc23","200 pp.",null,{"$f":"Table1[[#This Row],[QTY]]*Table1[[#This Row],['# of Books]]","v":0},{"$f":"Table1[[#This Row],[QTY]]*Table1[[#This Row],[School & Library Price]]","v":0}]
[null,17,20," -","Our Broken Earth",1,"eBook","978-1-9785-9541-5",null,"West 44 Books","2022","August 2021",null,"Author","Demitria Lunetta"," ",null,null,null,"N",null,"Grade 2 - 3","Grade 9 - 12","In the near future, the tides are rising, the weather is out of control, and the rain is poison. Mal lost his family in a storm and now lives with other young people, trying to survive the changing world. Faced with the threat of the rising water and his friend’s illness, Mal and his makeshift family must travel across the country to reach a safe place. But the road is dangerous and not all will find their way safely to their new home.","English",19.95,14.95,"811’.60809282--dc23","200 pp.",null,{"$f":"Table1[[#This Row],[QTY]]*Table1[[#This Row],['# of Books]]","v":0},{"$f":"Table1[[#This Row],[QTY]]*Table1[[#This Row],[School & Library Price]]","v":0}]
[null,17,20," -","Our Broken Earth",1,"Paperback Book","978-1-9785-9540-8",null,"West 44 Books","2022","August 2021","5.500 X 8.250","Author","Demitria Lunetta"," ",null,null,null,"N",null,"Grade 2 - 3","Grade 9 - 12","In the near future, the tides are rising, the weather is out of control, and the rain is poison. Mal lost his family in a storm and now lives with other young people, trying to survive the changing world. Faced with the threat of the rising water and his friend’s illness, Mal and his makeshift family must travel across the country to reach a safe place. But the road is dangerous and not all will find their way safely to their new home.","English",12.9,10.95,"811’.60809282--dc23","200 pp.",null,{"$f":"Table1[[#This Row],[QTY]]*Table1[[#This Row],['# of Books]]","v":0},{"$f":"Table1[[#This Row],[QTY]]*Table1[[#This Row],[School & Library Price]]","v":0}]
[null,18,21," -","Rising Out",1,"Hardcover","978-1-9785-9542-2",null,"West 44 Books","2022","August 2021","5.500 X 8.250","Author","M. Azmitia"," ",null,null,null,"N",null,"Grade 2 - 3","Grade 9 - 12","Anaya knows great things are expected of her: go to college, find a good man, and make her mother proud. But going to college means leaving behind her best friend, Eri. Eri is an Afrolatina transgender woman living in a closed-minded world and only Anaya knows her secret. The two decide to take a cross-country road trip, where Eri is finally able to open up to who she is, and Anaya finds out that she might be in love with her best friend.","English",19.95,14.95,"811’.60809282--dc23","200 pp.",null,{"$f":"Table1[[#This Row],[QTY]]*Table1[[#This Row],['# of Books]]","v":0},{"$f":"Table1[[#This Row],[QTY]]*Table1[[#This Row],[School & Library Price]]","v":0}]
[null,18,21," -","Rising Out",1,"eBook","978-1-9785-9544-6",null,"West 44 Books","2022","August 2021",null,"Author","M. Azmitia"," ",null,null,null,"N",null,"Grade 2 - 3","Grade 9 - 12","Anaya knows great things are expected of her: go to college, find a good man, and make her mother proud. But going to college means leaving behind her best friend, Eri. Eri is an Afrolatina transgender woman living in a closed-minded world and only Anaya knows her secret. The two decide to take a cross-country road trip, where Eri is finally able to open up to who she is, and Anaya finds out that she might be in love with her best friend.","English",19.95,14.95,"811’.60809282--dc23","200 pp.",null,{"$f":"Table1[[#This Row],[QTY]]*Table1[[#This Row],['# of Books]]","v":0},{"$f":"Table1[[#This Row],[QTY]]*Table1[[#This Row],[School & Library Price]]","v":0}]
[null,18,21," -","Rising Out",1,"Paperback Book","978-1-9785-9543-9",null,"West 44 Books","2022","August 2021","5.500 X 8.250","Author","M. Azmitia"," ",null,null,null,"N",null,"Grade 2 - 3","Grade 9 - 12","Anaya knows great things are expected of her: go to college, find a good man, and make her mother proud. But going to college means leaving behind her best friend, Eri. Eri is an Afrolatina transgender woman living in a closed-minded world and only Anaya knows her secret. The two decide to take a cross-country road trip, where Eri is finally able to open up to who she is, and Anaya finds out that she might be in love with her best friend.","English",12.9,10.95,"811’.60809282--dc23","200 pp.",null,{"$f":"Table1[[#This Row],[QTY]]*Table1[[#This Row],['# of Books]]","v":0},{"$f":"Table1[[#This Row],[QTY]]*Table1[[#This Row],[School & Library Price]]","v":0}]
[null,null,22," -","Sick Girl Secrets",1,"Hardcover","978-1-9785-9563-7",null,"West 44 Books","2022","August 2021","5.500 X 8.250","Author","Anna Russell"," ",null,null,null,"N",null,"Grade 2 - 3","Grade 9 - 12","Sometimes in high school, all you want is to be invisible. Being invisible might be the biggest problem of all for Natalie. She has a disability that causes chaos to her body on the inside but leaves her unmarked on the outside. She's learned to hide her pain so well that you would never guess she's not the same Natalie as she was before she got sick. But after having surgery, Natalie must return to school in a wheelchair. Now, Natalie has to decide if the painful consequences of pretending to be healthy are worth keeping the last of her sick girl secrets.","English",19.95,14.95,"811’.60809282--dc23","200 pp.",null,{"$f":"Table1[[#This Row],[QTY]]*Table1[[#This Row],['# of Books]]","v":0},{"$f":"Table1[[#This Row],[QTY]]*Table1[[#This Row],[School & Library Price]]","v":0}]
[null,null,22," -","Sick Girl Secrets",1,"eBook","978-1-9785-9547-7",null,"West 44 Books","2022","August 2021",null,"Author","Anna Russell"," ",null,null,null,"N",null,"Grade 2 - 3","Grade 9 - 12","Sometimes in high school, all you want is to be invisible. Being invisible might be the biggest problem of all for Natalie. She has a disability that causes chaos to her body on the inside but leaves her unmarked on the outside. She's learned to hide her pain so well that you would never guess she's not the same Natalie as she was before she got sick. But after having surgery, Natalie must return to school in a wheelchair. Now, Natalie has to decide if the painful consequences of pretending to be healthy are worth keeping the last of her sick girl secrets.","English",19.95,14.95,"811’.60809282--dc23","200 pp.",null,{"$f":"Table1[[#This Row],[QTY]]*Table1[[#This Row],['# of Books]]","v":0},{"$f":"Table1[[#This Row],[QTY]]*Table1[[#This Row],[School & Library Price]]","v":0}]
[null,null,22," -","Sick Girl Secrets",1,"Paperback Book","978-1-9785-9545-3",null,"West 44 Books","2022","August 2021","5.500 X 8.250","Author","Anna Russell"," ",null,null,null,"N",null,"Grade 2 - 3","Grade 9 - 12","Sometimes in high school, all you want is to be invisible. Being invisible might be the biggest problem of all for Natalie. She has a disability that causes chaos to her body on the inside but leaves her unmarked on the outside. She's learned to hide her pain so well that you would never guess she's not the same Natalie as she was before she got sick. But after having surgery, Natalie must return to school in a wheelchair. Now, Natalie has to decide if the painful consequences of pretending to be healthy are worth keeping the last of her sick girl secrets.","English",12.9,10.95,"811’.60809282--dc23","200 pp.",null,{"$f":"Table1[[#This Row],[QTY]]*Table1[[#This Row],['# of Books]]","v":0},{"$f":"Table1[[#This Row],[QTY]]*Table1[[#This Row],[School & Library Price]]","v":0}]
[null,null,23," -","Surviving American History",1,"Hardcover","978-1-9785-9564-4",null,"West 44 Books","2022","August 2021","5.500 X 8.250","Author","Max Howard"," ",null,null,null,"N",null,"Grade 2 - 3","Grade 9 - 12","Gabi is furious about her parents divorcing and moving her away from her hometown, her friends, and her school. But on the day she moves away, a shooter opens fire on Gabi's old school, killing her American History classmates. She knows she should have been in that classroom. Now Gabi has to navigate a new school and new social circles, while dealing with a looming dark cloud of grief, survivor's guilt, and fear. She meets impulsive troublemaker Lennon, who might just understand her dark side, or may pull her deeper into it.","English",19.95,14.95,"811’.60809282--dc23","200 pp.",null,{"$f":"Table1[[#This Row],[QTY]]*Table1[[#This Row],['# of Books]]","v":0},{"$f":"Table1[[#This Row],[QTY]]*Table1[[#This Row],[School & Library Price]]","v":0}]
[null,null,23," -","Surviving American History",1,"eBook","978-1-9785-9550-7",null,"West 44 Books","2022","August 2021",null,"Author","Max Howard"," ",null,null,null,"N",null,"Grade 2 - 3","Grade 9 - 12","Gabi is furious about her parents divorcing and moving her away from her hometown, her friends, and her school. But on the day she moves away, a shooter opens fire on Gabi's old school, killing her American History classmates. She knows she should have been in that classroom. Now Gabi has to navigate a new school and new social circles, while dealing with a looming dark cloud of grief, survivor's guilt, and fear. She meets impulsive troublemaker Lennon, who might just understand her dark side, or may pull her deeper into it.","English",19.95,14.95,"811’.60809282--dc23","200 pp.",null,{"$f":"Table1[[#This Row],[QTY]]*Table1[[#This Row],['# of Books]]","v":0},{"$f":"Table1[[#This Row],[QTY]]*Table1[[#This Row],[School & Library Price]]","v":0}]
[null,null,23," -","Surviving American History",1,"Paperback Book","978-1-9785-9548-4",null,"West 44 Books","2022","August 2021","5.500 X 8.250","Author","Max Howard"," ",null,null,null,"N",null,"Grade 2 - 3","Grade 9 - 12","Gabi is furious about her parents divorcing and moving her away from her hometown, her friends, and her school. But on the day she moves away, a shooter opens fire on Gabi's old school, killing her American History classmates. She knows she should have been in that classroom. Now Gabi has to navigate a new school and new social circles, while dealing with a looming dark cloud of grief, survivor's guilt, and fear. She meets impulsive troublemaker Lennon, who might just understand her dark side, or may pull her deeper into it.","English",12.9,10.95,"811’.60809282--dc23","200 pp.",null,{"$f":"Table1[[#This Row],[QTY]]*Table1[[#This Row],['# of Books]]","v":0},{"$f":"Table1[[#This Row],[QTY]]*Table1[[#This Row],[School & Library Price]]","v":0}]
[null,null,24," -","Tough as Lace",1,"Hardcover","978-1-9785-9565-1",null,"West 44 Books","2022","August 2021","5.500 X 8.250","Author","Lexi Bruce"," ",null,null,null,"N",null,"Grade 2 - 3","Grade 9 - 12","Lacey \"Lace\" Stewart knows who she is. She's the star of her high school's lacrosse team, she's confident and brash, and she doesn't seem to worry about what other people think. Lace tries hard in school, works weekends at a coffee shop, and is counting on a lacrosse scholarship for college. She's got it all figured out. At least that's what she shows everyone at school. But underneath her brave face, she's battling deep-seated anxiety, and she's one panic attack away from losing it all.","English",19.95,14.95,"811’.60809282--dc23","200 pp.",null,{"$f":"Table1[[#This Row],[QTY]]*Table1[[#This Row],['# of Books]]","v":0},{"$f":"Table1[[#This Row],[QTY]]*Table1[[#This Row],[School & Library Price]]","v":0}]
[null,null,24," -","Tough as Lace",1,"eBook","978-1-9785-9553-8",null,"West 44 Books","2022","August 2021",null,"Author","Lexi Bruce"," ",null,null,null,"N",null,"Grade 2 - 3","Grade 9 - 12","Lacey \"Lace\" Stewart knows who she is. She's the star of her high school's lacrosse team, she's confident and brash, and she doesn't seem to worry about what other people think. Lace tries hard in school, works weekends at a coffee shop, and is counting on a lacrosse scholarship for college. She's got it all figured out. At least that's what she shows everyone at school. But underneath her brave face, she's battling deep-seated anxiety, and she's one panic attack away from losing it all.","English",19.95,14.95,"811’.60809282--dc23","200 pp.",null,{"$f":"Table1[[#This Row],[QTY]]*Table1[[#This Row],['# of Books]]","v":0},{"$f":"Table1[[#This Row],[QTY]]*Table1[[#This Row],[School & Library Price]]","v":0}]
[null,null,24," -","Tough as Lace",1,"Paperback Book","978-1-9785-9551-4",null,"West 44 Books","2022","August 2021","5.500 X 8.250","Author","Lexi Bruce"," ",null,null,null,"N",null,"Grade 2 - 3","Grade 9 - 12","Lacey \"Lace\" Stewart knows who she is. She's the star of her high school's lacrosse team, she's confident and brash, and she doesn't seem to worry about what other people think. Lace tries hard in school, works weekends at a coffee shop, and is counting on a lacrosse scholarship for college. She's got it all figured out. At least that's what she shows everyone at school. But underneath her brave face, she's battling deep-seated anxiety, and she's one panic attack away from losing it all.","English",12.9,10.95,"811’.60809282--dc23","200 pp.",null,{"$f":"Table1[[#This Row],[QTY]]*Table1[[#This Row],['# of Books]]","v":0},{"$f":"Table1[[#This Row],[QTY]]*Table1[[#This Row],[School & Library Price]]","v":0}]
[null,null,25,"Slithering Snakes","Slithering Snakes",6,"Library Set","978-1-9785-1874-2",null,"Enslow Publishing","2022","August 2021","8.500 X 7.125",null,null," ",null,null,null,null,null,"Grade 1 - 2","Grade 1 - 3","Is an anaconda really the biggest snake in the world? What's the difference between a python and a boa? How do some snakes swim underwater? Are there any venomous snakes in North America? Young snake lovers have a lot of questions about some of the most talked about snakes around the world, but this set will help. Featuring close-up photographs of some of the world's deadliest hunters, this set will excite young herpetologists while accessible content encourages them to learn more. Features include: Encourages understanding of Next Gen Science Standards through high-interest topics. Concluding charts summarize key concepts for easy reference. Full page photographs pair closely with the narratives to encourage comprehension.","English",135.6,101.7,null,"24 pp.",null,{"$f":"Table1[[#This Row],[QTY]]*Table1[[#This Row],['# of Books]]","v":0},{"$f":"Table1[[#This Row],[QTY]]*Table1[[#This Row],[School & Library Price]]","v":0}]
[null,null,25,"Slithering Snakes","Anaconda: The Largest Snake on Earth",1,"Library Bound Book","978-1-9785-1765-3",null,"Enslow Publishing","2022","August 2021","8.500 X 7.125","Author","Natalie K. Humphrey"," ",null,null,null,"K",null,"Grade 1 - 2","Grade 1 - 3","At home in the tropics of South America, the anaconda grows until it reaches an alarming size. While the green anaconda can claim the title of \"largest snake in the world,\" the yellow anaconda is still an intimidating predator. Young readers will love learning about these massive hunters through easy-to-read informational text. With beautiful real-life photographs of the anaconda in its natural habitat, this exciting book is a must-have for every snake lover.","English",22.6,16.95,"597.96/7--dc23","24 pp.",null,{"$f":"Table1[[#This Row],[QTY]]*Table1[[#This Row],['# of Books]]","v":0},{"$f":"Table1[[#This Row],[QTY]]*Table1[[#This Row],[School & Library Price]]","v":0}]
[null,null,25,"Slithering Snakes","Anaconda: The Largest Snake on Earth",1,"eBook","978-1-9785-1766-0",null,"Enslow Publishing","2022","August 2021",null,"Author","Natalie K. Humphrey"," ",null,null,null,"K",null,"Grade 1 - 2","Grade 1 - 3","At home in the tropics of South America, the anaconda grows until it reaches an alarming size. While the green anaconda can claim the title of \"largest snake in the world,\" the yellow anaconda is still an intimidating predator. Young readers will love learning about these massive hunters through easy-to-read informational text. With beautiful real-life photographs of the anaconda in its natural habitat, this exciting book is a must-have for every snake lover.","English",22.6,16.95,"597.96/7--dc23","24 pp.",null,{"$f":"Table1[[#This Row],[QTY]]*Table1[[#This Row],['# of Books]]","v":0},{"$f":"Table1[[#This Row],[QTY]]*Table1[[#This Row],[School & Library Price]]","v":0}]
[null,null,25,"Slithering Snakes","Black Mamba: Fast and Deadly",1,"Library Bound Book","978-1-9785-1769-1",null,"Enslow Publishing","2022","August 2021","8.500 X 7.125","Author","Natalie K. Humphrey"," ",null,null,null,"K",null,"Grade 1 - 2","Grade 1 - 3","The black mamba is a deadly predator, but just what makes it so dangerous? From a set of hollow fangs specially designed to deliver venom to the mind-blowing speed of their strike, the black mamba will thrill and excite young snake lovers to learn more. Featuring brilliant photographs of what gives this snake its name, this book is perfect for every young reader ready to jump into the fascinating world of this dangerous snake.","English",22.6,16.95,"597.96/42--dc23","24 pp.",null,{"$f":"Table1[[#This Row],[QTY]]*Table1[[#This Row],['# of Books]]","v":0},{"$f":"Table1[[#This Row],[QTY]]*Table1[[#This Row],[School & Library Price]]","v":0}]
[null,null,25,"Slithering Snakes","Black Mamba: Fast and Deadly",1,"eBook","978-1-9785-1770-7",null,"Enslow Publishing","2022","August 2021",null,"Author","Natalie K. Humphrey"," ",null,null,null,"K",null,"Grade 1 - 2","Grade 1 - 3","The black mamba is a deadly predator, but just what makes it so dangerous? From a set of hollow fangs specially designed to deliver venom to the mind-blowing speed of their strike, the black mamba will thrill and excite young snake lovers to learn more. Featuring brilliant photographs of what gives this snake its name, this book is perfect for every young reader ready to jump into the fascinating world of this dangerous snake.","English",22.6,16.95,"597.96/42--dc23","24 pp.",null,{"$f":"Table1[[#This Row],[QTY]]*Table1[[#This Row],['# of Books]]","v":0},{"$f":"Table1[[#This Row],[QTY]]*Table1[[#This Row],[School & Library Price]]","v":0}]
[null,null,25,"Slithering Snakes","Boa Constrictor: Ready to Squeeze",1,"Library Bound Book","978-1-9785-1773-8",null,"Enslow Publishing","2022","August 2021","8.500 X 7.125","Author","Natalie K. Humphrey"," ",null,null,null,"K",null,"Grade 1 - 2","Grade 1 - 3","Even though this snake doesn't have venom to take down its prey like other snakes, the boa constrictor really lives up to its name. Wrapping tight around their prey, the boa constrictor squeezes down, making it just as deadly a predator as its massive cousin the anaconda. Young readers get a glimpse into the life of the boa through stunning photographs while learning important herpetological facts that encourage them to learn more. This fascinating snake will keep young readers excited as they journey into the slithering world of snakes.","English",22.6,16.95,"597.96'7--dc23","24 pp.",null,{"$f":"Table1[[#This Row],[QTY]]*Table1[[#This Row],['# of Books]]","v":0},{"$f":"Table1[[#This Row],[QTY]]*Table1[[#This Row],[School & Library Price]]","v":0}]
[null,null,25,"Slithering Snakes","Boa Constrictor: Ready to Squeeze",1,"eBook","978-1-9785-1774-5",null,"Enslow Publishing","2022","August 2021",null,"Author","Natalie K. Humphrey"," ",null,null,null,"K",null,"Grade 1 - 2","Grade 1 - 3","Even though this snake doesn't have venom to take down its prey like other snakes, the boa constrictor really lives up to its name. Wrapping tight around their prey, the boa constrictor squeezes down, making it just as deadly a predator as its massive cousin the anaconda. Young readers get a glimpse into the life of the boa through stunning photographs while learning important herpetological facts that encourage them to learn more. This fascinating snake will keep young readers excited as they journey into the slithering world of snakes.","English",22.6,16.95,"597.96'7--dc23","24 pp.",null,{"$f":"Table1[[#This Row],[QTY]]*Table1[[#This Row],['# of Books]]","v":0},{"$f":"Table1[[#This Row],[QTY]]*Table1[[#This Row],[School & Library Price]]","v":0}]
[null,null,25,"Slithering Snakes","Diamondback Rattlesnake: North American Hunter",1,"Library Bound Book","978-1-9785-1777-6",null,"Enslow Publishing","2022","August 2021","8.500 X 7.125","Author","Natalie K. Humphrey"," ",null,null,null,"K",null,"Grade 1 - 2","Grade 1 - 3","Every good cowboy western features a cameo by one of the most famous vipers, the diamondback rattlesnake. Known for the distinctive, advanced warning system on its tail, these deadly hunters are one of the most evolved species of snake around the world. Of the different kinds of this hunter found only in North America, the diamondback gets its name from the diamond-shaped pattern running across its body. Featuring brilliant photographs of this beautiful snake in its natural habitat, young readers will take a tour of what makes this snake so advanced among other snakes.","English",22.6,16.95,"597.96'38--dc23","24 pp.",null,{"$f":"Table1[[#This Row],[QTY]]*Table1[[#This Row],['# of Books]]","v":0},{"$f":"Table1[[#This Row],[QTY]]*Table1[[#This Row],[School & Library Price]]","v":0}]
[null,null,25,"Slithering Snakes","Diamondback Rattlesnake: North American Hunter",1,"eBook","978-1-9785-1778-3",null,"Enslow Publishing","2022","August 2021",null,"Author","Natalie K. Humphrey"," ",null,null,null,"K",null,"Grade 1 - 2","Grade 1 - 3","Every good cowboy western features a cameo by one of the most famous vipers, the diamondback rattlesnake. Known for the distinctive, advanced warning system on its tail, these deadly hunters are one of the most evolved species of snake around the world. Of the different kinds of this hunter found only in North America, the diamondback gets its name from the diamond-shaped pattern running across its body. Featuring brilliant photographs of this beautiful snake in its natural habitat, young readers will take a tour of what makes this snake so advanced among other snakes.","English",22.6,16.95,"597.96'38--dc23","24 pp.",null,{"$f":"Table1[[#This Row],[QTY]]*Table1[[#This Row],['# of Books]]","v":0},{"$f":"Table1[[#This Row],[QTY]]*Table1[[#This Row],[School & Library Price]]","v":0}]
[null,null,25,"Slithering Snakes","King Cobra: Snake Eater",1,"Library Bound Book","978-1-9785-1781-3",null,"Enslow Publishing","2022","August 2021","8.500 X 7.125","Author","Natalie K. Humphrey"," ",null,null,null,"K",null,"Grade 1 - 2","Grade 1 - 3","There are many different kinds of ophiophagus snakes, or snakes that eat other snakes, but one of the most famous is the king cobra. Young herpetologists won't forget this book's stunning photographs of these snakes \"standing\" straight up in the air. They'll also appreciate the details of what makes the king cobra the king of snakes. Young readers will explore achievable text designed perfectly to aid in their understanding of this amazing snake while it encourages them to read on their own.","English",22.6,16.95,"597.96/42--dc23","24 pp.",null,{"$f":"Table1[[#This Row],[QTY]]*Table1[[#This Row],['# of Books]]","v":0},{"$f":"Table1[[#This Row],[QTY]]*Table1[[#This Row],[School & Library Price]]","v":0}]
[null,null,25,"Slithering Snakes","King Cobra: Snake Eater",1,"eBook","978-1-9785-1782-0",null,"Enslow Publishing","2022","August 2021",null,"Author","Natalie K. Humphrey"," ",null,null,null,"K",null,"Grade 1 - 2","Grade 1 - 3","There are many different kinds of ophiophagus snakes, or snakes that eat other snakes, but one of the most famous is the king cobra. Young herpetologists won't forget this book's stunning photographs of these snakes \"standing\" straight up in the air. They'll also appreciate the details of what makes the king cobra the king of snakes. Young readers will explore achievable text designed perfectly to aid in their understanding of this amazing snake while it encourages them to read on their own.","English",22.6,16.95,"597.96/42--dc23","24 pp.",null,{"$f":"Table1[[#This Row],[QTY]]*Table1[[#This Row],['# of Books]]","v":0},{"$f":"Table1[[#This Row],[QTY]]*Table1[[#This Row],[School & Library Price]]","v":0}]
[null,null,25,"Slithering Snakes","Python: Long and Strong",1,"Library Bound Book","978-1-9785-1785-1",null,"Enslow Publishing","2022","August 2021","8.500 X 7.125","Author","Natalie K. Humphrey"," ",null,null,null,"K",null,"Grade 1 - 2","Grade 1 - 3","Pythons might look like boa constrictors, but they're really a different species of snake. While both snakes don't have venom and take their prey down with constriction, there are key differences between these species and how they've adapted to their homes in the wild. Your young learners will get a head start in herpetology and learn important lessons about biology. Featuring photographs of pythons exploring their world and accessible science content, this approachable book is perfect for every explorer.","English",22.6,16.95,"597.96/78--dc23","24 pp.",null,{"$f":"Table1[[#This Row],[QTY]]*Table1[[#This Row],['# of Books]]","v":0},{"$f":"Table1[[#This Row],[QTY]]*Table1[[#This Row],[School & Library Price]]","v":0}]
[null,null,25,"Slithering Snakes","Python: Long and Strong",1,"eBook","978-1-9785-1786-8",null,"Enslow Publishing","2022","August 2021",null,"Author","Natalie K. Humphrey"," ",null,null,null,"K",null,"Grade 1 - 2","Grade 1 - 3","Pythons might look like boa constrictors, but they're really a different species of snake. While both snakes don't have venom and take their prey down with constriction, there are key differences between these species and how they've adapted to their homes in the wild. Your young learners will get a head start in herpetology and learn important lessons about biology. Featuring photographs of pythons exploring their world and accessible science content, this approachable book is perfect for every explorer.","English",22.6,16.95,"597.96/78--dc23","24 pp.",null,{"$f":"Table1[[#This Row],[QTY]]*Table1[[#This Row],['# of Books]]","v":0},{"$f":"Table1[[#This Row],[QTY]]*Table1[[#This Row],[School & Library Price]]","v":0}]
[null,null,26,"Dinosaur World","Dinosaur World",6,"Library Set","978-1-9785-2311-1",null,"Enslow Publishing","2022","August 2021","8.500 X 7.125",null,null," ",null,null,null,null,null,"Grade 1 - 2","Grade 1 - 3","From the giant steps of the fearsome Tyrannosaurus rex to the horned head of the Triceratops, dinosaurs have fascinated scientists for ages. Through vivid illustrations of what these dinosaurs may have looked like, young readers will jump into the prehistoric past for a close look at dinosaurs. Following in the steps of paleontologists, readers will learn important scientific facts about dinosaurs and the world in which they lived. With narratives featuring accessible text to encourage understanding, readers will love discovering dinosaurs. Features include: Approachable language encourages understanding of important Next Generation Science concepts. Science-based illustrations feature what these dinosaurs are believed to have looked like. High-interest topics draw in readers of all skill levels.","English",135.6,101.7,null,"24 pp.",null,{"$f":"Table1[[#This Row],[QTY]]*Table1[[#This Row],['# of Books]]","v":0},{"$f":"Table1[[#This Row],[QTY]]*Table1[[#This Row],[School & Library Price]]","v":0}]
[null,null,26,"Dinosaur World","The Ferocious Tyrannosaurus Rex",1,"Library Bound Book","978-1-9785-2104-9",null,"Enslow Publishing","2022","August 2021","8.500 X 7.125","Author","Natalie Humphrey"," ",null,null,null,"I",null,"Grade 1 - 2","Grade 1 - 3","The Tyrannosaurus rex was a deadly predator that is believed to have eaten nearly any prey it came across. Reaching more than 40 feet tall with a mouth full of razor-sharp teeth, the Tyrannosaurs rex was the king of dinosaurs. Through vivid illustrations of both what scientists believe these dinosaurs looked like and what their homes may have looked like, young readers will discover what life was like millions of years ago. With important facts about where the Tyrannosaurus rex was discovered and what is known about it, young readers will learn how the Tyrannosaurs rex ferociously ruled the Cretaceous era.","English",22.6,16.95,"567.912/9--dc23","24 pp.",null,{"$f":"Table1[[#This Row],[QTY]]*Table1[[#This Row],['# of Books]]","v":0},{"$f":"Table1[[#This Row],[QTY]]*Table1[[#This Row],[School & Library Price]]","v":0}]
[null,null,26,"Dinosaur World","The Ferocious Tyrannosaurus Rex",1,"eBook","978-1-9785-2105-6",null,"Enslow Publishing","2022","August 2021",null,"Author","Natalie Humphrey"," ",null,null,null,"I",null,"Grade 1 - 2","Grade 1 - 3","The Tyrannosaurus rex was a deadly predator that is believed to have eaten nearly any prey it came across. Reaching more than 40 feet tall with a mouth full of razor-sharp teeth, the Tyrannosaurs rex was the king of dinosaurs. Through vivid illustrations of both what scientists believe these dinosaurs looked like and what their homes may have looked like, young readers will discover what life was like millions of years ago. With important facts about where the Tyrannosaurus rex was discovered and what is known about it, young readers will learn how the Tyrannosaurs rex ferociously ruled the Cretaceous era.","English",22.6,16.95,"567.912/9--dc23","24 pp.",null,{"$f":"Table1[[#This Row],[QTY]]*Table1[[#This Row],['# of Books]]","v":0},{"$f":"Table1[[#This Row],[QTY]]*Table1[[#This Row],[School & Library Price]]","v":0}]
[null,null,26,"Dinosaur World","The Fierce Velociraptor",1,"Library Bound Book","978-1-9785-2108-7",null,"Enslow Publishing","2022","August 2021","8.500 X 7.125","Author","Natalie Humphrey"," ",null,null,null,"I",null,"Grade 1 - 2","Grade 1 - 3","While only 6 feet long, the Velociraptor certainly wasn't the largest dinosaur, but this predator is considered one of the deadliest. Hunting in packs, Velociraptors used their intelligence to find their next meal. Devouring eggs and even other dinosaurs, the Velociraptor would eat anything it could get its claws and teeth into. Through beautiful illustrations of what these feathered creatures may have looked like, young readers will love discovering how the Velociraptor survived millions of years ago and what made it so fierce.","English",22.6,16.95,"567.912--dc23","24 pp.",null,{"$f":"Table1[[#This Row],[QTY]]*Table1[[#This Row],['# of Books]]","v":0},{"$f":"Table1[[#This Row],[QTY]]*Table1[[#This Row],[School & Library Price]]","v":0}]
[null,null,26,"Dinosaur World","The Fierce Velociraptor",1,"eBook","978-1-9785-2109-4",null,"Enslow Publishing","2022","August 2021",null,"Author","Natalie Humphrey"," ",null,null,null,"I",null,"Grade 1 - 2","Grade 1 - 3","While only 6 feet long, the Velociraptor certainly wasn't the largest dinosaur, but this predator is considered one of the deadliest. Hunting in packs, Velociraptors used their intelligence to find their next meal. Devouring eggs and even other dinosaurs, the Velociraptor would eat anything it could get its claws and teeth into. Through beautiful illustrations of what these feathered creatures may have looked like, young readers will love discovering how the Velociraptor survived millions of years ago and what made it so fierce.","English",22.6,16.95,"567.912--dc23","24 pp.",null,{"$f":"Table1[[#This Row],[QTY]]*Table1[[#This Row],['# of Books]]","v":0},{"$f":"Table1[[#This Row],[QTY]]*Table1[[#This Row],[School & Library Price]]","v":0}]
[null,null,26,"Dinosaur World","The Huge Allosaurus",1,"Library Bound Book","978-1-9785-2112-4",null,"Enslow Publishing","2022","August 2021","8.500 X 7.125","Author","Natalie Humphrey"," ",null,null,null,"I",null,"Grade 1 - 2","Grade 1 - 3","Unlike many dinosaurs, the Allosaurus was found all over the world. Young paleontologists will explore the prehistoric world of the Allosaurus, learning what made it so different than other dinosaurs. While it wasn't the biggest carnivore, the Allosaurus was still dangerous. With a name that translates to \"different lizard,\" the Allosaurus is truly unique. Through beautiful illustrations of the Allosaurus and comprehensible content, young readers will enjoy new facts about this deadly carnivore.","English",22.6,16.95,"567.912--dc23","24 pp.",null,{"$f":"Table1[[#This Row],[QTY]]*Table1[[#This Row],['# of Books]]","v":0},{"$f":"Table1[[#This Row],[QTY]]*Table1[[#This Row],[School & Library Price]]","v":0}]
[null,null,26,"Dinosaur World","The Huge Allosaurus",1,"eBook","978-1-9785-2113-1",null,"Enslow Publishing","2022","August 2021",null,"Author","Natalie Humphrey"," ",null,null,null,"I",null,"Grade 1 - 2","Grade 1 - 3","Unlike many dinosaurs, the Allosaurus was found all over the world. Young paleontologists will explore the prehistoric world of the Allosaurus, learning what made it so different than other dinosaurs. While it wasn't the biggest carnivore, the Allosaurus was still dangerous. With a name that translates to \"different lizard,\" the Allosaurus is truly unique. Through beautiful illustrations of the Allosaurus and comprehensible content, young readers will enjoy new facts about this deadly carnivore.","English",22.6,16.95,"567.912--dc23","24 pp.",null,{"$f":"Table1[[#This Row],[QTY]]*Table1[[#This Row],['# of Books]]","v":0},{"$f":"Table1[[#This Row],[QTY]]*Table1[[#This Row],[School & Library Price]]","v":0}]
[null,null,26,"Dinosaur World","The Massive Diplodocus",1,"Library Bound Book","978-1-9785-2116-2",null,"Enslow Publishing","2022","August 2021","8.500 X 7.125","Author","Natalie Humphrey"," ",null,null,null,"I",null,"Grade 1 - 2","Grade 1 - 3","Found in North America, the Diplodocus was an herbivore, but it could do some serious damage. With a whip-like tail that could swing at 800 miles per hour, the Diplodocus kept itself safe from predators while it dined on leaves high in the tree tops. Young readers will discover how the Diplodocus is believed to have lived millions of years ago. With amazing illustrations paired closely with important facts, this book invites readers to dive right into how scientists believe Diplodocus lived and thrived.","English",22.6,16.95,"567.913--dc23","24 pp.",null,{"$f":"Table1[[#This Row],[QTY]]*Table1[[#This Row],['# of Books]]","v":0},{"$f":"Table1[[#This Row],[QTY]]*Table1[[#This Row],[School & Library Price]]","v":0}]
[null,null,26,"Dinosaur World","The Massive Diplodocus",1,"eBook","978-1-9785-2117-9",null,"Enslow Publishing","2022","August 2021",null,"Author","Natalie Humphrey"," ",null,null,null,"I",null,"Grade 1 - 2","Grade 1 - 3","Found in North America, the Diplodocus was an herbivore, but it could do some serious damage. With a whip-like tail that could swing at 800 miles per hour, the Diplodocus kept itself safe from predators while it dined on leaves high in the tree tops. Young readers will discover how the Diplodocus is believed to have lived millions of years ago. With amazing illustrations paired closely with important facts, this book invites readers to dive right into how scientists believe Diplodocus lived and thrived.","English",22.6,16.95,"567.913--dc23","24 pp.",null,{"$f":"Table1[[#This Row],[QTY]]*Table1[[#This Row],['# of Books]]","v":0},{"$f":"Table1[[#This Row],[QTY]]*Table1[[#This Row],[School & Library Price]]","v":0}]
[null,null,26,"Dinosaur World","The Mighty Stegosaurus",1,"Library Bound Book","978-1-9785-2124-7",null,"Enslow Publishing","2022","August 2021","8.500 X 7.125","Author","Natalie Humphrey"," ",null,null,null,"I",null,"Grade 1 - 2","Grade 1 - 3","Using its spiky tail to fight off enemies, the Stegosaurus was one dangerous herbivore. With heavy plates of their backs, the Stegosaurus was kept safe from nearly all dangers, even the weather. Young readers jump right into the fascinating life of the Stegosaurus with this volume. Through vivid illustrations, young readers see how it's believed the Stegosaurus lived and what its home looked like. With interesting facts about how the Stegosaurus used its tail, this book helps young readers learn to love everything about this amazing creature.","English",22.6,16.95,"567.915/3--dc23 ","24 pp.",null,{"$f":"Table1[[#This Row],[QTY]]*Table1[[#This Row],['# of Books]]","v":0},{"$f":"Table1[[#This Row],[QTY]]*Table1[[#This Row],[School & Library Price]]","v":0}]
[null,null,26,"Dinosaur World","The Mighty Stegosaurus",1,"eBook","978-1-9785-2125-4",null,"Enslow Publishing","2022","August 2021",null,"Author","Natalie Humphrey"," ",null,null,null,"I",null,"Grade 1 - 2","Grade 1 - 3","Using its spiky tail to fight off enemies, the Stegosaurus was one dangerous herbivore. With heavy plates of their backs, the Stegosaurus was kept safe from nearly all dangers, even the weather. Young readers jump right into the fascinating life of the Stegosaurus with this volume. Through vivid illustrations, young readers see how it's believed the Stegosaurus lived and what its home looked like. With interesting facts about how the Stegosaurus used its tail, this book helps young readers learn to love everything about this amazing creature.","English",22.6,16.95,"567.915/3--dc23 ","24 pp.",null,{"$f":"Table1[[#This Row],[QTY]]*Table1[[#This Row],['# of Books]]","v":0},{"$f":"Table1[[#This Row],[QTY]]*Table1[[#This Row],[School & Library Price]]","v":0}]
[null,null,26,"Dinosaur World","The Powerful Triceratops",1,"Library Bound Book","978-1-9785-2120-9",null,"Enslow Publishing","2022","August 2021","8.500 X 7.125","Author","Natalie Humphrey"," ",null,null,null,"I",null,"Grade 1 - 2","Grade 1 - 3","The Triceratops is one of the most popular dinosaurs, and it isn't difficult to see why. With a three-horned head, and short, powerful legs, the Triceratops could fight off even the strongest predator. While there is still a lot to learn about the Triceratops, young paleontologists will get a jump-start on what scientists believe life looked like for these dinosaurs. The approachable narrative and vivid, spell-binding illustrations help young readers discover facts about the Triceratops, such as the plants and leaves they may have eaten.","English",22.6,16.95,"567.915/8--dc23","24 pp.",null,{"$f":"Table1[[#This Row],[QTY]]*Table1[[#This Row],['# of Books]]","v":0},{"$f":"Table1[[#This Row],[QTY]]*Table1[[#This Row],[School & Library Price]]","v":0}]
[null,null,26,"Dinosaur World","The Powerful Triceratops",1,"eBook","978-1-9785-2121-6",null,"Enslow Publishing","2022","August 2021",null,"Author","Natalie Humphrey"," ",null,null,null,"I",null,"Grade 1 - 2","Grade 1 - 3","The Triceratops is one of the most popular dinosaurs, and it isn't difficult to see why. With a three-horned head, and short, powerful legs, the Triceratops could fight off even the strongest predator. While there is still a lot to learn about the Triceratops, young paleontologists will get a jump-start on what scientists believe life looked like for these dinosaurs. The approachable narrative and vivid, spell-binding illustrations help young readers discover facts about the Triceratops, such as the plants and leaves they may have eaten.","English",22.6,16.95,"567.915/8--dc23","24 pp.",null,{"$f":"Table1[[#This Row],[QTY]]*Table1[[#This Row],['# of Books]]","v":0},{"$f":"Table1[[#This Row],[QTY]]*Table1[[#This Row],[School & Library Price]]","v":0}]
[null,null,27,"Simple Machines All Around Us","Simple Machines All Around Us",6,"Library Set","978-1-9785-2313-5",null,"Enslow Publishing","2022","August 2021","8.500 X 7.125",null,null," ",null,null,null,null,null,"Grade 1 - 2","Grade 1 - 3","By making many tasks easier, simple machines transformed human society. They're everywhere! However, with so many complex machines in modern life, they can be tricky for students to identify. This set is designed to help young readers understand what simple machines are and the forces that make them work. Students will learn to recognize these devices in their daily lives, promoting a lasting curiosity and interest in how engineering shapes the world around us. Features include: Colorful photographs of each machine. Approachable text for early readers. STEM concepts detailed through relatable examples.\n","English",135.6,101.7,null,"24 pp.",null,{"$f":"Table1[[#This Row],[QTY]]*Table1[[#This Row],['# of Books]]","v":0},{"$f":"Table1[[#This Row],[QTY]]*Table1[[#This Row],[School & Library Price]]","v":0}]
[null,null,27,"Simple Machines All Around Us","Inclined Planes at Work",1,"Library Bound Book","978-1-9785-2080-6",null,"Enslow Publishing","2022","August 2021","8.500 X 7.125","Author","Maggie S. Wesley"," ",null,null,null,"I",null,"Grade 1 - 2","Grade 1 - 3","The towering pyramids in Egypt would not exist without the inclined plane. This simple device transformed the way people do work by allowing workers to move objects without having to lift them vertically. Inclined planes as ramps are vital to modern-day life, allowing trucks to transport everything from furniture to food. Readers learn how to recognize these devices with this engaging narrative as it conveys crucial STEM concepts. The compelling information in this book, including photographs of familiar objects that are inclined planes, allows readers to understand the importance of the inclined plane and the forces that make it work.","English",22.6,16.95,"621.8","24 pp.",null,{"$f":"Table1[[#This Row],[QTY]]*Table1[[#This Row],['# of Books]]","v":0},{"$f":"Table1[[#This Row],[QTY]]*Table1[[#This Row],[School & Library Price]]","v":0}]
[null,null,27,"Simple Machines All Around Us","Inclined Planes at Work",1,"eBook","978-1-9785-2081-3",null,"Enslow Publishing","2022","August 2021",null,"Author","Maggie S. Wesley"," ",null,null,null,"I",null,"Grade 1 - 2","Grade 1 - 3","The towering pyramids in Egypt would not exist without the inclined plane. This simple device transformed the way people do work by allowing workers to move objects without having to lift them vertically. Inclined planes as ramps are vital to modern-day life, allowing trucks to transport everything from furniture to food. Readers learn how to recognize these devices with this engaging narrative as it conveys crucial STEM concepts. The compelling information in this book, including photographs of familiar objects that are inclined planes, allows readers to understand the importance of the inclined plane and the forces that make it work.","English",22.6,16.95,"621.8","24 pp.",null,{"$f":"Table1[[#This Row],[QTY]]*Table1[[#This Row],['# of Books]]","v":0},{"$f":"Table1[[#This Row],[QTY]]*Table1[[#This Row],[School & Library Price]]","v":0}]
[null,null,27,"Simple Machines All Around Us","Levers at Work",1,"Library Bound Book","978-1-9785-2084-4",null,"Enslow Publishing","2022","August 2021","8.500 X 7.125","Author","Maggie S. Wesley"," ",null,null,null,"I",null,"Grade 1 - 2","Grade 1 - 3","From playing on a seesaw to swinging a baseball bat, levers are a simple machine that can be found everywhere. However, it may not be easy for readers to know exactly how these common devices work. This book is here to help with captivating full-color photographs, including a gallery of familiar objects that use levers. Readers learn through concepts aligned with elementary STEM curricula that levers consist of a plank that pivots on a fulcrum and there are three classes. Approachable text and relatable examples will help readers grasp ways to recognize and use these important mechanisms in their daily lives.","English",22.6,16.95,"621.8","24 pp.",null,{"$f":"Table1[[#This Row],[QTY]]*Table1[[#This Row],['# of Books]]","v":0},{"$f":"Table1[[#This Row],[QTY]]*Table1[[#This Row],[School & Library Price]]","v":0}]
[null,null,27,"Simple Machines All Around Us","Levers at Work",1,"eBook","978-1-9785-2085-1",null,"Enslow Publishing","2022","August 2021",null,"Author","Maggie S. Wesley"," ",null,null,null,"I",null,"Grade 1 - 2","Grade 1 - 3","From playing on a seesaw to swinging a baseball bat, levers are a simple machine that can be found everywhere. However, it may not be easy for readers to know exactly how these common devices work. This book is here to help with captivating full-color photographs, including a gallery of familiar objects that use levers. Readers learn through concepts aligned with elementary STEM curricula that levers consist of a plank that pivots on a fulcrum and there are three classes. Approachable text and relatable examples will help readers grasp ways to recognize and use these important mechanisms in their daily lives.","English",22.6,16.95,"621.8","24 pp.",null,{"$f":"Table1[[#This Row],[QTY]]*Table1[[#This Row],['# of Books]]","v":0},{"$f":"Table1[[#This Row],[QTY]]*Table1[[#This Row],[School & Library Price]]","v":0}]
[null,null,27,"Simple Machines All Around Us","Pulleys at Work",1,"Library Bound Book","978-1-9785-2088-2",null,"Enslow Publishing","2022","August 2021","8.500 X 7.125","Author","Maggie S. Wesley"," ",null,null,null,"I",null,"Grade 1 - 2","Grade 1 - 3","What do sailboats and theater curtains have in common? Your readers will learn the answer; it's pulleys. The pulley plays an important role in modern daily life. This simple machine makes raising and lowering heavy loads much easier. From fixed pulleys to moveable and compound pulley systems, readers gain an in-depth understanding of the forces that make these machines work. Readers learn the STEM concepts behind how pulleys have vital roles in compound machines, from allowing cranes to work on buildings to giving bicycles their smooth ride. Eye-catching photographs including a picture gallery of common objects that use pulleys give readers an in-depth understanding of these revolutionary devices.","English",22.6,16.95,"621.8","24 pp.",null,{"$f":"Table1[[#This Row],[QTY]]*Table1[[#This Row],['# of Books]]","v":0},{"$f":"Table1[[#This Row],[QTY]]*Table1[[#This Row],[School & Library Price]]","v":0}]
[null,null,27,"Simple Machines All Around Us","Pulleys at Work",1,"eBook","978-1-9785-2089-9",null,"Enslow Publishing","2022","August 2021",null,"Author","Maggie S. Wesley"," ",null,null,null,"I",null,"Grade 1 - 2","Grade 1 - 3","What do sailboats and theater curtains have in common? Your readers will learn the answer; it's pulleys. The pulley plays an important role in modern daily life. This simple machine makes raising and lowering heavy loads much easier. From fixed pulleys to moveable and compound pulley systems, readers gain an in-depth understanding of the forces that make these machines work. Readers learn the STEM concepts behind how pulleys have vital roles in compound machines, from allowing cranes to work on buildings to giving bicycles their smooth ride. Eye-catching photographs including a picture gallery of common objects that use pulleys give readers an in-depth understanding of these revolutionary devices.","English",22.6,16.95,"621.8","24 pp.",null,{"$f":"Table1[[#This Row],[QTY]]*Table1[[#This Row],['# of Books]]","v":0},{"$f":"Table1[[#This Row],[QTY]]*Table1[[#This Row],[School & Library Price]]","v":0}]
[null,null,27,"Simple Machines All Around Us","Screws at Work",1,"Library Bound Book","978-1-9785-2092-9",null,"Enslow Publishing","2022","August 2021","8.500 X 7.125","Author","Maggie S. Wesley"," ",null,null,null,"I",null,"Grade 1 - 2","Grade 1 - 3","The screw is a simple machine that changed the world in remarkable ways. In the 1440s, the screw was central to the success of the printing press, which allowed scientists and great thinkers around the world to share ideas. Today, screws are necessary to hold a variety of objects together, from chairs to light bulbs. They also manifest in the forms of ceiling fans and airplane propellers. With approachable text and an image gallery of recognizable objects that use this simple machine, this book allows early readers to understand the forces and STEM concepts that make screws vital to the modern world.","English",22.6,16.95,"621.8","24 pp.",null,{"$f":"Table1[[#This Row],[QTY]]*Table1[[#This Row],['# of Books]]","v":0},{"$f":"Table1[[#This Row],[QTY]]*Table1[[#This Row],[School & Library Price]]","v":0}]
[null,null,27,"Simple Machines All Around Us","Screws at Work",1,"eBook","978-1-9785-2093-6",null,"Enslow Publishing","2022","August 2021",null,"Author","Maggie S. Wesley"," ",null,null,null,"I",null,"Grade 1 - 2","Grade 1 - 3","The screw is a simple machine that changed the world in remarkable ways. In the 1440s, the screw was central to the success of the printing press, which allowed scientists and great thinkers around the world to share ideas. Today, screws are necessary to hold a variety of objects together, from chairs to light bulbs. They also manifest in the forms of ceiling fans and airplane propellers. With approachable text and an image gallery of recognizable objects that use this simple machine, this book allows early readers to understand the forces and STEM concepts that make screws vital to the modern world.","English",22.6,16.95,"621.8","24 pp.",null,{"$f":"Table1[[#This Row],[QTY]]*Table1[[#This Row],['# of Books]]","v":0},{"$f":"Table1[[#This Row],[QTY]]*Table1[[#This Row],[School & Library Price]]","v":0}]
[null,null,27,"Simple Machines All Around Us","Wedges at Work",1,"Library Bound Book","978-1-9785-2096-7",null,"Enslow Publishing","2022","August 2021","8.500 X 7.125","Author","Maggie S. Wesley"," ",null,null,null,"I",null,"Grade 1 - 2","Grade 1 - 3","A wedge is simply a triangular tool made of two inclined planes, but it can take on many complex jobs. These include cutting objects into pieces, holding objects in place, and lifting heavy loads. When attached to a handle, a wedge becomes a knife, ax, or shovel that makes even more tasks easier. This volume gives readers a lasting understanding of the forces that make these devices work. The concepts in this book bolster STEM curricula and feature eye-catching photographs, age-appropriate text, and a picture gallery of real-world wedges allowing readers to understand the continued importance of this simple machine in their daily lives.","English",22.6,16.95,"621.8","24 pp.",null,{"$f":"Table1[[#This Row],[QTY]]*Table1[[#This Row],['# of Books]]","v":0},{"$f":"Table1[[#This Row],[QTY]]*Table1[[#This Row],[School & Library Price]]","v":0}]
[null,null,27,"Simple Machines All Around Us","Wedges at Work",1,"eBook","978-1-9785-2097-4",null,"Enslow Publishing","2022","August 2021",null,"Author","Maggie S. Wesley"," ",null,null,null,"I",null,"Grade 1 - 2","Grade 1 - 3","A wedge is simply a triangular tool made of two inclined planes, but it can take on many complex jobs. These include cutting objects into pieces, holding objects in place, and lifting heavy loads. When attached to a handle, a wedge becomes a knife, ax, or shovel that makes even more tasks easier. This volume gives readers a lasting understanding of the forces that make these devices work. The concepts in this book bolster STEM curricula and feature eye-catching photographs, age-appropriate text, and a picture gallery of real-world wedges allowing readers to understand the continued importance of this simple machine in their daily lives.","English",22.6,16.95,"621.8","24 pp.",null,{"$f":"Table1[[#This Row],[QTY]]*Table1[[#This Row],['# of Books]]","v":0},{"$f":"Table1[[#This Row],[QTY]]*Table1[[#This Row],[School & Library Price]]","v":0}]
[null,null,27,"Simple Machines All Around Us","Wheels and Axles at Work",1,"Library Bound Book","978-1-9785-2100-1",null,"Enslow Publishing","2022","August 2021","8.500 X 7.125","Author","Maggie S. Wesley"," ",null,null,null,"I",null,"Grade 1 - 2","Grade 1 - 3","Readers likely use the wheel and axle machine every day in the form of doorknobs and faucet handles, but this fascinating invention is often overlooked. This book helps readers understand how the wheel and axle simple machine is all around them and helps build compound machines. Approachable text provides lasting knowledge about the forces that make these devices work. Bright full-color photographs including a picture gallery showing familiar objects using this simple machine aid readers in comprehending just how these mechanisms make tasks easier. The concepts in this book enhance a variety of elementary STEM curricula.","English",22.6,16.95,"621.8","24 pp.",null,{"$f":"Table1[[#This Row],[QTY]]*Table1[[#This Row],['# of Books]]","v":0},{"$f":"Table1[[#This Row],[QTY]]*Table1[[#This Row],[School & Library Price]]","v":0}]
[null,null,27,"Simple Machines All Around Us","Wheels and Axles at Work",1,"eBook","978-1-9785-2101-8",null,"Enslow Publishing","2022","August 2021",null,"Author","Maggie S. Wesley"," ",null,null,null,"I",null,"Grade 1 - 2","Grade 1 - 3","Readers likely use the wheel and axle machine every day in the form of doorknobs and faucet handles, but this fascinating invention is often overlooked. This book helps readers understand how the wheel and axle simple machine is all around them and helps build compound machines. Approachable text provides lasting knowledge about the forces that make these devices work. Bright full-color photographs including a picture gallery showing familiar objects using this simple machine aid readers in comprehending just how these mechanisms make tasks easier. The concepts in this book enhance a variety of elementary STEM curricula.","English",22.6,16.95,"621.8","24 pp.",null,{"$f":"Table1[[#This Row],[QTY]]*Table1[[#This Row],['# of Books]]","v":0},{"$f":"Table1[[#This Row],[QTY]]*Table1[[#This Row],[School & Library Price]]","v":0}]
[null,null,28,"Dig Deep into Fossils","Dig Deep into Fossils",6,"Library Set","978-1-9785-2307-4",null,"Enslow Publishing","2022","August 2021","8.500 X 7.125",null,null," ",null,null,null,null,null,"Grade 2 - 3","Grade 2 - 5","Without fossils, the prehistoric world would be a mystery. From dinosaur bones to ancient human skulls, there is so much to uncover about what life on Earth was like millions of years ago, and why it's no longer like that. This set introduces readers to different kinds of fossils and where they are often discovered. The age-appropriate texts explain how fossils form and highlight the amazing historical and scientific information we learn from them. Full-color photographs and fun fact boxes complement the interesting narratives to engage budding paleontologists and curious readers. Features include: This science content supports standards-based science curriculum. Fact boxes, graphic organizers, and resource sections enrich the narratives. High-interest topic attracts developing readers.","English",151.62,113.7,null,"32 pp.",null,{"$f":"Table1[[#This Row],[QTY]]*Table1[[#This Row],['# of Books]]","v":0},{"$f":"Table1[[#This Row],[QTY]]*Table1[[#This Row],[School & Library Price]]","v":0}]
[null,null,28,"Dig Deep into Fossils","Digging Up Dinosaur Fossils",1,"Library Bound Book","978-1-9785-2152-0",null,"Enslow Publishing","2022","August 2021","8.500 X 7.125","Author","Charlotte Taylor"," ",null,null,null,"N",null,"Grade 2 - 3","Grade 2 - 5","Dinosaurs roamed Earth between 230 million and 65 million years ago. That's not only long before the present day, but also long before Homo sapiens were around at all. Without fossils, we might not know anything about these fierce and interesting prehistoric animals. Young explorers will learn how fossils form, the different kinds of dinosaur fossils that scientists study, and just what we've learned from these cool fossil finds. Detailed photographs aid readers' understanding while fact boxes add more context to key science concepts.","English",25.27,18.95,"567.9","32 pp.",null,{"$f":"Table1[[#This Row],[QTY]]*Table1[[#This Row],['# of Books]]","v":0},{"$f":"Table1[[#This Row],[QTY]]*Table1[[#This Row],[School & Library Price]]","v":0}]
[null,null,28,"Dig Deep into Fossils","Digging Up Dinosaur Fossils",1,"eBook","978-1-9785-2153-7",null,"Enslow Publishing","2022","August 2021",null,"Author","Charlotte Taylor"," ",null,null,null,"N",null,"Grade 2 - 3","Grade 2 - 5","Dinosaurs roamed Earth between 230 million and 65 million years ago. That's not only long before the present day, but also long before Homo sapiens were around at all. Without fossils, we might not know anything about these fierce and interesting prehistoric animals. Young explorers will learn how fossils form, the different kinds of dinosaur fossils that scientists study, and just what we've learned from these cool fossil finds. Detailed photographs aid readers' understanding while fact boxes add more context to key science concepts.","English",25.27,18.95,"567.9","32 pp.",null,{"$f":"Table1[[#This Row],[QTY]]*Table1[[#This Row],['# of Books]]","v":0},{"$f":"Table1[[#This Row],[QTY]]*Table1[[#This Row],[School & Library Price]]","v":0}]
[null,null,28,"Dig Deep into Fossils","Digging Up Human Fossils",1,"Library Bound Book","978-1-9785-2156-8",null,"Enslow Publishing","2022","August 2021","8.500 X 7.125","Author","Charlotte Taylor"," ",null,null,null,"N",null,"Grade 2 - 3","Grade 2 - 5","Scientists aren't quite sure exactly when humans evolved, but through fossils and artifacts, we have knowledge about human ancestors from millions of years ago. From bones to tools, the fossils that have been found each tell a small part of the story of our prehistoric past. Full of age-appropriate detail and interesting historical information, this book explains how fossils form and are found in language especially written for young readers. Examples of human fossils and artifacts closely correlate with the narrative, aiding comprehension.","English",25.27,18.95,"569.9","32 pp.",null,{"$f":"Table1[[#This Row],[QTY]]*Table1[[#This Row],['# of Books]]","v":0},{"$f":"Table1[[#This Row],[QTY]]*Table1[[#This Row],[School & Library Price]]","v":0}]
[null,null,28,"Dig Deep into Fossils","Digging Up Human Fossils",1,"eBook","978-1-9785-2157-5",null,"Enslow Publishing","2022","August 2021",null,"Author","Charlotte Taylor"," ",null,null,null,"N",null,"Grade 2 - 3","Grade 2 - 5","Scientists aren't quite sure exactly when humans evolved, but through fossils and artifacts, we have knowledge about human ancestors from millions of years ago. From bones to tools, the fossils that have been found each tell a small part of the story of our prehistoric past. Full of age-appropriate detail and interesting historical information, this book explains how fossils form and are found in language especially written for young readers. Examples of human fossils and artifacts closely correlate with the narrative, aiding comprehension.","English",25.27,18.95,"569.9","32 pp.",null,{"$f":"Table1[[#This Row],[QTY]]*Table1[[#This Row],['# of Books]]","v":0},{"$f":"Table1[[#This Row],[QTY]]*Table1[[#This Row],[School & Library Price]]","v":0}]
[null,null,28,"Dig Deep into Fossils","Digging Up Insect Fossils",1,"Library Bound Book","978-1-9785-2160-5",null,"Enslow Publishing","2022","August 2021","8.500 X 7.125","Author","Charlotte Taylor"," ",null,null,null,"N",null,"Grade 2 - 3","Grade 2 - 5","According to fossils that have been found, insects have been living on Earth for more than 400 million years. That means they were around before the dinosaurs and long before humans first walked on Earth. How do scientists know this? They study the different kinds of impressions left in rock from these amazing prehistoric creatures. Readers will view cool photographs of these finds, and learn about the different kinds of insect fossils, how they formed, and what we've learned from them.","English",25.27,18.95,"565","32 pp.",null,{"$f":"Table1[[#This Row],[QTY]]*Table1[[#This Row],['# of Books]]","v":0},{"$f":"Table1[[#This Row],[QTY]]*Table1[[#This Row],[School & Library Price]]","v":0}]
[null,null,28,"Dig Deep into Fossils","Digging Up Insect Fossils",1,"eBook","978-1-9785-2161-2",null,"Enslow Publishing","2022","August 2021",null,"Author","Charlotte Taylor"," ",null,null,null,"N",null,"Grade 2 - 3","Grade 2 - 5","According to fossils that have been found, insects have been living on Earth for more than 400 million years. That means they were around before the dinosaurs and long before humans first walked on Earth. How do scientists know this? They study the different kinds of impressions left in rock from these amazing prehistoric creatures. Readers will view cool photographs of these finds, and learn about the different kinds of insect fossils, how they formed, and what we've learned from them.","English",25.27,18.95,"565","32 pp.",null,{"$f":"Table1[[#This Row],[QTY]]*Table1[[#This Row],['# of Books]]","v":0},{"$f":"Table1[[#This Row],[QTY]]*Table1[[#This Row],[School & Library Price]]","v":0}]
[null,null,28,"Dig Deep into Fossils","Digging Up Petrified Forests",1,"Library Bound Book","978-1-9785-2164-3",null,"Enslow Publishing","2022","August 2021","8.500 X 7.125","Author","Charlotte Taylor"," ",null,null,null,"N",null,"Grade 2 - 3","Grade 2 - 5","Petrified forests are some of the coolest-looking fossils that scientists find and study. They can tell us so much about the past, including what Earth was like before humans arrived. How do these amazing remains form? Why? Readers can find the answers to these questions within the pages of this book, complete with close-up photographs of petrified wood they might never otherwise see. The age-appropriate narrative supports science class learning and fun fact boxes give readers even more information about these amazing fossils.","English",25.27,18.95,"561","32 pp.",null,{"$f":"Table1[[#This Row],[QTY]]*Table1[[#This Row],['# of Books]]","v":0},{"$f":"Table1[[#This Row],[QTY]]*Table1[[#This Row],[School & Library Price]]","v":0}]
[null,null,28,"Dig Deep into Fossils","Digging Up Petrified Forests",1,"eBook","978-1-9785-2165-0",null,"Enslow Publishing","2022","August 2021",null,"Author","Charlotte Taylor"," ",null,null,null,"N",null,"Grade 2 - 3","Grade 2 - 5","Petrified forests are some of the coolest-looking fossils that scientists find and study. They can tell us so much about the past, including what Earth was like before humans arrived. How do these amazing remains form? Why? Readers can find the answers to these questions within the pages of this book, complete with close-up photographs of petrified wood they might never otherwise see. The age-appropriate narrative supports science class learning and fun fact boxes give readers even more information about these amazing fossils.","English",25.27,18.95,"561","32 pp.",null,{"$f":"Table1[[#This Row],[QTY]]*Table1[[#This Row],['# of Books]]","v":0},{"$f":"Table1[[#This Row],[QTY]]*Table1[[#This Row],[School & Library Price]]","v":0}]
[null,null,28,"Dig Deep into Fossils","Digging Up Plant Fossils",1,"Library Bound Book","978-1-9785-2168-1",null,"Enslow Publishing","2022","August 2021","8.500 X 7.125","Author","Charlotte Taylor"," ",null,null,null,"N",null,"Grade 2 - 3","Grade 2 - 5","The first plants on Earth likely evolved around 700 million years ago, and their presence may have been what helped prepare Earth for the evolution of land animals. This incredible idea is just one of the facts readers encounter in this fascinating volume. From casts to trace fossils, the different kinds of plant fossils are uncovered for curious readers, supported by photographic examples of each. Accessible text supports Earth science curricula with age-appropriate detail. Fact boxes expand upon key vocabulary and concepts.","English",25.27,18.95,"561","32 pp.",null,{"$f":"Table1[[#This Row],[QTY]]*Table1[[#This Row],['# of Books]]","v":0},{"$f":"Table1[[#This Row],[QTY]]*Table1[[#This Row],[School & Library Price]]","v":0}]
[null,null,28,"Dig Deep into Fossils","Digging Up Plant Fossils",1,"eBook","978-1-9785-2169-8",null,"Enslow Publishing","2022","August 2021",null,"Author","Charlotte Taylor"," ",null,null,null,"N",null,"Grade 2 - 3","Grade 2 - 5","The first plants on Earth likely evolved around 700 million years ago, and their presence may have been what helped prepare Earth for the evolution of land animals. This incredible idea is just one of the facts readers encounter in this fascinating volume. From casts to trace fossils, the different kinds of plant fossils are uncovered for curious readers, supported by photographic examples of each. Accessible text supports Earth science curricula with age-appropriate detail. Fact boxes expand upon key vocabulary and concepts.","English",25.27,18.95,"561","32 pp.",null,{"$f":"Table1[[#This Row],[QTY]]*Table1[[#This Row],['# of Books]]","v":0},{"$f":"Table1[[#This Row],[QTY]]*Table1[[#This Row],[School & Library Price]]","v":0}]
[null,null,28,"Dig Deep into Fossils","Digging Up Sea Creature Fossils",1,"Library Bound Book","978-1-9785-2172-8",null,"Enslow Publishing","2022","August 2021","8.500 X 7.125","Author","Charlotte Taylor"," ",null,null,null,"N",null,"Grade 2 - 3","Grade 2 - 5","Sea creature fossils are particularly interesting because they're often found where there isn't any water. They give scientists insight into how Earth has changed over time and millions of years. Readers uncover some of the oldest sea creature fossils and find out how they formed, where they were found, and what they can tell us about the past, including where water once was and isn't anymore. Detailed photographs of these fossils correlate closely with accessible text and engage readers with eye-catching fossil examples.","English",25.27,18.95,"560","32 pp.",null,{"$f":"Table1[[#This Row],[QTY]]*Table1[[#This Row],['# of Books]]","v":0},{"$f":"Table1[[#This Row],[QTY]]*Table1[[#This Row],[School & Library Price]]","v":0}]
[null,null,28,"Dig Deep into Fossils","Digging Up Sea Creature Fossils",1,"eBook","978-1-9785-2173-5",null,"Enslow Publishing","2022","August 2021",null,"Author","Charlotte Taylor"," ",null,null,null,"N",null,"Grade 2 - 3","Grade 2 - 5","Sea creature fossils are particularly interesting because they're often found where there isn't any water. They give scientists insight into how Earth has changed over time and millions of years. Readers uncover some of the oldest sea creature fossils and find out how they formed, where they were found, and what they can tell us about the past, including where water once was and isn't anymore. Detailed photographs of these fossils correlate closely with accessible text and engage readers with eye-catching fossil examples.","English",25.27,18.95,"560","32 pp.",null,{"$f":"Table1[[#This Row],[QTY]]*Table1[[#This Row],['# of Books]]","v":0},{"$f":"Table1[[#This Row],[QTY]]*Table1[[#This Row],[School & Library Price]]","v":0}]
[null,null,29,"Native American Peoples","Native American Peoples",6,"Library Set","978-1-9785-2312-8",null,"Enslow Publishing","2022","August 2021","8.500 X 7.125",null,null," ",null,null,null,null,null,"Grade 2 - 3","Grade 2 - 5","Native American history is American history, and Native American culture is American culture. This important collection shines a spotlight on the rich heritage of native peoples of the Americas, including the Hopi, Shoshone, and Mohawk. Readers will appreciate the traditions of these and other native groups, and they will develop an admiration for the hard-fought survival of native cultures. Past and present issues are covered in each carefully researched volume. Fact boxes supply additional thought-provoking information. Features include: Historical images aid in the understanding of cultural topics, such as celebrations, clothing, housing, and art. Knowledge of native history and culture is a notable part of elementary social studies curricula. Topics relating to everyday life help readers connect their lives to the lives of native peoples of past and present.","English",151.62,113.7,null,"32 pp.",null,{"$f":"Table1[[#This Row],[QTY]]*Table1[[#This Row],['# of Books]]","v":0},{"$f":"Table1[[#This Row],[QTY]]*Table1[[#This Row],[School & Library Price]]","v":0}]
[null,null,29,"Native American Peoples","The Apache",1,"Library Bound Book","978-1-9785-2176-6",null,"Enslow Publishing","2022","August 2021","8.500 X 7.125","Author","John O'Mara"," ",null,null,null,"N",null,"Grade 2 - 3","Grade 2 - 5","The Apache people have shown great determination and resourcefulness throughout their history, which extends long before the arrival of Europeans in America. This fascinating volume provides readers with a look at the rich culture of this native people, both past and present, including the significant events that changed their traditional way of life forever. Prominent Apache leaders Cochise and Geronimo are included in the well-researched narrative. Carefully selected photographs and maps emphasize essential ideas about Apache history.","English",25.27,18.95,"979.0049725--dc23","32 pp.",null,{"$f":"Table1[[#This Row],[QTY]]*Table1[[#This Row],['# of Books]]","v":0},{"$f":"Table1[[#This Row],[QTY]]*Table1[[#This Row],[School & Library Price]]","v":0}]
[null,null,29,"Native American Peoples","The Apache",1,"eBook","978-1-9785-2177-3",null,"Enslow Publishing","2022","August 2021",null,"Author","John O'Mara"," ",null,null,null,"N",null,"Grade 2 - 3","Grade 2 - 5","The Apache people have shown great determination and resourcefulness throughout their history, which extends long before the arrival of Europeans in America. This fascinating volume provides readers with a look at the rich culture of this native people, both past and present, including the significant events that changed their traditional way of life forever. Prominent Apache leaders Cochise and Geronimo are included in the well-researched narrative. Carefully selected photographs and maps emphasize essential ideas about Apache history.","English",25.27,18.95,"979.0049725--dc23","32 pp.",null,{"$f":"Table1[[#This Row],[QTY]]*Table1[[#This Row],['# of Books]]","v":0},{"$f":"Table1[[#This Row],[QTY]]*Table1[[#This Row],[School & Library Price]]","v":0}]
[null,null,29,"Native American Peoples","The Cherokee",1,"Library Bound Book","978-1-9785-2180-3",null,"Enslow Publishing","2022","August 2021","8.500 X 7.125","Author","John O'Mara"," ",null,null,null,"N",null,"Grade 2 - 3","Grade 2 - 5","With more than 800,000 people claiming Cherokee descent, the Cherokee nation is the most populous native group in the United States today. Readers will find out where the Cherokee settled and the traditions that united them as a people. They will survey what happened when European settlers arrived on Cherokee land, with a special focus on the infamous Trail of Tears and its repercussions. This valuable volume highlights the Cherokee people's resilience in rebuilding and strengthening their culture on reservations and beyond.","English",25.27,18.95,"975.004/97557--dc23","32 pp.",null,{"$f":"Table1[[#This Row],[QTY]]*Table1[[#This Row],['# of Books]]","v":0},{"$f":"Table1[[#This Row],[QTY]]*Table1[[#This Row],[School & Library Price]]","v":0}]
[null,null,29,"Native American Peoples","The Cherokee",1,"eBook","978-1-9785-2181-0",null,"Enslow Publishing","2022","August 2021",null,"Author","John O'Mara"," ",null,null,null,"N",null,"Grade 2 - 3","Grade 2 - 5","With more than 800,000 people claiming Cherokee descent, the Cherokee nation is the most populous native group in the United States today. Readers will find out where the Cherokee settled and the traditions that united them as a people. They will survey what happened when European settlers arrived on Cherokee land, with a special focus on the infamous Trail of Tears and its repercussions. This valuable volume highlights the Cherokee people's resilience in rebuilding and strengthening their culture on reservations and beyond.","English",25.27,18.95,"975.004/97557--dc23","32 pp.",null,{"$f":"Table1[[#This Row],[QTY]]*Table1[[#This Row],['# of Books]]","v":0},{"$f":"Table1[[#This Row],[QTY]]*Table1[[#This Row],[School & Library Price]]","v":0}]
[null,null,29,"Native American Peoples","The Cheyenne",1,"Library Bound Book","978-1-9785-2184-1",null,"Enslow Publishing","2022","August 2021","8.500 X 7.125","Author","John O'Mara"," ",null,null,null,"N",null,"Grade 2 - 3","Grade 2 - 5","The Cheyenne began as farmers in the Great Lakes area, but migrated to the Plains where they became nomadic hunters. This remarkable people has seen great hardship and conflict throughout their past, including a role in the Battle of the Little Bighorn. Yet, an irrepressible spirit helped the culture survive to modern times. This noteworthy book focuses on this important native culture of which thousands of descendants still live in the United States. The accessible narrative includes an overview of Cheyenne history, their traditions, and their way of life in modern times.","English",25.27,18.95,"978.004/97353--dc23","32 pp.",null,{"$f":"Table1[[#This Row],[QTY]]*Table1[[#This Row],['# of Books]]","v":0},{"$f":"Table1[[#This Row],[QTY]]*Table1[[#This Row],[School & Library Price]]","v":0}]
[null,null,29,"Native American Peoples","The Cheyenne",1,"eBook","978-1-9785-2185-8",null,"Enslow Publishing","2022","August 2021",null,"Author","John O'Mara"," ",null,null,null,"N",null,"Grade 2 - 3","Grade 2 - 5","The Cheyenne began as farmers in the Great Lakes area, but migrated to the Plains where they became nomadic hunters. This remarkable people has seen great hardship and conflict throughout their past, including a role in the Battle of the Little Bighorn. Yet, an irrepressible spirit helped the culture survive to modern times. This noteworthy book focuses on this important native culture of which thousands of descendants still live in the United States. The accessible narrative includes an overview of Cheyenne history, their traditions, and their way of life in modern times.","English",25.27,18.95,"978.004/97353--dc23","32 pp.",null,{"$f":"Table1[[#This Row],[QTY]]*Table1[[#This Row],['# of Books]]","v":0},{"$f":"Table1[[#This Row],[QTY]]*Table1[[#This Row],[School & Library Price]]","v":0}]
[null,null,29,"Native American Peoples","The Hopi",1,"Library Bound Book","978-1-9785-2188-9",null,"Enslow Publishing","2022","August 2021","8.500 X 7.125","Author","John O'Mara"," ",null,null,null,"N",null,"Grade 2 - 3","Grade 2 - 5","The Hopi people settled a village in A.D. 1050, which is still inhabited today. This fascinating native group managed to successfully farm and herd in the hot deserts of the Southwest. Many people are captivated with Hopi culture, which endures despite years of discrimination and intolerance. This sensitive volume shines light on Hopi traditions, with spotlights on ceremonies, rituals, housing, and clothing. Historic photographs, descriptive text, and interesting fact boxes aid readers in making connections to these extraordinary people.","English",25.27,18.95,"979.1004/97458--dc23","32 pp.",null,{"$f":"Table1[[#This Row],[QTY]]*Table1[[#This Row],['# of Books]]","v":0},{"$f":"Table1[[#This Row],[QTY]]*Table1[[#This Row],[School & Library Price]]","v":0}]
[null,null,29,"Native American Peoples","The Hopi",1,"eBook","978-1-9785-2189-6",null,"Enslow Publishing","2022","August 2021",null,"Author","John O'Mara"," ",null,null,null,"N",null,"Grade 2 - 3","Grade 2 - 5","The Hopi people settled a village in A.D. 1050, which is still inhabited today. This fascinating native group managed to successfully farm and herd in the hot deserts of the Southwest. Many people are captivated with Hopi culture, which endures despite years of discrimination and intolerance. This sensitive volume shines light on Hopi traditions, with spotlights on ceremonies, rituals, housing, and clothing. Historic photographs, descriptive text, and interesting fact boxes aid readers in making connections to these extraordinary people.","English",25.27,18.95,"979.1004/97458--dc23","32 pp.",null,{"$f":"Table1[[#This Row],[QTY]]*Table1[[#This Row],['# of Books]]","v":0},{"$f":"Table1[[#This Row],[QTY]]*Table1[[#This Row],[School & Library Price]]","v":0}]
[null,null,29,"Native American Peoples","The Mohawk",1,"Library Bound Book","978-1-9785-2192-6",null,"Enslow Publishing","2022","August 2021","8.500 X 7.125","Author","John O'Mara"," ",null,null,null,"N",null,"Grade 2 - 3","Grade 2 - 5","The Mohawk were the easternmost peoples of the Haudenosaunee, or the Iroquois Confederacy. Like others in this group, they lived in longhouses of wood and bark and survived by hunting, fishing, and farming. This fact-filled book includes essential information about many aspects of Mohawk history, including treaties and wars, and Mohawk culture, such as language and clothing. Readers will learn about Mohawk people in modern history, such as their contribution to the construction of New York City. Historical images and fact boxes add further interest to the thought-provoking content.","English",25.27,18.95,"974.7004/975542--dc23","32 pp.",null,{"$f":"Table1[[#This Row],[QTY]]*Table1[[#This Row],['# of Books]]","v":0},{"$f":"Table1[[#This Row],[QTY]]*Table1[[#This Row],[School & Library Price]]","v":0}]
[null,null,29,"Native American Peoples","The Mohawk",1,"eBook","978-1-9785-2193-3",null,"Enslow Publishing","2022","August 2021",null,"Author","John O'Mara"," ",null,null,null,"N",null,"Grade 2 - 3","Grade 2 - 5","The Mohawk were the easternmost peoples of the Haudenosaunee, or the Iroquois Confederacy. Like others in this group, they lived in longhouses of wood and bark and survived by hunting, fishing, and farming. This fact-filled book includes essential information about many aspects of Mohawk history, including treaties and wars, and Mohawk culture, such as language and clothing. Readers will learn about Mohawk people in modern history, such as their contribution to the construction of New York City. Historical images and fact boxes add further interest to the thought-provoking content.","English",25.27,18.95,"974.7004/975542--dc23","32 pp.",null,{"$f":"Table1[[#This Row],[QTY]]*Table1[[#This Row],['# of Books]]","v":0},{"$f":"Table1[[#This Row],[QTY]]*Table1[[#This Row],[School & Library Price]]","v":0}]
[null,null,29,"Native American Peoples","The Shoshone",1,"Library Bound Book","978-1-9785-2196-4",null,"Enslow Publishing","2022","August 2021","8.500 X 7.125","Author","John O'Mara"," ",null,null,null,"N",null,"Grade 2 - 3","Grade 2 - 5","Before European explorers arrived in the Americas, the Shoshone lived in present-day Idaho, Wyoming, Utah, California, and Nevada. Readers of this accessible history will appreciate learning what everyday life was like for this nomadic people and how western expansion in the United States changed that way of life forever. They'll follow the Shoshone onto reservations and into modern times, discovering how they've kept their vibrant culture alive. Historic images and fact boxes enhance the curriculum-supporting content.","English",25.27,18.95,"978.004/974574--dc23","32 pp.",null,{"$f":"Table1[[#This Row],[QTY]]*Table1[[#This Row],['# of Books]]","v":0},{"$f":"Table1[[#This Row],[QTY]]*Table1[[#This Row],[School & Library Price]]","v":0}]
[null,null,29,"Native American Peoples","The Shoshone",1,"eBook","978-1-9785-2197-1",null,"Enslow Publishing","2022","August 2021",null,"Author","John O'Mara"," ",null,null,null,"N",null,"Grade 2 - 3","Grade 2 - 5","Before European explorers arrived in the Americas, the Shoshone lived in present-day Idaho, Wyoming, Utah, California, and Nevada. Readers of this accessible history will appreciate learning what everyday life was like for this nomadic people and how western expansion in the United States changed that way of life forever. They'll follow the Shoshone onto reservations and into modern times, discovering how they've kept their vibrant culture alive. Historic images and fact boxes enhance the curriculum-supporting content.","English",25.27,18.95,"978.004/974574--dc23","32 pp.",null,{"$f":"Table1[[#This Row],[QTY]]*Table1[[#This Row],['# of Books]]","v":0},{"$f":"Table1[[#This Row],[QTY]]*Table1[[#This Row],[School & Library Price]]","v":0}]
[null,31,30,"Force of Nature","Force of Nature",6,"Library Set","978-1-9785-1876-6",{"$f":"HYPERLINK(Table1[[#This Row],[Hyperlink]],\"Weblink\")","v":"Weblink"},"Enslow Publishing","2021","January 2021","7.250 X 9.250",null,null," ",null,null,null,null,null,"Grade 4 - 5","Grade 4 - 6","There's nothing scarier than an oncoming storm or sudden disaster that could knock out the power, flood the streets, or worse, cause harm to health, home, and property. Yet there is some comfort in understanding why and how these storms and disasters occur. Readers find out the science behind these forces of nature with this thrilling set, which also includes descriptions of the worst storms and disasters in history. How human activities affect the frequency of storms and disasters is discussed. Features include: Offers actionable advice on storm and disaster preparedness. Supports the Earth science curriculum. Emphasizes an understanding of climate change and its effects.","English",167.58,125.7,null,"48 pp.","https://www.enslow.com/series/force_of_nature/491355",{"$f":"Table1[[#This Row],[QTY]]*Table1[[#This Row],['# of Books]]","v":0},{"$f":"Table1[[#This Row],[QTY]]*Table1[[#This Row],[School & Library Price]]","v":0}]
[null,31,30,"Force of Nature","Blizzards",1,"Library Bound Book","978-1-9785-1837-7",{"$f":"HYPERLINK(Table1[[#This Row],[Hyperlink]],\"Weblink\")","v":"Weblink"},"Enslow Publishing","2021","January 2021","7.250 X 9.250","Author","Monika Davies"," ",null,null,null,"S",null,"Grade 4 - 5","Grade 4 - 6","Blizzards bring blinding snow, major wind gusts, and treacherous ice to many parts of the world. All of these create dangerous challenges and demonstrate nature's power. This book introduces readers to the conditions that cause blizzards to form and will familiarize students with the most extreme blizzards in history. Safety and survival techniques are explained. With striking photographs of record snowfalls and engaging facts about the incredible destruction blizzards cause, this book will captivate readers as they explore Earth science curricula content.","English",27.93,20.95,"551.55/5--dc23","48 pp.","https://www.enslow.com/books/Blizzards/422229",{"$f":"Table1[[#This Row],[QTY]]*Table1[[#This Row],['# of Books]]","v":0},{"$f":"Table1[[#This Row],[QTY]]*Table1[[#This Row],[School & Library Price]]","v":0}]
[null,31,30,"Force of Nature","Blizzards",1,"eBook","978-1-9785-1838-4",{"$f":"HYPERLINK(Table1[[#This Row],[Hyperlink]],\"Weblink\")","v":"Weblink"},"Enslow Publishing","2021","January 2021",null,"Author","Monika Davies"," ",null,null,null,"S",null,"Grade 4 - 5","Grade 4 - 6","Blizzards bring blinding snow, major wind gusts, and treacherous ice to many parts of the world. All of these create dangerous challenges and demonstrate nature's power. This book introduces readers to the conditions that cause blizzards to form and will familiarize students with the most extreme blizzards in history. Safety and survival techniques are explained. With striking photographs of record snowfalls and engaging facts about the incredible destruction blizzards cause, this book will captivate readers as they explore Earth science curricula content.","English",27.93,20.95,"551.55/5--dc23","48 pp.","https://www.enslow.com/books/Blizzards/422229",{"$f":"Table1[[#This Row],[QTY]]*Table1[[#This Row],['# of Books]]","v":0},{"$f":"Table1[[#This Row],[QTY]]*Table1[[#This Row],[School & Library Price]]","v":0}]
[null,31,30,"Force of Nature","Earthquakes",1,"Library Bound Book","978-1-9785-1840-7",{"$f":"HYPERLINK(Table1[[#This Row],[Hyperlink]],\"Weblink\")","v":"Weblink"},"Enslow Publishing","2021","January 2021","7.250 X 9.250","Author","Monika Davies"," ",null,null,null,"S",null,"Grade 4 - 5","Grade 4 - 6","Earthquakes have the power to significantly change landscapes and destroy massive buildings. Although they are still difficult to predict, seismologists have an in-depth understanding of where earthquakes are most likely to strike. Readers will learn about how plate tectonics, seismic waves, and faults can all play a role in unleashing an earthquake's destructive forces. Striking photographs of historic earthquakes will help readers understand the deadly damage these disasters cause. Readers will gain essential knowledge about how they can prepare and stay safe if they must deal with this incredibly powerful natural event.","English",27.93,20.95,"551.22--dc23","48 pp.","https://www.enslow.com/books/Earthquakes/422230",{"$f":"Table1[[#This Row],[QTY]]*Table1[[#This Row],['# of Books]]","v":0},{"$f":"Table1[[#This Row],[QTY]]*Table1[[#This Row],[School & Library Price]]","v":0}]
[null,31,30,"Force of Nature","Earthquakes",1,"eBook","978-1-9785-1841-4",{"$f":"HYPERLINK(Table1[[#This Row],[Hyperlink]],\"Weblink\")","v":"Weblink"},"Enslow Publishing","2021","January 2021",null,"Author","Monika Davies"," ",null,null,null,"S",null,"Grade 4 - 5","Grade 4 - 6","Earthquakes have the power to significantly change landscapes and destroy massive buildings. Although they are still difficult to predict, seismologists have an in-depth understanding of where earthquakes are most likely to strike. Readers will learn about how plate tectonics, seismic waves, and faults can all play a role in unleashing an earthquake's destructive forces. Striking photographs of historic earthquakes will help readers understand the deadly damage these disasters cause. Readers will gain essential knowledge about how they can prepare and stay safe if they must deal with this incredibly powerful natural event.","English",27.93,20.95,"551.22--dc23","48 pp.","https://www.enslow.com/books/Earthquakes/422230",{"$f":"Table1[[#This Row],[QTY]]*Table1[[#This Row],['# of Books]]","v":0},{"$f":"Table1[[#This Row],[QTY]]*Table1[[#This Row],[School & Library Price]]","v":0}]
[null,31,30,"Force of Nature","Floods",1,"Library Bound Book","978-1-9785-1843-8",{"$f":"HYPERLINK(Table1[[#This Row],[Hyperlink]],\"Weblink\")","v":"Weblink"},"Enslow Publishing","2021","January 2021","7.250 X 9.250","Author","Monika Davies"," ",null,null,null,"S",null,"Grade 4 - 5","Grade 4 - 6","Floods can transform normally dry areas into dangerous, rushing rapids with hardly any warning. Spectacular photographs will make readers feel immersed in the power of these natural disasters that can cost more than 1 billion dollars to clean up. Readers learn floods can happen nearly everywhere, even in deserts. Engaging scientific facts that align with Earth science curricula help readers learn about what causes these disasters, from the first formation of rain clouds to rapidly rising water during flash floods. Safety measures are presented to empower readers to deal with this destructive natural event in person.","English",27.93,20.95,"551.48'9--dc23","48 pp.","https://www.enslow.com/books/Floods/422231",{"$f":"Table1[[#This Row],[QTY]]*Table1[[#This Row],['# of Books]]","v":0},{"$f":"Table1[[#This Row],[QTY]]*Table1[[#This Row],[School & Library Price]]","v":0}]
[null,31,30,"Force of Nature","Floods",1,"eBook","978-1-9785-1844-5",{"$f":"HYPERLINK(Table1[[#This Row],[Hyperlink]],\"Weblink\")","v":"Weblink"},"Enslow Publishing","2021","January 2021",null,"Author","Monika Davies"," ",null,null,null,"S",null,"Grade 4 - 5","Grade 4 - 6","Floods can transform normally dry areas into dangerous, rushing rapids with hardly any warning. Spectacular photographs will make readers feel immersed in the power of these natural disasters that can cost more than 1 billion dollars to clean up. Readers learn floods can happen nearly everywhere, even in deserts. Engaging scientific facts that align with Earth science curricula help readers learn about what causes these disasters, from the first formation of rain clouds to rapidly rising water during flash floods. Safety measures are presented to empower readers to deal with this destructive natural event in person.","English",27.93,20.95,"551.48'9--dc23","48 pp.","https://www.enslow.com/books/Floods/422231",{"$f":"Table1[[#This Row],[QTY]]*Table1[[#This Row],['# of Books]]","v":0},{"$f":"Table1[[#This Row],[QTY]]*Table1[[#This Row],[School & Library Price]]","v":0}]
[null,31,30,"Force of Nature","Hurricanes",1,"Library Bound Book","978-1-9785-1846-9",{"$f":"HYPERLINK(Table1[[#This Row],[Hyperlink]],\"Weblink\")","v":"Weblink"},"Enslow Publishing","2021","January 2021","7.250 X 9.250","Author","Monika Davies"," ",null,null,null,"S",null,"Grade 4 - 5","Grade 4 - 6","With wind speeds that can reach more than 150 miles per hour, full-blown hurricanes can uproot giant trees, cause major power outages, and inundate areas with immense amounts of rain. This engaging book will educate readers on the science behind how hurricanes form and why they can be so dangerous. Readers will also gain life-saving knowledge on ways to stay safe if they ever have to deal with this natural disaster that can quickly become deadly.","English",27.93,20.95,"551.55'2--dc23","48 pp.","https://www.enslow.com/books/Hurricanes/422232",{"$f":"Table1[[#This Row],[QTY]]*Table1[[#This Row],['# of Books]]","v":0},{"$f":"Table1[[#This Row],[QTY]]*Table1[[#This Row],[School & Library Price]]","v":0}]
[null,31,30,"Force of Nature","Hurricanes",1,"eBook","978-1-9785-1847-6",{"$f":"HYPERLINK(Table1[[#This Row],[Hyperlink]],\"Weblink\")","v":"Weblink"},"Enslow Publishing","2021","January 2021",null,"Author","Monika Davies"," ",null,null,null,"S",null,"Grade 4 - 5","Grade 4 - 6","With wind speeds that can reach more than 150 miles per hour, full-blown hurricanes can uproot giant trees, cause major power outages, and inundate areas with immense amounts of rain. This engaging book will educate readers on the science behind how hurricanes form and why they can be so dangerous. Readers will also gain life-saving knowledge on ways to stay safe if they ever have to deal with this natural disaster that can quickly become deadly.","English",27.93,20.95,"551.55'2--dc23","48 pp.","https://www.enslow.com/books/Hurricanes/422232",{"$f":"Table1[[#This Row],[QTY]]*Table1[[#This Row],['# of Books]]","v":0},{"$f":"Table1[[#This Row],[QTY]]*Table1[[#This Row],[School & Library Price]]","v":0}]
[null,31,30,"Force of Nature","Tornadoes",1,"Library Bound Book","978-1-9785-1849-0",{"$f":"HYPERLINK(Table1[[#This Row],[Hyperlink]],\"Weblink\")","v":"Weblink"},"Enslow Publishing","2021","January 2021","7.250 X 9.250","Author","Monika Davies"," ",null,null,null,"S",null,"Grade 4 - 5","Grade 4 - 6","Tornadoes can strike quickly nearly anywhere on Earth, unleashing deadly winds and damaging hail. The United States has more tornadoes each year than any other country. This book teaches young readers about how these swirling storms form. The engaging nonfiction narrative helps readers understand life-saving ways to prepare and stay safe if a tornado warning is issued in their area. With astonishing photographs and remarkable facts that follow Earth science curricula, this book will keep young readers engaged and impressed by Earth's power.","English",27.93,20.95,"551.55/3--dc23","48 pp.","https://www.enslow.com/books/Tornadoes/422233",{"$f":"Table1[[#This Row],[QTY]]*Table1[[#This Row],['# of Books]]","v":0},{"$f":"Table1[[#This Row],[QTY]]*Table1[[#This Row],[School & Library Price]]","v":0}]
[null,31,30,"Force of Nature","Tornadoes",1,"eBook","978-1-9785-1850-6",{"$f":"HYPERLINK(Table1[[#This Row],[Hyperlink]],\"Weblink\")","v":"Weblink"},"Enslow Publishing","2021","January 2021",null,"Author","Monika Davies"," ",null,null,null,"S",null,"Grade 4 - 5","Grade 4 - 6","Tornadoes can strike quickly nearly anywhere on Earth, unleashing deadly winds and damaging hail. The United States has more tornadoes each year than any other country. This book teaches young readers about how these swirling storms form. The engaging nonfiction narrative helps readers understand life-saving ways to prepare and stay safe if a tornado warning is issued in their area. With astonishing photographs and remarkable facts that follow Earth science curricula, this book will keep young readers engaged and impressed by Earth's power.","English",27.93,20.95,"551.55/3--dc23","48 pp.","https://www.enslow.com/books/Tornadoes/422233",{"$f":"Table1[[#This Row],[QTY]]*Table1[[#This Row],['# of Books]]","v":0},{"$f":"Table1[[#This Row],[QTY]]*Table1[[#This Row],[School & Library Price]]","v":0}]
[null,31,30,"Force of Nature","Tsunamis",1,"Library Bound Book","978-1-9785-1852-0",{"$f":"HYPERLINK(Table1[[#This Row],[Hyperlink]],\"Weblink\")","v":"Weblink"},"Enslow Publishing","2021","January 2021","7.250 X 9.250","Author","Monika Davies"," ",null,null,null,"S",null,"Grade 4 - 5","Grade 4 - 6","A tsunami is a series of powerful sea waves that can travel as fast as a commercial jet and sweep people and even buildings away. With approachable text, fascinating sidebars, and diagrams that provide a memorable introduction to Earth science curricula, students will learn about the natural forces that cause these dangerous waves to form. Vivid photographs will keep readers captivated as they learn about the destruction that the worst tsunamis in history caused. Students will learn how scientific research is helping people find better ways to prepare for this dangerous natural disaster.","English",27.93,20.95,"551.46/37--dc23","48 pp.","https://www.enslow.com/books/Tsunamis/422234",{"$f":"Table1[[#This Row],[QTY]]*Table1[[#This Row],['# of Books]]","v":0},{"$f":"Table1[[#This Row],[QTY]]*Table1[[#This Row],[School & Library Price]]","v":0}]
[null,31,30,"Force of Nature","Tsunamis",1,"eBook","978-1-9785-1853-7",{"$f":"HYPERLINK(Table1[[#This Row],[Hyperlink]],\"Weblink\")","v":"Weblink"},"Enslow Publishing","2021","January 2021",null,"Author","Monika Davies"," ",null,null,null,"S",null,"Grade 4 - 5","Grade 4 - 6","A tsunami is a series of powerful sea waves that can travel as fast as a commercial jet and sweep people and even buildings away. With approachable text, fascinating sidebars, and diagrams that provide a memorable introduction to Earth science curricula, students will learn about the natural forces that cause these dangerous waves to form. Vivid photographs will keep readers captivated as they learn about the destruction that the worst tsunamis in history caused. Students will learn how scientific research is helping people find better ways to prepare for this dangerous natural disaster.","English",27.93,20.95,"551.46/37--dc23","48 pp.","https://www.enslow.com/books/Tsunamis/422234",{"$f":"Table1[[#This Row],[QTY]]*Table1[[#This Row],['# of Books]]","v":0},{"$f":"Table1[[#This Row],[QTY]]*Table1[[#This Row],[School & Library Price]]","v":0}]
[null,null,31,"In My Gallery","In My Gallery",6,"Library Set","978-1-9785-2523-8",null,"Enslow Publishing","2022","August 2021","8.500 X 8.500",null,null," ",null,null,null,null,null,"Grade 4 - 5","Grade 4 - 6","There are so many different kinds of art, it’s hard to know where to start if you want to learn more! This set is just where to send budding artists and art lovers with its understandable overview of cubism, impressionism, contemporary art, pop art, post-impressionism, and surrealism. Inside each book, readers find information about the most famous artists of each era as well as their famous works. Then, readers have a chance to recreate each artistic style with their own twist!","English",135.6,101.7,null,"24 pp.",null,{"$f":"Table1[[#This Row],[QTY]]*Table1[[#This Row],['# of Books]]","v":0},{"$f":"Table1[[#This Row],[QTY]]*Table1[[#This Row],[School & Library Price]]","v":0}]
[null,null,31,"In My Gallery","Contemporary Art",1,"Library Bound Book","978-1-9785-2405-7",null,"Enslow Publishing","2022","August 2021","8.500 X 8.500","Author","Emilie Dufresne"," ",null,null,null,"P",null,"Grade 4 - 5","Grade 4 - 6","Contemporary art includes a lot of recent art movements, including some types of performance art and even Banksy! This book introduces readers to both the concepts of contemporary art as well as defining what a museum and gallery are and who some of the most famous figures are in the art movement. Activities following each artist profile encourage readers to try out different kinds of contemporary art for themselves! Combining the disciplines of art and history, this book helps students connect with creativity as well as historical concepts.","English",22.6,16.95,"709.04","24 pp.",null,{"$f":"Table1[[#This Row],[QTY]]*Table1[[#This Row],['# of Books]]","v":0},{"$f":"Table1[[#This Row],[QTY]]*Table1[[#This Row],[School & Library Price]]","v":0}]
[null,null,31,"In My Gallery","Contemporary Art",1,"eBook","978-1-9785-2406-4",null,"Enslow Publishing","2022","August 2021",null,"Author","Emilie Dufresne"," ",null,null,null,"P",null,"Grade 4 - 5","Grade 4 - 6","Contemporary art includes a lot of recent art movements, including some types of performance art and even Banksy! This book introduces readers to both the concepts of contemporary art as well as defining what a museum and gallery are and who some of the most famous figures are in the art movement. Activities following each artist profile encourage readers to try out different kinds of contemporary art for themselves! Combining the disciplines of art and history, this book helps students connect with creativity as well as historical concepts.","English",22.6,16.95,"709.04","24 pp.",null,{"$f":"Table1[[#This Row],[QTY]]*Table1[[#This Row],['# of Books]]","v":0},{"$f":"Table1[[#This Row],[QTY]]*Table1[[#This Row],[School & Library Price]]","v":0}]
[null,null,31,"In My Gallery","Cubism",1,"Library Bound Book","978-1-9785-2409-5",null,"Enslow Publishing","2022","August 2021","8.500 X 8.500","Author","Emilie Dufresne"," ",null,null,null,"P",null,"Grade 4 - 5","Grade 4 - 6","The most famous cubist is Pablo Picasso. But, his work isn’t the entirety of this fascinating art movement! Readers are introduced to Picasso as well as Juan Gris, Georges Braque, and others who shaped cubism in this fantastic volume. Guided by a friendly gallery owner, readers find out more about the difference between a gallery and a museum as they learn what exactly makes up cubism. Most importantly, they’re invited to create their own cubist-inspired masterpieces in a series of creative activities.","English",22.6,16.95,"709.04’032","24 pp.",null,{"$f":"Table1[[#This Row],[QTY]]*Table1[[#This Row],['# of Books]]","v":0},{"$f":"Table1[[#This Row],[QTY]]*Table1[[#This Row],[School & Library Price]]","v":0}]
[null,null,31,"In My Gallery","Cubism",1,"eBook","978-1-9785-2410-1",null,"Enslow Publishing","2022","August 2021",null,"Author","Emilie Dufresne"," ",null,null,null,"P",null,"Grade 4 - 5","Grade 4 - 6","The most famous cubist is Pablo Picasso. But, his work isn’t the entirety of this fascinating art movement! Readers are introduced to Picasso as well as Juan Gris, Georges Braque, and others who shaped cubism in this fantastic volume. Guided by a friendly gallery owner, readers find out more about the difference between a gallery and a museum as they learn what exactly makes up cubism. Most importantly, they’re invited to create their own cubist-inspired masterpieces in a series of creative activities.","English",22.6,16.95,"709.04’032","24 pp.",null,{"$f":"Table1[[#This Row],[QTY]]*Table1[[#This Row],['# of Books]]","v":0},{"$f":"Table1[[#This Row],[QTY]]*Table1[[#This Row],[School & Library Price]]","v":0}]
[null,null,31,"In My Gallery","Impressionism",1,"Library Bound Book","978-1-9785-2413-2",null,"Enslow Publishing","2022","August 2021","8.500 X 8.500","Author","Emilie Dufresne"," ",null,null,null,"P",null,"Grade 4 - 5","Grade 4 - 6","To many, impressionist painters are the best known. From Edgar Degas to Mary Cassatt, the impressionists created beautiful works that are found in museums all over the world—and even more prints of them are found in homes! This book profiles some of these big-name impressionists and shows their famous pieces. Guided by a friendly gallery worker, readers investigate what features one finds in impressionist works as well as the differences between a gallery and a museum. Activities throughout the book encourage readers to try their hand at impressionist techniques and ideas.","English",22.6,16.95,"709.03’44","24 pp.",null,{"$f":"Table1[[#This Row],[QTY]]*Table1[[#This Row],['# of Books]]","v":0},{"$f":"Table1[[#This Row],[QTY]]*Table1[[#This Row],[School & Library Price]]","v":0}]
[null,null,31,"In My Gallery","Impressionism",1,"eBook","978-1-9785-2414-9",null,"Enslow Publishing","2022","August 2021",null,"Author","Emilie Dufresne"," ",null,null,null,"P",null,"Grade 4 - 5","Grade 4 - 6","To many, impressionist painters are the best known. From Edgar Degas to Mary Cassatt, the impressionists created beautiful works that are found in museums all over the world—and even more prints of them are found in homes! This book profiles some of these big-name impressionists and shows their famous pieces. Guided by a friendly gallery worker, readers investigate what features one finds in impressionist works as well as the differences between a gallery and a museum. Activities throughout the book encourage readers to try their hand at impressionist techniques and ideas.","English",22.6,16.95,"709.03’44","24 pp.",null,{"$f":"Table1[[#This Row],[QTY]]*Table1[[#This Row],['# of Books]]","v":0},{"$f":"Table1[[#This Row],[QTY]]*Table1[[#This Row],[School & Library Price]]","v":0}]
[null,null,31,"In My Gallery","Pop Art",1,"Library Bound Book","978-1-9785-2417-0",null,"Enslow Publishing","2022","August 2021","8.500 X 8.500","Author","Emilie Dufresne"," ",null,null,null,"P",null,"Grade 4 - 5","Grade 4 - 6","Andy Warhol’s Cambell’s soup cans and bananas grace t-shirts, handbags, and posters all over the world. Roy Lichtenstein’s unique style has influence countless artists of all kinds. This is pop art! One of the most fascinating art movements in history, the techniques and personalities of artists will engage readers from their first look. A friendly gallery worker guides readers through the specifics of pop art as well as what an art gallery is. Fun activities invite readers to try out famous pop artists’ techniques for themselves.","English",22.6,16.95,"709.04’071","24 pp.",null,{"$f":"Table1[[#This Row],[QTY]]*Table1[[#This Row],['# of Books]]","v":0},{"$f":"Table1[[#This Row],[QTY]]*Table1[[#This Row],[School & Library Price]]","v":0}]
[null,null,31,"In My Gallery","Pop Art",1,"eBook","978-1-9785-2418-7",null,"Enslow Publishing","2022","August 2021",null,"Author","Emilie Dufresne"," ",null,null,null,"P",null,"Grade 4 - 5","Grade 4 - 6","Andy Warhol’s Cambell’s soup cans and bananas grace t-shirts, handbags, and posters all over the world. Roy Lichtenstein’s unique style has influence countless artists of all kinds. This is pop art! One of the most fascinating art movements in history, the techniques and personalities of artists will engage readers from their first look. A friendly gallery worker guides readers through the specifics of pop art as well as what an art gallery is. Fun activities invite readers to try out famous pop artists’ techniques for themselves.","English",22.6,16.95,"709.04’071","24 pp.",null,{"$f":"Table1[[#This Row],[QTY]]*Table1[[#This Row],['# of Books]]","v":0},{"$f":"Table1[[#This Row],[QTY]]*Table1[[#This Row],[School & Library Price]]","v":0}]
[null,null,31,"In My Gallery","Post-Impressionism",1,"Library Bound Book","978-1-9785-2421-7",null,"Enslow Publishing","2022","August 2021","8.500 X 8.500","Author","Emilie Dufresne"," ",null,null,null,"P",null,"Grade 4 - 5","Grade 4 - 6","The work of post-impressionists is some of the best known art in the world. Vincent van Goh was a post-impressionist painter, and so was Paul Cézanne! Readers learn all about these famous post-impressionists in this book alongside a friendly gallery worker guide. The main features and techniques of post-impressionism are covered, and activities help readers create their own post-impressionist masterpieces! Including examples of famous post-impressionist works, an explanation of what an art gallery is, and a quiz to aid in comprehension, this book is a great introduction to an important movement in art history.","English",22.6,16.95,"759.05’6","24 pp.",null,{"$f":"Table1[[#This Row],[QTY]]*Table1[[#This Row],['# of Books]]","v":0},{"$f":"Table1[[#This Row],[QTY]]*Table1[[#This Row],[School & Library Price]]","v":0}]
[null,null,31,"In My Gallery","Post-Impressionism",1,"eBook","978-1-9785-2422-4",null,"Enslow Publishing","2022","August 2021",null,"Author","Emilie Dufresne"," ",null,null,null,"P",null,"Grade 4 - 5","Grade 4 - 6","The work of post-impressionists is some of the best known art in the world. Vincent van Goh was a post-impressionist painter, and so was Paul Cézanne! Readers learn all about these famous post-impressionists in this book alongside a friendly gallery worker guide. The main features and techniques of post-impressionism are covered, and activities help readers create their own post-impressionist masterpieces! Including examples of famous post-impressionist works, an explanation of what an art gallery is, and a quiz to aid in comprehension, this book is a great introduction to an important movement in art history.","English",22.6,16.95,"759.05’6","24 pp.",null,{"$f":"Table1[[#This Row],[QTY]]*Table1[[#This Row],['# of Books]]","v":0},{"$f":"Table1[[#This Row],[QTY]]*Table1[[#This Row],[School & Library Price]]","v":0}]
[null,null,31,"In My Gallery","Surrealism",1,"Library Bound Book","978-1-9785-2425-5",null,"Enslow Publishing","2022","August 2021","8.500 X 8.500","Author","Emilie Dufresne"," ",null,null,null,"P",null,"Grade 4 - 5","Grade 4 - 6","What exactly is surrealism? It’s an art movement that began in the 1920s after World War I. It looked nothing like art that had been made before it and reflected the artists’ imaginations more than the real world. In this book, A friendly gallery worker guides readers through the unique art movement as well as explaining the difference between a museum and a gallery and offering profiles of the most famous surrealists, such as Salvador Dalí. In addition, fun art activities encourage readers to try different surrealist techniques and ideas in artwork of their own.","English",22.6,16.95,"709.04’063","24 pp.",null,{"$f":"Table1[[#This Row],[QTY]]*Table1[[#This Row],['# of Books]]","v":0},{"$f":"Table1[[#This Row],[QTY]]*Table1[[#This Row],[School & Library Price]]","v":0}]
[null,null,31,"In My Gallery","Surrealism",1,"eBook","978-1-9785-2426-2",null,"Enslow Publishing","2022","August 2021",null,"Author","Emilie Dufresne"," ",null,null,null,"P",null,"Grade 4 - 5","Grade 4 - 6","What exactly is surrealism? It’s an art movement that began in the 1920s after World War I. It looked nothing like art that had been made before it and reflected the artists’ imaginations more than the real world. In this book, A friendly gallery worker guides readers through the unique art movement as well as explaining the difference between a museum and a gallery and offering profiles of the most famous surrealists, such as Salvador Dalí. In addition, fun art activities encourage readers to try different surrealist techniques and ideas in artwork of their own.","English",22.6,16.95,"709.04’063","24 pp.",null,{"$f":"Table1[[#This Row],[QTY]]*Table1[[#This Row],['# of Books]]","v":0},{"$f":"Table1[[#This Row],[QTY]]*Table1[[#This Row],[School & Library Price]]","v":0}]
[null,null,32,"Let's Celebrate with Origami","Let's Celebrate with Origami",6,"Library Set","978-1-9785-2524-5",null,"Enslow Publishing","2022","August 2021","8.500 X 11.00",null,null," ",null,null,null,null,null,"Grade 3","Grade 2 - 5","One of the most fun ways to celebrate the holidays is with crafts, and origami projects make great holiday decorations and gift ideas. Young readers learn the popular art of paper folding through clear instructions that break down basic techniques and guide them through a variety of exciting activities. Helpful visual examples of each step are included, along with eye-catching boxes that feature the materials needed for each project. From Thanksgiving turkeys and Christmas trees to menorahs for Hanukkah and bats for Halloween, readers are sure to enjoy these origami projects designed to make special days feel even more festive.","English",151.62,113.7,null,"32 pp.",null,{"$f":"Table1[[#This Row],[QTY]]*Table1[[#This Row],['# of Books]]","v":0},{"$f":"Table1[[#This Row],[QTY]]*Table1[[#This Row],[School & Library Price]]","v":0}]
[null,null,32,"Let's Celebrate with Origami","Let's Celebrate with Christmas and Hanukkah Origami",1,"Library Bound Book","978-1-9785-2497-2",null,"Enslow Publishing","2022","August 2021","8.500 X 11.00","Author","Ruth Owen"," ",null,null,null,"M",null,"Grade 3","Grade 2 - 5","Christmas and Hanukkah light up the winter with festive celebrations, and readers learn how to add to the fun with their own origami crafts. This multicultural guide to popular holidays introduces readers to a variety of paper folding projects, including Christmas cards, Santa Claus, a menorah, and a dreidel. Clear, step-by-step instructions with visual examples help readers master each project, and helpful tips and materials lists ensure they’re prepared before they begin. In addition, fun facts about the history behind these holidays are presented throughout, allowing readers to learn as they play.","English",25.27,18.95,"736’.982","32 pp.",null,{"$f":"Table1[[#This Row],[QTY]]*Table1[[#This Row],['# of Books]]","v":0},{"$f":"Table1[[#This Row],[QTY]]*Table1[[#This Row],[School & Library Price]]","v":0}]
[null,null,32,"Let's Celebrate with Origami","Let's Celebrate with Christmas and Hanukkah Origami",1,"eBook","978-1-9785-2498-9",null,"Enslow Publishing","2022","August 2021",null,"Author","Ruth Owen"," ",null,null,null,"M",null,"Grade 3","Grade 2 - 5","Christmas and Hanukkah light up the winter with festive celebrations, and readers learn how to add to the fun with their own origami crafts. This multicultural guide to popular holidays introduces readers to a variety of paper folding projects, including Christmas cards, Santa Claus, a menorah, and a dreidel. Clear, step-by-step instructions with visual examples help readers master each project, and helpful tips and materials lists ensure they’re prepared before they begin. In addition, fun facts about the history behind these holidays are presented throughout, allowing readers to learn as they play.","English",25.27,18.95,"736’.982","32 pp.",null,{"$f":"Table1[[#This Row],[QTY]]*Table1[[#This Row],['# of Books]]","v":0},{"$f":"Table1[[#This Row],[QTY]]*Table1[[#This Row],[School & Library Price]]","v":0}]
[null,null,32,"Let's Celebrate with Origami","Let's Celebrate with Easter Origami",1,"Library Bound Book","978-1-9785-2501-6",null,"Enslow Publishing","2022","August 2021","8.500 X 11.00","Author","Ruth Owen"," ",null,null,null,"M",null,"Grade 3","Grade 2 - 5","Easter is a colorful holiday, which makes it perfect for the bright and beautiful art of origami. As readers learn fun facts about popular Easter symbols, such as eggs and bunnies, they also learn how to make them using folded and creased paper. Each project is broken down into easy-to-follow steps that are accompanied by visual examples and explained using encouraging text. In addition, helpful tips and materials lists prepare readers for these projects and ensure they have fun making Easter decorations and gifts to give to family and friends.","English",25.27,18.95,"736’.982","32 pp.",null,{"$f":"Table1[[#This Row],[QTY]]*Table1[[#This Row],['# of Books]]","v":0},{"$f":"Table1[[#This Row],[QTY]]*Table1[[#This Row],[School & Library Price]]","v":0}]
[null,null,32,"Let's Celebrate with Origami","Let's Celebrate with Easter Origami",1,"eBook","978-1-9785-2502-3",null,"Enslow Publishing","2022","August 2021",null,"Author","Ruth Owen"," ",null,null,null,"M",null,"Grade 3","Grade 2 - 5","Easter is a colorful holiday, which makes it perfect for the bright and beautiful art of origami. As readers learn fun facts about popular Easter symbols, such as eggs and bunnies, they also learn how to make them using folded and creased paper. Each project is broken down into easy-to-follow steps that are accompanied by visual examples and explained using encouraging text. In addition, helpful tips and materials lists prepare readers for these projects and ensure they have fun making Easter decorations and gifts to give to family and friends.","English",25.27,18.95,"736’.982","32 pp.",null,{"$f":"Table1[[#This Row],[QTY]]*Table1[[#This Row],['# of Books]]","v":0},{"$f":"Table1[[#This Row],[QTY]]*Table1[[#This Row],[School & Library Price]]","v":0}]
[null,null,32,"Let's Celebrate with Origami","Let's Celebrate with Halloween Origami",1,"Library Bound Book","978-1-9785-2505-4",null,"Enslow Publishing","2022","August 2021","8.500 X 11.00","Author","Ruth Owen"," ",null,null,null,"M",null,"Grade 3","Grade 2 - 5","Readers are sure to have a frighteningly fun time making Halloween crafts when they follow this spooky guide to origami. Witches, ghosts, and black cats are just some of the fun paper folding projects to be found. Readers can even make their own chilling monster claws! The step-by-step instructions are supplemented by helpful visual examples, and important tips and materials lists help readers prepare for their projects. Fun facts about Halloween are also included, making this both an educational reading experience and an artistic adventure.","English",25.27,18.95,"736’.982","32 pp.",null,{"$f":"Table1[[#This Row],[QTY]]*Table1[[#This Row],['# of Books]]","v":0},{"$f":"Table1[[#This Row],[QTY]]*Table1[[#This Row],[School & Library Price]]","v":0}]
[null,null,32,"Let's Celebrate with Origami","Let's Celebrate with Halloween Origami",1,"eBook","978-1-9785-2506-1",null,"Enslow Publishing","2022","August 2021",null,"Author","Ruth Owen"," ",null,null,null,"M",null,"Grade 3","Grade 2 - 5","Readers are sure to have a frighteningly fun time making Halloween crafts when they follow this spooky guide to origami. Witches, ghosts, and black cats are just some of the fun paper folding projects to be found. Readers can even make their own chilling monster claws! The step-by-step instructions are supplemented by helpful visual examples, and important tips and materials lists help readers prepare for their projects. Fun facts about Halloween are also included, making this both an educational reading experience and an artistic adventure.","English",25.27,18.95,"736’.982","32 pp.",null,{"$f":"Table1[[#This Row],[QTY]]*Table1[[#This Row],['# of Books]]","v":0},{"$f":"Table1[[#This Row],[QTY]]*Table1[[#This Row],[School & Library Price]]","v":0}]
[null,null,32,"Let's Celebrate with Origami","Let's Celebrate with Independence Day Origami",1,"Library Bound Book","978-1-9785-2509-2",null,"Enslow Publishing","2022","August 2021","8.500 X 11.00","Author","Ruth Owen"," ",null,null,null,"M",null,"Grade 3","Grade 2 - 5","Independence Day is a day filled with fireworks, hot dogs, and symbols of America like the bald eagle. These are just some of the fun origami projects readers can make as they follow along with this encouraging and exciting guide to Fourth of July crafts. As readers follow each step, visual examples help them see what each stage of the process should look like. Additional help is provided in an opening section of basic tips and lists of materials needed before each craft. Fun facts about this holiday are also included to make readers feel even more patriotic.","English",25.27,18.95,"736’.982","32 pp.",null,{"$f":"Table1[[#This Row],[QTY]]*Table1[[#This Row],['# of Books]]","v":0},{"$f":"Table1[[#This Row],[QTY]]*Table1[[#This Row],[School & Library Price]]","v":0}]
[null,null,32,"Let's Celebrate with Origami","Let's Celebrate with Independence Day Origami",1,"eBook","978-1-9785-2510-8",null,"Enslow Publishing","2022","August 2021",null,"Author","Ruth Owen"," ",null,null,null,"M",null,"Grade 3","Grade 2 - 5","Independence Day is a day filled with fireworks, hot dogs, and symbols of America like the bald eagle. These are just some of the fun origami projects readers can make as they follow along with this encouraging and exciting guide to Fourth of July crafts. As readers follow each step, visual examples help them see what each stage of the process should look like. Additional help is provided in an opening section of basic tips and lists of materials needed before each craft. Fun facts about this holiday are also included to make readers feel even more patriotic.","English",25.27,18.95,"736’.982","32 pp.",null,{"$f":"Table1[[#This Row],[QTY]]*Table1[[#This Row],['# of Books]]","v":0},{"$f":"Table1[[#This Row],[QTY]]*Table1[[#This Row],[School & Library Price]]","v":0}]
[null,null,32,"Let's Celebrate with Origami","Let's Celebrate with Thanksgiving Origami",1,"Library Bound Book","978-1-9785-2513-9",null,"Enslow Publishing","2022","August 2021","8.500 X 11.00","Author","Ruth Owen"," ",null,null,null,"M",null,"Grade 3","Grade 2 - 5","Turkeys, pumpkins, and apples are common sights on many Thanksgiving dinner tables, and they’re also fun things to make with paper! In this guide to Thanksgiving origami, readers are presented with cool crafts to make by folding paper—from a Pilgrim to an ear of Thanksgiving corn. Clear steps, visual examples, materials lists, and useful tips help readers master each project. Along the way, historical information and other fun facts give readers more insight into the story of Thanksgiving. The encouraging tone takes the stress out of crafts, creating an experience readers are sure to be thankful for.","English",25.27,18.95,"736’.982","32 pp.",null,{"$f":"Table1[[#This Row],[QTY]]*Table1[[#This Row],['# of Books]]","v":0},{"$f":"Table1[[#This Row],[QTY]]*Table1[[#This Row],[School & Library Price]]","v":0}]
[null,null,32,"Let's Celebrate with Origami","Let's Celebrate with Thanksgiving Origami",1,"eBook","978-1-9785-2514-6",null,"Enslow Publishing","2022","August 2021",null,"Author","Ruth Owen"," ",null,null,null,"M",null,"Grade 3","Grade 2 - 5","Turkeys, pumpkins, and apples are common sights on many Thanksgiving dinner tables, and they’re also fun things to make with paper! In this guide to Thanksgiving origami, readers are presented with cool crafts to make by folding paper—from a Pilgrim to an ear of Thanksgiving corn. Clear steps, visual examples, materials lists, and useful tips help readers master each project. Along the way, historical information and other fun facts give readers more insight into the story of Thanksgiving. The encouraging tone takes the stress out of crafts, creating an experience readers are sure to be thankful for.","English",25.27,18.95,"736’.982","32 pp.",null,{"$f":"Table1[[#This Row],[QTY]]*Table1[[#This Row],['# of Books]]","v":0},{"$f":"Table1[[#This Row],[QTY]]*Table1[[#This Row],[School & Library Price]]","v":0}]
[null,null,32,"Let's Celebrate with Origami","Let's Celebrate with Valentine's Day Origami",1,"Library Bound Book","978-1-9785-2517-7",null,"Enslow Publishing","2022","August 2021","8.500 X 11.00","Author","Ruth Owen"," ",null,null,null,"M",null,"Grade 3","Grade 2 - 5","Cards and gifts made with love are popular parts of Valentine’s Day, and readers have fun making these tokens of their affection with the help of this guide to Valentine’s Day origami. By following simple steps and looking at visual examples, readers are able to make hearts, roses, and cards by folding paper into beautiful shapes. Each project features a helpful materials list and fun facts about the symbols and objects being made and why they’re a special part of this holiday. The encouraging and conversational tone takes the stress out of making the perfect Valentine’s gift for loved ones.","English",25.27,18.95,"736’.982","32 pp.",null,{"$f":"Table1[[#This Row],[QTY]]*Table1[[#This Row],['# of Books]]","v":0},{"$f":"Table1[[#This Row],[QTY]]*Table1[[#This Row],[School & Library Price]]","v":0}]
[null,null,32,"Let's Celebrate with Origami","Let's Celebrate with Valentine's Day Origami",1,"eBook","978-1-9785-2518-4",null,"Enslow Publishing","2022","August 2021",null,"Author","Ruth Owen"," ",null,null,null,"M",null,"Grade 3","Grade 2 - 5","Cards and gifts made with love are popular parts of Valentine’s Day, and readers have fun making these tokens of their affection with the help of this guide to Valentine’s Day origami. By following simple steps and looking at visual examples, readers are able to make hearts, roses, and cards by folding paper into beautiful shapes. Each project features a helpful materials list and fun facts about the symbols and objects being made and why they’re a special part of this holiday. The encouraging and conversational tone takes the stress out of making the perfect Valentine’s gift for loved ones.","English",25.27,18.95,"736’.982","32 pp.",null,{"$f":"Table1[[#This Row],[QTY]]*Table1[[#This Row],['# of Books]]","v":0},{"$f":"Table1[[#This Row],[QTY]]*Table1[[#This Row],[School & Library Price]]","v":0}]
[null,null,33,"Junior Bios","Junior Bios (All 13 Titles)",13,"Library Set","978-1-9785-2315-9",null,"Enslow Publishing","2022","August 2021","7.125 X 8.500",null,null," ",null,null,null,null,null,"Grade 3 - 4","Grade 3 - 5","From entertainers to environmentalists, role models can be found in many different fields. Each comprehensive biography in this collection uses colorful photographs and well-researched information to tell the story of a well-known figure. Readers learn all about the lives and accomplishments of these celebrities who have each made a mark on the world in their own way. Encouraging readers to chase their own dreams, content includes quotes and fact boxes, providing accessible accounts for readers of many levels. Features include: Relevant celebrities involved in high-interest disciplines attract developing readers. Direct quotes and fun fact boxes supply additional information. Vibrant photographs foster a deeper understanding of the content.","English",293.8,220.35,null,"24 pp.",null,{"$f":"Table1[[#This Row],[QTY]]*Table1[[#This Row],['# of Books]]","v":0},{"$f":"Table1[[#This Row],[QTY]]*Table1[[#This Row],[School & Library Price]]","v":0}]
[null,null,33,"Junior Bios","Junior Bios (NEW Set of 7 Titles)",7,"Library Set","978-1-9785-2314-2",null,"Enslow Publishing","2022","August 2021","7.125 X 8.500",null,null," ",null,null,null,null,null,"Grade 3 - 4","Grade 3 - 5","People become famous from working in all sorts of fields, from environmental activism to esports. With the guidance of this innovative set, readers look into the lives of prominent celebrities and follow along with their journeys to fame. Colorful photographs and engaging fact boxes provide additional context about each figure's fascinating story. In each volume, quotes from the subject and a concluding timeline help readers develop a deeper understanding of the individual's ascent to prominence. Features include: Popular celebrities involved in high-interest fields attract developing readers. Direct quotes and fun fact boxes add relevant information. Vibrant photographs hold the attention of readers of many levels.","English",158.19999999999999,118.65,null,"24 pp.",null,{"$f":"Table1[[#This Row],[QTY]]*Table1[[#This Row],['# of Books]]","v":0},{"$f":"Table1[[#This Row],[QTY]]*Table1[[#This Row],[School & Library Price]]","v":0}]
[null,null,33,"Junior Bios","Billie Eilish",1,"Library Bound Book","978-1-9785-2264-0",null,"Enslow Publishing","2022","August 2021","7.125 X 8.500","Author","Nora Gardiner"," ",null,null,null,"P",null,"Grade 3 - 4","Grade 3 - 5","Many famous musicians record their hits in fancy, professional studios. Billie Eilish does things a bit differently. Most of her songs are recorded with her brother, Finneas, in their childhood home. Whether huge fans or simply music enthusiasts in general, readers will enjoy this captivating biography about the pop star's rise to fame. Complete with vibrant photographs, age-appropriate text, and quotes from Eilish herself, this book will become an instant favorite.","English",22.6,16.95,"782.42164092--dc23","24 pp.",null,{"$f":"Table1[[#This Row],[QTY]]*Table1[[#This Row],['# of Books]]","v":0},{"$f":"Table1[[#This Row],[QTY]]*Table1[[#This Row],[School & Library Price]]","v":0}]
[null,null,33,"Junior Bios","Billie Eilish",1,"eBook","978-1-9785-2265-7",null,"Enslow Publishing","2022","August 2021",null,"Author","Nora Gardiner"," ",null,null,null,"P",null,"Grade 3 - 4","Grade 3 - 5","Many famous musicians record their hits in fancy, professional studios. Billie Eilish does things a bit differently. Most of her songs are recorded with her brother, Finneas, in their childhood home. Whether huge fans or simply music enthusiasts in general, readers will enjoy this captivating biography about the pop star's rise to fame. Complete with vibrant photographs, age-appropriate text, and quotes from Eilish herself, this book will become an instant favorite.","English",22.6,16.95,"782.42164092--dc23","24 pp.",null,{"$f":"Table1[[#This Row],[QTY]]*Table1[[#This Row],['# of Books]]","v":0},{"$f":"Table1[[#This Row],[QTY]]*Table1[[#This Row],[School & Library Price]]","v":0}]
[null,null,33,"Junior Bios","Joe Biden",1,"Library Bound Book","978-1-9785-2590-0",null,"Enslow Publishing","2021","August 2021","7.125 X 8.500","Author","Kate Mikoley"," ",null,null,null,"P",null,"Grade 3 - 4","Grade 3 - 5","In November 2020, Joe Biden was elected to be the next president of the United States. Occurring in the midst of a global pandemic, the election is sure to be remembered in history as an important event. With the help of this engaging volume, readers will learn all about the inspiring politician whose career achievements include being one of the youngest U.S. senators in history, serving as vice president, and being elected 46th president of the United States. With accessible text and eye-catching photographs, readers of many ages and levels can appreciate the material. Fact boxes, a concise timeline, and quotes from Biden himself help readers develop a deeper understanding of this leader’s life.","English",22.6,16.95,"973.934092","24 pp.",null,{"$f":"Table1[[#This Row],[QTY]]*Table1[[#This Row],['# of Books]]","v":0},{"$f":"Table1[[#This Row],[QTY]]*Table1[[#This Row],[School & Library Price]]","v":0}]
[null,null,33,"Junior Bios","Joe Biden",1,"eBook","978-1-9785-2591-7",null,"Enslow Publishing","2021","August 2021",null,"Author","Kate Mikoley"," ",null,null,null,"P",null,"Grade 3 - 4","Grade 3 - 5","In November 2020, Joe Biden was elected to be the next president of the United States. Occurring in the midst of a global pandemic, the election is sure to be remembered in history as an important event. With the help of this engaging volume, readers will learn all about the inspiring politician whose career achievements include being one of the youngest U.S. senators in history, serving as vice president, and being elected 46th president of the United States. With accessible text and eye-catching photographs, readers of many ages and levels can appreciate the material. Fact boxes, a concise timeline, and quotes from Biden himself help readers develop a deeper understanding of this leader’s life.","English",22.6,16.95,"973.934092","24 pp.",null,{"$f":"Table1[[#This Row],[QTY]]*Table1[[#This Row],['# of Books]]","v":0},{"$f":"Table1[[#This Row],[QTY]]*Table1[[#This Row],[School & Library Price]]","v":0}]
[null,null,33,"Junior Bios","Kristen Bell",1,"Library Bound Book","978-1-9785-2268-8",null,"Enslow Publishing","2022","August 2021","7.125 X 8.500","Author","Nora Gardiner"," ",null,null,null,"P",null,"Grade 3 - 4","Grade 3 - 5","Whether she's voicing a Disney princess, starring as the main character on a hit television show, or advocating for causes she believes in, Kristen Bell is always doing something interesting. Readers of this engaging biography learn about Bell's life, from her early days in Michigan to her experience portraying Anna in the popular Frozen franchise. Full-color photographs and direct quotes help readers connect with Bell's life. Captivating fact boxes provide more information about the star. Whether readers are Frozen fanatics or simply curious about this celebrity's life, this biography will be a popular addition to any collection.","English",22.6,16.95,"791.4302/8092--dc23","24 pp.",null,{"$f":"Table1[[#This Row],[QTY]]*Table1[[#This Row],['# of Books]]","v":0},{"$f":"Table1[[#This Row],[QTY]]*Table1[[#This Row],[School & Library Price]]","v":0}]
[null,null,33,"Junior Bios","Kristen Bell",1,"eBook","978-1-9785-2269-5",null,"Enslow Publishing","2022","August 2021",null,"Author","Nora Gardiner"," ",null,null,null,"P",null,"Grade 3 - 4","Grade 3 - 5","Whether she's voicing a Disney princess, starring as the main character on a hit television show, or advocating for causes she believes in, Kristen Bell is always doing something interesting. Readers of this engaging biography learn about Bell's life, from her early days in Michigan to her experience portraying Anna in the popular Frozen franchise. Full-color photographs and direct quotes help readers connect with Bell's life. Captivating fact boxes provide more information about the star. Whether readers are Frozen fanatics or simply curious about this celebrity's life, this biography will be a popular addition to any collection.","English",22.6,16.95,"791.4302/8092--dc23","24 pp.",null,{"$f":"Table1[[#This Row],[QTY]]*Table1[[#This Row],['# of Books]]","v":0},{"$f":"Table1[[#This Row],[QTY]]*Table1[[#This Row],[School & Library Price]]","v":0}]
[null,null,33,"Junior Bios","John Legend",1,"Library Bound Book","978-1-9785-2272-5",null,"Enslow Publishing","2022","August 2021","7.125 X 8.500","Author","Nora Gardiner"," ",null,null,null,"P",null,"Grade 3 - 4","Grade 3 - 5","One of the most popular singer-songwriters today, John Legend has earned many awards for his work. He even became part of an elite group known as EGOT winners after winning an Emmy, Grammy, Oscar, and Tony. This innovative biography follows along John's unique journey from child prodigy to world-famous musician. Colorful photographs accompany accessible text, ensuring readers of many ages and levels can enjoy this book. Fact boxes and quotes from Legend add additional information, enhancing this story of his rise to stardom.","English",22.6,16.95,"782.42164092--dc23","24 pp.",null,{"$f":"Table1[[#This Row],[QTY]]*Table1[[#This Row],['# of Books]]","v":0},{"$f":"Table1[[#This Row],[QTY]]*Table1[[#This Row],[School & Library Price]]","v":0}]
[null,null,33,"Junior Bios","John Legend",1,"eBook","978-1-9785-2273-2",null,"Enslow Publishing","2022","August 2021",null,"Author","Nora Gardiner"," ",null,null,null,"P",null,"Grade 3 - 4","Grade 3 - 5","One of the most popular singer-songwriters today, John Legend has earned many awards for his work. He even became part of an elite group known as EGOT winners after winning an Emmy, Grammy, Oscar, and Tony. This innovative biography follows along John's unique journey from child prodigy to world-famous musician. Colorful photographs accompany accessible text, ensuring readers of many ages and levels can enjoy this book. Fact boxes and quotes from Legend add additional information, enhancing this story of his rise to stardom.","English",22.6,16.95,"782.42164092--dc23","24 pp.",null,{"$f":"Table1[[#This Row],[QTY]]*Table1[[#This Row],['# of Books]]","v":0},{"$f":"Table1[[#This Row],[QTY]]*Table1[[#This Row],[School & Library Price]]","v":0}]
[null,null,33,"Junior Bios","Tom Holland",1,"Library Bound Book","978-1-9785-2276-3",null,"Enslow Publishing","2022","August 2021","7.125 X 8.500","Author","Nora Gardiner"," ",null,null,null,"P",null,"Grade 3 - 4","Grade 3 - 5","Tom Holland got his start acting on stage as a child in London. It wasn't too long after that he became known for portraying one of the world's most iconic superheroes: Spider-Man. This biography presents the star's rise to fame, from his childhood in England to the work it took to become one of the most famous actors in Hollywood. Accessible text, colorful photographs, fact boxes, and quotes from Holland combine to tell the fascinating story of this actor's life.","English",22.6,16.95,"791.4302/8092--dc23","24 pp.",null,{"$f":"Table1[[#This Row],[QTY]]*Table1[[#This Row],['# of Books]]","v":0},{"$f":"Table1[[#This Row],[QTY]]*Table1[[#This Row],[School & Library Price]]","v":0}]
[null,null,33,"Junior Bios","Tom Holland",1,"eBook","978-1-9785-2277-0",null,"Enslow Publishing","2022","August 2021",null,"Author","Nora Gardiner"," ",null,null,null,"P",null,"Grade 3 - 4","Grade 3 - 5","Tom Holland got his start acting on stage as a child in London. It wasn't too long after that he became known for portraying one of the world's most iconic superheroes: Spider-Man. This biography presents the star's rise to fame, from his childhood in England to the work it took to become one of the most famous actors in Hollywood. Accessible text, colorful photographs, fact boxes, and quotes from Holland combine to tell the fascinating story of this actor's life.","English",22.6,16.95,"791.4302/8092--dc23","24 pp.",null,{"$f":"Table1[[#This Row],[QTY]]*Table1[[#This Row],['# of Books]]","v":0},{"$f":"Table1[[#This Row],[QTY]]*Table1[[#This Row],[School & Library Price]]","v":0}]
[null,null,33,"Junior Bios","Tyler \"Ninja\" Blevins",1,"Library Bound Book","978-1-9785-2280-0",null,"Enslow Publishing","2022","August 2021","7.125 X 8.500","Author","Nora Gardiner"," ",null,null,null,"P",null,"Grade 3 - 4","Grade 3 - 5","When it comes to professional video gamers, Tyler Blevins, or Ninja, is one of the most well-known gamers. Readers of this captivating biography will learn about Blevins's life and his rise to fame in the world of esports streaming. Eye-catching photographs hold attention, while fun fact boxes and quotes from Blevins help readers understand more about the gamer. This book concludes with a timeline summarizing key dates in Blevins's life. This high-interest topic and accessible narrative ensure readers of many levels and ages will enjoy this engaging volume.","English",22.6,16.95,"794.8092--dc23","24 pp.",null,{"$f":"Table1[[#This Row],[QTY]]*Table1[[#This Row],['# of Books]]","v":0},{"$f":"Table1[[#This Row],[QTY]]*Table1[[#This Row],[School & Library Price]]","v":0}]
[null,null,33,"Junior Bios","Tyler \"Ninja\" Blevins",1,"eBook","978-1-9785-2281-7",null,"Enslow Publishing","2022","August 2021",null,"Author","Nora Gardiner"," ",null,null,null,"P",null,"Grade 3 - 4","Grade 3 - 5","When it comes to professional video gamers, Tyler Blevins, or Ninja, is one of the most well-known gamers. Readers of this captivating biography will learn about Blevins's life and his rise to fame in the world of esports streaming. Eye-catching photographs hold attention, while fun fact boxes and quotes from Blevins help readers understand more about the gamer. This book concludes with a timeline summarizing key dates in Blevins's life. This high-interest topic and accessible narrative ensure readers of many levels and ages will enjoy this engaging volume.","English",22.6,16.95,"794.8092--dc23","24 pp.",null,{"$f":"Table1[[#This Row],[QTY]]*Table1[[#This Row],['# of Books]]","v":0},{"$f":"Table1[[#This Row],[QTY]]*Table1[[#This Row],[School & Library Price]]","v":0}]
[null,null,33,"Junior Bios","Zoë Kravitz",1,"Library Bound Book","978-1-9785-2260-2",null,"Enslow Publishing","2022","August 2021","7.125 X 8.500","Author","Nora Gardiner"," ",null,null,null,"P",null,"Grade 3 - 4","Grade 3 - 5","Zoe Kravitz may be the daughter of two famous parents, but she's made a name for herself in show business in her own right. The actress, musician, and model has appeared in many popular movies, including the Divergent films and Fantastic Beasts: The Crimes of Grindelwald. Through vibrant photographs and informative text, readers will learn about Kravitz's climb to success. Captivating quotes from Kravitz, engaging fact boxes, and a concluding timeline provide additional information about this star's life.","English",22.6,16.95,"791.4302/8092--dc23","24 pp.",null,{"$f":"Table1[[#This Row],[QTY]]*Table1[[#This Row],['# of Books]]","v":0},{"$f":"Table1[[#This Row],[QTY]]*Table1[[#This Row],[School & Library Price]]","v":0}]
[null,null,33,"Junior Bios","Zoë Kravitz",1,"eBook","978-1-9785-2261-9",null,"Enslow Publishing","2022","August 2021",null,"Author","Nora Gardiner"," ",null,null,null,"P",null,"Grade 3 - 4","Grade 3 - 5","Zoe Kravitz may be the daughter of two famous parents, but she's made a name for herself in show business in her own right. The actress, musician, and model has appeared in many popular movies, including the Divergent films and Fantastic Beasts: The Crimes of Grindelwald. Through vibrant photographs and informative text, readers will learn about Kravitz's climb to success. Captivating quotes from Kravitz, engaging fact boxes, and a concluding timeline provide additional information about this star's life.","English",22.6,16.95,"791.4302/8092--dc23","24 pp.",null,{"$f":"Table1[[#This Row],[QTY]]*Table1[[#This Row],['# of Books]]","v":0},{"$f":"Table1[[#This Row],[QTY]]*Table1[[#This Row],[School & Library Price]]","v":0}]
[null,36,33,"Junior Bios","America Ferrera",1,"Library Bound Book","978-1-9785-1879-7",{"$f":"HYPERLINK(Table1[[#This Row],[Hyperlink]],\"Weblink\")","v":"Weblink"},"Enslow Publishing","2021","August 2020","7.125 X 8.500","Author","Hayley Norris"," ",null,null,null,"M",null,"Grade 3 - 4","Grade 3 - 5","A well-known actress and producer, America Ferrera is also an author and activist. In 2018 she released a book called American Like Me, which explores different cultures in America. She also uses her public platform to fight for things she believes in such as justice and civil rights. With colorful photographs and compelling text, this biography gives readers an inside look at Ferrera's life, from her childhood and transition to stardom to her adult life as a producer, activist, and mother.","English",22.6,16.95,"791.4302/8092--dc23","24 pp.","https://www.enslow.com/books/America_Ferrera/422235",{"$f":"Table1[[#This Row],[QTY]]*Table1[[#This Row],['# of Books]]","v":0},{"$f":"Table1[[#This Row],[QTY]]*Table1[[#This Row],[School & Library Price]]","v":0}]
[null,36,33,"Junior Bios","America Ferrera",1,"eBook","978-1-9785-1880-3",{"$f":"HYPERLINK(Table1[[#This Row],[Hyperlink]],\"Weblink\")","v":"Weblink"},"Enslow Publishing","2021","August 2020",null,"Author","Hayley Norris"," ",null,null,null,"M",null,"Grade 3 - 4","Grade 3 - 5","A well-known actress and producer, America Ferrera is also an author and activist. In 2018 she released a book called American Like Me, which explores different cultures in America. She also uses her public platform to fight for things she believes in such as justice and civil rights. With colorful photographs and compelling text, this biography gives readers an inside look at Ferrera's life, from her childhood and transition to stardom to her adult life as a producer, activist, and mother.","English",22.6,16.95,"791.4302/8092--dc23","24 pp.","https://www.enslow.com/books/America_Ferrera/422235",{"$f":"Table1[[#This Row],[QTY]]*Table1[[#This Row],['# of Books]]","v":0},{"$f":"Table1[[#This Row],[QTY]]*Table1[[#This Row],[School & Library Price]]","v":0}]
[null,36,33,"Junior Bios","Chris Hemsworth",1,"Library Bound Book","978-1-9785-1883-4",{"$f":"HYPERLINK(Table1[[#This Row],[Hyperlink]],\"Weblink\")","v":"Weblink"},"Enslow Publishing","2021","August 2020","7.125 X 8.500","Author","Hayley Norris"," ",null,null,null,"M",null,"Grade 3 - 4","Grade 3 - 5","Often acknowledged as being one of the highest-paid actors in Hollywood, Chris Hemsworth has starred in many popular movies, perhaps most notably as the superhero Thor in the Marvel Cinematic Universe. But the Australian actor has done more than just act. He's also involved in a charity that helps children and has even developed an app. This volume tells the story of Hemsworth's rise to fame, from his years learning to act to becoming one of the world's best-known celebrities.","English",22.6,16.95,"792.0'28'092--dc23","24 pp.","https://www.enslow.com/books/Chris_Hemsworth/422236",{"$f":"Table1[[#This Row],[QTY]]*Table1[[#This Row],['# of Books]]","v":0},{"$f":"Table1[[#This Row],[QTY]]*Table1[[#This Row],[School & Library Price]]","v":0}]
[null,36,33,"Junior Bios","Chris Hemsworth",1,"eBook","978-1-9785-1884-1",{"$f":"HYPERLINK(Table1[[#This Row],[Hyperlink]],\"Weblink\")","v":"Weblink"},"Enslow Publishing","2021","August 2020",null,"Author","Hayley Norris"," ",null,null,null,"M",null,"Grade 3 - 4","Grade 3 - 5","Often acknowledged as being one of the highest-paid actors in Hollywood, Chris Hemsworth has starred in many popular movies, perhaps most notably as the superhero Thor in the Marvel Cinematic Universe. But the Australian actor has done more than just act. He's also involved in a charity that helps children and has even developed an app. This volume tells the story of Hemsworth's rise to fame, from his years learning to act to becoming one of the world's best-known celebrities.","English",22.6,16.95,"792.0'28'092--dc23","24 pp.","https://www.enslow.com/books/Chris_Hemsworth/422236",{"$f":"Table1[[#This Row],[QTY]]*Table1[[#This Row],['# of Books]]","v":0},{"$f":"Table1[[#This Row],[QTY]]*Table1[[#This Row],[School & Library Price]]","v":0}]
[null,36,33,"Junior Bios","Donald Glover",1,"Library Bound Book","978-1-9785-1887-2",{"$f":"HYPERLINK(Table1[[#This Row],[Hyperlink]],\"Weblink\")","v":"Weblink"},"Enslow Publishing","2021","August 2020","7.125 X 8.500","Author","Hayley Norris"," ",null,null,null,"M",null,"Grade 3 - 4","Grade 3 - 5","There isn't much in show business that Donald Glover doesn't know how to do. Often recognized by his stage name Childish Gambino, Glover is an accomplished musician, writer, comedian, and actor, among other things. Readers of this biographical volume follow along with Glover's interesting journey, which began on an Air Force base in California and led him to become one of today's most influential performers. Fact boxes and direct quotes help readers see how Glover uses his art to address important topics in the world today.","English",22.6,16.95,"791.4302/8092--dc23","24 pp.","https://www.enslow.com/books/Donald_Glover/422237",{"$f":"Table1[[#This Row],[QTY]]*Table1[[#This Row],['# of Books]]","v":0},{"$f":"Table1[[#This Row],[QTY]]*Table1[[#This Row],[School & Library Price]]","v":0}]
[null,36,33,"Junior Bios","Donald Glover",1,"eBook","978-1-9785-1888-9",{"$f":"HYPERLINK(Table1[[#This Row],[Hyperlink]],\"Weblink\")","v":"Weblink"},"Enslow Publishing","2021","August 2020",null,"Author","Hayley Norris"," ",null,null,null,"M",null,"Grade 3 - 4","Grade 3 - 5","There isn't much in show business that Donald Glover doesn't know how to do. Often recognized by his stage name Childish Gambino, Glover is an accomplished musician, writer, comedian, and actor, among other things. Readers of this biographical volume follow along with Glover's interesting journey, which began on an Air Force base in California and led him to become one of today's most influential performers. Fact boxes and direct quotes help readers see how Glover uses his art to address important topics in the world today.","English",22.6,16.95,"791.4302/8092--dc23","24 pp.","https://www.enslow.com/books/Donald_Glover/422237",{"$f":"Table1[[#This Row],[QTY]]*Table1[[#This Row],['# of Books]]","v":0},{"$f":"Table1[[#This Row],[QTY]]*Table1[[#This Row],[School & Library Price]]","v":0}]
[null,36,33,"Junior Bios","Kendall Jenner",1,"Library Bound Book","978-1-9785-1891-9",{"$f":"HYPERLINK(Table1[[#This Row],[Hyperlink]],\"Weblink\")","v":"Weblink"},"Enslow Publishing","2021","August 2020","7.125 X 8.500","Author","Hayley Norris"," ",null,null,null,"M",null,"Grade 3 - 4","Grade 3 - 5","Kendall Jenner may have first become famous by appearing on her family's popular reality TV show, Keeping Up with the Kardashians, but today she's a celebrity in her own right. Concise text allows readers of many levels to follow along with Jenner's journey as she continues to build a successful career in the fashion industry. Full-color photographs further illustrate this star's rise to fame, while the high-interest subject engages enthusiastic and developing readers alike.","English",22.6,16.95,"791.4502/8092--dc23","24 pp.","https://www.enslow.com/books/Kendall_Jenner/422238",{"$f":"Table1[[#This Row],[QTY]]*Table1[[#This Row],['# of Books]]","v":0},{"$f":"Table1[[#This Row],[QTY]]*Table1[[#This Row],[School & Library Price]]","v":0}]
[null,36,33,"Junior Bios","Kendall Jenner",1,"eBook","978-1-9785-1892-6",{"$f":"HYPERLINK(Table1[[#This Row],[Hyperlink]],\"Weblink\")","v":"Weblink"},"Enslow Publishing","2021","August 2020",null,"Author","Hayley Norris"," ",null,null,null,"M",null,"Grade 3 - 4","Grade 3 - 5","Kendall Jenner may have first become famous by appearing on her family's popular reality TV show, Keeping Up with the Kardashians, but today she's a celebrity in her own right. Concise text allows readers of many levels to follow along with Jenner's journey as she continues to build a successful career in the fashion industry. Full-color photographs further illustrate this star's rise to fame, while the high-interest subject engages enthusiastic and developing readers alike.","English",22.6,16.95,"791.4502/8092--dc23","24 pp.","https://www.enslow.com/books/Kendall_Jenner/422238",{"$f":"Table1[[#This Row],[QTY]]*Table1[[#This Row],['# of Books]]","v":0},{"$f":"Table1[[#This Row],[QTY]]*Table1[[#This Row],[School & Library Price]]","v":0}]
[null,36,33,"Junior Bios","Kyle Busch",1,"Library Bound Book","978-1-9785-1895-7",{"$f":"HYPERLINK(Table1[[#This Row],[Hyperlink]],\"Weblink\")","v":"Weblink"},"Enslow Publishing","2021","August 2020","7.125 X 8.500","Author","Hayley Norris"," ",null,null,null,"M",null,"Grade 3 - 4","Grade 3 - 5","Kyle Busch has had more than 200 NASCAR wins and it doesn't look like he plans on stopping any time soon. This high-interest volume delves into the life and career of a racing legend in the making. Readers learn about the work it took to get to where he is today. Straightforward text encourages readers of all levels to stick to it and enjoy the narrative, while eye-catching photographs help tell this popular race car driver's compelling story.","English",22.6,16.95,"796.72092--dc23","24 pp.","https://www.enslow.com/books/Kyle_Busch/422239",{"$f":"Table1[[#This Row],[QTY]]*Table1[[#This Row],['# of Books]]","v":0},{"$f":"Table1[[#This Row],[QTY]]*Table1[[#This Row],[School & Library Price]]","v":0}]
[null,36,33,"Junior Bios","Kyle Busch",1,"eBook","978-1-9785-1896-4",{"$f":"HYPERLINK(Table1[[#This Row],[Hyperlink]],\"Weblink\")","v":"Weblink"},"Enslow Publishing","2021","August 2020",null,"Author","Hayley Norris"," ",null,null,null,"M",null,"Grade 3 - 4","Grade 3 - 5","Kyle Busch has had more than 200 NASCAR wins and it doesn't look like he plans on stopping any time soon. This high-interest volume delves into the life and career of a racing legend in the making. Readers learn about the work it took to get to where he is today. Straightforward text encourages readers of all levels to stick to it and enjoy the narrative, while eye-catching photographs help tell this popular race car driver's compelling story.","English",22.6,16.95,"796.72092--dc23","24 pp.","https://www.enslow.com/books/Kyle_Busch/422239",{"$f":"Table1[[#This Row],[QTY]]*Table1[[#This Row],['# of Books]]","v":0},{"$f":"Table1[[#This Row],[QTY]]*Table1[[#This Row],[School & Library Price]]","v":0}]
[null,36,33,"Junior Bios","Michelle Obama",1,"Library Bound Book","978-1-9785-1899-5",{"$f":"HYPERLINK(Table1[[#This Row],[Hyperlink]],\"Weblink\")","v":"Weblink"},"Enslow Publishing","2021","August 2020","7.125 X 8.500","Author","Hayley Norris"," ",null,null,null,"M",null,"Grade 3 - 4","Grade 3 - 5","Perhaps best known for being a former First Lady, Michelle Obama is also an incredible leader, writer, and advocate. Readers of this compelling biography get an in-depth look into her life. They'll follow details about her growing up in Chicago's South Side and later attending Princeton University and Harvard Law School. Celebrated is the release of her best-selling autobiography Becoming. Vibrant photographs and captivating text give readers an appreciation for the hard work of a woman who has supported many causes and inspired countless people.","English",22.6,16.95,"973.932092--dc23","24 pp.","https://www.enslow.com/books/Michelle_Obama/422240",{"$f":"Table1[[#This Row],[QTY]]*Table1[[#This Row],['# of Books]]","v":0},{"$f":"Table1[[#This Row],[QTY]]*Table1[[#This Row],[School & Library Price]]","v":0}]
[null,36,33,"Junior Bios","Michelle Obama",1,"eBook","978-1-9785-1900-8",{"$f":"HYPERLINK(Table1[[#This Row],[Hyperlink]],\"Weblink\")","v":"Weblink"},"Enslow Publishing","2021","August 2020",null,"Author","Hayley Norris"," ",null,null,null,"M",null,"Grade 3 - 4","Grade 3 - 5","Perhaps best known for being a former First Lady, Michelle Obama is also an incredible leader, writer, and advocate. Readers of this compelling biography get an in-depth look into her life. They'll follow details about her growing up in Chicago's South Side and later attending Princeton University and Harvard Law School. Celebrated is the release of her best-selling autobiography Becoming. Vibrant photographs and captivating text give readers an appreciation for the hard work of a woman who has supported many causes and inspired countless people.","English",22.6,16.95,"973.932092--dc23","24 pp.","https://www.enslow.com/books/Michelle_Obama/422240",{"$f":"Table1[[#This Row],[QTY]]*Table1[[#This Row],['# of Books]]","v":0},{"$f":"Table1[[#This Row],[QTY]]*Table1[[#This Row],[School & Library Price]]","v":0}]
[null,null,34,"The Digital World","The Digital World",6,"Library Set","978-1-9785-2525-2",null,"Enslow Publishing","2022","August 2021","8.500 X 11.00",null,null," ",null,null,null,null,null,"Grade 4 - 5","Grade 4 - 6","When learning technology, sometimes it seems like there’s a whole language to learn in addition to how to use it! That’s because there is. In this helpful reference set, readers are guided through the vocabulary of coding, computers, digital technology, social media, the internet, and video games in order to better be able to communicate about technology. Augmented by interesting fact boxes and games, the definitions given are written for young readers and reference other related terms in the volumes.","English",151.62,113.7,null,"32 pp.",null,{"$f":"Table1[[#This Row],[QTY]]*Table1[[#This Row],['# of Books]]","v":0},{"$f":"Table1[[#This Row],[QTY]]*Table1[[#This Row],[School & Library Price]]","v":0}]
[null,null,34,"The Digital World","Learn the Language of Coding",1,"Library Bound Book","978-1-9785-2473-6",null,"Enslow Publishing","2022","August 2021","8.500 X 11.00","Author","William Anthony"," ",null,null,null,"Q",null,"Grade 4 - 5","Grade 4 - 6","Coding is an excellent skill to develop and work on, even as a kid. But it can seem like the world of coding has a whole other language—and they do somewhat. This handy reference allows new coders and tech users with the vocabulary to better understand how code is created, fixed, and run on computers and other digital devices. From bits to Python, the terms in the book are given age-appropriate definitions as well as pronunciations of tougher words. Fact boxes and word games give readers a way to augment and test what they have learned.","English",25.27,18.95,"005.1","32 pp.",null,{"$f":"Table1[[#This Row],[QTY]]*Table1[[#This Row],['# of Books]]","v":0},{"$f":"Table1[[#This Row],[QTY]]*Table1[[#This Row],[School & Library Price]]","v":0}]
[null,null,34,"The Digital World","Learn the Language of Coding",1,"eBook","978-1-9785-2474-3",null,"Enslow Publishing","2022","August 2021",null,"Author","William Anthony"," ",null,null,null,"Q",null,"Grade 4 - 5","Grade 4 - 6","Coding is an excellent skill to develop and work on, even as a kid. But it can seem like the world of coding has a whole other language—and they do somewhat. This handy reference allows new coders and tech users with the vocabulary to better understand how code is created, fixed, and run on computers and other digital devices. From bits to Python, the terms in the book are given age-appropriate definitions as well as pronunciations of tougher words. Fact boxes and word games give readers a way to augment and test what they have learned.","English",25.27,18.95,"005.1","32 pp.",null,{"$f":"Table1[[#This Row],[QTY]]*Table1[[#This Row],['# of Books]]","v":0},{"$f":"Table1[[#This Row],[QTY]]*Table1[[#This Row],[School & Library Price]]","v":0}]
[null,null,34,"The Digital World","Learn the Language of Computers",1,"Library Bound Book","978-1-9785-2477-4",null,"Enslow Publishing","2022","August 2021","8.500 X 11.00","Author","William Anthony"," ",null,null,null,"Q",null,"Grade 4 - 5","Grade 4 - 6","From schoolwork to gaming, computers are a part of just about everyone’s daily life. Still, talking about something that has gone wrong with a PC, server, hardware, or software can be a challenge for the layperson. This book is exactly what young readers need to get ahead in the world of computers. It contains the essential vocabulary used to talk about the parts of computers and their programs as well as the problems one might encounter. Each definition is written with age-appropriate language and, when given, accessible examples.","English",25.27,18.95,"004","32 pp.",null,{"$f":"Table1[[#This Row],[QTY]]*Table1[[#This Row],['# of Books]]","v":0},{"$f":"Table1[[#This Row],[QTY]]*Table1[[#This Row],[School & Library Price]]","v":0}]
[null,null,34,"The Digital World","Learn the Language of Computers",1,"eBook","978-1-9785-2478-1",null,"Enslow Publishing","2022","August 2021",null,"Author","William Anthony"," ",null,null,null,"Q",null,"Grade 4 - 5","Grade 4 - 6","From schoolwork to gaming, computers are a part of just about everyone’s daily life. Still, talking about something that has gone wrong with a PC, server, hardware, or software can be a challenge for the layperson. This book is exactly what young readers need to get ahead in the world of computers. It contains the essential vocabulary used to talk about the parts of computers and their programs as well as the problems one might encounter. Each definition is written with age-appropriate language and, when given, accessible examples.","English",25.27,18.95,"004","32 pp.",null,{"$f":"Table1[[#This Row],[QTY]]*Table1[[#This Row],['# of Books]]","v":0},{"$f":"Table1[[#This Row],[QTY]]*Table1[[#This Row],[School & Library Price]]","v":0}]
[null,null,34,"The Digital World","Learn the Language of Digital Tech",1,"Library Bound Book","978-1-9785-2481-1",null,"Enslow Publishing","2022","August 2021","8.500 X 11.00","Author","William Anthony"," ",null,null,null,"Q",null,"Grade 4 - 5","Grade 4 - 6","Technology is always changing and upgrading—and so is the vocabulary! It can be hard to keep up with the ways tech companies and users talk about the newest gadgets. In this book, readers are able to learn the most important and relevant tech terms in order to understand the growing technology around them better. Through accessible definitions and age-appropriate examples, the text is a great reference for readers of many levels and abilities. Word games and fact boxes throughout the text engage readers and aid in comprehension.","English",25.27,18.95,"004","32 pp.",null,{"$f":"Table1[[#This Row],[QTY]]*Table1[[#This Row],['# of Books]]","v":0},{"$f":"Table1[[#This Row],[QTY]]*Table1[[#This Row],[School & Library Price]]","v":0}]
[null,null,34,"The Digital World","Learn the Language of Digital Tech",1,"eBook","978-1-9785-2482-8",null,"Enslow Publishing","2022","August 2021",null,"Author","William Anthony"," ",null,null,null,"Q",null,"Grade 4 - 5","Grade 4 - 6","Technology is always changing and upgrading—and so is the vocabulary! It can be hard to keep up with the ways tech companies and users talk about the newest gadgets. In this book, readers are able to learn the most important and relevant tech terms in order to understand the growing technology around them better. Through accessible definitions and age-appropriate examples, the text is a great reference for readers of many levels and abilities. Word games and fact boxes throughout the text engage readers and aid in comprehension.","English",25.27,18.95,"004","32 pp.",null,{"$f":"Table1[[#This Row],[QTY]]*Table1[[#This Row],['# of Books]]","v":0},{"$f":"Table1[[#This Row],[QTY]]*Table1[[#This Row],[School & Library Price]]","v":0}]
[null,null,34,"The Digital World","Learn the Language of Social Media",1,"Library Bound Book","978-1-9785-2485-9",null,"Enslow Publishing","2022","August 2021","8.500 X 11.00","Author","William Anthony"," ",null,null,null,"Q",null,"Grade 4 - 5","Grade 4 - 6","Diving into social media is like entering a whole new world—especially because users have a whole set of vocabulary newbies much learn to understand. This book introduces readers to the most important terms used when talking about social media. Age-appropriate definitions and helpful pronunciations make this an essential reference for young readers getting ready to venture into the online world of social media. Word games and fact boxes keep readers engaged as they browse new words and their meanings.","English",25.27,18.95,"302.23","32 pp.",null,{"$f":"Table1[[#This Row],[QTY]]*Table1[[#This Row],['# of Books]]","v":0},{"$f":"Table1[[#This Row],[QTY]]*Table1[[#This Row],[School & Library Price]]","v":0}]
[null,null,34,"The Digital World","Learn the Language of Social Media",1,"eBook","978-1-9785-2486-6",null,"Enslow Publishing","2022","August 2021",null,"Author","William Anthony"," ",null,null,null,"Q",null,"Grade 4 - 5","Grade 4 - 6","Diving into social media is like entering a whole new world—especially because users have a whole set of vocabulary newbies much learn to understand. This book introduces readers to the most important terms used when talking about social media. Age-appropriate definitions and helpful pronunciations make this an essential reference for young readers getting ready to venture into the online world of social media. Word games and fact boxes keep readers engaged as they browse new words and their meanings.","English",25.27,18.95,"302.23","32 pp.",null,{"$f":"Table1[[#This Row],[QTY]]*Table1[[#This Row],['# of Books]]","v":0},{"$f":"Table1[[#This Row],[QTY]]*Table1[[#This Row],[School & Library Price]]","v":0}]
[null,null,34,"The Digital World","Learn the Language of the Internet",1,"Library Bound Book","978-1-9785-2489-7",null,"Enslow Publishing","2022","August 2021","8.500 X 11.00","Author","William Anthony"," ",null,null,null,"Q",null,"Grade 4 - 5","Grade 4 - 6","Even though the internet has been around for decades now, the vocabulary used to talk about it can seem like gibberish to many. Thanks to this handy reference book, readers will find out all the essential terms they need to know to successfully discuss and understand the internet! Complete, at-level definitions and age-appropriate examples successfully aid in readers’ comprehension of the topic while word games and fact boxes offer readers a chance to connect their new knowledge to the real world and commit it to memory.","English",25.27,18.95,"004.67’8","32 pp.",null,{"$f":"Table1[[#This Row],[QTY]]*Table1[[#This Row],['# of Books]]","v":0},{"$f":"Table1[[#This Row],[QTY]]*Table1[[#This Row],[School & Library Price]]","v":0}]
[null,null,34,"The Digital World","Learn the Language of the Internet",1,"eBook","978-1-9785-2490-3",null,"Enslow Publishing","2022","August 2021",null,"Author","William Anthony"," ",null,null,null,"Q",null,"Grade 4 - 5","Grade 4 - 6","Even though the internet has been around for decades now, the vocabulary used to talk about it can seem like gibberish to many. Thanks to this handy reference book, readers will find out all the essential terms they need to know to successfully discuss and understand the internet! Complete, at-level definitions and age-appropriate examples successfully aid in readers’ comprehension of the topic while word games and fact boxes offer readers a chance to connect their new knowledge to the real world and commit it to memory.","English",25.27,18.95,"004.67’8","32 pp.",null,{"$f":"Table1[[#This Row],[QTY]]*Table1[[#This Row],['# of Books]]","v":0},{"$f":"Table1[[#This Row],[QTY]]*Table1[[#This Row],[School & Library Price]]","v":0}]
[null,null,34,"The Digital World","Learn the Language of Video Games",1,"Library Bound Book","978-1-9785-2493-4",null,"Enslow Publishing","2022","August 2021","8.500 X 11.00","Author","William Anthony"," ",null,null,null,"Q",null,"Grade 4 - 5","Grade 4 - 6","The video game industry isn’t slowing down. It’s only finding new ways and platforms from which to engage users. Even the youngest elementary students now often have experience with some kinds of video games! Nonetheless, the vocabulary used to talk about video games can seem foreign and extensive. Readers are introduced to the essential terms gamers use in this helpful book. Definitions are written at-level for young readers and word games throughout the book aid in comprehension and memory.","English",25.27,18.95,"794.8","32 pp.",null,{"$f":"Table1[[#This Row],[QTY]]*Table1[[#This Row],['# of Books]]","v":0},{"$f":"Table1[[#This Row],[QTY]]*Table1[[#This Row],[School & Library Price]]","v":0}]
[null,null,34,"The Digital World","Learn the Language of Video Games",1,"eBook","978-1-9785-2494-1",null,"Enslow Publishing","2022","August 2021",null,"Author","William Anthony"," ",null,null,null,"Q",null,"Grade 4 - 5","Grade 4 - 6","The video game industry isn’t slowing down. It’s only finding new ways and platforms from which to engage users. Even the youngest elementary students now often have experience with some kinds of video games! Nonetheless, the vocabulary used to talk about video games can seem foreign and extensive. Readers are introduced to the essential terms gamers use in this helpful book. Definitions are written at-level for young readers and word games throughout the book aid in comprehension and memory.","English",25.27,18.95,"794.8","32 pp.",null,{"$f":"Table1[[#This Row],[QTY]]*Table1[[#This Row],['# of Books]]","v":0},{"$f":"Table1[[#This Row],[QTY]]*Table1[[#This Row],[School & Library Price]]","v":0}]
[null,null,35,"Brain Food","Brain Food",6,"Library Set","978-1-9785-2519-1",null,"Enslow Publishing","2022","August 2021","8.500 X 8.500",null,null," ",null,null,null,null,null,"Grade 2 - 3","Grade 2 - 4","From vegetables and protein to grains and sugar, the foods we eat are what fuel our daily lives. We all know that what we put into our body is important, but it can sometimes be difficult to understand what exactly each type of food does for us. With the help of this innovative series, young readers will have no trouble understanding the importance of the different types of food they eat. Colorful photos show which foods are good sources of specific nutrients, while charming illustrations help guide readers through the text.","English",135.6,101.7,null,"24 pp.",null,{"$f":"Table1[[#This Row],[QTY]]*Table1[[#This Row],['# of Books]]","v":0},{"$f":"Table1[[#This Row],[QTY]]*Table1[[#This Row],[School & Library Price]]","v":0}]
[null,null,35,"Brain Food","Clever Carbs",1,"Library Bound Book","978-1-9785-2378-4",null,"Enslow Publishing","2022","August 2021","8.500 X 8.500","Author","John Wood"," ",null,null,null,"K",null,"Grade 2 - 3","Grade 2 - 4","Carbohydrates are an important part of a healthy and balanced diet, but what exactly are they and what do they do for the human body? Readers will find those—and many more—answers as they delve into this engaging volume. Eye-catching photographs provide visual examples of foods rich in carbs, while accessible text reinforces key lessons from elementary science curricula. Readers will learn how carbs can help their bodies, which foods are the best sources of healthy carbs, and much more!","English",22.6,16.95,"613.2","24 pp.",null,{"$f":"Table1[[#This Row],[QTY]]*Table1[[#This Row],['# of Books]]","v":0},{"$f":"Table1[[#This Row],[QTY]]*Table1[[#This Row],[School & Library Price]]","v":0}]
[null,null,35,"Brain Food","Clever Carbs",1,"eBook","978-1-9785-2379-1",null,"Enslow Publishing","2022","August 2021",null,"Author","John Wood"," ",null,null,null,"K",null,"Grade 2 - 3","Grade 2 - 4","Carbohydrates are an important part of a healthy and balanced diet, but what exactly are they and what do they do for the human body? Readers will find those—and many more—answers as they delve into this engaging volume. Eye-catching photographs provide visual examples of foods rich in carbs, while accessible text reinforces key lessons from elementary science curricula. Readers will learn how carbs can help their bodies, which foods are the best sources of healthy carbs, and much more!","English",22.6,16.95,"613.2","24 pp.",null,{"$f":"Table1[[#This Row],[QTY]]*Table1[[#This Row],['# of Books]]","v":0},{"$f":"Table1[[#This Row],[QTY]]*Table1[[#This Row],[School & Library Price]]","v":0}]
[null,null,35,"Brain Food","Fantastic Fiber",1,"Library Bound Book","978-1-9785-2401-9",null,"Enslow Publishing","2022","August 2021","8.500 X 8.500","Author","John Wood"," ",null,null,null,"K",null,"Grade 2 - 3","Grade 2 - 4","Many people know it’s important to get enough fiber in their daily diet—but why is that? How exactly fiber benefits the body is just one of many things readers of this captivating volume will learn. Colorful photographs show readers what types of food contain healthy amounts of fiber, while engaging text helps them learn why fiber-filled foods can be an important part of a nutritious and balanced diet. This helpful guide is a great supplement for important elementary science lessons.","English",22.6,16.95,"613.2’8","24 pp.",null,{"$f":"Table1[[#This Row],[QTY]]*Table1[[#This Row],['# of Books]]","v":0},{"$f":"Table1[[#This Row],[QTY]]*Table1[[#This Row],[School & Library Price]]","v":0}]
[null,null,35,"Brain Food","Fantastic Fiber",1,"eBook","978-1-9785-2402-6",null,"Enslow Publishing","2022","August 2021",null,"Author","John Wood"," ",null,null,null,"K",null,"Grade 2 - 3","Grade 2 - 4","Many people know it’s important to get enough fiber in their daily diet—but why is that? How exactly fiber benefits the body is just one of many things readers of this captivating volume will learn. Colorful photographs show readers what types of food contain healthy amounts of fiber, while engaging text helps them learn why fiber-filled foods can be an important part of a nutritious and balanced diet. This helpful guide is a great supplement for important elementary science lessons.","English",22.6,16.95,"613.2’8","24 pp.",null,{"$f":"Table1[[#This Row],[QTY]]*Table1[[#This Row],['# of Books]]","v":0},{"$f":"Table1[[#This Row],[QTY]]*Table1[[#This Row],[School & Library Price]]","v":0}]
[null,null,35,"Brain Food","Fierce Fats",1,"Library Bound Book","978-1-9785-2390-6",null,"Enslow Publishing","2022","August 2021","8.500 X 8.500","Author","John Wood"," ",null,null,null,"K",null,"Grade 2 - 3","Grade 2 - 4","Sometimes, fat gets a bad reputation—and that’s not right! The human body needs fats to stay alive and thrive. This engaging book helps readers understand why the fats in the foods they eat are important and helpful to their bodies. Attention-grabbing photographs show foods that provide healthy sources of fat. Age-appropriate text helps even reluctant readers learn about how a diet balanced with fats and other nutrients can support their bodies. Important nutritional lessons help reinforce key concepts from elementary science curricula.","English",22.6,16.95,"613.2’84","24 pp.",null,{"$f":"Table1[[#This Row],[QTY]]*Table1[[#This Row],['# of Books]]","v":0},{"$f":"Table1[[#This Row],[QTY]]*Table1[[#This Row],[School & Library Price]]","v":0}]
[null,null,35,"Brain Food","Fierce Fats",1,"eBook","978-1-9785-2391-3",null,"Enslow Publishing","2022","August 2021",null,"Author","John Wood"," ",null,null,null,"K",null,"Grade 2 - 3","Grade 2 - 4","Sometimes, fat gets a bad reputation—and that’s not right! The human body needs fats to stay alive and thrive. This engaging book helps readers understand why the fats in the foods they eat are important and helpful to their bodies. Attention-grabbing photographs show foods that provide healthy sources of fat. Age-appropriate text helps even reluctant readers learn about how a diet balanced with fats and other nutrients can support their bodies. Important nutritional lessons help reinforce key concepts from elementary science curricula.","English",22.6,16.95,"613.2’84","24 pp.",null,{"$f":"Table1[[#This Row],[QTY]]*Table1[[#This Row],['# of Books]]","v":0},{"$f":"Table1[[#This Row],[QTY]]*Table1[[#This Row],[School & Library Price]]","v":0}]
[null,null,35,"Brain Food","Powerful Protein",1,"Library Bound Book","978-1-9785-2397-5",null,"Enslow Publishing","2022","August 2021","8.500 X 8.500","Author","John Wood"," ",null,null,null,"K",null,"Grade 2 - 3","Grade 2 - 4","Protein is just one of many important elements of a healthy and balanced diet. With the help of this innovative book, readers will be excited to learn all about this essential nutrient and the foods it is found in. Vibrant photographs attract readers of all ages and levels and help familiarize them with common protein-rich foods. Accessible text provides important background information on protein and explains how it helps the human body stay strong and healthy.","English",22.6,16.95,"613.2’82","24 pp.",null,{"$f":"Table1[[#This Row],[QTY]]*Table1[[#This Row],['# of Books]]","v":0},{"$f":"Table1[[#This Row],[QTY]]*Table1[[#This Row],[School & Library Price]]","v":0}]
[null,null,35,"Brain Food","Powerful Protein",1,"eBook","978-1-9785-2398-2",null,"Enslow Publishing","2022","August 2021",null,"Author","John Wood"," ",null,null,null,"K",null,"Grade 2 - 3","Grade 2 - 4","Protein is just one of many important elements of a healthy and balanced diet. With the help of this innovative book, readers will be excited to learn all about this essential nutrient and the foods it is found in. Vibrant photographs attract readers of all ages and levels and help familiarize them with common protein-rich foods. Accessible text provides important background information on protein and explains how it helps the human body stay strong and healthy.","English",22.6,16.95,"613.2’82","24 pp.",null,{"$f":"Table1[[#This Row],[QTY]]*Table1[[#This Row],['# of Books]]","v":0},{"$f":"Table1[[#This Row],[QTY]]*Table1[[#This Row],[School & Library Price]]","v":0}]
[null,null,35,"Brain Food","Sweet Sugar",1,"Library Bound Book","978-1-9785-2382-1",null,"Enslow Publishing","2022","August 2021","8.500 X 8.500","Author","John Wood"," ",null,null,null,"K",null,"Grade 2 - 3","Grade 2 - 4","In life, balance is a key part of staying healthy. For most people, that means certain amounts of sugar can be part of a healthy and balanced diet! This book touches on both natural and free sugars but focuses mainly on free sugars and the effects that too much of them can have on the body, while also making it clear that, for most people, these sugars are okay to eat in smaller amounts. Colorful photographs and engaging graphic elements help readers of many levels understand what excessive amounts of sugar can do to the body and how eating a variety of foods can keep them healthy and strong.","English",22.6,16.95,"641.3’08","24 pp.",null,{"$f":"Table1[[#This Row],[QTY]]*Table1[[#This Row],['# of Books]]","v":0},{"$f":"Table1[[#This Row],[QTY]]*Table1[[#This Row],[School & Library Price]]","v":0}]
[null,null,35,"Brain Food","Sweet Sugar",1,"eBook","978-1-9785-2383-8",null,"Enslow Publishing","2022","August 2021",null,"Author","John Wood"," ",null,null,null,"K",null,"Grade 2 - 3","Grade 2 - 4","In life, balance is a key part of staying healthy. For most people, that means certain amounts of sugar can be part of a healthy and balanced diet! This book touches on both natural and free sugars but focuses mainly on free sugars and the effects that too much of them can have on the body, while also making it clear that, for most people, these sugars are okay to eat in smaller amounts. Colorful photographs and engaging graphic elements help readers of many levels understand what excessive amounts of sugar can do to the body and how eating a variety of foods can keep them healthy and strong.","English",22.6,16.95,"641.3’08","24 pp.",null,{"$f":"Table1[[#This Row],[QTY]]*Table1[[#This Row],['# of Books]]","v":0},{"$f":"Table1[[#This Row],[QTY]]*Table1[[#This Row],[School & Library Price]]","v":0}]
[null,null,35,"Brain Food","Vital Vitamins",1,"Library Bound Book","978-1-9785-2386-9",null,"Enslow Publishing","2022","August 2021","8.500 X 8.500","Author","John Wood"," ",null,null,null,"K",null,"Grade 2 - 3","Grade 2 - 4","Many children know it’s important to eat foods with vitamins to help them grow big and strong. However, there are so many vitamins that it can be difficult to know what they all do and why each one matters. This innovative volume helps young readers understand the importance of several key vitamins, including vitamin A, vitamin C, and vitamin B12. Colorful photographs show foods in which each type of vitamin can be found, while concise text helps reinforce key nutrition lessons from elementary science curricula.","English",22.6,16.95,"613.2’86","24 pp.",null,{"$f":"Table1[[#This Row],[QTY]]*Table1[[#This Row],['# of Books]]","v":0},{"$f":"Table1[[#This Row],[QTY]]*Table1[[#This Row],[School & Library Price]]","v":0}]
[null,null,35,"Brain Food","Vital Vitamins",1,"eBook","978-1-9785-2387-6",null,"Enslow Publishing","2022","August 2021",null,"Author","John Wood"," ",null,null,null,"K",null,"Grade 2 - 3","Grade 2 - 4","Many children know it’s important to eat foods with vitamins to help them grow big and strong. However, there are so many vitamins that it can be difficult to know what they all do and why each one matters. This innovative volume helps young readers understand the importance of several key vitamins, including vitamin A, vitamin C, and vitamin B12. Colorful photographs show foods in which each type of vitamin can be found, while concise text helps reinforce key nutrition lessons from elementary science curricula.","English",22.6,16.95,"613.2’86","24 pp.",null,{"$f":"Table1[[#This Row],[QTY]]*Table1[[#This Row],['# of Books]]","v":0},{"$f":"Table1[[#This Row],[QTY]]*Table1[[#This Row],[School & Library Price]]","v":0}]
[null,null,36,"Human Habitats","Human Habitats",8,"Library Set","978-1-9785-2522-1",null,"Enslow Publishing","2022","August 2021","8.500 X 8.500",null,null," ",null,null,null,null,null,"Grade 2 - 3","Grade 2 - 4","The human body is an amazing habitat—for many organisms we can’t see! From the lice living in your hair, to the fungus that can grow between your toes, these organisms thrive in many parts of the body, often without us knowing. In this set, young readers will discover everything there is to know about what lives on and in us—besides just us! Complete with full-color photographs and age-appropriate language and examples, this set is a must-have for library collections for curious readers!","English",180.8,135.6,null,"24 pp.",null,{"$f":"Table1[[#This Row],[QTY]]*Table1[[#This Row],['# of Books]]","v":0},{"$f":"Table1[[#This Row],[QTY]]*Table1[[#This Row],[School & Library Price]]","v":0}]
[null,null,36,"Human Habitats","Blood",1,"Library Bound Book","978-1-9785-2346-3",null,"Enslow Publishing","2022","August 2021","8.500 X 8.500","Author","Robin Twiddy"," ",null,null,null,"L",null,"Grade 2 - 3","Grade 2 - 4","From platelets to plasma, the parts of the blood can be exciting to learn about when you have helpful, friendly kids to guide you! Readers enjoy flowing through the circulatory system with their new friends in this book, which explains how blood moves, what it’s made of, and the teeny tiny living things that can be found in it. Full of simple diagrams to aid comprehension, this book is perfect for readers just learning about the human body—and how cool it is!","English",22.6,16.95,"612.1’1","24 pp.",null,{"$f":"Table1[[#This Row],[QTY]]*Table1[[#This Row],['# of Books]]","v":0},{"$f":"Table1[[#This Row],[QTY]]*Table1[[#This Row],[School & Library Price]]","v":0}]
[null,null,36,"Human Habitats","Blood",1,"eBook","978-1-9785-2347-0",null,"Enslow Publishing","2022","August 2021",null,"Author","Robin Twiddy"," ",null,null,null,"L",null,"Grade 2 - 3","Grade 2 - 4","From platelets to plasma, the parts of the blood can be exciting to learn about when you have helpful, friendly kids to guide you! Readers enjoy flowing through the circulatory system with their new friends in this book, which explains how blood moves, what it’s made of, and the teeny tiny living things that can be found in it. Full of simple diagrams to aid comprehension, this book is perfect for readers just learning about the human body—and how cool it is!","English",22.6,16.95,"612.1’1","24 pp.",null,{"$f":"Table1[[#This Row],[QTY]]*Table1[[#This Row],['# of Books]]","v":0},{"$f":"Table1[[#This Row],[QTY]]*Table1[[#This Row],[School & Library Price]]","v":0}]
[null,null,36,"Human Habitats","Face",1,"Library Bound Book","978-1-9785-2350-0",null,"Enslow Publishing","2022","August 2021","8.500 X 8.500","Author","Robin Twiddy"," ",null,null,null,"L",null,"Grade 2 - 3","Grade 2 - 4","The phrase “face value” seems like it would apply to the human face too, right? We see something and take it as it appears. But if you were to take a microscope to your face, you might be surprised! In this playfully designed book, readers learn about the parts of their face they can see—and what they’re a habitat for! Helpful diagrams and simple language give readers a chance to really understand the lessons in anatomy and biology, and friendly narrators make the science fun!","English",22.6,16.95,"612","24 pp.",null,{"$f":"Table1[[#This Row],[QTY]]*Table1[[#This Row],['# of Books]]","v":0},{"$f":"Table1[[#This Row],[QTY]]*Table1[[#This Row],[School & Library Price]]","v":0}]
[null,null,36,"Human Habitats","Face",1,"eBook","978-1-9785-2351-7",null,"Enslow Publishing","2022","August 2021",null,"Author","Robin Twiddy"," ",null,null,null,"L",null,"Grade 2 - 3","Grade 2 - 4","The phrase “face value” seems like it would apply to the human face too, right? We see something and take it as it appears. But if you were to take a microscope to your face, you might be surprised! In this playfully designed book, readers learn about the parts of their face they can see—and what they’re a habitat for! Helpful diagrams and simple language give readers a chance to really understand the lessons in anatomy and biology, and friendly narrators make the science fun!","English",22.6,16.95,"612","24 pp.",null,{"$f":"Table1[[#This Row],[QTY]]*Table1[[#This Row],['# of Books]]","v":0},{"$f":"Table1[[#This Row],[QTY]]*Table1[[#This Row],[School & Library Price]]","v":0}]
[null,null,36,"Human Habitats","Feet",1,"Library Bound Book","978-1-9785-2354-8",null,"Enslow Publishing","2022","August 2021","8.500 X 8.500","Author","Robin Twiddy"," ",null,null,null,"L",null,"Grade 2 - 3","Grade 2 - 4","There’s a lot of gross things one can think of that live under our feet—but what about on our feet? Fungus especially find a warm, dark home between our toes and can cause a lot of annoyance! In this colorful volume, readers investigate exactly what happens on and in their feet, even if they can’t see it. Simple language, clear diagrams, and a group of friendly narrators draw readers into this part of the body to learn all you could want to know about the feet.","English",22.6,16.95,"591.47’9","24 pp.",null,{"$f":"Table1[[#This Row],[QTY]]*Table1[[#This Row],['# of Books]]","v":0},{"$f":"Table1[[#This Row],[QTY]]*Table1[[#This Row],[School & Library Price]]","v":0}]
[null,null,36,"Human Habitats","Feet",1,"eBook","978-1-9785-2355-5",null,"Enslow Publishing","2022","August 2021",null,"Author","Robin Twiddy"," ",null,null,null,"L",null,"Grade 2 - 3","Grade 2 - 4","There’s a lot of gross things one can think of that live under our feet—but what about on our feet? Fungus especially find a warm, dark home between our toes and can cause a lot of annoyance! In this colorful volume, readers investigate exactly what happens on and in their feet, even if they can’t see it. Simple language, clear diagrams, and a group of friendly narrators draw readers into this part of the body to learn all you could want to know about the feet.","English",22.6,16.95,"591.47’9","24 pp.",null,{"$f":"Table1[[#This Row],[QTY]]*Table1[[#This Row],['# of Books]]","v":0},{"$f":"Table1[[#This Row],[QTY]]*Table1[[#This Row],[School & Library Price]]","v":0}]
[null,null,36,"Human Habitats","Gut",1,"Library Bound Book","978-1-9785-2358-6",null,"Enslow Publishing","2022","August 2021","8.500 X 8.500","Author","Robin Twiddy"," ",null,null,null,"L",null,"Grade 2 - 3","Grade 2 - 4","It’s popular to talk about how important a person’s gut biome is. But to young readers, the millions of bacteria that live in the gut and help us digest and move our food along might be big news! Full of colorful, clear diagrams and simple explanations, this book takes readers on a journey through the gut, alongside some helpful kid guides that make the journey even more fun. An excellent companion to any studies of the human body, this volume also includes problems in the gut and what issues they can cause.","English",22.6,16.95,"612.3","24 pp.",null,{"$f":"Table1[[#This Row],[QTY]]*Table1[[#This Row],['# of Books]]","v":0},{"$f":"Table1[[#This Row],[QTY]]*Table1[[#This Row],[School & Library Price]]","v":0}]
[null,null,36,"Human Habitats","Gut",1,"eBook","978-1-9785-2359-3",null,"Enslow Publishing","2022","August 2021",null,"Author","Robin Twiddy"," ",null,null,null,"L",null,"Grade 2 - 3","Grade 2 - 4","It’s popular to talk about how important a person’s gut biome is. But to young readers, the millions of bacteria that live in the gut and help us digest and move our food along might be big news! Full of colorful, clear diagrams and simple explanations, this book takes readers on a journey through the gut, alongside some helpful kid guides that make the journey even more fun. An excellent companion to any studies of the human body, this volume also includes problems in the gut and what issues they can cause.","English",22.6,16.95,"612.3","24 pp.",null,{"$f":"Table1[[#This Row],[QTY]]*Table1[[#This Row],['# of Books]]","v":0},{"$f":"Table1[[#This Row],[QTY]]*Table1[[#This Row],[School & Library Price]]","v":0}]
[null,null,36,"Human Habitats","Hair",1,"Library Bound Book","978-1-9785-2362-3",null,"Enslow Publishing","2022","August 2021","8.500 X 8.500","Author","Robin Twiddy"," ",null,null,null,"L",null,"Grade 2 - 3","Grade 2 - 4","To many, nothing is grosser than having lice in their hair. A live infestation means not bugs in the hair, but also bug eggs! Still, there are many other microscopic organisms potentially making a habitat in your hair. Readers are guided through the biology of hair as well as ways it can be used as a home to bacteria, bugs, and more, by a team of friendly narrators. A colorful layout and simple diagrams appeal to young, curious minds and the accessible science content keeps them engaged.","English",22.6,16.95,"573.5’8","24 pp.",null,{"$f":"Table1[[#This Row],[QTY]]*Table1[[#This Row],['# of Books]]","v":0},{"$f":"Table1[[#This Row],[QTY]]*Table1[[#This Row],[School & Library Price]]","v":0}]
[null,null,36,"Human Habitats","Hair",1,"eBook","978-1-9785-2363-0",null,"Enslow Publishing","2022","August 2021",null,"Author","Robin Twiddy"," ",null,null,null,"L",null,"Grade 2 - 3","Grade 2 - 4","To many, nothing is grosser than having lice in their hair. A live infestation means not bugs in the hair, but also bug eggs! Still, there are many other microscopic organisms potentially making a habitat in your hair. Readers are guided through the biology of hair as well as ways it can be used as a home to bacteria, bugs, and more, by a team of friendly narrators. A colorful layout and simple diagrams appeal to young, curious minds and the accessible science content keeps them engaged.","English",22.6,16.95,"573.5’8","24 pp.",null,{"$f":"Table1[[#This Row],[QTY]]*Table1[[#This Row],['# of Books]]","v":0},{"$f":"Table1[[#This Row],[QTY]]*Table1[[#This Row],[School & Library Price]]","v":0}]
[null,null,36,"Human Habitats","Lungs",1,"Library Bound Book","978-1-9785-2366-1",null,"Enslow Publishing","2022","August 2021","8.500 X 8.500","Author","Robin Twiddy"," ",null,null,null,"L",null,"Grade 2 - 3","Grade 2 - 4","What could possibly make their home in the human lung? In this volume, curious readers find out! With the help of some friendly guides, readers are introduced to the structure of the lungs and how they work—as well as the microscopic organisms that might have made the lungs a habitat. Including problems that could arise with the lungs, this colorful, playful look at the main part of the respiratory system complements the science curriculum and human body lessons.","English",22.6,16.95,"612.2’4","24 pp.",null,{"$f":"Table1[[#This Row],[QTY]]*Table1[[#This Row],['# of Books]]","v":0},{"$f":"Table1[[#This Row],[QTY]]*Table1[[#This Row],[School & Library Price]]","v":0}]
[null,null,36,"Human Habitats","Lungs",1,"eBook","978-1-9785-2367-8",null,"Enslow Publishing","2022","August 2021",null,"Author","Robin Twiddy"," ",null,null,null,"L",null,"Grade 2 - 3","Grade 2 - 4","What could possibly make their home in the human lung? In this volume, curious readers find out! With the help of some friendly guides, readers are introduced to the structure of the lungs and how they work—as well as the microscopic organisms that might have made the lungs a habitat. Including problems that could arise with the lungs, this colorful, playful look at the main part of the respiratory system complements the science curriculum and human body lessons.","English",22.6,16.95,"612.2’4","24 pp.",null,{"$f":"Table1[[#This Row],[QTY]]*Table1[[#This Row],['# of Books]]","v":0},{"$f":"Table1[[#This Row],[QTY]]*Table1[[#This Row],[School & Library Price]]","v":0}]
[null,null,36,"Human Habitats","Mouth",1,"Library Bound Book","978-1-9785-2370-8",null,"Enslow Publishing","2022","August 2021","8.500 X 8.500","Author","Robin Twiddy"," ",null,null,null,"L",null,"Grade 2 - 3","Grade 2 - 4","The mouth is one of the best human habitats on the body! In other words, your teeth aren’t the only inhabitants of your mouth. In this book, readers learn more about the microscopic organisms that make their home in the mouth—both welcome and unwelcome. Full of simple diagrams and interesting information about this part of the human body, this volume engages readers looking to supplement their science classes with a colorful layout and friendly guides through this often-used part of the human body.","English",22.6,16.95,"612.3’1","24 pp.",null,{"$f":"Table1[[#This Row],[QTY]]*Table1[[#This Row],['# of Books]]","v":0},{"$f":"Table1[[#This Row],[QTY]]*Table1[[#This Row],[School & Library Price]]","v":0}]
[null,null,36,"Human Habitats","Mouth",1,"eBook","978-1-9785-2371-5",null,"Enslow Publishing","2022","August 2021",null,"Author","Robin Twiddy"," ",null,null,null,"L",null,"Grade 2 - 3","Grade 2 - 4","The mouth is one of the best human habitats on the body! In other words, your teeth aren’t the only inhabitants of your mouth. In this book, readers learn more about the microscopic organisms that make their home in the mouth—both welcome and unwelcome. Full of simple diagrams and interesting information about this part of the human body, this volume engages readers looking to supplement their science classes with a colorful layout and friendly guides through this often-used part of the human body.","English",22.6,16.95,"612.3’1","24 pp.",null,{"$f":"Table1[[#This Row],[QTY]]*Table1[[#This Row],['# of Books]]","v":0},{"$f":"Table1[[#This Row],[QTY]]*Table1[[#This Row],[School & Library Price]]","v":0}]
[null,null,36,"Human Habitats","Skin",1,"Library Bound Book","978-1-9785-2374-6",null,"Enslow Publishing","2022","August 2021","8.500 X 8.500","Author","Robin Twiddy"," ",null,null,null,"L",null,"Grade 2 - 3","Grade 2 - 4","It’s the largest human organ and keeps everything else is place—what is it? It’s skin! And there’s a lot more to it than meets the eye. In fact, microscopic bugs, fungus, and bacteria may all be found on the skin. Readers travel across this large body part with some helpful, friendly kids who narrate the whole journey and impart essential facts about the human habitat of the skin. A colorful design, complete with graphic organizers, complements the conversational style of the text to be sure readers comprehend the simple explanations.","English",22.6,16.95,"612.7’9","24 pp.",null,{"$f":"Table1[[#This Row],[QTY]]*Table1[[#This Row],['# of Books]]","v":0},{"$f":"Table1[[#This Row],[QTY]]*Table1[[#This Row],[School & Library Price]]","v":0}]
[null,null,36,"Human Habitats","Skin",1,"eBook","978-1-9785-2375-3",null,"Enslow Publishing","2022","August 2021",null,"Author","Robin Twiddy"," ",null,null,null,"L",null,"Grade 2 - 3","Grade 2 - 4","It’s the largest human organ and keeps everything else is place—what is it? It’s skin! And there’s a lot more to it than meets the eye. In fact, microscopic bugs, fungus, and bacteria may all be found on the skin. Readers travel across this large body part with some helpful, friendly kids who narrate the whole journey and impart essential facts about the human habitat of the skin. A colorful design, complete with graphic organizers, complements the conversational style of the text to be sure readers comprehend the simple explanations.","English",22.6,16.95,"612.7’9","24 pp.",null,{"$f":"Table1[[#This Row],[QTY]]*Table1[[#This Row],['# of Books]]","v":0},{"$f":"Table1[[#This Row],[QTY]]*Table1[[#This Row],[School & Library Price]]","v":0}]
[null,48,37,"Simple Science Experiments","Simple Science Experiments",4,"Library Set","978-1-9785-2070-7",{"$f":"HYPERLINK(Table1[[#This Row],[Hyperlink]],\"Weblink\")","v":"Weblink"},"Enslow Publishing","2021","January 2021","8.500 X 11.00",null,null," ",null,null,null,null,null,"Grade 5","Grade 4 - 6","Experimentation is one of the most important steps of the scientific method, aiding in the discovery of new theories and a better understanding of our world. Learning how to set up an experiment, how to record data, and what to look for are all crucial activities for a young scientist to learn. Through this set's collection of simple experiments, young readers will discover important scientific theories and learn how to properly set up their tests. With step-by-step instructions and even a place to record their findings, each book will make readers feel like real scientists on their road to discovery. Features include: Hands-on experiments that reinforce STEM curriculum. Informative fact boxes that teach young readers how the experiments work and what they present. Simple, educational experiments use everyday household items. Important safety instructions and notes on when to ask an adult for help.","English",101.08,75.8,null,"32 pp.","https://www.enslow.com/series/simple_science_experiments/494319",{"$f":"Table1[[#This Row],[QTY]]*Table1[[#This Row],['# of Books]]","v":0},{"$f":"Table1[[#This Row],[QTY]]*Table1[[#This Row],[School & Library Price]]","v":0}]
[null,48,37,"Simple Science Experiments","Air and Water",1,"Library Bound Book","978-1-9785-2040-0",{"$f":"HYPERLINK(Table1[[#This Row],[Hyperlink]],\"Weblink\")","v":"Weblink"},"Enslow Publishing","2021","January 2021","8.500 X 11.00","Author","Chris Oxlade"," ",null,null,null,"V",null,"Grade 5","Grade 4 - 6","Air and water are everywhere, playing a crucial role in human survival, and the survival of most of the planet. For a young scientist, understanding these integral parts of our world is the first step to understanding larger scientific concepts. From a hands-on approach to water surface tension to understanding air pressure, young readers will discover how both air and water work. Instructions and informative fact boxes help young readers to effectively set up their own experiments and record their findings.","English",25.27,18.95,"507.8--dc23","32 pp.","https://www.enslow.com/books/Air_and_Water/422269",{"$f":"Table1[[#This Row],[QTY]]*Table1[[#This Row],['# of Books]]","v":0},{"$f":"Table1[[#This Row],[QTY]]*Table1[[#This Row],[School & Library Price]]","v":0}]
[null,48,37,"Simple Science Experiments","Air and Water",1,"eBook","978-1-9785-2041-7",{"$f":"HYPERLINK(Table1[[#This Row],[Hyperlink]],\"Weblink\")","v":"Weblink"},"Enslow Publishing","2021","January 2021",null,"Author","Chris Oxlade"," ",null,null,null,"V",null,"Grade 5","Grade 4 - 6","Air and water are everywhere, playing a crucial role in human survival, and the survival of most of the planet. For a young scientist, understanding these integral parts of our world is the first step to understanding larger scientific concepts. From a hands-on approach to water surface tension to understanding air pressure, young readers will discover how both air and water work. Instructions and informative fact boxes help young readers to effectively set up their own experiments and record their findings.","English",25.27,18.95,"507.8--dc23","32 pp.","https://www.enslow.com/books/Air_and_Water/422269",{"$f":"Table1[[#This Row],[QTY]]*Table1[[#This Row],['# of Books]]","v":0},{"$f":"Table1[[#This Row],[QTY]]*Table1[[#This Row],[School & Library Price]]","v":0}]
[null,48,37,"Simple Science Experiments","Electricity and Magnets",1,"Library Bound Book","978-1-9785-2044-8",{"$f":"HYPERLINK(Table1[[#This Row],[Hyperlink]],\"Weblink\")","v":"Weblink"},"Enslow Publishing","2021","January 2021","8.500 X 11.00","Author","Chris Oxlade"," ",null,null,null,"V",null,"Grade 5","Grade 4 - 6","With electronic devices in nearly every home, electrical and magnetic currents are a common part of everyday life. Understanding how these concepts work in a safe and practical way is an important part of every young scientist's journey. Through this volume's simple, hands-on experiments, young scientists will get a good look at both in action, encouraging their understanding of these complex forces. With experiments on static electricity and magnetic attraction, young readers will dive right into the step-by-step instructions while learning important scientific lessons.","English",25.27,18.95,"537.078--dc23","32 pp.","https://www.enslow.com/books/Electricity_and_Magnets/422270",{"$f":"Table1[[#This Row],[QTY]]*Table1[[#This Row],['# of Books]]","v":0},{"$f":"Table1[[#This Row],[QTY]]*Table1[[#This Row],[School & Library Price]]","v":0}]
[null,48,37,"Simple Science Experiments","Electricity and Magnets",1,"eBook","978-1-9785-2045-5",{"$f":"HYPERLINK(Table1[[#This Row],[Hyperlink]],\"Weblink\")","v":"Weblink"},"Enslow Publishing","2021","January 2021",null,"Author","Chris Oxlade"," ",null,null,null,"V",null,"Grade 5","Grade 4 - 6","With electronic devices in nearly every home, electrical and magnetic currents are a common part of everyday life. Understanding how these concepts work in a safe and practical way is an important part of every young scientist's journey. Through this volume's simple, hands-on experiments, young scientists will get a good look at both in action, encouraging their understanding of these complex forces. With experiments on static electricity and magnetic attraction, young readers will dive right into the step-by-step instructions while learning important scientific lessons.","English",25.27,18.95,"537.078--dc23","32 pp.","https://www.enslow.com/books/Electricity_and_Magnets/422270",{"$f":"Table1[[#This Row],[QTY]]*Table1[[#This Row],['# of Books]]","v":0},{"$f":"Table1[[#This Row],[QTY]]*Table1[[#This Row],[School & Library Price]]","v":0}]
[null,48,37,"Simple Science Experiments","Light and Sound",1,"Library Bound Book","978-1-9785-2048-6",{"$f":"HYPERLINK(Table1[[#This Row],[Hyperlink]],\"Weblink\")","v":"Weblink"},"Enslow Publishing","2021","January 2021","8.500 X 11.00","Author","Chris Oxlade"," ",null,null,null,"V",null,"Grade 5","Grade 4 - 6","Light and sound both travel in waves, but sound waves travel significantly slower than light. Theories like this are difficult to grasp in words, but there are easy ways to see them in action. With this book's simple experiments, young scientists will test out how light can bend and how even invisible sounds can make things move, helping them understand how even the most complex theories work. Through step-by-step instructions, young readers will learn the right way to set up their experiments and expand on concepts they already know.","English",25.27,18.95,"534.078--dc23","32 pp.","https://www.enslow.com/books/Light_and_Sound/422271",{"$f":"Table1[[#This Row],[QTY]]*Table1[[#This Row],['# of Books]]","v":0},{"$f":"Table1[[#This Row],[QTY]]*Table1[[#This Row],[School & Library Price]]","v":0}]
[null,48,37,"Simple Science Experiments","Light and Sound",1,"eBook","978-1-9785-2049-3",{"$f":"HYPERLINK(Table1[[#This Row],[Hyperlink]],\"Weblink\")","v":"Weblink"},"Enslow Publishing","2021","January 2021",null,"Author","Chris Oxlade"," ",null,null,null,"V",null,"Grade 5","Grade 4 - 6","Light and sound both travel in waves, but sound waves travel significantly slower than light. Theories like this are difficult to grasp in words, but there are easy ways to see them in action. With this book's simple experiments, young scientists will test out how light can bend and how even invisible sounds can make things move, helping them understand how even the most complex theories work. Through step-by-step instructions, young readers will learn the right way to set up their experiments and expand on concepts they already know.","English",25.27,18.95,"534.078--dc23","32 pp.","https://www.enslow.com/books/Light_and_Sound/422271",{"$f":"Table1[[#This Row],[QTY]]*Table1[[#This Row],['# of Books]]","v":0},{"$f":"Table1[[#This Row],[QTY]]*Table1[[#This Row],[School & Library Price]]","v":0}]
[null,48,37,"Simple Science Experiments","Matter and Materials",1,"Library Bound Book","978-1-9785-2052-3",{"$f":"HYPERLINK(Table1[[#This Row],[Hyperlink]],\"Weblink\")","v":"Weblink"},"Enslow Publishing","2021","January 2021","8.500 X 11.00","Author","Chris Oxlade"," ",null,null,null,"V",null,"Grade 5","Grade 4 - 6","Everything is made out of matter, but what is matter? Both matter and materials are important scientific building blocks, and understanding what they are exactly can be a difficult concept to grasp. Through this book's simple science experiments, young readers will learn about different states of matter and the particles that make up everything in the world around them. This book's easy-to-follow directions will help readers set up their experiments and guide them through their process, all while helping them understand this important scientific theory.","English",25.27,18.95,"530.4078--dc23","32 pp.","https://www.enslow.com/books/Matter_and_Materials/422272",{"$f":"Table1[[#This Row],[QTY]]*Table1[[#This Row],['# of Books]]","v":0},{"$f":"Table1[[#This Row],[QTY]]*Table1[[#This Row],[School & Library Price]]","v":0}]
[null,48,37,"Simple Science Experiments","Matter and Materials",1,"eBook","978-1-9785-2053-0",{"$f":"HYPERLINK(Table1[[#This Row],[Hyperlink]],\"Weblink\")","v":"Weblink"},"Enslow Publishing","2021","January 2021",null,"Author","Chris Oxlade"," ",null,null,null,"V",null,"Grade 5","Grade 4 - 6","Everything is made out of matter, but what is matter? Both matter and materials are important scientific building blocks, and understanding what they are exactly can be a difficult concept to grasp. Through this book's simple science experiments, young readers will learn about different states of matter and the particles that make up everything in the world around them. This book's easy-to-follow directions will help readers set up their experiments and guide them through their process, all while helping them understand this important scientific theory.","English",25.27,18.95,"530.4078--dc23","32 pp.","https://www.enslow.com/books/Matter_and_Materials/422272",{"$f":"Table1[[#This Row],[QTY]]*Table1[[#This Row],['# of Books]]","v":0},{"$f":"Table1[[#This Row],[QTY]]*Table1[[#This Row],[School & Library Price]]","v":0}]
[null,null,38,"Where on Earth?","Where on Earth?",7,"Library Set","978-1-9785-2581-8",null,"Enslow Publishing","2022","August 2021","8.500 X 8.500",null,null," ",null,null,null,null,null,"Grade 2 - 3","Grade 2 - 4","From landforms to weather to the people who live there, each of Earth’s seven continents is unique in its own way. Readers of this engaging series learn all about the seven large landmasses that help make up our planet. Easy-to-understand maps give readers a visual guide to the continents and the countries that make them up. Colorful photographs and simple diagrams encourage readers to develop a deeper understanding of the material. These innovative volumes make excellent supplements to elementary social studies curricula.","English",158.19999999999999,118.65,null,"24 pp.",null,{"$f":"Table1[[#This Row],[QTY]]*Table1[[#This Row],['# of Books]]","v":0},{"$f":"Table1[[#This Row],[QTY]]*Table1[[#This Row],[School & Library Price]]","v":0}]
[null,null,38,"Where on Earth?","Africa",1,"Library Bound Book","978-1-9785-2555-9",null,"Enslow Publishing","2022","August 2021","8.500 X 8.500","Author","Shalini Vallepur"," ",null,null,null,"M",null,"Grade 2 - 3","Grade 2 - 4","Africa is the world’s second largest continent by both size and population. But there’s a lot more to know about this large landmass. With the help of this informative guide, curious readers can learn all about this unique continent, from its geography and countries to its people and animal life. Colorful photographs and helpful graphic elements reinforce key concepts from the text. This engaging volume makes for an excellent supplement to any elementary social studies curriculum.","English",22.6,16.95,"960","24 pp.",null,{"$f":"Table1[[#This Row],[QTY]]*Table1[[#This Row],['# of Books]]","v":0},{"$f":"Table1[[#This Row],[QTY]]*Table1[[#This Row],[School & Library Price]]","v":0}]
[null,null,38,"Where on Earth?","Africa",1,"eBook","978-1-9785-2556-6",null,"Enslow Publishing","2022","August 2021",null,"Author","Shalini Vallepur"," ",null,null,null,"M",null,"Grade 2 - 3","Grade 2 - 4","Africa is the world’s second largest continent by both size and population. But there’s a lot more to know about this large landmass. With the help of this informative guide, curious readers can learn all about this unique continent, from its geography and countries to its people and animal life. Colorful photographs and helpful graphic elements reinforce key concepts from the text. This engaging volume makes for an excellent supplement to any elementary social studies curriculum.","English",22.6,16.95,"960","24 pp.",null,{"$f":"Table1[[#This Row],[QTY]]*Table1[[#This Row],['# of Books]]","v":0},{"$f":"Table1[[#This Row],[QTY]]*Table1[[#This Row],[School & Library Price]]","v":0}]
[null,null,38,"Where on Earth?","Antarctica",1,"Library Bound Book","978-1-9785-2559-7",null,"Enslow Publishing","2022","August 2021","8.500 X 8.500","Author","Shalini Vallepur"," ",null,null,null,"M",null,"Grade 2 - 3","Grade 2 - 4","For those who can’t travel to Antarctica, reading this innovative volume may just be the next best thing! Most people know about Antarctica’s cold and harsh conditions, but not everyone is aware of just how amazing this chilly continent really is! From the animals that call Antarctica home to the continent’s frigid desert and evermoving ice forms, this captivating volume covers many of the questions young readers may have about Antarctica. Simple diagrams supplement accessible text, creating an easy-to-understand guide to the coldest continent.","English",22.6,16.95,"919.89","24 pp.",null,{"$f":"Table1[[#This Row],[QTY]]*Table1[[#This Row],['# of Books]]","v":0},{"$f":"Table1[[#This Row],[QTY]]*Table1[[#This Row],[School & Library Price]]","v":0}]
[null,null,38,"Where on Earth?","Antarctica",1,"eBook","978-1-9785-2560-3",null,"Enslow Publishing","2022","August 2021",null,"Author","Shalini Vallepur"," ",null,null,null,"M",null,"Grade 2 - 3","Grade 2 - 4","For those who can’t travel to Antarctica, reading this innovative volume may just be the next best thing! Most people know about Antarctica’s cold and harsh conditions, but not everyone is aware of just how amazing this chilly continent really is! From the animals that call Antarctica home to the continent’s frigid desert and evermoving ice forms, this captivating volume covers many of the questions young readers may have about Antarctica. Simple diagrams supplement accessible text, creating an easy-to-understand guide to the coldest continent.","English",22.6,16.95,"919.89","24 pp.",null,{"$f":"Table1[[#This Row],[QTY]]*Table1[[#This Row],['# of Books]]","v":0},{"$f":"Table1[[#This Row],[QTY]]*Table1[[#This Row],[School & Library Price]]","v":0}]
[null,null,38,"Where on Earth?","Asia",1,"Library Bound Book","978-1-9785-2563-4",null,"Enslow Publishing","2022","August 2021","8.500 X 8.500","Author","Shalini Vallepur"," ",null,null,null,"M",null,"Grade 2 - 3","Grade 2 - 4","There’s no shortage of fun facts to know about Asia. With dozens of countries and an area of more than 17 million square miles (44 million square kilometers), it’s home to more people than any other continent on Earth. Plus, it boasts both the highest and lowest points on the planet! Using eye-catching photographs, informative graphic elements, and engaging text, this book guides readers on a fact-filled journey through the largest continent in the world.","English",22.6,16.95,"950","24 pp.",null,{"$f":"Table1[[#This Row],[QTY]]*Table1[[#This Row],['# of Books]]","v":0},{"$f":"Table1[[#This Row],[QTY]]*Table1[[#This Row],[School & Library Price]]","v":0}]
[null,null,38,"Where on Earth?","Asia",1,"eBook","978-1-9785-2564-1",null,"Enslow Publishing","2022","August 2021",null,"Author","Shalini Vallepur"," ",null,null,null,"M",null,"Grade 2 - 3","Grade 2 - 4","There’s no shortage of fun facts to know about Asia. With dozens of countries and an area of more than 17 million square miles (44 million square kilometers), it’s home to more people than any other continent on Earth. Plus, it boasts both the highest and lowest points on the planet! Using eye-catching photographs, informative graphic elements, and engaging text, this book guides readers on a fact-filled journey through the largest continent in the world.","English",22.6,16.95,"950","24 pp.",null,{"$f":"Table1[[#This Row],[QTY]]*Table1[[#This Row],['# of Books]]","v":0},{"$f":"Table1[[#This Row],[QTY]]*Table1[[#This Row],[School & Library Price]]","v":0}]
[null,null,38,"Where on Earth?","Australia",1,"Library Bound Book","978-1-9785-2567-2",null,"Enslow Publishing","2022","August 2021","8.500 X 8.500","Author","Shalini Vallepur"," ",null,null,null,"M",null,"Grade 2 - 3","Grade 2 - 4","It may be the smallest continent, but there’s a lot to know about Australia. This continent, which is also a country, is home to some of the most beautiful and unique places on Earth, such as the Great Barrier Reef and the vast Outback. In this informative book, colorful photographs pair closely with accessible text, guiding readers around this captivating continent. Graphic elements, such as maps and diagrams, help readers visualize some of Australia’s most fascinating features and understand fun facts about the continent.","English",22.6,16.95,"994","24 pp.",null,{"$f":"Table1[[#This Row],[QTY]]*Table1[[#This Row],['# of Books]]","v":0},{"$f":"Table1[[#This Row],[QTY]]*Table1[[#This Row],[School & Library Price]]","v":0}]
[null,null,38,"Where on Earth?","Australia",1,"eBook","978-1-9785-2568-9",null,"Enslow Publishing","2022","August 2021",null,"Author","Shalini Vallepur"," ",null,null,null,"M",null,"Grade 2 - 3","Grade 2 - 4","It may be the smallest continent, but there’s a lot to know about Australia. This continent, which is also a country, is home to some of the most beautiful and unique places on Earth, such as the Great Barrier Reef and the vast Outback. In this informative book, colorful photographs pair closely with accessible text, guiding readers around this captivating continent. Graphic elements, such as maps and diagrams, help readers visualize some of Australia’s most fascinating features and understand fun facts about the continent.","English",22.6,16.95,"994","24 pp.",null,{"$f":"Table1[[#This Row],[QTY]]*Table1[[#This Row],['# of Books]]","v":0},{"$f":"Table1[[#This Row],[QTY]]*Table1[[#This Row],[School & Library Price]]","v":0}]
[null,null,38,"Where on Earth?","Europe",1,"Library Bound Book","978-1-9785-2571-9",null,"Enslow Publishing","2022","August 2021","8.500 X 8.500","Author","Shalini Vallepur"," ",null,null,null,"M",null,"Grade 2 - 3","Grade 2 - 4","Although Europe is the second smallest continent in size, it’s the third largest in population. It’s home to dozens of countries and a number of bustling cities. Readers of this engaging volume travel on a journey through this one-of-a-kind continent, learning about its people, geography, unique characteristics, and much more along the way. Eye-catching photographs help readers visualize each location, while age-appropriate text helps reinforce key concepts from elementary social studies curricula.","English",22.6,16.95,"940","24 pp.",null,{"$f":"Table1[[#This Row],[QTY]]*Table1[[#This Row],['# of Books]]","v":0},{"$f":"Table1[[#This Row],[QTY]]*Table1[[#This Row],[School & Library Price]]","v":0}]
[null,null,38,"Where on Earth?","Europe",1,"eBook","978-1-9785-2572-6",null,"Enslow Publishing","2022","August 2021",null,"Author","Shalini Vallepur"," ",null,null,null,"M",null,"Grade 2 - 3","Grade 2 - 4","Although Europe is the second smallest continent in size, it’s the third largest in population. It’s home to dozens of countries and a number of bustling cities. Readers of this engaging volume travel on a journey through this one-of-a-kind continent, learning about its people, geography, unique characteristics, and much more along the way. Eye-catching photographs help readers visualize each location, while age-appropriate text helps reinforce key concepts from elementary social studies curricula.","English",22.6,16.95,"940","24 pp.",null,{"$f":"Table1[[#This Row],[QTY]]*Table1[[#This Row],['# of Books]]","v":0},{"$f":"Table1[[#This Row],[QTY]]*Table1[[#This Row],[School & Library Price]]","v":0}]
[null,null,38,"Where on Earth?","North America",1,"Library Bound Book","978-1-9785-2575-7",null,"Enslow Publishing","2022","August 2021","8.500 X 8.500","Author","Shalini Vallepur"," ",null,null,null,"M",null,"Grade 2 - 3","Grade 2 - 4","Mostly between the Arctic Circle and the Tropic of Cancer lies North America, the third largest continent in area. While young readers may already be familiar with parts of this continent, there is an endless amount of information to learn about the landmass. Simple maps help readers of this volume locate key parts of the continent. With information about important geographical features, as well as the people and cultures that make up North America, this engaging book is an excellent supplement to the elementary social studies curriculum.","English",22.6,16.95,"970","24 pp.",null,{"$f":"Table1[[#This Row],[QTY]]*Table1[[#This Row],['# of Books]]","v":0},{"$f":"Table1[[#This Row],[QTY]]*Table1[[#This Row],[School & Library Price]]","v":0}]
[null,null,38,"Where on Earth?","North America",1,"eBook","978-1-9785-2576-4",null,"Enslow Publishing","2022","August 2021",null,"Author","Shalini Vallepur"," ",null,null,null,"M",null,"Grade 2 - 3","Grade 2 - 4","Mostly between the Arctic Circle and the Tropic of Cancer lies North America, the third largest continent in area. While young readers may already be familiar with parts of this continent, there is an endless amount of information to learn about the landmass. Simple maps help readers of this volume locate key parts of the continent. With information about important geographical features, as well as the people and cultures that make up North America, this engaging book is an excellent supplement to the elementary social studies curriculum.","English",22.6,16.95,"970","24 pp.",null,{"$f":"Table1[[#This Row],[QTY]]*Table1[[#This Row],['# of Books]]","v":0},{"$f":"Table1[[#This Row],[QTY]]*Table1[[#This Row],[School & Library Price]]","v":0}]
[null,null,38,"Where on Earth?","South America",1,"Library Bound Book","978-1-9785-2579-5",null,"Enslow Publishing","2022","August 2021","8.500 X 8.500","Author","Shalini Vallepur"," ",null,null,null,"M",null,"Grade 2 - 3","Grade 2 - 4","Traveling the world isn’t always an option, but reading about it can be! With the help of this engaging book, young readers have the opportunity to take an up-close look at the fascinating continent of South America. Simple diagrams help break down key concepts, while easy-to-follow maps help readers understand where in the world—and within the continent—different features are located. Accessible text and captivating photographs ensure that even reluctant and struggling readers will benefit from this informative guide.","English",22.6,16.95,"980","24 pp.",null,{"$f":"Table1[[#This Row],[QTY]]*Table1[[#This Row],['# of Books]]","v":0},{"$f":"Table1[[#This Row],[QTY]]*Table1[[#This Row],[School & Library Price]]","v":0}]
[null,null,38,"Where on Earth?","South America",1,"eBook","978-1-9785-2580-1",null,"Enslow Publishing","2022","August 2021",null,"Author","Shalini Vallepur"," ",null,null,null,"M",null,"Grade 2 - 3","Grade 2 - 4","Traveling the world isn’t always an option, but reading about it can be! With the help of this engaging book, young readers have the opportunity to take an up-close look at the fascinating continent of South America. Simple diagrams help break down key concepts, while easy-to-follow maps help readers understand where in the world—and within the continent—different features are located. Accessible text and captivating photographs ensure that even reluctant and struggling readers will benefit from this informative guide.","English",22.6,16.95,"980","24 pp.",null,{"$f":"Table1[[#This Row],[QTY]]*Table1[[#This Row],['# of Books]]","v":0},{"$f":"Table1[[#This Row],[QTY]]*Table1[[#This Row],[School & Library Price]]","v":0}]
[null,null,null,"Max Booth: Future Sleuth","Chip Blip",1,"Hardcover","978-1-5383-8476-3",{"$f":"HYPERLINK(Table1[[#This Row],[Hyperlink]],\"Weblink\")","v":"Weblink"},"West 44 Books","2021","January 2021","6.000 X 8.250","Author, Illustrated by","Cameron Macintosh, Dave Atze",null,null,null,null,"V",null,"Grade 4","Grade 3 - 5","Max and Oscar are given a pet ID microchip to identify. A rice-sized electronic device, Max has never seen anything quite like it. Using an ancient library book scanner, he obtains a reading from it. It's a mysterious code, with the Bluggsville City logo beside it. Max and Oscar uncover the identity of the dog it was assigned to and are determined to find out why the chip was never implanted. Oscar, smitten by the dog in the photo, is especially eager. When their hunt lands them at a pound for robo-dogs, they resolve to set the dogs free. Little do they know the chip is transmitting their location details to forces that threaten their own freedom.","English",19.95,14.95,null,"120 pp.","https://www.enslow.com/books/chip_blip/422288",{"$f":"Table1[[#This Row],[QTY]]*Table1[[#This Row],['# of Books]]","v":0},{"$f":"Table1[[#This Row],[QTY]]*Table1[[#This Row],[School & Library Price]]","v":0}]
[null,null,null,"Max Booth: Future Sleuth","Chip Blip",1,"Paperback Book","978-1-5383-8477-0",{"$f":"HYPERLINK(Table1[[#This Row],[Hyperlink]],\"Weblink\")","v":"Weblink"},"West 44 Books","2021","January 2021","6.000 X 8.250","Author, Illustrated by","Cameron Macintosh, Dave Atze",null,null,null,null,"V",null,"Grade 4","Grade 3 - 5","Max and Oscar are given a pet ID microchip to identify. A rice-sized electronic device, Max has never seen anything quite like it. Using an ancient library book scanner, he obtains a reading from it. It's a mysterious code, with the Bluggsville City logo beside it. Max and Oscar uncover the identity of the dog it was assigned to and are determined to find out why the chip was never implanted. Oscar, smitten by the dog in the photo, is especially eager. When their hunt lands them at a pound for robo-dogs, they resolve to set the dogs free. Little do they know the chip is transmitting their location details to forces that threaten their own freedom.","English",12.9,10.95,null,"120 pp.","https://www.enslow.com/books/chip_blip/422288",{"$f":"Table1[[#This Row],[QTY]]*Table1[[#This Row],['# of Books]]","v":0},{"$f":"Table1[[#This Row],[QTY]]*Table1[[#This Row],[School & Library Price]]","v":0}]
[null,null,null,"Max Booth: Future Sleuth","Chip Blip",1,"eBook","978-1-5383-8478-7",{"$f":"HYPERLINK(Table1[[#This Row],[Hyperlink]],\"Weblink\")","v":"Weblink"},"West 44 Books","2021","January 2021",null,"Author, Illustrated by","Cameron Macintosh, Dave Atze",null,null,null,null,"V",null,"Grade 4","Grade 3 - 5","Max and Oscar are given a pet ID microchip to identify. A rice-sized electronic device, Max has never seen anything quite like it. Using an ancient library book scanner, he obtains a reading from it. It's a mysterious code, with the Bluggsville City logo beside it. Max and Oscar uncover the identity of the dog it was assigned to and are determined to find out why the chip was never implanted. Oscar, smitten by the dog in the photo, is especially eager. When their hunt lands them at a pound for robo-dogs, they resolve to set the dogs free. Little do they know the chip is transmitting their location details to forces that threaten their own freedom.","English",19.95,14.95,null,"120 pp.","https://www.enslow.com/books/chip_blip/422288",{"$f":"Table1[[#This Row],[QTY]]*Table1[[#This Row],['# of Books]]","v":0},{"$f":"Table1[[#This Row],[QTY]]*Table1[[#This Row],[School & Library Price]]","v":0}]
[null,null,null,"Max Booth: Future Sleuth","Film Flip",1,"Hardcover","978-1-5383-8470-1",{"$f":"HYPERLINK(Table1[[#This Row],[Hyperlink]],\"Weblink\")","v":"Weblink"},"West 44 Books","2021","January 2021","6.000 X 8.250","Author, Illustrated by","Cameron Macintosh, Dave Atze",null,null,null,null,"T",null,"Grade 4","Grade 3 - 5","Max and Oscar—Bluggsville’s sharpest pair of sleuths—can’t believe their luck when they find a 400-year-old roll of film. They soon discover it contains a long-lost snapshot, and know they’ve found something super-special. Unfortunately, they’re not the only ones who realize how rare, and valuable, this photo could be. Max and Oscar are going to need all of their wiliest wits to keep it out of the wrong hands!","English",19.95,14.95,null,"128 pp.","https://www.enslow.com/books/film_flip/422286",{"$f":"Table1[[#This Row],[QTY]]*Table1[[#This Row],['# of Books]]","v":0},{"$f":"Table1[[#This Row],[QTY]]*Table1[[#This Row],[School & Library Price]]","v":0}]
[null,null,null,"Max Booth: Future Sleuth","Film Flip",1,"Paperback Book","978-1-5383-8471-8",{"$f":"HYPERLINK(Table1[[#This Row],[Hyperlink]],\"Weblink\")","v":"Weblink"},"West 44 Books","2021","January 2021","6.000 X 8.250","Author, Illustrated by","Cameron Macintosh, Dave Atze",null,null,null,null,"T",null,"Grade 4","Grade 3 - 5","Max and Oscar—Bluggsville’s sharpest pair of sleuths—can’t believe their luck when they find a 400-year-old roll of film. They soon discover it contains a long-lost snapshot, and know they’ve found something super-special. Unfortunately, they’re not the only ones who realize how rare, and valuable, this photo could be. Max and Oscar are going to need all of their wiliest wits to keep it out of the wrong hands!","English",12.9,10.95,null,"128 pp.","https://www.enslow.com/books/film_flip/422286",{"$f":"Table1[[#This Row],[QTY]]*Table1[[#This Row],['# of Books]]","v":0},{"$f":"Table1[[#This Row],[QTY]]*Table1[[#This Row],[School & Library Price]]","v":0}]
[null,null,null,"Max Booth: Future Sleuth","Film Flip",1,"eBook","978-1-5383-8472-5",{"$f":"HYPERLINK(Table1[[#This Row],[Hyperlink]],\"Weblink\")","v":"Weblink"},"West 44 Books","2021","January 2021",null,"Author, Illustrated by","Cameron Macintosh, Dave Atze",null,null,null,null,"T",null,"Grade 4","Grade 3 - 5","Max and Oscar—Bluggsville’s sharpest pair of sleuths—can’t believe their luck when they find a 400-year-old roll of film. They soon discover it contains a long-lost snapshot, and know they’ve found something super-special. Unfortunately, they’re not the only ones who realize how rare, and valuable, this photo could be. Max and Oscar are going to need all of their wiliest wits to keep it out of the wrong hands!","English",19.95,14.95,null,"128 pp.","https://www.enslow.com/books/film_flip/422286",{"$f":"Table1[[#This Row],[QTY]]*Table1[[#This Row],['# of Books]]","v":0},{"$f":"Table1[[#This Row],[QTY]]*Table1[[#This Row],[School & Library Price]]","v":0}]
[null,null,null,"Max Booth: Future Sleuth","The Map Trap",1,"Hardcover","978-1-5383-8473-2",{"$f":"HYPERLINK(Table1[[#This Row],[Hyperlink]],\"Weblink\")","v":"Weblink"},"West 44 Books","2021","January 2021","6.000 X 8.250","Author, Illustrated by","Cameron Macintosh, Dave Atze",null,null,null,null,"V",null,"Grade 4","Grade 3 - 5","When Max discovers an old GPS car navigation unit in the storeroom, he and Oscar risk another excursion down to the ground to discover its real purpose. They find a way to switch it on and realize they can see the previous owner's journey history. They decide to retrace the owner's most recent trip, which was made on Jan 22, 2018! The device sends Max and Oscar onto streets that no longer exist, directly into the scene of an art robbery. To avoid discovery, Max and Oscar hide in the thieves' van-copter and are taken far beyond the borders of Bluggsville. Max and Oscar must find a way to use the rusty navigation unit to apprehend the thieves, and find their way home.","English",19.95,14.95,null,"128 pp.","https://www.enslow.com/books/the_map_trap/422287",{"$f":"Table1[[#This Row],[QTY]]*Table1[[#This Row],['# of Books]]","v":0},{"$f":"Table1[[#This Row],[QTY]]*Table1[[#This Row],[School & Library Price]]","v":0}]
[null,null,null,"Max Booth: Future Sleuth","The Map Trap",1,"Paperback Book","978-1-5383-8474-9",{"$f":"HYPERLINK(Table1[[#This Row],[Hyperlink]],\"Weblink\")","v":"Weblink"},"West 44 Books","2021","January 2021","6.000 X 8.250","Author, Illustrated by","Cameron Macintosh, Dave Atze",null,null,null,null,"V",null,"Grade 4","Grade 3 - 5","When Max discovers an old GPS car navigation unit in the storeroom, he and Oscar risk another excursion down to the ground to discover its real purpose. They find a way to switch it on and realize they can see the previous owner's journey history. They decide to retrace the owner's most recent trip, which was made on Jan 22, 2018! The device sends Max and Oscar onto streets that no longer exist, directly into the scene of an art robbery. To avoid discovery, Max and Oscar hide in the thieves' van-copter and are taken far beyond the borders of Bluggsville. Max and Oscar must find a way to use the rusty navigation unit to apprehend the thieves, and find their way home.","English",12.9,10.95,null,"128 pp.","https://www.enslow.com/books/the_map_trap/422287",{"$f":"Table1[[#This Row],[QTY]]*Table1[[#This Row],['# of Books]]","v":0},{"$f":"Table1[[#This Row],[QTY]]*Table1[[#This Row],[School & Library Price]]","v":0}]
[null,null,null,"Max Booth: Future Sleuth","The Map Trap",1,"eBook","978-1-5383-8475-6",{"$f":"HYPERLINK(Table1[[#This Row],[Hyperlink]],\"Weblink\")","v":"Weblink"},"West 44 Books","2021","January 2021",null,"Author, Illustrated by","Cameron Macintosh, Dave Atze",null,null,null,null,"V",null,"Grade 4","Grade 3 - 5","When Max discovers an old GPS car navigation unit in the storeroom, he and Oscar risk another excursion down to the ground to discover its real purpose. They find a way to switch it on and realize they can see the previous owner's journey history. They decide to retrace the owner's most recent trip, which was made on Jan 22, 2018! The device sends Max and Oscar onto streets that no longer exist, directly into the scene of an art robbery. To avoid discovery, Max and Oscar hide in the thieves' van-copter and are taken far beyond the borders of Bluggsville. Max and Oscar must find a way to use the rusty navigation unit to apprehend the thieves, and find their way home.","English",19.95,14.95,null,"128 pp.","https://www.enslow.com/books/the_map_trap/422287",{"$f":"Table1[[#This Row],[QTY]]*Table1[[#This Row],['# of Books]]","v":0},{"$f":"Table1[[#This Row],[QTY]]*Table1[[#This Row],[School & Library Price]]","v":0}]
[null,6,null,"Minecraft® Explorers","Minecraft® Explorers: Sets 1 – 2",8,"Library Set","978-1-9785-9517-0",{"$f":"HYPERLINK(Table1[[#This Row],[Hyperlink]],\"Weblink\")","v":"Weblink"},"West 44 Books","2021","August 2020","5.250 X 7.125",null,null,null,null,null,null,null,null,"Grade 2 - 3","Grade 2 - 5","For Matt Lopez and his friends Dave, Jaz, and Kayla, Minecraft was just a game, their favorite game, to be sure, but just a game. Then, Matt acquired a very special virtual reality headset and found himself in the world of Minecraft! These books will draw in young Minecraft fans with intriguing stories as the friends venture into the world, learning how to survive and create their own place with their gaming know-how. Useful fact boxes meld gameplay tips with real-life STEM knowledge related to the game, and challenges related to game survival will pull readers in. Features include: Integrates important STEM topics into a fantasy world. Appeals to developing readers. Fact boxes with helpful tips for the Minecraft world help readers better understand and master the game.","English",143.6,107.6,null,"64 pp.","https://www.enslow.com/series/Minecraft®_Explorers/481687",{"$f":"Table1[[#This Row],[QTY]]*Table1[[#This Row],['# of Books]]","v":0},{"$f":"Table1[[#This Row],[QTY]]*Table1[[#This Row],[School & Library Price]]","v":0}]
[null,null,null,"Minecraft® Explorers","Minecraft® Explorers: Sets 1 – 2",8,"Single Copy Set","978-1-9785-9519-4",{"$f":"HYPERLINK(Table1[[#This Row],[Hyperlink]],\"Weblink\")","v":"Weblink"},"West 44 Books","2021","August 2020","5.250 X 7.125",null,null,null,null,null,null,null,null,"Grade 2 - 3","Grade 2 - 5","For Matt Lopez and his friends Dave, Jaz, and Kayla, Minecraft was just a game, their favorite game, to be sure, but just a game. Then, Matt acquired a very special virtual reality headset and found himself in the world of Minecraft! These books will draw in young Minecraft fans with intriguing stories as the friends venture into the world, learning how to survive and create their own place with their gaming know-how. Useful fact boxes meld gameplay tips with real-life STEM knowledge related to the game, and challenges related to game survival will pull readers in. Features include: Integrates important STEM topics into a fantasy world. Appeals to developing readers. Fact boxes with helpful tips for the Minecraft world help readers better understand and master the game.","English",84.4,71.599999999999994,null,"64 pp.","https://www.enslow.com/series/Minecraft®_Explorers/481687",{"$f":"Table1[[#This Row],[QTY]]*Table1[[#This Row],['# of Books]]","v":0},{"$f":"Table1[[#This Row],[QTY]]*Table1[[#This Row],[School & Library Price]]","v":0}]
[null,6,null,"Minecraft® Explorers","Minecraft® Explorers: Set 2",4,"Library Set","978-1-9785-9512-5",{"$f":"HYPERLINK(Table1[[#This Row],[Hyperlink]],\"Weblink\")","v":"Weblink"},"West 44 Books","2021","August 2020","5.250 X 7.125",null,null,null,null,null,null,null,null,"Grade 2 - 3","Grade 2 - 5","Matt and his friends Dave, Jaz, and Kayla have not only survived their experiences in their real-life Minecraft world, they've thrived! Now, they have a way to visit the world together. But all four friends have different ways of dealing with Minecraft challenges and hopes for building their game world. Learning how to work together might be the biggest challenge of all. Minecraft fans will love this return to the adventures of Matt and friends. Fact boxes will help young gamers in their own game explorations and show them how the STEM principles of the game relate to the real world. Features include: Integrates important STEM topics into a fantasy world. Appeals to developing readers. Fact boxes with helpful tips for the Minecraft world help readers better understand and master the game.","English",71.8,53.8,null,"64 pp.","https://www.enslow.com/series/Minecraft®_Explorers/481687",{"$f":"Table1[[#This Row],[QTY]]*Table1[[#This Row],['# of Books]]","v":0},{"$f":"Table1[[#This Row],[QTY]]*Table1[[#This Row],[School & Library Price]]","v":0}]
[null,null,null,"Minecraft® Explorers","Minecraft® Explorers: Set 2",4,"Single Copy Set","978-1-9785-9518-7",{"$f":"HYPERLINK(Table1[[#This Row],[Hyperlink]],\"Weblink\")","v":"Weblink"},"West 44 Books","2021","August 2020","5.250 X 7.125",null,null,null,null,null,null,null,null,"Grade 2 - 3","Grade 2 - 5","Matt and his friends Dave, Jaz, and Kayla have not only survived their experiences in their real-life Minecraft world, they've thrived! Now, they have a way to visit the world together. But all four friends have different ways of dealing with Minecraft challenges and hopes for building their game world. Learning how to work together might be the biggest challenge of all. Minecraft fans will love this return to the adventures of Matt and friends. Fact boxes will help young gamers in their own game explorations and show them how the STEM principles of the game relate to the real world. Features include: Integrates important STEM topics into a fantasy world. Appeals to developing readers. Fact boxes with helpful tips for the Minecraft world help readers better understand and master the game.","English",42.2,35.799999999999997,null,"64 pp.","https://www.enslow.com/series/Minecraft®_Explorers/481687",{"$f":"Table1[[#This Row],[QTY]]*Table1[[#This Row],['# of Books]]","v":0},{"$f":"Table1[[#This Row],[QTY]]*Table1[[#This Row],[School & Library Price]]","v":0}]
[null,null,null,"Minecraft® Explorers","Minecraft® Explorers: Set 1",4,"Library Set","978-1-5383-8421-3",{"$f":"HYPERLINK(Table1[[#This Row],[Hyperlink]],\"Weblink\")","v":"Weblink"},"West 44 Books","2020","August 2019","5.250 X 7.125",null,null,null,null,null,null,null,null,"Grade 2 - 3","Grade 2 - 5","What would you do if you found yourself in the world of Minecraft? With this set of adventures, four students find out just how smart and organized they'll have to be to succeed. Filled with informative fact boxes and tips on Minecraft gameplay and the STEM principles involved in the game, these stories will fascinate any student who's ever tangled with a creeper, gotten lost in a cave system, or hurried to build a shelter before the monsters come out at night. Features include: Cool, relatable characters rise to the challenge of surviving in the video game world of Minecraft, providing excellent modern role models. Fact boxes provide tips and tricks for mastering Minecraft. Provides fast-paced, suspenseful content for video game-lovers ages 7 to 8.","English",71.8,53.8,null,"64 pp.","https://www.enslow.com/series/Minecraft®_Explorers/481687",{"$f":"Table1[[#This Row],[QTY]]*Table1[[#This Row],['# of Books]]","v":0},{"$f":"Table1[[#This Row],[QTY]]*Table1[[#This Row],[School & Library Price]]","v":0}]
[null,null,null,"Minecraft® Explorers","Minecraft® Explorers: Set 1",4,"Single Copy Set","978-1-5383-8532-6",{"$f":"HYPERLINK(Table1[[#This Row],[Hyperlink]],\"Weblink\")","v":"Weblink"},"West 44 Books","2020","August 2019","5.250 X 7.125",null,null,null,null,null,null,null,null,"Grade 2 - 3","Grade 2 - 5","What would you do if you found yourself in the world of Minecraft? With this set of adventures, four students find out just how smart and organized they'll have to be to succeed. Filled with informative fact boxes and tips on Minecraft gameplay and the STEM principles involved in the game, these stories will fascinate any student who's ever tangled with a creeper, gotten lost in a cave system, or hurried to build a shelter before the monsters come out at night. Features include: Cool, relatable characters rise to the challenge of surviving in the video game world of Minecraft, providing excellent modern role models. Fact boxes provide tips and tricks for mastering Minecraft. Provides fast-paced, suspenseful content for video game-lovers ages 7 to 8.","English",42.2,35.799999999999997,null,"64 pp.","https://www.enslow.com/series/Minecraft®_Explorers/481687",{"$f":"Table1[[#This Row],[QTY]]*Table1[[#This Row],['# of Books]]","v":0},{"$f":"Table1[[#This Row],[QTY]]*Table1[[#This Row],[School & Library Price]]","v":0}]
[null,7,null,"Alton Heights All-Stars","Alton Heights All-Stars Coming 2021",5,"Library Set","978-1-5383-8290-5",{"$f":"HYPERLINK(Table1[[#This Row],[Hyperlink]],\"Weblink\")","v":"Weblink"},"West 44 Books","2022","August 2021","5.250 X 7.125",null,null,null,null,null,null,null,null,"Grade 2 - 3","Grade 5 - 8","What happens when a school cuts its basketball team? The kids who live in the Alton Heights housing complex need to come up with a plan fast. That's how the Alton Heights All-Stars team is born. They may not have matching jerseys, a coach, or even a regular court to practice on, but they make up for it with perseverance and heart. Cam, Jasmine, Brianna, Tyler, and Markus prove to everyone that they're not just playing around; they're out to be All-Stars. Features include: Multicultural cast of characters promotes tolerance and allows all readers to find themselves in these stories. High-speed, play-by-play plots will keep basketball-lovers ages 8 to 12 turning page after page. High interest topics expressed in low reading level narratives are accessible and engaging for developing readers and proficient readers alike.","English",89.75,67.25,null,"64 pp.","https://www.enslow.com/series/Alton_Heights_All_Stars/463351",{"$f":"Table1[[#This Row],[QTY]]*Table1[[#This Row],['# of Books]]","v":0},{"$f":"Table1[[#This Row],[QTY]]*Table1[[#This Row],[School & Library Price]]","v":0}]
[null,8,null,"The Totally Secret Diary of Dani D.","The Totally Secret Diary of Dani D. Coming 2021",4,"Library Set","978-1-5383-8288-2",{"$f":"HYPERLINK(Table1[[#This Row],[Hyperlink]],\"Weblink\")","v":"Weblink"},"West 44 Books","2022","August 2021","5.250 X 7.125",null,null,null,null,null,null,null,null,"Grade 2 - 3","Grade 5 - 8","Dani D. is the new girl in school. She's determined to convince people that she is cool, talented, and worthy of being part of the popular crowd. Dani pretends she has no worries, but secretly she's dealing with her parents' separation and divorce and being forced to live with her strict grandparents. Dani's new clique isn't very understanding, and she's one misstep away from blowing her cover. Dani confides her feelings and the truth behind the lies she tells only in her diary, which is totally top-secret. Features include: Dani's diary is full of secrets, stories, and insights that any middle grader can relate to. High interest topics expressed in low reading level narratives are accessible and engaging for developing readers and proficient readers alike. Short, witty diary entries illustrated with quirky artwork will keep readers ages 8 to 12 engaged.","English",71.8,53.8,null,"64 pp.","https://www.enslow.com/series/The_Totally_Secret_Diary_of_Dani_D/450961",{"$f":"Table1[[#This Row],[QTY]]*Table1[[#This Row],['# of Books]]","v":0},{"$f":"Table1[[#This Row],[QTY]]*Table1[[#This Row],[School & Library Price]]","v":0}]
[null,9,null,"The Z Team","The Z Team",4,"Library Set","978-1-5383-8287-5",{"$f":"HYPERLINK(Table1[[#This Row],[Hyperlink]],\"Weblink\")","v":"Weblink"},"West 44 Books","2021","August 2020","5.250 X 7.125",null,null,null,null,null,null,null,null,"Grade 2 - 3","Grade 5 - 8","Chloe, Malik, and Justin are best friends, drawn together by their love of all things weird and spooky. One night, the abandoned railroad station in town becomes a portal to a supernatural world. Zombies have come to town, and the three friends form the Z Team to find the zombies and save the day. Along the way, they stumble into other supernatural situations involving ghosts, werewolves, vampires, and more. What's next on board the Eerie Express? Features include: Excellent role models: Chloe, Malik, and Justin use their diverse skills, smarts, and strengths to problem solve and save the day. Exciting, suspenseful supernatural series for readers 8 to 12. High interest topics expressed in low reading level narratives are accessible and engaging for both developing and proficient readers.","English",71.8,53.8,null,"64 pp.","https://www.enslow.com/series/The_Z_Team/463299",{"$f":"Table1[[#This Row],[QTY]]*Table1[[#This Row],['# of Books]]","v":0},{"$f":"Table1[[#This Row],[QTY]]*Table1[[#This Row],[School & Library Price]]","v":0}]
[null,9,null,"The Z Team","Ghost Town",1,"Hardcover","978-1-5383-8192-2",{"$f":"HYPERLINK(Table1[[#This Row],[Hyperlink]],\"Weblink\")","v":"Weblink"},"West 44 Books","2020","August 2019","5.250 X 7.125","Author","D. E. Daly",null,null,null,null,"K","400L","Grade 2 - 3","Grade 5 - 8","The Z Team sets up their headquarters in Malik's basement. They get an application for a new member, Raven. Raven is really cool, but there's something strange about her. Together, they investigate the ghostly happenings around Bridgeside. Who has come to town this time on the Eerie Express?","English",17.95,13.45,"[Fic]--dc23","64 pp.","https://www.enslow.com/books/Ghost_Town/421926",{"$f":"Table1[[#This Row],[QTY]]*Table1[[#This Row],['# of Books]]","v":0},{"$f":"Table1[[#This Row],[QTY]]*Table1[[#This Row],[School & Library Price]]","v":0}]
[null,9,null,"The Z Team","Ghost Town",1,"eBook","978-1-5383-8296-7",{"$f":"HYPERLINK(Table1[[#This Row],[Hyperlink]],\"Weblink\")","v":"Weblink"},"West 44 Books","2020","August 2019",null,"Author","D. E. Daly",null,null,null,null,"K","400L","Grade 2 - 3","Grade 5 - 8","The Z Team sets up their headquarters in Malik's basement. They get an application for a new member, Raven. Raven is really cool, but there's something strange about her. Together, they investigate the ghostly happenings around Bridgeside. Who has come to town this time on the Eerie Express?","English",17.95,13.45,"[Fic]--dc23","64 pp.","https://www.enslow.com/books/Ghost_Town/421926",{"$f":"Table1[[#This Row],[QTY]]*Table1[[#This Row],['# of Books]]","v":0},{"$f":"Table1[[#This Row],[QTY]]*Table1[[#This Row],[School & Library Price]]","v":0}]
[null,9,null,"The Z Team","Ghost Town",1,"Paperback Book","978-1-5383-8191-5",{"$f":"HYPERLINK(Table1[[#This Row],[Hyperlink]],\"Weblink\")","v":"Weblink"},"West 44 Books","2020","August 2019","5.250 X 7.125","Author","D. E. Daly",null,null,null,null,"K","400L","Grade 2 - 3","Grade 5 - 8","The Z Team sets up their headquarters in Malik's basement. They get an application for a new member, Raven. Raven is really cool, but there's something strange about her. Together, they investigate the ghostly happenings around Bridgeside. Who has come to town this time on the Eerie Express?","English",10.55,8.9499999999999993,"[Fic]--dc23","64 pp.","https://www.enslow.com/books/Ghost_Town/421926",{"$f":"Table1[[#This Row],[QTY]]*Table1[[#This Row],['# of Books]]","v":0},{"$f":"Table1[[#This Row],[QTY]]*Table1[[#This Row],[School & Library Price]]","v":0}]
[null,9,null,"The Z Team","Kidnapped by Vampires",1,"Hardcover","978-1-5383-8190-8",{"$f":"HYPERLINK(Table1[[#This Row],[Hyperlink]],\"Weblink\")","v":"Weblink"},"West 44 Books","2019","January 2019","5.250 X 7.125","Author","D. E. Daly",null,null,null,null,"K","520L","Grade 2 - 3","Grade 5 - 8","The Z Team is pretty sure nothing else is coming out of the old railroad station. They're ready to retire. However, when people start going missing in town, the Z Team gets back together to fight their next challenge, which are vampires.","English",17.95,13.45,"[E]--dc23","64 pp.","https://www.enslow.com/books/Kidnapped_by_Vampires/4666",{"$f":"Table1[[#This Row],[QTY]]*Table1[[#This Row],['# of Books]]","v":0},{"$f":"Table1[[#This Row],[QTY]]*Table1[[#This Row],[School & Library Price]]","v":0}]
[null,9,null,"The Z Team","Kidnapped by Vampires",1,"eBook","978-1-5383-8295-0",{"$f":"HYPERLINK(Table1[[#This Row],[Hyperlink]],\"Weblink\")","v":"Weblink"},"West 44 Books","2019","January 2019",null,"Author","D. E. Daly",null,null,null,null,"K","520L","Grade 2 - 3","Grade 5 - 8","The Z Team is pretty sure nothing else is coming out of the old railroad station. They're ready to retire. However, when people start going missing in town, the Z Team gets back together to fight their next challenge, which are vampires.","English",17.95,13.45,"[E]--dc23","64 pp.","https://www.enslow.com/books/Kidnapped_by_Vampires/4666",{"$f":"Table1[[#This Row],[QTY]]*Table1[[#This Row],['# of Books]]","v":0},{"$f":"Table1[[#This Row],[QTY]]*Table1[[#This Row],[School & Library Price]]","v":0}]
[null,9,null,"The Z Team","Kidnapped by Vampires",1,"Paperback Book","978-1-5383-8189-2",{"$f":"HYPERLINK(Table1[[#This Row],[Hyperlink]],\"Weblink\")","v":"Weblink"},"West 44 Books","2019","January 2019","5.250 X 7.125","Author","D. E. Daly",null,null,null,null,"K","520L","Grade 2 - 3","Grade 5 - 8","The Z Team is pretty sure nothing else is coming out of the old railroad station. They're ready to retire. However, when people start going missing in town, the Z Team gets back together to fight their next challenge, which are vampires.","English",10.55,8.9499999999999993,"[E]--dc23","64 pp.","https://www.enslow.com/books/Kidnapped_by_Vampires/4666",{"$f":"Table1[[#This Row],[QTY]]*Table1[[#This Row],['# of Books]]","v":0},{"$f":"Table1[[#This Row],[QTY]]*Table1[[#This Row],[School & Library Price]]","v":0}]
[null,9,null,"The Z Team","Werewolves on the Loose!",1,"Hardcover","978-1-5383-8194-6",{"$f":"HYPERLINK(Table1[[#This Row],[Hyperlink]],\"Weblink\")","v":"Weblink"},"West 44 Books","2021","August 2020","5.250 X 7.125","Author","D. E. Daly",null,null,null,null,"K",null,"Grade 2 - 3","Grade 5 - 8","Chloe gets a new dog and notices that it stands outside every night howling at the moon. Her dog isn't the only one in town that has started doing this, and some of the howls are coming from the old railroad station. What's worse is that the boys on the football team who always hassle the Z Team start acting really funny. Almost like...werewolves! The Z Team has a new case to crack.","English",17.95,13.45,"[Fic]--dc23","64 pp.","https://www.enslow.com/books/Werewolves_on_the_Loose/422180",{"$f":"Table1[[#This Row],[QTY]]*Table1[[#This Row],['# of Books]]","v":0},{"$f":"Table1[[#This Row],[QTY]]*Table1[[#This Row],[School & Library Price]]","v":0}]
[null,9,null,"The Z Team","Werewolves on the Loose!",1,"eBook","978-1-5383-8297-4",{"$f":"HYPERLINK(Table1[[#This Row],[Hyperlink]],\"Weblink\")","v":"Weblink"},"West 44 Books","2021","August 2020",null,"Author","D. E. Daly",null,null,null,null,"K",null,"Grade 2 - 3","Grade 5 - 8","Chloe gets a new dog and notices that it stands outside every night howling at the moon. Her dog isn't the only one in town that has started doing this, and some of the howls are coming from the old railroad station. What's worse is that the boys on the football team who always hassle the Z Team start acting really funny. Almost like...werewolves! The Z Team has a new case to crack.","English",17.95,13.45,"[Fic]--dc23","64 pp.","https://www.enslow.com/books/Werewolves_on_the_Loose/422180",{"$f":"Table1[[#This Row],[QTY]]*Table1[[#This Row],['# of Books]]","v":0},{"$f":"Table1[[#This Row],[QTY]]*Table1[[#This Row],[School & Library Price]]","v":0}]
[null,9,null,"The Z Team","Werewolves on the Loose!",1,"Paperback Book","978-1-5383-8193-9",{"$f":"HYPERLINK(Table1[[#This Row],[Hyperlink]],\"Weblink\")","v":"Weblink"},"West 44 Books","2021","August 2020","5.250 X 7.125","Author","D. E. Daly",null,null,null,null,"K",null,"Grade 2 - 3","Grade 5 - 8","Chloe gets a new dog and notices that it stands outside every night howling at the moon. Her dog isn't the only one in town that has started doing this, and some of the howls are coming from the old railroad station. What's worse is that the boys on the football team who always hassle the Z Team start acting really funny. Almost like...werewolves! The Z Team has a new case to crack.","English",10.55,8.9499999999999993,"[Fic]--dc23","64 pp.","https://www.enslow.com/books/Werewolves_on_the_Loose/422180",{"$f":"Table1[[#This Row],[QTY]]*Table1[[#This Row],['# of Books]]","v":0},{"$f":"Table1[[#This Row],[QTY]]*Table1[[#This Row],[School & Library Price]]","v":0}]
[null,9,null,"The Z Team","When Zombies Invade",1,"Hardcover","978-1-5383-8188-5",{"$f":"HYPERLINK(Table1[[#This Row],[Hyperlink]],\"Weblink\")","v":"Weblink"},"West 44 Books","2019","August 2018","5.250 X 7.125","Author","D. E. Daly",null,null,null,null,"K","520L","Grade 2 - 3","Grade 5 - 8","Chloe, Malik, and Justin have always shared a love of spooky things. They visit the supposedly haunted abandoned railroad station on the edge of their town, and accidentally unlock a portal into a supernatural realm. Their first challenge, zombies! They form the Z Team to try to save their town before the zombies take over.","English",17.95,13.45,"[E]--dc23","64 pp.","https://www.enslow.com/books/When_Zombies_Invade/421792",{"$f":"Table1[[#This Row],[QTY]]*Table1[[#This Row],['# of Books]]","v":0},{"$f":"Table1[[#This Row],[QTY]]*Table1[[#This Row],[School & Library Price]]","v":0}]
[null,9,null,"The Z Team","When Zombies Invade",1,"eBook","978-1-5383-8294-3",{"$f":"HYPERLINK(Table1[[#This Row],[Hyperlink]],\"Weblink\")","v":"Weblink"},"West 44 Books","2019","August 2018",null,"Author","D. E. Daly",null,null,null,null,"K","520L","Grade 2 - 3","Grade 5 - 8","Chloe, Malik, and Justin have always shared a love of spooky things. They visit the supposedly haunted abandoned railroad station on the edge of their town, and accidentally unlock a portal into a supernatural realm. Their first challenge, zombies! They form the Z Team to try to save their town before the zombies take over.","English",17.95,13.45,"[E]--dc23","64 pp.","https://www.enslow.com/books/When_Zombies_Invade/421792",{"$f":"Table1[[#This Row],[QTY]]*Table1[[#This Row],['# of Books]]","v":0},{"$f":"Table1[[#This Row],[QTY]]*Table1[[#This Row],[School & Library Price]]","v":0}]
[null,9,null,"The Z Team","When Zombies Invade",1,"Paperback Book","978-1-5383-8187-8",{"$f":"HYPERLINK(Table1[[#This Row],[Hyperlink]],\"Weblink\")","v":"Weblink"},"West 44 Books","2019","August 2018","5.250 X 7.125","Author","D. E. Daly",null,null,null,null,"K","520L","Grade 2 - 3","Grade 5 - 8","Chloe, Malik, and Justin have always shared a love of spooky things. They visit the supposedly haunted abandoned railroad station on the edge of their town, and accidentally unlock a portal into a supernatural realm. Their first challenge, zombies! They form the Z Team to try to save their town before the zombies take over.","English",10.55,8.9499999999999993,"[E]--dc23","64 pp.","https://www.enslow.com/books/When_Zombies_Invade/421792",{"$f":"Table1[[#This Row],[QTY]]*Table1[[#This Row],['# of Books]]","v":0},{"$f":"Table1[[#This Row],[QTY]]*Table1[[#This Row],[School & Library Price]]","v":0}]
[null,10,null,"We the Weirdos","We the Weirdos Coming 2021",4,"Library Set","978-1-5383-8289-9",{"$f":"HYPERLINK(Table1[[#This Row],[Hyperlink]],\"Weblink\")","v":"Weblink"},"West 44 Books","2022","August 2021","5.250 X 7.125",null,null,null,null,null,null,null,null,"Grade 2 - 3","Grade 5 - 8","Four kids sit together at the outcast lunch table on the first day of middle school. Amy has a stutter, but wants to be class president. Maci would rather draw than talk to people. Eli is a pastor's kid who has been labeled a \"goody two-shoes.\" Jayden often lashes out at people and gets upset in class. The kids have almost nothing in common, except one thing: they're the class weirdos. If they want to rise above their reputations, they're going to need to do it together. Features include: The school \"weirdos\" couldn't be more different, and yet their friendship represents acceptance, loyalty, and empathy. Breakfast Club meets modern-day, multicultural middle school in this series for ages 8 to 12. High interest topics expressed in low reading level narratives are accessible and engaging for developing readers and proficient readers alike.","English",71.8,53.8,null,"64 pp.","https://www.enslow.com/series/We_the_Weirdos/463347",{"$f":"Table1[[#This Row],[QTY]]*Table1[[#This Row],['# of Books]]","v":0},{"$f":"Table1[[#This Row],[QTY]]*Table1[[#This Row],[School & Library Price]]","v":0}]
[null,11,null,"Brothers","Brothers Coming 2021",4,"Library Set","978-1-5383-8292-9",{"$f":"HYPERLINK(Table1[[#This Row],[Hyperlink]],\"Weblink\")","v":"Weblink"},"West 44 Books","2022","August 2021","5.250 X 7.125",null,null,null,null,null,null,null,null,"Grade 2 - 3","Grade 5 - 8","The Reyes siblings have been separated by the incarceration of their mother and are living in different foster homes. Victor and Isaac, the Reyes brothers, have one connection to their old life; the emails they sneak to each other, detailing the experiences they have adjusting to their new homes. Can they hold on to their family with the distance between them? Will things ever go back to normal? Features include: Own-voice series sheds light on foster care and complicated family situations. Raw and emotional emails between spunky Victor and sensitive Isaac will keep readers ages 10 to 13 hooked. High interest topics expressed in low reading level narratives are accessible and engaging for both developing and proficient readers.","English",75.8,56.8,null,"88 pp.","https://www.enslow.com/series/Brothers/450958",{"$f":"Table1[[#This Row],[QTY]]*Table1[[#This Row],['# of Books]]","v":0},{"$f":"Table1[[#This Row],[QTY]]*Table1[[#This Row],[School & Library Price]]","v":0}]
[null,12,null,"The Bad Kids in 4B","The Bad Kids in 4B Coming 2021",4,"Library Set","978-1-5383-8291-2",{"$f":"HYPERLINK(Table1[[#This Row],[Hyperlink]],\"Weblink\")","v":"Weblink"},"West 44 Books","2022","August 2021","5.250 X 7.125",null,null,null,null,null,null,null,null,"Grade 2 - 3","Grade 5 - 8","The kids in classroom 4B have a reputation as the \"baddest\" kids in school. What no one sees is that each kid has a reason for acting that way. Mila has been removed from her mom's care and placed with her aunt, whom she doesn't trust. Landon has trouble learning, but doesn't want anyone to know. Jordan's father was recently sent to jail. Jayme has been taking care of her younger siblings while her mother starts dating again. Together, the \"bad kids\" in 4B learn about acceptance, stepping out of their molds, and confronting life's challenges. Features include: This diverse, trauma-informed series gives a voice to middle graders ages 10 to 13 who might have emotional and behavioral issues. Fast-moving and high-stakes plots will keep readers turning page after page. High interest topics expressed in low reading level narratives are accessible and engaging for developing readers and proficient readers alike.","English",75.8,56.8,null,"88 pp.","https://www.enslow.com/series/The_Bad_Kids_in_4B/463352",{"$f":"Table1[[#This Row],[QTY]]*Table1[[#This Row],['# of Books]]","v":0},{"$f":"Table1[[#This Row],[QTY]]*Table1[[#This Row],[School & Library Price]]","v":0}]
[null,13,null,"The Club","The Club",5,"Library Set","978-1-5383-8293-6",{"$f":"HYPERLINK(Table1[[#This Row],[Hyperlink]],\"Weblink\")","v":"Weblink"},"West 44 Books","2021","January 2021","5.250 X 7.125",null,null,null,null,null,null,null,null,"Grade 2 - 3","Grade 5 - 8","Every day after school, kids in the Parkside neighborhood hang out at the community rec center, which they call The Club. Milo, Noah, Zoe, Javi, and Addy couldn't be more different, but they have one thing in common, The Club. The Club has a way of pushing their comfort zones and making them try new things, from competing in the annual go-kart rally to starring in a musical. Together, they'll learn some tough life lessons, discover their strengths, and find their true friends. Features include: Multicultural characters learn tough life lessons about perseverance, friendship, and self-efficacy. High interest topics expressed in low reading level narratives are accessible and engaging for developing readers and proficient readers alike. Storylines will empower middle grade readers ages 10 to 13 to overcome challenges and achieve their dreams.","English",94.75,71,null,"88 pp.","https://www.enslow.com/series/The_Club/463378",{"$f":"Table1[[#This Row],[QTY]]*Table1[[#This Row],['# of Books]]","v":0},{"$f":"Table1[[#This Row],[QTY]]*Table1[[#This Row],[School & Library Price]]","v":0}]
[null,null,null,"The Club","The Club",5,"Single Copy Set","978-1-5383-8348-3",{"$f":"HYPERLINK(Table1[[#This Row],[Hyperlink]],\"Weblink\")","v":"Weblink"},"West 44 Books","2021","January 2021","5.250 X 7.125",null,null,null,null,null,null,null,null,"Grade 2 - 3","Grade 5 - 8","Every day after school, kids in the Parkside neighborhood hang out at the community rec center, which they call The Club. Milo, Noah, Zoe, Javi, and Addy couldn't be more different, but they have one thing in common, The Club. The Club has a way of pushing their comfort zones and making them try new things, from competing in the annual go-kart rally to starring in a musical. Together, they'll learn some tough life lessons, discover their strengths, and find their true friends. Features include: Multicultural characters learn tough life lessons about perseverance, friendship, and self-efficacy. High interest topics expressed in low reading level narratives are accessible and engaging for developing readers and proficient readers alike. Storylines will empower middle grade readers ages 10 to 13 to overcome challenges and achieve their dreams."," English",58.5,49.75,null,"88 pp.","https://www.enslow.com/series/The_Club/463378",{"$f":"Table1[[#This Row],[QTY]]*Table1[[#This Row],['# of Books]]","v":0},{"$f":"Table1[[#This Row],[QTY]]*Table1[[#This Row],[School & Library Price]]","v":0}]
[null,15,null,null,"Control Room",1,"Hardcover","978-1-5383-8521-0",{"$f":"HYPERLINK(Table1[[#This Row],[Hyperlink]],\"Weblink\")","v":"Weblink"},"West 44 Books","2021","August 2020","5.500 X 8.250","Author","Ryan Wolf",null,null,null,null,"N",null,"Grade 2 - 3","Grade 9 - 12","Sixteen-year-old Maggie is pulled from her high school after her mother begins dating a member of a small \"forward-thinking\" group led by a man who proclaims secret knowledge of life and death. Maggie begins homeschooling at the group's compound, where she is educated in their cult beliefs. As the group's leader becomes progressively unhinged, and her mother becomes more connected to the cult, Maggie must rescue her mother and other cult members from a horrific fate before it is too late.","English",19.95,14.95,"811'.60809282--dc23","200 pp.","https://www.enslow.com/books/Control_Room/422189",{"$f":"Table1[[#This Row],[QTY]]*Table1[[#This Row],['# of Books]]","v":0},{"$f":"Table1[[#This Row],[QTY]]*Table1[[#This Row],[School & Library Price]]","v":0}]
[null,15,null,null,"Control Room",1,"eBook","978-1-5383-8522-7",{"$f":"HYPERLINK(Table1[[#This Row],[Hyperlink]],\"Weblink\")","v":"Weblink"},"West 44 Books","2021","August 2020",null,"Author","Ryan Wolf",null,null,null,null,"N",null,"Grade 2 - 3","Grade 9 - 12","Sixteen-year-old Maggie is pulled from her high school after her mother begins dating a member of a small \"forward-thinking\" group led by a man who proclaims secret knowledge of life and death. Maggie begins homeschooling at the group's compound, where she is educated in their cult beliefs. As the group's leader becomes progressively unhinged, and her mother becomes more connected to the cult, Maggie must rescue her mother and other cult members from a horrific fate before it is too late.","English",19.95,14.95,"811'.60809282--dc23","200 pp.","https://www.enslow.com/books/Control_Room/422189",{"$f":"Table1[[#This Row],[QTY]]*Table1[[#This Row],['# of Books]]","v":0},{"$f":"Table1[[#This Row],[QTY]]*Table1[[#This Row],[School & Library Price]]","v":0}]
[null,15,null,null,"Control Room",1,"Paperback Book","978-1-5383-8520-3",{"$f":"HYPERLINK(Table1[[#This Row],[Hyperlink]],\"Weblink\")","v":"Weblink"},"West 44 Books","2021","August 2020","5.500 X 8.250","Author","Ryan Wolf",null,null,null,null,"N",null,"Grade 2 - 3","Grade 9 - 12","Sixteen-year-old Maggie is pulled from her high school after her mother begins dating a member of a small \"forward-thinking\" group led by a man who proclaims secret knowledge of life and death. Maggie begins homeschooling at the group's compound, where she is educated in their cult beliefs. As the group's leader becomes progressively unhinged, and her mother becomes more connected to the cult, Maggie must rescue her mother and other cult members from a horrific fate before it is too late.","English",12.9,10.95,"811'.60809282--dc23","200 pp.","https://www.enslow.com/books/Control_Room/422189",{"$f":"Table1[[#This Row],[QTY]]*Table1[[#This Row],['# of Books]]","v":0},{"$f":"Table1[[#This Row],[QTY]]*Table1[[#This Row],[School & Library Price]]","v":0}]
[null,16,null,null,"Listen Up",1,"Hardcover","978-1-5383-8528-9",{"$f":"HYPERLINK(Table1[[#This Row],[Hyperlink]],\"Weblink\")","v":"Weblink"},"West 44 Books","2021","August 2020","5.500 X 8.250","Author","Sandi Van",null,null,null,null,"N",null,"Grade 2 - 3","Grade 9 - 12","Lucas wants to speak out against the injustices he sees at his school, but he's paralyzed by social anxiety. He decides to start an anonymous online video channel, disguise his face and voice, and expose the things no one dares to talk about. But when Lucas blames the student council president for harming another student, her powerful parents become involved to unmask the social crusader. Afraid to lose the ground he gained with the videos, but even more afraid to speak out in public, Lucas must find a way to keep his voice from going silent.","English",19.95,14.95,"811'.60809282--dc23","200 pp.","https://www.enslow.com/books/Listen_Up/422191",{"$f":"Table1[[#This Row],[QTY]]*Table1[[#This Row],['# of Books]]","v":0},{"$f":"Table1[[#This Row],[QTY]]*Table1[[#This Row],[School & Library Price]]","v":0}]
[null,16,null,null,"Listen Up",1,"eBook","978-1-5383-8527-2",{"$f":"HYPERLINK(Table1[[#This Row],[Hyperlink]],\"Weblink\")","v":"Weblink"},"West 44 Books","2021","August 2020",null,"Author","Sandi Van",null,null,null,null,"N",null,"Grade 2 - 3","Grade 9 - 12","Lucas wants to speak out against the injustices he sees at his school, but he's paralyzed by social anxiety. He decides to start an anonymous online video channel, disguise his face and voice, and expose the things no one dares to talk about. But when Lucas blames the student council president for harming another student, her powerful parents become involved to unmask the social crusader. Afraid to lose the ground he gained with the videos, but even more afraid to speak out in public, Lucas must find a way to keep his voice from going silent.","English",19.95,14.95,"811'.60809282--dc23","200 pp.","https://www.enslow.com/books/Listen_Up/422191",{"$f":"Table1[[#This Row],[QTY]]*Table1[[#This Row],['# of Books]]","v":0},{"$f":"Table1[[#This Row],[QTY]]*Table1[[#This Row],[School & Library Price]]","v":0}]
[null,16,null,null,"Listen Up",1,"Paperback Book","978-1-5383-8526-5",{"$f":"HYPERLINK(Table1[[#This Row],[Hyperlink]],\"Weblink\")","v":"Weblink"},"West 44 Books","2021","August 2020","5.500 X 8.250","Author","Sandi Van",null,null,null,null,"N",null,"Grade 2 - 3","Grade 9 - 12","Lucas wants to speak out against the injustices he sees at his school, but he's paralyzed by social anxiety. He decides to start an anonymous online video channel, disguise his face and voice, and expose the things no one dares to talk about. But when Lucas blames the student council president for harming another student, her powerful parents become involved to unmask the social crusader. Afraid to lose the ground he gained with the videos, but even more afraid to speak out in public, Lucas must find a way to keep his voice from going silent.","English",12.9,10.95,"811'.60809282--dc23","200 pp.","https://www.enslow.com/books/Listen_Up/422191",{"$f":"Table1[[#This Row],[QTY]]*Table1[[#This Row],['# of Books]]","v":0},{"$f":"Table1[[#This Row],[QTY]]*Table1[[#This Row],[School & Library Price]]","v":0}]
[null,19,null,null,"Clear Cut",1,"Hardcover","978-1-5383-8515-9",{"$f":"HYPERLINK(Table1[[#This Row],[Hyperlink]],\"Weblink\")","v":"Weblink"},"West 44 Books","2020","January 2020","5.500 X 8.250","Author","Melody Dodds",null,null,null,null,"N",null,"Grade 2 - 3","Grade 9 - 12","Heather Wright is always all right. That's what people say. But if she's always all right, then why is life so hard? Heather starts cutting as a way to deal with the difficult emotions she locks inside. But what starts out as casual cutting turns into a dangerous addiction. When Heather goes away to summer theater camp, she meets Josie. Josie is a tough, sassy diva who is more than just a cutter, but a cutting advocate online. Heather looks up to Josie until the darkness of Josie's inner world threatens to spill out over the side and drown both of them. Until she does the unthinkable.","English",19.95,14.95,"811'.60809282--dc23","200 pp.","https://www.enslow.com/books/Clear_Cut/422094",{"$f":"Table1[[#This Row],[QTY]]*Table1[[#This Row],['# of Books]]","v":0},{"$f":"Table1[[#This Row],[QTY]]*Table1[[#This Row],[School & Library Price]]","v":0}]
[null,19,null,null,"Clear Cut",1,"eBook","978-1-5383-8516-6",{"$f":"HYPERLINK(Table1[[#This Row],[Hyperlink]],\"Weblink\")","v":"Weblink"},"West 44 Books","2020","January 2020",null,"Author","Melody Dodds",null,null,null,null,"N",null,"Grade 2 - 3","Grade 9 - 12","Heather Wright is always all right. That's what people say. But if she's always all right, then why is life so hard? Heather starts cutting as a way to deal with the difficult emotions she locks inside. But what starts out as casual cutting turns into a dangerous addiction. When Heather goes away to summer theater camp, she meets Josie. Josie is a tough, sassy diva who is more than just a cutter, but a cutting advocate online. Heather looks up to Josie until the darkness of Josie's inner world threatens to spill out over the side and drown both of them. Until Josie does the unthinkable.","English",19.95,14.95,"811'.60809282--dc23","200 pp.","https://www.enslow.com/books/Clear_Cut/422094",{"$f":"Table1[[#This Row],[QTY]]*Table1[[#This Row],['# of Books]]","v":0},{"$f":"Table1[[#This Row],[QTY]]*Table1[[#This Row],[School & Library Price]]","v":0}]
[null,19,null,null,"Clear Cut",1,"Paperback Book","978-1-5383-8514-2",{"$f":"HYPERLINK(Table1[[#This Row],[Hyperlink]],\"Weblink\")","v":"Weblink"},"West 44 Books","2020","January 2020","5.500 X 8.250","Author","Melody Dodds",null,null,null,null,"N",null,"Grade 2 - 3","Grade 9 - 12","Heather Wright is always all right. That's what people say. But if she's always all right, then why is life so hard? Heather starts cutting as a way to deal with the difficult emotions she locks inside. But what starts out as casual cutting turns into a dangerous addiction. When Heather goes away to summer theater camp, she meets Josie. Josie is a tough, sassy diva who is more than just a cutter, but a cutting advocate online. Heather looks up to Josie until the darkness of Josie's inner world threatens to spill out over the side and drown both of them. Until Josie does the unthinkable.","English",12.9,10.95,"811'.60809282--dc23","200 pp.","https://www.enslow.com/books/Clear_Cut/422094",{"$f":"Table1[[#This Row],[QTY]]*Table1[[#This Row],['# of Books]]","v":0},{"$f":"Table1[[#This Row],[QTY]]*Table1[[#This Row],[School & Library Price]]","v":0}]
[null,20,null,null,"The Vanishing Place",1,"Hardcover","978-1-5383-8509-8",{"$f":"HYPERLINK(Table1[[#This Row],[Hyperlink]],\"Weblink\")","v":"Weblink"},"West 44 Books","2020","January 2020","5.500 X 8.250","Author","Theresa Emminizer",null,null,null,null,"N",null,"Grade 2 - 3","Grade 9 - 12","When Brooke, Eva, Nate, and Jay take a nighttime sail off the Florida coast, they never imagine that their lives are about to change forever. Shipwrecked by a storm at sea, the teenagers become castaways on an island that seems designed to test their very natures. Faced with loss, trauma, and the harsh reality of day-to-day survival, will they find the strength to confront their inner demons and escape the Vanishing Place? Or are mysterious forces at work to keep them stranded for all time?","English",19.95,14.95,"811'.60809282--dc23","200 pp.","https://www.enslow.com/books/The_Vanishing_Place/422092",{"$f":"Table1[[#This Row],[QTY]]*Table1[[#This Row],['# of Books]]","v":0},{"$f":"Table1[[#This Row],[QTY]]*Table1[[#This Row],[School & Library Price]]","v":0}]
[null,20,null,null,"The Vanishing Place",1,"eBook","978-1-5383-8510-4",{"$f":"HYPERLINK(Table1[[#This Row],[Hyperlink]],\"Weblink\")","v":"Weblink"},"West 44 Books","2020","January 2020",null,"Author","Theresa Emminizer",null,null,null,null,"N",null,"Grade 2 - 3","Grade 9 - 12","When Brooke, Eva, Nate, and Jay take a nighttime sail off the Florida coast, they never imagine that their lives are about to change forever. Shipwrecked by a storm at sea, the teenagers become castaways on an island that seems designed to test their very natures. Faced with loss, trauma, and the harsh reality of day-to-day survival, will they find the strength to confront their inner demons and escape the Vanishing Place? Or are mysterious forces at work to keep them stranded for all time?","English",19.95,14.95,"811'.60809282--dc23","200 pp.","https://www.enslow.com/books/The_Vanishing_Place/422092",{"$f":"Table1[[#This Row],[QTY]]*Table1[[#This Row],['# of Books]]","v":0},{"$f":"Table1[[#This Row],[QTY]]*Table1[[#This Row],[School & Library Price]]","v":0}]
[null,20,null,null,"The Vanishing Place",1,"Paperback Book","978-1-5383-8508-1",{"$f":"HYPERLINK(Table1[[#This Row],[Hyperlink]],\"Weblink\")","v":"Weblink"},"West 44 Books","2020","January 2020","5.500 X 8.250","Author","Theresa Emminizer",null,null,null,null,"N",null,"Grade 2 - 3","Grade 9 - 12","When Brooke, Eva, Nate, and Jay take a nighttime sail off the Florida coast, they never imagine that their lives are about to change forever. Shipwrecked by a storm at sea, the teenagers become castaways on an island that seems designed to test their very natures. Faced with loss, trauma, and the harsh reality of day-to-day survival, will they find the strength to confront their inner demons and escape the Vanishing Place? Or are mysterious forces at work to keep them stranded for all time?","English",12.9,10.95,"811'.60809282--dc23","200 pp.","https://www.enslow.com/books/The_Vanishing_Place/422092",{"$f":"Table1[[#This Row],[QTY]]*Table1[[#This Row],['# of Books]]","v":0},{"$f":"Table1[[#This Row],[QTY]]*Table1[[#This Row],[School & Library Price]]","v":0}]
[null,21,null,null,"You and Me and Misery",1,"Hardcover","978-1-5383-8278-3",{"$f":"HYPERLINK(Table1[[#This Row],[Hyperlink]],\"Weblink\")","v":"Weblink"},"West 44 Books","2020","January 2020","5.500 X 8.250","Author","Rayel Louis-Charles",null,null,null,null,"N","560L","Grade 3 - 4","Grade 9 - 12","Gin has recently accepted that she is a lesbian. She also may just remain a loner for all of eternity. Meanwhile, across from her in class, Johnny is battling life at school and at home. His day-to-day life consists of a heavy dose of bulimia, self-hate, and abuse from his father. The two loners come together, connected by shared misery, but can they admit how much they need each other before it's too late?","English",19.95,14.95,"811'.60809282--dc23","200 pp.","https://www.enslow.com/books/You_and_Me_and_Misery/422089",{"$f":"Table1[[#This Row],[QTY]]*Table1[[#This Row],['# of Books]]","v":0},{"$f":"Table1[[#This Row],[QTY]]*Table1[[#This Row],[School & Library Price]]","v":0}]
[null,21,null,null,"You and Me and Misery",1,"eBook","978-1-5383-8339-1",{"$f":"HYPERLINK(Table1[[#This Row],[Hyperlink]],\"Weblink\")","v":"Weblink"},"West 44 Books","2020","January 2020",null,"Author","Rayel Louis-Charles",null,null,null,null,"N","560L","Grade 3 - 4","Grade 9 - 12","Gin has recently accepted that she is a lesbian. She also may just remain a loner for all of eternity. Meanwhile, across from her in class, Johnny is battling life at school and at home. His day-to-day life consists of a heavy dose of bulimia, self-hate, and abuse from his father. The two loners come together, connected by shared misery, but can they admit how much they need each other before it's too late?","English",19.95,14.95,"811'.60809282--dc23","200 pp.","https://www.enslow.com/books/You_and_Me_and_Misery/422089",{"$f":"Table1[[#This Row],[QTY]]*Table1[[#This Row],['# of Books]]","v":0},{"$f":"Table1[[#This Row],[QTY]]*Table1[[#This Row],[School & Library Price]]","v":0}]
[null,21,null,null,"You and Me and Misery",1,"Paperback Book","978-1-5383-8277-6",{"$f":"HYPERLINK(Table1[[#This Row],[Hyperlink]],\"Weblink\")","v":"Weblink"},"West 44 Books","2020","January 2020","5.500 X 8.250","Author","Rayel Louis-Charles",null,null,null,null,"N","560L","Grade 3 - 4","Grade 9 - 12","Gin has recently accepted that she is a lesbian. She also may just remain a loner for all of eternity. Meanwhile, across from her in class, Johnny is battling life at school and at home. His day-to-day life consists of a heavy dose of bulimia, self-hate, and abuse from his father. The two loners come together, connected by shared misery, but can they admit how much they need each other before it's too late?","English",12.9,10.95,"811'.60809282--dc23","200 pp.","https://www.enslow.com/books/You_and_Me_and_Misery/422089",{"$f":"Table1[[#This Row],[QTY]]*Table1[[#This Row],['# of Books]]","v":0},{"$f":"Table1[[#This Row],[QTY]]*Table1[[#This Row],[School & Library Price]]","v":0}]
[null,22,null,null,"A Perfect Blank",1,"Hardcover","978-1-5383-8286-8",{"$f":"HYPERLINK(Table1[[#This Row],[Hyperlink]],\"Weblink\")","v":"Weblink"},"West 44 Books","2020","January 2020","5.500 X 8.250","Author","Rye Duran",null,null,null,null,"N","570L","Grade 3 - 4","Grade 9 - 12","Project Apogee had one mission: to create biologically engineered perfect teenagers. The teenagers were supposed to be expressions of a perfect genetic mapping of traits, an example of the New Human. But when the teens go before the project committee, they are found to be utterly normal and unremarkable, a disappointment. Then there's Alex, the lost teen who failed years ago, who might just be the most remarkable of them all.","English",19.95,14.95,"811'.60809282--dc23","200 pp.","https://www.enslow.com/books/A_Perfect_Blank/422090",{"$f":"Table1[[#This Row],[QTY]]*Table1[[#This Row],['# of Books]]","v":0},{"$f":"Table1[[#This Row],[QTY]]*Table1[[#This Row],[School & Library Price]]","v":0}]
[null,22,null,null,"A Perfect Blank",1,"eBook","978-1-5383-8343-8",{"$f":"HYPERLINK(Table1[[#This Row],[Hyperlink]],\"Weblink\")","v":"Weblink"},"West 44 Books","2020","January 2020",null,"Author","Rye Duran",null,null,null,null,"N","570L","Grade 3 - 4","Grade 9 - 12","Project Apogee had one mission: to create biologically engineered perfect teenagers. The teenagers were supposed to be expressions of a perfect genetic mapping of traits, an example of the New Human. But when the teens go before the project committee, they are found to be utterly normal and unremarkable, a disappointment. Then there's Alex, the lost teen who failed years ago, who might just be the most remarkable of them all.","English",19.95,14.95,"811'.60809282--dc23","200 pp.","https://www.enslow.com/books/A_Perfect_Blank/422090",{"$f":"Table1[[#This Row],[QTY]]*Table1[[#This Row],['# of Books]]","v":0},{"$f":"Table1[[#This Row],[QTY]]*Table1[[#This Row],[School & Library Price]]","v":0}]
[null,22,null,null,"A Perfect Blank",1,"Paperback Book","978-1-5383-8285-1",{"$f":"HYPERLINK(Table1[[#This Row],[Hyperlink]],\"Weblink\")","v":"Weblink"},"West 44 Books","2020","January 2020","5.500 X 8.250","Author","Rye Duran",null,null,null,null,"N","570L","Grade 3 - 4","Grade 9 - 12","Project Apogee had one mission: to create biologically engineered perfect teenagers. The teenagers were supposed to be expressions of a perfect genetic mapping of traits, an example of the New Human. But when the teens go before the project committee, they are found to be utterly normal and unremarkable, a disappointment. Then there's Alex, the lost teen who failed years ago, who might just be the most remarkable of them all.","English",12.9,10.95,"811'.60809282--dc23","200 pp.","https://www.enslow.com/books/A_Perfect_Blank/422090",{"$f":"Table1[[#This Row],[QTY]]*Table1[[#This Row],['# of Books]]","v":0},{"$f":"Table1[[#This Row],[QTY]]*Table1[[#This Row],[School & Library Price]]","v":0}]
[null,23,null,null,"And the Moon Follows",1,"Hardcover","978-1-5383-8530-2",{"$f":"HYPERLINK(Table1[[#This Row],[Hyperlink]],\"Weblink\")","v":"Weblink"},"West 44 Books","2021","August 2020","5.500 X 8.250","Author","Cyn Bermudez",null,null,null,null,"N",null,"Grade 2 - 3","Grade 9 - 12","Luna has nowhere to go. She leaves home after her stepfather sexually assaults her. Now her only option is to run as far and as fast as possible. Luna takes to the streets, where she survives by stealing food, hiding in a car, and living in an abandoned house. But how long can she survive on the run? Where can she go if she can't go home?","English",19.95,14.95,"[Fic]--dc23","96 pp.","https://www.enslow.com/books/And_the_Moon_Follows/422192",{"$f":"Table1[[#This Row],[QTY]]*Table1[[#This Row],['# of Books]]","v":0},{"$f":"Table1[[#This Row],[QTY]]*Table1[[#This Row],[School & Library Price]]","v":0}]
[null,23,null,null,"And the Moon Follows",1,"eBook","978-1-5383-8531-9",{"$f":"HYPERLINK(Table1[[#This Row],[Hyperlink]],\"Weblink\")","v":"Weblink"},"West 44 Books","2021","August 2020",null,"Author","Cyn Bermudez",null,null,null,null,"N",null,"Grade 2 - 3","Grade 9 - 12","Luna has nowhere to go. She leaves home after her stepfather sexually assaults her. Now her only option is to run as far and as fast as possible. Luna takes to the streets, where she survives by stealing food, hiding in a car, and living in an abandoned house. But how long can she survive on the run? Where can she go if she can't go home?","English",19.95,14.95,"[Fic]--dc23","96 pp.","https://www.enslow.com/books/And_the_Moon_Follows/422192",{"$f":"Table1[[#This Row],[QTY]]*Table1[[#This Row],['# of Books]]","v":0},{"$f":"Table1[[#This Row],[QTY]]*Table1[[#This Row],[School & Library Price]]","v":0}]
[null,23,null,null,"And the Moon Follows",1,"Paperback Book","978-1-5383-8529-6",{"$f":"HYPERLINK(Table1[[#This Row],[Hyperlink]],\"Weblink\")","v":"Weblink"},"West 44 Books","2021","August 2020","5.500 X 8.250","Author","Cyn Bermudez",null,null,null,null,"N",null,"Grade 2 - 3","Grade 9 - 12","Luna has nowhere to go. She leaves home after her stepfather sexually assaults her. Now her only option is to run as far and as fast as possible. Luna takes to the streets, where she survives by stealing food, hiding in a car, and living in an abandoned house. But how long can she survive on the run? Where can she go if she can't go home?","English",11.7,9.9499999999999993,"[Fic]--dc23","96 pp.","https://www.enslow.com/books/And_the_Moon_Follows/422192",{"$f":"Table1[[#This Row],[QTY]]*Table1[[#This Row],['# of Books]]","v":0},{"$f":"Table1[[#This Row],[QTY]]*Table1[[#This Row],[School & Library Price]]","v":0}]
[null,24,null,null,"Bitter and Sweet",1,"Hardcover","978-1-5383-8524-1",{"$f":"HYPERLINK(Table1[[#This Row],[Hyperlink]],\"Weblink\")","v":"Weblink"},"West 44 Books","2021","August 2020","5.500 X 8.250","Author","Demitria Lunetta",null,null,null,null,"N",null,"Grade 2 - 3","Grade 9 - 12","Sweetie only knows toxic love. Her boyfriend is violent, her family is cruel, and her life is stuck in a cycle of abuse. Then she meets Loew. Loew is smart, quiet, and different. When Sweetie defends herself against the blows of her boyfriend, he ends up dead. Sweetie and Loew run away to hide from the law. But Loew is not the salvation Sweetie imagines. Emotional and impulsive, Loew has deep, dark issues of his own, and escaping his grip might mean life or death.","English",19.95,14.95,"[Fic]--dc23","96 pp.","https://www.enslow.com/books/Bitter_and_Sweet/422190",{"$f":"Table1[[#This Row],[QTY]]*Table1[[#This Row],['# of Books]]","v":0},{"$f":"Table1[[#This Row],[QTY]]*Table1[[#This Row],[School & Library Price]]","v":0}]
[null,24,null,null,"Bitter and Sweet",1,"eBook","978-1-5383-8525-8",{"$f":"HYPERLINK(Table1[[#This Row],[Hyperlink]],\"Weblink\")","v":"Weblink"},"West 44 Books","2021","August 2020",null,"Author","Demitria Lunetta",null,null,null,null,"N",null,"Grade 2 - 3","Grade 9 - 12","Sweetie only knows toxic love. Her boyfriend is violent, her family is cruel, and her life is stuck in a cycle of abuse. Then she meets Loew. Loew is smart, quiet, and different. When Sweetie defends herself against the blows of her boyfriend, he ends up dead. Sweetie and Loew run away to hide from the law. But Loew is not the salvation Sweetie imagines. Emotional and impulsive, Loew has deep, dark issues of his own, and escaping his grip might mean life or death.","English",19.95,14.95,"[Fic]--dc23","96 pp.","https://www.enslow.com/books/Bitter_and_Sweet/422190",{"$f":"Table1[[#This Row],[QTY]]*Table1[[#This Row],['# of Books]]","v":0},{"$f":"Table1[[#This Row],[QTY]]*Table1[[#This Row],[School & Library Price]]","v":0}]
[null,24,null,null,"Bitter and Sweet",1,"Paperback Book","978-1-5383-8523-4",{"$f":"HYPERLINK(Table1[[#This Row],[Hyperlink]],\"Weblink\")","v":"Weblink"},"West 44 Books","2021","August 2020","5.500 X 8.250","Author","Demitria Lunetta",null,null,null,null,"N",null,"Grade 2 - 3","Grade 9 - 12","Sweetie only knows toxic love. Her boyfriend is violent, her family is cruel, and her life is stuck in a cycle of abuse. Then she meets Loew. Loew is smart, quiet, and different. When Sweetie defends herself against the blows of her boyfriend, he ends up dead. Sweetie and Loew run away to hide from the law. But Loew is not the salvation Sweetie imagines. Emotional and impulsive, Loew has deep, dark issues of his own, and escaping his grip might mean life or death.","English",11.7,9.9499999999999993,"[Fic]--dc23","96 pp.","https://www.enslow.com/books/Bitter_and_Sweet/422190",{"$f":"Table1[[#This Row],[QTY]]*Table1[[#This Row],['# of Books]]","v":0},{"$f":"Table1[[#This Row],[QTY]]*Table1[[#This Row],[School & Library Price]]","v":0}]
[null,25,null,null,"On the Plus Side",1,"Hardcover","978-1-5383-8518-0",{"$f":"HYPERLINK(Table1[[#This Row],[Hyperlink]],\"Weblink\")","v":"Weblink"},"West 44 Books","2020","January 2020","5.500 X 8.250","Author","P. A. Kurch",null,null,null,null,"N",null,"Grade 2 - 3","Grade 9 - 12","Bryan Park is a \"good guy.\" He's smart, driven, and has a picture-perfect future ahead of him when he graduates. That is, until Bryan's longtime friend and now-girlfriend, Alyssa, tells him she's pregnant with his child. Bryan and Alyssa have countless decisions to make that will change their lives forever. When Alyssa decides to continue the pregnancy, Bryan stays by her side. Still facing the pressures of high school, Bryan now has to think of diapers, money, his first real relationship, and reimagining the future he built for himself.","English",19.95,14.95,"[Fic]--dc23","96 pp.","https://www.enslow.com/books/On_the_Plus_Side/422095",{"$f":"Table1[[#This Row],[QTY]]*Table1[[#This Row],['# of Books]]","v":0},{"$f":"Table1[[#This Row],[QTY]]*Table1[[#This Row],[School & Library Price]]","v":0}]
[null,25,null,null,"On the Plus Side",1,"eBook","978-1-5383-8519-7",{"$f":"HYPERLINK(Table1[[#This Row],[Hyperlink]],\"Weblink\")","v":"Weblink"},"West 44 Books","2020","January 2020",null,"Author","P. A. Kurch",null,null,null,null,"N",null,"Grade 2 - 3","Grade 9 - 12","Bryan Park is a \"good guy.\" He's smart, driven, and has a picture-perfect future ahead of him when he graduates. That is, until Bryan's longtime friend and now-girlfriend, Alyssa, tells him she's pregnant with his child. Bryan and Alyssa have countless decisions to make that will change their lives forever. When Alyssa decides to continue the pregnancy, Bryan stays by her side. Still facing the pressures of high school, Bryan now has to think of diapers, money, his first real relationship, and reimagining the future he built for himself.","English",19.95,14.95,"[Fic]--dc23","96 pp.","https://www.enslow.com/books/On_the_Plus_Side/422095",{"$f":"Table1[[#This Row],[QTY]]*Table1[[#This Row],['# of Books]]","v":0},{"$f":"Table1[[#This Row],[QTY]]*Table1[[#This Row],[School & Library Price]]","v":0}]
[null,25,null,null,"On the Plus Side",1,"Paperback Book","978-1-5383-8517-3",{"$f":"HYPERLINK(Table1[[#This Row],[Hyperlink]],\"Weblink\")","v":"Weblink"},"West 44 Books","2020","January 2020","5.500 X 8.250","Author","P. A. Kurch",null,null,null,null,"N",null,"Grade 2 - 3","Grade 9 - 12","Bryan Park is a \"good guy.\" He's smart, driven, and has a picture-perfect future ahead of him when he graduates. That is, until Bryan's longtime friend and now-girlfriend, Alyssa, tells him she's pregnant with his child. Bryan and Alyssa have countless decisions to make that will change their lives forever. When Alyssa decides to continue the pregnancy, Bryan stays by her side. Still facing the pressures of high school, Bryan now has to think of diapers, money, his first real relationship, and reimagining the future he built for himself.","English",11.7,9.9499999999999993,"[Fic]--dc23","96 pp.","https://www.enslow.com/books/On_the_Plus_Side/422095",{"$f":"Table1[[#This Row],[QTY]]*Table1[[#This Row],['# of Books]]","v":0},{"$f":"Table1[[#This Row],[QTY]]*Table1[[#This Row],[School & Library Price]]","v":0}]
[null,26,null,null,"The Water Year",1,"Hardcover","978-1-5383-8512-8",{"$f":"HYPERLINK(Table1[[#This Row],[Hyperlink]],\"Weblink\")","v":"Weblink"},"West 44 Books","2020","January 2020","5.500 X 8.250","Author","Max Howard",null,null,null,null,"N",null,"Grade 2 - 3","Grade 9 - 12","Sophie lives on the border between the United States and Mexico. She spends most of her time taking care of her little sister and working at the family restaurant, hoping to catch the eye the Mexican boy who delivers baked goods. Her father and uncle spend their free time scouring the desert as part of a civilian militia, trying to stop undocumented immigrants from entering the United States. When Sophie becomes involved with an immigrant-aid organization called Human Kind, it challenges everything she's ever known. Suddenly, Sophie is stuck at the borderline of family and justice.","English",19.95,14.95,"[Fic]--dc23","96 pp.","https://www.enslow.com/books/The_Water_Year/422093",{"$f":"Table1[[#This Row],[QTY]]*Table1[[#This Row],['# of Books]]","v":0},{"$f":"Table1[[#This Row],[QTY]]*Table1[[#This Row],[School & Library Price]]","v":0}]
[null,26,null,null,"The Water Year",1,"eBook","978-1-5383-8513-5",{"$f":"HYPERLINK(Table1[[#This Row],[Hyperlink]],\"Weblink\")","v":"Weblink"},"West 44 Books","2020","January 2020",null,"Author","Max Howard",null,null,null,null,"N",null,"Grade 2 - 3","Grade 9 - 12","Sophie lives on the border between the United States and Mexico. She spends most of her time taking care of her little sister and working at the family restaurant, hoping to catch the eye the Mexican boy who delivers baked goods. Her father and uncle spend their free time scouring the desert as part of a civilian militia, trying to stop undocumented immigrants from entering the United States. When Sophie becomes involved with an immigrant-aid organization called Human Kind, it challenges everything she's ever known. Suddenly, Sophie is stuck at the borderline of family and justice.","English",19.95,14.95,"[Fic]--dc23","96 pp.","https://www.enslow.com/books/The_Water_Year/422093",{"$f":"Table1[[#This Row],[QTY]]*Table1[[#This Row],['# of Books]]","v":0},{"$f":"Table1[[#This Row],[QTY]]*Table1[[#This Row],[School & Library Price]]","v":0}]
[null,26,null,null,"The Water Year",1,"Paperback Book","978-1-5383-8511-1",{"$f":"HYPERLINK(Table1[[#This Row],[Hyperlink]],\"Weblink\")","v":"Weblink"},"West 44 Books","2020","January 2020","5.500 X 8.250","Author","Max Howard",null,null,null,null,"N",null,"Grade 2 - 3","Grade 9 - 12","Sophie lives on the border between the United States and Mexico. She spends most of her time taking care of her little sister and working at the family restaurant, hoping to catch the eye the Mexican boy who delivers baked goods. Her father and uncle spend their free time scouring the desert as part of a civilian militia, trying to stop undocumented immigrants from entering the United States. When Sophie becomes involved with an immigrant-aid organization called Human Kind, it challenges everything she's ever known. Suddenly, Sophie is stuck at the borderline of family and justice.","English",11.7,9.9499999999999993,"[Fic]--dc23","96 pp.","https://www.enslow.com/books/The_Water_Year/422093",{"$f":"Table1[[#This Row],[QTY]]*Table1[[#This Row],['# of Books]]","v":0},{"$f":"Table1[[#This Row],[QTY]]*Table1[[#This Row],[School & Library Price]]","v":0}]
[null,28,null,"Being a U.S. Citizen","Being a U.S. Citizen",6,"Library Set","978-1-9785-1873-5",{"$f":"HYPERLINK(Table1[[#This Row],[Hyperlink]],\"Weblink\")","v":"Weblink"},"Enslow Publishing","2021","August 2020","8.500 X 7.125",null,null,null,null,null,null,null,null,"Grade 1 - 2","Grade 1 - 3","What does it mean to be a United States citizen? Young readers have a chance to find out with this engaging set. From national holidays that celebrate our shared patriotism to how laws are made in the government, this set gives a broad understanding of many aspects of citizenship that readers are likely to encounter. Full-color photographs correlate to achievable texts for young readers, showing relatable examples of volunteering, diversity, and everyday citizens doing their part to make our country a better place for us all. Features include: Addresses social studies curriculum topics of community and citizenship. Encourages civic participation. Gives historical context to national holidays, songs, and customs.","English",135.6,101.7,null,"24 pp.","https://www.enslow.com/series/Being_a_US_Citizen/491051",{"$f":"Table1[[#This Row],[QTY]]*Table1[[#This Row],['# of Books]]","v":0},{"$f":"Table1[[#This Row],[QTY]]*Table1[[#This Row],[School & Library Price]]","v":0}]
[null,28,null,"Being a U.S. Citizen","Celebrating U.S. Holidays",1,"Library Bound Book","978-1-9785-1741-7",{"$f":"HYPERLINK(Table1[[#This Row],[Hyperlink]],\"Weblink\")","v":"Weblink"},"Enslow Publishing","2021","August 2020","8.500 X 7.125","Author","Charlotte Taylor",null,null,null,null,"K",null,"Grade 1 - 2","Grade 1 - 3","Students who enjoy watching colorful fireworks explode on the Fourth of July may wonder why Americans come together to celebrate certain national holidays each year. This book will keep young readers engaged as they learn about the rich history and significant people behind the holidays Americans celebrate today. The nonfiction narrative is supported by captivating photographs. This fascinating read enhances social studies curricula with a fun take on how major historical events are recognized today.","English",22.6,16.95,"394.26973--dc23","24 pp.","https://www.enslow.com/books/Celebrating_US_Holidays/422211",{"$f":"Table1[[#This Row],[QTY]]*Table1[[#This Row],['# of Books]]","v":0},{"$f":"Table1[[#This Row],[QTY]]*Table1[[#This Row],[School & Library Price]]","v":0}]
[null,28,null,"Being a U.S. Citizen","Celebrating U.S. Holidays",1,"eBook","978-1-9785-1742-4",{"$f":"HYPERLINK(Table1[[#This Row],[Hyperlink]],\"Weblink\")","v":"Weblink"},"Enslow Publishing","2021","August 2020",null,"Author","Charlotte Taylor",null,null,null,null,"K",null,"Grade 1 - 2","Grade 1 - 3","Students who enjoy watching colorful fireworks explode on the Fourth of July may wonder why Americans come together to celebrate certain national holidays each year. This book will keep young readers engaged as they learn about the rich history and significant people behind the holidays Americans celebrate today. The nonfiction narrative is supported by captivating photographs. This fascinating read enhances social studies curricula with a fun take on how major historical events are recognized today.","English",22.6,16.95,"394.26973--dc23","24 pp.","https://www.enslow.com/books/Celebrating_US_Holidays/422211",{"$f":"Table1[[#This Row],[QTY]]*Table1[[#This Row],['# of Books]]","v":0},{"$f":"Table1[[#This Row],[QTY]]*Table1[[#This Row],[School & Library Price]]","v":0}]
[null,28,null,"Being a U.S. Citizen","Electing U.S. Leaders",1,"Library Bound Book","978-1-9785-1745-5",{"$f":"HYPERLINK(Table1[[#This Row],[Hyperlink]],\"Weblink\")","v":"Weblink"},"Enslow Publishing","2021","August 2020","8.500 X 7.125","Author","Charlotte Taylor",null,null,null,null,"K",null,"Grade 1 - 2","Grade 1 - 3","How have political leaders in the United States been selected for their important roles? This book offers students an understandable description of the United States voting process and why it's a significant part of the nation's democratic system and values. Students will thoroughly explore the process of selecting political leaders at multiple levels of government. Colorful photographs and a vocabulary-building glossary enhance the learning experience. This engaging read aligns with social studies curricula and will inspire future voters to participate in the nation's democracy.","English",22.6,16.95,"323.60973--dc23","24 pp.","https://www.enslow.com/books/Electing_US_Leaders/422212",{"$f":"Table1[[#This Row],[QTY]]*Table1[[#This Row],['# of Books]]","v":0},{"$f":"Table1[[#This Row],[QTY]]*Table1[[#This Row],[School & Library Price]]","v":0}]
[null,28,null,"Being a U.S. Citizen","Electing U.S. Leaders",1,"eBook","978-1-9785-1746-2",{"$f":"HYPERLINK(Table1[[#This Row],[Hyperlink]],\"Weblink\")","v":"Weblink"},"Enslow Publishing","2021","August 2020",null,"Author","Charlotte Taylor",null,null,null,null,"K",null,"Grade 1 - 2","Grade 1 - 3","How have political leaders in the United States been selected for their important roles? This book offers students an understandable description of the United States voting process and why it's a significant part of the nation's democratic system and values. Students will thoroughly explore the process of selecting political leaders at multiple levels of government. Colorful photographs and a vocabulary-building glossary enhance the learning experience. This engaging read aligns with social studies curricula and will inspire future voters to participate in the nation's democracy.","English",22.6,16.95,"323.60973--dc23","24 pp.","https://www.enslow.com/books/Electing_US_Leaders/422212",{"$f":"Table1[[#This Row],[QTY]]*Table1[[#This Row],['# of Books]]","v":0},{"$f":"Table1[[#This Row],[QTY]]*Table1[[#This Row],[School & Library Price]]","v":0}]
[null,28,null,"Being a U.S. Citizen","Famous U.S. Songs",1,"Library Bound Book","978-1-9785-1749-3",{"$f":"HYPERLINK(Table1[[#This Row],[Hyperlink]],\"Weblink\")","v":"Weblink"},"Enslow Publishing","2021","August 2020","8.500 X 7.125","Author","Charlotte Taylor",null,null,null,null,"K",null,"Grade 1 - 2","Grade 1 - 3","Songs such as the \"Star-Spangled Banner,\" which students may recognize from sporting events, memorialize significant events in American history. With this engaging book full of fun facts about American songs, students will learn about the valuable role songs play in helping express American pride. Dynamic photographs enhance the approachable narrative, which compliments elementary social studies curricula. A glossary helps readers strengthen vocabulary skills as they learn about the significance of songs in American life. This book is certainly one readers will enjoy and find useful in building strong civic values.","English",22.6,16.95,"782.42/15990973--dc23","24 pp.","https://www.enslow.com/books/Famous_US_Songs/422213",{"$f":"Table1[[#This Row],[QTY]]*Table1[[#This Row],['# of Books]]","v":0},{"$f":"Table1[[#This Row],[QTY]]*Table1[[#This Row],[School & Library Price]]","v":0}]
[null,28,null,"Being a U.S. Citizen","Famous U.S. Songs",1,"eBook","978-1-9785-1750-9",{"$f":"HYPERLINK(Table1[[#This Row],[Hyperlink]],\"Weblink\")","v":"Weblink"},"Enslow Publishing","2021","August 2020",null,"Author","Charlotte Taylor",null,null,null,null,"K",null,"Grade 1 - 2","Grade 1 - 3","Songs such as the \"Star-Spangled Banner,\" which students may recognize from sporting events, memorialize significant events in American history. With this engaging book full of fun facts about American songs, students will learn about the valuable role songs play in helping express American pride. Dynamic photographs enhance the approachable narrative, which compliments elementary social studies curricula. A glossary helps readers strengthen vocabulary skills as they learn about the significance of songs in American life. This book is certainly one readers will enjoy and find useful in building strong civic values.","English",22.6,16.95,"782.42/15990973--dc23","24 pp.","https://www.enslow.com/books/Famous_US_Songs/422213",{"$f":"Table1[[#This Row],[QTY]]*Table1[[#This Row],['# of Books]]","v":0},{"$f":"Table1[[#This Row],[QTY]]*Table1[[#This Row],[School & Library Price]]","v":0}]
[null,28,null,"Being a U.S. Citizen","Rules and Laws in the United States",1,"Library Bound Book","978-1-9785-1753-0",{"$f":"HYPERLINK(Table1[[#This Row],[Hyperlink]],\"Weblink\")","v":"Weblink"},"Enslow Publishing","2021","August 2020","8.500 X 7.125","Author","Charlotte Taylor",null,null,null,null,"K",null,"Grade 1 - 2","Grade 1 - 3","Following rules and laws is a vital part of being a successful citizen. Young students will learn about the history behind these rules. They'll take to heart how rules and laws are designed to keep communities like their own safe. Aligned with elementary social studies curricula, this narrative is enhanced with striking photographs and a vocabulary-building glossary. The knowledge gained from this book will help young readers become law-abiding citizens who build and support strong communities.","English",22.6,16.95,"340/.11--dc23","24 pp.","https://www.enslow.com/books/Rules_and_Laws_in_the_United_States/422214",{"$f":"Table1[[#This Row],[QTY]]*Table1[[#This Row],['# of Books]]","v":0},{"$f":"Table1[[#This Row],[QTY]]*Table1[[#This Row],[School & Library Price]]","v":0}]
[null,28,null,"Being a U.S. Citizen","Rules and Laws in the United States",1,"eBook","978-1-9785-1754-7",{"$f":"HYPERLINK(Table1[[#This Row],[Hyperlink]],\"Weblink\")","v":"Weblink"},"Enslow Publishing","2021","August 2020",null,"Author","Charlotte Taylor",null,null,null,null,"K",null,"Grade 1 - 2","Grade 1 - 3","Following rules and laws is a vital part of being a successful citizen. Young students will learn about the history behind these rules. They'll take to heart how rules and laws are designed to keep communities like their own safe. Aligned with elementary social studies curricula, this narrative is enhanced with striking photographs and a vocabulary-building glossary. The knowledge gained from this book will help young readers become law-abiding citizens who build and support strong communities.","English",22.6,16.95,"340/.11--dc23","24 pp.","https://www.enslow.com/books/Rules_and_Laws_in_the_United_States/422214",{"$f":"Table1[[#This Row],[QTY]]*Table1[[#This Row],['# of Books]]","v":0},{"$f":"Table1[[#This Row],[QTY]]*Table1[[#This Row],[School & Library Price]]","v":0}]
[null,28,null,"Being a U.S. Citizen","The United States: A Melting Pot",1,"Library Bound Book","978-1-9785-1757-8",{"$f":"HYPERLINK(Table1[[#This Row],[Hyperlink]],\"Weblink\")","v":"Weblink"},"Enslow Publishing","2021","August 2020","8.500 X 7.125","Author","Charlotte Taylor",null,null,null,null,"K",null,"Grade 1 - 2","Grade 1 - 3","Readers will learn about the many similarities and differences between United States citizens. This book celebrates this rich diversity. Vivid photographs help students understand how America's great fabric of ethnicities makes the nation multicultural and strong. This approachable text is written especially for young readers and is complete with a vocabulary-building glossary. This content aligns with social studies curricula, which will help students become compassionate and engaged citizens.","English",22.6,16.95,"305.800973--dc23","24 pp.","https://www.enslow.com/books/The_United_States___A_Melting_Pot/422215",{"$f":"Table1[[#This Row],[QTY]]*Table1[[#This Row],['# of Books]]","v":0},{"$f":"Table1[[#This Row],[QTY]]*Table1[[#This Row],[School & Library Price]]","v":0}]
[null,28,null,"Being a U.S. Citizen","The United States: A Melting Pot",1,"eBook","978-1-9785-1758-5",{"$f":"HYPERLINK(Table1[[#This Row],[Hyperlink]],\"Weblink\")","v":"Weblink"},"Enslow Publishing","2021","August 2020",null,"Author","Charlotte Taylor",null,null,null,null,"K",null,"Grade 1 - 2","Grade 1 - 3","Readers will learn about the many similarities and differences between United States citizens. This book celebrates this rich diversity. Vivid photographs help students understand how America's great fabric of ethnicities makes the nation multicultural and strong. This approachable text is written especially for young readers and is complete with a vocabulary-building glossary. This content aligns with social studies curricula, which will help students become compassionate and engaged citizens.","English",22.6,16.95,"305.800973--dc23","24 pp.","https://www.enslow.com/books/The_United_States___A_Melting_Pot/422215",{"$f":"Table1[[#This Row],[QTY]]*Table1[[#This Row],['# of Books]]","v":0},{"$f":"Table1[[#This Row],[QTY]]*Table1[[#This Row],[School & Library Price]]","v":0}]
[null,28,null,"Being a U.S. Citizen","Volunteers: Making Our Country Better",1,"Library Bound Book","978-1-9785-1760-8",{"$f":"HYPERLINK(Table1[[#This Row],[Hyperlink]],\"Weblink\")","v":"Weblink"},"Enslow Publishing","2021","August 2020","8.500 X 7.125","Author","Charlotte Taylor",null,null,null,null,"K",null,"Grade 1 - 2","Grade 1 - 3","Volunteering fosters valuable community connections and has been a unique part of America's culture from the nation's founding. Students will learn how they can take part in volunteering opportunities and how volunteering can directly help their communities. This engaging and approachable narrative is written especially for young readers. Colorful photographs help students fully grasp reasons to give their time to causes they care about. Glossary terms throughout the narrative help readers develop vocabulary skills. Students will gain a better understanding of the role volunteering plays in American civic life.","English",22.6,16.95,"302/.14--dc23","24 pp.","https://www.enslow.com/books/Volunteers___Making_Our_Country_Better/422216",{"$f":"Table1[[#This Row],[QTY]]*Table1[[#This Row],['# of Books]]","v":0},{"$f":"Table1[[#This Row],[QTY]]*Table1[[#This Row],[School & Library Price]]","v":0}]
[null,28,null,"Being a U.S. Citizen","Volunteers: Making Our Country Better",1,"eBook","978-1-9785-1761-5",{"$f":"HYPERLINK(Table1[[#This Row],[Hyperlink]],\"Weblink\")","v":"Weblink"},"Enslow Publishing","2021","August 2020",null,"Author","Charlotte Taylor",null,null,null,null,"K",null,"Grade 1 - 2","Grade 1 - 3","Volunteering fosters valuable community connections and has been a unique part of America's culture from the nation's founding. Students will learn how they can take part in volunteering opportunities and how volunteering can directly help their communities. This engaging and approachable narrative is written especially for young readers. Colorful photographs help students fully grasp reasons to give their time to causes they care about. Glossary terms throughout the narrative help readers develop vocabulary skills. Students will gain a better understanding of the role volunteering plays in American civic life.","English",22.6,16.95,"302/.14--dc23","24 pp.","https://www.enslow.com/books/Volunteers___Making_Our_Country_Better/422216",{"$f":"Table1[[#This Row],[QTY]]*Table1[[#This Row],['# of Books]]","v":0},{"$f":"Table1[[#This Row],[QTY]]*Table1[[#This Row],[School & Library Price]]","v":0}]
[null,29,null,"Reptiles Rock!","Reptiles Rock!",6,"Library Set","978-1-9785-1875-9",{"$f":"HYPERLINK(Table1[[#This Row],[Hyperlink]],\"Weblink\")","v":"Weblink"},"Enslow Publishing","2021","August 2020","8.500 X 7.125",null,null,null,null,null,null,null,null,"Grade 2 - 3","Grade 2 - 5","From dragons to monsters, the names given to some animals in the reptile group are pretty fantastical, but these incredible animals really exist, and they're really cool. Through bold, full-color photographs and accessible narratives, readers encounter some of the biggest, baddest, raddest reptiles out there, including the sticky-footed gecko, the intriguing iguana, and the camouflaging chameleon. Facts about each animal's habitat, life cycle, and body support the elementary science curriculum and will fascinate future herpetologists and animal lovers. Features include: Encourages conservation through content addressing care of the natural world. Introduces readers to unconventional pets including geckos and iguanas. Fact boxes highlight additional exciting information about each reptile.","English",151.62,113.7,null,"32 pp.","https://www.enslow.com/series/Reptiles_Rock/491327",{"$f":"Table1[[#This Row],[QTY]]*Table1[[#This Row],['# of Books]]","v":0},{"$f":"Table1[[#This Row],[QTY]]*Table1[[#This Row],[School & Library Price]]","v":0}]
[null,29,null,"Reptiles Rock!","Chameleons Change Color!",1,"Library Bound Book","978-1-9785-1814-8",{"$f":"HYPERLINK(Table1[[#This Row],[Hyperlink]],\"Weblink\")","v":"Weblink"},"Enslow Publishing","2021","August 2020","8.500 X 7.125","Author","Elise Tobler",null,null,null,null,"M",null,"Grade 2 - 3","Grade 2 - 5","Many people know that chameleons have the ability to change colors, but not everyone knows exactly how they do it. Your readers will discover the secret behind the chameleon's colorful alterations. They'll also learn many more interesting facts about these incredible lizards. Colorful photographs give readers an up-close look at these fascinating creatures while fact boxes relay interesting tidbits. Manageable and informative text supports key science curricula and encourages both curious and developing readers to become engrossed in the topic.","English",25.27,18.95,"597.95/6--dc23","32 pp.","https://www.enslow.com/books/Chameleons_Change_Color/422223",{"$f":"Table1[[#This Row],[QTY]]*Table1[[#This Row],['# of Books]]","v":0},{"$f":"Table1[[#This Row],[QTY]]*Table1[[#This Row],[School & Library Price]]","v":0}]
[null,29,null,"Reptiles Rock!","Chameleons Change Color!",1,"eBook","978-1-9785-1815-5",{"$f":"HYPERLINK(Table1[[#This Row],[Hyperlink]],\"Weblink\")","v":"Weblink"},"Enslow Publishing","2021","August 2020",null,"Author","Elise Tobler",null,null,null,null,"M",null,"Grade 2 - 3","Grade 2 - 5","Many people know that chameleons have the ability to change colors, but not everyone knows exactly how they do it. Your readers will discover the secret behind the chameleon's colorful alterations. They'll also learn many more interesting facts about these incredible lizards. Colorful photographs give readers an up-close look at these fascinating creatures while fact boxes relay interesting tidbits. Manageable and informative text supports key science curricula and encourages both curious and developing readers to become engrossed in the topic.","English",25.27,18.95,"597.95/6--dc23","32 pp.","https://www.enslow.com/books/Chameleons_Change_Color/422223",{"$f":"Table1[[#This Row],[QTY]]*Table1[[#This Row],['# of Books]]","v":0},{"$f":"Table1[[#This Row],[QTY]]*Table1[[#This Row],[School & Library Price]]","v":0}]
[null,29,null,"Reptiles Rock!","Geckos Walk on Walls!",1,"Library Bound Book","978-1-9785-1818-6",{"$f":"HYPERLINK(Table1[[#This Row],[Hyperlink]],\"Weblink\")","v":"Weblink"},"Enslow Publishing","2021","August 2020","8.500 X 7.125","Author","Elise Tobler",null,null,null,null,"M",null,"Grade 2 - 3","Grade 2 - 5","Geckos can live in many different habitats and have unique features that help them stay alive. This book introduces readers to many different kinds of geckos, from those living in the desert to the geckos found in the pet store. Reptile lovers will enjoy learning all sorts of science facts such as how they are able to walk on walls and the ins and outs of their life cycle. Full-color photographs and fascinating fact boxes reinforce key ideas and keep readers engaged.","English",25.27,18.95,"597.95/2--dc23","32 pp.","https://www.enslow.com/books/Geckos_Walk_on_Walls/422224",{"$f":"Table1[[#This Row],[QTY]]*Table1[[#This Row],['# of Books]]","v":0},{"$f":"Table1[[#This Row],[QTY]]*Table1[[#This Row],[School & Library Price]]","v":0}]
[null,29,null,"Reptiles Rock!","Geckos Walk on Walls!",1,"eBook","978-1-9785-1819-3",{"$f":"HYPERLINK(Table1[[#This Row],[Hyperlink]],\"Weblink\")","v":"Weblink"},"Enslow Publishing","2021","August 2020",null,"Author","Elise Tobler",null,null,null,null,"M",null,"Grade 2 - 3","Grade 2 - 5","Geckos can live in many different habitats and have unique features that help them stay alive. This book introduces readers to many different kinds of geckos, from those living in the desert to the geckos found in the pet store. Reptile lovers will enjoy learning all sorts of science facts such as how they are able to walk on walls and the ins and outs of their life cycle. Full-color photographs and fascinating fact boxes reinforce key ideas and keep readers engaged.","English",25.27,18.95,"597.95/2--dc23","32 pp.","https://www.enslow.com/books/Geckos_Walk_on_Walls/422224",{"$f":"Table1[[#This Row],[QTY]]*Table1[[#This Row],['# of Books]]","v":0},{"$f":"Table1[[#This Row],[QTY]]*Table1[[#This Row],[School & Library Price]]","v":0}]
[null,29,null,"Reptiles Rock!","Gila Monsters Have a Deadly Bite!",1,"Library Bound Book","978-1-9785-1822-3",{"$f":"HYPERLINK(Table1[[#This Row],[Hyperlink]],\"Weblink\")","v":"Weblink"},"Enslow Publishing","2021","August 2020","8.500 X 7.125","Author","Elise Tobler",null,null,null,null,"M",null,"Grade 2 - 3","Grade 2 - 5","These creatures might not be the first image that comes to mind when one hears the word \"monster,\" but a Gila monster's bite can be deadly to its prey. While this reptile moves slowly, it is able to protect itself from predators in a fascinating way. Accessible text conveys important aspects of elementary science curricula while eye-catching photographs keep readers of many ages and levels engaged. Curious and developing readers will be thrilled to recite the many fun facts they learn from this volume.","English",25.27,18.95,"597.95/952--dc23","32 pp.","https://www.enslow.com/books/Gila_Monsters_Have_a_Deadly_Bite/422225",{"$f":"Table1[[#This Row],[QTY]]*Table1[[#This Row],['# of Books]]","v":0},{"$f":"Table1[[#This Row],[QTY]]*Table1[[#This Row],[School & Library Price]]","v":0}]
[null,29,null,"Reptiles Rock!","Gila Monsters Have a Deadly Bite!",1,"eBook","978-1-9785-1823-0",{"$f":"HYPERLINK(Table1[[#This Row],[Hyperlink]],\"Weblink\")","v":"Weblink"},"Enslow Publishing","2021","August 2020",null,"Author","Elise Tobler",null,null,null,null,"M",null,"Grade 2 - 3","Grade 2 - 5","These creatures might not be the first image that comes to mind when one hears the word \"monster,\" but a Gila monster's bite can be deadly to its prey. While this reptile moves slowly, it is able to protect itself from predators in a fascinating way. Accessible text conveys important aspects of elementary science curricula while eye-catching photographs keep readers of many ages and levels engaged. Curious and developing readers will be thrilled to recite the many fun facts they learn from this volume.","English",25.27,18.95,"597.95/952--dc23","32 pp.","https://www.enslow.com/books/Gila_Monsters_Have_a_Deadly_Bite/422225",{"$f":"Table1[[#This Row],[QTY]]*Table1[[#This Row],['# of Books]]","v":0},{"$f":"Table1[[#This Row],[QTY]]*Table1[[#This Row],[School & Library Price]]","v":0}]
[null,29,null,"Reptiles Rock!","Iguanas Have an Extra Eye!",1,"Library Bound Book","978-1-9785-1826-1",{"$f":"HYPERLINK(Table1[[#This Row],[Hyperlink]],\"Weblink\")","v":"Weblink"},"Enslow Publishing","2021","August 2020","8.500 X 7.125","Author","Elise Tobler",null,null,null,null,"M",null,"Grade 2 - 3","Grade 2 - 5","Imagine all the ways having an extra eye could make life easier. Lucky for iguanas, they don't have to imagine! With the help of this stimulating volume, reptile-loving readers will learn about these scaly creatures, from their diets and habitats to how exactly that extra eye comes in handy. Colorful photographs provide a close-up view of these wonderful reptiles and keep readers engaged while they absorb important life science concepts. Informative text is laid out in sections that are easy to digest, making for a book that your readers will benefit from.","English",25.27,18.95,"597.95/42--dc23","32 pp.","https://www.enslow.com/books/Iguanas_Have_an_Extra_Eye/422226",{"$f":"Table1[[#This Row],[QTY]]*Table1[[#This Row],['# of Books]]","v":0},{"$f":"Table1[[#This Row],[QTY]]*Table1[[#This Row],[School & Library Price]]","v":0}]
[null,29,null,"Reptiles Rock!","Iguanas Have an Extra Eye!",1,"eBook","978-1-9785-1827-8",{"$f":"HYPERLINK(Table1[[#This Row],[Hyperlink]],\"Weblink\")","v":"Weblink"},"Enslow Publishing","2021","August 2020",null,"Author","Elise Tobler",null,null,null,null,"M",null,"Grade 2 - 3","Grade 2 - 5","Imagine all the ways having an extra eye could make life easier. Lucky for iguanas, they don't have to imagine! With the help of this stimulating volume, reptile-loving readers will learn about these scaly creatures, from their diets and habitats to how exactly that extra eye comes in handy. Colorful photographs provide a close-up view of these wonderful reptiles and keep readers engaged while they absorb important life science concepts. Informative text is laid out in sections that are easy to digest, making for a book that your readers will benefit from.","English",25.27,18.95,"597.95/42--dc23","32 pp.","https://www.enslow.com/books/Iguanas_Have_an_Extra_Eye/422226",{"$f":"Table1[[#This Row],[QTY]]*Table1[[#This Row],['# of Books]]","v":0},{"$f":"Table1[[#This Row],[QTY]]*Table1[[#This Row],[School & Library Price]]","v":0}]
[null,29,null,"Reptiles Rock!","Komodo Dragons are the Largest Lizards!",1,"Library Bound Book","978-1-9785-1830-8",{"$f":"HYPERLINK(Table1[[#This Row],[Hyperlink]],\"Weblink\")","v":"Weblink"},"Enslow Publishing","2021","August 2020","8.500 X 7.125","Author","Elise Tobler",null,null,null,null,"M",null,"Grade 2 - 3","Grade 2 - 5","While they're not exactly the mythical fire-breathing monsters that their name brings to mind, Komodo dragons are still fierce predators. They're also the world's largest lizards and can weigh as much as an adult person. With the help of accessible text, fact boxes, graphic organizers, and vibrant photographs, readers learn all about these unique reptiles. They may not be the kind of dragons most stories are about, but they certainly make for a fascinating and informative topic.","English",25.27,18.95,"597.95/968--dc23","32 pp.","https://www.enslow.com/books/Komodo_Dragons_are_the_Largest_Lizards/422227",{"$f":"Table1[[#This Row],[QTY]]*Table1[[#This Row],['# of Books]]","v":0},{"$f":"Table1[[#This Row],[QTY]]*Table1[[#This Row],[School & Library Price]]","v":0}]
[null,29,null,"Reptiles Rock!","Komodo Dragons are the Largest Lizards!",1,"eBook","978-1-9785-1831-5",{"$f":"HYPERLINK(Table1[[#This Row],[Hyperlink]],\"Weblink\")","v":"Weblink"},"Enslow Publishing","2021","August 2020",null,"Author","Elise Tobler",null,null,null,null,"M",null,"Grade 2 - 3","Grade 2 - 5","While they're not exactly the mythical fire-breathing monsters that their name brings to mind, Komodo dragons are still fierce predators. They're also the world's largest lizards and can weigh as much as an adult person. With the help of accessible text, fact boxes, graphic organizers, and vibrant photographs, readers learn all about these unique reptiles. They may not be the kind of dragons most stories are about, but they certainly make for a fascinating and informative topic.","English",25.27,18.95,"597.95/968--dc23","32 pp.","https://www.enslow.com/books/Komodo_Dragons_are_the_Largest_Lizards/422227",{"$f":"Table1[[#This Row],[QTY]]*Table1[[#This Row],['# of Books]]","v":0},{"$f":"Table1[[#This Row],[QTY]]*Table1[[#This Row],[School & Library Price]]","v":0}]
[null,29,null,"Reptiles Rock!","Snapping Turtles Eat Anything!",1,"Library Bound Book","978-1-9785-1834-6",{"$f":"HYPERLINK(Table1[[#This Row],[Hyperlink]],\"Weblink\")","v":"Weblink"},"Enslow Publishing","2021","August 2020","8.500 X 7.125","Author","Elise Tobler",null,null,null,null,"M",null,"Grade 2 - 3","Grade 2 - 5","Unlike many other creatures, snapping turtles aren't very picky when it comes to their food. They're usually happy to eat almost anything they can get their mouths on! Readers of this innovative volume are introduced to these often-aggressive animals and learn key facts about them, such as the differences between the common snapping turtle and the alligator snapping turtle. Eye-catching photographs correlate closely with engaging text, supporting a solid understanding of this narrative's scientific and curricular content.","English",25.27,18.95,"597.92/2--dc23","32 pp.","https://www.enslow.com/books/Snapping_Turtles_Eat_Anything/422228",{"$f":"Table1[[#This Row],[QTY]]*Table1[[#This Row],['# of Books]]","v":0},{"$f":"Table1[[#This Row],[QTY]]*Table1[[#This Row],[School & Library Price]]","v":0}]
[null,29,null,"Reptiles Rock!","Snapping Turtles Eat Anything!",1,"eBook","978-1-9785-1835-3",{"$f":"HYPERLINK(Table1[[#This Row],[Hyperlink]],\"Weblink\")","v":"Weblink"},"Enslow Publishing","2021","August 2020",null,"Author","Elise Tobler",null,null,null,null,"M",null,"Grade 2 - 3","Grade 2 - 5","Unlike many other creatures, snapping turtles aren't very picky when it comes to their food. They're usually happy to eat almost anything they can get their mouths on! Readers of this innovative volume are introduced to these often-aggressive animals and learn key facts about them, such as the differences between the common snapping turtle and the alligator snapping turtle. Eye-catching photographs correlate closely with engaging text, supporting a solid understanding of this narrative's scientific and curricular content.","English",25.27,18.95,"597.92/2--dc23","32 pp.","https://www.enslow.com/books/Snapping_Turtles_Eat_Anything/422228",{"$f":"Table1[[#This Row],[QTY]]*Table1[[#This Row],['# of Books]]","v":0},{"$f":"Table1[[#This Row],[QTY]]*Table1[[#This Row],[School & Library Price]]","v":0}]
[null,30,null,"Classic Rides","Classic Rides",6,"Library Set","978-1-9785-1811-7",{"$f":"HYPERLINK(Table1[[#This Row],[Hyperlink]],\"Weblink\")","v":"Weblink"},"Enslow Publishing","2021","August 2020","8.500 X 7.125",null,null,null,null,null,null,null,null,"Grade 2 - 3","Grade 2 - 5","Few vehicles make people stop and stare as appreciatively as a classic car. There's just something about them that's sleek, stylish, and classy. Favorite classic cars including Corvettes and Porsches are highlighted in this high-speed, high-interest set. Riveted readers will learn what's behind the doors and under the hood. They'll also be treated to each brand's fascinating manufacturing stories. Noteworthy sidebars and show-stopping photographs make this collection essential for all car fanatics. Features include: Must-know car vocabulary coupled with comprehensible definitions. Famous car races are highlighted. Motivating topics offer STEM learning opportunities and connections to Next Gen Science Standards.","English",151.62,113.7,null,"32 pp.","https://www.enslow.com/series/Classic_Rides/491239",{"$f":"Table1[[#This Row],[QTY]]*Table1[[#This Row],['# of Books]]","v":0},{"$f":"Table1[[#This Row],[QTY]]*Table1[[#This Row],[School & Library Price]]","v":0}]
[null,30,null,"Classic Rides","Classic Camaros",1,"Library Bound Book","978-1-9785-1789-9",{"$f":"HYPERLINK(Table1[[#This Row],[Hyperlink]],\"Weblink\")","v":"Weblink"},"Enslow Publishing","2021","August 2020","8.500 X 7.125","Author","Claire Romaine",null,null,null,null,"N",null,"Grade 2 - 3","Grade 2 - 5","The Chevrolet Camaro debuted in 1966, becoming an instant classic. This cool car was so popular that after its production retirement the public clamored for its comeback. With this high-velocity volume, readers will learn how the Camaro became renowned and how it has changed over the decades, aided by beautiful, full-color photographs. They'll also pick up some key car vocabulary that every fan of classic cars should know.","English",25.27,18.95,"629.222'2--dc23","32 pp.","https://www.enslow.com/books/Classic_Camaros/422217",{"$f":"Table1[[#This Row],[QTY]]*Table1[[#This Row],['# of Books]]","v":0},{"$f":"Table1[[#This Row],[QTY]]*Table1[[#This Row],[School & Library Price]]","v":0}]
[null,30,null,"Classic Rides","Classic Camaros",1,"eBook","978-1-9785-1790-5",{"$f":"HYPERLINK(Table1[[#This Row],[Hyperlink]],\"Weblink\")","v":"Weblink"},"Enslow Publishing","2021","August 2020",null,"Author","Claire Romaine",null,null,null,null,"N",null,"Grade 2 - 3","Grade 2 - 5","The Chevrolet Camaro debuted in 1966, becoming an instant classic. This cool car was so popular that after its production retirement the public clamored for its comeback. With this high-velocity volume, readers will learn how the Camaro became renowned and how it has changed over the decades, aided by beautiful, full-color photographs. They'll also pick up some key car vocabulary that every fan of classic cars should know.","English",25.27,18.95,"629.222'2--dc23","32 pp.","https://www.enslow.com/books/Classic_Camaros/422217",{"$f":"Table1[[#This Row],[QTY]]*Table1[[#This Row],['# of Books]]","v":0},{"$f":"Table1[[#This Row],[QTY]]*Table1[[#This Row],[School & Library Price]]","v":0}]
[null,30,null,"Classic Rides","Classic Chargers",1,"Library Bound Book","978-1-9785-1793-6",{"$f":"HYPERLINK(Table1[[#This Row],[Hyperlink]],\"Weblink\")","v":"Weblink"},"Enslow Publishing","2021","August 2020","8.500 X 7.125","Author","Claire Romaine",null,null,null,null,"N",null,"Grade 2 - 3","Grade 2 - 5","The first Dodge Charger was designed to be a racing car with a special HEMI engine heart. Built to rival other muscle cars, it made a splash after its debut in 1966. Amazingly, over a half-century later, it's still a popular car being manufactured today. Young car buffs will love discovering why this automobile has retained its popularity over the years and across several generations of design. Vivid photographs of glossy cars aid in readers' understanding of these vehicles, while intriguing sidebars offer more in-depth knowledge about Chargers and cars in general.","English",25.27,18.95,"629.222'2--dc23","32 pp.","https://www.enslow.com/books/Classic_Chargers/422218",{"$f":"Table1[[#This Row],[QTY]]*Table1[[#This Row],['# of Books]]","v":0},{"$f":"Table1[[#This Row],[QTY]]*Table1[[#This Row],[School & Library Price]]","v":0}]
[null,30,null,"Classic Rides","Classic Chargers",1,"eBook","978-1-9785-1794-3",{"$f":"HYPERLINK(Table1[[#This Row],[Hyperlink]],\"Weblink\")","v":"Weblink"},"Enslow Publishing","2021","August 2020",null,"Author","Claire Romaine",null,null,null,null,"N",null,"Grade 2 - 3","Grade 2 - 5","The first Dodge Charger was designed to be a racing car with a special HEMI engine heart. Built to rival other muscle cars, it made a splash after its debut in 1966. Amazingly, over a half-century later, it's still a popular car being manufactured today. Young car buffs will love discovering why this automobile has retained its popularity over the years and across several generations of design. Vivid photographs of glossy cars aid in readers' understanding of these vehicles, while intriguing sidebars offer more in-depth knowledge about Chargers and cars in general.","English",25.27,18.95,"629.222'2--dc23","32 pp.","https://www.enslow.com/books/Classic_Chargers/422218",{"$f":"Table1[[#This Row],[QTY]]*Table1[[#This Row],['# of Books]]","v":0},{"$f":"Table1[[#This Row],[QTY]]*Table1[[#This Row],[School & Library Price]]","v":0}]
[null,30,null,"Classic Rides","Classic Chevelles",1,"Library Bound Book","978-1-9785-1797-4",{"$f":"HYPERLINK(Table1[[#This Row],[Hyperlink]],\"Weblink\")","v":"Weblink"},"Enslow Publishing","2021","August 2020","8.500 X 7.125","Author","Claire Romaine",null,null,null,null,"N",null,"Grade 2 - 3","Grade 2 - 5","A muscle car is a kind of sports car from the 1960s and 1970s. These exciting vehicles were known for high-power and high-performance. The Chevrolet Chevelle was one of the most famous, but it was actually a variety of models offered until 1977. In this fascinating, accessible narrative, readers will discover why this car is still remembered fondly. They'll find plenty of fun facts to share with Chevelle owners at future classic car shows.","English",25.27,18.95,"629.222/2--dc23","32 pp.","https://www.enslow.com/books/Classic_Chevelles/422219",{"$f":"Table1[[#This Row],[QTY]]*Table1[[#This Row],['# of Books]]","v":0},{"$f":"Table1[[#This Row],[QTY]]*Table1[[#This Row],[School & Library Price]]","v":0}]
[null,30,null,"Classic Rides","Classic Chevelles",1,"eBook","978-1-9785-1798-1",{"$f":"HYPERLINK(Table1[[#This Row],[Hyperlink]],\"Weblink\")","v":"Weblink"},"Enslow Publishing","2021","August 2020",null,"Author","Claire Romaine",null,null,null,null,"N",null,"Grade 2 - 3","Grade 2 - 5","A muscle car is a kind of sports car from the 1960s and 1970s. These exciting vehicles were known for high-power and high-performance. The Chevrolet Chevelle was one of the most famous, but it was actually a variety of models offered until 1977. In this fascinating, accessible narrative, readers will discover why this car is still remembered fondly. They'll find plenty of fun facts to share with Chevelle owners at future classic car shows.","English",25.27,18.95,"629.222/2--dc23","32 pp.","https://www.enslow.com/books/Classic_Chevelles/422219",{"$f":"Table1[[#This Row],[QTY]]*Table1[[#This Row],['# of Books]]","v":0},{"$f":"Table1[[#This Row],[QTY]]*Table1[[#This Row],[School & Library Price]]","v":0}]
[null,30,null,"Classic Rides","Classic Corvettes",1,"Library Bound Book","978-1-9785-1801-8",{"$f":"HYPERLINK(Table1[[#This Row],[Hyperlink]],\"Weblink\")","v":"Weblink"},"Enslow Publishing","2021","August 2020","8.500 X 7.125","Author","Claire Romaine",null,null,null,null,"N",null,"Grade 2 - 3","Grade 2 - 5","The word \"Corvette\" is synonymous with \"sports car\" today. How this make of car became so famous and the changes it has undergone over the years is the intriguing subject of this high-velocity volume, full of enthralling images of Corvettes. This motivating narrative is packed with interesting facts and engineering details that readers will want to explore and share with other classic car fans.","English",25.27,18.95,"629.222/2--dc23","32 pp.","https://www.enslow.com/books/Classic_Corvettes/422220",{"$f":"Table1[[#This Row],[QTY]]*Table1[[#This Row],['# of Books]]","v":0},{"$f":"Table1[[#This Row],[QTY]]*Table1[[#This Row],[School & Library Price]]","v":0}]
[null,30,null,"Classic Rides","Classic Corvettes",1,"eBook","978-1-9785-1802-5",{"$f":"HYPERLINK(Table1[[#This Row],[Hyperlink]],\"Weblink\")","v":"Weblink"},"Enslow Publishing","2021","August 2020",null,"Author","Claire Romaine",null,null,null,null,"N",null,"Grade 2 - 3","Grade 2 - 5","The word \"Corvette\" is synonymous with \"sports car\" today. How this make of car became so famous and the changes it has undergone over the years is the intriguing subject of this high-velocity volume, full of enthralling images of Corvettes. This motivating narrative is packed with interesting facts and engineering details that readers will want to explore and share with other classic car fans.","English",25.27,18.95,"629.222/2--dc23","32 pp.","https://www.enslow.com/books/Classic_Corvettes/422220",{"$f":"Table1[[#This Row],[QTY]]*Table1[[#This Row],['# of Books]]","v":0},{"$f":"Table1[[#This Row],[QTY]]*Table1[[#This Row],[School & Library Price]]","v":0}]
[null,30,null,"Classic Rides","Classic GTOs",1,"Library Bound Book","978-1-9785-1805-6",{"$f":"HYPERLINK(Table1[[#This Row],[Hyperlink]],\"Weblink\")","v":"Weblink"},"Enslow Publishing","2021","August 2020","8.500 X 7.125","Author","Claire Romaine",null,null,null,null,"N",null,"Grade 2 - 3","Grade 2 - 5","The GTO is one of the fastest automobiles ever created. Many people have heard of it, but they likely don't know those three letters have been on several car brands, including Ferraris, Mitsubishis, and Pontiacs, and even some motorcycles. Readers will love learning about the history and evolution of impressive GTOs through the dazzling photographs of this carefully researched book. They'll also find the thought-provoking information helpful in gaining a greater understanding of the engineering of vehicles.","English",25.27,18.95,"629.222--dc23","32 pp.","https://www.enslow.com/books/Classic_GTOs/422221",{"$f":"Table1[[#This Row],[QTY]]*Table1[[#This Row],['# of Books]]","v":0},{"$f":"Table1[[#This Row],[QTY]]*Table1[[#This Row],[School & Library Price]]","v":0}]
[null,30,null,"Classic Rides","Classic GTOs",1,"eBook","978-1-9785-1806-3",{"$f":"HYPERLINK(Table1[[#This Row],[Hyperlink]],\"Weblink\")","v":"Weblink"},"Enslow Publishing","2021","August 2020",null,"Author","Claire Romaine",null,null,null,null,"N",null,"Grade 2 - 3","Grade 2 - 5","The GTO is one of the fastest automobiles ever created. Many people have heard of it, but they likely don't know those three letters have been on several car brands, including Ferraris, Mitsubishis, and Pontiacs, and even some motorcycles. Readers will love learning about the history and evolution of impressive GTOs through the dazzling photographs of this carefully researched book. They'll also find the thought-provoking information helpful in gaining a greater understanding of the engineering of vehicles.","English",25.27,18.95,"629.222--dc23","32 pp.","https://www.enslow.com/books/Classic_GTOs/422221",{"$f":"Table1[[#This Row],[QTY]]*Table1[[#This Row],['# of Books]]","v":0},{"$f":"Table1[[#This Row],[QTY]]*Table1[[#This Row],[School & Library Price]]","v":0}]
[null,30,null,"Classic Rides","Classic Porsches",1,"Library Bound Book","978-1-9785-1809-4",{"$f":"HYPERLINK(Table1[[#This Row],[Hyperlink]],\"Weblink\")","v":"Weblink"},"Enslow Publishing","2021","August 2020","8.500 X 7.125","Author","Claire Romaine",null,null,null,null,"N",null,"Grade 2 - 3","Grade 2 - 5","When Ferdinand Porsche and his son created a car company in the 1940s, they set out to create a new kind of race car. This automobile and the high-performance vehicles that followed took the Porsche name. While these cool cars conquered the racing scene, they were also produced for everyday driving. Porsche is still manufacturing cars that elicit \"oohs\" and \"ahhs,\" whether rounding a turn on a tight track or driving down a country road. Readers and race fans will find all the information they crave while they enjoy plenty of striking photographs of Porsches in action.","English",25.27,18.95,"629.222--dc23","32 pp.","https://www.enslow.com/books/Classic_Porsches/422222",{"$f":"Table1[[#This Row],[QTY]]*Table1[[#This Row],['# of Books]]","v":0},{"$f":"Table1[[#This Row],[QTY]]*Table1[[#This Row],[School & Library Price]]","v":0}]
[null,30,null,"Classic Rides","Classic Porsches",1,"eBook","978-1-9785-1810-0",{"$f":"HYPERLINK(Table1[[#This Row],[Hyperlink]],\"Weblink\")","v":"Weblink"},"Enslow Publishing","2021","August 2020",null,"Author","Claire Romaine",null,null,null,null,"N",null,"Grade 2 - 3","Grade 2 - 5","When Ferdinand Porsche and his son created a car company in the 1940s, they set out to create a new kind of race car. This automobile and the high-performance vehicles that followed took the Porsche name. While these cool cars conquered the racing scene, they were also produced for everyday driving. Porsche is still manufacturing cars that elicit \"oohs\" and \"ahhs,\" whether rounding a turn on a tight track or driving down a country road. Readers and race fans will find all the information they crave while they enjoy plenty of striking photographs of Porsches in action.","English",25.27,18.95,"629.222--dc23","32 pp.","https://www.enslow.com/books/Classic_Porsches/422222",{"$f":"Table1[[#This Row],[QTY]]*Table1[[#This Row],['# of Books]]","v":0},{"$f":"Table1[[#This Row],[QTY]]*Table1[[#This Row],[School & Library Price]]","v":0}]
[null,32,null,"Life at the Poles","Life at the Poles",6,"Library Set","978-1-9785-1566-6",{"$f":"HYPERLINK(Table1[[#This Row],[Hyperlink]],\"Weblink\")","v":"Weblink"},"Enslow Publishing","2020","January 2020","7.125 X 8.500",null,null,null,null,null,null,null,null,"Grade 2","Grade K - 4","Snow, ice, and subzero temperatures are a chilly fact of life at the North and South Poles. It takes a special animal to survive in these extreme conditions. Each volume in this fact-filled set takes an in-depth look at one unique creature that calls the poles home. With the help of vibrant photographs and simple text, readers examine the animals' life cycles, body structures, and behaviors, with a special focus on how each animal has adapted to its challenging habitat. Fast facts provide additional information, while a final activity encourages readers to use what they've learned to create their own food web. Features include: Gorgeous photographs that show animals in their natural habitats. Provides examples of Next Generation Science Standards core ideas about biodiversity, the growth and development of organisms, variation in traits, adaptation, and ecosystem dynamics. Food web activities help students understand the interdependence of organisms in an ecosystem. Fact Boxes introduce extra information, Words to Know sections provide clear definitions of key terms, and Learn More sections provide further resources for study.","English",135.6,101.7,null,"24 pp.","https://www.enslow.com/series/Life_at_the_Poles/483782",{"$f":"Table1[[#This Row],[QTY]]*Table1[[#This Row],['# of Books]]","v":0},{"$f":"Table1[[#This Row],[QTY]]*Table1[[#This Row],[School & Library Price]]","v":0}]
[null,32,null,"Life at the Poles","Arctic Foxes",1,"Library Bound Book","978-1-9785-1203-0",{"$f":"HYPERLINK(Table1[[#This Row],[Hyperlink]],\"Weblink\")","v":"Weblink"},"Enslow Publishing","2020","January 2020","7.125 X 8.500","Author","Kathy Furgang",null,null,null,null,"H",null,"Grade 2","Grade K - 4","The Arctic fox makes its home in one of the most brutal environments in the world. So how does it survive? Readers discover the many ways that these amazing animals adapt and thrive in the Arctic. Full-color photographs and fast facts enhance the narrative as readers learn about the Arctic fox's diet, behaviors, and adaptations, from its extra-warm pelt to its sharp hunting instincts. At the end of the book, readers are invited to explore this cool creature's role in the Arctic food web.","English",22.6,16.95,"599.776/4--dc23","24 pp.","https://www.enslow.com/books/Arctic_Foxes/422102",{"$f":"Table1[[#This Row],[QTY]]*Table1[[#This Row],['# of Books]]","v":0},{"$f":"Table1[[#This Row],[QTY]]*Table1[[#This Row],[School & Library Price]]","v":0}]
[null,32,null,"Life at the Poles","Arctic Foxes",1,"eBook","978-1-9785-1204-7",{"$f":"HYPERLINK(Table1[[#This Row],[Hyperlink]],\"Weblink\")","v":"Weblink"},"Enslow Publishing","2020","January 2020",null,"Author","Kathy Furgang",null,null,null,null,"H",null,"Grade 2","Grade K - 4","The Arctic fox makes its home in one of the most brutal environments in the world. So how does it survive? Readers discover the many ways that these amazing animals adapt and thrive in the Arctic. Full-color photographs and fast facts enhance the narrative as readers learn about the Arctic fox's diet, behaviors, and adaptations, from its extra-warm pelt to its sharp hunting instincts. At the end of the book, readers are invited to explore this cool creature's role in the Arctic food web.","English",22.6,16.95,"599.776/4--dc23","24 pp.","https://www.enslow.com/books/Arctic_Foxes/422102",{"$f":"Table1[[#This Row],[QTY]]*Table1[[#This Row],['# of Books]]","v":0},{"$f":"Table1[[#This Row],[QTY]]*Table1[[#This Row],[School & Library Price]]","v":0}]
[null,32,null,"Life at the Poles","Beluga Whales",1,"Library Bound Book","978-1-9785-1207-8",{"$f":"HYPERLINK(Table1[[#This Row],[Hyperlink]],\"Weblink\")","v":"Weblink"},"Enslow Publishing","2020","January 2020","7.125 X 8.500","Author","Kathy Furgang",null,null,null,null,"H",null,"Grade 2","Grade K - 4","Beluga whales spend much of the year swimming in the chilly waters of the Arctic Ocean. How do they do it? Readers discover fascinating facts and details with this informative book about one of the most adaptive animals on Earth. Color photographs accompany the simple narrative as it describes the whales' diet, behaviors, and physical adaptations. Young explorers will find out how beluga whales communicate with each other, what they eat, and how they stay warm. This book concludes with an activity that shows the beluga whale's role in the Arctic food web.","English",22.6,16.95,"599.5/42--dc23","24 pp.","https://www.enslow.com/books/Beluga_Whales/422103",{"$f":"Table1[[#This Row],[QTY]]*Table1[[#This Row],['# of Books]]","v":0},{"$f":"Table1[[#This Row],[QTY]]*Table1[[#This Row],[School & Library Price]]","v":0}]
[null,32,null,"Life at the Poles","Beluga Whales",1,"eBook","978-1-9785-1208-5",{"$f":"HYPERLINK(Table1[[#This Row],[Hyperlink]],\"Weblink\")","v":"Weblink"},"Enslow Publishing","2020","January 2020",null,"Author","Kathy Furgang",null,null,null,null,"H",null,"Grade 2","Grade K - 4","Beluga whales spend much of the year swimming in the chilly waters of the Arctic Ocean. How do they do it? Readers discover fascinating facts and details with this informative book about one of the most adaptive animals on Earth. Color photographs accompany the simple narrative as it describes the whales' diet, behaviors, and physical adaptations. Young explorers will find out how beluga whales communicate with each other, what they eat, and how they stay warm. This book concludes with an activity that shows the beluga whale's role in the Arctic food web.","English",22.6,16.95,"599.5/42--dc23","24 pp.","https://www.enslow.com/books/Beluga_Whales/422103",{"$f":"Table1[[#This Row],[QTY]]*Table1[[#This Row],['# of Books]]","v":0},{"$f":"Table1[[#This Row],[QTY]]*Table1[[#This Row],[School & Library Price]]","v":0}]
[null,32,null,"Life at the Poles","Emperor Penguins",1,"Library Bound Book","978-1-9785-1211-5",{"$f":"HYPERLINK(Table1[[#This Row],[Hyperlink]],\"Weblink\")","v":"Weblink"},"Enslow Publishing","2020","January 2020","7.125 X 8.500","Author","Rita Santos",null,null,null,null,"G",null,"Grade 2","Grade K - 4","It takes a special animal to survive the subzero temperatures found at the South Pole. Emperor penguins are the largest living penguins. They use their size to help them survive in Antarctica, one of the coldest place on Earth. With the help of vibrant photographs and simple text, readers will examine how the emperor penguin's life cycle, body structure, and behaviors have adapted to its challenging environment. A follow-up activity encourages readers to use what they've learned to create food webs based on these cool creatures.","English",22.6,16.95,"598.47--dc23","24 pp.","https://www.enslow.com/books/Emperor_Penguins/422104",{"$f":"Table1[[#This Row],[QTY]]*Table1[[#This Row],['# of Books]]","v":0},{"$f":"Table1[[#This Row],[QTY]]*Table1[[#This Row],[School & Library Price]]","v":0}]
[null,32,null,"Life at the Poles","Emperor Penguins",1,"eBook","978-1-9785-1212-2",{"$f":"HYPERLINK(Table1[[#This Row],[Hyperlink]],\"Weblink\")","v":"Weblink"},"Enslow Publishing","2020","January 2020",null,"Author","Rita Santos",null,null,null,null,"G",null,"Grade 2","Grade K - 4","It takes a special animal to survive the subzero temperatures found at the South Pole. Emperor penguins are the largest living penguins. They use their size to help them survive in Antarctica, one of the coldest place on Earth. With the help of vibrant photographs and simple text, readers will examine how the emperor penguin's life cycle, body structure, and behaviors have adapted to its challenging environment. A follow-up activity encourages readers to use what they've learned to create food webs based on these cool creatures.","English",22.6,16.95,"598.47--dc23","24 pp.","https://www.enslow.com/books/Emperor_Penguins/422104",{"$f":"Table1[[#This Row],[QTY]]*Table1[[#This Row],['# of Books]]","v":0},{"$f":"Table1[[#This Row],[QTY]]*Table1[[#This Row],[School & Library Price]]","v":0}]
[null,32,null,"Life at the Poles","Leopard Seals",1,"Library Bound Book","978-1-9785-1215-3",{"$f":"HYPERLINK(Table1[[#This Row],[Hyperlink]],\"Weblink\")","v":"Weblink"},"Enslow Publishing","2020","January 2020","7.125 X 8.500","Author","Rita Santos",null,null,null,null,"I",null,"Grade 2","Grade K - 4","The solitary leopard seal is a fierce hunter and a graceful swimmer. It spends most of its time swimming in the frigid waters of Antarctica. How does it survive in this extreme environment? With the help of color photographs and fun facts, this accessible text explores how the leopard seal's life cycle, body structure, and behaviors have adapted to make it one of the most fearsome predators in one of the coldest places in the world. An engaging final activity encourages readers to use what they've learned to create an Antarctic food web.","English",22.6,16.95,"599.79/6--dc23","24 pp.","https://www.enslow.com/books/Leopard_Seals/422105",{"$f":"Table1[[#This Row],[QTY]]*Table1[[#This Row],['# of Books]]","v":0},{"$f":"Table1[[#This Row],[QTY]]*Table1[[#This Row],[School & Library Price]]","v":0}]
[null,32,null,"Life at the Poles","Leopard Seals",1,"eBook","978-1-9785-1216-0",{"$f":"HYPERLINK(Table1[[#This Row],[Hyperlink]],\"Weblink\")","v":"Weblink"},"Enslow Publishing","2020","January 2020",null,"Author","Rita Santos",null,null,null,null,"I",null,"Grade 2","Grade K - 4","The solitary leopard seal is a fierce hunter and a graceful swimmer. It spends most of its time swimming in the frigid waters of Antarctica. How does it survive in this extreme environment? With the help of color photographs and fun facts, this accessible text explores how the leopard seal's life cycle, body structure, and behaviors have adapted to make it one of the most fearsome predators in one of the coldest places in the world. An engaging final activity encourages readers to use what they've learned to create an Antarctic food web.","English",22.6,16.95,"599.79/6--dc23","24 pp.","https://www.enslow.com/books/Leopard_Seals/422105",{"$f":"Table1[[#This Row],[QTY]]*Table1[[#This Row],['# of Books]]","v":0},{"$f":"Table1[[#This Row],[QTY]]*Table1[[#This Row],[School & Library Price]]","v":0}]
[null,32,null,"Life at the Poles","Polar Bears",1,"Library Bound Book","978-1-9785-1219-1",{"$f":"HYPERLINK(Table1[[#This Row],[Hyperlink]],\"Weblink\")","v":"Weblink"},"Enslow Publishing","2020","January 2020","7.125 X 8.500","Author","Rita Santos",null,null,null,null,"G",null,"Grade 2","Grade K - 4","Polar bears are one of the Arctic's most fearsome predators and one of its most endangered animals. Their huge size, blubber, and thick fur allow them to survive in their cold environment, while their sharp sense of smell means they can sniff out their dinner from a long distance. Full of vibrant photographs and fun facts, this simple narrative examines how the polar bear's life cycle, body structure, and behaviors have adapted to its challenging environment and shrinking habitat. A final activity asks readers to use what they've learned about polar bears to create an Arctic food web.","English",22.6,16.95,"599.786--dc23","24 pp.","https://www.enslow.com/books/Polar_Bears/422106",{"$f":"Table1[[#This Row],[QTY]]*Table1[[#This Row],['# of Books]]","v":0},{"$f":"Table1[[#This Row],[QTY]]*Table1[[#This Row],[School & Library Price]]","v":0}]
[null,32,null,"Life at the Poles","Polar Bears",1,"eBook","978-1-9785-1220-7",{"$f":"HYPERLINK(Table1[[#This Row],[Hyperlink]],\"Weblink\")","v":"Weblink"},"Enslow Publishing","2020","January 2020",null,"Author","Rita Santos",null,null,null,null,"G",null,"Grade 2","Grade K - 4","Polar bears are one of the Arctic's most fearsome predators and one of its most endangered animals. Their huge size, blubber, and thick fur allow them to survive in their cold environment, while their sharp sense of smell means they can sniff out their dinner from a long distance. Full of vibrant photographs and fun facts, this simple narrative examines how the polar bear's life cycle, body structure, and behaviors have adapted to its challenging environment and shrinking habitat. A final activity asks readers to use what they've learned about polar bears to create an Arctic food web.","English",22.6,16.95,"599.786--dc23","24 pp.","https://www.enslow.com/books/Polar_Bears/422106",{"$f":"Table1[[#This Row],[QTY]]*Table1[[#This Row],['# of Books]]","v":0},{"$f":"Table1[[#This Row],[QTY]]*Table1[[#This Row],[School & Library Price]]","v":0}]
[null,32,null,"Life at the Poles","Snowy Owls",1,"Library Bound Book","978-1-9785-1223-8",{"$f":"HYPERLINK(Table1[[#This Row],[Hyperlink]],\"Weblink\")","v":"Weblink"},"Enslow Publishing","2020","January 2020","7.125 X 8.500","Author","Rita Santos",null,null,null,null,"J",null,"Grade 2","Grade K - 4","The nomadic snowy owl is among the Arctic's most graceful predators. It makes its home in the frigid north, relying on its heavy feathers and snowy white appearance for survival in the subzero temperatures. With full-color photographs and accessible text, this book examines how the snowy owl's life cycle, body structure, and behaviors have adapted to its challenging environment. Fun facts will engage young readers, and a final activity encourages them to use what they've learned to create a food web based on the snowy owl.","English",22.6,16.95,"598.9/7--dc23","24 pp.","https://www.enslow.com/books/Snowy_Owls/422107",{"$f":"Table1[[#This Row],[QTY]]*Table1[[#This Row],['# of Books]]","v":0},{"$f":"Table1[[#This Row],[QTY]]*Table1[[#This Row],[School & Library Price]]","v":0}]
[null,32,null,"Life at the Poles","Snowy Owls",1,"eBook","978-1-9785-1224-5",{"$f":"HYPERLINK(Table1[[#This Row],[Hyperlink]],\"Weblink\")","v":"Weblink"},"Enslow Publishing","2020","January 2020",null,"Author","Rita Santos",null,null,null,null,"J",null,"Grade 2","Grade K - 4","The nomadic snowy owl is among the Arctic's most graceful predators. It makes its home in the frigid north, relying on its heavy feathers and snowy white appearance for survival in the subzero temperatures. With full-color photographs and accessible text, this book examines how the snowy owl's life cycle, body structure, and behaviors have adapted to its challenging environment. Fun facts will engage young readers, and a final activity encourages them to use what they've learned to create a food web based on the snowy owl.","English",22.6,16.95,"598.9/7--dc23","24 pp.","https://www.enslow.com/books/Snowy_Owls/422107",{"$f":"Table1[[#This Row],[QTY]]*Table1[[#This Row],['# of Books]]","v":0},{"$f":"Table1[[#This Row],[QTY]]*Table1[[#This Row],[School & Library Price]]","v":0}]
[null,33,null,"Animals Growing Up","Animals Growing Up: Sets 1 – 3",22,"Library Set","978-1-9785-1578-9",{"$f":"HYPERLINK(Table1[[#This Row],[Hyperlink]],\"Weblink\")","v":"Weblink"},"Enslow Publishing","2020","January 2020","8.500 X 7.125",null,null,null,null,null,null,null,null,"Grade 1 - 2","Grade K - 3","With simple language and vivid full-page color, students will venture into the world of the wild, where they will discover how different young animals survive in their habitats and interact with others in their environments. Students will also learn fascinating details about a species' family life, including whether the animal is born live or hatched from an egg, what the animal eats as a baby and how that diet changes as it matures, and what survival skills it learns from its parents. Features include: Introduces a wide variety of species through the high-interest topic of baby animals. Supports the Next Generation Science Standards on biological evolution and biodiversity. Contains Words to Know sections at the front of the books to help readers learn new vocabulary words before they encounter them in the narratives. Contains Fast Facts that give quick, easily digestible bits of information.","English",497.2,372.9,null,"24 pp.","https://www.enslow.com/series/Animals_Growing_Up/455289",{"$f":"Table1[[#This Row],[QTY]]*Table1[[#This Row],['# of Books]]","v":0},{"$f":"Table1[[#This Row],[QTY]]*Table1[[#This Row],[School & Library Price]]","v":0}]
[null,33,null,"Animals Growing Up","Animals Growing Up: Set 3",8,"Library Set","978-1-9785-1575-8",{"$f":"HYPERLINK(Table1[[#This Row],[Hyperlink]],\"Weblink\")","v":"Weblink"},"Enslow Publishing","2020","January 2020","8.500 X 7.125",null,null,null,null,null,null,null,null,"Grade 1 - 2","Grade K - 3","It is actually the male seahorse that carries the eggs of the female in his brood pouch and gives birth to the young. Snakes can hatch from eggs or be born live from their mothers. A sloth gives birth to her babies while hanging in a tree. Accessible text and adorable photographs give readers a glimpse into the early lives of these animals and other appealing species, including how and where they are born, what they eat as babies and as adults, and how they avoid predators. Students will be captivated by all the wonderful and weird adaptations baby animals have developed to survive in the wild. Features include: Introduces a wide variety of species through the high-interest topic of baby animals. Supports the Next Generation Science Standards on biological evolution and biodiversity. Contains Words to Know sections at the front of the books to help readers learn new vocabulary words before they encounter them in the narratives. Contains Fast Facts that give quick, easily digestible bits of information.","English",180.8,135.6,null,"24 pp.","https://www.enslow.com/series/Animals_Growing_Up/455289",{"$f":"Table1[[#This Row],[QTY]]*Table1[[#This Row],['# of Books]]","v":0},{"$f":"Table1[[#This Row],[QTY]]*Table1[[#This Row],[School & Library Price]]","v":0}]
[null,33,null,"Animals Growing Up","How Chimpanzees Grow Up",1,"Library Bound Book","978-1-9785-1227-6",{"$f":"HYPERLINK(Table1[[#This Row],[Hyperlink]],\"Weblink\")","v":"Weblink"},"Enslow Publishing","2020","January 2020","8.500 X 7.125","Author","Linda Bozzo",null,null,null,null,"I",null,"Grade 1 - 2","Grade K - 3","Readers will go bananas for the vibrant photographs of baby chimps in the wild. A simple narrative and fast facts teach life science concepts, such as what young chimpanzees eat and how their mothers protect them from danger. From birth to the time these great apes grow up, this book offers a sneak peek into this endangered species. This is a great introduction to baby chimpanzees that can be extended with the Learn More section. The Words to Know section in the front of the book introduces readers to unfamiliar vocabulary before they encounter it in the narrative, which enhances comprehension.","English",22.6,16.95,"599.88513/92--dc23","24 pp.","https://www.enslow.com/books/How_Chimpanzees_Grow_Up/422108",{"$f":"Table1[[#This Row],[QTY]]*Table1[[#This Row],['# of Books]]","v":0},{"$f":"Table1[[#This Row],[QTY]]*Table1[[#This Row],[School & Library Price]]","v":0}]
[null,33,null,"Animals Growing Up","How Chimpanzees Grow Up",1,"eBook","978-1-9785-1228-3",{"$f":"HYPERLINK(Table1[[#This Row],[Hyperlink]],\"Weblink\")","v":"Weblink"},"Enslow Publishing","2020","January 2020",null,"Author","Linda Bozzo",null,null,null,null,"I",null,"Grade 1 - 2","Grade K - 3","Readers will go bananas for the vibrant photographs of baby chimps in the wild. A simple narrative and fast facts teach life science concepts, such as what young chimpanzees eat and how their mothers protect them from danger. From birth to the time these great apes grow up, this book offers a sneak peek into this endangered species. This is a great introduction to baby chimpanzees that can be extended with the Learn More section. The Words to Know section in the front of the book introduces readers to unfamiliar vocabulary before they encounter it in the narrative, which enhances comprehension.","English",22.6,16.95,"599.88513/92--dc23","24 pp.","https://www.enslow.com/books/How_Chimpanzees_Grow_Up/422108",{"$f":"Table1[[#This Row],[QTY]]*Table1[[#This Row],['# of Books]]","v":0},{"$f":"Table1[[#This Row],[QTY]]*Table1[[#This Row],[School & Library Price]]","v":0}]
[null,33,null,"Animals Growing Up","How Foxes Grow Up",1,"Library Bound Book","978-1-9785-1231-3",{"$f":"HYPERLINK(Table1[[#This Row],[Hyperlink]],\"Weblink\")","v":"Weblink"},"Enslow Publishing","2020","January 2020","8.500 X 7.125","Author","Linda Bozzo",null,null,null,null,"H",null,"Grade 1 - 2","Grade K - 3","Readers will love exploring the world of baby foxes. This narrative follows kits from the time the litter is birthed in the den until the day the young foxes are ready to start families of their own. Children may not know that some foxes can climb trees or that foxes like to sleep during the day and hunt at night. Packed with vibrant photographs of these adorable baby animals in the wild, readers will be intrigued and will want to learn more by using the further information sections.","English",22.6,16.95,"599.77513/92--dc23","24 pp.","https://www.enslow.com/books/How_Foxes_Grow_Up/422109",{"$f":"Table1[[#This Row],[QTY]]*Table1[[#This Row],['# of Books]]","v":0},{"$f":"Table1[[#This Row],[QTY]]*Table1[[#This Row],[School & Library Price]]","v":0}]
[null,33,null,"Animals Growing Up","How Foxes Grow Up",1,"eBook","978-1-9785-1232-0",{"$f":"HYPERLINK(Table1[[#This Row],[Hyperlink]],\"Weblink\")","v":"Weblink"},"Enslow Publishing","2020","January 2020",null,"Author","Linda Bozzo",null,null,null,null,"H",null,"Grade 1 - 2","Grade K - 3","Readers will love exploring the world of baby foxes. This narrative follows kits from the time the litter is birthed in the den until the day the young foxes are ready to start families of their own. Children may not know that some foxes can climb trees or that foxes like to sleep during the day and hunt at night. Packed with vibrant photographs of these adorable baby animals in the wild, readers will be intrigued and will want to learn more by using the further information sections.","English",22.6,16.95,"599.77513/92--dc23","24 pp.","https://www.enslow.com/books/How_Foxes_Grow_Up/422109",{"$f":"Table1[[#This Row],[QTY]]*Table1[[#This Row],['# of Books]]","v":0},{"$f":"Table1[[#This Row],[QTY]]*Table1[[#This Row],[School & Library Price]]","v":0}]
[null,33,null,"Animals Growing Up","How Hippos Grow Up",1,"Library Bound Book","978-1-9785-1235-1",{"$f":"HYPERLINK(Table1[[#This Row],[Hyperlink]],\"Weblink\")","v":"Weblink"},"Enslow Publishing","2020","January 2020","8.500 X 7.125","Author","Linda Bozzo",null,null,null,null,"H",null,"Grade 1 - 2","Grade K - 3","Hippo calves are born underwater in the rivers and lakes of Africa. These massive babies weigh about 100 pounds at birth. Animal lovers will enjoy learning how baby hippos grow from being dependent on their mothers to going out on their own. Fascinating photographs of adorable baby hippos and a simple narrative teach life science concepts, such as diet, habitat, and social skills. A glossary and learn more section enhance the learning experience.","English",22.6,16.95,"599.63/5--dc23","24 pp.","https://www.enslow.com/books/How_Hippos_Grow_Up/422110",{"$f":"Table1[[#This Row],[QTY]]*Table1[[#This Row],['# of Books]]","v":0},{"$f":"Table1[[#This Row],[QTY]]*Table1[[#This Row],[School & Library Price]]","v":0}]
[null,33,null,"Animals Growing Up","How Hippos Grow Up",1,"eBook","978-1-9785-1236-8",{"$f":"HYPERLINK(Table1[[#This Row],[Hyperlink]],\"Weblink\")","v":"Weblink"},"Enslow Publishing","2020","January 2020",null,"Author","Linda Bozzo",null,null,null,null,"H",null,"Grade 1 - 2","Grade K - 3","Hippo calves are born underwater in the rivers and lakes of Africa. These massive babies weigh about 100 pounds at birth. Animal lovers will enjoy learning how baby hippos grow from being dependent on their mothers to going out on their own. Fascinating photographs of adorable baby hippos and a simple narrative teach life science concepts, such as diet, habitat, and social skills. A glossary and learn more section enhance the learning experience.","English",22.6,16.95,"599.63/5--dc23","24 pp.","https://www.enslow.com/books/How_Hippos_Grow_Up/422110",{"$f":"Table1[[#This Row],[QTY]]*Table1[[#This Row],['# of Books]]","v":0},{"$f":"Table1[[#This Row],[QTY]]*Table1[[#This Row],[School & Library Price]]","v":0}]
[null,33,null,"Animals Growing Up","How Seahorses Grow Up",1,"Library Bound Book","978-1-9785-1239-9",{"$f":"HYPERLINK(Table1[[#This Row],[Hyperlink]],\"Weblink\")","v":"Weblink"},"Enslow Publishing","2020","January 2020","8.500 X 7.125","Author","Linda Bozzo",null,null,null,null,"J",null,"Grade 1 - 2","Grade K - 3","Seahorses are famous for the males' ability to birth the offspring instead of the females. Readers will explore the world of baby seahorses and how these tiny creatures must camouflage themselves in order to survive alone in the wild. Fascinating photographs will captivate students while fun facts and words to know sections invite them to learn more about seahorses. Curious science and animal lovers will dive right in for a simple look into the lives of seahorse fry and how they grow up.","English",22.6,16.95,"597/.6798--dc23","24 pp.","https://www.enslow.com/books/How_Seahorses_Grow_Up/422111",{"$f":"Table1[[#This Row],[QTY]]*Table1[[#This Row],['# of Books]]","v":0},{"$f":"Table1[[#This Row],[QTY]]*Table1[[#This Row],[School & Library Price]]","v":0}]
[null,33,null,"Animals Growing Up","How Seahorses Grow Up",1,"eBook","978-1-9785-1240-5",{"$f":"HYPERLINK(Table1[[#This Row],[Hyperlink]],\"Weblink\")","v":"Weblink"},"Enslow Publishing","2020","January 2020",null,"Author","Linda Bozzo",null,null,null,null,"J",null,"Grade 1 - 2","Grade K - 3","Seahorses are famous for the males' ability to birth the offspring instead of the females. Readers will explore the world of baby seahorses and how these tiny creatures must camouflage themselves in order to survive alone in the wild. Fascinating photographs will captivate students while fun facts and words to know sections invite them to learn more about seahorses. Curious science and animal lovers will dive right in for a simple look into the lives of seahorse fry and how they grow up.","English",22.6,16.95,"597/.6798--dc23","24 pp.","https://www.enslow.com/books/How_Seahorses_Grow_Up/422111",{"$f":"Table1[[#This Row],[QTY]]*Table1[[#This Row],['# of Books]]","v":0},{"$f":"Table1[[#This Row],[QTY]]*Table1[[#This Row],[School & Library Price]]","v":0}]
[null,33,null,"Animals Growing Up","How Sloths Grow Up",1,"Library Bound Book","978-1-9785-1243-6",{"$f":"HYPERLINK(Table1[[#This Row],[Hyperlink]],\"Weblink\")","v":"Weblink"},"Enslow Publishing","2020","January 2020","8.500 X 7.125","Author","Linda Bozzo",null,null,null,null,"J",null,"Grade 1 - 2","Grade K - 3","The slowest mammals on earth, sloths were born to be tree-dwellers. Sloth mothers give birth while hanging upside down! With their long, sharp, curved claws, baby sloths spend their days clinging to tree branches in the rain forest. They make their way down from the trees only once a week for a bathroom break, which makes them vulnerable to predation. Readers will enjoy an accessible yet informative look into how baby sloths grow up. Amazing full-color photographs will fascinate animal lovers while fast facts and words to know sections extend the learning experience.","English",22.6,16.95,"599.3/13--dc23","24 pp.","https://www.enslow.com/books/How_Sloths_Grow_Up/422112",{"$f":"Table1[[#This Row],[QTY]]*Table1[[#This Row],['# of Books]]","v":0},{"$f":"Table1[[#This Row],[QTY]]*Table1[[#This Row],[School & Library Price]]","v":0}]
[null,33,null,"Animals Growing Up","How Sloths Grow Up",1,"eBook","978-1-9785-1244-3",{"$f":"HYPERLINK(Table1[[#This Row],[Hyperlink]],\"Weblink\")","v":"Weblink"},"Enslow Publishing","2020","January 2020",null,"Author","Linda Bozzo",null,null,null,null,"J",null,"Grade 1 - 2","Grade K - 3","The slowest mammals on earth, sloths were born to be tree-dwellers. Sloth mothers give birth while hanging upside down! With their long, sharp, curved claws, baby sloths spend their days clinging to tree branches in the rain forest. They make their way down from the trees only once a week for a bathroom break, which makes them vulnerable to predation. Readers will enjoy an accessible yet informative look into how baby sloths grow up. Amazing full-color photographs will fascinate animal lovers while fast facts and words to know sections extend the learning experience.","English",22.6,16.95,"599.3/13--dc23","24 pp.","https://www.enslow.com/books/How_Sloths_Grow_Up/422112",{"$f":"Table1[[#This Row],[QTY]]*Table1[[#This Row],['# of Books]]","v":0},{"$f":"Table1[[#This Row],[QTY]]*Table1[[#This Row],[School & Library Price]]","v":0}]
[null,33,null,"Animals Growing Up","How Snakes Grow Up",1,"Library Bound Book","978-1-9785-1247-4",{"$f":"HYPERLINK(Table1[[#This Row],[Hyperlink]],\"Weblink\")","v":"Weblink"},"Enslow Publishing","2020","January 2020","8.500 X 7.125","Author","Linda Bozzo",null,null,null,null,"F",null,"Grade 1 - 2","Grade K - 3","Through engaging text, accompanied by captivating images, young readers will be given a fascinating glimpse into how slithery snakes grow up in the wild. Readers learn that in the world of snakes, the mother does not care for her young. Baby snakes are on their own from birth and must capture their own food to stay alive. Students are introduced to new vocabulary and fast facts, which demonstrate life science concepts in an accessible manner. The Learn More section with recent books and educational websites encourages further exploration.","English",22.6,16.95,"597.96--dc23","24 pp.","https://www.enslow.com/books/How_Snakes_Grow_Up/422113",{"$f":"Table1[[#This Row],[QTY]]*Table1[[#This Row],['# of Books]]","v":0},{"$f":"Table1[[#This Row],[QTY]]*Table1[[#This Row],[School & Library Price]]","v":0}]
[null,33,null,"Animals Growing Up","How Snakes Grow Up",1,"eBook","978-1-9785-1248-1",{"$f":"HYPERLINK(Table1[[#This Row],[Hyperlink]],\"Weblink\")","v":"Weblink"},"Enslow Publishing","2020","January 2020",null,"Author","Linda Bozzo",null,null,null,null,"F",null,"Grade 1 - 2","Grade K - 3","Through engaging text, accompanied by captivating images, young readers will be given a fascinating glimpse into how slithery snakes grow up in the wild. Readers learn that in the world of snakes, the mother does not care for her young. Baby snakes are on their own from birth and must capture their own food to stay alive. Students are introduced to new vocabulary and fast facts, which demonstrate life science concepts in an accessible manner. The Learn More section with recent books and educational websites encourages further exploration.","English",22.6,16.95,"597.96--dc23","24 pp.","https://www.enslow.com/books/How_Snakes_Grow_Up/422113",{"$f":"Table1[[#This Row],[QTY]]*Table1[[#This Row],['# of Books]]","v":0},{"$f":"Table1[[#This Row],[QTY]]*Table1[[#This Row],[School & Library Price]]","v":0}]
[null,33,null,"Animals Growing Up","How Tigers Grow Up",1,"Library Bound Book","978-1-9785-1251-1",{"$f":"HYPERLINK(Table1[[#This Row],[Hyperlink]],\"Weblink\")","v":"Weblink"},"Enslow Publishing","2020","January 2020","8.500 X 7.125","Author","Linda Bozzo",null,null,null,null,"H",null,"Grade 1 - 2","Grade K - 3","Packed with fascinating facts and beautiful images of tigresses and their cubs, animal lovers will enjoy the journey of how tiger cubs grow up. Young readers will learn how these fierce cats become powerful hunters in order to survive in the jungle and why so many tiger cubs do not live past their first years of life. Featuring simple yet informative language that covers the habitat, diet, anatomy, and behaviors of the world's largest big cat, this fun book supports the Next Generation Science Standards on growth and development of organisms, biodiversity, and social interactions in animal groups.","English",22.6,16.95,"599.75613/92--dc23","24 pp.","https://www.enslow.com/books/How_Tigers_Grow_Up/422114",{"$f":"Table1[[#This Row],[QTY]]*Table1[[#This Row],['# of Books]]","v":0},{"$f":"Table1[[#This Row],[QTY]]*Table1[[#This Row],[School & Library Price]]","v":0}]
[null,33,null,"Animals Growing Up","How Tigers Grow Up",1,"eBook","978-1-9785-1252-8",{"$f":"HYPERLINK(Table1[[#This Row],[Hyperlink]],\"Weblink\")","v":"Weblink"},"Enslow Publishing","2020","January 2020",null,"Author","Linda Bozzo",null,null,null,null,"H",null,"Grade 1 - 2","Grade K - 3","Packed with fascinating facts and beautiful images of tigresses and their cubs, animal lovers will enjoy the journey of how tiger cubs grow up. Young readers will learn how these fierce cats become powerful hunters in order to survive in the jungle and why so many tiger cubs do not live past their first years of life. Featuring simple yet informative language that covers the habitat, diet, anatomy, and behaviors of the world's largest big cat, this fun book supports the Next Generation Science Standards on growth and development of organisms, biodiversity, and social interactions in animal groups.","English",22.6,16.95,"599.75613/92--dc23","24 pp.","https://www.enslow.com/books/How_Tigers_Grow_Up/422114",{"$f":"Table1[[#This Row],[QTY]]*Table1[[#This Row],['# of Books]]","v":0},{"$f":"Table1[[#This Row],[QTY]]*Table1[[#This Row],[School & Library Price]]","v":0}]
[null,33,null,"Animals Growing Up","How Zebras Grow Up",1,"Library Bound Book","978-1-9785-1255-9",{"$f":"HYPERLINK(Table1[[#This Row],[Hyperlink]],\"Weblink\")","v":"Weblink"},"Enslow Publishing","2020","January 2020","8.500 X 7.125","Author","Linda Bozzo",null,null,null,null,"J",null,"Grade 1 - 2","Grade K - 3","Readers will learn life science concepts, such as the growth and development of organisms, biodiversity, and social interactions in animal groups, as they discover the most amazing facts about baby zebras. The simple narrative and stunning photographs of these black-and-white-striped beauties provide students with a glimpse into the life of a foal from birth until adulthood, including what challenges baby zebras face in the wild, what they eat, and how they identify their mothers in a herd. The Words to Know section introduces children to new vocabulary, and the Learn More section with books and websites extends the reading and learning experience.","English",22.6,16.95,"599.665/71392--dc23","24 pp.","https://www.enslow.com/books/How_Zebras_Grow_Up/422115",{"$f":"Table1[[#This Row],[QTY]]*Table1[[#This Row],['# of Books]]","v":0},{"$f":"Table1[[#This Row],[QTY]]*Table1[[#This Row],[School & Library Price]]","v":0}]
[null,33,null,"Animals Growing Up","How Zebras Grow Up",1,"eBook","978-1-9785-1256-6",{"$f":"HYPERLINK(Table1[[#This Row],[Hyperlink]],\"Weblink\")","v":"Weblink"},"Enslow Publishing","2020","January 2020",null,"Author","Linda Bozzo",null,null,null,null,"J",null,"Grade 1 - 2","Grade K - 3","Readers will learn life science concepts, such as the growth and development of organisms, biodiversity, and social interactions in animal groups, as they discover the most amazing facts about baby zebras. The simple narrative and stunning photographs of these black-and-white-striped beauties provide students with a glimpse into the life of a foal from birth until adulthood, including what challenges baby zebras face in the wild, what they eat, and how they identify their mothers in a herd. The Words to Know section introduces children to new vocabulary, and the Learn More section with books and websites extends the reading and learning experience.","English",22.6,16.95,"599.665/71392--dc23","24 pp.","https://www.enslow.com/books/How_Zebras_Grow_Up/422115",{"$f":"Table1[[#This Row],[QTY]]*Table1[[#This Row],['# of Books]]","v":0},{"$f":"Table1[[#This Row],[QTY]]*Table1[[#This Row],[School & Library Price]]","v":0}]
[null,34,null,"Animals Growing Up","How Bears Grow Up",1,"Library Bound Book","978-0-7660-9635-6",{"$f":"HYPERLINK(Table1[[#This Row],[Hyperlink]],\"Weblink\")","v":"Weblink"},"Enslow Publishing","2019","August 2018","8.500 X 7.125","Author","Heather Moore Niver","3.2","0.5",null,null,"H",null,"Grade 1 - 2","Grade K - 3","Bear cubs are super cute when they tumble and play, but this play with each other and their mothers actually teaches them how to survive on their own one day. Fun facts round out their story, and vibrant photographs show baby bears as they grow up, learning to forage, hunt, and defend themselves. Readers will learn all about the lives of bear cubs as they grow from helpless, hairless babies into adults ready to face the wild world.","English",22.6,16.95,"599.7571/392--dc23","24 pp.","https://www.enslow.com/books/How_Bears_Grow_Up/421820",{"$f":"Table1[[#This Row],[QTY]]*Table1[[#This Row],['# of Books]]","v":0},{"$f":"Table1[[#This Row],[QTY]]*Table1[[#This Row],[School & Library Price]]","v":0}]
[null,34,null,"Animals Growing Up","How Bears Grow Up",1,"eBook","978-0-7660-9638-7",{"$f":"HYPERLINK(Table1[[#This Row],[Hyperlink]],\"Weblink\")","v":"Weblink"},"Enslow Publishing","2019","August 2018",null,"Author","Heather Moore Niver","3.2","0.5",null,null,"H",null,"Grade 1 - 2","Grade K - 3","Bear cubs are super cute when they tumble and play, but this play with each other and their mothers actually teaches them how to survive on their own one day. Fun facts round out their story, and vibrant photographs show baby bears as they grow up, learning to forage, hunt, and defend themselves. Readers will learn all about the lives of bear cubs as they grow from helpless, hairless babies into adults ready to face the wild world.","English",22.6,16.95,"599.7571/392--dc23","24 pp.","https://www.enslow.com/books/How_Bears_Grow_Up/421820",{"$f":"Table1[[#This Row],[QTY]]*Table1[[#This Row],['# of Books]]","v":0},{"$f":"Table1[[#This Row],[QTY]]*Table1[[#This Row],[School & Library Price]]","v":0}]
[null,34,null,"Animals Growing Up","How Dolphins Grow Up",1,"Library Bound Book","978-1-9785-0719-7",{"$f":"HYPERLINK(Table1[[#This Row],[Hyperlink]],\"Weblink\")","v":"Weblink"},"Enslow Publishing","2020","August 2019","8.500 X 7.125","Author","Linda Bozzo","3.4","0.5",null,null,"F",null,"Grade 1 - 2","Grade K - 3","Dolphins are usually born tail first and can swim the moment they are born. Readers will learn about the life of a baby dolphin from its birth to the day it leaves its mother, and how these young animals learn the skills they need to survive in the wild. Simple text and vibrant photographs will engage readers while teaching life science concepts. Fascinating facts about these baby mammals include how dolphins use their teeth to hold, not chew, their prey.","English",22.6,16.95,"599.53/1392--dc23","24 pp.","https://www.enslow.com/books/How_Dolphins_Grow_Up/421983",{"$f":"Table1[[#This Row],[QTY]]*Table1[[#This Row],['# of Books]]","v":0},{"$f":"Table1[[#This Row],[QTY]]*Table1[[#This Row],[School & Library Price]]","v":0}]
[null,34,null,"Animals Growing Up","How Dolphins Grow Up",1,"eBook","978-1-9785-0821-7",{"$f":"HYPERLINK(Table1[[#This Row],[Hyperlink]],\"Weblink\")","v":"Weblink"},"Enslow Publishing","2020","August 2019",null,"Author","Linda Bozzo","3.4","0.5",null,null,"F",null,"Grade 1 - 2","Grade K - 3","Dolphins are usually born tail first and can swim the moment they are born. Readers will learn about the life of a baby dolphin from its birth to the day it leaves its mother, and how these young animals learn the skills they need to survive in the wild. Simple text and vibrant photographs will engage readers while teaching life science concepts. Fascinating facts about these baby mammals include how dolphins use their teeth to hold, not chew, their prey.","English",22.6,16.95,"599.53/1392--dc23","24 pp.","https://www.enslow.com/books/How_Dolphins_Grow_Up/421983",{"$f":"Table1[[#This Row],[QTY]]*Table1[[#This Row],['# of Books]]","v":0},{"$f":"Table1[[#This Row],[QTY]]*Table1[[#This Row],[School & Library Price]]","v":0}]
[null,34,null,"Animals Growing Up","How Ducks Grow Up",1,"Library Bound Book","978-1-9785-0720-3",{"$f":"HYPERLINK(Table1[[#This Row],[Hyperlink]],\"Weblink\")","v":"Weblink"},"Enslow Publishing","2020","August 2019","8.500 X 7.125","Author","Linda Bozzo","3.3","0.5",null,null,"H",null,"Grade 1 - 2","Grade K - 3","Ducklings are adorable fluffy birds that love to play. Days before they hatch, peeping can be heard coming from inside their eggs. Through fast facts and vibrant photographs, readers will learn how vulnerable these babies are to predators. Staying close to their mother hen, ducklings learn to fly and swim safely on their own before they leave the protection she provides. A Learn More section with books and websites provides the tools readers need to learn more about these lucky ducks.","English",22.6,16.95,"598.4/1--dc23","24 pp.","https://www.enslow.com/books/How_Ducks_Grow_Up/421984",{"$f":"Table1[[#This Row],[QTY]]*Table1[[#This Row],['# of Books]]","v":0},{"$f":"Table1[[#This Row],[QTY]]*Table1[[#This Row],[School & Library Price]]","v":0}]
[null,34,null,"Animals Growing Up","How Ducks Grow Up",1,"eBook","978-1-9785-0824-8",{"$f":"HYPERLINK(Table1[[#This Row],[Hyperlink]],\"Weblink\")","v":"Weblink"},"Enslow Publishing","2020","August 2019",null,"Author","Linda Bozzo","3.3","0.5",null,null,"H",null,"Grade 1 - 2","Grade K - 3","Ducklings are adorable fluffy birds that love to play. Days before they hatch, peeping can be heard coming from inside their eggs. Through fast facts and vibrant photographs, readers will learn how vulnerable these babies are to predators. Staying close to their mother hen, ducklings learn to fly and swim safely on their own before they leave the protection she provides. A Learn More section with books and websites provides the tools readers need to learn more about these lucky ducks.","English",22.6,16.95,"598.4/1--dc23","24 pp.","https://www.enslow.com/books/How_Ducks_Grow_Up/421984",{"$f":"Table1[[#This Row],[QTY]]*Table1[[#This Row],['# of Books]]","v":0},{"$f":"Table1[[#This Row],[QTY]]*Table1[[#This Row],[School & Library Price]]","v":0}]
[null,34,null,"Animals Growing Up","How Eagles Grow Up",1,"Library Bound Book","978-0-7660-9639-4",{"$f":"HYPERLINK(Table1[[#This Row],[Hyperlink]],\"Weblink\")","v":"Weblink"},"Enslow Publishing","2019","August 2018","8.500 X 7.125","Author","Heather Moore Niver","3.6","0.5",null,null,"I",null,"Grade 1 - 2","Grade K - 3","Eagles are majestic, awe-inspiring birds. Bald eagles were so inspiring that they became the symbol of the United States of America. In this fun, easy-to-read book, readers learn how bald and golden eagles grow from eggs in the nest into the great birds of prey that soar through the skies. Vibrant photographs illustrate the various stages of the eaglet's life, as well as the nests they call home. Fun facts are featured throughout this engaging and entertaining book.","English",22.6,16.95,"598.9/42--dc23","24 pp.","https://www.enslow.com/books/How_Eagles_Grow_Up/421821",{"$f":"Table1[[#This Row],[QTY]]*Table1[[#This Row],['# of Books]]","v":0},{"$f":"Table1[[#This Row],[QTY]]*Table1[[#This Row],[School & Library Price]]","v":0}]
[null,34,null,"Animals Growing Up","How Eagles Grow Up",1,"eBook","978-0-7660-9642-4",{"$f":"HYPERLINK(Table1[[#This Row],[Hyperlink]],\"Weblink\")","v":"Weblink"},"Enslow Publishing","2019","August 2018",null,"Author","Heather Moore Niver","3.6","0.5",null,null,"I",null,"Grade 1 - 2","Grade K - 3","Eagles are majestic, awe-inspiring birds. Bald eagles were so inspiring that they became the symbol of the United States of America. In this fun, easy-to-read book, readers learn how bald and golden eagles grow from eggs in the nest into the great birds of prey that soar through the skies. Vibrant photographs illustrate the various stages of the eaglet's life, as well as the nests they call home. Fun facts are featured throughout this engaging and entertaining book.","English",22.6,16.95,"598.9/42--dc23","24 pp.","https://www.enslow.com/books/How_Eagles_Grow_Up/421821",{"$f":"Table1[[#This Row],[QTY]]*Table1[[#This Row],['# of Books]]","v":0},{"$f":"Table1[[#This Row],[QTY]]*Table1[[#This Row],[School & Library Price]]","v":0}]
[null,34,null,"Animals Growing Up","How Elephants Grow Up",1,"Library Bound Book","978-0-7660-9643-1",{"$f":"HYPERLINK(Table1[[#This Row],[Hyperlink]],\"Weblink\")","v":"Weblink"},"Enslow Publishing","2019","August 2018","8.500 X 7.125","Author","Heather Moore Niver","3.7","0.5",null,null,"G",null,"Grade 1 - 2","Grade K - 3","Not all baby animals are teeny little bundles. Readers will learn about some big, but no less adorable, baby elephants. Vivid photographs paired with lively, easy-to-understand text will teach young readers about the lives of elephant calves. They will learn about elephants' unusually long gestation period, the awkward stage of learning to use their trunk and four large legs, and on through to becoming one of the herd, or departing to live alone in the case of young bulls.","English",22.6,16.95,"599.6713/92--dc23","24 pp.","https://www.enslow.com/books/How_Elephants_Grow_Up/421822",{"$f":"Table1[[#This Row],[QTY]]*Table1[[#This Row],['# of Books]]","v":0},{"$f":"Table1[[#This Row],[QTY]]*Table1[[#This Row],[School & Library Price]]","v":0}]
[null,34,null,"Animals Growing Up","How Elephants Grow Up",1,"eBook","978-0-7660-9646-2",{"$f":"HYPERLINK(Table1[[#This Row],[Hyperlink]],\"Weblink\")","v":"Weblink"},"Enslow Publishing","2019","August 2018",null,"Author","Heather Moore Niver","3.7","0.5",null,null,"G",null,"Grade 1 - 2","Grade K - 3","Not all baby animals are teeny little bundles. Readers will learn about some big, but no less adorable, baby elephants. Vivid photographs paired with lively, easy-to-understand text will teach young readers about the lives of elephant calves. They will learn about elephants' unusually long gestation period, the awkward stage of learning to use their trunk and four large legs, and on through to becoming one of the herd, or departing to live alone in the case of young bulls.","English",22.6,16.95,"599.6713/92--dc23","24 pp.","https://www.enslow.com/books/How_Elephants_Grow_Up/421822",{"$f":"Table1[[#This Row],[QTY]]*Table1[[#This Row],['# of Books]]","v":0},{"$f":"Table1[[#This Row],[QTY]]*Table1[[#This Row],[School & Library Price]]","v":0}]
[null,34,null,"Animals Growing Up","How Giraffes Grow Up",1,"Library Bound Book","978-1-9785-0721-0",{"$f":"HYPERLINK(Table1[[#This Row],[Hyperlink]],\"Weblink\")","v":"Weblink"},"Enslow Publishing","2020","August 2019","8.500 X 7.125","Author","Linda Bozzo","3.3","0.5",null,null,"H",null,"Grade 1 - 2","Grade K - 3","Readers will learn all about baby giraffes, including what they eat and how they fall six feet to the ground when they are born. Amazing photographs of these super-cute animals are accompanied by Fast Facts. This book supports the Next Generation Science Standards on growth and development of organisms, biodiversity, and social interactions in animal groups by exploring such details as how calves learn to stand within a half hour after being born, and how they protect themselves in the wild. Budding scientists can follow giraffe calves as they grow into independent adults.","English",22.6,16.95,"599.638--dc23","24 pp.","https://www.enslow.com/books/How_Giraffes_Grow_Up/421985",{"$f":"Table1[[#This Row],[QTY]]*Table1[[#This Row],['# of Books]]","v":0},{"$f":"Table1[[#This Row],[QTY]]*Table1[[#This Row],[School & Library Price]]","v":0}]
[null,34,null,"Animals Growing Up","How Giraffes Grow Up",1,"eBook","978-1-9785-0827-9",{"$f":"HYPERLINK(Table1[[#This Row],[Hyperlink]],\"Weblink\")","v":"Weblink"},"Enslow Publishing","2020","August 2019",null,"Author","Linda Bozzo","3.3","0.5",null,null,"H",null,"Grade 1 - 2","Grade K - 3","Readers will learn all about baby giraffes, including what they eat and how they fall six feet to the ground when they are born. Amazing photographs of these super-cute animals are accompanied by Fast Facts. This book supports the Next Generation Science Standards on growth and development of organisms, biodiversity, and social interactions in animal groups by exploring such details as how calves learn to stand within a half hour after being born, and how they protect themselves in the wild. Budding scientists can follow giraffe calves as they grow into independent adults.","English",22.6,16.95,"599.638--dc23","24 pp.","https://www.enslow.com/books/How_Giraffes_Grow_Up/421985",{"$f":"Table1[[#This Row],[QTY]]*Table1[[#This Row],['# of Books]]","v":0},{"$f":"Table1[[#This Row],[QTY]]*Table1[[#This Row],[School & Library Price]]","v":0}]
[null,34,null,"Animals Growing Up","How Kangaroos Grow Up",1,"Library Bound Book","978-0-7660-9647-9",{"$f":"HYPERLINK(Table1[[#This Row],[Hyperlink]],\"Weblink\")","v":"Weblink"},"Enslow Publishing","2019","August 2018","8.500 X 7.125","Author","Heather Moore Niver","3.6","0.5",null,null,"H",null,"Grade 1 - 2","Grade K - 3","Baby kangaroos have an interesting life from the time they are born. Readers will be engrossed by the lives of these fabulous, bouncing marsupial babies. Vibrant photographs accompany lively text and facts to teach readers all about the unique way kangaroos are raised and fed in the characteristic marsupial pouch. The text also teaches readers about basic kangaroo facts, including their amazing jumping abilities, they can jump far and fast, and the importance of their tails when it comes time to leap and balance.","English",22.6,16.95,"599.2/21392--dc23","24 pp.","https://www.enslow.com/books/How_Kangaroos_Grow_Up/421823",{"$f":"Table1[[#This Row],[QTY]]*Table1[[#This Row],['# of Books]]","v":0},{"$f":"Table1[[#This Row],[QTY]]*Table1[[#This Row],[School & Library Price]]","v":0}]
[null,34,null,"Animals Growing Up","How Kangaroos Grow Up",1,"eBook","978-0-7660-9650-9",{"$f":"HYPERLINK(Table1[[#This Row],[Hyperlink]],\"Weblink\")","v":"Weblink"},"Enslow Publishing","2019","August 2018",null,"Author","Heather Moore Niver","3.6","0.5",null,null,"H",null,"Grade 1 - 2","Grade K - 3","Baby kangaroos have an interesting life from the time they are born. Readers will be engrossed by the lives of these fabulous, bouncing marsupial babies. Vibrant photographs accompany lively text and facts to teach readers all about the unique way kangaroos are raised and fed in the characteristic marsupial pouch. The text also teaches readers about basic kangaroo facts, including their amazing jumping abilities, they can jump far and fast, and the importance of their tails when it comes time to leap and balance.","English",22.6,16.95,"599.2/21392--dc23","24 pp.","https://www.enslow.com/books/How_Kangaroos_Grow_Up/421823",{"$f":"Table1[[#This Row],[QTY]]*Table1[[#This Row],['# of Books]]","v":0},{"$f":"Table1[[#This Row],[QTY]]*Table1[[#This Row],[School & Library Price]]","v":0}]
[null,34,null,"Animals Growing Up","How Lions Grow Up",1,"Library Bound Book","978-0-7660-9651-6",{"$f":"HYPERLINK(Table1[[#This Row],[Hyperlink]],\"Weblink\")","v":"Weblink"},"Enslow Publishing","2019","August 2018","8.500 X 7.125","Author","Lisa Idzikowski","3.2","0.5",null,null,"D",null,"Grade 1 - 2","Grade K - 3","Most people know that lions raise their cubs together in prides, but what many may not know is that a pride's nursery is called a crèche and young lions live there until they are about two years old. Children will travel to the plains of Africa and be introduced to wild lion cubs and how they live, grow, and develop. Through engaging text, fast facts, and adorable photographs, readers will learn about lion characteristics and behavior, family structure, and habitats. Information learned supports the Next Generation Science Standards on growth and development of organisms, biodiversity, and social interactions in animal groups.","English",22.6,16.95,"599.7571/392--dc23","24 pp.","https://www.enslow.com/books/How_Lions_Grow_Up/421824",{"$f":"Table1[[#This Row],[QTY]]*Table1[[#This Row],['# of Books]]","v":0},{"$f":"Table1[[#This Row],[QTY]]*Table1[[#This Row],[School & Library Price]]","v":0}]
[null,34,null,"Animals Growing Up","How Lions Grow Up",1,"eBook","978-0-7660-9654-7",{"$f":"HYPERLINK(Table1[[#This Row],[Hyperlink]],\"Weblink\")","v":"Weblink"},"Enslow Publishing","2019","August 2018",null,"Author","Lisa Idzikowski","3.2","0.5",null,null,"D",null,"Grade 1 - 2","Grade K - 3","Most people know that lions raise their cubs together in prides, but what many may not know is that a pride's nursery is called a crèche and young lions live there until they are about two years old. Children will travel to the plains of Africa and be introduced to wild lion cubs and how they live, grow, and develop. Through engaging text, fast facts, and adorable photographs, readers will learn about lion characteristics and behavior, family structure, and habitats. Information learned supports the Next Generation Science Standards on growth and development of organisms, biodiversity, and social interactions in animal groups.","English",22.6,16.95,"599.7571/392--dc23","24 pp.","https://www.enslow.com/books/How_Lions_Grow_Up/421824",{"$f":"Table1[[#This Row],[QTY]]*Table1[[#This Row],['# of Books]]","v":0},{"$f":"Table1[[#This Row],[QTY]]*Table1[[#This Row],[School & Library Price]]","v":0}]
[null,34,null,"Animals Growing Up","How Pandas Grow Up",1,"Library Bound Book","978-0-7660-9655-4",{"$f":"HYPERLINK(Table1[[#This Row],[Hyperlink]],\"Weblink\")","v":"Weblink"},"Enslow Publishing","2019","August 2018","8.500 X 7.125","Author","Lisa Idzikowski","3.4","0.5",null,null,"J",null,"Grade 1 - 2","Grade K - 3","Pandas are perhaps the most recognizable and most beloved of all the bears. Young readers will journey to the misty mountain forests of China and witness the birth, growth, and lives of wild panda cubs. Simple yet informative text, fast facts, and eye-catching photographs show readers where giant pandas live, what they eat, how they communicate, and how they survive in their habitat, supporting the Next Generation Science Standards on growth and development of organisms, biodiversity, and social interactions in animal groups. The Words to Know section in the beginning of the book helps students learn new vocabulary before encountering the terms in the text.","English",22.6,16.95,"599.789--dc23","24 pp.","https://www.enslow.com/books/How_Pandas_Grow_Up/421825",{"$f":"Table1[[#This Row],[QTY]]*Table1[[#This Row],['# of Books]]","v":0},{"$f":"Table1[[#This Row],[QTY]]*Table1[[#This Row],[School & Library Price]]","v":0}]
[null,34,null,"Animals Growing Up","How Pandas Grow Up",1,"eBook","978-0-7660-9658-5",{"$f":"HYPERLINK(Table1[[#This Row],[Hyperlink]],\"Weblink\")","v":"Weblink"},"Enslow Publishing","2019","August 2018",null,"Author","Lisa Idzikowski","3.4","0.5",null,null,"J",null,"Grade 1 - 2","Grade K - 3","Pandas are perhaps the most recognizable and most beloved of all the bears. Young readers will journey to the misty mountain forests of China and witness the birth, growth, and lives of wild panda cubs. Simple yet informative text, fast facts, and eye-catching photographs show readers where giant pandas live, what they eat, how they communicate, and how they survive in their habitat, supporting the Next Generation Science Standards on growth and development of organisms, biodiversity, and social interactions in animal groups. The Words to Know section in the beginning of the book helps students learn new vocabulary before encountering the terms in the text.","English",22.6,16.95,"599.789--dc23","24 pp.","https://www.enslow.com/books/How_Pandas_Grow_Up/421825",{"$f":"Table1[[#This Row],[QTY]]*Table1[[#This Row],['# of Books]]","v":0},{"$f":"Table1[[#This Row],[QTY]]*Table1[[#This Row],[School & Library Price]]","v":0}]
[null,34,null,"Animals Growing Up","How Penguins Grow Up",1,"Library Bound Book","978-0-7660-9659-2",{"$f":"HYPERLINK(Table1[[#This Row],[Hyperlink]],\"Weblink\")","v":"Weblink"},"Enslow Publishing","2019","August 2018","8.500 X 7.125","Author","Lisa Idzikowski","3.7","0.5",null,null,"H",null,"Grade 1 - 2","Grade K - 3","Both penguin parents feed and care for their chick. Each chick has a unique call its parents recognize. Readers will travel to Antarctica and discover the ways wild penguin chicks live, grow, and develop. Engaging text accompanied by vibrant photographs supports the Next Generation Science Standards on growth and development of organisms, biodiversity, and social interactions in animal groups by introducing students to the characteristics and behavior, family structure, and habitats of penguins. Fast Facts and a Learn More section with books and websites encourage readers to dive deeper into the subject matter.","English",22.6,16.95,"598.4713/92--dc23","24 pp.","https://www.enslow.com/books/How_Penguins_Grow_Up/421826",{"$f":"Table1[[#This Row],[QTY]]*Table1[[#This Row],['# of Books]]","v":0},{"$f":"Table1[[#This Row],[QTY]]*Table1[[#This Row],[School & Library Price]]","v":0}]
[null,34,null,"Animals Growing Up","How Penguins Grow Up",1,"eBook","978-0-7660-9662-2",{"$f":"HYPERLINK(Table1[[#This Row],[Hyperlink]],\"Weblink\")","v":"Weblink"},"Enslow Publishing","2019","August 2018",null,"Author","Lisa Idzikowski","3.7","0.5",null,null,"H",null,"Grade 1 - 2","Grade K - 3","Both penguin parents feed and care for their chick. Each chick has a unique call its parents recognize. Readers will travel to Antarctica and discover the ways wild penguin chicks live, grow, and develop. Engaging text accompanied by vibrant photographs supports the Next Generation Science Standards on growth and development of organisms, biodiversity, and social interactions in animal groups by introducing students to the characteristics and behavior, family structure, and habitats of penguins. Fast Facts and a Learn More section with books and websites encourage readers to dive deeper into the subject matter.","English",22.6,16.95,"598.4713/92--dc23","24 pp.","https://www.enslow.com/books/How_Penguins_Grow_Up/421826",{"$f":"Table1[[#This Row],[QTY]]*Table1[[#This Row],['# of Books]]","v":0},{"$f":"Table1[[#This Row],[QTY]]*Table1[[#This Row],[School & Library Price]]","v":0}]
[null,34,null,"Animals Growing Up","How Seals Grow Up",1,"Library Bound Book","978-1-9785-0722-7",{"$f":"HYPERLINK(Table1[[#This Row],[Hyperlink]],\"Weblink\")","v":"Weblink"},"Enslow Publishing","2020","August 2019","8.500 X 7.125","Author","Linda Bozzo","3.1","0.5",null,null,"G",null,"Grade 1 - 2","Grade K - 3","Baby seals are amazing animals that will go without food for weeks before they dive in and begin to hunt for themselves. Young readers will learn how these sleek swimmers find food in the water around them, but not before their waterproof fur grows in. This book is filled with fun facts and vibrant photographs of adorable baby seals in their natural habitat. Following these marine mammals from birth, this book will enhance science collections. A glossary and index offer readers additional support.","English",22.6,16.95,"599.79--dc23","24 pp.","https://www.enslow.com/books/How_Seals_Grow_Up/421986",{"$f":"Table1[[#This Row],[QTY]]*Table1[[#This Row],['# of Books]]","v":0},{"$f":"Table1[[#This Row],[QTY]]*Table1[[#This Row],[School & Library Price]]","v":0}]
[null,34,null,"Animals Growing Up","How Seals Grow Up",1,"eBook","978-1-9785-0830-9",{"$f":"HYPERLINK(Table1[[#This Row],[Hyperlink]],\"Weblink\")","v":"Weblink"},"Enslow Publishing","2020","August 2019",null,"Author","Linda Bozzo","3.1","0.5",null,null,"G",null,"Grade 1 - 2","Grade K - 3","Baby seals are amazing animals that will go without food for weeks before they dive in and begin to hunt for themselves. Young readers will learn how these sleek swimmers find food in the water around them, but not before their waterproof fur grows in. This book is filled with fun facts and vibrant photographs of adorable baby seals in their natural habitat. Following these marine mammals from birth, this book will enhance science collections. A glossary and index offer readers additional support.","English",22.6,16.95,"599.79--dc23","24 pp.","https://www.enslow.com/books/How_Seals_Grow_Up/421986",{"$f":"Table1[[#This Row],[QTY]]*Table1[[#This Row],['# of Books]]","v":0},{"$f":"Table1[[#This Row],[QTY]]*Table1[[#This Row],[School & Library Price]]","v":0}]
[null,34,null,"Animals Growing Up","How Turtles Grow Up",1,"Library Bound Book","978-1-9785-0723-4",{"$f":"HYPERLINK(Table1[[#This Row],[Hyperlink]],\"Weblink\")","v":"Weblink"},"Enslow Publishing","2020","August 2019","8.500 X 7.125","Author","Linda Bozzo","3.1","0.5",null,null,"I",null,"Grade 1 - 2","Grade K - 3","With hard shells that protect them from predators, turtles are among the oldest group of reptiles. Readers will discover that sea turtles rarely leave the water except to lay eggs in the sand. They will read about freshwater turtles that love to soak up the sun on logs or rocks. What most people don't know is that the temperature of the turtle's nest determines whether the babies are male or female. Interesting facts and stunning photographs are sure to open the door for discussions about habitat, predators, and various other science-related topics.","English",22.6,16.95,"597.92--dc23","24 pp.","https://www.enslow.com/books/How_Turtles_Grow_Up/421987",{"$f":"Table1[[#This Row],[QTY]]*Table1[[#This Row],['# of Books]]","v":0},{"$f":"Table1[[#This Row],[QTY]]*Table1[[#This Row],[School & Library Price]]","v":0}]
[null,34,null,"Animals Growing Up","How Turtles Grow Up",1,"eBook","978-1-9785-0833-0",{"$f":"HYPERLINK(Table1[[#This Row],[Hyperlink]],\"Weblink\")","v":"Weblink"},"Enslow Publishing","2020","August 2019",null,"Author","Linda Bozzo","3.1","0.5",null,null,"I",null,"Grade 1 - 2","Grade K - 3","With hard shells that protect them from predators, turtles are among the oldest group of reptiles. Readers will discover that sea turtles rarely leave the water except to lay eggs in the sand. They will read about freshwater turtles that love to soak up the sun on logs or rocks. What most people don't know is that the temperature of the turtle's nest determines whether the babies are male or female. Interesting facts and stunning photographs are sure to open the door for discussions about habitat, predators, and various other science-related topics.","English",22.6,16.95,"597.92--dc23","24 pp.","https://www.enslow.com/books/How_Turtles_Grow_Up/421987",{"$f":"Table1[[#This Row],[QTY]]*Table1[[#This Row],['# of Books]]","v":0},{"$f":"Table1[[#This Row],[QTY]]*Table1[[#This Row],[School & Library Price]]","v":0}]
[null,34,null,"Animals Growing Up","How Whales Grow Up",1,"Library Bound Book","978-0-7660-9663-9",{"$f":"HYPERLINK(Table1[[#This Row],[Hyperlink]],\"Weblink\")","v":"Weblink"},"Enslow Publishing","2019","August 2018","8.500 X 7.125","Author","Lisa Idzikowski","3.6","0.5",null,null,"H",null,"Grade 1 - 2","Grade K - 3","A newborn blue whale can weight as much as a full-grown hippo, about 6,000 pounds! Students will journey into the deep sea and learn all the fascinating facts about the early life of the largest animal to have ever lived. Featuring easy-to-follow text and exciting photographs, this book introduces elementary students to life science concepts, from birth to searching for food and avoiding predators, supporting the Next Generation Science Standards on growth and development of organisms, biodiversity, and social interactions in animal groups. In addition, Fast Facts provide quick, interesting bits of information.","English",22.6,16.95,"599.513/92--dc23","24 pp.","https://www.enslow.com/books/How_Whales_Grow_Up/421827",{"$f":"Table1[[#This Row],[QTY]]*Table1[[#This Row],['# of Books]]","v":0},{"$f":"Table1[[#This Row],[QTY]]*Table1[[#This Row],[School & Library Price]]","v":0}]
[null,34,null,"Animals Growing Up","How Whales Grow Up",1,"eBook","978-0-7660-9666-0",{"$f":"HYPERLINK(Table1[[#This Row],[Hyperlink]],\"Weblink\")","v":"Weblink"},"Enslow Publishing","2019","August 2018",null,"Author","Lisa Idzikowski","3.6","0.5",null,null,"H",null,"Grade 1 - 2","Grade K - 3","A newborn blue whale can weight as much as a full-grown hippo, about 6,000 pounds! Students will journey into the deep sea and learn all the fascinating facts about the early life of the largest animal to have ever lived. Featuring easy-to-follow text and exciting photographs, this book introduces elementary students to life science concepts, from birth to searching for food and avoiding predators, supporting the Next Generation Science Standards on growth and development of organisms, biodiversity, and social interactions in animal groups. In addition, Fast Facts provide quick, interesting bits of information.","English",22.6,16.95,"599.513/92--dc23","24 pp.","https://www.enslow.com/books/How_Whales_Grow_Up/421827",{"$f":"Table1[[#This Row],[QTY]]*Table1[[#This Row],['# of Books]]","v":0},{"$f":"Table1[[#This Row],[QTY]]*Table1[[#This Row],[School & Library Price]]","v":0}]
[null,34,null,"Animals Growing Up","How Wolves Grow Up",1,"Library Bound Book","978-1-9785-0724-1",{"$f":"HYPERLINK(Table1[[#This Row],[Hyperlink]],\"Weblink\")","v":"Weblink"},"Enslow Publishing","2020","August 2019","8.500 X 7.125","Author","Linda Bozzo","3","0.5",null,null,"I",null,"Grade 1 - 2","Grade K - 3","In springtime, baby wolves are born in the parents' wolf den. They are born totally deaf and blind. Readers will follow these playful pups from birth to when young wolves can hunt with the rest of the pack. Packed with incredible photographs and fascinating facts, this book is guaranteed to provide a howling good time while teaching life science concepts. A Words to Know section in the front of the book introduces readers to unfamiliar vocabulary before they encounter it in the narrative.","English",22.6,16.95,"599.77313/92--dc23","24 pp.","https://www.enslow.com/books/How_Wolves_Grow_Up/421988",{"$f":"Table1[[#This Row],[QTY]]*Table1[[#This Row],['# of Books]]","v":0},{"$f":"Table1[[#This Row],[QTY]]*Table1[[#This Row],[School & Library Price]]","v":0}]
[null,34,null,"Animals Growing Up","How Wolves Grow Up",1,"eBook","978-1-9785-0836-1",{"$f":"HYPERLINK(Table1[[#This Row],[Hyperlink]],\"Weblink\")","v":"Weblink"},"Enslow Publishing","2020","August 2019",null,"Author","Linda Bozzo","3","0.5",null,null,"I",null,"Grade 1 - 2","Grade K - 3","In springtime, baby wolves are born in the parents' wolf den. They are born totally deaf and blind. Readers will follow these playful pups from birth to when young wolves can hunt with the rest of the pack. Packed with incredible photographs and fascinating facts, this book is guaranteed to provide a howling good time while teaching life science concepts. A Words to Know section in the front of the book introduces readers to unfamiliar vocabulary before they encounter it in the narrative.","English",22.6,16.95,"599.77313/92--dc23","24 pp.","https://www.enslow.com/books/How_Wolves_Grow_Up/421988",{"$f":"Table1[[#This Row],[QTY]]*Table1[[#This Row],['# of Books]]","v":0},{"$f":"Table1[[#This Row],[QTY]]*Table1[[#This Row],[School & Library Price]]","v":0}]
[null,35,null,"Meet the Royals","Meet the Royals",6,"Library Set","978-1-9785-1563-5",{"$f":"HYPERLINK(Table1[[#This Row],[Hyperlink]],\"Weblink\")","v":"Weblink"},"Enslow Publishing","2020","January 2020","7.125 X 8.500",null,null,null,null,null,null,null,null,"Grade 1 - 2","Grade K - 3","From a young age, children hear romantic tales of princes and princesses, king and queens. This fun and informative set introduces readers to real-life royalty, both modern and historical. The simple narratives explain how a person becomes a member of a royal family, the various roles and hierarchies within it, and how these roles have changed over the years. Full-page photographs highlight key royal figures, past and present, from around the world. With colorful spreads and fun facts, these fascinating books are sure to appeal to any reader interested in exploring beyond the fairy tale. Features include: Introduces young readers to the key players in a monarchy, which is a great opening for a discussion of the various forms of government. Presents a high-interest topic, as evidenced by the outpouring of interest over the wedding of Meghan Markle and Prince Harry, and that of Kate Middleton and Prince William before them. Introduces young readers to members of royalty from both history and the current day, illustrating change and continuity in history.","English",135.6,101.7,null,"24 pp.","https://www.enslow.com/series/Meet_the_Royals/483781",{"$f":"Table1[[#This Row],[QTY]]*Table1[[#This Row],['# of Books]]","v":0},{"$f":"Table1[[#This Row],[QTY]]*Table1[[#This Row],[School & Library Price]]","v":0}]
[null,35,null,"Meet the Royals","Duchesses",1,"Library Bound Book","978-1-9785-1199-6",{"$f":"HYPERLINK(Table1[[#This Row],[Hyperlink]],\"Weblink\")","v":"Weblink"},"Enslow Publishing","2020","January 2020","7.125 X 8.500","Author","Sarita McDaniel",null,null,null,null,"J",null,"Grade 1 - 2","Grade K - 3","When children think of royalty, they may imagine kings, queens, princes, and princesses. Perhaps a less familiar role in the royal family is the duchess. Young readers are introduced to duchesses through color photographs and lots of fun facts. Long ago, duchesses weren't just the wives of dukes, they sometimes ran their own kingdoms. How has that changed today? Readers learn about real-life duchesses, both modern and historical, in this fun and informative glimpse inside the fascinating world of royalty.","English",22.6,16.95,"321/.6--dc23","24 pp.","https://www.enslow.com/books/Duchesses/422101",{"$f":"Table1[[#This Row],[QTY]]*Table1[[#This Row],['# of Books]]","v":0},{"$f":"Table1[[#This Row],[QTY]]*Table1[[#This Row],[School & Library Price]]","v":0}]
[null,35,null,"Meet the Royals","Duchesses",1,"eBook","978-1-9785-1200-9",{"$f":"HYPERLINK(Table1[[#This Row],[Hyperlink]],\"Weblink\")","v":"Weblink"},"Enslow Publishing","2020","January 2020",null,"Author","Sarita McDaniel",null,null,null,null,"J",null,"Grade 1 - 2","Grade K - 3","When children think of royalty, they may imagine kings, queens, princes, and princesses. Perhaps a less familiar role in the royal family is the duchess. Young readers are introduced to duchesses through color photographs and lots of fun facts. Long ago, duchesses weren't just the wives of dukes, they sometimes ran their own kingdoms. How has that changed today? Readers learn about real-life duchesses, both modern and historical, in this fun and informative glimpse inside the fascinating world of royalty.","English",22.6,16.95,"321/.6--dc23","24 pp.","https://www.enslow.com/books/Duchesses/422101",{"$f":"Table1[[#This Row],[QTY]]*Table1[[#This Row],['# of Books]]","v":0},{"$f":"Table1[[#This Row],[QTY]]*Table1[[#This Row],[School & Library Price]]","v":0}]
[null,35,null,"Meet the Royals","Dukes",1,"Library Bound Book","978-1-9785-1195-8",{"$f":"HYPERLINK(Table1[[#This Row],[Hyperlink]],\"Weblink\")","v":"Weblink"},"Enslow Publishing","2020","January 2020","7.125 X 8.500","Author","Sarita McDaniel",null,null,null,null,"I",null,"Grade 1 - 2","Grade K - 3","Dukes were once very important. Kings used to trust their dukes to run parts of their kingdom. Today, things have changed. This fun and informative book introduces readers to dukes, both modern and historical. They explore what a duke is, how a person becomes a duke, and what a duke's job might look like. Full-color photographs highlight a few of today's dukes from around the world, and fast facts add to the fun as readers take a glimpse inside the world of real-life royalty.","English",22.6,16.95,"321/.6--dc23","24 pp.","https://www.enslow.com/books/Dukes/422100",{"$f":"Table1[[#This Row],[QTY]]*Table1[[#This Row],['# of Books]]","v":0},{"$f":"Table1[[#This Row],[QTY]]*Table1[[#This Row],[School & Library Price]]","v":0}]
[null,35,null,"Meet the Royals","Dukes",1,"eBook","978-1-9785-1196-5",{"$f":"HYPERLINK(Table1[[#This Row],[Hyperlink]],\"Weblink\")","v":"Weblink"},"Enslow Publishing","2020","January 2020",null,"Author","Sarita McDaniel",null,null,null,null,"I",null,"Grade 1 - 2","Grade K - 3","Dukes were once very important. Kings used to trust their dukes to run parts of their kingdom. Today, things have changed. This fun and informative book introduces readers to dukes, both modern and historical. They explore what a duke is, how a person becomes a duke, and what a duke's job might look like. Full-color photographs highlight a few of today's dukes from around the world, and fast facts add to the fun as readers take a glimpse inside the world of real-life royalty.","English",22.6,16.95,"321/.6--dc23","24 pp.","https://www.enslow.com/books/Dukes/422100",{"$f":"Table1[[#This Row],[QTY]]*Table1[[#This Row],['# of Books]]","v":0},{"$f":"Table1[[#This Row],[QTY]]*Table1[[#This Row],[School & Library Price]]","v":0}]
[null,35,null,"Meet the Royals","Kings",1,"Library Bound Book","978-1-9785-1179-8",{"$f":"HYPERLINK(Table1[[#This Row],[Hyperlink]],\"Weblink\")","v":"Weblink"},"Enslow Publishing","2020","January 2020","7.125 X 8.500","Author","Sarita McDaniel",null,null,null,null,"D",null,"Grade 1 - 2","Grade K - 3","At one time, kings ruled the world. Today, most kings play a different role in their countries. This introduction to royalty will help young readers separate fact from fiction when it comes to monarchs. Through simple text, they'll explore real-life royalty, both modern and historical. Readers learn what a king is, how a person becomes a king, and how the position has changed over time. Full-page photographs highlight key royal figures from around the world. With colorful spreads and fun facts, this fascinating book will appeal to readers interested in exploring beyond fairy tales.","English",22.6,16.95,"321/.6--dc23","24 pp.","https://www.enslow.com/books/Kings/422096",{"$f":"Table1[[#This Row],[QTY]]*Table1[[#This Row],['# of Books]]","v":0},{"$f":"Table1[[#This Row],[QTY]]*Table1[[#This Row],[School & Library Price]]","v":0}]
[null,35,null,"Meet the Royals","Kings",1,"eBook","978-1-9785-1180-4",{"$f":"HYPERLINK(Table1[[#This Row],[Hyperlink]],\"Weblink\")","v":"Weblink"},"Enslow Publishing","2020","January 2020",null,"Author","Sarita McDaniel",null,null,null,null,"D",null,"Grade 1 - 2","Grade K - 3","At one time, kings ruled the world. Today, most kings play a different role in their countries. This introduction to royalty will help young readers separate fact from fiction when it comes to monarchs. Through simple text, they'll explore real-life royalty, both modern and historical. Readers learn what a king is, how a person becomes a king, and how the position has changed over time. Full-page photographs highlight key royal figures from around the world. With colorful spreads and fun facts, this fascinating book will appeal to readers interested in exploring beyond fairy tales.","English",22.6,16.95,"321/.6--dc23","24 pp.","https://www.enslow.com/books/Kings/422096",{"$f":"Table1[[#This Row],[QTY]]*Table1[[#This Row],['# of Books]]","v":0},{"$f":"Table1[[#This Row],[QTY]]*Table1[[#This Row],[School & Library Price]]","v":0}]
[null,35,null,"Meet the Royals","Princes",1,"Library Bound Book","978-1-9785-1187-3",{"$f":"HYPERLINK(Table1[[#This Row],[Hyperlink]],\"Weblink\")","v":"Weblink"},"Enslow Publishing","2020","January 2020","7.125 X 8.500","Author","Sarita McDaniel",null,null,null,null,"F",null,"Grade 1 - 2","Grade K - 3","Princes once had the big job of learning how to rule kingdoms. In some countries, they still do. This fun and informative book introduces readers to real-life royalty, both modern and historical. The simple narrative explains what a prince is, how a person becomes a prince, and how the role has changed over time. Full-page photographs feature famous as well as lesser-known princes from around the world, while plenty of fast facts add to this fun first look at the inner world of princes and their royal lives.","English",22.6,16.95,"305.5/22--dc23","24 pp.","https://www.enslow.com/books/Princes/422098",{"$f":"Table1[[#This Row],[QTY]]*Table1[[#This Row],['# of Books]]","v":0},{"$f":"Table1[[#This Row],[QTY]]*Table1[[#This Row],[School & Library Price]]","v":0}]
[null,35,null,"Meet the Royals","Princes",1,"eBook","978-1-9785-1188-0",{"$f":"HYPERLINK(Table1[[#This Row],[Hyperlink]],\"Weblink\")","v":"Weblink"},"Enslow Publishing","2020","January 2020",null,"Author","Sarita McDaniel",null,null,null,null,"F",null,"Grade 1 - 2","Grade K - 3","Princes once had the big job of learning how to rule kingdoms. In some countries, they still do. This fun and informative book introduces readers to real-life royalty, both modern and historical. The simple narrative explains what a prince is, how a person becomes a prince, and how the role has changed over time. Full-page photographs feature famous as well as lesser-known princes from around the world, while plenty of fast facts add to this fun first look at the inner world of princes and their royal lives.","English",22.6,16.95,"305.5/22--dc23","24 pp.","https://www.enslow.com/books/Princes/422098",{"$f":"Table1[[#This Row],[QTY]]*Table1[[#This Row],['# of Books]]","v":0},{"$f":"Table1[[#This Row],[QTY]]*Table1[[#This Row],[School & Library Price]]","v":0}]
[null,35,null,"Meet the Royals","Princesses",1,"Library Bound Book","978-1-9785-1191-0",{"$f":"HYPERLINK(Table1[[#This Row],[Hyperlink]],\"Weblink\")","v":"Weblink"},"Enslow Publishing","2020","January 2020","7.125 X 8.500","Author","Sarita McDaniel",null,null,null,null,"C",null,"Grade 1 - 2","Grade K - 3","From a young age, children hear romantic tales of Prince Charming swooping up a lucky young lady to become his princess. The reality of life as a princess is quite different. With this introductory text, readers learn how a person becomes a princess and her role within the royal family as well as the local and national community. Stunning photographs that fill the whole page highlight key royal figures, past and present, from around the world. With colorful spreads and fun facts, this simple yet informative book will spark the interest of readers.","English",22.6,16.95,"305.5/22--dc23","24 pp.","https://www.enslow.com/books/Princesses/422099",{"$f":"Table1[[#This Row],[QTY]]*Table1[[#This Row],['# of Books]]","v":0},{"$f":"Table1[[#This Row],[QTY]]*Table1[[#This Row],[School & Library Price]]","v":0}]
[null,35,null,"Meet the Royals","Princesses",1,"eBook","978-1-9785-1192-7",{"$f":"HYPERLINK(Table1[[#This Row],[Hyperlink]],\"Weblink\")","v":"Weblink"},"Enslow Publishing","2020","January 2020",null,"Author","Sarita McDaniel",null,null,null,null,"C",null,"Grade 1 - 2","Grade K - 3","From a young age, children hear romantic tales of Prince Charming swooping up a lucky young lady to become his princess. The reality of life as a princess is quite different. With this introductory text, readers learn how a person becomes a princess and her role within the royal family as well as the local and national community. Stunning photographs that fill the whole page highlight key royal figures, past and present, from around the world. With colorful spreads and fun facts, this simple yet informative book will spark the interest of readers.","English",22.6,16.95,"305.5/22--dc23","24 pp.","https://www.enslow.com/books/Princesses/422099",{"$f":"Table1[[#This Row],[QTY]]*Table1[[#This Row],['# of Books]]","v":0},{"$f":"Table1[[#This Row],[QTY]]*Table1[[#This Row],[School & Library Price]]","v":0}]
[null,35,null,"Meet the Royals","Queens",1,"Library Bound Book","978-1-9785-1183-5",{"$f":"HYPERLINK(Table1[[#This Row],[Hyperlink]],\"Weblink\")","v":"Weblink"},"Enslow Publishing","2020","January 2020","7.125 X 8.500","Author","Sarita McDaniel",null,null,null,null,"E",null,"Grade 1 - 2","Grade K - 3","Queen Elizabeth II is the longest reigning monarch alive today. So what is a queen and what does she do? In this introduction to royalty, readers learn how a person becomes a queen and how the role has changed over time. They also find out about queens who have changed the history of their countries and the world. Full-page photographs feature important royal figures from around the world, while fast facts supplement this fascinating first look at the world of royalty.","English",22.6,16.95,"321/.6--dc23","24 pp.","https://www.enslow.com/books/Queens/422097",{"$f":"Table1[[#This Row],[QTY]]*Table1[[#This Row],['# of Books]]","v":0},{"$f":"Table1[[#This Row],[QTY]]*Table1[[#This Row],[School & Library Price]]","v":0}]
[null,35,null,"Meet the Royals","Queens",1,"eBook","978-1-9785-1184-2",{"$f":"HYPERLINK(Table1[[#This Row],[Hyperlink]],\"Weblink\")","v":"Weblink"},"Enslow Publishing","2020","January 2020",null,"Author","Sarita McDaniel",null,null,null,null,"E",null,"Grade 1 - 2","Grade K - 3","Queen Elizabeth II is the longest reigning monarch alive today. So what is a queen and what does she do? In this introduction to royalty, readers learn how a person becomes a queen and how the role has changed over time. They also find out about queens who have changed the history of their countries and the world. Full-page photographs feature important royal figures from around the world, while fast facts supplement this fascinating first look at the world of royalty.","English",22.6,16.95,"321/.6--dc23","24 pp.","https://www.enslow.com/books/Queens/422097",{"$f":"Table1[[#This Row],[QTY]]*Table1[[#This Row],['# of Books]]","v":0},{"$f":"Table1[[#This Row],[QTY]]*Table1[[#This Row],[School & Library Price]]","v":0}]
[null,37,null,"I Can Be...","I Can Be...",6,"Library Set","978-1-9785-2009-7",{"$f":"HYPERLINK(Table1[[#This Row],[Hyperlink]],\"Weblink\")","v":"Weblink"},"Enslow Publishing","2021","August 2020","8.500 X 11.00",null,null,null,null,null,null,null,null,"Grade 5","Grade 4 - 6","We don't necessarily have to be famous, rich, or powerful to make a big impact on our world. Many people throughout history have accomplished extraordinary feats aided by certain characteristics they wielded. With this motivating set, readers learn how historical figures used traits such as creativity, intelligence, athleticism, and a sense of adventure to accomplish amazing deeds. They'll feel inspired to use those same traits to make their own mark in their community. Appealing caricatures of the featured subjects including Jesse Owens, Elizabeth I, and Vincent Van Gogh add further interest. Features include: Brief and inspiring biographies of a diverse set of people. A powerful quote from the historical figure accompanies each accessible profile. Activities such as crafts that reinforce key concepts and engage readers of all levels and interests.","English",151.62,113.7,null,"32 pp.","https://www.enslow.com/series/I_Can_Be/492673",{"$f":"Table1[[#This Row],[QTY]]*Table1[[#This Row],['# of Books]]","v":0},{"$f":"Table1[[#This Row],[QTY]]*Table1[[#This Row],[School & Library Price]]","v":0}]
[null,37,null,"I Can Be...","I Can Be Adventurous: Daring Explorers Who Traveled the Globe",1,"Library Bound Book","978-1-9785-1953-4",{"$f":"HYPERLINK(Table1[[#This Row],[Hyperlink]],\"Weblink\")","v":"Weblink"},"Enslow Publishing","2021","August 2020","8.500 X 11.00","Author","Shalini Vallepur",null,null,null,null,"U",null,"Grade 5","Grade 4 - 6","All explorers share a sense of daring. They see excitement and adventure in the unknown. The bold explorers featured in this energizing volume have many positive characteristics for young readers to emulate. They'll meet brave heroes including Leif Erikson, Sacagawea, and Neil Armstrong. Comprehensible biographies accompanied by charming cartoon characters will appeal to developing readers and encourage them to exercise their own sense of adventure. Activities such as creating maps and a model of the moon will further motivate readers to learn about history's great explorers.","English",25.27,18.95,"910.92'2--dc23","32 pp.","https://www.enslow.com/books/I_Can_Be_Adventurous___Daring_Explorers_Who_Traveled_the_Globe/422251",{"$f":"Table1[[#This Row],[QTY]]*Table1[[#This Row],['# of Books]]","v":0},{"$f":"Table1[[#This Row],[QTY]]*Table1[[#This Row],[School & Library Price]]","v":0}]
[null,37,null,"I Can Be...","I Can Be Adventurous: Daring Explorers Who Traveled the Globe",1,"eBook","978-1-9785-1954-1",{"$f":"HYPERLINK(Table1[[#This Row],[Hyperlink]],\"Weblink\")","v":"Weblink"},"Enslow Publishing","2021","August 2020",null,"Author","Shalini Vallepur",null,null,null,null,"U",null,"Grade 5","Grade 4 - 6","All explorers share a sense of daring. They see excitement and adventure in the unknown. The bold explorers featured in this energizing volume have many positive characteristics for young readers to emulate. They'll meet brave heroes including Leif Erikson, Sacagawea, and Neil Armstrong. Comprehensible biographies accompanied by charming cartoon characters will appeal to developing readers and encourage them to exercise their own sense of adventure. Activities such as creating maps and a model of the moon will further motivate readers to learn about history's great explorers.","English",25.27,18.95,"910.92'2--dc23","32 pp.","https://www.enslow.com/books/I_Can_Be_Adventurous___Daring_Explorers_Who_Traveled_the_Globe/422251",{"$f":"Table1[[#This Row],[QTY]]*Table1[[#This Row],['# of Books]]","v":0},{"$f":"Table1[[#This Row],[QTY]]*Table1[[#This Row],[School & Library Price]]","v":0}]
[null,37,null,"I Can Be...","I Can Be Bold: Strong Kings and Queens Who Were Great Leaders",1,"Library Bound Book","978-1-9785-1957-2",{"$f":"HYPERLINK(Table1[[#This Row],[Hyperlink]],\"Weblink\")","v":"Weblink"},"Enslow Publishing","2021","August 2020","8.500 X 11.00","Author","Shalini Vallepur",null,null,null,null,"U",null,"Grade 5","Grade 4 - 6","Strong leaders need to be confident and courageous when making choices that will benefit those people who rely on them. They need to be bold. With this vibrant volume, readers will learn how they too can be bold in their everyday lives. They'll be inspired while learning about the extraordinary lives of some of the great leaders of history including Hatshepsut and Sitting Bull. Motivating quotes from these historical figures will stir excitement while readers are encouraged to dive into different periods of history. Entertaining activities are also featured throughout this inspiring book.","English",25.27,18.95,"321.0092'2--dc23","32 pp.","https://www.enslow.com/books/I_Can_Be_Bold___Strong_Kings_and_Queens_Who_Were_Great_Leaders/422252",{"$f":"Table1[[#This Row],[QTY]]*Table1[[#This Row],['# of Books]]","v":0},{"$f":"Table1[[#This Row],[QTY]]*Table1[[#This Row],[School & Library Price]]","v":0}]
[null,37,null,"I Can Be...","I Can Be Bold: Strong Kings and Queens Who Were Great Leaders",1,"eBook","978-1-9785-1958-9",{"$f":"HYPERLINK(Table1[[#This Row],[Hyperlink]],\"Weblink\")","v":"Weblink"},"Enslow Publishing","2021","August 2020",null,"Author","Shalini Vallepur",null,null,null,null,"U",null,"Grade 5","Grade 4 - 6","Strong leaders need to be confident and courageous when making choices that will benefit those people who rely on them. They need to be bold. With this vibrant volume, readers will learn how they too can be bold in their everyday lives. They'll be inspired while learning about the extraordinary lives of some of the great leaders of history including Hatshepsut and Sitting Bull. Motivating quotes from these historical figures will stir excitement while readers are encouraged to dive into different periods of history. Entertaining activities are also featured throughout this inspiring book.","English",25.27,18.95,"321.0092'2--dc23","32 pp.","https://www.enslow.com/books/I_Can_Be_Bold___Strong_Kings_and_Queens_Who_Were_Great_Leaders/422252",{"$f":"Table1[[#This Row],[QTY]]*Table1[[#This Row],['# of Books]]","v":0},{"$f":"Table1[[#This Row],[QTY]]*Table1[[#This Row],[School & Library Price]]","v":0}]
[null,37,null,"I Can Be...","I Can Be Brainy: Clever Scientists Who Changed the World",1,"Library Bound Book","978-1-9785-1961-9",{"$f":"HYPERLINK(Table1[[#This Row],[Hyperlink]],\"Weblink\")","v":"Weblink"},"Enslow Publishing","2021","August 2020","8.500 X 11.00","Author","Shalini Vallepur",null,null,null,null,"U",null,"Grade 5","Grade 4 - 6","This delightful book is a blend of character development, science, and history. It provides a simple yet powerful message: using your brain can change the world. Readers will discover how some scientists and inventors used their intelligence in groundbreaking ways. Accessible biographies reveal key information about great thinkers of history, including Isaac Newton, Marie Curie, and Stephen Hawking. Entertaining at-level text, fun activities, and likeable caricatures of featured figures will appeal to readers and inspire them to think outside the box. They'll learn how to embrace being brainy.","English",25.27,18.95,"509.2'2--dc23","32 pp.","https://www.enslow.com/books/I_Can_Be_Brainy___Clever_Scientists_Who_Changed_the_World/422253",{"$f":"Table1[[#This Row],[QTY]]*Table1[[#This Row],['# of Books]]","v":0},{"$f":"Table1[[#This Row],[QTY]]*Table1[[#This Row],[School & Library Price]]","v":0}]
[null,37,null,"I Can Be...","I Can Be Brainy: Clever Scientists Who Changed the World",1,"eBook","978-1-9785-1962-6",{"$f":"HYPERLINK(Table1[[#This Row],[Hyperlink]],\"Weblink\")","v":"Weblink"},"Enslow Publishing","2021","August 2020",null,"Author","Shalini Vallepur",null,null,null,null,"U",null,"Grade 5","Grade 4 - 6","This delightful book is a blend of character development, science, and history. It provides a simple yet powerful message: using your brain can change the world. Readers will discover how some scientists and inventors used their intelligence in groundbreaking ways. Accessible biographies reveal key information about great thinkers of history, including Isaac Newton, Marie Curie, and Stephen Hawking. Entertaining at-level text, fun activities, and likeable caricatures of featured figures will appeal to readers and inspire them to think outside the box. They'll learn how to embrace being brainy.","English",25.27,18.95,"509.2'2--dc23","32 pp.","https://www.enslow.com/books/I_Can_Be_Brainy___Clever_Scientists_Who_Changed_the_World/422253",{"$f":"Table1[[#This Row],[QTY]]*Table1[[#This Row],['# of Books]]","v":0},{"$f":"Table1[[#This Row],[QTY]]*Table1[[#This Row],[School & Library Price]]","v":0}]
[null,37,null,"I Can Be...","I Can Be Creative: Talented Artists Who Inspired the World",1,"Library Bound Book","978-1-9785-1965-7",{"$f":"HYPERLINK(Table1[[#This Row],[Hyperlink]],\"Weblink\")","v":"Weblink"},"Enslow Publishing","2021","August 2020","8.500 X 11.00","Author","Shalini Vallepur",null,null,null,null,"U",null,"Grade 5","Grade 4 - 6","Art can open people up to new ideas about the world and move them to think more deeply about themselves. Creativity inspires creativity. The amazing artists featured in this motivating volume created works of art that still inspire us today. Readers will learn about the lives of such important figures as Leonardo da Vinci, Harriet Powers, Pablo Picasso, and Coco Chanel. They'll learn about their lasting contributions to the art world. They'll also be invited to make art through imaginative and appealing activities. Thought-provoking quotes from artists throughout the narrative will further develop and motivate your artists of tomorrow.","English",25.27,18.95,"700.92'2--dc23","32 pp.","https://www.enslow.com/books/I_Can_Be_Creative___Talented_Artists_Who_Inspired_the_World/422254",{"$f":"Table1[[#This Row],[QTY]]*Table1[[#This Row],['# of Books]]","v":0},{"$f":"Table1[[#This Row],[QTY]]*Table1[[#This Row],[School & Library Price]]","v":0}]
[null,37,null,"I Can Be...","I Can Be Creative: Talented Artists Who Inspired the World",1,"eBook","978-1-9785-1966-4",{"$f":"HYPERLINK(Table1[[#This Row],[Hyperlink]],\"Weblink\")","v":"Weblink"},"Enslow Publishing","2021","August 2020",null,"Author","Shalini Vallepur",null,null,null,null,"U",null,"Grade 5","Grade 4 - 6","Art can open people up to new ideas about the world and move them to think more deeply about themselves. Creativity inspires creativity. The amazing artists featured in this motivating volume created works of art that still inspire us today. Readers will learn about the lives of such important figures as Leonardo da Vinci, Harriet Powers, Pablo Picasso, and Coco Chanel. They'll learn about their lasting contributions to the art world. They'll also be invited to make art through imaginative and appealing activities. Thought-provoking quotes from artists throughout the narrative will further develop and motivate your artists of tomorrow.","English",25.27,18.95,"700.92'2--dc23","32 pp.","https://www.enslow.com/books/I_Can_Be_Creative___Talented_Artists_Who_Inspired_the_World/422254",{"$f":"Table1[[#This Row],[QTY]]*Table1[[#This Row],['# of Books]]","v":0},{"$f":"Table1[[#This Row],[QTY]]*Table1[[#This Row],[School & Library Price]]","v":0}]
[null,37,null,"I Can Be...","I Can Be Heard: Brave Activists Who Stood Up for Their Beliefs",1,"Library Bound Book","978-1-9785-1969-5",{"$f":"HYPERLINK(Table1[[#This Row],[Hyperlink]],\"Weblink\")","v":"Weblink"},"Enslow Publishing","2021","August 2020","8.500 X 11.00","Author","Shalini Vallepur",null,null,null,null,"U",null,"Grade 5","Grade 4 - 6","Using your voice to stand up for what's right is challenging. One voice can become weak when many loud voices drown it out, yet it can take just one voice to inspire others and make change happen. The inspirational biographies in this book will motivate readers to be a voice in their communities, in their classrooms, and in the world beyond. Featured activists include Harriet Tubman, Mohatma Gandhi, Malala Yousafzai, and Greta Thunberg. They were especially chosen to appeal to readers and expand their knowledge of issues around the world. Activities, quotes, and cartoon characters featured throughout add to the attractive design and learning experience.","English",25.27,18.95,"303.48'40922--dc23","32 pp.","https://www.enslow.com/books/I_Can_Be_Heard___Brave_Activists_Who_Stood_Up_for_Their_Beliefs/422255",{"$f":"Table1[[#This Row],[QTY]]*Table1[[#This Row],['# of Books]]","v":0},{"$f":"Table1[[#This Row],[QTY]]*Table1[[#This Row],[School & Library Price]]","v":0}]
[null,37,null,"I Can Be...","I Can Be Heard: Brave Activists Who Stood Up for Their Beliefs",1,"eBook","978-1-9785-1970-1",{"$f":"HYPERLINK(Table1[[#This Row],[Hyperlink]],\"Weblink\")","v":"Weblink"},"Enslow Publishing","2021","August 2020",null,"Author","Shalini Vallepur",null,null,null,null,"U",null,"Grade 5","Grade 4 - 6","Using your voice to stand up for what's right is challenging. One voice can become weak when many loud voices drown it out, yet it can take just one voice to inspire others and make change happen. The inspirational biographies in this book will motivate readers to be a voice in their communities, in their classrooms, and in the world beyond. Featured activists include Harriet Tubman, Mohatma Gandhi, Malala Yousafzai, and Greta Thunberg. They were especially chosen to appeal to readers and expand their knowledge of issues around the world. Activities, quotes, and cartoon characters featured throughout add to the attractive design and learning experience.","English",25.27,18.95,"303.48'40922--dc23","32 pp.","https://www.enslow.com/books/I_Can_Be_Heard___Brave_Activists_Who_Stood_Up_for_Their_Beliefs/422255",{"$f":"Table1[[#This Row],[QTY]]*Table1[[#This Row],['# of Books]]","v":0},{"$f":"Table1[[#This Row],[QTY]]*Table1[[#This Row],[School & Library Price]]","v":0}]
[null,37,null,"I Can Be...","I Can Be Sporty: Amazing Athletes Who Pushed the Boundaries",1,"Library Bound Book","978-1-9785-1973-2",{"$f":"HYPERLINK(Table1[[#This Row],[Hyperlink]],\"Weblink\")","v":"Weblink"},"Enslow Publishing","2021","August 2020","8.500 X 11.00","Author","Shalini Vallepur",null,null,null,null,"U",null,"Grade 5","Grade 4 - 6","Sometimes competing in a sport is about more than playing a game. It can be about proving to yourself that you can overcome an obstacle. It can demonstrate to others that a disability can't stop you. With this volume, readers will find many reasons to play sports as they admire the biographical details of featured athletes and competitors. These sedulous stars come from many different backgrounds and disciplines including Bruce Lee and Serena Williams. Cute cartoon characters, fun activities, and encouraging quotes accompany the accessible narrative.","English",25.27,18.95,"796.092'2--dc23","32 pp.","https://www.enslow.com/books/I_Can_Be_Sporty___Amazing_Athletes_Who_Pushed_the_Boundaries/422256",{"$f":"Table1[[#This Row],[QTY]]*Table1[[#This Row],['# of Books]]","v":0},{"$f":"Table1[[#This Row],[QTY]]*Table1[[#This Row],[School & Library Price]]","v":0}]
[null,37,null,"I Can Be...","I Can Be Sporty: Amazing Athletes Who Pushed the Boundaries",1,"eBook","978-1-9785-1974-9",{"$f":"HYPERLINK(Table1[[#This Row],[Hyperlink]],\"Weblink\")","v":"Weblink"},"Enslow Publishing","2021","August 2020",null,"Author","Shalini Vallepur",null,null,null,null,"U",null,"Grade 5","Grade 4 - 6","Sometimes competing in a sport is about more than playing a game. It can be about proving to yourself that you can overcome an obstacle. It can demonstrate to others that a disability can't stop you. With this volume, readers will find many reasons to play sports as they admire the biographical details of featured athletes and competitors. These sedulous stars come from many different backgrounds and disciplines including Bruce Lee and Serena Williams. Cute cartoon characters, fun activities, and encouraging quotes accompany the accessible narrative.","English",25.27,18.95,"796.092'2--dc23","32 pp.","https://www.enslow.com/books/I_Can_Be_Sporty___Amazing_Athletes_Who_Pushed_the_Boundaries/422256",{"$f":"Table1[[#This Row],[QTY]]*Table1[[#This Row],['# of Books]]","v":0},{"$f":"Table1[[#This Row],[QTY]]*Table1[[#This Row],[School & Library Price]]","v":0}]
[null,38,null,"Fun with Grammar","Fun with Grammar",6,"Library Set","978-1-9785-1572-7",{"$f":"HYPERLINK(Table1[[#This Row],[Hyperlink]],\"Weblink\")","v":"Weblink"},"Enslow Publishing","2020","January 2020","7.125 X 8.500",null,null,null,null,null,null,null,null,"Grade 1 - 2","Grade 1 - 4","Language derives from individual units placed together to create meaning. But what exactly are the building blocks of our language and why do they matter? Through simple texts and engaging photographs, readers will learn the different characteristics of adjectives, nouns, and verbs. Age-appropriate explanations will teach students different types of punctuation and how to build interesting sentences. Supplying children with a solid foundation for all things grammar, this set equips students with the knowledge and tools they need to become lifelong readers and writers. Features include: Enhances language development and knowledge building. Addresses the need and demand for grammar books at this grade level. Strengthens reading and text comprehension skills. Words to Know sections at the front of the books help readers learn new vocabulary words before they encounter them in the narratives.","English",135.6,101.7,null,"24 pp.","https://www.enslow.com/series/Fun_with_Grammar/483783",{"$f":"Table1[[#This Row],[QTY]]*Table1[[#This Row],['# of Books]]","v":0},{"$f":"Table1[[#This Row],[QTY]]*Table1[[#This Row],[School & Library Price]]","v":0}]
[null,38,null,"Fun with Grammar","Adjectives",1,"Library Bound Book","978-1-9785-1259-7",{"$f":"HYPERLINK(Table1[[#This Row],[Hyperlink]],\"Weblink\")","v":"Weblink"},"Enslow Publishing","2020","January 2020","7.125 X 8.500","Author","Samantha Green",null,null,null,null,"F",null,"Grade 1 - 2","Grade 1 - 4","Need a word to describe how something feels or smells? Then adjectives are what you need. Readers will learn what adjectives are and how to use them to make their sentences come to life. This book takes children through different kinds of adjectives and supplies students with an array of adjectives to add to their growing vocabulary. With bold photographs and fun fact boxes, readers will love using new words to give their sentences power and pop.","English",22.6,16.95,"415/.5--dc23","24 pp.","https://www.enslow.com/books/Adjectives/422116",{"$f":"Table1[[#This Row],[QTY]]*Table1[[#This Row],['# of Books]]","v":0},{"$f":"Table1[[#This Row],[QTY]]*Table1[[#This Row],[School & Library Price]]","v":0}]
[null,38,null,"Fun with Grammar","Adjectives",1,"eBook","978-1-9785-1260-3",{"$f":"HYPERLINK(Table1[[#This Row],[Hyperlink]],\"Weblink\")","v":"Weblink"},"Enslow Publishing","2020","January 2020",null,"Author","Samantha Green",null,null,null,null,"F",null,"Grade 1 - 2","Grade 1 - 4","Need a word to describe how something feels or smells? Then adjectives are what you need. Readers will learn what adjectives are and how to use them to make their sentences come to life. This book takes children through different kinds of adjectives and supplies students with an array of adjectives to add to their growing vocabulary. With bold photographs and fun fact boxes, readers will love using new words to give their sentences power and pop.","English",22.6,16.95,"415/.5--dc23","24 pp.","https://www.enslow.com/books/Adjectives/422116",{"$f":"Table1[[#This Row],[QTY]]*Table1[[#This Row],['# of Books]]","v":0},{"$f":"Table1[[#This Row],[QTY]]*Table1[[#This Row],[School & Library Price]]","v":0}]
[null,38,null,"Fun with Grammar","Nouns",1,"Library Bound Book","978-1-9785-1263-4",{"$f":"HYPERLINK(Table1[[#This Row],[Hyperlink]],\"Weblink\")","v":"Weblink"},"Enslow Publishing","2020","January 2020","7.125 X 8.500","Author","Samantha Green",null,null,null,null,"D",null,"Grade 1 - 2","Grade 1 - 4","Without nouns, there would be no way to name what kind of object is in someone's hands or where you want to go. Students will be amazed at just how many nouns they know and how nouns are the building blocks for the world around them. This book travels through the world of people, places, things, and ideas, with simple explanations for how nouns can range from abstract to concrete. Paired with vibrant photographs and fun facts, young readers will be able to point out the nouns all around them.","English",22.6,16.95,"415/.54--dc23","24 pp.","https://www.enslow.com/books/Nouns/422117",{"$f":"Table1[[#This Row],[QTY]]*Table1[[#This Row],['# of Books]]","v":0},{"$f":"Table1[[#This Row],[QTY]]*Table1[[#This Row],[School & Library Price]]","v":0}]
[null,38,null,"Fun with Grammar","Nouns",1,"eBook","978-1-9785-1264-1",{"$f":"HYPERLINK(Table1[[#This Row],[Hyperlink]],\"Weblink\")","v":"Weblink"},"Enslow Publishing","2020","January 2020",null,"Author","Samantha Green",null,null,null,null,"D",null,"Grade 1 - 2","Grade 1 - 4","Without nouns, there would be no way to name what kind of object is in someone's hands or where you want to go. Students will be amazed at just how many nouns they know and how nouns are the building blocks for the world around them. This book travels through the world of people, places, things, and ideas, with simple explanations for how nouns can range from abstract to concrete. Paired with vibrant photographs and fun facts, young readers will be able to point out the nouns all around them.","English",22.6,16.95,"415/.54--dc23","24 pp.","https://www.enslow.com/books/Nouns/422117",{"$f":"Table1[[#This Row],[QTY]]*Table1[[#This Row],['# of Books]]","v":0},{"$f":"Table1[[#This Row],[QTY]]*Table1[[#This Row],[School & Library Price]]","v":0}]
[null,38,null,"Fun with Grammar","Punctuation",1,"Library Bound Book","978-1-9785-1267-2",{"$f":"HYPERLINK(Table1[[#This Row],[Hyperlink]],\"Weblink\")","v":"Weblink"},"Enslow Publishing","2020","January 2020","7.125 X 8.500","Author","Samantha Green",null,null,null,null,"H",null,"Grade 1 - 2","Grade 1 - 4","After reading this book, students won't underestimate punctuation marks! With the ability to change the meaning of a sentence, show enthusiasm and excitement, and organize a sentence, the power of punctuation has never been clearer. Accessible examples and vivid photographs help readers see how punctuation can help ask questions, show emotion, and more. Children will be able to tell the difference in meaning between \"A cat?\" and \"A cat!\" and discover how punctuation can punch up a sentence.","English",22.6,16.95,"411--dc23","24 pp.","https://www.enslow.com/books/Punctuation/422118",{"$f":"Table1[[#This Row],[QTY]]*Table1[[#This Row],['# of Books]]","v":0},{"$f":"Table1[[#This Row],[QTY]]*Table1[[#This Row],[School & Library Price]]","v":0}]
[null,38,null,"Fun with Grammar","Punctuation",1,"eBook","978-1-9785-1268-9",{"$f":"HYPERLINK(Table1[[#This Row],[Hyperlink]],\"Weblink\")","v":"Weblink"},"Enslow Publishing","2020","January 2020",null,"Author","Samantha Green",null,null,null,null,"H",null,"Grade 1 - 2","Grade 1 - 4","After reading this book, students won't underestimate punctuation marks! With the ability to change the meaning of a sentence, show enthusiasm and excitement, and organize a sentence, the power of punctuation has never been clearer. Accessible examples and vivid photographs help readers see how punctuation can help ask questions, show emotion, and more. Children will be able to tell the difference in meaning between \"A cat?\" and \"A cat!\" and discover how punctuation can punch up a sentence.","English",22.6,16.95,"411--dc23","24 pp.","https://www.enslow.com/books/Punctuation/422118",{"$f":"Table1[[#This Row],[QTY]]*Table1[[#This Row],['# of Books]]","v":0},{"$f":"Table1[[#This Row],[QTY]]*Table1[[#This Row],[School & Library Price]]","v":0}]
[null,38,null,"Fun with Grammar","Question Words",1,"Library Bound Book","978-1-9785-1271-9",{"$f":"HYPERLINK(Table1[[#This Row],[Hyperlink]],\"Weblink\")","v":"Weblink"},"Enslow Publishing","2020","January 2020","7.125 X 8.500","Author","Samantha Green",null,null,null,null,"G",null,"Grade 1 - 2","Grade 1 - 4","There is no such thing as asking too many questions. In that spirit, this book helps children explore the difference between \"when\" and \"why\" so they always have the words they need to nurture their curiosity. This book outlines the meaning of different types of question words and how to use them in conversation. With vibrant photographs and fun fact boxes that help young readers learn even more, this book will ensure that there is always a way for future questions to be asked.","English",22.6,16.95,"425/.55--dc23","24 pp.","https://www.enslow.com/books/Question_Words/422119",{"$f":"Table1[[#This Row],[QTY]]*Table1[[#This Row],['# of Books]]","v":0},{"$f":"Table1[[#This Row],[QTY]]*Table1[[#This Row],[School & Library Price]]","v":0}]
[null,38,null,"Fun with Grammar","Question Words",1,"eBook","978-1-9785-1272-6",{"$f":"HYPERLINK(Table1[[#This Row],[Hyperlink]],\"Weblink\")","v":"Weblink"},"Enslow Publishing","2020","January 2020",null,"Author","Samantha Green",null,null,null,null,"G",null,"Grade 1 - 2","Grade 1 - 4","There is no such thing as asking too many questions. In that spirit, this book helps children explore the difference between \"when\" and \"why\" so they always have the words they need to nurture their curiosity. This book outlines the meaning of different types of question words and how to use them in conversation. With vibrant photographs and fun fact boxes that help young readers learn even more, this book will ensure that there is always a way for future questions to be asked.","English",22.6,16.95,"425/.55--dc23","24 pp.","https://www.enslow.com/books/Question_Words/422119",{"$f":"Table1[[#This Row],[QTY]]*Table1[[#This Row],['# of Books]]","v":0},{"$f":"Table1[[#This Row],[QTY]]*Table1[[#This Row],[School & Library Price]]","v":0}]
[null,38,null,"Fun with Grammar","Sentences and Paragraphs",1,"Library Bound Book","978-1-9785-1275-7",{"$f":"HYPERLINK(Table1[[#This Row],[Hyperlink]],\"Weblink\")","v":"Weblink"},"Enslow Publishing","2020","January 2020","7.125 X 8.500","Author","Samantha Green",null,null,null,null,"I",null,"Grade 1 - 2","Grade 1 - 4","After students have learned the building blocks of a sentence, it's time to learn how to put them together. Whether making a statement, asking a question, expressing an exclamation, or making a command, sentences do it all. Readers will also enter the world of paragraphs, where multiple sentences work together to express a larger theme. With the support of photographs and fun fact boxes, readers will enter the world of complex grammar.","English",22.6,16.95,"428.2--dc23","24 pp.","https://www.enslow.com/books/Sentences_and_Paragraphs/422120",{"$f":"Table1[[#This Row],[QTY]]*Table1[[#This Row],['# of Books]]","v":0},{"$f":"Table1[[#This Row],[QTY]]*Table1[[#This Row],[School & Library Price]]","v":0}]
[null,38,null,"Fun with Grammar","Sentences and Paragraphs",1,"eBook","978-1-9785-1276-4",{"$f":"HYPERLINK(Table1[[#This Row],[Hyperlink]],\"Weblink\")","v":"Weblink"},"Enslow Publishing","2020","January 2020",null,"Author","Samantha Green",null,null,null,null,"I",null,"Grade 1 - 2","Grade 1 - 4","After students have learned the building blocks of a sentence, it's time to learn how to put them together. Whether making a statement, asking a question, expressing an exclamation, or making a command, sentences do it all. Readers will also enter the world of paragraphs, where multiple sentences work together to express a larger theme. With the support of photographs and fun fact boxes, readers will enter the world of complex grammar.","English",22.6,16.95,"428.2--dc23","24 pp.","https://www.enslow.com/books/Sentences_and_Paragraphs/422120",{"$f":"Table1[[#This Row],[QTY]]*Table1[[#This Row],['# of Books]]","v":0},{"$f":"Table1[[#This Row],[QTY]]*Table1[[#This Row],[School & Library Price]]","v":0}]
[null,38,null,"Fun with Grammar","Verbs and Adverbs",1,"Library Bound Book","978-1-9785-1279-5",{"$f":"HYPERLINK(Table1[[#This Row],[Hyperlink]],\"Weblink\")","v":"Weblink"},"Enslow Publishing","2020","January 2020","7.125 X 8.500","Author","Samantha Green",null,null,null,null,"J",null,"Grade 1 - 2","Grade 1 - 4","Verbs keep the world moving and jumping and climbing forward, and it takes adverbs to describe what the action is like. Readers will love this book full of action and action words, with exciting photographs and fast fact boxes. By the time they close this book, students will understand how to use verbs to power sentences and feel confident in their ability to describe the nature of every verb and adjective with thrillingly exciting adverbs.","English",22.6,16.95,"415/.6--dc23","24 pp.","https://www.enslow.com/books/Verbs_and_Adverbs/422121",{"$f":"Table1[[#This Row],[QTY]]*Table1[[#This Row],['# of Books]]","v":0},{"$f":"Table1[[#This Row],[QTY]]*Table1[[#This Row],[School & Library Price]]","v":0}]
[null,38,null,"Fun with Grammar","Verbs and Adverbs",1,"eBook","978-1-9785-1280-1",{"$f":"HYPERLINK(Table1[[#This Row],[Hyperlink]],\"Weblink\")","v":"Weblink"},"Enslow Publishing","2020","January 2020",null,"Author","Samantha Green",null,null,null,null,"J",null,"Grade 1 - 2","Grade 1 - 4","Verbs keep the world moving and jumping and climbing forward, and it takes adverbs to describe what the action is like. Readers will love this book full of action and action words, with exciting photographs and fast fact boxes. By the time they close this book, students will understand how to use verbs to power sentences and feel confident in their ability to describe the nature of every verb and adjective with thrillingly exciting adverbs.","English",22.6,16.95,"415/.6--dc23","24 pp.","https://www.enslow.com/books/Verbs_and_Adverbs/422121",{"$f":"Table1[[#This Row],[QTY]]*Table1[[#This Row],['# of Books]]","v":0},{"$f":"Table1[[#This Row],[QTY]]*Table1[[#This Row],[School & Library Price]]","v":0}]
[null,39,null,"Let's Learn About Farm Machines","Let's Learn About Farm Machines",6,"Library Set","978-1-9785-1590-1",{"$f":"HYPERLINK(Table1[[#This Row],[Hyperlink]],\"Weblink\")","v":"Weblink"},"Enslow Publishing","2020","January 2020","7.125 X 8.500",null,null,null,null,null,null,null,null,"Grade 1 - 2","Grade K - 4","Look around a working farm and you will probably see some serious machinery at work. Farming today is much more reliant on machines, and each type plays an important role on the farm. With easy-to-follow text and simple definitions, each book in this set introduces readers to one specific set of farm equipment. They learn how it works and what function it serves, as well as the origins and evolution of the equipment. Fast facts and full-color photographs enhance the text, while a final activity guides readers in further exploration of each topic. Features include: Big machines are a high-interest topic that elementary school readers can't get enough of. Activities provide authentic learning opportunities for rural kids and urban kids alike. Offers technology study in spraying, bailing, planting, tilling, harvesting, and tractor equipment.","English",135.6,101.7,null,"24 pp.","https://www.enslow.com/series/Lets_Learn_About_Farm_Machines/483785",{"$f":"Table1[[#This Row],[QTY]]*Table1[[#This Row],['# of Books]]","v":0},{"$f":"Table1[[#This Row],[QTY]]*Table1[[#This Row],[School & Library Price]]","v":0}]
[null,39,null,"Let's Learn About Farm Machines","Baling Equipment",1,"Library Bound Book","978-1-9785-1307-5",{"$f":"HYPERLINK(Table1[[#This Row],[Hyperlink]],\"Weblink\")","v":"Weblink"},"Enslow Publishing","2020","January 2020","7.125 X 8.500","Author","Heather Moore Niver",null,null,null,null,"G",null,"Grade 1 - 2","Grade K - 4","Everyone knows what a hay bale looks like, but how does it get into that shape? While baling equipment might not make it into farm stories among the classic tractors, animals, and tools, its usefulness on the modern farm is indisputable. Concise text guides readers through the uses of baling equipment, how it forms round and square bales, and what happens with the hay afterward. Full-color photographs and lively language keeps them engaged and interested in learning all about the exciting equipment that makes the hay bale.","English",22.6,16.95,"631.3--dc23","24 pp.","https://www.enslow.com/books/Baling_Equipment/422128",{"$f":"Table1[[#This Row],[QTY]]*Table1[[#This Row],['# of Books]]","v":0},{"$f":"Table1[[#This Row],[QTY]]*Table1[[#This Row],[School & Library Price]]","v":0}]
[null,39,null,"Let's Learn About Farm Machines","Baling Equipment",1,"eBook","978-1-9785-1308-2",{"$f":"HYPERLINK(Table1[[#This Row],[Hyperlink]],\"Weblink\")","v":"Weblink"},"Enslow Publishing","2020","January 2020",null,"Author","Heather Moore Niver",null,null,null,null,"G",null,"Grade 1 - 2","Grade K - 4","Everyone knows what a hay bale looks like, but how does it get into that shape? While baling equipment might not make it into farm stories among the classic tractors, animals, and tools, its usefulness on the modern farm is indisputable. Concise text guides readers through the uses of baling equipment, how it forms round and square bales, and what happens with the hay afterward. Full-color photographs and lively language keeps them engaged and interested in learning all about the exciting equipment that makes the hay bale.","English",22.6,16.95,"631.3--dc23","24 pp.","https://www.enslow.com/books/Baling_Equipment/422128",{"$f":"Table1[[#This Row],[QTY]]*Table1[[#This Row],['# of Books]]","v":0},{"$f":"Table1[[#This Row],[QTY]]*Table1[[#This Row],[School & Library Price]]","v":0}]
[null,39,null,"Let's Learn About Farm Machines","Harvesting Equipment",1,"Library Bound Book","978-1-9785-1311-2",{"$f":"HYPERLINK(Table1[[#This Row],[Hyperlink]],\"Weblink\")","v":"Weblink"},"Enslow Publishing","2020","January 2020","7.125 X 8.500","Author","Therese M. Shea",null,null,null,null,"F",null,"Grade 1 - 2","Grade K - 4","Without harvesting machines to gather crops when they're ready, farming would be much more difficult and time-consuming. In the pages of this brightly designed book, budding farmers will love learning how these amazing pieces of equipment operate through clear and accessible language and vivid photographs of machines at work. Fun fact boxes add more interesting information throughout the narrative, while a concluding activity helps readers review essential concepts they should retain.","English",22.6,16.95,"631.5/50284--dc23","24 pp.","https://www.enslow.com/books/Harvesting_Equipment/422129",{"$f":"Table1[[#This Row],[QTY]]*Table1[[#This Row],['# of Books]]","v":0},{"$f":"Table1[[#This Row],[QTY]]*Table1[[#This Row],[School & Library Price]]","v":0}]
[null,39,null,"Let's Learn About Farm Machines","Harvesting Equipment",1,"eBook","978-1-9785-1312-9",{"$f":"HYPERLINK(Table1[[#This Row],[Hyperlink]],\"Weblink\")","v":"Weblink"},"Enslow Publishing","2020","January 2020",null,"Author","Therese M. Shea",null,null,null,null,"F",null,"Grade 1 - 2","Grade K - 4","Without harvesting machines to gather crops when they're ready, farming would be much more difficult and time-consuming. In the pages of this brightly designed book, budding farmers will love learning how these amazing pieces of equipment operate through clear and accessible language and vivid photographs of machines at work. Fun fact boxes add more interesting information throughout the narrative, while a concluding activity helps readers review essential concepts they should retain.","English",22.6,16.95,"631.5/50284--dc23","24 pp.","https://www.enslow.com/books/Harvesting_Equipment/422129",{"$f":"Table1[[#This Row],[QTY]]*Table1[[#This Row],['# of Books]]","v":0},{"$f":"Table1[[#This Row],[QTY]]*Table1[[#This Row],[School & Library Price]]","v":0}]
[null,39,null,"Let's Learn About Farm Machines","Planting Equipment",1,"Library Bound Book","978-1-9785-1315-0",{"$f":"HYPERLINK(Table1[[#This Row],[Hyperlink]],\"Weblink\")","v":"Weblink"},"Enslow Publishing","2020","January 2020","7.125 X 8.500","Author","Therese M. Shea",null,null,null,null,"D",null,"Grade 1 - 2","Grade K - 4","Thousands of years ago, farmers had to plant even the tiniest seeds by hand. Luckily, inventors eventually created modern farming machines that can plant seeds in just a fraction of the time it once took. Future farmers and lovers of big machines will enjoy finding out how these devices work through accessible text, fun fact boxes, and beautiful color photographs that complement key concepts. A clever concluding activity further connects young readers to the motivating content.","English",22.6,16.95,"631.5/310284--dc23","24 pp.","https://www.enslow.com/books/Planting_Equipment/422130",{"$f":"Table1[[#This Row],[QTY]]*Table1[[#This Row],['# of Books]]","v":0},{"$f":"Table1[[#This Row],[QTY]]*Table1[[#This Row],[School & Library Price]]","v":0}]
[null,39,null,"Let's Learn About Farm Machines","Planting Equipment",1,"eBook","978-1-9785-1316-7",{"$f":"HYPERLINK(Table1[[#This Row],[Hyperlink]],\"Weblink\")","v":"Weblink"},"Enslow Publishing","2020","January 2020",null,"Author","Therese M. Shea",null,null,null,null,"D",null,"Grade 1 - 2","Grade K - 4","Thousands of years ago, farmers had to plant even the tiniest seeds by hand. Luckily, inventors eventually created modern farming machines that can plant seeds in just a fraction of the time it once took. Future farmers and lovers of big machines will enjoy finding out how these devices work through accessible text, fun fact boxes, and beautiful color photographs that complement key concepts. A clever concluding activity further connects young readers to the motivating content.","English",22.6,16.95,"631.5/310284--dc23","24 pp.","https://www.enslow.com/books/Planting_Equipment/422130",{"$f":"Table1[[#This Row],[QTY]]*Table1[[#This Row],['# of Books]]","v":0},{"$f":"Table1[[#This Row],[QTY]]*Table1[[#This Row],[School & Library Price]]","v":0}]
[null,39,null,"Let's Learn About Farm Machines","Spraying Equipment",1,"Library Bound Book","978-1-9785-1319-8",{"$f":"HYPERLINK(Table1[[#This Row],[Hyperlink]],\"Weblink\")","v":"Weblink"},"Enslow Publishing","2020","January 2020","7.125 X 8.500","Author","Heather Moore Niver",null,null,null,null,"E",null,"Grade 1 - 2","Grade K - 4","Modern farms cover vast areas of land, so when it comes time to apply fertilizer or a protective insecticide, spraying equipment is incredibly useful. In this simple, colorful text, young readers are introduced to all kinds of sprayers. They find out about the huge piece of equipment that moves on its own, pull-behind models, and the smaller piece that is pulled by an all-terrain vehicle. Spirited text and simple, fun language will keep readers turning pages, learning how this fascinating equipment works.","English",22.6,16.95,"632/.94--dc23","24 pp.","https://www.enslow.com/books/Spraying_Equipment/422131",{"$f":"Table1[[#This Row],[QTY]]*Table1[[#This Row],['# of Books]]","v":0},{"$f":"Table1[[#This Row],[QTY]]*Table1[[#This Row],[School & Library Price]]","v":0}]
[null,39,null,"Let's Learn About Farm Machines","Spraying Equipment",1,"eBook","978-1-9785-1320-4",{"$f":"HYPERLINK(Table1[[#This Row],[Hyperlink]],\"Weblink\")","v":"Weblink"},"Enslow Publishing","2020","January 2020",null,"Author","Heather Moore Niver",null,null,null,null,"E",null,"Grade 1 - 2","Grade K - 4","Modern farms cover vast areas of land, so when it comes time to apply fertilizer or a protective insecticide, spraying equipment is incredibly useful. In this simple, colorful text, young readers are introduced to all kinds of sprayers. They find out about the huge piece of equipment that moves on its own, pull-behind models, and the smaller piece that is pulled by an all-terrain vehicle. Spirited text and simple, fun language will keep readers turning pages, learning how this fascinating equipment works.","English",22.6,16.95,"632/.94--dc23","24 pp.","https://www.enslow.com/books/Spraying_Equipment/422131",{"$f":"Table1[[#This Row],[QTY]]*Table1[[#This Row],['# of Books]]","v":0},{"$f":"Table1[[#This Row],[QTY]]*Table1[[#This Row],[School & Library Price]]","v":0}]
[null,39,null,"Let's Learn About Farm Machines","Tilling Equipment",1,"Library Bound Book","978-1-9785-1323-5",{"$f":"HYPERLINK(Table1[[#This Row],[Hyperlink]],\"Weblink\")","v":"Weblink"},"Enslow Publishing","2020","January 2020","7.125 X 8.500","Author","Heather Moore Niver",null,null,null,null,"J",null,"Grade 1 - 2","Grade K - 4","Before those lush fields of hay, corn, or other delicious produce can be planted with even so much as a seed, the tilling equipment comes into play. With this colorful, easy-to-follow guide, young readers will learn that tilling is far more than turning some dirt over in a field. Energetic and educational text teaches about this useful piece of farm equipment, including what it does, how it works, the different types of tilling, and when a farmer should or should not till a field. A final activity allows readers to use their knowledge in a fun way.","English",22.6,16.95,"631.3--dc23","24 pp.","https://www.enslow.com/books/Tilling_Equipment/422132",{"$f":"Table1[[#This Row],[QTY]]*Table1[[#This Row],['# of Books]]","v":0},{"$f":"Table1[[#This Row],[QTY]]*Table1[[#This Row],[School & Library Price]]","v":0}]
[null,39,null,"Let's Learn About Farm Machines","Tilling Equipment",1,"eBook","978-1-9785-1324-2",{"$f":"HYPERLINK(Table1[[#This Row],[Hyperlink]],\"Weblink\")","v":"Weblink"},"Enslow Publishing","2020","January 2020",null,"Author","Heather Moore Niver",null,null,null,null,"J",null,"Grade 1 - 2","Grade K - 4","Before those lush fields of hay, corn, or other delicious produce can be planted with even so much as a seed, the tilling equipment comes into play. With this colorful, easy-to-follow guide, young readers will learn that tilling is far more than turning some dirt over in a field. Energetic and educational text teaches about this useful piece of farm equipment, including what it does, how it works, the different types of tilling, and when a farmer should or should not till a field. A final activity allows readers to use their knowledge in a fun way.","English",22.6,16.95,"631.3--dc23","24 pp.","https://www.enslow.com/books/Tilling_Equipment/422132",{"$f":"Table1[[#This Row],[QTY]]*Table1[[#This Row],['# of Books]]","v":0},{"$f":"Table1[[#This Row],[QTY]]*Table1[[#This Row],[School & Library Price]]","v":0}]
[null,39,null,"Let's Learn About Farm Machines","Tractors",1,"Library Bound Book","978-1-9785-1327-3",{"$f":"HYPERLINK(Table1[[#This Row],[Hyperlink]],\"Weblink\")","v":"Weblink"},"Enslow Publishing","2020","January 2020","7.125 X 8.500","Author","Therese M. Shea",null,null,null,null,"C",null,"Grade 1 - 2","Grade K - 4","Tractors may be slow on roads, but don't be fooled. They're mighty machines specially made to pull extremely heavy loads as well as provide power to farm equipment. Readers will love learning about one of their favorite big machines in the bright pages of this motivating volume. The friendly, accessible text and fun fact boxes are carefully paired with vivid photographs of tractors in action. An attention-grabbing concluding activity reinforces key ideas for both future farmers and mechanical engineers.","English",22.6,16.95,"631.3/72--dc23","24 pp.","https://www.enslow.com/books/Tractors/422133",{"$f":"Table1[[#This Row],[QTY]]*Table1[[#This Row],['# of Books]]","v":0},{"$f":"Table1[[#This Row],[QTY]]*Table1[[#This Row],[School & Library Price]]","v":0}]
[null,39,null,"Let's Learn About Farm Machines","Tractors",1,"eBook","978-1-9785-1328-0",{"$f":"HYPERLINK(Table1[[#This Row],[Hyperlink]],\"Weblink\")","v":"Weblink"},"Enslow Publishing","2020","January 2020",null,"Author","Therese M. Shea",null,null,null,null,"C",null,"Grade 1 - 2","Grade K - 4","Tractors may be slow on roads, but don't be fooled. They're mighty machines specially made to pull extremely heavy loads as well as provide power to farm equipment. Readers will love learning about one of their favorite big machines in the bright pages of this motivating volume. The friendly, accessible text and fun fact boxes are carefully paired with vivid photographs of tractors in action. An attention-grabbing concluding activity reinforces key ideas for both future farmers and mechanical engineers.","English",22.6,16.95,"631.3/72--dc23","24 pp.","https://www.enslow.com/books/Tractors/422133",{"$f":"Table1[[#This Row],[QTY]]*Table1[[#This Row],['# of Books]]","v":0},{"$f":"Table1[[#This Row],[QTY]]*Table1[[#This Row],[School & Library Price]]","v":0}]
[null,40,null,"Creatures of the Paranormal","Creatures of the Paranormal",6,"Library Set","978-1-9785-1586-4",{"$f":"HYPERLINK(Table1[[#This Row],[Hyperlink]],\"Weblink\")","v":"Weblink"},"Enslow Publishing","2020","January 2020","7.250 X 9.250",null,null,null,null,null,null,null,null,"Grade 5","Grade 5 - 8","Most of modern American society views supernatural creatures as nothing more than Hollywood magic or products of an overactive imagination, but in early America, many of the people who lived here saw these spooky entities as real threats. Exciting narratives, accompanied by spine-tingling full-color images and intriguing sidebars, will help readers discover the connections between unexplained phenomena throughout the centuries and the beliefs of the time in which they took place. Students will understand how perceptions of these supernatural beings have changed over time and why they continue to dominate in literature, television, and movies. Features include: Explores popular supernatural subjects in the context of American history and culture. Correlates with the English Language Arts Standards by helping students examine the relationships between factual individuals, events, and ideas and the legends they inspired. Contains bibliographies and further reading sections to provide additional resources for study.","English",167.58,125.7,null,"48 pp.","https://www.enslow.com/series/Creatures_of_the_Paranormal/483787",{"$f":"Table1[[#This Row],[QTY]]*Table1[[#This Row],['# of Books]]","v":0},{"$f":"Table1[[#This Row],[QTY]]*Table1[[#This Row],[School & Library Price]]","v":0}]
[null,40,null,"Creatures of the Paranormal","American Aliens",1,"Library Bound Book","978-1-9785-1354-9",{"$f":"HYPERLINK(Table1[[#This Row],[Hyperlink]],\"Weblink\")","v":"Weblink"},"Enslow Publishing","2020","January 2020","7.250 X 9.250","Author","Gina Hagler",null,null,null,null,"S",null,"Grade 5","Grade 5 - 8","Do UFOs and aliens exist? Many people claim they don't. Many others are convinced that not only do they exist, but that in order to avoid widespread panic, the U.S. government released several reports that intentionally covered up all existing proof. Exciting text, accompanied by spine-tingling full-color images and intriguing sidebars, discusses some of the sightings and abductions that have been reported from around the world since the late 1800s. Readers will discover just what people have claimed to witness and experience and what the experts have to say about these strange reports.","English",27.93,20.95,"001.942--dc23","48 pp.","https://www.enslow.com/books/American_Aliens/422140",{"$f":"Table1[[#This Row],[QTY]]*Table1[[#This Row],['# of Books]]","v":0},{"$f":"Table1[[#This Row],[QTY]]*Table1[[#This Row],[School & Library Price]]","v":0}]
[null,40,null,"Creatures of the Paranormal","American Aliens",1,"eBook","978-1-9785-1355-6",{"$f":"HYPERLINK(Table1[[#This Row],[Hyperlink]],\"Weblink\")","v":"Weblink"},"Enslow Publishing","2020","January 2020",null,"Author","Gina Hagler",null,null,null,null,"S",null,"Grade 5","Grade 5 - 8","Do UFOs and aliens exist? Many people claim they don't. Many others are convinced that not only do they exist, but that in order to avoid widespread panic, the U.S. government released several reports that intentionally covered up all existing proof. Exciting text, accompanied by spine-tingling full-color images and intriguing sidebars, discusses some of the sightings and abductions that have been reported from around the world since the late 1800s. Readers will discover just what people have claimed to witness and experience and what the experts have to say about these strange reports.","English",27.93,20.95,"001.942--dc23","48 pp.","https://www.enslow.com/books/American_Aliens/422140",{"$f":"Table1[[#This Row],[QTY]]*Table1[[#This Row],['# of Books]]","v":0},{"$f":"Table1[[#This Row],[QTY]]*Table1[[#This Row],[School & Library Price]]","v":0}]
[null,40,null,"Creatures of the Paranormal","American Ghosts",1,"Library Bound Book","978-1-9785-1357-0",{"$f":"HYPERLINK(Table1[[#This Row],[Hyperlink]],\"Weblink\")","v":"Weblink"},"Enslow Publishing","2020","January 2020","7.250 X 9.250","Author","Kate Mikoley",null,null,null,null,"T",null,"Grade 5","Grade 5 - 8","From movies, books, and television to the stories told around campfires, ghosts are a big part of American culture. Many believe these creatures exist only within the stories people tell, but that doesn't mean they're not still fascinated with the idea of ghosts. This innovative volume explores stories of these supernatural beings throughout American history. Through an enthralling narrative, spooky images, and fascinating sidebars, readers will learn about legends featuring many different kinds of ghosts and examine how they relate to the events and people that inspired the popular tales.","English",27.93,20.95,"133.10973--dc23","48 pp.","https://www.enslow.com/books/American_Ghosts/422141",{"$f":"Table1[[#This Row],[QTY]]*Table1[[#This Row],['# of Books]]","v":0},{"$f":"Table1[[#This Row],[QTY]]*Table1[[#This Row],[School & Library Price]]","v":0}]
[null,40,null,"Creatures of the Paranormal","American Ghosts",1,"eBook","978-1-9785-1358-7",{"$f":"HYPERLINK(Table1[[#This Row],[Hyperlink]],\"Weblink\")","v":"Weblink"},"Enslow Publishing","2020","January 2020",null,"Author","Kate Mikoley",null,null,null,null,"T",null,"Grade 5","Grade 5 - 8","From movies, books, and television to the stories told around campfires, ghosts are a big part of American culture. Many believe these creatures exist only within the stories people tell, but that doesn't mean they're not still fascinated with the idea of ghosts. This innovative volume explores stories of these supernatural beings throughout American history. Through an enthralling narrative, spooky images, and fascinating sidebars, readers will learn about legends featuring many different kinds of ghosts and examine how they relate to the events and people that inspired the popular tales.","English",27.93,20.95,"133.10973--dc23","48 pp.","https://www.enslow.com/books/American_Ghosts/422141",{"$f":"Table1[[#This Row],[QTY]]*Table1[[#This Row],['# of Books]]","v":0},{"$f":"Table1[[#This Row],[QTY]]*Table1[[#This Row],[School & Library Price]]","v":0}]
[null,40,null,"Creatures of the Paranormal","American Vampires",1,"Library Bound Book","978-1-9785-1360-0",{"$f":"HYPERLINK(Table1[[#This Row],[Hyperlink]],\"Weblink\")","v":"Weblink"},"Enslow Publishing","2020","January 2020","7.250 X 9.250","Author","Linda R. Baker",null,null,null,null,"T",null,"Grade 5","Grade 5 - 8","Most people today see vampires as entertaining supernatural creatures popularized by the many book, television, and movie series that abound in popular fiction, but where do these stories originate? Many cultures around the world have tales of undead blood-sucking creatures. Exploring these supernatural beings within the context of American historical accounts and legends will enable students to understand the relationship between the time in which such stories were believed and the actual events that inspired them. Accompanied by full-color images and sidebars with fascinating details, this volume will capture the interest of any student intrigued by vampire stories.","English",27.93,20.95,"398.21--dc23","48 pp.","https://www.enslow.com/books/American_Vampires/422142",{"$f":"Table1[[#This Row],[QTY]]*Table1[[#This Row],['# of Books]]","v":0},{"$f":"Table1[[#This Row],[QTY]]*Table1[[#This Row],[School & Library Price]]","v":0}]
[null,40,null,"Creatures of the Paranormal","American Vampires",1,"eBook","978-1-9785-1361-7",{"$f":"HYPERLINK(Table1[[#This Row],[Hyperlink]],\"Weblink\")","v":"Weblink"},"Enslow Publishing","2020","January 2020",null,"Author","Linda R. Baker",null,null,null,null,"T",null,"Grade 5","Grade 5 - 8","Most people today see vampires as entertaining supernatural creatures popularized by the many book, television, and movie series that abound in popular fiction, but where do these stories originate? Many cultures around the world have tales of undead blood-sucking creatures. Exploring these supernatural beings within the context of American historical accounts and legends will enable students to understand the relationship between the time in which such stories were believed and the actual events that inspired them. Accompanied by full-color images and sidebars with fascinating details, this volume will capture the interest of any student intrigued by vampire stories.","English",27.93,20.95,"398.21--dc23","48 pp.","https://www.enslow.com/books/American_Vampires/422142",{"$f":"Table1[[#This Row],[QTY]]*Table1[[#This Row],['# of Books]]","v":0},{"$f":"Table1[[#This Row],[QTY]]*Table1[[#This Row],[School & Library Price]]","v":0}]
[null,40,null,"Creatures of the Paranormal","American Werewolves",1,"Library Bound Book","978-1-9785-1363-1",{"$f":"HYPERLINK(Table1[[#This Row],[Hyperlink]],\"Weblink\")","v":"Weblink"},"Enslow Publishing","2020","January 2020","7.250 X 9.250","Author","Linda R. Baker",null,null,null,null,"V",null,"Grade 5","Grade 5 - 8","Stories of werewolves originate in one form or another in many cultures. Accompanied by vivid color illustrations and intriguing sidebars, this thrilling text draws the connection between popular fiction and the actual events and legends that inspired werewolf tales in the Americas. Students will explore the relationship between the historical perceptions of true events and the scary, life-threatening stories they engendered. Readers will examine how perceptions of these supernatural beings have changed over time and why they continue to dominate in literature, television, and movies.","English",27.93,20.95,"398.24/54--dc23","48 pp.","https://www.enslow.com/books/American_Werewolves/422143",{"$f":"Table1[[#This Row],[QTY]]*Table1[[#This Row],['# of Books]]","v":0},{"$f":"Table1[[#This Row],[QTY]]*Table1[[#This Row],[School & Library Price]]","v":0}]
[null,40,null,"Creatures of the Paranormal","American Werewolves",1,"eBook","978-1-9785-1364-8",{"$f":"HYPERLINK(Table1[[#This Row],[Hyperlink]],\"Weblink\")","v":"Weblink"},"Enslow Publishing","2020","January 2020",null,"Author","Linda R. Baker",null,null,null,null,"V",null,"Grade 5","Grade 5 - 8","Stories of werewolves originate in one form or another in many cultures. Accompanied by vivid color illustrations and intriguing sidebars, this thrilling text draws the connection between popular fiction and the actual events and legends that inspired werewolf tales in the Americas. Students will explore the relationship between the historical perceptions of true events and the scary, life-threatening stories they engendered. Readers will examine how perceptions of these supernatural beings have changed over time and why they continue to dominate in literature, television, and movies.","English",27.93,20.95,"398.24/54--dc23","48 pp.","https://www.enslow.com/books/American_Werewolves/422143",{"$f":"Table1[[#This Row],[QTY]]*Table1[[#This Row],['# of Books]]","v":0},{"$f":"Table1[[#This Row],[QTY]]*Table1[[#This Row],[School & Library Price]]","v":0}]
[null,40,null,"Creatures of the Paranormal","American Witches",1,"Library Bound Book","978-1-9785-1366-2",{"$f":"HYPERLINK(Table1[[#This Row],[Hyperlink]],\"Weblink\")","v":"Weblink"},"Enslow Publishing","2020","January 2020","7.250 X 9.250","Author","Angela Timmons-Hanselka",null,null,null,null,"U",null,"Grade 5","Grade 5 - 8","From ancient times to early America to modern times, witches have fascinated nearly every culture. Readers will explore elements and folklore commonly associated with witchcraft, the hysteria about witches in early America and its causes, and modern-day witchcraft. They'll examine how witches have influenced artistic expression, from ancient classics such as The Odyssey to contemporary depictions in popular books, television shows, and movies. Photographs, illustrations, and sidebars draw learners to exciting concepts and evocative images that give meaningful context to the evolution of these supernatural beings in our history and our modern perceptions.","English",27.93,20.95,"133.4/309--dc23","48 pp.","https://www.enslow.com/books/American_Witches/422144",{"$f":"Table1[[#This Row],[QTY]]*Table1[[#This Row],['# of Books]]","v":0},{"$f":"Table1[[#This Row],[QTY]]*Table1[[#This Row],[School & Library Price]]","v":0}]
[null,40,null,"Creatures of the Paranormal","American Witches",1,"eBook","978-1-9785-1367-9",{"$f":"HYPERLINK(Table1[[#This Row],[Hyperlink]],\"Weblink\")","v":"Weblink"},"Enslow Publishing","2020","January 2020",null,"Author","Angela Timmons-Hanselka",null,null,null,null,"U",null,"Grade 5","Grade 5 - 8","From ancient times to early America to modern times, witches have fascinated nearly every culture. Readers will explore elements and folklore commonly associated with witchcraft, the hysteria about witches in early America and its causes, and modern-day witchcraft. They'll examine how witches have influenced artistic expression, from ancient classics such as The Odyssey to contemporary depictions in popular books, television shows, and movies. Photographs, illustrations, and sidebars draw learners to exciting concepts and evocative images that give meaningful context to the evolution of these supernatural beings in our history and our modern perceptions.","English",27.93,20.95,"133.4/309--dc23","48 pp.","https://www.enslow.com/books/American_Witches/422144",{"$f":"Table1[[#This Row],[QTY]]*Table1[[#This Row],['# of Books]]","v":0},{"$f":"Table1[[#This Row],[QTY]]*Table1[[#This Row],[School & Library Price]]","v":0}]
[null,40,null,"Creatures of the Paranormal","American Zombies",1,"Library Bound Book","978-1-9785-1369-3",{"$f":"HYPERLINK(Table1[[#This Row],[Hyperlink]],\"Weblink\")","v":"Weblink"},"Enslow Publishing","2020","January 2020","7.250 X 9.250","Author","Kate Mikoley",null,null,null,null,"T",null,"Grade 5","Grade 5 - 8","For years, zombies have been a staple in horror movies. More recently, they've become a popular topic in many television shows as well. Throughout American history, people have told tales of those who have died but not quite left their bodies behind. The undead come in many forms depending on the specific legend. Through engaging text, accompanied by captivatingly creepy images and informative sidebars, readers will learn how the stories told about zombies have changed over the years, along with people's beliefs about them. This intriguing volume is a must-have for those interested in the paranormal.","English",27.93,20.95,"398.21--dc23","48 pp.","https://www.enslow.com/books/American_Zombies/422145",{"$f":"Table1[[#This Row],[QTY]]*Table1[[#This Row],['# of Books]]","v":0},{"$f":"Table1[[#This Row],[QTY]]*Table1[[#This Row],[School & Library Price]]","v":0}]
[null,40,null,"Creatures of the Paranormal","American Zombies",1,"eBook","978-1-9785-1370-9",{"$f":"HYPERLINK(Table1[[#This Row],[Hyperlink]],\"Weblink\")","v":"Weblink"},"Enslow Publishing","2020","January 2020",null,"Author","Kate Mikoley",null,null,null,null,"T",null,"Grade 5","Grade 5 - 8","For years, zombies have been a staple in horror movies. More recently, they've become a popular topic in many television shows as well. Throughout American history, people have told tales of those who have died but not quite left their bodies behind. The undead come in many forms depending on the specific legend. Through engaging text, accompanied by captivatingly creepy images and informative sidebars, readers will learn how the stories told about zombies have changed over the years, along with people's beliefs about them. This intriguing volume is a must-have for those interested in the paranormal.","English",27.93,20.95,"398.21--dc23","48 pp.","https://www.enslow.com/books/American_Zombies/422145",{"$f":"Table1[[#This Row],[QTY]]*Table1[[#This Row],['# of Books]]","v":0},{"$f":"Table1[[#This Row],[QTY]]*Table1[[#This Row],[School & Library Price]]","v":0}]
[null,41,null,"The Unofficial Fortnite® Survival Guide","The Unofficial Fortnite® Survival Guide",8,"Library Set","978-1-9785-1700-4",{"$f":"HYPERLINK(Table1[[#This Row],[Hyperlink]],\"Weblink\")","v":"Weblink"},"Enslow Publishing","2020","January 2020","6.500 X 9.125",null,null,null,null,null,null,null,null,"Grade 5","Grade 5 - 8","Fortnite by Epic Games is one of the most popular, engaging video games of the last decade. Players fight for survival after being dropped on an island with only their wits. This comprehensive and fun set gives Fortnite newbies the tools they need to join the fight: how to find resources, build, design, plan, and stay alive in the game's colorful open-world environment. Step-by-step tips and tricks on potions and other consumables, the layout of the island, game strategy, and how to be an honorable player and a good ally, among other valuable topics, give players an extra advantage. Features include: Encourages gamers to engage in online multiplayer games that appeal to a broad all-ages group of players, encourage social interaction, cooperative gameplay, and healthy competition. Focus on healthy, positive gameplay is valuable for players of all ages and genders. Helps players build and use strategy, which is a valuable tool for school and post-school life.","English",202,151.6,null,"32 pp.","https://www.enslow.com/series/The_Unofficial_Fortnite®_Survival_Guide/484124",{"$f":"Table1[[#This Row],[QTY]]*Table1[[#This Row],['# of Books]]","v":0},{"$f":"Table1[[#This Row],[QTY]]*Table1[[#This Row],[School & Library Price]]","v":0}]
[null,41,null,"The Unofficial Fortnite® Survival Guide","Acquiring and Using Potions and Consumables in Fortnite®",1,"Library Bound Book","978-1-9785-1705-9",{"$f":"HYPERLINK(Table1[[#This Row],[Hyperlink]],\"Weblink\")","v":"Weblink"},"Enslow Publishing","2020","January 2020","6.500 X 9.125","Author","Jessica Shaw",null,null,null,null,"T",null,"Grade 5","Grade 5 - 8","The video game industry has grown by leaps and bounds in the last few decades, with some games attracting a massive following. Launched by Epic Games in 2017, Fortnite has quickly become one of the most popular video games ever created. Each round of Fortnite brings unique obstacles and challenges, requiring split-second decision making. This instructive guide offers gamers an in-depth look at the potions and consumables needed to survive a Fortnite match, including specific information on where to find each of them, how long they take to use, and how much they boost a player's shield or health meter.","English",25.25,18.95,"794.8--dc23","32 pp.","https://www.enslow.com/books/Acquiring_and_Using_Potions_and_Consumables_in_Fortnite®/422166",{"$f":"Table1[[#This Row],[QTY]]*Table1[[#This Row],['# of Books]]","v":0},{"$f":"Table1[[#This Row],[QTY]]*Table1[[#This Row],[School & Library Price]]","v":0}]
[null,41,null,"The Unofficial Fortnite® Survival Guide","Acquiring and Using Potions and Consumables in Fortnite®",1,"eBook","978-1-9785-1706-6",{"$f":"HYPERLINK(Table1[[#This Row],[Hyperlink]],\"Weblink\")","v":"Weblink"},"Enslow Publishing","2020","January 2020",null,"Author","Jessica Shaw",null,null,null,null,"T",null,"Grade 5","Grade 5 - 8","The video game industry has grown by leaps and bounds in the last few decades, with some games attracting a massive following. Launched by Epic Games in 2017, Fortnite has quickly become one of the most popular video games ever created. Each round of Fortnite brings unique obstacles and challenges, requiring split-second decision making. This instructive guide offers gamers an in-depth look at the potions and consumables needed to survive a Fortnite match, including specific information on where to find each of them, how long they take to use, and how much they boost a player's shield or health meter.","English",25.25,18.95,"794.8--dc23","32 pp.","https://www.enslow.com/books/Acquiring_and_Using_Potions_and_Consumables_in_Fortnite®/422166",{"$f":"Table1[[#This Row],[QTY]]*Table1[[#This Row],['# of Books]]","v":0},{"$f":"Table1[[#This Row],[QTY]]*Table1[[#This Row],[School & Library Price]]","v":0}]
[null,41,null,"The Unofficial Fortnite® Survival Guide","Building Structures and Collecting Resources in Fortnite®",1,"Library Bound Book","978-1-9785-1709-7",{"$f":"HYPERLINK(Table1[[#This Row],[Hyperlink]],\"Weblink\")","v":"Weblink"},"Enslow Publishing","2020","January 2020","6.500 X 9.125","Author","Janet Harvey",null,null,null,null,"S",null,"Grade 5","Grade 5 - 8","Since the launch of Fortnite in 2017, the game has taken the world by storm. If a player wants to survive that storm, they're going to have to start building. One of the key elements of Fortnite gameplay is building structures that can withstand attacks from other players. This comprehensive guide to building takes players through collecting resources and then using them to create a place to heal, a place to lodge an attack, or a place to just ride out the storm.","English",25.25,18.95,"794.8--dc23","32 pp.","https://www.enslow.com/books/Building_Structures_and_Collecting_Resources_in_Fortnite®/422167",{"$f":"Table1[[#This Row],[QTY]]*Table1[[#This Row],['# of Books]]","v":0},{"$f":"Table1[[#This Row],[QTY]]*Table1[[#This Row],[School & Library Price]]","v":0}]
[null,41,null,"The Unofficial Fortnite® Survival Guide","Building Structures and Collecting Resources in Fortnite®",1,"eBook","978-1-9785-1710-3",{"$f":"HYPERLINK(Table1[[#This Row],[Hyperlink]],\"Weblink\")","v":"Weblink"},"Enslow Publishing","2020","January 2020",null,"Author","Janet Harvey",null,null,null,null,"S",null,"Grade 5","Grade 5 - 8","Since the launch of Fortnite in 2017, the game has taken the world by storm. If a player wants to survive that storm, they're going to have to start building. One of the key elements of Fortnite gameplay is building structures that can withstand attacks from other players. This comprehensive guide to building takes players through collecting resources and then using them to create a place to heal, a place to lodge an attack, or a place to just ride out the storm.","English",25.25,18.95,"794.8--dc23","32 pp.","https://www.enslow.com/books/Building_Structures_and_Collecting_Resources_in_Fortnite®/422167",{"$f":"Table1[[#This Row],[QTY]]*Table1[[#This Row],['# of Books]]","v":0},{"$f":"Table1[[#This Row],[QTY]]*Table1[[#This Row],[School & Library Price]]","v":0}]
[null,41,null,"The Unofficial Fortnite® Survival Guide","Choosing Your Costume in Fortnite®",1,"Library Bound Book","978-1-9785-1713-4",{"$f":"HYPERLINK(Table1[[#This Row],[Hyperlink]],\"Weblink\")","v":"Weblink"},"Enslow Publishing","2020","January 2020","6.500 X 9.125","Author","Sharon Chriscoe",null,null,null,null,"U",null,"Grade 5","Grade 5 - 8","Choosing the right Fortnite skin for your game is essential! They give you energy, make you feel powerful, or even allow you to hide in plain sight for a stealth attack. A gamer's skin plays a huge role in how well he or she performs against opponents. This enlightening volume offers readers strategic tips on what to look for when choosing a skin, along with a deeper understanding as to why they may be choosing the skin they are in.","English",25.25,18.95,"794.8--dc23","32 pp.","https://www.enslow.com/books/Choosing_Your_Costume_in_Fortnite®/422168",{"$f":"Table1[[#This Row],[QTY]]*Table1[[#This Row],['# of Books]]","v":0},{"$f":"Table1[[#This Row],[QTY]]*Table1[[#This Row],[School & Library Price]]","v":0}]
[null,41,null,"The Unofficial Fortnite® Survival Guide","Choosing Your Costume in Fortnite®",1,"eBook","978-1-9785-1714-1",{"$f":"HYPERLINK(Table1[[#This Row],[Hyperlink]],\"Weblink\")","v":"Weblink"},"Enslow Publishing","2020","January 2020",null,"Author","Sharon Chriscoe",null,null,null,null,"U",null,"Grade 5","Grade 5 - 8","Choosing the right Fortnite skin for your game is essential! They give you energy, make you feel powerful, or even allow you to hide in plain sight for a stealth attack. A gamer's skin plays a huge role in how well he or she performs against opponents. This enlightening volume offers readers strategic tips on what to look for when choosing a skin, along with a deeper understanding as to why they may be choosing the skin they are in.","English",25.25,18.95,"794.8--dc23","32 pp.","https://www.enslow.com/books/Choosing_Your_Costume_in_Fortnite®/422168",{"$f":"Table1[[#This Row],[QTY]]*Table1[[#This Row],['# of Books]]","v":0},{"$f":"Table1[[#This Row],[QTY]]*Table1[[#This Row],[School & Library Price]]","v":0}]
[null,41,null,"The Unofficial Fortnite® Survival Guide","Finding Weapons and Arming Yourself in Fortnite®",1,"Library Bound Book","978-1-9785-1717-2",{"$f":"HYPERLINK(Table1[[#This Row],[Hyperlink]],\"Weblink\")","v":"Weblink"},"Enslow Publishing","2020","January 2020","6.500 X 9.125","Author","Mary-Lane Kamberg",null,null,null,null,"V",null,"Grade 5","Grade 5 - 8","Choosing and using weapons are keys to success in the Fortnite video game, and the Epic Games studio has provided a wide array of guns and explosives to defend the gamer and attack enemies. Players must find and select a maximum of five weapons at a time as they maneuver through the game's map. Different situations demand different choices for close encounters and attacks at a distance. In some cases, gamers need both close-range and long-range weapons for the same attack. In this explosive volume, readers will learn the strengths and weaknesses of each choice, along with tips for exciting play.","English",25.25,18.95,"794.8--dc23","32 pp.","https://www.enslow.com/books/Finding_Weapons_and_Arming_Yourself_in_Fortnite®/422169",{"$f":"Table1[[#This Row],[QTY]]*Table1[[#This Row],['# of Books]]","v":0},{"$f":"Table1[[#This Row],[QTY]]*Table1[[#This Row],[School & Library Price]]","v":0}]
[null,41,null,"The Unofficial Fortnite® Survival Guide","Finding Weapons and Arming Yourself in Fortnite®",1,"eBook","978-1-9785-1718-9",{"$f":"HYPERLINK(Table1[[#This Row],[Hyperlink]],\"Weblink\")","v":"Weblink"},"Enslow Publishing","2020","January 2020",null,"Author","Mary-Lane Kamberg",null,null,null,null,"V",null,"Grade 5","Grade 5 - 8","Choosing and using weapons are keys to success in the Fortnite video game, and the Epic Games studio has provided a wide array of guns and explosives to defend the gamer and attack enemies. Players must find and select a maximum of five weapons at a time as they maneuver through the game's map. Different situations demand different choices for close encounters and attacks at a distance. In some cases, gamers need both close-range and long-range weapons for the same attack. In this explosive volume, readers will learn the strengths and weaknesses of each choice, along with tips for exciting play.","English",25.25,18.95,"794.8--dc23","32 pp.","https://www.enslow.com/books/Finding_Weapons_and_Arming_Yourself_in_Fortnite®/422169",{"$f":"Table1[[#This Row],[QTY]]*Table1[[#This Row],['# of Books]]","v":0},{"$f":"Table1[[#This Row],[QTY]]*Table1[[#This Row],[School & Library Price]]","v":0}]
[null,41,null,"The Unofficial Fortnite® Survival Guide","Learning the Island Landscape in Fortnite®",1,"Library Bound Book","978-1-9785-1721-9",{"$f":"HYPERLINK(Table1[[#This Row],[Hyperlink]],\"Weblink\")","v":"Weblink"},"Enslow Publishing","2020","January 2020","6.500 X 9.125","Author","Carla Mooney",null,null,null,null,"S",null,"Grade 5","Grade 5 - 8","In Fortnite Battle Royale, knowing the layout of the island is key to landing that coveted Victory Royale, and earning all those bragging rights that come with it. The island itself is littered with building materials, potions, weapons, and other valuable resources, and knowing where to look for them gives a player a huge advantage when a match begins. This illuminating guide helps players to map out the island landscape, learn where to land, how to move around, and how to take advantage of every hill, tree, and crevasse.","English",25.25,18.95,"794.8--dc23","32 pp.","https://www.enslow.com/books/Learning_the_Island_Landscape_in_Fortnite®/422170",{"$f":"Table1[[#This Row],[QTY]]*Table1[[#This Row],['# of Books]]","v":0},{"$f":"Table1[[#This Row],[QTY]]*Table1[[#This Row],[School & Library Price]]","v":0}]
[null,41,null,"The Unofficial Fortnite® Survival Guide","Learning the Island Landscape in Fortnite®",1,"eBook","978-1-9785-1722-6",{"$f":"HYPERLINK(Table1[[#This Row],[Hyperlink]],\"Weblink\")","v":"Weblink"},"Enslow Publishing","2020","January 2020",null,"Author","Carla Mooney",null,null,null,null,"S",null,"Grade 5","Grade 5 - 8","In Fortnite Battle Royale, knowing the layout of the island is key to landing that coveted Victory Royale, and earning all those bragging rights that come with it. The island itself is littered with building materials, potions, weapons, and other valuable resources, and knowing where to look for them gives a player a huge advantage when a match begins. This illuminating guide helps players to map out the island landscape, learn where to land, how to move around, and how to take advantage of every hill, tree, and crevasse.","English",25.25,18.95,"794.8--dc23","32 pp.","https://www.enslow.com/books/Learning_the_Island_Landscape_in_Fortnite®/422170",{"$f":"Table1[[#This Row],[QTY]]*Table1[[#This Row],['# of Books]]","v":0},{"$f":"Table1[[#This Row],[QTY]]*Table1[[#This Row],[School & Library Price]]","v":0}]
[null,41,null,"The Unofficial Fortnite® Survival Guide","Perfecting Your Dance Moves in Fortnite®",1,"Library Bound Book","978-1-9785-1725-7",{"$f":"HYPERLINK(Table1[[#This Row],[Hyperlink]],\"Weblink\")","v":"Weblink"},"Enslow Publishing","2020","January 2020","6.500 X 9.125","Author","Tracy Brown Hamilton",null,null,null,null,"T",null,"Grade 5","Grade 5 - 8","In a survival-focused game like Fortnite, danger lurks around every corner, which is why it's important to just cut loose sometimes. Luckily, this groundbreaking video game gives players a chance to try out a number of dance moves. This hip-shaking volume focuses on how dancing can be used strategically to a player's advantage. As a player levels up, they get access to more these moves, allowing them to bring to the game their own sense of style. Encourage your players to get out and practice their own dance moves, movement, and individuality.","English",25.25,18.95,"794.8--dc23","32 pp.","https://www.enslow.com/books/Perfecting_Your_Dance_Moves_in_Fortnite®/422171",{"$f":"Table1[[#This Row],[QTY]]*Table1[[#This Row],['# of Books]]","v":0},{"$f":"Table1[[#This Row],[QTY]]*Table1[[#This Row],[School & Library Price]]","v":0}]
[null,41,null,"The Unofficial Fortnite® Survival Guide","Perfecting Your Dance Moves in Fortnite®",1,"eBook","978-1-9785-1726-4",{"$f":"HYPERLINK(Table1[[#This Row],[Hyperlink]],\"Weblink\")","v":"Weblink"},"Enslow Publishing","2020","January 2020",null,"Author","Tracy Brown Hamilton",null,null,null,null,"T",null,"Grade 5","Grade 5 - 8","In a survival-focused game like Fortnite, danger lurks around every corner, which is why it's important to just cut loose sometimes. Luckily, this groundbreaking video game gives players a chance to try out a number of dance moves. This hip-shaking volume focuses on how dancing can be used strategically to a player's advantage. As a player levels up, they get access to more these moves, allowing them to bring to the game their own sense of style. Encourage your players to get out and practice their own dance moves, movement, and individuality.","English",25.25,18.95,"794.8--dc23","32 pp.","https://www.enslow.com/books/Perfecting_Your_Dance_Moves_in_Fortnite®/422171",{"$f":"Table1[[#This Row],[QTY]]*Table1[[#This Row],['# of Books]]","v":0},{"$f":"Table1[[#This Row],[QTY]]*Table1[[#This Row],[School & Library Price]]","v":0}]
[null,41,null,"The Unofficial Fortnite® Survival Guide","Playing Nice with Others in Fortnite®",1,"Library Bound Book","978-1-9785-1729-5",{"$f":"HYPERLINK(Table1[[#This Row],[Hyperlink]],\"Weblink\")","v":"Weblink"},"Enslow Publishing","2020","January 2020","6.500 X 9.125","Author","Ray Stern",null,null,null,null,"V",null,"Grade 5","Grade 5 - 8","One of the most valuable resources in Fortnite is the players! Anyone who engages in online play knows that one player coming in with a bad attitude can ruin the fun for everyone. Being the best player is about more than victory. It's about communicating well with others, knowing and accounting for strengths and weaknesses, and taking a break when game stress takes over. This thoughtful volume asks players to step back and consider what it means to be great at Fortnite. It encourages online safety and strategies for keeping a cool head in the chaos of a game battle.","English",25.25,18.95,"794.8--dc23","32 pp.","https://www.enslow.com/books/Playing_Nice_with_Others_in_Fortnite®/422172",{"$f":"Table1[[#This Row],[QTY]]*Table1[[#This Row],['# of Books]]","v":0},{"$f":"Table1[[#This Row],[QTY]]*Table1[[#This Row],[School & Library Price]]","v":0}]
[null,41,null,"The Unofficial Fortnite® Survival Guide","Playing Nice with Others in Fortnite®",1,"eBook","978-1-9785-1730-1",{"$f":"HYPERLINK(Table1[[#This Row],[Hyperlink]],\"Weblink\")","v":"Weblink"},"Enslow Publishing","2020","January 2020",null,"Author","Ray Stern",null,null,null,null,"V",null,"Grade 5","Grade 5 - 8","One of the most valuable resources in Fortnite is the players! Anyone who engages in online play knows that one player coming in with a bad attitude can ruin the fun for everyone. Being the best player is about more than victory. It's about communicating well with others, knowing and accounting for strengths and weaknesses, and taking a break when game stress takes over. This thoughtful volume asks players to step back and consider what it means to be great at Fortnite. It encourages online safety and strategies for keeping a cool head in the chaos of a game battle.","English",25.25,18.95,"794.8--dc23","32 pp.","https://www.enslow.com/books/Playing_Nice_with_Others_in_Fortnite®/422172",{"$f":"Table1[[#This Row],[QTY]]*Table1[[#This Row],['# of Books]]","v":0},{"$f":"Table1[[#This Row],[QTY]]*Table1[[#This Row],[School & Library Price]]","v":0}]
[null,41,null,"The Unofficial Fortnite® Survival Guide","Setting and Using Traps in Fortnite®",1,"Library Bound Book","978-1-9785-1733-2",{"$f":"HYPERLINK(Table1[[#This Row],[Hyperlink]],\"Weblink\")","v":"Weblink"},"Enslow Publishing","2020","January 2020","6.500 X 9.125","Author","Carla Mooney",null,null,null,null,"U",null,"Grade 5","Grade 5 - 8","One of the best strategies in a video game is lying low and waiting for an opponent to come along and stumble into a well-devised trap. Fortnite is no exception, with traps that can inflict damage, stun, or even launch an enemy when placed on a wall, ceiling, or floor. Analyzing and summarizing the different types of traps, where to place them, and how best to use them to a player's advantage, this volume gives readers new ways to inflict a high level of damage, often while keeping their own fighters out of harm's way.","English",25.25,18.95,"794.8--dc23","32 pp.","https://www.enslow.com/books/Setting_and_Using_Traps_in_Fortnite®/422173",{"$f":"Table1[[#This Row],[QTY]]*Table1[[#This Row],['# of Books]]","v":0},{"$f":"Table1[[#This Row],[QTY]]*Table1[[#This Row],[School & Library Price]]","v":0}]
[null,41,null,"The Unofficial Fortnite® Survival Guide","Setting and Using Traps in Fortnite®",1,"eBook","978-1-9785-1734-9",{"$f":"HYPERLINK(Table1[[#This Row],[Hyperlink]],\"Weblink\")","v":"Weblink"},"Enslow Publishing","2020","January 2020",null,"Author","Carla Mooney",null,null,null,null,"U",null,"Grade 5","Grade 5 - 8","One of the best strategies in a video game is lying low and waiting for an opponent to come along and stumble into a well-devised trap. Fortnite is no exception, with traps that can inflict damage, stun, or even launch an enemy when placed on a wall, ceiling, or floor. Analyzing and summarizing the different types of traps, where to place them, and how best to use them to a player's advantage, this volume gives readers new ways to inflict a high level of damage, often while keeping their own fighters out of harm's way.","English",25.25,18.95,"794.8--dc23","32 pp.","https://www.enslow.com/books/Setting_and_Using_Traps_in_Fortnite®/422173",{"$f":"Table1[[#This Row],[QTY]]*Table1[[#This Row],['# of Books]]","v":0},{"$f":"Table1[[#This Row],[QTY]]*Table1[[#This Row],[School & Library Price]]","v":0}]
[null,42,null,"Weather Explorers","Weather Explorers",4,"Library Set","978-1-9785-2071-4",{"$f":"HYPERLINK(Table1[[#This Row],[Hyperlink]],\"Weblink\")","v":"Weblink"},"Enslow Publishing","2021","August 2020","8.500 X 8.500",null,null,null,null,null,null,null,null,"Grade 1 - 2","Grade K - 3","Weather can be mild or wild, but it's always interesting. Weather affects our lives in so many ways, including the clothes we wear, the places we live, and how we play. This delightful set introduces seasonal facets of weather for young readers and describes the science behind why they happen. Readers will study related weather events, such as tornadoes and floods. Simple, accessible sentences are coupled with appealing images that support key science concepts. Features include: Labeled photographs to help readers connect ideas with the content of the texts. \"Did You Know?\" chapters offer stimulating facts. Supports Weather and Climate, which is a significant section of the Next Generation Science Standards for elementary grades.","English",90.4,67.8,null,"24 pp.","https://www.enslow.com/series/Weather_Explorers/494340",{"$f":"Table1[[#This Row],[QTY]]*Table1[[#This Row],['# of Books]]","v":0},{"$f":"Table1[[#This Row],[QTY]]*Table1[[#This Row],[School & Library Price]]","v":0}]
[null,42,null,"Weather Explorers","Rain",1,"Library Bound Book","978-1-9785-2056-1",{"$f":"HYPERLINK(Table1[[#This Row],[Hyperlink]],\"Weblink\")","v":"Weblink"},"Enslow Publishing","2021","August 2020","8.500 X 8.500","Author","Harriet Brundle",null,null,null,null,"I",null,"Grade 1 - 2","Grade K - 3","Whether a drizzle or a downpour, if you're not prepared for rain, it can ruin the day. On the other hand, rain can be fun to play in, and it is an essential element to life on Earth. Young readers learn how rain forms and about the water cycle, which are important concepts of the early elementary science curriculum. They'll learn about rain's significance to plants and animals. Carefully selected images support the well-crafted, accessible narrative, making this book perfect for visual learners.","English",22.6,16.95,"551.57'7--dc23","24 pp.","https://www.enslow.com/books/Rain/422273",{"$f":"Table1[[#This Row],[QTY]]*Table1[[#This Row],['# of Books]]","v":0},{"$f":"Table1[[#This Row],[QTY]]*Table1[[#This Row],[School & Library Price]]","v":0}]
[null,42,null,"Weather Explorers","Rain",1,"eBook","978-1-9785-2057-8",{"$f":"HYPERLINK(Table1[[#This Row],[Hyperlink]],\"Weblink\")","v":"Weblink"},"Enslow Publishing","2021","August 2020",null,"Author","Harriet Brundle",null,null,null,null,"I",null,"Grade 1 - 2","Grade K - 3","Whether a drizzle or a downpour, if you're not prepared for rain, it can ruin the day. On the other hand, rain can be fun to play in, and it is an essential element to life on Earth. Young readers learn how rain forms and about the water cycle, which are important concepts of the early elementary science curriculum. They'll learn about rain's significance to plants and animals. Carefully selected images support the well-crafted, accessible narrative, making this book perfect for visual learners.","English",22.6,16.95,"551.57'7--dc23","24 pp.","https://www.enslow.com/books/Rain/422273",{"$f":"Table1[[#This Row],[QTY]]*Table1[[#This Row],['# of Books]]","v":0},{"$f":"Table1[[#This Row],[QTY]]*Table1[[#This Row],[School & Library Price]]","v":0}]
[null,42,null,"Weather Explorers","Snow",1,"Library Bound Book","978-1-9785-2060-8",{"$f":"HYPERLINK(Table1[[#This Row],[Hyperlink]],\"Weblink\")","v":"Weblink"},"Enslow Publishing","2021","August 2020","8.500 X 8.500","Author","Harriet Brundle",null,null,null,null,"I",null,"Grade 1 - 2","Grade K - 3","Softly floating flakes of snow seem a bit magical, but real science is behind this chilly precipitation. Your readers will learn about the formation of snow through the accessible text of this inviting volume. They'll learn how snow is important to plants and animals. Arresting photographs that include up-close images of snowflakes accompany clearly explained science-related concepts. A \"Did You Know?\" section adds further interest to the narrative.","English",22.6,16.95,"551.57'84--dc23","24 pp.","https://www.enslow.com/books/Snow/422274",{"$f":"Table1[[#This Row],[QTY]]*Table1[[#This Row],['# of Books]]","v":0},{"$f":"Table1[[#This Row],[QTY]]*Table1[[#This Row],[School & Library Price]]","v":0}]
[null,42,null,"Weather Explorers","Snow",1,"eBook","978-1-9785-2061-5",{"$f":"HYPERLINK(Table1[[#This Row],[Hyperlink]],\"Weblink\")","v":"Weblink"},"Enslow Publishing","2021","August 2020",null,"Author","Harriet Brundle",null,null,null,null,"I",null,"Grade 1 - 2","Grade K - 3","Softly floating flakes of snow seem a bit magical, but real science is behind this chilly precipitation. Your readers will learn about the formation of snow through the accessible text of this inviting volume. They'll learn how snow is important to plants and animals. Arresting photographs that include up-close images of snowflakes accompany clearly explained science-related concepts. A \"Did You Know?\" section adds further interest to the narrative.","English",22.6,16.95,"551.57'84--dc23","24 pp.","https://www.enslow.com/books/Snow/422274",{"$f":"Table1[[#This Row],[QTY]]*Table1[[#This Row],['# of Books]]","v":0},{"$f":"Table1[[#This Row],[QTY]]*Table1[[#This Row],[School & Library Price]]","v":0}]
[null,42,null,"Weather Explorers","Sunshine",1,"Library Bound Book","978-1-9785-2064-6",{"$f":"HYPERLINK(Table1[[#This Row],[Hyperlink]],\"Weblink\")","v":"Weblink"},"Enslow Publishing","2021","August 2020","8.500 X 8.500","Author","Harriet Brundle",null,null,null,null,"I",null,"Grade 1 - 2","Grade K - 3","Without the sun, our planet would be dark and cold. We couldn't survive! Crucial science topics covered in this brightly designed book explain the sun, sunlight's importance to plants and animals, and how to be safe in the sun. Young readers will especially enjoy the \"Fun in the Sun\" and \"Did You Know?\" sections. Sunny photographs and helpful labels support valuable science concepts that every budding meteorologist needs to know.","English",22.6,16.95,"551.5'271--dc23","24 pp.","https://www.enslow.com/books/Sunshine/422275",{"$f":"Table1[[#This Row],[QTY]]*Table1[[#This Row],['# of Books]]","v":0},{"$f":"Table1[[#This Row],[QTY]]*Table1[[#This Row],[School & Library Price]]","v":0}]
[null,42,null,"Weather Explorers","Sunshine",1,"eBook","978-1-9785-2065-3",{"$f":"HYPERLINK(Table1[[#This Row],[Hyperlink]],\"Weblink\")","v":"Weblink"},"Enslow Publishing","2021","August 2020",null,"Author","Harriet Brundle",null,null,null,null,"I",null,"Grade 1 - 2","Grade K - 3","Without the sun, our planet would be dark and cold. We couldn't survive! Crucial science topics covered in this brightly designed book explain the sun, sunlight's importance to plants and animals, and how to be safe in the sun. Young readers will especially enjoy the \"Fun in the Sun\" and \"Did You Know?\" sections. Sunny photographs and helpful labels support valuable science concepts that every budding meteorologist needs to know.","English",22.6,16.95,"551.5'271--dc23","24 pp.","https://www.enslow.com/books/Sunshine/422275",{"$f":"Table1[[#This Row],[QTY]]*Table1[[#This Row],['# of Books]]","v":0},{"$f":"Table1[[#This Row],[QTY]]*Table1[[#This Row],[School & Library Price]]","v":0}]
[null,42,null,"Weather Explorers","Wind",1,"Library Bound Book","978-1-9785-2068-4",{"$f":"HYPERLINK(Table1[[#This Row],[Hyperlink]],\"Weblink\")","v":"Weblink"},"Enslow Publishing","2021","August 2020","8.500 X 8.500","Author","Harriet Brundle",null,null,null,null,"I",null,"Grade 1 - 2","Grade K - 3","From summer breezes to mighty gusts, wind is a part of our lives. Young meteorologists who have always wondered where wind comes from will find the answers in this delightful volume. They'll be surprised how wind affects both plants and animals and discover how some windstorms, such as tornadoes, can be truly dangerous. Key concepts are delivered in simple, accessible language that is supported by beautiful, eye-catching photographs.","English",22.6,16.95,"551.51'8--dc23","24 pp.","https://www.enslow.com/books/Wind/422276",{"$f":"Table1[[#This Row],[QTY]]*Table1[[#This Row],['# of Books]]","v":0},{"$f":"Table1[[#This Row],[QTY]]*Table1[[#This Row],[School & Library Price]]","v":0}]
[null,42,null,"Weather Explorers","Wind",1,"eBook","978-1-9785-2069-1",{"$f":"HYPERLINK(Table1[[#This Row],[Hyperlink]],\"Weblink\")","v":"Weblink"},"Enslow Publishing","2021","August 2020",null,"Author","Harriet Brundle",null,null,null,null,"I",null,"Grade 1 - 2","Grade K - 3","From summer breezes to mighty gusts, wind is a part of our lives. Young meteorologists who have always wondered where wind comes from will find the answers in this delightful volume. They'll be surprised how wind affects both plants and animals and discover how some windstorms, such as tornadoes, can be truly dangerous. Key concepts are delivered in simple, accessible language that is supported by beautiful, eye-catching photographs.","English",22.6,16.95,"551.51'8--dc23","24 pp.","https://www.enslow.com/books/Wind/422276",{"$f":"Table1[[#This Row],[QTY]]*Table1[[#This Row],['# of Books]]","v":0},{"$f":"Table1[[#This Row],[QTY]]*Table1[[#This Row],[School & Library Price]]","v":0}]
[null,43,null,"Investigate the Human Body","Investigate the Human Body",6,"Library Set","978-1-9785-1569-7",{"$f":"HYPERLINK(Table1[[#This Row],[Hyperlink]],\"Weblink\")","v":"Weblink"},"Enslow Publishing","2020","January 2020","8.500 X 7.125",null,null,null,null,null,null,null,null,"Grade 2","Grade K - 4","Young people are naturally curious about how things work, and that includes their own bodies. Each volume in this informative set explores one important aspect of the human body. Aided by color photographs and diagrams, readers discover the organ or system's purpose as well as how it works. They also learn how it interacts with the rest of the body and why the body can't function without it. Easy-to-follow text, fast facts, and a follow-up activity ensure readers' understanding of one of nature's most fascinating creations: the human body. Features include: Supports Next Generation Science Standards core ideas about the growth and development of organisms. Activities get kids to engage with the topics in a hands-on way, reinforcing what they have learned. Fact Boxes introduce extra information, Words to Know sections provide clear definitions of key terms, and Learn More sections provide further resources for study.","English",143.69999999999999,107.7,null,"24 pp.","https://www.enslow.com/series/Investigate_the_Human_Body/483784",{"$f":"Table1[[#This Row],[QTY]]*Table1[[#This Row],['# of Books]]","v":0},{"$f":"Table1[[#This Row],[QTY]]*Table1[[#This Row],[School & Library Price]]","v":0}]
[null,43,null,"Investigate the Human Body","Using Your Bones",1,"Library Bound Book","978-1-9785-1299-3",{"$f":"HYPERLINK(Table1[[#This Row],[Hyperlink]],\"Weblink\")","v":"Weblink"},"Enslow Publishing","2020","January 2020","8.500 X 7.125","Author","Therese M. Shea",null,null,null,null,"J",null,"Grade 2","Grade K - 4","A body without bones simply couldn't work! The skeletal system of the human body is the focus of this valuable volume, which centers on key concepts in elementary curricular content and uses at-level language to make biology accessible and interesting to young scientists. Readers will appreciate the fascinating fact boxes and many colorful photographs featured throughout the text. A concluding activity will help them understand how essential science concepts are truly relevant to their lives.","English",23.95,17.95,"612.7/51--dc23","24 pp.","https://www.enslow.com/books/Using_Your_Bones/422126",{"$f":"Table1[[#This Row],[QTY]]*Table1[[#This Row],['# of Books]]","v":0},{"$f":"Table1[[#This Row],[QTY]]*Table1[[#This Row],[School & Library Price]]","v":0}]
[null,43,null,"Investigate the Human Body","Using Your Bones",1,"eBook","978-1-9785-1300-6",{"$f":"HYPERLINK(Table1[[#This Row],[Hyperlink]],\"Weblink\")","v":"Weblink"},"Enslow Publishing","2020","January 2020",null,"Author","Therese M. Shea",null,null,null,null,"J",null,"Grade 2","Grade K - 4","A body without bones simply couldn't work! The skeletal system of the human body is the focus of this valuable volume, which centers on key concepts in elementary curricular content and uses at-level language to make biology accessible and interesting to young scientists. Readers will appreciate the fascinating fact boxes and many colorful photographs featured throughout the text. A concluding activity will help them understand how essential science concepts are truly relevant to their lives.","English",23.95,17.95,"612.7/51--dc23","24 pp.","https://www.enslow.com/books/Using_Your_Bones/422126",{"$f":"Table1[[#This Row],[QTY]]*Table1[[#This Row],['# of Books]]","v":0},{"$f":"Table1[[#This Row],[QTY]]*Table1[[#This Row],[School & Library Price]]","v":0}]
[null,43,null,"Investigate the Human Body","Using Your Brain",1,"Library Bound Book","978-1-9785-1291-7",{"$f":"HYPERLINK(Table1[[#This Row],[Hyperlink]],\"Weblink\")","v":"Weblink"},"Enslow Publishing","2020","January 2020","8.500 X 7.125","Author","Kathy Furgang",null,null,null,null,"H",null,"Grade 2","Grade K - 4","The brain is an amazing organ. It controls all of the actions, thoughts, and signals of the rest of the body. This informative book illustrates the parts of the brain and central nervous system and how they operate the entire body. With accessible text, fun facts, and color photographs, it explores the main parts of the cerebrum, cerebellum, and brain stem, as well as the neurons that connect parts of the central nervous system. This exciting ride through the body touches on the science of how we all operate.","English",23.95,17.95,"612.8/2--dc23","24 pp.","https://www.enslow.com/books/Using_Your_Brain/422124",{"$f":"Table1[[#This Row],[QTY]]*Table1[[#This Row],['# of Books]]","v":0},{"$f":"Table1[[#This Row],[QTY]]*Table1[[#This Row],[School & Library Price]]","v":0}]
[null,43,null,"Investigate the Human Body","Using Your Brain",1,"eBook","978-1-9785-1292-4",{"$f":"HYPERLINK(Table1[[#This Row],[Hyperlink]],\"Weblink\")","v":"Weblink"},"Enslow Publishing","2020","January 2020",null,"Author","Kathy Furgang",null,null,null,null,"H",null,"Grade 2","Grade K - 4","The brain is an amazing organ. It controls all of the actions, thoughts, and signals of the rest of the body. This informative book illustrates the parts of the brain and central nervous system and how they operate the entire body. With accessible text, fun facts, and color photographs, it explores the main parts of the cerebrum, cerebellum, and brain stem, as well as the neurons that connect parts of the central nervous system. This exciting ride through the body touches on the science of how we all operate.","English",23.95,17.95,"612.8/2--dc23","24 pp.","https://www.enslow.com/books/Using_Your_Brain/422124",{"$f":"Table1[[#This Row],[QTY]]*Table1[[#This Row],['# of Books]]","v":0},{"$f":"Table1[[#This Row],[QTY]]*Table1[[#This Row],[School & Library Price]]","v":0}]
[null,43,null,"Investigate the Human Body","Using Your Gut",1,"Library Bound Book","978-1-9785-1295-5",{"$f":"HYPERLINK(Table1[[#This Row],[Hyperlink]],\"Weblink\")","v":"Weblink"},"Enslow Publishing","2020","January 2020","8.500 X 7.125","Author","Kathy Furgang",null,null,null,null,"I",null,"Grade 2","Grade K - 4","The food you eat is important. Just ask your digestive system, otherwise known as your gut. This exciting journey traces the route of food through the digestive system as it is turned into energy for the body. With the help of colorful photographs and diagrams, we learn how food moves down the esophagus, into the holding area of the stomach, and then through the intestines before making its way out of the body. Readers will be put on the alert to watch out for the bacteria; is it good or bad for us? The final chapter shows how we can use food to help balance the bacteria in our bodies.","English",23.95,17.95,"612.3--dc23","24 pp.","https://www.enslow.com/books/Using_Your_Gut/422125",{"$f":"Table1[[#This Row],[QTY]]*Table1[[#This Row],['# of Books]]","v":0},{"$f":"Table1[[#This Row],[QTY]]*Table1[[#This Row],[School & Library Price]]","v":0}]
[null,43,null,"Investigate the Human Body","Using Your Gut",1,"eBook","978-1-9785-1296-2",{"$f":"HYPERLINK(Table1[[#This Row],[Hyperlink]],\"Weblink\")","v":"Weblink"},"Enslow Publishing","2020","January 2020",null,"Author","Kathy Furgang",null,null,null,null,"I",null,"Grade 2","Grade K - 4","The food you eat is important. Just ask your digestive system, otherwise known as your gut. This exciting journey traces the route of food through the digestive system as it is turned into energy for the body. With the help of colorful photographs and diagrams, we learn how food moves down the esophagus, into the holding area of the stomach, and then through the intestines before making its way out of the body. Readers will be put on the alert to watch out for the bacteria; is it good or bad for us? The final chapter shows how we can use food to help balance the bacteria in our bodies.","English",23.95,17.95,"612.3--dc23","24 pp.","https://www.enslow.com/books/Using_Your_Gut/422125",{"$f":"Table1[[#This Row],[QTY]]*Table1[[#This Row],['# of Books]]","v":0},{"$f":"Table1[[#This Row],[QTY]]*Table1[[#This Row],[School & Library Price]]","v":0}]
[null,43,null,"Investigate the Human Body","Using Your Heart",1,"Library Bound Book","978-1-9785-1283-2",{"$f":"HYPERLINK(Table1[[#This Row],[Hyperlink]],\"Weblink\")","v":"Weblink"},"Enslow Publishing","2020","January 2020","8.500 X 7.125","Author","Kathy Furgang",null,null,null,null,"J",null,"Grade 2","Grade K - 4","How many times does your heart beat per minute? That depends on what you are doing. This informative book about the heart shows how blood pumps throughout the body. It explores the work of the atria and ventricles as they pump throughout the chambers and valves, bringing oxygen to the body's system. Colorful photographs and diagrams help make the concepts clear for readers, while a final activity encourages them to put their new knowledge to use as an authentic learning exercise.","English",23.95,17.95,"612.1/7--dc23","24 pp.","https://www.enslow.com/books/Using_Your_Heart/422122",{"$f":"Table1[[#This Row],[QTY]]*Table1[[#This Row],['# of Books]]","v":0},{"$f":"Table1[[#This Row],[QTY]]*Table1[[#This Row],[School & Library Price]]","v":0}]
[null,43,null,"Investigate the Human Body","Using Your Heart",1,"eBook","978-1-9785-1284-9",{"$f":"HYPERLINK(Table1[[#This Row],[Hyperlink]],\"Weblink\")","v":"Weblink"},"Enslow Publishing","2020","January 2020",null,"Author","Kathy Furgang",null,null,null,null,"J",null,"Grade 2","Grade K - 4","How many times does your heart beat per minute? That depends on what you are doing. This informative book about the heart shows how blood pumps throughout the body. It explores the work of the atria and ventricles as they pump throughout the chambers and valves, bringing oxygen to the body's system. Colorful photographs and diagrams help make the concepts clear for readers, while a final activity encourages them to put their new knowledge to use as an authentic learning exercise.","English",23.95,17.95,"612.1/7--dc23","24 pp.","https://www.enslow.com/books/Using_Your_Heart/422122",{"$f":"Table1[[#This Row],[QTY]]*Table1[[#This Row],['# of Books]]","v":0},{"$f":"Table1[[#This Row],[QTY]]*Table1[[#This Row],[School & Library Price]]","v":0}]
[null,43,null,"Investigate the Human Body","Using Your Lungs",1,"Library Bound Book","978-1-9785-1287-0",{"$f":"HYPERLINK(Table1[[#This Row],[Hyperlink]],\"Weblink\")","v":"Weblink"},"Enslow Publishing","2020","January 2020","8.500 X 7.125","Author","Therese M. Shea",null,null,null,null,"I",null,"Grade 2","Grade K - 4","Our lungs are amazing organs, the stars of the respiratory system! Readers will be fascinated to learn what actually happens in their lungs to make it possible for them to breathe in and out, without even having to think about it. Accessible, at-level text is coupled with beneficial photographs and diagrams to aid in reader comprehension. Curriculum-oriented fact boxes offer further information to cultivate an early interest in human biology, while a concluding activity reviews key concepts about the lungs.","English",23.95,17.95,"612.2/4--dc23","24 pp.","https://www.enslow.com/books/Using_Your_Lungs/422123",{"$f":"Table1[[#This Row],[QTY]]*Table1[[#This Row],['# of Books]]","v":0},{"$f":"Table1[[#This Row],[QTY]]*Table1[[#This Row],[School & Library Price]]","v":0}]
[null,43,null,"Investigate the Human Body","Using Your Lungs",1,"eBook","978-1-9785-1288-7",{"$f":"HYPERLINK(Table1[[#This Row],[Hyperlink]],\"Weblink\")","v":"Weblink"},"Enslow Publishing","2020","January 2020",null,"Author","Therese M. Shea",null,null,null,null,"I",null,"Grade 2","Grade K - 4","Our lungs are amazing organs, the stars of the respiratory system! Readers will be fascinated to learn what actually happens in their lungs to make it possible for them to breathe in and out, without even having to think about it. Accessible, at-level text is coupled with beneficial photographs and diagrams to aid in reader comprehension. Curriculum-oriented fact boxes offer further information to cultivate an early interest in human biology, while a concluding activity reviews key concepts about the lungs.","English",23.95,17.95,"612.2/4--dc23","24 pp.","https://www.enslow.com/books/Using_Your_Lungs/422123",{"$f":"Table1[[#This Row],[QTY]]*Table1[[#This Row],['# of Books]]","v":0},{"$f":"Table1[[#This Row],[QTY]]*Table1[[#This Row],[School & Library Price]]","v":0}]
[null,43,null,"Investigate the Human Body","Using Your Muscles",1,"Library Bound Book","978-1-9785-1303-7",{"$f":"HYPERLINK(Table1[[#This Row],[Hyperlink]],\"Weblink\")","v":"Weblink"},"Enslow Publishing","2020","January 2020","8.500 X 7.125","Author","Kathy Furgang",null,null,null,null,"J",null,"Grade 2","Grade K - 4","How much can you lift? It doesn't really matter because muscles are needed for more than just lifting; they are needed for everything we do. This fascinating book about the muscular system shows how the cardiac and skeletal muscles work together to help the body do just about everything from running to blinking. Colorful and easy-to-follow diagrams help readers understand this essential system in the human body.","English",23.95,17.95,"612.7/4--dc23","24 pp.","https://www.enslow.com/books/Using_Your_Muscles/422127",{"$f":"Table1[[#This Row],[QTY]]*Table1[[#This Row],['# of Books]]","v":0},{"$f":"Table1[[#This Row],[QTY]]*Table1[[#This Row],[School & Library Price]]","v":0}]
[null,43,null,"Investigate the Human Body","Using Your Muscles",1,"eBook","978-1-9785-1304-4",{"$f":"HYPERLINK(Table1[[#This Row],[Hyperlink]],\"Weblink\")","v":"Weblink"},"Enslow Publishing","2020","January 2020",null,"Author","Kathy Furgang",null,null,null,null,"J",null,"Grade 2","Grade K - 4","How much can you lift? It doesn't really matter because muscles are needed for more than just lifting; they are needed for everything we do. This fascinating book about the muscular system shows how the cardiac and skeletal muscles work together to help the body do just about everything from running to blinking. Colorful and easy-to-follow diagrams help readers understand this essential system in the human body.","English",23.95,17.95,"612.7/4--dc23","24 pp.","https://www.enslow.com/books/Using_Your_Muscles/422127",{"$f":"Table1[[#This Row],[QTY]]*Table1[[#This Row],['# of Books]]","v":0},{"$f":"Table1[[#This Row],[QTY]]*Table1[[#This Row],[School & Library Price]]","v":0}]
[null,44,null,"Attack of the...","Attack of the...",4,"Library Set","978-1-9785-2011-0",{"$f":"HYPERLINK(Table1[[#This Row],[Hyperlink]],\"Weblink\")","v":"Weblink"},"Enslow Publishing","2021","August 2020","8.500 X 8.500",null,null,null,null,null,null,null,null,"Grade 2 - 3","Grade 2 - 4","Microbes are everywhere. They're invisible to the naked eye but are capable of infecting all living things. Understanding exactly how an infection works is a tough concept to grasp, but this set successfully summarizes this complex subject in understandable segments. Young readers will jump into the creepy world of microbiology and begin to understand the things that make them sick. Through colorful illustrations and photographs, wider concepts are presented in bite-sized pieces, encouraging young scientists to learn about how infections spread and how to fight back against infection. Features include: Inviting illustrations that encourage striving and developing readers. Conversational tone makes difficult concepts meaningful and easy to understand. Supports STEM curriculum.","English",90.4,67.8,null,"24 pp.","https://www.enslow.com/series/Attack_of_the/492716",{"$f":"Table1[[#This Row],[QTY]]*Table1[[#This Row],['# of Books]]","v":0},{"$f":"Table1[[#This Row],[QTY]]*Table1[[#This Row],[School & Library Price]]","v":0}]
[null,44,null,"Attack of the...","Beastly Bacteria",1,"Library Bound Book","978-1-9785-1993-0",{"$f":"HYPERLINK(Table1[[#This Row],[Hyperlink]],\"Weblink\")","v":"Weblink"},"Enslow Publishing","2021","August 2020","8.500 X 8.500","Author","William Anthony",null,null,null,null,"M",null,"Grade 2 - 3","Grade 2 - 4","Bacteria are unicellular organisms found in nearly every corner of the globe. Some can be found in the most extreme places where no human could ever survive while others are vital for keeping the human body working. Unfortunately, even good bacteria can make a person sick. Through these colorful illustrations and fun narrative, young readers will learn about bacteria and how different kinds affect different creatures. The inviting, conversational tone keeps readers interested in the fascinating and complex inner workings of bacterial infections.","English",22.6,16.95,"579.3--dc23","24 pp.","https://www.enslow.com/books/Beastly_Bacteria/422261",{"$f":"Table1[[#This Row],[QTY]]*Table1[[#This Row],['# of Books]]","v":0},{"$f":"Table1[[#This Row],[QTY]]*Table1[[#This Row],[School & Library Price]]","v":0}]
[null,44,null,"Attack of the...","Beastly Bacteria",1,"eBook","978-1-9785-1994-7",{"$f":"HYPERLINK(Table1[[#This Row],[Hyperlink]],\"Weblink\")","v":"Weblink"},"Enslow Publishing","2021","August 2020",null,"Author","William Anthony",null,null,null,null,"M",null,"Grade 2 - 3","Grade 2 - 4","Bacteria are unicellular organisms found in nearly every corner of the globe. Some can be found in the most extreme places where no human could ever survive while others are vital for keeping the human body working. Unfortunately, even good bacteria can make a person sick. Through these colorful illustrations and fun narrative, young readers will learn about bacteria and how different kinds affect different creatures. The inviting, conversational tone keeps readers interested in the fascinating and complex inner workings of bacterial infections.","English",22.6,16.95,"579.3--dc23","24 pp.","https://www.enslow.com/books/Beastly_Bacteria/422261",{"$f":"Table1[[#This Row],[QTY]]*Table1[[#This Row],['# of Books]]","v":0},{"$f":"Table1[[#This Row],[QTY]]*Table1[[#This Row],[School & Library Price]]","v":0}]
[null,44,null,"Attack of the...","Foul Fungi",1,"Library Bound Book","978-1-9785-1997-8",{"$f":"HYPERLINK(Table1[[#This Row],[Hyperlink]],\"Weblink\")","v":"Weblink"},"Enslow Publishing","2021","August 2020","8.500 X 8.500","Author","William Anthony",null,null,null,null,"M",null,"Grade 2 - 3","Grade 2 - 4","Fungus is an important part of the breakdown of decaying material, but what happens when that fungus infects a healthy human body? While some infections may look bacterial or viral, young readers will be surprised to learn that they can actually be from fungus. Fungal infections are common, leading to conditions like athlete's foot and ringworm. Understanding how these fungi are spread can help young readers learn how to remain fungi-free. With photographs of fungi in action and fun illustrations to keep the topic light, this book keeps young readers interested in the science of fungal infections.","English",22.6,16.95,"579.5--dc23","24 pp.","https://www.enslow.com/books/Foul_Fungi/422263",{"$f":"Table1[[#This Row],[QTY]]*Table1[[#This Row],['# of Books]]","v":0},{"$f":"Table1[[#This Row],[QTY]]*Table1[[#This Row],[School & Library Price]]","v":0}]
[null,44,null,"Attack of the...","Foul Fungi",1,"eBook","978-1-9785-1998-5",{"$f":"HYPERLINK(Table1[[#This Row],[Hyperlink]],\"Weblink\")","v":"Weblink"},"Enslow Publishing","2021","August 2020",null,"Author","William Anthony",null,null,null,null,"M",null,"Grade 2 - 3","Grade 2 - 4","Fungus is an important part of the breakdown of decaying material, but what happens when that fungus infects a healthy human body? While some infections may look bacterial or viral, young readers will be surprised to learn that they can actually be from fungus. Fungal infections are common, leading to conditions like athlete's foot and ringworm. Understanding how these fungi are spread can help young readers learn how to remain fungi-free. With photographs of fungi in action and fun illustrations to keep the topic light, this book keeps young readers interested in the science of fungal infections.","English",22.6,16.95,"579.5--dc23","24 pp.","https://www.enslow.com/books/Foul_Fungi/422263",{"$f":"Table1[[#This Row],[QTY]]*Table1[[#This Row],['# of Books]]","v":0},{"$f":"Table1[[#This Row],[QTY]]*Table1[[#This Row],[School & Library Price]]","v":0}]
[null,44,null,"Attack of the...","Pesky Parasites",1,"Library Bound Book","978-1-9785-2001-1",{"$f":"HYPERLINK(Table1[[#This Row],[Hyperlink]],\"Weblink\")","v":"Weblink"},"Enslow Publishing","2021","August 2020","8.500 X 8.500","Author","William Anthony",null,null,null,null,"M",null,"Grade 2 - 3","Grade 2 - 4","Parasites are a nasty part of a healthy ecosystem, thriving off the nutrients of their hosts while their host is hurt in exchange. While they aren't beneficial to the host, understanding where parasites come from and how they infect the body is important for young readers. Through the vivid photographs complemented by comments from illustrated teaching companions, young readers get an introduction to not just where these nasty creatures come from, but how readers can avoid infection. Young scientists will read along with the fun illustrated characters who encourage a better understanding of what a parasite is.","English",22.6,16.95,"577.8'57--dc23","24 pp.","https://www.enslow.com/books/Pesky_Parasites/422265",{"$f":"Table1[[#This Row],[QTY]]*Table1[[#This Row],['# of Books]]","v":0},{"$f":"Table1[[#This Row],[QTY]]*Table1[[#This Row],[School & Library Price]]","v":0}]
[null,44,null,"Attack of the...","Pesky Parasites",1,"eBook","978-1-9785-2002-8",{"$f":"HYPERLINK(Table1[[#This Row],[Hyperlink]],\"Weblink\")","v":"Weblink"},"Enslow Publishing","2021","August 2020",null,"Author","William Anthony",null,null,null,null,"M",null,"Grade 2 - 3","Grade 2 - 4","Parasites are a nasty part of a healthy ecosystem, thriving off the nutrients of their hosts while their host is hurt in exchange. While they aren't beneficial to the host, understanding where parasites come from and how they infect the body is important for young readers. Through the vivid photographs complemented by comments from illustrated teaching companions, young readers get an introduction to not just where these nasty creatures come from, but how readers can avoid infection. Young scientists will read along with the fun illustrated characters who encourage a better understanding of what a parasite is.","English",22.6,16.95,"577.8'57--dc23","24 pp.","https://www.enslow.com/books/Pesky_Parasites/422265",{"$f":"Table1[[#This Row],[QTY]]*Table1[[#This Row],['# of Books]]","v":0},{"$f":"Table1[[#This Row],[QTY]]*Table1[[#This Row],[School & Library Price]]","v":0}]
[null,44,null,"Attack of the...","Vulgar Viruses",1,"Library Bound Book","978-1-9785-2005-9",{"$f":"HYPERLINK(Table1[[#This Row],[Hyperlink]],\"Weblink\")","v":"Weblink"},"Enslow Publishing","2021","August 2020","8.500 X 8.500","Author","William Anthony",null,null,null,null,"M",null,"Grade 2 - 3","Grade 2 - 4","Viruses are just as mysterious as they are dangerous. Even scientists have a hard time understanding exactly what makes them work. From the debate about whether viruses are living or nonliving to the understanding of how exactly they function, there's a lot to learn about viruses. Young scientists will jump right into the fascinating world of the virus through colorful photographs of viruses in action. Detailed depictions show what they look like through a microscope. Illustrated teaching companions help to encourage an understanding of this complex subject while showing how viruses make us sick.","English",22.6,16.95,"579.3'165--dc23","24 pp.","https://www.enslow.com/books/Vulgar_Viruses/422267",{"$f":"Table1[[#This Row],[QTY]]*Table1[[#This Row],['# of Books]]","v":0},{"$f":"Table1[[#This Row],[QTY]]*Table1[[#This Row],[School & Library Price]]","v":0}]
[null,44,null,"Attack of the...","Vulgar Viruses",1,"eBook","978-1-9785-2006-6",{"$f":"HYPERLINK(Table1[[#This Row],[Hyperlink]],\"Weblink\")","v":"Weblink"},"Enslow Publishing","2021","August 2020",null,"Author","William Anthony",null,null,null,null,"M",null,"Grade 2 - 3","Grade 2 - 4","Viruses are just as mysterious as they are dangerous. Even scientists have a hard time understanding exactly what makes them work. From the debate about whether viruses are living or nonliving to the understanding of how exactly they function, there's a lot to learn about viruses. Young scientists will jump right into the fascinating world of the virus through colorful photographs of viruses in action. Detailed depictions show what they look like through a microscope. Illustrated teaching companions help to encourage an understanding of this complex subject while showing how viruses make us sick.","English",22.6,16.95,"579.3'165--dc23","24 pp.","https://www.enslow.com/books/Vulgar_Viruses/422267",{"$f":"Table1[[#This Row],[QTY]]*Table1[[#This Row],['# of Books]]","v":0},{"$f":"Table1[[#This Row],[QTY]]*Table1[[#This Row],[School & Library Price]]","v":0}]
[null,45,null,"How to Build a Human Body","How to Build a Human Body",6,"Library Set","978-1-9785-2007-3",{"$f":"HYPERLINK(Table1[[#This Row],[Hyperlink]],\"Weblink\")","v":"Weblink"},"Enslow Publishing","2021","August 2020","8.500 X 8.500",null,null,null,null,null,null,null,null,"Grade 3","Grade 2 - 5","There are many key parts that make up the human body, from the skeleton that holds it all together to the organs that keep it working. Readers will get an up-close look at the inner workings of some of the most important components and processes of the human body. Accessible text reinforces fundamental ideas from elementary science curricula including Next Generation Science Standards. Easy-to-understand diagrams support the development of strong reading comprehension skills and illustrate key body parts and concepts from the narratives. Features include: Colorful illustrations and diagrams that encourage a deeper understanding of key content. Concise sections of text to support comprehension. Glossaries highlighting key vocabulary terms.","English",135.6,101.7,null,"24 pp.","https://www.enslow.com/series/How_to_Build_a_Human_Body/492621",{"$f":"Table1[[#This Row],[QTY]]*Table1[[#This Row],['# of Books]]","v":0},{"$f":"Table1[[#This Row],[QTY]]*Table1[[#This Row],[School & Library Price]]","v":0}]
[null,45,null,"How to Build a Human Body","Blueprint for a Bladder",1,"Library Bound Book","978-1-9785-1913-8",{"$f":"HYPERLINK(Table1[[#This Row],[Hyperlink]],\"Weblink\")","v":"Weblink"},"Enslow Publishing","2021","August 2020","8.500 X 8.500","Author","Kirsty Holmes",null,null,null,null,"N",null,"Grade 3","Grade 2 - 5","Many people only know the basics about the bladder, like that it holds urine, but there's much more to learn about this extraordinary organ. For example, when empty it's only about the size of a plum, but when full it can enlarge to the size of a grapefruit. Readers of this innovative volume follow along as a friendly \"body builder\" shows them how the different processes and parts involved with the bladder work. Simple diagrams reinforce the understanding of key concepts. Age-appropriate text supports central aspects of the elementary science curriculum.","English",22.6,16.95,"616.6'2--dc23","24 pp.","https://www.enslow.com/books/Blueprint_for_a_Bladder/422241",{"$f":"Table1[[#This Row],[QTY]]*Table1[[#This Row],['# of Books]]","v":0},{"$f":"Table1[[#This Row],[QTY]]*Table1[[#This Row],[School & Library Price]]","v":0}]
[null,45,null,"How to Build a Human Body","Blueprint for a Bladder",1,"eBook","978-1-9785-1914-5",{"$f":"HYPERLINK(Table1[[#This Row],[Hyperlink]],\"Weblink\")","v":"Weblink"},"Enslow Publishing","2021","August 2020",null,"Author","Kirsty Holmes",null,null,null,null,"N",null,"Grade 3","Grade 2 - 5","Many people only know the basics about the bladder, like that it holds urine, but there's much more to learn about this extraordinary organ. For example, when empty it's only about the size of a plum, but when full it can enlarge to the size of a grapefruit. Readers of this innovative volume follow along as a friendly \"body builder\" shows them how the different processes and parts involved with the bladder work. Simple diagrams reinforce the understanding of key concepts. Age-appropriate text supports central aspects of the elementary science curriculum.","English",22.6,16.95,"616.6'2--dc23","24 pp.","https://www.enslow.com/books/Blueprint_for_a_Bladder/422241",{"$f":"Table1[[#This Row],[QTY]]*Table1[[#This Row],['# of Books]]","v":0},{"$f":"Table1[[#This Row],[QTY]]*Table1[[#This Row],[School & Library Price]]","v":0}]
[null,45,null,"How to Build a Human Body","Build a Brain",1,"Library Bound Book","978-1-9785-1917-6",{"$f":"HYPERLINK(Table1[[#This Row],[Hyperlink]],\"Weblink\")","v":"Weblink"},"Enslow Publishing","2021","August 2020","8.500 X 8.500","Author","Kirsty Holmes",null,null,null,null,"N",null,"Grade 3","Grade 2 - 5","Recognized as the most complex organ in the human body, the brain controls everything from sight and memory to breathing and balance. With the help of this captivating book, readers learn about the many processes and activities having to do with the brain. They'll study the different parts that make it up. Easy-to-understand diagrams and enlightening activities help readers of many levels develop a stronger grasp on this important topic within the elementary science curriculum.","English",22.6,16.95,"612.8'2--dc23","24 pp.","https://www.enslow.com/books/Build_a_Brain/422242",{"$f":"Table1[[#This Row],[QTY]]*Table1[[#This Row],['# of Books]]","v":0},{"$f":"Table1[[#This Row],[QTY]]*Table1[[#This Row],[School & Library Price]]","v":0}]
[null,45,null,"How to Build a Human Body","Build a Brain",1,"eBook","978-1-9785-1918-3",{"$f":"HYPERLINK(Table1[[#This Row],[Hyperlink]],\"Weblink\")","v":"Weblink"},"Enslow Publishing","2021","August 2020",null,"Author","Kirsty Holmes",null,null,null,null,"N",null,"Grade 3","Grade 2 - 5","Recognized as the most complex organ in the human body, the brain controls everything from sight and memory to breathing and balance. With the help of this captivating book, readers learn about the many processes and activities having to do with the brain. They'll study the different parts that make it up. Easy-to-understand diagrams and enlightening activities help readers of many levels develop a stronger grasp on this important topic within the elementary science curriculum.","English",22.6,16.95,"612.8'2--dc23","24 pp.","https://www.enslow.com/books/Build_a_Brain/422242",{"$f":"Table1[[#This Row],[QTY]]*Table1[[#This Row],['# of Books]]","v":0},{"$f":"Table1[[#This Row],[QTY]]*Table1[[#This Row],[School & Library Price]]","v":0}]
[null,45,null,"How to Build a Human Body","Lay Out the Lungs",1,"Library Bound Book","978-1-9785-1921-3",{"$f":"HYPERLINK(Table1[[#This Row],[Hyperlink]],\"Weblink\")","v":"Weblink"},"Enslow Publishing","2021","August 2020","8.500 X 8.500","Author","Kirsty Holmes",null,null,null,null,"N",null,"Grade 3","Grade 2 - 5","Understanding how your body works can be an important part of keeping it healthy. The lungs, for example, are a body part that many people take for granted but are essential for quality of life. For the most part, the lungs work automatically with little conscious effort from an individual. However, there are things that can be done to help keep them extra healthy. Readers will learn about these amazing organs through the help of accessible text and informative diagrams. They'll be encouraged to take part in fun activities that will help keep their lungs strong.","English",22.6,16.95,"612.2'4--dc23","24 pp.","https://www.enslow.com/books/Lay_Out_the_Lungs/422243",{"$f":"Table1[[#This Row],[QTY]]*Table1[[#This Row],['# of Books]]","v":0},{"$f":"Table1[[#This Row],[QTY]]*Table1[[#This Row],[School & Library Price]]","v":0}]
[null,45,null,"How to Build a Human Body","Lay Out the Lungs",1,"eBook","978-1-9785-1922-0",{"$f":"HYPERLINK(Table1[[#This Row],[Hyperlink]],\"Weblink\")","v":"Weblink"},"Enslow Publishing","2021","August 2020",null,"Author","Kirsty Holmes",null,null,null,null,"N",null,"Grade 3","Grade 2 - 5","Understanding how your body works can be an important part of keeping it healthy. The lungs, for example, are a body part that many people take for granted but are essential for quality of life. For the most part, the lungs work automatically with little conscious effort from an individual. However, there are things that can be done to help keep them extra healthy. Readers will learn about these amazing organs through the help of accessible text and informative diagrams. They'll be encouraged to take part in fun activities that will help keep their lungs strong.","English",22.6,16.95,"612.2'4--dc23","24 pp.","https://www.enslow.com/books/Lay_Out_the_Lungs/422243",{"$f":"Table1[[#This Row],[QTY]]*Table1[[#This Row],['# of Books]]","v":0},{"$f":"Table1[[#This Row],[QTY]]*Table1[[#This Row],[School & Library Price]]","v":0}]
[null,45,null,"How to Build a Human Body","Parts of a Heart",1,"Library Bound Book","978-1-9785-1925-1",{"$f":"HYPERLINK(Table1[[#This Row],[Hyperlink]],\"Weblink\")","v":"Weblink"},"Enslow Publishing","2021","August 2020","8.500 X 8.500","Author","Kirsty Holmes",null,null,null,null,"N",null,"Grade 3","Grade 2 - 5","Despite the simple designs shown on most Valentine's Day cards, hearts are quite complex organs. With this stimulating book, readers take a close look at the four-chambered pump that keeps the blood circulating in their bodies. Colorful diagrams illustrate the different parts of the heart and help struggling readers understand the important processes this key body part performs. Manageable text helps readers of many levels grasp important components of the elementary science curriculum.","English",22.6,16.95,"612.1'7--dc23","24 pp.","https://www.enslow.com/books/Parts_of_a_Heart/422244",{"$f":"Table1[[#This Row],[QTY]]*Table1[[#This Row],['# of Books]]","v":0},{"$f":"Table1[[#This Row],[QTY]]*Table1[[#This Row],[School & Library Price]]","v":0}]
[null,45,null,"How to Build a Human Body","Parts of a Heart",1,"eBook","978-1-9785-1926-8",{"$f":"HYPERLINK(Table1[[#This Row],[Hyperlink]],\"Weblink\")","v":"Weblink"},"Enslow Publishing","2021","August 2020",null,"Author","Kirsty Holmes",null,null,null,null,"N",null,"Grade 3","Grade 2 - 5","Despite the simple designs shown on most Valentine's Day cards, hearts are quite complex organs. With this stimulating book, readers take a close look at the four-chambered pump that keeps the blood circulating in their bodies. Colorful diagrams illustrate the different parts of the heart and help struggling readers understand the important processes this key body part performs. Manageable text helps readers of many levels grasp important components of the elementary science curriculum.","English",22.6,16.95,"612.1'7--dc23","24 pp.","https://www.enslow.com/books/Parts_of_a_Heart/422244",{"$f":"Table1[[#This Row],[QTY]]*Table1[[#This Row],['# of Books]]","v":0},{"$f":"Table1[[#This Row],[QTY]]*Table1[[#This Row],[School & Library Price]]","v":0}]
[null,45,null,"How to Build a Human Body","Set Up the Skeleton",1,"Library Bound Book","978-1-9785-1929-9",{"$f":"HYPERLINK(Table1[[#This Row],[Hyperlink]],\"Weblink\")","v":"Weblink"},"Enslow Publishing","2021","August 2020","8.500 X 8.500","Author","Kirsty Holmes",null,null,null,null,"N",null,"Grade 3","Grade 2 - 5","An adult human skeleton is made up of 206 bones, but there's much more to learn about the skeleton than just about bones. Your readers will learn interesting details including what bone marrow is and what joints do. They'll be instructed on different poses and exercises they can do to make sure their bones and joints stay strong and healthy.","English",22.6,16.95,"612.7'5--dc23","24 pp.","https://www.enslow.com/books/Set_Up_the_Skeleton/422245",{"$f":"Table1[[#This Row],[QTY]]*Table1[[#This Row],['# of Books]]","v":0},{"$f":"Table1[[#This Row],[QTY]]*Table1[[#This Row],[School & Library Price]]","v":0}]
[null,45,null,"How to Build a Human Body","Set Up the Skeleton",1,"eBook","978-1-9785-1930-5",{"$f":"HYPERLINK(Table1[[#This Row],[Hyperlink]],\"Weblink\")","v":"Weblink"},"Enslow Publishing","2021","August 2020",null,"Author","Kirsty Holmes",null,null,null,null,"N",null,"Grade 3","Grade 2 - 5","An adult human skeleton is made up of 206 bones, but there's much more to learn about the skeleton than just about bones. Your readers will learn interesting details including what bone marrow is and what joints do. They'll be instructed on different poses and exercises they can do to make sure their bones and joints stay strong and healthy.","English",22.6,16.95,"612.7'5--dc23","24 pp.","https://www.enslow.com/books/Set_Up_the_Skeleton/422245",{"$f":"Table1[[#This Row],[QTY]]*Table1[[#This Row],['# of Books]]","v":0},{"$f":"Table1[[#This Row],[QTY]]*Table1[[#This Row],[School & Library Price]]","v":0}]
[null,45,null,"How to Build a Human Body","Shape of a Stomach",1,"Library Bound Book","978-1-9785-1933-6",{"$f":"HYPERLINK(Table1[[#This Row],[Hyperlink]],\"Weblink\")","v":"Weblink"},"Enslow Publishing","2021","August 2020","8.500 X 8.500","Author","Kirsty Holmes",null,null,null,null,"N",null,"Grade 3","Grade 2 - 5","Many people think of the stomach as being the same thing as the abdomen or belly, but the abdomen is part of a bigger framework known as the digestive system. It includes the stomach and other organs, such as the intestines, liver, and gallbladder. With the help of this innovative volume, readers will learn about the stomach and its functions within the digestive system. Colorful diagrams support the fact-filled narrative and encourage readers to keep their stomachs and digestive systems healthy.","English",22.6,16.95,"612.3'2--dc23","24 pp.","https://www.enslow.com/books/Shape_of_a_Stomach/422246",{"$f":"Table1[[#This Row],[QTY]]*Table1[[#This Row],['# of Books]]","v":0},{"$f":"Table1[[#This Row],[QTY]]*Table1[[#This Row],[School & Library Price]]","v":0}]
[null,45,null,"How to Build a Human Body","Shape of a Stomach",1,"eBook","978-1-9785-1934-3",{"$f":"HYPERLINK(Table1[[#This Row],[Hyperlink]],\"Weblink\")","v":"Weblink"},"Enslow Publishing","2021","August 2020",null,"Author","Kirsty Holmes",null,null,null,null,"N",null,"Grade 3","Grade 2 - 5","Many people think of the stomach as being the same thing as the abdomen or belly, but the abdomen is part of a bigger framework known as the digestive system. It includes the stomach and other organs, such as the intestines, liver, and gallbladder. With the help of this innovative volume, readers will learn about the stomach and its functions within the digestive system. Colorful diagrams support the fact-filled narrative and encourage readers to keep their stomachs and digestive systems healthy.","English",22.6,16.95,"612.3'2--dc23","24 pp.","https://www.enslow.com/books/Shape_of_a_Stomach/422246",{"$f":"Table1[[#This Row],[QTY]]*Table1[[#This Row],['# of Books]]","v":0},{"$f":"Table1[[#This Row],[QTY]]*Table1[[#This Row],[School & Library Price]]","v":0}]
[null,46,null,"Creepy, Kooky Science","Creepy, Kooky Science: Sets 1 – 2",13,"Library Set","978-1-9785-1588-8",{"$f":"HYPERLINK(Table1[[#This Row],[Hyperlink]],\"Weblink\")","v":"Weblink"},"Enslow Publishing","2020","January 2020","7.250 X 9.250",null,null,null,null,null,null,null,null,"Grade 5","Grade 5 - 8","Animals that feed on blood, plants that feed on flesh, viruses that cause zombie-like behavior; science can be strange and surprising. Dynamic visuals and lively storytelling will keep readers entertained as they discover the stranger and weirder side of science. Colorful images, intriguing sidebars, and accessible text lead students back in time, under the sea, and into the bodies of organisms both living and dead in pursuit of creepy, kooky knowledge. Features include: Offers an entertaining look at offbeat subjects to get readers excited about science. Supports the Next Generation Science Standards on biological evolution, biodiversity, physical sciences, and life sciences. Contains Fast Facts that give quick, easily digestible bits of information.","English",307.23,230.45,null,"48 pp.","https://www.enslow.com/series/Creepy_Kooky_Science/534",{"$f":"Table1[[#This Row],[QTY]]*Table1[[#This Row],['# of Books]]","v":0},{"$f":"Table1[[#This Row],[QTY]]*Table1[[#This Row],[School & Library Price]]","v":0}]
[null,46,null,"Creepy, Kooky Science","Creepy, Kooky Science: Set 2",7,"Library Set","978-1-9785-1587-1",{"$f":"HYPERLINK(Table1[[#This Row],[Hyperlink]],\"Weblink\")","v":"Weblink"},"Enslow Publishing","2020","January 2020","7.250 X 9.250",null,null,null,null,null,null,null,null,"Grade 5","Grade 5 - 8","The rabies virus can cause zombie-like behavior, such as confusion, partial paralysis that may cause a lumbering gait, aggression, and excessive salivation. The anglerfish's head protrusion glows with bioluminescent bacteria in the darkest depths of the ocean to lure its prey to their death. The parasitic sea louse eats a fish's tongue and then replaces it with its own body. Through dynamic visuals and lively storytelling, readers will discover these bizarre facts and others as they explore the stranger and darker side of science. Colorful images, intriguing sidebars, and accessible text lead students back in time, under the sea, and into the bodies of organisms both living and dead in pursuit of wild and kooky knowledge. Features include: Offers an entertaining look at offbeat subjects to get readers excited about science. Correlates with Next Generation Science Standards for the physical sciences and life sciences. Contains Chapter Notes and Further Reading sections to provide additional resources for study.","English",195.51,146.65,null,"48 pp.","https://www.enslow.com/series/Creepy_Kooky_Science/534",{"$f":"Table1[[#This Row],[QTY]]*Table1[[#This Row],['# of Books]]","v":0},{"$f":"Table1[[#This Row],[QTY]]*Table1[[#This Row],[School & Library Price]]","v":0}]
[null,46,null,"Creepy, Kooky Science","Deep-Sea Creatures",1,"Library Bound Book","978-1-9785-1372-3",{"$f":"HYPERLINK(Table1[[#This Row],[Hyperlink]],\"Weblink\")","v":"Weblink"},"Enslow Publishing","2020","January 2020","7.250 X 9.250","Author","Roxanne Troup",null,null,null,null,"S",null,"Grade 5","Grade 5 - 8","Students will journey into the deep and have a glimpse of what life is like in the most unexplored place on Earth: the ocean. Through amazing photographs and lively text, readers will learn about fish with transparent heads and worms that resemble tubes of lipstick. They will discover how marine creatures survive without light and how they adapt as hunters, farmers, and deep-sea recycling centers. Students will solve a sea-monster mystery that haunted mankind for centuries. This essential book entertains as it educates about the importance of exploring and protecting our oceans.","English",27.93,20.95,"597/.63--dc23","48 pp.","https://www.enslow.com/books/Deep_Sea_Creatures/422146",{"$f":"Table1[[#This Row],[QTY]]*Table1[[#This Row],['# of Books]]","v":0},{"$f":"Table1[[#This Row],[QTY]]*Table1[[#This Row],[School & Library Price]]","v":0}]
[null,46,null,"Creepy, Kooky Science","Deep-Sea Creatures",1,"eBook","978-1-9785-1373-0",{"$f":"HYPERLINK(Table1[[#This Row],[Hyperlink]],\"Weblink\")","v":"Weblink"},"Enslow Publishing","2020","January 2020",null,"Author","Roxanne Troup",null,null,null,null,"S",null,"Grade 5","Grade 5 - 8","Students will journey into the deep and have a glimpse of what life is like in the most unexplored place on Earth: the ocean. Through amazing photographs and lively text, readers will learn about fish with transparent heads and worms that resemble tubes of lipstick. They will discover how marine creatures survive without light and how they adapt as hunters, farmers, and deep-sea recycling centers. Students will solve a sea-monster mystery that haunted mankind for centuries. This essential book entertains as it educates about the importance of exploring and protecting our oceans.","English",27.93,20.95,"597/.63--dc23","48 pp.","https://www.enslow.com/books/Deep_Sea_Creatures/422146",{"$f":"Table1[[#This Row],[QTY]]*Table1[[#This Row],['# of Books]]","v":0},{"$f":"Table1[[#This Row],[QTY]]*Table1[[#This Row],[School & Library Price]]","v":0}]
[null,46,null,"Creepy, Kooky Science","Eerie Science Experiments",1,"Library Bound Book","978-1-9785-1375-4",{"$f":"HYPERLINK(Table1[[#This Row],[Hyperlink]],\"Weblink\")","v":"Weblink"},"Enslow Publishing","2020","January 2020","7.250 X 9.250","Author","Terri Kaye Duncan",null,null,null,null,"U",null,"Grade 5","Grade 5 - 8","What will some scientists do in the name of science? Some are willing to go to extremes even if it means experimenting on their own bodies! They will drink vomit, undergo surgical procedures while awake, or even face a ferocious charging bull if doing so will further their research. This book introduces readers to six scientists, each of whom took science experiments to extremes. Their eerie experiments may have been weird, a little crazy, or just plain gross, but all left a lasting impression. They prove that science is not for the faint of heart, and inspire young minds to think outside of the box.","English",27.93,20.95,"507.8--dc23","48 pp.","https://www.enslow.com/books/Eerie_Science_Experiments/422147",{"$f":"Table1[[#This Row],[QTY]]*Table1[[#This Row],['# of Books]]","v":0},{"$f":"Table1[[#This Row],[QTY]]*Table1[[#This Row],[School & Library Price]]","v":0}]
[null,46,null,"Creepy, Kooky Science","Eerie Science Experiments",1,"eBook","978-1-9785-1376-1",{"$f":"HYPERLINK(Table1[[#This Row],[Hyperlink]],\"Weblink\")","v":"Weblink"},"Enslow Publishing","2020","January 2020",null,"Author","Terri Kaye Duncan",null,null,null,null,"U",null,"Grade 5","Grade 5 - 8","What will some scientists do in the name of science? Some are willing to go to extremes even if it means experimenting on their own bodies! They will drink vomit, undergo surgical procedures while awake, or even face a ferocious charging bull if doing so will further their research. This book introduces readers to six scientists, each of whom took science experiments to extremes. Their eerie experiments may have been weird, a little crazy, or just plain gross, but all left a lasting impression. They prove that science is not for the faint of heart, and inspire young minds to think outside of the box.","English",27.93,20.95,"507.8--dc23","48 pp.","https://www.enslow.com/books/Eerie_Science_Experiments/422147",{"$f":"Table1[[#This Row],[QTY]]*Table1[[#This Row],['# of Books]]","v":0},{"$f":"Table1[[#This Row],[QTY]]*Table1[[#This Row],[School & Library Price]]","v":0}]
[null,46,null,"Creepy, Kooky Science","Monstrous Medicine",1,"Library Bound Book","978-1-9785-1378-5",{"$f":"HYPERLINK(Table1[[#This Row],[Hyperlink]],\"Weblink\")","v":"Weblink"},"Enslow Publishing","2020","January 2020","7.250 X 9.250","Author","Hannah Isbell",null,null,null,null,"U",null,"Grade 5","Grade 5 - 8","The history of medicine is chock full of weird and wild remedies as well as brilliant breakthroughs. Through entertaining text, full-color images, and intriguing sidebars, readers will explore the most bizarre medical treatments of the past, including elixirs made of toxic metals, dressings of dung, corpse cures, and cupping. By examining the innovative ways different cultures around the world utilized the resources they had available to them to treat illness and injury, students will also learn the difference between weird science and quackery. They'll discover how some monstrous medical missteps led to modern medical miracles.","English",27.93,20.95,"610.9--dc23","48 pp.","https://www.enslow.com/books/Monstrous_Medicine/422148",{"$f":"Table1[[#This Row],[QTY]]*Table1[[#This Row],['# of Books]]","v":0},{"$f":"Table1[[#This Row],[QTY]]*Table1[[#This Row],[School & Library Price]]","v":0}]
[null,46,null,"Creepy, Kooky Science","Monstrous Medicine",1,"eBook","978-1-9785-1379-2",{"$f":"HYPERLINK(Table1[[#This Row],[Hyperlink]],\"Weblink\")","v":"Weblink"},"Enslow Publishing","2020","January 2020",null,"Author","Hannah Isbell",null,null,null,null,"U",null,"Grade 5","Grade 5 - 8","The history of medicine is chock full of weird and wild remedies as well as brilliant breakthroughs. Through entertaining text, full-color images, and intriguing sidebars, readers will explore the most bizarre medical treatments of the past, including elixirs made of toxic metals, dressings of dung, corpse cures, and cupping. By examining the innovative ways different cultures around the world utilized the resources they had available to them to treat illness and injury, students will also learn the difference between weird science and quackery. They'll discover how some monstrous medical missteps led to modern medical miracles.","English",27.93,20.95,"610.9--dc23","48 pp.","https://www.enslow.com/books/Monstrous_Medicine/422148",{"$f":"Table1[[#This Row],[QTY]]*Table1[[#This Row],['# of Books]]","v":0},{"$f":"Table1[[#This Row],[QTY]]*Table1[[#This Row],[School & Library Price]]","v":0}]
[null,46,null,"Creepy, Kooky Science","Nasty Parasites",1,"Library Bound Book","978-1-9785-1381-5",{"$f":"HYPERLINK(Table1[[#This Row],[Hyperlink]],\"Weblink\")","v":"Weblink"},"Enslow Publishing","2020","January 2020","7.250 X 9.250","Author","Roxanne Troup",null,null,null,null,"V",null,"Grade 5","Grade 5 - 8","Parasites are some of the nastiest creatures on earth. They will do anything to survive, including pirating nutrients and using mind control. Follicle mites feast on human skin cells. The corpse flower steals its host's DNA and the stickleback tapeworm tricks its host into becoming dinner. Parasites have adapted to every environment on earth and in the sea, but are these tiny creatures nature's monsters or do they play an important role in our ecosystem? Through intriguing photographs and accessible text, readers will dig into the science of parasites and explore how these creatures shape history.","English",27.93,20.95,"577.8/57--dc23","48 pp.","https://www.enslow.com/books/Nasty_Parasites/422149",{"$f":"Table1[[#This Row],[QTY]]*Table1[[#This Row],['# of Books]]","v":0},{"$f":"Table1[[#This Row],[QTY]]*Table1[[#This Row],[School & Library Price]]","v":0}]
[null,46,null,"Creepy, Kooky Science","Nasty Parasites",1,"eBook","978-1-9785-1382-2",{"$f":"HYPERLINK(Table1[[#This Row],[Hyperlink]],\"Weblink\")","v":"Weblink"},"Enslow Publishing","2020","January 2020",null,"Author","Roxanne Troup",null,null,null,null,"V",null,"Grade 5","Grade 5 - 8","Parasites are some of the nastiest creatures on earth. They will do anything to survive, including pirating nutrients and using mind control. Follicle mites feast on human skin cells. The corpse flower steals its host's DNA and the stickleback tapeworm tricks its host into becoming dinner. Parasites have adapted to every environment on earth and in the sea, but are these tiny creatures nature's monsters or do they play an important role in our ecosystem? Through intriguing photographs and accessible text, readers will dig into the science of parasites and explore how these creatures shape history.","English",27.93,20.95,"577.8/57--dc23","48 pp.","https://www.enslow.com/books/Nasty_Parasites/422149",{"$f":"Table1[[#This Row],[QTY]]*Table1[[#This Row],['# of Books]]","v":0},{"$f":"Table1[[#This Row],[QTY]]*Table1[[#This Row],[School & Library Price]]","v":0}]
[null,46,null,"Creepy, Kooky Science","Peculiar Places",1,"Library Bound Book","978-1-9785-1384-6",{"$f":"HYPERLINK(Table1[[#This Row],[Hyperlink]],\"Weblink\")","v":"Weblink"},"Enslow Publishing","2020","January 2020","7.250 X 9.250","Author","Eileen Lucas",null,null,null,null,"S",null,"Grade 5","Grade 5 - 8","Through a high-interest narrative and eye-catching images, readers journey to some of Earth's most peculiar places. They will uncover the secrets behind Stonehenge in England and the Nazca Lines in Peru. They will explore what is known about Area 51 and Roswell, New Mexico. They will learn what scientists have to say about who or what is responsible for disappearances in the Bermuda Triangle. They'll view some of the most bizarrely colored mountains, lakes, and beaches on the planet. Intriguing sidebars and a further reading section with recent books and educational websites encourage students to dive deeper into these and other mysteries.","English",27.93,20.95,"001.94--dc23","48 pp.","https://www.enslow.com/books/Peculiar_Places/422150",{"$f":"Table1[[#This Row],[QTY]]*Table1[[#This Row],['# of Books]]","v":0},{"$f":"Table1[[#This Row],[QTY]]*Table1[[#This Row],[School & Library Price]]","v":0}]
[null,46,null,"Creepy, Kooky Science","Peculiar Places",1,"eBook","978-1-9785-1385-3",{"$f":"HYPERLINK(Table1[[#This Row],[Hyperlink]],\"Weblink\")","v":"Weblink"},"Enslow Publishing","2020","January 2020",null,"Author","Eileen Lucas",null,null,null,null,"S",null,"Grade 5","Grade 5 - 8","Through a high-interest narrative and eye-catching images, readers journey to some of Earth's most peculiar places. They will uncover the secrets behind Stonehenge in England and the Nazca Lines in Peru. They will explore what is known about Area 51 and Roswell, New Mexico. They will learn what scientists have to say about who or what is responsible for disappearances in the Bermuda Triangle. They'll view some of the most bizarrely colored mountains, lakes, and beaches on the planet. Intriguing sidebars and a further reading section with recent books and educational websites encourage students to dive deeper into these and other mysteries.","English",27.93,20.95,"001.94--dc23","48 pp.","https://www.enslow.com/books/Peculiar_Places/422150",{"$f":"Table1[[#This Row],[QTY]]*Table1[[#This Row],['# of Books]]","v":0},{"$f":"Table1[[#This Row],[QTY]]*Table1[[#This Row],[School & Library Price]]","v":0}]
[null,46,null,"Creepy, Kooky Science","Petrifying Plagues",1,"Library Bound Book","978-1-9785-1387-7",{"$f":"HYPERLINK(Table1[[#This Row],[Hyperlink]],\"Weblink\")","v":"Weblink"},"Enslow Publishing","2020","January 2020","7.250 X 9.250","Author","John A. Torres",null,null,null,null,"V",null,"Grade 5","Grade 5 - 8","Deadly and highly infectious diseases have afflicted the human race for thousands of years, decimating populations. Will it be a petrifying plague that one day destroys mankind for good? Descriptive text enhanced by informative sidebars and amazing photographs will show readers just how fragile and resilient life can be at the same time. Students will learn about recent discoveries blaming humans and not rats for spreading the Black Death throughout Europe, as well as how simple things such as dirty drinking water or disease-carrying mosquitoes have spread other plagues, including cholera and malaria, which have killed millions.","English",27.93,20.95,"614.5/732--dc23","48 pp.","https://www.enslow.com/books/Petrifying_Plagues/422151",{"$f":"Table1[[#This Row],[QTY]]*Table1[[#This Row],['# of Books]]","v":0},{"$f":"Table1[[#This Row],[QTY]]*Table1[[#This Row],[School & Library Price]]","v":0}]
[null,46,null,"Creepy, Kooky Science","Petrifying Plagues",1,"eBook","978-1-9785-1388-4",{"$f":"HYPERLINK(Table1[[#This Row],[Hyperlink]],\"Weblink\")","v":"Weblink"},"Enslow Publishing","2020","January 2020",null,"Author","John A. Torres",null,null,null,null,"V",null,"Grade 5","Grade 5 - 8","Deadly and highly infectious diseases have afflicted the human race for thousands of years, decimating populations. Will it be a petrifying plague that one day destroys mankind for good? Descriptive text enhanced by informative sidebars and amazing photographs will show readers just how fragile and resilient life can be at the same time. Students will learn about recent discoveries blaming humans and not rats for spreading the Black Death throughout Europe, as well as how simple things such as dirty drinking water or disease-carrying mosquitoes have spread other plagues, including cholera and malaria, which have killed millions.","English",27.93,20.95,"614.5/732--dc23","48 pp.","https://www.enslow.com/books/Petrifying_Plagues/422151",{"$f":"Table1[[#This Row],[QTY]]*Table1[[#This Row],['# of Books]]","v":0},{"$f":"Table1[[#This Row],[QTY]]*Table1[[#This Row],[School & Library Price]]","v":0}]
[null,46,null,"Creepy, Kooky Science","Real-Life Zombies",1,"Library Bound Book","978-1-9785-1390-7",{"$f":"HYPERLINK(Table1[[#This Row],[Hyperlink]],\"Weblink\")","v":"Weblink"},"Enslow Publishing","2020","January 2020","7.250 X 9.250","Author","John A. Torres",null,null,null,null,"T",null,"Grade 5","Grade 5 - 8","Zombies have invaded mainstream society in weekly television shows, blockbuster movies, comic books, and novels. While there is no scientific proof that the dead can indeed come back to life, there are many terrifying and fascinating examples of real-life zombies in the world around us. Through enthralling text and vivid photographs, students will learn how rabies, which causes the infected to hobble, spasm, drool, and become aggressive and violent, influenced the modern depictions of the zombie. They will also read about a wasp that turns large cockroaches into mindless slaves, even walking them around like dogs, and other parasites, diseases, and substances that cause zombie-like characteristics in the afflicted.","English",27.93,20.95,"398.21--dc23","48 pp.","https://www.enslow.com/books/Real_Life_Zombies/422152",{"$f":"Table1[[#This Row],[QTY]]*Table1[[#This Row],['# of Books]]","v":0},{"$f":"Table1[[#This Row],[QTY]]*Table1[[#This Row],[School & Library Price]]","v":0}]
[null,46,null,"Creepy, Kooky Science","Real-Life Zombies",1,"eBook","978-1-9785-1391-4",{"$f":"HYPERLINK(Table1[[#This Row],[Hyperlink]],\"Weblink\")","v":"Weblink"},"Enslow Publishing","2020","January 2020",null,"Author","John A. Torres",null,null,null,null,"T",null,"Grade 5","Grade 5 - 8","Zombies have invaded mainstream society in weekly television shows, blockbuster movies, comic books, and novels. While there is no scientific proof that the dead can indeed come back to life, there are many terrifying and fascinating examples of real-life zombies in the world around us. Through enthralling text and vivid photographs, students will learn how rabies, which causes the infected to hobble, spasm, drool, and become aggressive and violent, influenced the modern depictions of the zombie. They will also read about a wasp that turns large cockroaches into mindless slaves, even walking them around like dogs, and other parasites, diseases, and substances that cause zombie-like characteristics in the afflicted.","English",27.93,20.95,"398.21--dc23","48 pp.","https://www.enslow.com/books/Real_Life_Zombies/422152",{"$f":"Table1[[#This Row],[QTY]]*Table1[[#This Row],['# of Books]]","v":0},{"$f":"Table1[[#This Row],[QTY]]*Table1[[#This Row],[School & Library Price]]","v":0}]
[null,46,null,"Creepy, Kooky Science","Bizarro Bloodsuckers",1,"Library Bound Book","978-1-9785-0373-1",{"$f":"HYPERLINK(Table1[[#This Row],[Hyperlink]],\"Weblink\")","v":"Weblink"},"Enslow Publishing","2019","January 2019","7.250 X 9.250","Author","Ron Knapp","5.6","1",null,null,"S","850L","Grade 5","Grade 5 - 8","Through fabulous visuals and lively storytelling, this entertaining book explores the strange science behind the bloodsuckers that surround us, including mosquitoes, head lice, and fleas. These critters can be irritating and sometimes even deadly, spreading terrible diseases such as malaria and the bubonic plague, which have killed millions. Students may be surprised to discover that bloodsuckers also help people. This text discusses how scientists are turning the chemicals blood drinkers produce into medicines and how doctors still use leeches to heal injuries.","English",27.93,20.95,"591.5/3--dc23","48 pp.","https://www.enslow.com/books/Bizarro_Bloodsuckers/4746",{"$f":"Table1[[#This Row],[QTY]]*Table1[[#This Row],['# of Books]]","v":0},{"$f":"Table1[[#This Row],[QTY]]*Table1[[#This Row],[School & Library Price]]","v":0}]
[null,46,null,"Creepy, Kooky Science","Bizarro Bloodsuckers",1,"eBook","978-1-9785-0430-1",{"$f":"HYPERLINK(Table1[[#This Row],[Hyperlink]],\"Weblink\")","v":"Weblink"},"Enslow Publishing","2019","January 2019",null,"Author","Ron Knapp","5.6","1",null,null,"S","850L","Grade 5","Grade 5 - 8","Through fabulous visuals and lively storytelling, this entertaining book explores the strange science behind the bloodsuckers that surround us, including mosquitoes, head lice, and fleas. These critters can be irritating and sometimes even deadly, spreading terrible diseases such as malaria and the bubonic plague, which have killed millions. Students may be surprised to discover that bloodsuckers also help people. This text discusses how scientists are turning the chemicals blood drinkers produce into medicines and how doctors still use leeches to heal injuries.","English",27.93,20.95,"591.5/3--dc23","48 pp.","https://www.enslow.com/books/Bizarro_Bloodsuckers/4746",{"$f":"Table1[[#This Row],[QTY]]*Table1[[#This Row],['# of Books]]","v":0},{"$f":"Table1[[#This Row],[QTY]]*Table1[[#This Row],[School & Library Price]]","v":0}]
[null,46,null,"Creepy, Kooky Science","Enemy Asteroids",1,"Library Bound Book","978-1-9785-0374-8",{"$f":"HYPERLINK(Table1[[#This Row],[Hyperlink]],\"Weblink\")","v":"Weblink"},"Enslow Publishing","2019","January 2019","7.250 X 9.250","Author","Angie Timmons","7","1",null,null,"T","1020L","Grade 5","Grade 5 - 8","What happened to the dinosaurs that once roamed Earth? Could they have been extinguished by an explosion or perhaps by a meteor? Through colorful images and accessible language, readers will explore the drastic events that forever changed life on Earth nearly seventy million years ago, learn more about the debris that's been falling to Earth for billions of years, and be introduced to the way Earth interacts with other objects in the solar system. Informative sidebars and fascinating facts encourage learners to ponder what lurks in space, and what it means for the future.","English",27.93,20.95,"523.44--dc23","48 pp.","https://www.enslow.com/books/Enemy_Asteroids/4747",{"$f":"Table1[[#This Row],[QTY]]*Table1[[#This Row],['# of Books]]","v":0},{"$f":"Table1[[#This Row],[QTY]]*Table1[[#This Row],[School & Library Price]]","v":0}]
[null,46,null,"Creepy, Kooky Science","Enemy Asteroids",1,"eBook","978-1-9785-0431-8",{"$f":"HYPERLINK(Table1[[#This Row],[Hyperlink]],\"Weblink\")","v":"Weblink"},"Enslow Publishing","2019","January 2019",null,"Author","Angie Timmons","7","1",null,null,"T","1020L","Grade 5","Grade 5 - 8","What happened to the dinosaurs that once roamed Earth? Could they have been extinguished by an explosion or perhaps by a meteor? Through colorful images and accessible language, readers will explore the drastic events that forever changed life on Earth nearly seventy million years ago, learn more about the debris that's been falling to Earth for billions of years, and be introduced to the way Earth interacts with other objects in the solar system. Informative sidebars and fascinating facts encourage learners to ponder what lurks in space, and what it means for the future.","English",27.93,20.95,"523.44--dc23","48 pp.","https://www.enslow.com/books/Enemy_Asteroids/4747",{"$f":"Table1[[#This Row],[QTY]]*Table1[[#This Row],['# of Books]]","v":0},{"$f":"Table1[[#This Row],[QTY]]*Table1[[#This Row],[School & Library Price]]","v":0}]
[null,46,null,"Creepy, Kooky Science","Icky Insects",1,"Library Bound Book","978-1-9785-0449-3",{"$f":"HYPERLINK(Table1[[#This Row],[Hyperlink]],\"Weblink\")","v":"Weblink"},"Enslow Publishing","2019","January 2019","7.250 X 9.250","Author","Margaret J. Anderson","5.6","1",null,null,"S","870L","Grade 5","Grade 5 - 8","Insects are the world's greatest success story. They have adapted to all kinds of environments and thrive on a bizarre variety of diets. The face fly gets its nourishment from a horse's tears, and there are beetles that raise their offspring on elephant dung. The praying mantis sometimes eats its own mate. Insects are both our friends and our foes. Featuring lively text and amazing photographs, this book entertains and educates the reader with a fascinating glimpse into the lives of the most numerous animals on earth.","English",27.93,20.95,"595.7--dc23","48 pp.","https://www.enslow.com/books/Icky_Insects/4748",{"$f":"Table1[[#This Row],[QTY]]*Table1[[#This Row],['# of Books]]","v":0},{"$f":"Table1[[#This Row],[QTY]]*Table1[[#This Row],[School & Library Price]]","v":0}]
[null,46,null,"Creepy, Kooky Science","Icky Insects",1,"eBook","978-1-9785-0432-5",{"$f":"HYPERLINK(Table1[[#This Row],[Hyperlink]],\"Weblink\")","v":"Weblink"},"Enslow Publishing","2019","January 2019",null,"Author","Margaret J. Anderson","5.6","1",null,null,"S","870L","Grade 5","Grade 5 - 8","Insects are the world's greatest success story. They have adapted to all kinds of environments and thrive on a bizarre variety of diets. The face fly gets its nourishment from a horse's tears, and there are beetles that raise their offspring on elephant dung. The praying mantis sometimes eats its own mate. Insects are both our friends and our foes. Featuring lively text and amazing photographs, this book entertains and educates the reader with a fascinating glimpse into the lives of the most numerous animals on earth.","English",27.93,20.95,"595.7--dc23","48 pp.","https://www.enslow.com/books/Icky_Insects/4748",{"$f":"Table1[[#This Row],[QTY]]*Table1[[#This Row],['# of Books]]","v":0},{"$f":"Table1[[#This Row],[QTY]]*Table1[[#This Row],[School & Library Price]]","v":0}]
[null,46,null,"Creepy, Kooky Science","Killer Carnivorous Plants",1,"Library Bound Book","978-1-9785-0450-9",{"$f":"HYPERLINK(Table1[[#This Row],[Hyperlink]],\"Weblink\")","v":"Weblink"},"Enslow Publishing","2019","January 2019","7.250 X 9.250","Author","Nathan Aaseng","6.9","1",null,null,"U","1070L","Grade 5","Grade 5 - 8","Plants sit at the bottom of the food chain. They provide meals for the vast majority of animals on earth, but what if the food chain were upset? Strange as it may sound, there are places on virtually every continent where plants are the hunters and animals the hunted. Some plants move so quickly that insects do not know what hit them. Others lay elaborate traps to lure their prey. Featuring stunning full-color photographs, informative sidebars, and accessible text, this book will fascinate young readers as it introduces them to real meat-eating plants of the world.","English",27.93,20.95,"583/.887--dc23","48 pp.","https://www.enslow.com/books/Killer_Carnivorous_Plants/4749",{"$f":"Table1[[#This Row],[QTY]]*Table1[[#This Row],['# of Books]]","v":0},{"$f":"Table1[[#This Row],[QTY]]*Table1[[#This Row],[School & Library Price]]","v":0}]
[null,46,null,"Creepy, Kooky Science","Killer Carnivorous Plants",1,"eBook","978-1-9785-0433-2",{"$f":"HYPERLINK(Table1[[#This Row],[Hyperlink]],\"Weblink\")","v":"Weblink"},"Enslow Publishing","2019","January 2019",null,"Author","Nathan Aaseng","6.9","1",null,null,"U","1070L","Grade 5","Grade 5 - 8","Plants sit at the bottom of the food chain. They provide meals for the vast majority of animals on earth, but what if the food chain were upset? Strange as it may sound, there are places on virtually every continent where plants are the hunters and animals the hunted. Some plants move so quickly that insects do not know what hit them. Others lay elaborate traps to lure their prey. Featuring stunning full-color photographs, informative sidebars, and accessible text, this book will fascinate young readers as it introduces them to real meat-eating plants of the world.","English",27.93,20.95,"583/.887--dc23","48 pp.","https://www.enslow.com/books/Killer_Carnivorous_Plants/4749",{"$f":"Table1[[#This Row],[QTY]]*Table1[[#This Row],['# of Books]]","v":0},{"$f":"Table1[[#This Row],[QTY]]*Table1[[#This Row],[School & Library Price]]","v":0}]
[null,46,null,"Creepy, Kooky Science","Long-Lost Civilizations",1,"Library Bound Book","978-1-9785-0451-6",{"$f":"HYPERLINK(Table1[[#This Row],[Hyperlink]],\"Weblink\")","v":"Weblink"},"Enslow Publishing","2019","January 2019","7.250 X 9.250","Author","Joyce Goldenstern","6.9","1",null,null,"V",null,"Grade 5","Grade 5 - 8","Bonampak, Harappa, Machu Picchu, these and other sites were truly \"long lost\" to the modern world. Then, using scientific tools, archaeologists revised and revitalized the stories of these \"lost\" civilizations. Through colorful images and fascinating facts presented in engaging text and informative sidebars, students will learn how scientists rediscovered and scientifically dated murals, sculptures, and artifacts covered with grime or buried under ashes and stones. Chapter notes and a Further Reading section with current books and websites provide additional resources for deeper exploration.","English",27.93,20.95,"930.1--dc23","48 pp.","https://www.enslow.com/books/Long_Lost_Civilizations/4750",{"$f":"Table1[[#This Row],[QTY]]*Table1[[#This Row],['# of Books]]","v":0},{"$f":"Table1[[#This Row],[QTY]]*Table1[[#This Row],[School & Library Price]]","v":0}]
[null,46,null,"Creepy, Kooky Science","Long-Lost Civilizations",1,"eBook","978-1-9785-0434-9",{"$f":"HYPERLINK(Table1[[#This Row],[Hyperlink]],\"Weblink\")","v":"Weblink"},"Enslow Publishing","2019","January 2019",null,"Author","Joyce Goldenstern","6.9","1",null,null,"V",null,"Grade 5","Grade 5 - 8","Bonampak, Harappa, Machu Picchu, these and other sites were truly \"long lost\" to the modern world. Then, using scientific tools, archaeologists revised and revitalized the stories of these \"lost\" civilizations. Through colorful images and fascinating facts presented in engaging text and informative sidebars, students will learn how scientists rediscovered and scientifically dated murals, sculptures, and artifacts covered with grime or buried under ashes and stones. Chapter notes and a Further Reading section with current books and websites provide additional resources for deeper exploration.","English",27.93,20.95,"930.1--dc23","48 pp.","https://www.enslow.com/books/Long_Lost_Civilizations/4750",{"$f":"Table1[[#This Row],[QTY]]*Table1[[#This Row],['# of Books]]","v":0},{"$f":"Table1[[#This Row],[QTY]]*Table1[[#This Row],[School & Library Price]]","v":0}]
[null,46,null,"Creepy, Kooky Science","Mysterious Mummies",1,"Library Bound Book","978-1-9785-0452-3",{"$f":"HYPERLINK(Table1[[#This Row],[Hyperlink]],\"Weblink\")","v":"Weblink"},"Enslow Publishing","2019","January 2019","7.250 X 9.250","Author","Ron Knapp","5.6","1",null,null,"U",null,"Grade 5","Grade 5 - 8","Not all ancient bodies decompose and disappear. The Iceman died five thousand years ago. Today, his frozen body has become a murder mystery. Tollund Man was preserved by muddy soil packed with decaying plants. After three thousand years, Tutankhamun, the boy king of Egypt, was still wearing his crown, his body preserved on purpose. Colorful images and lively language provide an in-depth look at the lives and deaths of these fascinating mummies. Additionally, informative sidebars and a Further Reading section with current books and websites encourage further study.","English",27.93,20.95,"393/.3--dc23","48 pp.","https://www.enslow.com/books/Mysterious_Mummies/4751",{"$f":"Table1[[#This Row],[QTY]]*Table1[[#This Row],['# of Books]]","v":0},{"$f":"Table1[[#This Row],[QTY]]*Table1[[#This Row],[School & Library Price]]","v":0}]
[null,46,null,"Creepy, Kooky Science","Mysterious Mummies",1,"eBook","978-1-9785-0435-6",{"$f":"HYPERLINK(Table1[[#This Row],[Hyperlink]],\"Weblink\")","v":"Weblink"},"Enslow Publishing","2019","January 2019",null,"Author","Ron Knapp","5.6","1",null,null,"U",null,"Grade 5","Grade 5 - 8","Not all ancient bodies decompose and disappear. The Iceman died five thousand years ago. Today, his frozen body has become a murder mystery. Tollund Man was preserved by muddy soil packed with decaying plants. After three thousand years, Tutankhamun, the boy king of Egypt, was still wearing his crown, his body preserved on purpose. Colorful images and lively language provide an in-depth look at the lives and deaths of these fascinating mummies. Additionally, informative sidebars and a Further Reading section with current books and websites encourage further study.","English",27.93,20.95,"393/.3--dc23","48 pp.","https://www.enslow.com/books/Mysterious_Mummies/4751",{"$f":"Table1[[#This Row],[QTY]]*Table1[[#This Row],['# of Books]]","v":0},{"$f":"Table1[[#This Row],[QTY]]*Table1[[#This Row],[School & Library Price]]","v":0}]
[null,47,null,"Lifesaving Science","Lifesaving Science",4,"Library Set","978-1-9785-2008-0",{"$f":"HYPERLINK(Table1[[#This Row],[Hyperlink]],\"Weblink\")","v":"Weblink"},"Enslow Publishing","2021","August 2020","8.500 X 11.00",null,null,null,null,null,null,null,null,"Grade 5 - 6","Grade 5 - 6","Today's medical technology is truly lifesaving. From finding ailments through body scans to treating infections with antibiotics, the methods used to diagnose and treat disease are astounding. Your readers will go back in time to learn how anesthetics, antibiotics, body scans, and vaccines were discovered and developed. How each works, safety, side effects, and the future of these medical marvels is discussed in age-appropriate detail, complemented by full-color photographs of actual people and animals in medical need. Features include: Graphic organizers of diseases at work in the body clarify main content explanations. Real-world examples and application make science content relevant. Supports STEM curricula.","English",101.08,75.8,null,"32 pp.","https://www.enslow.com/series/Lifesaving_Science/492642",{"$f":"Table1[[#This Row],[QTY]]*Table1[[#This Row],['# of Books]]","v":0},{"$f":"Table1[[#This Row],[QTY]]*Table1[[#This Row],[School & Library Price]]","v":0}]
[null,47,null,"Lifesaving Science","Anesthetics",1,"Library Bound Book","978-1-9785-1937-4",{"$f":"HYPERLINK(Table1[[#This Row],[Hyperlink]],\"Weblink\")","v":"Weblink"},"Enslow Publishing","2021","August 2020","8.500 X 11.00","Author","Joanna Brundle",null,null,null,null,"W",null,"Grade 5 - 6","Grade 5 - 6","Anesthetics come in many forms including creams that are rubbed into the skin, gases to be breathed in, and injections administered through a needle. They all are used to numb, dull, or stop pain for patients undergoing medical procedures. But how do they do that? Curious readers step into the operating room to find out the exact biological mechanisms that make anesthetics work. They'll explore the history of how they were developed. Side effects, safety, and future uses are also discussed in age-appropriate language and detail, accompanied by full-color photographs of realistic medical situations.","English",25.27,18.95,"617.96--dc23","32 pp.","https://www.enslow.com/books/Anesthetics/422247",{"$f":"Table1[[#This Row],[QTY]]*Table1[[#This Row],['# of Books]]","v":0},{"$f":"Table1[[#This Row],[QTY]]*Table1[[#This Row],[School & Library Price]]","v":0}]
[null,47,null,"Lifesaving Science","Anesthetics",1,"eBook","978-1-9785-1938-1",{"$f":"HYPERLINK(Table1[[#This Row],[Hyperlink]],\"Weblink\")","v":"Weblink"},"Enslow Publishing","2021","August 2020",null,"Author","Joanna Brundle",null,null,null,null,"W",null,"Grade 5 - 6","Grade 5 - 6","Anesthetics come in many forms including creams that are rubbed into the skin, gases to be breathed in, and injections administered through a needle. They all are used to numb, dull, or stop pain for patients undergoing medical procedures. But how do they do that? Curious readers step into the operating room to find out the exact biological mechanisms that make anesthetics work. They'll explore the history of how they were developed. Side effects, safety, and future uses are also discussed in age-appropriate language and detail, accompanied by full-color photographs of realistic medical situations.","English",25.27,18.95,"617.96--dc23","32 pp.","https://www.enslow.com/books/Anesthetics/422247",{"$f":"Table1[[#This Row],[QTY]]*Table1[[#This Row],['# of Books]]","v":0},{"$f":"Table1[[#This Row],[QTY]]*Table1[[#This Row],[School & Library Price]]","v":0}]
[null,47,null,"Lifesaving Science","Antibiotics",1,"Library Bound Book","978-1-9785-1941-1",{"$f":"HYPERLINK(Table1[[#This Row],[Hyperlink]],\"Weblink\")","v":"Weblink"},"Enslow Publishing","2021","August 2020","8.500 X 11.00","Author","Joanna Brundle",null,null,null,null,"W",null,"Grade 5 - 6","Grade 5 - 6","We come in contact with germs everywhere: the store, school, and in our homes. Not all bacteria make us sick, but those that do can be combatted with antibiotics. First discovered in 1928, penicillin is just one of many antibiotics that are used to treat those who are sick with a bacterial infection or have had surgery. Your readers will find out about the development of antibiotics and to how they work in the body. Resistance and the future of antibiotics are covered, juxtaposed with medical treatments used to help people before antibiotics.","English",25.27,18.95,"615.7'922--dc23","32 pp.","https://www.enslow.com/books/Antibiotics/422248",{"$f":"Table1[[#This Row],[QTY]]*Table1[[#This Row],['# of Books]]","v":0},{"$f":"Table1[[#This Row],[QTY]]*Table1[[#This Row],[School & Library Price]]","v":0}]
[null,47,null,"Lifesaving Science","Antibiotics",1,"eBook","978-1-9785-1942-8",{"$f":"HYPERLINK(Table1[[#This Row],[Hyperlink]],\"Weblink\")","v":"Weblink"},"Enslow Publishing","2021","August 2020",null,"Author","Joanna Brundle",null,null,null,null,"W",null,"Grade 5 - 6","Grade 5 - 6","We come in contact with germs everywhere: the store, school, and in our homes. Not all bacteria make us sick, but those that do can be combatted with antibiotics. First discovered in 1928, penicillin is just one of many antibiotics that are used to treat those who are sick with a bacterial infection or have had surgery. Your readers will find out about the development of antibiotics and to how they work in the body. Resistance and the future of antibiotics are covered, juxtaposed with medical treatments used to help people before antibiotics.","English",25.27,18.95,"615.7'922--dc23","32 pp.","https://www.enslow.com/books/Antibiotics/422248",{"$f":"Table1[[#This Row],[QTY]]*Table1[[#This Row],['# of Books]]","v":0},{"$f":"Table1[[#This Row],[QTY]]*Table1[[#This Row],[School & Library Price]]","v":0}]
[null,47,null,"Lifesaving Science","Body Scans",1,"Library Bound Book","978-1-9785-1945-9",{"$f":"HYPERLINK(Table1[[#This Row],[Hyperlink]],\"Weblink\")","v":"Weblink"},"Enslow Publishing","2021","August 2020","8.500 X 11.00","Author","Joanna Brundle",null,null,null,null,"W",null,"Grade 5 - 6","Grade 5 - 6","Being able to see inside the body makes diagnosing internal conditions much easier and more accurate. The many body scans doctors can do include X-rays, CT scans, MRIs, ultrasounds, and PET scans. All these letters stand for something. Readers of this understandable narrative will find out exactly what those abbreviations are and how and why each scan is performed. Curious readers will be fascinated by real images from these different kinds of scans and by illustrations that help explain complicated concepts, such as the electromagnetic spectrum.","English",25.27,18.95,"616.07'57--dc23","32 pp.","https://www.enslow.com/books/Body_Scans/422249",{"$f":"Table1[[#This Row],[QTY]]*Table1[[#This Row],['# of Books]]","v":0},{"$f":"Table1[[#This Row],[QTY]]*Table1[[#This Row],[School & Library Price]]","v":0}]
[null,47,null,"Lifesaving Science","Body Scans",1,"eBook","978-1-9785-1946-6",{"$f":"HYPERLINK(Table1[[#This Row],[Hyperlink]],\"Weblink\")","v":"Weblink"},"Enslow Publishing","2021","August 2020",null,"Author","Joanna Brundle",null,null,null,null,"W",null,"Grade 5 - 6","Grade 5 - 6","Being able to see inside the body makes diagnosing internal conditions much easier and more accurate. The many body scans doctors can do include X-rays, CT scans, MRIs, ultrasounds, and PET scans. All these letters stand for something. Readers of this understandable narrative will find out exactly what those abbreviations are and how and why each scan is performed. Curious readers will be fascinated by real images from these different kinds of scans and by illustrations that help explain complicated concepts, such as the electromagnetic spectrum.","English",25.27,18.95,"616.07'57--dc23","32 pp.","https://www.enslow.com/books/Body_Scans/422249",{"$f":"Table1[[#This Row],[QTY]]*Table1[[#This Row],['# of Books]]","v":0},{"$f":"Table1[[#This Row],[QTY]]*Table1[[#This Row],[School & Library Price]]","v":0}]
[null,47,null,"Lifesaving Science","Vaccines",1,"Library Bound Book","978-1-9785-1949-7",{"$f":"HYPERLINK(Table1[[#This Row],[Hyperlink]],\"Weblink\")","v":"Weblink"},"Enslow Publishing","2021","August 2020","8.500 X 11.00","Author","Joanna Brundle",null,null,null,null,"W",null,"Grade 5 - 6","Grade 5 - 6","While vaccines are a hot-button issue, there is no scientific doubt that they have eradicated some diseases from many modern countries. Including sections on what exactly vaccines are, why they are used, and how they work, the narrative of this book explains this newsworthy topic in age-appropriate language and detail. Full-color photographs of actual medical conditions prevented by vaccines and illustrations of these diseases make each seem even more real to the future scientists engaged with each page.","English",25.27,18.95,"615.3'72--dc23","32 pp.","https://www.enslow.com/books/Vaccines/422250",{"$f":"Table1[[#This Row],[QTY]]*Table1[[#This Row],['# of Books]]","v":0},{"$f":"Table1[[#This Row],[QTY]]*Table1[[#This Row],[School & Library Price]]","v":0}]
[null,47,null,"Lifesaving Science","Vaccines",1,"eBook","978-1-9785-1950-3",{"$f":"HYPERLINK(Table1[[#This Row],[Hyperlink]],\"Weblink\")","v":"Weblink"},"Enslow Publishing","2021","August 2020",null,"Author","Joanna Brundle",null,null,null,null,"W",null,"Grade 5 - 6","Grade 5 - 6","While vaccines are a hot-button issue, there is no scientific doubt that they have eradicated some diseases from many modern countries. Including sections on what exactly vaccines are, why they are used, and how they work, the narrative of this book explains this newsworthy topic in age-appropriate language and detail. Full-color photographs of actual medical conditions prevented by vaccines and illustrations of these diseases make each seem even more real to the future scientists engaged with each page.","English",25.27,18.95,"615.3'72--dc23","32 pp.","https://www.enslow.com/books/Vaccines/422250",{"$f":"Table1[[#This Row],[QTY]]*Table1[[#This Row],['# of Books]]","v":0},{"$f":"Table1[[#This Row],[QTY]]*Table1[[#This Row],[School & Library Price]]","v":0}]
[null,49,null,"Know the Issues","Know the Issues",4,"Library Set","978-1-9785-1699-1",{"$f":"HYPERLINK(Table1[[#This Row],[Hyperlink]],\"Weblink\")","v":"Weblink"},"Enslow Publishing","2021","August 2020","8.500 X 8.500",null,null,null,null,null,null,null,null,"Grade 4 - 5","Grade 3 - 6","Students today likely recognize major issues of debate in the United States and in an increasingly connected world, but they may not fully understand these complex issues. This set summarizes these complicated topics in engaging ways, including through vibrant timelines and captivating photographs. Students will learn about ways to combat racism, what it is like living as a refugee, ways immigrants contribute to societies, and how to spot bias in the news. After reading this set, students will have what they need to address these issues as engaged members of the world community. Features include: Promotes media literacy. Each issue is divided into meaningful units that readers can understand. Many examples make complex ideas and new concepts relatable.","English",101.08,75.8,null,"32 pp.","https://www.enslow.com/series/Know_the_Issues/489748",{"$f":"Table1[[#This Row],[QTY]]*Table1[[#This Row],['# of Books]]","v":0},{"$f":"Table1[[#This Row],[QTY]]*Table1[[#This Row],[School & Library Price]]","v":0}]
[null,49,null,"Know the Issues","Immigration",1,"Library Bound Book","978-1-9785-1685-4",{"$f":"HYPERLINK(Table1[[#This Row],[Hyperlink]],\"Weblink\")","v":"Weblink"},"Enslow Publishing","2021","August 2020","8.500 X 8.500","Author","John Wood",null,null,null,null,"P",null,"Grade 4 - 5","Grade 3 - 6","Immigration is a vital part of American history. Today, policies that center on immigration and the ways it has evolved are often the source of political debate and take center stage in current events. This book helps students understand these policies in addition to the major reasons people decide to live in new countries. It examines the ways immigrants have shaped culture and how many immigrants have played important roles in successful societies. Readers will evaluate how U.S. immigration compares around the world. Fascinating facts, vibrant photographs, and a colorful, engaging layout will keep young readers engaged as they learn about this important topic.","English",25.27,18.95,"325'.1--dc23","32 pp.","https://www.enslow.com/books/Immigration/422207",{"$f":"Table1[[#This Row],[QTY]]*Table1[[#This Row],['# of Books]]","v":0},{"$f":"Table1[[#This Row],[QTY]]*Table1[[#This Row],[School & Library Price]]","v":0}]
[null,49,null,"Know the Issues","Immigration",1,"eBook","978-1-9785-1686-1",{"$f":"HYPERLINK(Table1[[#This Row],[Hyperlink]],\"Weblink\")","v":"Weblink"},"Enslow Publishing","2021","August 2020",null,"Author","John Wood",null,null,null,null,"P",null,"Grade 4 - 5","Grade 3 - 6","Immigration is a vital part of American history. Today, policies that center on immigration and the ways it has evolved are often the source of political debate and take center stage in current events. This book helps students understand these policies in addition to the major reasons people decide to live in new countries. It examines the ways immigrants have shaped culture and how many immigrants have played important roles in successful societies. Readers will evaluate how U.S. immigration compares around the world. Fascinating facts, vibrant photographs, and a colorful, engaging layout will keep young readers engaged as they learn about this important topic.","English",25.27,18.95,"325'.1--dc23","32 pp.","https://www.enslow.com/books/Immigration/422207",{"$f":"Table1[[#This Row],[QTY]]*Table1[[#This Row],['# of Books]]","v":0},{"$f":"Table1[[#This Row],[QTY]]*Table1[[#This Row],[School & Library Price]]","v":0}]
[null,49,null,"Know the Issues","News and the Media",1,"Library Bound Book","978-1-9785-1689-2",{"$f":"HYPERLINK(Table1[[#This Row],[Hyperlink]],\"Weblink\")","v":"Weblink"},"Enslow Publishing","2021","August 2020","8.500 X 8.500","Author","Emilie Dufresne",null,null,null,null,"P",null,"Grade 4 - 5","Grade 3 - 6","Students today live in a media-rich world of breaking news headlines and social media posts. With the vital information in this book, students will learn how to navigate the many facets of this evolving media so they can stay informed while also objective. Complete with captivating diagrams and photographs, this resource will help students understand how the news and media have evolved, how to spot bias, and how to stay safe online. Students will learn about growing media careers. Your readers will build digital literacy and use the media to become more engaged citizens in the world community.","English",25.27,18.95,"070.4'3--dc23","32 pp.","https://www.enslow.com/books/News_and_the_Media/422208",{"$f":"Table1[[#This Row],[QTY]]*Table1[[#This Row],['# of Books]]","v":0},{"$f":"Table1[[#This Row],[QTY]]*Table1[[#This Row],[School & Library Price]]","v":0}]
[null,49,null,"Know the Issues","News and the Media",1,"eBook","978-1-9785-1690-8",{"$f":"HYPERLINK(Table1[[#This Row],[Hyperlink]],\"Weblink\")","v":"Weblink"},"Enslow Publishing","2021","August 2020",null,"Author","Emilie Dufresne",null,null,null,null,"P",null,"Grade 4 - 5","Grade 3 - 6","Students today live in a media-rich world of breaking news headlines and social media posts. With the vital information in this book, students will learn how to navigate the many facets of this evolving media so they can stay informed while also objective. Complete with captivating diagrams and photographs, this resource will help students understand how the news and media have evolved, how to spot bias, and how to stay safe online. Students will learn about growing media careers. Your readers will build digital literacy and use the media to become more engaged citizens in the world community.","English",25.27,18.95,"070.4'3--dc23","32 pp.","https://www.enslow.com/books/News_and_the_Media/422208",{"$f":"Table1[[#This Row],[QTY]]*Table1[[#This Row],['# of Books]]","v":0},{"$f":"Table1[[#This Row],[QTY]]*Table1[[#This Row],[School & Library Price]]","v":0}]
[null,49,null,"Know the Issues","Racism",1,"Library Bound Book","978-1-9785-1693-9",{"$f":"HYPERLINK(Table1[[#This Row],[Hyperlink]],\"Weblink\")","v":"Weblink"},"Enslow Publishing","2021","August 2020","8.500 X 8.500","Author","Emilie Dufresne",null,null,null,null,"P",null,"Grade 4 - 5","Grade 3 - 6","Racism is a complex issue that still affects many in the diverse United States and world. This book helps readers understand this problem from the roots of racial identities to what is being done today to stand up to racism and help people affected by it. Vibrant photographs, diagrams, and a timeline of the U.S. civil rights movement enhance the approachable text. This book helps students understand the progress that's been made to fight racism. They will analyze the steps that still need to be taken. Equipped with this knowledge, readers will feel inspired and empowered to build more compassionate and accepting communities.","English",25.27,18.95,"305.8--dc23","32 pp.","https://www.enslow.com/books/Racism/422209",{"$f":"Table1[[#This Row],[QTY]]*Table1[[#This Row],['# of Books]]","v":0},{"$f":"Table1[[#This Row],[QTY]]*Table1[[#This Row],[School & Library Price]]","v":0}]
[null,49,null,"Know the Issues","Racism",1,"eBook","978-1-9785-1694-6",{"$f":"HYPERLINK(Table1[[#This Row],[Hyperlink]],\"Weblink\")","v":"Weblink"},"Enslow Publishing","2021","August 2020",null,"Author","Emilie Dufresne",null,null,null,null,"P",null,"Grade 4 - 5","Grade 3 - 6","Racism is a complex issue that still affects many in the diverse United States and world. This book helps readers understand this problem from the roots of racial identities to what is being done today to stand up to racism and help people affected by it. Vibrant photographs, diagrams, and a timeline of the U.S. civil rights movement enhance the approachable text. This book helps students understand the progress that's been made to fight racism. They will analyze the steps that still need to be taken. Equipped with this knowledge, readers will feel inspired and empowered to build more compassionate and accepting communities.","English",25.27,18.95,"305.8--dc23","32 pp.","https://www.enslow.com/books/Racism/422209",{"$f":"Table1[[#This Row],[QTY]]*Table1[[#This Row],['# of Books]]","v":0},{"$f":"Table1[[#This Row],[QTY]]*Table1[[#This Row],[School & Library Price]]","v":0}]
[null,49,null,"Know the Issues","Refugees",1,"Library Bound Book","978-1-9785-1697-7",{"$f":"HYPERLINK(Table1[[#This Row],[Hyperlink]],\"Weblink\")","v":"Weblink"},"Enslow Publishing","2021","August 2020","8.500 X 8.500","Author","Holly Duhig",null,null,null,null,"P",null,"Grade 4 - 5","Grade 3 - 6","Refugees are a hot topic in the news and politics. Young readers may not fully comprehend what it means to be a refugee, the complicated systems they must use to enter new countries legally, and the challenges they face adjusting to different cultures. This book presents these topics with easy-to-understand text and captivating photographs. Your readers will experience an in-depth look at what life is like as a refugee. They'll learn why people flee their home countries and about the dangers faced on this journey. How refugees can shape and contribute in a positive way to the new countries they call home is demonstrated.","English",25.27,18.95,"305.9'06914--dc23","32 pp.","https://www.enslow.com/books/Refugees/422210",{"$f":"Table1[[#This Row],[QTY]]*Table1[[#This Row],['# of Books]]","v":0},{"$f":"Table1[[#This Row],[QTY]]*Table1[[#This Row],[School & Library Price]]","v":0}]
[null,49,null,"Know the Issues","Refugees",1,"eBook","978-1-9785-1698-4",{"$f":"HYPERLINK(Table1[[#This Row],[Hyperlink]],\"Weblink\")","v":"Weblink"},"Enslow Publishing","2021","August 2020",null,"Author","Holly Duhig",null,null,null,null,"P",null,"Grade 4 - 5","Grade 3 - 6","Refugees are a hot topic in the news and politics. Young readers may not fully comprehend what it means to be a refugee, the complicated systems they must use to enter new countries legally, and the challenges they face adjusting to different cultures. This book presents these topics with easy-to-understand text and captivating photographs. Your readers will experience an in-depth look at what life is like as a refugee. They'll learn why people flee their home countries and about the dangers faced on this journey. How refugees can shape and contribute in a positive way to the new countries they call home is demonstrated.","English",25.27,18.95,"305.9'06914--dc23","32 pp.","https://www.enslow.com/books/Refugees/422210",{"$f":"Table1[[#This Row],[QTY]]*Table1[[#This Row],['# of Books]]","v":0},{"$f":"Table1[[#This Row],[QTY]]*Table1[[#This Row],[School & Library Price]]","v":0}]
[null,50,null,"Whatever Happened?","Whatever Happened?",4,"Library Set","978-1-9785-2010-3",{"$f":"HYPERLINK(Table1[[#This Row],[Hyperlink]],\"Weblink\")","v":"Weblink"},"Enslow Publishing","2021","August 2020","8.500 X 11.00",null,null,null,null,null,null,null,null,"Grade 4 - 5","Grade 4 - 6","Some of the largest, most advanced civilizations in history aren't around anymore. Why? Were they conquered? Did they have warring leaders? Was there a revolution? Your curious readers will learn the specifics of what happened to the Roman Empire, Ancient Greeks, Ancient Egyptians, and the Shang Dynasty. Including curriculum-supporting social studies content such as important dates, events, and bios on people of each era, this innovative set gives readers an inside look into the collapse of each civilization. Each book is written in a conversational style and supported by an engaging design. Features include: List of civilizations' contributions makes historical content feel relevant. Introduces world cultures. Encourages critical thinking and understanding of cause and effect.","English",101.08,75.8,null,"32 pp.","https://www.enslow.com/series/Whatever_Happened/492694",{"$f":"Table1[[#This Row],[QTY]]*Table1[[#This Row],['# of Books]]","v":0},{"$f":"Table1[[#This Row],[QTY]]*Table1[[#This Row],[School & Library Price]]","v":0}]
[null,50,null,"Whatever Happened?","The Ancient Egyptians",1,"Library Bound Book","978-1-9785-1977-0",{"$f":"HYPERLINK(Table1[[#This Row],[Hyperlink]],\"Weblink\")","v":"Weblink"},"Enslow Publishing","2021","August 2020","8.500 X 11.00","Author","Kirsty Holmes",null,null,null,null,"T",null,"Grade 4 - 5","Grade 4 - 6","Ancient Egypt is known for powerful pharaohs, hieroglyphics, and a complex mythology. However, their contributions to modern civilization happened centuries ago. So, why didn't the ancient Egyptians thrive longer than they did? From a lack of needed resources and famine to civil war and invasions, the reasons the empire of ancient Egypt fell are varied. With this compelling volume, readers investigate why this impressive empire isn't around anymore, and why it was such an important part of the ancient world. Accessible text, full-color images, and a timeline complement classroom learning activities and social studies curricula.","English",25.27,18.95,"609'.32--dc23","32 pp.","https://www.enslow.com/books/The_Ancient_Egyptians/422257",{"$f":"Table1[[#This Row],[QTY]]*Table1[[#This Row],['# of Books]]","v":0},{"$f":"Table1[[#This Row],[QTY]]*Table1[[#This Row],[School & Library Price]]","v":0}]
[null,50,null,"Whatever Happened?","The Ancient Egyptians",1,"eBook","978-1-9785-1978-7",{"$f":"HYPERLINK(Table1[[#This Row],[Hyperlink]],\"Weblink\")","v":"Weblink"},"Enslow Publishing","2021","August 2020",null,"Author","Kirsty Holmes",null,null,null,null,"T",null,"Grade 4 - 5","Grade 4 - 6","Ancient Egypt is known for powerful pharaohs, hieroglyphics, and a complex mythology. However, their contributions to modern civilization happened centuries ago. So, why didn't the ancient Egyptians thrive longer than they did? From a lack of needed resources and famine to civil war and invasions, the reasons the empire of ancient Egypt fell are varied. With this compelling volume, readers investigate why this impressive empire isn't around anymore, and why it was such an important part of the ancient world. Accessible text, full-color images, and a timeline complement classroom learning activities and social studies curricula.","English",25.27,18.95,"609'.32--dc23","32 pp.","https://www.enslow.com/books/The_Ancient_Egyptians/422257",{"$f":"Table1[[#This Row],[QTY]]*Table1[[#This Row],['# of Books]]","v":0},{"$f":"Table1[[#This Row],[QTY]]*Table1[[#This Row],[School & Library Price]]","v":0}]
[null,50,null,"Whatever Happened?","The Ancient Greeks",1,"Library Bound Book","978-1-9785-1981-7",{"$f":"HYPERLINK(Table1[[#This Row],[Hyperlink]],\"Weblink\")","v":"Weblink"},"Enslow Publishing","2021","August 2020","8.500 X 11.00","Author","Kirsty Holmes",null,null,null,null,"T",null,"Grade 4 - 5","Grade 4 - 6","From early democracy to the Olympics, the contributions of ancient Greece are still very much a part of today's world. However, this ancient civilization dissolved thousands of years ago. How and why did this impressive civilization fall? The answer to that question is found within the pages of this book, written especially for elementary readers. Historical images and important dates support social studies content, including the rise in the power of the Roman Empire, which eventually conquered the Greeks. With this knowledge, readers will better understand the influence and importance of this civilization hundreds of years after its decline.","English",25.27,18.95,"938--dc23","32 pp.","https://www.enslow.com/books/The_Ancient_Greeks/422258",{"$f":"Table1[[#This Row],[QTY]]*Table1[[#This Row],['# of Books]]","v":0},{"$f":"Table1[[#This Row],[QTY]]*Table1[[#This Row],[School & Library Price]]","v":0}]
[null,50,null,"Whatever Happened?","The Ancient Greeks",1,"eBook","978-1-9785-1982-4",{"$f":"HYPERLINK(Table1[[#This Row],[Hyperlink]],\"Weblink\")","v":"Weblink"},"Enslow Publishing","2021","August 2020",null,"Author","Kirsty Holmes",null,null,null,null,"T",null,"Grade 4 - 5","Grade 4 - 6","From early democracy to the Olympics, the contributions of ancient Greece are still very much a part of today's world. However, this ancient civilization dissolved thousands of years ago. How and why did this impressive civilization fall? The answer to that question is found within the pages of this book, written especially for elementary readers. Historical images and important dates support social studies content, including the rise in the power of the Roman Empire, which eventually conquered the Greeks. With this knowledge, readers will better understand the influence and importance of this civilization hundreds of years after its decline.","English",25.27,18.95,"938--dc23","32 pp.","https://www.enslow.com/books/The_Ancient_Greeks/422258",{"$f":"Table1[[#This Row],[QTY]]*Table1[[#This Row],['# of Books]]","v":0},{"$f":"Table1[[#This Row],[QTY]]*Table1[[#This Row],[School & Library Price]]","v":0}]
[null,50,null,"Whatever Happened?","The Ancient Romans",1,"Library Bound Book","978-1-9785-1985-5",{"$f":"HYPERLINK(Table1[[#This Row],[Hyperlink]],\"Weblink\")","v":"Weblink"},"Enslow Publishing","2021","August 2020","8.500 X 11.00","Author","Kirsty Holmes",null,null,null,null,"T",null,"Grade 4 - 5","Grade 4 - 6","At its height, ancient Rome stretched from modern-day Great Britain in the west to modern-day parts of Asia to the east. Many social studies students know that ancient Rome was powerful and contributed much to future world civilizations, but what's often less clear is why and how this huge empire fell so spectacularly. Your readers will investigate this exact idea, including the invasions the Roman Empire faced, the overextension of the Roman military, and the political trouble that caused the empire to split in two. Maps and historical images aid readers' understanding the compelling narrative.","English",25.27,18.95,"937--dc23","32 pp.","https://www.enslow.com/books/The_Ancient_Romans/422259",{"$f":"Table1[[#This Row],[QTY]]*Table1[[#This Row],['# of Books]]","v":0},{"$f":"Table1[[#This Row],[QTY]]*Table1[[#This Row],[School & Library Price]]","v":0}]
[null,50,null,"Whatever Happened?","The Ancient Romans",1,"eBook","978-1-9785-1986-2",{"$f":"HYPERLINK(Table1[[#This Row],[Hyperlink]],\"Weblink\")","v":"Weblink"},"Enslow Publishing","2021","August 2020",null,"Author","Kirsty Holmes",null,null,null,null,"T",null,"Grade 4 - 5","Grade 4 - 6","At its height, ancient Rome stretched from modern-day Great Britain in the west to modern-day parts of Asia to the east. Many social studies students know that ancient Rome was powerful and contributed much to future world civilizations, but what's often less clear is why and how this huge empire fell so spectacularly. Your readers will investigate this exact idea, including the invasions the Roman Empire faced, the overextension of the Roman military, and the political trouble that caused the empire to split in two. Maps and historical images aid readers' understanding the compelling narrative.","English",25.27,18.95,"937--dc23","32 pp.","https://www.enslow.com/books/The_Ancient_Romans/422259",{"$f":"Table1[[#This Row],[QTY]]*Table1[[#This Row],['# of Books]]","v":0},{"$f":"Table1[[#This Row],[QTY]]*Table1[[#This Row],[School & Library Price]]","v":0}]
[null,50,null,"Whatever Happened?","The Shang Dynasty",1,"Library Bound Book","978-1-9785-1989-3",{"$f":"HYPERLINK(Table1[[#This Row],[Hyperlink]],\"Weblink\")","v":"Weblink"},"Enslow Publishing","2021","August 2020","8.500 X 11.00","Author","Kirsty Holmes",null,null,null,null,"T",null,"Grade 4 - 5","Grade 4 - 6","The Shang Dynasty was the earliest recorded dynasty in China. It was in power for less than 600 years, but they ruled during great advances in math, art, astronomy, and military technology. If life was so great during this time, why did the Shang Dynasty end? Invasion is one main reason that readers learn about in this compelling volume, full of information about the civilization the Shang Dynasty created and about ancient China. Historical images and a timeline aid in comprehension of the social studies content included throughout.","English",25.27,18.95,"931--dc23","32 pp.","https://www.enslow.com/books/The_Shang_Dynasty/422260",{"$f":"Table1[[#This Row],[QTY]]*Table1[[#This Row],['# of Books]]","v":0},{"$f":"Table1[[#This Row],[QTY]]*Table1[[#This Row],[School & Library Price]]","v":0}]
[null,50,null,"Whatever Happened?","The Shang Dynasty",1,"eBook","978-1-9785-1990-9",{"$f":"HYPERLINK(Table1[[#This Row],[Hyperlink]],\"Weblink\")","v":"Weblink"},"Enslow Publishing","2021","August 2020",null,"Author","Kirsty Holmes",null,null,null,null,"T",null,"Grade 4 - 5","Grade 4 - 6","The Shang Dynasty was the earliest recorded dynasty in China. It was in power for less than 600 years, but they ruled during great advances in math, art, astronomy, and military technology. If life was so great during this time, why did the Shang Dynasty end? Invasion is one main reason that readers learn about in this compelling volume, full of information about the civilization the Shang Dynasty created and about ancient China. Historical images and a timeline aid in comprehension of the social studies content included throughout.","English",25.27,18.95,"931--dc23","32 pp.","https://www.enslow.com/books/The_Shang_Dynasty/422260",{"$f":"Table1[[#This Row],[QTY]]*Table1[[#This Row],['# of Books]]","v":0},{"$f":"Table1[[#This Row],[QTY]]*Table1[[#This Row],[School & Library Price]]","v":0}]
[null,51,null,"Sports for Fun and Fitness","Sports for Fun and Fitness",6,"Library Set","978-1-9785-1593-2",{"$f":"HYPERLINK(Table1[[#This Row],[Hyperlink]],\"Weblink\")","v":"Weblink"},"Enslow Publishing","2020","January 2020","7.125 X 8.500",null,null,null,null,null,null,null,null,"Grade 3","Grade 2 - 5","Football is fun! Soccer is swell! From home runs to dunk balls, from cartwheels to karate kicks, this set explores the rules and fun of sports, from outdoor fields to indoor courts. Whether you're inside or out, it's important to keep moving and to do it safely. Readers will explore sportsmanship, competition, physical activity, and why it's important to respect teammates and opponents. This set engagingly imparts an important message; smart choices are healthy choices. Features include: Encourages kids to get up, get moving, and develop healthy habits. Unlike other sports books, this set emphasizes being active rather than winning. Encourages good sportsmanship and healthy, nontoxic competition. The easy-to-follow presentation of basic information demystifies each sport for new practitioners, while interesting facts about the sports make these worthwhile for more seasoned players.","English",151.62,113.7,null,"32 pp.","https://www.enslow.com/series/Sports_for_Fun_and_Fitness/483786",{"$f":"Table1[[#This Row],[QTY]]*Table1[[#This Row],['# of Books]]","v":0},{"$f":"Table1[[#This Row],[QTY]]*Table1[[#This Row],[School & Library Price]]","v":0}]
[null,51,null,"Sports for Fun and Fitness","Basketball for Fun and Fitness",1,"Library Bound Book","978-1-9785-1331-0",{"$f":"HYPERLINK(Table1[[#This Row],[Hyperlink]],\"Weblink\")","v":"Weblink"},"Enslow Publishing","2020","January 2020","7.125 X 8.500","Author","Jeff Mapua",null,null,null,null,"N",null,"Grade 3","Grade 2 - 5","The National Basketball Association plays 82 games every season, but basketball fans don't have to play that many to get into the game. However, this informative introduction might inspire young fans to play even more. From dribbling and passing, readers will examine every facet of basketball, whether they want to practice their skills on their own or play as part of a team. They'll learn how basketball is unique among sports, with other games layered into it, and how teams work together to score points. How do we play H-O-R-S-E? Let's find out!","English",25.27,18.95,"796.323--dc23","32 pp.","https://www.enslow.com/books/Basketball_for_Fun_and_Fitness/422134",{"$f":"Table1[[#This Row],[QTY]]*Table1[[#This Row],['# of Books]]","v":0},{"$f":"Table1[[#This Row],[QTY]]*Table1[[#This Row],[School & Library Price]]","v":0}]
[null,51,null,"Sports for Fun and Fitness","Basketball for Fun and Fitness",1,"eBook","978-1-9785-1332-7",{"$f":"HYPERLINK(Table1[[#This Row],[Hyperlink]],\"Weblink\")","v":"Weblink"},"Enslow Publishing","2020","January 2020",null,"Author","Jeff Mapua",null,null,null,null,"N",null,"Grade 3","Grade 2 - 5","The National Basketball Association plays 82 games every season, but basketball fans don't have to play that many to get into the game. However, this informative introduction might inspire young fans to play even more. From dribbling and passing, readers will examine every facet of basketball, whether they want to practice their skills on their own or play as part of a team. They'll learn how basketball is unique among sports, with other games layered into it, and how teams work together to score points. How do we play H-O-R-S-E? Let's find out!","English",25.27,18.95,"796.323--dc23","32 pp.","https://www.enslow.com/books/Basketball_for_Fun_and_Fitness/422134",{"$f":"Table1[[#This Row],[QTY]]*Table1[[#This Row],['# of Books]]","v":0},{"$f":"Table1[[#This Row],[QTY]]*Table1[[#This Row],[School & Library Price]]","v":0}]
[null,51,null,"Sports for Fun and Fitness","Flag Football for Fun and Fitness",1,"Library Bound Book","978-1-9785-1335-8",{"$f":"HYPERLINK(Table1[[#This Row],[Hyperlink]],\"Weblink\")","v":"Weblink"},"Enslow Publishing","2020","January 2020","7.125 X 8.500","Author","Dean Smith-Richard",null,null,null,null,"M",null,"Grade 3","Grade 2 - 5","Watching pro football every Sunday may inspire kids to play football, but there's no need to start with shoulder pads and tackles. Flag football is a no-impact way to learn all there is to love about the game of football. Whether it's offense, defense, throwing, catching, or scoring touchdowns, readers explore how awesome flag football is and how they can play it in their own backyards. This book explores all aspects of flag football, with a list of words to know for a deeper dive into the sport.","English",25.27,18.95,"796.332/8--dc23","32 pp.","https://www.enslow.com/books/Flag_Football_for_Fun_and_Fitness/422135",{"$f":"Table1[[#This Row],[QTY]]*Table1[[#This Row],['# of Books]]","v":0},{"$f":"Table1[[#This Row],[QTY]]*Table1[[#This Row],[School & Library Price]]","v":0}]
[null,51,null,"Sports for Fun and Fitness","Flag Football for Fun and Fitness",1,"eBook","978-1-9785-1336-5",{"$f":"HYPERLINK(Table1[[#This Row],[Hyperlink]],\"Weblink\")","v":"Weblink"},"Enslow Publishing","2020","January 2020",null,"Author","Dean Smith-Richard",null,null,null,null,"M",null,"Grade 3","Grade 2 - 5","Watching pro football every Sunday may inspire kids to play football, but there's no need to start with shoulder pads and tackles. Flag football is a no-impact way to learn all there is to love about the game of football. Whether it's offense, defense, throwing, catching, or scoring touchdowns, readers explore how awesome flag football is and how they can play it in their own backyards. This book explores all aspects of flag football, with a list of words to know for a deeper dive into the sport.","English",25.27,18.95,"796.332/8--dc23","32 pp.","https://www.enslow.com/books/Flag_Football_for_Fun_and_Fitness/422135",{"$f":"Table1[[#This Row],[QTY]]*Table1[[#This Row],['# of Books]]","v":0},{"$f":"Table1[[#This Row],[QTY]]*Table1[[#This Row],[School & Library Price]]","v":0}]
[null,51,null,"Sports for Fun and Fitness","Gymnastics for Fun and Fitness",1,"Library Bound Book","978-1-9785-1339-6",{"$f":"HYPERLINK(Table1[[#This Row],[Hyperlink]],\"Weblink\")","v":"Weblink"},"Enslow Publishing","2020","January 2020","7.125 X 8.500","Author","Ty Schalter",null,null,null,null,"M",null,"Grade 3","Grade 2 - 5","Gymnastics requires balance, patience, flexibility, and coordination. From floor routines to balance beams, from pommel horses to uneven bars and the vault, this easy-to-follow guide explores every aspect of gymnastics so readers can begin their own journeys into the sport. How does teamwork work for gymnasts? How can gymnasts stay healthy and safe while pushing their bodies to their limits? This book will help readers stick the landing and develop a lifelong love of gymnastics.","English",25.27,18.95,"796.44--dc23","32 pp.","https://www.enslow.com/books/Gymnastics_for_Fun_and_Fitness/422136",{"$f":"Table1[[#This Row],[QTY]]*Table1[[#This Row],['# of Books]]","v":0},{"$f":"Table1[[#This Row],[QTY]]*Table1[[#This Row],[School & Library Price]]","v":0}]
[null,51,null,"Sports for Fun and Fitness","Gymnastics for Fun and Fitness",1,"eBook","978-1-9785-1340-2",{"$f":"HYPERLINK(Table1[[#This Row],[Hyperlink]],\"Weblink\")","v":"Weblink"},"Enslow Publishing","2020","January 2020",null,"Author","Ty Schalter",null,null,null,null,"M",null,"Grade 3","Grade 2 - 5","Gymnastics requires balance, patience, flexibility, and coordination. From floor routines to balance beams, from pommel horses to uneven bars and the vault, this easy-to-follow guide explores every aspect of gymnastics so readers can begin their own journeys into the sport. How does teamwork work for gymnasts? How can gymnasts stay healthy and safe while pushing their bodies to their limits? This book will help readers stick the landing and develop a lifelong love of gymnastics.","English",25.27,18.95,"796.44--dc23","32 pp.","https://www.enslow.com/books/Gymnastics_for_Fun_and_Fitness/422136",{"$f":"Table1[[#This Row],[QTY]]*Table1[[#This Row],['# of Books]]","v":0},{"$f":"Table1[[#This Row],[QTY]]*Table1[[#This Row],[School & Library Price]]","v":0}]
[null,51,null,"Sports for Fun and Fitness","Martial Arts for Fun and Fitness",1,"Library Bound Book","978-1-9785-1343-3",{"$f":"HYPERLINK(Table1[[#This Row],[Hyperlink]],\"Weblink\")","v":"Weblink"},"Enslow Publishing","2020","January 2020","7.125 X 8.500","Author","Jeff Mapua",null,null,null,null,"N",null,"Grade 3","Grade 2 - 5","Martial arts can improve more than just physical fitness. It can make practitioners think about their body, movements, and mental reactions in entirely new ways. This book explores karate, kung fu, and tae kwon do. Readers will learn about flexibility, balance, and how to get back on their feet after taking a hit. Learning to fall gracefully is half the battle. This guidebook also explores the emphasis that the martial arts place on resolving conflicts without punches or kicks.","English",25.27,18.95,"796.8--dc23","32 pp.","https://www.enslow.com/books/Martial_Arts_for_Fun_and_Fitness/422137",{"$f":"Table1[[#This Row],[QTY]]*Table1[[#This Row],['# of Books]]","v":0},{"$f":"Table1[[#This Row],[QTY]]*Table1[[#This Row],[School & Library Price]]","v":0}]
[null,51,null,"Sports for Fun and Fitness","Martial Arts for Fun and Fitness",1,"eBook","978-1-9785-1344-0",{"$f":"HYPERLINK(Table1[[#This Row],[Hyperlink]],\"Weblink\")","v":"Weblink"},"Enslow Publishing","2020","January 2020",null,"Author","Jeff Mapua",null,null,null,null,"N",null,"Grade 3","Grade 2 - 5","Martial arts can improve more than just physical fitness. It can make practitioners think about their body, movements, and mental reactions in entirely new ways. This book explores karate, kung fu, and tae kwon do. Readers will learn about flexibility, balance, and how to get back on their feet after taking a hit. Learning to fall gracefully is half the battle. This guidebook also explores the emphasis that the martial arts place on resolving conflicts without punches or kicks.","English",25.27,18.95,"796.8--dc23","32 pp.","https://www.enslow.com/books/Martial_Arts_for_Fun_and_Fitness/422137",{"$f":"Table1[[#This Row],[QTY]]*Table1[[#This Row],['# of Books]]","v":0},{"$f":"Table1[[#This Row],[QTY]]*Table1[[#This Row],[School & Library Price]]","v":0}]
[null,51,null,"Sports for Fun and Fitness","Soccer for Fun and Fitness",1,"Library Bound Book","978-1-9785-1347-1",{"$f":"HYPERLINK(Table1[[#This Row],[Hyperlink]],\"Weblink\")","v":"Weblink"},"Enslow Publishing","2020","January 2020","7.125 X 8.500","Author","Ty Schalter",null,null,null,null,"N",null,"Grade 3","Grade 2 - 5","Soccer is a great play-anywhere-anytime game. This guide introduces kids to every part of the game. It offers useful advice for players developing their ball control skills, as well as explanations of the different positions on a team. Readers will learn how teamwork can help win games, how physical fitness helps strengthen a player's entire game, and why goalkeepers wear those huge gloves. A list of words to know and recommendations for other books help readers learn all they can about the great sport of soccer.","English",25.27,18.95,"796.334--dc23","32 pp.","https://www.enslow.com/books/Soccer_for_Fun_and_Fitness/422138",{"$f":"Table1[[#This Row],[QTY]]*Table1[[#This Row],['# of Books]]","v":0},{"$f":"Table1[[#This Row],[QTY]]*Table1[[#This Row],[School & Library Price]]","v":0}]
[null,51,null,"Sports for Fun and Fitness","Soccer for Fun and Fitness",1,"eBook","978-1-9785-1348-8",{"$f":"HYPERLINK(Table1[[#This Row],[Hyperlink]],\"Weblink\")","v":"Weblink"},"Enslow Publishing","2020","January 2020",null,"Author","Ty Schalter",null,null,null,null,"N",null,"Grade 3","Grade 2 - 5","Soccer is a great play-anywhere-anytime game. This guide introduces kids to every part of the game. It offers useful advice for players developing their ball control skills, as well as explanations of the different positions on a team. Readers will learn how teamwork can help win games, how physical fitness helps strengthen a player's entire game, and why goalkeepers wear those huge gloves. A list of words to know and recommendations for other books help readers learn all they can about the great sport of soccer.","English",25.27,18.95,"796.334--dc23","32 pp.","https://www.enslow.com/books/Soccer_for_Fun_and_Fitness/422138",{"$f":"Table1[[#This Row],[QTY]]*Table1[[#This Row],['# of Books]]","v":0},{"$f":"Table1[[#This Row],[QTY]]*Table1[[#This Row],[School & Library Price]]","v":0}]
[null,51,null,"Sports for Fun and Fitness","Softball and Baseball for Fun and Fitness",1,"Library Bound Book","978-1-9785-1351-8",{"$f":"HYPERLINK(Table1[[#This Row],[Hyperlink]],\"Weblink\")","v":"Weblink"},"Enslow Publishing","2020","January 2020","7.125 X 8.500","Author","Dean Smith-Richard",null,null,null,null,"L",null,"Grade 3","Grade 2 - 5","Major League Baseball teams knock 162 games out of the park every season, but nobody needs to play that many games to enjoy rounding the bases. From sandlot games to local leagues, kids can build a team with their friends. How are softball and baseball different? What kind of gear is needed to start playing? From home runs to foul balls, we'll explore bats and bases and show readers how to get into the \"national pastime.\" This book explores all aspects of the sports, with a list of words to know so aspiring athletes can be rounding the bases in no time.","English",25.27,18.95,"796.35--dc23","32 pp.","https://www.enslow.com/books/Softball_and_Baseball_for_Fun_and_Fitness/422139",{"$f":"Table1[[#This Row],[QTY]]*Table1[[#This Row],['# of Books]]","v":0},{"$f":"Table1[[#This Row],[QTY]]*Table1[[#This Row],[School & Library Price]]","v":0}]
[null,51,null,"Sports for Fun and Fitness","Softball and Baseball for Fun and Fitness",1,"eBook","978-1-9785-1352-5",{"$f":"HYPERLINK(Table1[[#This Row],[Hyperlink]],\"Weblink\")","v":"Weblink"},"Enslow Publishing","2020","January 2020",null,"Author","Dean Smith-Richard",null,null,null,null,"L",null,"Grade 3","Grade 2 - 5","Major League Baseball teams knock 162 games out of the park every season, but nobody needs to play that many games to enjoy rounding the bases. From sandlot games to local leagues, kids can build a team with their friends. How are softball and baseball different? What kind of gear is needed to start playing? From home runs to foul balls, we'll explore bats and bases and show readers how to get into the \"national pastime.\" This book explores all aspects of the sports, with a list of words to know so aspiring athletes can be rounding the bases in no time.","English",25.27,18.95,"796.35--dc23","32 pp.","https://www.enslow.com/books/Softball_and_Baseball_for_Fun_and_Fitness/422139",{"$f":"Table1[[#This Row],[QTY]]*Table1[[#This Row],['# of Books]]","v":0},{"$f":"Table1[[#This Row],[QTY]]*Table1[[#This Row],[School & Library Price]]","v":0}]
[null,52,null,"Celebrating Black Artists","Celebrating Black Artists: Sets 1 – 2",14,"Library Set","978-1-9785-1585-7",{"$f":"HYPERLINK(Table1[[#This Row],[Hyperlink]],\"Weblink\")","v":"Weblink"},"Enslow Publishing","2020","January 2020","6.000 X 9.000",null,null,null,null,null,null,null,null,"Grade 7","Grade 7 - 12","Even as discrimination forced them to the margins of society, the contributions African Americans have made to the arts span generations. In the nineteenth century, Robert S. Duncanson excelled as a landscape painter, and the sculptures of Edmonia Lewis made her world famous. Some of the greatest jazz music today comes from Miles Davis, and some of the world's most read poetry was written by Langston Hughes. Filled with accessible text, full-color photographs, and additional resources, students will learn about the contributions these trailblazers made and the challenges they overcame. Features include: Offers greater representation of the many artistic contributions of black Americans. Correlates directly with state curricular standards for social studies, which specifically touch on the Harlem Renaissance. Detailed chronologies, chapter notes, and further reading sections offer in-depth information and additional resources for study.","English",521.78,391.3,null,"104 pp.","https://www.enslow.com/series/Celebrating_Black_Artists/463585",{"$f":"Table1[[#This Row],[QTY]]*Table1[[#This Row],['# of Books]]","v":0},{"$f":"Table1[[#This Row],[QTY]]*Table1[[#This Row],[School & Library Price]]","v":0}]
[null,52,null,"Celebrating Black Artists","Celebrating Black Artists: Set 2",6,"Library Set","978-1-9785-1584-0",{"$f":"HYPERLINK(Table1[[#This Row],[Hyperlink]],\"Weblink\")","v":"Weblink"},"Enslow Publishing","2020","January 2020","6.000 X 9.000",null,null,null,null,null,null,null,null,"Grade 7","Grade 7 - 12","The contributions African Americans have made to the arts span generations. In the nineteenth century, Robert S. Duncanson excelled as a landscape painter, and the sculptures of Edmonia Lewis made her world famous. Alma Woodsey Thomas broke ground as an expressionist painter during a time when racial segregation flourished in the United States. The jazz of Miles Davis remains a staple for music lovers. Social media wouldn't be the same without the many posts that quote writer Maya Angelou. The writing of James Baldwin continues to influence scholars, activists, and filmmakers. There's a reason Hollywood keeps turning his works into movies: They still matter. Readers will learn about the contributions these trailblazers made and the challenges they overcame. Features include: Useful for students exploring history, anthropology, music, art history, and English and language arts. Explores how these great artists were shaped by, and helped shape the culture around them. Offers greater representation of the many artistic contributions of black Americans. Detailed chronologies, chapter notes, and further reading sections offer in-depth information and additional resources for study.","English",223.62,167.7,null,"104 pp.","https://www.enslow.com/series/Celebrating_Black_Artists/463585",{"$f":"Table1[[#This Row],[QTY]]*Table1[[#This Row],['# of Books]]","v":0},{"$f":"Table1[[#This Row],[QTY]]*Table1[[#This Row],[School & Library Price]]","v":0}]
[null,52,null,"Celebrating Black Artists","Alma Woodsey Thomas: Painter and Educator",1,"Library Bound Book","978-1-9785-1468-3",{"$f":"HYPERLINK(Table1[[#This Row],[Hyperlink]],\"Weblink\")","v":"Weblink"},"Enslow Publishing","2020","January 2020","6.000 X 9.000","Author, Author","Charlotte Etinde-Crompton, Samuel Willard Crompton ",null,null,null,null,"Z",null,"Grade 7","Grade 7 - 12","Born in Georgia at the end of the nineteenth century, Alma Woodsey Thomas defied society's expectations for black women. She did not marry, have children, or work as a domestic. Instead, Thomas was a teacher and an artist. Fascinated by nature and the universe, she could paint vivid scenes of everything from the trees in her yard to NASA's first moon landing. Readers will learn that she wouldn't win public acclaim for her art until later in life. Facing health problems and old age, Thomas managed to become one of the country's most influential artists.","English",37.270000000000003,27.95,"759.13--dc23","104 pp.","https://www.enslow.com/books/Alma_Woodsey_Thomas/422153",{"$f":"Table1[[#This Row],[QTY]]*Table1[[#This Row],['# of Books]]","v":0},{"$f":"Table1[[#This Row],[QTY]]*Table1[[#This Row],[School & Library Price]]","v":0}]
[null,52,null,"Celebrating Black Artists","Alma Woodsey Thomas: Painter and Educator",1,"eBook","978-1-9785-1469-0",{"$f":"HYPERLINK(Table1[[#This Row],[Hyperlink]],\"Weblink\")","v":"Weblink"},"Enslow Publishing","2020","January 2020",null,"Author, Author","Charlotte Etinde-Crompton, Samuel Willard Crompton ",null,null,null,null,"Z",null,"Grade 7","Grade 7 - 12","Born in Georgia at the end of the nineteenth century, Alma Woodsey Thomas defied society's expectations for black women. She did not marry, have children, or work as a domestic. Instead, Thomas was a teacher and an artist. Fascinated by nature and the universe, she could paint vivid scenes of everything from the trees in her yard to NASA's first moon landing. Readers will learn that she wouldn't win public acclaim for her art until later in life. Facing health problems and old age, Thomas managed to become one of the country's most influential artists.","English",37.270000000000003,27.95,"759.13--dc23","104 pp.","https://www.enslow.com/books/Alma_Woodsey_Thomas/422153",{"$f":"Table1[[#This Row],[QTY]]*Table1[[#This Row],['# of Books]]","v":0},{"$f":"Table1[[#This Row],[QTY]]*Table1[[#This Row],[School & Library Price]]","v":0}]
[null,52,null,"Celebrating Black Artists","Edmonia Lewis: Internationally Renowned Sculptor",1,"Library Bound Book","978-1-9785-1471-3",{"$f":"HYPERLINK(Table1[[#This Row],[Hyperlink]],\"Weblink\")","v":"Weblink"},"Enslow Publishing","2020","January 2020","6.000 X 9.000","Author, Author","Charlotte Etinde-Crompton, Samuel Willard Crompton ",null,null,null,null,"Z",null,"Grade 7","Grade 7 - 12","Edmonia Lewis was a free woman of color who gained recognition as a sculptor during the Civil War. Of black and Native American heritage, she stood out in the largely white and male-dominated art world. At first, she struggled to find sculptors willing to mentor her, but Lewis was determined to succeed and opened an art studio in 1864. Her early works included busts of Native Americans and abolitionists, a community that helped her career thrive. Readers will learn that a move to Rome in 1866 raised her to international fame. Against all odds, she achieved unimaginable success as an artist. Inspire readers by introducing them to Edmonia Lewis.","English",37.270000000000003,27.95,"730.92--dc23","104 pp.","https://www.enslow.com/books/Edmonia_Lewis/422154",{"$f":"Table1[[#This Row],[QTY]]*Table1[[#This Row],['# of Books]]","v":0},{"$f":"Table1[[#This Row],[QTY]]*Table1[[#This Row],[School & Library Price]]","v":0}]
[null,52,null,"Celebrating Black Artists","Edmonia Lewis: Internationally Renowned Sculptor",1,"eBook","978-1-9785-1472-0",{"$f":"HYPERLINK(Table1[[#This Row],[Hyperlink]],\"Weblink\")","v":"Weblink"},"Enslow Publishing","2020","January 2020",null,"Author, Author","Charlotte Etinde-Crompton, Samuel Willard Crompton ",null,null,null,null,"Z",null,"Grade 7","Grade 7 - 12","Edmonia Lewis was a free woman of color who gained recognition as a sculptor during the Civil War. Of black and Native American heritage, she stood out in the largely white and male-dominated art world. At first, she struggled to find sculptors willing to mentor her, but Lewis was determined to succeed and opened an art studio in 1864. Her early works included busts of Native Americans and abolitionists, a community that helped her career thrive. Readers will learn that a move to Rome in 1866 raised her to international fame. Against all odds, she achieved unimaginable success as an artist. Inspire readers by introducing them to Edmonia Lewis.","English",37.270000000000003,27.95,"730.92--dc23","104 pp.","https://www.enslow.com/books/Edmonia_Lewis/422154",{"$f":"Table1[[#This Row],[QTY]]*Table1[[#This Row],['# of Books]]","v":0},{"$f":"Table1[[#This Row],[QTY]]*Table1[[#This Row],[School & Library Price]]","v":0}]
[null,52,null,"Celebrating Black Artists","James Baldwin: Novelist and Critic",1,"Library Bound Book","978-1-9785-1480-5",{"$f":"HYPERLINK(Table1[[#This Row],[Hyperlink]],\"Weblink\")","v":"Weblink"},"Enslow Publishing","2020","January 2020","6.000 X 9.000","Author","Glynnis Reed",null,null,null,null,"Z",null,"Grade 7","Grade 7 - 12","\"The connection between American whites and blacks is far deeper and more passionate than any of us like to think.\" These words from the introduction of his collection of essays in \"Nobody Knows My Name\" shows the truth-telling strength of a brave man. James Baldwin was an outspoken advocate for social justice and equality for black people in America. He lent a creative and powerful voice to the civil rights struggle of the 1960s and brilliantly critiqued the problems of race in the twentieth century. Through his novels, plays, poetry, and essays, Baldwin urged the world to understand and appreciate the humanity and complexity of African Americans. This thought-provoking biography analyzes the life behind this creative force and will inspire your readers to be true to themselves and strong of conviction.","English",37.270000000000003,27.95,"818/.5409--dc23","104 pp.","https://www.enslow.com/books/James_Baldwin/422157",{"$f":"Table1[[#This Row],[QTY]]*Table1[[#This Row],['# of Books]]","v":0},{"$f":"Table1[[#This Row],[QTY]]*Table1[[#This Row],[School & Library Price]]","v":0}]
[null,52,null,"Celebrating Black Artists","James Baldwin: Novelist and Critic",1,"eBook","978-1-9785-1481-2",{"$f":"HYPERLINK(Table1[[#This Row],[Hyperlink]],\"Weblink\")","v":"Weblink"},"Enslow Publishing","2020","January 2020",null,"Author","Glynnis Reed",null,null,null,null,"Z",null,"Grade 7","Grade 7 - 12","\"The connection between American whites and blacks is far deeper and more passionate than any of us like to think.\" These words from the introduction of his collection of essays in \"Nobody Knows My Name\" shows the truth-telling strength of a brave man. James Baldwin was an outspoken advocate for social justice and equality for black people in America. He lent a creative and powerful voice to the civil rights struggle of the 1960s and brilliantly critiqued the problems of race in the twentieth century. Through his novels, plays, poetry, and essays, Baldwin urged the world to understand and appreciate the humanity and complexity of African Americans. This thought-provoking biography analyzes the life behind this creative force and will inspire your readers to be true to themselves and strong of conviction.","English",37.270000000000003,27.95,"818/.5409--dc23","104 pp.","https://www.enslow.com/books/James_Baldwin/422157",{"$f":"Table1[[#This Row],[QTY]]*Table1[[#This Row],['# of Books]]","v":0},{"$f":"Table1[[#This Row],[QTY]]*Table1[[#This Row],[School & Library Price]]","v":0}]
[null,52,null,"Celebrating Black Artists","Maya Angelou: Writer and Activist",1,"Library Bound Book","978-1-9785-1483-6",{"$f":"HYPERLINK(Table1[[#This Row],[Hyperlink]],\"Weblink\")","v":"Weblink"},"Enslow Publishing","2020","January 2020","6.000 X 9.000","Author","Del Sandeen",null,null,null,null,"Z",null,"Grade 7","Grade 7 - 12","Maya Angelou was a writer, dancer, activist, and actress, and the recipient of numerous awards, including the Presidential Medal of Freedom. Her body of work evokes emotions that range the full spectrum, from joy to heartbreak and from rage to hope. A phenomenal woman, she enriched the world of literature and society as a whole. This essential biography explores her life and creative output and delves into why her powerful words continue to touch the lives of people today.","English",37.270000000000003,27.95,"818/.5409--dc23","104 pp.","https://www.enslow.com/books/Maya_Angelou/422158",{"$f":"Table1[[#This Row],[QTY]]*Table1[[#This Row],['# of Books]]","v":0},{"$f":"Table1[[#This Row],[QTY]]*Table1[[#This Row],[School & Library Price]]","v":0}]
[null,52,null,"Celebrating Black Artists","Maya Angelou: Writer and Activist",1,"eBook","978-1-9785-1484-3",{"$f":"HYPERLINK(Table1[[#This Row],[Hyperlink]],\"Weblink\")","v":"Weblink"},"Enslow Publishing","2020","January 2020",null,"Author","Del Sandeen",null,null,null,null,"Z",null,"Grade 7","Grade 7 - 12","Maya Angelou was a writer, dancer, activist, and actress, and the recipient of numerous awards, including the Presidential Medal of Freedom. Her body of work evokes emotions that range the full spectrum, from joy to heartbreak and from rage to hope. A phenomenal woman, she enriched the world of literature and society as a whole. This essential biography explores her life and creative output and delves into why her powerful words continue to touch the lives of people today.","English",37.270000000000003,27.95,"818/.5409--dc23","104 pp.","https://www.enslow.com/books/Maya_Angelou/422158",{"$f":"Table1[[#This Row],[QTY]]*Table1[[#This Row],['# of Books]]","v":0},{"$f":"Table1[[#This Row],[QTY]]*Table1[[#This Row],[School & Library Price]]","v":0}]
[null,52,null,"Celebrating Black Artists","Miles Davis: Jazz Musician and Composer",1,"Library Bound Book","978-1-9785-1474-4",{"$f":"HYPERLINK(Table1[[#This Row],[Hyperlink]],\"Weblink\")","v":"Weblink"},"Enslow Publishing","2020","January 2020","6.000 X 9.000","Author, Author","Charlotte Etinde-Crompton, Samuel Willard Crompton ",null,null,null,null,"Z",null,"Grade 7","Grade 7 - 12","A bandleader and trumpet player, Miles Davis was one of the twentieth century's greatest musicians. Performing with jazz greats like Dizzy Gillespie and Charlie Parker early in his career, Davis expanded the idea of what jazz could be. His greatest albums redefined the genre, and members of his band, such as Wayne Shorter and Chick Corea, went on to become famous in their own right. Readers will learn that Davis also faced challenges, including rocky romances and a drug addiction he struggled to kick. Through it all, he found comfort in his music, which remains relevant decades after his death.","English",37.270000000000003,27.95,"788.9/2165092--dc23","104 pp.","https://www.enslow.com/books/Miles_Davis/422155",{"$f":"Table1[[#This Row],[QTY]]*Table1[[#This Row],['# of Books]]","v":0},{"$f":"Table1[[#This Row],[QTY]]*Table1[[#This Row],[School & Library Price]]","v":0}]
[null,52,null,"Celebrating Black Artists","Miles Davis: Jazz Musician and Composer",1,"eBook","978-1-9785-1475-1",{"$f":"HYPERLINK(Table1[[#This Row],[Hyperlink]],\"Weblink\")","v":"Weblink"},"Enslow Publishing","2020","January 2020",null,"Author, Author","Charlotte Etinde-Crompton, Samuel Willard Crompton ",null,null,null,null,"Z",null,"Grade 7","Grade 7 - 12","A bandleader and trumpet player, Miles Davis was one of the twentieth century's greatest musicians. Performing with jazz greats like Dizzy Gillespie and Charlie Parker early in his career, Davis expanded the idea of what jazz could be. His greatest albums redefined the genre, and members of his band, such as Wayne Shorter and Chick Corea, went on to become famous in their own right. Readers will learn that Davis also faced challenges, including rocky romances and a drug addiction he struggled to kick. Through it all, he found comfort in his music, which remains relevant decades after his death.","English",37.270000000000003,27.95,"788.9/2165092--dc23","104 pp.","https://www.enslow.com/books/Miles_Davis/422155",{"$f":"Table1[[#This Row],[QTY]]*Table1[[#This Row],['# of Books]]","v":0},{"$f":"Table1[[#This Row],[QTY]]*Table1[[#This Row],[School & Library Price]]","v":0}]
[null,52,null,"Celebrating Black Artists","Robert S. Duncanson: Landscape Painter",1,"Library Bound Book","978-1-9785-1477-5",{"$f":"HYPERLINK(Table1[[#This Row],[Hyperlink]],\"Weblink\")","v":"Weblink"},"Enslow Publishing","2020","January 2020","6.000 X 9.000","Author, Author","Charlotte Etinde-Crompton, Samuel Willard Crompton ",null,null,null,null,"Z",null,"Grade 7","Grade 7 - 12","Born in 1821 to a Scottish Canadian father and an African American mother, Robert S. Duncanson is widely considered to be the first black artist to become world-famous. He began as a house painter and, from there, moved on to portraits and landscapes. A self-taught artist influenced by the Hudson River School of painters, Duncanson traveled throughout North America and Europe to hone his craft. By the 1860s, the press had dubbed him the \"best landscape painter in the West.\" This was high praise given the fierce racial prejudice of the time. Unfortunately, mental health problems cut Duncanson's career and life short, but readers will still be inspired by this tremendously talented individual.","English",37.270000000000003,27.95,"759.13--dc23","104 pp.","https://www.enslow.com/books/Robert_S_Duncanson/422156",{"$f":"Table1[[#This Row],[QTY]]*Table1[[#This Row],['# of Books]]","v":0},{"$f":"Table1[[#This Row],[QTY]]*Table1[[#This Row],[School & Library Price]]","v":0}]
[null,52,null,"Celebrating Black Artists","Robert S. Duncanson: Landscape Painter",1,"eBook","978-1-9785-1478-2",{"$f":"HYPERLINK(Table1[[#This Row],[Hyperlink]],\"Weblink\")","v":"Weblink"},"Enslow Publishing","2020","January 2020",null,"Author, Author","Charlotte Etinde-Crompton, Samuel Willard Crompton ",null,null,null,null,"Z",null,"Grade 7","Grade 7 - 12","Born in 1821 to a Scottish Canadian father and an African American mother, Robert S. Duncanson is widely considered to be the first black artist to become world-famous. He began as a house painter and, from there, moved on to portraits and landscapes. A self-taught artist influenced by the Hudson River School of painters, Duncanson traveled throughout North America and Europe to hone his craft. By the 1860s, the press had dubbed him the \"best landscape painter in the West.\" This was high praise given the fierce racial prejudice of the time. Unfortunately, mental health problems cut Duncanson's career and life short, but readers will still be inspired by this tremendously talented individual.","English",37.270000000000003,27.95,"759.13--dc23","104 pp.","https://www.enslow.com/books/Robert_S_Duncanson/422156",{"$f":"Table1[[#This Row],[QTY]]*Table1[[#This Row],['# of Books]]","v":0},{"$f":"Table1[[#This Row],[QTY]]*Table1[[#This Row],[School & Library Price]]","v":0}]
[null,null,null,"Celebrating Black Artists","Celebrating Black Artists: Set 1",8,"Library Set","978-1-9785-0575-9",{"$f":"HYPERLINK(Table1[[#This Row],[Hyperlink]],\"Weblink\")","v":"Weblink"},"Enslow Publishing","2020","August 2019","6.000 X 9.000",null,null,null,null,null,null,null,null,"Grade 7","Grade 7 - 12","Even as discrimination forced them to the margins of society, black artists have made a tremendous impact on American culture. Your students will gain a deeper understanding of how multiple artistic disciplines have benefited from black excellence. Covering the titans of music like Duke Ellington, legendary poets like Langston Hughes, and lesser-known figures like sculptor Augusta Savage, this accessible set offers rich profiles of the amazing black men and women who have shaped American art. Features include: Correlates directly with state curricular standards for social studies, which specifically touch on the Harlem Renaissance. Designed to offer greater representation of the many artistic contributions of black Americans. Detailed Chronologies, Chapter Notes, and Further Reading sections offer in-depth information and additional resources for study.","English",298.16000000000003,223.6,null,"104 pp.","https://www.enslow.com/series/Celebrating_Black_Artists/463585",{"$f":"Table1[[#This Row],[QTY]]*Table1[[#This Row],['# of Books]]","v":0},{"$f":"Table1[[#This Row],[QTY]]*Table1[[#This Row],[School & Library Price]]","v":0}]
[null,52,null,"Celebrating Black Artists","Aretha Franklin: The Queen of Soul",1,"Library Bound Book","978-1-9785-0357-1",{"$f":"HYPERLINK(Table1[[#This Row],[Hyperlink]],\"Weblink\")","v":"Weblink"},"Enslow Publishing","2020","August 2019","6.000 X 9.000","Author, Author","Charlotte Etinde-Crompton, Samuel Willard Crompton ",null,null,null,null,"Z",null,"Grade 7","Grade 7 - 12","Aretha Franklin was blessed with one of the greatest voices in all of popular music. She sang from the age of eight, and performed professionally from the age of fourteen. Her talent, which many described simply as God-given, seemed sufficient to ensure her a life of comfort and ease. In spite of earning large sums of money and having millions of adoring fans, Franklin experienced powerful insecurity. Nonetheless, the \"Queen of Soul\" persevered and became one of the legendary talents of her generation. With this fact-filled biography, readers will be able to celebrate this extraordinary artist by learning all about her fascinating life and career.","English",37.270000000000003,27.95,"782.421644092--dc23","104 pp.","https://www.enslow.com/books/Aretha_Franklin/421966",{"$f":"Table1[[#This Row],[QTY]]*Table1[[#This Row],['# of Books]]","v":0},{"$f":"Table1[[#This Row],[QTY]]*Table1[[#This Row],[School & Library Price]]","v":0}]
[null,52,null,"Celebrating Black Artists","Aretha Franklin: The Queen of Soul",1,"eBook","978-1-9785-0464-6",{"$f":"HYPERLINK(Table1[[#This Row],[Hyperlink]],\"Weblink\")","v":"Weblink"},"Enslow Publishing","2020","August 2019",null,"Author, Author","Charlotte Etinde-Crompton, Samuel Willard Crompton ",null,null,null,null,"Z",null,"Grade 7","Grade 7 - 12","Aretha Franklin was blessed with one of the greatest voices in all of popular music. She sang from the age of eight, and performed professionally from the age of fourteen. Her talent, which many described simply as God-given, seemed sufficient to ensure her a life of comfort and ease. In spite of earning large sums of money and having millions of adoring fans, Franklin experienced powerful insecurity. Nonetheless, the \"Queen of Soul\" persevered and became one of the legendary talents of her generation. With this fact-filled biography, readers will be able to celebrate this extraordinary artist by learning all about her fascinating life and career.","English",37.270000000000003,27.95,"782.421644092--dc23","104 pp.","https://www.enslow.com/books/Aretha_Franklin/421966",{"$f":"Table1[[#This Row],[QTY]]*Table1[[#This Row],['# of Books]]","v":0},{"$f":"Table1[[#This Row],[QTY]]*Table1[[#This Row],[School & Library Price]]","v":0}]
[null,52,null,"Celebrating Black Artists","Augusta Savage: Sculptor of the Harlem Renaissance",1,"Library Bound Book","978-1-9785-0361-8",{"$f":"HYPERLINK(Table1[[#This Row],[Hyperlink]],\"Weblink\")","v":"Weblink"},"Enslow Publishing","2020","August 2019","6.000 X 9.000","Author, Author","Charlotte Etinde-Crompton, Samuel Willard Crompton ",null,null,null,null,"Z",null,"Grade 7","Grade 7 - 12","Augusta Savage endured more, far more, than her fair share of sorrow and difficulty. She lost three husbands, one child, and many friends. So it isn't surprising that she sometimes fell into bitterness and despair, but she usually found a remedy for the pain: using her strong fingers to shape works of art. This volume treats Savage as a complex and difficult person who nonetheless wins our admiration. In addition to a comprehensive narrative, readers will discover Savage through her own words, from letters and magazine interviews, revealing this woman as she was: dogged, inspired, and relentless.","English",37.270000000000003,27.95,"730.92--dc23","104 pp.","https://www.enslow.com/books/Augusta_Savage/421970",{"$f":"Table1[[#This Row],[QTY]]*Table1[[#This Row],['# of Books]]","v":0},{"$f":"Table1[[#This Row],[QTY]]*Table1[[#This Row],[School & Library Price]]","v":0}]
[null,52,null,"Celebrating Black Artists","Augusta Savage: Sculptor of the Harlem Renaissance",1,"eBook","978-1-9785-0418-9",{"$f":"HYPERLINK(Table1[[#This Row],[Hyperlink]],\"Weblink\")","v":"Weblink"},"Enslow Publishing","2020","August 2019",null,"Author, Author","Charlotte Etinde-Crompton, Samuel Willard Crompton ",null,null,null,null,"Z",null,"Grade 7","Grade 7 - 12","Augusta Savage endured more, far more, than her fair share of sorrow and difficulty. She lost three husbands, one child, and many friends. So it isn't surprising that she sometimes fell into bitterness and despair, but she usually found a remedy for the pain: using her strong fingers to shape works of art. This volume treats Savage as a complex and difficult person who nonetheless wins our admiration. In addition to a comprehensive narrative, readers will discover Savage through her own words, from letters and magazine interviews, revealing this woman as she was: dogged, inspired, and relentless.","English",37.270000000000003,27.95,"730.92--dc23","104 pp.","https://www.enslow.com/books/Augusta_Savage/421970",{"$f":"Table1[[#This Row],[QTY]]*Table1[[#This Row],['# of Books]]","v":0},{"$f":"Table1[[#This Row],[QTY]]*Table1[[#This Row],[School & Library Price]]","v":0}]
[null,52,null,"Celebrating Black Artists","Countee Cullen: Poet of the Harlem Renaissance",1,"Library Bound Book","978-1-9785-0355-7",{"$f":"HYPERLINK(Table1[[#This Row],[Hyperlink]],\"Weblink\")","v":"Weblink"},"Enslow Publishing","2020","August 2019","6.000 X 9.000","Author, Author","Charlotte Etinde-Crompton, Samuel Willard Crompton ",null,null,null,null,"Z",null,"Grade 7","Grade 7 - 12","For a few shining years Countee Cullen seemed destined to define the African American urban experience. A gifted poet, Cullen wrote some of the outstanding works of the 1920s, and when he married Yolande Du Bois, in what was proclaimed the social event of the decade, his success and fame seemed assured. It was not to be. The marriage failed, and with it Cullen lost his best patrons and his poetic productivity declined sharply. After remarrying, Cullen was on the cusp of reinventing himself, as a writer for the theatre, when he died an untimely death. Through it all, he remained faithful to his vision of words, poetry, and the duty of a person who felt his blackness, but did not wish to be constrained by it.","English",37.270000000000003,27.95,"811/.52--dc23","104 pp.","https://www.enslow.com/books/Countee_Cullen/421964",{"$f":"Table1[[#This Row],[QTY]]*Table1[[#This Row],['# of Books]]","v":0},{"$f":"Table1[[#This Row],[QTY]]*Table1[[#This Row],[School & Library Price]]","v":0}]
[null,52,null,"Celebrating Black Artists","Countee Cullen: Poet of the Harlem Renaissance",1,"eBook","978-1-9785-0413-4",{"$f":"HYPERLINK(Table1[[#This Row],[Hyperlink]],\"Weblink\")","v":"Weblink"},"Enslow Publishing","2020","August 2019",null,"Author, Author","Charlotte Etinde-Crompton, Samuel Willard Crompton ",null,null,null,null,"Z",null,"Grade 7","Grade 7 - 12","For a few shining years Countee Cullen seemed destined to define the African American urban experience. A gifted poet, Cullen wrote some of the outstanding works of the 1920s, and when he married Yolande Du Bois, in what was proclaimed the social event of the decade, his success and fame seemed assured. It was not to be. The marriage failed, and with it Cullen lost his best patrons and his poetic productivity declined sharply. After remarrying, Cullen was on the cusp of reinventing himself, as a writer for the theatre, when he died an untimely death. Through it all, he remained faithful to his vision of words, poetry, and the duty of a person who felt his blackness, but did not wish to be constrained by it.","English",37.270000000000003,27.95,"811/.52--dc23","104 pp.","https://www.enslow.com/books/Countee_Cullen/421964",{"$f":"Table1[[#This Row],[QTY]]*Table1[[#This Row],['# of Books]]","v":0},{"$f":"Table1[[#This Row],[QTY]]*Table1[[#This Row],[School & Library Price]]","v":0}]
[null,52,null,"Celebrating Black Artists","Duke Ellington: Legendary Composer and Bandleader",1,"Library Bound Book","978-1-9785-0356-4",{"$f":"HYPERLINK(Table1[[#This Row],[Hyperlink]],\"Weblink\")","v":"Weblink"},"Enslow Publishing","2020","August 2019","6.000 X 9.000","Author, Author","Charlotte Etinde-Crompton, Samuel Willard Crompton ",null,null,null,null,"Z",null,"Grade 7","Grade 7 - 12","His was the greatest of talents, concealed beneath a carefree exterior. Duke Ellington possessed musical genius, which he claimed to exert for the glory of God and on behalf of his fellow African Americans. Readers will get to know the many sides of the legendary composer. The sunshiny smile displayed at concert time could sometimes be replaced by a frightful temper behind the scenes. Genius often comes at a price, but Duke Ellington's work is paramount. It includes 1,800 musical compositions and a virtually uncountable number of concert appearances. Readers will agree that his contributions belong to the ages.","English",37.270000000000003,27.95,"781.65092--dc23","104 pp.","https://www.enslow.com/books/Duke_Ellington/421965",{"$f":"Table1[[#This Row],[QTY]]*Table1[[#This Row],['# of Books]]","v":0},{"$f":"Table1[[#This Row],[QTY]]*Table1[[#This Row],[School & Library Price]]","v":0}]
[null,52,null,"Celebrating Black Artists","Duke Ellington: Legendary Composer and Bandleader",1,"eBook","978-1-9785-0414-1",{"$f":"HYPERLINK(Table1[[#This Row],[Hyperlink]],\"Weblink\")","v":"Weblink"},"Enslow Publishing","2020","August 2019",null,"Author, Author","Charlotte Etinde-Crompton, Samuel Willard Crompton ",null,null,null,null,"Z",null,"Grade 7","Grade 7 - 12","His was the greatest of talents, concealed beneath a carefree exterior. Duke Ellington possessed musical genius, which he claimed to exert for the glory of God and on behalf of his fellow African Americans. Readers will get to know the many sides of the legendary composer. The sunshiny smile displayed at concert time could sometimes be replaced by a frightful temper behind the scenes. Genius often comes at a price, but Duke Ellington's work is paramount. It includes 1,800 musical compositions and a virtually uncountable number of concert appearances. Readers will agree that his contributions belong to the ages.","English",37.270000000000003,27.95,"781.65092--dc23","104 pp.","https://www.enslow.com/books/Duke_Ellington/421965",{"$f":"Table1[[#This Row],[QTY]]*Table1[[#This Row],['# of Books]]","v":0},{"$f":"Table1[[#This Row],[QTY]]*Table1[[#This Row],[School & Library Price]]","v":0}]
[null,52,null,"Celebrating Black Artists","Henry Ossawa Tanner: Landscape Painter and Expatriate",1,"Library Bound Book","978-1-9785-0362-5",{"$f":"HYPERLINK(Table1[[#This Row],[Hyperlink]],\"Weblink\")","v":"Weblink"},"Enslow Publishing","2020","August 2019","6.000 X 9.000","Author, Author","Charlotte Etinde-Crompton, Samuel Willard Crompton ",null,null,null,null,"Z",null,"Grade 7","Grade 7 - 12","Henry Ossawa Tanner was one of the true greats. Though slight and spare of body, he never spared himself in a life of devotion to high art. This volume takes the reader through Tanner's life and career, showing his many struggles and sacrifices. Wherever possible, Tanner's own words are employed to describe people and places, ranging from the famous to the obscure. What emerges is a story of gritty determination, a resolve that never quit. Even today, a century after Tanner's death, he remains one of the greatest of African American painters, a person others try to emulate.","English",37.270000000000003,27.95,"759.13--dc23","104 pp.","https://www.enslow.com/books/Henry_Ossawa_Tanner/421971",{"$f":"Table1[[#This Row],[QTY]]*Table1[[#This Row],['# of Books]]","v":0},{"$f":"Table1[[#This Row],[QTY]]*Table1[[#This Row],[School & Library Price]]","v":0}]
[null,52,null,"Celebrating Black Artists","Henry Ossawa Tanner: Landscape Painter and Expatriate",1,"eBook","978-1-9785-0419-6",{"$f":"HYPERLINK(Table1[[#This Row],[Hyperlink]],\"Weblink\")","v":"Weblink"},"Enslow Publishing","2020","August 2019",null,"Author, Author","Charlotte Etinde-Crompton, Samuel Willard Crompton ",null,null,null,null,"Z",null,"Grade 7","Grade 7 - 12","Henry Ossawa Tanner was one of the true greats. Though slight and spare of body, he never spared himself in a life of devotion to high art. This volume takes the reader through Tanner's life and career, showing his many struggles and sacrifices. Wherever possible, Tanner's own words are employed to describe people and places, ranging from the famous to the obscure. What emerges is a story of gritty determination, a resolve that never quit. Even today, a century after Tanner's death, he remains one of the greatest of African American painters, a person others try to emulate.","English",37.270000000000003,27.95,"759.13--dc23","104 pp.","https://www.enslow.com/books/Henry_Ossawa_Tanner/421971",{"$f":"Table1[[#This Row],[QTY]]*Table1[[#This Row],['# of Books]]","v":0},{"$f":"Table1[[#This Row],[QTY]]*Table1[[#This Row],[School & Library Price]]","v":0}]
[null,52,null,"Celebrating Black Artists","Horace Pippin: Painter and Decorated Soldier",1,"Library Bound Book","978-1-9785-0360-1",{"$f":"HYPERLINK(Table1[[#This Row],[Hyperlink]],\"Weblink\")","v":"Weblink"},"Enslow Publishing","2020","August 2019","6.000 X 9.000","Author, Author","Charlotte Etinde-Crompton, Samuel Willard Crompton ",null,null,null,null,"Z",null,"Grade 7","Grade 7 - 12","War had a profound effect on Horace Pippin. Stationed in Europe during World War I, Pippin saw active combat as part of the Harlem Hellfighters regiment, a group of mostly African American soldiers. While he was serving bravely for a country that didn't yet fully recognize his civil rights, his right arm was injured by sniper fire, but he harbored far deeper wounds inflicted by the horrors of battle. He picked up a paintbrush as a way to treat his injury, but learning to make art soothed him in mind, body, and soul. In this in-depth biography, readers learn more about Pippin's life as a self-taught artist and how his art, ranging from self-portraits to landscapes to domestic scenes and touching on issues like slavery and segregation, drew the attention of museums, private collectors, and even Hollywood stars of the 1940s. Though his career was cut short by a fatal stroke when he was just 58 years old, Pippin's work left an indelible mark on American art.","English",37.270000000000003,27.95,"759.13--dc23","104 pp.","https://www.enslow.com/books/Horace_Pippin/421969",{"$f":"Table1[[#This Row],[QTY]]*Table1[[#This Row],['# of Books]]","v":0},{"$f":"Table1[[#This Row],[QTY]]*Table1[[#This Row],[School & Library Price]]","v":0}]
[null,52,null,"Celebrating Black Artists","Horace Pippin: Painter and Decorated Soldier",1,"eBook","978-1-9785-0417-2",{"$f":"HYPERLINK(Table1[[#This Row],[Hyperlink]],\"Weblink\")","v":"Weblink"},"Enslow Publishing","2020","August 2019",null,"Author, Author","Charlotte Etinde-Crompton, Samuel Willard Crompton ",null,null,null,null,"Z",null,"Grade 7","Grade 7 - 12","War had a profound effect on Horace Pippin. Stationed in Europe during World War I, Pippin saw active combat as part of the Harlem Hellfighters regiment, a group of mostly African American soldiers. While he was serving bravely for a country that didn't yet fully recognize his civil rights, his right arm was injured by sniper fire, but he harbored far deeper wounds inflicted by the horrors of battle. He picked up a paintbrush as a way to treat his injury, but learning to make art soothed him in mind, body, and soul. In this in-depth biography, readers learn more about Pippin's life as a self-taught artist and how his art, ranging from self-portraits to landscapes to domestic scenes and touching on issues like slavery and segregation, drew the attention of museums, private collectors, and even Hollywood stars of the 1940s. Though his career was cut short by a fatal stroke when he was just 58 years old, Pippin's work left an indelible mark on American art.","English",37.270000000000003,27.95,"759.13--dc23","104 pp.","https://www.enslow.com/books/Horace_Pippin/421969",{"$f":"Table1[[#This Row],[QTY]]*Table1[[#This Row],['# of Books]]","v":0},{"$f":"Table1[[#This Row],[QTY]]*Table1[[#This Row],[School & Library Price]]","v":0}]
[null,52,null,"Celebrating Black Artists","Langston Hughes: Jazz Poet of the Harlem Renaissance",1,"Library Bound Book","978-1-9785-0358-8",{"$f":"HYPERLINK(Table1[[#This Row],[Hyperlink]],\"Weblink\")","v":"Weblink"},"Enslow Publishing","2020","August 2019","6.000 X 9.000","Author, Author","Charlotte Etinde-Crompton, Samuel Willard Crompton ",null,null,null,null,"Z",null,"Grade 7","Grade 7 - 12","Introduce your readers to a stellar talent. There is no question that Langston Hughes was one of the brightest lights of the Harlem Renaissance. A true pioneer, Hughes was one of the first poets to draw on the syncopated rhythms of jazz and black urban dialect for his work, and it proved transformative for American poetry. With a looser lyrical style reminiscent of Walt Whitman, Hughes used his art to portraying the experiences, concerns, and consolations of black men and women. As a poet, playwright, and novelist, he was impressively prolific, leaving behind a body of work truly worthy of study and celebration.","English",37.270000000000003,27.95,"818/.5209--dc23","104 pp.","https://www.enslow.com/books/Langston_Hughes/421967",{"$f":"Table1[[#This Row],[QTY]]*Table1[[#This Row],['# of Books]]","v":0},{"$f":"Table1[[#This Row],[QTY]]*Table1[[#This Row],[School & Library Price]]","v":0}]
[null,52,null,"Celebrating Black Artists","Langston Hughes: Jazz Poet of the Harlem Renaissance",1,"eBook","978-1-9785-0415-8",{"$f":"HYPERLINK(Table1[[#This Row],[Hyperlink]],\"Weblink\")","v":"Weblink"},"Enslow Publishing","2020","August 2019",null,"Author, Author","Charlotte Etinde-Crompton, Samuel Willard Crompton ",null,null,null,null,"Z",null,"Grade 7","Grade 7 - 12","Introduce your readers to a stellar talent. There is no question that Langston Hughes was one of the brightest lights of the Harlem Renaissance. A true pioneer, Hughes was one of the first poets to draw on the syncopated rhythms of jazz and black urban dialect for his work, and it proved transformative for American poetry. With a looser lyrical style reminiscent of Walt Whitman, Hughes used his art to portraying the experiences, concerns, and consolations of black men and women. As a poet, playwright, and novelist, he was impressively prolific, leaving behind a body of work truly worthy of study and celebration.","English",37.270000000000003,27.95,"818/.5209--dc23","104 pp.","https://www.enslow.com/books/Langston_Hughes/421967",{"$f":"Table1[[#This Row],[QTY]]*Table1[[#This Row],['# of Books]]","v":0},{"$f":"Table1[[#This Row],[QTY]]*Table1[[#This Row],[School & Library Price]]","v":0}]
[null,52,null,"Celebrating Black Artists","Zora Neale Hurston: Author and Anthropologist",1,"Library Bound Book","978-1-9785-0359-5",{"$f":"HYPERLINK(Table1[[#This Row],[Hyperlink]],\"Weblink\")","v":"Weblink"},"Enslow Publishing","2020","August 2019","6.000 X 9.000","Author, Author","Charlotte Etinde-Crompton, Samuel Willard Crompton ",null,null,null,null,"Z",null,"Grade 7","Grade 7 - 12","Like many artists before her, Zora Neale Hurston received virtually no recognition for her work until after her death. Hurston began her career as an anthropologist, observing and documenting the tension of race relations in the American South. She strove to expose the horrific practice of \"paramour rights,\" wherein white men sexually exploited black women in their employment. But this work and her later fiction, including the now famous Their Eyes Were Watching God, would end up in relative obscurity as her fictional portrayal of African American dialect was criticized as offensive and her political views were often less progressive than those of her contemporaries. With engaging, accessible text, this biography gives readers a fuller picture of this complicated writer and woman.","English",37.270000000000003,27.95,"813/.52--dc23","104 pp.","https://www.enslow.com/books/Zora_Neale_Hurston/421968",{"$f":"Table1[[#This Row],[QTY]]*Table1[[#This Row],['# of Books]]","v":0},{"$f":"Table1[[#This Row],[QTY]]*Table1[[#This Row],[School & Library Price]]","v":0}]
[null,52,null,"Celebrating Black Artists","Zora Neale Hurston: Author and Anthropologist",1,"eBook","978-1-9785-0416-5",{"$f":"HYPERLINK(Table1[[#This Row],[Hyperlink]],\"Weblink\")","v":"Weblink"},"Enslow Publishing","2020","August 2019",null,"Author, Author","Charlotte Etinde-Crompton, Samuel Willard Crompton ",null,null,null,null,"Z",null,"Grade 7","Grade 7 - 12","Like many artists before her, Zora Neale Hurston received virtually no recognition for her work until after her death. Hurston began her career as an anthropologist, observing and documenting the tension of race relations in the American South. She strove to expose the horrific practice of \"paramour rights,\" wherein white men sexually exploited black women in their employment. But this work and her later fiction, including the now famous Their Eyes Were Watching God, would end up in relative obscurity as her fictional portrayal of African American dialect was criticized as offensive and her political views were often less progressive than those of her contemporaries. With engaging, accessible text, this biography gives readers a fuller picture of this complicated writer and woman.","English",37.270000000000003,27.95,"813/.52--dc23","104 pp.","https://www.enslow.com/books/Zora_Neale_Hurston/421968",{"$f":"Table1[[#This Row],[QTY]]*Table1[[#This Row],['# of Books]]","v":0},{"$f":"Table1[[#This Row],[QTY]]*Table1[[#This Row],[School & Library Price]]","v":0}]
[null,53,null,"Cash In on Your Skills","Cash In on Your Skills",7,"Library Set","978-1-9785-1583-3",{"$f":"HYPERLINK(Table1[[#This Row],[Hyperlink]],\"Weblink\")","v":"Weblink"},"Enslow Publishing","2020","January 2020","6.500 X 9.125",null,null,null,null,null,null,null,null,"Grade 7","Grade 7 - 12","Thanks to the Internet and social media, there are so many new ways to make extra money with skills like writing, crafting, and art. Beyond the internet, there are even more ways to cash in on skills by working with your hands, working outdoors, or taking care of pets and children. This set helps young folks explore a variety of options to make money and even build a career on entrepreneurial skills they might not necessarily learn in school. It will give teens the opportunity to explore all the different ways the \"gig economy\" can add potential financial support to their lives through meaningful alternative work. Features include: Stories about real teens who found success will inspire readers, while practical tips will help teens reach their own goals. Explores the many ways that a person's interests and skills can lead to fulfilling and profitable work. Serves as a powerful reminder that there are many talents, beyond being good at school, that can contribute to a young person's future success.","English",251.51,188.65,null,"80 pp.","https://www.enslow.com/series/Cash_In_on_Your_Skills/483795",{"$f":"Table1[[#This Row],[QTY]]*Table1[[#This Row],['# of Books]]","v":0},{"$f":"Table1[[#This Row],[QTY]]*Table1[[#This Row],[School & Library Price]]","v":0}]
[null,53,null,"Cash In on Your Skills","Ways to Make Money with Art",1,"Library Bound Book","978-1-9785-1543-7",{"$f":"HYPERLINK(Table1[[#This Row],[Hyperlink]],\"Weblink\")","v":"Weblink"},"Enslow Publishing","2020","January 2020","6.500 X 9.125","Author","Angie Timmons",null,null,null,null,"Z",null,"Grade 7","Grade 7 - 12","Generations of artistic teens have heard that following your artistic dreams is a sure ticket to financial struggles, but there are actually plenty of ways that young people can make money with their artistic skills. Whether their preferred medium is photography, graphic design, painting, textile art, sculpture, or something else altogether, this book has lots of practical advice about how make money from it. It offers teens tips on both finding an art-related job and developing their own business. It's a great way to explore all of the routes open to today's artistic teens.","English",35.93,26.95,"331.702--dc23","80 pp.","https://www.enslow.com/books/Ways_to_Make_Money_with_Art/422159",{"$f":"Table1[[#This Row],[QTY]]*Table1[[#This Row],['# of Books]]","v":0},{"$f":"Table1[[#This Row],[QTY]]*Table1[[#This Row],[School & Library Price]]","v":0}]
[null,53,null,"Cash In on Your Skills","Ways to Make Money with Art",1,"eBook","978-1-9785-1544-4",{"$f":"HYPERLINK(Table1[[#This Row],[Hyperlink]],\"Weblink\")","v":"Weblink"},"Enslow Publishing","2020","January 2020",null,"Author","Angie Timmons",null,null,null,null,"Z",null,"Grade 7","Grade 7 - 12","Generations of artistic teens have heard that following your artistic dreams is a sure ticket to financial struggles, but there are actually plenty of ways that young people can make money with their artistic skills. Whether their preferred medium is photography, graphic design, painting, textile art, sculpture, or something else altogether, this book has lots of practical advice about how make money from it. It offers teens tips on both finding an art-related job and developing their own business. It's a great way to explore all of the routes open to today's artistic teens.","English",35.93,26.95,"331.702--dc23","80 pp.","https://www.enslow.com/books/Ways_to_Make_Money_with_Art/422159",{"$f":"Table1[[#This Row],[QTY]]*Table1[[#This Row],['# of Books]]","v":0},{"$f":"Table1[[#This Row],[QTY]]*Table1[[#This Row],[School & Library Price]]","v":0}]
[null,53,null,"Cash In on Your Skills","Ways to Make Money with Computers",1,"Library Bound Book","978-1-9785-1546-8",{"$f":"HYPERLINK(Table1[[#This Row],[Hyperlink]],\"Weblink\")","v":"Weblink"},"Enslow Publishing","2020","January 2020","6.500 X 9.125","Author","Jennifer Landau",null,null,null,null,"Z",null,"Grade 7","Grade 7 - 12","For all the talk about how being computer savvy is a necessity in today's economy, teens aren't always aware of the many ways in which they can put their computer skills to work while they are still in high school. This highly informative guide points readers toward job opportunities in their communities and also lays out a roadmap for how they can develop their own tech businesses. It's full of concrete tips for dealing with a wide range of issues, such as understanding labor laws, doing your own taxes, interacting with difficult clients, learning programming languages, and mastering networking.","English",35.93,26.95,"331.702--dc23","80 pp.","https://www.enslow.com/books/Ways_to_Make_Money_with_Computers/422160",{"$f":"Table1[[#This Row],[QTY]]*Table1[[#This Row],['# of Books]]","v":0},{"$f":"Table1[[#This Row],[QTY]]*Table1[[#This Row],[School & Library Price]]","v":0}]
[null,53,null,"Cash In on Your Skills","Ways to Make Money with Computers",1,"eBook","978-1-9785-1547-5",{"$f":"HYPERLINK(Table1[[#This Row],[Hyperlink]],\"Weblink\")","v":"Weblink"},"Enslow Publishing","2020","January 2020",null,"Author","Jennifer Landau",null,null,null,null,"Z",null,"Grade 7","Grade 7 - 12","For all the talk about how being computer savvy is a necessity in today's economy, teens aren't always aware of the many ways in which they can put their computer skills to work while they are still in high school. This highly informative guide points readers toward job opportunities in their communities and also lays out a roadmap for how they can develop their own tech businesses. It's full of concrete tips for dealing with a wide range of issues, such as understanding labor laws, doing your own taxes, interacting with difficult clients, learning programming languages, and mastering networking.","English",35.93,26.95,"331.702--dc23","80 pp.","https://www.enslow.com/books/Ways_to_Make_Money_with_Computers/422160",{"$f":"Table1[[#This Row],[QTY]]*Table1[[#This Row],['# of Books]]","v":0},{"$f":"Table1[[#This Row],[QTY]]*Table1[[#This Row],[School & Library Price]]","v":0}]
[null,53,null,"Cash In on Your Skills","Ways to Make Money Working Outside",1,"Library Bound Book","978-1-9785-1549-9",{"$f":"HYPERLINK(Table1[[#This Row],[Hyperlink]],\"Weblink\")","v":"Weblink"},"Enslow Publishing","2020","January 2020","6.500 X 9.125","Author","Charlotte Taylor",null,null,null,null,"Z",null,"Grade 7","Grade 7 - 12","For many teen job seekers, the idea of being cooped up in an office or store is enough to make them avoid working all together. Happily, there is an alternative. This comprehensive guide takes readers through the many options available for working outside, whether it's biking through city streets or hiking rough mountain terrain. Topics include how to find summer jobs, internships, and volunteer opportunities, with helpful lists of ideas, practical advice from experts, and real-life success stories. The engaging text encourages readers to consider their skills and interests to steer them toward the ideal summer job or lifelong career.","English",35.93,26.95,"331.702--dc23","80 pp.","https://www.enslow.com/books/Ways_to_Make_Money_Working_Outside/422161",{"$f":"Table1[[#This Row],[QTY]]*Table1[[#This Row],['# of Books]]","v":0},{"$f":"Table1[[#This Row],[QTY]]*Table1[[#This Row],[School & Library Price]]","v":0}]
[null,53,null,"Cash In on Your Skills","Ways to Make Money Working Outside",1,"eBook","978-1-9785-1550-5",{"$f":"HYPERLINK(Table1[[#This Row],[Hyperlink]],\"Weblink\")","v":"Weblink"},"Enslow Publishing","2020","January 2020",null,"Author","Charlotte Taylor",null,null,null,null,"Z",null,"Grade 7","Grade 7 - 12","For many teen job seekers, the idea of being cooped up in an office or store is enough to make them avoid working all together. Happily, there is an alternative. This comprehensive guide takes readers through the many options available for working outside, whether it's biking through city streets or hiking rough mountain terrain. Topics include how to find summer jobs, internships, and volunteer opportunities, with helpful lists of ideas, practical advice from experts, and real-life success stories. The engaging text encourages readers to consider their skills and interests to steer them toward the ideal summer job or lifelong career.","English",35.93,26.95,"331.702--dc23","80 pp.","https://www.enslow.com/books/Ways_to_Make_Money_Working_Outside/422161",{"$f":"Table1[[#This Row],[QTY]]*Table1[[#This Row],['# of Books]]","v":0},{"$f":"Table1[[#This Row],[QTY]]*Table1[[#This Row],[School & Library Price]]","v":0}]
[null,53,null,"Cash In on Your Skills","Ways to Make Money Working with Animals",1,"Library Bound Book","978-1-9785-1552-9",{"$f":"HYPERLINK(Table1[[#This Row],[Hyperlink]],\"Weblink\")","v":"Weblink"},"Enslow Publishing","2020","January 2020","6.500 X 9.125","Author","Siyavush Saidian",null,null,null,null,"Z",null,"Grade 7","Grade 7 - 12","Some teens adore dogs. Others are wild about cats. Still others love horses, are fascinated with snakes, or daydream about being an expert on exotic species. What unites them is their love of animals. They'll all find ways to cash in on that enthusiasm in this effective and informative resource. It describes a wide range of jobs that involve working with animals in cities, suburbs, and rural areas. There are tons of helpful tips for readers hoping to set up their own animal-related businesses, planning for a long career caring for animals, or just hoping to use their pet-care skills to make some extra spending money.","English",35.93,26.95,"636.0023--dc23","80 pp.","https://www.enslow.com/books/Ways_to_Make_Money_Working_with_Animals/422162",{"$f":"Table1[[#This Row],[QTY]]*Table1[[#This Row],['# of Books]]","v":0},{"$f":"Table1[[#This Row],[QTY]]*Table1[[#This Row],[School & Library Price]]","v":0}]
[null,53,null,"Cash In on Your Skills","Ways to Make Money Working with Animals",1,"eBook","978-1-9785-1553-6",{"$f":"HYPERLINK(Table1[[#This Row],[Hyperlink]],\"Weblink\")","v":"Weblink"},"Enslow Publishing","2020","January 2020",null,"Author","Siyavush Saidian",null,null,null,null,"Z",null,"Grade 7","Grade 7 - 12","Some teens adore dogs. Others are wild about cats. Still others love horses, are fascinated with snakes, or daydream about being an expert on exotic species. What unites them is their love of animals. They'll all find ways to cash in on that enthusiasm in this effective and informative resource. It describes a wide range of jobs that involve working with animals in cities, suburbs, and rural areas. There are tons of helpful tips for readers hoping to set up their own animal-related businesses, planning for a long career caring for animals, or just hoping to use their pet-care skills to make some extra spending money.","English",35.93,26.95,"636.0023--dc23","80 pp.","https://www.enslow.com/books/Ways_to_Make_Money_Working_with_Animals/422162",{"$f":"Table1[[#This Row],[QTY]]*Table1[[#This Row],['# of Books]]","v":0},{"$f":"Table1[[#This Row],[QTY]]*Table1[[#This Row],[School & Library Price]]","v":0}]
[null,53,null,"Cash In on Your Skills","Ways to Make Money Working with Kids",1,"Library Bound Book","978-1-9785-1555-0",{"$f":"HYPERLINK(Table1[[#This Row],[Hyperlink]],\"Weblink\")","v":"Weblink"},"Enslow Publishing","2020","January 2020","6.500 X 9.125","Author","Alexandra Tritto",null,null,null,null,"Z",null,"Grade 7","Grade 7 - 12","Teenagers are often naturals at working with kids younger than themselves. Many have dealt with younger siblings or other relatives their whole lives. Little kids often look up to teens more than they would to boring grown-ups. This tip-packed volume is full of information about the various jobs working with kids that teens can get or plan for. It offers pragmatic advice on life skills such as starting a business, setting up a business plan, volunteering opportunities, career building, and setting financial goals. It also provides guidance on caring for disabled children, ensuring child safety, and establishing authority with the kids in one's charge.","English",35.93,26.95,"649'.023'73--dc23","80 pp.","https://www.enslow.com/books/Ways_to_Make_Money_Working_with_Kids/422163",{"$f":"Table1[[#This Row],[QTY]]*Table1[[#This Row],['# of Books]]","v":0},{"$f":"Table1[[#This Row],[QTY]]*Table1[[#This Row],[School & Library Price]]","v":0}]
[null,53,null,"Cash In on Your Skills","Ways to Make Money Working with Kids",1,"eBook","978-1-9785-1556-7",{"$f":"HYPERLINK(Table1[[#This Row],[Hyperlink]],\"Weblink\")","v":"Weblink"},"Enslow Publishing","2020","January 2020",null,"Author","Alexandra Tritto",null,null,null,null,"Z",null,"Grade 7","Grade 7 - 12","Teenagers are often naturals at working with kids younger than themselves. Many have dealt with younger siblings or other relatives their whole lives. Little kids often look up to teens more than they would to boring grown-ups. This tip-packed volume is full of information about the various jobs working with kids that teens can get or plan for. It offers pragmatic advice on life skills such as starting a business, setting up a business plan, volunteering opportunities, career building, and setting financial goals. It also provides guidance on caring for disabled children, ensuring child safety, and establishing authority with the kids in one's charge.","English",35.93,26.95,"649'.023'73--dc23","80 pp.","https://www.enslow.com/books/Ways_to_Make_Money_Working_with_Kids/422163",{"$f":"Table1[[#This Row],[QTY]]*Table1[[#This Row],['# of Books]]","v":0},{"$f":"Table1[[#This Row],[QTY]]*Table1[[#This Row],[School & Library Price]]","v":0}]
[null,53,null,"Cash In on Your Skills","Ways to Make Money Working with Your Hands",1,"Library Bound Book","978-1-9785-1558-1",{"$f":"HYPERLINK(Table1[[#This Row],[Hyperlink]],\"Weblink\")","v":"Weblink"},"Enslow Publishing","2020","January 2020","6.500 X 9.125","Author","Siyavush Saidian",null,null,null,null,"Z",null,"Grade 7","Grade 7 - 12","Being good with your hands will help you in any number of situations. The know-how and inclination to fix things, whether it's a leaky roof or a torn sweater, makes a handy person the one friends, relatives, and neighbors turn to when things go wrong. There is a plethora of ways that young people who are good with their hands can harness these skills to make money, both in the current moment and the long term. This book is full of creative job ideas and pragmatic tips, with a particular focus on ways readers can develop entrepreneurial streaks.","English",35.93,26.95,"650.1--dc23","80 pp.","https://www.enslow.com/books/Ways_to_Make_Money_Working_with_Your_Hands/422164",{"$f":"Table1[[#This Row],[QTY]]*Table1[[#This Row],['# of Books]]","v":0},{"$f":"Table1[[#This Row],[QTY]]*Table1[[#This Row],[School & Library Price]]","v":0}]
[null,53,null,"Cash In on Your Skills","Ways to Make Money Working with Your Hands",1,"eBook","978-1-9785-1559-8",{"$f":"HYPERLINK(Table1[[#This Row],[Hyperlink]],\"Weblink\")","v":"Weblink"},"Enslow Publishing","2020","January 2020",null,"Author","Siyavush Saidian",null,null,null,null,"Z",null,"Grade 7","Grade 7 - 12","Being good with your hands will help you in any number of situations. The know-how and inclination to fix things, whether it's a leaky roof or a torn sweater, makes a handy person the one friends, relatives, and neighbors turn to when things go wrong. There is a plethora of ways that young people who are good with their hands can harness these skills to make money, both in the current moment and the long term. This book is full of creative job ideas and pragmatic tips, with a particular focus on ways readers can develop entrepreneurial streaks.","English",35.93,26.95,"650.1--dc23","80 pp.","https://www.enslow.com/books/Ways_to_Make_Money_Working_with_Your_Hands/422164",{"$f":"Table1[[#This Row],[QTY]]*Table1[[#This Row],['# of Books]]","v":0},{"$f":"Table1[[#This Row],[QTY]]*Table1[[#This Row],[School & Library Price]]","v":0}]
[null,53,null,"Cash In on Your Skills","Ways to Make Money Writing",1,"Library Bound Book","978-1-9785-1561-1",{"$f":"HYPERLINK(Table1[[#This Row],[Hyperlink]],\"Weblink\")","v":"Weblink"},"Enslow Publishing","2020","January 2020","6.500 X 9.125","Author","Angie Timmons",null,null,null,null,"Z",null,"Grade 7","Grade 7 - 12","Many teens have a passion for writing, but it isn't always obvious to them how they can turn this interest into a remunerative one, much less a career. Though it may not be easy to get published, this volume explores the various ways teens can get their work published, both online and in printed form. Along with tips on how to polish their writing so that it's publication-ready, readers will also get pragmatic advice on working as a writing tutor, getting a start in journalism, self-publishing, dealing with contracts and editors, marketing themselves, and more.","English",35.93,26.95,"808.02--dc23","80 pp.","https://www.enslow.com/books/Ways_to_Make_Money_Writing/422165",{"$f":"Table1[[#This Row],[QTY]]*Table1[[#This Row],['# of Books]]","v":0},{"$f":"Table1[[#This Row],[QTY]]*Table1[[#This Row],[School & Library Price]]","v":0}]
[null,53,null,"Cash In on Your Skills","Ways to Make Money Writing",1,"eBook","978-1-9785-1562-8",{"$f":"HYPERLINK(Table1[[#This Row],[Hyperlink]],\"Weblink\")","v":"Weblink"},"Enslow Publishing","2020","January 2020",null,"Author","Angie Timmons",null,null,null,null,"Z",null,"Grade 7","Grade 7 - 12","Many teens have a passion for writing, but it isn't always obvious to them how they can turn this interest into a remunerative one, much less a career. Though it may not be easy to get published, this volume explores the various ways teens can get their work published, both online and in printed form. Along with tips on how to polish their writing so that it's publication-ready, readers will also get pragmatic advice on working as a writing tutor, getting a start in journalism, self-publishing, dealing with contracts and editors, marketing themselves, and more.","English",35.93,26.95,"808.02--dc23","80 pp.","https://www.enslow.com/books/Ways_to_Make_Money_Writing/422165",{"$f":"Table1[[#This Row],[QTY]]*Table1[[#This Row],['# of Books]]","v":0},{"$f":"Table1[[#This Row],[QTY]]*Table1[[#This Row],[School & Library Price]]","v":0}]
[null,54,null,"American Debates and Speeches","American Debates and Speeches",5,"Library Set","978-1-9785-1581-9",{"$f":"HYPERLINK(Table1[[#This Row],[Hyperlink]],\"Weblink\")","v":"Weblink"},"Enslow Publishing","2021","August 2020","6.500 X 9.125",null,null,null,null,null,null,null,null,"Grade 7","Grade 7 - 12","The United States of America is a nation formed from ideas: Democracy, Freedom, and Equality. These core American ideals were greatly shaped by the courageous speeches, essays, and debates of early Americans. This includes Sojourner Truth's thunderous call for the abolition of slavery and suffrage for women, Abraham Lincoln's poetic Gettysburg Address, and Patrick Henry's dire and revolutionary exclamation for liberty. Through captivating images and engaging sidebars, readers will understand the contextual significance of these influential documents and be able to connect them to modern forms of activism. Features include: Primary texts for readers to examine, as well as the context needed to better understand the importance of these texts. Features transcriptions of or from the texts on which each volume focuses. Historical photographs, paintings, and other primary source images give readers a glimpse into the past. The texts correlate to the History dimension of the C3 Framework for Social Studies state standards, in particular its focus on historical sources and evidence.","English",173,129.75,null,"64 pp.","https://www.enslow.com/series/American_Debates_and_Speeches/483793",{"$f":"Table1[[#This Row],[QTY]]*Table1[[#This Row],['# of Books]]","v":0},{"$f":"Table1[[#This Row],[QTY]]*Table1[[#This Row],[School & Library Price]]","v":0}]
[null,54,null,"American Debates and Speeches","Examining \"Ain't I a Woman?\" by Sojourner Truth",1,"Library Bound Book","978-1-9785-1504-8",{"$f":"HYPERLINK(Table1[[#This Row],[Hyperlink]],\"Weblink\")","v":"Weblink"},"Enslow Publishing","2021","August 2020","6.500 X 9.125","Author","Alex David",null,null,null,null,"Y",null,"Grade 7","Grade 7 - 12","Sojourner Truth swept her audiences off their feet with her roaring calls for change. She demanded that both women and African Americans be free. Traveling around the country, she spoke out against slavery, calling for emancipation for enslaved people, and asked her listeners to give women the right to vote. Truth was a charismatic and intelligent leader who helped to change America into a more free and equal society. Readers will get to follow her journey and be changed by her message, which still rings true today.","English",34.6,25.95,"326/.8092--dc23","64 pp.","https://www.enslow.com/books/Examining_Aint_I_a_Woman_by_Sojourner_Truth/422193",{"$f":"Table1[[#This Row],[QTY]]*Table1[[#This Row],['# of Books]]","v":0},{"$f":"Table1[[#This Row],[QTY]]*Table1[[#This Row],[School & Library Price]]","v":0}]
[null,54,null,"American Debates and Speeches","Examining \"Ain't I a Woman?\" by Sojourner Truth",1,"eBook","978-1-9785-1505-5",{"$f":"HYPERLINK(Table1[[#This Row],[Hyperlink]],\"Weblink\")","v":"Weblink"},"Enslow Publishing","2021","August 2020",null,"Author","Alex David",null,null,null,null,"Y",null,"Grade 7","Grade 7 - 12","Sojourner Truth swept her audiences off their feet with her roaring calls for change. She demanded that both women and African Americans be free. Traveling around the country, she spoke out against slavery, calling for emancipation for enslaved people, and asked her listeners to give women the right to vote. Truth was a charismatic and intelligent leader who helped to change America into a more free and equal society. Readers will get to follow her journey and be changed by her message, which still rings true today.","English",34.6,25.95,"326/.8092--dc23","64 pp.","https://www.enslow.com/books/Examining_Aint_I_a_Woman_by_Sojourner_Truth/422193",{"$f":"Table1[[#This Row],[QTY]]*Table1[[#This Row],['# of Books]]","v":0},{"$f":"Table1[[#This Row],[QTY]]*Table1[[#This Row],[School & Library Price]]","v":0}]
[null,54,null,"American Debates and Speeches","Examining \"Give Me Liberty or Give Me Death\" by Patrick Henry",1,"Library Bound Book","978-1-9785-1507-9",{"$f":"HYPERLINK(Table1[[#This Row],[Hyperlink]],\"Weblink\")","v":"Weblink"},"Enslow Publishing","2021","August 2020","6.500 X 9.125","Author","Alex David",null,null,null,null,"X",null,"Grade 7","Grade 7 - 12","The year is 1775. America is a grand experiment. Colonists are writing anonymous pamphlets about their hopes for this new country. British redcoats walk the streets. Enslaved African American women and men work on tobacco and sugar plantations. A young lawyer named Patrick Henry sings out in a courthouse, \"Give Me Liberty or Give Me Death.\" Henry's words become the rally cry for the American Revolution. This poetic speech will ignite a country to fight for its freedom and rebel against oppressive King George. Militias are formed and shots are fired at Lexington. Readers will view the events of the war that began America.","English",34.6,25.95,"973.3092--dc23","64 pp.","https://www.enslow.com/books/Examining_Give_Me_Liberty_or_Give_Me_Death_by_Patrick_Henry/422194",{"$f":"Table1[[#This Row],[QTY]]*Table1[[#This Row],['# of Books]]","v":0},{"$f":"Table1[[#This Row],[QTY]]*Table1[[#This Row],[School & Library Price]]","v":0}]
[null,54,null,"American Debates and Speeches","Examining \"Give Me Liberty or Give Me Death\" by Patrick Henry",1,"eBook","978-1-9785-1508-6",{"$f":"HYPERLINK(Table1[[#This Row],[Hyperlink]],\"Weblink\")","v":"Weblink"},"Enslow Publishing","2021","August 2020",null,"Author","Alex David",null,null,null,null,"X",null,"Grade 7","Grade 7 - 12","The year is 1775. America is a grand experiment. Colonists are writing anonymous pamphlets about their hopes for this new country. British redcoats walk the streets. Enslaved African American women and men work on tobacco and sugar plantations. A young lawyer named Patrick Henry sings out in a courthouse, \"Give Me Liberty or Give Me Death.\" Henry's words become the rally cry for the American Revolution. This poetic speech will ignite a country to fight for its freedom and rebel against oppressive King George. Militias are formed and shots are fired at Lexington. Readers will view the events of the war that began America.","English",34.6,25.95,"973.3092--dc23","64 pp.","https://www.enslow.com/books/Examining_Give_Me_Liberty_or_Give_Me_Death_by_Patrick_Henry/422194",{"$f":"Table1[[#This Row],[QTY]]*Table1[[#This Row],['# of Books]]","v":0},{"$f":"Table1[[#This Row],[QTY]]*Table1[[#This Row],[School & Library Price]]","v":0}]
[null,54,null,"American Debates and Speeches","Examining Abraham Lincoln and Stephen Douglas's Senate Debates",1,"Library Bound Book","978-1-9785-1510-9",{"$f":"HYPERLINK(Table1[[#This Row],[Hyperlink]],\"Weblink\")","v":"Weblink"},"Enslow Publishing","2021","August 2020","6.500 X 9.125","Author","Alex David",null,null,null,null,"Y",null,"Grade 7","Grade 7 - 12","Today we think of candidates debating before being elected. It is a normal part of the election process. However, before Abraham Lincoln and Illinois senator Stephen Douglas, debates did not occur. Their debates were later published in a book, and Americans could read each candidate's thoughts on slavery. Lincoln wanted to end slavery but Douglas wanted each state to decide for itself if slavery should exist. The ensuing debates pinpoint a critical time in American history. Were people going to vote to allow this inhumane institution to continue or would they agree with Lincoln and abolish it?","English",34.6,25.95,"973.7092--dc23\u2028","64 pp.","https://www.enslow.com/books/Examining_Abraham_Lincoln_and_Stephen_Douglass_Senate_Debates/422195",{"$f":"Table1[[#This Row],[QTY]]*Table1[[#This Row],['# of Books]]","v":0},{"$f":"Table1[[#This Row],[QTY]]*Table1[[#This Row],[School & Library Price]]","v":0}]
[null,54,null,"American Debates and Speeches","Examining Abraham Lincoln and Stephen Douglas's Senate Debates",1,"eBook","978-1-9785-1511-6",{"$f":"HYPERLINK(Table1[[#This Row],[Hyperlink]],\"Weblink\")","v":"Weblink"},"Enslow Publishing","2021","August 2020",null,"Author","Alex David",null,null,null,null,"Y",null,"Grade 7","Grade 7 - 12","Today we think of candidates debating before being elected. It is a normal part of the election process. However, before Abraham Lincoln and Illinois senator Stephen Douglas, debates did not occur. Their debates were later published in a book, and Americans could read each candidate's thoughts on slavery. Lincoln wanted to end slavery but Douglas wanted each state to decide for itself if slavery should exist. The ensuing debates pinpoint a critical time in American history. Were people going to vote to allow this inhumane institution to continue or would they agree with Lincoln and abolish it?","English",34.6,25.95,"973.7092--dc23\u2028","64 pp.","https://www.enslow.com/books/Examining_Abraham_Lincoln_and_Stephen_Douglass_Senate_Debates/422195",{"$f":"Table1[[#This Row],[QTY]]*Table1[[#This Row],['# of Books]]","v":0},{"$f":"Table1[[#This Row],[QTY]]*Table1[[#This Row],[School & Library Price]]","v":0}]
[null,54,null,"American Debates and Speeches","Examining the Federalist and Anti-Federalist Debates",1,"Library Bound Book","978-1-9785-1513-0",{"$f":"HYPERLINK(Table1[[#This Row],[Hyperlink]],\"Weblink\")","v":"Weblink"},"Enslow Publishing","2021","August 2020","6.500 X 9.125","Author","Alex David",null,null,null,null,"Y",null,"Grade 7","Grade 7 - 12","Imagine a time when people, using secret pen names, wrote exhilarating argumentative essays. Imagine wanting to find out what people like \"Brutus\" and \"Cato\" would argue. The revolution was over, and Americans were trying to decide how their new democratic government should be structured. Should the federal government have a great deal of power or should power be left to the individual states? Readers will get to follow along as the federalists and anti-federalists argue a new country into creation and create one of the most defining American documents: the Constitution.","English",34.6,25.95,"342.7302'4--dc23","64 pp.","https://www.enslow.com/books/Examining_the_Federalist_and_Anti_Federalist_Debates/422196",{"$f":"Table1[[#This Row],[QTY]]*Table1[[#This Row],['# of Books]]","v":0},{"$f":"Table1[[#This Row],[QTY]]*Table1[[#This Row],[School & Library Price]]","v":0}]
[null,54,null,"American Debates and Speeches","Examining the Federalist and Anti-Federalist Debates",1,"eBook","978-1-9785-1514-7",{"$f":"HYPERLINK(Table1[[#This Row],[Hyperlink]],\"Weblink\")","v":"Weblink"},"Enslow Publishing","2021","August 2020",null,"Author","Alex David",null,null,null,null,"Y",null,"Grade 7","Grade 7 - 12","Imagine a time when people, using secret pen names, wrote exhilarating argumentative essays. Imagine wanting to find out what people like \"Brutus\" and \"Cato\" would argue. The revolution was over, and Americans were trying to decide how their new democratic government should be structured. Should the federal government have a great deal of power or should power be left to the individual states? Readers will get to follow along as the federalists and anti-federalists argue a new country into creation and create one of the most defining American documents: the Constitution.","English",34.6,25.95,"342.7302'4--dc23","64 pp.","https://www.enslow.com/books/Examining_the_Federalist_and_Anti_Federalist_Debates/422196",{"$f":"Table1[[#This Row],[QTY]]*Table1[[#This Row],['# of Books]]","v":0},{"$f":"Table1[[#This Row],[QTY]]*Table1[[#This Row],[School & Library Price]]","v":0}]
[null,54,null,"American Debates and Speeches","Examining the Gettysburg Address by Abraham Lincoln",1,"Library Bound Book","978-1-9785-1516-1",{"$f":"HYPERLINK(Table1[[#This Row],[Hyperlink]],\"Weblink\")","v":"Weblink"},"Enslow Publishing","2021","August 2020","6.500 X 9.125","Author","Alex David",null,null,null,null,"W",null,"Grade 7","Grade 7 - 12","Tall, awkward Abraham Lincoln delivered the Gettysburg Address in just four minutes. It was only 272 words. Even after the tragic deaths of thousands of Union soldiers, Lincoln imagines a united country. His words spoke not just to the living audience, but also to future Americans. The brilliance of this speech is its poetic brevity and Lincoln's ability to mark the beginning of America with the Declaration of Independence, not the Constitution. This book traces the history of this great speech, giving readers a sense of both the historical context and the person who wrote these enduring words.","English",34.6,25.95,"973.7092--dc23","64 pp.","https://www.enslow.com/books/Examining_the_Gettysburg_Address_by_Abraham_Lincoln/422197",{"$f":"Table1[[#This Row],[QTY]]*Table1[[#This Row],['# of Books]]","v":0},{"$f":"Table1[[#This Row],[QTY]]*Table1[[#This Row],[School & Library Price]]","v":0}]
[null,54,null,"American Debates and Speeches","Examining the Gettysburg Address by Abraham Lincoln",1,"eBook","978-1-9785-1517-8",{"$f":"HYPERLINK(Table1[[#This Row],[Hyperlink]],\"Weblink\")","v":"Weblink"},"Enslow Publishing","2021","August 2020",null,"Author","Alex David",null,null,null,null,"W",null,"Grade 7","Grade 7 - 12","Tall, awkward Abraham Lincoln delivered the Gettysburg Address in just four minutes. It was only 272 words. Even after the tragic deaths of thousands of Union soldiers, Lincoln imagines a united country. His words spoke not just to the living audience, but also to future Americans. The brilliance of this speech is its poetic brevity and Lincoln's ability to mark the beginning of America with the Declaration of Independence, not the Constitution. This book traces the history of this great speech, giving readers a sense of both the historical context and the person who wrote these enduring words.","English",34.6,25.95,"973.7092--dc23","64 pp.","https://www.enslow.com/books/Examining_the_Gettysburg_Address_by_Abraham_Lincoln/422197",{"$f":"Table1[[#This Row],[QTY]]*Table1[[#This Row],['# of Books]]","v":0},{"$f":"Table1[[#This Row],[QTY]]*Table1[[#This Row],[School & Library Price]]","v":0}]
[null,null,null,"Max Booth: Future Sleuth","Selfie Search",1,"Hardcover","978-1-5383-8464-0",{"$f":"HYPERLINK(Table1[[#This Row],[Hyperlink]],\"Weblink\")","v":"Weblink"},"West 44 Books","2020","August 2019","6.000 X 8.250","Author, Illustrated by","Cameron Macintosh, Dave Atze",null,null,null,null,"T","870L","Grade 4","Grade 3 - 5","Max and his robo-dog sidekick, Oscar, have just been handed an ancient mobile phone. It's from the year 2017, which makes it more than 400 years old! What's more, it's full of photos, and all of the same person! Max and Oscar learn that the photos hold a secret that could lead them to fame and fortune. But the secret gets out, and Max and Oscar face the fight of their lives to keep their discovery safe from some very greedy hands...","English",19.95,14.95,"[Fic]--dc23","128 pp.","https://www.enslow.com/books/Selfie_Search/421945",{"$f":"Table1[[#This Row],[QTY]]*Table1[[#This Row],['# of Books]]","v":0},{"$f":"Table1[[#This Row],[QTY]]*Table1[[#This Row],[School & Library Price]]","v":0}]
[null,null,null,"Max Booth: Future Sleuth","Selfie Search",1,"eBook","978-1-5383-8466-4",{"$f":"HYPERLINK(Table1[[#This Row],[Hyperlink]],\"Weblink\")","v":"Weblink"},"West 44 Books","2020","August 2019",null,"Author, Illustrated by","Cameron Macintosh, Dave Atze",null,null,null,null,"T","870L","Grade 4","Grade 3 - 5","Max and his robo-dog sidekick, Oscar, have just been handed an ancient mobile phone. It's from the year 2017, which makes it more than 400 years old! What's more, it's full of photos, and all of the same person! Max and Oscar learn that the photos hold a secret that could lead them to fame and fortune. But the secret gets out, and Max and Oscar face the fight of their lives to keep their discovery safe from some very greedy hands...","English",19.95,14.95,"[Fic]--dc23","128 pp.","https://www.enslow.com/books/Selfie_Search/421945",{"$f":"Table1[[#This Row],[QTY]]*Table1[[#This Row],['# of Books]]","v":0},{"$f":"Table1[[#This Row],[QTY]]*Table1[[#This Row],[School & Library Price]]","v":0}]
[null,null,null,"Max Booth: Future Sleuth","Selfie Search",1,"Paperback Book","978-1-5383-8465-7",{"$f":"HYPERLINK(Table1[[#This Row],[Hyperlink]],\"Weblink\")","v":"Weblink"},"West 44 Books","2020","August 2019","6.000 X 8.250","Author, Illustrated by","Cameron Macintosh, Dave Atze",null,null,null,null,"T","870L","Grade 4","Grade 3 - 5","Max and his robo-dog sidekick, Oscar, have just been handed an ancient mobile phone. It's from the year 2017, which makes it more than 400 years old! What's more, it's full of photos, and all of the same person! Max and Oscar learn that the photos hold a secret that could lead them to fame and fortune. But the secret gets out, and Max and Oscar face the fight of their lives to keep their discovery safe from some very greedy hands...","English",12.9,10.95,"[Fic]--dc23","128 pp.","https://www.enslow.com/books/Selfie_Search/421945",{"$f":"Table1[[#This Row],[QTY]]*Table1[[#This Row],['# of Books]]","v":0},{"$f":"Table1[[#This Row],[QTY]]*Table1[[#This Row],[School & Library Price]]","v":0}]
[null,null,null,"Max Booth: Future Sleuth","Stamp Safari",1,"Hardcover","978-1-5383-8467-1",{"$f":"HYPERLINK(Table1[[#This Row],[Hyperlink]],\"Weblink\")","v":"Weblink"},"West 44 Books","2020","August 2019","6.000 X 8.250","Author, Illustrated by","Cameron Macintosh, Dave Atze",null,null,null,null,"T","750L","Grade 4","Grade 3 - 5","A tiny piece of paper from the year 2019 might not sound very interesting to most people. But Max and Oscar, who are Bluggsville's sharpest sleuths, aren't most people! Max has a hunch that this ancient patch of paper might be valuable and extremely rare. Max is right. This isn't just any old piece of paper. It's a strange, sticky thing called a postage stamp, and it's more than 400 years old! It's an exciting discovery, but before long, it leads Max and Oscar into some very sticky situations...","English",19.95,14.95,"[Fic]--dc23","144 pp.","https://www.enslow.com/books/Stamp_Safari/421946",{"$f":"Table1[[#This Row],[QTY]]*Table1[[#This Row],['# of Books]]","v":0},{"$f":"Table1[[#This Row],[QTY]]*Table1[[#This Row],[School & Library Price]]","v":0}]
[null,null,null,"Max Booth: Future Sleuth","Stamp Safari",1,"eBook","978-1-5383-8469-5",{"$f":"HYPERLINK(Table1[[#This Row],[Hyperlink]],\"Weblink\")","v":"Weblink"},"West 44 Books","2020","August 2019",null,"Author, Illustrated by","Cameron Macintosh, Dave Atze",null,null,null,null,"T","750L","Grade 4","Grade 3 - 5","A tiny piece of paper from the year 2019 might not sound very interesting to most people. But Max and Oscar, who are Bluggsville's sharpest sleuths, aren't most people! Max has a hunch that this ancient patch of paper might be valuable and extremely rare. Max is right. This isn't just any old piece of paper. It's a strange, sticky thing called a postage stamp, and it's more than 400 years old! It's an exciting discovery, but before long, it leads Max and Oscar into some very sticky situations...","English",19.95,14.95,"[Fic]--dc23","144 pp.","https://www.enslow.com/books/Stamp_Safari/421946",{"$f":"Table1[[#This Row],[QTY]]*Table1[[#This Row],['# of Books]]","v":0},{"$f":"Table1[[#This Row],[QTY]]*Table1[[#This Row],[School & Library Price]]","v":0}]
[null,null,null,"Max Booth: Future Sleuth","Stamp Safari",1,"Paperback Book","978-1-5383-8468-8",{"$f":"HYPERLINK(Table1[[#This Row],[Hyperlink]],\"Weblink\")","v":"Weblink"},"West 44 Books","2020","August 2019","6.000 X 8.250","Author, Illustrated by","Cameron Macintosh, Dave Atze",null,null,null,null,"T","750L","Grade 4","Grade 3 - 5","A tiny piece of paper from the year 2019 might not sound very interesting to most people. But Max and Oscar, who are Bluggsville's sharpest sleuths, aren't most people! Max has a hunch that this ancient patch of paper might be valuable and extremely rare. Max is right. This isn't just any old piece of paper. It's a strange, sticky thing called a postage stamp, and it's more than 400 years old! It's an exciting discovery, but before long, it leads Max and Oscar into some very sticky situations...","English",12.9,10.95,"[Fic]--dc23","144 pp.","https://www.enslow.com/books/Stamp_Safari/421946",{"$f":"Table1[[#This Row],[QTY]]*Table1[[#This Row],['# of Books]]","v":0},{"$f":"Table1[[#This Row],[QTY]]*Table1[[#This Row],[School & Library Price]]","v":0}]
[null,null,null,"Max Booth: Future Sleuth","Tape Escape",1,"Hardcover","978-1-5383-8461-9",{"$f":"HYPERLINK(Table1[[#This Row],[Hyperlink]],\"Weblink\")","v":"Weblink"},"West 44 Books","2020","August 2019","6.000 X 8.250","Author, Illustrated by","Cameron Macintosh, Dave Atze",null,null,null,null,"U","870L","Grade 4","Grade 3 - 5","It's 2424. Max and his robo-dog sidekick, Oscar, are out to solve another techno-history mystery! They've been asked to identify an object that's baffling everyone; a 1980s cassette tape. But there's more to the tape than meets the eye and the ears! When devious Dr. Grizzlowe tries to take credit for the tape's rock-tastic recordings, Max and Oscar know they're going to need all their future sleuthy skills to put things right.","English",19.95,14.95,"[Fic]--dc23","144 pp.","https://www.enslow.com/books/Tape_Escape/421944",{"$f":"Table1[[#This Row],[QTY]]*Table1[[#This Row],['# of Books]]","v":0},{"$f":"Table1[[#This Row],[QTY]]*Table1[[#This Row],[School & Library Price]]","v":0}]
[null,null,null,"Max Booth: Future Sleuth","Tape Escape",1,"eBook","978-1-5383-8463-3",{"$f":"HYPERLINK(Table1[[#This Row],[Hyperlink]],\"Weblink\")","v":"Weblink"},"West 44 Books","2020","August 2019",null,"Author, Illustrated by","Cameron Macintosh, Dave Atze",null,null,null,null,"U","870L","Grade 4","Grade 3 - 5","It's 2424. Max and his robo-dog sidekick, Oscar, are out to solve another techno-history mystery! They've been asked to identify an object that's baffling everyone; a 1980s cassette tape. But there's more to the tape than meets the eye and the ears! When devious Dr. Grizzlowe tries to take credit for the tape's rock-tastic recordings, Max and Oscar know they're going to need all their future sleuthy skills to put things right.","English",19.95,14.95,"[Fic]--dc23","144 pp.","https://www.enslow.com/books/Tape_Escape/421944",{"$f":"Table1[[#This Row],[QTY]]*Table1[[#This Row],['# of Books]]","v":0},{"$f":"Table1[[#This Row],[QTY]]*Table1[[#This Row],[School & Library Price]]","v":0}]
[null,null,null,"Max Booth: Future Sleuth","Tape Escape",1,"Paperback Book","978-1-5383-8462-6",{"$f":"HYPERLINK(Table1[[#This Row],[Hyperlink]],\"Weblink\")","v":"Weblink"},"West 44 Books","2020","August 2019","6.000 X 8.250","Author, Illustrated by","Cameron Macintosh, Dave Atze",null,null,null,null,"U","870L","Grade 4","Grade 3 - 5","It's 2424. Max and his robo-dog sidekick, Oscar, are out to solve another techno-history mystery! They've been asked to identify an object that's baffling everyone; a 1980s cassette tape. But there's more to the tape than meets the eye and the ears! When devious Dr. Grizzlowe tries to take credit for the tape's rock-tastic recordings, Max and Oscar know they're going to need all their future sleuthy skills to put things right.","English",12.9,10.95,"[Fic]--dc23","144 pp.","https://www.enslow.com/books/Tape_Escape/421944",{"$f":"Table1[[#This Row],[QTY]]*Table1[[#This Row],['# of Books]]","v":0},{"$f":"Table1[[#This Row],[QTY]]*Table1[[#This Row],[School & Library Price]]","v":0}]
[null,null,null,"Alana Oakley","Bloodsuckers and Blunders",1,"Hardcover","978-1-5383-8485-5",{"$f":"HYPERLINK(Table1[[#This Row],[Hyperlink]],\"Weblink\")","v":"Weblink"},"West 44 Books","2020","August 2019","5.000 X 7.750","Author","Poppy Inkwell",null,null,null,null,"Y","880L","Grade 6","Grade 5 - 8","Alana Oakley suspects her new neighbors are vampires. Her friends hope Alana is right. Everything they've read about vampires sounds so very cool and the new neighbors are so very hot. Despite her friends' warped sensibilities, Alana is determined to reveal the neighbors' bloody secret. If only her mom would stay out of trouble, Alana would have this mystery in the bag. Hard to know what Alana is dreading more this year: the kiss of immortality from a vampire or her mother throwing her a birthday party, but don't bother asking the woman in Alana's living room...she's already dead.","English",19.95,14.95,"[Fic]--dc23","352 pp.","https://www.enslow.com/books/Bloodsuckers_and_Blunders/421949",{"$f":"Table1[[#This Row],[QTY]]*Table1[[#This Row],['# of Books]]","v":0},{"$f":"Table1[[#This Row],[QTY]]*Table1[[#This Row],[School & Library Price]]","v":0}]
[null,null,null,"Alana Oakley","Bloodsuckers and Blunders",1,"eBook","978-1-5383-8487-9",{"$f":"HYPERLINK(Table1[[#This Row],[Hyperlink]],\"Weblink\")","v":"Weblink"},"West 44 Books","2020","August 2019",null,"Author","Poppy Inkwell",null,null,null,null,"Y","880L","Grade 6","Grade 5 - 8","Alana Oakley suspects her new neighbors are vampires. Her friends hope Alana is right. Everything they've read about vampires sounds so very cool and the new neighbors are so very hot. Despite her friends' warped sensibilities, Alana is determined to reveal the neighbors' bloody secret. If only her mom would stay out of trouble, Alana would have this mystery in the bag. Hard to know what Alana is dreading more this year: the kiss of immortality from a vampire or her mother throwing her a birthday party, but don't bother asking the woman in Alana's living room...she's already dead.","English",19.95,14.95,"[Fic]--dc23","352 pp.","https://www.enslow.com/books/Bloodsuckers_and_Blunders/421949",{"$f":"Table1[[#This Row],[QTY]]*Table1[[#This Row],['# of Books]]","v":0},{"$f":"Table1[[#This Row],[QTY]]*Table1[[#This Row],[School & Library Price]]","v":0}]
[null,null,null,"Alana Oakley","Bloodsuckers and Blunders",1,"Paperback Book","978-1-5383-8486-2",{"$f":"HYPERLINK(Table1[[#This Row],[Hyperlink]],\"Weblink\")","v":"Weblink"},"West 44 Books","2020","August 2019","5.000 X 7.750","Author","Poppy Inkwell",null,null,null,null,"Y","880L","Grade 6","Grade 5 - 8","Alana Oakley suspects her new neighbors are vampires. Her friends hope Alana is right. Everything they've read about vampires sounds so very cool and the new neighbors are so very hot. Despite her friends' warped sensibilities, Alana is determined to reveal the neighbors' bloody secret. If only her mom would stay out of trouble, Alana would have this mystery in the bag. Hard to know what Alana is dreading more this year: the kiss of immortality from a vampire or her mother throwing her a birthday party, but don't bother asking the woman in Alana's living room...she's already dead.","English",12.9,10.95,"[Fic]--dc23","352 pp.","https://www.enslow.com/books/Bloodsuckers_and_Blunders/421949",{"$f":"Table1[[#This Row],[QTY]]*Table1[[#This Row],['# of Books]]","v":0},{"$f":"Table1[[#This Row],[QTY]]*Table1[[#This Row],[School & Library Price]]","v":0}]
[null,null,null,"Alana Oakley","Mystery and Mayhem",1,"Hardcover","978-1-5383-8479-4",{"$f":"HYPERLINK(Table1[[#This Row],[Hyperlink]],\"Weblink\")","v":"Weblink"},"West 44 Books","2020","August 2019","5.000 X 7.750","Author","Poppy Inkwell",null,null,null,null,"Y","800L","Grade 6","Grade 5 - 8","The mysterious disappearance of a friend's precious charm sets sassy and savvy sleuth Alana Oakley on the warpath. But Alana quickly realizes that having Attitude with a capital \"A\" isn't enough to solve the case. She invokes her savvy self to duel with the military-inspired Coach Kusmuk, dodge the over-exuberant Nurse Cathy, and deal with her impulsive and accident-prone mother, who is one click away from Internet-dating a mass murderer! The biggest mystery of all: What spectacular disaster will her mother have planned for her birthday this year?","English",19.95,14.95,"[Fic]--dc23","256 pp.","https://www.enslow.com/books/Mystery_and_Mayhem/421947",{"$f":"Table1[[#This Row],[QTY]]*Table1[[#This Row],['# of Books]]","v":0},{"$f":"Table1[[#This Row],[QTY]]*Table1[[#This Row],[School & Library Price]]","v":0}]
[null,null,null,"Alana Oakley","Mystery and Mayhem",1,"eBook","978-1-5383-8481-7",{"$f":"HYPERLINK(Table1[[#This Row],[Hyperlink]],\"Weblink\")","v":"Weblink"},"West 44 Books","2020","August 2019",null,"Author","Poppy Inkwell",null,null,null,null,"Y","800L","Grade 6","Grade 5 - 8","The mysterious disappearance of a friend's precious charm sets sassy and savvy sleuth Alana Oakley on the warpath. But Alana quickly realizes that having Attitude with a capital \"A\" isn't enough to solve the case. She invokes her savvy self to duel with the military-inspired Coach Kusmuk, dodge the over-exuberant Nurse Cathy, and deal with her impulsive and accident-prone mother, who is one click away from Internet-dating a mass murderer! The biggest mystery of all: What spectacular disaster will her mother have planned for her birthday this year?","English",19.95,14.95,"[Fic]--dc23","256 pp.","https://www.enslow.com/books/Mystery_and_Mayhem/421947",{"$f":"Table1[[#This Row],[QTY]]*Table1[[#This Row],['# of Books]]","v":0},{"$f":"Table1[[#This Row],[QTY]]*Table1[[#This Row],[School & Library Price]]","v":0}]
[null,null,null,"Alana Oakley","Mystery and Mayhem",1,"Paperback Book","978-1-5383-8480-0",{"$f":"HYPERLINK(Table1[[#This Row],[Hyperlink]],\"Weblink\")","v":"Weblink"},"West 44 Books","2020","August 2019","5.000 X 7.750","Author","Poppy Inkwell",null,null,null,null,"Y","800L","Grade 6","Grade 5 - 8","The mysterious disappearance of a friend's precious charm sets sassy and savvy sleuth Alana Oakley on the warpath. But Alana quickly realizes that having Attitude with a capital \"A\" isn't enough to solve the case. She invokes her savvy self to duel with the military-inspired Coach Kusmuk, dodge the over-exuberant Nurse Cathy, and deal with her impulsive and accident-prone mother, who is one click away from Internet-dating a mass murderer! The biggest mystery of all: What spectacular disaster will her mother have planned for her birthday this year?","English",12.9,10.95,"[Fic]--dc23","256 pp.","https://www.enslow.com/books/Mystery_and_Mayhem/421947",{"$f":"Table1[[#This Row],[QTY]]*Table1[[#This Row],['# of Books]]","v":0},{"$f":"Table1[[#This Row],[QTY]]*Table1[[#This Row],[School & Library Price]]","v":0}]
[null,null,null,"Alana Oakley","Torment and Trickery",1,"Hardcover","978-1-5383-8482-4",{"$f":"HYPERLINK(Table1[[#This Row],[Hyperlink]],\"Weblink\")","v":"Weblink"},"West 44 Books","2020","August 2019","5.000 X 7.750","Author","Poppy Inkwell",null,null,null,null,"Y","830L","Grade 6","Grade 5 - 8","Sassy, savvy sleuth Alana Oakley is at it again. There's school newbie, Flynn, and the Teen Expert, Dr. Gray, who's dating her mom, to investigate. But as Alana starts probing she gets more than she bargains for. Is Bad-Boy Flynn the serial arsonist setting schools on fire? Is Gray a modern Dr. Jekyll and Mr. Hyde? Can Alana solve both mysteries before her birthday? And will her birthday be another Epic Fail? All will be revealed in another chaotic adventure Alana calls Life.","English",19.95,14.95,"[Fic]--dc23","312 pp.","https://www.enslow.com/books/Torment_and_Trickery/421948",{"$f":"Table1[[#This Row],[QTY]]*Table1[[#This Row],['# of Books]]","v":0},{"$f":"Table1[[#This Row],[QTY]]*Table1[[#This Row],[School & Library Price]]","v":0}]
[null,null,null,"Alana Oakley","Torment and Trickery",1,"eBook","978-1-5383-8484-8",{"$f":"HYPERLINK(Table1[[#This Row],[Hyperlink]],\"Weblink\")","v":"Weblink"},"West 44 Books","2020","August 2019",null,"Author","Poppy Inkwell",null,null,null,null,"Y","830L","Grade 6","Grade 5 - 8","Sassy, savvy sleuth Alana Oakley is at it again. There's school newbie, Flynn, and the Teen Expert, Dr. Gray, who's dating her mom, to investigate. But as Alana starts probing she gets more than she bargains for. Is Bad-Boy Flynn the serial arsonist setting schools on fire? Is Gray a modern Dr. Jekyll and Mr. Hyde? Can Alana solve both mysteries before her birthday? And will her birthday be another Epic Fail? All will be revealed in another chaotic adventure Alana calls Life.","English",19.95,14.95,"[Fic]--dc23","312 pp.","https://www.enslow.com/books/Torment_and_Trickery/421948",{"$f":"Table1[[#This Row],[QTY]]*Table1[[#This Row],['# of Books]]","v":0},{"$f":"Table1[[#This Row],[QTY]]*Table1[[#This Row],[School & Library Price]]","v":0}]
[null,null,null,"Alana Oakley","Torment and Trickery",1,"Paperback Book","978-1-5383-8483-1",{"$f":"HYPERLINK(Table1[[#This Row],[Hyperlink]],\"Weblink\")","v":"Weblink"},"West 44 Books","2020","August 2019","5.000 X 7.750","Author","Poppy Inkwell",null,null,null,null,"Y","830L","Grade 6","Grade 5 - 8","Sassy, savvy sleuth Alana Oakley is at it again. There's school newbie, Flynn, and the Teen Expert, Dr. Gray, who's dating her mom, to investigate. But as Alana starts probing she gets more than she bargains for. Is Bad-Boy Flynn the serial arsonist setting schools on fire? Is Gray a modern Dr. Jekyll and Mr. Hyde? Can Alana solve both mysteries before her birthday? And will her birthday be another Epic Fail? All will be revealed in another chaotic adventure Alana calls Life.","English",12.9,10.95,"[Fic]--dc23","312 pp.","https://www.enslow.com/books/Torment_and_Trickery/421948",{"$f":"Table1[[#This Row],[QTY]]*Table1[[#This Row],['# of Books]]","v":0},{"$f":"Table1[[#This Row],[QTY]]*Table1[[#This Row],[School & Library Price]]","v":0}]
[null,null,null,null,"I Am Water",1,"Hardcover","978-1-5383-8280-6",{"$f":"HYPERLINK(Table1[[#This Row],[Hyperlink]],\"Weblink\")","v":"Weblink"},"West 44 Books","2020","August 2019","5.500 X 8.250","Author","Meg Specksgoor",null,null,null,null,"N","510L","Grade 3 - 4","Grade 9 - 12","Hannah works as the only female river-rafting guide in her closed-minded small town. Labeled a tomboy, she often struggles to reconcile the way she fits into normal gender stereotypes. Hannah meets Ezra, who blurs the lines between woman and man. They begin an exciting new relationship, but soon Ezra starts pushing Hannah's limits and her definition of love.","English",19.95,14.95,"811'.60809282--dc23","200 pp.","https://www.enslow.com/books/I_Am_Water/421936",{"$f":"Table1[[#This Row],[QTY]]*Table1[[#This Row],['# of Books]]","v":0},{"$f":"Table1[[#This Row],[QTY]]*Table1[[#This Row],[School & Library Price]]","v":0}]
[null,null,null,null,"I Am Water",1,"eBook","978-1-5383-8340-7",{"$f":"HYPERLINK(Table1[[#This Row],[Hyperlink]],\"Weblink\")","v":"Weblink"},"West 44 Books","2020","August 2019",null,"Author","Meg Specksgoor",null,null,null,null,"N","510L","Grade 3 - 4","Grade 9 - 12","Hannah works as the only female river-rafting guide in her closed-minded small town. Labeled a tomboy, she often struggles to reconcile the way she fits into normal gender stereotypes. Hannah meets Ezra, who blurs the lines between woman and man. They begin an exciting new relationship, but soon Ezra starts pushing Hannah's limits and her definition of love.","English",19.95,14.95,"811'.60809282--dc23","200 pp.","https://www.enslow.com/books/I_Am_Water/421936",{"$f":"Table1[[#This Row],[QTY]]*Table1[[#This Row],['# of Books]]","v":0},{"$f":"Table1[[#This Row],[QTY]]*Table1[[#This Row],[School & Library Price]]","v":0}]
[null,null,null,null,"I Am Water",1,"Paperback Book","978-1-5383-8279-0",{"$f":"HYPERLINK(Table1[[#This Row],[Hyperlink]],\"Weblink\")","v":"Weblink"},"West 44 Books","2020","August 2019","5.500 X 8.250","Author","Meg Specksgoor",null,null,null,null,"N","510L","Grade 3 - 4","Grade 9 - 12","Hannah works as the only female river-rafting guide in her closed-minded small town. Labeled a tomboy, she often struggles to reconcile the way she fits into normal gender stereotypes. Hannah meets Ezra, who blurs the lines between woman and man. They begin an exciting new relationship, but soon Ezra starts pushing Hannah's limits and her definition of love.","English",12.9,10.95,"811'.60809282--dc23","200 pp.","https://www.enslow.com/books/I_Am_Water/421936",{"$f":"Table1[[#This Row],[QTY]]*Table1[[#This Row],['# of Books]]","v":0},{"$f":"Table1[[#This Row],[QTY]]*Table1[[#This Row],[School & Library Price]]","v":0}]
[null,null,null,null,"Manning Up",1,"Hardcover","978-1-5383-8268-4",{"$f":"HYPERLINK(Table1[[#This Row],[Hyperlink]],\"Weblink\")","v":"Weblink"},"West 44 Books","2020","August 2019","5.500 X 8.250","Author","Bee Walsh",null,null,null,null,"N","760L","Grade 3 - 4","Grade 9 - 12","Jack is at the top of his game. He's a senior running back on the football team, dominating every opponent in his way. To everyone else, Jack is totally in control. In reality, he struggles with an eating disorder that controls every aspect of his daily life. When Jack starts using steroids, he feels invincible, but will the steroids help him win the big game, or will he lose everything he's ever worked for?","English",19.95,14.95,"811'.60809282--dc23","200 pp.","https://www.enslow.com/books/Manning_Up/421933",{"$f":"Table1[[#This Row],[QTY]]*Table1[[#This Row],['# of Books]]","v":0},{"$f":"Table1[[#This Row],[QTY]]*Table1[[#This Row],[School & Library Price]]","v":0}]
[null,null,null,null,"Manning Up",1,"eBook","978-1-5383-8334-6",{"$f":"HYPERLINK(Table1[[#This Row],[Hyperlink]],\"Weblink\")","v":"Weblink"},"West 44 Books","2020","August 2019",null,"Author","Bee Walsh",null,null,null,null,"N","760L","Grade 3 - 4","Grade 9 - 12","Jack is at the top of his game. He's a senior running back on the football team, dominating every opponent in his way. To everyone else, Jack is totally in control. In reality, he struggles with an eating disorder that controls every aspect of his daily life. When Jack starts using steroids, he feels invincible, but will the steroids help him win the big game, or will he lose everything he's ever worked for?","English",19.95,14.95,"811'.60809282--dc23","200 pp.","https://www.enslow.com/books/Manning_Up/421933",{"$f":"Table1[[#This Row],[QTY]]*Table1[[#This Row],['# of Books]]","v":0},{"$f":"Table1[[#This Row],[QTY]]*Table1[[#This Row],[School & Library Price]]","v":0}]
[null,null,null,null,"Manning Up",1,"Paperback Book","978-1-5383-8267-7",{"$f":"HYPERLINK(Table1[[#This Row],[Hyperlink]],\"Weblink\")","v":"Weblink"},"West 44 Books","2020","August 2019","5.500 X 8.250","Author","Bee Walsh",null,null,null,null,"N","760L","Grade 3 - 4","Grade 9 - 12","Jack is at the top of his game. He's a senior running back on the football team, dominating every opponent in his way. To everyone else, Jack is totally in control. In reality, he struggles with an eating disorder that controls every aspect of his daily life. When Jack starts using steroids, he feels invincible, but will the steroids help him win the big game, or will he lose everything he's ever worked for?","English",12.9,10.95,"811'.60809282--dc23","200 pp.","https://www.enslow.com/books/Manning_Up/421933",{"$f":"Table1[[#This Row],[QTY]]*Table1[[#This Row],['# of Books]]","v":0},{"$f":"Table1[[#This Row],[QTY]]*Table1[[#This Row],[School & Library Price]]","v":0}]
[null,null,null,null,"More Than Anger",1,"Hardcover","978-1-5383-8264-6",{"$f":"HYPERLINK(Table1[[#This Row],[Hyperlink]],\"Weblink\")","v":"Weblink"},"West 44 Books","2020","August 2019","5.500 X 8.250","Author","Lexi Bruce",null,null,null,null,"N","640L","Grade 3 - 4","Grade 9 - 12","It is no secret that Anna's parents are going through a rough patch. When that rough patch turns positively volatile, Anna starts to wonder why her parents are staying together at all. Will their anger destroy everything Anna has ever known? Can Anna allow herself to fall in love when she sees how it can turn so easily to hate?","English",19.95,14.95,"811'.60809282--dc23","200 pp.","https://www.enslow.com/books/More_Than_Anger/421932",{"$f":"Table1[[#This Row],[QTY]]*Table1[[#This Row],['# of Books]]","v":0},{"$f":"Table1[[#This Row],[QTY]]*Table1[[#This Row],[School & Library Price]]","v":0}]
[null,null,null,null,"More Than Anger",1,"eBook","978-1-5383-8332-2",{"$f":"HYPERLINK(Table1[[#This Row],[Hyperlink]],\"Weblink\")","v":"Weblink"},"West 44 Books","2020","August 2019",null,"Author","Lexi Bruce",null,null,null,null,"N","640L","Grade 3 - 4","Grade 9 - 12","It is no secret that Anna's parents are going through a rough patch. When that rough patch turns positively volatile, Anna starts to wonder why her parents are staying together at all. Will their anger destroy everything Anna has ever known? Can Anna allow herself to fall in love when she sees how it can turn so easily to hate?","English",19.95,14.95,"811'.60809282--dc23","200 pp.","https://www.enslow.com/books/More_Than_Anger/421932",{"$f":"Table1[[#This Row],[QTY]]*Table1[[#This Row],['# of Books]]","v":0},{"$f":"Table1[[#This Row],[QTY]]*Table1[[#This Row],[School & Library Price]]","v":0}]
[null,null,null,null,"More Than Anger",1,"Paperback Book","978-1-5383-8263-9",{"$f":"HYPERLINK(Table1[[#This Row],[Hyperlink]],\"Weblink\")","v":"Weblink"},"West 44 Books","2020","August 2019","5.500 X 8.250","Author","Lexi Bruce",null,null,null,null,"N","640L","Grade 3 - 4","Grade 9 - 12","It is no secret that Anna's parents are going through a rough patch. When that rough patch turns positively volatile, Anna starts to wonder why her parents are staying together at all. Will their anger destroy everything Anna has ever known? Can Anna allow herself to fall in love when she sees how it can turn so easily to hate?","English",12.9,10.95,"811'.60809282--dc23","200 pp.","https://www.enslow.com/books/More_Than_Anger/421932",{"$f":"Table1[[#This Row],[QTY]]*Table1[[#This Row],['# of Books]]","v":0},{"$f":"Table1[[#This Row],[QTY]]*Table1[[#This Row],[School & Library Price]]","v":0}]
[null,null,null,null,"Not Hungry",1,"Hardcover","978-1-5383-8270-7",{"$f":"HYPERLINK(Table1[[#This Row],[Hyperlink]],\"Weblink\")","v":"Weblink"},"West 44 Books","2020","August 2019","5.500 X 8.250","Author","Kate Karyus Quinn",null,null,null,null,"N","430L","Grade 3 - 4","Grade 9 - 12","June is fat. June also has an eating disorder, but no one sees. When she doesn't eat, her friends and family think they see a fat girl on a diet, not someone starving herself. When June's secret is found out by Toby, the new boy next door, she is panicked. Then she learns he also has a secret. Everyone has their own little lies.","English",19.95,14.95,"811'.60809282--dc23","200 pp.","https://www.enslow.com/books/Not_Hungry/421934",{"$f":"Table1[[#This Row],[QTY]]*Table1[[#This Row],['# of Books]]","v":0},{"$f":"Table1[[#This Row],[QTY]]*Table1[[#This Row],[School & Library Price]]","v":0}]
[null,null,null,null,"Not Hungry",1,"eBook","978-1-5383-8335-3",{"$f":"HYPERLINK(Table1[[#This Row],[Hyperlink]],\"Weblink\")","v":"Weblink"},"West 44 Books","2020","August 2019",null,"Author","Kate Karyus Quinn",null,null,null,null,"N","430L","Grade 3 - 4","Grade 9 - 12","June is fat. June also has an eating disorder, but no one sees. When she doesn't eat, her friends and family think they see a fat girl on a diet, not someone starving herself. When June's secret is found out by Toby, the new boy next door, she is panicked. Then she learns he also has a secret. Everyone has their own little lies.","English",19.95,14.95,"811'.60809282--dc23","200 pp.","https://www.enslow.com/books/Not_Hungry/421934",{"$f":"Table1[[#This Row],[QTY]]*Table1[[#This Row],['# of Books]]","v":0},{"$f":"Table1[[#This Row],[QTY]]*Table1[[#This Row],[School & Library Price]]","v":0}]
[null,null,null,null,"Not Hungry",1,"Paperback Book","978-1-5383-8269-1",{"$f":"HYPERLINK(Table1[[#This Row],[Hyperlink]],\"Weblink\")","v":"Weblink"},"West 44 Books","2020","August 2019","5.500 X 8.250","Author","Kate Karyus Quinn",null,null,null,null,"N","430L","Grade 3 - 4","Grade 9 - 12","June is fat. June also has an eating disorder, but no one sees. When she doesn't eat, her friends and family think they see a fat girl on a diet, not someone starving herself. When June's secret is found out by Toby, the new boy next door, she is panicked. Then she learns he also has a secret. Everyone has their own little lies.","English",12.9,10.95,"811'.60809282--dc23","200 pp.","https://www.enslow.com/books/Not_Hungry/421934",{"$f":"Table1[[#This Row],[QTY]]*Table1[[#This Row],['# of Books]]","v":0},{"$f":"Table1[[#This Row],[QTY]]*Table1[[#This Row],[School & Library Price]]","v":0}]
[null,null,null,null,"Watches and Warnings",1,"Hardcover","978-1-5383-8272-1",{"$f":"HYPERLINK(Table1[[#This Row],[Hyperlink]],\"Weblink\")","v":"Weblink"},"West 44 Books","2020","August 2019","5.500 X 8.250","Author","Ryan Wolf",null,null,null,null,"N","500L","Grade 3 - 4","Grade 9 - 12","Sixteen-year-old Philip is the son of two Evangelical youth pastors. He also secretly helps his older brother pay for his heroin addiction. When a massive tornado touches down in their small town, Philip's family becomes heavily involved in the post-disaster cleanup as Philip struggles with the return of his detoxing brother. With his life swept into sudden chaos, Philip grapples with questions that cut him to the core.","English",19.95,14.95,"811'.60809282--dc23","200 pp.","https://www.enslow.com/books/Watches_and_Warnings/421935",{"$f":"Table1[[#This Row],[QTY]]*Table1[[#This Row],['# of Books]]","v":0},{"$f":"Table1[[#This Row],[QTY]]*Table1[[#This Row],[School & Library Price]]","v":0}]
[null,null,null,null,"Watches and Warnings",1,"eBook","978-1-5383-8336-0",{"$f":"HYPERLINK(Table1[[#This Row],[Hyperlink]],\"Weblink\")","v":"Weblink"},"West 44 Books","2020","August 2019",null,"Author","Ryan Wolf",null,null,null,null,"N","500L","Grade 3 - 4","Grade 9 - 12","Sixteen-year-old Philip is the son of two Evangelical youth pastors. He also secretly helps his older brother pay for his heroin addiction. When a massive tornado touches down in their small town, Philip's family becomes heavily involved in the post-disaster cleanup as Philip struggles with the return of his detoxing brother. With his life swept into sudden chaos, Philip grapples with questions that cut him to the core.","English",19.95,14.95,"811'.60809282--dc23","200 pp.","https://www.enslow.com/books/Watches_and_Warnings/421935",{"$f":"Table1[[#This Row],[QTY]]*Table1[[#This Row],['# of Books]]","v":0},{"$f":"Table1[[#This Row],[QTY]]*Table1[[#This Row],[School & Library Price]]","v":0}]
[null,null,null,null,"Watches and Warnings",1,"Paperback Book","978-1-5383-8271-4",{"$f":"HYPERLINK(Table1[[#This Row],[Hyperlink]],\"Weblink\")","v":"Weblink"},"West 44 Books","2020","August 2019","5.500 X 8.250","Author","Ryan Wolf",null,null,null,null,"N","500L","Grade 3 - 4","Grade 9 - 12","Sixteen-year-old Philip is the son of two Evangelical youth pastors. He also secretly helps his older brother pay for his heroin addiction. When a massive tornado touches down in their small town, Philip's family becomes heavily involved in the post-disaster cleanup as Philip struggles with the return of his detoxing brother. With his life swept into sudden chaos, Philip grapples with questions that cut him to the core.","English",12.9,10.95,"811'.60809282--dc23","200 pp.","https://www.enslow.com/books/Watches_and_Warnings/421935",{"$f":"Table1[[#This Row],[QTY]]*Table1[[#This Row],['# of Books]]","v":0},{"$f":"Table1[[#This Row],[QTY]]*Table1[[#This Row],[School & Library Price]]","v":0}]
[null,null,null,null,"The Wicked Edge",1,"Hardcover","978-1-5383-8256-1",{"$f":"HYPERLINK(Table1[[#This Row],[Hyperlink]],\"Weblink\")","v":"Weblink"},"West 44 Books","2020","August 2019","5.500 X 8.250","Author","Nicole Elizabeth",null,null,null,null,"N","590L","Grade 3 - 4","Grade 9 - 12","Helen White is out of her element. She's moved with her mother from a white, middle-class neighborhood to a reservation to live with her mother's new boyfriend. Helen starts at the tribal high school, where she feels out of place and lonely. Then she meets King. Helen starts a twisted relationship with King, breaking the mold she's always known, and changing in ways she never thought possible.","English",19.95,14.95,"811'.60809282--dc23","200 pp.","https://www.enslow.com/books/The_Wicked_Edge/421931",{"$f":"Table1[[#This Row],[QTY]]*Table1[[#This Row],['# of Books]]","v":0},{"$f":"Table1[[#This Row],[QTY]]*Table1[[#This Row],[School & Library Price]]","v":0}]
[null,null,null,null,"The Wicked Edge",1,"eBook","978-1-5383-8328-5",{"$f":"HYPERLINK(Table1[[#This Row],[Hyperlink]],\"Weblink\")","v":"Weblink"},"West 44 Books","2020","August 2019",null,"Author","Nicole Elizabeth",null,null,null,null,"N","590L","Grade 3 - 4","Grade 9 - 12","Helen White is out of her element. She's moved with her mother from a white, middle-class neighborhood to a reservation to live with her mother's new boyfriend. Helen starts at the tribal high school, where she feels out of place and lonely. Then she meets King. Helen starts a twisted relationship with King, breaking the mold she's always known, and changing in ways she never thought possible.","English",19.95,14.95,"811'.60809282--dc23","200 pp.","https://www.enslow.com/books/The_Wicked_Edge/421931",{"$f":"Table1[[#This Row],[QTY]]*Table1[[#This Row],['# of Books]]","v":0},{"$f":"Table1[[#This Row],[QTY]]*Table1[[#This Row],[School & Library Price]]","v":0}]
[null,null,null,null,"The Wicked Edge",1,"Paperback Book","978-1-5383-8255-4",{"$f":"HYPERLINK(Table1[[#This Row],[Hyperlink]],\"Weblink\")","v":"Weblink"},"West 44 Books","2020","August 2019","5.500 X 8.250","Author","Nicole Elizabeth",null,null,null,null,"N","590L","Grade 3 - 4","Grade 9 - 12","Helen White is out of her element. She's moved with her mother from a white, middle-class neighborhood to a reservation to live with her mother's new boyfriend. Helen starts at the tribal high school, where she feels out of place and lonely. Then she meets King. Helen starts a twisted relationship with King, breaking the mold she's always known, and changing in ways she never thought possible.","English",12.9,10.95,"811'.60809282--dc23","200 pp.","https://www.enslow.com/books/The_Wicked_Edge/421931",{"$f":"Table1[[#This Row],[QTY]]*Table1[[#This Row],['# of Books]]","v":0},{"$f":"Table1[[#This Row],[QTY]]*Table1[[#This Row],[School & Library Price]]","v":0}]
[null,null,null,null,"Justice",1,"Hardcover","978-1-5383-8423-7",{"$f":"HYPERLINK(Table1[[#This Row],[Hyperlink]],\"Weblink\")","v":"Weblink"},"West 44 Books","2019","January 2019","5.500 X 8.250","Author","Kymbali Craig",null,null,null,null,"M","530L","Grade 2 - 3","Grade 9 - 12","Justice knows how it can go down for African American young men, and it isn't always fair. Still, he's pretty sure living on the straight and narrow will keep him safe. Pining over his crush Ebony, writing rap lyrics, and looking forward to chess games in the park, Justice never imagines he could be labeled a criminal. Then his teacher's phone and wallet are stolen, and Justice finds himself at the center of the investigation. Can Justice prove he's innocent, or will he be wrongly convicted of a crime he never committed?","English",19.95,14.95,"[Fic]--dc23","96 pp.","https://www.enslow.com/books/Justice/421943",{"$f":"Table1[[#This Row],[QTY]]*Table1[[#This Row],['# of Books]]","v":0},{"$f":"Table1[[#This Row],[QTY]]*Table1[[#This Row],[School & Library Price]]","v":0}]
[null,null,null,null,"Justice",1,"eBook","978-1-5383-8424-4",{"$f":"HYPERLINK(Table1[[#This Row],[Hyperlink]],\"Weblink\")","v":"Weblink"},"West 44 Books","2019","January 2019",null,"Author","Kymbali Craig",null,null,null,null,"M","530L","Grade 2 - 3","Grade 9 - 12","Justice knows how it can go down for African American young men, and it isn't always fair. Still, he's pretty sure living on the straight and narrow will keep him safe. Pining over his crush Ebony, writing rap lyrics, and looking forward to chess games in the park, Justice never imagines he could be labeled a criminal. Then his teacher's phone and wallet are stolen, and Justice finds himself at the center of the investigation. Can Justice prove he's innocent, or will he be wrongly convicted of a crime he never committed?","English",19.95,14.95,"[Fic]--dc23","96 pp.","https://www.enslow.com/books/Justice/421943",{"$f":"Table1[[#This Row],[QTY]]*Table1[[#This Row],['# of Books]]","v":0},{"$f":"Table1[[#This Row],[QTY]]*Table1[[#This Row],[School & Library Price]]","v":0}]
[null,null,null,null,"Justice",1,"Paperback Book","978-1-5383-8422-0",{"$f":"HYPERLINK(Table1[[#This Row],[Hyperlink]],\"Weblink\")","v":"Weblink"},"West 44 Books","2019","January 2019","5.500 X 8.250","Author","Kymbali Craig",null,null,null,null,"M","530L","Grade 2 - 3","Grade 9 - 12","Justice knows how it can go down for African American young men, and it isn't always fair. Still, he's pretty sure living on the straight and narrow will keep him safe. Pining over his crush Ebony, writing rap lyrics, and looking forward to chess games in the park, Justice never imagines he could be labeled a criminal. Then his teacher's phone and wallet are stolen, and Justice finds himself at the center of the investigation. Can Justice prove he's innocent, or will he be wrongly convicted of a crime he never committed?","English",11.7,9.9499999999999993,"[Fic]--dc23","96 pp.","https://www.enslow.com/books/Justice/421943",{"$f":"Table1[[#This Row],[QTY]]*Table1[[#This Row],['# of Books]]","v":0},{"$f":"Table1[[#This Row],[QTY]]*Table1[[#This Row],[School & Library Price]]","v":0}]
[null,null,null,"Let's Learn About Space","Let's Learn About Space",8,"Library Set","978-1-9785-0703-6",{"$f":"HYPERLINK(Table1[[#This Row],[Hyperlink]],\"Weblink\")","v":"Weblink"},"Enslow Publishing","2020","August 2019","7.125 X 8.500",null,null,null,null,null,null,null,null,"Grade 1 - 2","Grade K - 4","From a young age, many children gaze up at the stars and wonder about the faraway objects in the night sky. In this fact-filled series, readers get to know what is beyond their own world as they are introduced to the wonders of space. Each volume examines a different aspect of space, including a simple overview, clearly defined terms, and accessible text. Final activities allow readers to take their space exploration a step further. With fun facts and lots of colorful photographs, this series starts readers on a journey to unlocking the mysteries of space. Features include: Correlates directly with the Next Generation Science Standards' expectation for understanding Earth's Place in the Universe in grades 1 and 2. Space is not only part of elementary science units, but also a topic that fascinates many kids this age. Fresh and engaging spread design in which full-color images enhance the texts. Fact boxes highlight especially intriguing and memorable nuggets of information. Activities prompt young readers to engage with the topic in a hands-on fashion.","English",180.8,135.6,null,"24 pp.","https://www.enslow.com/series/Lets_Learn_About_Space/478808",{"$f":"Table1[[#This Row],[QTY]]*Table1[[#This Row],['# of Books]]","v":0},{"$f":"Table1[[#This Row],[QTY]]*Table1[[#This Row],[School & Library Price]]","v":0}]
[null,null,null,"Let's Learn About Space","Asteroids",1,"Library Bound Book","978-1-9785-0726-5",{"$f":"HYPERLINK(Table1[[#This Row],[Hyperlink]],\"Weblink\")","v":"Weblink"},"Enslow Publishing","2020","August 2019","7.125 X 8.500","Author","Rebecca Kraft Rector",null,null,null,null,"J",null,"Grade 1 - 2","Grade K - 4","We may not be able to see asteroids without a telescope, but there are thousands of these space rocks circling the sun. Readers learn about asteroid formation, size, shape, and orbits. They are also introduced to the methods that scientists use to track asteroids. Fast facts and a hands-on activity expand the reader's learning experience, while full-color images enrich the narrative with additional details and examples. This book supports English Language Arts standards and also correlates directly with Next Generation Science Standards.","English",22.6,16.95,"523.44--dc23","24 pp.","https://www.enslow.com/books/Asteroids/421990",{"$f":"Table1[[#This Row],[QTY]]*Table1[[#This Row],['# of Books]]","v":0},{"$f":"Table1[[#This Row],[QTY]]*Table1[[#This Row],[School & Library Price]]","v":0}]
[null,null,null,"Let's Learn About Space","Asteroids",1,"eBook","978-1-9785-0921-4",{"$f":"HYPERLINK(Table1[[#This Row],[Hyperlink]],\"Weblink\")","v":"Weblink"},"Enslow Publishing","2020","August 2019",null,"Author","Rebecca Kraft Rector",null,null,null,null,"J",null,"Grade 1 - 2","Grade K - 4","We may not be able to see asteroids without a telescope, but there are thousands of these space rocks circling the sun. Readers learn about asteroid formation, size, shape, and orbits. They are also introduced to the methods that scientists use to track asteroids. Fast facts and a hands-on activity expand the reader's learning experience, while full-color images enrich the narrative with additional details and examples. This book supports English Language Arts standards and also correlates directly with Next Generation Science Standards.","English",22.6,16.95,"523.44--dc23","24 pp.","https://www.enslow.com/books/Asteroids/421990",{"$f":"Table1[[#This Row],[QTY]]*Table1[[#This Row],['# of Books]]","v":0},{"$f":"Table1[[#This Row],[QTY]]*Table1[[#This Row],[School & Library Price]]","v":0}]
[null,null,null,"Let's Learn About Space","Comets",1,"Library Bound Book","978-1-9785-0727-2",{"$f":"HYPERLINK(Table1[[#This Row],[Hyperlink]],\"Weblink\")","v":"Weblink"},"Enslow Publishing","2020","August 2019","7.125 X 8.500","Author","Rebecca Kraft Rector",null,null,null,null,"I",null,"Grade 1 - 2","Grade K - 4","Throughout our solar system, chunks of ice, gas, and dust fly around in the form of comets. This engaging book introduces readers to the wonders of comets: their size and shape, their formation, and how they orbit the sun. Each of the main parts of the comet is explained using simple vocabulary as well as full-color photographs. Fast facts increase readability and interest, while a fun activity encourages readers to use their new knowledge in an entertaining way. This book supports English Language Arts standards and also correlates directly with Next Generation Science Standards.","English",22.6,16.95,"523.6--dc23","24 pp.","https://www.enslow.com/books/Comets/421991",{"$f":"Table1[[#This Row],[QTY]]*Table1[[#This Row],['# of Books]]","v":0},{"$f":"Table1[[#This Row],[QTY]]*Table1[[#This Row],[School & Library Price]]","v":0}]
[null,null,null,"Let's Learn About Space","Comets",1,"eBook","978-1-9785-0936-8",{"$f":"HYPERLINK(Table1[[#This Row],[Hyperlink]],\"Weblink\")","v":"Weblink"},"Enslow Publishing","2020","August 2019",null,"Author","Rebecca Kraft Rector",null,null,null,null,"I",null,"Grade 1 - 2","Grade K - 4","Throughout our solar system, chunks of ice, gas, and dust fly around in the form of comets. This engaging book introduces readers to the wonders of comets: their size and shape, their formation, and how they orbit the sun. Each of the main parts of the comet is explained using simple vocabulary as well as full-color photographs. Fast facts increase readability and interest, while a fun activity encourages readers to use their new knowledge in an entertaining way. This book supports English Language Arts standards and also correlates directly with Next Generation Science Standards.","English",22.6,16.95,"523.6--dc23","24 pp.","https://www.enslow.com/books/Comets/421991",{"$f":"Table1[[#This Row],[QTY]]*Table1[[#This Row],['# of Books]]","v":0},{"$f":"Table1[[#This Row],[QTY]]*Table1[[#This Row],[School & Library Price]]","v":0}]
[null,null,null,"Let's Learn About Space","Earth",1,"Library Bound Book","978-1-9785-0728-9",{"$f":"HYPERLINK(Table1[[#This Row],[Hyperlink]],\"Weblink\")","v":"Weblink"},"Enslow Publishing","2020","August 2019","7.125 X 8.500","Author","Rebecca Kraft Rector",null,null,null,null,"C",null,"Grade 1 - 2","Grade K - 4","One of the most fascinating planets in our solar system is the one that we call home. This simple yet fact-filled volume encourages readers to learn about planet Earth. Details of Earth's place in space, orbit, rotation, and tilt are shared, as well as facts about Earth's layers and atmosphere. Fast facts are set in eye-catching boxes, and Words to Know help the reader navigate the text with ease. Full-color images expand on the narrative and offer additional details. An exciting activity reinforces new knowledge with hands-on fun. This book supports English Language Arts standards and correlates directly with Next Generation Science Standards.","English",22.6,16.95,"525--dc23","24 pp.","https://www.enslow.com/books/Earth/421992",{"$f":"Table1[[#This Row],[QTY]]*Table1[[#This Row],['# of Books]]","v":0},{"$f":"Table1[[#This Row],[QTY]]*Table1[[#This Row],[School & Library Price]]","v":0}]
[null,null,null,"Let's Learn About Space","Earth",1,"eBook","978-1-9785-0926-9",{"$f":"HYPERLINK(Table1[[#This Row],[Hyperlink]],\"Weblink\")","v":"Weblink"},"Enslow Publishing","2020","August 2019",null,"Author","Rebecca Kraft Rector",null,null,null,null,"C",null,"Grade 1 - 2","Grade K - 4","One of the most fascinating planets in our solar system is the one that we call home. This simple yet fact-filled volume encourages readers to learn about planet Earth. Details of Earth's place in space, orbit, rotation, and tilt are shared, as well as facts about Earth's layers and atmosphere. Fast facts are set in eye-catching boxes, and Words to Know help the reader navigate the text with ease. Full-color images expand on the narrative and offer additional details. An exciting activity reinforces new knowledge with hands-on fun. This book supports English Language Arts standards and correlates directly with Next Generation Science Standards.","English",22.6,16.95,"525--dc23","24 pp.","https://www.enslow.com/books/Earth/421992",{"$f":"Table1[[#This Row],[QTY]]*Table1[[#This Row],['# of Books]]","v":0},{"$f":"Table1[[#This Row],[QTY]]*Table1[[#This Row],[School & Library Price]]","v":0}]
[null,null,null,"Let's Learn About Space","Galaxies",1,"Library Bound Book","978-1-9785-0729-6",{"$f":"HYPERLINK(Table1[[#This Row],[Hyperlink]],\"Weblink\")","v":"Weblink"},"Enslow Publishing","2020","August 2019","7.125 X 8.500","Author","Rebecca Kraft Rector",null,null,null,null,"H",null,"Grade 1 - 2","Grade K - 4","Our solar system is just one small part of our galaxy, and there are thousands of galaxies besides this one. Readers are introduced to the marvels of galaxies. Formation, sizes, and shapes of galaxies are discussed, including the Milky Way. Galactic movement and how scientists study galaxies are revealed. Color photographs, fast facts, and Words to Know sections increase the reader's learning experience, while a final hands-on activity emphasizes what the reader has learned. This book supports English Language Arts standards and correlates directly with Next Generation Science Standards.","English",22.6,16.95,"523.1/12--dc23","24 pp.","https://www.enslow.com/books/Galaxies/421993",{"$f":"Table1[[#This Row],[QTY]]*Table1[[#This Row],['# of Books]]","v":0},{"$f":"Table1[[#This Row],[QTY]]*Table1[[#This Row],[School & Library Price]]","v":0}]
[null,null,null,"Let's Learn About Space","Galaxies",1,"eBook","978-1-9785-0929-0",{"$f":"HYPERLINK(Table1[[#This Row],[Hyperlink]],\"Weblink\")","v":"Weblink"},"Enslow Publishing","2020","August 2019",null,"Author","Rebecca Kraft Rector",null,null,null,null,"H",null,"Grade 1 - 2","Grade K - 4","Our solar system is just one small part of our galaxy, and there are thousands of galaxies besides this one. Readers are introduced to the marvels of galaxies. Formation, sizes, and shapes of galaxies are discussed, including the Milky Way. Galactic movement and how scientists study galaxies are revealed. Color photographs, fast facts, and Words to Know sections increase the reader's learning experience, while a final hands-on activity emphasizes what the reader has learned. This book supports English Language Arts standards and correlates directly with Next Generation Science Standards.","English",22.6,16.95,"523.1/12--dc23","24 pp.","https://www.enslow.com/books/Galaxies/421993",{"$f":"Table1[[#This Row],[QTY]]*Table1[[#This Row],['# of Books]]","v":0},{"$f":"Table1[[#This Row],[QTY]]*Table1[[#This Row],[School & Library Price]]","v":0}]
[null,null,null,"Let's Learn About Space","Stars",1,"Library Bound Book","978-1-9785-0732-6",{"$f":"HYPERLINK(Table1[[#This Row],[Hyperlink]],\"Weblink\")","v":"Weblink"},"Enslow Publishing","2020","August 2019","7.125 X 8.500","Author","Rebecca Kraft Rector",null,null,null,null,"C",null,"Grade 1 - 2","Grade K - 4","Looking up at the stars on a clear night can inspire many questions in young minds. This easy-to-follow narrative provides lots of answers about star formation, sizes, temperatures, colors, constellations, and the life and death of stars. A fun, hands-on-activity illustrates why stars shine only at night. Fast facts and Words to Know sections offer additional information, while colorful photographs bring each concept into splendid focus. This book correlates directly with the Next Generation Science Standards' expectation for understanding Earth's Place in the Universe in first and second grades.","English",22.6,16.95,"523.8--dc23","24 pp.","https://www.enslow.com/books/Stars/421996",{"$f":"Table1[[#This Row],[QTY]]*Table1[[#This Row],['# of Books]]","v":0},{"$f":"Table1[[#This Row],[QTY]]*Table1[[#This Row],[School & Library Price]]","v":0}]
[null,null,null,"Let's Learn About Space","Stars",1,"eBook","978-1-9785-0937-5",{"$f":"HYPERLINK(Table1[[#This Row],[Hyperlink]],\"Weblink\")","v":"Weblink"},"Enslow Publishing","2020","August 2019",null,"Author","Rebecca Kraft Rector",null,null,null,null,"C",null,"Grade 1 - 2","Grade K - 4","Looking up at the stars on a clear night can inspire many questions in young minds. This easy-to-follow narrative provides lots of answers about star formation, sizes, temperatures, colors, constellations, and the life and death of stars. A fun, hands-on-activity illustrates why stars shine only at night. Fast facts and Words to Know sections offer additional information, while colorful photographs bring each concept into splendid focus. This book correlates directly with the Next Generation Science Standards' expectation for understanding Earth's Place in the Universe in first and second grades.","English",22.6,16.95,"523.8--dc23","24 pp.","https://www.enslow.com/books/Stars/421996",{"$f":"Table1[[#This Row],[QTY]]*Table1[[#This Row],['# of Books]]","v":0},{"$f":"Table1[[#This Row],[QTY]]*Table1[[#This Row],[School & Library Price]]","v":0}]
[null,null,null,"Let's Learn About Space","The Moon",1,"Library Bound Book","978-1-9785-0730-2",{"$f":"HYPERLINK(Table1[[#This Row],[Hyperlink]],\"Weblink\")","v":"Weblink"},"Enslow Publishing","2020","August 2019","7.125 X 8.500","Author","Rebecca Kraft Rector",null,null,null,null,"D",null,"Grade 1 - 2","Grade K - 4","The sight of the moon in the night sky can be both familiar and mysterious. Readers are introduced to concepts such as the moon's rotation, orbit, and formation. They learn the basics of gravity, tides, atmosphere, and the phases of the moon. Fast facts, a hands-on activity, and eye-catching images capture readers' attention and enhance their understanding. This book correlates directly with the Next Generation Science Standards' expectation for understanding Earth's Place in the Universe in first and second grades.","English",22.6,16.95,"523.3--dc23","24 pp.","https://www.enslow.com/books/The_Moon/421994",{"$f":"Table1[[#This Row],[QTY]]*Table1[[#This Row],['# of Books]]","v":0},{"$f":"Table1[[#This Row],[QTY]]*Table1[[#This Row],[School & Library Price]]","v":0}]
[null,null,null,"Let's Learn About Space","The Moon",1,"eBook","978-1-9785-0932-0",{"$f":"HYPERLINK(Table1[[#This Row],[Hyperlink]],\"Weblink\")","v":"Weblink"},"Enslow Publishing","2020","August 2019",null,"Author","Rebecca Kraft Rector",null,null,null,null,"D",null,"Grade 1 - 2","Grade K - 4","The sight of the moon in the night sky can be both familiar and mysterious. Readers are introduced to concepts such as the moon's rotation, orbit, and formation. They learn the basics of gravity, tides, atmosphere, and the phases of the moon. Fast facts, a hands-on activity, and eye-catching images capture readers' attention and enhance their understanding. This book correlates directly with the Next Generation Science Standards' expectation for understanding Earth's Place in the Universe in first and second grades.","English",22.6,16.95,"523.3--dc23","24 pp.","https://www.enslow.com/books/The_Moon/421994",{"$f":"Table1[[#This Row],[QTY]]*Table1[[#This Row],['# of Books]]","v":0},{"$f":"Table1[[#This Row],[QTY]]*Table1[[#This Row],[School & Library Price]]","v":0}]
[null,null,null,"Let's Learn About Space","The Solar System",1,"Library Bound Book","978-1-9785-0731-9",{"$f":"HYPERLINK(Table1[[#This Row],[Hyperlink]],\"Weblink\")","v":"Weblink"},"Enslow Publishing","2020","August 2019","7.125 X 8.500","Author","Rebecca Kraft Rector",null,null,null,null,"F",null,"Grade 1 - 2","Grade K - 4","The sun, planets, moon, and other space objects are all part of our solar system. With this fact-filled book, readers learn what a solar system is and what it contains, such as asteroids, comets, the Kuiper Belt, and the Oort Cloud. Full-color photographs and fast facts illuminate this fascinating topic, while a Words to Know section and an entertaining activity reinforce new knowledge. This book correlates directly with the Next Generation Science Standards' expectation for understanding Earth's Place in the Universe in first and second grades. It is also aligned with English Language Arts standards.","English",22.6,16.95,"523.4--dc23","24 pp.","https://www.enslow.com/books/The_Solar_System/421995",{"$f":"Table1[[#This Row],[QTY]]*Table1[[#This Row],['# of Books]]","v":0},{"$f":"Table1[[#This Row],[QTY]]*Table1[[#This Row],[School & Library Price]]","v":0}]
[null,null,null,"Let's Learn About Space","The Solar System",1,"eBook","978-1-9785-0935-1",{"$f":"HYPERLINK(Table1[[#This Row],[Hyperlink]],\"Weblink\")","v":"Weblink"},"Enslow Publishing","2020","August 2019",null,"Author","Rebecca Kraft Rector",null,null,null,null,"F",null,"Grade 1 - 2","Grade K - 4","The sun, planets, moon, and other space objects are all part of our solar system. With this fact-filled book, readers learn what a solar system is and what it contains, such as asteroids, comets, the Kuiper Belt, and the Oort Cloud. Full-color photographs and fast facts illuminate this fascinating topic, while a Words to Know section and an entertaining activity reinforce new knowledge. This book correlates directly with the Next Generation Science Standards' expectation for understanding Earth's Place in the Universe in first and second grades. It is also aligned with English Language Arts standards.","English",22.6,16.95,"523.4--dc23","24 pp.","https://www.enslow.com/books/The_Solar_System/421995",{"$f":"Table1[[#This Row],[QTY]]*Table1[[#This Row],['# of Books]]","v":0},{"$f":"Table1[[#This Row],[QTY]]*Table1[[#This Row],[School & Library Price]]","v":0}]
[null,null,null,"Let's Learn About Space","The Sun",1,"Library Bound Book","978-1-9785-0733-3",{"$f":"HYPERLINK(Table1[[#This Row],[Hyperlink]],\"Weblink\")","v":"Weblink"},"Enslow Publishing","2020","August 2019","7.125 X 8.500","Author","Rebecca Kraft Rector",null,null,null,null,"D",null,"Grade 1 - 2","Grade K - 4","All of the planets in our solar system circle around one giant ball of gases: the sun. This simple yet fascinating book explains how the sun was formed and where its energy comes from. Readers learn to identify the different parts of the sun. A hands-on activity investigates the sun's changing place in our sky, while full-color photographs and fast facts enhance the narrative. This book correlates directly with the Next Generation Science Standards' expectation for understanding Earth's Place in the Universe in first and second grades. It is also aligned with English Language Arts standards.","English",22.6,16.95,"523.7--dc23","24 pp.","https://www.enslow.com/books/The_Sun/421997",{"$f":"Table1[[#This Row],[QTY]]*Table1[[#This Row],['# of Books]]","v":0},{"$f":"Table1[[#This Row],[QTY]]*Table1[[#This Row],[School & Library Price]]","v":0}]
[null,null,null,"Let's Learn About Space","The Sun",1,"eBook","978-1-9785-0941-2",{"$f":"HYPERLINK(Table1[[#This Row],[Hyperlink]],\"Weblink\")","v":"Weblink"},"Enslow Publishing","2020","August 2019",null,"Author","Rebecca Kraft Rector",null,null,null,null,"D",null,"Grade 1 - 2","Grade K - 4","All of the planets in our solar system circle around one giant ball of gases: the sun. This simple yet fascinating book explains how the sun was formed and where its energy comes from. Readers learn to identify the different parts of the sun. A hands-on activity investigates the sun's changing place in our sky, while full-color photographs and fast facts enhance the narrative. This book correlates directly with the Next Generation Science Standards' expectation for understanding Earth's Place in the Universe in first and second grades. It is also aligned with English Language Arts standards.","English",22.6,16.95,"523.7--dc23","24 pp.","https://www.enslow.com/books/The_Sun/421997",{"$f":"Table1[[#This Row],[QTY]]*Table1[[#This Row],['# of Books]]","v":0},{"$f":"Table1[[#This Row],[QTY]]*Table1[[#This Row],[School & Library Price]]","v":0}]
[null,null,null,"Let's Learn About Matter","Let's Learn About Matter",6,"Library Set","978-1-9785-0759-3",{"$f":"HYPERLINK(Table1[[#This Row],[Hyperlink]],\"Weblink\")","v":"Weblink"},"Enslow Publishing","2020","August 2019","7.125 X 8.500",null,null,null,null,null,null,null,null,"Grade 1 - 2","Grade K - 4","Matter can be something we can see or touch, like a bicycle or a glass of juice, but it can also be invisible, like the air we breathe. With easy-to-follow text and simple definitions, this series introduces readers to the basics of matter: what it is, what it's made of, and what forms it takes. With clear explanations and real-life examples, each book examines a specific property of matter and how that property appears in a solid, liquid, and gas. Full-color photographs, fast facts, and a supplementary activities help to provide a fun first look at the essential properties of matter. Features include: Correlates directly with the expectation for students to know how to \"classify different kinds of materials by their observable properties\" in grade 2, as specified in the Next Generation Science Standards. Fresh and engaging spread design in which full-color images enhance the texts. Activities introduce readers to the importance of experimentation in science. Fact boxes offer extra tidbits of interesting information.","English",135.6,101.7,null,"24 pp.","https://www.enslow.com/series/Lets_Learn_About_Matter/478813",{"$f":"Table1[[#This Row],[QTY]]*Table1[[#This Row],['# of Books]]","v":0},{"$f":"Table1[[#This Row],[QTY]]*Table1[[#This Row],[School & Library Price]]","v":0}]
[null,null,null,"Let's Learn About Matter","Chemical Changes",1,"Library Bound Book","978-1-9785-0757-9",{"$f":"HYPERLINK(Table1[[#This Row],[Hyperlink]],\"Weblink\")","v":"Weblink"},"Enslow Publishing","2020","August 2019","7.125 X 8.500","Author","Rebecca Kraft Rector",null,null,null,null,"J",null,"Grade 1 - 2","Grade K - 4","A burning log, a rotting banana, and a rusting bicycle. These are examples of chemical changes. With this accessible narrative, readers are introduced to the basics of chemical changes. Easy-to-follow explanations cover matter, forms, properties, and changes. Further detail introduces how to make chemical changes and how to recognize them. Color photographs, fast facts, and an engaging activity expand and reinforce the newly learned ideas. This book supports Next Generation Science Standards, correlating directly with the NGSS Grade 2 standard to \"classify different kinds of materials by their observable properties.\"","English",22.6,16.95,"541/.39--dc23","24 pp.","https://www.enslow.com/books/Chemical_Changes/422017",{"$f":"Table1[[#This Row],[QTY]]*Table1[[#This Row],['# of Books]]","v":0},{"$f":"Table1[[#This Row],[QTY]]*Table1[[#This Row],[School & Library Price]]","v":0}]
[null,null,null,"Let's Learn About Matter","Chemical Changes",1,"eBook","978-1-9785-0903-0",{"$f":"HYPERLINK(Table1[[#This Row],[Hyperlink]],\"Weblink\")","v":"Weblink"},"Enslow Publishing","2020","August 2019",null,"Author","Rebecca Kraft Rector",null,null,null,null,"J",null,"Grade 1 - 2","Grade K - 4","A burning log, a rotting banana, and a rusting bicycle. These are examples of chemical changes. With this accessible narrative, readers are introduced to the basics of chemical changes. Easy-to-follow explanations cover matter, forms, properties, and changes. Further detail introduces how to make chemical changes and how to recognize them. Color photographs, fast facts, and an engaging activity expand and reinforce the newly learned ideas. This book supports Next Generation Science Standards, correlating directly with the NGSS Grade 2 standard to \"classify different kinds of materials by their observable properties.\"","English",22.6,16.95,"541/.39--dc23","24 pp.","https://www.enslow.com/books/Chemical_Changes/422017",{"$f":"Table1[[#This Row],[QTY]]*Table1[[#This Row],['# of Books]]","v":0},{"$f":"Table1[[#This Row],[QTY]]*Table1[[#This Row],[School & Library Price]]","v":0}]
[null,null,null,"Let's Learn About Matter","Color",1,"Library Bound Book","978-1-9785-0754-8",{"$f":"HYPERLINK(Table1[[#This Row],[Hyperlink]],\"Weblink\")","v":"Weblink"},"Enslow Publishing","2020","August 2019","7.125 X 8.500","Author","Rebecca Kraft Rector",null,null,null,null,"C",null,"Grade 1 - 2","Grade K - 4","Children learn about color at a very young age, but there is a lot more to red, yellow, and blue than meets the eye. This simple, engaging book introduces readers to basic forms and properties of color, including kinds of colors, how color changes, and what those changes might mean. Fast facts and a hands-on activity reinforce the new ideas, while colorful images compel attention and underscore concepts. This book supports Next Generation Science Standards, correlating directly with the NGSS Grade 2 standard to \"classify different kinds of materials by their observable properties.\"","English",22.6,16.95,"535.6--dc23","24 pp.","https://www.enslow.com/books/Color/422014",{"$f":"Table1[[#This Row],[QTY]]*Table1[[#This Row],['# of Books]]","v":0},{"$f":"Table1[[#This Row],[QTY]]*Table1[[#This Row],[School & Library Price]]","v":0}]
[null,null,null,"Let's Learn About Matter","Color",1,"eBook","978-1-9785-0905-4",{"$f":"HYPERLINK(Table1[[#This Row],[Hyperlink]],\"Weblink\")","v":"Weblink"},"Enslow Publishing","2020","August 2019",null,"Author","Rebecca Kraft Rector",null,null,null,null,"C",null,"Grade 1 - 2","Grade K - 4","Children learn about color at a very young age, but there is a lot more to red, yellow, and blue than meets the eye. This simple, engaging book introduces readers to basic forms and properties of color, including kinds of colors, how color changes, and what those changes might mean. Fast facts and a hands-on activity reinforce the new ideas, while colorful images compel attention and underscore concepts. This book supports Next Generation Science Standards, correlating directly with the NGSS Grade 2 standard to \"classify different kinds of materials by their observable properties.\"","English",22.6,16.95,"535.6--dc23","24 pp.","https://www.enslow.com/books/Color/422014",{"$f":"Table1[[#This Row],[QTY]]*Table1[[#This Row],['# of Books]]","v":0},{"$f":"Table1[[#This Row],[QTY]]*Table1[[#This Row],[School & Library Price]]","v":0}]
[null,null,null,"Let's Learn About Matter","Flexibility",1,"Library Bound Book","978-1-9785-0753-1",{"$f":"HYPERLINK(Table1[[#This Row],[Hyperlink]],\"Weblink\")","v":"Weblink"},"Enslow Publishing","2020","August 2019","7.125 X 8.500","Author","Rebecca Kraft Rector",null,null,null,null,"E",null,"Grade 1 - 2","Grade K - 4","Some things bend while other things break. With this accessible narrative, readers are introduced to the property of flexibility and how it relates to the different forms of matter. Colorful images accompany real-life examples that explain what is flexible and how flexibility changes with heat, cold, and wetness. An experiment allows readers to discover the concept of flexibility in action, while fast facts and Words to Know sections encourage understanding and interest. This book supports Next Generation Science Standards, correlating directly with the NGSS Grade 2 standard to \"classify different kinds of materials by their observable properties.\"","English",22.6,16.95,"530.4--dc23","24 pp.","https://www.enslow.com/books/Flexibility/422013",{"$f":"Table1[[#This Row],[QTY]]*Table1[[#This Row],['# of Books]]","v":0},{"$f":"Table1[[#This Row],[QTY]]*Table1[[#This Row],[School & Library Price]]","v":0}]
[null,null,null,"Let's Learn About Matter","Flexibility",1,"eBook","978-1-9785-0909-2",{"$f":"HYPERLINK(Table1[[#This Row],[Hyperlink]],\"Weblink\")","v":"Weblink"},"Enslow Publishing","2020","August 2019",null,"Author","Rebecca Kraft Rector",null,null,null,null,"E",null,"Grade 1 - 2","Grade K - 4","Some things bend while other things break. With this accessible narrative, readers are introduced to the property of flexibility and how it relates to the different forms of matter. Colorful images accompany real-life examples that explain what is flexible and how flexibility changes with heat, cold, and wetness. An experiment allows readers to discover the concept of flexibility in action, while fast facts and Words to Know sections encourage understanding and interest. This book supports Next Generation Science Standards, correlating directly with the NGSS Grade 2 standard to \"classify different kinds of materials by their observable properties.\"","English",22.6,16.95,"530.4--dc23","24 pp.","https://www.enslow.com/books/Flexibility/422013",{"$f":"Table1[[#This Row],[QTY]]*Table1[[#This Row],['# of Books]]","v":0},{"$f":"Table1[[#This Row],[QTY]]*Table1[[#This Row],[School & Library Price]]","v":0}]
[null,null,null,"Let's Learn About Matter","Hardness",1,"Library Bound Book","978-1-9785-0756-2",{"$f":"HYPERLINK(Table1[[#This Row],[Hyperlink]],\"Weblink\")","v":"Weblink"},"Enslow Publishing","2020","August 2019","7.125 X 8.500","Author","Rebecca Kraft Rector",null,null,null,null,"D",null,"Grade 1 - 2","Grade K - 4","Some objects can be scratched or dented easily. Others can take a beating and still look as good as new. This may be one sign of hardness. This accessible narrative introduces basic concepts about the property of hardness of matter. Readers learn how to identify hardness through senses and tests, as well as how hardness may change. A hands-on activity gives readers a chance to experience the concepts in action. Fast facts and vivid images offer additional nuggets of information. This volume supports students' ability to \"classify different kinds of materials by their observable properties\" in second grade as specified in the Next Generation Science Standards.","English",22.6,16.95,"530.4--dc23","24 pp.","https://www.enslow.com/books/Hardness/422016",{"$f":"Table1[[#This Row],[QTY]]*Table1[[#This Row],['# of Books]]","v":0},{"$f":"Table1[[#This Row],[QTY]]*Table1[[#This Row],[School & Library Price]]","v":0}]
[null,null,null,"Let's Learn About Matter","Hardness",1,"eBook","978-1-9785-0912-2",{"$f":"HYPERLINK(Table1[[#This Row],[Hyperlink]],\"Weblink\")","v":"Weblink"},"Enslow Publishing","2020","August 2019",null,"Author","Rebecca Kraft Rector",null,null,null,null,"D",null,"Grade 1 - 2","Grade K - 4","Some objects can be scratched or dented easily. Others can take a beating and still look as good as new. This may be one sign of hardness. This accessible narrative introduces basic concepts about the property of hardness of matter. Readers learn how to identify hardness through senses and tests, as well as how hardness may change. A hands-on activity gives readers a chance to experience the concepts in action. Fast facts and vivid images offer additional nuggets of information. This volume supports students' ability to \"classify different kinds of materials by their observable properties\" in second grade as specified in the Next Generation Science Standards.","English",22.6,16.95,"530.4--dc23","24 pp.","https://www.enslow.com/books/Hardness/422016",{"$f":"Table1[[#This Row],[QTY]]*Table1[[#This Row],['# of Books]]","v":0},{"$f":"Table1[[#This Row],[QTY]]*Table1[[#This Row],[School & Library Price]]","v":0}]
[null,null,null,"Let's Learn About Matter","Physical Changes",1,"Library Bound Book","978-1-9785-0758-6",{"$f":"HYPERLINK(Table1[[#This Row],[Hyperlink]],\"Weblink\")","v":"Weblink"},"Enslow Publishing","2020","August 2019","7.125 X 8.500","Author","Rebecca Kraft Rector",null,null,null,null,"F",null,"Grade 1 - 2","Grade K - 4","A plate breaks, an ice cube melts, a room is painted. Each of these is an example of a physical change. Readers are introduced to physical changes in matter. Simple explanations cover forms of matter, properties, and changes. Real-life examples illustrate important concepts. Fast facts and Words to Know sections provide additional information. Full-color images expand and support the narrative, while an activity reinforces ideas through experimentation. This book supports Next Generation Science Standards, correlating directly with the NGSS Grade 2 standard to \"classify different kinds of materials by their observable properties.\"","English",22.6,16.95,"541--dc23","24 pp.","https://www.enslow.com/books/Physical_Changes/422018",{"$f":"Table1[[#This Row],[QTY]]*Table1[[#This Row],['# of Books]]","v":0},{"$f":"Table1[[#This Row],[QTY]]*Table1[[#This Row],[School & Library Price]]","v":0}]
[null,null,null,"Let's Learn About Matter","Physical Changes",1,"eBook","978-1-9785-0915-3",{"$f":"HYPERLINK(Table1[[#This Row],[Hyperlink]],\"Weblink\")","v":"Weblink"},"Enslow Publishing","2020","August 2019",null,"Author","Rebecca Kraft Rector",null,null,null,null,"F",null,"Grade 1 - 2","Grade K - 4","A plate breaks, an ice cube melts, a room is painted. Each of these is an example of a physical change. Readers are introduced to physical changes in matter. Simple explanations cover forms of matter, properties, and changes. Real-life examples illustrate important concepts. Fast facts and Words to Know sections provide additional information. Full-color images expand and support the narrative, while an activity reinforces ideas through experimentation. This book supports Next Generation Science Standards, correlating directly with the NGSS Grade 2 standard to \"classify different kinds of materials by their observable properties.\"","English",22.6,16.95,"541--dc23","24 pp.","https://www.enslow.com/books/Physical_Changes/422018",{"$f":"Table1[[#This Row],[QTY]]*Table1[[#This Row],['# of Books]]","v":0},{"$f":"Table1[[#This Row],[QTY]]*Table1[[#This Row],[School & Library Price]]","v":0}]
[null,null,null,"Let's Learn About Matter","Texture",1,"Library Bound Book","978-1-9785-0755-5",{"$f":"HYPERLINK(Table1[[#This Row],[Hyperlink]],\"Weblink\")","v":"Weblink"},"Enslow Publishing","2020","August 2019","7.125 X 8.500","Author","Rebecca Kraft Rector",null,null,null,null,"E",null,"Grade 1 - 2","Grade K - 4","Soft, slippery, rough, or prickly. All day long, we encounter objects with different textures. Readers are introduced to fundamental concepts of matter and texture. The connection between texture and touch is explored, as well as specific examples of texture in solids and liquids. Fast facts, Words to Know, and detailed full-color images stimulate curiosity and learning. An activity underlines the new concepts and allows readers to experiment. This book correlates directly with the expectation for students to \"classify different kinds of materials by their observable properties\" in second grade as specified in the Next Generation Science Standards.","English",22.6,16.95,"530--dc23","24 pp.","https://www.enslow.com/books/Texture/422015",{"$f":"Table1[[#This Row],[QTY]]*Table1[[#This Row],['# of Books]]","v":0},{"$f":"Table1[[#This Row],[QTY]]*Table1[[#This Row],[School & Library Price]]","v":0}]
[null,null,null,"Let's Learn About Matter","Texture",1,"eBook","978-1-9785-0918-4",{"$f":"HYPERLINK(Table1[[#This Row],[Hyperlink]],\"Weblink\")","v":"Weblink"},"Enslow Publishing","2020","August 2019",null,"Author","Rebecca Kraft Rector",null,null,null,null,"E",null,"Grade 1 - 2","Grade K - 4","Soft, slippery, rough, or prickly. All day long, we encounter objects with different textures. Readers are introduced to fundamental concepts of matter and texture. The connection between texture and touch is explored, as well as specific examples of texture in solids and liquids. Fast facts, Words to Know, and detailed full-color images stimulate curiosity and learning. An activity underlines the new concepts and allows readers to experiment. This book correlates directly with the expectation for students to \"classify different kinds of materials by their observable properties\" in second grade as specified in the Next Generation Science Standards.","English",22.6,16.95,"530--dc23","24 pp.","https://www.enslow.com/books/Texture/422015",{"$f":"Table1[[#This Row],[QTY]]*Table1[[#This Row],['# of Books]]","v":0},{"$f":"Table1[[#This Row],[QTY]]*Table1[[#This Row],[School & Library Price]]","v":0}]
[null,null,null,"Investigate Earth Science","Investigate Earth Science",6,"Library Set","978-1-9785-0746-3",{"$f":"HYPERLINK(Table1[[#This Row],[Hyperlink]],\"Weblink\")","v":"Weblink"},"Enslow Publishing","2020","August 2019","8.500 X 7.125",null,null,null,null,null,null,null,null,"Grade 2","Grade K - 4","Earth's major features, both land and water, have formed over millions of years. In this compelling series, readers examine how and why landforms and bodies of water have come to exist. From glaciers and rivers to volcanoes and valleys, each volume focuses on one of Earth's key features: what it is, how it is formed, and what the different types are. Colorful photographs and fun facts enhance the engaging text as readers delve into this fascinating look at the many aspects of Earth's physical features. A follow-up activity encourages readers to take their learning a step further in their exploration of these natural wonders of the world. Features include: Supports Next Generation Science Standards core ideas about the role of wind and water in shaping the earth as well as slow and rapid change. Guides readers in identifying landforms and bodies of water. Accessible text, fact boxes, and full-color photographs illustrate specific features and processes that are essential to each formation. Words to Know sections provide simple definitions of key terms. Learn More sections provide further resources for study.","English",143.69999999999999,107.7,null,"24 pp.","https://www.enslow.com/series/Investigate_Earth_Science/478812",{"$f":"Table1[[#This Row],[QTY]]*Table1[[#This Row],['# of Books]]","v":0},{"$f":"Table1[[#This Row],[QTY]]*Table1[[#This Row],[School & Library Price]]","v":0}]
[null,null,null,"Investigate Earth Science","Canyons",1,"Library Bound Book","978-1-9785-0742-5",{"$f":"HYPERLINK(Table1[[#This Row],[Hyperlink]],\"Weblink\")","v":"Weblink"},"Enslow Publishing","2020","August 2019","8.500 X 7.125","Author","Kathy Furgang","4.2","0.5",null,null,"I",null,"Grade 2","Grade K - 4","How were some of the world's most magnificent canyons formed? It's a long story that goes back millions of years. This compelling book about Earth's canyons provides students with the geological basics that will spark their interest in the forces of wind and water over time. Color photographs and fun facts enhance the engaging text, which allows readers to travel the world learning how some of the most familiar canyons formed. They'll also explore how wind and water shaped Tsangpo Canyon in Tibet, the world's deepest canyon. In a follow-up activity, kids can get their hands dirty and model some of Earth's processes themselves.","English",23.95,17.95,"551.44/2--dc23","24 pp.","https://www.enslow.com/books/Canyons/422005",{"$f":"Table1[[#This Row],[QTY]]*Table1[[#This Row],['# of Books]]","v":0},{"$f":"Table1[[#This Row],[QTY]]*Table1[[#This Row],[School & Library Price]]","v":0}]
[null,null,null,"Investigate Earth Science","Canyons",1,"eBook","978-1-9785-0861-3",{"$f":"HYPERLINK(Table1[[#This Row],[Hyperlink]],\"Weblink\")","v":"Weblink"},"Enslow Publishing","2020","August 2019",null,"Author","Kathy Furgang","4.2","0.5",null,null,"I",null,"Grade 2","Grade K - 4","How were some of the world's most magnificent canyons formed? It's a long story that goes back millions of years. This compelling book about Earth's canyons provides students with the geological basics that will spark their interest in the forces of wind and water over time. Color photographs and fun facts enhance the engaging text, which allows readers to travel the world learning how some of the most familiar canyons formed. They'll also explore how wind and water shaped Tsangpo Canyon in Tibet, the world's deepest canyon. In a follow-up activity, kids can get their hands dirty and model some of Earth's processes themselves.","English",23.95,17.95,"551.44/2--dc23","24 pp.","https://www.enslow.com/books/Canyons/422005",{"$f":"Table1[[#This Row],[QTY]]*Table1[[#This Row],['# of Books]]","v":0},{"$f":"Table1[[#This Row],[QTY]]*Table1[[#This Row],[School & Library Price]]","v":0}]
[null,null,null,"Investigate Earth Science","Glaciers",1,"Library Bound Book","978-1-9785-0741-8",{"$f":"HYPERLINK(Table1[[#This Row],[Hyperlink]],\"Weblink\")","v":"Weblink"},"Enslow Publishing","2020","August 2019","8.500 X 7.125","Author","Barbara Allman","3.4","0.5",null,null,"J",null,"Grade 2","Grade K - 4","Glaciers are icy giants that come and go with the ice ages. This first look at glaciers explores how they have shaped, and continue to shape, Earth's landscape. From the ice sheets of Antarctica to the glacial basins of the Great Lakes, readers learn about the amazing power of ice on the move. Using concise language and introductory science vocabulary, this book answers questions that curious young scientists wonder about. How do glaciers form? How do glaciers shape Earth? What is their future? Color photographs, fast facts, and a hands-on activity augment the informative text.","English",23.95,17.95,"551.31/2--dc23","24 pp.","https://www.enslow.com/books/Glaciers/422004",{"$f":"Table1[[#This Row],[QTY]]*Table1[[#This Row],['# of Books]]","v":0},{"$f":"Table1[[#This Row],[QTY]]*Table1[[#This Row],[School & Library Price]]","v":0}]
[null,null,null,"Investigate Earth Science","Glaciers",1,"eBook","978-1-9785-0864-4",{"$f":"HYPERLINK(Table1[[#This Row],[Hyperlink]],\"Weblink\")","v":"Weblink"},"Enslow Publishing","2020","August 2019",null,"Author","Barbara Allman","3.4","0.5",null,null,"J",null,"Grade 2","Grade K - 4","Glaciers are icy giants that come and go with the ice ages. This first look at glaciers explores how they have shaped, and continue to shape, Earth's landscape. From the ice sheets of Antarctica to the glacial basins of the Great Lakes, readers learn about the amazing power of ice on the move. Using concise language and introductory science vocabulary, this book answers questions that curious young scientists wonder about. How do glaciers form? How do glaciers shape Earth? What is their future? Color photographs, fast facts, and a hands-on activity augment the informative text.","English",23.95,17.95,"551.31/2--dc23","24 pp.","https://www.enslow.com/books/Glaciers/422004",{"$f":"Table1[[#This Row],[QTY]]*Table1[[#This Row],['# of Books]]","v":0},{"$f":"Table1[[#This Row],[QTY]]*Table1[[#This Row],[School & Library Price]]","v":0}]
[null,null,null,"Investigate Earth Science","Islands",1,"Library Bound Book","978-1-9785-0743-2",{"$f":"HYPERLINK(Table1[[#This Row],[Hyperlink]],\"Weblink\")","v":"Weblink"},"Enslow Publishing","2020","August 2019","8.500 X 7.125","Author","Barbara Allman","3.6","0.5",null,null,"H",null,"Grade 2","Grade K - 4","Islands are a diverse and fascinating type of landform. This easy-to-follow narrative takes readers from the island-building volcanoes of the Pacific to the ice sheets of the world's largest island. Using simple language and key science vocabulary, the text illuminates subjects that young scientists wonder about. How do islands form? How does life occur on islands? What impact do people have on islands? Readers learn about amazing animals that flourish on islands, as well as measures taken to protect them. Color photographs, fun facts, and a hands-on activity shine a light on these unique geographical features.","English",23.95,17.95,"551.42--dc23","24 pp.","https://www.enslow.com/books/Islands/422006",{"$f":"Table1[[#This Row],[QTY]]*Table1[[#This Row],['# of Books]]","v":0},{"$f":"Table1[[#This Row],[QTY]]*Table1[[#This Row],[School & Library Price]]","v":0}]
[null,null,null,"Investigate Earth Science","Islands",1,"eBook","978-1-9785-0867-5",{"$f":"HYPERLINK(Table1[[#This Row],[Hyperlink]],\"Weblink\")","v":"Weblink"},"Enslow Publishing","2020","August 2019",null,"Author","Barbara Allman","3.6","0.5",null,null,"H",null,"Grade 2","Grade K - 4","Islands are a diverse and fascinating type of landform. This easy-to-follow narrative takes readers from the island-building volcanoes of the Pacific to the ice sheets of the world's largest island. Using simple language and key science vocabulary, the text illuminates subjects that young scientists wonder about. How do islands form? How does life occur on islands? What impact do people have on islands? Readers learn about amazing animals that flourish on islands, as well as measures taken to protect them. Color photographs, fun facts, and a hands-on activity shine a light on these unique geographical features.","English",23.95,17.95,"551.42--dc23","24 pp.","https://www.enslow.com/books/Islands/422006",{"$f":"Table1[[#This Row],[QTY]]*Table1[[#This Row],['# of Books]]","v":0},{"$f":"Table1[[#This Row],[QTY]]*Table1[[#This Row],[School & Library Price]]","v":0}]
[null,null,null,"Investigate Earth Science","Lakes and Rivers",1,"Library Bound Book","978-1-9785-0744-9",{"$f":"HYPERLINK(Table1[[#This Row],[Hyperlink]],\"Weblink\")","v":"Weblink"},"Enslow Publishing","2020","August 2019","8.500 X 7.125","Author","Barbara Allman","3.7","0.5",null,null,"J",null,"Grade 2","Grade K - 4","Familiarize readers on the wonders of the world's lakes and rivers with this introductory text. Using easy to understand language and key science vocabulary, the narrative illuminates the differences between lakes and rivers, how lakes and rivers form, and why they are important to people. Young scientists are launched into an exploration of the longest rivers, deepest lake, and highest waterfall. They find out the significance of rivers to ancient cultures and learn their uses in contemporary society. photographs, fast facts, and a hands-on activity further engage readers in learning about the vast world of water.","English",23.95,17.95,"551.48/2--dc23","24 pp.","https://www.enslow.com/books/Lakes_and_Rivers/422007",{"$f":"Table1[[#This Row],[QTY]]*Table1[[#This Row],['# of Books]]","v":0},{"$f":"Table1[[#This Row],[QTY]]*Table1[[#This Row],[School & Library Price]]","v":0}]
[null,null,null,"Investigate Earth Science","Lakes and Rivers",1,"eBook","978-1-9785-0870-5",{"$f":"HYPERLINK(Table1[[#This Row],[Hyperlink]],\"Weblink\")","v":"Weblink"},"Enslow Publishing","2020","August 2019",null,"Author","Barbara Allman","3.7","0.5",null,null,"J",null,"Grade 2","Grade K - 4","Familiarize readers on the wonders of the world's lakes and rivers with this introductory text. Using easy to understand language and key science vocabulary, the narrative illuminates the differences between lakes and rivers, how lakes and rivers form, and why they are important to people. Young scientists are launched into an exploration of the longest rivers, deepest lake, and highest waterfall. They find out the significance of rivers to ancient cultures and learn their uses in contemporary society. photographs, fast facts, and a hands-on activity further engage readers in learning about the vast world of water.","English",23.95,17.95,"551.48/2--dc23","24 pp.","https://www.enslow.com/books/Lakes_and_Rivers/422007",{"$f":"Table1[[#This Row],[QTY]]*Table1[[#This Row],['# of Books]]","v":0},{"$f":"Table1[[#This Row],[QTY]]*Table1[[#This Row],[School & Library Price]]","v":0}]
[null,null,null,"Investigate Earth Science","Mountains",1,"Library Bound Book","978-1-9785-0745-6",{"$f":"HYPERLINK(Table1[[#This Row],[Hyperlink]],\"Weblink\")","v":"Weblink"},"Enslow Publishing","2020","August 2019","8.500 X 7.125","Author","Kathy Furgang","4.4","0.4",null,null,"H",null,"Grade 2","Grade K - 4","We often look at mountains as something beautiful to admire. This informative book describes the processes that create mountains over time. It examines plate movements along faults, volcanic activity, and other actions that have formed Earth's mountains over billions of years. Photographs, diagrams, and step-by-step explanations guide readers to a deeper understanding of the processes that shape our planet. In a fun follow-up activity, readers use available materials to model a mountain-building process on their own.","English",23.95,17.95,"551.43/2--dc23","24 pp.","https://www.enslow.com/books/Mountains/422008",{"$f":"Table1[[#This Row],[QTY]]*Table1[[#This Row],['# of Books]]","v":0},{"$f":"Table1[[#This Row],[QTY]]*Table1[[#This Row],[School & Library Price]]","v":0}]
[null,null,null,"Investigate Earth Science","Mountains",1,"eBook","978-1-9785-0873-6",{"$f":"HYPERLINK(Table1[[#This Row],[Hyperlink]],\"Weblink\")","v":"Weblink"},"Enslow Publishing","2020","August 2019",null,"Author","Kathy Furgang","4.4","0.4",null,null,"H",null,"Grade 2","Grade K - 4","We often look at mountains as something beautiful to admire. This informative book describes the processes that create mountains over time. It examines plate movements along faults, volcanic activity, and other actions that have formed Earth's mountains over billions of years. Photographs, diagrams, and step-by-step explanations guide readers to a deeper understanding of the processes that shape our planet. In a fun follow-up activity, readers use available materials to model a mountain-building process on their own.","English",23.95,17.95,"551.43/2--dc23","24 pp.","https://www.enslow.com/books/Mountains/422008",{"$f":"Table1[[#This Row],[QTY]]*Table1[[#This Row],['# of Books]]","v":0},{"$f":"Table1[[#This Row],[QTY]]*Table1[[#This Row],[School & Library Price]]","v":0}]
[null,null,null,"Investigate Earth Science","Volcanoes",1,"Library Bound Book","978-1-9785-0740-1",{"$f":"HYPERLINK(Table1[[#This Row],[Hyperlink]],\"Weblink\")","v":"Weblink"},"Enslow Publishing","2020","August 2019","8.500 X 7.125","Author","Kathy Furgang",null,null,null,null,"J",null,"Grade 2","Grade K - 4","Most volcanoes just look like mountains, until bam! They erupt with either smoke and ash or lava. Engaging and accessible text describes and illustrates some of the most common ways that volcanoes form and erupt. Readers will be able to see how Earth's crust moves as plates, revealing the fierce activity of the layer below. Diagrams and cross sections of volcanic activity make the subject clear and easy to grasp. In a simple follow-up activity, readers model a volcanic hot spot in Earth's crust, mimicking the formation of the Hawaiian Islands.","English",23.95,17.95,"551.21--dc23","24 pp.","https://www.enslow.com/books/Volcanoes/422003",{"$f":"Table1[[#This Row],[QTY]]*Table1[[#This Row],['# of Books]]","v":0},{"$f":"Table1[[#This Row],[QTY]]*Table1[[#This Row],[School & Library Price]]","v":0}]
[null,null,null,"Investigate Earth Science","Volcanoes",1,"eBook","978-1-9785-0876-7",{"$f":"HYPERLINK(Table1[[#This Row],[Hyperlink]],\"Weblink\")","v":"Weblink"},"Enslow Publishing","2020","August 2019",null,"Author","Kathy Furgang",null,null,null,null,"J",null,"Grade 2","Grade K - 4","Most volcanoes just look like mountains, until bam! They erupt with either smoke and ash or lava. Engaging and accessible text describes and illustrates some of the most common ways that volcanoes form and erupt. Readers will be able to see how Earth's crust moves as plates, revealing the fierce activity of the layer below. Diagrams and cross sections of volcanic activity make the subject clear and easy to grasp. In a simple follow-up activity, readers model a volcanic hot spot in Earth's crust, mimicking the formation of the Hawaiian Islands.","English",23.95,17.95,"551.21--dc23","24 pp.","https://www.enslow.com/books/Volcanoes/422003",{"$f":"Table1[[#This Row],[QTY]]*Table1[[#This Row],['# of Books]]","v":0},{"$f":"Table1[[#This Row],[QTY]]*Table1[[#This Row],[School & Library Price]]","v":0}]
[null,null,null,"Animal Explorers","Animal Explorers",6,"Library Set","978-1-9785-1015-9",{"$f":"HYPERLINK(Table1[[#This Row],[Hyperlink]],\"Weblink\")","v":"Weblink"},"Enslow Publishing","2020","August 2019","8.500 X 11.00",null,null,null,null,null,null,null,null,"Grade 3","Grade 2 - 5","We share this planet with millions of amazing animal species. This fun set introduces readers to some of the most intriguing animals, from the bugs and birds they can see on a daily basis to more exotic creatures including crocodiles, elephants, and sharks. These featured creatures have a long track record of fascinating kids. Each volume profiles several types of animals and features spectacular color photographs of them in the wild. Each book concludes with \"Fun Facts\" and \"Your Questions Answered\" sections, a glossary, further information section, and index. Features include: A high-interest topic that relates to science curriculums. Parallels the Biological Evolution: Unity and Diversity and From Molecules to Organisms: Structures and Processes dimensions of the Next Generation Science Standards. Lively, image-heavy design that will draw in all readers.","English",151.62,113.7,null,"32 pp.","https://www.enslow.com/series/Animal_Explorers/479382",{"$f":"Table1[[#This Row],[QTY]]*Table1[[#This Row],['# of Books]]","v":0},{"$f":"Table1[[#This Row],[QTY]]*Table1[[#This Row],[School & Library Price]]","v":0}]
[null,null,null,"Animal Explorers","Birds",1,"Library Bound Book","978-1-9785-0975-7",{"$f":"HYPERLINK(Table1[[#This Row],[Hyperlink]],\"Weblink\")","v":"Weblink"},"Enslow Publishing","2020","August 2019","8.500 X 11.00","Author, Author","Michael Leach, Meriel Lland",null,null,null,null,"L",null,"Grade 3","Grade 2 - 5","Dinosaurs may be extinct, but their closest relatives are still around...and they're everywhere. With eleven thousand different species, birds are some of nature's finest creatures. This book introduces students to all kinds of birds, each full of unique characteristics and capabilities. As readers fly through the pages, they'll learn about the California condor, which is North America's largest bird with a wingspan of eleven feet. They'll get a look at the beautiful peacock, whose tail accounts for more than 60 percent of its body weight. Full of bright colored photographs and remarkable facts, this book guides students as they navigate the interesting world of ornithology.","English",25.27,18.95,"598--dc23","32 pp.","https://www.enslow.com/books/Birds/422055",{"$f":"Table1[[#This Row],[QTY]]*Table1[[#This Row],['# of Books]]","v":0},{"$f":"Table1[[#This Row],[QTY]]*Table1[[#This Row],[School & Library Price]]","v":0}]
[null,null,null,"Animal Explorers","Birds",1,"eBook","978-1-9785-0976-4",{"$f":"HYPERLINK(Table1[[#This Row],[Hyperlink]],\"Weblink\")","v":"Weblink"},"Enslow Publishing","2020","August 2019",null,"Author, Author","Michael Leach, Meriel Lland",null,null,null,null,"L",null,"Grade 3","Grade 2 - 5","Dinosaurs may be extinct, but their closest relatives are still around...and they're everywhere. With eleven thousand different species, birds are some of nature's finest creatures. This book introduces students to all kinds of birds, each full of unique characteristics and capabilities. As readers fly through the pages, they'll learn about the California condor, which is North America's largest bird with a wingspan of eleven feet. They'll get a look at the beautiful peacock, whose tail accounts for more than 60 percent of its body weight. Full of bright colored photographs and remarkable facts, this book guides students as they navigate the interesting world of ornithology.","English",25.27,18.95,"598--dc23","32 pp.","https://www.enslow.com/books/Birds/422055",{"$f":"Table1[[#This Row],[QTY]]*Table1[[#This Row],['# of Books]]","v":0},{"$f":"Table1[[#This Row],[QTY]]*Table1[[#This Row],[School & Library Price]]","v":0}]
[null,null,null,"Animal Explorers","Carnivores",1,"Library Bound Book","978-1-9785-0983-2",{"$f":"HYPERLINK(Table1[[#This Row],[Hyperlink]],\"Weblink\")","v":"Weblink"},"Enslow Publishing","2020","August 2019","8.500 X 11.00","Author, Author","Michael Leach, Meriel Lland",null,null,null,null,"L",null,"Grade 3","Grade 2 - 5","Some of the animal kingdom's smartest and most deadly hunters are mammals. This attractive book introduces readers to many fascinating mammals that either hunt for their food or are related to animals that do. This carnivorous clan includes wolves, otters, and lions. Readers will survey plant-eating pandas and fruit bats alongside fierce hunters like polar bears and vampire bats. Featuring fun facts and incredible photographs, readers will uncover the mongoose's closest relative, the reason bats hang upside down, and the function of a cat's whiskers.","English",25.27,18.95,"599.7--dc23","32 pp.","https://www.enslow.com/books/Carnivores/422057",{"$f":"Table1[[#This Row],[QTY]]*Table1[[#This Row],['# of Books]]","v":0},{"$f":"Table1[[#This Row],[QTY]]*Table1[[#This Row],[School & Library Price]]","v":0}]
[null,null,null,"Animal Explorers","Carnivores",1,"eBook","978-1-9785-0984-9",{"$f":"HYPERLINK(Table1[[#This Row],[Hyperlink]],\"Weblink\")","v":"Weblink"},"Enslow Publishing","2020","August 2019",null,"Author, Author","Michael Leach, Meriel Lland",null,null,null,null,"L",null,"Grade 3","Grade 2 - 5","Some of the animal kingdom's smartest and most deadly hunters are mammals. This attractive book introduces readers to many fascinating mammals that either hunt for their food or are related to animals that do. This carnivorous clan includes wolves, otters, and lions. Readers will survey plant-eating pandas and fruit bats alongside fierce hunters like polar bears and vampire bats. Featuring fun facts and incredible photographs, readers will uncover the mongoose's closest relative, the reason bats hang upside down, and the function of a cat's whiskers.","English",25.27,18.95,"599.7--dc23","32 pp.","https://www.enslow.com/books/Carnivores/422057",{"$f":"Table1[[#This Row],[QTY]]*Table1[[#This Row],['# of Books]]","v":0},{"$f":"Table1[[#This Row],[QTY]]*Table1[[#This Row],[School & Library Price]]","v":0}]
[null,null,null,"Animal Explorers","Creatures of the Ocean",1,"Library Bound Book","978-1-9785-0979-5",{"$f":"HYPERLINK(Table1[[#This Row],[Hyperlink]],\"Weblink\")","v":"Weblink"},"Enslow Publishing","2020","August 2019","8.500 X 11.00","Author, Author","Michael Leach, Meriel Lland",null,null,null,null,"N",null,"Grade 3","Grade 2 - 5","It is not uncommon to spot fish while swimming in the ocean. After all, there's an entire world of creatures that inhabit the diverse seas. While the water can be a dangerous place to live, these creatures have developed clever defense mechanisms to distract predators, like the sea star, which can shed arms and then regrow them. Home to the only species where males gives birth, the ocean is full of seahorses and other interesting animals. Full of captivating photographs and engaging text, this book encourages readers to dive right in and learn about the complexity and beauty that is marine life.","English",25.27,18.95,"591.77--dc23","32 pp.","https://www.enslow.com/books/Creatures_of_the_Ocean/422056",{"$f":"Table1[[#This Row],[QTY]]*Table1[[#This Row],['# of Books]]","v":0},{"$f":"Table1[[#This Row],[QTY]]*Table1[[#This Row],[School & Library Price]]","v":0}]
[null,null,null,"Animal Explorers","Creatures of the Ocean",1,"eBook","978-1-9785-0980-1",{"$f":"HYPERLINK(Table1[[#This Row],[Hyperlink]],\"Weblink\")","v":"Weblink"},"Enslow Publishing","2020","August 2019",null,"Author, Author","Michael Leach, Meriel Lland",null,null,null,null,"N",null,"Grade 3","Grade 2 - 5","It is not uncommon to spot fish while swimming in the ocean. After all, there's an entire world of creatures that inhabit the diverse seas. While the water can be a dangerous place to live, these creatures have developed clever defense mechanisms to distract predators, like the sea star, which can shed arms and then regrow them. Home to the only species where males gives birth, the ocean is full of seahorses and other interesting animals. Full of captivating photographs and engaging text, this book encourages readers to dive right in and learn about the complexity and beauty that is marine life.","English",25.27,18.95,"591.77--dc23","32 pp.","https://www.enslow.com/books/Creatures_of_the_Ocean/422056",{"$f":"Table1[[#This Row],[QTY]]*Table1[[#This Row],['# of Books]]","v":0},{"$f":"Table1[[#This Row],[QTY]]*Table1[[#This Row],[School & Library Price]]","v":0}]
[null,null,null,"Animal Explorers","Insects and Minibeasts",1,"Library Bound Book","978-1-9785-0987-0",{"$f":"HYPERLINK(Table1[[#This Row],[Hyperlink]],\"Weblink\")","v":"Weblink"},"Enslow Publishing","2020","August 2019","8.500 X 11.00","Author, Author","Michael Leach, Meriel Lland",null,null,null,null,"L",null,"Grade 3","Grade 2 - 5","While small in size, insects and minibeasts are large in number. Beetles, which have four hundred thousand different species, make up a quarter of all animals on earth. As students study spiders, leeches, scorpions, and more, they will learn about the foundation that insects provide for all other animals. They will learn just how important they are for the environment, too. Through lively images and easy-to-follow text, readers will encounter the world's strongest animal, an insect that can jump three feet, and other surprising creatures.","English",25.27,18.95,"595.7--dc23","32 pp.","https://www.enslow.com/books/Insects_and_Minibeasts/422058",{"$f":"Table1[[#This Row],[QTY]]*Table1[[#This Row],['# of Books]]","v":0},{"$f":"Table1[[#This Row],[QTY]]*Table1[[#This Row],[School & Library Price]]","v":0}]
[null,null,null,"Animal Explorers","Insects and Minibeasts",1,"eBook","978-1-9785-0988-7",{"$f":"HYPERLINK(Table1[[#This Row],[Hyperlink]],\"Weblink\")","v":"Weblink"},"Enslow Publishing","2020","August 2019",null,"Author, Author","Michael Leach, Meriel Lland",null,null,null,null,"L",null,"Grade 3","Grade 2 - 5","While small in size, insects and minibeasts are large in number. Beetles, which have four hundred thousand different species, make up a quarter of all animals on earth. As students study spiders, leeches, scorpions, and more, they will learn about the foundation that insects provide for all other animals. They will learn just how important they are for the environment, too. Through lively images and easy-to-follow text, readers will encounter the world's strongest animal, an insect that can jump three feet, and other surprising creatures.","English",25.27,18.95,"595.7--dc23","32 pp.","https://www.enslow.com/books/Insects_and_Minibeasts/422058",{"$f":"Table1[[#This Row],[QTY]]*Table1[[#This Row],['# of Books]]","v":0},{"$f":"Table1[[#This Row],[QTY]]*Table1[[#This Row],[School & Library Price]]","v":0}]
[null,null,null,"Animal Explorers","Omnivores and Herbivores",1,"Library Bound Book","978-1-9785-0991-7",{"$f":"HYPERLINK(Table1[[#This Row],[Hyperlink]],\"Weblink\")","v":"Weblink"},"Enslow Publishing","2020","August 2019","8.500 X 11.00","Author, Author","Michael Leach, Meriel Lland",null,null,null,null,"M",null,"Grade 3","Grade 2 - 5","Treat readers to details about the diets that include meat and plants, and the diets that include only plants. Giraffes use their long necks to reach leaves they munch on all day, a key advantage for their herbivore diet. Pigs have such a strong sense of smell that they're able to detect animals that live underground, making them skilled omnivores. Through intriguing fun facts, vibrant photographs, and age-appropriate text, students will learn about the role food plays in the animal kingdom and understand why different animals have different feeding habits.","English",25.27,18.95,"591.5'3--dc23","32 pp.","https://www.enslow.com/books/Omnivores_and_Herbivores/422059",{"$f":"Table1[[#This Row],[QTY]]*Table1[[#This Row],['# of Books]]","v":0},{"$f":"Table1[[#This Row],[QTY]]*Table1[[#This Row],[School & Library Price]]","v":0}]
[null,null,null,"Animal Explorers","Omnivores and Herbivores",1,"eBook","978-1-9785-0992-4",{"$f":"HYPERLINK(Table1[[#This Row],[Hyperlink]],\"Weblink\")","v":"Weblink"},"Enslow Publishing","2020","August 2019",null,"Author, Author","Michael Leach, Meriel Lland",null,null,null,null,"M",null,"Grade 3","Grade 2 - 5","Treat readers to details about the diets that include meat and plants, and the diets that include only plants. Giraffes use their long necks to reach leaves they munch on all day, a key advantage for their herbivore diet. Pigs have such a strong sense of smell that they're able to detect animals that live underground, making them skilled omnivores. Through intriguing fun facts, vibrant photographs, and age-appropriate text, students will learn about the role food plays in the animal kingdom and understand why different animals have different feeding habits.","English",25.27,18.95,"591.5'3--dc23","32 pp.","https://www.enslow.com/books/Omnivores_and_Herbivores/422059",{"$f":"Table1[[#This Row],[QTY]]*Table1[[#This Row],['# of Books]]","v":0},{"$f":"Table1[[#This Row],[QTY]]*Table1[[#This Row],[School & Library Price]]","v":0}]
[null,null,null,"Animal Explorers","Reptiles and Amphibians",1,"Library Bound Book","978-1-9785-0995-5",{"$f":"HYPERLINK(Table1[[#This Row],[Hyperlink]],\"Weblink\")","v":"Weblink"},"Enslow Publishing","2020","August 2019","8.500 X 11.00","Author, Author","Michael Leach, Meriel Lland",null,null,null,null,"M",null,"Grade 3","Grade 2 - 5","Reptiles and amphibians are both cold-blooded vertebrates. This fun book introduces readers to a mix of both animal types. They'll learn how amphibians transform their gills into lungs through metamorphosis and discover salamanders, the only vertebrates that can regrow a lost leg or tail. Along with fun facts, students will read about snakes that can swallow their prey whole, turtles that hibernate by burying themselves in mud, and color-changing chameleons. Supplemented with colorful photographs, this age-appropriate book provides a comprehensive overview of reptiles and amphibians and their defining characteristics.","English",25.27,18.95,"597.9--dc23","32 pp.","https://www.enslow.com/books/Reptiles_and_Amphibians/422060",{"$f":"Table1[[#This Row],[QTY]]*Table1[[#This Row],['# of Books]]","v":0},{"$f":"Table1[[#This Row],[QTY]]*Table1[[#This Row],[School & Library Price]]","v":0}]
[null,null,null,"Animal Explorers","Reptiles and Amphibians",1,"eBook","978-1-9785-0996-2",{"$f":"HYPERLINK(Table1[[#This Row],[Hyperlink]],\"Weblink\")","v":"Weblink"},"Enslow Publishing","2020","August 2019",null,"Author, Author","Michael Leach, Meriel Lland",null,null,null,null,"M",null,"Grade 3","Grade 2 - 5","Reptiles and amphibians are both cold-blooded vertebrates. This fun book introduces readers to a mix of both animal types. They'll learn how amphibians transform their gills into lungs through metamorphosis and discover salamanders, the only vertebrates that can regrow a lost leg or tail. Along with fun facts, students will read about snakes that can swallow their prey whole, turtles that hibernate by burying themselves in mud, and color-changing chameleons. Supplemented with colorful photographs, this age-appropriate book provides a comprehensive overview of reptiles and amphibians and their defining characteristics.","English",25.27,18.95,"597.9--dc23","32 pp.","https://www.enslow.com/books/Reptiles_and_Amphibians/422060",{"$f":"Table1[[#This Row],[QTY]]*Table1[[#This Row],['# of Books]]","v":0},{"$f":"Table1[[#This Row],[QTY]]*Table1[[#This Row],[School & Library Price]]","v":0}]
[null,null,null,"Animal Defense!","Animal Defense!",6,"Library Set","978-1-9785-0704-3",{"$f":"HYPERLINK(Table1[[#This Row],[Hyperlink]],\"Weblink\")","v":"Weblink"},"Enslow Publishing","2020","August 2019","7.250 X 9.250",null,null,null,null,null,null,null,null,"Grade 3 - 4","Grade 3 - 6","While all animals share the need to protect themselves, the ways in which they do so differ greatly and include adaptations such as poisons, stingers, camouflage, and even body-part regeneration. Through vivid images, informative sidebars that expand upon fascinating details, and accessible, engaging text, readers will discover the various defense mechanisms animals use and the relationships that exist between predators and their prey. As students navigate their way through the animal kingdom, they will learn how crucial these protective measures are and how humans adopt some of these methods as well. Features include: High-interest topic of animals encourages students to observe the world around them through a scientific lens. Supports the Next Generation Science Standards on biological evolution. Fact boxes that give quick, easily digestible bits of information. Further Reading with current books and informative websites promote further exploration of each subject.","English",167.58,125.7,null,"48 pp.","https://www.enslow.com/series/Animal_Defense/478809",{"$f":"Table1[[#This Row],[QTY]]*Table1[[#This Row],['# of Books]]","v":0},{"$f":"Table1[[#This Row],[QTY]]*Table1[[#This Row],[School & Library Price]]","v":0}]
[null,null,null,"Animal Defense!","Armor Up: Exoskeletons, Scales, and Shells",1,"Library Bound Book","978-1-9785-0714-2",{"$f":"HYPERLINK(Table1[[#This Row],[Hyperlink]],\"Weblink\")","v":"Weblink"},"Enslow Publishing","2020","August 2019","7.250 X 9.250","Author, Author","Emma Carlson Berne, Susan K. Mitchell","5.4","1",null,null,"O",null,"Grade 3 - 4","Grade 3 - 6","Armored skin, bony plates, and shells are key defenses animals employ to survive in their natural surroundings. By examining the many forms animal armor can take, readers will have the opportunity to explore the physical makeup of turtle shells, armadillo bands, and millipede exoskeletons, among others. They'll learn how animals use their armor to protect against specific predators. Lively fact boxes, along with sidebars and accessible descriptions of current scientific research, help students discover the more unusual aspects of animal armor. Full-color photographs of the animals and close-ups of their special features enhance the narrative while a list of recent books and websites encourage further exploration of the topic.","English",27.93,20.95,"591.47/7--dc23","48 pp.","https://www.enslow.com/books/Armor_Up/421978",{"$f":"Table1[[#This Row],[QTY]]*Table1[[#This Row],['# of Books]]","v":0},{"$f":"Table1[[#This Row],[QTY]]*Table1[[#This Row],[School & Library Price]]","v":0}]
[null,null,null,"Animal Defense!","Armor Up: Exoskeletons, Scales, and Shells",1,"eBook","978-1-9785-0808-8",{"$f":"HYPERLINK(Table1[[#This Row],[Hyperlink]],\"Weblink\")","v":"Weblink"},"Enslow Publishing","2020","August 2019",null,"Author, Author","Emma Carlson Berne, Susan K. Mitchell","5.4","1",null,null,"O",null,"Grade 3 - 4","Grade 3 - 6","Armored skin, bony plates, and shells are key defenses animals employ to survive in their natural surroundings. By examining the many forms animal armor can take, readers will have the opportunity to explore the physical makeup of turtle shells, armadillo bands, and millipede exoskeletons, among others. They'll learn how animals use their armor to protect against specific predators. Lively fact boxes, along with sidebars and accessible descriptions of current scientific research, help students discover the more unusual aspects of animal armor. Full-color photographs of the animals and close-ups of their special features enhance the narrative while a list of recent books and websites encourage further exploration of the topic.","English",27.93,20.95,"591.47/7--dc23","48 pp.","https://www.enslow.com/books/Armor_Up/421978",{"$f":"Table1[[#This Row],[QTY]]*Table1[[#This Row],['# of Books]]","v":0},{"$f":"Table1[[#This Row],[QTY]]*Table1[[#This Row],[School & Library Price]]","v":0}]
[null,null,null,"Animal Defense!","Chemical Cover: Smells and Poisons",1,"Library Bound Book","978-1-9785-0715-9",{"$f":"HYPERLINK(Table1[[#This Row],[Hyperlink]],\"Weblink\")","v":"Weblink"},"Enslow Publishing","2020","August 2019","7.250 X 9.250","Author, Author","Emma Carlson Berne, Susan K. Mitchell","5.6","1",null,null,"M",null,"Grade 3 - 4","Grade 3 - 6","Many mammals, reptiles, fish, and amphibians produce chemicals in their bodies in order to ward off predators. Some manufacture poisons or smelly or painful substances in their own bodies. Others acquire these chemicals through their diet. Engaging text and eye-catching photographs invite readers to delve into the world of stinky sprays, poisonous skin, and slimy goo in order to understand how animals use these chemicals to defend themselves. A discussion of humans' relationship to chemical weapons helps deepen students' understanding of chemicals as defense, while fast facts and lively sidebars explore unusual venoms and behaviors.","English",27.93,20.95,"591.47--dc23","48 pp.","https://www.enslow.com/books/Chemical_Cover/421979",{"$f":"Table1[[#This Row],[QTY]]*Table1[[#This Row],['# of Books]]","v":0},{"$f":"Table1[[#This Row],[QTY]]*Table1[[#This Row],[School & Library Price]]","v":0}]
[null,null,null,"Animal Defense!","Chemical Cover: Smells and Poisons",1,"eBook","978-1-9785-0810-1",{"$f":"HYPERLINK(Table1[[#This Row],[Hyperlink]],\"Weblink\")","v":"Weblink"},"Enslow Publishing","2020","August 2019",null,"Author, Author","Emma Carlson Berne, Susan K. Mitchell","5.6","1",null,null,"M",null,"Grade 3 - 4","Grade 3 - 6","Many mammals, reptiles, fish, and amphibians produce chemicals in their bodies in order to ward off predators. Some manufacture poisons or smelly or painful substances in their own bodies. Others acquire these chemicals through their diet. Engaging text and eye-catching photographs invite readers to delve into the world of stinky sprays, poisonous skin, and slimy goo in order to understand how animals use these chemicals to defend themselves. A discussion of humans' relationship to chemical weapons helps deepen students' understanding of chemicals as defense, while fast facts and lively sidebars explore unusual venoms and behaviors.","English",27.93,20.95,"591.47--dc23","48 pp.","https://www.enslow.com/books/Chemical_Cover/421979",{"$f":"Table1[[#This Row],[QTY]]*Table1[[#This Row],['# of Books]]","v":0},{"$f":"Table1[[#This Row],[QTY]]*Table1[[#This Row],[School & Library Price]]","v":0}]
[null,null,null,"Animal Defense!","Clever Camouflage: Unseen Animals",1,"Library Bound Book","978-1-9785-0725-8",{"$f":"HYPERLINK(Table1[[#This Row],[Hyperlink]],\"Weblink\")","v":"Weblink"},"Enslow Publishing","2020","August 2019","7.250 X 9.250","Author, Author","Jennifer Reed, Susan K. Mitchell","5.6","1",null,null,"O",null,"Grade 3 - 4","Grade 3 - 6","Animals are experts when it comes to playing hide-and-seek. Using camouflage, prey and predators alike employ this crucial tactic to defend themselves and ensure their survival. Enhanced with vibrant photographs and enthralling facts, this engaging, yet accessible text focuses on the four basic types of camouflage: coloration, disruptive coloration, disguise, and mimicry. Students will apply their knowledge of the different versions of camouflage as they encounter various species throughout the book and learn why some animals use one type of camouflage as opposed to another.","English",27.93,20.95,"591.47/2--dc23","48 pp.","https://www.enslow.com/books/Clever_Camouflage/421989",{"$f":"Table1[[#This Row],[QTY]]*Table1[[#This Row],['# of Books]]","v":0},{"$f":"Table1[[#This Row],[QTY]]*Table1[[#This Row],[School & Library Price]]","v":0}]
[null,null,null,"Animal Defense!","Clever Camouflage: Unseen Animals",1,"eBook","978-1-9785-0812-5",{"$f":"HYPERLINK(Table1[[#This Row],[Hyperlink]],\"Weblink\")","v":"Weblink"},"Enslow Publishing","2020","August 2019",null,"Author, Author","Jennifer Reed, Susan K. Mitchell","5.6","1",null,null,"O",null,"Grade 3 - 4","Grade 3 - 6","Animals are experts when it comes to playing hide-and-seek. Using camouflage, prey and predators alike employ this crucial tactic to defend themselves and ensure their survival. Enhanced with vibrant photographs and enthralling facts, this engaging, yet accessible text focuses on the four basic types of camouflage: coloration, disruptive coloration, disguise, and mimicry. Students will apply their knowledge of the different versions of camouflage as they encounter various species throughout the book and learn why some animals use one type of camouflage as opposed to another.","English",27.93,20.95,"591.47/2--dc23","48 pp.","https://www.enslow.com/books/Clever_Camouflage/421989",{"$f":"Table1[[#This Row],[QTY]]*Table1[[#This Row],['# of Books]]","v":0},{"$f":"Table1[[#This Row],[QTY]]*Table1[[#This Row],[School & Library Price]]","v":0}]
[null,null,null,"Animal Defense!","Devious Disguises: Animal Look-Alikes",1,"Library Bound Book","978-1-9785-0716-6",{"$f":"HYPERLINK(Table1[[#This Row],[Hyperlink]],\"Weblink\")","v":"Weblink"},"Enslow Publishing","2020","August 2019","7.250 X 9.250","Author, Author","Anita Louise McCormick, Susan K. Mitchell","5.5","1",null,null,"L",null,"Grade 3 - 4","Grade 3 - 6","Around the world, there are creatures that avoid being eaten because of their ability to mimic. If an insect, snake, or other creature looks like an animal that is poisonous or tastes bad, the predators will most likely leave it alone. Filled with informative \"fun fact\" boxes, full-color photographs, and intriguing sidebars, this book will help readers discover the many ways that wild animals use mimicry to stay alive. Students will also learn about predators that use mimicry to disguise themselves when they are hunting for food.","English",27.93,20.95,"581.4/7--dc23","48 pp.","https://www.enslow.com/books/Devious_Disguises/421980",{"$f":"Table1[[#This Row],[QTY]]*Table1[[#This Row],['# of Books]]","v":0},{"$f":"Table1[[#This Row],[QTY]]*Table1[[#This Row],[School & Library Price]]","v":0}]
[null,null,null,"Animal Defense!","Devious Disguises: Animal Look-Alikes",1,"eBook","978-1-9785-0814-9",{"$f":"HYPERLINK(Table1[[#This Row],[Hyperlink]],\"Weblink\")","v":"Weblink"},"Enslow Publishing","2020","August 2019",null,"Author, Author","Anita Louise McCormick, Susan K. Mitchell","5.5","1",null,null,"L",null,"Grade 3 - 4","Grade 3 - 6","Around the world, there are creatures that avoid being eaten because of their ability to mimic. If an insect, snake, or other creature looks like an animal that is poisonous or tastes bad, the predators will most likely leave it alone. Filled with informative \"fun fact\" boxes, full-color photographs, and intriguing sidebars, this book will help readers discover the many ways that wild animals use mimicry to stay alive. Students will also learn about predators that use mimicry to disguise themselves when they are hunting for food.","English",27.93,20.95,"581.4/7--dc23","48 pp.","https://www.enslow.com/books/Devious_Disguises/421980",{"$f":"Table1[[#This Row],[QTY]]*Table1[[#This Row],['# of Books]]","v":0},{"$f":"Table1[[#This Row],[QTY]]*Table1[[#This Row],[School & Library Price]]","v":0}]
[null,null,null,"Animal Defense!","Prickly Protection: Stingers, Barbs, and Quills",1,"Library Bound Book","978-1-9785-0717-3",{"$f":"HYPERLINK(Table1[[#This Row],[Hyperlink]],\"Weblink\")","v":"Weblink"},"Enslow Publishing","2020","August 2019","7.250 X 9.250","Author, Author","Avery Elizabeth Hurt, Susan K. Mitchell","4.9","1",null,null,"O",null,"Grade 3 - 4","Grade 3 - 6","Animals have evolved a wide range of defenses to keep them safe from other animals that want to eat them. This volume explores the many defenses animals employ to protect themselves, including porcupine quills, insect stingers, and the flying hooves of zebras. Through full-color photographs and fun facts that accompany the fascinating and informative text, readers will learn how animals use their unique designs to survive another day. Sidebars provide more details on interesting points and a list of recent books and educational websites encourages students to do more in-depth research of their own.","English",27.93,20.95,"591.47--dc23","48 pp.","https://www.enslow.com/books/Prickly_Protection/421981",{"$f":"Table1[[#This Row],[QTY]]*Table1[[#This Row],['# of Books]]","v":0},{"$f":"Table1[[#This Row],[QTY]]*Table1[[#This Row],[School & Library Price]]","v":0}]
[null,null,null,"Animal Defense!","Prickly Protection: Stingers, Barbs, and Quills",1,"eBook","978-1-9785-0816-3",{"$f":"HYPERLINK(Table1[[#This Row],[Hyperlink]],\"Weblink\")","v":"Weblink"},"Enslow Publishing","2020","August 2019",null,"Author, Author","Avery Elizabeth Hurt, Susan K. Mitchell","4.9","1",null,null,"O",null,"Grade 3 - 4","Grade 3 - 6","Animals have evolved a wide range of defenses to keep them safe from other animals that want to eat them. This volume explores the many defenses animals employ to protect themselves, including porcupine quills, insect stingers, and the flying hooves of zebras. Through full-color photographs and fun facts that accompany the fascinating and informative text, readers will learn how animals use their unique designs to survive another day. Sidebars provide more details on interesting points and a list of recent books and educational websites encourages students to do more in-depth research of their own.","English",27.93,20.95,"591.47--dc23","48 pp.","https://www.enslow.com/books/Prickly_Protection/421981",{"$f":"Table1[[#This Row],[QTY]]*Table1[[#This Row],['# of Books]]","v":0},{"$f":"Table1[[#This Row],[QTY]]*Table1[[#This Row],[School & Library Price]]","v":0}]
[null,null,null,"Animal Defense!","Regeneration: Regrowing Heads, Tails, and Legs",1,"Library Bound Book","978-1-9785-0718-0",{"$f":"HYPERLINK(Table1[[#This Row],[Hyperlink]],\"Weblink\")","v":"Weblink"},"Enslow Publishing","2020","August 2019","7.250 X 9.250","Author, Author","Avery Elizabeth Hurt, Susan K. Mitchell","5.1","1",null,null,"P",null,"Grade 3 - 4","Grade 3 - 6","Animals have many different ways to protect themselves from their enemies. Only a few have the amazing ability to regrow body parts that have been bitten or pulled off by predators. It's called regeneration, and even scientists aren't exactly sure how it works. With this fascinating volume, readers will learn what animals possess this super power, how they use it, and what the limits are to this nifty survival trick. Discussions of scientific research are presented in interesting and accessible language. Detailed photographs, fact boxes, and in-depth sidebars enhance the narrative.","English",27.93,20.95,"571.8/89--dc23","48 pp.","https://www.enslow.com/books/Regeneration/421982",{"$f":"Table1[[#This Row],[QTY]]*Table1[[#This Row],['# of Books]]","v":0},{"$f":"Table1[[#This Row],[QTY]]*Table1[[#This Row],[School & Library Price]]","v":0}]
[null,null,null,"Animal Defense!","Regeneration: Regrowing Heads, Tails, and Legs",1,"eBook","978-1-9785-0818-7",{"$f":"HYPERLINK(Table1[[#This Row],[Hyperlink]],\"Weblink\")","v":"Weblink"},"Enslow Publishing","2020","August 2019",null,"Author, Author","Avery Elizabeth Hurt, Susan K. Mitchell","5.1","1",null,null,"P",null,"Grade 3 - 4","Grade 3 - 6","Animals have many different ways to protect themselves from their enemies. Only a few have the amazing ability to regrow body parts that have been bitten or pulled off by predators. It's called regeneration, and even scientists aren't exactly sure how it works. With this fascinating volume, readers will learn what animals possess this super power, how they use it, and what the limits are to this nifty survival trick. Discussions of scientific research are presented in interesting and accessible language. Detailed photographs, fact boxes, and in-depth sidebars enhance the narrative.","English",27.93,20.95,"571.8/89--dc23","48 pp.","https://www.enslow.com/books/Regeneration/421982",{"$f":"Table1[[#This Row],[QTY]]*Table1[[#This Row],['# of Books]]","v":0},{"$f":"Table1[[#This Row],[QTY]]*Table1[[#This Row],[School & Library Price]]","v":0}]
[null,null,null,"Stars of Hip-Hop","Stars of Hip-Hop",8,"Library Set","978-1-9785-0972-6",{"$f":"HYPERLINK(Table1[[#This Row],[Hyperlink]],\"Weblink\")","v":"Weblink"},"Enslow Publishing","2020","August 2019","6.000 X 9.000",null,null,null,null,null,null,null,null,"Grade 2","Grade 3 - 6","Hip-hop artists have conquered more than just the music charts; they've become fashion icons, successful entrepreneurs, and pop culture phenomena. Eye-catching photographs, revealing quotations, and accessible text will pull students into the lives of their favorite stars from their humble beginnings through their rise to fame, discussing their personal and professional triumphs and hardships along the way. This high-low series is specifically tailored to meet the needs of lower-level readers by using straightforward language, including simple sentence structure and vocabulary, and providing a glossary to help students learn new words. Features include: Lower-level version of the Hip-Hop Revolution series so all students regardless of reading level can explore and discuss the same topics. Sidebars expand on related timely topics. Uses high-interest texts to promote leisure reading. Further Reading with current books and informative websites encourage further exploration. Timelines present important milestones in an easy-to-read format.","English",202.16,151.6,null,"32 pp.","https://www.enslow.com/series/Stars_of_Hip_Hop/479001",{"$f":"Table1[[#This Row],[QTY]]*Table1[[#This Row],['# of Books]]","v":0},{"$f":"Table1[[#This Row],[QTY]]*Table1[[#This Row],[School & Library Price]]","v":0}]
[null,null,null,"Stars of Hip-Hop","Cardi B: Rapper and Online Star",1,"Library Bound Book","978-1-9785-0955-9",{"$f":"HYPERLINK(Table1[[#This Row],[Hyperlink]],\"Weblink\")","v":"Weblink"},"Enslow Publishing","2020","August 2019","6.000 X 9.000","Author","Terri Kaye Duncan","3.8","0.5",null,null,"J",null,"Grade 2","Grade 3 - 6","Cardi B is a regular girl from the Bronx who has managed to do extraordinary things. In just a few short years, she paved a way to success and did it her way. Using social media and little more than a camera and an app as a launching pad, she rocketed to the top of the music charts. Eye-catching photographs, revealing quotations, and accessible text pull readers into Cardi B's past struggles, present successes, and future hopes and dreams. Sidebars expand on fascinating details, and a timeline presents important milestones in an easy-to-read format.","English",25.27,18.95,"782.421649092--dc23","32 pp.","https://www.enslow.com/books/Cardi_B/422039",{"$f":"Table1[[#This Row],[QTY]]*Table1[[#This Row],['# of Books]]","v":0},{"$f":"Table1[[#This Row],[QTY]]*Table1[[#This Row],[School & Library Price]]","v":0}]
[null,null,null,"Stars of Hip-Hop","Cardi B: Rapper and Online Star",1,"eBook","978-1-9785-0999-3",{"$f":"HYPERLINK(Table1[[#This Row],[Hyperlink]],\"Weblink\")","v":"Weblink"},"Enslow Publishing","2020","August 2019",null,"Author","Terri Kaye Duncan","3.8","0.5",null,null,"J",null,"Grade 2","Grade 3 - 6","Cardi B is a regular girl from the Bronx who has managed to do extraordinary things. In just a few short years, she paved a way to success and did it her way. Using social media and little more than a camera and an app as a launching pad, she rocketed to the top of the music charts. Eye-catching photographs, revealing quotations, and accessible text pull readers into Cardi B's past struggles, present successes, and future hopes and dreams. Sidebars expand on fascinating details, and a timeline presents important milestones in an easy-to-read format.","English",25.27,18.95,"782.421649092--dc23","32 pp.","https://www.enslow.com/books/Cardi_B/422039",{"$f":"Table1[[#This Row],[QTY]]*Table1[[#This Row],['# of Books]]","v":0},{"$f":"Table1[[#This Row],[QTY]]*Table1[[#This Row],[School & Library Price]]","v":0}]
[null,null,null,"Stars of Hip-Hop","Chance the Rapper: Musician and Activist",1,"Library Bound Book","978-1-9785-0956-6",{"$f":"HYPERLINK(Table1[[#This Row],[Hyperlink]],\"Weblink\")","v":"Weblink"},"Enslow Publishing","2020","August 2019","6.000 X 9.000","Author, Author","Tom Head, Deirdre Head","3.9","0.5",null,null,"K",null,"Grade 2","Grade 3 - 6","Chancelor Johnathan Bennett, better known as Chance the Rapper, grew up in West Chatham, a middle-class neighborhood in Chicago's South Side. His parents raised him to believe in himself and encouraged him to work hard. Now he is a popular and successful musician who challenged the music industry by foregoing the traditional record deal and releasing his own mixtapes through the internet for free. Simple text and vivid photographs will pull readers into Chance's rise to fame in the music world and budding acting career. Through sidebars and direct quotations, students will get to know the more personal side of the humble and devoted family man and education activist.","English",25.27,18.95,"782.421649092--dc23","32 pp.","https://www.enslow.com/books/Chance_the_Rapper/422040",{"$f":"Table1[[#This Row],[QTY]]*Table1[[#This Row],['# of Books]]","v":0},{"$f":"Table1[[#This Row],[QTY]]*Table1[[#This Row],[School & Library Price]]","v":0}]
[null,null,null,"Stars of Hip-Hop","Chance the Rapper: Musician and Activist",1,"eBook","978-1-9785-1005-0",{"$f":"HYPERLINK(Table1[[#This Row],[Hyperlink]],\"Weblink\")","v":"Weblink"},"Enslow Publishing","2020","August 2019",null,"Author, Author","Tom Head, Deirdre Head","3.9","0.5",null,null,"K",null,"Grade 2","Grade 3 - 6","Chancelor Johnathan Bennett, better known as Chance the Rapper, grew up in West Chatham, a middle-class neighborhood in Chicago's South Side. His parents raised him to believe in himself and encouraged him to work hard. Now he is a popular and successful musician who challenged the music industry by foregoing the traditional record deal and releasing his own mixtapes through the internet for free. Simple text and vivid photographs will pull readers into Chance's rise to fame in the music world and budding acting career. Through sidebars and direct quotations, students will get to know the more personal side of the humble and devoted family man and education activist.","English",25.27,18.95,"782.421649092--dc23","32 pp.","https://www.enslow.com/books/Chance_the_Rapper/422040",{"$f":"Table1[[#This Row],[QTY]]*Table1[[#This Row],['# of Books]]","v":0},{"$f":"Table1[[#This Row],[QTY]]*Table1[[#This Row],[School & Library Price]]","v":0}]
[null,null,null,"Stars of Hip-Hop","Drake: Rapper and Actor",1,"Library Bound Book","978-1-9785-0957-3",{"$f":"HYPERLINK(Table1[[#This Row],[Hyperlink]],\"Weblink\")","v":"Weblink"},"Enslow Publishing","2020","August 2019","6.000 X 9.000","Author","Barbara Gottfried","3.9","0.5",null,null,"J",null,"Grade 2","Grade 3 - 6","Aubrey Drake Graham, better known as Drake, was famous for playing Jimmy Brooks on the television show Degrassi: The Next Generation before becoming a big rap star. His songs and albums have won many honors, including Grammy Awards and topping the Billboard Hot 100 lists. Growing up with a single mother who struggled to pay the bills, Drake is now worth millions of dollars and donates to charitable causes. Through simple text, revealing direct quotations, informative sidebars, and colorful photographs, readers will learn about the remarkable life of this biracial Jewish rapper.","English",25.27,18.95,"782.421649092--dc23","32 pp.","https://www.enslow.com/books/Drake/422041",{"$f":"Table1[[#This Row],[QTY]]*Table1[[#This Row],['# of Books]]","v":0},{"$f":"Table1[[#This Row],[QTY]]*Table1[[#This Row],[School & Library Price]]","v":0}]
[null,null,null,"Stars of Hip-Hop","Drake: Rapper and Actor",1,"eBook","978-1-9785-1013-5",{"$f":"HYPERLINK(Table1[[#This Row],[Hyperlink]],\"Weblink\")","v":"Weblink"},"Enslow Publishing","2020","August 2019",null,"Author","Barbara Gottfried","3.9","0.5",null,null,"J",null,"Grade 2","Grade 3 - 6","Aubrey Drake Graham, better known as Drake, was famous for playing Jimmy Brooks on the television show Degrassi: The Next Generation before becoming a big rap star. His songs and albums have won many honors, including Grammy Awards and topping the Billboard Hot 100 lists. Growing up with a single mother who struggled to pay the bills, Drake is now worth millions of dollars and donates to charitable causes. Through simple text, revealing direct quotations, informative sidebars, and colorful photographs, readers will learn about the remarkable life of this biracial Jewish rapper.","English",25.27,18.95,"782.421649092--dc23","32 pp.","https://www.enslow.com/books/Drake/422041",{"$f":"Table1[[#This Row],[QTY]]*Table1[[#This Row],['# of Books]]","v":0},{"$f":"Table1[[#This Row],[QTY]]*Table1[[#This Row],[School & Library Price]]","v":0}]
[null,null,null,"Stars of Hip-Hop","Jay-Z: Hitmaker and Business Leader",1,"Library Bound Book","978-1-9785-0958-0",{"$f":"HYPERLINK(Table1[[#This Row],[Hyperlink]],\"Weblink\")","v":"Weblink"},"Enslow Publishing","2020","August 2019","6.000 X 9.000","Author","Eileen Lucas","3.8","0.5",null,null,"J",null,"Grade 2","Grade 3 - 6","Shawn Carter, better known by his hip-hop name Jay-Z, rose from the world of poverty and drugs in the Marcy Projects of Brooklyn to become one of the most successful rappers ever. His net worth is measured in the hundreds of millions of dollars, and his business ventures include clothing, clubs, and sports. With high-interest material delivered in simple language and structure, and enhanced by colorful photographs, direct quotations, and informative sidebars, readers will have access to the life story of this award-winning songwriter and businessman.","English",25.27,18.95,"782.421649092--dc23","32 pp.","https://www.enslow.com/books/Jay_Z/422042",{"$f":"Table1[[#This Row],[QTY]]*Table1[[#This Row],['# of Books]]","v":0},{"$f":"Table1[[#This Row],[QTY]]*Table1[[#This Row],[School & Library Price]]","v":0}]
[null,null,null,"Stars of Hip-Hop","Jay-Z: Hitmaker and Business Leader",1,"eBook","978-1-9785-1020-3",{"$f":"HYPERLINK(Table1[[#This Row],[Hyperlink]],\"Weblink\")","v":"Weblink"},"Enslow Publishing","2020","August 2019",null,"Author","Eileen Lucas","3.8","0.5",null,null,"J",null,"Grade 2","Grade 3 - 6","Shawn Carter, better known by his hip-hop name Jay-Z, rose from the world of poverty and drugs in the Marcy Projects of Brooklyn to become one of the most successful rappers ever. His net worth is measured in the hundreds of millions of dollars, and his business ventures include clothing, clubs, and sports. With high-interest material delivered in simple language and structure, and enhanced by colorful photographs, direct quotations, and informative sidebars, readers will have access to the life story of this award-winning songwriter and businessman.","English",25.27,18.95,"782.421649092--dc23","32 pp.","https://www.enslow.com/books/Jay_Z/422042",{"$f":"Table1[[#This Row],[QTY]]*Table1[[#This Row],['# of Books]]","v":0},{"$f":"Table1[[#This Row],[QTY]]*Table1[[#This Row],[School & Library Price]]","v":0}]
[null,null,null,"Stars of Hip-Hop","Kanye West: Rap Superstar and Fashion Designer",1,"Library Bound Book","978-1-9785-0962-7",{"$f":"HYPERLINK(Table1[[#This Row],[Hyperlink]],\"Weblink\")","v":"Weblink"},"Enslow Publishing","2020","August 2019","6.000 X 9.000","Author, Author","Tom Head, Deirdre Head",null,null,null,null,"J",null,"Grade 2","Grade 3 - 6","As a child, Kanye West always worked hard to be the best at whatever he tried to do. The people around him saw how talented he was, and soon the world would know as well. Through accessible text and full-color photographs, accompanied by interesting sidebars and insightful quotations, readers will learn how Kanye West used his ambition to become a top music producer and celebrated rap artist who has also helped other artists achieve their big breaks in the music business.","English",25.27,18.95,"782.421649092--dc23","32 pp.","https://www.enslow.com/books/Kanye_West/422046",{"$f":"Table1[[#This Row],[QTY]]*Table1[[#This Row],['# of Books]]","v":0},{"$f":"Table1[[#This Row],[QTY]]*Table1[[#This Row],[School & Library Price]]","v":0}]
[null,null,null,"Stars of Hip-Hop","Kanye West: Rap Superstar and Fashion Designer",1,"eBook","978-1-9785-1026-5",{"$f":"HYPERLINK(Table1[[#This Row],[Hyperlink]],\"Weblink\")","v":"Weblink"},"Enslow Publishing","2020","August 2019",null,"Author, Author","Tom Head, Deirdre Head",null,null,null,null,"J",null,"Grade 2","Grade 3 - 6","As a child, Kanye West always worked hard to be the best at whatever he tried to do. The people around him saw how talented he was, and soon the world would know as well. Through accessible text and full-color photographs, accompanied by interesting sidebars and insightful quotations, readers will learn how Kanye West used his ambition to become a top music producer and celebrated rap artist who has also helped other artists achieve their big breaks in the music business.","English",25.27,18.95,"782.421649092--dc23","32 pp.","https://www.enslow.com/books/Kanye_West/422046",{"$f":"Table1[[#This Row],[QTY]]*Table1[[#This Row],['# of Books]]","v":0},{"$f":"Table1[[#This Row],[QTY]]*Table1[[#This Row],[School & Library Price]]","v":0}]
[null,null,null,"Stars of Hip-Hop","Kendrick Lamar: Storyteller of Compton",1,"Library Bound Book","978-1-9785-0959-7",{"$f":"HYPERLINK(Table1[[#This Row],[Hyperlink]],\"Weblink\")","v":"Weblink"},"Enslow Publishing","2020","August 2019","6.000 X 9.000","Author","Therese M. Shea",null,null,null,null,"K",null,"Grade 2","Grade 3 - 6","Grammy and Pulitzer Prize winner Kendrick Lamar is a standout in the hip-hop world. Even as a teenage rapper, he used the joys and tragedies he experienced living in Compton, California, to craft thoughtful lyrics amid evocative rhythms. Young music lovers will appreciate learning about Lamar's rise in the hip-hop game, including his work with Dr. Dre, through accessible text, Lamar's own words, informative sidebars, and an instructive timeline. They'll especially love the colorful photographs of the artist in action.","English",25.27,18.95,"782.421649092--dc23","32 pp.","https://www.enslow.com/books/Kendrick_Lamar/422043",{"$f":"Table1[[#This Row],[QTY]]*Table1[[#This Row],['# of Books]]","v":0},{"$f":"Table1[[#This Row],[QTY]]*Table1[[#This Row],[School & Library Price]]","v":0}]
[null,null,null,"Stars of Hip-Hop","Kendrick Lamar: Storyteller of Compton",1,"eBook","978-1-9785-1032-6",{"$f":"HYPERLINK(Table1[[#This Row],[Hyperlink]],\"Weblink\")","v":"Weblink"},"Enslow Publishing","2020","August 2019",null,"Author","Therese M. Shea",null,null,null,null,"K",null,"Grade 2","Grade 3 - 6","Grammy and Pulitzer Prize winner Kendrick Lamar is a standout in the hip-hop world. Even as a teenage rapper, he used the joys and tragedies he experienced living in Compton, California, to craft thoughtful lyrics amid evocative rhythms. Young music lovers will appreciate learning about Lamar's rise in the hip-hop game, including his work with Dr. Dre, through accessible text, Lamar's own words, informative sidebars, and an instructive timeline. They'll especially love the colorful photographs of the artist in action.","English",25.27,18.95,"782.421649092--dc23","32 pp.","https://www.enslow.com/books/Kendrick_Lamar/422043",{"$f":"Table1[[#This Row],[QTY]]*Table1[[#This Row],['# of Books]]","v":0},{"$f":"Table1[[#This Row],[QTY]]*Table1[[#This Row],[School & Library Price]]","v":0}]
[null,null,null,"Stars of Hip-Hop","Lil Buck: Dancer and Activist",1,"Library Bound Book","978-1-9785-0960-3",{"$f":"HYPERLINK(Table1[[#This Row],[Hyperlink]],\"Weblink\")","v":"Weblink"},"Enslow Publishing","2020","August 2019","6.000 X 9.000","Author","Kate Mikoley","3.8","0.5",null,null,"K",null,"Grade 2","Grade 3 - 6","Hip-hop dancing has been around for decades, but Memphis-raised dancer Lil Buck is taking it to new heights. Having collaborated with many artists, including ballerinas and the famous cellist Yo-Yo Ma, Lil Buck has shown just how versatile the art of hip-hop can be. With this captivating biography, readers of all levels can learn about the life and artistry of Lil Buck. High-interest content is shared with the help of accessible text, concise sidebars, and detailed photographs. This unique volume is sure to hold readers' attention and foster an excitement for reading.","English",25.27,18.95,"792.8092--dc23","32 pp.","https://www.enslow.com/books/Lil_Buck/422044",{"$f":"Table1[[#This Row],[QTY]]*Table1[[#This Row],['# of Books]]","v":0},{"$f":"Table1[[#This Row],[QTY]]*Table1[[#This Row],[School & Library Price]]","v":0}]
[null,null,null,"Stars of Hip-Hop","Lil Buck: Dancer and Activist",1,"eBook","978-1-9785-1038-8",{"$f":"HYPERLINK(Table1[[#This Row],[Hyperlink]],\"Weblink\")","v":"Weblink"},"Enslow Publishing","2020","August 2019",null,"Author","Kate Mikoley","3.8","0.5",null,null,"K",null,"Grade 2","Grade 3 - 6","Hip-hop dancing has been around for decades, but Memphis-raised dancer Lil Buck is taking it to new heights. Having collaborated with many artists, including ballerinas and the famous cellist Yo-Yo Ma, Lil Buck has shown just how versatile the art of hip-hop can be. With this captivating biography, readers of all levels can learn about the life and artistry of Lil Buck. High-interest content is shared with the help of accessible text, concise sidebars, and detailed photographs. This unique volume is sure to hold readers' attention and foster an excitement for reading.","English",25.27,18.95,"792.8092--dc23","32 pp.","https://www.enslow.com/books/Lil_Buck/422044",{"$f":"Table1[[#This Row],[QTY]]*Table1[[#This Row],['# of Books]]","v":0},{"$f":"Table1[[#This Row],[QTY]]*Table1[[#This Row],[School & Library Price]]","v":0}]
[null,null,null,"Stars of Hip-Hop","Nicki Minaj: Musician and Fashion Superstar",1,"Library Bound Book","978-1-9785-0961-0",{"$f":"HYPERLINK(Table1[[#This Row],[Hyperlink]],\"Weblink\")","v":"Weblink"},"Enslow Publishing","2020","August 2019","6.000 X 9.000","Author","Lisa Idzikowski","3.2","0.5",null,null,"J",null,"Grade 2","Grade 3 - 6","Award-winning Nicki Minaj is one of today's best-selling musical artists. Born in the Caribbean, then moving to New York, she thrills fans and music lovers with her catchy hip-hop tunes and high-energy performances. Readers will root for Nicki as they read about her early struggles growing up in a new country in an unhappy home, her first try at rap at age eleven, and her determination to succeed in a genre dominated by men. Nicki's own words and advice sparkle in this high-interest book, enhanced with exciting facts, sidebars, and a timeline. Lively color photographs accent the life story of this modern musical talent.","English",25.27,18.95,"782.42164092--dc23","32 pp.","https://www.enslow.com/books/Nicki_Minaj/422045",{"$f":"Table1[[#This Row],[QTY]]*Table1[[#This Row],['# of Books]]","v":0},{"$f":"Table1[[#This Row],[QTY]]*Table1[[#This Row],[School & Library Price]]","v":0}]
[null,null,null,"Stars of Hip-Hop","Nicki Minaj: Musician and Fashion Superstar",1,"eBook","978-1-9785-1044-9",{"$f":"HYPERLINK(Table1[[#This Row],[Hyperlink]],\"Weblink\")","v":"Weblink"},"Enslow Publishing","2020","August 2019",null,"Author","Lisa Idzikowski","3.2","0.5",null,null,"J",null,"Grade 2","Grade 3 - 6","Award-winning Nicki Minaj is one of today's best-selling musical artists. Born in the Caribbean, then moving to New York, she thrills fans and music lovers with her catchy hip-hop tunes and high-energy performances. Readers will root for Nicki as they read about her early struggles growing up in a new country in an unhappy home, her first try at rap at age eleven, and her determination to succeed in a genre dominated by men. Nicki's own words and advice sparkle in this high-interest book, enhanced with exciting facts, sidebars, and a timeline. Lively color photographs accent the life story of this modern musical talent.","English",25.27,18.95,"782.42164092--dc23","32 pp.","https://www.enslow.com/books/Nicki_Minaj/422045",{"$f":"Table1[[#This Row],[QTY]]*Table1[[#This Row],['# of Books]]","v":0},{"$f":"Table1[[#This Row],[QTY]]*Table1[[#This Row],[School & Library Price]]","v":0}]
[null,null,null,"Introducing Famous Americans","Introducing Famous Americans",6,"Library Set","978-1-9785-1146-0",{"$f":"HYPERLINK(Table1[[#This Row],[Hyperlink]],\"Weblink\")","v":"Weblink"},"Enslow Publishing","2020","August 2019","7.125 X 8.500",null,null,null,null,null,null,null,null,"Grade 3 - 4","Grade 3 - 6","Introduce elementary school students to some of the most influential and interesting figures in American history. The subjects of these biographies are a varied bunch, bringing home the fact that those who have helped shape this country are a diverse crowd and that there are many different ways to contribute to a country and its culture. Each short, easy-to-read narrative is illustrated with a wealth of primary-source images. All volumes contain a timeline, glossary, index, primary source image list, and list of books and websites that readers can consult to learn more about the Americans who are profiled. Features include: Presents figures who are studied in many state social studies curriculums. Sidebars that offer extra tidbits of information. Timelines present important milestones in an easy-to-read format. Array of primary sources such as historical paintings, maps, objects, and photographs. Primary source lists identify and give more information about images.","English",151.62,113.7,null,"32 pp.","https://www.enslow.com/series/Introducing_Famous_Americans/481278",{"$f":"Table1[[#This Row],[QTY]]*Table1[[#This Row],['# of Books]]","v":0},{"$f":"Table1[[#This Row],[QTY]]*Table1[[#This Row],[School & Library Price]]","v":0}]
[null,null,null,"Introducing Famous Americans","Meet George Washington: America's First President",1,"Library Bound Book","978-1-9785-1124-8",{"$f":"HYPERLINK(Table1[[#This Row],[Hyperlink]],\"Weblink\")","v":"Weblink"},"Enslow Publishing","2020","August 2019","7.125 X 8.500","Author, Author","Jane Katirgis, Tracie Egan",null,null,null,null,"O",null,"Grade 3 - 4","Grade 3 - 6","George Washington was one of the most influential figures in American history. How did the first president of the United States become such a strong leader? This easy-to-read text clearly highlights Washington's life and accomplishments, from his time working as a land surveyor and planter to his service in the Virginia militia and the French and Indian War. Readers will be enthralled to learn about his rise to commander in chief of the American Army. Washington's leadership and time as president are just one example of how an American can contribute to a country and a culture. An array of primary sources, including historical paintings, maps, objects, and photographs is included.","English",25.27,18.95,"973.4/1092--dc23","32 pp.","https://www.enslow.com/books/Meet_George_Washington/422072",{"$f":"Table1[[#This Row],[QTY]]*Table1[[#This Row],['# of Books]]","v":0},{"$f":"Table1[[#This Row],[QTY]]*Table1[[#This Row],[School & Library Price]]","v":0}]
[null,null,null,"Introducing Famous Americans","Meet George Washington: America's First President",1,"eBook","978-1-9785-1125-5",{"$f":"HYPERLINK(Table1[[#This Row],[Hyperlink]],\"Weblink\")","v":"Weblink"},"Enslow Publishing","2020","August 2019",null,"Author, Author","Jane Katirgis, Tracie Egan",null,null,null,null,"O",null,"Grade 3 - 4","Grade 3 - 6","George Washington was one of the most influential figures in American history. How did the first president of the United States become such a strong leader? This easy-to-read text clearly highlights Washington's life and accomplishments, from his time working as a land surveyor and planter to his service in the Virginia militia and the French and Indian War. Readers will be enthralled to learn about his rise to commander in chief of the American Army. Washington's leadership and time as president are just one example of how an American can contribute to a country and a culture. An array of primary sources, including historical paintings, maps, objects, and photographs is included.","English",25.27,18.95,"973.4/1092--dc23","32 pp.","https://www.enslow.com/books/Meet_George_Washington/422072",{"$f":"Table1[[#This Row],[QTY]]*Table1[[#This Row],['# of Books]]","v":0},{"$f":"Table1[[#This Row],[QTY]]*Table1[[#This Row],[School & Library Price]]","v":0}]
[null,null,null,"Introducing Famous Americans","Meet John Sutter: California Gold Rush Pioneer",1,"Library Bound Book","978-1-9785-1144-6",{"$f":"HYPERLINK(Table1[[#This Row],[Hyperlink]],\"Weblink\")","v":"Weblink"},"Enslow Publishing","2020","August 2019","7.125 X 8.500","Author, Author","Jane Katirgis, Chris Hayhurst",null,null,null,null,"Q",null,"Grade 3 - 4","Grade 3 - 6","John Sutter's entrance into American history began because of a rocky situation. He fled Switzerland in search of riches, leaving behind his wife and young children, because he owed people a great deal of money. After bartering his way from New York to the West Coast, Sutter started a settlement in California along the Sacramento River. The Gold Rush changed Sutter's life forever. Primary source documents and lively sidebars help tell this story of a man who made his mark on America.","English",25.27,18.95,"979.4/03092--dc23","32 pp.","https://www.enslow.com/books/Meet_John_Sutter/422077",{"$f":"Table1[[#This Row],[QTY]]*Table1[[#This Row],['# of Books]]","v":0},{"$f":"Table1[[#This Row],[QTY]]*Table1[[#This Row],[School & Library Price]]","v":0}]
[null,null,null,"Introducing Famous Americans","Meet John Sutter: California Gold Rush Pioneer",1,"eBook","978-1-9785-1145-3",{"$f":"HYPERLINK(Table1[[#This Row],[Hyperlink]],\"Weblink\")","v":"Weblink"},"Enslow Publishing","2020","August 2019",null,"Author, Author","Jane Katirgis, Chris Hayhurst",null,null,null,null,"Q",null,"Grade 3 - 4","Grade 3 - 6","John Sutter's entrance into American history began because of a rocky situation. He fled Switzerland in search of riches, leaving behind his wife and young children, because he owed people a great deal of money. After bartering his way from New York to the West Coast, Sutter started a settlement in California along the Sacramento River. The Gold Rush changed Sutter's life forever. Primary source documents and lively sidebars help tell this story of a man who made his mark on America.","English",25.27,18.95,"979.4/03092--dc23","32 pp.","https://www.enslow.com/books/Meet_John_Sutter/422077",{"$f":"Table1[[#This Row],[QTY]]*Table1[[#This Row],['# of Books]]","v":0},{"$f":"Table1[[#This Row],[QTY]]*Table1[[#This Row],[School & Library Price]]","v":0}]
[null,null,null,"Introducing Famous Americans","Meet Nat Love: Cowboy and Former Slave",1,"Library Bound Book","978-1-9785-1140-8",{"$f":"HYPERLINK(Table1[[#This Row],[Hyperlink]],\"Weblink\")","v":"Weblink"},"Enslow Publishing","2020","August 2019","7.125 X 8.500","Author, Author","Jane Katirgis, Sarah Penn",null,null,null,null,"Q",null,"Grade 3 - 4","Grade 3 - 6","When Nat Love was born into slavery in Tennessee, his family worked on a tobacco plantation. He longed to see the world and soon became a talented horse rider. At the age of fifteen, he left his family and headed to Dodge City, Kansas. As a young cowboy in America's Wild West, Love broke wild horses and won shooting contests. Young readers will delight in learning about the adventures of this African American cowboy. A timeline, sidebars, and primary sources add depth to this easy-to-read narrative.","English",25.27,18.95,"978/.02092--dc23","32 pp.","https://www.enslow.com/books/Meet_Nat_Love/422076",{"$f":"Table1[[#This Row],[QTY]]*Table1[[#This Row],['# of Books]]","v":0},{"$f":"Table1[[#This Row],[QTY]]*Table1[[#This Row],[School & Library Price]]","v":0}]
[null,null,null,"Introducing Famous Americans","Meet Nat Love: Cowboy and Former Slave",1,"eBook","978-1-9785-1141-5",{"$f":"HYPERLINK(Table1[[#This Row],[Hyperlink]],\"Weblink\")","v":"Weblink"},"Enslow Publishing","2020","August 2019",null,"Author, Author","Jane Katirgis, Sarah Penn",null,null,null,null,"Q",null,"Grade 3 - 4","Grade 3 - 6","When Nat Love was born into slavery in Tennessee, his family worked on a tobacco plantation. He longed to see the world and soon became a talented horse rider. At the age of fifteen, he left his family and headed to Dodge City, Kansas. As a young cowboy in America's Wild West, Love broke wild horses and won shooting contests. Young readers will delight in learning about the adventures of this African American cowboy. A timeline, sidebars, and primary sources add depth to this easy-to-read narrative.","English",25.27,18.95,"978/.02092--dc23","32 pp.","https://www.enslow.com/books/Meet_Nat_Love/422076",{"$f":"Table1[[#This Row],[QTY]]*Table1[[#This Row],['# of Books]]","v":0},{"$f":"Table1[[#This Row],[QTY]]*Table1[[#This Row],[School & Library Price]]","v":0}]
[null,null,null,"Introducing Famous Americans","Meet Paul Revere: Revolutionary Hero",1,"Library Bound Book","978-1-9785-1132-3",{"$f":"HYPERLINK(Table1[[#This Row],[Hyperlink]],\"Weblink\")","v":"Weblink"},"Enslow Publishing","2020","August 2019","7.125 X 8.500","Author, Author","Jane Katirgis, Rose McCarthy",null,null,null,null,"M",null,"Grade 3 - 4","Grade 3 - 6","Many people have heard of Paul Revere's famous ride, but this brave and talented patriot was involved in many other aspects of colonial American life. The father of eleven children, Revere worked as a dentist and was a highly talented silversmith. The navy even used copper from his mill for the bottoms of their ships. After helping to start the Sons of Liberty, Revere and the group staged the Boston Tea Party. Revere's midnight ride is a pivotal point in American history. Primary sources, sidebars, and a timeline support this easily readable narrative.","English",25.27,18.95,"973.3/311092--dc23","32 pp.","https://www.enslow.com/books/Meet_Paul_Revere/422074",{"$f":"Table1[[#This Row],[QTY]]*Table1[[#This Row],['# of Books]]","v":0},{"$f":"Table1[[#This Row],[QTY]]*Table1[[#This Row],[School & Library Price]]","v":0}]
[null,null,null,"Introducing Famous Americans","Meet Paul Revere: Revolutionary Hero",1,"eBook","978-1-9785-1133-0",{"$f":"HYPERLINK(Table1[[#This Row],[Hyperlink]],\"Weblink\")","v":"Weblink"},"Enslow Publishing","2020","August 2019",null,"Author, Author","Jane Katirgis, Rose McCarthy",null,null,null,null,"M",null,"Grade 3 - 4","Grade 3 - 6","Many people have heard of Paul Revere's famous ride, but this brave and talented patriot was involved in many other aspects of colonial American life. The father of eleven children, Revere worked as a dentist and was a highly talented silversmith. The navy even used copper from his mill for the bottoms of their ships. After helping to start the Sons of Liberty, Revere and the group staged the Boston Tea Party. Revere's midnight ride is a pivotal point in American history. Primary sources, sidebars, and a timeline support this easily readable narrative.","English",25.27,18.95,"973.3/311092--dc23","32 pp.","https://www.enslow.com/books/Meet_Paul_Revere/422074",{"$f":"Table1[[#This Row],[QTY]]*Table1[[#This Row],['# of Books]]","v":0},{"$f":"Table1[[#This Row],[QTY]]*Table1[[#This Row],[School & Library Price]]","v":0}]
[null,null,null,"Introducing Famous Americans","Meet Phillis Wheatley: Poet and Former Slave",1,"Library Bound Book","978-1-9785-1128-6",{"$f":"HYPERLINK(Table1[[#This Row],[Hyperlink]],\"Weblink\")","v":"Weblink"},"Enslow Publishing","2020","August 2019","7.125 X 8.500","Author, Author","Jane Katirgis, J. T. Moriarty",null,null,null,null,"R",null,"Grade 3 - 4","Grade 3 - 6","Arriving in Boston aboard a slave ship in 1761, Phillis Wheatley began what would eventually be a storied life in American. Primary sources and a thrilling narrative present the story of America's first African American female poet. Easy-to-read text highlights how Wheatley learned to speak English and to read and write. She even learned to read Latin. Soon she was writing poetry, but no one in Boston would publish her book because she was a slave. She had to look to London and found a company who published her book and put her photograph on the cover. Although Wheatley died young at age of thirty-one, her words live on and will inspire your readers.","English",25.27,18.95,"811/.1--dc23","32 pp.","https://www.enslow.com/books/Meet_Phillis_Wheatley/422073",{"$f":"Table1[[#This Row],[QTY]]*Table1[[#This Row],['# of Books]]","v":0},{"$f":"Table1[[#This Row],[QTY]]*Table1[[#This Row],[School & Library Price]]","v":0}]
[null,null,null,"Introducing Famous Americans","Meet Phillis Wheatley: Poet and Former Slave",1,"eBook","978-1-9785-1129-3",{"$f":"HYPERLINK(Table1[[#This Row],[Hyperlink]],\"Weblink\")","v":"Weblink"},"Enslow Publishing","2020","August 2019",null,"Author, Author","Jane Katirgis, J. T. Moriarty",null,null,null,null,"R",null,"Grade 3 - 4","Grade 3 - 6","Arriving in Boston aboard a slave ship in 1761, Phillis Wheatley began what would eventually be a storied life in American. Primary sources and a thrilling narrative present the story of America's first African American female poet. Easy-to-read text highlights how Wheatley learned to speak English and to read and write. She even learned to read Latin. Soon she was writing poetry, but no one in Boston would publish her book because she was a slave. She had to look to London and found a company who published her book and put her photograph on the cover. Although Wheatley died young at age of thirty-one, her words live on and will inspire your readers.","English",25.27,18.95,"811/.1--dc23","32 pp.","https://www.enslow.com/books/Meet_Phillis_Wheatley/422073",{"$f":"Table1[[#This Row],[QTY]]*Table1[[#This Row],['# of Books]]","v":0},{"$f":"Table1[[#This Row],[QTY]]*Table1[[#This Row],[School & Library Price]]","v":0}]
[null,null,null,"Introducing Famous Americans","Meet Sitting Bull: Lakota Chief",1,"Library Bound Book","978-1-9785-1136-1",{"$f":"HYPERLINK(Table1[[#This Row],[Hyperlink]],\"Weblink\")","v":"Weblink"},"Enslow Publishing","2020","August 2019","7.125 X 8.500","Author, Author","Jane Katirgis, Chris Hayhurst",null,null,null,null,"O",null,"Grade 3 - 4","Grade 3 - 6","A man of renowned courage, Sitting Bull was a great leader. What path led him to be such a brave chief? Readers will be spellbound by the biographical details shared in this riveting biography. As a young man, Sitting Bull was a natural leader and great hunter. He was named leader of the Lakota nation and a holy man. General Custer and his troops were no match for Sitting Bull and his tribe when Custer attacked. Until his untimely death at Standing Rock Reservation, Sitting Bull was an important and influential figure in American history. Primary source images and engaging sidebars round out this easy-to-read text.","English",25.27,18.95,"978.004/9752440092--dc23","32 pp.","https://www.enslow.com/books/Meet_Sitting_Bull/422075",{"$f":"Table1[[#This Row],[QTY]]*Table1[[#This Row],['# of Books]]","v":0},{"$f":"Table1[[#This Row],[QTY]]*Table1[[#This Row],[School & Library Price]]","v":0}]
[null,null,null,"Introducing Famous Americans","Meet Sitting Bull: Lakota Chief",1,"eBook","978-1-9785-1137-8",{"$f":"HYPERLINK(Table1[[#This Row],[Hyperlink]],\"Weblink\")","v":"Weblink"},"Enslow Publishing","2020","August 2019",null,"Author, Author","Jane Katirgis, Chris Hayhurst",null,null,null,null,"O",null,"Grade 3 - 4","Grade 3 - 6","A man of renowned courage, Sitting Bull was a great leader. What path led him to be such a brave chief? Readers will be spellbound by the biographical details shared in this riveting biography. As a young man, Sitting Bull was a natural leader and great hunter. He was named leader of the Lakota nation and a holy man. General Custer and his troops were no match for Sitting Bull and his tribe when Custer attacked. Until his untimely death at Standing Rock Reservation, Sitting Bull was an important and influential figure in American history. Primary source images and engaging sidebars round out this easy-to-read text.","English",25.27,18.95,"978.004/9752440092--dc23","32 pp.","https://www.enslow.com/books/Meet_Sitting_Bull/422075",{"$f":"Table1[[#This Row],[QTY]]*Table1[[#This Row],['# of Books]]","v":0},{"$f":"Table1[[#This Row],[QTY]]*Table1[[#This Row],[School & Library Price]]","v":0}]
[null,null,null,"Junior Biographies","Junior Biographies: Sets 1 – 6",43,"Library Set","978-1-9785-0752-4",{"$f":"HYPERLINK(Table1[[#This Row],[Hyperlink]],\"Weblink\")","v":"Weblink"},"Enslow Publishing","2020","August 2019","7.125 X 8.500",null,null,null,null,null,null,null,null,"Grade 3 - 4","Grade 3 - 5","Achieving true success takes hard work and determination. Learning how famous figures rose to the top of their field can inspire and motivate young people. These engaging biographies tell the life stories of some of today's biggest names, tracing their path from childhood and school days all the way to the highest levels of fame. Accessible text, full-color photographs, and fast facts combine to create a vivid portrait of each subject, while direct quotations provide a greater understanding of the person beyond the public image. Features include: Introduces young readers to men and women of achievement through high-interest topics. Excellent for beginning-level reports. Uses high-interest texts to promote leisure reading. Supports ELA and social studies curricula.","English",971.8,728.85,null,"24 pp.","https://www.enslow.com/series/Junior_Biographies/427980",{"$f":"Table1[[#This Row],[QTY]]*Table1[[#This Row],['# of Books]]","v":0},{"$f":"Table1[[#This Row],[QTY]]*Table1[[#This Row],[School & Library Price]]","v":0}]
[null,null,null,"Junior Biographies","Junior Biographies: Set 6",8,"Library Set","978-1-9785-0751-7",{"$f":"HYPERLINK(Table1[[#This Row],[Hyperlink]],\"Weblink\")","v":"Weblink"},"Enslow Publishing","2020","August 2019","7.125 X 8.500",null,null,null,null,null,null,null,null,"Grade 3 - 4","Grade 3 - 5","Role models and champions come in all forms. These brief yet comprehensive biographies of athletes, musicians, actors, and other public figures include full-color photographs and well-researched information on their lives and accomplishments. Direct quotations from the individuals help readers understand the inspiration and drive behind each distinguished person, encouraging readers to find and follow their own dreams. Features include: Introduces young readers to men and women of achievement through high-interest topics. Excellent for beginning-level reports. Uses high-interest texts to promote leisure reading. Supports ELA and social studies curricula.","English",180.8,135.6,null,"24 pp.","https://www.enslow.com/series/Junior_Biographies/427980",{"$f":"Table1[[#This Row],[QTY]]*Table1[[#This Row],['# of Books]]","v":0},{"$f":"Table1[[#This Row],[QTY]]*Table1[[#This Row],[School & Library Price]]","v":0}]
[null,null,null,"Junior Biographies","Camila Cabello: Cuban American Singer",1,"Library Bound Book","978-1-9785-0748-7",{"$f":"HYPERLINK(Table1[[#This Row],[Hyperlink]],\"Weblink\")","v":"Weblink"},"Enslow Publishing","2020","August 2019","7.125 X 8.500","Author","Rita Santos","4.3","0.5",null,null,"M",null,"Grade 3 - 4","Grade 3 - 5","As a young girl, Camila Cabello would cry if anyone asked her to sing. At age fifteen, she conquered her fear of singing by auditioning for The X-Factor in front of thousands of people. It took just three minutes of bravery to launch the young singer-songwriter into stardom. This revealing biography follows the young star from her early days in Cuba and Mexico, through her breakout success with the group Fifth Harmony, to her hugely successful solo career. Fast facts, full-color photographs, and direct quotes provide a fascinating look at one of today's hottest stars.","English",22.6,16.95,"782.42164092--dc23","24 pp.","https://www.enslow.com/books/Camila_Cabello/422010",{"$f":"Table1[[#This Row],[QTY]]*Table1[[#This Row],['# of Books]]","v":0},{"$f":"Table1[[#This Row],[QTY]]*Table1[[#This Row],[School & Library Price]]","v":0}]
[null,null,null,"Junior Biographies","Camila Cabello: Cuban American Singer",1,"eBook","978-1-9785-0882-8",{"$f":"HYPERLINK(Table1[[#This Row],[Hyperlink]],\"Weblink\")","v":"Weblink"},"Enslow Publishing","2020","August 2019",null,"Author","Rita Santos","4.3","0.5",null,null,"M",null,"Grade 3 - 4","Grade 3 - 5","As a young girl, Camila Cabello would cry if anyone asked her to sing. At age fifteen, she conquered her fear of singing by auditioning for The X-Factor in front of thousands of people. It took just three minutes of bravery to launch the young singer-songwriter into stardom. This revealing biography follows the young star from her early days in Cuba and Mexico, through her breakout success with the group Fifth Harmony, to her hugely successful solo career. Fast facts, full-color photographs, and direct quotes provide a fascinating look at one of today's hottest stars.","English",22.6,16.95,"782.42164092--dc23","24 pp.","https://www.enslow.com/books/Camila_Cabello/422010",{"$f":"Table1[[#This Row],[QTY]]*Table1[[#This Row],['# of Books]]","v":0},{"$f":"Table1[[#This Row],[QTY]]*Table1[[#This Row],[School & Library Price]]","v":0}]
[null,null,null,"Junior Biographies","Chadwick Boseman: Superstar of Black Panther",1,"Library Bound Book","978-1-9785-0750-0",{"$f":"HYPERLINK(Table1[[#This Row],[Hyperlink]],\"Weblink\")","v":"Weblink"},"Enslow Publishing","2020","August 2019","7.125 X 8.500","Author","Rita Santos","4.6","0.5",null,null,"Q",null,"Grade 3 - 4","Grade 3 - 5","As a child, Chadwick Boseman excelled at many things. From basketball to painting to writing, he did everything well. Which dream would he choose to follow? A chance acting class made the answer clear. This engaging biography traces Boseman's path from a multitalented youngster to a professional actor. With engaging text and fun facts, readers learn how hard work and dedication eventually landed him the lead role in the cinematic phenomenon Black Panther. Full-color photographs and well-researched information enhance this fascinating look at Boseman's life and accomplishments. Direct quotations from the star himself encourage readers to discover and follow their own dreams.","English",22.6,16.95,"791.4302/8092--dc23","24 pp.","https://www.enslow.com/books/Chadwick_Boseman/422012",{"$f":"Table1[[#This Row],[QTY]]*Table1[[#This Row],['# of Books]]","v":0},{"$f":"Table1[[#This Row],[QTY]]*Table1[[#This Row],[School & Library Price]]","v":0}]
[null,null,null,"Junior Biographies","Chadwick Boseman: Superstar of Black Panther",1,"eBook","978-1-9785-0879-8",{"$f":"HYPERLINK(Table1[[#This Row],[Hyperlink]],\"Weblink\")","v":"Weblink"},"Enslow Publishing","2020","August 2019",null,"Author","Rita Santos","4.6","0.5",null,null,"Q",null,"Grade 3 - 4","Grade 3 - 5","As a child, Chadwick Boseman excelled at many things. From basketball to painting to writing, he did everything well. Which dream would he choose to follow? A chance acting class made the answer clear. This engaging biography traces Boseman's path from a multitalented youngster to a professional actor. With engaging text and fun facts, readers learn how hard work and dedication eventually landed him the lead role in the cinematic phenomenon Black Panther. Full-color photographs and well-researched information enhance this fascinating look at Boseman's life and accomplishments. Direct quotations from the star himself encourage readers to discover and follow their own dreams.","English",22.6,16.95,"791.4302/8092--dc23","24 pp.","https://www.enslow.com/books/Chadwick_Boseman/422012",{"$f":"Table1[[#This Row],[QTY]]*Table1[[#This Row],['# of Books]]","v":0},{"$f":"Table1[[#This Row],[QTY]]*Table1[[#This Row],[School & Library Price]]","v":0}]
[null,null,null,"Junior Biographies","Dwayne \"The Rock\" Johnson: Pro Wrestler and Actor",1,"eBook","978-1-9785-0888-0",{"$f":"HYPERLINK(Table1[[#This Row],[Hyperlink]],\"Weblink\")","v":"Weblink"},"Enslow Publishing","2020","August 2019",null,"Author","Rita Santos",null,null,null,null,"L",null,"Grade 3 - 4","Grade 3 - 5","At fourteen years old, Dwayne Johnson began training for the day when he would become the first third-generation wrestler in the World Wrestling Federation. But the wrestling ring wasn't enough for him. In this revealing biography, readers learn how Johnson used his strong work ethic to go beyond wrestling and find great success in Hollywood. Accompanied by full-color photographs and fun facts, the engaging text follows Johnson's life and achievements from the gym to the red carpet. Direct quotations from the Rock himself inspire readers to discover and follow their own dreams.","English",22.6,16.95,"796.812092--dc23","24 pp.","https://www.enslow.com/books/Dwayne_The_Rock_Johnson/422025",{"$f":"Table1[[#This Row],[QTY]]*Table1[[#This Row],['# of Books]]","v":0},{"$f":"Table1[[#This Row],[QTY]]*Table1[[#This Row],[School & Library Price]]","v":0}]
[null,null,null,"Junior Biographies","Dwayne \"The Rock\" Johnson: Pro Wrestler and Actor",1,"Library Bound Book","978-1-9785-0767-8",{"$f":"HYPERLINK(Table1[[#This Row],[Hyperlink]],\"Weblink\")","v":"Weblink"},"Enslow Publishing","2020","August 2019","7.125 X 8.500","Author","Rita Santos",null,null,null,null,"L",null,"Grade 3 - 4","Grade 3 - 5","At fourteen years old, Dwayne Johnson began training for the day when he would become the first third-generation wrestler in the World Wrestling Federation. But the wrestling ring wasn't enough for him. In this revealing biography, readers learn how Johnson used his strong work ethic to go beyond wrestling and find great success in Hollywood. Accompanied by full-color photographs and fun facts, the engaging text follows Johnson's life and achievements from the gym to the red carpet. Direct quotations from the Rock himself inspire readers to discover and follow their own dreams.","English",22.6,16.95,"796.812092--dc23","24 pp.","https://www.enslow.com/books/Dwayne_The_Rock_Johnson/422025",{"$f":"Table1[[#This Row],[QTY]]*Table1[[#This Row],['# of Books]]","v":0},{"$f":"Table1[[#This Row],[QTY]]*Table1[[#This Row],[School & Library Price]]","v":0}]
[null,null,null,"Junior Biographies","Elon Musk: Entrepreneur",1,"Library Bound Book","978-1-9785-0791-3",{"$f":"HYPERLINK(Table1[[#This Row],[Hyperlink]],\"Weblink\")","v":"Weblink"},"Enslow Publishing","2020","August 2019","7.125 X 8.500","Author","Kathy Furgang","4.5","0.5",null,null,"N",null,"Grade 3 - 4","Grade 3 - 5","At age ten, Elon Musk taught himself to write computer code. Two years later, he used that code to write and sell a video game to a magazine. What does a young entrepreneur like that do when he grows up? Musk went on to be one of the wealthiest investors and business people in the world. This engaging book describes Musk's childhood growing up in South Africa and his moves to Canada and the United States as a young adult. Full-color photographs and direct quotes from Musk himself accompany this intriguing look at the founder of Tesla and SpaceX.","English",22.6,16.95,"338.092--dc23","24 pp.","https://www.enslow.com/books/Elon_Musk/422037",{"$f":"Table1[[#This Row],[QTY]]*Table1[[#This Row],['# of Books]]","v":0},{"$f":"Table1[[#This Row],[QTY]]*Table1[[#This Row],[School & Library Price]]","v":0}]
[null,null,null,"Junior Biographies","Elon Musk: Entrepreneur",1,"eBook","978-1-9785-0894-1",{"$f":"HYPERLINK(Table1[[#This Row],[Hyperlink]],\"Weblink\")","v":"Weblink"},"Enslow Publishing","2020","August 2019",null,"Author","Kathy Furgang","4.5","0.5",null,null,"N",null,"Grade 3 - 4","Grade 3 - 5","At age ten, Elon Musk taught himself to write computer code. Two years later, he used that code to write and sell a video game to a magazine. What does a young entrepreneur like that do when he grows up? Musk went on to be one of the wealthiest investors and business people in the world. This engaging book describes Musk's childhood growing up in South Africa and his moves to Canada and the United States as a young adult. Full-color photographs and direct quotes from Musk himself accompany this intriguing look at the founder of Tesla and SpaceX.","English",22.6,16.95,"338.092--dc23","24 pp.","https://www.enslow.com/books/Elon_Musk/422037",{"$f":"Table1[[#This Row],[QTY]]*Table1[[#This Row],['# of Books]]","v":0},{"$f":"Table1[[#This Row],[QTY]]*Table1[[#This Row],[School & Library Price]]","v":0}]
[null,null,null,"Junior Biographies","LeBron James: Basketball Superstar",1,"Library Bound Book","978-1-9785-0749-4",{"$f":"HYPERLINK(Table1[[#This Row],[Hyperlink]],\"Weblink\")","v":"Weblink"},"Enslow Publishing","2020","August 2019","7.125 X 8.500","Author","Rita Santos","4.3","0.5",null,null,"O",null,"Grade 3 - 4","Grade 3 - 5","LeBron James is unquestionably one of the biggest names in basketball history, but it's his actions off the court that make him a true superstar. In this captivating biography, readers learn how James uses his position as a respected athlete to encourage and uplift others. The inspiring text describes how young LeBron overcame a difficult childhood, achieved unimaginable success, and gave back to his community by starting a school to help kids like him. Colorful photographs, fun facts, and direct quotations accompany this revealing look at his life and accomplishments on and off the court.","English",22.6,16.95,"796.323092--dc23","24 pp.","https://www.enslow.com/books/LeBron_James/422011",{"$f":"Table1[[#This Row],[QTY]]*Table1[[#This Row],['# of Books]]","v":0},{"$f":"Table1[[#This Row],[QTY]]*Table1[[#This Row],[School & Library Price]]","v":0}]
[null,null,null,"Junior Biographies","LeBron James: Basketball Superstar",1,"eBook","978-1-9785-0897-2",{"$f":"HYPERLINK(Table1[[#This Row],[Hyperlink]],\"Weblink\")","v":"Weblink"},"Enslow Publishing","2020","August 2019",null,"Author","Rita Santos","4.3","0.5",null,null,"O",null,"Grade 3 - 4","Grade 3 - 5","LeBron James is unquestionably one of the biggest names in basketball history, but it's his actions off the court that make him a true superstar. In this captivating biography, readers learn how James uses his position as a respected athlete to encourage and uplift others. The inspiring text describes how young LeBron overcame a difficult childhood, achieved unimaginable success, and gave back to his community by starting a school to help kids like him. Colorful photographs, fun facts, and direct quotations accompany this revealing look at his life and accomplishments on and off the court.","English",22.6,16.95,"796.323092--dc23","24 pp.","https://www.enslow.com/books/LeBron_James/422011",{"$f":"Table1[[#This Row],[QTY]]*Table1[[#This Row],['# of Books]]","v":0},{"$f":"Table1[[#This Row],[QTY]]*Table1[[#This Row],[School & Library Price]]","v":0}]
[null,null,null,"Junior Biographies","Lupita Nyong'o: Oscar-Winning Actress",1,"Library Bound Book","978-1-9785-0792-0",{"$f":"HYPERLINK(Table1[[#This Row],[Hyperlink]],\"Weblink\")","v":"Weblink"},"Enslow Publishing","2020","August 2019","7.125 X 8.500","Author","Therese M. Shea","5","0.5",null,null,"M",null,"Grade 3 - 4","Grade 3 - 5","Lupita Nyong'o, born in Mexico and raised in Kenya, became a bonafide star with the 2013 movie 12 Years a Slave, for which she won the Oscar for Best Supporting Actress. Since then, she has shown depth and range in a variety of other movies, including Star Wars: The Force Awakens and Black Panther. Beyond film, Nyong'o is greatly admired as an advocate for women's rights as well as animal conservation. This gifted actor's path to stardom is told through engaging and accessible text, fascinating fact boxes, and inspiring quotes from Nyong'o herself.","English",22.6,16.95,"791.4302/8092--dc23","24 pp.","https://www.enslow.com/books/Lupita_Nyongo/422038",{"$f":"Table1[[#This Row],[QTY]]*Table1[[#This Row],['# of Books]]","v":0},{"$f":"Table1[[#This Row],[QTY]]*Table1[[#This Row],[School & Library Price]]","v":0}]
[null,null,null,"Junior Biographies","Lupita Nyong'o: Oscar-Winning Actress",1,"eBook","978-1-9785-0891-0",{"$f":"HYPERLINK(Table1[[#This Row],[Hyperlink]],\"Weblink\")","v":"Weblink"},"Enslow Publishing","2020","August 2019",null,"Author","Therese M. Shea","5","0.5",null,null,"M",null,"Grade 3 - 4","Grade 3 - 5","Lupita Nyong'o, born in Mexico and raised in Kenya, became a bonafide star with the 2013 movie 12 Years a Slave, for which she won the Oscar for Best Supporting Actress. Since then, she has shown depth and range in a variety of other movies, including Star Wars: The Force Awakens and Black Panther. Beyond film, Nyong'o is greatly admired as an advocate for women's rights as well as animal conservation. This gifted actor's path to stardom is told through engaging and accessible text, fascinating fact boxes, and inspiring quotes from Nyong'o herself.","English",22.6,16.95,"791.4302/8092--dc23","24 pp.","https://www.enslow.com/books/Lupita_Nyongo/422038",{"$f":"Table1[[#This Row],[QTY]]*Table1[[#This Row],['# of Books]]","v":0},{"$f":"Table1[[#This Row],[QTY]]*Table1[[#This Row],[School & Library Price]]","v":0}]
[null,null,null,"Junior Biographies","Oprah Winfrey: Businesswoman and Actress",1,"Library Bound Book","978-1-9785-0747-0",{"$f":"HYPERLINK(Table1[[#This Row],[Hyperlink]],\"Weblink\")","v":"Weblink"},"Enslow Publishing","2020","August 2019","7.125 X 8.500","Author","Kathy Furgang",null,null,null,null,"L",null,"Grade 3 - 4","Grade 3 - 5","Most of the world recognizes this celebrity by just her first name: Oprah. Through the course of her thirty-plus-year career in the spotlight, she has gone from talk show underdog to America's first female African American billionaire. This inspiring and captivating biography looks at how Winfrey overcame a difficult youth to go on to become a successful businessperson, talk show host, actress, and philanthropist. This easy-to-read account utilizes directs quotes, color photographs, and fun facts as it illuminates how Winfrey earned her great cultural influence by uniting and educating people through book clubs, by encouraging activism, and by participating in charitable programs.","English",22.6,16.95,"791.4502/8092--dc23","24 pp.","https://www.enslow.com/books/Oprah_Winfrey/422009",{"$f":"Table1[[#This Row],[QTY]]*Table1[[#This Row],['# of Books]]","v":0},{"$f":"Table1[[#This Row],[QTY]]*Table1[[#This Row],[School & Library Price]]","v":0}]
[null,null,null,"Junior Biographies","Oprah Winfrey: Businesswoman and Actress",1,"eBook","978-1-9785-0900-9",{"$f":"HYPERLINK(Table1[[#This Row],[Hyperlink]],\"Weblink\")","v":"Weblink"},"Enslow Publishing","2020","August 2019",null,"Author","Kathy Furgang",null,null,null,null,"L",null,"Grade 3 - 4","Grade 3 - 5","Most of the world recognizes this celebrity by just her first name: Oprah. Through the course of her thirty-plus-year career in the spotlight, she has gone from talk show underdog to America's first female African American billionaire. This inspiring and captivating biography looks at how Winfrey overcame a difficult youth to go on to become a successful businessperson, talk show host, actress, and philanthropist. This easy-to-read account utilizes directs quotes, color photographs, and fun facts as it illuminates how Winfrey earned her great cultural influence by uniting and educating people through book clubs, by encouraging activism, and by participating in charitable programs.","English",22.6,16.95,"791.4502/8092--dc23","24 pp.","https://www.enslow.com/books/Oprah_Winfrey/422009",{"$f":"Table1[[#This Row],[QTY]]*Table1[[#This Row],['# of Books]]","v":0},{"$f":"Table1[[#This Row],[QTY]]*Table1[[#This Row],[School & Library Price]]","v":0}]
[null,null,null,"Junior Biographies","Ruth Bader Ginsburg: Supreme Court Justice",1,"Library Bound Book","978-1-9785-0790-6",{"$f":"HYPERLINK(Table1[[#This Row],[Hyperlink]],\"Weblink\")","v":"Weblink"},"Enslow Publishing","2020","August 2019","7.125 X 8.500","Author","Kathy Furgang","5.1","0.5",null,null,"Q",null,"Grade 3 - 4","Grade 3 - 5","What does it mean to be fair and honest and uphold the law even in the most difficult cases? Just ask Supreme Court justice Ruth Bader Ginsburg. This informative biography about Ginsburg's life tells how she became the second female appointed to the United States' highest court. Through accessible text, it explores her youth growing up in a low-income, working-class Brooklyn neighborhood and her difficult first years as a lawyer in a field dominated by men. Direct quotes, color photographs, and fun facts enhance this fascinating story of the woman who became one of the most respected names in the world of law.","English",22.6,16.95,"347.73/2634--dc23","24 pp.","https://www.enslow.com/books/Ruth_Bader_Ginsburg/422036",{"$f":"Table1[[#This Row],[QTY]]*Table1[[#This Row],['# of Books]]","v":0},{"$f":"Table1[[#This Row],[QTY]]*Table1[[#This Row],[School & Library Price]]","v":0}]
[null,null,null,"Junior Biographies","Ruth Bader Ginsburg: Supreme Court Justice",1,"eBook","978-1-9785-0885-9",{"$f":"HYPERLINK(Table1[[#This Row],[Hyperlink]],\"Weblink\")","v":"Weblink"},"Enslow Publishing","2020","August 2019",null,"Author","Kathy Furgang","5.1","0.5",null,null,"Q",null,"Grade 3 - 4","Grade 3 - 5","What does it mean to be fair and honest and uphold the law even in the most difficult cases? Just ask Supreme Court justice Ruth Bader Ginsburg. This informative biography about Ginsburg's life tells how she became the second female appointed to the United States' highest court. Through accessible text, it explores her youth growing up in a low-income, working-class Brooklyn neighborhood and her difficult first years as a lawyer in a field dominated by men. Direct quotes, color photographs, and fun facts enhance this fascinating story of the woman who became one of the most respected names in the world of law.","English",22.6,16.95,"347.73/2634--dc23","24 pp.","https://www.enslow.com/books/Ruth_Bader_Ginsburg/422036",{"$f":"Table1[[#This Row],[QTY]]*Table1[[#This Row],['# of Books]]","v":0},{"$f":"Table1[[#This Row],[QTY]]*Table1[[#This Row],[School & Library Price]]","v":0}]
[null,null,null,"Junior Biographies","Alexander Hamilton: Founding Father and Treasury Secretary",1,"Library Bound Book","978-0-7660-9047-7",{"$f":"HYPERLINK(Table1[[#This Row],[Hyperlink]],\"Weblink\")","v":"Weblink"},"Enslow Publishing","2018","January 2018","7.125 X 8.500","Author","Therese M. Shea","5.1","0.5",null,null,"P","840L","Grade 3 - 4","Grade 3 - 5","Though a renowned Founding Father, Alexander Hamilton's fame has recently received a boost from the hit musical Hamilton. He was chosen as the subject of that work because of his extraordinary biography. He was raised by a single mother in the Caribbean, volunteered to be a soldier in the American Revolution, rose to become the U.S. Secretary of the Treasury, and tragically killed in a duel with Aaron Burr. This accessible book presents Hamilton's life story to young readers through engaging text and includes surprising facts, relevant quotes from Hamilton himself, and striking historical images.","English",22.6,16.95,"973.4092--dc23","24 pp.","https://www.enslow.com/books/Alexander_Hamilton/421676",{"$f":"Table1[[#This Row],[QTY]]*Table1[[#This Row],['# of Books]]","v":0},{"$f":"Table1[[#This Row],[QTY]]*Table1[[#This Row],[School & Library Price]]","v":0}]
[null,null,null,"Junior Biographies","Alexander Hamilton: Founding Father and Treasury Secretary",1,"eBook","978-0-7660-9048-4",{"$f":"HYPERLINK(Table1[[#This Row],[Hyperlink]],\"Weblink\")","v":"Weblink"},"Enslow Publishing","2018","January 2018",null,"Author","Therese M. Shea","5.1","0.5",null,null,"P","840L","Grade 3 - 4","Grade 3 - 5","Though a renowned Founding Father, Alexander Hamilton's fame has recently received a boost from the hit musical Hamilton. He was chosen as the subject of that work because of his extraordinary biography. He was raised by a single mother in the Caribbean, volunteered to be a soldier in the American Revolution, rose to become the U.S. Secretary of the Treasury, and tragically killed in a duel with Aaron Burr. This accessible book presents Hamilton's life story to young readers through engaging text and includes surprising facts, relevant quotes from Hamilton himself, and striking historical images.","English",22.6,16.95,"973.4092--dc23","24 pp.","https://www.enslow.com/books/Alexander_Hamilton/421676",{"$f":"Table1[[#This Row],[QTY]]*Table1[[#This Row],['# of Books]]","v":0},{"$f":"Table1[[#This Row],[QTY]]*Table1[[#This Row],[School & Library Price]]","v":0}]
[null,null,null,"Junior Biographies","Alicia Keys: Singer-Songwriter",1,"Library Bound Book","978-1-9785-0205-5",{"$f":"HYPERLINK(Table1[[#This Row],[Hyperlink]],\"Weblink\")","v":"Weblink"},"Enslow Publishing","2019","January 2019","7.125 X 8.500","Author","Rita Santos","4.2","0.5",null,null,"Q",null,"Grade 3 - 4","Grade 3 - 5","Raised just a few blocks from Broadway, Alicia Keys began playing classical piano when she was seven years old. At twenty-two, she became famous for combining the music of her city and her classical training into a sound all her own. In this compelling biography, readers learn about the inspiring life and work of Keys, a fifteen-time Grammy Award-winning singer, songwriter, and producer. Keys is also an actress, author, and global activist in the fight against HIV/AIDS. Accessible text is accompanied by compelling full-color photographs, as well as direct quotes from Keys herself.","English",22.6,16.95,"782.42164092--dc23","24 pp.","https://www.enslow.com/books/Alicia_Keys/4707",{"$f":"Table1[[#This Row],[QTY]]*Table1[[#This Row],['# of Books]]","v":0},{"$f":"Table1[[#This Row],[QTY]]*Table1[[#This Row],[School & Library Price]]","v":0}]
[null,null,null,"Junior Biographies","Alicia Keys: Singer-Songwriter",1,"eBook","978-1-9785-0237-6",{"$f":"HYPERLINK(Table1[[#This Row],[Hyperlink]],\"Weblink\")","v":"Weblink"},"Enslow Publishing","2019","January 2019",null,"Author","Rita Santos","4.2","0.5",null,null,"Q",null,"Grade 3 - 4","Grade 3 - 5","Raised just a few blocks from Broadway, Alicia Keys began playing classical piano when she was seven years old. At twenty-two, she became famous for combining the music of her city and her classical training into a sound all her own. In this compelling biography, readers learn about the inspiring life and work of Keys, a fifteen-time Grammy Award-winning singer, songwriter, and producer. Keys is also an actress, author, and global activist in the fight against HIV/AIDS. Accessible text is accompanied by compelling full-color photographs, as well as direct quotes from Keys herself.","English",22.6,16.95,"782.42164092--dc23","24 pp.","https://www.enslow.com/books/Alicia_Keys/4707",{"$f":"Table1[[#This Row],[QTY]]*Table1[[#This Row],['# of Books]]","v":0},{"$f":"Table1[[#This Row],[QTY]]*Table1[[#This Row],[School & Library Price]]","v":0}]
[null,null,null,"Junior Biographies","Ariana Grande: Pop Star",1,"Library Bound Book","978-0-7660-9723-0",{"$f":"HYPERLINK(Table1[[#This Row],[Hyperlink]],\"Weblink\")","v":"Weblink"},"Enslow Publishing","2019","August 2018","7.125 X 8.500","Author","Rita Santos","4.9","0.5",null,null,"P","900L","Grade 3 - 4","Grade 3 - 5","Ariana Grande was just eight years old when she set her sights on the stage. More than just a talented singer, Ariana is an astute businesswoman who knew what she had to do to make her creative dreams come true. What really makes this pop star stand out is her dedication to philanthropy. After the tragedy in Manchester, she helped raise over 13 million dollars for the victims with her One Love Manchester Benefit concert. Young readers will learn more about the singer's life and careers through easy-to-follow text accompanied by engaging full-color photographs, as well as direct quotes from Grande herself.","English",22.6,16.95,"782.42166092--dc23","24 pp.","https://www.enslow.com/books/Ariana_Grande/421844",{"$f":"Table1[[#This Row],[QTY]]*Table1[[#This Row],['# of Books]]","v":0},{"$f":"Table1[[#This Row],[QTY]]*Table1[[#This Row],[School & Library Price]]","v":0}]
[null,null,null,"Junior Biographies","Ariana Grande: Pop Star",1,"eBook","978-0-7660-9726-1",{"$f":"HYPERLINK(Table1[[#This Row],[Hyperlink]],\"Weblink\")","v":"Weblink"},"Enslow Publishing","2019","August 2018",null,"Author","Rita Santos","4.9","0.5",null,null,"P","900L","Grade 3 - 4","Grade 3 - 5","Ariana Grande was just eight years old when she set her sights on the stage. More than just a talented singer, Ariana is an astute businesswoman who knew what she had to do to make her creative dreams come true. What really makes this pop star stand out is her dedication to philanthropy. After the tragedy in Manchester, she helped raise over 13 million dollars for the victims with her One Love Manchester Benefit concert. Young readers will learn more about the singer's life and careers through easy-to-follow text accompanied by engaging full-color photographs, as well as direct quotes from Grande herself.","English",22.6,16.95,"782.42166092--dc23","24 pp.","https://www.enslow.com/books/Ariana_Grande/421844",{"$f":"Table1[[#This Row],[QTY]]*Table1[[#This Row],['# of Books]]","v":0},{"$f":"Table1[[#This Row],[QTY]]*Table1[[#This Row],[School & Library Price]]","v":0}]
[null,null,null,"Junior Biographies","Cam Newton: MVP Quarterback",1,"Library Bound Book","978-0-7660-8664-7",{"$f":"HYPERLINK(Table1[[#This Row],[Hyperlink]],\"Weblink\")","v":"Weblink"},"Enslow Publishing","2018","August 2017","7.125 X 8.500","Author","Therese M. Shea",null,null,null,null,"N","920L","Grade 3 - 4","Grade 3 - 5","Heisman winner Cam Newton became a bonafide NFL star the moment he was selected first in the 2011 draft. But he has been attracting attention for his cannon-like arm since high school. Natural talent did not mean that his journey to the NFL was easy. This compelling biography takes readers through Newton’s journey from aspiring athlete to MVP quarterback. They will learn about what happens in the locker room as well as Newton’s interests off the gridiron. Accessible text is supported by dynamic on-the-field photographs as well as insightful quotes from the Carolina Panther himself.","English",22.6,16.95,"796.332092--dc23","24 pp.","https://www.enslow.com/books/Cam_Newton/412728",{"$f":"Table1[[#This Row],[QTY]]*Table1[[#This Row],['# of Books]]","v":0},{"$f":"Table1[[#This Row],[QTY]]*Table1[[#This Row],[School & Library Price]]","v":0}]
[null,null,null,"Junior Biographies","Cam Newton: MVP Quarterback",1,"eBook","978-0-7660-8665-4",{"$f":"HYPERLINK(Table1[[#This Row],[Hyperlink]],\"Weblink\")","v":"Weblink"},"Enslow Publishing","2018","August 2017",null,"Author","Therese M. Shea",null,null,null,null,"N","920L","Grade 3 - 4","Grade 3 - 5","Heisman winner Cam Newton became a bonafide NFL star the moment he was selected first in the 2011 draft. But he has been attracting attention for his cannon-like arm since high school. Natural talent did not mean that his journey to the NFL was easy. This compelling biography takes readers through Newton’s journey from aspiring athlete to MVP quarterback. They will learn about what happens in the locker room as well as Newton’s interests off the gridiron. Accessible text is supported by dynamic on-the-field photographs as well as insightful quotes from the Carolina Panther himself.","English",22.6,16.95,"796.332092--dc23","24 pp.","https://www.enslow.com/books/Cam_Newton/412728",{"$f":"Table1[[#This Row],[QTY]]*Table1[[#This Row],['# of Books]]","v":0},{"$f":"Table1[[#This Row],[QTY]]*Table1[[#This Row],[School & Library Price]]","v":0}]
[null,null,null,"Junior Biographies","Chance the Rapper: Hip-Hop Artist",1,"Library Bound Book","978-0-7660-9715-5",{"$f":"HYPERLINK(Table1[[#This Row],[Hyperlink]],\"Weblink\")","v":"Weblink"},"Enslow Publishing","2019","August 2018","7.125 X 8.500","Author","Heather Moore Niver","4.4","0.5",null,null,"O",null,"Grade 3 - 4","Grade 3 - 5","Chancellor Bennett's blazing rise to fame has made history, not only for its speed, but also in its unconventional path. Readers will learn about the childhood of the young man who would one day become Chance the Rapper. Frank but appropriate text tells the tale of a young rapper who got into trouble with drugs, but was able to turn his life around. Chance the Rapper went on to have a family and change history with his unique and memorable albums called mixtapes. Supplemented by color photographs and inspiring quotes, his story of music, family, and charity will remind readers to follow their hearts and make a positive difference in the world.","English",22.6,16.95,"782.421649092--dc23","24 pp.","https://www.enslow.com/books/Chance_the_Rapper/421842",{"$f":"Table1[[#This Row],[QTY]]*Table1[[#This Row],['# of Books]]","v":0},{"$f":"Table1[[#This Row],[QTY]]*Table1[[#This Row],[School & Library Price]]","v":0}]
[null,null,null,"Junior Biographies","Chance the Rapper: Hip-Hop Artist",1,"eBook","978-0-7660-9718-6",{"$f":"HYPERLINK(Table1[[#This Row],[Hyperlink]],\"Weblink\")","v":"Weblink"},"Enslow Publishing","2019","August 2018",null,"Author","Heather Moore Niver","4.4","0.5",null,null,"O",null,"Grade 3 - 4","Grade 3 - 5","Chancellor Bennett's blazing rise to fame has made history, not only for its speed, but also in its unconventional path. Readers will learn about the childhood of the young man who would one day become Chance the Rapper. Frank but appropriate text tells the tale of a young rapper who got into trouble with drugs, but was able to turn his life around. Chance the Rapper went on to have a family and change history with his unique and memorable albums called mixtapes. Supplemented by color photographs and inspiring quotes, his story of music, family, and charity will remind readers to follow their hearts and make a positive difference in the world.","English",22.6,16.95,"782.421649092--dc23","24 pp.","https://www.enslow.com/books/Chance_the_Rapper/421842",{"$f":"Table1[[#This Row],[QTY]]*Table1[[#This Row],['# of Books]]","v":0},{"$f":"Table1[[#This Row],[QTY]]*Table1[[#This Row],[School & Library Price]]","v":0}]
[null,null,null,"Junior Biographies","China Anne McClain: Actress, Singer, and Songwriter",1,"Library Bound Book","978-0-7660-8186-4",{"$f":"HYPERLINK(Table1[[#This Row],[Hyperlink]],\"Weblink\")","v":"Weblink"},"Enslow Publishing","2017","January 2017","7.125 X 8.500","Author","Kristen Rajczak Nelson","5.4","0.5",null,null,"N","960L","Grade 3 - 4","Grade 3 - 5","China Anne McClain started singing and acting from a young age. A talented musician, who with her sisters formed the pop group McClain, China has also appeared in major motion pictures as well popular television shows. In 2014, she won an Image Award for her work as a young African American actress. Through simple text and colorful photos, readers will be enthralled by McClain’s success story. A Words to Know section in the beginning of the text helps students learn new vocabulary, and direct quotations allow readers to relate to the young star on a deeper level.","English",22.6,16.95,"791.4302/8092--dc23","24 pp.","https://www.enslow.com/books/China_Anne_McClain/421619",{"$f":"Table1[[#This Row],[QTY]]*Table1[[#This Row],['# of Books]]","v":0},{"$f":"Table1[[#This Row],[QTY]]*Table1[[#This Row],[School & Library Price]]","v":0}]
[null,null,null,"Junior Biographies","China Anne McClain: Actress, Singer, and Songwriter",1,"eBook","978-0-7660-8187-1",{"$f":"HYPERLINK(Table1[[#This Row],[Hyperlink]],\"Weblink\")","v":"Weblink"},"Enslow Publishing","2017","January 2017",null,"Author","Kristen Rajczak Nelson","5.4","0.5",null,null,"N","960L","Grade 3 - 4","Grade 3 - 5","China Anne McClain started singing and acting from a young age. A talented musician, who with her sisters formed the pop group McClain, China has also appeared in major motion pictures as well popular television shows. In 2014, she won an Image Award for her work as a young African American actress. Through simple text and colorful photos, readers will be enthralled by McClain’s success story. A Words to Know section in the beginning of the text helps students learn new vocabulary, and direct quotations allow readers to relate to the young star on a deeper level.","English",22.6,16.95,"791.4302/8092--dc23","24 pp.","https://www.enslow.com/books/China_Anne_McClain/421619",{"$f":"Table1[[#This Row],[QTY]]*Table1[[#This Row],['# of Books]]","v":0},{"$f":"Table1[[#This Row],[QTY]]*Table1[[#This Row],[School & Library Price]]","v":0}]
[null,null,null,"Junior Biographies","Donald Trump: Businessman and President",1,"Library Bound Book","978-0-7660-8666-1",{"$f":"HYPERLINK(Table1[[#This Row],[Hyperlink]],\"Weblink\")","v":"Weblink"},"Enslow Publishing","2018","August 2017","7.125 X 8.500","Author","Rita Santos",null,null,null,null,"N","810L","Grade 3 - 4","Grade 3 - 5","From the business world to the television screen, Donald John Trump leaves a big impression wherever he goes. After making his family's New York real estate business a household name and hosting a successful TV series, he became the Republican candidate for president of the United States in 2016. Young readers will learn more about the businessman-turned-politician’s life and careers through easy-to-follow text accompanied by dynamic full-color photographs, as well as direct quotes from Trump himself.","English",22.6,16.95,"333.33092--dc23","24 pp.","https://www.enslow.com/books/Donald_Trump/412729",{"$f":"Table1[[#This Row],[QTY]]*Table1[[#This Row],['# of Books]]","v":0},{"$f":"Table1[[#This Row],[QTY]]*Table1[[#This Row],[School & Library Price]]","v":0}]
[null,null,null,"Junior Biographies","Donald Trump: Businessman and President",1,"eBook","978-0-7660-8667-8",{"$f":"HYPERLINK(Table1[[#This Row],[Hyperlink]],\"Weblink\")","v":"Weblink"},"Enslow Publishing","2018","August 2017",null,"Author","Rita Santos",null,null,null,null,"N","810L","Grade 3 - 4","Grade 3 - 5","From the business world to the television screen, Donald John Trump leaves a big impression wherever he goes. After making his family's New York real estate business a household name and hosting a successful TV series, he became the Republican candidate for president of the United States in 2016. Young readers will learn more about the businessman-turned-politician’s life and careers through easy-to-follow text accompanied by dynamic full-color photographs, as well as direct quotes from Trump himself.","English",22.6,16.95,"333.33092--dc23","24 pp.","https://www.enslow.com/books/Donald_Trump/412729",{"$f":"Table1[[#This Row],[QTY]]*Table1[[#This Row],['# of Books]]","v":0},{"$f":"Table1[[#This Row],[QTY]]*Table1[[#This Row],[School & Library Price]]","v":0}]
[null,null,null,"Junior Biographies","Drake: Actor and Rapper",1,"Library Bound Book","978-0-7660-8668-5",{"$f":"HYPERLINK(Table1[[#This Row],[Hyperlink]],\"Weblink\")","v":"Weblink"},"Enslow Publishing","2018","August 2017","7.125 X 8.500","Author","Hannah Isbell",null,null,null,null,"N","910L","Grade 3 - 4","Grade 3 - 5","Drake began his career as an actor, but his fame skyrocketed when he focused his talents on music. The multiple award-winning singer, songwriter, and rapper is one of the biggest names in hip-hop and rhythm and blues today. Young readers will learn about Drake's career and life through highly accessible text accompanied by a variety of nonfiction text features, including eye-catching, full-color photographs, fact boxes, and direct quotes from Drake himself.","English",22.6,16.95,"782.421649092--dc23","24 pp.","https://www.enslow.com/books/Drake/412730",{"$f":"Table1[[#This Row],[QTY]]*Table1[[#This Row],['# of Books]]","v":0},{"$f":"Table1[[#This Row],[QTY]]*Table1[[#This Row],[School & Library Price]]","v":0}]
[null,null,null,"Junior Biographies","Drake: Actor and Rapper",1,"eBook","978-0-7660-8669-2",{"$f":"HYPERLINK(Table1[[#This Row],[Hyperlink]],\"Weblink\")","v":"Weblink"},"Enslow Publishing","2018","August 2017",null,"Author","Hannah Isbell",null,null,null,null,"N","910L","Grade 3 - 4","Grade 3 - 5","Drake began his career as an actor, but his fame skyrocketed when he focused his talents on music. The multiple award-winning singer, songwriter, and rapper is one of the biggest names in hip-hop and rhythm and blues today. Young readers will learn about Drake's career and life through highly accessible text accompanied by a variety of nonfiction text features, including eye-catching, full-color photographs, fact boxes, and direct quotes from Drake himself.","English",22.6,16.95,"782.421649092--dc23","24 pp.","https://www.enslow.com/books/Drake/412730",{"$f":"Table1[[#This Row],[QTY]]*Table1[[#This Row],['# of Books]]","v":0},{"$f":"Table1[[#This Row],[QTY]]*Table1[[#This Row],[School & Library Price]]","v":0}]
[null,null,null,"Junior Biographies","Ed Sheeran: Singer-Songwriter",1,"Library Bound Book","978-0-7660-9727-8",{"$f":"HYPERLINK(Table1[[#This Row],[Hyperlink]],\"Weblink\")","v":"Weblink"},"Enslow Publishing","2019","August 2018","7.125 X 8.500","Author","Kristen Rajczak Nelson","4.9","0.5",null,null,"N",null,"Grade 3 - 4","Grade 3 - 5","Even though he's one of the biggest music stars in the world today, Ed Sheeran was once an awkward kid looking for his calling. Now, he's known for constantly working to make better albums, collaborate with more people, and sell out stadiums worldwide. His work ethic and prolific songwriting credits are just two reasons why his fans love him, and readers will enjoy reading more about him. Full-color photographs of Ed through the years, quotes, and a thorough timeline all complement the age-appropriate text.","English",22.6,16.95,"782.42164092--dc23","24 pp.","https://www.enslow.com/books/Ed_Sheeran/421845",{"$f":"Table1[[#This Row],[QTY]]*Table1[[#This Row],['# of Books]]","v":0},{"$f":"Table1[[#This Row],[QTY]]*Table1[[#This Row],[School & Library Price]]","v":0}]
[null,null,null,"Junior Biographies","Ed Sheeran: Singer-Songwriter",1,"eBook","978-0-7660-9730-8",{"$f":"HYPERLINK(Table1[[#This Row],[Hyperlink]],\"Weblink\")","v":"Weblink"},"Enslow Publishing","2019","August 2018",null,"Author","Kristen Rajczak Nelson","4.9","0.5",null,null,"N",null,"Grade 3 - 4","Grade 3 - 5","Even though he's one of the biggest music stars in the world today, Ed Sheeran was once an awkward kid looking for his calling. Now, he's known for constantly working to make better albums, collaborate with more people, and sell out stadiums worldwide. His work ethic and prolific songwriting credits are just two reasons why his fans love him, and readers will enjoy reading more about him. Full-color photographs of Ed through the years, quotes, and a thorough timeline all complement the age-appropriate text.","English",22.6,16.95,"782.42164092--dc23","24 pp.","https://www.enslow.com/books/Ed_Sheeran/421845",{"$f":"Table1[[#This Row],[QTY]]*Table1[[#This Row],['# of Books]]","v":0},{"$f":"Table1[[#This Row],[QTY]]*Table1[[#This Row],[School & Library Price]]","v":0}]
[null,null,null,"Junior Biographies","Emma Stone: Actress",1,"Library Bound Book","978-0-7660-9731-5",{"$f":"HYPERLINK(Table1[[#This Row],[Hyperlink]],\"Weblink\")","v":"Weblink"},"Enslow Publishing","2019","August 2018","7.125 X 8.500","Author","Therese M. Shea","5.2","0.5",null,null,"O","920L","Grade 3 - 4","Grade 3 - 5","Emma Stone is one of the most sought-after actresses today. After moving to Hollywood at the age of fifteen, she hit it big with comedies like Superbad and Easy A. Since then, she has branched out, starring on Broadway and earning an Oscar nomination for the musical film La La Land. Readers will learn fascinating facts about the star, including how she used acting to overcome panic attacks as well as her work on behalf of cancer-fighting charities. Quotes, fact boxes, and a timeline support the absorbing information in this high-interest volume.","English",22.6,16.95,"791.4302/8092--dc23","24 pp.","https://www.enslow.com/books/Emma_Stone/421846",{"$f":"Table1[[#This Row],[QTY]]*Table1[[#This Row],['# of Books]]","v":0},{"$f":"Table1[[#This Row],[QTY]]*Table1[[#This Row],[School & Library Price]]","v":0}]
[null,null,null,"Junior Biographies","Emma Stone: Actress",1,"eBook","978-0-7660-9734-6",{"$f":"HYPERLINK(Table1[[#This Row],[Hyperlink]],\"Weblink\")","v":"Weblink"},"Enslow Publishing","2019","August 2018",null,"Author","Therese M. Shea","5.2","0.5",null,null,"O","920L","Grade 3 - 4","Grade 3 - 5","Emma Stone is one of the most sought-after actresses today. After moving to Hollywood at the age of fifteen, she hit it big with comedies like Superbad and Easy A. Since then, she has branched out, starring on Broadway and earning an Oscar nomination for the musical film La La Land. Readers will learn fascinating facts about the star, including how she used acting to overcome panic attacks as well as her work on behalf of cancer-fighting charities. Quotes, fact boxes, and a timeline support the absorbing information in this high-interest volume.","English",22.6,16.95,"791.4302/8092--dc23","24 pp.","https://www.enslow.com/books/Emma_Stone/421846",{"$f":"Table1[[#This Row],[QTY]]*Table1[[#This Row],['# of Books]]","v":0},{"$f":"Table1[[#This Row],[QTY]]*Table1[[#This Row],[School & Library Price]]","v":0}]
[null,null,null,"Junior Biographies","Emma Watson: Actress and Activist",1,"Library Bound Book","978-0-7660-9735-3",{"$f":"HYPERLINK(Table1[[#This Row],[Hyperlink]],\"Weblink\")","v":"Weblink"},"Enslow Publishing","2019","August 2018","7.125 X 8.500","Author","Kathy Furgang",null,null,null,null,"Q","880L","Grade 3 - 4","Grade 3 - 5","You may know her from the Harry Potter movies as Harry's pal, Hermione Granger, but Emma Watson has come a long way since the hit films shot her to fame as a young child. In her post-Potter years, Emma has acted in serious films, graduated from an Ivy League university, and become a serious activist. This compelling book about Emma's life provides an inspiring look at how her career and education inspired her to speak out for women's rights around the world, eventually being named a United Nations Women Goodwill ambassador. The straightforward, engaging text is supplemented by full-color photographs, quotes from the actress, and fun facts.","English",22.6,16.95,"791.4302/8092--dc23","24 pp.","https://www.enslow.com/books/Emma_Watson/421847",{"$f":"Table1[[#This Row],[QTY]]*Table1[[#This Row],['# of Books]]","v":0},{"$f":"Table1[[#This Row],[QTY]]*Table1[[#This Row],[School & Library Price]]","v":0}]
[null,null,null,"Junior Biographies","Emma Watson: Actress and Activist",1,"eBook","978-0-7660-9738-4",{"$f":"HYPERLINK(Table1[[#This Row],[Hyperlink]],\"Weblink\")","v":"Weblink"},"Enslow Publishing","2019","August 2018",null,"Author","Kathy Furgang",null,null,null,null,"Q","880L","Grade 3 - 4","Grade 3 - 5","You may know her from the Harry Potter movies as Harry's pal, Hermione Granger, but Emma Watson has come a long way since the hit films shot her to fame as a young child. In her post-Potter years, Emma has acted in serious films, graduated from an Ivy League university, and become a serious activist. This compelling book about Emma's life provides an inspiring look at how her career and education inspired her to speak out for women's rights around the world, eventually being named a United Nations Women Goodwill ambassador. The straightforward, engaging text is supplemented by full-color photographs, quotes from the actress, and fun facts.","English",22.6,16.95,"791.4302/8092--dc23","24 pp.","https://www.enslow.com/books/Emma_Watson/421847",{"$f":"Table1[[#This Row],[QTY]]*Table1[[#This Row],['# of Books]]","v":0},{"$f":"Table1[[#This Row],[QTY]]*Table1[[#This Row],[School & Library Price]]","v":0}]
[null,null,null,"Junior Biographies","Hailee Steinfeld: Actress and Singer",1,"Library Bound Book","978-1-9785-0208-6",{"$f":"HYPERLINK(Table1[[#This Row],[Hyperlink]],\"Weblink\")","v":"Weblink"},"Enslow Publishing","2019","January 2019","7.125 X 8.500","Author","Rita Santos","4.3","0.5",null,null,"Q",null,"Grade 3 - 4","Grade 3 - 5","Hailee Steinfeld was just thirteen years old when she was cast as the tough as nails Mattie Ross in the movie True Grit. Her breakout performance was so impressive that she became one of the youngest actresses to be nominated for an Academy Award. Conquering Hollywood wasn't enough for this young artist, and in 2015 she released her first single \"Love Myself,\" which went platinum. Readers will learn how the young artist balances her acting and singing careers through easy-to-follow text accompanied by stunning full-color photographs, as well as direct quotes from Steinfeld herself.","English",22.6,16.95,"791.4302/8092--dc23","24 pp.","https://www.enslow.com/books/Hailee_Steinfeld/4710",{"$f":"Table1[[#This Row],[QTY]]*Table1[[#This Row],['# of Books]]","v":0},{"$f":"Table1[[#This Row],[QTY]]*Table1[[#This Row],[School & Library Price]]","v":0}]
[null,null,null,"Junior Biographies","Hailee Steinfeld: Actress and Singer",1,"eBook","978-1-9785-0308-3",{"$f":"HYPERLINK(Table1[[#This Row],[Hyperlink]],\"Weblink\")","v":"Weblink"},"Enslow Publishing","2019","January 2019",null,"Author","Rita Santos","4.3","0.5",null,null,"Q",null,"Grade 3 - 4","Grade 3 - 5","Hailee Steinfeld was just thirteen years old when she was cast as the tough as nails Mattie Ross in the movie True Grit. Her breakout performance was so impressive that she became one of the youngest actresses to be nominated for an Academy Award. Conquering Hollywood wasn't enough for this young artist, and in 2015 she released her first single \"Love Myself,\" which went platinum. Readers will learn how the young artist balances her acting and singing careers through easy-to-follow text accompanied by stunning full-color photographs, as well as direct quotes from Steinfeld herself.","English",22.6,16.95,"791.4302/8092--dc23","24 pp.","https://www.enslow.com/books/Hailee_Steinfeld/4710",{"$f":"Table1[[#This Row],[QTY]]*Table1[[#This Row],['# of Books]]","v":0},{"$f":"Table1[[#This Row],[QTY]]*Table1[[#This Row],[School & Library Price]]","v":0}]
[null,null,null,"Junior Biographies","Jeff Kinney: Children's Book Author and Cartoonist",1,"Library Bound Book","978-0-7660-9063-7",{"$f":"HYPERLINK(Table1[[#This Row],[Hyperlink]],\"Weblink\")","v":"Weblink"},"Enslow Publishing","2018","January 2018","7.125 X 8.500","Author","Kathy Furgang","4.6","0.5",null,null,"M","850L","Grade 3 - 4","Grade 3 - 5","One of America's bestselling children's book authors cartooned his way to fame. This accessible, easy-to-follow book about Diary of a Wimpy Kid author, Jeff Kinney, offers fascinating facts about the creator's life and work. From his time as a cartoonist for his college newspaper to his international fame as an author, Kinney has stayed dedicated to the art of storytelling. Millions of children around the world have enjoyed the antics of Kinney's lovable middle school character, Greg Heffley. It's not just doodling. Kinney's humorous work has captured the hearts of kids everywhere, and has them reading, too.","English",22.6,16.95,"813/.6--dc23","24 pp.","https://www.enslow.com/books/Jeff_Kinney/421680",{"$f":"Table1[[#This Row],[QTY]]*Table1[[#This Row],['# of Books]]","v":0},{"$f":"Table1[[#This Row],[QTY]]*Table1[[#This Row],[School & Library Price]]","v":0}]
[null,null,null,"Junior Biographies","Jeff Kinney: Children's Book Author and Cartoonist",1,"eBook","978-0-7660-9064-4",{"$f":"HYPERLINK(Table1[[#This Row],[Hyperlink]],\"Weblink\")","v":"Weblink"},"Enslow Publishing","2018","January 2018",null,"Author","Kathy Furgang","4.6","0.5",null,null,"M","850L","Grade 3 - 4","Grade 3 - 5","One of America's bestselling children's book authors cartooned his way to fame. This accessible, easy-to-follow book about Diary of a Wimpy Kid author, Jeff Kinney, offers fascinating facts about the creator's life and work. From his time as a cartoonist for his college newspaper to his international fame as an author, Kinney has stayed dedicated to the art of storytelling. Millions of children around the world have enjoyed the antics of Kinney's lovable middle school character, Greg Heffley. It's not just doodling. Kinney's humorous work has captured the hearts of kids everywhere, and has them reading, too.","English",22.6,16.95,"813/.6--dc23","24 pp.","https://www.enslow.com/books/Jeff_Kinney/421680",{"$f":"Table1[[#This Row],[QTY]]*Table1[[#This Row],['# of Books]]","v":0},{"$f":"Table1[[#This Row],[QTY]]*Table1[[#This Row],[School & Library Price]]","v":0}]
[null,null,null,"Junior Biographies","Jim Henson: Puppeteer and Producer",1,"Library Bound Book","978-0-7660-9055-2",{"$f":"HYPERLINK(Table1[[#This Row],[Hyperlink]],\"Weblink\")","v":"Weblink"},"Enslow Publishing","2018","January 2018","7.125 X 8.500","Author","Hannah Isbell","4.8","0.5",null,null,"M","890L","Grade 3 - 4","Grade 3 - 5","Jim Henson created some of the most well-known and beloved characters, stories, and songs of the 20th century, making his name synonymous with children's entertainment. From Kermit the Frog to The Dark Crystal, his creative legacy has impacted children for two generations with no sign of stopping. Through vibrant, full-color illustrations, easy-to-follow text, and direct quotes, students will learn how one man used his talent for art, music, and performance not only to entertain children and adults around the world, but also to change the way kids learn.","English",22.6,16.95,"791.5/3092--dc23","24 pp.","https://www.enslow.com/books/Jim_Henson/421678",{"$f":"Table1[[#This Row],[QTY]]*Table1[[#This Row],['# of Books]]","v":0},{"$f":"Table1[[#This Row],[QTY]]*Table1[[#This Row],[School & Library Price]]","v":0}]
[null,null,null,"Junior Biographies","Jim Henson: Puppeteer and Producer",1,"eBook","978-0-7660-9056-9",{"$f":"HYPERLINK(Table1[[#This Row],[Hyperlink]],\"Weblink\")","v":"Weblink"},"Enslow Publishing","2018","January 2018",null,"Author","Hannah Isbell","4.8","0.5",null,null,"M","890L","Grade 3 - 4","Grade 3 - 5","Jim Henson created some of the most well-known and beloved characters, stories, and songs of the 20th century, making his name synonymous with children's entertainment. From Kermit the Frog to The Dark Crystal, his creative legacy has impacted children for two generations with no sign of stopping. Through vibrant, full-color illustrations, easy-to-follow text, and direct quotes, students will learn how one man used his talent for art, music, and performance not only to entertain children and adults around the world, but also to change the way kids learn.","English",22.6,16.95,"791.5/3092--dc23","24 pp.","https://www.enslow.com/books/Jim_Henson/421678",{"$f":"Table1[[#This Row],[QTY]]*Table1[[#This Row],['# of Books]]","v":0},{"$f":"Table1[[#This Row],[QTY]]*Table1[[#This Row],[School & Library Price]]","v":0}]
[null,null,null,"Junior Biographies","Kate Middleton: Duchess of Cambridge",1,"Library Bound Book","978-0-7660-8672-2",{"$f":"HYPERLINK(Table1[[#This Row],[Hyperlink]],\"Weblink\")","v":"Weblink"},"Enslow Publishing","2018","August 2017","7.125 X 8.500","Author","Portia Summers",null,null,null,null,"N",null,"Grade 3 - 4","Grade 3 - 5","Catherine, Duchess of Cambridge, was born in Berkshire, England, to a middle-class family. She had no aspirations to be royalty. Now married to Prince William, Duke of Cambridge, “Kate” is a mother, an activist, and a style icon. Young readers will learn about her early life in England, the issues that are important to her, and how she became the subject of a modern-day fairy tale. Easy-to-follow text is supported by full-color photos and quotes from the duchess herself. A Words to Know section helps readers learn new vocabulary, while Further Reading encourages deeper learning.","English",22.6,16.95,"941.086/12092--dc23","24 pp.","https://www.enslow.com/books/Kate_Middleton/412732",{"$f":"Table1[[#This Row],[QTY]]*Table1[[#This Row],['# of Books]]","v":0},{"$f":"Table1[[#This Row],[QTY]]*Table1[[#This Row],[School & Library Price]]","v":0}]
[null,null,null,"Junior Biographies","Kate Middleton: Duchess of Cambridge",1,"eBook","978-0-7660-8673-9",{"$f":"HYPERLINK(Table1[[#This Row],[Hyperlink]],\"Weblink\")","v":"Weblink"},"Enslow Publishing","2018","August 2017",null,"Author","Portia Summers",null,null,null,null,"N",null,"Grade 3 - 4","Grade 3 - 5","Catherine, Duchess of Cambridge, was born in Berkshire, England, to a middle-class family. She had no aspirations to be royalty. Now married to Prince William, Duke of Cambridge, “Kate” is a mother, an activist, and a style icon. Young readers will learn about her early life in England, the issues that are important to her, and how she became the subject of a modern-day fairy tale. Easy-to-follow text is supported by full-color photos and quotes from the duchess herself. A Words to Know section helps readers learn new vocabulary, while Further Reading encourages deeper learning.","English",22.6,16.95,"941.086/12092--dc23","24 pp.","https://www.enslow.com/books/Kate_Middleton/412732",{"$f":"Table1[[#This Row],[QTY]]*Table1[[#This Row],['# of Books]]","v":0},{"$f":"Table1[[#This Row],[QTY]]*Table1[[#This Row],[School & Library Price]]","v":0}]
[null,null,null,"Junior Biographies","Maya Angelou: African American Poet",1,"eBook","978-1-9785-0293-2",{"$f":"HYPERLINK(Table1[[#This Row],[Hyperlink]],\"Weblink\")","v":"Weblink"},"Enslow Publishing","2019","January 2019",null,"Author","Kristen Rajczak Nelson","4.1","0.5",null,null,"P",null,"Grade 3 - 4","Grade 3 - 5","Many people consider Maya Angelou to be one of the greatest American voices in the literature of the past century. Throughout her lengthy career, Angelou shared her personal story through autobiographical works as well as participated in the civil rights movement, taught, and acted on TV and in movies. In this biography of the inspirational Angelou, age-appropriate content is accompanied by quotes, fast facts, and color photographs. Her fascinating life story encourages readers to embrace their personal history, express themselves creatively, and speak up for those who cannot.","English",22.6,16.95,"818/.5409--dc23","24 pp.","https://www.enslow.com/books/Maya_Angelou/4704",{"$f":"Table1[[#This Row],[QTY]]*Table1[[#This Row],['# of Books]]","v":0},{"$f":"Table1[[#This Row],[QTY]]*Table1[[#This Row],[School & Library Price]]","v":0}]
[null,null,null,"Junior Biographies","Meghan Markle: American Royal",1,"Library Bound Book","978-1-9785-0591-9",{"$f":"HYPERLINK(Table1[[#This Row],[Hyperlink]],\"Weblink\")","v":"Weblink"},"Enslow Publishing","2019","August 2018","7.125 X 8.500","Author","Elizabeth Krajnik","5.9","0.5",null,null,"Q","1030L","Grade 3 - 4","Grade 3 - 5","Actress Meghan Markle is set to marry Prince Harry of Britain in May 2018. As a biracial actress, she faced a fair deal of struggles conforming to Hollywood's expectations of how she should look, dress, and speak. After landing a role in the hit show Suits in 2011, Meghan started to use her fame to speak out about equality. This biography explores Meghan's path to royalty and the challenges she faced on her journey. Age-appropriate text supports full-color photographs to catch the reader's eye, while quotes from Meghan illustrate her character. This book is extremely high-interest material because of Markle's May 2018 wedding to Prince Harry, and how her background represents a change to traditions of the Monarchy and Old England.","English",22.6,16.95,"791.4502/8092--dc23","24 pp.","https://www.enslow.com/books/Meghan_Markle/421788",{"$f":"Table1[[#This Row],[QTY]]*Table1[[#This Row],['# of Books]]","v":0},{"$f":"Table1[[#This Row],[QTY]]*Table1[[#This Row],[School & Library Price]]","v":0}]
[null,null,null,"Junior Biographies","Melania Trump: First Lady of the United States",1,"eBook","978-0-7660-9742-1",{"$f":"HYPERLINK(Table1[[#This Row],[Hyperlink]],\"Weblink\")","v":"Weblink"},"Enslow Publishing","2019","August 2018",null,"Author","Kristen Rajczak Nelson","4.7","0.5",null,null,"P",null,"Grade 3 - 4","Grade 3 - 5","Melania Trump has experienced many parts of the world in her life, beginning with her childhood in Slovenia to the modeling world of Milan, Italy. The journey isn't over yet. In 2016, she became the first First Lady of the United States to be a naturalized citizen, and only the second ever to be born overseas. This informative biography follows Melania on her amazing journey, with engaging information written in age-appropriate language and context. Each chapter features color photographs and a quote from Melania, giving readers a sense of her personality, beliefs, and ideas.","English",22.6,16.95,"973.933092--dc23","24 pp.","https://www.enslow.com/books/Melania_Trump/421848",{"$f":"Table1[[#This Row],[QTY]]*Table1[[#This Row],['# of Books]]","v":0},{"$f":"Table1[[#This Row],[QTY]]*Table1[[#This Row],[School & Library Price]]","v":0}]
[null,null,null,"Junior Biographies","Mike Pence: U.S. Vice President",1,"Library Bound Book","978-1-9785-0207-9",{"$f":"HYPERLINK(Table1[[#This Row],[Hyperlink]],\"Weblink\")","v":"Weblink"},"Enslow Publishing","2019","January 2019","7.125 X 8.500","Author","Rita Santos","4.7","0.5",null,null,"R",null,"Grade 3 - 4","Grade 3 - 5","As a radio host and later a politician, Mike Pence has always put his Christian faith first. In this revealing biography, readers will learn about the man as well as the forty-eighth Vice President of the United States. They will follow his rise to America's second-in-command, beginning with his childhood and moving through his education and early career, eventually leading to the world of politics. The easy-to-follow text is accompanied by fast facts and full-color photographs, as well as direct quotes from Pence himself.","English",22.6,16.95,"973.933092--dc23","24 pp.","https://www.enslow.com/books/Mike_Pence/4709",{"$f":"Table1[[#This Row],[QTY]]*Table1[[#This Row],['# of Books]]","v":0},{"$f":"Table1[[#This Row],[QTY]]*Table1[[#This Row],[School & Library Price]]","v":0}]
[null,null,null,"Junior Biographies","Misty Copeland: Ballerina",1,"eBook","978-0-7660-8180-2",{"$f":"HYPERLINK(Table1[[#This Row],[Hyperlink]],\"Weblink\")","v":"Weblink"},"Enslow Publishing","2017","January 2017",null,"Author","Hannah Isbell","5.4","0.5",null,null,"P","870L","Grade 3 - 4","Grade 3 - 5","In 2015, Misty Copeland was named principal ballerina of the American Ballet Theatre, the first African American to earn the title in the ballet company's history. She has danced all over the country, on Broadway, and on television, but she had to break many barriers to do it, including racism and poverty. Through simple text and vivid photographs, readers will appreciate Copeland's struggles and will learn about her dedication to promoting diversity in ballet. A Words to Know section helps readers with new vocabulary, and quotations by Copeland shed light on this talented woman.","English",22.6,16.95,"792.802/8092--dc23","24 pp.","https://www.enslow.com/books/Misty_Copeland/421614",{"$f":"Table1[[#This Row],[QTY]]*Table1[[#This Row],['# of Books]]","v":0},{"$f":"Table1[[#This Row],[QTY]]*Table1[[#This Row],[School & Library Price]]","v":0}]
[null,null,null,"Junior Biographies","Pharrell Williams: Singer and Songwriter",1,"Library Bound Book","978-0-7660-8194-9",{"$f":"HYPERLINK(Table1[[#This Row],[Hyperlink]],\"Weblink\")","v":"Weblink"},"Enslow Publishing","2017","January 2017","7.125 X 8.500","Author","Chris Flores","5.7","0.5",null,null,"N","960L","Grade 3 - 4","Grade 3 - 5","Pharrell Williams is a Grammy Award-winning singer, rapper, and record producer. Famous record producer Teddy Riley discovered Williams's group, the Neptunes, in the early 1990s during a high school talent show. Since then, Williams has worked with such chart-topping acts as Britney Spears, Justin Timberlake, and Beyonce. He has launched a clothing line, authored children's picture books, and founded a charity to help underprivileged schools. This cool biography uses vibrant photographs, simple text, and direct quotations from Williams himself to tell the story of his ascension to fame.","English",22.6,16.95,"782.421649092--dc23","24 pp.","https://www.enslow.com/books/Pharrell_Williams/421616",{"$f":"Table1[[#This Row],[QTY]]*Table1[[#This Row],['# of Books]]","v":0},{"$f":"Table1[[#This Row],[QTY]]*Table1[[#This Row],[School & Library Price]]","v":0}]
[null,null,null,"Junior Biographies","Pope Francis: Priest of the People",1,"eBook","978-0-7660-9052-1",{"$f":"HYPERLINK(Table1[[#This Row],[Hyperlink]],\"Weblink\")","v":"Weblink"},"Enslow Publishing","2018","January 2018",null,"Author","Kathy Furgang","4.6","0.5",null,null,"O","750L","Grade 3 - 4","Grade 3 - 5","This book explores the life of Pope Francis, a Roman Catholic pope of many firsts. He is the first Jesuit pope, the first from the Americas, and even the first from the Southern Hemisphere. This thoughtful and insightful book discusses the pope's early life as Jorge Mario Bergoglio and his work as a chemical technologist and nightclub bouncer before studying to become a priest. The book's focus will be on his concern for and work with the poor, and his outreach to people of different faiths.","English",22.6,16.95,"282.092--dc23","24 pp.","https://www.enslow.com/books/Pope_Francis/421677",{"$f":"Table1[[#This Row],[QTY]]*Table1[[#This Row],['# of Books]]","v":0},{"$f":"Table1[[#This Row],[QTY]]*Table1[[#This Row],[School & Library Price]]","v":0}]
[null,null,null,"Junior Biographies","Rihanna: Pop Star",1,"Library Bound Book","978-0-7660-8674-6",{"$f":"HYPERLINK(Table1[[#This Row],[Hyperlink]],\"Weblink\")","v":"Weblink"},"Enslow Publishing","2018","August 2017","7.125 X 8.500","Author","Hannah Isbell",null,null,null,null,"N","940L","Grade 3 - 4","Grade 3 - 5","Rihanna is known world over as a music icon, but she is more than just a pop princess. Over the past ten years, Rihanna has worked hard to break stereotypes, develop a definitive style, and maintain creative control of her music. In the process, she's won dozens of awards, including eight Grammys. Young readers will learn about the musician and businesswoman's life through easy-to-follow text accompanied by dynamic full-color photographs, as well as direct quotes from Rihanna herself.","English",22.6,16.95,"782.42164092--dc23","24 pp.","https://www.enslow.com/books/Rihanna/412733",{"$f":"Table1[[#This Row],[QTY]]*Table1[[#This Row],['# of Books]]","v":0},{"$f":"Table1[[#This Row],[QTY]]*Table1[[#This Row],[School & Library Price]]","v":0}]
[null,null,null,"Junior Biographies","Serena Williams: Tennis Star",1,"eBook","978-0-7660-8183-3",{"$f":"HYPERLINK(Table1[[#This Row],[Hyperlink]],\"Weblink\")","v":"Weblink"},"Enslow Publishing","2017","January 2017",null,"Author","Kristen Rajczak Nelson","5.3","0.5",null,null,"N","960L","Grade 3 - 4","Grade 3 - 5","Serena Williams is considered one of the best female athletes of all time. At age seventeen, she became the first African American woman to win a Grand Slam tournament in forty-one years. Readers will discover that in addition to her prowess on the tennis courts, Williams has also made her mark on the world through charity work with her organization, the Serena Williams Fund, and UNICEF. A Words to Know section prepares readers for any unfamiliar vocabulary they may find in the text, and colorful photographs and direct quotations from Williams help students connect with this extraordinary athlete.","English",22.6,16.95,"796.342092--dc23","24 pp.","https://www.enslow.com/books/Serena_Williams/421617",{"$f":"Table1[[#This Row],[QTY]]*Table1[[#This Row],['# of Books]]","v":0},{"$f":"Table1[[#This Row],[QTY]]*Table1[[#This Row],[School & Library Price]]","v":0}]
[null,null,null,"Junior Biographies","Sharon Draper: Author",1,"Library Bound Book","978-0-7660-8190-1",{"$f":"HYPERLINK(Table1[[#This Row],[Hyperlink]],\"Weblink\")","v":"Weblink"},"Enslow Publishing","2017","January 2017","7.125 X 8.500","Author","Therese M. Shea","5.1","0.5",null,null,"O","860L","Grade 3 - 4","Grade 3 - 5","Sharon Draper is a celebrated educator and author. Her readers, from elementary school children to young adults, connect with her characters, who often face real-world challenges such as addiction (in 1995's Tears of a Tiger) and cerebral palsy (in 2010's Out of My Mind). Full of fascinating details, full-color photographs, and insightful quotations from Draper, this simple yet informative text will show readers how a love of books from an early age inspired a young girl to become a writer and teacher who has touched the lives of millions of young people around the world.","English",22.6,16.95,"813/.54--dc23","24 pp.","https://www.enslow.com/books/Sharon_Draper/421615",{"$f":"Table1[[#This Row],[QTY]]*Table1[[#This Row],['# of Books]]","v":0},{"$f":"Table1[[#This Row],[QTY]]*Table1[[#This Row],[School & Library Price]]","v":0}]
[null,null,null,"Junior Biographies","Shawn Mendes: Singer-Songwriter",1,"Library Bound Book","978-1-9785-0206-2",{"$f":"HYPERLINK(Table1[[#This Row],[Hyperlink]],\"Weblink\")","v":"Weblink"},"Enslow Publishing","2019","January 2019","7.125 X 8.500","Author","Rebecca Kraft Rector","3.6","0.5",null,null,"N",null,"Grade 3 - 4","Grade 3 - 5","Shawn Mendes was only fifteen years old when he became an online singing sensation. Within a few years, he quickly progressed to become an international superstar. Readers meet Shawn through well-researched, accessible information on his life and accomplishments. The high-interest text is enhanced with full-color photographs, a timeline, and direct quotes from Shawn himself. This book invites leisure reading, as well as supports the social studies curricula. It is aligned with the Common Core English Language Arts standards for reading informational texts, and with the College and Career Readiness anchor standards.","English",22.6,16.95,"782.42164092--dc23","24 pp.","https://www.enslow.com/books/Shawn_Mendes/4708",{"$f":"Table1[[#This Row],[QTY]]*Table1[[#This Row],['# of Books]]","v":0},{"$f":"Table1[[#This Row],[QTY]]*Table1[[#This Row],[School & Library Price]]","v":0}]
[null,null,null,"Junior Biographies","Shawn Mendes: Singer-Songwriter",1,"eBook","978-1-9785-0302-1",{"$f":"HYPERLINK(Table1[[#This Row],[Hyperlink]],\"Weblink\")","v":"Weblink"},"Enslow Publishing","2019","January 2019",null,"Author","Rebecca Kraft Rector","3.6","0.5",null,null,"N",null,"Grade 3 - 4","Grade 3 - 5","Shawn Mendes was only fifteen years old when he became an online singing sensation. Within a few years, he quickly progressed to become an international superstar. Readers meet Shawn through well-researched, accessible information on his life and accomplishments. The high-interest text is enhanced with full-color photographs, a timeline, and direct quotes from Shawn himself. This book invites leisure reading, as well as supports the social studies curricula. It is aligned with the Common Core English Language Arts standards for reading informational texts, and with the College and Career Readiness anchor standards.","English",22.6,16.95,"782.42164092--dc23","24 pp.","https://www.enslow.com/books/Shawn_Mendes/4708",{"$f":"Table1[[#This Row],[QTY]]*Table1[[#This Row],['# of Books]]","v":0},{"$f":"Table1[[#This Row],[QTY]]*Table1[[#This Row],[School & Library Price]]","v":0}]
[null,null,null,"Junior Biographies","Stephen Curry: Basketball's MVP",1,"Library Bound Book","978-0-7660-8175-8",{"$f":"HYPERLINK(Table1[[#This Row],[Hyperlink]],\"Weblink\")","v":"Weblink"},"Enslow Publishing","2017","January 2017","7.125 X 8.500","Author","Therese M. Shea","5.3","0.5",null,null,"O","950L","Grade 3 - 4","Grade 3 - 5","Born Wardell Stephen Curry II on March 14, 1988, in Akron, Ohio, Stephen Curry may be the best shooter in NBA history. He is an NBA champion, an MVP, and a player at the top of his game, and he uses his stardom to give back to the community. Readers will be fascinated by the story of this tremendous athlete, told with simple text and supplemented with color photos. A Words to Know section helps prepare readers for vocabulary in the text, and quotes from Curry himself allow readers to connect with this basketball star.","English",22.6,16.95,"796.323092--dc23","24 pp.","https://www.enslow.com/books/Stephen_Curry/421618",{"$f":"Table1[[#This Row],[QTY]]*Table1[[#This Row],['# of Books]]","v":0},{"$f":"Table1[[#This Row],[QTY]]*Table1[[#This Row],[School & Library Price]]","v":0}]
[null,null,null,"Junior Biographies","Stephen Curry: Basketball's MVP",1,"eBook","978-0-7660-8176-5",{"$f":"HYPERLINK(Table1[[#This Row],[Hyperlink]],\"Weblink\")","v":"Weblink"},"Enslow Publishing","2017","January 2017",null,"Author","Therese M. Shea","5.3","0.5",null,null,"O","950L","Grade 3 - 4","Grade 3 - 5","Born Wardell Stephen Curry II on March 14, 1988, in Akron, Ohio, Stephen Curry may be the best shooter in NBA history. He is an NBA champion, an MVP, and a player at the top of his game, and he uses his stardom to give back to the community. Readers will be fascinated by the story of this tremendous athlete, told with simple text and supplemented with color photos. A Words to Know section helps prepare readers for vocabulary in the text, and quotes from Curry himself allow readers to connect with this basketball star.","English",22.6,16.95,"796.323092--dc23","24 pp.","https://www.enslow.com/books/Stephen_Curry/421618",{"$f":"Table1[[#This Row],[QTY]]*Table1[[#This Row],['# of Books]]","v":0},{"$f":"Table1[[#This Row],[QTY]]*Table1[[#This Row],[School & Library Price]]","v":0}]
[null,null,null,"Junior Biographies","Viola Davis: Actress",1,"Library Bound Book","978-0-7660-9719-3",{"$f":"HYPERLINK(Table1[[#This Row],[Hyperlink]],\"Weblink\")","v":"Weblink"},"Enslow Publishing","2019","August 2018","7.125 X 8.500","Author","Kathy Furgang","5.1","0.5",null,null,"Q","890L","Grade 3 - 4","Grade 3 - 5","Give your readers a fascinating biography about one of the most honored and respected actresses in Hollywood. This accessible, easy-to-follow book about Viola Davis provides an engaging timeline of the actress's life. Viola's early years helped shape the roles she chose as an adult. Playing everyday Americans such as wives, mothers, and hired help got her noticed by moviegoers and critics alike, and led to her becoming the only African-American woman to be nominated for three Academy Awards. The engaging text is accompanied by dynamic, full-color photographs, as well as direct quotes from Viola herself.","English",22.6,16.95,"791.4302/8092--23","24 pp.","https://www.enslow.com/books/Viola_Davis/421843",{"$f":"Table1[[#This Row],[QTY]]*Table1[[#This Row],['# of Books]]","v":0},{"$f":"Table1[[#This Row],[QTY]]*Table1[[#This Row],[School & Library Price]]","v":0}]
[null,null,null,"Junior Biographies","Viola Davis: Actress",1,"eBook","978-0-7660-9722-3",{"$f":"HYPERLINK(Table1[[#This Row],[Hyperlink]],\"Weblink\")","v":"Weblink"},"Enslow Publishing","2019","August 2018",null,"Author","Kathy Furgang","5.1","0.5",null,null,"Q","890L","Grade 3 - 4","Grade 3 - 5","Give your readers a fascinating biography about one of the most honored and respected actresses in Hollywood. This accessible, easy-to-follow book about Viola Davis provides an engaging timeline of the actress's life. Viola's early years helped shape the roles she chose as an adult. Playing everyday Americans such as wives, mothers, and hired help got her noticed by moviegoers and critics alike, and led to her becoming the only African-American woman to be nominated for three Academy Awards. The engaging text is accompanied by dynamic, full-color photographs, as well as direct quotes from Viola herself.","English",22.6,16.95,"791.4302/8092--23","24 pp.","https://www.enslow.com/books/Viola_Davis/421843",{"$f":"Table1[[#This Row],[QTY]]*Table1[[#This Row],['# of Books]]","v":0},{"$f":"Table1[[#This Row],[QTY]]*Table1[[#This Row],[School & Library Price]]","v":0}]
[null,null,null,"My Feelings","My Feelings",6,"Library Set","978-1-9785-1149-1",{"$f":"HYPERLINK(Table1[[#This Row],[Hyperlink]],\"Weblink\")","v":"Weblink"},"Enslow Publishing","2020","August 2019","8.000 X 8.000",null,null,null,null,null,null,null,null,"Grade 1","Grade K - 2","Learning to recognize and react to one's own emotions is an important skill for young children as they face new experiences like going to school, making friends, and interacting with family or strangers. Tailored to components of social and emotional learning, this sensitive and age-appropriate set helps children identify and own their feelings, as well as providing strategies to deal with them. Through accessible text and engaging photographs, readers will relate to the situations described and recognize the validity of their own feelings. Features include: Conforms to the CASEL framework for social and emotional learning. Focuses on self-awareness to teach students to assess their strengths and weaknesses and respond appropriately to various situations and emotional triggers. Picture-text correlation allows readers to develop their comprehension skills.","English",141.6,106.2,null,"24 pp.","https://www.enslow.com/series/My_Feelings/481591",{"$f":"Table1[[#This Row],[QTY]]*Table1[[#This Row],['# of Books]]","v":0},{"$f":"Table1[[#This Row],[QTY]]*Table1[[#This Row],[School & Library Price]]","v":0}]
[null,null,null,"My Feelings","When I Feel Angry",1,"Library Bound Book","978-1-9785-1162-0",{"$f":"HYPERLINK(Table1[[#This Row],[Hyperlink]],\"Weblink\")","v":"Weblink"},"Enslow Publishing","2020","August 2019","8.000 X 8.000","Author","Amy Beattie",null,null,null,null,"G",null,"Grade 1","Grade K - 2","It can be frustrating when things don't go our way, whether we lost a game or had an argument with a friend. This book teaches students how to put a finger on angering situations and learn positive coping skills to process this emotion. Principles of social and emotional learning are illustrated with relatable situations and photographs, providing an age-appropriate guide to dealing with anger and frustration.","English",23.6,17.7,"152.4/7--dc23","24 pp.","https://www.enslow.com/books/When_I_Feel_Angry/422080",{"$f":"Table1[[#This Row],[QTY]]*Table1[[#This Row],['# of Books]]","v":0},{"$f":"Table1[[#This Row],[QTY]]*Table1[[#This Row],[School & Library Price]]","v":0}]
[null,null,null,"My Feelings","When I Feel Happy",1,"eBook","978-1-9785-1157-6",{"$f":"HYPERLINK(Table1[[#This Row],[Hyperlink]],\"Weblink\")","v":"Weblink"},"Enslow Publishing","2020","August 2019",null,"Author","Amy Beattie",null,null,null,null,"G",null,"Grade 1","Grade K - 2","Happiness can result from exciting changes like getting a new pet, or from smaller events like playing a favorite game or reading a cherished book. Readers will encounter many such joyful situations in this guidebook focused on self-awareness and perception, both key components of social and emotional learning. Through accessible language and photographs, children will learn to recognize when and why they feel happy and how to regulate this healthy emotion.","English",23.6,17.7,"155.4/19--dc23","24 pp.","https://www.enslow.com/books/When_I_Feel_Happy/422079",{"$f":"Table1[[#This Row],[QTY]]*Table1[[#This Row],['# of Books]]","v":0},{"$f":"Table1[[#This Row],[QTY]]*Table1[[#This Row],[School & Library Price]]","v":0}]
[null,null,null,"My Feelings","When I Feel Jealous",1,"Library Bound Book","978-1-9785-1170-5",{"$f":"HYPERLINK(Table1[[#This Row],[Hyperlink]],\"Weblink\")","v":"Weblink"},"Enslow Publishing","2020","August 2019","8.000 X 8.000","Author","Amy Beattie",null,null,null,null,"G",null,"Grade 1","Grade K - 2","Jealousy is a natural emotion when someone else has something that we wish we had. Children will be exposed to realistic situations that can cause jealousy and learn to identify when they might feel jealous, how that affects their behavior, and how to deal with that feeling. Self-awareness and perception are emphasized in conjunction with social and emotional learning standards.","English",23.6,17.7,"155.5/1248--dc23","24 pp.","https://www.enslow.com/books/When_I_Feel_Jealous/422082",{"$f":"Table1[[#This Row],[QTY]]*Table1[[#This Row],['# of Books]]","v":0},{"$f":"Table1[[#This Row],[QTY]]*Table1[[#This Row],[School & Library Price]]","v":0}]
[null,null,null,"My Feelings","When I Feel Nervous",1,"Library Bound Book","978-1-9785-1166-8",{"$f":"HYPERLINK(Table1[[#This Row],[Hyperlink]],\"Weblink\")","v":"Weblink"},"Enslow Publishing","2020","August 2019","8.000 X 8.000","Author","Amy Beattie",null,null,null,null,"G",null,"Grade 1","Grade K - 2","Some children get nervous when meeting new people, while others get butterflies when working on a challenging school project. This thoughtful narrative describes many different situations that can cause nerves, teaching readers to recognize that feeling and adopt healthy strategies for dealing with it, central principles of social and emotional learning. Age-appropriate language and relatable photographs will appeal to young readers.","English",23.6,17.7,"155.4/1246--dc23","24 pp.","https://www.enslow.com/books/When_I_Feel_Nervous/422081",{"$f":"Table1[[#This Row],[QTY]]*Table1[[#This Row],['# of Books]]","v":0},{"$f":"Table1[[#This Row],[QTY]]*Table1[[#This Row],[School & Library Price]]","v":0}]
[null,null,null,"My Feelings","When I Feel Nervous",1,"eBook","978-1-9785-1165-1",{"$f":"HYPERLINK(Table1[[#This Row],[Hyperlink]],\"Weblink\")","v":"Weblink"},"Enslow Publishing","2020","August 2019",null,"Author","Amy Beattie",null,null,null,null,"G",null,"Grade 1","Grade K - 2","Some children get nervous when meeting new people, while others get butterflies when working on a challenging school project. This thoughtful narrative describes many different situations that can cause nerves, teaching readers to recognize that feeling and adopt healthy strategies for dealing with it, central principles of social and emotional learning. Age-appropriate language and relatable photographs will appeal to young readers.","English",23.6,17.7,"155.4/1246--dc23","24 pp.","https://www.enslow.com/books/When_I_Feel_Nervous/422081",{"$f":"Table1[[#This Row],[QTY]]*Table1[[#This Row],['# of Books]]","v":0},{"$f":"Table1[[#This Row],[QTY]]*Table1[[#This Row],[School & Library Price]]","v":0}]
[null,null,null,"My Feelings","When I Feel Scared",1,"Library Bound Book","978-1-9785-1174-3",{"$f":"HYPERLINK(Table1[[#This Row],[Hyperlink]],\"Weblink\")","v":"Weblink"},"Enslow Publishing","2020","August 2019","8.000 X 8.000","Author","Amy Beattie",null,null,null,null,"G",null,"Grade 1","Grade K - 2","What are you afraid of? Whether it's a big spider, a ghost story, or going to the dentist, we've all felt scared at times. This book builds on key aspects of social and emotional learning as it guides children through the messy process of recognizing our emotions. Readers will understand why they feel scared and how to cope with scary situations in the world around them. With an easy-to-follow narrative, the text will engage young readers and bolster not only their reading comprehension skills, but their confidence to live in the face of fear as well.","English",23.6,17.7,"155.4/1246--dc23","24 pp.","https://www.enslow.com/books/When_I_Feel_Scared/422083",{"$f":"Table1[[#This Row],[QTY]]*Table1[[#This Row],['# of Books]]","v":0},{"$f":"Table1[[#This Row],[QTY]]*Table1[[#This Row],[School & Library Price]]","v":0}]
[null,null,null,"My Feelings","When I Feel Scared",1,"eBook","978-1-9785-1173-6",{"$f":"HYPERLINK(Table1[[#This Row],[Hyperlink]],\"Weblink\")","v":"Weblink"},"Enslow Publishing","2020","August 2019",null,"Author","Amy Beattie",null,null,null,null,"G",null,"Grade 1","Grade K - 2","What are you afraid of? Whether it's a big spider, a ghost story, or going to the dentist, we've all felt scared at times. This book builds on key aspects of social and emotional learning as it guides children through the messy process of recognizing our emotions. Readers will understand why they feel scared and how to cope with scary situations in the world around them. With an easy-to-follow narrative, the text will engage young readers and bolster not only their reading comprehension skills, but their confidence to live in the face of fear as well.","English",23.6,17.7,"155.4/1246--dc23","24 pp.","https://www.enslow.com/books/When_I_Feel_Scared/422083",{"$f":"Table1[[#This Row],[QTY]]*Table1[[#This Row],['# of Books]]","v":0},{"$f":"Table1[[#This Row],[QTY]]*Table1[[#This Row],[School & Library Price]]","v":0}]
[null,null,null,"Exploring Infrastructure","Airports",1,"eBook","978-1-9785-0390-8",{"$f":"HYPERLINK(Table1[[#This Row],[Hyperlink]],\"Weblink\")","v":"Weblink"},"Enslow Publishing","2020","August 2019",null,"Author","Jeff Mapua",null,null,null,null,"M",null,"Grade 3 - 4","Grade 3 - 6","As the world becomes more of a global community, air travel between states and countries is commonplace. Airports are playing an increasingly integral part of infrastructure in the United States and around the world. Through accessible text, readers travel to a time when airplanes landed on grassy fields, then move through the years to futuristic terminals featuring innovative technology. This captivating book takes a closer look at the airport industry and what it takes to operate millions of people in transit, featuring real-life examples, full-color photographs, and high-interest fact boxes.","English",27.93,20.95,"387.7/36--dc23","48 pp.","https://www.enslow.com/books/Airports/421956",{"$f":"Table1[[#This Row],[QTY]]*Table1[[#This Row],['# of Books]]","v":0},{"$f":"Table1[[#This Row],[QTY]]*Table1[[#This Row],[School & Library Price]]","v":0}]
[null,null,null,"Exploring Infrastructure","Bridges",1,"Library Bound Book","978-1-9785-0333-5",{"$f":"HYPERLINK(Table1[[#This Row],[Hyperlink]],\"Weblink\")","v":"Weblink"},"Enslow Publishing","2020","August 2019","7.250 X 9.250","Author, Author","Charlotte Taylor, Melinda Farbman",null,null,null,null,"P",null,"Grade 3 - 4","Grade 3 - 6","No aspect of infrastructure is quite as diverse as bridges. They may be simple or complex, ancient or modern, beautiful or plain. One trait that bridges do share is that they help people get where they're going, making them essential to a society on the move. In this informative text, readers delve into the world of bridges, their history, the various types, and the people who build and maintain them. Full-color photographs, fascinating stories, and fun facts add interest as readers get to know more about these feats of engineering and their role, past, present, and future, in our world.","English",27.93,20.95,"624.2--dc23","48 pp.","https://www.enslow.com/books/Bridges/421957",{"$f":"Table1[[#This Row],[QTY]]*Table1[[#This Row],['# of Books]]","v":0},{"$f":"Table1[[#This Row],[QTY]]*Table1[[#This Row],[School & Library Price]]","v":0}]
[null,null,null,"Exploring Infrastructure","Dams and Levees",1,"eBook","978-1-9785-0396-0",{"$f":"HYPERLINK(Table1[[#This Row],[Hyperlink]],\"Weblink\")","v":"Weblink"},"Enslow Publishing","2020","August 2019",null,"Author","Kevin Reilly",null,null,null,null,"Q",null,"Grade 3 - 4","Grade 3 - 6","Readers discover the many ways in which dams and levees are marvels of modern engineering through accessible text and informative photographs. Each chapter focuses on an important aspect of these structures, including the history of their invention, examples of noteworthy dams and levees, related career paths, and stories of the tragedies that have occurred when dams and levees failed. This book's contents directly correlate with Next Generation Science Standards. Readers will gain a deeper appreciation and respect for the engineering behind dams and levees, and the influence these beautiful structures have on our society.","English",27.93,20.95,"627/.8--dc23","48 pp.","https://www.enslow.com/books/Dams_and_Levees/421958",{"$f":"Table1[[#This Row],[QTY]]*Table1[[#This Row],['# of Books]]","v":0},{"$f":"Table1[[#This Row],[QTY]]*Table1[[#This Row],[School & Library Price]]","v":0}]
[null,null,null,"Exploring Infrastructure","Highways and Roads",1,"Library Bound Book","978-1-9785-0335-9",{"$f":"HYPERLINK(Table1[[#This Row],[Hyperlink]],\"Weblink\")","v":"Weblink"},"Enslow Publishing","2020","August 2019","7.250 X 9.250","Author, Author","Charlotte Taylor, Arlene Bourgeois Molzahn",null,null,null,null,"N",null,"Grade 3 - 4","Grade 3 - 6","Every day, millions of people get in their cars and trucks and hit the road. In order to support this huge volume of traffic, a strong system of highways and roads is essential. This comprehensive book examines how early trails and dirt roads eventually led to the high-speed freeways that now connect our cities, states, and countries. Readers are introduced to various types of roads, important rules and safety measures, and the many workers who ensure the maintenance and development of our highway system. Color photographs and fun facts accompany high-interest text in this first-hand look at a complex and crucial network.","English",27.93,20.95,"388.1--dc23","48 pp.","https://www.enslow.com/books/Highways_and_Roads/421959",{"$f":"Table1[[#This Row],[QTY]]*Table1[[#This Row],['# of Books]]","v":0},{"$f":"Table1[[#This Row],[QTY]]*Table1[[#This Row],[School & Library Price]]","v":0}]
[null,null,null,"Exploring Infrastructure","Our Water Supply",1,"eBook","978-1-9785-0398-4",{"$f":"HYPERLINK(Table1[[#This Row],[Hyperlink]],\"Weblink\")","v":"Weblink"},"Enslow Publishing","2020","August 2019",null,"Author","Rita Santos",null,null,null,null,"P",null,"Grade 3 - 4","Grade 3 - 6","Infrastructure is an essential part of any modern community. In this informative book, readers will explore the water supply, taking a detailed look at how water is gathered and filtered for safe consumption. Full-color photographs, fast facts, and accessible text provide readers with comprehensive descriptions of the system, an overview of its history and development, a description of the jobs that support the water system, and a look at how technology may change the future of the infrastructure. Content supports Next Generation Science Standards.","English",27.93,20.95,"628.10973--dc23","48 pp.","https://www.enslow.com/books/Our_Water_Supply/421960",{"$f":"Table1[[#This Row],[QTY]]*Table1[[#This Row],['# of Books]]","v":0},{"$f":"Table1[[#This Row],[QTY]]*Table1[[#This Row],[School & Library Price]]","v":0}]
[null,null,null,"Exploring Infrastructure","Ports",1,"Library Bound Book","978-1-9785-0337-3",{"$f":"HYPERLINK(Table1[[#This Row],[Hyperlink]],\"Weblink\")","v":"Weblink"},"Enslow Publishing","2020","August 2019","7.250 X 9.250","Author","Kevin Reilly",null,null,null,null,"Q",null,"Grade 3 - 4","Grade 3 - 6","Through accessible text and informative photographs, readers will explore ports, the backbone of commerce and trade throughout human civilization. Each chapter focuses on an important aspect of these facilities, including the history of ancient ports, the technological advances that have improved shipping over the centuries, profiles of port-related careers, and examples of the most impressive and influential ports of the modern era. Content directly correlates with Next Generation Science Standards, ensuring that young readers gain a deeper appreciation and respect for ports and the engineers that create and maintain them.","English",27.93,20.95,"387.1--dc23","48 pp.","https://www.enslow.com/books/Ports/421961",{"$f":"Table1[[#This Row],[QTY]]*Table1[[#This Row],['# of Books]]","v":0},{"$f":"Table1[[#This Row],[QTY]]*Table1[[#This Row],[School & Library Price]]","v":0}]
[null,null,null,"Exploring Infrastructure","Tunnels",1,"Library Bound Book","978-1-9785-0338-0",{"$f":"HYPERLINK(Table1[[#This Row],[Hyperlink]],\"Weblink\")","v":"Weblink"},"Enslow Publishing","2020","August 2019","7.250 X 9.250","Author","Kevin Reilly",null,null,null,null,"Q",null,"Grade 3 - 4","Grade 3 - 6","Today's tunnels, which extend through mountains and underneath oceans and rivers, are marvels of engineering. Readers take a close-up look at these structures and how they are built and maintained. Each chapter will focus on a key area, including the earliest tunnels, the technological advances that have improved their design and construction over time, profiles of tunnel-related careers, and examples of the most impressive tunnels in the world. This book's content correlates with Next Generation Science Standards, ensuring that young readers gain a deeper appreciation and respect for tunnels and the workers that create and maintain them.","English",27.93,20.95,"624.1/93--dc23","48 pp.","https://www.enslow.com/books/Tunnels/421962",{"$f":"Table1[[#This Row],[QTY]]*Table1[[#This Row],['# of Books]]","v":0},{"$f":"Table1[[#This Row],[QTY]]*Table1[[#This Row],[School & Library Price]]","v":0}]
[null,null,null,"Exploring Infrastructure","Tunnels",1,"eBook","978-1-9785-0392-2",{"$f":"HYPERLINK(Table1[[#This Row],[Hyperlink]],\"Weblink\")","v":"Weblink"},"Enslow Publishing","2020","August 2019",null,"Author","Kevin Reilly",null,null,null,null,"Q",null,"Grade 3 - 4","Grade 3 - 6","Today's tunnels, which extend through mountains and underneath oceans and rivers, are marvels of engineering. Readers take a close-up look at these structures and how they are built and maintained. Each chapter will focus on a key area, including the earliest tunnels, the technological advances that have improved their design and construction over time, profiles of tunnel-related careers, and examples of the most impressive tunnels in the world. This book's content correlates with Next Generation Science Standards, ensuring that young readers gain a deeper appreciation and respect for tunnels and the workers that create and maintain them.","English",27.93,20.95,"624.1/93--dc23","48 pp.","https://www.enslow.com/books/Tunnels/421962",{"$f":"Table1[[#This Row],[QTY]]*Table1[[#This Row],['# of Books]]","v":0},{"$f":"Table1[[#This Row],[QTY]]*Table1[[#This Row],[School & Library Price]]","v":0}]
[null,null,null,"Working for Social Justice","Working for Social Justice",4,"Library Set","978-1-9785-0789-0",{"$f":"HYPERLINK(Table1[[#This Row],[Hyperlink]],\"Weblink\")","v":"Weblink"},"Enslow Publishing","2020","August 2019","7.125 X 8.500",null,null,null,null,null,null,null,null,"Grade 3 - 4","Grade 3 - 6","As civic engagement is on the rise, and rallies, protests, and political conflicts dominate the headlines, it's become more important than ever to educate young readers about the ways they can make a difference in their communities. With accessible, easy-to-grasp language, this series tackles the complex issue of social justice, teaching students about the significance of ethnic and racial identity, the value of diversity, how to stand up against bias and discrimination, and how they can help create a better, more just society. Features include: Designed to correlate directly with the four anchor standards of the Teaching Tolerance curriculum guide: Identity, Diversity, Justice, and Action. Social justice is an increasingly relevant topic. Helpful Words to Know sections define complex terms in the social justice framework and Learn More sections provide further resources for study.","English",101.08,75.8,null,"32 pp.","https://www.enslow.com/series/Working_for_Social_Justice/478816",{"$f":"Table1[[#This Row],[QTY]]*Table1[[#This Row],['# of Books]]","v":0},{"$f":"Table1[[#This Row],[QTY]]*Table1[[#This Row],[School & Library Price]]","v":0}]
[null,null,null,"Working for Social Justice","Appreciating Diversity",1,"Library Bound Book","978-1-9785-0785-2",{"$f":"HYPERLINK(Table1[[#This Row],[Hyperlink]],\"Weblink\")","v":"Weblink"},"Enslow Publishing","2020","August 2019","7.125 X 8.500","Author","Rita Santos",null,null,null,null,"M",null,"Grade 3 - 4","Grade 3 - 6","In a time of divisive headlines, it's vital for students to learn the many ways diversity makes the world a better place. With this volume, students will be encouraged to celebrate the many different cultures of the globe. They will learn to understand concepts like intersectionality and discrimination, and how these concepts affect them and their friends. Young readers will learn why it is important to respect everyone no matter how different they may seem. The narrative simplifies complex ideas, making them accessible to students and showing them that when we celebrate our differences, the world becomes a friendlier place.","English",25.27,18.95,"305.8--dc23","32 pp.","https://www.enslow.com/books/Appreciating_Diversity/422032",{"$f":"Table1[[#This Row],[QTY]]*Table1[[#This Row],['# of Books]]","v":0},{"$f":"Table1[[#This Row],[QTY]]*Table1[[#This Row],[School & Library Price]]","v":0}]
[null,null,null,"Working for Social Justice","Promoting Justice",1,"eBook","978-1-9785-0800-2",{"$f":"HYPERLINK(Table1[[#This Row],[Hyperlink]],\"Weblink\")","v":"Weblink"},"Enslow Publishing","2020","August 2019",null,"Author","Rita Santos",null,null,null,null,"P",null,"Grade 3 - 4","Grade 3 - 6","As more people are becoming politically engaged, the concept of social justice is rapidly becoming a hot topic. Help students learn about the concept of justice and how it relates to their lives. This book highlights not only the importance of justice but also the ways the criminal justice system can be unfair to minority groups. Students will learn about how unconscious biases affect the justice system and how they can combat them. With simple, accessible text, this book tackles the complicated topic of justice and teaches students how they can help create a better, more just society.","English",25.27,18.95,"303.3/72--dc23","32 pp.","https://www.enslow.com/books/Promoting_Justice/422033",{"$f":"Table1[[#This Row],[QTY]]*Table1[[#This Row],['# of Books]]","v":0},{"$f":"Table1[[#This Row],[QTY]]*Table1[[#This Row],[School & Library Price]]","v":0}]
[null,null,null,"Working for Social Justice","Taking Action Against Inequality",1,"Library Bound Book","978-1-9785-0788-3",{"$f":"HYPERLINK(Table1[[#This Row],[Hyperlink]],\"Weblink\")","v":"Weblink"},"Enslow Publishing","2020","August 2019","7.125 X 8.500","Author","Rita Santos",null,null,null,null,"O",null,"Grade 3 - 4","Grade 3 - 6","As inequality and social justice become larger parts of the daily news cycle, it's more important than ever for students to learn about inequality. With this book, students will learn how to spot inequality in their communities and discover what exactly to do when they see it. Readers are provided with real-life examples of people who noticed inequality in their communities and decided to set things right. With accessible, easy-to-grasp language, this volume teaches students that they have the power to stand up against bias and discrimination.","English",25.27,18.95,"305--dc23","32 pp.","https://www.enslow.com/books/Taking_Action_Against_Inequality/422035",{"$f":"Table1[[#This Row],[QTY]]*Table1[[#This Row],['# of Books]]","v":0},{"$f":"Table1[[#This Row],[QTY]]*Table1[[#This Row],[School & Library Price]]","v":0}]
[null,null,null,"Working for Social Justice","Understanding Identity",1,"eBook","978-1-9785-0806-4",{"$f":"HYPERLINK(Table1[[#This Row],[Hyperlink]],\"Weblink\")","v":"Weblink"},"Enslow Publishing","2020","August 2019",null,"Author","Rita Santos",null,null,null,null,"Q",null,"Grade 3 - 4","Grade 3 - 6","As diversity in the American population continues to grow, it's critical for students to understand the significance of ethnic and racial identity. Help students start to grasp how people's identities shape their interactions with the world around them. Young readers will learn why it is important to respect everyone no matter how different they may seem. With understandable and accessible text, this must-have volume illustrates the necessity of acknowledging and appreciating our different identities.","English",25.27,18.95,"305--dc23","32 pp.","https://www.enslow.com/books/Understanding_Identity/422034",{"$f":"Table1[[#This Row],[QTY]]*Table1[[#This Row],['# of Books]]","v":0},{"$f":"Table1[[#This Row],[QTY]]*Table1[[#This Row],[School & Library Price]]","v":0}]
[null,null,null,"The Hip-Hop Revolution","The Hip-Hop Revolution",8,"Library Set","978-1-9785-0971-9",{"$f":"HYPERLINK(Table1[[#This Row],[Hyperlink]],\"Weblink\")","v":"Weblink"},"Enslow Publishing","2020","August 2019","6.000 X 9.000",null,null,null,null,null,null,null,null,"Grade 5","Grade 6 - 12","Hip-hop has become more than just a popular genre of music: it is a dynamic culture with its own unique fashion, language, art, and philosophies. This series discusses the lives and accomplishments of the biggest stars of hip-hop, who have broken music records, launched successful businesses, advocated for causes closest to their hearts, and given back to their communities. Full-color photographs, insightful details, and direct quotations from the individuals will help readers understand what drove these influential hip-hop artists to follow their dreams and how they have revolutionized mainstream culture and inspired others. Features include: At-level version of Stars of Hip-Hop series so all students, regardless of reading level, can explore and discuss the same topics. Sidebars expand on related timely topics. Uses high-interest text to promote leisure reading. Further Reading with current books and informative websites encourage further exploration. Timelines present important milestones in an easy-to-read format.","English",202.16,151.6,null,"32 pp.","https://www.enslow.com/series/The_Hip_Hop_Revolution/479000",{"$f":"Table1[[#This Row],[QTY]]*Table1[[#This Row],['# of Books]]","v":0},{"$f":"Table1[[#This Row],[QTY]]*Table1[[#This Row],[School & Library Price]]","v":0}]
[null,null,null,"The Hip-Hop Revolution","Chance the Rapper: Making Music and Giving Back",1,"Library Bound Book","978-1-9785-0964-1",{"$f":"HYPERLINK(Table1[[#This Row],[Hyperlink]],\"Weblink\")","v":"Weblink"},"Enslow Publishing","2020","August 2019","6.000 X 9.000","Author, Author","Tom Head, Deirdre Head",null,null,null,null,"S",null,"Grade 5","Grade 6 - 12","When Chancelor Bennett was a child growing up in Chicago, his parents instilled into him a strong work ethic. Little did they know that in a few years, their son would achieve an amazing number of accomplishments in the entertainment business. By putting his work on the internet for free, Chance showed a new generation of rappers that they can go directly to their fans to build an audience. In 2016, he became the first internet-based artist to win a Grammy. Eye-catching photographs, engaging sidebars, and revealing quotations show readers a different side of Chance the performer. They'll meet Chance the advocate, a man devoted to his family, faith, and hometown.","English",25.27,18.95,"782.421649092--dc23","32 pp.","https://www.enslow.com/books/Chance_the_Rapper/422048",{"$f":"Table1[[#This Row],[QTY]]*Table1[[#This Row],['# of Books]]","v":0},{"$f":"Table1[[#This Row],[QTY]]*Table1[[#This Row],[School & Library Price]]","v":0}]
[null,null,null,"The Hip-Hop Revolution","Chance the Rapper: Making Music and Giving Back",1,"eBook","978-1-9785-1008-1",{"$f":"HYPERLINK(Table1[[#This Row],[Hyperlink]],\"Weblink\")","v":"Weblink"},"Enslow Publishing","2020","August 2019",null,"Author, Author","Tom Head, Deirdre Head",null,null,null,null,"S",null,"Grade 5","Grade 6 - 12","When Chancelor Bennett was a child growing up in Chicago, his parents instilled into him a strong work ethic. Little did they know that in a few years, their son would achieve an amazing number of accomplishments in the entertainment business. By putting his work on the internet for free, Chance showed a new generation of rappers that they can go directly to their fans to build an audience. In 2016, he became the first internet-based artist to win a Grammy. Eye-catching photographs, engaging sidebars, and revealing quotations show readers a different side of Chance the performer. They'll meet Chance the advocate, a man devoted to his family, faith, and hometown.","English",25.27,18.95,"782.421649092--dc23","32 pp.","https://www.enslow.com/books/Chance_the_Rapper/422048",{"$f":"Table1[[#This Row],[QTY]]*Table1[[#This Row],['# of Books]]","v":0},{"$f":"Table1[[#This Row],[QTY]]*Table1[[#This Row],[School & Library Price]]","v":0}]
[null,null,null,"The Hip-Hop Revolution","Drake: Acting and Rapping to the Top",1,"eBook","978-1-9785-1014-2",{"$f":"HYPERLINK(Table1[[#This Row],[Hyperlink]],\"Weblink\")","v":"Weblink"},"Enslow Publishing","2020","August 2019",null,"Author","Barbara Gottfried",null,null,null,null,"R",null,"Grade 5","Grade 6 - 12","Born Aubrey Drake Graham, the rapper better known as Drake caught his big break on the Canadian teen drama series Degrassi: The Next Generation. His songs and albums have gone platinum and gold, won Grammys, and resulted in sold-out performances. Simple text, accompanied by powerful direct quotations, interesting sidebars, and detailed photographs, recounts how Drake surmounted his difficult beginnings as the son of a single hard-working mother who struggled to pay the bills to become a successful hip-hop artist. Readers will be inspired that he has never forgotten his past hardships and continues to donate to charitable causes.","English",25.27,18.95,"782.421649092--dc23","32 pp.","https://www.enslow.com/books/Drake/422049",{"$f":"Table1[[#This Row],[QTY]]*Table1[[#This Row],['# of Books]]","v":0},{"$f":"Table1[[#This Row],[QTY]]*Table1[[#This Row],[School & Library Price]]","v":0}]
[null,null,null,"The Hip-Hop Revolution","Jay-Z: Excelling in Music and Business",1,"Library Bound Book","978-1-9785-0966-5",{"$f":"HYPERLINK(Table1[[#This Row],[Hyperlink]],\"Weblink\")","v":"Weblink"},"Enslow Publishing","2020","August 2019","6.000 X 9.000","Author","Eileen Lucas",null,null,null,null,"R",null,"Grade 5","Grade 6 - 12","Shawn Carter, better known as Jay-Z, overcame a life of poverty in the Marcy Projects of Brooklyn and became one of the most successful rappers in the world. He has received more than twenty Grammy Awards as well as other music honors, and he has also proven to be a savvy entrepreneur with his clothing, clubs, and sports business ventures. Drawing from the rapper's own words, which are accompanied by detailed photographs and fascinating sidebars, this book provides readers with a straightforward look at the life of Jay-Z and the business empire he built.","English",25.27,18.95,"782.421649092--dc23","32 pp.","https://www.enslow.com/books/Jay_Z/422050",{"$f":"Table1[[#This Row],[QTY]]*Table1[[#This Row],['# of Books]]","v":0},{"$f":"Table1[[#This Row],[QTY]]*Table1[[#This Row],[School & Library Price]]","v":0}]
[null,null,null,"The Hip-Hop Revolution","Kanye West: Conquering Music and Fashion",1,"eBook","978-1-9785-1027-2",{"$f":"HYPERLINK(Table1[[#This Row],[Hyperlink]],\"Weblink\")","v":"Weblink"},"Enslow Publishing","2020","August 2019",null,"Author, Author","Tom Head, Deirdre Head",null,null,null,null,"R",null,"Grade 5","Grade 6 - 12","Since he was a child, Kanye West had always been considered intelligent and eager to work hard by the people in his life. He carried these traits into adulthood when he began his career as a music producer. When he turned his attention to music, he was catapulted into international fame, and Kanye continues to be one of the most talked about musical artists. Engaging text, insightful pull quotes, and intriguing sidebars reveal fascinating details about his unique childhood experiences, which drove him to succeed in the music and fashion industries, while colorful photographs draw readers closer into the artist's life story.","English",25.27,18.95,"782.421649092--dc23","32 pp.","https://www.enslow.com/books/Kanye_West/422054",{"$f":"Table1[[#This Row],[QTY]]*Table1[[#This Row],['# of Books]]","v":0},{"$f":"Table1[[#This Row],[QTY]]*Table1[[#This Row],[School & Library Price]]","v":0}]
[null,null,null,"The Hip-Hop Revolution","Kendrick Lamar: Becoming the Voice of Compton",1,"Library Bound Book","978-1-9785-0967-2",{"$f":"HYPERLINK(Table1[[#This Row],[Hyperlink]],\"Weblink\")","v":"Weblink"},"Enslow Publishing","2020","August 2019","6.000 X 9.000","Author","Therese M. Shea",null,null,null,null,"S",null,"Grade 5","Grade 6 - 12","Grammy winner Kendrick Lamar continuously wows fans and critics alike with his contributions to the world of hip-hop. Born in Compton, California, Lamar was no stranger to street violence. He channeled his experiences into pensive lyrics, releasing his first mixtape at the age of sixteen. Readers will learn about Lamar's experiences in the music world, his association with Dr. Dre, and his ascent to becoming a Pulitzer Prize winner. Quotes from Lamar, sidebars, a timeline about his life, and vivid photographs of performances make this high-interest volume a must for every hip-hop lover's collection.","English",25.27,18.95,"782.421649092--dc23","32 pp.","https://www.enslow.com/books/Kendrick_Lamar/422051",{"$f":"Table1[[#This Row],[QTY]]*Table1[[#This Row],['# of Books]]","v":0},{"$f":"Table1[[#This Row],[QTY]]*Table1[[#This Row],[School & Library Price]]","v":0}]
[null,null,null,"The Hip-Hop Revolution","Lil Buck: Inspiring Change Through Dance",1,"eBook","978-1-9785-1039-5",{"$f":"HYPERLINK(Table1[[#This Row],[Hyperlink]],\"Weblink\")","v":"Weblink"},"Enslow Publishing","2020","August 2019",null,"Author","Kate Mikoley",null,null,null,null,"S",null,"Grade 5","Grade 6 - 12","Lil Buck was known around his hometown of Memphis as a talented dancer, but after a video of him performing alongside Yo-Yo Ma went viral, he became a hit around the globe. He's added his own flair to the dance style known as jookin and has shown the world that he is a true artist. This high-interest volume includes stimulating sidebars, colorful photographs, and exciting details to help readers understand what drove Lil Buck to strive for his dreams, inspire others, and revolutionize the world of dance.","English",25.27,18.95,"792.8092--dc23","32 pp.","https://www.enslow.com/books/Lil_Buck/422052",{"$f":"Table1[[#This Row],[QTY]]*Table1[[#This Row],['# of Books]]","v":0},{"$f":"Table1[[#This Row],[QTY]]*Table1[[#This Row],[School & Library Price]]","v":0}]
[null,null,null,"The Hip-Hop Revolution","Nicki Minaj: Shaking Up Fashion and Music",1,"Library Bound Book","978-1-9785-0969-6",{"$f":"HYPERLINK(Table1[[#This Row],[Hyperlink]],\"Weblink\")","v":"Weblink"},"Enslow Publishing","2020","August 2019","6.000 X 9.000","Author","Lisa Idzikowski",null,null,null,null,"R",null,"Grade 5","Grade 6 - 12","Best-selling rap artist Nicki Minaj has racked up many awards for her thrilling work. She rose from mixtape recordings to become a sought-after collaborator, actress, and spokesperson who has climbed to the top of the charts. High-interest details, engaging sidebars, and an accessible timeline guide curious readers along her path from struggling beginner to music mogul. Thought-provoking direct quotations and vivid photographs enhance readers' journey and invite them to revisit the exciting hip-hop world of Nicki Minaj.","English",25.27,18.95,"782.42164092--dc23","32 pp.","https://www.enslow.com/books/Nicki_Minaj/422053",{"$f":"Table1[[#This Row],[QTY]]*Table1[[#This Row],['# of Books]]","v":0},{"$f":"Table1[[#This Row],[QTY]]*Table1[[#This Row],[School & Library Price]]","v":0}]
[null,null,null,"Stars of the Negro Leagues","Buck Leonard: Phenomenal First Baseman",1,"Library Bound Book","978-1-9785-1047-0",{"$f":"HYPERLINK(Table1[[#This Row],[Hyperlink]],\"Weblink\")","v":"Weblink"},"Enslow Publishing","2020","August 2019","6.000 X 9.000","Author","Hallie Murray",null,null,null,null,"Z",null,"Grade 7","Grade 7 - 12","Buck Leonard was a famous first baseman who played for one of the top teams in Negro league history, the Homestead Grays, for sixteen seasons, beginning in 1934. Leonard's skill led him to be known as the \"black Lou Gehrig,\" but he was not offered a Major League Baseball contract until 1952. He declined because he felt he was too old and might damage the image of black players in general if he were injured. Leonard's story illuminates the unique challenges Negro League players faced in a time of segregation and racism.","English",37.270000000000003,27.95,"796.357092--dc23","104 pp.","https://www.enslow.com/books/Buck_Leonard/422061",{"$f":"Table1[[#This Row],[QTY]]*Table1[[#This Row],['# of Books]]","v":0},{"$f":"Table1[[#This Row],[QTY]]*Table1[[#This Row],[School & Library Price]]","v":0}]
[null,null,null,"Stars of the Negro Leagues","Buck Leonard: Phenomenal First Baseman",1,"eBook","978-1-9785-1048-7",{"$f":"HYPERLINK(Table1[[#This Row],[Hyperlink]],\"Weblink\")","v":"Weblink"},"Enslow Publishing","2020","August 2019",null,"Author","Hallie Murray",null,null,null,null,"Z",null,"Grade 7","Grade 7 - 12","Buck Leonard was a famous first baseman who played for one of the top teams in Negro league history, the Homestead Grays, for sixteen seasons, beginning in 1934. Leonard's skill led him to be known as the \"black Lou Gehrig,\" but he was not offered a Major League Baseball contract until 1952. He declined because he felt he was too old and might damage the image of black players in general if he were injured. Leonard's story illuminates the unique challenges Negro League players faced in a time of segregation and racism.","English",37.270000000000003,27.95,"796.357092--dc23","104 pp.","https://www.enslow.com/books/Buck_Leonard/422061",{"$f":"Table1[[#This Row],[QTY]]*Table1[[#This Row],['# of Books]]","v":0},{"$f":"Table1[[#This Row],[QTY]]*Table1[[#This Row],[School & Library Price]]","v":0}]
[null,null,null,"Stars of the Negro Leagues","Josh Gibson: Catcher and Power Hitter",1,"Library Bound Book","978-1-9785-1053-1",{"$f":"HYPERLINK(Table1[[#This Row],[Hyperlink]],\"Weblink\")","v":"Weblink"},"Enslow Publishing","2020","August 2019","6.000 X 9.000","Author","Hallie Murray",null,null,null,null,"Z",null,"Grade 7","Grade 7 - 12","Josh Gibson, sometimes known as the \"black Babe Ruth\" for his skill at bat, was a power hitter and catcher in the Negro Leagues. He played on the Homestead Grays and Pittsburgh Crawfords between 1930 and 1946. Gibson died tragically from a brain tumor in 1947, just months before Jackie Robinson broke the baseball color barrier. Though he was never able to join an MLB team due to discrimination, Gibson is often considered to have been one of the best catchers and sluggers in baseball's history.","English",37.270000000000003,27.95,"796.357092--dc23","104 pp.","https://www.enslow.com/books/Josh_Gibson/422063",{"$f":"Table1[[#This Row],[QTY]]*Table1[[#This Row],['# of Books]]","v":0},{"$f":"Table1[[#This Row],[QTY]]*Table1[[#This Row],[School & Library Price]]","v":0}]
[null,null,null,"Stars of the Negro Leagues","Josh Gibson: Catcher and Power Hitter",1,"eBook","978-1-9785-1054-8",{"$f":"HYPERLINK(Table1[[#This Row],[Hyperlink]],\"Weblink\")","v":"Weblink"},"Enslow Publishing","2020","August 2019",null,"Author","Hallie Murray",null,null,null,null,"Z",null,"Grade 7","Grade 7 - 12","Josh Gibson, sometimes known as the \"black Babe Ruth\" for his skill at bat, was a power hitter and catcher in the Negro Leagues. He played on the Homestead Grays and Pittsburgh Crawfords between 1930 and 1946. Gibson died tragically from a brain tumor in 1947, just months before Jackie Robinson broke the baseball color barrier. Though he was never able to join an MLB team due to discrimination, Gibson is often considered to have been one of the best catchers and sluggers in baseball's history.","English",37.270000000000003,27.95,"796.357092--dc23","104 pp.","https://www.enslow.com/books/Josh_Gibson/422063",{"$f":"Table1[[#This Row],[QTY]]*Table1[[#This Row],['# of Books]]","v":0},{"$f":"Table1[[#This Row],[QTY]]*Table1[[#This Row],[School & Library Price]]","v":0}]
[null,null,null,"Stars of the Negro Leagues","Judy Johnson: Third Baseman and Manager",1,"eBook","978-1-9785-1057-9",{"$f":"HYPERLINK(Table1[[#This Row],[Hyperlink]],\"Weblink\")","v":"Weblink"},"Enslow Publishing","2020","August 2019",null,"Author","Hallie Murray",null,null,null,null,"Z",null,"Grade 7","Grade 7 - 12","Known as one of the best pinch-hitting third baseman to ever play the game, Judy Johnson played seventeen seasons of Negro league baseball before retiring in 1937. Johnson was known for his calm and professional demeanor on the field, and he also managed many of the teams he played for. After his retirement, he went on to become one of the first black men hired to a coaching position for a Major League Baseball team. This book chronicles the life of the sports hero while introducing readers to the difficulties of living in a time of segregation and political upheaval.","English",37.270000000000003,27.95,"796.357092--dc23","104 pp.","https://www.enslow.com/books/Judy_Johnson/422064",{"$f":"Table1[[#This Row],[QTY]]*Table1[[#This Row],['# of Books]]","v":0},{"$f":"Table1[[#This Row],[QTY]]*Table1[[#This Row],[School & Library Price]]","v":0}]
[null,null,null,"Stars of the Negro Leagues","Monte Irvin: Outstanding Outfielder",1,"Library Bound Book","978-1-9785-1058-6",{"$f":"HYPERLINK(Table1[[#This Row],[Hyperlink]],\"Weblink\")","v":"Weblink"},"Enslow Publishing","2020","August 2019","6.000 X 9.000","Author","Hallie Murray",null,null,null,null,"Z",null,"Grade 7","Grade 7 - 12","Inspire your readers with this biography. The exceptionally athletic Monte Irvin was an outfielder who started in the Negro leagues and eventually became one of the earliest black Major League Baseball players after joining the New York Giants in 1949. He played in two World Series with the Giants and after retiring worked as a baseball scout and served in an administrative role in the MLB commissioner's office. Readers will learn that as a mentor to Willie Mays, Irvin helped pave the way for other black players in the major leagues despite encountering racism on and off the field, and he was honored greatly later in life for his achievements.","English",37.270000000000003,27.95,"796.357092--dc23","104 pp.","https://www.enslow.com/books/Monte_Irvin/422065",{"$f":"Table1[[#This Row],[QTY]]*Table1[[#This Row],['# of Books]]","v":0},{"$f":"Table1[[#This Row],[QTY]]*Table1[[#This Row],[School & Library Price]]","v":0}]
[null,null,null,"Stars of the Negro Leagues","Satchel Paige: Legendary Pitcher",1,"eBook","978-1-9785-1082-1",{"$f":"HYPERLINK(Table1[[#This Row],[Hyperlink]],\"Weblink\")","v":"Weblink"},"Enslow Publishing","2020","August 2019",null,"Author","Hallie Murray",null,null,null,null,"Z",null,"Grade 7","Grade 7 - 12","Satchel Paige was an enormously popular pitcher whose career spanned nearly thirty seasons across numerous teams. When he joined the Cleveland Indians in 1948, he became the oldest major league rookie on a major league team, and he was the first Negro league player to be inducted into the Baseball Hall of Fame. Paige is often considered one of the most talented and entertaining pitchers of any race to have ever played baseball. This engaging narrative of both his successes and struggles introduces young readers to America's complicated racial and political landscape in the early twentieth century.","English",37.270000000000003,27.95,"796.357092--dc23","104 pp.","https://www.enslow.com/books/Satchel_Paige/422066",{"$f":"Table1[[#This Row],[QTY]]*Table1[[#This Row],['# of Books]]","v":0},{"$f":"Table1[[#This Row],[QTY]]*Table1[[#This Row],[School & Library Price]]","v":0}]
[null,null,null,"Championship Coaches","Championship Coaches",6,"Library Set","978-1-9785-0012-9",{"$f":"HYPERLINK(Table1[[#This Row],[Hyperlink]],\"Weblink\")","v":"Weblink"},"Enslow Publishing","2020","August 2019","6.000 X 9.000",null,null,null,null,null,null,null,null,"Grade 7","Grade 7 - 12","Winning isn't everything, but for the coaches profiled in this set, winning clearly matters. They are some of the highest-achieving coaches in history. Through the stories of sports figures like Bill Belichick, who is responsible for six Super Bowl championships, Phil Jackson, one of the top ten coaches in NBA history, and Geno Auriemma, who led the University of Connecticut women's basketball team to eleven NCAA championships, students will learn what it takes to be a leader. They'll learn how these exceptional men and women made it to the top of their fields while bringing their teams along with them. Features include: Fascinating figures from the popular world of sports. Quotes and call-outs chart these inspiring stories of success in the coaches' own words. \"Further Reading\" sections provide even more resources in the form of books, websites, and videos.","English",231.6,173.7,null,"112 pp.","https://www.enslow.com/series/Championship_Coaches/455292",{"$f":"Table1[[#This Row],[QTY]]*Table1[[#This Row],['# of Books]]","v":0},{"$f":"Table1[[#This Row],[QTY]]*Table1[[#This Row],[School & Library Price]]","v":0}]
[null,null,null,"Championship Coaches","Geno Auriemma",1,"Library Bound Book","978-0-7660-9791-9",{"$f":"HYPERLINK(Table1[[#This Row],[Hyperlink]],\"Weblink\")","v":"Weblink"},"Enslow Publishing","2020","August 2019","6.000 X 9.000","Author","John Fredric Evans",null,null,null,null,"Z",null,"Grade 7","Grade 7 - 12","Today, top recruits know that Connecticut embodies excellence in women's basketball. But before Geno Auriemma began his unprecedented run to 11 national championships, the Huskies only brought out bleachers for the biggest games. Auriemma established a culture that would become a model for sports programs. His players learn to put their personal point totals aside and work together for wins, in the process unlocking their fullest potential as people. This two-time Olympic gold medal winner gives a great interview because he tells us what he truly believes, and he's a great coach for the same reason. His players know exactly what he expects from them, and stars do not get special treatment. He demands more from those with the most to give. This biography details the remarkable story of an immigrant who rose from poverty to become synonymous with success in sports, developing leadership principles invaluable to any team.","English",38.6,28.95,"796.323092--dc23","112 pp.","https://www.enslow.com/books/Geno_Auriemma/421920",{"$f":"Table1[[#This Row],[QTY]]*Table1[[#This Row],['# of Books]]","v":0},{"$f":"Table1[[#This Row],[QTY]]*Table1[[#This Row],[School & Library Price]]","v":0}]
[null,null,null,"Championship Coaches","Geno Auriemma",1,"eBook","978-0-7660-9793-3",{"$f":"HYPERLINK(Table1[[#This Row],[Hyperlink]],\"Weblink\")","v":"Weblink"},"Enslow Publishing","2020","August 2019",null,"Author","John Fredric Evans",null,null,null,null,"Z",null,"Grade 7","Grade 7 - 12","Today, top recruits know that Connecticut embodies excellence in women's basketball. But before Geno Auriemma began his unprecedented run to 11 national championships, the Huskies only brought out bleachers for the biggest games. Auriemma established a culture that would become a model for sports programs. His players learn to put their personal point totals aside and work together for wins, in the process unlocking their fullest potential as people. This two-time Olympic gold medal winner gives a great interview because he tells us what he truly believes, and he's a great coach for the same reason. His players know exactly what he expects from them, and stars do not get special treatment. He demands more from those with the most to give. This biography details the remarkable story of an immigrant who rose from poverty to become synonymous with success in sports, developing leadership principles invaluable to any team.","English",38.6,28.95,"796.323092--dc23","112 pp.","https://www.enslow.com/books/Geno_Auriemma/421920",{"$f":"Table1[[#This Row],[QTY]]*Table1[[#This Row],['# of Books]]","v":0},{"$f":"Table1[[#This Row],[QTY]]*Table1[[#This Row],[School & Library Price]]","v":0}]
[null,null,null,"Championship Coaches","Nick Saban",1,"Library Bound Book","978-0-7660-9803-9",{"$f":"HYPERLINK(Table1[[#This Row],[Hyperlink]],\"Weblink\")","v":"Weblink"},"Enslow Publishing","2020","August 2019","6.000 X 9.000","Author","John Fredric Evans",null,null,null,null,"Z",null,"Grade 7","Grade 7 - 12","What's Nick Saban's secret? How did a football coach some derided as a liar, quitter, and mercenary tie the college record for most national championships in the history of the sport? This book details Saban's journey from his humble beginnings in West Virginia and abortive stint in the NFL to the pinnacle of success at Alabama. Students will learn exactly how Saban keeps his recruiting classes atop the rankings and the Crimson Tide in title contention, year after year. The sensitivity beneath Saban's stoic exterior may be surprising, but a closer look at his life reveals that it is a critical part of his psychological makeup. Embedded in his experiences are lessons of leadership useful in all walks of life, from helping very different personalities reach their fullest potential to moving on from both achievements and setbacks with the focus of a perennial winner.","English",38.6,28.95,"796.332092--dc23","112 pp.","https://www.enslow.com/books/Nick_Saban/421924",{"$f":"Table1[[#This Row],[QTY]]*Table1[[#This Row],['# of Books]]","v":0},{"$f":"Table1[[#This Row],[QTY]]*Table1[[#This Row],[School & Library Price]]","v":0}]
[null,null,null,"Championship Coaches","Nick Saban",1,"eBook","978-0-7660-9805-3",{"$f":"HYPERLINK(Table1[[#This Row],[Hyperlink]],\"Weblink\")","v":"Weblink"},"Enslow Publishing","2020","August 2019",null,"Author","John Fredric Evans",null,null,null,null,"Z",null,"Grade 7","Grade 7 - 12","What's Nick Saban's secret? How did a football coach some derided as a liar, quitter, and mercenary tie the college record for most national championships in the history of the sport? This book details Saban's journey from his humble beginnings in West Virginia and abortive stint in the NFL to the pinnacle of success at Alabama. Students will learn exactly how Saban keeps his recruiting classes atop the rankings and the Crimson Tide in title contention, year after year. The sensitivity beneath Saban's stoic exterior may be surprising, but a closer look at his life reveals that it is a critical part of his psychological makeup. Embedded in his experiences are lessons of leadership useful in all walks of life, from helping very different personalities reach their fullest potential to moving on from both achievements and setbacks with the focus of a perennial winner.","English",38.6,28.95,"796.332092--dc23","112 pp.","https://www.enslow.com/books/Nick_Saban/421924",{"$f":"Table1[[#This Row],[QTY]]*Table1[[#This Row],['# of Books]]","v":0},{"$f":"Table1[[#This Row],[QTY]]*Table1[[#This Row],[School & Library Price]]","v":0}]
[null,null,null,"Championship Coaches","Phil Jackson",1,"Library Bound Book","978-0-7660-9797-1",{"$f":"HYPERLINK(Table1[[#This Row],[Hyperlink]],\"Weblink\")","v":"Weblink"},"Enslow Publishing","2020","August 2019","6.000 X 9.000","Author","John Fredric Evans",null,null,null,null,"Z",null,"Grade 7","Grade 7 - 12","How did a boy who grew up in remote areas of Montana and North Dakota go on to become the National Basketball Association's all-time winningest coach? Phil Jackson's life story that took him from small town U.S.A. to the pinnacle of NBA coaching success is anything but conventional. Known as the Zen Master for imbuing his coaching style with the tenets of Eastern philosophy, Jackson's always employed a unique approach to basketball both on and off the court. Popularizing a system of play called the triangle offense, Jackson won multiple championships including an unprecedented three \"three-peats\" while coaching Michael Jordan's Chicago Bulls and Kobe Bryant's Los Angeles Lakers, resulting in 11 championships over 20 seasons. That's more than any coach in any of North America's major professional sports. This biography explores Jackson's one-of-a-kind keys to Hall of Fame success that enabled him achieve uncommon triumph in an unparalleled two-decade coaching career.","English",38.6,28.95,"796.323092--dc23","112 pp.","https://www.enslow.com/books/Phil_Jackson/421922",{"$f":"Table1[[#This Row],[QTY]]*Table1[[#This Row],['# of Books]]","v":0},{"$f":"Table1[[#This Row],[QTY]]*Table1[[#This Row],[School & Library Price]]","v":0}]
[null,null,null,"Championship Coaches","Phil Jackson",1,"eBook","978-0-7660-9799-5",{"$f":"HYPERLINK(Table1[[#This Row],[Hyperlink]],\"Weblink\")","v":"Weblink"},"Enslow Publishing","2020","August 2019",null,"Author","John Fredric Evans",null,null,null,null,"Z",null,"Grade 7","Grade 7 - 12","How did a boy who grew up in remote areas of Montana and North Dakota go on to become the National Basketball Association's all-time winningest coach? Phil Jackson's life story that took him from small town U.S.A. to the pinnacle of NBA coaching success is anything but conventional. Known as the Zen Master for imbuing his coaching style with the tenets of Eastern philosophy, Jackson's always employed a unique approach to basketball both on and off the court. Popularizing a system of play called the triangle offense, Jackson won multiple championships including an unprecedented three \"three-peats\" while coaching Michael Jordan's Chicago Bulls and Kobe Bryant's Los Angeles Lakers, resulting in 11 championships over 20 seasons. That's more than any coach in any of North America's major professional sports. This biography explores Jackson's one-of-a-kind keys to Hall of Fame success that enabled him achieve uncommon triumph in an unparalleled two-decade coaching career.","English",38.6,28.95,"796.323092--dc23","112 pp.","https://www.enslow.com/books/Phil_Jackson/421922",{"$f":"Table1[[#This Row],[QTY]]*Table1[[#This Row],['# of Books]]","v":0},{"$f":"Table1[[#This Row],[QTY]]*Table1[[#This Row],[School & Library Price]]","v":0}]
[null,null,null,"Unplugged Activities for Future Coders","Build Your Algorithm Skills",1,"Library Bound Book","978-1-9785-1074-6",{"$f":"HYPERLINK(Table1[[#This Row],[Hyperlink]],\"Weblink\")","v":"Weblink"},"Enslow Publishing","2020","August 2019","7.250 X 9.250","Author, Illustrated by","Christopher Harris , Joel Gennari",null,null,null,null,"T",null,"Grade 5","Grade 5 - 8","From the simplest applications to the largest networking centers, algorithms are the heartbeat of computer science. The beauty of computers is their ability to automate processes, and algorithms are the tools coders use to make that possible. They employ core computational thinking skills, including logic and problem solving to make software tick. Through a series of thoughtful activities, readers will learn what algorithms are, what they are used for, and how to make their own algorithms using pseudocode and flowcharts. These interactive, game-like projects provide an accessible path to understanding algorithms, even with little or no computer science experience.","English",27.93,20.95,"794.8/1525--dc23","48 pp.","https://www.enslow.com/books/Build_Your_Algorithm_Skills/422071",{"$f":"Table1[[#This Row],[QTY]]*Table1[[#This Row],['# of Books]]","v":0},{"$f":"Table1[[#This Row],[QTY]]*Table1[[#This Row],[School & Library Price]]","v":0}]
[null,null,null,"Unplugged Activities for Future Coders","Build Your Algorithm Skills",1,"eBook","978-1-9785-1075-3",{"$f":"HYPERLINK(Table1[[#This Row],[Hyperlink]],\"Weblink\")","v":"Weblink"},"Enslow Publishing","2020","August 2019",null,"Author, Illustrated by","Christopher Harris , Joel Gennari",null,null,null,null,"T",null,"Grade 5","Grade 5 - 8","From the simplest applications to the largest networking centers, algorithms are the heartbeat of computer science. The beauty of computers is their ability to automate processes, and algorithms are the tools coders use to make that possible. They employ core computational thinking skills, including logic and problem solving to make software tick. Through a series of thoughtful activities, readers will learn what algorithms are, what they are used for, and how to make their own algorithms using pseudocode and flowcharts. These interactive, game-like projects provide an accessible path to understanding algorithms, even with little or no computer science experience.","English",27.93,20.95,"794.8/1525--dc23","48 pp.","https://www.enslow.com/books/Build_Your_Algorithm_Skills/422071",{"$f":"Table1[[#This Row],[QTY]]*Table1[[#This Row],['# of Books]]","v":0},{"$f":"Table1[[#This Row],[QTY]]*Table1[[#This Row],[School & Library Price]]","v":0}]
[null,null,null,"Unplugged Activities for Future Coders","Build Your Computer Security Skills",1,"Library Bound Book","978-1-9785-1065-4",{"$f":"HYPERLINK(Table1[[#This Row],[Hyperlink]],\"Weblink\")","v":"Weblink"},"Enslow Publishing","2020","August 2019","7.250 X 9.250","Author, Author, Illustrated by","Adam Furgang, Christopher Harris , Joel Gennari",null,null,null,null,"T",null,"Grade 5","Grade 5 - 8","Computers have become enmeshed in almost every aspect of modern life. While this development has made our lives easier and more convenient, it also opens us up to all sorts of security risks. The dozen activities in this volume emphasize the importance of computer security and delve into the steps that both coders and ordinary users of technology can take to improve their computer security. Individual activities explore topics such as encryption, coming up with secure passwords, two-step verification, phishing, and fingerprint identification.","English",27.93,20.95,"005.8--dc23","48 pp.","https://www.enslow.com/books/Build_Your_Computer_Security_Skills/422068",{"$f":"Table1[[#This Row],[QTY]]*Table1[[#This Row],['# of Books]]","v":0},{"$f":"Table1[[#This Row],[QTY]]*Table1[[#This Row],[School & Library Price]]","v":0}]
[null,null,null,"Unplugged Activities for Future Coders","Build Your Computer Security Skills",1,"eBook","978-1-9785-1066-1",{"$f":"HYPERLINK(Table1[[#This Row],[Hyperlink]],\"Weblink\")","v":"Weblink"},"Enslow Publishing","2020","August 2019",null,"Author, Author, Illustrated by","Adam Furgang, Christopher Harris , Joel Gennari",null,null,null,null,"T",null,"Grade 5","Grade 5 - 8","Computers have become enmeshed in almost every aspect of modern life. While this development has made our lives easier and more convenient, it also opens us up to all sorts of security risks. The dozen activities in this volume emphasize the importance of computer security and delve into the steps that both coders and ordinary users of technology can take to improve their computer security. Individual activities explore topics such as encryption, coming up with secure passwords, two-step verification, phishing, and fingerprint identification.","English",27.93,20.95,"005.8--dc23","48 pp.","https://www.enslow.com/books/Build_Your_Computer_Security_Skills/422068",{"$f":"Table1[[#This Row],[QTY]]*Table1[[#This Row],['# of Books]]","v":0},{"$f":"Table1[[#This Row],[QTY]]*Table1[[#This Row],[School & Library Price]]","v":0}]
[null,null,null,"Unplugged Activities for Future Coders","Build Your UX and UI Design Skills",1,"Library Bound Book","978-1-9785-1071-5",{"$f":"HYPERLINK(Table1[[#This Row],[Hyperlink]],\"Weblink\")","v":"Weblink"},"Enslow Publishing","2020","August 2019","7.250 X 9.250","Author, Illustrated by","Christopher Harris , Joel Gennari",null,null,null,null,"V",null,"Grade 5","Grade 5 - 8","Though code is what makes software run, its user experience (UX) is what makes it a success. Designing a user experience requires a combination of computer science skills and an artistic eye, especially when it comes to the user interface (UI). What users see and interact with will greatly influence their reaction to a piece of software. This book teaches the importance of UX and UI designers and introduces the practices of good software design, all while stimulating readers with unique, engaging activities.","English",27.93,20.95,"005.4/37--dc23","48 pp.","https://www.enslow.com/books/Build_Your_UX_and_UI_Design_Skills/422070",{"$f":"Table1[[#This Row],[QTY]]*Table1[[#This Row],['# of Books]]","v":0},{"$f":"Table1[[#This Row],[QTY]]*Table1[[#This Row],[School & Library Price]]","v":0}]
[null,null,null,"Unplugged Activities for Future Coders","Build Your UX and UI Design Skills",1,"eBook","978-1-9785-1072-2",{"$f":"HYPERLINK(Table1[[#This Row],[Hyperlink]],\"Weblink\")","v":"Weblink"},"Enslow Publishing","2020","August 2019",null,"Author, Illustrated by","Christopher Harris , Joel Gennari",null,null,null,null,"V",null,"Grade 5","Grade 5 - 8","Though code is what makes software run, its user experience (UX) is what makes it a success. Designing a user experience requires a combination of computer science skills and an artistic eye, especially when it comes to the user interface (UI). What users see and interact with will greatly influence their reaction to a piece of software. This book teaches the importance of UX and UI designers and introduces the practices of good software design, all while stimulating readers with unique, engaging activities.","English",27.93,20.95,"005.4/37--dc23","48 pp.","https://www.enslow.com/books/Build_Your_UX_and_UI_Design_Skills/422070",{"$f":"Table1[[#This Row],[QTY]]*Table1[[#This Row],['# of Books]]","v":0},{"$f":"Table1[[#This Row],[QTY]]*Table1[[#This Row],[School & Library Price]]","v":0}]
[null,null,null,"Social Media Smarts","Bullies and Trolls: Protecting Yourself on Social Media",1,"eBook","978-1-9785-0770-8",{"$f":"HYPERLINK(Table1[[#This Row],[Hyperlink]],\"Weblink\")","v":"Weblink"},"Enslow Publishing","2020","August 2019",null,"Author","Taylor Morris",null,null,null,null,"W",null,"Grade 6","Grade 5 - 8","If you want to know where kids are hanging out these days, think virtual. The place to be is online, where kids keep up with each other, share images, play games, and keep up with the world. Sometimes those clicks and comments can turn ugly, though. Bullies and trolls are a fact of our world, but we're here to help stop them. We'll break down whom they target, who they are, and what to do to stop the cycle. From how to shut down a troll to what the law and school policies offer, readers find out how to silence the bullies on the other side of that black mirror.","English",27.93,20.95,"302.34/3--dc23","48 pp.","https://www.enslow.com/books/Bullies_and_Trolls/422026",{"$f":"Table1[[#This Row],[QTY]]*Table1[[#This Row],['# of Books]]","v":0},{"$f":"Table1[[#This Row],[QTY]]*Table1[[#This Row],[School & Library Price]]","v":0}]
[null,null,null,"Social Media Smarts","They're Watching You: Personal Privacy on Social Media",1,"Library Bound Book","978-1-9785-0778-4",{"$f":"HYPERLINK(Table1[[#This Row],[Hyperlink]],\"Weblink\")","v":"Weblink"},"Enslow Publishing","2020","August 2019","7.250 X 9.250","Author","Alexis Burling",null,null,null,null,"X",null,"Grade 6","Grade 5 - 8","For many teens, maintaining a strong social media presence is all about sharing wacky videos with friends, posting fun photographs, or following their favorite bands and brands. What they may not realize is that corporations are mining Facebook, Instagram, Snapchat, and other social media platforms for marketable data. Being too open on social media can also expose teens to other risks, such as identity theft. but this book has readers covered. They'll learn practical tips on how to be smart about personal privacy. A compelling, non-preachy main text and suggestions for further reading help teens get their social media fix while still playing it safe.","English",27.93,20.95,"302.3--dc23","48 pp.","https://www.enslow.com/books/Theyre_Watching_You/422029",{"$f":"Table1[[#This Row],[QTY]]*Table1[[#This Row],['# of Books]]","v":0},{"$f":"Table1[[#This Row],[QTY]]*Table1[[#This Row],[School & Library Price]]","v":0}]
[null,null,null,"Social Media Smarts","What You Post Lasts Forever: Managing Your Social Media Presence",1,"eBook","978-1-9785-0794-4",{"$f":"HYPERLINK(Table1[[#This Row],[Hyperlink]],\"Weblink\")","v":"Weblink"},"Enslow Publishing","2020","August 2019",null,"Author","Alexis Burling",null,null,null,null,"X",null,"Grade 6","Grade 5 - 8","For many teens, being 100 percent candid on social media and posting revealing photographs from last night's party is not only a blast, it's the norm. But what if their grandmother saw the posts? Even worse, what if a future boss or a college admissions recruiter did? Not cool. In this book, readers will learn why it's important to act responsibly when shaping their digital footprint. A breakdown of profile dos and don'ts and practical tips on how to manage their day-to-day social media presence make the information relevant. Fun quizzes, discussion prompts, and an engaging text keep the learning experience fun.","English",27.93,20.95,"302.23--dc23","48 pp.","https://www.enslow.com/books/What_You_Post_Lasts_Forever/422031",{"$f":"Table1[[#This Row],[QTY]]*Table1[[#This Row],['# of Books]]","v":0},{"$f":"Table1[[#This Row],[QTY]]*Table1[[#This Row],[School & Library Price]]","v":0}]
[null,null,null,"Social Media Smarts","You Are the Product: How Your Data Is Being Sold",1,"Library Bound Book","978-1-9785-0781-4",{"$f":"HYPERLINK(Table1[[#This Row],[Hyperlink]],\"Weblink\")","v":"Weblink"},"Enslow Publishing","2020","August 2019","7.250 X 9.250","Author","Avery Elizabeth Hurt",null,null,null,null,"Y",null,"Grade 6","Grade 5 - 8","Most people sign on to one or more social media accounts every day without giving much thought to how these services are offered for free. This timely volume explains to readers how social media sites use their personal data to make a profit. By explaining how advertising targets specific demographic groups and how big data firms make use of individuals' information, this book gives readers a clear understanding of their place in the social media business model. In addition, readers will learn how they can take steps to protect their privacy and reduce the amount of information available to data mining companies. Illustrations and in-depth sidebars round out the text.","English",27.93,20.95,"302.23/1--dc23","48 pp.","https://www.enslow.com/books/You_Are_the_Product/422030",{"$f":"Table1[[#This Row],[QTY]]*Table1[[#This Row],['# of Books]]","v":0},{"$f":"Table1[[#This Row],[QTY]]*Table1[[#This Row],[School & Library Price]]","v":0}]
[null,null,null,"Social Media Smarts","You're Addicted to Your Phone: How to Break the Habit",1,"Library Bound Book","978-1-9785-0772-2",{"$f":"HYPERLINK(Table1[[#This Row],[Hyperlink]],\"Weblink\")","v":"Weblink"},"Enslow Publishing","2020","August 2019","7.250 X 9.250","Author","Taylor Morris",null,null,null,null,"W",null,"Grade 6","Grade 5 - 8","Want to see a teen freak out? Take their phone away. Phones seem to be as important as oxygen, but sometimes those little portals to the online world interfere with real life. This fun and informative guide will help painlessly wean teens off constant phone use by offering scale-back tactics, sharing what others have done that works, and explaining the physical and emotional repercussions of overuse so that teens don't have to miss out on anything IRL.","English",27.93,20.95,"618.92/8584--dc23","48 pp.","https://www.enslow.com/books/Youre_Addicted_to_Your_Phone/422027",{"$f":"Table1[[#This Row],[QTY]]*Table1[[#This Row],['# of Books]]","v":0},{"$f":"Table1[[#This Row],[QTY]]*Table1[[#This Row],[School & Library Price]]","v":0}]
[null,null,null,"Social Media Smarts","You're Addicted to Your Phone: How to Break the Habit",1,"eBook","978-1-9785-0773-9",{"$f":"HYPERLINK(Table1[[#This Row],[Hyperlink]],\"Weblink\")","v":"Weblink"},"Enslow Publishing","2020","August 2019",null,"Author","Taylor Morris",null,null,null,null,"W",null,"Grade 6","Grade 5 - 8","Want to see a teen freak out? Take their phone away. Phones seem to be as important as oxygen, but sometimes those little portals to the online world interfere with real life. This fun and informative guide will help painlessly wean teens off constant phone use by offering scale-back tactics, sharing what others have done that works, and explaining the physical and emotional repercussions of overuse so that teens don't have to miss out on anything IRL.","English",27.93,20.95,"618.92/8584--dc23","48 pp.","https://www.enslow.com/books/Youre_Addicted_to_Your_Phone/422027",{"$f":"Table1[[#This Row],[QTY]]*Table1[[#This Row],['# of Books]]","v":0},{"$f":"Table1[[#This Row],[QTY]]*Table1[[#This Row],[School & Library Price]]","v":0}]
[null,null,null,"Inside Law Enforcement","Inside Law Enforcement",5,"Library Set","978-1-9785-0739-5",{"$f":"HYPERLINK(Table1[[#This Row],[Hyperlink]],\"Weblink\")","v":"Weblink"},"Enslow Publishing","2020","August 2019","7.250 X 9.250",null,null,null,null,null,null,null,null,"Grade 5","Grade 5 - 8","Today's news is filled with stories about the federal law enforcement agencies. We hear about the deportation of undocumented immigrants by ICE agents, the declassification of once top-secret information from the CIA, and the role of the FBI in the 2016 presidential election. These texts not only make clear the wide-ranging impact of these governmental organizations, but also highlight less-known tasks and responsibilities that they carry out. Readers will learn how each agency's role differs and pick up fascinating details about the jobs of the dedicated professionals who work there. Sidebars offer extra information while back matter sections suggest various channels for learning more. Features include: Provides up-to-date, even-handed examinations of agencies that have been front and center in the national conversation in recent years. Useful for both Social Studies units and career awareness. Relevant to both the Civic and Political Institutions and the Rules, Processes, and Laws sections in the Civics area of the C3 Framework for Social Studies. Chapter Notes and Further Reading sections provide additional resources for study.","English",139.65,104.75,null,"48 pp.","https://www.enslow.com/series/Inside_Law_Enforcement/478811",{"$f":"Table1[[#This Row],[QTY]]*Table1[[#This Row],['# of Books]]","v":0},{"$f":"Table1[[#This Row],[QTY]]*Table1[[#This Row],[School & Library Price]]","v":0}]
[null,null,null,"Inside Law Enforcement","Inside ICE",1,"Library Bound Book","978-1-9785-0737-1",{"$f":"HYPERLINK(Table1[[#This Row],[Hyperlink]],\"Weblink\")","v":"Weblink"},"Enslow Publishing","2020","August 2019","7.250 X 9.250","Author","Mythili Sampathkumar",null,null,null,null,"V",null,"Grade 5","Grade 5 - 8","Immigration and Customs Enforcement was formed in 2003 by President George W. Bush as part of the effort to combine and consolidate several border protection, immigration, and port security services into one agency. This book gives an overview of the functions, structures, and controversies encountered by the federal agency. From the post-9/11 role of the agency to the recent immigration scandals, students will learn how this enforcement force patrols our borders to keep out criminals and terrorists and what happens when its work becomes politicized.","English",27.93,20.95,"363.25/9370973--dc23","48 pp.","https://www.enslow.com/books/Inside_ICE/422001",{"$f":"Table1[[#This Row],[QTY]]*Table1[[#This Row],['# of Books]]","v":0},{"$f":"Table1[[#This Row],[QTY]]*Table1[[#This Row],[School & Library Price]]","v":0}]
[null,null,null,"Inside Law Enforcement","Inside the CIA",1,"eBook","978-1-9785-0852-1",{"$f":"HYPERLINK(Table1[[#This Row],[Hyperlink]],\"Weblink\")","v":"Weblink"},"Enslow Publishing","2020","August 2019",null,"Author","Bridey Heing",null,null,null,null,"T",null,"Grade 5","Grade 5 - 8","Founded in the aftermath of World War II, the Central Intelligence Agency has since become a cornerstone of American intelligence gathering. It has also become embroiled in some of the twentieth and twenty-first centuries' most significant foreign policy controversies. Our classic images of spies come from the earliest days of the CIA, but this book tackles both the development of the agency and the role it plays in law enforcement today. It even discusses what the future might hold for this fascinating agency.","English",27.93,20.95,"327.1273--dc23","48 pp.","https://www.enslow.com/books/Inside_the_CIA/422002",{"$f":"Table1[[#This Row],[QTY]]*Table1[[#This Row],['# of Books]]","v":0},{"$f":"Table1[[#This Row],[QTY]]*Table1[[#This Row],[School & Library Price]]","v":0}]
[null,null,null,"Inside Law Enforcement","Inside the DEA",1,"Library Bound Book","978-1-9785-0734-0",{"$f":"HYPERLINK(Table1[[#This Row],[Hyperlink]],\"Weblink\")","v":"Weblink"},"Enslow Publishing","2020","August 2019","7.250 X 9.250","Author","Bridey Heing",null,null,null,null,"U",null,"Grade 5","Grade 5 - 8","The Drug Enforcement Administration was created by President Richard Nixon in 1973 as a way to centralize drug control efforts. Since then, it has become a powerful agency that plays a part not just in enforcing drug laws, but in monitoring and targeting those who funnel drugs to the United States from overseas. Unfortunately, it has also been involved in significant controversies. This book looks at how this essential agency developed, the role it plays in law enforcement, and what the future might hold for it.","English",27.93,20.95,"363.28/40973--dc23","48 pp.","https://www.enslow.com/books/Inside_the_DEA/421998",{"$f":"Table1[[#This Row],[QTY]]*Table1[[#This Row],['# of Books]]","v":0},{"$f":"Table1[[#This Row],[QTY]]*Table1[[#This Row],[School & Library Price]]","v":0}]
[null,null,null,"Inside Law Enforcement","Inside the FBI",1,"eBook","978-1-9785-0856-9",{"$f":"HYPERLINK(Table1[[#This Row],[Hyperlink]],\"Weblink\")","v":"Weblink"},"Enslow Publishing","2020","August 2019",null,"Author","Mythili Sampathkumar",null,null,null,null,"T",null,"Grade 5","Grade 5 - 8","One of the oldest federal agencies, the Federal Bureau of Investigations has evolved over the last hundred years to become the Department of Justice's main law enforcement agency. This book explores its history, agents, law enforcement reach, and role as part of the American intelligence community, as well as the public storms weathered by the \"Bureau.\" Students will learn about the FBI's earliest days in the late 1890s to the wild years of J. Edgar Hoover to the recent role of the FBI in our political discourse.","English",27.93,20.95,"363.250973--dc23","48 pp.","https://www.enslow.com/books/Inside_the_FBI/421999",{"$f":"Table1[[#This Row],[QTY]]*Table1[[#This Row],['# of Books]]","v":0},{"$f":"Table1[[#This Row],[QTY]]*Table1[[#This Row],[School & Library Price]]","v":0}]
[null,null,null,"Inside Law Enforcement","Inside the NSA",1,"Library Bound Book","978-1-9785-0736-4",{"$f":"HYPERLINK(Table1[[#This Row],[Hyperlink]],\"Weblink\")","v":"Weblink"},"Enslow Publishing","2020","August 2019","7.250 X 9.250","Author","Chris Townsend",null,null,null,null,"S",null,"Grade 5","Grade 5 - 8","The National Security Agency was founded in secrecy after World War II. Sometimes it is even jokingly called \"No Such Agency\" because nearly everything the agency does is kept secret. The NSA's real work came to light after Edward Snowden exposed some of its biggest secrets in 2013. This book explores the secrets of the NSA, from how it keeps Americans safe from hackers to how it collects information about us and what it does with all that data. Students will learn about the puzzles and codes that make up the biggest and least-understood agency in the American intelligence community.","English",27.93,20.95,"327.1273--dc23","48 pp.","https://www.enslow.com/books/Inside_the_NSA/422000",{"$f":"Table1[[#This Row],[QTY]]*Table1[[#This Row],['# of Books]]","v":0},{"$f":"Table1[[#This Row],[QTY]]*Table1[[#This Row],[School & Library Price]]","v":0}]
[null,null,null,"Real World Science","Biology in Your Everyday Life",1,"Library Bound Book","978-1-9785-0763-0",{"$f":"HYPERLINK(Table1[[#This Row],[Hyperlink]],\"Weblink\")","v":"Weblink"},"Enslow Publishing","2020","August 2019","6.500 X 9.125","Author","Donna M. Bozzone, Ph.D.",null,null,null,null,"W",null,"Grade 6","Grade 5 - 8","Why are some people lactose intolerant? What happens to the brain during and after a concussion? What causes acne breakouts? The answers to these questions and many more are found in the biology of the human body. Featuring relatable scenarios and hands-on activities, this book details how biology affects practically everything in a person's everyday life. Sidebars consider myths about acne, sex testing in sports, antibiotic resistance, mental health, and how microorganisms transform food. Supporting Next Generation Science Standards in Middle School Life Science, this book provides students with a deeper understanding of the process of science and the importance of biology in their lives.","English",34.6,25.95,"570--dc23","64 pp.","https://www.enslow.com/books/Biology_in_Your_Everyday_Life/422022",{"$f":"Table1[[#This Row],[QTY]]*Table1[[#This Row],['# of Books]]","v":0},{"$f":"Table1[[#This Row],[QTY]]*Table1[[#This Row],[School & Library Price]]","v":0}]
[null,null,null,"Real World Science","Biology in Your Everyday Life",1,"eBook","978-1-9785-0944-3",{"$f":"HYPERLINK(Table1[[#This Row],[Hyperlink]],\"Weblink\")","v":"Weblink"},"Enslow Publishing","2020","August 2019",null,"Author","Donna M. Bozzone, Ph.D.",null,null,null,null,"W",null,"Grade 6","Grade 5 - 8","Why are some people lactose intolerant? What happens to the brain during and after a concussion? What causes acne breakouts? The answers to these questions and many more are found in the biology of the human body. Featuring relatable scenarios and hands-on activities, this book details how biology affects practically everything in a person's everyday life. Sidebars consider myths about acne, sex testing in sports, antibiotic resistance, mental health, and how microorganisms transform food. Supporting Next Generation Science Standards in Middle School Life Science, this book provides students with a deeper understanding of the process of science and the importance of biology in their lives.","English",34.6,25.95,"570--dc23","64 pp.","https://www.enslow.com/books/Biology_in_Your_Everyday_Life/422022",{"$f":"Table1[[#This Row],[QTY]]*Table1[[#This Row],['# of Books]]","v":0},{"$f":"Table1[[#This Row],[QTY]]*Table1[[#This Row],[School & Library Price]]","v":0}]
[null,null,null,"Real World Science","Chemistry in Your Everyday Life",1,"eBook","978-1-9785-0946-7",{"$f":"HYPERLINK(Table1[[#This Row],[Hyperlink]],\"Weblink\")","v":"Weblink"},"Enslow Publishing","2020","August 2019",null,"Author","Thomas R. Rybolt Ph.D.",null,null,null,null,"X",null,"Grade 6","Grade 5 - 8","How do soaps and detergents clean? Why do metals conduct electricity? How does burning fossil fuel contribute to global warming? The answers to these questions are found by examining the properties and behaviors of atoms and molecules. Insightful explanations and hands-on science activities simplify complicated chemistry principles into pieces of information that are more easily grasped. Sidebars include discussions on animals that can live thirty years without water, the Maillard reaction responsible for the taste and texture of french fries, the increase of carbon dioxide in the atmosphere, and how tires provide a cushion of air to smooth our rides. This book allows students to appreciate that when it comes to understanding the world around us, tiny molecules can provide big explanations.","English",34.6,25.95,"540--dc23","64 pp.","https://www.enslow.com/books/Chemistry_in_Your_Everyday_Life/422024",{"$f":"Table1[[#This Row],[QTY]]*Table1[[#This Row],['# of Books]]","v":0},{"$f":"Table1[[#This Row],[QTY]]*Table1[[#This Row],[School & Library Price]]","v":0}]
[null,null,null,"Real World Science","Earth Science in Your Everyday Life",1,"Library Bound Book","978-1-9785-0760-9",{"$f":"HYPERLINK(Table1[[#This Row],[Hyperlink]],\"Weblink\")","v":"Weblink"},"Enslow Publishing","2020","August 2019","6.500 X 9.125","Author","Gina Hagler",null,null,null,null,"W",null,"Grade 6","Grade 5 - 8","How does the temperature of ocean water make a difference in the strength of tropical storms? This question and many others can be answered with the principles of earth science. Supporting the Next Generation Science Standards, this book discusses everyday events to describe earth science principles in action. Each chapter contains a sidebar with information on places such as the Ring of Fire and the role Cepheid variable stars play in calculating the distance of objects in space. Simple experiments provide students an opportunity to see the science firsthand.","English",34.6,25.95,"550--dc23","64 pp.","https://www.enslow.com/books/Earth_Science_in_Your_Everyday_Life/422019",{"$f":"Table1[[#This Row],[QTY]]*Table1[[#This Row],['# of Books]]","v":0},{"$f":"Table1[[#This Row],[QTY]]*Table1[[#This Row],[School & Library Price]]","v":0}]
[null,null,null,"Real World Science","Ecology in Your Everyday Life",1,"eBook","978-1-9785-0950-4",{"$f":"HYPERLINK(Table1[[#This Row],[Hyperlink]],\"Weblink\")","v":"Weblink"},"Enslow Publishing","2020","August 2019",null,"Author","Lisa Idzikowski",null,null,null,null,"W",null,"Grade 6","Grade 5 - 8","Ecology isn't just for academics; nonscientists are exposed to it every day. The squirrels in the backyard, the trees and grasses in the neighborhood, and the green energies and fossil fuels powering houses and cars are all part of ecology. Aligning with the Next Generation Science Standards by addressing the interactions, dynamics, and energy in ecosystems, this book educates readers on a variety of ecological issues, including the problems with detergents, the big deal about green plants, and why some animals don't need energy from sunlight for photosynthesis. Through relatable examples enhanced by hands-on activities, interesting sidebars, and vivid photographs, students will learn the scientific principles, implications, and breakthroughs of ecology.","English",34.6,25.95,"577--dc23","64 pp.","https://www.enslow.com/books/Ecology_in_Your_Everyday_Life/422023",{"$f":"Table1[[#This Row],[QTY]]*Table1[[#This Row],['# of Books]]","v":0},{"$f":"Table1[[#This Row],[QTY]]*Table1[[#This Row],[School & Library Price]]","v":0}]
[null,null,null,"Real World Science","Engineering in Your Everyday Life",1,"Library Bound Book","978-1-9785-0762-3",{"$f":"HYPERLINK(Table1[[#This Row],[Hyperlink]],\"Weblink\")","v":"Weblink"},"Enslow Publishing","2020","August 2019","6.500 X 9.125","Author","Danell Dykstra",null,null,null,null,"Y",null,"Grade 6","Grade 5 - 8","How many day-to-day important devices are engineering design products? How does a smartphone send wireless communication? How do batteries release energy? These and other questions are explained using straightforward language that weaves in science terminology and is accompanied by intriguing photographs. Easy experiments demystify engineering concepts with step-by-step instructions to make bioplastics, bridges, motors, and robot arms. Sidebars explore high-interest current developments such as drones, 3D printing, and self-driving cars. Based on the Next Generation Science Standards, this book helps students understand the engineering design process and boosts their physical science knowledge of matter, forces, energy, and waves.","English",34.6,25.95,"620--dc23","64 pp.","https://www.enslow.com/books/Engineering_in_Your_Everyday_Life/422021",{"$f":"Table1[[#This Row],[QTY]]*Table1[[#This Row],['# of Books]]","v":0},{"$f":"Table1[[#This Row],[QTY]]*Table1[[#This Row],[School & Library Price]]","v":0}]
[null,null,null,"Real World Science","Physics in Your Everyday Life",1,"eBook","978-1-9785-0954-2",{"$f":"HYPERLINK(Table1[[#This Row],[Hyperlink]],\"Weblink\")","v":"Weblink"},"Enslow Publishing","2020","August 2019",null,"Author","Richard Gaughan",null,null,null,null,"Y",null,"Grade 6","Grade 5 - 8","Physics is the study of matter and energy. Interactions of matter and energy create everything, from the thunderous roar of a waterfall to the crackling sizzle of an egg frying in a pan. Physicists understand those complex events by studying simpler ones. Supporting the Next Generation Science Standards, this book, which features lively text enhanced by full-color images and straightforward activities, illustrates how the study of simple events can improve comprehension of the complex physical world. Readers will hone their observational skills and begin to understand the common threads that link distinct observations.","English",34.6,25.95,"530.078--dc23","64 pp.","https://www.enslow.com/books/Physics_in_Your_Everyday_Life/422020",{"$f":"Table1[[#This Row],[QTY]]*Table1[[#This Row],['# of Books]]","v":0},{"$f":"Table1[[#This Row],[QTY]]*Table1[[#This Row],[School & Library Price]]","v":0}]
[null,null,null,"Ask the Constitution","Ask the Constitution",6,"Library Set","978-1-9785-0707-4",{"$f":"HYPERLINK(Table1[[#This Row],[Hyperlink]],\"Weblink\")","v":"Weblink"},"Enslow Publishing","2020","August 2019","7.250 X 9.250",null,null,null,null,null,null,null,null,"Grade 5","Grade 5 - 8","While the U.S. Constitution is the ultimate basis of our rights as American citizens, we don't always understand the relationship between this charter of freedom and the laws that derive from it. This set asks provocative questions that draw attention to the rights guaranteed by the Constitution and the limitations that have been set on these rights. Particular attention is paid to the arguments over how this foundational document should be interpreted and how its interpretation has evolved over time. Show your middle schoolers how the Constitution relates to the most hotly contested issues of our day and inspire them to add their own voices to the debate. Features include: In-depth look at the Constitution exploring how its words translate into laws and policies. Uses real-world examples to help young readers understand the Constitution's importance as a living document. Prompts students to engage with important topics in civics, one of the four core disciplines in the C3 Framework for Social Studies. Sidebars, Notes, and Further Reading sections supply readers with extra information and additional resources for study.","English",167.58,125.7,null,"48 pp.","https://www.enslow.com/series/Ask_the_Constitution/478810",{"$f":"Table1[[#This Row],[QTY]]*Table1[[#This Row],['# of Books]]","v":0},{"$f":"Table1[[#This Row],[QTY]]*Table1[[#This Row],[School & Library Price]]","v":0}]
[null,null,null,"Ask the Constitution","Can Certain Religions Be Outlawed?",1,"Library Bound Book","978-1-9785-0710-4",{"$f":"HYPERLINK(Table1[[#This Row],[Hyperlink]],\"Weblink\")","v":"Weblink"},"Enslow Publishing","2020","August 2019","7.250 X 9.250","Author","Ty Schalter",null,null,null,null,"T",null,"Grade 5","Grade 5 - 8","Religion is our most personal freedom. It's the first thing the Bill of Rights guarantees all Americans and the last thing we'd think the government could take away. Between wedding cakes, travel bans, public schools, and private employers, the role of faith in public life is constantly in the news. Americans of many different faiths, for many different reasons, are worried the government is going to interfere with their freedom to believe. Could the U.S. government really outlaw a religion? Is it already happening now? It's time to ask the Constitution.","English",27.93,20.95,"323.44/20973--dc23","48 pp.","https://www.enslow.com/books/Can_Certain_Religions_Be_Outlawed/421974",{"$f":"Table1[[#This Row],[QTY]]*Table1[[#This Row],['# of Books]]","v":0},{"$f":"Table1[[#This Row],[QTY]]*Table1[[#This Row],[School & Library Price]]","v":0}]
[null,null,null,"Ask the Constitution","Can Certain Religions Be Outlawed?",1,"eBook","978-1-9785-0840-8",{"$f":"HYPERLINK(Table1[[#This Row],[Hyperlink]],\"Weblink\")","v":"Weblink"},"Enslow Publishing","2020","August 2019",null,"Author","Ty Schalter",null,null,null,null,"T",null,"Grade 5","Grade 5 - 8","Religion is our most personal freedom. It's the first thing the Bill of Rights guarantees all Americans and the last thing we'd think the government could take away. Between wedding cakes, travel bans, public schools, and private employers, the role of faith in public life is constantly in the news. Americans of many different faiths, for many different reasons, are worried the government is going to interfere with their freedom to believe. Could the U.S. government really outlaw a religion? Is it already happening now? It's time to ask the Constitution.","English",27.93,20.95,"323.44/20973--dc23","48 pp.","https://www.enslow.com/books/Can_Certain_Religions_Be_Outlawed/421974",{"$f":"Table1[[#This Row],[QTY]]*Table1[[#This Row],['# of Books]]","v":0},{"$f":"Table1[[#This Row],[QTY]]*Table1[[#This Row],[School & Library Price]]","v":0}]
[null,null,null,"Ask the Constitution","Do Immigrants Have the Right to Come to the United States?",1,"Library Bound Book","978-1-9785-0711-1",{"$f":"HYPERLINK(Table1[[#This Row],[Hyperlink]],\"Weblink\")","v":"Weblink"},"Enslow Publishing","2020","August 2019","7.250 X 9.250","Author","Kathryn Ohnaka",null,null,null,null,"U",null,"Grade 5","Grade 5 - 8","Since America's earliest days, people have come from all over the world to live here, but it isn't easy. Their right to enter the country has been challenged many times, and it is still challenged today. From the early Europeans to modern-day immigrants and refugees, people have fought to enter the United States, and the Constitution has changed over time to meet their needs. It has also challenged them. The argument continues today about immigrants from Muslim countries. Is anyone allowed to come to America, and what does the Constitution really say about immigration? Readers will explore the answers to these questions.","English",27.93,20.95,"342.7308/2--dc23","48 pp.","https://www.enslow.com/books/Do_Immigrants_Have_the_Right_to_Come_to_the_United_States/421975",{"$f":"Table1[[#This Row],[QTY]]*Table1[[#This Row],['# of Books]]","v":0},{"$f":"Table1[[#This Row],[QTY]]*Table1[[#This Row],[School & Library Price]]","v":0}]
[null,null,null,"Ask the Constitution","Do Immigrants Have the Right to Come to the United States?",1,"eBook","978-1-9785-0844-6",{"$f":"HYPERLINK(Table1[[#This Row],[Hyperlink]],\"Weblink\")","v":"Weblink"},"Enslow Publishing","2020","August 2019",null,"Author","Kathryn Ohnaka",null,null,null,null,"U",null,"Grade 5","Grade 5 - 8","Since America's earliest days, people have come from all over the world to live here, but it isn't easy. Their right to enter the country has been challenged many times, and it is still challenged today. From the early Europeans to modern-day immigrants and refugees, people have fought to enter the United States, and the Constitution has changed over time to meet their needs. It has also challenged them. The argument continues today about immigrants from Muslim countries. Is anyone allowed to come to America, and what does the Constitution really say about immigration? Readers will explore the answers to these questions.","English",27.93,20.95,"342.7308/2--dc23","48 pp.","https://www.enslow.com/books/Do_Immigrants_Have_the_Right_to_Come_to_the_United_States/421975",{"$f":"Table1[[#This Row],[QTY]]*Table1[[#This Row],['# of Books]]","v":0},{"$f":"Table1[[#This Row],[QTY]]*Table1[[#This Row],[School & Library Price]]","v":0}]
[null,null,null,"Ask the Constitution","Is Every American Adult Allowed to Vote?",1,"Library Bound Book","978-1-9785-0708-1",{"$f":"HYPERLINK(Table1[[#This Row],[Hyperlink]],\"Weblink\")","v":"Weblink"},"Enslow Publishing","2020","August 2019","7.250 X 9.250","Author","Alex Acks",null,null,null,null,"U",null,"Grade 5","Grade 5 - 8","When the United States of America began as a country, only white men who owned land could vote. Over the last 230 years, people have fought and protested and even died to expand the right to vote to include every adult over the age of eighteen. Today, are there ways you can lose your right to vote? If it's too difficult to vote, can we really say that you still have that right? Voting is the best and sometimes only way Americans can have a say in their government, and readers will learn why it's worth fighting for.","English",27.93,20.95,"324.6/20973--dc23","48 pp.","https://www.enslow.com/books/Is_Every_American_Adult_Allowed_to_Vote/421972",{"$f":"Table1[[#This Row],[QTY]]*Table1[[#This Row],['# of Books]]","v":0},{"$f":"Table1[[#This Row],[QTY]]*Table1[[#This Row],[School & Library Price]]","v":0}]
[null,null,null,"Ask the Constitution","Is Every American Adult Allowed to Vote?",1,"eBook","978-1-9785-0848-4",{"$f":"HYPERLINK(Table1[[#This Row],[Hyperlink]],\"Weblink\")","v":"Weblink"},"Enslow Publishing","2020","August 2019",null,"Author","Alex Acks",null,null,null,null,"U",null,"Grade 5","Grade 5 - 8","When the United States of America began as a country, only white men who owned land could vote. Over the last 230 years, people have fought and protested and even died to expand the right to vote to include every adult over the age of eighteen. Today, are there ways you can lose your right to vote? If it's too difficult to vote, can we really say that you still have that right? Voting is the best and sometimes only way Americans can have a say in their government, and readers will learn why it's worth fighting for.","English",27.93,20.95,"324.6/20973--dc23","48 pp.","https://www.enslow.com/books/Is_Every_American_Adult_Allowed_to_Vote/421972",{"$f":"Table1[[#This Row],[QTY]]*Table1[[#This Row],['# of Books]]","v":0},{"$f":"Table1[[#This Row],[QTY]]*Table1[[#This Row],[School & Library Price]]","v":0}]
[null,null,null,"Analyzing the Issues","Analyzing the Issues: Set 6",6,"Library Set","978-1-9785-0572-8",{"$f":"HYPERLINK(Table1[[#This Row],[Hyperlink]],\"Weblink\")","v":"Weblink"},"Enslow Publishing","2020","August 2019","6.000 X 9.000",null,null,null,null,null,null,null,null,"Grade 8","Grade 7 - 12","Addressing controversial issues in contemporary society, this series explores each topic in a pro versus con format by contrasting articles that reflect opposing opinions from experts, the government, the courts, advocacy organizations, the media, and ordinary people. These articles are carefully researched and collected from a wide variety of reliable sources in order to give the reader a full perspective on the topic at hand, encourage them to think critically, and allow them to analyze topics that affect their lives and society as a whole. Features include: Presents both evidentiary and rhetoric-based arguments around social issues, demonstrating by example how to construct well-supported claims, a central part of the C3 Framework for Social Studies at the 7-12 grade level. Current, in-depth articles help students understand pressing public issues on religious, political, socioeconomic, and cultural levels. Critical thinking questions after each article prompt readers to analyze the main points and reflect on their own opinions after taking in competing views.","English",295.56,221.7,null,"232 pp.","https://www.enslow.com/series/Analyzing_the_Issues/419038",{"$f":"Table1[[#This Row],[QTY]]*Table1[[#This Row],['# of Books]]","v":0},{"$f":"Table1[[#This Row],[QTY]]*Table1[[#This Row],[School & Library Price]]","v":0}]
[null,null,null,"Analyzing the Issues","Critical Perspectives on Animal Testing",1,"Library Bound Book","978-1-9785-0326-7",{"$f":"HYPERLINK(Table1[[#This Row],[Hyperlink]],\"Weblink\")","v":"Weblink"},"Enslow Publishing","2020","August 2019","6.000 X 9.000","Edited by","Kimberly Coates",null,null,null,null,"Z",null,"Grade 8","Grade 7 - 12","Animal testing is a controversial issue, with some arguing it is essential to medical advancement and others stating it is cruel and unnecessary. In this book, articles from a variety of viewpoints and individuals, including scientists, government and legal professionals, media outlets, and ordinary citizens, highlight key areas of contention over animal testing. Questions at the end of each article encourage readers to think critically about what they have read and to form their own opinions on this important issue.","English",49.26,36.950000000000003,"179/.4--dc23","232 pp.","https://www.enslow.com/books/Critical_Perspectives_on_Animal_Testing/421950",{"$f":"Table1[[#This Row],[QTY]]*Table1[[#This Row],['# of Books]]","v":0},{"$f":"Table1[[#This Row],[QTY]]*Table1[[#This Row],[School & Library Price]]","v":0}]
[null,null,null,"Analyzing the Issues","Critical Perspectives on Assisted Suicide",1,"eBook","978-1-9785-0385-4",{"$f":"HYPERLINK(Table1[[#This Row],[Hyperlink]],\"Weblink\")","v":"Weblink"},"Enslow Publishing","2020","August 2019",null,"Edited by","Jennifer Peters",null,null,null,null,"Z",null,"Grade 8","Grade 7 - 12","There are few issues that elicit such debate as assisted suicide. For some, assisted suicide is an important legal right for those battling fatal issues. For others, it stands for only self-harm and chaos. In this book, legal experts, journalists, activists, and ordinary civilians weigh in on this important issue, providing a wide range of viewpoints for readers. Readers are encouraged to think critically about what they have read and to form their own opinions through guided questions that follow each article.","English",49.26,36.950000000000003,"179.7--dc23","232 pp.","https://www.enslow.com/books/Critical_Perspectives_on_Assisted_Suicide/421951",{"$f":"Table1[[#This Row],[QTY]]*Table1[[#This Row],['# of Books]]","v":0},{"$f":"Table1[[#This Row],[QTY]]*Table1[[#This Row],[School & Library Price]]","v":0}]
[null,null,null,"Analyzing the Issues","Critical Perspectives on the Electoral College",1,"Library Bound Book","978-1-9785-0331-1",{"$f":"HYPERLINK(Table1[[#This Row],[Hyperlink]],\"Weblink\")","v":"Weblink"},"Enslow Publishing","2020","August 2019","6.000 X 9.000","Edited by","Bridey Heing",null,null,null,null,"Z",null,"Grade 8","Grade 7 - 12","In the ongoing debates surrounding the United States' voting process, few topics are as heatedly discussed as the electoral college. It was established as a safeguard for democracy, but today many fear the electoral college does just the opposite; twice in recent elections the president who won the election did not win the popular vote, and many are concerned that the electoral college has outlasted its relevance. This collection of essays explores the impact, significance, and history of the electoral college, providing students with a wide-ranging look at what this institution means and key ideas about its future.","English",49.26,36.950000000000003,"324.6/3--dc23","232 pp.","https://www.enslow.com/books/Critical_Perspectives_on_the_Electoral_College/421955",{"$f":"Table1[[#This Row],[QTY]]*Table1[[#This Row],['# of Books]]","v":0},{"$f":"Table1[[#This Row],[QTY]]*Table1[[#This Row],[School & Library Price]]","v":0}]
[null,null,null,"Analyzing the Issues","Critical Perspectives on Gerrymandering",1,"eBook","978-1-9785-0386-1",{"$f":"HYPERLINK(Table1[[#This Row],[Hyperlink]],\"Weblink\")","v":"Weblink"},"Enslow Publishing","2020","August 2019",null,"Edited by","Jennifer Peters",null,null,null,null,"Z",null,"Grade 8","Grade 7 - 12","As the United States becomes more politically divided, the issue of gerrymandering is at the forefront of political debate. While gerrymandering, or manipulating distinct boundaries for political advantages, has largely negative connotations, few experts agree about the best way to redraw districts. In this collection, legal experts, politicians, experts, and ordinary citizens weigh in on this controversial and timely topic. Guided reading questions are included at the end of each article to direct readers to form their own opinions based on what they have read.","English",49.26,36.950000000000003,"328.73/073455--dc23","232 pp.","https://www.enslow.com/books/Critical_Perspectives_on_Gerrymandering/421952",{"$f":"Table1[[#This Row],[QTY]]*Table1[[#This Row],['# of Books]]","v":0},{"$f":"Table1[[#This Row],[QTY]]*Table1[[#This Row],[School & Library Price]]","v":0}]
[null,null,null,"Analyzing the Issues","Critical Perspectives on Health Care",1,"Library Bound Book","978-1-9785-0329-8",{"$f":"HYPERLINK(Table1[[#This Row],[Hyperlink]],\"Weblink\")","v":"Weblink"},"Enslow Publishing","2020","August 2019","6.000 X 9.000","Edited by","Bridey Heing",null,null,null,null,"Z",null,"Grade 8","Grade 7 - 12","In the United States, the healthcare debate has swirled for decades as politicians, pundits, and citizens try to find a solution to the ongoing question of how best to meet the public's need for quality medical care at affordable prices. The introduction of new programs over the course of the twentieth and twenty-first centuries set a precedent for minimum levels of care. Despite these programs, millions remain uninsured across the country. This collection of essays will interrogate the debate on healthcare, providing students with a wide-ranging look at the competing ideas, policies, and viewpoints that intersect on this important issue.","English",49.26,36.950000000000003,"362.10973--dc23","232 pp.","https://www.enslow.com/books/Critical_Perspectives_on_Health_Care/421953",{"$f":"Table1[[#This Row],[QTY]]*Table1[[#This Row],['# of Books]]","v":0},{"$f":"Table1[[#This Row],[QTY]]*Table1[[#This Row],[School & Library Price]]","v":0}]
[null,null,null,"Analyzing the Issues","Critical Perspectives on Labor Unions",1,"eBook","978-1-9785-0388-5",{"$f":"HYPERLINK(Table1[[#This Row],[Hyperlink]],\"Weblink\")","v":"Weblink"},"Enslow Publishing","2020","August 2019",null,"Edited by","Rita Santos",null,null,null,null,"Z",null,"Grade 8","Grade 7 - 12","Labor unions have helped shape American history, but are they still relevant today? In this volume of critical perspectives, readers will hear from experts in the field about the history of labor unions and their lasting, and controversial, effects on American workers. Readers will be exposed to a range of voices, encouraging them to think critically and analyze the given facts in order to form their own opinions on the issue. Each article provides thought-provoking questions to help boost further discussion of topics.","English",49.26,36.950000000000003,"331.880973--dc23","232 pp.","https://www.enslow.com/books/Critical_Perspectives_on_Labor_Unions/421954",{"$f":"Table1[[#This Row],[QTY]]*Table1[[#This Row],['# of Books]]","v":0},{"$f":"Table1[[#This Row],[QTY]]*Table1[[#This Row],[School & Library Price]]","v":0}]
[null,null,null,"Analyzing the Issues","Critical Perspectives on Abortion",1,"Library Bound Book","978-0-7660-8477-3",{"$f":"HYPERLINK(Table1[[#This Row],[Hyperlink]],\"Weblink\")","v":"Weblink"},"Enslow Publishing","2018","August 2017","6.000 X 9.000","Author","Anne C. Cunningham",null,null,null,null,"Z",null,"Grade 8","Grade 7 - 12","Before the mid-nineteenth century, abortion was a legal and morally uncontested procedure in America available to most women. Yet since the dawn of the twentieth century, abortion has remained an ever-present controversial issue. Although it has been legal since 1973, thousands of new laws have been enacted across the Unites States to limit women’s access to the procedure, and the majority of these laws were passed between 2010 and 2015. This text gives students insight into the history of abortion and abortion rights, presenting thoughtful analysis from political leaders and experts fighting for both sides of the issue, to help students think critically about abortion and women’s rights in America.","English",49.26,36.950000000000003,"362.1988/8--dc23","208 pp.","https://www.enslow.com/books/Critical_Perspectives_on_Abortion/412682",{"$f":"Table1[[#This Row],[QTY]]*Table1[[#This Row],['# of Books]]","v":0},{"$f":"Table1[[#This Row],[QTY]]*Table1[[#This Row],[School & Library Price]]","v":0}]
[null,null,null,"Analyzing the Issues","Critical Perspectives on Climate Change",1,"eBook","978-0-7660-7655-6",{"$f":"HYPERLINK(Table1[[#This Row],[Hyperlink]],\"Weblink\")","v":"Weblink"},"Enslow Publishing","2017","August 2016",null,"Author","Stephen Feinstein",null,null,null,null,"Z",null,"Grade 8","Grade 7 - 12","The scientific community today largely agrees that climate change is occurring, and that it could have devastating consequences. Still, many Americans are unsure as to what climate change is and what higher temperatures and rising sea levels could mean for them. This essential volume includes scientific data and experts' opinion, along with ordinary people's viewpoints, to examine this important issue. Students will evaluate the evidence to reach a conclusion to one of the most important issues of our time.","English",49.26,36.950000000000003,"363.738/74--dc23","208 pp.","https://www.enslow.com/books/Critical_Perspectives_on_Climate_Change/419578",{"$f":"Table1[[#This Row],[QTY]]*Table1[[#This Row],['# of Books]]","v":0},{"$f":"Table1[[#This Row],[QTY]]*Table1[[#This Row],[School & Library Price]]","v":0}]
[null,null,null,"Analyzing the Issues","Critical Perspectives on Cyberwarfare",1,"Library Bound Book","978-0-7660-9845-9",{"$f":"HYPERLINK(Table1[[#This Row],[Hyperlink]],\"Weblink\")","v":"Weblink"},"Enslow Publishing","2019","August 2018","6.000 X 9.000","Edited by","Jennifer Peters",null,null,null,null,"Z",null,"Grade 8","Grade 7 - 12","In the twenty-first century, political hostilities have moved largely from the battlefield to cyberspace. Since the Stuxnet virus was uncovered in 2010, built jointly by U.S. and Israeli intelligence to disarm the Iranian nuclear program, attention has been drawn to the real-life damage that such virtual programs can inflict. In this book, a range of experts, from journalists, to lawyers, to government officials, offer their varied opinions on the dawn of cyberwarfare, allowing readers to determine where they stand on this important issue.","English",49.26,36.950000000000003,"363.325--dc23","224 pp.","https://www.enslow.com/books/Critical_Perspectives_on_Cyberwarfare/421867",{"$f":"Table1[[#This Row],[QTY]]*Table1[[#This Row],['# of Books]]","v":0},{"$f":"Table1[[#This Row],[QTY]]*Table1[[#This Row],[School & Library Price]]","v":0}]
[null,null,null,"Analyzing the Issues","Critical Perspectives on Digital Monopolies",1,"Library Bound Book","978-0-7660-9848-0",{"$f":"HYPERLINK(Table1[[#This Row],[Hyperlink]],\"Weblink\")","v":"Weblink"},"Enslow Publishing","2019","August 2018","6.000 X 9.000","Edited by","Jennifer Peters",null,null,null,null,"Z",null,"Grade 8","Grade 7 - 12","In our digital age, online companies such as Google and Amazon are experiencing tremendous growth. The power and influence of these digital companies was demonstrated in September 2017 when Amazon bought the popular organic grocery Whole Foods for a record 13 million dollars. Do companies such as Amazon have too much influence in the digital space? Should they be broken up to allow more competition? In this book, these questions and more are considered by a range of experts in the subject, from legal experts, to CEOs, to corporate players, and journalists.","English",49.26,36.950000000000003,"338.7/61025040973--dc23","232 pp.","https://www.enslow.com/books/Critical_Perspectives_on_Digital_Monopolies/421868",{"$f":"Table1[[#This Row],[QTY]]*Table1[[#This Row],['# of Books]]","v":0},{"$f":"Table1[[#This Row],[QTY]]*Table1[[#This Row],[School & Library Price]]","v":0}]
[null,null,null,"Analyzing the Issues","Critical Perspectives on Digital Monopolies",1,"eBook","978-0-7660-9850-3",{"$f":"HYPERLINK(Table1[[#This Row],[Hyperlink]],\"Weblink\")","v":"Weblink"},"Enslow Publishing","2019","August 2018",null,"Edited by","Jennifer Peters",null,null,null,null,"Z",null,"Grade 8","Grade 7 - 12","In our digital age, online companies such as Google and Amazon are experiencing tremendous growth. The power and influence of these digital companies was demonstrated in September 2017 when Amazon bought the popular organic grocery Whole Foods for a record 13 million dollars. Do companies such as Amazon have too much influence in the digital space? Should they be broken up to allow more competition? In this book, these questions and more are considered by a range of experts in the subject, from legal experts, to CEOs, to corporate players, and journalists.","English",49.26,36.950000000000003,"338.7/61025040973--dc23","232 pp.","https://www.enslow.com/books/Critical_Perspectives_on_Digital_Monopolies/421868",{"$f":"Table1[[#This Row],[QTY]]*Table1[[#This Row],['# of Books]]","v":0},{"$f":"Table1[[#This Row],[QTY]]*Table1[[#This Row],[School & Library Price]]","v":0}]
[null,null,null,"Analyzing the Issues","Critical Perspectives on Feminism",1,"Library Bound Book","978-0-7660-8481-0",{"$f":"HYPERLINK(Table1[[#This Row],[Hyperlink]],\"Weblink\")","v":"Weblink"},"Enslow Publishing","2018","August 2017","6.000 X 9.000","Author","Anne C. Cunningham",null,null,null,null,"Z","1270L","Grade 8","Grade 7 - 12","First-wave feminism arrived on the international scene in the nineteenth century, a time when women had very few rights as citizens and were largely controlled by a government with laws that protected and served men. Today, through the work of feminist movements, women have gained the right to vote and work, but the quest for social and economic equality remains. This text gives students insight into the fascinating history of the feminist movement and its leaders while presenting thoughtful analysis of feminist issues to help students think critically about the history and present need for feminism and women’s rights today.","English",49.26,36.950000000000003,"305.42--dc23","208 pp.","https://www.enslow.com/books/Critical_Perspectives_on_Feminism/412683",{"$f":"Table1[[#This Row],[QTY]]*Table1[[#This Row],['# of Books]]","v":0},{"$f":"Table1[[#This Row],[QTY]]*Table1[[#This Row],[School & Library Price]]","v":0}]
[null,null,null,"Analyzing the Issues","Critical Perspectives on Feminism",1,"eBook","978-0-7660-8482-7",{"$f":"HYPERLINK(Table1[[#This Row],[Hyperlink]],\"Weblink\")","v":"Weblink"},"Enslow Publishing","2018","August 2017",null,"Author","Anne C. Cunningham",null,null,null,null,"Z","1270L","Grade 8","Grade 7 - 12","First-wave feminism arrived on the international scene in the nineteenth century, a time when women had very few rights as citizens and were largely controlled by a government with laws that protected and served men. Today, through the work of feminist movements, women have gained the right to vote and work, but the quest for social and economic equality remains. This text gives students insight into the fascinating history of the feminist movement and its leaders while presenting thoughtful analysis of feminist issues to help students think critically about the history and present need for feminism and women’s rights today.","English",49.26,36.950000000000003,"305.42--dc23","208 pp.","https://www.enslow.com/books/Critical_Perspectives_on_Feminism/412683",{"$f":"Table1[[#This Row],[QTY]]*Table1[[#This Row],['# of Books]]","v":0},{"$f":"Table1[[#This Row],[QTY]]*Table1[[#This Row],[School & Library Price]]","v":0}]
[null,null,null,"Analyzing the Issues","Critical Perspectives on Free Trade and Globalization",1,"Library Bound Book","978-0-7660-9168-9",{"$f":"HYPERLINK(Table1[[#This Row],[Hyperlink]],\"Weblink\")","v":"Weblink"},"Enslow Publishing","2018","January 2018","6.000 X 9.000","Author","Bridey Heing",null,null,null,null,"Z",null,"Grade 8","Grade 7 - 12","Technology and travel have connected the world like never before, making it easier than ever to trade goods and culture across borders. But with the ease of trade has come questions about how best to use this increased connection, and how all parties can benefit while protecting the world's most vulnerable workers. This book will introduce students to the debate surrounding free trade and globalization to help them understand the nature of international commerce, cultural exchanges brought on through trade, and how the international economy is evolving.","English",49.26,36.950000000000003,"382/.71--dc23","232 pp.","https://www.enslow.com/books/Critical_Perspectives_on_Free_Trade_and_Globalization/421724",{"$f":"Table1[[#This Row],[QTY]]*Table1[[#This Row],['# of Books]]","v":0},{"$f":"Table1[[#This Row],[QTY]]*Table1[[#This Row],[School & Library Price]]","v":0}]
[null,null,null,"Analyzing the Issues","Critical Perspectives on Free Trade and Globalization",1,"eBook","978-0-7660-9162-7",{"$f":"HYPERLINK(Table1[[#This Row],[Hyperlink]],\"Weblink\")","v":"Weblink"},"Enslow Publishing","2018","January 2018",null,"Author","Bridey Heing",null,null,null,null,"Z",null,"Grade 8","Grade 7 - 12","Technology and travel have connected the world like never before, making it easier than ever to trade goods and culture across borders. But with the ease of trade has come questions about how best to use this increased connection, and how all parties can benefit while protecting the world's most vulnerable workers. This book will introduce students to the debate surrounding free trade and globalization to help them understand the nature of international commerce, cultural exchanges brought on through trade, and how the international economy is evolving.","English",49.26,36.950000000000003,"382/.71--dc23","232 pp.","https://www.enslow.com/books/Critical_Perspectives_on_Free_Trade_and_Globalization/421724",{"$f":"Table1[[#This Row],[QTY]]*Table1[[#This Row],['# of Books]]","v":0},{"$f":"Table1[[#This Row],[QTY]]*Table1[[#This Row],[School & Library Price]]","v":0}]
[null,null,null,"Analyzing the Issues","Critical Perspectives on Gender Identity",1,"Library Bound Book","978-0-7660-7672-3",{"$f":"HYPERLINK(Table1[[#This Row],[Hyperlink]],\"Weblink\")","v":"Weblink"},"Enslow Publishing","2017","August 2016","6.000 X 9.000","Author","Nicki Peter Petrikowski ",null,null,null,null,"Z",null,"Grade 8","Grade 7 - 12","What is gender? Is gender changeable? Does gender always match up with one's sexuality or outward appearance? These are questions at the forefront of contemporary debates for increased rights for trans men, trans women, and others who do not conform to our society's gender norms. Students will read the experiences of gender non-conforming individuals, as well as court decisions related to recent legal cases and media coverage, in order to better understand the challenges they face today.","English",49.26,36.950000000000003,"306.76/8--dc23","208 pp.","https://www.enslow.com/books/Critical_Perspectives_on_Gender_Identity/419581",{"$f":"Table1[[#This Row],[QTY]]*Table1[[#This Row],['# of Books]]","v":0},{"$f":"Table1[[#This Row],[QTY]]*Table1[[#This Row],[School & Library Price]]","v":0}]
[null,null,null,"Analyzing the Issues","Critical Perspectives on Gender Identity",1,"eBook","978-0-7660-7661-7",{"$f":"HYPERLINK(Table1[[#This Row],[Hyperlink]],\"Weblink\")","v":"Weblink"},"Enslow Publishing","2017","August 2016",null,"Author","Nicki Peter Petrikowski ",null,null,null,null,"Z",null,"Grade 8","Grade 7 - 12","What is gender? Is gender changeable? Does gender always match up with one's sexuality or outward appearance? These are questions at the forefront of contemporary debates for increased rights for trans men, trans women, and others who do not conform to our society's gender norms. Students will read the experiences of gender non-conforming individuals, as well as court decisions related to recent legal cases and media coverage, in order to better understand the challenges they face today.","English",49.26,36.950000000000003,"306.76/8--dc23","208 pp.","https://www.enslow.com/books/Critical_Perspectives_on_Gender_Identity/419581",{"$f":"Table1[[#This Row],[QTY]]*Table1[[#This Row],['# of Books]]","v":0},{"$f":"Table1[[#This Row],[QTY]]*Table1[[#This Row],[School & Library Price]]","v":0}]
[null,null,null,"Analyzing the Issues","Critical Perspectives on Gun Control",1,"Library Bound Book","978-0-7660-8125-3",{"$f":"HYPERLINK(Table1[[#This Row],[Hyperlink]],\"Weblink\")","v":"Weblink"},"Enslow Publishing","2017","January 2017","6.000 X 9.000","Author","Anne C. Cunningham",null,null,null,null,"Z",null,"Grade 8","Grade 7 - 12","Every day, forty-eight children and teens are shot; of these, seven will die from gun-related violence. Everyone agrees that these statistics are horrific, and yet people disagree about how to reduce gun-related violence. Will more federal control of gun sales help? Will this lead to an uptick in violence among those who obtain guns illegally? This text introduces different perspectives about this important issue. Experts, politicians, judges, and everyday people weigh in on this contentious issue, allowing students to analyze gun control from all sides.","English",49.26,36.950000000000003,"363.330973--dc23","208 pp.","https://www.enslow.com/books/Critical_Perspectives_on_Gun_Control/421580",{"$f":"Table1[[#This Row],[QTY]]*Table1[[#This Row],['# of Books]]","v":0},{"$f":"Table1[[#This Row],[QTY]]*Table1[[#This Row],[School & Library Price]]","v":0}]
[null,null,null,"Analyzing the Issues","Critical Perspectives on Gun Control",1,"eBook","978-0-7660-8126-0",{"$f":"HYPERLINK(Table1[[#This Row],[Hyperlink]],\"Weblink\")","v":"Weblink"},"Enslow Publishing","2017","January 2017",null,"Author","Anne C. Cunningham",null,null,null,null,"Z",null,"Grade 8","Grade 7 - 12","Every day, forty-eight children and teens are shot; of these, seven will die from gun-related violence. Everyone agrees that these statistics are horrific, and yet people disagree about how to reduce gun-related violence. Will more federal control of gun sales help? Will this lead to an uptick in violence among those who obtain guns illegally? This text introduces different perspectives about this important issue. Experts, politicians, judges, and everyday people weigh in on this contentious issue, allowing students to analyze gun control from all sides.","English",49.26,36.950000000000003,"363.330973--dc23","208 pp.","https://www.enslow.com/books/Critical_Perspectives_on_Gun_Control/421580",{"$f":"Table1[[#This Row],[QTY]]*Table1[[#This Row],['# of Books]]","v":0},{"$f":"Table1[[#This Row],[QTY]]*Table1[[#This Row],[School & Library Price]]","v":0}]
[null,null,null,"Analyzing the Issues","Critical Perspectives on Immigrants and Refugees",1,"eBook","978-0-7660-7668-6",{"$f":"HYPERLINK(Table1[[#This Row],[Hyperlink]],\"Weblink\")","v":"Weblink"},"Enslow Publishing","2017","August 2016",null,"Author","Anne C. Cunningham",null,null,null,null,"Z",null,"Grade 8","Grade 7 - 12","As civil conflict and increasingly dire economic situations spread across areas of the globe, refugees have left their homes in countries such as Afghanistan, Syria, and Somalia in search of a better future for themselves and their children. Their often-dangerous plights have received much media attention and have led to increased calls for international humanitarian aid, and, in some cases, for increased border control. In Critical Perspectives on Immigrants and Refugees, students will analyze this important issue and form their own conclusions based on opinions and data from experts, advocacy groups, and the media.","English",49.26,36.950000000000003,"325.73--dc23","208 pp.","https://www.enslow.com/books/Critical_Perspectives_on_Immigrants_and_Refugees/419590",{"$f":"Table1[[#This Row],[QTY]]*Table1[[#This Row],['# of Books]]","v":0},{"$f":"Table1[[#This Row],[QTY]]*Table1[[#This Row],[School & Library Price]]","v":0}]
[null,null,null,"Analyzing the Issues","Critical Perspectives on Legalizing Marijuana",1,"Library Bound Book","978-0-7660-7669-3",{"$f":"HYPERLINK(Table1[[#This Row],[Hyperlink]],\"Weblink\")","v":"Weblink"},"Enslow Publishing","2017","August 2016","6.000 X 9.000","Author","Anne C. Cunningham",null,null,null,null,"Z",null,"Grade 8","Grade 7 - 12","Waves of support for the legalization of marijuana are sweeping across many states. In the wake of such change, this text analyzes what experts say on the topic, both for and against, juxtaposed with court decisions, the work of advocates on both sides, and the words of everyday people. Students will analyze these diverse viewpoints in order to draw their own conclusions.","English",49.26,36.950000000000003,"362.29/55610973--dc23","208 pp.","https://www.enslow.com/books/Critical_Perspectives_on_Legalizing_Marijuana/419575",{"$f":"Table1[[#This Row],[QTY]]*Table1[[#This Row],['# of Books]]","v":0},{"$f":"Table1[[#This Row],[QTY]]*Table1[[#This Row],[School & Library Price]]","v":0}]
[null,null,null,"Analyzing the Issues","Critical Perspectives on Media Bias",1,"eBook","978-0-7660-9163-4",{"$f":"HYPERLINK(Table1[[#This Row],[Hyperlink]],\"Weblink\")","v":"Weblink"},"Enslow Publishing","2018","January 2018",null,"Edited by","Jennifer Peters",null,null,null,null,"Z","1370L","Grade 8","Grade 7 - 12","What is media bias? Are all media outlets inherently biased? What does it mean for the news we receive? Media bias is a hot topic in the twenty-first century, when everyone and anyone can start a media organization and present content as news, but is all news created equal? Through critical essays and input from media insiders and watchdogs, students will explore what media bias is, how it affects the news they read and watch, and what they can do to make sure that they're not swayed by media bias when they ingest news.","English",49.26,36.950000000000003,"302.23--dc23","224 pp.","https://www.enslow.com/books/Critical_Perspectives_on_Media_Bias/421725",{"$f":"Table1[[#This Row],[QTY]]*Table1[[#This Row],['# of Books]]","v":0},{"$f":"Table1[[#This Row],[QTY]]*Table1[[#This Row],[School & Library Price]]","v":0}]
[null,null,null,"Analyzing the Issues","Critical Perspectives on Millennials",1,"Library Bound Book","978-0-7660-8485-8",{"$f":"HYPERLINK(Table1[[#This Row],[Hyperlink]],\"Weblink\")","v":"Weblink"},"Enslow Publishing","2018","August 2017","6.000 X 9.000","Author","Bridey Heing",null,null,null,null,"Z","1230L","Grade 8","Grade 7 - 12","Millennials are much discussed and debated by the public, media, and government, with many competing ideas about the age group. Including those born between the mid-1980s and early 2000s, the generation is sometimes seen as entitled and lacking in work ethic, while others feel they have proven themselves as innovative and forward thinking. Today, as millennials enter the workforce and begin shaping the future of the country, understanding how they fit into society is extremely important. In this book, arguments about millennials written by experts, researchers, politicians, and others will be laid out side by side so that students can form their own opinions not only about this critical generation, but about how society confronts change and generational differences.","English",49.26,36.950000000000003,"305.2--dc23","208 pp.","https://www.enslow.com/books/Critical_Perspectives_on_Millennials/412685",{"$f":"Table1[[#This Row],[QTY]]*Table1[[#This Row],['# of Books]]","v":0},{"$f":"Table1[[#This Row],[QTY]]*Table1[[#This Row],[School & Library Price]]","v":0}]
[null,null,null,"Analyzing the Issues","Critical Perspectives on Minors Playing High-Contact Sports",1,"eBook","978-0-7660-8138-3",{"$f":"HYPERLINK(Table1[[#This Row],[Hyperlink]],\"Weblink\")","v":"Weblink"},"Enslow Publishing","2017","January 2017",null,"Author","John A. Torres",null,null,null,null,"Z","1290L","Grade 8","Grade 7 - 12","Playing team sports has many benefits, and yet high-contact sports such as football and rugby have also been linked to serious injuries, including concussions, and a higher risk of dementia, depression, and Parkinson’s disease. How can we weigh the potential benefits of contact sports with their potentially serious risks? This text provides primary source evidence from doctors, scientists, and experts in the field of sports medicine, as well as ordinary people's viewpoints, in order to help students reach their own conclusions about the risks related to high-contact sports.","English",49.26,36.950000000000003,"617.4'81044--dc23","208 pp.","https://www.enslow.com/books/Critical_Perspectives_on_Minors_Playing_High_Contact_Sports/421583",{"$f":"Table1[[#This Row],[QTY]]*Table1[[#This Row],['# of Books]]","v":0},{"$f":"Table1[[#This Row],[QTY]]*Table1[[#This Row],[School & Library Price]]","v":0}]
[null,null,null,"Analyzing the Issues","Critical Perspectives on Political Correctness",1,"Library Bound Book","978-0-7660-9167-2",{"$f":"HYPERLINK(Table1[[#This Row],[Hyperlink]],\"Weblink\")","v":"Weblink"},"Enslow Publishing","2018","January 2018","6.000 X 9.000","Edited by","Jennifer Peters",null,null,null,null,"Z",null,"Grade 8","Grade 7 - 12","In the wake of an extremely contentious U.S. presidential election that touched upon several hot-button issues including the right to marry and the legacy of the Civil Rights Movement, debate has erupted regarding the language people use to describe both political issues and groups of people. This book takes a look at the widening gap between those who believe political correctness is an unnecessary affectation and those who believe a greater good can be achieved with increased sensitivity in how we talk to, and about, each other. Through analyzing a range of viewpoints, students are encouraged to form their own opinions on this important topic.","English",49.26,36.950000000000003,"306.0973--dc23","216 pp.","https://www.enslow.com/books/Critical_Perspectives_on_Political_Correctness/421723",{"$f":"Table1[[#This Row],[QTY]]*Table1[[#This Row],['# of Books]]","v":0},{"$f":"Table1[[#This Row],[QTY]]*Table1[[#This Row],[School & Library Price]]","v":0}]
[null,null,null,"Analyzing the Issues","Critical Perspectives on Privacy Rights and Protections in the 21st Century",1,"eBook","978-0-7660-9859-6",{"$f":"HYPERLINK(Table1[[#This Row],[Hyperlink]],\"Weblink\")","v":"Weblink"},"Enslow Publishing","2019","August 2018",null,"Edited by","Rita Santos",null,null,null,null,"Z",null,"Grade 8","Grade 7 - 12","As consumers become more comfortable with buying \"smart\" devices and corporations and governments are accused of spying through such artificial intelligence, the question of privacy is often invoked. Should you know if data from your wearable device is being sold to other corporations? How comfortable are you with the possibility that your searches online can be easily retrieved? In this book, these questions and more are considered by various experts on privacy and technology, including digital and political activists, legal advisors, and the media.","English",49.26,36.950000000000003,"323.44/80973--dc23","224 pp.","https://www.enslow.com/books/Critical_Perspectives_on_Privacy_Rights_and_Protections_in_the_21st_Century/421871",{"$f":"Table1[[#This Row],[QTY]]*Table1[[#This Row],['# of Books]]","v":0},{"$f":"Table1[[#This Row],[QTY]]*Table1[[#This Row],[School & Library Price]]","v":0}]
[null,null,null,"Analyzing the Issues","Critical Perspectives on Sexual Harassment and Gender Violence",1,"Library Bound Book","978-0-7660-9166-5",{"$f":"HYPERLINK(Table1[[#This Row],[Hyperlink]],\"Weblink\")","v":"Weblink"},"Enslow Publishing","2018","January 2018","6.000 X 9.000","Author","Bridey Heing",null,null,null,null,"Z",null,"Grade 8","Grade 7 - 12","While awareness of sexual harassment and gender-based violence has increased in recent years, there is still much debate about what constitutes harassment, what motivates gender violence, and how best to combat both issues. The impact of this particular kind of aggression is real; it impacts the ability of women and other victims to go to school or work safely, and leaves many either dead or forced to live with long-term emotional or physical effects. This book explores the many facets of the conversation surrounding sexual harassment and gender violence, so that students understand the causes, forms, and impact of these two interconnected issues.","English",49.26,36.950000000000003,"305.42--dc23","232 pp.","https://www.enslow.com/books/Critical_Perspectives_on_Sexual_Harassment_and_Gender_Violence/421722",{"$f":"Table1[[#This Row],[QTY]]*Table1[[#This Row],['# of Books]]","v":0},{"$f":"Table1[[#This Row],[QTY]]*Table1[[#This Row],[School & Library Price]]","v":0}]
[null,null,null,"Analyzing the Issues","Critical Perspectives on Social Justice",1,"eBook","978-0-7660-9159-7",{"$f":"HYPERLINK(Table1[[#This Row],[Hyperlink]],\"Weblink\")","v":"Weblink"},"Enslow Publishing","2018","January 2018",null,"Edited by","Jennifer Peters",null,null,null,null,"Z",null,"Grade 8","Grade 7 - 12","In order for citizens to have true equality, they must be able to have equal access to social, political, and economic rights and opportunities. But what does that mean for students today? Readers will explore what social justice means in modern society and will be challenged to look at the areas in their own lives where they see a need for social justice through essays, reports, and discussions on equality, privilege and opportunity in the twenty-first century.","English",49.26,36.950000000000003,"303.3/72--dc23","232 pp.","https://www.enslow.com/books/Critical_Perspectives_on_Social_Justice/421721",{"$f":"Table1[[#This Row],[QTY]]*Table1[[#This Row],['# of Books]]","v":0},{"$f":"Table1[[#This Row],[QTY]]*Table1[[#This Row],[School & Library Price]]","v":0}]
[null,null,null,"Analyzing the Issues","Critical Perspectives on Terrorism",1,"Library Bound Book","978-0-7660-8127-7",{"$f":"HYPERLINK(Table1[[#This Row],[Hyperlink]],\"Weblink\")","v":"Weblink"},"Enslow Publishing","2017","January 2017","6.000 X 9.000","Author, Author","Elizabeth Schmermund, Stephen Feinstein",null,null,null,null,"Z","1270L","Grade 8","Grade 7 - 12","Terrorism is a form of violence with the main intent of frightening people from pursuing their everyday lives. Despite calls to ignore a fear of terrorism lest \"the terrorists win,\" many Westerners are justifiably scared about what seems like the increased presence of terrorism in their world. This text examines viewpoints about the roots of terrorism and its role in different areas around the globe. Experts, journalists, and politicians all weigh in on this important topic in order to help students reach their own conclusions about the role of terrorism in our world today.","English",49.26,36.950000000000003,"303.6--dc23","208 pp.","https://www.enslow.com/books/Critical_Perspectives_on_Terrorism/421582",{"$f":"Table1[[#This Row],[QTY]]*Table1[[#This Row],['# of Books]]","v":0},{"$f":"Table1[[#This Row],[QTY]]*Table1[[#This Row],[School & Library Price]]","v":0}]
[null,null,null,"Analyzing the Issues","Critical Perspectives on the College Admissions Process",1,"Library Bound Book","978-0-7660-8479-7",{"$f":"HYPERLINK(Table1[[#This Row],[Hyperlink]],\"Weblink\")","v":"Weblink"},"Enslow Publishing","2018","August 2017","6.000 X 9.000","Author, Author","Bridey Heing, Greg Baldino",null,null,null,null,"Z","1290L","Grade 8","Grade 7 - 12","Today, it may seem like the college admissions process has become more inflated and difficult to navigate than ever before. Many parents have become vocal about the standardized testing and college preparation that begins as early as elementary school. In fact, some families hire advisors to help their children chart a path to the most prestigious schools when they are barely teenagers. This text examines the historical college admissions process and where we are today through the thoughtful analysis of researchers, politicians, officials, and ordinary people in order to show students all sides of this often high-stress topic.","English",49.26,36.950000000000003,"378.73--dc23","208 pp.","https://www.enslow.com/books/Critical_Perspectives_on_the_College_Admissions_Process/412686",{"$f":"Table1[[#This Row],[QTY]]*Table1[[#This Row],['# of Books]]","v":0},{"$f":"Table1[[#This Row],[QTY]]*Table1[[#This Row],[School & Library Price]]","v":0}]
[null,null,null,"Analyzing the Issues","Critical Perspectives on the College Admissions Process",1,"eBook","978-0-7660-8480-3",{"$f":"HYPERLINK(Table1[[#This Row],[Hyperlink]],\"Weblink\")","v":"Weblink"},"Enslow Publishing","2018","August 2017",null,"Author, Author","Bridey Heing, Greg Baldino",null,null,null,null,"Z","1290L","Grade 8","Grade 7 - 12","Today, it may seem like the college admissions process has become more inflated and difficult to navigate than ever before. Many parents have become vocal about the standardized testing and college preparation that begins as early as elementary school. In fact, some families hire advisors to help their children chart a path to the most prestigious schools when they are barely teenagers. This text examines the historical college admissions process and where we are today through the thoughtful analysis of researchers, politicians, officials, and ordinary people in order to show students all sides of this often high-stress topic.","English",49.26,36.950000000000003,"378.73--dc23","208 pp.","https://www.enslow.com/books/Critical_Perspectives_on_the_College_Admissions_Process/412686",{"$f":"Table1[[#This Row],[QTY]]*Table1[[#This Row],['# of Books]]","v":0},{"$f":"Table1[[#This Row],[QTY]]*Table1[[#This Row],[School & Library Price]]","v":0}]
[null,null,null,"Analyzing the Issues","Critical Perspectives on the New Cold War",1,"Library Bound Book","978-0-7660-9851-0",{"$f":"HYPERLINK(Table1[[#This Row],[Hyperlink]],\"Weblink\")","v":"Weblink"},"Enslow Publishing","2019","August 2018","6.000 X 9.000","Edited by","Bridey Heing",null,null,null,null,"Z",null,"Grade 8","Grade 7 - 12","In 2017, Donald Trump ascended to the highest political position in the United States amid cries that Russia had meddled in the presidential elections. Evidence that Russian operatives had hacked the email accounts of various U.S. political organizations only caused these cries to grow louder. As the relationship between the United States and Russia, along with other big players, such as China, has deteriorated, experts are stating that this constitutes a \"new Cold War.\" In this text, political analysts, government officials, and advocates weigh in on the issue to allow readers to reach their own conclusions about these important political issues.","English",49.26,36.950000000000003,"327.73047086--dc23","224 pp.","https://www.enslow.com/books/Critical_Perspectives_on_the_New_Cold_War/421869",{"$f":"Table1[[#This Row],[QTY]]*Table1[[#This Row],['# of Books]]","v":0},{"$f":"Table1[[#This Row],[QTY]]*Table1[[#This Row],[School & Library Price]]","v":0}]
[null,null,null,"Analyzing the Issues","Critical Perspectives on the New Cold War",1,"eBook","978-0-7660-9853-4",{"$f":"HYPERLINK(Table1[[#This Row],[Hyperlink]],\"Weblink\")","v":"Weblink"},"Enslow Publishing","2019","August 2018",null,"Edited by","Bridey Heing",null,null,null,null,"Z",null,"Grade 8","Grade 7 - 12","In 2017, Donald Trump ascended to the highest political position in the United States amid cries that Russia had meddled in the presidential elections. Evidence that Russian operatives had hacked the email accounts of various U.S. political organizations only caused these cries to grow louder. As the relationship between the United States and Russia, along with other big players, such as China, has deteriorated, experts are stating that this constitutes a \"new Cold War.\" In this text, political analysts, government officials, and advocates weigh in on the issue to allow readers to reach their own conclusions about these important political issues.","English",49.26,36.950000000000003,"327.73047086--dc23","224 pp.","https://www.enslow.com/books/Critical_Perspectives_on_the_New_Cold_War/421869",{"$f":"Table1[[#This Row],[QTY]]*Table1[[#This Row],['# of Books]]","v":0},{"$f":"Table1[[#This Row],[QTY]]*Table1[[#This Row],[School & Library Price]]","v":0}]
[null,null,null,"Analyzing the Issues","Critical Perspectives on the Viability of Human Life on Other Planets",1,"Library Bound Book","978-0-7660-7674-7",{"$f":"HYPERLINK(Table1[[#This Row],[Hyperlink]],\"Weblink\")","v":"Weblink"},"Enslow Publishing","2017","August 2016","6.000 X 9.000","Author","Nicki Peter Petrikowski ",null,null,null,null,"Z","1360L","Grade 8","Grade 7 - 12","Recent technological developments have opened up the possibility of colonizing other planets. Some experts argue that space colonization will be essential for the survival of the human species. Students will analyze and evaluate experts' opinions on space colonization in order to reach their own conclusions, and expand their horizons.","English",49.26,36.950000000000003,"629.44/2--dc23","208 pp.","https://www.enslow.com/books/Critical_Perspectives_on_the_Viability_of_Human_Life_on_Other_Planets/419584",{"$f":"Table1[[#This Row],[QTY]]*Table1[[#This Row],['# of Books]]","v":0},{"$f":"Table1[[#This Row],[QTY]]*Table1[[#This Row],[School & Library Price]]","v":0}]
[null,null,null,"Analyzing the Issues","Critical Perspectives on the Viability of Human Life on Other Planets",1,"eBook","978-0-7660-7664-8",{"$f":"HYPERLINK(Table1[[#This Row],[Hyperlink]],\"Weblink\")","v":"Weblink"},"Enslow Publishing","2017","August 2016",null,"Author","Nicki Peter Petrikowski ",null,null,null,null,"Z","1360L","Grade 8","Grade 7 - 12","Recent technological developments have opened up the possibility of colonizing other planets. Some experts argue that space colonization will be essential for the survival of the human species. Students will analyze and evaluate experts' opinions on space colonization in order to reach their own conclusions, and expand their horizons.","English",49.26,36.950000000000003,"629.44/2--dc23","208 pp.","https://www.enslow.com/books/Critical_Perspectives_on_the_Viability_of_Human_Life_on_Other_Planets/419584",{"$f":"Table1[[#This Row],[QTY]]*Table1[[#This Row],['# of Books]]","v":0},{"$f":"Table1[[#This Row],[QTY]]*Table1[[#This Row],[School & Library Price]]","v":0}]
[null,null,null,"Analyzing the Issues","Critical Perspectives on Vaccinations",1,"Library Bound Book","978-0-7660-8139-0",{"$f":"HYPERLINK(Table1[[#This Row],[Hyperlink]],\"Weblink\")","v":"Weblink"},"Enslow Publishing","2017","January 2017","6.000 X 9.000","Author","Paula Johanson",null,null,null,null,"Z","1320L","Grade 8","Grade 7 - 12","Vaccinations have been a contentious issue in recent years, particularly in North America, where parents have decided to forgo vaccinating their children due to potential health risks. According to health experts, this has led to an increase in potentially deadly diseases and an overall decrease in herd immunity. With so much fearmongering online about the potential deadly consequences of vaccinations, however, what information can we trust? This text provides primary source evidence from doctors and experts, along with scientific data, court cases, and the viewpoints of everyday people, in order to facilitate students’ own critical thinking about this important issue.","English",49.26,36.950000000000003,"614.4í7ódc23","208 pp.","https://www.enslow.com/books/Critical_Perspectives_on_Vaccinations/421584",{"$f":"Table1[[#This Row],[QTY]]*Table1[[#This Row],['# of Books]]","v":0},{"$f":"Table1[[#This Row],[QTY]]*Table1[[#This Row],[School & Library Price]]","v":0}]
[null,null,null,"Analyzing the Issues","Critical Perspectives on Vaccinations",1,"eBook","978-0-7660-8140-6",{"$f":"HYPERLINK(Table1[[#This Row],[Hyperlink]],\"Weblink\")","v":"Weblink"},"Enslow Publishing","2017","January 2017",null,"Author","Paula Johanson",null,null,null,null,"Z","1320L","Grade 8","Grade 7 - 12","Vaccinations have been a contentious issue in recent years, particularly in North America, where parents have decided to forgo vaccinating their children due to potential health risks. According to health experts, this has led to an increase in potentially deadly diseases and an overall decrease in herd immunity. With so much fearmongering online about the potential deadly consequences of vaccinations, however, what information can we trust? This text provides primary source evidence from doctors and experts, along with scientific data, court cases, and the viewpoints of everyday people, in order to facilitate students’ own critical thinking about this important issue.","English",49.26,36.950000000000003,"614.4í7ódc23","208 pp.","https://www.enslow.com/books/Critical_Perspectives_on_Vaccinations/421584",{"$f":"Table1[[#This Row],[QTY]]*Table1[[#This Row],['# of Books]]","v":0},{"$f":"Table1[[#This Row],[QTY]]*Table1[[#This Row],[School & Library Price]]","v":0}]
[null,null,null,null,"Second in Command",1,"Hardcover","978-1-5383-8262-2",{"$f":"HYPERLINK(Table1[[#This Row],[Hyperlink]],\"Weblink\")","v":"Weblink"},"West 44 Books","2019","January 2019","5.500 X 8.250","Author","Sandi Van",null,null,null,null,"N","320L","Grade 3 - 4","Grade 9 - 12","Sixteen-year-old Leo dreams of becoming an Eagle Scout and, someday, a police officer. He makes sure to always do the right thing and be responsible. With his mom deployed and his dad constantly working, Leo is often left in charge of his two younger siblings. Then Leo's brother, Jack, gets caught up in a dangerous plot that rocks the community. Can Leo keep his promise to stand by his brother no matter what, or will he stand on the side of justice?","English",19.95,14.95,"811'.60809282--dc23","200 pp.","https://www.enslow.com/books/Second_in_Command/4672",{"$f":"Table1[[#This Row],[QTY]]*Table1[[#This Row],['# of Books]]","v":0},{"$f":"Table1[[#This Row],[QTY]]*Table1[[#This Row],[School & Library Price]]","v":0}]
[null,null,null,null,"Second in Command",1,"eBook","978-1-5383-8331-5",{"$f":"HYPERLINK(Table1[[#This Row],[Hyperlink]],\"Weblink\")","v":"Weblink"},"West 44 Books","2019","January 2019",null,"Author","Sandi Van",null,null,null,null,"N","320L","Grade 3 - 4","Grade 9 - 12","Sixteen-year-old Leo dreams of becoming an Eagle Scout and, someday, a police officer. He makes sure to always do the right thing and be responsible. With his mom deployed and his dad constantly working, Leo is often left in charge of his two younger siblings. Then Leo's brother, Jack, gets caught up in a dangerous plot that rocks the community. Can Leo keep his promise to stand by his brother no matter what, or will he stand on the side of justice?","English",19.95,14.95,"811'.60809282--dc23","200 pp.","https://www.enslow.com/books/Second_in_Command/4672",{"$f":"Table1[[#This Row],[QTY]]*Table1[[#This Row],['# of Books]]","v":0},{"$f":"Table1[[#This Row],[QTY]]*Table1[[#This Row],[School & Library Price]]","v":0}]
[null,null,null,null,"Some Girls Bind",1,"Hardcover","978-1-5383-8254-7",{"$f":"HYPERLINK(Table1[[#This Row],[Hyperlink]],\"Weblink\")","v":"Weblink"},"West 44 Books","2019","January 2019","5.500 X 8.250","Author","Rory James",null,null,null,null,"N","530L","Grade 3 - 4","Grade 9 - 12","Jamie knows that she isn't like other girls. She has a secret. She binds her chest every day to feel more like herself. Jamie questions why she is drawn to this practice and why she is afraid of telling her friends, who have their own secrets. Could she really be genderqueer?","English",19.95,14.95,"811'.60809282--dc23","200 pp.","https://www.enslow.com/books/Some_Girls_Bind/4671",{"$f":"Table1[[#This Row],[QTY]]*Table1[[#This Row],['# of Books]]","v":0},{"$f":"Table1[[#This Row],[QTY]]*Table1[[#This Row],[School & Library Price]]","v":0}]
[null,null,null,null,"Some Girls Bind",1,"eBook","978-1-5383-8327-8",{"$f":"HYPERLINK(Table1[[#This Row],[Hyperlink]],\"Weblink\")","v":"Weblink"},"West 44 Books","2019","January 2019",null,"Author","Rory James",null,null,null,null,"N","530L","Grade 3 - 4","Grade 9 - 12","Jamie knows that she isn't like other girls. She has a secret. She binds her chest every day to feel more like herself. Jamie questions why she is drawn to this practice and why she is afraid of telling her friends, who have their own secrets. Could she really be genderqueer?","English",19.95,14.95,"811'.60809282--dc23","200 pp.","https://www.enslow.com/books/Some_Girls_Bind/4671",{"$f":"Table1[[#This Row],[QTY]]*Table1[[#This Row],['# of Books]]","v":0},{"$f":"Table1[[#This Row],[QTY]]*Table1[[#This Row],[School & Library Price]]","v":0}]
[null,null,null,null,"Little Pills",1,"eBook","978-1-5383-8341-4",{"$f":"HYPERLINK(Table1[[#This Row],[Hyperlink]],\"Weblink\")","v":"Weblink"},"West 44 Books","2019","January 2019",null,"Author","Melody Dodds",null,null,null,null,"N","430L","Grade 3 - 4","Grade 9 - 12","Seventeen-year-old Charlotte Navarro never asked to be anyone's hero. If you're a hero, your sister isn't supposed to hate you. And you're definitely not supposed to get hooked on Gramma's painkillers. Even so, Charlotte's sister's friend Mia looks at her like she's some sort of hero. As Charlotte starts taking pills more and more, she has to question how it could hurt herself and others, even Mia. Is it a harmless habit or a dangerous addiction?","English",19.95,14.95,"811'.60809282--dc23","200 pp.","https://www.enslow.com/books/Little_Pills/4675",{"$f":"Table1[[#This Row],[QTY]]*Table1[[#This Row],['# of Books]]","v":0},{"$f":"Table1[[#This Row],[QTY]]*Table1[[#This Row],[School & Library Price]]","v":0}]
[null,null,null,null,"Little Pills",1,"Paperback Book","978-1-5383-8281-3",{"$f":"HYPERLINK(Table1[[#This Row],[Hyperlink]],\"Weblink\")","v":"Weblink"},"West 44 Books","2019","January 2019","5.500 X 8.250","Author","Melody Dodds",null,null,null,null,"N","430L","Grade 3 - 4","Grade 9 - 12","Seventeen-year-old Charlotte Navarro never asked to be anyone's hero. If you're a hero, your sister isn't supposed to hate you. And you're definitely not supposed to get hooked on Gramma's painkillers. Even so, Charlotte's sister's friend Mia looks at her like she's some sort of hero. As Charlotte starts taking pills more and more, she has to question how it could hurt herself and others, even Mia. Is it a harmless habit or a dangerous addiction?","English",12.9,10.95,"811'.60809282--dc23","200 pp.","https://www.enslow.com/books/Little_Pills/4675",{"$f":"Table1[[#This Row],[QTY]]*Table1[[#This Row],['# of Books]]","v":0},{"$f":"Table1[[#This Row],[QTY]]*Table1[[#This Row],[School & Library Price]]","v":0}]
[null,null,null,null,"Sanctuary Somewhere",1,"Paperback Book","978-1-5383-8283-7",{"$f":"HYPERLINK(Table1[[#This Row],[Hyperlink]],\"Weblink\")","v":"Weblink"},"West 44 Books","2019","January 2019","5.500 X 8.250","Author","Brenna Dimmig",null,null,null,null,"N","630L","Grade 3 - 4","Grade 9 - 12","Seventeen-year-old Osmel dreams of being a meteorologist. His world is shattered when he finds out he is undocumented. Osmel fears his dreams for college and career are now impossible. Then, ICE begins raiding the orchards his family works in. Will Osmel and his family ever find safety and peace in the place they call home?","English",12.9,10.95,"811'.60809282--dc23","200 pp.","https://www.enslow.com/books/Sanctuary_Somewhere/4676",{"$f":"Table1[[#This Row],[QTY]]*Table1[[#This Row],['# of Books]]","v":0},{"$f":"Table1[[#This Row],[QTY]]*Table1[[#This Row],[School & Library Price]]","v":0}]
[null,null,null,null,"And We Call It Love",1,"Hardcover","978-1-5383-8276-9",{"$f":"HYPERLINK(Table1[[#This Row],[Hyperlink]],\"Weblink\")","v":"Weblink"},"West 44 Books","2019","January 2019","5.500 X 8.250","Author","Amanda Vink",null,null,null,null,"N","500L","Grade 3 - 4","Grade 9 - 12","Clare and Zari are best friends. They write music together, go everywhere together, and they know everything about the other. At least they did before Zari started dating Dion. The more Zari falls for Dion, the less she has time for anything else. At first, Clare chalks it up to a new and exciting relationship, and she tries to be happy for her friend despite her loneliness. When Zari starts to show up to school with half-hidden bruises, Clare knows there's something darker about this relationship that has to be stopped.","English",19.95,14.95,"811'.60809282--dc23","200 pp.","https://www.enslow.com/books/And_We_Call_It_Love/4674",{"$f":"Table1[[#This Row],[QTY]]*Table1[[#This Row],['# of Books]]","v":0},{"$f":"Table1[[#This Row],[QTY]]*Table1[[#This Row],[School & Library Price]]","v":0}]
[null,null,null,null,"Knights of Suburbia",1,"Hardcover","978-1-5383-8274-5",{"$f":"HYPERLINK(Table1[[#This Row],[Hyperlink]],\"Weblink\")","v":"Weblink"},"West 44 Books","2019","January 2019","5.500 X 8.250","Author","P. A. Kurch",null,null,null,null,"N","630L","Grade 3 - 4","Grade 9 - 12","Life was supposed to be better after the war. Seventeen-year-old Henry Knights knows different. Henry's older brother returns from overseas a changed man just as his father decides to run for public office. Within days, his brother's PTSD and his father's campaign turn life upside down, as does the arrival of a famous war reporter. Caught in chaos, Henry and his twin sister, both adopted, consider finding their birth family. Family secrets. Pranks. A whole lot of trouble. This is the story of the Knights of Suburbia.","English",19.95,14.95,"811'.60809282--dc23","200 pp.","https://www.enslow.com/books/Knights_of_Suburbia/4673",{"$f":"Table1[[#This Row],[QTY]]*Table1[[#This Row],['# of Books]]","v":0},{"$f":"Table1[[#This Row],[QTY]]*Table1[[#This Row],[School & Library Price]]","v":0}]
[null,null,null,null,"Knights of Suburbia",1,"eBook","978-1-5383-8337-7",{"$f":"HYPERLINK(Table1[[#This Row],[Hyperlink]],\"Weblink\")","v":"Weblink"},"West 44 Books","2019","January 2019",null,"Author","P. A. Kurch",null,null,null,null,"N","630L","Grade 3 - 4","Grade 9 - 12","Life was supposed to be better after the war. Seventeen-year-old Henry Knights knows different. Henry's older brother returns from overseas a changed man just as his father decides to run for public office. Within days, his brother's PTSD and his father's campaign turn life upside down, as does the arrival of a famous war reporter. Caught in chaos, Henry and his twin sister, both adopted, consider finding their birth family. Family secrets. Pranks. A whole lot of trouble. This is the story of the Knights of Suburbia.","English",19.95,14.95,"811'.60809282--dc23","200 pp.","https://www.enslow.com/books/Knights_of_Suburbia/4673",{"$f":"Table1[[#This Row],[QTY]]*Table1[[#This Row],['# of Books]]","v":0},{"$f":"Table1[[#This Row],[QTY]]*Table1[[#This Row],[School & Library Price]]","v":0}]
[null,null,null,null,"Every Little Bad Idea",1,"eBook","978-1-5383-8333-9",{"$f":"HYPERLINK(Table1[[#This Row],[Hyperlink]],\"Weblink\")","v":"Weblink"},"West 44 Books","2019","August 2018",null,"Author","Caitie McKay",null,null,null,null,"N","510L","Grade 3 - 4","Grade 9 - 12","The women in Skyler Wise's family have a weakness for bad boys, but not Skyler. She has one thing on her mind, leaving her run-down neighborhood and going to college. When Skyler's normally strict mom starts dating again, she feels abandoned. Skyler meets Cole, a boy who makes her question everything she thought she knew about herself and her future. Even though he has a dangerous reputation, Skyler believes she knows the real Cole, the sweet, caring boyfriend who makes her feel seen for once in her life. When Cole starts to change, Skyler realizes that she'll do anything to keep him around, even if it means giving up her dream and losing the people closest to her.","English",19.95,14.95,"811'.60809282--dc23","200 pp.","https://www.enslow.com/books/Every_Little_Bad_Idea/421799",{"$f":"Table1[[#This Row],[QTY]]*Table1[[#This Row],['# of Books]]","v":0},{"$f":"Table1[[#This Row],[QTY]]*Table1[[#This Row],[School & Library Price]]","v":0}]
[null,null,null,null,"Every Little Bad Idea",1,"Paperback Book","978-1-5383-8265-3",{"$f":"HYPERLINK(Table1[[#This Row],[Hyperlink]],\"Weblink\")","v":"Weblink"},"West 44 Books","2019","August 2018","5.500 X 8.250","Author","Caitie McKay",null,null,null,null,"N","510L","Grade 3 - 4","Grade 9 - 12","The women in Skyler Wise's family have a weakness for bad boys, but not Skyler. She has one thing on her mind, leaving her run-down neighborhood and going to college. When Skyler's normally strict mom starts dating again, she feels abandoned. Skyler meets Cole, a boy who makes her question everything she thought she knew about herself and her future. Even though he has a dangerous reputation, Skyler believes she knows the real Cole, the sweet, caring boyfriend who makes her feel seen for once in her life. When Cole starts to change, Skyler realizes that she'll do anything to keep him around, even if it means giving up her dream and losing the people closest to her.","English",12.9,10.95,"811'.60809282--dc23","200 pp.","https://www.enslow.com/books/Every_Little_Bad_Idea/421799",{"$f":"Table1[[#This Row],[QTY]]*Table1[[#This Row],['# of Books]]","v":0},{"$f":"Table1[[#This Row],[QTY]]*Table1[[#This Row],[School & Library Price]]","v":0}]
[null,null,null,null,"The Same Blood",1,"eBook","978-1-5383-8326-1",{"$f":"HYPERLINK(Table1[[#This Row],[Hyperlink]],\"Weblink\")","v":"Weblink"},"West 44 Books","2019","August 2018",null,"Author","M. Azmitia",null,null,null,null,"N","620L","Grade 3 - 4","Grade 9 - 12","Twin sisters Elena and Marianella couldn't be more different. Marianella goes out of her way to actively participate in their Puerto Rican culture, whereas Elena is embarrassed by their traditions. Marianella is also fighting a very private battle with mental illness, and takes her own life not long after their fifteenth birthday. As Elena mourns her sister, she tries to live her life without the limitations and rules Marianella set for her. When her life spirals out of control, Elena realizes the depth of her roots and the guilt of not helping her sister before it was too late.","English",19.95,14.95,"811'.60809282--dc23","200 pp.","https://www.enslow.com/books/The_Same_Blood/421802",{"$f":"Table1[[#This Row],[QTY]]*Table1[[#This Row],['# of Books]]","v":0},{"$f":"Table1[[#This Row],[QTY]]*Table1[[#This Row],[School & Library Price]]","v":0}]
[null,null,null,null,"The Same Blood",1,"Paperback Book","978-1-5383-8251-6",{"$f":"HYPERLINK(Table1[[#This Row],[Hyperlink]],\"Weblink\")","v":"Weblink"},"West 44 Books","2019","August 2018","5.500 X 8.250","Author","M. Azmitia",null,null,null,null,"N","620L","Grade 3 - 4","Grade 9 - 12","Twin sisters Elena and Marianella couldn't be more different. Marianella goes out of her way to actively participate in their Puerto Rican culture, whereas Elena is embarrassed by their traditions. Marianella is also fighting a very private battle with mental illness, and takes her own life not long after their fifteenth birthday. As Elena mourns her sister, she tries to live her life without the limitations and rules Marianella set for her. When her life spirals out of control, Elena realizes the depth of her roots and the guilt of not helping her sister before it was too late.","English",12.9,10.95,"811'.60809282--dc23","200 pp.","https://www.enslow.com/books/The_Same_Blood/421802",{"$f":"Table1[[#This Row],[QTY]]*Table1[[#This Row],['# of Books]]","v":0},{"$f":"Table1[[#This Row],[QTY]]*Table1[[#This Row],[School & Library Price]]","v":0}]
[null,null,null,null,"Dreams on Fire",1,"Paperback Book","978-1-5383-8247-9",{"$f":"HYPERLINK(Table1[[#This Row],[Hyperlink]],\"Weblink\")","v":"Weblink"},"West 44 Books","2019","August 2018","5.500 X 8.250","Author","Annette Daniels Taylor",null,null,null,null,"N","400L","Grade 3 - 4","Grade 9 - 12","With an incarcerated father and an estranged drug-addicted mother, Shanequa's dreams of higher education feel like a fantasy. When Shanequa gets the chance to attend a prestigious private prep school, she feels like her dreams might become reality. Shanequa finds it easier to lie to her new friends than tell them the truth about her family. When her lies are found out, and Shanequa strikes back in blind rage, her path changes forever.","English",12.9,10.95,"811'.60809282--dc23","200 pp.","https://www.enslow.com/books/Dreams_on_Fire/421798",{"$f":"Table1[[#This Row],[QTY]]*Table1[[#This Row],['# of Books]]","v":0},{"$f":"Table1[[#This Row],[QTY]]*Table1[[#This Row],[School & Library Price]]","v":0}]
[null,null,null,null,"Fifteen and Change",1,"Hardcover","978-1-5383-8260-8",{"$f":"HYPERLINK(Table1[[#This Row],[Hyperlink]],\"Weblink\")","v":"Weblink"},"West 44 Books","2019","August 2018","5.500 X 8.250","Author","Max Howard",null,null,null,null,"N","500L","Grade 3 - 4","Grade 9 - 12","Zeke would love to be invisible. His mother is struggling to make ends meet and stuck with a no-good boyfriend. Zeke knows he and his mom will be stuck forever if he doesn't find some money fast. When Zeke starts working at a local pizza place, he meets labor activists who want to give him a voice, and the living wage he deserves for his work. Zeke has to decide between living the quiet life he's carved for himself and raising his voice for justice.","English",19.95,14.95,"811'.60809282--dc23","200 pp.","https://www.enslow.com/books/Fifteen_and_Change/421800",{"$f":"Table1[[#This Row],[QTY]]*Table1[[#This Row],['# of Books]]","v":0},{"$f":"Table1[[#This Row],[QTY]]*Table1[[#This Row],[School & Library Price]]","v":0}]
[null,null,null,null,"One Too Many Lies",1,"Hardcover","978-1-5383-8250-9",{"$f":"HYPERLINK(Table1[[#This Row],[Hyperlink]],\"Weblink\")","v":"Weblink"},"West 44 Books","2019","August 2018","5.500 X 8.250","Author","L. A. Bowen",null,null,null,null,"N","420L","Grade 3 - 4","Grade 9 - 12","Paige and her friends tell the subtle lies that are a part of daily life. White lies to avoid insulting friends. Fibs to escape unwanted judgment from classmates. Half-truths to evade their parents' watchful eyes. But could their lies become dangerous? What happens when the lies become a matter of life and death?","English",19.95,14.95,"811’.60809282--dc23","200 pp.","https://www.enslow.com/books/One_Too_Many_Lies/421801",{"$f":"Table1[[#This Row],[QTY]]*Table1[[#This Row],['# of Books]]","v":0},{"$f":"Table1[[#This Row],[QTY]]*Table1[[#This Row],[School & Library Price]]","v":0}]
[null,null,null,null,"One Too Many Lies",1,"eBook","978-1-5383-8325-4",{"$f":"HYPERLINK(Table1[[#This Row],[Hyperlink]],\"Weblink\")","v":"Weblink"},"West 44 Books","2019","August 2018",null,"Author","L. A. Bowen",null,null,null,null,"N","420L","Grade 3 - 4","Grade 9 - 12","Paige and her friends tell the subtle lies that are a part of daily life. White lies to avoid insulting friends. Fibs to escape unwanted judgment from classmates. Half-truths to evade their parents' watchful eyes. But could their lies become dangerous? What happens when the lies become a matter of life and death?","English",19.95,14.95,"811’.60809282--dc23","200 pp.","https://www.enslow.com/books/One_Too_Many_Lies/421801",{"$f":"Table1[[#This Row],[QTY]]*Table1[[#This Row],['# of Books]]","v":0},{"$f":"Table1[[#This Row],[QTY]]*Table1[[#This Row],[School & Library Price]]","v":0}]
[null,null,null,null,"What If",1,"eBook","978-1-5383-8329-2",{"$f":"HYPERLINK(Table1[[#This Row],[Hyperlink]],\"Weblink\")","v":"Weblink"},"West 44 Books","2019","August 2018",null,"Author","Anna Russell",null,null,null,null,"N","590L","Grade 3 - 4","Grade 9 - 12","Josh Baker isn't sure why his brain tells him to do things that other people don't need to do: checking his locker again and again, counting cracks in ceilings, and always needing to finish a song, for starters. He is a talented drummer, a math genius, and he knows everything about rock and roll. Yet, he knows his problems have the power to hurt his family and make him fail at school. When Josh is diagnosed with OCD, it's a blessing and a curse. Can he overcome his thoughts, or will they break him?","English",19.95,14.95,"811’.60809282--dc23","200 pp.","https://www.enslow.com/books/What_If/421803",{"$f":"Table1[[#This Row],[QTY]]*Table1[[#This Row],['# of Books]]","v":0},{"$f":"Table1[[#This Row],[QTY]]*Table1[[#This Row],[School & Library Price]]","v":0}]
[null,null,null,null,"What If",1,"Paperback Book","978-1-5383-8257-8",{"$f":"HYPERLINK(Table1[[#This Row],[Hyperlink]],\"Weblink\")","v":"Weblink"},"West 44 Books","2019","August 2018","5.500 X 8.250","Author","Anna Russell",null,null,null,null,"N","590L","Grade 3 - 4","Grade 9 - 12","Josh Baker isn't sure why his brain tells him to do things that other people don't need to do: checking his locker again and again, counting cracks in ceilings, and always needing to finish a song, for starters. He is a talented drummer, a math genius, and he knows everything about rock and roll. Yet, he knows his problems have the power to hurt his family and make him fail at school. When Josh is diagnosed with OCD, it's a blessing and a curse. Can he overcome his thoughts, or will they break him?","English",12.9,10.95,"811’.60809282--dc23","200 pp.","https://www.enslow.com/books/What_If/421803",{"$f":"Table1[[#This Row],[QTY]]*Table1[[#This Row],['# of Books]]","v":0},{"$f":"Table1[[#This Row],[QTY]]*Table1[[#This Row],[School & Library Price]]","v":0}]
[null,null,null,"Let's Learn About Computer Science","Algorithms",1,"eBook","978-1-9785-0214-7",{"$f":"HYPERLINK(Table1[[#This Row],[Hyperlink]],\"Weblink\")","v":"Weblink"},"Enslow Publishing","2019","January 2019",null,"Author","Jeff Mapua",null,null,null,null,"J",null,"Grade 1 - 2","Grade K - 4","Algorithms help computers do incredible things. In this straightforward book, readers are introduced to the inner workings of computers by learning the role of algorithms. Easy-to-follow text explains what algorithms are and how they help computers carry out all kinds of tasks. Real-world examples provide readers with a fundamental understanding of concepts such as functions, conditions, and sequencing. Complemented by vivid photographs, fast facts, and a helpful glossary, this book culminates in an activity that allows readers to create their own simple algorithm.","English",22.6,16.95,"005.74/1--dc23","24 pp.","https://www.enslow.com/books/Algorithms/4679",{"$f":"Table1[[#This Row],[QTY]]*Table1[[#This Row],['# of Books]]","v":0},{"$f":"Table1[[#This Row],[QTY]]*Table1[[#This Row],[School & Library Price]]","v":0}]
[null,null,null,"Let's Learn About Computer Science","Computers",1,"Library Bound Book","978-1-9785-0178-2",{"$f":"HYPERLINK(Table1[[#This Row],[Hyperlink]],\"Weblink\")","v":"Weblink"},"Enslow Publishing","2019","January 2019","7.125 X 8.500","Author","Jeff Mapua",null,null,null,null,"D",null,"Grade 1 - 2","Grade K - 4","Computers are an integral part of our modern world. Children are being exposed to them at an increasingly young age, so a fundamental understanding of technology has become essential. In this introduction to the world of computers, readers take a look inside a computer and become familiar with hardware, software, and all of the parts that make them work. The simple text explains terminology in a way that is easy to grasp, while full-color photographs and fast facts add interest to this first look at computers.","English",22.6,16.95,"004--dc23","24 pp.","https://www.enslow.com/books/Computers/4680",{"$f":"Table1[[#This Row],[QTY]]*Table1[[#This Row],['# of Books]]","v":0},{"$f":"Table1[[#This Row],[QTY]]*Table1[[#This Row],[School & Library Price]]","v":0}]
[null,null,null,"Let's Learn About Computer Science","Data and Databases",1,"Library Bound Book","978-1-9785-0181-2",{"$f":"HYPERLINK(Table1[[#This Row],[Hyperlink]],\"Weblink\")","v":"Weblink"},"Enslow Publishing","2019","January 2019","7.125 X 8.500","Author","Jeff Mapua",null,null,null,null,"G",null,"Grade 1 - 2","Grade K - 4","Computers \"think\" in terms of data and databases. In this simple text, readers find out exactly what that means in the world of technology. They take a first look at what data is and how computers use it to do all the things they can do. Using easy-to-follow examples, readers are introduced to the fundamental concepts of databases, how they are used in the real world, and how computers use them to find the information they need. Presented with eye-catching photographs, this book includes fast facts and a fun activity that will captivate readers as they build their knowledge of computers.","English",22.6,16.95,"005.74--dc23","24 pp.","https://www.enslow.com/books/Data_and_Databases/4683",{"$f":"Table1[[#This Row],[QTY]]*Table1[[#This Row],['# of Books]]","v":0},{"$f":"Table1[[#This Row],[QTY]]*Table1[[#This Row],[School & Library Price]]","v":0}]
[null,null,null,"Let's Learn About Computer Science","Data and Databases",1,"eBook","978-1-9785-0216-1",{"$f":"HYPERLINK(Table1[[#This Row],[Hyperlink]],\"Weblink\")","v":"Weblink"},"Enslow Publishing","2019","January 2019",null,"Author","Jeff Mapua",null,null,null,null,"G",null,"Grade 1 - 2","Grade K - 4","Computers \"think\" in terms of data and databases. In this simple text, readers find out exactly what that means in the world of technology. They take a first look at what data is and how computers use it to do all the things they can do. Using easy-to-follow examples, readers are introduced to the fundamental concepts of databases, how they are used in the real world, and how computers use them to find the information they need. Presented with eye-catching photographs, this book includes fast facts and a fun activity that will captivate readers as they build their knowledge of computers.","English",22.6,16.95,"005.74--dc23","24 pp.","https://www.enslow.com/books/Data_and_Databases/4683",{"$f":"Table1[[#This Row],[QTY]]*Table1[[#This Row],['# of Books]]","v":0},{"$f":"Table1[[#This Row],[QTY]]*Table1[[#This Row],[School & Library Price]]","v":0}]
[null,null,null,"Let's Learn About Computer Science","Networks",1,"Library Bound Book","978-1-9785-0183-6",{"$f":"HYPERLINK(Table1[[#This Row],[Hyperlink]],\"Weblink\")","v":"Weblink"},"Enslow Publishing","2019","January 2019","7.125 X 8.500","Author","Jeff Mapua",null,null,null,null,"E",null,"Grade 1 - 2","Grade K - 4","A computer alone can do amazing things, but many computers working together can change the world. This easy-to-follow text invites readers to explore the world of computer networks as they learn what these networks are and how they work. Each colorful spread examines one part of a network using simple language to explain relevant concepts and terminology. Readers will learn about networks of all sizes, and find out just what kind of network the Internet is. Fast facts and a final activity add to this high-interest first look at networks and their place in the age of technology.","English",22.6,16.95,"004.6--dc23","24 pp.","https://www.enslow.com/books/Networks/4685",{"$f":"Table1[[#This Row],[QTY]]*Table1[[#This Row],['# of Books]]","v":0},{"$f":"Table1[[#This Row],[QTY]]*Table1[[#This Row],[School & Library Price]]","v":0}]
[null,null,null,"Let's Learn About Computer Science","Networks",1,"eBook","978-1-9785-0218-5",{"$f":"HYPERLINK(Table1[[#This Row],[Hyperlink]],\"Weblink\")","v":"Weblink"},"Enslow Publishing","2019","January 2019",null,"Author","Jeff Mapua",null,null,null,null,"E",null,"Grade 1 - 2","Grade K - 4","A computer alone can do amazing things, but many computers working together can change the world. This easy-to-follow text invites readers to explore the world of computer networks as they learn what these networks are and how they work. Each colorful spread examines one part of a network using simple language to explain relevant concepts and terminology. Readers will learn about networks of all sizes, and find out just what kind of network the Internet is. Fast facts and a final activity add to this high-interest first look at networks and their place in the age of technology.","English",22.6,16.95,"004.6--dc23","24 pp.","https://www.enslow.com/books/Networks/4685",{"$f":"Table1[[#This Row],[QTY]]*Table1[[#This Row],['# of Books]]","v":0},{"$f":"Table1[[#This Row],[QTY]]*Table1[[#This Row],[School & Library Price]]","v":0}]
[null,null,null,"Let's Learn About Computer Science","Software",1,"Library Bound Book","978-1-9785-0180-5",{"$f":"HYPERLINK(Table1[[#This Row],[Hyperlink]],\"Weblink\")","v":"Weblink"},"Enslow Publishing","2019","January 2019","7.125 X 8.500","Author","Jeff Mapua",null,null,null,null,"H",null,"Grade 1 - 2","Grade K - 4","Along with hardware, software is the other half of what makes computers run. In this easy-to-follow text, readers take a first look at software and the role it plays in the world of computing. They are introduced to relevant ideas and terminology with the help of a simple glossary and colorful photographs. The different types of software are introduced, including system and programming applications. Fast facts provide an additional layer for readers, while follow-up activities allow for extending learning off the page.","English",22.6,16.95,"005.3--dc23","24 pp.","https://www.enslow.com/books/Software/4682",{"$f":"Table1[[#This Row],[QTY]]*Table1[[#This Row],['# of Books]]","v":0},{"$f":"Table1[[#This Row],[QTY]]*Table1[[#This Row],[School & Library Price]]","v":0}]
[null,null,null,"Let's Learn About Computer Science","Software",1,"eBook","978-1-9785-0220-8",{"$f":"HYPERLINK(Table1[[#This Row],[Hyperlink]],\"Weblink\")","v":"Weblink"},"Enslow Publishing","2019","January 2019",null,"Author","Jeff Mapua",null,null,null,null,"H",null,"Grade 1 - 2","Grade K - 4","Along with hardware, software is the other half of what makes computers run. In this easy-to-follow text, readers take a first look at software and the role it plays in the world of computing. They are introduced to relevant ideas and terminology with the help of a simple glossary and colorful photographs. The different types of software are introduced, including system and programming applications. Fast facts provide an additional layer for readers, while follow-up activities allow for extending learning off the page.","English",22.6,16.95,"005.3--dc23","24 pp.","https://www.enslow.com/books/Software/4682",{"$f":"Table1[[#This Row],[QTY]]*Table1[[#This Row],['# of Books]]","v":0},{"$f":"Table1[[#This Row],[QTY]]*Table1[[#This Row],[School & Library Price]]","v":0}]
[null,null,null,"Let's Learn About Literature","Fables, Myths, and Legends",1,"eBook","978-0-7660-9596-0",{"$f":"HYPERLINK(Table1[[#This Row],[Hyperlink]],\"Weblink\")","v":"Weblink"},"Enslow Publishing","2019","August 2018",null,"Author","Therese M. Shea",null,null,null,null,"G",null,"Grade 1 - 2","Grade K - 4","Fables, myths, and legends have withstood the test of time. Readers of all ages still delight in these stories, which have at least a hint of fiction if not a heavy dose. This accessible book defines fables, myths, and legends and provides famous examples of each type of literature. Readers will discover the important link between the stories and the cultures they come from. A fun final activity encourages readers to create a comic book of their favorite tale, which requires exercising several skills of the English Language Arts Common Core standards.","English",22.6,16.95,"398.2--dc23","24 pp.","https://www.enslow.com/books/Fables_Myths_and_Legends/421813",{"$f":"Table1[[#This Row],[QTY]]*Table1[[#This Row],['# of Books]]","v":0},{"$f":"Table1[[#This Row],[QTY]]*Table1[[#This Row],[School & Library Price]]","v":0}]
[null,null,null,"Let's Learn About Literature","Fiction",1,"Library Bound Book","978-0-7660-9598-4",{"$f":"HYPERLINK(Table1[[#This Row],[Hyperlink]],\"Weblink\")","v":"Weblink"},"Enslow Publishing","2019","August 2018","7.125 X 8.500","Author","Heather Moore Niver",null,null,null,null,"H",null,"Grade 1 - 2","Grade K - 4","Everyone loves a good story, whether it's true or not. Even infants love a simple board book. In this lively resource, readers will learn about the craft of fiction. Simple explanations describe many of the most common types of fiction, as well as the parts that make it up. Age-appropriate examples and authors help explain the various elements and types of fiction. Readers will be engaged by a supplementary activity that will spark their imaginations and prompt them to start writing fiction of their own.","English",22.6,16.95,"808.3--dc23","24 pp.","https://www.enslow.com/books/Fiction/421811",{"$f":"Table1[[#This Row],[QTY]]*Table1[[#This Row],['# of Books]]","v":0},{"$f":"Table1[[#This Row],[QTY]]*Table1[[#This Row],[School & Library Price]]","v":0}]
[null,null,null,"Let's Learn About Literature","Nonfiction",1,"eBook","978-0-7660-9603-5",{"$f":"HYPERLINK(Table1[[#This Row],[Hyperlink]],\"Weblink\")","v":"Weblink"},"Enslow Publishing","2019","August 2018",null,"Author","Heather Moore Niver",null,null,null,null,"E",null,"Grade 1 - 2","Grade K - 4","True stories often make for the most fascinating stories. This lively text will interest and engage students while teaching them all about the wide and sometimes wild world of nonfiction. Readers will learn what defines nonfiction, with age-appropriate examples and authors to pique their interest, such as Eric Carle. They will be intrigued by the wide variety within this one area of literature, and learn about some basic parts of a book, such as table of contents, glossary, and the index. A thought-provoking final activity challenges readers to research and write their own work of nonfiction.","English",22.6,16.95,"808/.036--dc23","24 pp.","https://www.enslow.com/books/Nonfiction/421812",{"$f":"Table1[[#This Row],[QTY]]*Table1[[#This Row],['# of Books]]","v":0},{"$f":"Table1[[#This Row],[QTY]]*Table1[[#This Row],[School & Library Price]]","v":0}]
[null,null,null,"Let's Learn About Literature","Picture Books",1,"Library Bound Book","978-0-7660-9747-6",{"$f":"HYPERLINK(Table1[[#This Row],[Hyperlink]],\"Weblink\")","v":"Weblink"},"Enslow Publishing","2019","August 2018","7.125 X 8.500","Author","Heather Moore Niver",null,null,null,null,"D",null,"Grade 1 - 2","Grade K - 4","Almost everyone has heard the phrase: \"A picture is worth a thousand words,\" and this book focuses on the very picture books that have intrigued and entranced readers young and old since the first one was published. Readers will learn about the basic types of picture books they are likely to find in their school libraries or books stores, starting with board books for babies and moving up to picture books for adults. Examples include authors and books that are sure to pique the interest of any reader.","English",22.6,16.95,"096/.1--dc23","24 pp.","https://www.enslow.com/books/Picture_Books/421850",{"$f":"Table1[[#This Row],[QTY]]*Table1[[#This Row],['# of Books]]","v":0},{"$f":"Table1[[#This Row],[QTY]]*Table1[[#This Row],[School & Library Price]]","v":0}]
[null,null,null,"Let's Learn About Literature","Plays",1,"Library Bound Book","978-0-7660-9751-3",{"$f":"HYPERLINK(Table1[[#This Row],[Hyperlink]],\"Weblink\")","v":"Weblink"},"Enslow Publishing","2019","August 2018","7.125 X 8.500","Author","Heather Moore Niver",null,null,null,null,"F",null,"Grade 1 - 2","Grade K - 4","When you consider the fact that some of the plays written in Ancient Greece, 2,000 years ago, are still performed today, the importance of this genre really hits home. This simple yet insightful overview of plays offers readers a vibrant introduction that is bound to get them interested in learning more. Lively text is paired with vivid photographs to keep readers engaged. Carefully selected examples pertinent to the age group will encourage them not only to explore the plays on their own but to use these sources as a springboard to a lifetime of appreciating this long-lived art.","English",22.6,16.95,"808.2--dc23","24 pp.","https://www.enslow.com/books/Plays/421851",{"$f":"Table1[[#This Row],[QTY]]*Table1[[#This Row],['# of Books]]","v":0},{"$f":"Table1[[#This Row],[QTY]]*Table1[[#This Row],[School & Library Price]]","v":0}]
[null,null,null,"Let's Learn About Literature","Plays",1,"eBook","978-0-7660-9754-4",{"$f":"HYPERLINK(Table1[[#This Row],[Hyperlink]],\"Weblink\")","v":"Weblink"},"Enslow Publishing","2019","August 2018",null,"Author","Heather Moore Niver",null,null,null,null,"F",null,"Grade 1 - 2","Grade K - 4","When you consider the fact that some of the plays written in Ancient Greece, 2,000 years ago, are still performed today, the importance of this genre really hits home. This simple yet insightful overview of plays offers readers a vibrant introduction that is bound to get them interested in learning more. Lively text is paired with vivid photographs to keep readers engaged. Carefully selected examples pertinent to the age group will encourage them not only to explore the plays on their own but to use these sources as a springboard to a lifetime of appreciating this long-lived art.","English",22.6,16.95,"808.2--dc23","24 pp.","https://www.enslow.com/books/Plays/421851",{"$f":"Table1[[#This Row],[QTY]]*Table1[[#This Row],['# of Books]]","v":0},{"$f":"Table1[[#This Row],[QTY]]*Table1[[#This Row],[School & Library Price]]","v":0}]
[null,null,null,"Let's Learn About Literature","Songs",1,"Library Bound Book","978-0-7660-9759-9",{"$f":"HYPERLINK(Table1[[#This Row],[Hyperlink]],\"Weblink\")","v":"Weblink"},"Enslow Publishing","2019","August 2018","7.125 X 8.500","Author","Heather Moore Niver",null,null,null,null,"G",null,"Grade 1 - 2","Grade K - 4","Almost no one can resist the compulsion to start tapping their feet or snapping their fingers when a good song comes on the radio. Almost every young reader has been hearing songs since they were born. This book introduces the fundamental aspects of songs, paired with examples both new and familiar, from common songs they likely know to new, different songs from around the world. Eye-catching photographs help reinforce the text. This insightful book will get readers excited to explore more songs, and maybe even begin writing their own.","English",22.6,16.95,"782.42--dc23","24 pp.","https://www.enslow.com/books/Songs/421853",{"$f":"Table1[[#This Row],[QTY]]*Table1[[#This Row],['# of Books]]","v":0},{"$f":"Table1[[#This Row],[QTY]]*Table1[[#This Row],[School & Library Price]]","v":0}]
[null,null,null,"Let's Learn About Literature","Songs",1,"eBook","978-0-7660-9762-9",{"$f":"HYPERLINK(Table1[[#This Row],[Hyperlink]],\"Weblink\")","v":"Weblink"},"Enslow Publishing","2019","August 2018",null,"Author","Heather Moore Niver",null,null,null,null,"G",null,"Grade 1 - 2","Grade K - 4","Almost no one can resist the compulsion to start tapping their feet or snapping their fingers when a good song comes on the radio. Almost every young reader has been hearing songs since they were born. This book introduces the fundamental aspects of songs, paired with examples both new and familiar, from common songs they likely know to new, different songs from around the world. Eye-catching photographs help reinforce the text. This insightful book will get readers excited to explore more songs, and maybe even begin writing their own.","English",22.6,16.95,"782.42--dc23","24 pp.","https://www.enslow.com/books/Songs/421853",{"$f":"Table1[[#This Row],[QTY]]*Table1[[#This Row],['# of Books]]","v":0},{"$f":"Table1[[#This Row],[QTY]]*Table1[[#This Row],[School & Library Price]]","v":0}]
[null,null,null,"Let's Learn About Natural Resources","Animals and Fish",1,"eBook","978-0-7660-9332-4",{"$f":"HYPERLINK(Table1[[#This Row],[Hyperlink]],\"Weblink\")","v":"Weblink"},"Enslow Publishing","2018","January 2018",null,"Author","Jill Sherman","2.3","0.5",null,null,"D",null,"Grade 1 - 2","Grade K - 4","We share this Earth with many other species. Earth is home to fish and animal life. They are a treasured natural resource. We raise and hunt animals for food. We use their hides to keep us warm. We put them to work and train them to do tasks we cannot do ourselves. Vibrantly colored photographs of the natural resources, fact boxes, a hands-on activity, and \"Words to Know\" add more depth to this earth science book about natural resources.","English",22.6,16.95,"591.6/3--dc23","24 pp.","https://www.enslow.com/books/Animals_and_Fish/421694",{"$f":"Table1[[#This Row],[QTY]]*Table1[[#This Row],['# of Books]]","v":0},{"$f":"Table1[[#This Row],[QTY]]*Table1[[#This Row],[School & Library Price]]","v":0}]
[null,null,null,"Let's Learn About Natural Resources","Clean Air",1,"Library Bound Book","978-0-7660-9145-0",{"$f":"HYPERLINK(Table1[[#This Row],[Hyperlink]],\"Weblink\")","v":"Weblink"},"Enslow Publishing","2018","January 2018","7.125 X 8.500","Author","Jill Sherman","2.6","0.5",null,null,"E",null,"Grade 1 - 2","Grade K - 4","With every breath, it is clear that air is an essential natural resource. This mixture of gases is invisible, but it is all around us. Clean air gives us the oxygen we need to live, but the mixture is always changing. Pollution from cars and factories changes the quality of our air. So do natural disasters, like volcanic eruptions. But with the right balance, Earth thrives. Natural resources like air are a gift, but we must use Earth's gifts responsibly. Just as Earth takes care of us, we must take care of its air. This book will drive home all these points for your readers. Color photographs, fact boxes, a hands-on activity, and \"Words to Know\" are also included in this earth science book.","English",22.6,16.95,"551.5--dc23","24 pp.","https://www.enslow.com/books/Clean_Air/421690",{"$f":"Table1[[#This Row],[QTY]]*Table1[[#This Row],['# of Books]]","v":0},{"$f":"Table1[[#This Row],[QTY]]*Table1[[#This Row],[School & Library Price]]","v":0}]
[null,null,null,"Let's Learn About Natural Resources","Fertile Land and Soil",1,"eBook","978-0-7660-9142-9",{"$f":"HYPERLINK(Table1[[#This Row],[Hyperlink]],\"Weblink\")","v":"Weblink"},"Enslow Publishing","2018","January 2018",null,"Author","Jill Sherman","3.3","0.5",null,null,"G",null,"Grade 1 - 2","Grade K - 4","The land beneath our feet gives life. Soil gives plants a place to grow. It is a natural resource that has shaped the way we live. However, we use it for more than just growing things. We grind up soil to create paints. We shape it into pottery. We heat it to make bricks for building homes and monuments. Color photographs, fact boxes, a hands-on activity, and \"Words to Know\" add more detail to this earth science book.","English",22.6,16.95,"631.4--dc23","24 pp.","https://www.enslow.com/books/Fertile_Land_and_Soil/421688",{"$f":"Table1[[#This Row],[QTY]]*Table1[[#This Row],['# of Books]]","v":0},{"$f":"Table1[[#This Row],[QTY]]*Table1[[#This Row],[School & Library Price]]","v":0}]
[null,null,null,"Let's Learn About Natural Resources","Forests and Vegetation",1,"Library Bound Book","978-0-7660-9237-2",{"$f":"HYPERLINK(Table1[[#This Row],[Hyperlink]],\"Weblink\")","v":"Weblink"},"Enslow Publishing","2018","January 2018","7.125 X 8.500","Author","Jill Sherman","2.7","0.5","12",null,"F",null,"Grade 1 - 2","Grade K - 4","Everything that we need, Earth provides. All across our planet, plants grow. Earth's forests and plants are one of our valuable natural resources. We pick their fruit, leaves, and seeds for food. We cut their wood for lumber. We harvest them for medicine. Even when we do nothing, plants give us oxygen to breathe. Natural resources are a gift from Earth, but we must use them responsibly. Just as Earth takes care of us, we must take care of its plants. Color photographs, fact boxes, a hands-on activity, and a \"Words to Know\" section round out this earth science volume.","English",22.6,16.95,"577.3--dc23","24 pp.","https://www.enslow.com/books/Forests_and_Vegetation/421693",{"$f":"Table1[[#This Row],[QTY]]*Table1[[#This Row],['# of Books]]","v":0},{"$f":"Table1[[#This Row],[QTY]]*Table1[[#This Row],[School & Library Price]]","v":0}]
[null,null,null,"Let's Learn About Natural Resources","Fossil Fuels",1,"eBook","978-0-7660-9330-0",{"$f":"HYPERLINK(Table1[[#This Row],[Hyperlink]],\"Weblink\")","v":"Weblink"},"Enslow Publishing","2018","January 2018",null,"Author","Jill Sherman","2.7","0.5",null,null,"H",null,"Grade 1 - 2","Grade K - 4","Buried deep beneath Earth's surface is a very valuable natural resource. Fossil fuels power our world. We dig them up so that we can use them to create electricity. But they do so much more than that. They are the fuel that runs our planes, trains, cars, and trucks. From the asphalt of our streets to the ink on our money, fossil fuels improve our lives. We even use them to make everyday items like plastics. Readers learn even more about earth science through the color photographs, fact boxes, a hands-on activity, and a Words to Know section.","English",22.6,16.95,"333.8/2--dc23","24 pp.","https://www.enslow.com/books/Fossil_Fuels/421692",{"$f":"Table1[[#This Row],[QTY]]*Table1[[#This Row],['# of Books]]","v":0},{"$f":"Table1[[#This Row],[QTY]]*Table1[[#This Row],[School & Library Price]]","v":0}]
[null,null,null,"Let's Learn About Natural Resources","Fresh Water",1,"Library Bound Book","978-0-7660-9235-8",{"$f":"HYPERLINK(Table1[[#This Row],[Hyperlink]],\"Weblink\")","v":"Weblink"},"Enslow Publishing","2018","January 2018","7.125 X 8.500","Author","Jill Sherman","2.1","0.5",null,null,"E",null,"Grade 1 - 2","Grade K - 4","Water, water, everywhere. Fresh water is one of Earth's most precious natural resources. All living things need water to survive, but humans also use water in many other ways. We cook with water. We clean with water. We use water to make paper and medicine. We even use it to make electricity. Natural resources are gifts that Earth gives us. The more we use it, the more important it is to take care of this supply. Color photographs, fact boxes, a hands-on activity, and Words to Know are also included in this earth science volume.","English",22.6,16.95,"577.6--dc23","24 pp.","https://www.enslow.com/books/Fresh_Water/421689",{"$f":"Table1[[#This Row],[QTY]]*Table1[[#This Row],['# of Books]]","v":0},{"$f":"Table1[[#This Row],[QTY]]*Table1[[#This Row],[School & Library Price]]","v":0}]
[null,null,null,"Let's Learn About Natural Resources","Minerals and Heavy Metals",1,"Library Bound Book","978-0-7660-9149-8",{"$f":"HYPERLINK(Table1[[#This Row],[Hyperlink]],\"Weblink\")","v":"Weblink"},"Enslow Publishing","2018","January 2018","7.125 X 8.500","Author","Jill Sherman","2.3","0.5",null,null,"H",null,"Grade 1 - 2","Grade K - 4","This earth science volume makes science concepts accessible and fun, while also emphasizing some very important points. Earth itself is made of rocks and minerals. We use these natural resources in many ways. We build tall buildings with iron. We create pathways for electricity with copper. We absorb minerals' nutrients to keep our bodies healthy. We even wear precious gems and metals as decorations. These natural resources are precious and we must protect them, as your readers will learn. Color photographs, fact boxes, a hands-on activity, and 'Words to Know' are also included.","English",22.6,16.95,"549--dc23","24 pp.","https://www.enslow.com/books/Minerals_and_Heavy_Metals/421691",{"$f":"Table1[[#This Row],[QTY]]*Table1[[#This Row],['# of Books]]","v":0},{"$f":"Table1[[#This Row],[QTY]]*Table1[[#This Row],[School & Library Price]]","v":0}]
[null,null,null,"Let's Learn About Natural Resources","Minerals and Heavy Metals",1,"eBook","978-0-7660-9150-4",{"$f":"HYPERLINK(Table1[[#This Row],[Hyperlink]],\"Weblink\")","v":"Weblink"},"Enslow Publishing","2018","January 2018",null,"Author","Jill Sherman","2.3","0.5",null,null,"H",null,"Grade 1 - 2","Grade K - 4","This earth science volume makes science concepts accessible and fun, while also emphasizing some very important points. Earth itself is made of rocks and minerals. We use these natural resources in many ways. We build tall buildings with iron. We create pathways for electricity with copper. We absorb minerals' nutrients to keep our bodies healthy. We even wear precious gems and metals as decorations. These natural resources are precious and we must protect them, as your readers will learn. Color photographs, fact boxes, a hands-on activity, and 'Words to Know' are also included.","English",22.6,16.95,"549--dc23","24 pp.","https://www.enslow.com/books/Minerals_and_Heavy_Metals/421691",{"$f":"Table1[[#This Row],[QTY]]*Table1[[#This Row],['# of Books]]","v":0},{"$f":"Table1[[#This Row],[QTY]]*Table1[[#This Row],[School & Library Price]]","v":0}]
[null,null,null,"Investigate Biodiversity","Amphibians",1,"Library Bound Book","978-1-9785-0184-3",{"$f":"HYPERLINK(Table1[[#This Row],[Hyperlink]],\"Weblink\")","v":"Weblink"},"Enslow Publishing","2019","January 2019","8.500 X 7.125","Author","Kristen Rajczak Nelson","4.2","0.5",null,null,"H",null,"Grade 2","Grade K - 4","All amphibians spend part of their life on land and part in the water. What part and for how long varies between species. In this engaging and colorful text, readers learn the main characteristics that make an animal part of the amphibian group and the many unique adaptations that can occur within the bounds of that characteristic. With main content supporting the Next Generation Science Standards core ideas of adaptation, ecosystems, and biodiversity, this book is a great introduction to one of the many animal groups on Earth.","English",23.95,17.95,"597.8--dc23","24 pp.","https://www.enslow.com/books/Amphibians/4686",{"$f":"Table1[[#This Row],[QTY]]*Table1[[#This Row],['# of Books]]","v":0},{"$f":"Table1[[#This Row],[QTY]]*Table1[[#This Row],[School & Library Price]]","v":0}]
[null,null,null,"Investigate Biodiversity","Amphibians",1,"eBook","978-1-9785-0240-6",{"$f":"HYPERLINK(Table1[[#This Row],[Hyperlink]],\"Weblink\")","v":"Weblink"},"Enslow Publishing","2019","January 2019",null,"Author","Kristen Rajczak Nelson","4.2","0.5",null,null,"H",null,"Grade 2","Grade K - 4","All amphibians spend part of their life on land and part in the water. What part and for how long varies between species. In this engaging and colorful text, readers learn the main characteristics that make an animal part of the amphibian group and the many unique adaptations that can occur within the bounds of that characteristic. With main content supporting the Next Generation Science Standards core ideas of adaptation, ecosystems, and biodiversity, this book is a great introduction to one of the many animal groups on Earth.","English",23.95,17.95,"597.8--dc23","24 pp.","https://www.enslow.com/books/Amphibians/4686",{"$f":"Table1[[#This Row],[QTY]]*Table1[[#This Row],['# of Books]]","v":0},{"$f":"Table1[[#This Row],[QTY]]*Table1[[#This Row],[School & Library Price]]","v":0}]
[null,null,null,"Investigate Biodiversity","Fish",1,"Library Bound Book","978-1-9785-0186-7",{"$f":"HYPERLINK(Table1[[#This Row],[Hyperlink]],\"Weblink\")","v":"Weblink"},"Enslow Publishing","2019","January 2019","8.500 X 7.125","Author","Heather Moore Niver","3.5","0.5",null,null,"G",null,"Grade 2","Grade K - 4","This detailed resource offers a simple overview of fish basics. Readers will be able to identify and understand the general characteristics of the fish, as well as its life cycles, habitats, and other behaviors. Vivid photographs and descriptions accompany information about some of the water's most fascinating fish, highlighting some of the water's most interesting creatures, whether they're in freshwater or saltwater. This engaging and informative book, which supports Next Generation Science Standards, is sure to keep even reluctant readers turning the pages.","English",23.95,17.95,"597--dc23","24 pp.","https://www.enslow.com/books/Fish/4688",{"$f":"Table1[[#This Row],[QTY]]*Table1[[#This Row],['# of Books]]","v":0},{"$f":"Table1[[#This Row],[QTY]]*Table1[[#This Row],[School & Library Price]]","v":0}]
[null,null,null,"Investigate Biodiversity","Fish",1,"eBook","978-1-9785-0246-8",{"$f":"HYPERLINK(Table1[[#This Row],[Hyperlink]],\"Weblink\")","v":"Weblink"},"Enslow Publishing","2019","January 2019",null,"Author","Heather Moore Niver","3.5","0.5",null,null,"G",null,"Grade 2","Grade K - 4","This detailed resource offers a simple overview of fish basics. Readers will be able to identify and understand the general characteristics of the fish, as well as its life cycles, habitats, and other behaviors. Vivid photographs and descriptions accompany information about some of the water's most fascinating fish, highlighting some of the water's most interesting creatures, whether they're in freshwater or saltwater. This engaging and informative book, which supports Next Generation Science Standards, is sure to keep even reluctant readers turning the pages.","English",23.95,17.95,"597--dc23","24 pp.","https://www.enslow.com/books/Fish/4688",{"$f":"Table1[[#This Row],[QTY]]*Table1[[#This Row],['# of Books]]","v":0},{"$f":"Table1[[#This Row],[QTY]]*Table1[[#This Row],[School & Library Price]]","v":0}]
[null,null,null,"Investigate Biodiversity","Mammals",1,"Library Bound Book","978-1-9785-0195-9",{"$f":"HYPERLINK(Table1[[#This Row],[Hyperlink]],\"Weblink\")","v":"Weblink"},"Enslow Publishing","2019","January 2019","8.500 X 7.125","Author","Kristen Rajczak Nelson","4.3","0.5",null,null,"I",null,"Grade 2","Grade K - 4","Mammals take care of their young and live in groups, from a pride of lions to a passel of opossums, but even though mammals have features in common, the physical and behavioral adaptations of each species make them unique and interesting. This captivating text introduces readers to the characteristics that make an animal a mammal as well as the variations on that characteristic, such as the different kinds of body hair. Featuring color photographs and fast facts, it supports the Next Generation Science Standards core ideas through content about adaptation, ecosystems, and biodiversity. This book is an excellent addition to any animal library catering to young readers.","English",23.95,17.95,"599--dc23","24 pp.","https://www.enslow.com/books/Mammals/4697",{"$f":"Table1[[#This Row],[QTY]]*Table1[[#This Row],['# of Books]]","v":0},{"$f":"Table1[[#This Row],[QTY]]*Table1[[#This Row],[School & Library Price]]","v":0}]
[null,null,null,"Investigate Biodiversity","Mammals",1,"eBook","978-1-9785-0252-9",{"$f":"HYPERLINK(Table1[[#This Row],[Hyperlink]],\"Weblink\")","v":"Weblink"},"Enslow Publishing","2019","January 2019",null,"Author","Kristen Rajczak Nelson","4.3","0.5",null,null,"I",null,"Grade 2","Grade K - 4","Mammals take care of their young and live in groups, from a pride of lions to a passel of opossums, but even though mammals have features in common, the physical and behavioral adaptations of each species make them unique and interesting. This captivating text introduces readers to the characteristics that make an animal a mammal as well as the variations on that characteristic, such as the different kinds of body hair. Featuring color photographs and fast facts, it supports the Next Generation Science Standards core ideas through content about adaptation, ecosystems, and biodiversity. This book is an excellent addition to any animal library catering to young readers.","English",23.95,17.95,"599--dc23","24 pp.","https://www.enslow.com/books/Mammals/4697",{"$f":"Table1[[#This Row],[QTY]]*Table1[[#This Row],['# of Books]]","v":0},{"$f":"Table1[[#This Row],[QTY]]*Table1[[#This Row],[School & Library Price]]","v":0}]
[null,null,null,"Zoom in on American Symbols","Zoom in on American Symbols",6,"Library Set","978-0-7660-8419-3",{"$f":"HYPERLINK(Table1[[#This Row],[Hyperlink]],\"Weblink\")","v":"Weblink"},"Enslow Publishing","2017","January 2017","8.500 X 7.125",null,null,null,null,null,null,null,null,"Grade 2","Grade K - 4","Many children may know the Pledge of Allegiance, or recognize the song sung at the beginning of sports games, but few understand the traditions that spurred these great American symbols. From the history of the Liberty Bell and the Statue of Liberty to how the bald eagle became the national bird, each book uses strong text-photo correlation to help young readers better understand the history, traditions, and figures behind each American symbol. Fun facts help students learn more about each symbol and will inspire a lifelong sense of patriotism.","English",143.69999999999999,107.7,null,"24 pp.","https://www.enslow.com/series/Zoom_in_on_American_Symbols/421579",{"$f":"Table1[[#This Row],[QTY]]*Table1[[#This Row],['# of Books]]","v":0},{"$f":"Table1[[#This Row],[QTY]]*Table1[[#This Row],[School & Library Price]]","v":0}]
[null,null,null,"Zoom in on American Symbols","Zoom in on the Bald Eagle",1,"Library Bound Book","978-0-7660-8444-5",{"$f":"HYPERLINK(Table1[[#This Row],[Hyperlink]],\"Weblink\")","v":"Weblink"},"Enslow Publishing","2017","January 2017","8.500 X 7.125","Author","Heather Moore Niver","5","0.5",null,null,"J",null,"Grade 2","Grade K - 4","Through simple, fact-filled text and vivid photographs, readers will enjoy learning about this important American symbol, including why the bald eagle was chosen as the national bird, if Ben Franklin really wanted a turkey instead, and how the eagle on the Presidential Seal has changed over the years. A follow-up activity guides readers in researching other national symbols from around the world.","English",23.95,17.95,"929.9--dc23","24 pp.","https://www.enslow.com/books/Zoom_in_on_the_Bald_Eagle/421665",{"$f":"Table1[[#This Row],[QTY]]*Table1[[#This Row],['# of Books]]","v":0},{"$f":"Table1[[#This Row],[QTY]]*Table1[[#This Row],[School & Library Price]]","v":0}]
[null,null,null,"Zoom in on American Symbols","Zoom in on the Liberty Bell",1,"Library Bound Book","978-0-7660-8456-8",{"$f":"HYPERLINK(Table1[[#This Row],[Hyperlink]],\"Weblink\")","v":"Weblink"},"Enslow Publishing","2017","January 2017","8.500 X 7.125","Author","Therese M. Shea","5.3","0.5",null,null,"K",null,"Grade 2","Grade K - 4","Chock full of fun facts, the simple text and eye-catching vibrant photographs in this book tell the story of one of the earliest symbols of America's struggle for freedom, including the original purpose of the Liberty Bell, where it was hidden during the American Revolution, and the story behind the famous crack. A thought-provoking follow-up activity encourages readers to consider other times in our history when people fought for their rights.","English",23.95,17.95,"974.8'11--dc23","24 pp.","https://www.enslow.com/books/Zoom_in_on_the_Liberty_Bell/421667",{"$f":"Table1[[#This Row],[QTY]]*Table1[[#This Row],['# of Books]]","v":0},{"$f":"Table1[[#This Row],[QTY]]*Table1[[#This Row],[School & Library Price]]","v":0}]
[null,null,null,"Zoom in on American Symbols","Zoom in on the Liberty Bell",1,"eBook","978-0-7660-8457-5",{"$f":"HYPERLINK(Table1[[#This Row],[Hyperlink]],\"Weblink\")","v":"Weblink"},"Enslow Publishing","2017","January 2017",null,"Author","Therese M. Shea","5.3","0.5",null,null,"K",null,"Grade 2","Grade K - 4","Chock full of fun facts, the simple text and eye-catching vibrant photographs in this book tell the story of one of the earliest symbols of America's struggle for freedom, including the original purpose of the Liberty Bell, where it was hidden during the American Revolution, and the story behind the famous crack. A thought-provoking follow-up activity encourages readers to consider other times in our history when people fought for their rights.","English",23.95,17.95,"974.8'11--dc23","24 pp.","https://www.enslow.com/books/Zoom_in_on_the_Liberty_Bell/421667",{"$f":"Table1[[#This Row],[QTY]]*Table1[[#This Row],['# of Books]]","v":0},{"$f":"Table1[[#This Row],[QTY]]*Table1[[#This Row],[School & Library Price]]","v":0}]
[null,null,null,"Zoom in on American Symbols","Zoom in on the Pledge of Allegiance",1,"Library Bound Book","978-0-7660-8440-7",{"$f":"HYPERLINK(Table1[[#This Row],[Hyperlink]],\"Weblink\")","v":"Weblink"},"Enslow Publishing","2017","January 2017","8.500 X 7.125","Author","Heather Moore Niver","5.3","0.5",null,null,"J",null,"Grade 2","Grade K - 4","Why do we place our hand on our heart when we say the Pledge of Allegiance? Who wrote the original pledge? How has it changed over the years? Readers will learn the history and meaning behind these familiar words through easy-to-follow text and color photographs. A follow-up activity encourages readers to research pledges and flags from around the world.","English",23.95,17.95,"323.6'5--dc23","24 pp.","https://www.enslow.com/books/Zoom_in_on_the_Pledge_of_Allegiance/421666",{"$f":"Table1[[#This Row],[QTY]]*Table1[[#This Row],['# of Books]]","v":0},{"$f":"Table1[[#This Row],[QTY]]*Table1[[#This Row],[School & Library Price]]","v":0}]
[null,null,null,"Zoom in on American Symbols","Zoom in on the Pledge of Allegiance",1,"eBook","978-0-7660-8441-4",{"$f":"HYPERLINK(Table1[[#This Row],[Hyperlink]],\"Weblink\")","v":"Weblink"},"Enslow Publishing","2017","January 2017",null,"Author","Heather Moore Niver","5.3","0.5",null,null,"J",null,"Grade 2","Grade K - 4","Why do we place our hand on our heart when we say the Pledge of Allegiance? Who wrote the original pledge? How has it changed over the years? Readers will learn the history and meaning behind these familiar words through easy-to-follow text and color photographs. A follow-up activity encourages readers to research pledges and flags from around the world.","English",23.95,17.95,"323.6'5--dc23","24 pp.","https://www.enslow.com/books/Zoom_in_on_the_Pledge_of_Allegiance/421666",{"$f":"Table1[[#This Row],[QTY]]*Table1[[#This Row],['# of Books]]","v":0},{"$f":"Table1[[#This Row],[QTY]]*Table1[[#This Row],[School & Library Price]]","v":0}]
[null,null,null,"Zoom in on American Symbols","Zoom in on the U.S. Flag",1,"Library Bound Book","978-0-7660-8460-5",{"$f":"HYPERLINK(Table1[[#This Row],[Hyperlink]],\"Weblink\")","v":"Weblink"},"Enslow Publishing","2017","January 2017","8.500 X 7.125","Author","Cecelia H. Brannon","5.6","0.5","20",null,"K",null,"Grade 2","Grade K - 4","Through easy-to-follow text and color photos, readers will learn the fascinating story behind this national symbol, including who designed the first American flag, where the term “Old Glory” came from, and the correct way to handle the flag. A follow-up activity provides readers with a step-by-step guide to the proper care and folding of the flag.","English",23.95,17.95,"929.9/20973--dc23","24 pp.","https://www.enslow.com/books/Zoom_in_on_the_US_Flag/421664",{"$f":"Table1[[#This Row],[QTY]]*Table1[[#This Row],['# of Books]]","v":0},{"$f":"Table1[[#This Row],[QTY]]*Table1[[#This Row],[School & Library Price]]","v":0}]
[null,null,null,"Zoom in on American Symbols","Zoom in on the U.S. Flag",1,"eBook","978-0-7660-8461-2",{"$f":"HYPERLINK(Table1[[#This Row],[Hyperlink]],\"Weblink\")","v":"Weblink"},"Enslow Publishing","2017","January 2017",null,"Author","Cecelia H. Brannon","5.6","0.5","20",null,"K",null,"Grade 2","Grade K - 4","Through easy-to-follow text and color photos, readers will learn the fascinating story behind this national symbol, including who designed the first American flag, where the term “Old Glory” came from, and the correct way to handle the flag. A follow-up activity provides readers with a step-by-step guide to the proper care and folding of the flag.","English",23.95,17.95,"929.9/20973--dc23","24 pp.","https://www.enslow.com/books/Zoom_in_on_the_US_Flag/421664",{"$f":"Table1[[#This Row],[QTY]]*Table1[[#This Row],['# of Books]]","v":0},{"$f":"Table1[[#This Row],[QTY]]*Table1[[#This Row],[School & Library Price]]","v":0}]
[null,null,null,"Zoom in on Biomes","The Coniferous Forest Biome",1,"eBook","978-0-7660-7747-8",{"$f":"HYPERLINK(Table1[[#This Row],[Hyperlink]],\"Weblink\")","v":"Weblink"},"Enslow Publishing","2017","August 2016",null,"Author","Colin Grady","4.5","0.5",null,null,"G",null,"Grade 2","Grade K - 4","A brown bear lumbers toward his den deep in the woods, a woodpecker taps away at a pine tree, and a chipmunk scurries to gather seeds that have fallen on the ground. Welcome to the coniferous forest biome. With easy-to-follow text and color photographs, readers learn what a coniferous forest is, which plants and animals live there, how they have adapted to their environment, and how forest life is threatened due to human factors like logging and pollution. A follow-up activity encourages readers to consider the many ways in which the coniferous forest is important to humans and the abundant life that makes this biome home.","English",23.95,17.95,"577.3/7--dc23","24 pp.","https://www.enslow.com/books/The_Coniferous_Forest_Biome/419329",{"$f":"Table1[[#This Row],[QTY]]*Table1[[#This Row],['# of Books]]","v":0},{"$f":"Table1[[#This Row],[QTY]]*Table1[[#This Row],[School & Library Price]]","v":0}]
[null,null,null,"Zoom in on Biomes","The Deciduous Forest Biome",1,"Library Bound Book","978-0-7660-7751-5",{"$f":"HYPERLINK(Table1[[#This Row],[Hyperlink]],\"Weblink\")","v":"Weblink"},"Enslow Publishing","2017","August 2016","8.500 X 7.125","Author","Colin Grady","4.3","0.5",null,null,"G",null,"Grade 2","Grade K - 4","Squirrels leap from branch to branch high up in the canopy, deer graze in a patch of wildflowers, and earthworms slide through decaying leaves in the soil. We have arrived at the deciduous forest biome! Readers learn about what can be found in the five layers of the forest, how decomposition creates rich and fertile soil, and the role that humans have played in the deforestation that is occurring around the world. A follow-up activity invites readers to draw and label the layers of the forest and the plants and animals that live in this lush biome.","English",23.95,17.95,"577.3--dc23","24 pp.","https://www.enslow.com/books/The_Deciduous_Forest_Biome/419334",{"$f":"Table1[[#This Row],[QTY]]*Table1[[#This Row],['# of Books]]","v":0},{"$f":"Table1[[#This Row],[QTY]]*Table1[[#This Row],[School & Library Price]]","v":0}]
[null,null,null,"Zoom in on Biomes","The Desert Biome",1,"eBook","978-0-7660-7777-5",{"$f":"HYPERLINK(Table1[[#This Row],[Hyperlink]],\"Weblink\")","v":"Weblink"},"Enslow Publishing","2017","August 2016",null,"Author","Colin Grady","4.7","0.5",null,null,"G",null,"Grade 2","Grade K - 4","A fennec fox peeks out of its burrow, a camel plods across the hot sand, and a wren makes its nest in a cactus. Readers will be transported to the desert biome. An easy-to-follow narrative and color photographs invite readers to learn about the different types of deserts, how various plants and animals survive in this harsh environment, and the dangers that desert growth presents to our earth today. A follow-up activity guides readers as they create their own desert scene and identify the elements of this fascinating biome.","English",23.95,17.95,"577.54--dc23","24 pp.","https://www.enslow.com/books/The_Desert_Biome/419339",{"$f":"Table1[[#This Row],[QTY]]*Table1[[#This Row],['# of Books]]","v":0},{"$f":"Table1[[#This Row],[QTY]]*Table1[[#This Row],[School & Library Price]]","v":0}]
[null,null,null,"Zoom in on Biomes","The Grassland Biome",1,"Library Bound Book","978-0-7660-7780-5",{"$f":"HYPERLINK(Table1[[#This Row],[Hyperlink]],\"Weblink\")","v":"Weblink"},"Enslow Publishing","2017","August 2016","8.500 X 7.125","Author","Colin Grady","5.1","0.5",null,null,"G",null,"Grade 2","Grade K - 4","Lions stalking through tall grass, snakes slithering under shrubs, and giraffes munching on leaves. This breath-taking scene belongs to the grassland biome. Readers learn about what a grassland is, which plants and animals live there, differences between temperate and tropical grasslands, and the challenges that face grasslands today. A follow-up activity invites readers to do further research on a grassland animal and its role in this unique biome.","English",23.95,17.95,"577.4--dc23","24 pp.","https://www.enslow.com/books/The_Grassland_Biome/419344",{"$f":"Table1[[#This Row],[QTY]]*Table1[[#This Row],['# of Books]]","v":0},{"$f":"Table1[[#This Row],[QTY]]*Table1[[#This Row],[School & Library Price]]","v":0}]
[null,null,null,"Zoom in on Biomes","The Ocean Biome",1,"Library Bound Book","978-0-7660-7790-4",{"$f":"HYPERLINK(Table1[[#This Row],[Hyperlink]],\"Weblink\")","v":"Weblink"},"Enslow Publishing","2017","August 2016","8.500 X 7.125","Author","Colin Grady","4.5","0.5",null,null,"G",null,"Grade 2","Grade K - 4","Dolphins skim their way along the water's surface, plankton drift along with the currents, and an underwater volcano erupts. This is the ocean biome. Through a simple narrative and vivid photographs, readers will learn about the landscape of the ocean, the plants and animals that live there, what causes tides and waves, and the challenge we all face in keeping the world's oceans safe and clean. A follow-up activity encourages students to research the similarities and differences between the fish and mammals that live in the largest biome on the planet.","English",23.95,17.95,"577.7--dc23","24 pp.","https://www.enslow.com/books/The_Ocean_Biome/419349",{"$f":"Table1[[#This Row],[QTY]]*Table1[[#This Row],['# of Books]]","v":0},{"$f":"Table1[[#This Row],[QTY]]*Table1[[#This Row],[School & Library Price]]","v":0}]
[null,null,null,"Zoom in on Biomes","The Ocean Biome",1,"eBook","978-0-7660-7793-5",{"$f":"HYPERLINK(Table1[[#This Row],[Hyperlink]],\"Weblink\")","v":"Weblink"},"Enslow Publishing","2017","August 2016",null,"Author","Colin Grady","4.5","0.5",null,null,"G",null,"Grade 2","Grade K - 4","Dolphins skim their way along the water's surface, plankton drift along with the currents, and an underwater volcano erupts. This is the ocean biome. Through a simple narrative and vivid photographs, readers will learn about the landscape of the ocean, the plants and animals that live there, what causes tides and waves, and the challenge we all face in keeping the world's oceans safe and clean. A follow-up activity encourages students to research the similarities and differences between the fish and mammals that live in the largest biome on the planet.","English",23.95,17.95,"577.7--dc23","24 pp.","https://www.enslow.com/books/The_Ocean_Biome/419349",{"$f":"Table1[[#This Row],[QTY]]*Table1[[#This Row],['# of Books]]","v":0},{"$f":"Table1[[#This Row],[QTY]]*Table1[[#This Row],[School & Library Price]]","v":0}]
[null,null,null,"Zoom in on Civic Virtues","Zoom in on Civic Virtues",7,"Library Set","978-1-9785-0030-3",{"$f":"HYPERLINK(Table1[[#This Row],[Hyperlink]],\"Weblink\")","v":"Weblink"},"Enslow Publishing","2019","August 2018","8.500 X 7.125",null,null,null,null,null,null,null,null,"Grade 2","Grade K - 4","Being a member of a community, whether it is a classroom or a country, brings with it certain responsibilities. In this series, young readers are taught to consider their roles as citizens and how their actions affect others. Each book focuses on a key civic virtue, using easy-to-follow terms and real-life examples to explain why that virtue is so important and how it affects others on a local and global scale. Full-color photographs are paired with engaging text centering on democratic principles, laying a solid groundwork for future civics education and future civic participation. Features include: Introduces students to the concept of civic engagement and the critical value of social cooperation. Correlates directly to recommended civics curricula in the C3 Framework for Social Studies at the 2nd grade level. Activity prompt encourages young readers to think more closely about their role in the classroom and the world. Contains \"Words to Know\" and \"Learn More\" sections designed to teach readers vocabulary and provide further resources for study.","English",167.65,125.65,null,"24 pp.","https://www.enslow.com/series/Zoom_in_on_Civic_Virtues/450978",{"$f":"Table1[[#This Row],[QTY]]*Table1[[#This Row],['# of Books]]","v":0},{"$f":"Table1[[#This Row],[QTY]]*Table1[[#This Row],[School & Library Price]]","v":0}]
[null,null,null,"Zoom in on Civic Virtues","Zoom in on Equality",1,"Library Bound Book","978-0-7660-9763-6",{"$f":"HYPERLINK(Table1[[#This Row],[Hyperlink]],\"Weblink\")","v":"Weblink"},"Enslow Publishing","2019","August 2018","8.500 X 7.125","Author","Heather Moore Niver",null,null,null,null,"J",null,"Grade 2","Grade K - 4","Equality is as simple an idea as it is complex. This resource introduces young readers to the concept of equality using age-appropriate books, historical cases, and everyday examples. Lively, simple-to-understand text illustrates the problems with inequality and helps readers understand why and how it is an issue that needs to be addressed. They will learn why equality matters, as well as how they can make a difference in their own lives as well as in their own classrooms.","English",23.95,17.95,"305--dc23","24 pp.","https://www.enslow.com/books/Zoom_in_on_Equality/421854",{"$f":"Table1[[#This Row],[QTY]]*Table1[[#This Row],['# of Books]]","v":0},{"$f":"Table1[[#This Row],[QTY]]*Table1[[#This Row],[School & Library Price]]","v":0}]
[null,null,null,"Zoom in on Civic Virtues","Zoom in on Fairness",1,"eBook","978-0-7660-9770-4",{"$f":"HYPERLINK(Table1[[#This Row],[Hyperlink]],\"Weblink\")","v":"Weblink"},"Enslow Publishing","2019","August 2018",null,"Author","Heather Moore Niver",null,null,null,null,"H",null,"Grade 2","Grade K - 4","At one time or another, nearly every kid has cried out in frustration, \"It's not fair!\" This easy-to-read book explains the sometimes complicated concept of fairness with interesting and thought-provoking examples. An empathetic tone recognizes that it can certainly be a struggle and encourages them to ask questions so that they understand the rules. They will learn about different views of fairness around the globe and everyday people who stood up to make sure things were fair. Age-appropriate examples of simple ways to be fair in their everyday lives will inspire readers to be advocates for fairness for everyone in their lives, no matter who they are. A final activity encourages readers to examine their own ideas about fairness in a historical context.","English",23.95,17.95,"179/.9--dc23","24 pp.","https://www.enslow.com/books/Zoom_in_on_Fairness/421855",{"$f":"Table1[[#This Row],[QTY]]*Table1[[#This Row],['# of Books]]","v":0},{"$f":"Table1[[#This Row],[QTY]]*Table1[[#This Row],[School & Library Price]]","v":0}]
[null,null,null,"Zoom in on Civic Virtues","Zoom in on Honesty",1,"Library Bound Book","978-0-7660-9771-1",{"$f":"HYPERLINK(Table1[[#This Row],[Hyperlink]],\"Weblink\")","v":"Weblink"},"Enslow Publishing","2019","August 2018","8.500 X 7.125","Author","Rita Santos",null,null,null,null,"G",null,"Grade 2","Grade K - 4","It's said that honesty is the best policy, but what does that mean? In this book students will learn the value of honesty in our communities. Young readers will be taught to consider their role as an honest citizen. They will learn the importance of honesty in our political as well as personal lives. Young readers will be introduced to the consequences of dishonesty and how it can affect others. They will learn all about this important civic virtue through the use of easy-to-follow terms and real-life examples.","English",23.95,17.95,"179/.9--dc23","24 pp.","https://www.enslow.com/books/Zoom_in_on_Honesty/421856",{"$f":"Table1[[#This Row],[QTY]]*Table1[[#This Row],['# of Books]]","v":0},{"$f":"Table1[[#This Row],[QTY]]*Table1[[#This Row],[School & Library Price]]","v":0}]
[null,null,null,"Zoom in on Civic Virtues","Zoom in on Making Decisions as a Group",1,"eBook","978-0-7660-9778-0",{"$f":"HYPERLINK(Table1[[#This Row],[Hyperlink]],\"Weblink\")","v":"Weblink"},"Enslow Publishing","2019","August 2018",null,"Author","Rita Santos",null,null,null,null,"I",null,"Grade 2","Grade K - 4","Young readers will learn how making decisions as a group is an important part of our roles as citizens. The book explores how group decisions, like voting, affect students and their communities. It will show how the government uses group decisions every day to decide everything from laws to spending money. Students will learn the value of compromise and how their actions affect others. Children will learn all about this important civic virtue through the use of easy-to-follow terms and real-life examples.","English",23.95,17.95,"302.3--dc23","24 pp.","https://www.enslow.com/books/Zoom_in_on_Making_Decisions_as_a_Group/421857",{"$f":"Table1[[#This Row],[QTY]]*Table1[[#This Row],['# of Books]]","v":0},{"$f":"Table1[[#This Row],[QTY]]*Table1[[#This Row],[School & Library Price]]","v":0}]
[null,null,null,"Zoom in on Civic Virtues","Zoom in on Respect for Authority",1,"Library Bound Book","978-0-7660-9779-7",{"$f":"HYPERLINK(Table1[[#This Row],[Hyperlink]],\"Weblink\")","v":"Weblink"},"Enslow Publishing","2019","August 2018","8.500 X 7.125","Author","Rita Santos",null,null,null,null,"J",null,"Grade 2","Grade K - 4","Children will learn why respecting authority is an important civic virtue through the use of easy-to-follow terms and real-life examples. Young readers will learn what authority means in different situations. They will learn how authority is granted and when it should and should not be respected. Students will learn how people with authority, like police officers and doctors, can help to protect and aid communities. They will be taught to consider the role authority plays in their lives as citizens.","English",23.95,17.95,"303.3/6--dc23","24 pp.","https://www.enslow.com/books/Zoom_in_on_Respect_for_Authority/421858",{"$f":"Table1[[#This Row],[QTY]]*Table1[[#This Row],['# of Books]]","v":0},{"$f":"Table1[[#This Row],[QTY]]*Table1[[#This Row],[School & Library Price]]","v":0}]
[null,null,null,"Zoom in on Civic Virtues","Zoom in on Respect for Property",1,"eBook","978-0-7660-9786-5",{"$f":"HYPERLINK(Table1[[#This Row],[Hyperlink]],\"Weblink\")","v":"Weblink"},"Enslow Publishing","2019","August 2018",null,"Author","Rita Santos",null,null,null,null,"H",null,"Grade 2","Grade K - 4","Young readers will be introduced to the concept of respecting property. Through the use of real-life examples, they will learn the difference between public and private property and why respecting both is important. Students will learn why caring for public property is a key civic virtue. Using easy-to-follow terms, students will learn how respecting property makes our communities better places to live. Readers will learn the role of public property, like parks, in our communities and how citizens can help support and maintain them.","English",23.95,17.95,"179--dc23","24 pp.","https://www.enslow.com/books/Zoom_in_on_Respect_for_Property/421859",{"$f":"Table1[[#This Row],[QTY]]*Table1[[#This Row],['# of Books]]","v":0},{"$f":"Table1[[#This Row],[QTY]]*Table1[[#This Row],[School & Library Price]]","v":0}]
[null,null,null,"Zoom in on Civic Virtues","Zoom in on Respect for Rules",1,"Library Bound Book","978-0-7660-9787-2",{"$f":"HYPERLINK(Table1[[#This Row],[Hyperlink]],\"Weblink\")","v":"Weblink"},"Enslow Publishing","2019","August 2018","8.500 X 7.125","Author","Rita Santos",null,null,null,null,"G",null,"Grade 2","Grade K - 4","Most children aren't fans of rules, but this essential book will reinforce why it is important to respect rules. Young readers are taught to consider the role of rules in our society. They will learn how following the rules makes our communities safer and happier. Readers will learn how citizens create and agree upon different kinds of rules, like laws and professional codes of conduct and what happens when those rules are broken. This key civic virtue will be explained using easy-to-follow terms and real-life examples.","English",23.95,17.95,"323.6/50973--dc23","24 pp.","https://www.enslow.com/books/Zoom_in_on_Respect_for_Rules/421860",{"$f":"Table1[[#This Row],[QTY]]*Table1[[#This Row],['# of Books]]","v":0},{"$f":"Table1[[#This Row],[QTY]]*Table1[[#This Row],[School & Library Price]]","v":0}]
[null,null,null,"Zoom in on Communities","Zoom in on Communities",6,"Library Set","978-0-7660-7493-4",{"$f":"HYPERLINK(Table1[[#This Row],[Hyperlink]],\"Weblink\")","v":"Weblink"},"Enslow Publishing","2017","August 2016","8.500 X 7.125",null,null,null,null,null,null,null,null,"Grade 2","Grade K - 4","This series delves into the details of different communities from military bases to schools and the neighborhoods in between. Young readers will learn what jobs people have in these communities, how they function, and what each community has to offer. Simple text and full-color photographs help students learn about the differences and similarities between the places we live.","English",143.69999999999999,107.7,null,"24 pp.","https://www.enslow.com/series/Zoom_in_on_Communities/419694",{"$f":"Table1[[#This Row],[QTY]]*Table1[[#This Row],['# of Books]]","v":0},{"$f":"Table1[[#This Row],[QTY]]*Table1[[#This Row],[School & Library Price]]","v":0}]
[null,null,null,"Zoom in on Communities","The Community of Our Military Base",1,"Library Bound Book","978-0-7660-7813-0",{"$f":"HYPERLINK(Table1[[#This Row],[Hyperlink]],\"Weblink\")","v":"Weblink"},"Enslow Publishing","2017","August 2016","8.500 X 7.125","Author","Portia Summers","5.4","0.5",null,null,"E",null,"Grade 2","Grade K - 4","Soldiers, families, teachers, and doctors: these are just a few of the people who live and work together on a military base. Young readers will get to know all about these people and their role in this special community through the engaging, simple text. Interesting facts and full-color photos provide readers with a greater understanding of all aspects of military base life, including school, shopping, and recreation. A follow-up activity helps students engage in critical thinking about the similarities and differences between two kinds of communities.","English",23.95,17.95,"355.1/2920973--dc23","24 pp.","https://www.enslow.com/books/The_Community_of_Our_Military_Base/419304",{"$f":"Table1[[#This Row],[QTY]]*Table1[[#This Row],['# of Books]]","v":0},{"$f":"Table1[[#This Row],[QTY]]*Table1[[#This Row],[School & Library Price]]","v":0}]
[null,null,null,"Zoom in on Communities","My Neighborhood",1,"eBook","978-0-7660-7808-6",{"$f":"HYPERLINK(Table1[[#This Row],[Hyperlink]],\"Weblink\")","v":"Weblink"},"Enslow Publishing","2017","August 2016",null,"Author","Portia Summers","3.9","0.5",null,null,"E",null,"Grade 2","Grade K - 4","Families, doctors, road crew workers, and electricians: these are just a few of the people who live and work in a neighborhood. Young readers will get to know all about these people and their role in their community through this engaging, simple text. Interesting facts and full-color photos provide readers with a look at who makes up a neighborhood, how neighbors help each other, what jobs they do, and how people have fun in a neighborhood. A follow-up activity asks children to use critical thinking in considering how each member of a neighborhood contributes to their community.","English",23.95,17.95,"307.3/362--dc23","24 pp.","https://www.enslow.com/books/My_Neighborhood/419299",{"$f":"Table1[[#This Row],[QTY]]*Table1[[#This Row],['# of Books]]","v":0},{"$f":"Table1[[#This Row],[QTY]]*Table1[[#This Row],[School & Library Price]]","v":0}]
[null,null,null,"Zoom in on Communities","My Rural Community",1,"Library Bound Book","978-0-7660-7820-8",{"$f":"HYPERLINK(Table1[[#This Row],[Hyperlink]],\"Weblink\")","v":"Weblink"},"Enslow Publishing","2017","August 2016","8.500 X 7.125","Author","Portia Summers","4","0.5",null,null,"E",null,"Grade 2","Grade K - 4","Farmers, families, truck drivers, and veterinarians: these are just a few of the people who live and work in a rural community. Young readers will get to know all about these people and their role in their community through this engaging, simple text. Interesting facts and full-color photos provide readers with a look at all aspects of the rural community, including what country life is like for children, how different farms work, and how neighbors in a rural community work together to help each other. A follow-up activity utilizes a graphic organizer to help readers understand the different people and jobs that are needed to get work done on a farm.","English",23.95,17.95,"307.72--dc23","24 pp.","https://www.enslow.com/books/My_Rural_Community/419309",{"$f":"Table1[[#This Row],[QTY]]*Table1[[#This Row],['# of Books]]","v":0},{"$f":"Table1[[#This Row],[QTY]]*Table1[[#This Row],[School & Library Price]]","v":0}]
[null,null,null,"Zoom in on Communities","My School Community",1,"eBook","978-0-7660-7828-4",{"$f":"HYPERLINK(Table1[[#This Row],[Hyperlink]],\"Weblink\")","v":"Weblink"},"Enslow Publishing","2017","August 2016",null,"Author","Portia Summers","3.9","0.5",null,null,"E",null,"Grade 2","Grade K - 4","Teachers, children, principals, and nurses: these are just a few of the people who live and work in a school community. Young readers will get to know all about these people and their role in their community through this engaging, simple text. Interesting facts and full-color photos provide readers with a look at all aspects of the school community, including how different students get to school, who works in a school, and how students, teachers, and other important people help each other in a school community. As a follow-up activity, readers will use a graphic organizer to consider how different members of the school community help them.","English",23.95,17.95,"371--dc23","24 pp.","https://www.enslow.com/books/My_School_Community/419314",{"$f":"Table1[[#This Row],[QTY]]*Table1[[#This Row],['# of Books]]","v":0},{"$f":"Table1[[#This Row],[QTY]]*Table1[[#This Row],[School & Library Price]]","v":0}]
[null,null,null,"Zoom in on Communities","My Suburban Community",1,"Library Bound Book","978-0-7660-7835-2",{"$f":"HYPERLINK(Table1[[#This Row],[Hyperlink]],\"Weblink\")","v":"Weblink"},"Enslow Publishing","2017","August 2016","8.500 X 7.125","Author","Portia Summers","4.1","0.5",null,null,"E",null,"Grade 2","Grade K - 4","Families, neighbors, plumbers, and mail carriers: these are just a few of the people who live and work in a suburban community. Young readers will get to know all about these people and their role in their community through this engaging, simple text. Interesting facts and full-color photos provide readers with a look at all aspects of the suburban community, including different kinds of homes, community activities, and how people help one another. As a follow-up activity, readers will use a graphic organizer to consider the similarities and differences between suburban, urban, and rural communities.","English",23.95,17.95,"307.74--dc23","24 pp.","https://www.enslow.com/books/My_Suburban_Community/419324",{"$f":"Table1[[#This Row],[QTY]]*Table1[[#This Row],['# of Books]]","v":0},{"$f":"Table1[[#This Row],[QTY]]*Table1[[#This Row],[School & Library Price]]","v":0}]
[null,null,null,"Zoom in on Communities","My Urban Community",1,"eBook","978-0-7660-7832-1",{"$f":"HYPERLINK(Table1[[#This Row],[Hyperlink]],\"Weblink\")","v":"Weblink"},"Enslow Publishing","2017","August 2016",null,"Author","Portia Summers","4.3","0.5",null,null,"E",null,"Grade 2","Grade K - 4","Shopkeepers, gardeners, families, and police officers: these are just a few of the people who live and work in an urban community. Young readers will get to know all about these people and their role in their community through this engaging, simple text. Interesting facts and full-color photos provide readers with a look at all aspects of the urban community, including what it’s like to grow up in a city, who makes sure the city is safe, and places to go in an urban community, like parks and museums. As a follow-up activity, readers are invited to create their own city, including the many people and places that make up an urban community.","English",23.95,17.95,"307.76--dc23","24 pp.","https://www.enslow.com/books/My_Urban_Community/419319",{"$f":"Table1[[#This Row],[QTY]]*Table1[[#This Row],['# of Books]]","v":0},{"$f":"Table1[[#This Row],[QTY]]*Table1[[#This Row],[School & Library Price]]","v":0}]
[null,null,null,"Zoom in on Engineering","Zoom in on Engineering",6,"Library Set","978-0-7660-8602-9",{"$f":"HYPERLINK(Table1[[#This Row],[Hyperlink]],\"Weblink\")","v":"Weblink"},"Enslow Publishing","2018","August 2017","8.500 X 7.125",null,null,null,null,null,null,null,null,"Grade 2","Grade K - 4","Focusing on the infrastructure that helps us get things done, this series exposes readers to the inner-workings of how we get from point A to point B and how we move things around (such as electricity, supplies, and water). It supports the Next Generation Science Standards by discussing how each system or structure was developed to solve a problem and improve people’s lives as well as how it has changed over time. Each chapter will focus on one important element of the engineering topic, including inventors, advances in technology, its history, and its greater purpose in society today.\n\n","English",143.69999999999999,107.7,null,"24 pp.","https://www.enslow.com/series/Zoom_in_on_Engineering/421595",{"$f":"Table1[[#This Row],[QTY]]*Table1[[#This Row],['# of Books]]","v":0},{"$f":"Table1[[#This Row],[QTY]]*Table1[[#This Row],[School & Library Price]]","v":0}]
[null,null,null,"Zoom in on Engineering","Zoom in on Power Grids",1,"Library Bound Book","978-0-7660-8707-1",{"$f":"HYPERLINK(Table1[[#This Row],[Hyperlink]],\"Weblink\")","v":"Weblink"},"Enslow Publishing","2018","August 2017","8.500 X 7.125","Author","Kathy Furgang",null,null,null,null,"N",null,"Grade 2","Grade K - 4","When we flick on a lamp switch, we rarely think of the science and engineering behind the light. This straightforward and accessible text informs readers about the interconnected network that electricity takes as it moves from suppliers to users. From power stations and voltage switches to the power lines that lead to our homes, readers will gain a greater understanding of the energy we use every day. A follow-up activity utilizes a maze that allows readers to trace the correct path of electricity through a power grid.","English",23.95,17.95,"621.31--dc23","24 pp.","https://www.enslow.com/books/Zoom_in_on_Power_Grids/422174",{"$f":"Table1[[#This Row],[QTY]]*Table1[[#This Row],['# of Books]]","v":0},{"$f":"Table1[[#This Row],[QTY]]*Table1[[#This Row],[School & Library Price]]","v":0}]
[null,null,null,"Zoom in on Engineering","Zoom in on Power Grids",1,"eBook","978-0-7660-8708-8",{"$f":"HYPERLINK(Table1[[#This Row],[Hyperlink]],\"Weblink\")","v":"Weblink"},"Enslow Publishing","2018","August 2017",null,"Author","Kathy Furgang",null,null,null,null,"N",null,"Grade 2","Grade K - 4","When we flick on a lamp switch, we rarely think of the science and engineering behind the light. This straightforward and accessible text informs readers about the interconnected network that electricity takes as it moves from suppliers to users. From power stations and voltage switches to the power lines that lead to our homes, readers will gain a greater understanding of the energy we use every day. A follow-up activity utilizes a maze that allows readers to trace the correct path of electricity through a power grid.","English",23.95,17.95,"621.31--dc23","24 pp.","https://www.enslow.com/books/Zoom_in_on_Power_Grids/422174",{"$f":"Table1[[#This Row],[QTY]]*Table1[[#This Row],['# of Books]]","v":0},{"$f":"Table1[[#This Row],[QTY]]*Table1[[#This Row],[School & Library Price]]","v":0}]
[null,null,null,"Zoom in on Engineering","Zoom in on Rail Networks",1,"eBook","978-0-7660-8710-1",{"$f":"HYPERLINK(Table1[[#This Row],[Hyperlink]],\"Weblink\")","v":"Weblink"},"Enslow Publishing","2018","August 2017",null,"Author","Hannah Isbell",null,null,null,null,"N",null,"Grade 2","Grade K - 4","Through simple text and informative photographs, readers will delve into one of the most important, ubiquitous, and ever-changing technologies of the past two centuries: the train. Students will explore fundamental engineering principles through a look at unique rail networks from all over the world and will place that information in context as they learn about the important connection between technology and society. Follow-up activities will challenge students to put that knowledge to use.","English",23.95,17.95,"625.1--dc23","24 pp.","https://www.enslow.com/books/Zoom_in_on_Rail_Networks/422175",{"$f":"Table1[[#This Row],[QTY]]*Table1[[#This Row],['# of Books]]","v":0},{"$f":"Table1[[#This Row],[QTY]]*Table1[[#This Row],[School & Library Price]]","v":0}]
[null,null,null,"Zoom in on Engineering","Zoom in on Superhighways",1,"Library Bound Book","978-0-7660-8725-5",{"$f":"HYPERLINK(Table1[[#This Row],[Hyperlink]],\"Weblink\")","v":"Weblink"},"Enslow Publishing","2018","August 2017","8.500 X 7.125","Author","Kathy Furgang",null,null,null,null,"N","800L","Grade 2","Grade K - 4","In 1956, the United States celebrated the opening of its first interstate highway. Since then, the country has been connected from one end to the other with a matrix of highways and superhighways. This compelling book introduces readers to the engineering feat of building the superhighways that have allowed us to live more connected lives. Readers will learn about the fascinating challenges that engineers face when building superhighways over waterways and roads, underground, and with the latest safety features. A follow-up activity provides students with a road map and encourages them to write directions from one city to another.","English",23.95,17.95,"625.7--dc23","24 pp.","https://www.enslow.com/books/Zoom_in_on_Superhighways/422179",{"$f":"Table1[[#This Row],[QTY]]*Table1[[#This Row],['# of Books]]","v":0},{"$f":"Table1[[#This Row],[QTY]]*Table1[[#This Row],[School & Library Price]]","v":0}]
[null,null,null,"Zoom in on Engineering","Zoom in on Tunnels",1,"eBook","978-0-7660-8713-2",{"$f":"HYPERLINK(Table1[[#This Row],[Hyperlink]],\"Weblink\")","v":"Weblink"},"Enslow Publishing","2018","August 2017",null,"Author","Kevin Reilly",null,null,null,null,"N","900L","Grade 2","Grade K - 4","Through simple text and informative photos, readers will engage with this cornerstone of transit infrastructure. Each chapter will focus on a new aspect of tunnels, such as the history of their invention, technological advances in their materials and designs, and examples of their use both in ordinary life and extraordinary situations. A follow-up activity challenges readers to put into practice what they have learned.","English",23.95,17.95,"624.1/93--dc23","24 pp.","https://www.enslow.com/books/Zoom_in_on_Tunnels/422176",{"$f":"Table1[[#This Row],[QTY]]*Table1[[#This Row],['# of Books]]","v":0},{"$f":"Table1[[#This Row],[QTY]]*Table1[[#This Row],[School & Library Price]]","v":0}]
[null,null,null,"Zoom in on Engineering","Zoom in on Water and Sewage Systems",1,"Library Bound Book","978-0-7660-8714-9",{"$f":"HYPERLINK(Table1[[#This Row],[Hyperlink]],\"Weblink\")","v":"Weblink"},"Enslow Publishing","2018","August 2017","8.500 X 7.125","Author","Kathy Furgang",null,null,null,null,"N",null,"Grade 2","Grade K - 4","We take it for granted every day, but clean water is one of the most important resources we have. This behind-the-scenes look at where our water comes from and where it goes after we use it gives readers a fascinating look at how our cities and towns are structured. Readers will be given a stimulating look at our sewage systems and wastewater treatment plants, which track the water through the system. A follow-up activity encourages readers to track their water usage for a week to emphasize the importance of clean water.","English",23.95,17.95,"628.2--dc23","24 pp.","https://www.enslow.com/books/Zoom_in_on_Water_and_Sewage_Systems/422177",{"$f":"Table1[[#This Row],[QTY]]*Table1[[#This Row],['# of Books]]","v":0},{"$f":"Table1[[#This Row],[QTY]]*Table1[[#This Row],[School & Library Price]]","v":0}]
[null,null,null,"Zoom in on Maps","Zoom in on Climate Maps",1,"Library Bound Book","978-0-7660-9222-8",{"$f":"HYPERLINK(Table1[[#This Row],[Hyperlink]],\"Weblink\")","v":"Weblink"},"Enslow Publishing","2018","January 2018","8.500 X 7.125","Revised by","Kathy Furgang",null,null,null,null,"H",null,"Grade 2","Grade K - 4","Readers will learn about different types of climate maps, such as precipitation maps and temperature maps. They will examine a map of the different climate zones around the world and how they affect the regions. They will even discover some practical reasons that people use climate maps. A follow-up activity allows readers to examine a climate zone map and use it to prepare for an imaginary trip around the world.","English",23.95,17.95,"551.6022/3--dc23","24 pp.","https://www.enslow.com/books/Zoom_in_on_Climate_Maps/421748",{"$f":"Table1[[#This Row],[QTY]]*Table1[[#This Row],['# of Books]]","v":0},{"$f":"Table1[[#This Row],[QTY]]*Table1[[#This Row],[School & Library Price]]","v":0}]
[null,null,null,"Zoom in on Maps","Zoom in on Climate Maps",1,"eBook","978-0-7660-9288-4",{"$f":"HYPERLINK(Table1[[#This Row],[Hyperlink]],\"Weblink\")","v":"Weblink"},"Enslow Publishing","2018","January 2018",null,"Revised by","Kathy Furgang",null,null,null,null,"H",null,"Grade 2","Grade K - 4","Readers will learn about different types of climate maps, such as precipitation maps and temperature maps. They will examine a map of the different climate zones around the world and how they affect the regions. They will even discover some practical reasons that people use climate maps. A follow-up activity allows readers to examine a climate zone map and use it to prepare for an imaginary trip around the world.","English",23.95,17.95,"551.6022/3--dc23","24 pp.","https://www.enslow.com/books/Zoom_in_on_Climate_Maps/421748",{"$f":"Table1[[#This Row],[QTY]]*Table1[[#This Row],['# of Books]]","v":0},{"$f":"Table1[[#This Row],[QTY]]*Table1[[#This Row],[School & Library Price]]","v":0}]
[null,null,null,"Zoom in on Maps","Zoom in on Political Maps",1,"Library Bound Book","978-0-7660-9220-4",{"$f":"HYPERLINK(Table1[[#This Row],[Hyperlink]],\"Weblink\")","v":"Weblink"},"Enslow Publishing","2018","January 2018","8.500 X 7.125","Revised by","Kathy Furgang",null,null,null,null,"G",null,"Grade 2","Grade K - 4","Where does Illinois end and Indiana begin? How do you know you are not entering Kentucky or Missouri instead? This informative look at political maps helps readers understand the symbols used for understanding political maps, including political borders and national and state capitals. Election maps and agricultural maps will also be explored as students analyze them for the information they provide. A follow-up activity leads students to make their own election map and write questions about it.","English",23.95,17.95,"912.01/4--dc23","24 pp.","https://www.enslow.com/books/Zoom_in_on_Political_Maps/421746",{"$f":"Table1[[#This Row],[QTY]]*Table1[[#This Row],['# of Books]]","v":0},{"$f":"Table1[[#This Row],[QTY]]*Table1[[#This Row],[School & Library Price]]","v":0}]
[null,null,null,"Zoom in on Maps","Zoom in on Political Maps",1,"eBook","978-0-7660-9286-0",{"$f":"HYPERLINK(Table1[[#This Row],[Hyperlink]],\"Weblink\")","v":"Weblink"},"Enslow Publishing","2018","January 2018",null,"Revised by","Kathy Furgang",null,null,null,null,"G",null,"Grade 2","Grade K - 4","Where does Illinois end and Indiana begin? How do you know you are not entering Kentucky or Missouri instead? This informative look at political maps helps readers understand the symbols used for understanding political maps, including political borders and national and state capitals. Election maps and agricultural maps will also be explored as students analyze them for the information they provide. A follow-up activity leads students to make their own election map and write questions about it.","English",23.95,17.95,"912.01/4--dc23","24 pp.","https://www.enslow.com/books/Zoom_in_on_Political_Maps/421746",{"$f":"Table1[[#This Row],[QTY]]*Table1[[#This Row],['# of Books]]","v":0},{"$f":"Table1[[#This Row],[QTY]]*Table1[[#This Row],[School & Library Price]]","v":0}]
[null,null,null,"Zoom in on Maps","Zoom in on Satellite and Street Maps",1,"Library Bound Book","978-0-7660-9225-9",{"$f":"HYPERLINK(Table1[[#This Row],[Hyperlink]],\"Weblink\")","v":"Weblink"},"Enslow Publishing","2018","January 2018","8.500 X 7.125","Author","Kathy Furgang",null,null,null,null,"G",null,"Grade 2","Grade K - 4","This visual and instructive look at satellite maps and street maps helps readers understand the symbols, road markings, and land features of these types of maps. Concentration on a smaller area helps readers really study them carefully. A follow-up activity encourages readers to draw their own street map of their town or neighborhood.","English",23.95,17.95,"912.01/4--dc23","24 pp.","https://www.enslow.com/books/Zoom_in_on_Satellite_and_Street_Maps/421751",{"$f":"Table1[[#This Row],[QTY]]*Table1[[#This Row],['# of Books]]","v":0},{"$f":"Table1[[#This Row],[QTY]]*Table1[[#This Row],[School & Library Price]]","v":0}]
[null,null,null,"Zoom in on Maps","Zoom in on Satellite and Street Maps",1,"eBook","978-0-7660-9291-4",{"$f":"HYPERLINK(Table1[[#This Row],[Hyperlink]],\"Weblink\")","v":"Weblink"},"Enslow Publishing","2018","January 2018",null,"Author","Kathy Furgang",null,null,null,null,"G",null,"Grade 2","Grade K - 4","This visual and instructive look at satellite maps and street maps helps readers understand the symbols, road markings, and land features of these types of maps. Concentration on a smaller area helps readers really study them carefully. A follow-up activity encourages readers to draw their own street map of their town or neighborhood.","English",23.95,17.95,"912.01/4--dc23","24 pp.","https://www.enslow.com/books/Zoom_in_on_Satellite_and_Street_Maps/421751",{"$f":"Table1[[#This Row],[QTY]]*Table1[[#This Row],['# of Books]]","v":0},{"$f":"Table1[[#This Row],[QTY]]*Table1[[#This Row],[School & Library Price]]","v":0}]
[null,null,null,"Zoom in on Maps","Zoom in on Topographic Maps",1,"eBook","978-0-7660-9287-7",{"$f":"HYPERLINK(Table1[[#This Row],[Hyperlink]],\"Weblink\")","v":"Weblink"},"Enslow Publishing","2018","January 2018",null,"Revised by","Kathy Furgang",null,null,null,null,"I",null,"Grade 2","Grade K - 4","You are planning a huge bike trip, so how can you find out where the mountains and flat lands are? Zoom in on a topographic map to find out. This graphic-heavy and instructive book introduces the reader to the basics of using topographic maps. They are introduced to the way elevations and contours of the land are shown on maps, and how to read the details shown on these maps. A follow-up activity encourages readers to use a contour map to plan a camping trip.","English",23.95,17.95,"912.01/4--dc23","24 pp.","https://www.enslow.com/books/Zoom_in_on_Topographic_Maps/421747",{"$f":"Table1[[#This Row],[QTY]]*Table1[[#This Row],['# of Books]]","v":0},{"$f":"Table1[[#This Row],[QTY]]*Table1[[#This Row],[School & Library Price]]","v":0}]
[null,null,null,"Zoom in on Maps","Zoom in on Weather Maps",1,"Library Bound Book","978-0-7660-9224-2",{"$f":"HYPERLINK(Table1[[#This Row],[Hyperlink]],\"Weblink\")","v":"Weblink"},"Enslow Publishing","2018","January 2018","8.500 X 7.125","Revised by","Kathy Furgang",null,null,null,null,"H",null,"Grade 2","Grade K - 4","Any young reader who has ever wondered about how weather is predicted will be fascinated by this book. It describes the many features of weather maps, from temperature and air pressure markings to wind speed and wind direction symbols. Students will also read about how meteorologists study and predict weather based on the information found in weather maps. A follow-up activity encourages readers to track weather over several days and make a new weather map each day to record the results.","English",23.95,17.95,"551.5022/3--dc23","24 pp.","https://www.enslow.com/books/Zoom_in_on_Weather_Maps/421750",{"$f":"Table1[[#This Row],[QTY]]*Table1[[#This Row],['# of Books]]","v":0},{"$f":"Table1[[#This Row],[QTY]]*Table1[[#This Row],[School & Library Price]]","v":0}]
[null,null,null,"Zoom in on Robots","Zoom in on Caregiving Robots",1,"Library Bound Book","978-0-7660-9229-7",{"$f":"HYPERLINK(Table1[[#This Row],[Hyperlink]],\"Weblink\")","v":"Weblink"},"Enslow Publishing","2018","January 2018","8.500 X 7.125","Author","Jill Sherman",null,null,null,null,"G",null,"Grade 2","Grade K - 4","Robotics is envisioned as a field that will make human life easier and better. Part of that vision includes taking care of the sick, injured, and disabled. Caregiving robots are already on the job in some places. From monitoring a person's health to fetching items and cleaning homes to providing companionship, robots are improving people's lives. Readers will discover all the ways that robots can assist when special help is needed. A hands-on activity helps students learn more about science and supports the NGSS K-2 Engineering Design Standards.","English",23.95,17.95,"629.8/93--dc23","24 pp.","https://www.enslow.com/books/Zoom_in_on_Caregiving_Robots/421755",{"$f":"Table1[[#This Row],[QTY]]*Table1[[#This Row],['# of Books]]","v":0},{"$f":"Table1[[#This Row],[QTY]]*Table1[[#This Row],[School & Library Price]]","v":0}]
[null,null,null,"Zoom in on Robots","Zoom in on Caregiving Robots",1,"eBook","978-0-7660-9295-2",{"$f":"HYPERLINK(Table1[[#This Row],[Hyperlink]],\"Weblink\")","v":"Weblink"},"Enslow Publishing","2018","January 2018",null,"Author","Jill Sherman",null,null,null,null,"G",null,"Grade 2","Grade K - 4","Robotics is envisioned as a field that will make human life easier and better. Part of that vision includes taking care of the sick, injured, and disabled. Caregiving robots are already on the job in some places. From monitoring a person's health to fetching items and cleaning homes to providing companionship, robots are improving people's lives. Readers will discover all the ways that robots can assist when special help is needed. A hands-on activity helps students learn more about science and supports the NGSS K-2 Engineering Design Standards.","English",23.95,17.95,"629.8/93--dc23","24 pp.","https://www.enslow.com/books/Zoom_in_on_Caregiving_Robots/421755",{"$f":"Table1[[#This Row],[QTY]]*Table1[[#This Row],['# of Books]]","v":0},{"$f":"Table1[[#This Row],[QTY]]*Table1[[#This Row],[School & Library Price]]","v":0}]
[null,null,null,"Zoom in on Robots","Zoom in on Educational Robots",1,"Library Bound Book","978-0-7660-9227-3",{"$f":"HYPERLINK(Table1[[#This Row],[Hyperlink]],\"Weblink\")","v":"Weblink"},"Enslow Publishing","2018","January 2018","8.500 X 7.125","Author","Sara L. Latta",null,null,null,null,"H",null,"Grade 2","Grade K - 4","How would you like to have a robot for a teacher? While robots will never replace human teachers, they are helping students learn in and out of the classroom. Informational text, fun facts, and full-color images about educational robots stimulate the curiosity of young readers. A \"Words to Know\" feature helps students master new vocabulary. This cutting-edge book includes a fun activity that will help students learn about programming and supports the NGSS K-2 Engineering Design Standards.","English",23.95,17.95,"629.8/92--dc23","24 pp.","https://www.enslow.com/books/Zoom_in_on_Educational_Robots/421753",{"$f":"Table1[[#This Row],[QTY]]*Table1[[#This Row],['# of Books]]","v":0},{"$f":"Table1[[#This Row],[QTY]]*Table1[[#This Row],[School & Library Price]]","v":0}]
[null,null,null,"Zoom in on Robots","Zoom in on Educational Robots",1,"eBook","978-0-7660-9293-8",{"$f":"HYPERLINK(Table1[[#This Row],[Hyperlink]],\"Weblink\")","v":"Weblink"},"Enslow Publishing","2018","January 2018",null,"Author","Sara L. Latta",null,null,null,null,"H",null,"Grade 2","Grade K - 4","How would you like to have a robot for a teacher? While robots will never replace human teachers, they are helping students learn in and out of the classroom. Informational text, fun facts, and full-color images about educational robots stimulate the curiosity of young readers. A \"Words to Know\" feature helps students master new vocabulary. This cutting-edge book includes a fun activity that will help students learn about programming and supports the NGSS K-2 Engineering Design Standards.","English",23.95,17.95,"629.8/92--dc23","24 pp.","https://www.enslow.com/books/Zoom_in_on_Educational_Robots/421753",{"$f":"Table1[[#This Row],[QTY]]*Table1[[#This Row],['# of Books]]","v":0},{"$f":"Table1[[#This Row],[QTY]]*Table1[[#This Row],[School & Library Price]]","v":0}]
[null,null,null,"Zoom in on Robots","Zoom in on Medical Robots",1,"Library Bound Book","978-0-7660-9228-0",{"$f":"HYPERLINK(Table1[[#This Row],[Hyperlink]],\"Weblink\")","v":"Weblink"},"Enslow Publishing","2018","January 2018","8.500 X 7.125","Author","Sara L. Latta",null,null,null,null,"I",null,"Grade 2","Grade K - 4","Doctors, nurses, and other medical professionals can help you feel better when you are sick. Robots can too. They check up on patients, help paralyzed people move again, and even perform surgery. Informational text, fascinating facts, and full-color images tell the story of how robots are helping transform medicine. A \"Words to Know\" feature helps students master new vocabulary. The book includes a hands-on activity that will help students understand how robotic hands work, and it supports the NGSS K-2 Engineering Design Standards.","English",23.95,17.95,"629.8/93--dc23","24 pp.","https://www.enslow.com/books/Zoom_in_on_Medical_Robots/421754",{"$f":"Table1[[#This Row],[QTY]]*Table1[[#This Row],['# of Books]]","v":0},{"$f":"Table1[[#This Row],[QTY]]*Table1[[#This Row],[School & Library Price]]","v":0}]
[null,null,null,"Zoom in on Robots","Zoom in on Medical Robots",1,"eBook","978-0-7660-9294-5",{"$f":"HYPERLINK(Table1[[#This Row],[Hyperlink]],\"Weblink\")","v":"Weblink"},"Enslow Publishing","2018","January 2018",null,"Author","Sara L. Latta",null,null,null,null,"I",null,"Grade 2","Grade K - 4","Doctors, nurses, and other medical professionals can help you feel better when you are sick. Robots can too. They check up on patients, help paralyzed people move again, and even perform surgery. Informational text, fascinating facts, and full-color images tell the story of how robots are helping transform medicine. A \"Words to Know\" feature helps students master new vocabulary. The book includes a hands-on activity that will help students understand how robotic hands work, and it supports the NGSS K-2 Engineering Design Standards.","English",23.95,17.95,"629.8/93--dc23","24 pp.","https://www.enslow.com/books/Zoom_in_on_Medical_Robots/421754",{"$f":"Table1[[#This Row],[QTY]]*Table1[[#This Row],['# of Books]]","v":0},{"$f":"Table1[[#This Row],[QTY]]*Table1[[#This Row],[School & Library Price]]","v":0}]
[null,null,null,"All About Baby Zoo Animals","All About Baby Zoo Animals: Sets 1 – 3",18,"Library Set","978-0-7660-7936-6",{"$f":"HYPERLINK(Table1[[#This Row],[Hyperlink]],\"Weblink\")","v":"Weblink"},"Enslow Publishing","2017","August 2016","7.125 X 8.500",null,null,null,null,null,null,null,null,"Grade K - 1","Grade Pre-K - 1","Through simple text supported by large, full-color photos, young readers will learn all about some of their favorite baby zoo animals, including their diets, behaviors, and what makes them unique in the animal kingdom. An illustrated Words to Know at the beginning of the book will help readers understand new vocabulary they will encounter in the text.","English",406.8,305.10000000000002,null,"24 pp.","https://www.enslow.com/series/All_About_Baby_Zoo_Animals/499",{"$f":"Table1[[#This Row],[QTY]]*Table1[[#This Row],['# of Books]]","v":0},{"$f":"Table1[[#This Row],[QTY]]*Table1[[#This Row],[School & Library Price]]","v":0}]
[null,null,null,"All About Baby Zoo Animals","Baby Elephants at the Zoo",1,"Library Bound Book","978-0-7660-7091-2",{"$f":"HYPERLINK(Table1[[#This Row],[Hyperlink]],\"Weblink\")","v":"Weblink"},"Enslow Publishing","2016","August 2015","7.125 X 8.500","Author","Eustacia Moldovo","1.7","0.5",null,null,"D",null,"Grade Pre-K - 1","Grade Pre-K - 1","What does a baby elephant eat? What is a family of elephants called? Where can you see a baby elephant? At the zoo, of course! This book is filled with fun facts and photographs that will inform and entertain young readers about elephants and their lives in the zoo.","English",22.6,16.95,"599.6713'92--dc23","24 pp.","https://www.enslow.com/books/Baby_Elephants_at_the_Zoo/4422",{"$f":"Table1[[#This Row],[QTY]]*Table1[[#This Row],['# of Books]]","v":0},{"$f":"Table1[[#This Row],[QTY]]*Table1[[#This Row],[School & Library Price]]","v":0}]
[null,null,null,"All About Baby Zoo Animals","Baby Flamingos at the Zoo",1,"Library Bound Book","978-0-7660-7565-8",{"$f":"HYPERLINK(Table1[[#This Row],[Hyperlink]],\"Weblink\")","v":"Weblink"},"Enslow Publishing","2017","August 2016","7.125 X 8.500","Author","Cecelia H. Brannon","2.3","0.5",null,null,"D",null,"Grade K - 1","Grade Pre-K - 1","A family of flamingos is called a colony. Young readers will learn this and other interesting facts while viewing large, colorful, and detailed photographs. Simple text takes readers into the life of this colorful bird. An illustrated Words to Know section at the beginning of this book prepares readers to understand the vocabulary they will encounter in the text.","English",22.6,16.95,"591.3/92073--dc23","24 pp.","https://www.enslow.com/books/Baby_Flamingos_at_the_Zoo/419192",{"$f":"Table1[[#This Row],[QTY]]*Table1[[#This Row],['# of Books]]","v":0},{"$f":"Table1[[#This Row],[QTY]]*Table1[[#This Row],[School & Library Price]]","v":0}]
[null,null,null,"All About Baby Zoo Animals","Baby Flamingos at the Zoo",1,"eBook","978-0-7660-7540-5",{"$f":"HYPERLINK(Table1[[#This Row],[Hyperlink]],\"Weblink\")","v":"Weblink"},"Enslow Publishing","2017","August 2016",null,"Author","Cecelia H. Brannon","2.3","0.5",null,null,"D",null,"Grade K - 1","Grade Pre-K - 1","A family of flamingos is called a colony. Young readers will learn this and other interesting facts while viewing large, colorful, and detailed photographs. Simple text takes readers into the life of this colorful bird. An illustrated Words to Know section at the beginning of this book prepares readers to understand the vocabulary they will encounter in the text.","English",22.6,16.95,"591.3/92073--dc23","24 pp.","https://www.enslow.com/books/Baby_Flamingos_at_the_Zoo/419192",{"$f":"Table1[[#This Row],[QTY]]*Table1[[#This Row],['# of Books]]","v":0},{"$f":"Table1[[#This Row],[QTY]]*Table1[[#This Row],[School & Library Price]]","v":0}]
[null,null,null,"All About Baby Zoo Animals","Baby Gorillas at the Zoo",1,"Library Bound Book","978-0-7660-7143-8",{"$f":"HYPERLINK(Table1[[#This Row],[Hyperlink]],\"Weblink\")","v":"Weblink"},"Enslow Publishing","2016","January 2016","7.125 X 8.500","Author","Cecelia H. Brannon","2.6","0.5",null,null,"D",null,"Grade K - 1","Grade Pre-K - 1","Simple text illustrated by full-page color photos gives readers an inside look into the life of a baby gorilla at the zoo. They will learn about what a baby gorilla eats, how it plays, and at what age it learns to walk. An illustrated Words to Know section at the beginning of the book prepares readers to understand the vocabulary they will encounter in the text.","English",22.6,16.95,"599.884--dc23","24 pp.","https://www.enslow.com/books/Baby_Gorillas_at_the_Zoo/4576",{"$f":"Table1[[#This Row],[QTY]]*Table1[[#This Row],['# of Books]]","v":0},{"$f":"Table1[[#This Row],[QTY]]*Table1[[#This Row],[School & Library Price]]","v":0}]
[null,null,null,"All About Baby Zoo Animals","Baby Gorillas at the Zoo",1,"eBook","978-0-7660-7144-5",{"$f":"HYPERLINK(Table1[[#This Row],[Hyperlink]],\"Weblink\")","v":"Weblink"},"Enslow Publishing","2016","January 2016",null,"Author","Cecelia H. Brannon","2.6","0.5",null,null,"D",null,"Grade K - 1","Grade Pre-K - 1","Simple text illustrated by full-page color photos gives readers an inside look into the life of a baby gorilla at the zoo. They will learn about what a baby gorilla eats, how it plays, and at what age it learns to walk. An illustrated Words to Know section at the beginning of the book prepares readers to understand the vocabulary they will encounter in the text.","English",22.6,16.95,"599.884--dc23","24 pp.","https://www.enslow.com/books/Baby_Gorillas_at_the_Zoo/4576",{"$f":"Table1[[#This Row],[QTY]]*Table1[[#This Row],['# of Books]]","v":0},{"$f":"Table1[[#This Row],[QTY]]*Table1[[#This Row],[School & Library Price]]","v":0}]
[null,null,null,"All About Baby Zoo Animals","Baby Lions at the Zoo",1,"Library Bound Book","978-0-7660-7087-5",{"$f":"HYPERLINK(Table1[[#This Row],[Hyperlink]],\"Weblink\")","v":"Weblink"},"Enslow Publishing","2016","August 2015","7.125 X 8.500","Author","Eustacia Moldovo","1.6","0.5",null,null,"C",null,"Grade Pre-K - 1","Grade Pre-K - 1","What do you call a baby lion? What sorts of sounds does it make? Where can you see a baby lion? At the zoo, of course! This book keeps young readers engaged with fun facts and adorable photos. They'll want to visit the zoo again and again to see their favorite animals.","English",22.6,16.95,"599.757'139--dc23","24 pp.","https://www.enslow.com/books/Baby_Lions_at_the_Zoo/4424",{"$f":"Table1[[#This Row],[QTY]]*Table1[[#This Row],['# of Books]]","v":0},{"$f":"Table1[[#This Row],[QTY]]*Table1[[#This Row],[School & Library Price]]","v":0}]
[null,null,null,"All About Baby Zoo Animals","Baby Lions at the Zoo",1,"eBook","978-0-7660-7088-2",{"$f":"HYPERLINK(Table1[[#This Row],[Hyperlink]],\"Weblink\")","v":"Weblink"},"Enslow Publishing","2016","August 2015",null,"Author","Eustacia Moldovo","1.6","0.5",null,null,"C",null,"Grade Pre-K - 1","Grade Pre-K - 1","What do you call a baby lion? What sorts of sounds does it make? Where can you see a baby lion? At the zoo, of course! This book keeps young readers engaged with fun facts and adorable photos. They'll want to visit the zoo again and again to see their favorite animals.","English",22.6,16.95,"599.757'139--dc23","24 pp.","https://www.enslow.com/books/Baby_Lions_at_the_Zoo/4424",{"$f":"Table1[[#This Row],[QTY]]*Table1[[#This Row],['# of Books]]","v":0},{"$f":"Table1[[#This Row],[QTY]]*Table1[[#This Row],[School & Library Price]]","v":0}]
[null,null,null,"All About Baby Zoo Animals","Baby Orangutans at the Zoo",1,"Library Bound Book","978-0-7660-7569-6",{"$f":"HYPERLINK(Table1[[#This Row],[Hyperlink]],\"Weblink\")","v":"Weblink"},"Enslow Publishing","2017","August 2016","7.125 X 8.500","Author","Cecelia H. Brannon","2.2","0.5",null,null,"B",null,"Grade K - 1","Grade Pre-K - 1","Large, easy-to-read text and full-page color photos show readers what life is like for a baby orangutan at the zoo, including what it eats, how it spends its time, and how it communicates. An illustrated Words to Know section at the beginning of the book prepares readers to understand the vocabulary they will encounter in the text.","English",22.6,16.95,"599.88/3139--dc23","24 pp.","https://www.enslow.com/books/Baby_Orangutans_at_the_Zoo/419197",{"$f":"Table1[[#This Row],[QTY]]*Table1[[#This Row],['# of Books]]","v":0},{"$f":"Table1[[#This Row],[QTY]]*Table1[[#This Row],[School & Library Price]]","v":0}]
[null,null,null,"All About Baby Zoo Animals","Baby Orangutans at the Zoo",1,"eBook","978-0-7660-7556-6",{"$f":"HYPERLINK(Table1[[#This Row],[Hyperlink]],\"Weblink\")","v":"Weblink"},"Enslow Publishing","2017","August 2016",null,"Author","Cecelia H. Brannon","2.2","0.5",null,null,"B",null,"Grade K - 1","Grade Pre-K - 1","Large, easy-to-read text and full-page color photos show readers what life is like for a baby orangutan at the zoo, including what it eats, how it spends its time, and how it communicates. An illustrated Words to Know section at the beginning of the book prepares readers to understand the vocabulary they will encounter in the text.","English",22.6,16.95,"599.88/3139--dc23","24 pp.","https://www.enslow.com/books/Baby_Orangutans_at_the_Zoo/419197",{"$f":"Table1[[#This Row],[QTY]]*Table1[[#This Row],['# of Books]]","v":0},{"$f":"Table1[[#This Row],[QTY]]*Table1[[#This Row],[School & Library Price]]","v":0}]
[null,null,null,"All About Baby Zoo Animals","Baby Penguins at the Zoo",1,"Library Bound Book","978-0-7660-7152-0",{"$f":"HYPERLINK(Table1[[#This Row],[Hyperlink]],\"Weblink\")","v":"Weblink"},"Enslow Publishing","2016","January 2016","7.125 X 8.500","Author","Cecelia H. Brannon","1.8","0.5",null,null,"D",null,"Grade K - 1","Grade Pre-K - 1","Through simple text supported by full-page, beautiful photographs, early readers will discover fascinating facts about penguin chicks at the zoo, including why they waddle, what they eat, what a family of penguins is called, and how they communicate. An illustrated Words to Know section at the beginning of the book prepares readers to understand the vocabulary they will encounter in the text.","English",22.6,16.95,"598.47’139--dc23","24 pp.","https://www.enslow.com/books/Baby_Penguins_at_the_Zoo/4578",{"$f":"Table1[[#This Row],[QTY]]*Table1[[#This Row],['# of Books]]","v":0},{"$f":"Table1[[#This Row],[QTY]]*Table1[[#This Row],[School & Library Price]]","v":0}]
[null,null,null,"All About Baby Zoo Animals","Baby Penguins at the Zoo",1,"eBook","978-0-7660-7153-7",{"$f":"HYPERLINK(Table1[[#This Row],[Hyperlink]],\"Weblink\")","v":"Weblink"},"Enslow Publishing","2016","January 2016",null,"Author","Cecelia H. Brannon","1.8","0.5",null,null,"D",null,"Grade K - 1","Grade Pre-K - 1","Through simple text supported by full-page, beautiful photographs, early readers will discover fascinating facts about penguin chicks at the zoo, including why they waddle, what they eat, what a family of penguins is called, and how they communicate. An illustrated Words to Know section at the beginning of the book prepares readers to understand the vocabulary they will encounter in the text.","English",22.6,16.95,"598.47’139--dc23","24 pp.","https://www.enslow.com/books/Baby_Penguins_at_the_Zoo/4578",{"$f":"Table1[[#This Row],[QTY]]*Table1[[#This Row],['# of Books]]","v":0},{"$f":"Table1[[#This Row],[QTY]]*Table1[[#This Row],[School & Library Price]]","v":0}]
[null,null,null,"All About Baby Zoo Animals","Baby Polar Bears at the Zoo",1,"eBook","978-0-7660-7157-5",{"$f":"HYPERLINK(Table1[[#This Row],[Hyperlink]],\"Weblink\")","v":"Weblink"},"Enslow Publishing","2016","January 2016",null,"Author","Cecelia H. Brannon","1.8","0.5",null,null,"C",null,"Grade K - 1","Grade Pre-K - 1","With large, easy-to-read text and color photographs, beginning readers will learn about polar bear cubs and what their lives are like at the zoo, including how they can see underwater, what they eat, and how they call out to their mothers. An illustrated Words to Know section at the beginning of the book prepares readers to understand the vocabulary they will encounter in the text.","English",22.6,16.95,"599.786'139--dc23","24 pp.","https://www.enslow.com/books/Baby_Polar_Bears_at_the_Zoo/4579",{"$f":"Table1[[#This Row],[QTY]]*Table1[[#This Row],['# of Books]]","v":0},{"$f":"Table1[[#This Row],[QTY]]*Table1[[#This Row],[School & Library Price]]","v":0}]
[null,null,null,"All About Baby Zoo Animals","Baby Rhinos at the Zoo",1,"Library Bound Book","978-0-7660-7558-0",{"$f":"HYPERLINK(Table1[[#This Row],[Hyperlink]],\"Weblink\")","v":"Weblink"},"Enslow Publishing","2017","August 2016","7.125 X 8.500","Author","Cecelia H. Brannon","1.8","0.5",null,null,"D",null,"Grade K - 1","Grade Pre-K - 1","Simple text accompanied by full-page color photos give readers an inside look into the life of a rhino calf at the zoo. They will learn about what a rhino eats, what its horns are used for, and how it plays. An illustrated Words to Know section at the beginning of the book prepares readers to understand the vocabulary they will encounter in the text.","English",22.6,16.95,"599.66/8139--dc23","24 pp.","https://www.enslow.com/books/Baby_Rhinos_at_the_Zoo/419170",{"$f":"Table1[[#This Row],[QTY]]*Table1[[#This Row],['# of Books]]","v":0},{"$f":"Table1[[#This Row],[QTY]]*Table1[[#This Row],[School & Library Price]]","v":0}]
[null,null,null,"All About Baby Zoo Animals","Baby Seals at the Zoo",1,"eBook","978-0-7660-7534-4",{"$f":"HYPERLINK(Table1[[#This Row],[Hyperlink]],\"Weblink\")","v":"Weblink"},"Enslow Publishing","2017","August 2016",null,"Author","Cecelia H. Brannon","1.7","0.5",null,null,"C",null,"Grade K - 1","Grade Pre-K - 1","Young readers are introduced to a pup and its pod at the zoo. Whether basking in the noonday sun or swiftly swimming, seals are a favorite zoo animal to visit. Simple text is supported by bright, detailed photographs. Features such as a words-to-know section, a website list, and a more books to read list support newly learned information and encourage further study.","English",22.6,16.95,"599.79--dc23","24 pp.","https://www.enslow.com/books/Baby_Seals_at_the_Zoo/419182",{"$f":"Table1[[#This Row],[QTY]]*Table1[[#This Row],['# of Books]]","v":0},{"$f":"Table1[[#This Row],[QTY]]*Table1[[#This Row],[School & Library Price]]","v":0}]
[null,null,null,"All About Baby Zoo Animals","Baby Tigers at the Zoo",1,"Library Bound Book","978-0-7660-7559-7",{"$f":"HYPERLINK(Table1[[#This Row],[Hyperlink]],\"Weblink\")","v":"Weblink"},"Enslow Publishing","2017","August 2016","7.125 X 8.500","Author","Cecelia H. Brannon","2.1","0.5",null,null,"D",null,"Grade K - 1","Grade Pre-K - 1","With large, easy-to-read text and color photos, beginning readers will learn about tiger cubs and what their lives are like at the zoo, including how they play, what they eat, and how they communicate with each other. An illustrated Words to Know section at the beginning of the book prepares readers to understand the vocabulary they will encounter in the text.","English",22.6,16.95,"599.756139--dc23","24 pp.","https://www.enslow.com/books/Baby_Tigers_at_the_Zoo/419176",{"$f":"Table1[[#This Row],[QTY]]*Table1[[#This Row],['# of Books]]","v":0},{"$f":"Table1[[#This Row],[QTY]]*Table1[[#This Row],[School & Library Price]]","v":0}]
[null,null,null,"All About Baby Zoo Animals","Baby Turtles at the Zoo",1,"eBook","978-0-7660-7161-2",{"$f":"HYPERLINK(Table1[[#This Row],[Hyperlink]],\"Weblink\")","v":"Weblink"},"Enslow Publishing","2016","January 2016",null,"Author","Cecelia H. Brannon","2","0.5",null,null,"D",null,"Grade K - 1","Grade Pre-K - 1","Large, easy-to-read text and full-page color photographs show readers what life is like for a baby turtle at the zoo, including what it eats, how it spends its time in and out of the water, and what a family of turtles is called. An illustrated Words to Know section at the beginning of the book prepares readers to understand the vocabulary they will encounter in the text.","English",22.6,16.95,"598.1’3--dc23","24 pp.","https://www.enslow.com/books/Baby_Turtles_at_the_Zoo/4580",{"$f":"Table1[[#This Row],[QTY]]*Table1[[#This Row],['# of Books]]","v":0},{"$f":"Table1[[#This Row],[QTY]]*Table1[[#This Row],[School & Library Price]]","v":0}]
[null,null,null,"All About Baby Zoo Animals","Baby Whales at the Zoo",1,"Library Bound Book","978-0-7660-7563-4",{"$f":"HYPERLINK(Table1[[#This Row],[Hyperlink]],\"Weblink\")","v":"Weblink"},"Enslow Publishing","2017","August 2016","7.125 X 8.500","Author","Cecelia H. Brannon","1.5","0.5",null,null,"C",null,"Grade K - 1","Grade Pre-K - 1","Full-page color photographs support simple text to help readers learn about a whale calf's life in the zoo, including what it eats, what its blowhole is for, and what a family of whales is called. An illustrated Words to Know section at the beginning of the book prepares readers to understand the vocabulary they will encounter in the text.","English",22.6,16.95,"599.5139--dc23","24 pp.","https://www.enslow.com/books/Baby_Whales_at_the_Zoo/419187",{"$f":"Table1[[#This Row],[QTY]]*Table1[[#This Row],['# of Books]]","v":0},{"$f":"Table1[[#This Row],[QTY]]*Table1[[#This Row],[School & Library Price]]","v":0}]
[null,null,null,"All About Baby Zoo Animals","Baby Wolves at the Zoo",1,"eBook","978-0-7660-7165-0",{"$f":"HYPERLINK(Table1[[#This Row],[Hyperlink]],\"Weblink\")","v":"Weblink"},"Enslow Publishing","2016","January 2016",null,"Author","Cecelia H. Brannon","1.6","0.5",null,null,"C",null,"Grade K - 1","Grade Pre-K - 1","Full-page color photographs support simple text to help readers learn about a wolf pup's life in the zoo, including what it eats, how it communicates with other wolves and its zookeepers, and how it plays. An illustrated Words-to-Know section at the beginning of the book prepares readers to understand the vocabulary they will encounter in the text.","English",22.6,16.95,"599.773’139--dc23","24 pp.","https://www.enslow.com/books/Baby_Wolves_at_the_Zoo/4581",{"$f":"Table1[[#This Row],[QTY]]*Table1[[#This Row],['# of Books]]","v":0},{"$f":"Table1[[#This Row],[QTY]]*Table1[[#This Row],[School & Library Price]]","v":0}]
[null,null,null,"All About Baby Zoo Animals","Baby Zebras at the Zoo",1,"Library Bound Book","978-0-7660-7095-0",{"$f":"HYPERLINK(Table1[[#This Row],[Hyperlink]],\"Weblink\")","v":"Weblink"},"Enslow Publishing","2016","August 2015","7.125 X 8.500","Author","Eustacia Moldovo","1.8","0.5",null,null,"D",null,"Grade Pre-K - 1","Grade Pre-K - 1","What is a baby zebra called? What sounds does it make? Where can you see a baby zebra and its family? At the zoo, of course! This book, filled with photos and engaging details, teaches young readers about baby zebras and their lives at the zoo. They'll want to visit the zoo again and again to see their favorite animals!","English",22.6,16.95,"599.665'7139--dc23","24 pp.","https://www.enslow.com/books/Baby_Zebras_at_the_Zoo/4427",{"$f":"Table1[[#This Row],[QTY]]*Table1[[#This Row],['# of Books]]","v":0},{"$f":"Table1[[#This Row],[QTY]]*Table1[[#This Row],[School & Library Price]]","v":0}]
[null,null,null,"All About Food Crops","Apples",1,"Library Bound Book","978-0-7660-8575-6",{"$f":"HYPERLINK(Table1[[#This Row],[Hyperlink]],\"Weblink\")","v":"Weblink"},"Enslow Publishing","2018","August 2017","7.125 X 8.500","Author","Cecelia H. Brannon",null,null,null,null,"A",null,"Grade K - 1","Grade Pre-K - 1","\"An apple a day keeps the doctor away.” More than just a snack, apples are used for many familiar foodstuffs. Through simple text and vivid photos, young readers will learn all about apples and the importance they have as a crop. A Words to Know section helps readers learn new vocabulary, while Further Reading encourages deeper learning.","English",22.6,16.95,"634/.11--dc23","24 pp.","https://www.enslow.com/books/Apples/412691",{"$f":"Table1[[#This Row],[QTY]]*Table1[[#This Row],['# of Books]]","v":0},{"$f":"Table1[[#This Row],[QTY]]*Table1[[#This Row],[School & Library Price]]","v":0}]
[null,null,null,"All About Food Crops","Apples",1,"eBook","978-0-7660-8576-3",{"$f":"HYPERLINK(Table1[[#This Row],[Hyperlink]],\"Weblink\")","v":"Weblink"},"Enslow Publishing","2018","August 2017",null,"Author","Cecelia H. Brannon",null,null,null,null,"A",null,"Grade K - 1","Grade Pre-K - 1","\"An apple a day keeps the doctor away.” More than just a snack, apples are used for many familiar foodstuffs. Through simple text and vivid photos, young readers will learn all about apples and the importance they have as a crop. A Words to Know section helps readers learn new vocabulary, while Further Reading encourages deeper learning.","English",22.6,16.95,"634/.11--dc23","24 pp.","https://www.enslow.com/books/Apples/412691",{"$f":"Table1[[#This Row],[QTY]]*Table1[[#This Row],['# of Books]]","v":0},{"$f":"Table1[[#This Row],[QTY]]*Table1[[#This Row],[School & Library Price]]","v":0}]
[null,null,null,"All About Food Crops","Bananas",1,"eBook","978-0-7660-8578-7",{"$f":"HYPERLINK(Table1[[#This Row],[Hyperlink]],\"Weblink\")","v":"Weblink"},"Enslow Publishing","2018","August 2017",null,"Author","Cecelia H. Brannon",null,null,null,null,"C",null,"Grade K - 1","Grade Pre-K - 1","More than a great source of potassium, bananas are a common sight in any produce market. But where are they grown? Why are they so common? And what can you do once they start to turn brown? Young readers will learn all about this crop through simple text and full-color photos and will also discover some of the basic concepts of agriculture. A Words to Know section helps readers learn new vocabulary, while Further Reading encourages deeper learning.","English",22.6,16.95,"634/.772--dc23","24 pp.","https://www.enslow.com/books/Bananas/412671",{"$f":"Table1[[#This Row],[QTY]]*Table1[[#This Row],['# of Books]]","v":0},{"$f":"Table1[[#This Row],[QTY]]*Table1[[#This Row],[School & Library Price]]","v":0}]
[null,null,null,"All About Food Crops","Corn",1,"Library Bound Book","978-0-7660-8579-4",{"$f":"HYPERLINK(Table1[[#This Row],[Hyperlink]],\"Weblink\")","v":"Weblink"},"Enslow Publishing","2018","August 2017","7.125 X 8.500","Author","Cecelia H. Brannon",null,null,null,null,"B",null,"Grade K - 1","Grade Pre-K - 1","Corn is an essential crop. It is a staple of many diets and cuisines. But there’s more to corn than when it's on the cob. Young readers can learn about ears of corn, different ways corn is used, and why it’s such an important crop! Full-color photos and easy-to-read text help readers understand the basic concepts of agriculture. A Words to Know section helps readers learn new vocabulary, while Further Reading encourages deeper learning.","English",22.6,16.95,"633.1/5--dc23","24 pp.","https://www.enslow.com/books/Corn/412672",{"$f":"Table1[[#This Row],[QTY]]*Table1[[#This Row],['# of Books]]","v":0},{"$f":"Table1[[#This Row],[QTY]]*Table1[[#This Row],[School & Library Price]]","v":0}]
[null,null,null,"All About Food Crops","Oranges",1,"eBook","978-0-7660-8582-4",{"$f":"HYPERLINK(Table1[[#This Row],[Hyperlink]],\"Weblink\")","v":"Weblink"},"Enslow Publishing","2018","August 2017",null,"Author","Cecelia H. Brannon",null,null,null,null,"C",null,"Grade K - 1","Grade Pre-K - 1","Oranges are a common sight in lunchrooms around the world. But oranges are more than just a great source of vitamin C. Through simple text and bright photos, young readers will learn about how oranges grow and the different ways they’re used, helping readers grasp some basic concepts of agriculture. A Words to Know section helps readers learn new vocabulary, while Further Reading encourages deeper learning.","English",22.6,16.95,"634/.31--dc23","24 pp.","https://www.enslow.com/books/Oranges/412673",{"$f":"Table1[[#This Row],[QTY]]*Table1[[#This Row],['# of Books]]","v":0},{"$f":"Table1[[#This Row],[QTY]]*Table1[[#This Row],[School & Library Price]]","v":0}]
[null,null,null,"All About Food Crops","Rice",1,"Library Bound Book","978-0-7660-8583-1",{"$f":"HYPERLINK(Table1[[#This Row],[Hyperlink]],\"Weblink\")","v":"Weblink"},"Enslow Publishing","2018","August 2017","7.125 X 8.500","Author","Cecelia H. Brannon",null,null,null,null,"B",null,"Grade K - 1","Grade Pre-K - 1","Rice is an essential crop. It is a staple of many diets and cuisines. But there’s more to rice than being served in a bowl. Young readers can learn about how rice is grown, different ways it’s used, and why it’s such an important crop! Full-color photos and easy-to-read text help readers understand the basic concepts of agriculture.","English",22.6,16.95,"633.1/8--dc23","24 pp.","https://www.enslow.com/books/Rice/412674",{"$f":"Table1[[#This Row],[QTY]]*Table1[[#This Row],['# of Books]]","v":0},{"$f":"Table1[[#This Row],[QTY]]*Table1[[#This Row],[School & Library Price]]","v":0}]
[null,null,null,"All About Food Crops","Wheat",1,"eBook","978-0-7660-8586-2",{"$f":"HYPERLINK(Table1[[#This Row],[Hyperlink]],\"Weblink\")","v":"Weblink"},"Enslow Publishing","2018","August 2017",null,"Author","Cecelia H. Brannon",null,null,null,null,"B",null,"Grade K - 1","Grade Pre-K - 1","Wheat is an essential crop. It is used to make everything from bread to cereal. Through easy-to-read text, young readers will learn about wheat and many of its uses. Full-color photos will help young readers understand the concepts of crops and their uses. A Words to Know section helps readers learn new vocabulary, while Further Reading encourages deeper learning.","English",22.6,16.95,"633.1/1--dc23","24 pp.","https://www.enslow.com/books/Wheat/412675",{"$f":"Table1[[#This Row],[QTY]]*Table1[[#This Row],['# of Books]]","v":0},{"$f":"Table1[[#This Row],[QTY]]*Table1[[#This Row],[School & Library Price]]","v":0}]
[null,null,null,"All About My Senses","All About My Senses",6,"Library Set","978-0-7660-8601-2",{"$f":"HYPERLINK(Table1[[#This Row],[Hyperlink]],\"Weblink\")","v":"Weblink"},"Enslow Publishing","2018","August 2017","7.125 X 8.500",null,null,null,null,null,null,null,null,"Grade K - 1","Grade Pre-K - 1","Readers will gain a deeper understanding of how they use their senses to navigate the world. Through accessible text enhanced by full-page, vivid images, the five senses and intuition are explained in ways that are easy to understand and will help early readers gain confidence in their reading skills. Guided Reading Levels and word counts are included.\n","English",135.6,101.7,null,"24 pp.","https://www.enslow.com/series/All_About_My_Senses/421581",{"$f":"Table1[[#This Row],[QTY]]*Table1[[#This Row],['# of Books]]","v":0},{"$f":"Table1[[#This Row],[QTY]]*Table1[[#This Row],[School & Library Price]]","v":0}]
[null,null,null,"All About My Senses","What's That I Feel?",1,"Library Bound Book","978-0-7660-8720-0",{"$f":"HYPERLINK(Table1[[#This Row],[Hyperlink]],\"Weblink\")","v":"Weblink"},"Enslow Publishing","2018","August 2017","7.125 X 8.500","Author","Adam Bellamy",null,null,null,null,"C",null,"Grade K - 1","Grade Pre-K - 1","Our sense of touch helps us understand when something is wrong with our bodies, feel comfort in a soft sweater, and stay cool on a hot day. With simple text and full-color photos, young readers will learn about their sense of touch, as well as why it is important. Words to Know helps readers understand new vocabulary, while a Further Reading section will encourage deeper research.","English",22.6,16.95,"612.8/8--dc23","24 pp.","https://www.enslow.com/books/Whats_That_I_Feel/412677",{"$f":"Table1[[#This Row],[QTY]]*Table1[[#This Row],['# of Books]]","v":0},{"$f":"Table1[[#This Row],[QTY]]*Table1[[#This Row],[School & Library Price]]","v":0}]
[null,null,null,"All About My Senses","What's That I Feel?",1,"eBook","978-0-7660-8721-7",null,"Enslow Publishing","2018","August 2017",null,"Author","Adam Bellamy",null,null,null,null,"C",null,"Grade K - 1","Grade Pre-K - 1","Our sense of touch helps us understand when something is wrong with our bodies, feel comfort in a soft sweater, and stay cool on a hot day. With simple text and full-color photos, young readers will learn about their sense of touch, as well as why it is important. Words to Know helps readers understand new vocabulary, while a Further Reading section will encourage deeper research.","English",22.6,16.95,"612.8/8--dc23","24 pp.",null,{"$f":"Table1[[#This Row],[QTY]]*Table1[[#This Row],['# of Books]]","v":0},{"$f":"Table1[[#This Row],[QTY]]*Table1[[#This Row],[School & Library Price]]","v":0}]
[null,null,null,"All About My Senses","What's That I See?",1,"Library Bound Book","978-0-7660-8605-0",{"$f":"HYPERLINK(Table1[[#This Row],[Hyperlink]],\"Weblink\")","v":"Weblink"},"Enslow Publishing","2018","August 2017","7.125 X 8.500","Author","Adam Bellamy",null,null,null,null,"A",null,"Grade K - 1","Grade Pre-K - 1","Colors, lights, and movement all attract our attention. Seeing is one of the senses that is used most. Through easy-to-follow text and brightly colored photos, early readers will learn about different sights and why sight is important. Words to Know helps readers understand new vocabulary, while a Further Reading section will encourage deeper research.","English",22.6,16.95,"612.8/4--dc23","24 pp.","https://www.enslow.com/books/Whats_That_I_See/412679",{"$f":"Table1[[#This Row],[QTY]]*Table1[[#This Row],['# of Books]]","v":0},{"$f":"Table1[[#This Row],[QTY]]*Table1[[#This Row],[School & Library Price]]","v":0}]
[null,null,null,"All About My Senses","What's That I See?",1,"eBook","978-0-7660-8606-7",{"$f":"HYPERLINK(Table1[[#This Row],[Hyperlink]],\"Weblink\")","v":"Weblink"},"Enslow Publishing","2018","August 2017",null,"Author","Adam Bellamy",null,null,null,null,"A",null,"Grade K - 1","Grade Pre-K - 1","Colors, lights, and movement all attract our attention. Seeing is one of the senses that is used most. Through easy-to-follow text and brightly colored photos, early readers will learn about different sights and why sight is important. Words to Know helps readers understand new vocabulary, while a Further Reading section will encourage deeper research.","English",22.6,16.95,"612.8/4--dc23","24 pp.","https://www.enslow.com/books/Whats_That_I_See/412679",{"$f":"Table1[[#This Row],[QTY]]*Table1[[#This Row],['# of Books]]","v":0},{"$f":"Table1[[#This Row],[QTY]]*Table1[[#This Row],[School & Library Price]]","v":0}]
[null,null,null,"All About My Senses","What's That Smell?",1,"eBook","978-0-7660-8608-1",{"$f":"HYPERLINK(Table1[[#This Row],[Hyperlink]],\"Weblink\")","v":"Weblink"},"Enslow Publishing","2018","August 2017",null,"Author","Adam Bellamy",null,null,null,null,"C",null,"Grade K - 1","Grade Pre-K - 1","Our noses are powerful, indeed! Not only do they tell us what smells good and bad, but they can also help us remember things and even feel emotions! Through simple text supported by eye-catching photos, young readers will learn about different smells, from sweet to stinky to delicious, and what kinds of things cause each scent. A Words to Know section helps readers learn new vocabulary, while Further Reading encourages deeper learning.","English",22.6,16.95,"612.8/6--dc23","24 pp.","https://www.enslow.com/books/Whats_That_Smell/412680",{"$f":"Table1[[#This Row],[QTY]]*Table1[[#This Row],['# of Books]]","v":0},{"$f":"Table1[[#This Row],[QTY]]*Table1[[#This Row],[School & Library Price]]","v":0}]
[null,null,null,"All About My Senses","What's That Taste?",1,"Library Bound Book","978-0-7660-8609-8",{"$f":"HYPERLINK(Table1[[#This Row],[Hyperlink]],\"Weblink\")","v":"Weblink"},"Enslow Publishing","2018","August 2017","7.125 X 8.500","Author","Adam Bellamy",null,null,null,null,"B",null,"Grade K - 1","Grade Pre-K - 1","We enjoy eating food mostly because it tastes so good! Through easy-to-follow text supported by full-color photos, young readers will learn all about different tastes, from sweet to salty to spicy, and the different foods that cause each flavor. A Words to Know section helps readers learn new vocabulary, while Further Reading encourages deeper learning.","English",22.6,16.95,"612.8/7--dc23","24 pp.","https://www.enslow.com/books/Whats_That_Taste/412681",{"$f":"Table1[[#This Row],[QTY]]*Table1[[#This Row],['# of Books]]","v":0},{"$f":"Table1[[#This Row],[QTY]]*Table1[[#This Row],[School & Library Price]]","v":0}]
[null,null,null,"All About My World","This Is My Bank",1,"Library Bound Book","978-0-7660-8108-6",{"$f":"HYPERLINK(Table1[[#This Row],[Hyperlink]],\"Weblink\")","v":"Weblink"},"Enslow Publishing","2017","January 2017","7.125 X 8.500","Author","Adam Bellamy",null,null,null,null,"B",null,"Grade K - 1","Grade Pre-K - 1","Using simple language and high text/photo correlation, young readers will learn about what to expect when they visit a bank, including what the teller does, where money is kept, and what ATMs are for. A “Words to Know” section at the beginning of the book helps students learn new vocabulary they will encounter in the text, while suggestions for other titles and websites encourage students to learn more.","English",22.6,16.95,"332.1--dc23","24 pp.","https://www.enslow.com/books/This_Is_My_Bank/421572",{"$f":"Table1[[#This Row],[QTY]]*Table1[[#This Row],['# of Books]]","v":0},{"$f":"Table1[[#This Row],[QTY]]*Table1[[#This Row],[School & Library Price]]","v":0}]
[null,null,null,"All About My World","This Is My Bank",1,"eBook","978-0-7660-8109-3",{"$f":"HYPERLINK(Table1[[#This Row],[Hyperlink]],\"Weblink\")","v":"Weblink"},"Enslow Publishing","2017","January 2017",null,"Author","Adam Bellamy",null,null,null,null,"B",null,"Grade K - 1","Grade Pre-K - 1","Using simple language and high text/photo correlation, young readers will learn about what to expect when they visit a bank, including what the teller does, where money is kept, and what ATMs are for. A “Words to Know” section at the beginning of the book helps students learn new vocabulary they will encounter in the text, while suggestions for other titles and websites encourage students to learn more.","English",22.6,16.95,"332.1--dc23","24 pp.","https://www.enslow.com/books/This_Is_My_Bank/421572",{"$f":"Table1[[#This Row],[QTY]]*Table1[[#This Row],['# of Books]]","v":0},{"$f":"Table1[[#This Row],[QTY]]*Table1[[#This Row],[School & Library Price]]","v":0}]
[null,null,null,"All About My World","This Is My Doctor",1,"Library Bound Book","978-0-7660-8100-0",{"$f":"HYPERLINK(Table1[[#This Row],[Hyperlink]],\"Weblink\")","v":"Weblink"},"Enslow Publishing","2017","January 2017","7.125 X 8.500","Author","Adam Bellamy",null,null,null,null,"B",null,"Grade K - 1","Grade Pre-K - 1","Using simple language and a high text/photo correlation, young readers will learn about what to expect when they go to the doctor, including what a nurse will do during a checkup and why people receive shots. A “Words to Know” section at the beginning of the book helps students learn new vocabulary they will encounter in the text, while suggestions for other titles and websites encourage students to learn more.","English",22.6,16.95,"610.69/5--dc23","24 pp.","https://www.enslow.com/books/This_Is_My_Doctor/421568",{"$f":"Table1[[#This Row],[QTY]]*Table1[[#This Row],['# of Books]]","v":0},{"$f":"Table1[[#This Row],[QTY]]*Table1[[#This Row],[School & Library Price]]","v":0}]
[null,null,null,"All About My World","This Is My Doctor",1,"eBook","978-0-7660-8101-7",{"$f":"HYPERLINK(Table1[[#This Row],[Hyperlink]],\"Weblink\")","v":"Weblink"},"Enslow Publishing","2017","January 2017",null,"Author","Adam Bellamy",null,null,null,null,"B",null,"Grade K - 1","Grade Pre-K - 1","Using simple language and a high text/photo correlation, young readers will learn about what to expect when they go to the doctor, including what a nurse will do during a checkup and why people receive shots. A “Words to Know” section at the beginning of the book helps students learn new vocabulary they will encounter in the text, while suggestions for other titles and websites encourage students to learn more.","English",22.6,16.95,"610.69/5--dc23","24 pp.","https://www.enslow.com/books/This_Is_My_Doctor/421568",{"$f":"Table1[[#This Row],[QTY]]*Table1[[#This Row],['# of Books]]","v":0},{"$f":"Table1[[#This Row],[QTY]]*Table1[[#This Row],[School & Library Price]]","v":0}]
[null,null,null,"All About My World","This Is My Post Office",1,"Library Bound Book","978-0-7660-8104-8",{"$f":"HYPERLINK(Table1[[#This Row],[Hyperlink]],\"Weblink\")","v":"Weblink"},"Enslow Publishing","2017","January 2017","7.125 X 8.500","Author","Adam Bellamy",null,null,null,null,"B",null,"Grade K - 1","Grade Pre-K - 1","Using simple language and high text/photo correlation, young readers will learn about what to expect at the post office, including why people go there and what a postal carrier does. A “Words to Know” section at the beginning of the book helps students learn new vocabulary they will encounter in the text, while suggestions for other titles and websites encourage students to learn more.","English",22.6,16.95,"383/.42--dc23","24 pp.","https://www.enslow.com/books/This_Is_My_Post_Office/421573",{"$f":"Table1[[#This Row],[QTY]]*Table1[[#This Row],['# of Books]]","v":0},{"$f":"Table1[[#This Row],[QTY]]*Table1[[#This Row],[School & Library Price]]","v":0}]
[null,null,null,"All About My World","This Is My Post Office",1,"eBook","978-0-7660-8105-5",{"$f":"HYPERLINK(Table1[[#This Row],[Hyperlink]],\"Weblink\")","v":"Weblink"},"Enslow Publishing","2017","January 2017",null,"Author","Adam Bellamy",null,null,null,null,"B",null,"Grade K - 1","Grade Pre-K - 1","Using simple language and high text/photo correlation, young readers will learn about what to expect at the post office, including why people go there and what a postal carrier does. A “Words to Know” section at the beginning of the book helps students learn new vocabulary they will encounter in the text, while suggestions for other titles and websites encourage students to learn more.","English",22.6,16.95,"383/.42--dc23","24 pp.","https://www.enslow.com/books/This_Is_My_Post_Office/421573",{"$f":"Table1[[#This Row],[QTY]]*Table1[[#This Row],['# of Books]]","v":0},{"$f":"Table1[[#This Row],[QTY]]*Table1[[#This Row],[School & Library Price]]","v":0}]
[null,null,null,"All About Opposites","All About Opposites",6,"Library Set","978-0-7660-8464-3",{"$f":"HYPERLINK(Table1[[#This Row],[Hyperlink]],\"Weblink\")","v":"Weblink"},"Enslow Publishing","2017","January 2017","7.125 X 8.500",null,null,null,null,null,null,null,null,"Grade K - 1","Grade Pre-K - 1","Beginning readers will learn about some of the world’s most common opposites: tall and short, hot and cold, young and old, day and night, tight and loose, and wide and narrow. Through simple text and large full-color photos, opposites are explained in ways that are easy to understand and will help early readers gain confidence in their reading skills.","English",135.6,101.7,null,"24 pp.","https://www.enslow.com/series/All_About_Opposites/229",{"$f":"Table1[[#This Row],[QTY]]*Table1[[#This Row],['# of Books]]","v":0},{"$f":"Table1[[#This Row],[QTY]]*Table1[[#This Row],[School & Library Price]]","v":0}]
[null,null,null,"All About Opposites","Day and Night",1,"Library Bound Book","978-0-7660-8088-1",{"$f":"HYPERLINK(Table1[[#This Row],[Hyperlink]],\"Weblink\")","v":"Weblink"},"Enslow Publishing","2017","January 2017","7.125 X 8.500","Author","Tom Hughes",null,null,null,null,"A","410L","Grade K - 1","Grade Pre-K - 1","Through easy-to-follow text and full-color photographs, the concepts of day and night are explained in ways that are easy for readers to understand using topics such as the diurnal and nocturnal activities of people and animals. A \"Words to Know\" section at the beginning of the book helps students learn new vocabulary they will encounter in the text, while suggestions for other books and websites encourage students to learn more.","English",22.6,16.95,"525/.35--dc23","24 pp.","https://www.enslow.com/books/Day_and_Night/421575",{"$f":"Table1[[#This Row],[QTY]]*Table1[[#This Row],['# of Books]]","v":0},{"$f":"Table1[[#This Row],[QTY]]*Table1[[#This Row],[School & Library Price]]","v":0}]
[null,null,null,"All About Opposites","Hot and Cold",1,"Library Bound Book","978-0-7660-8112-3",{"$f":"HYPERLINK(Table1[[#This Row],[Hyperlink]],\"Weblink\")","v":"Weblink"},"Enslow Publishing","2017","January 2017","7.125 X 8.500","Author","Tom Hughes",null,null,null,null,"A","240L","Grade K - 1","Grade Pre-K - 1","Through straightforward text and vivid images, the concepts of hot and cold are explained in a way that is easy for readers to comprehend using topics such as food and seasons. A “Words to Know” section at the beginning of the book helps students learn new vocabulary they will encounter in the text, while suggestions for other titles and websites encourage students to learn more.","English",22.6,16.95,"536--dc23","24 pp.","https://www.enslow.com/books/Hot_and_Cold/421576",{"$f":"Table1[[#This Row],[QTY]]*Table1[[#This Row],['# of Books]]","v":0},{"$f":"Table1[[#This Row],[QTY]]*Table1[[#This Row],[School & Library Price]]","v":0}]
[null,null,null,"All About Opposites","Hot and Cold",1,"eBook","978-0-7660-8113-0",{"$f":"HYPERLINK(Table1[[#This Row],[Hyperlink]],\"Weblink\")","v":"Weblink"},"Enslow Publishing","2017","January 2017",null,"Author","Tom Hughes",null,null,null,null,"A","240L","Grade K - 1","Grade Pre-K - 1","Through straightforward text and vivid images, the concepts of hot and cold are explained in a way that is easy for readers to comprehend using topics such as food and seasons. A “Words to Know” section at the beginning of the book helps students learn new vocabulary they will encounter in the text, while suggestions for other titles and websites encourage students to learn more.","English",22.6,16.95,"536--dc23","24 pp.","https://www.enslow.com/books/Hot_and_Cold/421576",{"$f":"Table1[[#This Row],[QTY]]*Table1[[#This Row],['# of Books]]","v":0},{"$f":"Table1[[#This Row],[QTY]]*Table1[[#This Row],[School & Library Price]]","v":0}]
[null,null,null,"All About Opposites","Tall and Short",1,"Library Bound Book","978-0-7660-8080-5",{"$f":"HYPERLINK(Table1[[#This Row],[Hyperlink]],\"Weblink\")","v":"Weblink"},"Enslow Publishing","2017","January 2017","7.125 X 8.500","Author","Tom Hughes",null,null,null,null,"B","180L","Grade K - 1","Grade Pre-K - 1","Through easy-to-follow text with full-color photos that correlate, students will learn about the concepts of tall and short using such topics as people, animals, and buildings. A “Words to Know” section at the beginning of the book helps students learn new vocabulary they will encounter in the text, while suggestions for other titles and websites encourage students to learn more.","English",22.6,16.95,"153.7/52--dc23","24 pp.","https://www.enslow.com/books/Tall_and_Short/421578",{"$f":"Table1[[#This Row],[QTY]]*Table1[[#This Row],['# of Books]]","v":0},{"$f":"Table1[[#This Row],[QTY]]*Table1[[#This Row],[School & Library Price]]","v":0}]
[null,null,null,"All About Opposites","Tall and Short",1,"eBook","978-0-7660-8081-2",{"$f":"HYPERLINK(Table1[[#This Row],[Hyperlink]],\"Weblink\")","v":"Weblink"},"Enslow Publishing","2017","January 2017",null,"Author","Tom Hughes",null,null,null,null,"B","180L","Grade K - 1","Grade Pre-K - 1","Through easy-to-follow text with full-color photos that correlate, students will learn about the concepts of tall and short using such topics as people, animals, and buildings. A “Words to Know” section at the beginning of the book helps students learn new vocabulary they will encounter in the text, while suggestions for other titles and websites encourage students to learn more.","English",22.6,16.95,"153.7/52--dc23","24 pp.","https://www.enslow.com/books/Tall_and_Short/421578",{"$f":"Table1[[#This Row],[QTY]]*Table1[[#This Row],['# of Books]]","v":0},{"$f":"Table1[[#This Row],[QTY]]*Table1[[#This Row],[School & Library Price]]","v":0}]
[null,null,null,"All About Opposites","Wide and Narrow",1,"Library Bound Book","978-0-7660-8120-8",{"$f":"HYPERLINK(Table1[[#This Row],[Hyperlink]],\"Weblink\")","v":"Weblink"},"Enslow Publishing","2017","January 2017","7.125 X 8.500","Author","Tom Hughes",null,null,null,null,"C","230L","Grade K - 1","Grade Pre-K - 1","Through straightforward text and full-color photos, readers will learn about the concepts of wide versus narrow using such topics as animals, vehicles, and streets. A “Words to Know” section at the beginning of the book helps students learn new vocabulary they will encounter in the text, while suggestions for other titles and websites encourage students to learn more.","English",22.6,16.95,"153.7/52--dc23","24 pp.","https://www.enslow.com/books/Wide_and_Narrow/421577",{"$f":"Table1[[#This Row],[QTY]]*Table1[[#This Row],['# of Books]]","v":0},{"$f":"Table1[[#This Row],[QTY]]*Table1[[#This Row],[School & Library Price]]","v":0}]
[null,null,null,"All About Opposites","Wide and Narrow",1,"eBook","978-0-7660-8121-5",{"$f":"HYPERLINK(Table1[[#This Row],[Hyperlink]],\"Weblink\")","v":"Weblink"},"Enslow Publishing","2017","January 2017",null,"Author","Tom Hughes",null,null,null,null,"C","230L","Grade K - 1","Grade Pre-K - 1","Through straightforward text and full-color photos, readers will learn about the concepts of wide versus narrow using such topics as animals, vehicles, and streets. A “Words to Know” section at the beginning of the book helps students learn new vocabulary they will encounter in the text, while suggestions for other titles and websites encourage students to learn more.","English",22.6,16.95,"153.7/52--dc23","24 pp.","https://www.enslow.com/books/Wide_and_Narrow/421577",{"$f":"Table1[[#This Row],[QTY]]*Table1[[#This Row],['# of Books]]","v":0},{"$f":"Table1[[#This Row],[QTY]]*Table1[[#This Row],[School & Library Price]]","v":0}]
[null,null,null,"All About Pets","Pet Cats",1,"eBook","978-0-7660-7594-8",{"$f":"HYPERLINK(Table1[[#This Row],[Hyperlink]],\"Weblink\")","v":"Weblink"},"Enslow Publishing","2017","August 2016",null,"Author","Cecelia H. Brannon","1.4","0.5",null,null,"C",null,"Grade K - 1","Grade Pre-K - 1","Full-page color photos support simple text to help readers learn about rabbits, including what they eat, what they need to stay healthy, and how to soothe a nervous bunny. An illustrated Words to Know section at the beginning of the book prepares readers to understand the vocabulary they will encounter in the text.","English",22.6,16.95,"636.8--dc23","24 pp.","https://www.enslow.com/books/Pet_Cats/419146",{"$f":"Table1[[#This Row],[QTY]]*Table1[[#This Row],['# of Books]]","v":0},{"$f":"Table1[[#This Row],[QTY]]*Table1[[#This Row],[School & Library Price]]","v":0}]
[null,null,null,"All About Pets","Pet Dogs",1,"Library Bound Book","978-0-7660-7602-0",{"$f":"HYPERLINK(Table1[[#This Row],[Hyperlink]],\"Weblink\")","v":"Weblink"},"Enslow Publishing","2017","August 2016","7.125 X 8.500","Author","Cecelia H. Brannon","1.4","0.5",null,null,"C",null,"Grade K - 1","Grade Pre-K - 1","With large, easy-to-read text and color photos, beginning readers will learn about dogs, including what tricks they can learn, what they eat, and why they chew on bones. An illustrated Words to Know section at the beginning of the book prepares readers to understand the vocabulary they will encounter in the text.","English",22.6,16.95,"636.7--dc23","24 pp.","https://www.enslow.com/books/Pet_Dogs/419141",{"$f":"Table1[[#This Row],[QTY]]*Table1[[#This Row],['# of Books]]","v":0},{"$f":"Table1[[#This Row],[QTY]]*Table1[[#This Row],[School & Library Price]]","v":0}]
[null,null,null,"All About Pets","Pet Goldfish",1,"eBook","978-0-7660-7597-9",{"$f":"HYPERLINK(Table1[[#This Row],[Hyperlink]],\"Weblink\")","v":"Weblink"},"Enslow Publishing","2017","August 2016",null,"Author","Cecelia H. Brannon","1.9","0.5",null,null,"B",null,"Grade K - 1","Grade Pre-K - 1","Simple text supported by large color photos and an illustrated Words to Know help readers learn about goldfish, including what they eat, how often their tanks must be cleaned, and the many different colors they come in. An illustrated Words to Know section at the beginning of the book prepares readers to understand the vocabulary they will encounter in the text.","English",22.6,16.95,"639.3/7484--dc23","24 pp.","https://www.enslow.com/books/Pet_Goldfish/419160",{"$f":"Table1[[#This Row],[QTY]]*Table1[[#This Row],['# of Books]]","v":0},{"$f":"Table1[[#This Row],[QTY]]*Table1[[#This Row],[School & Library Price]]","v":0}]
[null,null,null,"All About Pets","Pet Hamsters",1,"Library Bound Book","978-0-7660-7601-3",{"$f":"HYPERLINK(Table1[[#This Row],[Hyperlink]],\"Weblink\")","v":"Weblink"},"Enslow Publishing","2017","August 2016","7.125 X 8.500","Author","Cecelia H. Brannon","1.8","0.5",null,null,"B",null,"Grade K - 1","Grade Pre-K - 1","Through simple text supported by full-page, beautiful photos, early readers will discover fascinating facts about hamsters, including how they exercise, what they eat, and why they have cheek pouches. An illustrated Words to Know section at the beginning of the book helps readers understand new words they will encounter in the text.","English",22.6,16.95,"636.935/6--dc23","24 pp.","https://www.enslow.com/books/Pet_Hamsters/419136",{"$f":"Table1[[#This Row],[QTY]]*Table1[[#This Row],['# of Books]]","v":0},{"$f":"Table1[[#This Row],[QTY]]*Table1[[#This Row],[School & Library Price]]","v":0}]
[null,null,null,"All About Pets","Pet Parakeets",1,"Library Bound Book","978-0-7660-7607-5",{"$f":"HYPERLINK(Table1[[#This Row],[Hyperlink]],\"Weblink\")","v":"Weblink"},"Enslow Publishing","2017","August 2016","7.125 X 8.500","Author","Cecelia H. Brannon","1.9","0.5",null,null,"C",null,"Grade K - 1","Grade Pre-K - 1","Large, easy-to-read text and full-page color photos show readers what life is like for pet parakeets, including what they eat, how they communicate, and how they exercise and bathe. An illustrated Words to Know section at the beginning of the book helps readers understand new words they will encounter in the text.","English",22.6,16.95,"636.6/865--dc23","24 pp.","https://www.enslow.com/books/Pet_Parakeets/419165",{"$f":"Table1[[#This Row],[QTY]]*Table1[[#This Row],['# of Books]]","v":0},{"$f":"Table1[[#This Row],[QTY]]*Table1[[#This Row],[School & Library Price]]","v":0}]
[null,null,null,"All About Pets","Pet Parakeets",1,"eBook","978-0-7660-7598-6",{"$f":"HYPERLINK(Table1[[#This Row],[Hyperlink]],\"Weblink\")","v":"Weblink"},"Enslow Publishing","2017","August 2016",null,"Author","Cecelia H. Brannon","1.9","0.5",null,null,"C",null,"Grade K - 1","Grade Pre-K - 1","Large, easy-to-read text and full-page color photos show readers what life is like for pet parakeets, including what they eat, how they communicate, and how they exercise and bathe. An illustrated Words to Know section at the beginning of the book helps readers understand new words they will encounter in the text.","English",22.6,16.95,"636.6/865--dc23","24 pp.","https://www.enslow.com/books/Pet_Parakeets/419165",{"$f":"Table1[[#This Row],[QTY]]*Table1[[#This Row],['# of Books]]","v":0},{"$f":"Table1[[#This Row],[QTY]]*Table1[[#This Row],[School & Library Price]]","v":0}]
[null,null,null,"Discover Dogs with the American Canine Association","Discover Dogs with the American Canine Association: Sets 1 – 7",42,"Library Set","978-1-9785-0579-7",{"$f":"HYPERLINK(Table1[[#This Row],[Hyperlink]],\"Weblink\")","v":"Weblink"},"Enslow Publishing","2019","January 2019","8.500 X 7.125",null,null,null,null,null,null,null,null,"Grade 1 - 2","Grade K - 3","Readers will delight in learning all about their favorite dog breeds. Using simple text, elementary students will learn how to take care of each breed from housing and exercise to diet and play. Each book focuses on a different popular breed and encourages readers to become responsible dog owners. A \"Note to Parents\" section addresses the importance of neutering and spaying, microchipping, checking to see if a dog license is required, and adopting from a shelter or rescue group. Features include: Topics that will supplement the need for information about animals in national science curricula. Approved by the American Canine Association. Perfect for browsers and report writers. Introduces readers to different breeds through the high-interest topic of dog ownership. Contains Words to Know, Fast Facts, and Read About sections that include books, websites, and an index.","English",949.2,711.9,null,"24 pp.","https://www.enslow.com/series/Discover_Dogs_with_the_American_Canine_Association/338",{"$f":"Table1[[#This Row],[QTY]]*Table1[[#This Row],['# of Books]]","v":0},{"$f":"Table1[[#This Row],[QTY]]*Table1[[#This Row],[School & Library Price]]","v":0}]
[null,null,null,"Discover Dogs with the American Canine Association","Discover Dogs with the American Canine Association: Set 7",6,"Library Set","978-1-9785-0578-0",{"$f":"HYPERLINK(Table1[[#This Row],[Hyperlink]],\"Weblink\")","v":"Weblink"},"Enslow Publishing","2019","January 2019","8.500 X 7.125",null,null,null,null,null,null,null,null,"Grade 1 - 2","Grade K - 3","Readers will delight in learning all about their favorite dog breeds, including Border Collies, Saint Bernards, and Pomeranians. Using simple text, elementary students will learn how to take care of each breed from housing and exercise to diet and play. Each book focuses on a different popular breed and encourages readers to become responsible dog owners. A \"Note to Parents\" section addresses the importance of neutering and spaying, microchipping, checking to see if a dog license is required, and adopting from a shelter or rescue group. Features include: Topics that will supplement the need for information about animals in national science curricula. Approved by the American Canine Association. Perfect for browsers and report writers. Introduces readers to different breeds through the high-interest topic of dog ownership. Contains Words to Know, Fast Facts, and Read About sections that include books, websites, and an index.","English",135.6,101.7,null,"24 pp.","https://www.enslow.com/series/Discover_Dogs_with_the_American_Canine_Association/338",{"$f":"Table1[[#This Row],[QTY]]*Table1[[#This Row],['# of Books]]","v":0},{"$f":"Table1[[#This Row],[QTY]]*Table1[[#This Row],[School & Library Price]]","v":0}]
[null,null,null,"Discover Dogs with the American Canine Association","I Like Pomeranians!",1,"Library Bound Book","978-1-9785-0190-4",{"$f":"HYPERLINK(Table1[[#This Row],[Hyperlink]],\"Weblink\")","v":"Weblink"},"Enslow Publishing","2019","January 2019","8.500 X 7.125","Author","Linda Bozzo","3.1","0.5",null,null,"D",null,"Grade 1 - 2","Grade K - 3","The cute, small, furry Pomeranian actually descended from large sled dogs, which include such breeds as the Alaskan malamute and the Samoyed. Students will discover these fascinating facts and more as author Linda Bozzo and the American Canine Association teach readers all about Pomeranians, including how to take care of one and what needs are specific to the breed. Also included are a Note to Parents that stresses the importance of spaying or neutering and microchipping pets, a Words to Know section to help young readers learn new vocabulary, and a Read About Dogs section to encourage further exploration.","English",22.6,16.95,"636.76--dc23","24 pp.","https://www.enslow.com/books/I_Like_Pomeranians/4692",{"$f":"Table1[[#This Row],[QTY]]*Table1[[#This Row],['# of Books]]","v":0},{"$f":"Table1[[#This Row],[QTY]]*Table1[[#This Row],[School & Library Price]]","v":0}]
[null,null,null,"Discover Dogs with the American Canine Association","I Like Pomeranians!",1,"eBook","978-1-9785-0261-1",{"$f":"HYPERLINK(Table1[[#This Row],[Hyperlink]],\"Weblink\")","v":"Weblink"},"Enslow Publishing","2019","January 2019",null,"Author","Linda Bozzo","3.1","0.5",null,null,"D",null,"Grade 1 - 2","Grade K - 3","The cute, small, furry Pomeranian actually descended from large sled dogs, which include such breeds as the Alaskan malamute and the Samoyed. Students will discover these fascinating facts and more as author Linda Bozzo and the American Canine Association teach readers all about Pomeranians, including how to take care of one and what needs are specific to the breed. Also included are a Note to Parents that stresses the importance of spaying or neutering and microchipping pets, a Words to Know section to help young readers learn new vocabulary, and a Read About Dogs section to encourage further exploration.","English",22.6,16.95,"636.76--dc23","24 pp.","https://www.enslow.com/books/I_Like_Pomeranians/4692",{"$f":"Table1[[#This Row],[QTY]]*Table1[[#This Row],['# of Books]]","v":0},{"$f":"Table1[[#This Row],[QTY]]*Table1[[#This Row],[School & Library Price]]","v":0}]
[null,null,null,"Discover Dogs with the American Canine Association","I Like Saint Bernards!",1,"Library Bound Book","978-1-9785-0192-8",{"$f":"HYPERLINK(Table1[[#This Row],[Hyperlink]],\"Weblink\")","v":"Weblink"},"Enslow Publishing","2019","January 2019","8.500 X 7.125","Author","Linda Bozzo","3.2","0.5",null,null,"D",null,"Grade 1 - 2","Grade K - 3","Monks bred the Saint Bernard to guard their hospice and rescue lost travelers in the Alps. Readers will learn all about the Saint Bernard and its needs with the help of author Linda Bozzo and the American Canine Association. Simple, informative text and full-color photographs show readers what to feed their dog, how to groom it, and how to keep it healthy through exercise and play. A Note to Parents addresses the importance of neutering and spaying, microchipping, checking to see if a dog license is required, and adopting from a shelter or rescue group. Also included are a Words to Know section and a Read About Dogs section with books and websites.","English",22.6,16.95,"636.73--dc23","24 pp.","https://www.enslow.com/books/I_Like_Saint_Bernards/4694",{"$f":"Table1[[#This Row],[QTY]]*Table1[[#This Row],['# of Books]]","v":0},{"$f":"Table1[[#This Row],[QTY]]*Table1[[#This Row],[School & Library Price]]","v":0}]
[null,null,null,"Discover Dogs with the American Canine Association","I Like Saint Bernards!",1,"eBook","978-1-9785-0267-3",{"$f":"HYPERLINK(Table1[[#This Row],[Hyperlink]],\"Weblink\")","v":"Weblink"},"Enslow Publishing","2019","January 2019",null,"Author","Linda Bozzo","3.2","0.5",null,null,"D",null,"Grade 1 - 2","Grade K - 3","Monks bred the Saint Bernard to guard their hospice and rescue lost travelers in the Alps. Readers will learn all about the Saint Bernard and its needs with the help of author Linda Bozzo and the American Canine Association. Simple, informative text and full-color photographs show readers what to feed their dog, how to groom it, and how to keep it healthy through exercise and play. A Note to Parents addresses the importance of neutering and spaying, microchipping, checking to see if a dog license is required, and adopting from a shelter or rescue group. Also included are a Words to Know section and a Read About Dogs section with books and websites.","English",22.6,16.95,"636.73--dc23","24 pp.","https://www.enslow.com/books/I_Like_Saint_Bernards/4694",{"$f":"Table1[[#This Row],[QTY]]*Table1[[#This Row],['# of Books]]","v":0},{"$f":"Table1[[#This Row],[QTY]]*Table1[[#This Row],[School & Library Price]]","v":0}]
[null,null,null,"Discover Dogs with the American Canine Association","I Like Shiba Inus!",1,"Library Bound Book","978-1-9785-0194-2",{"$f":"HYPERLINK(Table1[[#This Row],[Hyperlink]],\"Weblink\")","v":"Weblink"},"Enslow Publishing","2019","January 2019","8.500 X 7.125","Author","Linda Bozzo","2.9","0.5",null,null,"D",null,"Grade 1 - 2","Grade K - 3","The shiba inu was bred as a hunting dog in the mountainous regions of Japan to flush birds and other small animals out of bushes. Approved by the American Canine Association, this book uses accessible text and adorable full-color photographs to teach students about the shiba inu, including what to feed it, how to keep it clean and healthy, when it should be seen by a veterinarian, and the special considerations this breed requires. A Note to Parents addresses the importance of neutering and spaying, microchipping, checking to see if a dog license is required, and adopting from a shelter or rescue group. A Read About Dogs section directs students to books and websites with additional information.","English",22.6,16.95,"636.73--dc23","24 pp.","https://www.enslow.com/books/I_Like_Shiba_Inus/4696",{"$f":"Table1[[#This Row],[QTY]]*Table1[[#This Row],['# of Books]]","v":0},{"$f":"Table1[[#This Row],[QTY]]*Table1[[#This Row],[School & Library Price]]","v":0}]
[null,null,null,"Discover Dogs with the American Canine Association","I Like Shiba Inus!",1,"eBook","978-1-9785-0273-4",{"$f":"HYPERLINK(Table1[[#This Row],[Hyperlink]],\"Weblink\")","v":"Weblink"},"Enslow Publishing","2019","January 2019",null,"Author","Linda Bozzo","2.9","0.5",null,null,"D",null,"Grade 1 - 2","Grade K - 3","The shiba inu was bred as a hunting dog in the mountainous regions of Japan to flush birds and other small animals out of bushes. Approved by the American Canine Association, this book uses accessible text and adorable full-color photographs to teach students about the shiba inu, including what to feed it, how to keep it clean and healthy, when it should be seen by a veterinarian, and the special considerations this breed requires. A Note to Parents addresses the importance of neutering and spaying, microchipping, checking to see if a dog license is required, and adopting from a shelter or rescue group. A Read About Dogs section directs students to books and websites with additional information.","English",22.6,16.95,"636.73--dc23","24 pp.","https://www.enslow.com/books/I_Like_Shiba_Inus/4696",{"$f":"Table1[[#This Row],[QTY]]*Table1[[#This Row],['# of Books]]","v":0},{"$f":"Table1[[#This Row],[QTY]]*Table1[[#This Row],[School & Library Price]]","v":0}]
[null,null,null,"Discover Dogs with the American Canine Association","I Like Akitas!",1,"Library Bound Book","978-0-7660-9125-2",{"$f":"HYPERLINK(Table1[[#This Row],[Hyperlink]],\"Weblink\")","v":"Weblink"},"Enslow Publishing","2018","January 2018","8.500 X 7.125","Author","Linda Bozzo","2.9","0.5",null,null,"G",null,"Grade 1 - 2","Grade K - 3","Through simple yet informative text and full-color photographs, author Linda Bozzo and the American Canine Association teach readers all about Akitas, the large dog breed of Japanese origin, including how to take care of one and what needs are specific to the breed. Also included are a Note to Parents that stresses the importance of spaying or neutering and microchipping pets, a Words to Know section to help young readers learn new vocabulary, and a Read About Dogs section to encourage further exploration.","English",22.6,16.95,"636.73--dc23","24 pp.","https://www.enslow.com/books/I_Like_Akitas/421740",{"$f":"Table1[[#This Row],[QTY]]*Table1[[#This Row],['# of Books]]","v":0},{"$f":"Table1[[#This Row],[QTY]]*Table1[[#This Row],[School & Library Price]]","v":0}]
[null,null,null,"Discover Dogs with the American Canine Association","I Like Akitas!",1,"eBook","978-0-7660-9126-9",{"$f":"HYPERLINK(Table1[[#This Row],[Hyperlink]],\"Weblink\")","v":"Weblink"},"Enslow Publishing","2018","January 2018",null,"Author","Linda Bozzo","2.9","0.5",null,null,"G",null,"Grade 1 - 2","Grade K - 3","Through simple yet informative text and full-color photographs, author Linda Bozzo and the American Canine Association teach readers all about Akitas, the large dog breed of Japanese origin, including how to take care of one and what needs are specific to the breed. Also included are a Note to Parents that stresses the importance of spaying or neutering and microchipping pets, a Words to Know section to help young readers learn new vocabulary, and a Read About Dogs section to encourage further exploration.","English",22.6,16.95,"636.73--dc23","24 pp.","https://www.enslow.com/books/I_Like_Akitas/421740",{"$f":"Table1[[#This Row],[QTY]]*Table1[[#This Row],['# of Books]]","v":0},{"$f":"Table1[[#This Row],[QTY]]*Table1[[#This Row],[School & Library Price]]","v":0}]
[null,null,null,"Discover Dogs with the American Canine Association","I Like Australian Shepherds!",1,"eBook","978-0-7660-8635-7",{"$f":"HYPERLINK(Table1[[#This Row],[Hyperlink]],\"Weblink\")","v":"Weblink"},"Enslow Publishing","2018","August 2017",null,"Author","Linda Bozzo",null,null,null,null,"L",null,"Grade 1 - 2","Grade K - 3","Australian shepherds, or “Aussies,” are one of the world’s best-loved dog breeds. Smart, playful, and adorable, these pint-sized pooches are a common sight at the dog park. Young readers will love learning how to take care of an Australian shepherd and discovering if the breed is right for their family. Full-color photos, quick facts, and easy-to-comprehend language help readers learn how to be responsible dog owners. A Words to Know section helps readers learn new vocabulary, while Further Reading encourages deeper learning.","English",22.6,16.95,"636.737--dc23","24 pp.","https://www.enslow.com/books/I_Like_Australian_Shepherds/412706",{"$f":"Table1[[#This Row],[QTY]]*Table1[[#This Row],['# of Books]]","v":0},{"$f":"Table1[[#This Row],[QTY]]*Table1[[#This Row],[School & Library Price]]","v":0}]
[null,null,null,"Discover Dogs with the American Canine Association","I Like Basset Hounds!",1,"Library Bound Book","978-0-7660-9129-0",{"$f":"HYPERLINK(Table1[[#This Row],[Hyperlink]],\"Weblink\")","v":"Weblink"},"Enslow Publishing","2018","January 2018","8.500 X 7.125","Author","Linda Bozzo","3.3","0.5",null,null,"F",null,"Grade 1 - 2","Grade K - 3","Author Linda Bozzo and the American Canine Association provide young readers with accessible information, fun facts, and adorable full-color photographs of the short-legged, droopy-faced basset hound. Students will learn whether a puppy or adult dog is right for them, what to feed it, and how to keep it clean and healthy. In addition, this text includes a Note to Parents that stresses the importance of spaying or neutering and microchipping pets, a Words to Know section to help young readers master new vocabulary, and a Read About Dogs section to encourage deeper exploration into the topic.","English",22.6,16.95,"636.753/6--dc23","24 pp.","https://www.enslow.com/books/I_Like_Basset_Hounds/421741",{"$f":"Table1[[#This Row],[QTY]]*Table1[[#This Row],['# of Books]]","v":0},{"$f":"Table1[[#This Row],[QTY]]*Table1[[#This Row],[School & Library Price]]","v":0}]
[null,null,null,"Discover Dogs with the American Canine Association","I Like Beagles!",1,"eBook","978-0-7660-4409-8",{"$f":"HYPERLINK(Table1[[#This Row],[Hyperlink]],\"Weblink\")","v":"Weblink"},"Enslow Publishing","2012","January 2012",null,"Author","Linda Bozzo","2.4",null,null,null,"H","710L","Grade K - 2","Grade K - 3","Beagles were born to hunt. They are friendly and playful dogs that make great pets. Readers learn how to care for their beagle. Readers will learn about grooming, feeding, vet checkups, and more. ","English",23.6,17.7,"636.753","24 pp.","https://www.enslow.com/books/I_Like_Beagles/1017",{"$f":"Table1[[#This Row],[QTY]]*Table1[[#This Row],['# of Books]]","v":0},{"$f":"Table1[[#This Row],[QTY]]*Table1[[#This Row],[School & Library Price]]","v":0}]
[null,null,null,"Discover Dogs with the American Canine Association","I Like Bernese Mountain Dogs!",1,"Library Bound Book","978-0-7660-8636-4",{"$f":"HYPERLINK(Table1[[#This Row],[Hyperlink]],\"Weblink\")","v":"Weblink"},"Enslow Publishing","2018","August 2017","8.500 X 7.125","Author","Linda Bozzo",null,null,null,null,"L",null,"Grade 1 - 2","Grade K - 3","Bernese mountain dogs are larger than life! These large dogs have sweet dispositions, despite their deep bark. Early readers will love learning how to take care of a Bernese mountain dog and discovering if the breed is right for their family. Full-color photos, quick facts, and easy-to-comprehend language help readers learn how to be responsible dog owners. A Words to Know section helps readers learn new vocabulary, while Further Reading encourages deeper learning.","English",22.6,16.95,"636.73--dc23","24 pp.","https://www.enslow.com/books/I_Like_Bernese_Mountain_Dogs/412707",{"$f":"Table1[[#This Row],[QTY]]*Table1[[#This Row],['# of Books]]","v":0},{"$f":"Table1[[#This Row],[QTY]]*Table1[[#This Row],[School & Library Price]]","v":0}]
[null,null,null,"Discover Dogs with the American Canine Association","I Like Boxers!",1,"eBook","978-0-7660-8639-5",{"$f":"HYPERLINK(Table1[[#This Row],[Hyperlink]],\"Weblink\")","v":"Weblink"},"Enslow Publishing","2018","August 2017",null,"Author","Linda Bozzo",null,null,null,null,"L",null,"Grade 1 - 2","Grade K - 3","Boxers are one of the most easy-to-love dog breeds. Their wrinkled faces and sweet temperaments help them to become great family pets. Young readers will love learning how to take care of a boxer and discovering if the breed is right for their family. Full-color photos, quick facts, and easy-to-comprehend language help readers learn how to be responsible dog owners. A Words to Know section helps readers learn new vocabulary, while Further Reading encourages deeper learning.","English",22.6,16.95,"636.73--dc23","24 pp.","https://www.enslow.com/books/I_Like_Boxers/412708",{"$f":"Table1[[#This Row],[QTY]]*Table1[[#This Row],['# of Books]]","v":0},{"$f":"Table1[[#This Row],[QTY]]*Table1[[#This Row],[School & Library Price]]","v":0}]
[null,null,null,"Discover Dogs with the American Canine Association","I Like Bulldogs!",1,"Library Bound Book","978-0-7660-7920-5",{"$f":"HYPERLINK(Table1[[#This Row],[Hyperlink]],\"Weblink\")","v":"Weblink"},"Enslow Publishing","2017","August 2016","8.500 X 7.125","Author","Linda Bozzo","3.3","0.5",null,null,"B",null,"Grade 1 - 2","Grade K - 3","Author Linda Bozzo and the American Canine Association provide young readers with accessible information and adorable full-color photos of English bulldogs. Students will learn whether a puppy or adult is right for them, what to feed it, and how to keep it clean and healthy. Words to Know help young readers learn new vocabulary and Read About Dogs encourages young canine enthusiasts to explore further.","English",22.6,16.95,"636.76--dc23","24 pp.","https://www.enslow.com/books/I_Like_Bulldogs/419213",{"$f":"Table1[[#This Row],[QTY]]*Table1[[#This Row],['# of Books]]","v":0},{"$f":"Table1[[#This Row],[QTY]]*Table1[[#This Row],[School & Library Price]]","v":0}]
[null,null,null,"Discover Dogs with the American Canine Association","I Like Chihuahuas!",1,"eBook","978-0-7660-7773-7",{"$f":"HYPERLINK(Table1[[#This Row],[Hyperlink]],\"Weblink\")","v":"Weblink"},"Enslow Publishing","2017","August 2016",null,"Author","Linda Bozzo","3","0.5",null,null,"B",null,"Grade 1 - 2","Grade K - 3","Young readers will learn all about the Chihuahua’s unique characteristics and needs with the help of author Linda Bozzo and the American Canine Association. Simple, informative text and full-color photos will show readers what to feed their tiny dog, how to groom it, and how to keep it healthy through exercise and play.","English",22.6,16.95,"636.76--dc23","24 pp.","https://www.enslow.com/books/I_Like_Chihuahuas/419228",{"$f":"Table1[[#This Row],[QTY]]*Table1[[#This Row],['# of Books]]","v":0},{"$f":"Table1[[#This Row],[QTY]]*Table1[[#This Row],[School & Library Price]]","v":0}]
[null,null,null,"Discover Dogs with the American Canine Association","I Like Cocker Spaniels!",1,"Library Bound Book","978-0-7660-9133-7",{"$f":"HYPERLINK(Table1[[#This Row],[Hyperlink]],\"Weblink\")","v":"Weblink"},"Enslow Publishing","2018","January 2018","8.500 X 7.125","Author","Linda Bozzo","3.2","0.5",null,null,"F",null,"Grade 1 - 2","Grade K - 3","Readers will learn all about the popular cocker spaniel breed and its needs with the help of author Linda Bozzo and the American Canine Association. Simple, informative text and full-color photographs will show readers what to feed their cocker spaniel, how to groom it, and how to keep it healthy through exercise and play. A Note to Parents addresses the importance of neutering and spaying, microchipping, checking to see if a dog license is required, and adopting from a shelter or rescue group. Also included are a Words to Know section and a Read About Dogs section with books and websites.","English",22.6,16.95,"636.752/4--dc23","24 pp.","https://www.enslow.com/books/I_Like_Cocker_Spaniels/421742",{"$f":"Table1[[#This Row],[QTY]]*Table1[[#This Row],['# of Books]]","v":0},{"$f":"Table1[[#This Row],[QTY]]*Table1[[#This Row],[School & Library Price]]","v":0}]
[null,null,null,"Discover Dogs with the American Canine Association","I Like Collies!",1,"eBook","978-0-7660-4407-4",{"$f":"HYPERLINK(Table1[[#This Row],[Hyperlink]],\"Weblink\")","v":"Weblink"},"Enslow Publishing","2012","January 2012",null,"Author","Linda Bozzo","2.5",null,null,null,"H",null,"Grade K - 2","Grade K - 3","Collies are friendly and smart dogs that make great pets. Some have short hair. Some have long hair, but they all need love. Readers learn how to care for their collie. Readers will learn about grooming, feeding, vet checkups, and more. ","English",23.6,17.7,"636.737","24 pp.","https://www.enslow.com/books/I_Like_Collies/1018",{"$f":"Table1[[#This Row],[QTY]]*Table1[[#This Row],['# of Books]]","v":0},{"$f":"Table1[[#This Row],[QTY]]*Table1[[#This Row],[School & Library Price]]","v":0}]
[null,null,null,"Discover Dogs with the American Canine Association","I Like Corgis!",1,"Library Bound Book","978-0-7660-9675-2",{"$f":"HYPERLINK(Table1[[#This Row],[Hyperlink]],\"Weblink\")","v":"Weblink"},"Enslow Publishing","2019","August 2018","8.500 X 7.125","Author","Linda Bozzo","3.4","0.5",null,null,"E",null,"Grade 1 - 2","Grade K - 3","Now famous for being the preferred pet of Queen Elizabeth II, the cute, short-legged corgi was originally bred to herd cattle, sheep, and horses. Readers will learn all about the corgi breed and its needs with the help of author Linda Bozzo and the American Canine Association. Simple, informative text and full-color photographs will show readers what to feed their dog, how to groom it, and how to keep it healthy through exercise and play. A Note to Parents addresses the importance of neutering and spaying, microchipping, checking to see if a dog license is required, and adopting from a shelter or rescue group. Also included are a Words to Know section and a Read About Dogs section with books and websites.","English",22.6,16.95,"636.737--dc23","24 pp.","https://www.enslow.com/books/I_Like_Corgis/421830",{"$f":"Table1[[#This Row],[QTY]]*Table1[[#This Row],['# of Books]]","v":0},{"$f":"Table1[[#This Row],[QTY]]*Table1[[#This Row],[School & Library Price]]","v":0}]
[null,null,null,"Discover Dogs with the American Canine Association","I Like Dachshunds!",1,"Library Bound Book","978-0-7660-8163-5",{"$f":"HYPERLINK(Table1[[#This Row],[Hyperlink]],\"Weblink\")","v":"Weblink"},"Enslow Publishing","2017","January 2017","8.500 X 7.125","Author","Linda Bozzo","3.2","0.5",null,null,"H",null,"Grade 1 - 2","Grade K - 3","Through simple yet informative text and full-color photos, author Linda Bozzo and the American Canine Association teach readers all about one of the most popular breeds of dog, the dachshund, including how to take care of one and what needs are specific to the breed. Also included are a Note to Parents that stresses the importance of spaying or neutering and microchipping pets, a Words to Know section to help young readers learn new vocabulary, and a Read About Dogs section to encourage further exploration.","English",22.6,16.95,"636.753/8--dc23","24 pp.","https://www.enslow.com/books/I_Like_Dachshunds/421597",{"$f":"Table1[[#This Row],[QTY]]*Table1[[#This Row],['# of Books]]","v":0},{"$f":"Table1[[#This Row],[QTY]]*Table1[[#This Row],[School & Library Price]]","v":0}]
[null,null,null,"Discover Dogs with the American Canine Association","I Like Dachshunds!",1,"eBook","978-0-7660-8164-2",{"$f":"HYPERLINK(Table1[[#This Row],[Hyperlink]],\"Weblink\")","v":"Weblink"},"Enslow Publishing","2017","January 2017",null,"Author","Linda Bozzo","3.2","0.5",null,null,"H",null,"Grade 1 - 2","Grade K - 3","Through simple yet informative text and full-color photos, author Linda Bozzo and the American Canine Association teach readers all about one of the most popular breeds of dog, the dachshund, including how to take care of one and what needs are specific to the breed. Also included are a Note to Parents that stresses the importance of spaying or neutering and microchipping pets, a Words to Know section to help young readers learn new vocabulary, and a Read About Dogs section to encourage further exploration.","English",22.6,16.95,"636.753/8--dc23","24 pp.","https://www.enslow.com/books/I_Like_Dachshunds/421597",{"$f":"Table1[[#This Row],[QTY]]*Table1[[#This Row],['# of Books]]","v":0},{"$f":"Table1[[#This Row],[QTY]]*Table1[[#This Row],[School & Library Price]]","v":0}]
[null,null,null,"Discover Dogs with the American Canine Association","I Like French Bulldogs!",1,"Library Bound Book","978-0-7660-8134-5",{"$f":"HYPERLINK(Table1[[#This Row],[Hyperlink]],\"Weblink\")","v":"Weblink"},"Enslow Publishing","2017","January 2017","8.500 X 7.125","Author","Linda Bozzo","3.1","0.5",null,null,"H",null,"Grade 1 - 2","Grade K - 3","Author Linda Bozzo and the American Canine Association provide young readers with accessible information, fun facts, and adorable full-color photos of French bulldogs. Students will learn whether a puppy or adult dog is right for them, what to feed it, and how to keep it clean and healthy. Also included are a Note to Parents that stresses the importance of spaying or neutering and microchipping pets, a Words to Know section to help young readers learn new vocabulary, and a Read About Dogs section to encourage further exploration.","English",22.6,16.95,"636.72--dc23","24 pp.","https://www.enslow.com/books/I_Like_French_Bulldogs/421596",{"$f":"Table1[[#This Row],[QTY]]*Table1[[#This Row],['# of Books]]","v":0},{"$f":"Table1[[#This Row],[QTY]]*Table1[[#This Row],[School & Library Price]]","v":0}]
[null,null,null,"Discover Dogs with the American Canine Association","I Like French Bulldogs!",1,"eBook","978-0-7660-8135-2",{"$f":"HYPERLINK(Table1[[#This Row],[Hyperlink]],\"Weblink\")","v":"Weblink"},"Enslow Publishing","2017","January 2017",null,"Author","Linda Bozzo","3.1","0.5",null,null,"H",null,"Grade 1 - 2","Grade K - 3","Author Linda Bozzo and the American Canine Association provide young readers with accessible information, fun facts, and adorable full-color photos of French bulldogs. Students will learn whether a puppy or adult dog is right for them, what to feed it, and how to keep it clean and healthy. Also included are a Note to Parents that stresses the importance of spaying or neutering and microchipping pets, a Words to Know section to help young readers learn new vocabulary, and a Read About Dogs section to encourage further exploration.","English",22.6,16.95,"636.72--dc23","24 pp.","https://www.enslow.com/books/I_Like_French_Bulldogs/421596",{"$f":"Table1[[#This Row],[QTY]]*Table1[[#This Row],['# of Books]]","v":0},{"$f":"Table1[[#This Row],[QTY]]*Table1[[#This Row],[School & Library Price]]","v":0}]
[null,null,null,"Discover Dogs with the American Canine Association","I Like Golden Retrievers!",1,"Library Bound Book","978-0-7660-7776-8",{"$f":"HYPERLINK(Table1[[#This Row],[Hyperlink]],\"Weblink\")","v":"Weblink"},"Enslow Publishing","2017","August 2016","8.500 X 7.125","Author","Linda Bozzo","3.3","0.5",null,null,"B",null,"Grade 1 - 2","Grade K - 3","Through simple yet informative text and full-color photos, author Linda Bozzo and the American Canine Association teach young readers all about one of the most popular breeds of dog, the golden retriever, including how to take care of one and what needs are specific to the breed.","English",22.6,16.95,"636.752/7--dc23","24 pp.","https://www.enslow.com/books/I_Like_Golden_Retrievers/419204",{"$f":"Table1[[#This Row],[QTY]]*Table1[[#This Row],['# of Books]]","v":0},{"$f":"Table1[[#This Row],[QTY]]*Table1[[#This Row],[School & Library Price]]","v":0}]
[null,null,null,"Discover Dogs with the American Canine Association","I Like Golden Retrievers!",1,"eBook","978-0-7660-7768-3",{"$f":"HYPERLINK(Table1[[#This Row],[Hyperlink]],\"Weblink\")","v":"Weblink"},"Enslow Publishing","2017","August 2016",null,"Author","Linda Bozzo","3.3","0.5",null,null,"B",null,"Grade 1 - 2","Grade K - 3","Through simple yet informative text and full-color photos, author Linda Bozzo and the American Canine Association teach young readers all about one of the most popular breeds of dog, the golden retriever, including how to take care of one and what needs are specific to the breed.","English",22.6,16.95,"636.752/7--dc23","24 pp.","https://www.enslow.com/books/I_Like_Golden_Retrievers/419204",{"$f":"Table1[[#This Row],[QTY]]*Table1[[#This Row],['# of Books]]","v":0},{"$f":"Table1[[#This Row],[QTY]]*Table1[[#This Row],[School & Library Price]]","v":0}]
[null,null,null,"Discover Dogs with the American Canine Association","I Like Greyhounds!",1,"Library Bound Book","978-0-7660-8640-1",{"$f":"HYPERLINK(Table1[[#This Row],[Hyperlink]],\"Weblink\")","v":"Weblink"},"Enslow Publishing","2018","August 2017","8.500 X 7.125","Author","Linda Bozzo",null,null,null,null,"L",null,"Grade 1 - 2","Grade K - 3","Greyhounds are some of the quickest dogs on the planet. But they’re also great household dogs. Young readers will love learning how to take care of a greyhound and discovering if the breed is right for their family. Full-color photos, quick facts, and easy-to-comprehend language help readers learn how to be responsible dog owners. A Words to Know section helps readers learn new vocabulary, while Further Reading encourages deeper learning.","English",22.6,16.95,"636.753/4--dc23","24 pp.","https://www.enslow.com/books/I_Like_Greyhounds/412709",{"$f":"Table1[[#This Row],[QTY]]*Table1[[#This Row],['# of Books]]","v":0},{"$f":"Table1[[#This Row],[QTY]]*Table1[[#This Row],[School & Library Price]]","v":0}]
[null,null,null,"Discover Dogs with the American Canine Association","I Like Greyhounds!",1,"eBook","978-0-7660-8641-8",{"$f":"HYPERLINK(Table1[[#This Row],[Hyperlink]],\"Weblink\")","v":"Weblink"},"Enslow Publishing","2018","August 2017",null,"Author","Linda Bozzo",null,null,null,null,"L",null,"Grade 1 - 2","Grade K - 3","Greyhounds are some of the quickest dogs on the planet. But they’re also great household dogs. Young readers will love learning how to take care of a greyhound and discovering if the breed is right for their family. Full-color photos, quick facts, and easy-to-comprehend language help readers learn how to be responsible dog owners. A Words to Know section helps readers learn new vocabulary, while Further Reading encourages deeper learning.","English",22.6,16.95,"636.753/4--dc23","24 pp.","https://www.enslow.com/books/I_Like_Greyhounds/412709",{"$f":"Table1[[#This Row],[QTY]]*Table1[[#This Row],['# of Books]]","v":0},{"$f":"Table1[[#This Row],[QTY]]*Table1[[#This Row],[School & Library Price]]","v":0}]
[null,null,null,"Discover Dogs with the American Canine Association","I Like Irish Wolfhounds!",1,"Library Bound Book","978-0-7660-8642-5",{"$f":"HYPERLINK(Table1[[#This Row],[Hyperlink]],\"Weblink\")","v":"Weblink"},"Enslow Publishing","2018","August 2017","8.500 X 7.125","Author","Linda Bozzo",null,null,null,null,"L",null,"Grade 1 - 2","Grade K - 3","Irish wolfhounds are some of the largest dogs on the planet. They are also one of the oldest breeds in history. Young readers will love learning how to take care of an Irish wolfhound and discovering if the breed is right for their family. Full-color photos, quick facts, and easy-to-comprehend language help readers learn how to be responsible dog owners. A Words to Know section helps readers learn new vocabulary, while Further Reading encourages deeper learning.","English",22.6,16.95,"636.753/5--dc23","24 pp.","https://www.enslow.com/books/I_Like_Irish_Wolfhounds/412710",{"$f":"Table1[[#This Row],[QTY]]*Table1[[#This Row],['# of Books]]","v":0},{"$f":"Table1[[#This Row],[QTY]]*Table1[[#This Row],[School & Library Price]]","v":0}]
[null,null,null,"Discover Dogs with the American Canine Association","I Like Irish Wolfhounds!",1,"eBook","978-0-7660-8643-2",{"$f":"HYPERLINK(Table1[[#This Row],[Hyperlink]],\"Weblink\")","v":"Weblink"},"Enslow Publishing","2018","August 2017",null,"Author","Linda Bozzo",null,null,null,null,"L",null,"Grade 1 - 2","Grade K - 3","Irish wolfhounds are some of the largest dogs on the planet. They are also one of the oldest breeds in history. Young readers will love learning how to take care of an Irish wolfhound and discovering if the breed is right for their family. Full-color photos, quick facts, and easy-to-comprehend language help readers learn how to be responsible dog owners. A Words to Know section helps readers learn new vocabulary, while Further Reading encourages deeper learning.","English",22.6,16.95,"636.753/5--dc23","24 pp.","https://www.enslow.com/books/I_Like_Irish_Wolfhounds/412710",{"$f":"Table1[[#This Row],[QTY]]*Table1[[#This Row],['# of Books]]","v":0},{"$f":"Table1[[#This Row],[QTY]]*Table1[[#This Row],[School & Library Price]]","v":0}]
[null,null,null,"Discover Dogs with the American Canine Association","I Like Jack Russell Terriers!",1,"eBook","978-0-7660-8645-6",{"$f":"HYPERLINK(Table1[[#This Row],[Hyperlink]],\"Weblink\")","v":"Weblink"},"Enslow Publishing","2018","August 2017",null,"Author","Linda Bozzo",null,null,null,null,"L",null,"Grade 1 - 2","Grade K - 3","Jack Russell terriers are some of the most energetic dogs out there. But they’re easy to love, and they make great family pets. Young readers will love learning how to take care of a Jack Russell and discovering if the breed is right for their family. Full-color photos, quick facts, and easy-to-comprehend language help readers learn how to be responsible dog owners. A Words to Know section helps readers learn new vocabulary, while Further Reading encourages deeper learning.","English",22.6,16.95,"636.755--dc23","24 pp.","https://www.enslow.com/books/I_Like_Jack_Russell_Terriers/412711",{"$f":"Table1[[#This Row],[QTY]]*Table1[[#This Row],['# of Books]]","v":0},{"$f":"Table1[[#This Row],[QTY]]*Table1[[#This Row],[School & Library Price]]","v":0}]
[null,null,null,"Discover Dogs with the American Canine Association","I Like Labradoodles!",1,"Library Bound Book","978-0-7660-8171-0",{"$f":"HYPERLINK(Table1[[#This Row],[Hyperlink]],\"Weblink\")","v":"Weblink"},"Enslow Publishing","2017","January 2017","8.500 X 7.125","Author","Linda Bozzo","2.8","0.5",null,null,"I",null,"Grade 1 - 2","Grade K - 3","Author Linda Bozzo and the American Canine Association provide readers with accessible information and adorable full-color photos of labradoodles. Students will learn whether a puppy or adult dog is right for them, what to feed it, and how to keep it clean and healthy. Also included are a Note to Parents that stresses the importance of spaying or neutering and microchipping pets, a Words to Know section to help young readers learn new vocabulary, and a Read About Dogs section to encourage further exploration.","English",22.6,16.95,"636.72/8--dc23","24 pp.","https://www.enslow.com/books/I_Like_Labradoodles/421594",{"$f":"Table1[[#This Row],[QTY]]*Table1[[#This Row],['# of Books]]","v":0},{"$f":"Table1[[#This Row],[QTY]]*Table1[[#This Row],[School & Library Price]]","v":0}]
[null,null,null,"Discover Dogs with the American Canine Association","I Like Labrador Retrievers!",1,"eBook","978-0-7660-4406-7",{"$f":"HYPERLINK(Table1[[#This Row],[Hyperlink]],\"Weblink\")","v":"Weblink"},"Enslow Publishing","2012","January 2012",null,"Author","Linda Bozzo","2.5",null,null,null,"H",null,"Grade K - 2","Grade K - 3","Labrador retrievers are friendly and full of energy. They like to work and play. They are easy to train. Many guide dogs are labs. Readers learn how to care for a Labrador retriever. Readers will learn about grooming, feeding, vet checkups, and more. ","English",23.6,17.7,"636.752","24 pp.","https://www.enslow.com/books/I_Like_Labrador_Retrievers/1020",{"$f":"Table1[[#This Row],[QTY]]*Table1[[#This Row],['# of Books]]","v":0},{"$f":"Table1[[#This Row],[QTY]]*Table1[[#This Row],[School & Library Price]]","v":0}]
[null,null,null,"Discover Dogs with the American Canine Association","I Like Malamutes!",1,"Library Bound Book","978-0-7660-9667-7",{"$f":"HYPERLINK(Table1[[#This Row],[Hyperlink]],\"Weblink\")","v":"Weblink"},"Enslow Publishing","2019","August 2018","8.500 X 7.125","Author","Linda Bozzo","3.1","0.5",null,null,"H",null,"Grade 1 - 2","Grade K - 3","The Alaskan malamute is one of the oldest breeds of Arctic sled dogs, built to pull heavy loads over long distances. Students will discover these fascinating facts and more as author Linda Bozzo and the American Canine Association teach readers all about malamutes, including how to take care of one and what needs are specific to the breed. Also included are a Note to Parents that stresses the importance of spaying or neutering and microchipping pets, a Words to Know section to help young readers learn new vocabulary, and a Read About Dogs section to encourage further exploration.","English",22.6,16.95,"636.73--dc23","24 pp.","https://www.enslow.com/books/I_Like_Malamutes/421828",{"$f":"Table1[[#This Row],[QTY]]*Table1[[#This Row],['# of Books]]","v":0},{"$f":"Table1[[#This Row],[QTY]]*Table1[[#This Row],[School & Library Price]]","v":0}]
[null,null,null,"Discover Dogs with the American Canine Association","I Like Mixed-Breed Dogs!",1,"eBook","978-0-7660-4408-1",{"$f":"HYPERLINK(Table1[[#This Row],[Hyperlink]],\"Weblink\")","v":"Weblink"},"Enslow Publishing","2012","January 2012",null,"Author","Linda Bozzo","2.6",null,null,null,"H",null,"Grade K - 2","Grade K - 3","Mixed-breed dogs are special pets. Each one is different, but they all need love. Readers learn how to care for a mixed-breed dog. Readers will learn about grooming, feeding, vet checkups, and more. ","English",23.6,17.7,"636.7","24 pp.","https://www.enslow.com/books/I_Like_Mixed_Breed_Dogs/1021",{"$f":"Table1[[#This Row],[QTY]]*Table1[[#This Row],['# of Books]]","v":0},{"$f":"Table1[[#This Row],[QTY]]*Table1[[#This Row],[School & Library Price]]","v":0}]
[null,null,null,"Discover Dogs with the American Canine Association","I Like Newfoundlands!",1,"Library Bound Book","978-0-7660-9137-5",{"$f":"HYPERLINK(Table1[[#This Row],[Hyperlink]],\"Weblink\")","v":"Weblink"},"Enslow Publishing","2018","January 2018","8.500 X 7.125","Author","Linda Bozzo","3.1","0.5",null,null,"G",null,"Grade 1 - 2","Grade K - 3","Approved by the American Canine Association, this book uses accessible text and adorable full-color photographs to teach students how to take care of a Newfoundland, including what to feed it, how to keep it clean and healthy, when it should be seen by a veterinarian, and any special considerations this large, thick-coated breed requires. A Note to Parents addresses the importance of neutering and spaying, microchipping, checking to see if a dog license is required, and adopting from a shelter or rescue group. Also, a Read About Dogs section directs students to books and websites with additional information.","English",22.6,16.95,"636.73--dc23","24 pp.","https://www.enslow.com/books/I_Like_Newfoundlands/421743",{"$f":"Table1[[#This Row],[QTY]]*Table1[[#This Row],['# of Books]]","v":0},{"$f":"Table1[[#This Row],[QTY]]*Table1[[#This Row],[School & Library Price]]","v":0}]
[null,null,null,"Discover Dogs with the American Canine Association","I Like Norwich Terriers!",1,"eBook","978-0-7660-9674-5",{"$f":"HYPERLINK(Table1[[#This Row],[Hyperlink]],\"Weblink\")","v":"Weblink"},"Enslow Publishing","2019","August 2018",null,"Author","Linda Bozzo","3.1","0.5",null,null,"F",null,"Grade 1 - 2","Grade K - 3","Norwich terriers were originally bred to hunt rats and foxes. Author Linda Bozzo and the American Canine Association provide young readers with accessible information, more fun facts, and adorable full-color photographs of this pointy-eared, stocky terrier. Students will learn whether a puppy or adult dog is right for them, what to feed it, and how to keep it clean and healthy. In addition, this book includes a Note to Parents that stresses the importance of spaying or neutering and microchipping pets, a Words to Know section to help young readers master new vocabulary, and a Read About Dogs section to encourage deeper exploration into the topic.","English",22.6,16.95,"636.755--dc23","24 pp.","https://www.enslow.com/books/I_Like_Norwich_Terriers/421829",{"$f":"Table1[[#This Row],[QTY]]*Table1[[#This Row],['# of Books]]","v":0},{"$f":"Table1[[#This Row],[QTY]]*Table1[[#This Row],[School & Library Price]]","v":0}]
[null,null,null,"Discover Dogs with the American Canine Association","I Like Pit Bulls!",1,"Library Bound Book","978-0-7660-8159-8",{"$f":"HYPERLINK(Table1[[#This Row],[Hyperlink]],\"Weblink\")","v":"Weblink"},"Enslow Publishing","2017","January 2017","8.500 X 7.125","Author","Linda Bozzo","3","0.5",null,null,"I",null,"Grade 1 - 2","Grade K - 3","Readers will learn all about the American pit bull terrier’s unique characteristics and needs with the help of author Linda Bozzo and the American Canine Association. Simple, informative text and full-color photos will show readers what to feed their pit bull, how to groom it, and how to keep it healthy through exercise and play. Also included are a Note to Parents that stresses the importance of spaying or neutering and microchipping pets, a Words to Know section to help young readers learn new vocabulary, and a Read About Dogs section to encourage further exploration.","English",22.6,16.95,"636.755/9--dc23","24 pp.","https://www.enslow.com/books/I_Like_Pit_Bulls/421592",{"$f":"Table1[[#This Row],[QTY]]*Table1[[#This Row],['# of Books]]","v":0},{"$f":"Table1[[#This Row],[QTY]]*Table1[[#This Row],[School & Library Price]]","v":0}]
[null,null,null,"Discover Dogs with the American Canine Association","I Like Poodles!",1,"eBook","978-0-7660-4404-3",{"$f":"HYPERLINK(Table1[[#This Row],[Hyperlink]],\"Weblink\")","v":"Weblink"},"Enslow Publishing","2012","January 2012",null,"Author","Linda Bozzo","2.7",null,null,null,"H","610L","Grade K - 2","Grade K - 3","Poodles make great pets. They are smart. You can train them to do tricks. They also love to play and swim. Readers learn how to care for their poodle. Readers will learn about grooming, feeding, vet checkups, and more. ","English",23.6,17.7,"636.72","24 pp.","https://www.enslow.com/books/I_Like_Poodles/1022",{"$f":"Table1[[#This Row],[QTY]]*Table1[[#This Row],['# of Books]]","v":0},{"$f":"Table1[[#This Row],[QTY]]*Table1[[#This Row],[School & Library Price]]","v":0}]
[null,null,null,"Discover Dogs with the American Canine Association","I Like Portuguese Water Dogs!",1,"Library Bound Book","978-0-7660-9117-7",{"$f":"HYPERLINK(Table1[[#This Row],[Hyperlink]],\"Weblink\")","v":"Weblink"},"Enslow Publishing","2018","January 2018","8.500 X 7.125","Author","Linda Bozzo","3.5","0.5",null,null,"I",null,"Grade 1 - 2","Grade K - 3","Filled with simple yet informative text, fast facts, and colorful photographs, this delightful text approved by the American Canine Association informs readers all about the care of Portuguese water dogs, from housing and exercise to diet and play, encouraging children to become responsible dog owners. In addition, a Note to Parents stresses the importance of spaying or neutering and microchipping pets, a Words to Know section helps young readers learn new vocabulary, and a Read About Dogs section with books and websites provides sources for further exploration of the subject.","English",22.6,16.95,"636.73--dc23","24 pp.","https://www.enslow.com/books/I_Like_Portuguese_Water_Dogs/421744",{"$f":"Table1[[#This Row],[QTY]]*Table1[[#This Row],['# of Books]]","v":0},{"$f":"Table1[[#This Row],[QTY]]*Table1[[#This Row],[School & Library Price]]","v":0}]
[null,null,null,"Discover Dogs with the American Canine Association","I Like Pugs!",1,"Library Bound Book","978-0-7660-7787-4",{"$f":"HYPERLINK(Table1[[#This Row],[Hyperlink]],\"Weblink\")","v":"Weblink"},"Enslow Publishing","2017","August 2016","8.500 X 7.125","Author","Linda Bozzo","3.1","0.5",null,null,"B",null,"Grade 1 - 2","Grade K - 3","Author Linda Bozzo and the American Canine Association provide young readers with accessible information, fun facts, and adorable full-color photographs of pugs. Students will learn whether a puppy or adult is right for them, what to feed it, and how to keep it clean and healthy. Words to Know help young readers learn new vocabulary and Read About Dogs encourages young dog lovers to learn more.","English",22.6,16.95,"636.76--dc23","24 pp.","https://www.enslow.com/books/I_Like_Pugs/419233",{"$f":"Table1[[#This Row],[QTY]]*Table1[[#This Row],['# of Books]]","v":0},{"$f":"Table1[[#This Row],[QTY]]*Table1[[#This Row],[School & Library Price]]","v":0}]
[null,null,null,"Discover Dogs with the American Canine Association","I Like Pugs!",1,"eBook","978-0-7660-7774-4",{"$f":"HYPERLINK(Table1[[#This Row],[Hyperlink]],\"Weblink\")","v":"Weblink"},"Enslow Publishing","2017","August 2016",null,"Author","Linda Bozzo","3.1","0.5",null,null,"B",null,"Grade 1 - 2","Grade K - 3","Author Linda Bozzo and the American Canine Association provide young readers with accessible information, fun facts, and adorable full-color photographs of pugs. Students will learn whether a puppy or adult is right for them, what to feed it, and how to keep it clean and healthy. Words to Know help young readers learn new vocabulary and Read About Dogs encourages young dog lovers to learn more.","English",22.6,16.95,"636.76--dc23","24 pp.","https://www.enslow.com/books/I_Like_Pugs/419233",{"$f":"Table1[[#This Row],[QTY]]*Table1[[#This Row],['# of Books]]","v":0},{"$f":"Table1[[#This Row],[QTY]]*Table1[[#This Row],[School & Library Price]]","v":0}]
[null,null,null,"Discover Dogs with the American Canine Association","I Like Shih Tzu!",1,"Library Bound Book","978-0-7660-9683-7",{"$f":"HYPERLINK(Table1[[#This Row],[Hyperlink]],\"Weblink\")","v":"Weblink"},"Enslow Publishing","2019","August 2018","8.500 X 7.125","Author","Linda Bozzo","2.9","0.5",null,null,"E",null,"Grade 1 - 2","Grade K - 3","Shih tzu means \"little lion,\" and this small, hairy dog was solely bred to be a pampered pet for the royal Chinese families during the Ming dynasty. Readers will delight in learning these fun facts and more through simple text and adorable full-color photographs. Furthermore, students will learn how to take care of a shih tzu, from housing and exercise to diet and play, encouraging readers to become responsible dog owners. A Note to Parents addresses the importance of neutering and spaying, microchipping, checking to see if a dog license is required, and adopting from a shelter or rescue group. This book has been vetted and approved by the American Canine Association.","English",22.6,16.95,"636.76--dc23","24 pp.","https://www.enslow.com/books/I_Like_Shih_Tzu/421832",{"$f":"Table1[[#This Row],[QTY]]*Table1[[#This Row],['# of Books]]","v":0},{"$f":"Table1[[#This Row],[QTY]]*Table1[[#This Row],[School & Library Price]]","v":0}]
[null,null,null,"Discover Dogs with the American Canine Association","I Like Shih Tzu!",1,"eBook","978-0-7660-9686-8",{"$f":"HYPERLINK(Table1[[#This Row],[Hyperlink]],\"Weblink\")","v":"Weblink"},"Enslow Publishing","2019","August 2018",null,"Author","Linda Bozzo","2.9","0.5",null,null,"E",null,"Grade 1 - 2","Grade K - 3","Shih tzu means \"little lion,\" and this small, hairy dog was solely bred to be a pampered pet for the royal Chinese families during the Ming dynasty. Readers will delight in learning these fun facts and more through simple text and adorable full-color photographs. Furthermore, students will learn how to take care of a shih tzu, from housing and exercise to diet and play, encouraging readers to become responsible dog owners. A Note to Parents addresses the importance of neutering and spaying, microchipping, checking to see if a dog license is required, and adopting from a shelter or rescue group. This book has been vetted and approved by the American Canine Association.","English",22.6,16.95,"636.76--dc23","24 pp.","https://www.enslow.com/books/I_Like_Shih_Tzu/421832",{"$f":"Table1[[#This Row],[QTY]]*Table1[[#This Row],['# of Books]]","v":0},{"$f":"Table1[[#This Row],[QTY]]*Table1[[#This Row],[School & Library Price]]","v":0}]
[null,null,null,"Discover Dogs with the American Canine Association","I Like Yorkshire Terriers!",1,"Library Bound Book","978-0-7660-8167-3",{"$f":"HYPERLINK(Table1[[#This Row],[Hyperlink]],\"Weblink\")","v":"Weblink"},"Enslow Publishing","2017","January 2017","8.500 X 7.125","Author","Linda Bozzo","3","0.5",null,null,"H",null,"Grade 1 - 2","Grade K - 3","Readers will learn all about the Yorkshire terrier’s unique characteristics and needs with the help of author Linda Bozzo and the American Canine Association. Simple, informative text and full-color photos will show readers what to feed their small dog, how to groom it, and how to keep it healthy through exercise and play. Also included are a Note to Parents that stresses the importance of spaying or neutering and microchipping pets, a Words to Know section to help young readers learn new vocabulary, and a Read About Dogs section to encourage further exploration.","English",22.6,16.95,"636.76--dc23","24 pp.","https://www.enslow.com/books/I_Like_Yorkshire_Terriers/421595",{"$f":"Table1[[#This Row],[QTY]]*Table1[[#This Row],['# of Books]]","v":0},{"$f":"Table1[[#This Row],[QTY]]*Table1[[#This Row],[School & Library Price]]","v":0}]
[null,null,null,"Discover Dogs with the American Canine Association","I Like Yorkshire Terriers!",1,"eBook","978-0-7660-8168-0",{"$f":"HYPERLINK(Table1[[#This Row],[Hyperlink]],\"Weblink\")","v":"Weblink"},"Enslow Publishing","2017","January 2017",null,"Author","Linda Bozzo","3","0.5",null,null,"H",null,"Grade 1 - 2","Grade K - 3","Readers will learn all about the Yorkshire terrier’s unique characteristics and needs with the help of author Linda Bozzo and the American Canine Association. Simple, informative text and full-color photos will show readers what to feed their small dog, how to groom it, and how to keep it healthy through exercise and play. Also included are a Note to Parents that stresses the importance of spaying or neutering and microchipping pets, a Words to Know section to help young readers learn new vocabulary, and a Read About Dogs section to encourage further exploration.","English",22.6,16.95,"636.76--dc23","24 pp.","https://www.enslow.com/books/I_Like_Yorkshire_Terriers/421595",{"$f":"Table1[[#This Row],[QTY]]*Table1[[#This Row],['# of Books]]","v":0},{"$f":"Table1[[#This Row],[QTY]]*Table1[[#This Row],[School & Library Price]]","v":0}]
[null,null,null,"Drawing Our States","Drawing California's Sights and Symbols",1,"eBook","978-1-9785-0315-1",{"$f":"HYPERLINK(Table1[[#This Row],[Hyperlink]],\"Weblink\")","v":"Weblink"},"Enslow Publishing","2019","January 2019",null,"Author","Elissa Thompson",null,null,null,null,"M",null,"Grade 3","Grade 2 - 5","Your readers will get to know the great state of California. More people live in this state than any other in the U.S., and it is full of amazing industries, like farming, computers, entertainment, and natural wonders, like the redwoods and beautiful national parks. From the gold rush to the Spanish missions, California is a state steeped in exciting history. Readers will learn how to draw the Pacific Ocean-lined coastline, the Grizzly Bear state flag and more as we travel the third largest state in the nation.","English",25.27,18.95,"741.2--dc23","32 pp.","https://www.enslow.com/books/Drawing_Californias_Sights_and_Symbols/4712",{"$f":"Table1[[#This Row],[QTY]]*Table1[[#This Row],['# of Books]]","v":0},{"$f":"Table1[[#This Row],[QTY]]*Table1[[#This Row],[School & Library Price]]","v":0}]
[null,null,null,"Drawing Our States","Drawing Florida's Sights and Symbols",1,"Library Bound Book","978-1-9785-0317-5",{"$f":"HYPERLINK(Table1[[#This Row],[Hyperlink]],\"Weblink\")","v":"Weblink"},"Enslow Publishing","2019","January 2019","7.125 X 8.500","Author","Elissa Thompson",null,null,null,null,"L",null,"Grade 3","Grade 2 - 5","Welcome to sunny Florida. This state is home to many amazing sites, including the giant and wild Everglades, fragrant orange groves, and of course, the amazing Walt Disney World. Florida has a rich history, and in this book readers will learn about the different countries that tried to claim the state for their own. They'll meet the Seminoles, Native Americans who still call Florida home today. Surrounded by thousands of miles of coastline, Florida has a natural beauty that its millions of residents love to enjoy each day.","English",25.27,18.95,"741.09759--dc23","32 pp.","https://www.enslow.com/books/Drawing_Floridas_Sights_and_Symbols/4713",{"$f":"Table1[[#This Row],[QTY]]*Table1[[#This Row],['# of Books]]","v":0},{"$f":"Table1[[#This Row],[QTY]]*Table1[[#This Row],[School & Library Price]]","v":0}]
[null,null,null,"Drawing Our States","Drawing Illinois's Sights and Symbols",1,"eBook","978-1-9785-0376-2",{"$f":"HYPERLINK(Table1[[#This Row],[Hyperlink]],\"Weblink\")","v":"Weblink"},"Enslow Publishing","2019","January 2019",null,"Author","Elissa Thompson",null,null,null,null,"N",null,"Grade 3","Grade 2 - 5","Illinois has so much history, the French and British both had settlements here before Illinois became an American state. Illinois has a rich Native American background, and famous U.S. president Abraham Lincoln lived there. This Midwestern state is home to the third largest city in the nation, Chicago. Chicago has one of the tallest buildings in the world, great sports teams, amazing museums, and more. Your readers will draw the sights of Illinois and experience this amazing state.","English",25.27,18.95,"741.09773--dc23","32 pp.","https://www.enslow.com/books/Drawing_Illinoiss_Sights_and_Symbols/4714",{"$f":"Table1[[#This Row],[QTY]]*Table1[[#This Row],['# of Books]]","v":0},{"$f":"Table1[[#This Row],[QTY]]*Table1[[#This Row],[School & Library Price]]","v":0}]
[null,null,null,"Drawing Our States","Drawing New York's Sights and Symbols",1,"Library Bound Book","978-1-9785-0321-2",{"$f":"HYPERLINK(Table1[[#This Row],[Hyperlink]],\"Weblink\")","v":"Weblink"},"Enslow Publishing","2019","January 2019","7.125 X 8.500","Author","Elissa Thompson",null,null,null,null,"L",null,"Grade 3","Grade 2 - 5","This amazing state is home to the majestic Niagara Falls, the stately Statue of Liberty and one of the biggest cities in the world. Readers will draw this state's symbols and learn all about New York's history. From the Dutch settlers to George Washington's inauguration, a lot has happened in the Empire state. Your readers will be exclaiming \"I love New York!\" before you know it.","English",25.27,18.95,"741.09747--dc23","32 pp.","https://www.enslow.com/books/Drawing_New_Yorks_Sights_and_Symbols/4716",{"$f":"Table1[[#This Row],[QTY]]*Table1[[#This Row],['# of Books]]","v":0},{"$f":"Table1[[#This Row],[QTY]]*Table1[[#This Row],[School & Library Price]]","v":0}]
[null,null,null,"Drawing Our States","Drawing North Carolina's Sights and Symbols",1,"Library Bound Book","978-1-9785-0322-9",{"$f":"HYPERLINK(Table1[[#This Row],[Hyperlink]],\"Weblink\")","v":"Weblink"},"Enslow Publishing","2019","January 2019","7.125 X 8.500","Author","Elissa Thompson",null,null,null,null,"M",null,"Grade 3","Grade 2 - 5","Full of history and modern-day industry, North Carolina is a state that has a rich past a vibrant future. Readers will learn all about the Tar Heel state's role in both the Revolutionary War and the Civil War. They'll visit and draw the tallest light house in the country, and travel and sketch the beaches, mountains, and towns that make up this shoreline state. Readers will draw and discover what makes this state great, and learn along the way too.","English",25.27,18.95,"741.09756--dc23","32 pp.","https://www.enslow.com/books/Drawing_North_Carolinas_Sights_and_Symbols/4717",{"$f":"Table1[[#This Row],[QTY]]*Table1[[#This Row],['# of Books]]","v":0},{"$f":"Table1[[#This Row],[QTY]]*Table1[[#This Row],[School & Library Price]]","v":0}]
[null,null,null,"Drawing Our States","Drawing North Carolina's Sights and Symbols",1,"eBook","978-1-9785-0380-9",{"$f":"HYPERLINK(Table1[[#This Row],[Hyperlink]],\"Weblink\")","v":"Weblink"},"Enslow Publishing","2019","January 2019",null,"Author","Elissa Thompson",null,null,null,null,"M",null,"Grade 3","Grade 2 - 5","Full of history and modern-day industry, North Carolina is a state that has a rich past a vibrant future. Readers will learn all about the Tar Heel state's role in both the Revolutionary War and the Civil War. They'll visit and draw the tallest light house in the country, and travel and sketch the beaches, mountains, and towns that make up this shoreline state. Readers will draw and discover what makes this state great, and learn along the way too.","English",25.27,18.95,"741.09756--dc23","32 pp.","https://www.enslow.com/books/Drawing_North_Carolinas_Sights_and_Symbols/4717",{"$f":"Table1[[#This Row],[QTY]]*Table1[[#This Row],['# of Books]]","v":0},{"$f":"Table1[[#This Row],[QTY]]*Table1[[#This Row],[School & Library Price]]","v":0}]
[null,null,null,"Drawing Our States","Drawing South Carolina's Sights and Symbols",1,"Library Bound Book","978-1-9785-0319-9",{"$f":"HYPERLINK(Table1[[#This Row],[Hyperlink]],\"Weblink\")","v":"Weblink"},"Enslow Publishing","2019","January 2019","7.125 X 8.500","Author","Elissa Thompson",null,null,null,null,"N",null,"Grade 3","Grade 2 - 5","Readers will visit beautiful and historic South Carolina! With its miles upon miles of beautiful beaches and many sea islands, South Carolina is full of natural beauty. Readers learn about the Palmetto State's rich history, and how South Carolina played a big role in both the Revolutionary War and the Civil War. They'll draw their way through South Carolina's famous symbols, including its seal and flag, as they learn all about this southeastern state.","English",25.27,18.95,"741.09757--dc23","32 pp.","https://www.enslow.com/books/Drawing_South_Carolinas_Sights_and_Symbols/4715",{"$f":"Table1[[#This Row],[QTY]]*Table1[[#This Row],['# of Books]]","v":0},{"$f":"Table1[[#This Row],[QTY]]*Table1[[#This Row],[School & Library Price]]","v":0}]
[null,null,null,"Drawing Our States","Drawing South Carolina's Sights and Symbols",1,"eBook","978-1-9785-0377-9",{"$f":"HYPERLINK(Table1[[#This Row],[Hyperlink]],\"Weblink\")","v":"Weblink"},"Enslow Publishing","2019","January 2019",null,"Author","Elissa Thompson",null,null,null,null,"N",null,"Grade 3","Grade 2 - 5","Readers will visit beautiful and historic South Carolina! With its miles upon miles of beautiful beaches and many sea islands, South Carolina is full of natural beauty. Readers learn about the Palmetto State's rich history, and how South Carolina played a big role in both the Revolutionary War and the Civil War. They'll draw their way through South Carolina's famous symbols, including its seal and flag, as they learn all about this southeastern state.","English",25.27,18.95,"741.09757--dc23","32 pp.","https://www.enslow.com/books/Drawing_South_Carolinas_Sights_and_Symbols/4715",{"$f":"Table1[[#This Row],[QTY]]*Table1[[#This Row],['# of Books]]","v":0},{"$f":"Table1[[#This Row],[QTY]]*Table1[[#This Row],[School & Library Price]]","v":0}]
[null,null,null,"Drawing Our States","Drawing Texas's Sights and Symbols",1,"Library Bound Book","978-1-9785-0325-0",{"$f":"HYPERLINK(Table1[[#This Row],[Hyperlink]],\"Weblink\")","v":"Weblink"},"Enslow Publishing","2019","January 2019","7.125 X 8.500","Author","Elissa Thompson",null,null,null,null,"L",null,"Grade 3","Grade 2 - 5","Welcome readers to the great state of Texas. The second largest state in the country, with the largest capitol building, there's so much to learn about the Lone Star State. From its rich Native American history, to the Mexican-American War, much has happened in Texas, and that's even before this book gets to the Wild West. Budding artists will draw and learn the sights and symbols of this amazing state, from the Bluebonnet state flower to the Alamo.","English",25.27,18.95,"741.09764--dc23","32 pp.","https://www.enslow.com/books/Drawing_Texass_Sights_and_Symbols/4720",{"$f":"Table1[[#This Row],[QTY]]*Table1[[#This Row],['# of Books]]","v":0},{"$f":"Table1[[#This Row],[QTY]]*Table1[[#This Row],[School & Library Price]]","v":0}]
[null,null,null,"Drawing Our States","Drawing Texas's Sights and Symbols",1,"eBook","978-1-9785-0383-0",{"$f":"HYPERLINK(Table1[[#This Row],[Hyperlink]],\"Weblink\")","v":"Weblink"},"Enslow Publishing","2019","January 2019",null,"Author","Elissa Thompson",null,null,null,null,"L",null,"Grade 3","Grade 2 - 5","Welcome readers to the great state of Texas. The second largest state in the country, with the largest capitol building, there's so much to learn about the Lone Star State. From its rich Native American history, to the Mexican-American War, much has happened in Texas, and that's even before this book gets to the Wild West. Budding artists will draw and learn the sights and symbols of this amazing state, from the Bluebonnet state flower to the Alamo.","English",25.27,18.95,"741.09764--dc23","32 pp.","https://www.enslow.com/books/Drawing_Texass_Sights_and_Symbols/4720",{"$f":"Table1[[#This Row],[QTY]]*Table1[[#This Row],['# of Books]]","v":0},{"$f":"Table1[[#This Row],[QTY]]*Table1[[#This Row],[School & Library Price]]","v":0}]
[null,null,null,"Kids Love Crafts","Kids Love Animal Crafts",1,"eBook","978-1-9785-0276-5",{"$f":"HYPERLINK(Table1[[#This Row],[Hyperlink]],\"Weblink\")","v":"Weblink"},"Enslow Publishing","2019","January 2019",null,"Author, Author","Joanna Ponto, Faith K. Gabriel",null,null,null,null,"L",null,"Grade 3","Grade 3 - 5","Ten fun, creative projects provide students with a hands-on way to learn about animals. Accompanied by colorful images and patterns that are easy to reproduce using a copier or printer, accessible step-by-step directions instruct students how to make such unique crafts as a flying bird ornament, a giraffe statue out of aluminum foil, and a butterfly hand fan using inexpensive materials found at home or in the classroom. A Learn More section with current books and websites encourage further exploration into the animal kingdom.","English",25.27,18.95,"745.5--dc23","32 pp.","https://www.enslow.com/books/Kids_Love_Animal_Crafts/4698",{"$f":"Table1[[#This Row],[QTY]]*Table1[[#This Row],['# of Books]]","v":0},{"$f":"Table1[[#This Row],[QTY]]*Table1[[#This Row],[School & Library Price]]","v":0}]
[null,null,null,"Kids Love Crafts","Kids Love Art Crafts",1,"Library Bound Book","978-1-9785-0197-3",{"$f":"HYPERLINK(Table1[[#This Row],[Hyperlink]],\"Weblink\")","v":"Weblink"},"Enslow Publishing","2019","January 2019","7.125 X 8.500","Author, Author","Joanna Ponto, Heather Miller",null,null,null,null,"K",null,"Grade 3","Grade 3 - 5","Students will learn about ancient Egypt, prehistoric France, and second-century China as they create a pyramid paperweight, a cave painting place mat, and a window decoration out of homemade paper from items they can find around their home. This delightful, creative introduction into the world of art, both ancient and modern, also discusses the cultural significance of such iconic figures as Andy Warhol, Jackson Pollock, and Georges-Pierre Seurat. In addition to the ten projects, this book also includes patterns that are easy to reproduce using a copier or printer.","English",25.27,18.95,"745.5---dc23","32 pp.","https://www.enslow.com/books/Kids_Love_Art_Crafts/4699",{"$f":"Table1[[#This Row],[QTY]]*Table1[[#This Row],['# of Books]]","v":0},{"$f":"Table1[[#This Row],[QTY]]*Table1[[#This Row],[School & Library Price]]","v":0}]
[null,null,null,"Kids Love Crafts","Kids Love Math Crafts",1,"eBook","978-1-9785-0282-6",{"$f":"HYPERLINK(Table1[[#This Row],[Hyperlink]],\"Weblink\")","v":"Weblink"},"Enslow Publishing","2019","January 2019",null,"Author, Author","Joanna Ponto, Michele C. Hollow",null,null,null,null,"M",null,"Grade 3","Grade 3 - 5","Math is the only language shared by all human beings across the globe. Students will practice their math skills, including addition, subtraction, and fractions, as they cut, fold, measure, and draw. They will create a piggy bank to keep track of their money, learn Roman numerals to send a secret message, and see how different shapes can fit together to make a stegosaurus shadow puppet. In addition to the ten projects, patterns that are easy to reproduce using a copier or printer are provided as well as a Learn More section with current books and websites.","English",25.27,18.95,"745.5--dc23","32 pp.","https://www.enslow.com/books/Kids_Love_Math_Crafts/4700",{"$f":"Table1[[#This Row],[QTY]]*Table1[[#This Row],['# of Books]]","v":0},{"$f":"Table1[[#This Row],[QTY]]*Table1[[#This Row],[School & Library Price]]","v":0}]
[null,null,null,"Kids Love Crafts","Kids Love Music Crafts",1,"Library Bound Book","978-1-9785-0199-7",{"$f":"HYPERLINK(Table1[[#This Row],[Hyperlink]],\"Weblink\")","v":"Weblink"},"Enslow Publishing","2019","January 2019","7.125 X 8.500","Author, Author","Joanna Ponto, Felicia Lowenstein Niven",null,null,null,null,"L",null,"Grade 3","Grade 3 - 5","Humans created musical instruments long before they created a written language. Even birds and monkeys make music. Students will learn these facts and more as they explore the sights and sounds of the world of music. Accompanied by colorful images and patterns that are easy to reproduce using a copier or printer, accessible step-by-step directions instruct students how to make panpipes, a colonial drum, maracas, a ukulele, and six other unique instruments. Brief descriptions of each item's history and cultural significance open each spread.","English",25.27,18.95,"372.87--dc23","32 pp.","https://www.enslow.com/books/Kids_Love_Music_Crafts/4701",{"$f":"Table1[[#This Row],[QTY]]*Table1[[#This Row],['# of Books]]","v":0},{"$f":"Table1[[#This Row],[QTY]]*Table1[[#This Row],[School & Library Price]]","v":0}]
[null,null,null,"Kids Love Crafts","Kids Love Space Crafts",1,"Library Bound Book","978-1-9785-0200-0",{"$f":"HYPERLINK(Table1[[#This Row],[Hyperlink]],\"Weblink\")","v":"Weblink"},"Enslow Publishing","2019","January 2019","7.125 X 8.500","Author, Author","Joanna Ponto, P. M. Boekhoff",null,null,null,null,"L",null,"Grade 3","Grade 3 - 5","Students will explore the planets, stars, moon, and other celestial bodies as they create ten astronomy-related projects, including a mobile depicting the lunar phases, a watercolor painting of the Great Bear constellation, and a North Star finder. Simple step-by-step directions accompanied by images let students learn about the science of space as they build the essential skills of investigation, planning, and making projects. This craftbook also provides patterns that are easy to reproduce using a copier or printer as well as a Learn More section with current books and websites to encourage further study.","English",25.27,18.95,"745.59--dc23","32 pp.","https://www.enslow.com/books/Kids_Love_Space_Crafts/4702",{"$f":"Table1[[#This Row],[QTY]]*Table1[[#This Row],['# of Books]]","v":0},{"$f":"Table1[[#This Row],[QTY]]*Table1[[#This Row],[School & Library Price]]","v":0}]
[null,null,null,"Kids Love Crafts","Kids Love Space Crafts",1,"eBook","978-1-9785-0287-1",{"$f":"HYPERLINK(Table1[[#This Row],[Hyperlink]],\"Weblink\")","v":"Weblink"},"Enslow Publishing","2019","January 2019",null,"Author, Author","Joanna Ponto, P. M. Boekhoff",null,null,null,null,"L",null,"Grade 3","Grade 3 - 5","Students will explore the planets, stars, moon, and other celestial bodies as they create ten astronomy-related projects, including a mobile depicting the lunar phases, a watercolor painting of the Great Bear constellation, and a North Star finder. Simple step-by-step directions accompanied by images let students learn about the science of space as they build the essential skills of investigation, planning, and making projects. This craftbook also provides patterns that are easy to reproduce using a copier or printer as well as a Learn More section with current books and websites to encourage further study.","English",25.27,18.95,"745.59--dc23","32 pp.","https://www.enslow.com/books/Kids_Love_Space_Crafts/4702",{"$f":"Table1[[#This Row],[QTY]]*Table1[[#This Row],['# of Books]]","v":0},{"$f":"Table1[[#This Row],[QTY]]*Table1[[#This Row],[School & Library Price]]","v":0}]
[null,null,null,"Cooking Skills","Cooking Skills",6,"Library Set","978-1-9785-0689-3",{"$f":"HYPERLINK(Table1[[#This Row],[Hyperlink]],\"Weblink\")","v":"Weblink"},"Enslow Publishing","2019","January 2019","7.250 X 9.250",null,null,null,null,null,null,null,null,"Grade 5","Grade 5 - 8","This fun series allows students to step into the kitchen and, with practice, become the head chef of their families. From the first steps of planning a meal and heading to the grocery store to the final execution of plating their meals, these books take readers through the cooking process from beginning to end. Students will find a general introduction into the world of food, learn how to read recipes, understand measurements and oven temperatures, and receive sample recipes to try at home. Features include: Supplies students with the knowledge they need in order to make healthy meals in a safe manner and provides actual recipes to be practiced. Engaging narratives that make cooking fun and exciting, challenging the idea that cooking is a chore. Tips and tricks to switch up the recipes included, allowing readers to continue exploring with cooking on their own and promoting the start of independence. Supports nationwide health initiatives.","English",167.58,125.7,null,"48 pp.","https://www.enslow.com/series/Cooking_Skills/533",{"$f":"Table1[[#This Row],[QTY]]*Table1[[#This Row],['# of Books]]","v":0},{"$f":"Table1[[#This Row],[QTY]]*Table1[[#This Row],[School & Library Price]]","v":0}]
[null,null,null,"Cooking Skills","Classic Recipes",1,"Library Bound Book","978-1-9785-0636-7",{"$f":"HYPERLINK(Table1[[#This Row],[Hyperlink]],\"Weblink\")","v":"Weblink"},"Enslow Publishing","2019","January 2019","7.250 X 9.250","Author","Claudia Martin",null,null,null,null,"S",null,"Grade 5","Grade 5 - 8","Food is a central part of culture and lifestyle. Readers will learn how to make some traditional favorites, like popular breakfast omelets and the hamburgers many of us eat on July 4th. Important information on safe cooking and healthy eating accompanies the twelve recipes that fill these pages, along with background about the meals featured, tips from chefs, and ideas for how to mix up a classic recipe. Let's get cooking!","English",27.93,20.95,"641.5--dc23","48 pp.","https://www.enslow.com/books/Classic_Recipes/4770",{"$f":"Table1[[#This Row],[QTY]]*Table1[[#This Row],['# of Books]]","v":0},{"$f":"Table1[[#This Row],[QTY]]*Table1[[#This Row],[School & Library Price]]","v":0}]
[null,null,null,"Cooking Skills","Drinks and Desserts",1,"eBook","978-1-9785-0631-2",{"$f":"HYPERLINK(Table1[[#This Row],[Hyperlink]],\"Weblink\")","v":"Weblink"},"Enslow Publishing","2019","January 2019",null,"Author","Claudia Martin",null,null,null,null,"U","1060L","Grade 5","Grade 5 - 8","In addition to meals and snacks, drinks and desserts are a big part of our diet. Many of us have orange juice with breakfast or cake on our birthdays. Do you know you can add carrot and ginger to your orange juice and it becomes an orange zinger? Did you know that rather than a whopping piece of sugary cake, a mini cheesecake is just as scrumptious? Young readers learn how to make both of these recipes and much more. This book teaches budding chefs how to add dessert into their lives so that some of the tastier things in life can be enjoyed, without over-doing it.","English",27.93,20.95,"615.3'99--dc23","48 pp.","https://www.enslow.com/books/Drinks_and_Desserts/4771",{"$f":"Table1[[#This Row],[QTY]]*Table1[[#This Row],['# of Books]]","v":0},{"$f":"Table1[[#This Row],[QTY]]*Table1[[#This Row],[School & Library Price]]","v":0}]
[null,null,null,"Cooking Skills","Healthy Snacks",1,"Library Bound Book","978-1-9785-0638-1",{"$f":"HYPERLINK(Table1[[#This Row],[Hyperlink]],\"Weblink\")","v":"Weblink"},"Enslow Publishing","2019","January 2019","7.250 X 9.250","Author","Claudia Martin",null,null,null,null,"U",null,"Grade 5","Grade 5 - 8","When we think about food, we usually think of three meals: breakfast, lunch, and dinner. What about those yummy afterschool snacks? Readers will learn about the importance of snacks: they aren't just tasty treats to look forward to, but they also help keep us full and satisfied so our blood sugar levels remain level and our metabolism keeps working. From green pancakes to carrot muffins, this book provides students with new and delicious snack ideas.","English",27.93,20.95,"642--dc23","48 pp.","https://www.enslow.com/books/Healthy_Snacks/4772",{"$f":"Table1[[#This Row],[QTY]]*Table1[[#This Row],['# of Books]]","v":0},{"$f":"Table1[[#This Row],[QTY]]*Table1[[#This Row],[School & Library Price]]","v":0}]
[null,null,null,"Cooking Skills","Party Food",1,"eBook","978-1-9785-0633-6",{"$f":"HYPERLINK(Table1[[#This Row],[Hyperlink]],\"Weblink\")","v":"Weblink"},"Enslow Publishing","2019","January 2019",null,"Author","Claudia Martin",null,null,null,null,"T",null,"Grade 5","Grade 5 - 8","Throwing a party can be tough; what will we serve the guests? With this book in hand, readers learn how to prepare a variety of fun snacks that all of their guests will be able to enjoy, even those with dietary restrictions. Say goodbye to grocery-store-brand pretzels and chips and make way for special treats like caramel popcorn and baked nachos. These delicious bites are sure to leave party guests asking for more.","English",27.93,20.95,"641.5--dc23","48 pp.","https://www.enslow.com/books/Party_Food/4773",{"$f":"Table1[[#This Row],[QTY]]*Table1[[#This Row],['# of Books]]","v":0},{"$f":"Table1[[#This Row],[QTY]]*Table1[[#This Row],[School & Library Price]]","v":0}]
[null,null,null,"Cooking Skills","Pizza and Pasta",1,"Library Bound Book","978-1-9785-0640-4",{"$f":"HYPERLINK(Table1[[#This Row],[Hyperlink]],\"Weblink\")","v":"Weblink"},"Enslow Publishing","2019","January 2019","7.250 X 9.250","Author","Claudia Martin",null,null,null,null,"S",null,"Grade 5","Grade 5 - 8","From the long, thin strands of spaghetti and the fat ribbons of tagliatelle to the short, spiral-shaped pieces of fusilli, ravenous readers learn all about Italian cuisine. Later on, they will put their knowledge to use with the sample recipes included in this book. After learning about pasta, they'll explore the world of pizza: an Italian dish and a popular American comfort food. Equipped with new skills and ideas for the kitchen, readers will be able to prepare their favorite dishes in no time. Buon appetito.","English",27.93,20.95,"641.82'48--dc23","48 pp.","https://www.enslow.com/books/Pizza_and_Pasta/4774",{"$f":"Table1[[#This Row],[QTY]]*Table1[[#This Row],['# of Books]]","v":0},{"$f":"Table1[[#This Row],[QTY]]*Table1[[#This Row],[School & Library Price]]","v":0}]
[null,null,null,"Cooking Skills","Vegetarian Food",1,"eBook","978-1-9785-0635-0",{"$f":"HYPERLINK(Table1[[#This Row],[Hyperlink]],\"Weblink\")","v":"Weblink"},"Enslow Publishing","2019","January 2019",null,"Author","Claudia Martin",null,null,null,null,"V","1030L","Grade 5","Grade 5 - 8","Cooking a meat-free meal doesn't have to be complicated. In fact, it often provides opportunities to try things we may otherwise never have eaten. Readers will learn about tofu and tabbouleh, and all sorts of other fun ingredients and dishes that do not involve meat. Readers learn how to cook for a vegetarian, and learn tips for how to get enough protein into each dish. This book offers creative ideas for meat substitutes and resources for vegan options as well.","English",27.93,20.95,"641.5'636--dc23","48 pp.","https://www.enslow.com/books/Vegetarian_Food/4775",{"$f":"Table1[[#This Row],[QTY]]*Table1[[#This Row],['# of Books]]","v":0},{"$f":"Table1[[#This Row],[QTY]]*Table1[[#This Row],[School & Library Price]]","v":0}]
[null,null,null,"Science Explorers","Science Explorers",6,"Library Set","978-1-9785-0690-9",{"$f":"HYPERLINK(Table1[[#This Row],[Hyperlink]],\"Weblink\")","v":"Weblink"},"Enslow Publishing","2019","January 2019","8.500 X 11.00",null,null,null,null,null,null,null,null,"Grade 3","Grade 2 - 5","In this series, students will travel from Earth to the moon, from the times of Isaac Newton to Albert Einstein, from the thoughts in their brains to the feelings in their hearts, and much more. With Science Explorers leading them along the way, readers will receive an introduction to astronomy, physics, biology, chemistry, evolution, and technology, some of the most important foundations on which our scientific knowledge rests today. This age-appropriate series is sure to spark curiosity and interest and encourage students to become explorers of their own. Features include: Provides students with a strong scientific footing on which to continue building their knowledge. Parallels the Matter and its Interactions dimension of the Next Generation Science Standards for understanding different types of matter and their distinct properties and structures. Encourages students to observe the world around them through a scientific lens.","English",151.62,113.7,null,"32 pp.","https://www.enslow.com/series/Science_Explorers/543",{"$f":"Table1[[#This Row],[QTY]]*Table1[[#This Row],['# of Books]]","v":0},{"$f":"Table1[[#This Row],[QTY]]*Table1[[#This Row],[School & Library Price]]","v":0}]
[null,null,null,"Science Explorers","Earth and Space",1,"eBook","978-1-9785-0649-7",{"$f":"HYPERLINK(Table1[[#This Row],[Hyperlink]],\"Weblink\")","v":"Weblink"},"Enslow Publishing","2019","January 2019",null,"Author","Clare Hibbert","6.7","1",null,null,"K",null,"Grade 3","Grade 2 - 5","Readers journey into outer space where they'll learn about the moon, stars, solar system, and all that exists beyond earth. Upon their arrival back to earth, students will read about the various things that make up our planet. They'll get a chance to look inside the earth, studying the differences between the contrasting parts of the planet, such as its crust and water. Finally, readers will return to the outside world where they will observe and learn about the world around them. From water to deserts to volcanoes, this book leaves no place on earth, or space, unseen.","English",25.27,18.95,"525--dc23","32 pp.","https://www.enslow.com/books/Earth_and_Space/4776",{"$f":"Table1[[#This Row],[QTY]]*Table1[[#This Row],['# of Books]]","v":0},{"$f":"Table1[[#This Row],[QTY]]*Table1[[#This Row],[School & Library Price]]","v":0}]
[null,null,null,"Science Explorers","Forces and Energy",1,"Library Bound Book","978-1-9785-0643-5",{"$f":"HYPERLINK(Table1[[#This Row],[Hyperlink]],\"Weblink\")","v":"Weblink"},"Enslow Publishing","2019","January 2019","8.500 X 11.00","Author","Clare Hibbert","6.7","1",null,null,"N",null,"Grade 3","Grade 2 - 5","Most of us have heard of Albert Einstein, but how many of us actually know and understand his theories and, later, discoveries? Looking back in time, this book introduces students to Einstein and another famous scientist, Isaac Newton. Centered on the findings of the two researchers, this book uncovers the inner workings of gravity, heat, electricity, energy, and light. This book provides readers with the knowledge they need to understand simple things that are part of our daily lives: keeping our feet on the ground, playing with magnetic toys, and listening to music, to name just a few.","English",25.27,18.95,"531'.6--dc23","32 pp.","https://www.enslow.com/books/Forces_and_Energy/4777",{"$f":"Table1[[#This Row],[QTY]]*Table1[[#This Row],['# of Books]]","v":0},{"$f":"Table1[[#This Row],[QTY]]*Table1[[#This Row],[School & Library Price]]","v":0}]
[null,null,null,"Science Explorers","The Human Body",1,"eBook","978-1-9785-0651-0",{"$f":"HYPERLINK(Table1[[#This Row],[Hyperlink]],\"Weblink\")","v":"Weblink"},"Enslow Publishing","2019","January 2019",null,"Author","Clare Hibbert","7","1",null,null,"L",null,"Grade 3","Grade 2 - 5","Readers learn all about their bodies, from head to toe. Students will find out about the complex systems that allow our bodies to walk, talk, and think. The brain, heart, lungs, stomach, bones, and reproductive system are all covered in this comprehensive anatomical book, but that is not all. Readers will also study how our bodies work to protect us under threat, illness, and injury and how we're able to heal and recover when we get sick or injured.","English",25.27,18.95,"612--dc23","32 pp.","https://www.enslow.com/books/The_Human_Body/4778",{"$f":"Table1[[#This Row],[QTY]]*Table1[[#This Row],['# of Books]]","v":0},{"$f":"Table1[[#This Row],[QTY]]*Table1[[#This Row],[School & Library Price]]","v":0}]
[null,null,null,"Science Explorers","Matter and Materials",1,"Library Bound Book","978-1-9785-0645-9",{"$f":"HYPERLINK(Table1[[#This Row],[Hyperlink]],\"Weblink\")","v":"Weblink"},"Enslow Publishing","2019","January 2019","8.500 X 11.00","Author","Clare Hibbert","6.9","1",null,null,"N",null,"Grade 3","Grade 2 - 5","Not only does science matter, but there is also matter in science. This book introduces students to the concept of matter, both solid and liquid, as it exists in the world around them. As readers learn about volume and mass, matter's two key ingredients, they'll explore the world of atoms, electrons, and protons. Full of all of chemistry's key principles, this book encourages readers to observe the world on a microscopic level.","English",25.27,18.95,"530.4--dc23","32 pp.","https://www.enslow.com/books/Matter_and_Materials/4779",{"$f":"Table1[[#This Row],[QTY]]*Table1[[#This Row],['# of Books]]","v":0},{"$f":"Table1[[#This Row],[QTY]]*Table1[[#This Row],[School & Library Price]]","v":0}]
[null,null,null,"Science Explorers","The Story of Life",1,"eBook","978-1-9785-0653-4",{"$f":"HYPERLINK(Table1[[#This Row],[Hyperlink]],\"Weblink\")","v":"Weblink"},"Enslow Publishing","2019","January 2019",null,"Author","Clare Hibbert","7","1",null,null,"M",null,"Grade 3","Grade 2 - 5","Tracing humankind back to its origins, this book teaches readers Charles Darwin's theory of evolution and explains how we grew into the humans we are today. As students navigate this evolutionary path, they'll get a glimpse into various stages of development. Beginning with DNA and continuing on to explain how cells operate, this comprehensive guide covers it all. Plant, human, animal, this book reminds students that we're all connected in one way or another.","English",25.27,18.95,"576--dc23","32 pp.","https://www.enslow.com/books/The_Story_of_Life/4780",{"$f":"Table1[[#This Row],[QTY]]*Table1[[#This Row],['# of Books]]","v":0},{"$f":"Table1[[#This Row],[QTY]]*Table1[[#This Row],[School & Library Price]]","v":0}]
[null,null,null,"Science Explorers","The World of Technology",1,"Library Bound Book","978-1-9785-0647-3",{"$f":"HYPERLINK(Table1[[#This Row],[Hyperlink]],\"Weblink\")","v":"Weblink"},"Enslow Publishing","2019","January 2019","8.500 X 11.00","Author","Clare Hibbert","7.2","0.5",null,null,"K",null,"Grade 3","Grade 2 - 5","As we continue to make technological advances, the need to teach students about this ever-changing field becomes increasingly important. This book teaches students about different machines, including engines, computers, and airplanes, and how they work. In doing so, students will begin to see just how big of an impact technology has. By the book's end, readers will have just as many new questions as they do answers. Ending with a discussion about genetic engineering, which is being researched and talked about more now than ever, students will become eager to learn more about the world of technology.","English",25.27,18.95,"600--dc23","32 pp.","https://www.enslow.com/books/The_World_of_Technology/4781",{"$f":"Table1[[#This Row],[QTY]]*Table1[[#This Row],['# of Books]]","v":0},{"$f":"Table1[[#This Row],[QTY]]*Table1[[#This Row],[School & Library Price]]","v":0}]
[null,null,null,"Animal Emotions","When Cats Get Angry",1,"Library Bound Book","978-0-7660-8611-1",{"$f":"HYPERLINK(Table1[[#This Row],[Hyperlink]],\"Weblink\")","v":"Weblink"},"Enslow Publishing","2018","August 2017","7.125 X 8.500","Author","Heather Moore Niver",null,null,null,null,"N","670L","Grade 3","Grade 3 - 5","Cats are popular pets, but have you ever stopped to think about their emotions? Our feline friends are known for being a bit moody—some more than others—and this easy-to-read volume will highlight the ins and outs of why our feline friends get angry. Anger is one of the more obvious feelings in the range of cat emotions, and readers will learn some of the most apparent indications of a cat’s ire. Full-color photos correlate easily with the text to help readers see the emotions their pets may be feeling. A “Words to Know” section will help readers extend their vocabulary, and a “Further Reading” section will inspire them to learn more about animals and their emotions.","English",25.27,18.95,"636.8/0835--dc23","32 pp.","https://www.enslow.com/books/When_Cats_Get_Angry/412688",{"$f":"Table1[[#This Row],[QTY]]*Table1[[#This Row],['# of Books]]","v":0},{"$f":"Table1[[#This Row],[QTY]]*Table1[[#This Row],[School & Library Price]]","v":0}]
[null,null,null,"Animal Emotions","When Cats Get Angry",1,"eBook","978-0-7660-8612-8",{"$f":"HYPERLINK(Table1[[#This Row],[Hyperlink]],\"Weblink\")","v":"Weblink"},"Enslow Publishing","2018","August 2017",null,"Author","Heather Moore Niver",null,null,null,null,"N","670L","Grade 3","Grade 3 - 5","Cats are popular pets, but have you ever stopped to think about their emotions? Our feline friends are known for being a bit moody—some more than others—and this easy-to-read volume will highlight the ins and outs of why our feline friends get angry. Anger is one of the more obvious feelings in the range of cat emotions, and readers will learn some of the most apparent indications of a cat’s ire. Full-color photos correlate easily with the text to help readers see the emotions their pets may be feeling. A “Words to Know” section will help readers extend their vocabulary, and a “Further Reading” section will inspire them to learn more about animals and their emotions.","English",25.27,18.95,"636.8/0835--dc23","32 pp.","https://www.enslow.com/books/When_Cats_Get_Angry/412688",{"$f":"Table1[[#This Row],[QTY]]*Table1[[#This Row],['# of Books]]","v":0},{"$f":"Table1[[#This Row],[QTY]]*Table1[[#This Row],[School & Library Price]]","v":0}]
[null,null,null,"Animal Emotions","When Dolphins Mourn",1,"Library Bound Book","978-0-7660-8615-9",{"$f":"HYPERLINK(Table1[[#This Row],[Hyperlink]],\"Weblink\")","v":"Weblink"},"Enslow Publishing","2018","August 2017","7.125 X 8.500","Author","Linda Bozzo","5.3",null,null,null,"P","840L","Grade 3","Grade 3 - 5","Although dolphins live in a different environment than humans, we share many of the same emotions. When Dolphins Mourn explores the science behind this beloved animal’s emotions and what it means for dolphins to mourn the loss of one of their own. Using specific examples and studies from experts, readers will enjoy learning more about how animals express their feelings. In addition, a Words to Know section will help students master new vocabulary and a Further Reading section with books and websites will inspire them to learn more about animals and their emotions.","English",25.27,18.95,"591.5--dc23","32 pp.","https://www.enslow.com/books/When_Dolphins_Mourn/412690",{"$f":"Table1[[#This Row],[QTY]]*Table1[[#This Row],['# of Books]]","v":0},{"$f":"Table1[[#This Row],[QTY]]*Table1[[#This Row],[School & Library Price]]","v":0}]
[null,null,null,"Animal Emotions","When Dolphins Mourn",1,"eBook","978-0-7660-8616-6",{"$f":"HYPERLINK(Table1[[#This Row],[Hyperlink]],\"Weblink\")","v":"Weblink"},"Enslow Publishing","2018","August 2017",null,"Author","Linda Bozzo","5.3",null,null,null,"P","840L","Grade 3","Grade 3 - 5","Although dolphins live in a different environment than humans, we share many of the same emotions. When Dolphins Mourn explores the science behind this beloved animal’s emotions and what it means for dolphins to mourn the loss of one of their own. Using specific examples and studies from experts, readers will enjoy learning more about how animals express their feelings. In addition, a Words to Know section will help students master new vocabulary and a Further Reading section with books and websites will inspire them to learn more about animals and their emotions.","English",25.27,18.95,"591.5--dc23","32 pp.","https://www.enslow.com/books/When_Dolphins_Mourn/412690",{"$f":"Table1[[#This Row],[QTY]]*Table1[[#This Row],['# of Books]]","v":0},{"$f":"Table1[[#This Row],[QTY]]*Table1[[#This Row],[School & Library Price]]","v":0}]
[null,null,null,"Animal Emotions","When Elephants Cry",1,"eBook","978-0-7660-8618-0",null,"Enslow Publishing","2018","August 2017",null,"Author","Heather Moore Niver",null,null,null,null,"O","790L","Grade 3","Grade 3 - 5","The largest animal to walk our Earth, the elephant, is a sight to see, whether it’s in the wild or a zoo. But did you know that they are actually a lot like us humans? Readers will learn how this is especially true regarding emotions, such as tears. This instructive resource will engage readers with tales of elephant emotions, such as tears of the death of a family member and concern over another elephant. They will also learn about body language other than tears that indicates their sadness or other emotions. Full-page photos will help readers visualize what they are reading, while a \"Words to Know\" section will help them master new vocabulary.","English",25.27,18.95,"599.6715/13--dc23","32 pp.",null,{"$f":"Table1[[#This Row],[QTY]]*Table1[[#This Row],['# of Books]]","v":0},{"$f":"Table1[[#This Row],[QTY]]*Table1[[#This Row],[School & Library Price]]","v":0}]
[null,null,null,"Animal Emotions","When Monkeys Laugh",1,"Library Bound Book","978-0-7660-8619-7",{"$f":"HYPERLINK(Table1[[#This Row],[Hyperlink]],\"Weblink\")","v":"Weblink"},"Enslow Publishing","2018","August 2017","7.125 X 8.500","Author","Heather Moore Niver",null,null,null,null,"O","790L","Grade 3","Grade 3 - 5","Different people find different things funny. Monkeys have been compared to humans in many ways, but this volume explores what makes a monkey chuckle. Readers will learn about the emotions behind a monkey’s laughter. Is their panting as they play an indication that they are having fun? Do chimpanzees laugh when they are tickled? Readers won’t be able to suppress a smile as they learn all about the side-splitting sides of a monkey’s emotions. Full-color photos will show monkeys at their funniest. A “Words to Know” section will help them master new vocabulary. “Further Reading” will inspire readers to learn more about animals and their emotions.","English",25.27,18.95,"599.8--dc23","32 pp.","https://www.enslow.com/books/When_Monkeys_Laugh/412692",{"$f":"Table1[[#This Row],[QTY]]*Table1[[#This Row],['# of Books]]","v":0},{"$f":"Table1[[#This Row],[QTY]]*Table1[[#This Row],[School & Library Price]]","v":0}]
[null,null,null,"Animal Emotions","When Parrots Speak",1,"eBook","978-0-7660-8622-7",{"$f":"HYPERLINK(Table1[[#This Row],[Hyperlink]],\"Weblink\")","v":"Weblink"},"Enslow Publishing","2018","August 2017",null,"Author","Linda Bozzo",null,null,null,null,"O","810L","Grade 3","Grade 3 - 5","Have you ever wondered why parrots copy human speech? Do they really know what they’re saying? When Parrots Speak introduces young readers to these amazing birds and the secret to how and why they imitate words to sound like humans. Fun facts and colorful photographs further enhance the book to help tell the story of these “vocal learners.” Also included are a Words to Know section to help students learn new vocabulary and a Further Reading section with books and websites to encourage them to explore the subject more deeply.","English",25.27,18.95,"636.6/865--dc23","32 pp.","https://www.enslow.com/books/When_Parrots_Speak/412693",{"$f":"Table1[[#This Row],[QTY]]*Table1[[#This Row],['# of Books]]","v":0},{"$f":"Table1[[#This Row],[QTY]]*Table1[[#This Row],[School & Library Price]]","v":0}]
[null,null,null,"Animals of the Night","Animals of the Night: Sets 1 – 3",18,"Library Set","978-0-7660-7937-3",{"$f":"HYPERLINK(Table1[[#This Row],[Hyperlink]],\"Weblink\")","v":"Weblink"},"Enslow Publishing","2017","August 2016","7.125 X 8.500",null,null,null,null,null,null,null,null,"Grade 3","Grade 3 - 5","This engaging collection is teeming with zoological information, including details about each nocturnal animal's habitat, hunting methods, survival skills, family life, and relationship with people, as well as fun facts. A Words to Know at the beginning of each book introduces readers to key vocabulary, while safety tips at the end of each book advise readers on what to do if they come face to face with these animals. Night-time critters covered in this set include the bull shark, river otter, snow leopard, and vampire bats. Features include: Large, readable fonts. Safety Tip sections and glossaries. Introduces readers to concepts in zoology and ecosystem dynamics, including animal adaptations and human impact on biodiversity. Terrific resources full of fact boxes and sidebars that are perfect for early-level report-writing and research.","English",454.86,341.1,null,"32 pp.","https://www.enslow.com/series/Animals_of_the_Night/501",{"$f":"Table1[[#This Row],[QTY]]*Table1[[#This Row],['# of Books]]","v":0},{"$f":"Table1[[#This Row],[QTY]]*Table1[[#This Row],[School & Library Price]]","v":0}]
[null,null,null,"Animals of the Night","Badgers After Dark",1,"Library Bound Book","978-0-7660-7168-1",{"$f":"HYPERLINK(Table1[[#This Row],[Hyperlink]],\"Weblink\")","v":"Weblink"},"Enslow Publishing","2016","January 2016","7.125 X 8.500","Author","Heather Moore Niver","4.1","0.5",null,null,"N",null,"Grade 3","Grade 3 - 5","Full-color images, fun facts, and informational text will bring readers into the secret world of badgers, from their hunting and eating habits to where they live and how they have impacted human life. In addition, safety tips explain what to do if someone comes face-to-face with a badger.","English",25.27,18.95,"599.76'7--dc23","32 pp.","https://www.enslow.com/books/Badgers_After_Dark/4582",{"$f":"Table1[[#This Row],[QTY]]*Table1[[#This Row],['# of Books]]","v":0},{"$f":"Table1[[#This Row],[QTY]]*Table1[[#This Row],[School & Library Price]]","v":0}]
[null,null,null,"Animals of the Night","Badgers After Dark",1,"eBook","978-0-7660-7177-3",{"$f":"HYPERLINK(Table1[[#This Row],[Hyperlink]],\"Weblink\")","v":"Weblink"},"Enslow Publishing","2016","January 2016",null,"Author","Heather Moore Niver","4.1","0.5",null,null,"N",null,"Grade 3","Grade 3 - 5","Full-color images, fun facts, and informational text will bring readers into the secret world of badgers, from their hunting and eating habits to where they live and how they have impacted human life. In addition, safety tips explain what to do if someone comes face-to-face with a badger.","English",25.27,18.95,"599.76'7--dc23","32 pp.","https://www.enslow.com/books/Badgers_After_Dark/4582",{"$f":"Table1[[#This Row],[QTY]]*Table1[[#This Row],['# of Books]]","v":0},{"$f":"Table1[[#This Row],[QTY]]*Table1[[#This Row],[School & Library Price]]","v":0}]
[null,null,null,"Animals of the Night","Big Cats After Dark",1,"Library Bound Book","978-0-7660-7046-2",{"$f":"HYPERLINK(Table1[[#This Row],[Hyperlink]],\"Weblink\")","v":"Weblink"},"Enslow Publishing","2016","August 2015","7.125 X 8.500","Author","Ruth O'Shaughnessy","4.4","0.5",null,null,"M",null,"Grade 3 - 4","Grade 3 - 5","Your kitty at home may eat food from a can and sleep in the sunshine, but big cats of the wild are a different story. Where do tigers live? What do lions hunt? How do leopards and jaguars see in the dark? This book will tell you all about your cat's larger relatives that still roam the wild!","English",25.27,18.95,"599.75--dc23","32 pp.","https://www.enslow.com/books/Big_Cats_After_Dark/4435",{"$f":"Table1[[#This Row],[QTY]]*Table1[[#This Row],['# of Books]]","v":0},{"$f":"Table1[[#This Row],[QTY]]*Table1[[#This Row],[School & Library Price]]","v":0}]
[null,null,null,"Animals of the Night","Big Cats After Dark",1,"eBook","978-0-7660-7047-9",{"$f":"HYPERLINK(Table1[[#This Row],[Hyperlink]],\"Weblink\")","v":"Weblink"},"Enslow Publishing","2016","August 2015",null,"Author","Ruth O'Shaughnessy","4.4","0.5",null,null,"M",null,"Grade 3 - 4","Grade 3 - 5","Your kitty at home may eat food from a can and sleep in the sunshine, but big cats of the wild are a different story. Where do tigers live? What do lions hunt? How do leopards and jaguars see in the dark? This book will tell you all about your cat's larger relatives that still roam the wild!","English",25.27,18.95,"599.75--dc23","32 pp.","https://www.enslow.com/books/Big_Cats_After_Dark/4435",{"$f":"Table1[[#This Row],[QTY]]*Table1[[#This Row],['# of Books]]","v":0},{"$f":"Table1[[#This Row],[QTY]]*Table1[[#This Row],[School & Library Price]]","v":0}]
[null,null,null,"Animals of the Night","Capybaras After Dark",1,"Library Bound Book","978-0-7660-7706-5",{"$f":"HYPERLINK(Table1[[#This Row],[Hyperlink]],\"Weblink\")","v":"Weblink"},"Enslow Publishing","2017","August 2016","7.125 X 8.500","Author","Heather Moore Niver",null,null,null,null,"P",null,"Grade 3","Grade 3 - 5","Did you know that capybaras yelp, bark, chirp, whistle, huff, and growl? These Central and South American rodents have unique ways of communicating with each other. Vivid full-color images illustrate the nocturnal capybara’s habitat and unique adaptations in the wild. Words to Know, fun facts, accessible text, and safety tips educate readers about how capybaras eat, reproduce, and interact with other herds.","English",25.27,18.95,"599.35/9--dc23","32 pp.","https://www.enslow.com/books/Capybaras_After_Dark/419364",{"$f":"Table1[[#This Row],[QTY]]*Table1[[#This Row],['# of Books]]","v":0},{"$f":"Table1[[#This Row],[QTY]]*Table1[[#This Row],[School & Library Price]]","v":0}]
[null,null,null,"Animals of the Night","Capybaras After Dark",1,"eBook","978-0-7660-7692-1",{"$f":"HYPERLINK(Table1[[#This Row],[Hyperlink]],\"Weblink\")","v":"Weblink"},"Enslow Publishing","2017","August 2016",null,"Author","Heather Moore Niver",null,null,null,null,"P",null,"Grade 3","Grade 3 - 5","Did you know that capybaras yelp, bark, chirp, whistle, huff, and growl? These Central and South American rodents have unique ways of communicating with each other. Vivid full-color images illustrate the nocturnal capybara’s habitat and unique adaptations in the wild. Words to Know, fun facts, accessible text, and safety tips educate readers about how capybaras eat, reproduce, and interact with other herds.","English",25.27,18.95,"599.35/9--dc23","32 pp.","https://www.enslow.com/books/Capybaras_After_Dark/419364",{"$f":"Table1[[#This Row],[QTY]]*Table1[[#This Row],['# of Books]]","v":0},{"$f":"Table1[[#This Row],[QTY]]*Table1[[#This Row],[School & Library Price]]","v":0}]
[null,null,null,"Animals of the Night","Coyotes After Dark",1,"eBook","978-0-7660-7184-1",{"$f":"HYPERLINK(Table1[[#This Row],[Hyperlink]],\"Weblink\")","v":"Weblink"},"Enslow Publishing","2016","January 2016",null,"Author","Heather Moore Niver","4.5","0.5",null,null,"N",null,"Grade 3","Grade 3 - 5","After the sun sets, many coyotes come out to hunt, eat, and play. Words to Know, fun facts, accessible text, and safety tips inform readers about the different ways coyotes communicate, their hunting skills, their family life, and even how to stay safe around coyotes, while full-color photos illustrate the coyote’s habits and environment.","English",25.27,18.95,"599.77'25--dc23","32 pp.","https://www.enslow.com/books/Coyotes_After_Dark/4591",{"$f":"Table1[[#This Row],[QTY]]*Table1[[#This Row],['# of Books]]","v":0},{"$f":"Table1[[#This Row],[QTY]]*Table1[[#This Row],[School & Library Price]]","v":0}]
[null,null,null,"Animals of the Night","Crocodiles and Alligators After Dark",1,"Library Bound Book","978-0-7660-6756-1",{"$f":"HYPERLINK(Table1[[#This Row],[Hyperlink]],\"Weblink\")","v":"Weblink"},"Enslow Publishing","2016","August 2015","7.125 X 8.500","Author","Ruth O'Shaughnessy","4.7","0.5",null,null,"N",null,"Grade 3 - 4","Grade 3 - 5","What's the difference between a crocodile and an alligator? Where do they live? What do they eat? Find out all about these descendants of dinosaurs, and you'll be ready the next time you see one!","English",25.27,18.95,"597.98--dc23","32 pp.","https://www.enslow.com/books/Crocodiles_and_Alligators_After_Dark/4436",{"$f":"Table1[[#This Row],[QTY]]*Table1[[#This Row],['# of Books]]","v":0},{"$f":"Table1[[#This Row],[QTY]]*Table1[[#This Row],[School & Library Price]]","v":0}]
[null,null,null,"Animals of the Night","Foxes After Dark",1,"eBook","978-0-7660-7215-2",{"$f":"HYPERLINK(Table1[[#This Row],[Hyperlink]],\"Weblink\")","v":"Weblink"},"Enslow Publishing","2016","January 2016",null,"Author","Heather Moore Niver","4.4","0.5",null,null,"M",null,"Grade 3","Grade 3 - 5","Foxes, like other nocturnal canines, do their hunting and playing after dark. Through informational text and full-color photos, readers will learn what foxes eat, how they hunt, how they raise their cubs, and if they have any natural predators. In addition, a Words to Know at the beginning of the book helps readers understand new vocabulary they will come across in the text, and safety tips at the end of the book will inform them how to stay safe if they ever encounter a fox.","English",25.27,18.95,"599.775--dc23","32 pp.","https://www.enslow.com/books/Foxes_After_Dark/4603",{"$f":"Table1[[#This Row],[QTY]]*Table1[[#This Row],['# of Books]]","v":0},{"$f":"Table1[[#This Row],[QTY]]*Table1[[#This Row],[School & Library Price]]","v":0}]
[null,null,null,"Animals of the Night","Opossums After Dark",1,"Library Bound Book","978-0-7660-7304-3",{"$f":"HYPERLINK(Table1[[#This Row],[Hyperlink]],\"Weblink\")","v":"Weblink"},"Enslow Publishing","2016","January 2016","7.125 X 8.500","Author","Heather Moore Niver","4","0.5",null,null,"M",null,"Grade 3","Grade 3 - 5","There is much more to opossums than just their well-known ability to play dead. Opossums are great climbers and scavengers, as well as protective mothers. They have a well-developed sense of smell and strong jaws. Through fact-filled text and color photos, readers will learn all about these North American marsupials, including what they eat, where they live, how they are helpful to people, and how to stay safe around them.","English",25.27,18.95,"599.2’76--dc23","32 pp.","https://www.enslow.com/books/Opossums_After_Dark/4626",{"$f":"Table1[[#This Row],[QTY]]*Table1[[#This Row],['# of Books]]","v":0},{"$f":"Table1[[#This Row],[QTY]]*Table1[[#This Row],[School & Library Price]]","v":0}]
[null,null,null,"Animals of the Night","Owls After Dark",1,"eBook","978-0-7660-6761-5",{"$f":"HYPERLINK(Table1[[#This Row],[Hyperlink]],\"Weblink\")","v":"Weblink"},"Enslow Publishing","2016","August 2015",null,"Author","Ruth O'Shaughnessy","4.3","0.5",null,null,"M",null,"Grade 3 - 4","Grade 3 - 5","Everyone knows how an owl sounds. But do you know what they eat? How they hunt? Why they only come out at night? Learn how these magnificent birds live and why they capture our imaginations.","English",25.27,18.95,"598.9'7--dc23","32 pp.","https://www.enslow.com/books/Owls_After_Dark/4437",{"$f":"Table1[[#This Row],[QTY]]*Table1[[#This Row],['# of Books]]","v":0},{"$f":"Table1[[#This Row],[QTY]]*Table1[[#This Row],[School & Library Price]]","v":0}]
[null,null,null,"Animals of the Night","Raccoons After Dark",1,"Library Bound Book","978-0-7660-6764-6",{"$f":"HYPERLINK(Table1[[#This Row],[Hyperlink]],\"Weblink\")","v":"Weblink"},"Enslow Publishing","2016","August 2015","7.125 X 8.500","Author","Ruth O'Shaughnessy","4.4","0.5",null,null,"N","660L","Grade 3 - 4","Grade 3 - 5","Many people think of raccoons as adorable little bandits or pests that rummage through their trash—and they are, but they are also much more interesting. Where do raccoons live? What do they eat? Do they have predators? Learn all about raccoons and view these masked creatures in a new light!","English",25.27,18.95,"401435","32 pp.","https://www.enslow.com/books/Raccoons_After_Dark/4438",{"$f":"Table1[[#This Row],[QTY]]*Table1[[#This Row],['# of Books]]","v":0},{"$f":"Table1[[#This Row],[QTY]]*Table1[[#This Row],[School & Library Price]]","v":0}]
[null,null,null,"Animals of the Night","River Otters After Dark",1,"eBook","978-0-7660-7690-7",{"$f":"HYPERLINK(Table1[[#This Row],[Hyperlink]],\"Weblink\")","v":"Weblink"},"Enslow Publishing","2017","August 2016",null,"Author","Heather Moore Niver",null,null,null,null,"N",null,"Grade 3","Grade 3 - 5","Midnight snacks aren’t just for people! River otters splash into the water at night, searching for their next meal. Full-page, color images and engaging narrative showcase the playful and industrious river otter. Read about its behavior, habitat, family life, and unique adaptations. Text features include Words to Know at the opening of the book and a Stay Safe section to inform readers how to act if they encounter a river otter in the wild.","English",25.27,18.95,"599.769/2--dc23","32 pp.","https://www.enslow.com/books/River_Otters_After_Dark/419359",{"$f":"Table1[[#This Row],[QTY]]*Table1[[#This Row],['# of Books]]","v":0},{"$f":"Table1[[#This Row],[QTY]]*Table1[[#This Row],[School & Library Price]]","v":0}]
[null,null,null,"Animals of the Night","Skunks After Dark",1,"Library Bound Book","978-0-7660-7360-9",{"$f":"HYPERLINK(Table1[[#This Row],[Hyperlink]],\"Weblink\")","v":"Weblink"},"Enslow Publishing","2016","January 2016","7.125 X 8.500","Author","Heather Moore Niver","3.8","0.5",null,null,"L",null,"Grade 3","Grade 3 - 5","Through text filled with fascinating details and beautiful color photos, readers will learn about skunks’ behaviors, habitats, diet, family life, and struggles in the wild, as well as how to stay safe around skunks.","English",25.27,18.95,"599.76’8--dc23","32 pp.","https://www.enslow.com/books/Skunks_After_Dark/4642",{"$f":"Table1[[#This Row],[QTY]]*Table1[[#This Row],['# of Books]]","v":0},{"$f":"Table1[[#This Row],[QTY]]*Table1[[#This Row],[School & Library Price]]","v":0}]
[null,null,null,"Animals of the Night","Snakes After Dark",1,"eBook","978-0-7660-7003-5",{"$f":"HYPERLINK(Table1[[#This Row],[Hyperlink]],\"Weblink\")","v":"Weblink"},"Enslow Publishing","2016","August 2015",null,"Author","Ruth O'Shaughnessy","4.6","0.5",null,null,"N",null,"Grade 3 - 4","Grade 3 - 5","You hear a hiss in the grass or a rattling in the rocks...you know a snake is near, but which snakes are venomous? How do they kill their prey? Where do they live? Readers learn all about snakes and their habits so they’ll be prepared should they cross paths with one of these slithering reptiles.","English",25.27,18.95,"597.96--dc23","32 pp.","https://www.enslow.com/books/Snakes_After_Dark/4439",{"$f":"Table1[[#This Row],[QTY]]*Table1[[#This Row],['# of Books]]","v":0},{"$f":"Table1[[#This Row],[QTY]]*Table1[[#This Row],[School & Library Price]]","v":0}]
[null,null,null,"Animals of the Night","Snow Leopards After Dark",1,"Library Bound Book","978-0-7660-7708-9",{"$f":"HYPERLINK(Table1[[#This Row],[Hyperlink]],\"Weblink\")","v":"Weblink"},"Enslow Publishing","2017","August 2016","7.125 X 8.500","Author","Heather Moore Niver",null,null,null,null,"N",null,"Grade 3","Grade 3 - 5","Most people never see the secretive and shy snow leopard. But the stunning full-color images and rich narrative of this book gives readers a special glimpse at this nocturnal predator of the mountains. Words to Know appear at the front of the book so that readers are ready when they encounter a new term in the text. Learn about a snow leopard’s behaviors, habitat, diet, and family life. Fun facts scattered throughout the book add even more insight into the lives of these majestic cats of Asia.","English",25.27,18.95,"599.75/54--dc23","32 pp.","https://www.enslow.com/books/Snow_Leopards_After_Dark/419369",{"$f":"Table1[[#This Row],[QTY]]*Table1[[#This Row],['# of Books]]","v":0},{"$f":"Table1[[#This Row],[QTY]]*Table1[[#This Row],[School & Library Price]]","v":0}]
[null,null,null,"Animals of the Night","Vampire Bats After Dark",1,"Library Bound Book","978-0-7660-7711-9",{"$f":"HYPERLINK(Table1[[#This Row],[Hyperlink]],\"Weblink\")","v":"Weblink"},"Enslow Publishing","2017","August 2016","7.125 X 8.500","Author","Heather Moore Niver",null,null,null,null,"O",null,"Grade 3","Grade 3 - 5","Hunting by moonlight, the unique vampire bat is the only known mammal in the world that feeds exclusively on blood. How do these Central and South American bats feed, communicate, reproduce, and roost? Full-page photographs share details about the lives of these nocturnal creatures. Fun facts showcase the vampire bat's unique adaptations and a Words to Know section introduces readers to new vocabulary.","English",25.27,18.95,"599.4/5--dc23","32 pp.","https://www.enslow.com/books/Vampire_Bats_After_Dark/419379",{"$f":"Table1[[#This Row],[QTY]]*Table1[[#This Row],['# of Books]]","v":0},{"$f":"Table1[[#This Row],[QTY]]*Table1[[#This Row],[School & Library Price]]","v":0}]
[null,null,null,"Animals of the Night","Vampire Bats After Dark",1,"eBook","978-0-7660-7699-0",{"$f":"HYPERLINK(Table1[[#This Row],[Hyperlink]],\"Weblink\")","v":"Weblink"},"Enslow Publishing","2017","August 2016",null,"Author","Heather Moore Niver",null,null,null,null,"O",null,"Grade 3","Grade 3 - 5","Hunting by moonlight, the unique vampire bat is the only known mammal in the world that feeds exclusively on blood. How do these Central and South American bats feed, communicate, reproduce, and roost? Full-page photographs share details about the lives of these nocturnal creatures. Fun facts showcase the vampire bat's unique adaptations and a Words to Know section introduces readers to new vocabulary.","English",25.27,18.95,"599.4/5--dc23","32 pp.","https://www.enslow.com/books/Vampire_Bats_After_Dark/419379",{"$f":"Table1[[#This Row],[QTY]]*Table1[[#This Row],['# of Books]]","v":0},{"$f":"Table1[[#This Row],[QTY]]*Table1[[#This Row],[School & Library Price]]","v":0}]
[null,null,null,"Animals at Work","Animals at Work",6,"Library Set","978-1-9785-0015-0",{"$f":"HYPERLINK(Table1[[#This Row],[Hyperlink]],\"Weblink\")","v":"Weblink"},"Enslow Publishing","2019","August 2018","7.125 X 8.500",null,null,null,null,null,null,null,null,"Grade 3","Grade 3 - 6","Having a pet to cuddle with can be the best, but did you know that some animals have jobs, just like people? In this set, we'll meet service and therapy animals who help their owners better navigate their lives. We'll also learn about animals in the military, on search-and-rescue teams, and animals helping fight crime. Let us not forget about animal actors, who star in movies and television shows right alongside our favorite human stars. Whether they bark, tweet, or meow, animals at work are a roaring good time. Features include: Presents an evergreen, high-interest topic. Correlates with the NextGen Science Standards. Full-color photographs of animals in unusual and fascinating workplace settings. \"Learn More\" sections provide further resources for study and exploration.","English",151.62,113.7,null,"32 pp.","https://www.enslow.com/series/Animals_at_Work/450966",{"$f":"Table1[[#This Row],[QTY]]*Table1[[#This Row],['# of Books]]","v":0},{"$f":"Table1[[#This Row],[QTY]]*Table1[[#This Row],[School & Library Price]]","v":0}]
[null,null,null,"Animals at Work","Animal Actors",1,"Library Bound Book","978-0-7660-9611-0",{"$f":"HYPERLINK(Table1[[#This Row],[Hyperlink]],\"Weblink\")","v":"Weblink"},"Enslow Publishing","2019","August 2018","7.125 X 8.500","Author","Alexis Burling","4.5","0.5",null,null,"K",null,"Grade 3","Grade 3 - 6","Lights! Camera! Woof! Human actors are some of the most admired people in show biz, but what about animal actors? They're definitely the cat's meow. In this star-studded book, readers will learn about some of the most famous animals to walk the red carpet. They'll get a peek at the training process and what a typical day is like on the set. They'll also learn about where animal actors go when they retire. Easily accessible text and adorable photographs present an action-packed portrait of these cuddly celebrities at their finest.","English",25.27,18.95,"791.43/662--dc23","32 pp.","https://www.enslow.com/books/Animal_Actors/421814",{"$f":"Table1[[#This Row],[QTY]]*Table1[[#This Row],['# of Books]]","v":0},{"$f":"Table1[[#This Row],[QTY]]*Table1[[#This Row],[School & Library Price]]","v":0}]
[null,null,null,"Animals at Work","Animal Crime Fighters",1,"eBook","978-0-7660-9618-9",{"$f":"HYPERLINK(Table1[[#This Row],[Hyperlink]],\"Weblink\")","v":"Weblink"},"Enslow Publishing","2019","August 2018",null,"Author","Alexis Burling","4.9","0.5",null,null,"L",null,"Grade 3","Grade 3 - 6","Freeze! Put your paws up! These crime-fighting animals work side-by-side with their human partners to help stop crime. They help police sniff out illegal drugs, find people who are missing, follow criminals, and so much more. This fascinating book takes a peek at the jobs of some of the bravest, badge-wearing animals on the force. Through straightforward text and inspiring photographs, readers will learn about how these animals keep our communities safe each and every day.","English",25.27,18.95,"363.28--dc23","32 pp.","https://www.enslow.com/books/Animal_Crime_Fighters/421815",{"$f":"Table1[[#This Row],[QTY]]*Table1[[#This Row],['# of Books]]","v":0},{"$f":"Table1[[#This Row],[QTY]]*Table1[[#This Row],[School & Library Price]]","v":0}]
[null,null,null,"Animals at Work","Animals in the Military",1,"Library Bound Book","978-0-7660-9619-6",{"$f":"HYPERLINK(Table1[[#This Row],[Hyperlink]],\"Weblink\")","v":"Weblink"},"Enslow Publishing","2019","August 2018","7.125 X 8.500","Author","Alexis Burling","4.9","0.5",null,null,"M",null,"Grade 3","Grade 3 - 6","Send in the furry, feathered, or flippered troops! For centuries, animals have held important positions in militaries across the globe. Some particularly frisky felines have been trained as spies. Pigeons deliver top-secret messages between troops during wartime. Dogs, rats, bumblebees, and dolphins are deployed to sniff out explosives. Without the help of these courageous critters, many a battle would have been lost. Through accessible text and action-packed photographs, readers will get an eagle-eyed view of how these animals have helped protect cities and countries worldwide.","English",25.27,18.95,"355.4/24--dc23","32 pp.","https://www.enslow.com/books/Animals_in_the_Military/421816",{"$f":"Table1[[#This Row],[QTY]]*Table1[[#This Row],['# of Books]]","v":0},{"$f":"Table1[[#This Row],[QTY]]*Table1[[#This Row],[School & Library Price]]","v":0}]
[null,null,null,"Animals at Work","Search-and-Rescue Animals",1,"eBook","978-0-7660-9626-4",{"$f":"HYPERLINK(Table1[[#This Row],[Hyperlink]],\"Weblink\")","v":"Weblink"},"Enslow Publishing","2019","August 2018",null,"Author","Lisa Idzikowski","4","0.5",null,null,"L",null,"Grade 3","Grade 3 - 6","Deep snow. Fast-flowing water. Fallen buildings. Thick brush and trees. Search-and-rescue animals explore all these places and more to find people in need. In this fact-packed book, readers will follow the tracks of high energy search-and-rescue animals working hard to help. Readers will hit the trail with dogs who dig through debris and horses who pick up the scent. They'll also take a glance at some high-tech search-and-rescue possibilities of the future. Amazing photographs, facts, and engaging text highlight the brave efforts of search-and-rescue animals.","English",25.27,18.95,"636.73--dc23","32 pp.","https://www.enslow.com/books/Search_and_Rescue_Animals/421817",{"$f":"Table1[[#This Row],[QTY]]*Table1[[#This Row],['# of Books]]","v":0},{"$f":"Table1[[#This Row],[QTY]]*Table1[[#This Row],[School & Library Price]]","v":0}]
[null,null,null,"Animals at Work","Service Animals",1,"Library Bound Book","978-0-7660-9627-1",{"$f":"HYPERLINK(Table1[[#This Row],[Hyperlink]],\"Weblink\")","v":"Weblink"},"Enslow Publishing","2019","August 2018","7.125 X 8.500","Author","Lisa Idzikowski","3.8","0.5",null,null,"M",null,"Grade 3","Grade 3 - 6","Turn on the lights. Pick up the keys. Fetch the mail. Grab a drink from the fridge. What if chores like these could be done by specially trained animals? Like many people, service animals go to work every day. Readers will learn about the different types of service animals and the jobs they do. They'll meet animals who brighten the lives of their owners by helping with tasks their humans can't do themselves. They'll also find out about how these animals go to school to learn their jobs. Engaging text, amazing facts, and exciting photographs show off service animals, the hard-working heroes of the animal world.","English",25.27,18.95,"362.4/0483--dc23","32 pp.","https://www.enslow.com/books/Service_Animals/421818",{"$f":"Table1[[#This Row],[QTY]]*Table1[[#This Row],['# of Books]]","v":0},{"$f":"Table1[[#This Row],[QTY]]*Table1[[#This Row],[School & Library Price]]","v":0}]
[null,null,null,"Animals at Work","Therapy Animals",1,"eBook","978-0-7660-9634-9",{"$f":"HYPERLINK(Table1[[#This Row],[Hyperlink]],\"Weblink\")","v":"Weblink"},"Enslow Publishing","2019","August 2018",null,"Author","Avery Elizabeth Hurt","3.7","0.5",null,null,"N",null,"Grade 3","Grade 3 - 6","Pet a dog a day to keep the doctor away? Every knows pets are fun, but did you know that they can help keep you healthy, too? This book introduces readers to the world of animal therapy. They will meet real therapy pets and their handlers, and learn a little bit about the science behind pet therapy, and what it takes to be a good therapy animal. Accessible text, a few fun surprises, and lively illustrations make this easy-to-read book a winner.","English",25.27,18.95,"355.4/24--dc23","32 pp.","https://www.enslow.com/books/Therapy_Animals/421819",{"$f":"Table1[[#This Row],[QTY]]*Table1[[#This Row],['# of Books]]","v":0},{"$f":"Table1[[#This Row],[QTY]]*Table1[[#This Row],[School & Library Price]]","v":0}]
[null,null,null,"Animal Secrets Revealed!","Animal Secrets Revealed!",6,"Library Set","978-0-7660-8589-3",{"$f":"HYPERLINK(Table1[[#This Row],[Hyperlink]],\"Weblink\")","v":"Weblink"},"Enslow Publishing","2018","August 2017","7.250 X 9.250",null,null,null,null,null,null,null,null,"Grade 4","Grade 3 - 6","Describes new fascinating adaptations that help specific animals survive in their natural environment and the scientific process researchers follow to uncover these secrets. Through interviews with the scientists studying these animals and full-color photos, the author brings original science research directly to readers. Also included are sidebars and fact boxes with interesting information about the animals or the researchers, and a hands-on activity designed to be easily implemented in class that will illustrate the scientific principle behind the animal adaptation.\n","English",167.58,125.7,null,"48 pp.","https://www.enslow.com/series/Animal_Secrets_Revealed/136",{"$f":"Table1[[#This Row],[QTY]]*Table1[[#This Row],['# of Books]]","v":0},{"$f":"Table1[[#This Row],[QTY]]*Table1[[#This Row],[School & Library Price]]","v":0}]
[null,null,null,"Animal Secrets Revealed!","The Secret of the Bird's Smart Brain...and More!",1,"eBook","978-0-7660-8624-1",{"$f":"HYPERLINK(Table1[[#This Row],[Hyperlink]],\"Weblink\")","v":"Weblink"},"Enslow Publishing","2018","August 2017",null,"Author","Ana María Rodríguez",null,null,null,null,"Q","930L","Grade 4","Grade 3 - 6","Students will enter the world of scientists as they uncover the secrets behind birds' brains, the most under-appreciated of birds’ senses, the way frigate birds fly non-stop, how mama bears protect their cubs, and what grunts and bellows mean for pigs and alligators. Primary sources, including interviews with scientists, and full-color original and stock photographs support the cool narrative. Readers are presented with an engaging and approachable tone that simplifies complicated scientific principles. A hands-on activity makes this book a valuable addition to your library or classroom.","English",27.93,20.95,"598.15--dc23","48 pp.","https://www.enslow.com/books/The_Secret_of_the_Birds_Smart_Brain_and_More/421674",{"$f":"Table1[[#This Row],[QTY]]*Table1[[#This Row],['# of Books]]","v":0},{"$f":"Table1[[#This Row],[QTY]]*Table1[[#This Row],[School & Library Price]]","v":0}]
[null,null,null,"Animal Secrets Revealed!","The Secret of the Deceiving Striped Lizard...and More!",1,"Library Bound Book","978-0-7660-8625-8",{"$f":"HYPERLINK(Table1[[#This Row],[Hyperlink]],\"Weblink\")","v":"Weblink"},"Enslow Publishing","2018","August 2017","7.250 X 9.250","Author","Ana María Rodríguez",null,null,null,null,"N","990L","Grade 4","Grade 3 - 6","Students will learn all about intriguing adaptations that help animals survive in their environments, such as what playing a video game can teach us about striped lizards, the power of the chameleon’s sticky tongue, how wriggling and slashing saves frog eggs, a good partnership between sweet plants and ants, and the secret of the swordfish’s slippery head. Primary sources include interviews with scientists and original photographs. Engaging yet simple language makes complicated scientific principles easy to grasp. A hands-on activity allows students to take on the role of scientist and examine these amazing adaptations themselves.","English",27.93,20.95,"591.47/2--dc23","48 pp.","https://www.enslow.com/books/The_Secret_of_the_Deceiving_Striped_Lizard_and_More/421675",{"$f":"Table1[[#This Row],[QTY]]*Table1[[#This Row],['# of Books]]","v":0},{"$f":"Table1[[#This Row],[QTY]]*Table1[[#This Row],[School & Library Price]]","v":0}]
[null,null,null,"Animal Secrets Revealed!","The Secret of the Scorpion-Eating Meerkats...and More!",1,"eBook","978-0-7660-8628-9",{"$f":"HYPERLINK(Table1[[#This Row],[Hyperlink]],\"Weblink\")","v":"Weblink"},"Enslow Publishing","2018","August 2017",null,"Author","Ana María Rodríguez",null,null,null,null,"Q",null,"Grade 4","Grade 3 - 6","Readers will tag along with scientists as they uncover intriguing adaptations that help animals survive in their environments. Students will discover what meerkats learn in survival school, what hyenas gain from being team players, chimps' strategies for harvesting honey and putting meat on their plates, and how dogs and horses read people's facial expressions. Based largely on primary sources, including interviews with the scientists, illustrated with full-color original research and stock photographs, and complemented with a hands-on activity, these informational texts open a window into the world of scientists as they uncover animal secrets that vividly complement basic biological principles.","English",27.93,20.95,"599.15--dc23","48 pp.","https://www.enslow.com/books/The_Secret_of_the_Scorpion_Eating_Meerkats_and_More/421670",{"$f":"Table1[[#This Row],[QTY]]*Table1[[#This Row],['# of Books]]","v":0},{"$f":"Table1[[#This Row],[QTY]]*Table1[[#This Row],[School & Library Price]]","v":0}]
[null,null,null,"Animal Secrets Revealed!","The Secret of the Scuba Diving Spider...and More!",1,"Library Bound Book","978-0-7660-8629-6",{"$f":"HYPERLINK(Table1[[#This Row],[Hyperlink]],\"Weblink\")","v":"Weblink"},"Enslow Publishing","2018","August 2017","7.250 X 9.250","Author","Ana María Rodríguez",null,null,null,null,"S","1020L","Grade 4","Grade 3 - 6","Readers will dive along with an underwater spider and also discover why caterpillars need an emergency whistle, how moths talk back to bats, that zombie beetles really exist, and what makes cockroaches so hard to catch. Primary sources include interviews with the scientists and original photographs. Simple yet detailed language makes complicated scientific ideas easy to understand. A hands-on activity allows students to take on the role of scientist and examine these basic biological principles themselves.","English",27.93,20.95,"595.7--dc23","48 pp.","https://www.enslow.com/books/The_Secret_of_the_Scuba_Diving_Spider_and_More/421672",{"$f":"Table1[[#This Row],[QTY]]*Table1[[#This Row],['# of Books]]","v":0},{"$f":"Table1[[#This Row],[QTY]]*Table1[[#This Row],[School & Library Price]]","v":0}]
[null,null,null,"Animal Secrets Revealed!","The Secret of the Squiggly Green Bombers...and More!",1,"eBook","978-0-7660-8632-6",{"$f":"HYPERLINK(Table1[[#This Row],[Hyperlink]],\"Weblink\")","v":"Weblink"},"Enslow Publishing","2018","August 2017",null,"Author","Ana María Rodríguez",null,null,null,null,"Q",null,"Grade 4","Grade 3 - 6","In learning about the tiny, glowing sea worm called the Green Bomber, students will discover amazing adaptations that help animals survive in their environments. They will also discover that not all fish keep their bodies cold; how good squid moms care for their eggs; that crocodiles use an egg timer; and how the Komodo dragon actually kills its prey. Primary sources, including interviews with the scientists and original photographs, an engaging and approachable writing style, and a hands-on activity will help students understand basic biological principles.","English",27.93,20.95,"591.77--dc23","48 pp.","https://www.enslow.com/books/The_Secret_of_the_Squiggly_Green_Bombers_and_More/421671",{"$f":"Table1[[#This Row],[QTY]]*Table1[[#This Row],['# of Books]]","v":0},{"$f":"Table1[[#This Row],[QTY]]*Table1[[#This Row],[School & Library Price]]","v":0}]
[null,null,null,"Animal Secrets Revealed!","The Shocking Secret of the Electric Eel...and More!",1,"Library Bound Book","978-0-7660-8726-2",{"$f":"HYPERLINK(Table1[[#This Row],[Hyperlink]],\"Weblink\")","v":"Weblink"},"Enslow Publishing","2018","August 2017","7.250 X 9.250","Author","Ana María Rodríguez",null,null,null,null,"Q","1020L","Grade 4","Grade 3 - 6","Readers tag along with scientists as they uncover intriguing adaptations that help animals survive in their environments. This colorful book explains the electric eel’s hunting tactics and an unexpected defense strategy, why some fish sleep in mucous cocoons, how jumping spiders hear from across a room, what the shape of a European eel’s head reveals about its diet, and why midshipman fish sing only at night. Based largely on primary sources, including interviews with the scientists, illustrated with original research and stock photographs, and complemented with a hands-on activity, this volume opens a window into the world of scientists as they uncover animal secrets that vividly complement basic biological principles.","English",27.93,20.95,"597.14/7--dc23","48 pp.","https://www.enslow.com/books/The_Shocking_Secret_of_the_Electric_Eel_and_More/421673",{"$f":"Table1[[#This Row],[QTY]]*Table1[[#This Row],['# of Books]]","v":0},{"$f":"Table1[[#This Row],[QTY]]*Table1[[#This Row],[School & Library Price]]","v":0}]
[null,null,null,"Exciting Origami","Origami Arts and Crafts",1,"Library Bound Book","978-0-7660-8646-3",{"$f":"HYPERLINK(Table1[[#This Row],[Hyperlink]],\"Weblink\")","v":"Weblink"},"Enslow Publishing","2018","August 2017","7.250 X 9.250","Author","Emanuele Azzità",null,null,null,null,"O",null,"Grade 3","Grade 3 - 6","After readers familiarize themselves with the origami symbols and easily accessible types of paper to use, they will follow illustrated step-by-step instructions to create fun origami arts and crafts such as a bracelet, a piano, a sailboat, and a colorful dodecahedron. A glossary helps readers learn new vocabulary, and a further reading section with books and websites encourages further exploration of the topic.","English",27.93,20.95,"736/.982--dc23","48 pp.","https://www.enslow.com/books/Origami_Arts_and_Crafts/412712",{"$f":"Table1[[#This Row],[QTY]]*Table1[[#This Row],['# of Books]]","v":0},{"$f":"Table1[[#This Row],[QTY]]*Table1[[#This Row],[School & Library Price]]","v":0}]
[null,null,null,"Exciting Origami","Origami Arts and Crafts",1,"eBook","978-0-7660-8647-0",{"$f":"HYPERLINK(Table1[[#This Row],[Hyperlink]],\"Weblink\")","v":"Weblink"},"Enslow Publishing","2018","August 2017",null,"Author","Emanuele Azzità",null,null,null,null,"O",null,"Grade 3","Grade 3 - 6","After readers familiarize themselves with the origami symbols and easily accessible types of paper to use, they will follow illustrated step-by-step instructions to create fun origami arts and crafts such as a bracelet, a piano, a sailboat, and a colorful dodecahedron. A glossary helps readers learn new vocabulary, and a further reading section with books and websites encourages further exploration of the topic.","English",27.93,20.95,"736/.982--dc23","48 pp.","https://www.enslow.com/books/Origami_Arts_and_Crafts/412712",{"$f":"Table1[[#This Row],[QTY]]*Table1[[#This Row],['# of Books]]","v":0},{"$f":"Table1[[#This Row],[QTY]]*Table1[[#This Row],[School & Library Price]]","v":0}]
[null,null,null,"Exciting Origami","Origami Dinosaurs",1,"Library Bound Book","978-0-7660-8650-0",{"$f":"HYPERLINK(Table1[[#This Row],[Hyperlink]],\"Weblink\")","v":"Weblink"},"Enslow Publishing","2018","August 2017","7.250 X 9.250","Author","Walter-Alexandre Schultz",null,null,null,null,"P",null,"Grade 3","Grade 3 - 6","Through the art of origami, students will journey back in time to when dinosaurs roamed the earth. Readers will follow step-by-step instructions and diagrams to make impressive models of familiar prehistoric favorites such as the pterodactyl, Tyrannosaurus rex, and triceratops, as well as come to learn about some not so well-known species such as the camptosaurus, plateosaurus, and plesiosaurus. The book also includes an introduction to the types of paper that can be used, a key explaining the different symbols, a glossary, a further reading section, and an index.","English",27.93,20.95,"736/.982--dc23","48 pp.","https://www.enslow.com/books/Origami_Dinosaurs/412714",{"$f":"Table1[[#This Row],[QTY]]*Table1[[#This Row],['# of Books]]","v":0},{"$f":"Table1[[#This Row],[QTY]]*Table1[[#This Row],[School & Library Price]]","v":0}]
[null,null,null,"Exciting Origami","Origami Dinosaurs",1,"eBook","978-0-7660-8651-7",{"$f":"HYPERLINK(Table1[[#This Row],[Hyperlink]],\"Weblink\")","v":"Weblink"},"Enslow Publishing","2018","August 2017",null,"Author","Walter-Alexandre Schultz",null,null,null,null,"P",null,"Grade 3","Grade 3 - 6","Through the art of origami, students will journey back in time to when dinosaurs roamed the earth. Readers will follow step-by-step instructions and diagrams to make impressive models of familiar prehistoric favorites such as the pterodactyl, Tyrannosaurus rex, and triceratops, as well as come to learn about some not so well-known species such as the camptosaurus, plateosaurus, and plesiosaurus. The book also includes an introduction to the types of paper that can be used, a key explaining the different symbols, a glossary, a further reading section, and an index.","English",27.93,20.95,"736/.982--dc23","48 pp.","https://www.enslow.com/books/Origami_Dinosaurs/412714",{"$f":"Table1[[#This Row],[QTY]]*Table1[[#This Row],['# of Books]]","v":0},{"$f":"Table1[[#This Row],[QTY]]*Table1[[#This Row],[School & Library Price]]","v":0}]
[null,null,null,"Exciting Origami","Origami Land and Sea Animals",1,"eBook","978-0-7660-8652-4",{"$f":"HYPERLINK(Table1[[#This Row],[Hyperlink]],\"Weblink\")","v":"Weblink"},"Enslow Publishing","2018","August 2017",null,"Author","Emanuele Azzità",null,null,null,null,"P",null,"Grade 3","Grade 3 - 6","A symbol key and a description of materials introduce readers to origami before they dive into step-by-step instructions illustrated with full-color diagrams to create awesome animals from land and sea, including a frog, a rabbit, a seal, and a whale. A glossary helps readers learn new vocabulary, and a further reading section with books and websites encourages further exploration of the topic.","English",27.93,20.95,"736/.982--dc23","48 pp.","https://www.enslow.com/books/Origami_Land_and_Sea_Animals/412715",{"$f":"Table1[[#This Row],[QTY]]*Table1[[#This Row],['# of Books]]","v":0},{"$f":"Table1[[#This Row],[QTY]]*Table1[[#This Row],[School & Library Price]]","v":0}]
[null,null,null,"Future Ready Project Skills","Future Ready Project Skills",6,"Library Set","978-0-7660-8593-0",{"$f":"HYPERLINK(Table1[[#This Row],[Hyperlink]],\"Weblink\")","v":"Weblink"},"Enslow Publishing","2018","August 2017","7.250 X 9.250",null,null,null,null,null,null,null,null,"Grade 3 - 4","Grade 3 - 6","Each book in this stimulating series will teach readers a fundamental study skill they will need for the rest of their academic lives. Each book includes at least three examples with notes that highlight well-done (or poorly done) assignments and about five graphic organizers. Writing prompts allow students to practice what they learn. Full-color images and a lively, clear writing style will hold the students’ interest. Further reading sections will inspire students to learn more about each topic.\n","English",167.58,125.7,null,"48 pp.","https://www.enslow.com/series/Future_Ready_Project_Skills/421586",{"$f":"Table1[[#This Row],[QTY]]*Table1[[#This Row],['# of Books]]","v":0},{"$f":"Table1[[#This Row],[QTY]]*Table1[[#This Row],[School & Library Price]]","v":0}]
[null,null,null,"Future Ready Project Skills","Future Ready Internet Research Skills",1,"Library Bound Book","978-0-7660-8655-5",{"$f":"HYPERLINK(Table1[[#This Row],[Hyperlink]],\"Weblink\")","v":"Weblink"},"Enslow Publishing","2018","August 2017","7.250 X 9.250","Author, Author","Lyric Green, Ann Graham Gaines",null,null,null,null,"Q",null,"Grade 3 - 4","Grade 3 - 6","The Internet has a wealth of information. And there are many quick ways to get answers. But, students must know how to perform real research on the Internet. Using clear and concise text with descriptive examples, this book shows readers how to perform their own research and teaches them skills for citing their sources as well as figuring out which ones seem reliable. Full-color photos, quick facts, and sidebars help students understand Internet research better, while the glossary reinforces new vocabulary. A Further Reading section inspires further research.","English",27.93,20.95,"001.4/202854678--dc23","48 pp.","https://www.enslow.com/books/Future_Ready_Internet_Research_Skills/412717",{"$f":"Table1[[#This Row],[QTY]]*Table1[[#This Row],['# of Books]]","v":0},{"$f":"Table1[[#This Row],[QTY]]*Table1[[#This Row],[School & Library Price]]","v":0}]
[null,null,null,"Future Ready Project Skills","Future Ready Internet Research Skills",1,"eBook","978-0-7660-8656-2",{"$f":"HYPERLINK(Table1[[#This Row],[Hyperlink]],\"Weblink\")","v":"Weblink"},"Enslow Publishing","2018","August 2017",null,"Author, Author","Lyric Green, Ann Graham Gaines",null,null,null,null,"Q",null,"Grade 3 - 4","Grade 3 - 6","The Internet has a wealth of information. And there are many quick ways to get answers. But, students must know how to perform real research on the Internet. Using clear and concise text with descriptive examples, this book shows readers how to perform their own research and teaches them skills for citing their sources as well as figuring out which ones seem reliable. Full-color photos, quick facts, and sidebars help students understand Internet research better, while the glossary reinforces new vocabulary. A Further Reading section inspires further research.","English",27.93,20.95,"001.4/202854678--dc23","48 pp.","https://www.enslow.com/books/Future_Ready_Internet_Research_Skills/412717",{"$f":"Table1[[#This Row],[QTY]]*Table1[[#This Row],['# of Books]]","v":0},{"$f":"Table1[[#This Row],[QTY]]*Table1[[#This Row],[School & Library Price]]","v":0}]
[null,null,null,"Future Ready Project Skills","Future Ready Oral and Multimedia Presentations",1,"Library Bound Book","978-0-7660-8659-3",{"$f":"HYPERLINK(Table1[[#This Row],[Hyperlink]],\"Weblink\")","v":"Weblink"},"Enslow Publishing","2018","August 2017","7.250 X 9.250","Author, Author","Lyric Green, Lisa Bullard",null,null,null,null,"R",null,"Grade 3 - 4","Grade 3 - 6","Multimedia presentations are a part of every person’s education. From the time we start using computers, we’re expected to know how to use various programs and equipment in order to create videos, slideshows, recordings, and many other elements to create stimulating presentations and projects. Through eye-catching photos and specific text, students will learn how to create oral and multimedia presentations. These skills will be used through college and beyond, and they will be very useful to students for many years to come. The glossary reinforces new vocabulary, and a Further Reading section inspires further research.","English",27.93,20.95,"808.5/1--dc23","48 pp.","https://www.enslow.com/books/Future_Ready_Oral_and_Multimedia_Presentations/412719",{"$f":"Table1[[#This Row],[QTY]]*Table1[[#This Row],['# of Books]]","v":0},{"$f":"Table1[[#This Row],[QTY]]*Table1[[#This Row],[School & Library Price]]","v":0}]
[null,null,null,"Future Ready Project Skills","Future Ready Oral and Multimedia Presentations",1,"eBook","978-0-7660-8660-9",{"$f":"HYPERLINK(Table1[[#This Row],[Hyperlink]],\"Weblink\")","v":"Weblink"},"Enslow Publishing","2018","August 2017",null,"Author, Author","Lyric Green, Lisa Bullard",null,null,null,null,"R",null,"Grade 3 - 4","Grade 3 - 6","Multimedia presentations are a part of every person’s education. From the time we start using computers, we’re expected to know how to use various programs and equipment in order to create videos, slideshows, recordings, and many other elements to create stimulating presentations and projects. Through eye-catching photos and specific text, students will learn how to create oral and multimedia presentations. These skills will be used through college and beyond, and they will be very useful to students for many years to come. The glossary reinforces new vocabulary, and a Further Reading section inspires further research.","English",27.93,20.95,"808.5/1--dc23","48 pp.","https://www.enslow.com/books/Future_Ready_Oral_and_Multimedia_Presentations/412719",{"$f":"Table1[[#This Row],[QTY]]*Table1[[#This Row],['# of Books]]","v":0},{"$f":"Table1[[#This Row],[QTY]]*Table1[[#This Row],[School & Library Price]]","v":0}]
[null,null,null,"Future Ready Project Skills","Future Ready Writing Assignments",1,"Library Bound Book","978-0-7660-8719-4",{"$f":"HYPERLINK(Table1[[#This Row],[Hyperlink]],\"Weblink\")","v":"Weblink"},"Enslow Publishing","2018","August 2017","7.250 X 9.250","Author, Author","Lyric Green, Dana Meachen Rau",null,null,null,null,"O",null,"Grade 3 - 4","Grade 3 - 6","From research papers to poetry, students will be given many writing assignments over the course of their education. Through easy-to-follow text and clear examples, students will learn about the different types of writing assignments they’ll receive and how to write each one. Activities will encourage students to extend their writing skills further. Fast facts and sidebars bring new insight into the task of writing, while the glossary reinforces new vocabulary. A Further Reading section inspires further research.","English",27.93,20.95,"372.62/3044--dc23","48 pp.","https://www.enslow.com/books/Future_Ready_Writing_Assignments/412721",{"$f":"Table1[[#This Row],[QTY]]*Table1[[#This Row],['# of Books]]","v":0},{"$f":"Table1[[#This Row],[QTY]]*Table1[[#This Row],[School & Library Price]]","v":0}]
[null,null,null,"Future Ready Project Skills","Future Ready Writing Assignments",1,"eBook","978-0-7660-8663-0",{"$f":"HYPERLINK(Table1[[#This Row],[Hyperlink]],\"Weblink\")","v":"Weblink"},"Enslow Publishing","2018","August 2017",null,"Author, Author","Lyric Green, Dana Meachen Rau",null,null,null,null,"O",null,"Grade 3 - 4","Grade 3 - 6","From research papers to poetry, students will be given many writing assignments over the course of their education. Through easy-to-follow text and clear examples, students will learn about the different types of writing assignments they’ll receive and how to write each one. Activities will encourage students to extend their writing skills further. Fast facts and sidebars bring new insight into the task of writing, while the glossary reinforces new vocabulary. A Further Reading section inspires further research.","English",27.93,20.95,"372.62/3044--dc23","48 pp.","https://www.enslow.com/books/Future_Ready_Writing_Assignments/412721",{"$f":"Table1[[#This Row],[QTY]]*Table1[[#This Row],['# of Books]]","v":0},{"$f":"Table1[[#This Row],[QTY]]*Table1[[#This Row],[School & Library Price]]","v":0}]
[null,null,null,"Mastering Origami","Origami Animals",1,"eBook","978-0-7660-7947-2",{"$f":"HYPERLINK(Table1[[#This Row],[Hyperlink]],\"Weblink\")","v":"Weblink"},"Enslow Publishing","2017","August 2016",null,"Author","Tom Butler",null,null,null,null,"V",null,"Grade 5 - 6","Grade 5 - 8","Through detailed step-by-step instructions and full-color photographs, readers can practice origami and create a cute Scottish terrier, an adorable rabbit, an elegant peacock, and other animals. This book also includes a brief history of origami, a gallery of masterpieces, a glossary, and Further Reading.","English",27.93,20.95,"736'.982--dc23","48 pp.","https://www.enslow.com/books/Origami_Animals/421552",{"$f":"Table1[[#This Row],[QTY]]*Table1[[#This Row],['# of Books]]","v":0},{"$f":"Table1[[#This Row],[QTY]]*Table1[[#This Row],[School & Library Price]]","v":0}]
[null,null,null,"Mastering Origami","Origami Toys & Games",1,"Library Bound Book","978-0-7660-7950-2",{"$f":"HYPERLINK(Table1[[#This Row],[Hyperlink]],\"Weblink\")","v":"Weblink"},"Enslow Publishing","2017","August 2016","7.250 X 9.250","Author","Tom Butler",null,null,null,null,"W",null,"Grade 5 - 6","Grade 5 - 8","By following illustrated step-by-step instructions, children can create fun origami toys and games such as a zoomerang, a magic star that converts into a Frisbee, and a catapult and basketball hoop to share with their friends. A brief introduction explains the origins and significance of origami and examples of masterpieces will show readers what they can aspire to create.","English",27.93,20.95,"736'.982--dc23","48 pp.","https://www.enslow.com/books/Origami_Toys__and__Games/421557",{"$f":"Table1[[#This Row],[QTY]]*Table1[[#This Row],['# of Books]]","v":0},{"$f":"Table1[[#This Row],[QTY]]*Table1[[#This Row],[School & Library Price]]","v":0}]
[null,null,null,"Mastering Origami","Origami Vehicles",1,"Library Bound Book","978-0-7660-7953-3",{"$f":"HYPERLINK(Table1[[#This Row],[Hyperlink]],\"Weblink\")","v":"Weblink"},"Enslow Publishing","2017","August 2016","7.250 X 9.250","Author","Tom Butler",null,null,null,null,"X",null,"Grade 5 - 6","Grade 5 - 8","Step-by-step instructions illustrated with full-color photographs show readers how to make fun origami pieces, such as blinking eyes, kissing lips, and a nodding dog, to impress their friends and family. By including a brief history of origami, a gallery of masterpieces, a glossary, and Further Reading, this book also informs as well as entertains.","English",27.93,20.95,"736'.982--dc23","48 pp.","https://www.enslow.com/books/Origami_Vehicles/421562",{"$f":"Table1[[#This Row],[QTY]]*Table1[[#This Row],['# of Books]]","v":0},{"$f":"Table1[[#This Row],[QTY]]*Table1[[#This Row],[School & Library Price]]","v":0}]
[null,null,null,"Mastering Origami","Origami Vehicles",1,"eBook","978-0-7660-7954-0",{"$f":"HYPERLINK(Table1[[#This Row],[Hyperlink]],\"Weblink\")","v":"Weblink"},"Enslow Publishing","2017","August 2016",null,"Author","Tom Butler",null,null,null,null,"X",null,"Grade 5 - 6","Grade 5 - 8","Step-by-step instructions illustrated with full-color photographs show readers how to make fun origami pieces, such as blinking eyes, kissing lips, and a nodding dog, to impress their friends and family. By including a brief history of origami, a gallery of masterpieces, a glossary, and Further Reading, this book also informs as well as entertains.","English",27.93,20.95,"736'.982--dc23","48 pp.","https://www.enslow.com/books/Origami_Vehicles/421562",{"$f":"Table1[[#This Row],[QTY]]*Table1[[#This Row],['# of Books]]","v":0},{"$f":"Table1[[#This Row],[QTY]]*Table1[[#This Row],[School & Library Price]]","v":0}]
[null,null,null,"Exceptional Asians","Exceptional Asians",6,"Library Set","978-0-7660-7492-7",{"$f":"HYPERLINK(Table1[[#This Row],[Hyperlink]],\"Weblink\")","v":"Weblink"},"Enslow Publishing","2017","August 2016","7.125 X 8.500",null,null,null,null,null,null,null,null,"Grade 2 - 3","Grade 3 - 5","Heroes and role models take all forms, and this series includes them all from architects to authors to musicians to actors. These brief, accessible biographies highlight the lives and achievements of six influential modern Asian Americans. Full-color photographs, well-researched information, and direct quotations from the individuals help readers understand what drove these exceptional Asians forward and will inspire others to do the same.","English",135.6,101.7,null,"24 pp.","https://www.enslow.com/series/Exceptional_Asians/419693",{"$f":"Table1[[#This Row],[QTY]]*Table1[[#This Row],['# of Books]]","v":0},{"$f":"Table1[[#This Row],[QTY]]*Table1[[#This Row],[School & Library Price]]","v":0}]
[null,null,null,"Exceptional Asians","Brenda Song: Actress and Singer",1,"Library Bound Book","978-0-7660-7840-6",{"$f":"HYPERLINK(Table1[[#This Row],[Hyperlink]],\"Weblink\")","v":"Weblink"},"Enslow Publishing","2017","August 2016","7.125 X 8.500","Author","Portia Summers","5.1","0.5",null,null,"O","840L","Grade 2 - 3","Grade 3 - 5","As a young girl growing up in California, Brenda Song knew that she wanted to be a performer. Years of hard work and determination eventually led to her starring role on the beloved Disney sitcom The Suite Life of Zack and Cody. Young readers will be enthralled by the details of Song’s little-known success story told with simple text and vibrant color photos. A Words to Know section in the beginning of the text helps readers with any unfamiliar vocabulary they may encounter, and direct quotations allow readers to connect with the inspirational Song, a role model for a modern generation.","English",22.6,16.95,"791.4302/8092--dc23","24 pp.","https://www.enslow.com/books/Brenda_Song/419284",{"$f":"Table1[[#This Row],[QTY]]*Table1[[#This Row],['# of Books]]","v":0},{"$f":"Table1[[#This Row],[QTY]]*Table1[[#This Row],[School & Library Price]]","v":0}]
[null,null,null,"Exceptional Asians","Bruno Mars: Singer and Songwriter",1,"eBook","978-0-7660-7823-9",{"$f":"HYPERLINK(Table1[[#This Row],[Hyperlink]],\"Weblink\")","v":"Weblink"},"Enslow Publishing","2017","August 2016",null,"Author","Kristen Rajczak Nelson","5.5","0.5",null,null,"O",null,"Grade 2 - 3","Grade 3 - 5","How did Peter Hernandez, a young Elvis impersonator from Honolulu, Hawaii, become Bruno Mars, one of the biggest pop stars of his time? This colorful biography uses vibrant photos and simple text to tell the story of Mars’s ascension to fame, including his family’s strong musical influence and his own early love of performing. Readers will benefit from the Words to Know section in the beginning of the book, and direct quotes by Mars allow readers to connect with this larger-than-life performer.","English",22.6,16.95,"782.42164092--dc23","24 pp.","https://www.enslow.com/books/Bruno_Mars/419289",{"$f":"Table1[[#This Row],[QTY]]*Table1[[#This Row],['# of Books]]","v":0},{"$f":"Table1[[#This Row],[QTY]]*Table1[[#This Row],[School & Library Price]]","v":0}]
[null,null,null,"Exceptional Asians","Laurence Yep: Newbery Award-Winning Author",1,"Library Bound Book","978-0-7660-7839-0",{"$f":"HYPERLINK(Table1[[#This Row],[Hyperlink]],\"Weblink\")","v":"Weblink"},"Enslow Publishing","2017","August 2016","7.125 X 8.500","Author","Kristen Rajczak Nelson","5.5","0.5",null,null,"N","970L","Grade 2 - 3","Grade 3 - 5","Growing up as a Chinese American in California, Laurence Yep felt trapped between two worlds, belonging to neither one. It was this feeling of being an outsider that caused him to lose himself in books and eventually become the writer of two Newbery Honor books himself. Readers will be inspired by this simply-told biography of the author of Dragonwings and Dragon’s Gate. A Words to Know section prepares readers for any unfamiliar vocabulary they may find in the text, and personal photographs and direct quotations from Yep paint a colorful picture of this important author.","English",22.6,16.95,"813/.54--dc23","24 pp.","https://www.enslow.com/books/Laurence_Yep/419279",{"$f":"Table1[[#This Row],[QTY]]*Table1[[#This Row],['# of Books]]","v":0},{"$f":"Table1[[#This Row],[QTY]]*Table1[[#This Row],[School & Library Price]]","v":0}]
[null,null,null,"Exceptional Asians","Lucy Liu: Actress, Artist, and Activist",1,"eBook","978-0-7660-7825-3",{"$f":"HYPERLINK(Table1[[#This Row],[Hyperlink]],\"Weblink\")","v":"Weblink"},"Enslow Publishing","2017","August 2016",null,"Author","Therese M. Shea","5.3","0.5",null,null,"N",null,"Grade 2 - 3","Grade 3 - 5","When Lucy Liu, the daughter of Chinese immigrants, landed the lead role in her college production of Alice in Wonderland, she could not have known that it would set her on the path to becoming one of the most successful Asian American actors in Hollywood. Through simple text and vivid photos, readers will appreciate Liu’s struggles as she grew up looking different from other girls, and learn about her dedication to important causes such as poverty and women’s rights. A Words to Know section helps readers with new vocabulary, and quotes by Liu shed light on this multifaceted woman who continues to break down barriers as an actor and an activist.","English",22.6,16.95,"791.4302/8092--dc23","24 pp.","https://www.enslow.com/books/Lucy_Liu/419294",{"$f":"Table1[[#This Row],[QTY]]*Table1[[#This Row],['# of Books]]","v":0},{"$f":"Table1[[#This Row],[QTY]]*Table1[[#This Row],[School & Library Price]]","v":0}]
[null,null,null,"Exceptional Asians","Maya Lin: Artist and Architect",1,"Library Bound Book","978-0-7660-7838-3",{"$f":"HYPERLINK(Table1[[#This Row],[Hyperlink]],\"Weblink\")","v":"Weblink"},"Enslow Publishing","2017","August 2016","7.125 X 8.500","Author","Cecelia H. Brannon","5.7","0.5",null,null,"O",null,"Grade 2 - 3","Grade 3 - 5","When Maya Lin’s design for the new Vietnam Veterans Memorial was chosen in 1981 over more than a thousand other designs, it was a highly controversial decision. But Lin, a young Chinese American, believed in herself and her work, and she not only saw her design come to fruition, but she went on to create numerous other buildings, sculptures, and memorials around the country. Readers will be fascinated by the story of this creative young artist, told with simple text and supplemented with color photos. A Words to Know section helps prepare readers for vocabulary in the text, and quotes from Lin herself paint a clearer picture of an accomplished artist whose influences range from her cultural background to the biodiversity of our planet.","English",22.6,16.95,"720.92--dc23","24 pp.","https://www.enslow.com/books/Maya_Lin/419274",{"$f":"Table1[[#This Row],[QTY]]*Table1[[#This Row],['# of Books]]","v":0},{"$f":"Table1[[#This Row],[QTY]]*Table1[[#This Row],[School & Library Price]]","v":0}]
[null,null,null,"Exceptional Asians","Yo-Yo Ma: Classical Musician",1,"eBook","978-0-7660-7816-1",{"$f":"HYPERLINK(Table1[[#This Row],[Hyperlink]],\"Weblink\")","v":"Weblink"},"Enslow Publishing","2017","August 2016",null,"Author","Therese M. Shea","5.3","0.5",null,null,"N",null,"Grade 2 - 3","Grade 3 - 5","While most people know Yo-Yo Ma as the most famous cellist in the world, they may not know that he actually started out as a violin player—until the four-year-old told his parents he wanted to play a big instrument. Much more than a uniquely talented classical musician, Ma has written an Academy Award-winning film score, played for eight presidents, and appeared on The Simpsons. Readers will enjoy learning about this dynamic man through simple text and vibrant color photos. A Words to Know section familiarizes readers with new vocabulary, and quotes from Ma reflect his beliefs on a range of topics from teachers to multiculturalism.","English",22.6,16.95,"787.4092--dc23","24 pp.","https://www.enslow.com/books/Yo_Yo_Ma/419269",{"$f":"Table1[[#This Row],[QTY]]*Table1[[#This Row],['# of Books]]","v":0},{"$f":"Table1[[#This Row],[QTY]]*Table1[[#This Row],[School & Library Price]]","v":0}]
[null,null,null,"The Royal Wedding of Prince Harry and Meghan Markle: A Special Relationship","The Royal Wedding of Prince Harry and Meghan Markle: A Special Relationship",1,"Library Bound Book","978-1-9785-0698-5",{"$f":"HYPERLINK(Table1[[#This Row],[Hyperlink]],\"Weblink\")","v":"Weblink"},"Enslow Publishing","2018","August 2018","7.125 X 8.500","Author, Author","Katie Kawa, Kristen Rajczak Nelson",null,null,null,null,"T",null,"Grade 4 - 5","Grade 4 - 8","On May 19, 2018, a new chapter in the special relationship between the United Kingdom and the United States began when Prince Harry married the American actress Meghan Markle. Their royal wedding was watched by over two billion people around the world, who were captivated by the joy and romance of the occasion. The unique ceremony, which honored the traditions and cultural backgrounds of both the bride and the groom, was filled with famous faces, powerful musical performances, and heartfelt words. The beauty of this occasion is captured for readers through striking photographs of all of the royal wedding's biggest moments, from the arrival of the guests and the reveal of the wedding dress to the happy moments after the new Duke and Duchess of Sussex were named husband and wife. Each turn of the page reveals more details of this historic day, which has been seen by many as a symbol of inclusion and unity in a divided world.","English",30,22.5,"941.086092--dc23","32 pp.","https://www.enslow.com/books/The_Royal_Wedding_of_Prince_Harry_and_Meghan_Markle/421804",{"$f":"Table1[[#This Row],[QTY]]*Table1[[#This Row],['# of Books]]","v":0},{"$f":"Table1[[#This Row],[QTY]]*Table1[[#This Row],[School & Library Price]]","v":0}]
[null,null,null,"The Royal Wedding of Prince Harry and Meghan Markle: A Special Relationship","The Royal Wedding of Prince Harry and Meghan Markle: A Special Relationship",1,"eBook","978-1-9785-0697-8",{"$f":"HYPERLINK(Table1[[#This Row],[Hyperlink]],\"Weblink\")","v":"Weblink"},"Enslow Publishing","2018","August 2018",null,"Author, Author","Katie Kawa, Kristen Rajczak Nelson",null,null,null,null,"T",null,"Grade 4 - 5","Grade 4 - 8","On May 19, 2018, a new chapter in the special relationship between the United Kingdom and the United States began when Prince Harry married the American actress Meghan Markle. Their royal wedding was watched by over two billion people around the world, who were captivated by the joy and romance of the occasion. The unique ceremony, which honored the traditions and cultural backgrounds of both the bride and the groom, was filled with famous faces, powerful musical performances, and heartfelt words. The beauty of this occasion is captured for readers through striking photographs of all of the royal wedding's biggest moments, from the arrival of the guests and the reveal of the wedding dress to the happy moments after the new Duke and Duchess of Sussex were named husband and wife. Each turn of the page reveals more details of this historic day, which has been seen by many as a symbol of inclusion and unity in a divided world.","English",30,22.5,"941.086092--dc23","32 pp.","https://www.enslow.com/books/The_Royal_Wedding_of_Prince_Harry_and_Meghan_Markle/421804",{"$f":"Table1[[#This Row],[QTY]]*Table1[[#This Row],['# of Books]]","v":0},{"$f":"Table1[[#This Row],[QTY]]*Table1[[#This Row],[School & Library Price]]","v":0}]
[null,null,null,"You Choose","You Choose: Sets 1 – 2",8,"Library Set","978-0-7660-9039-2",{"$f":"HYPERLINK(Table1[[#This Row],[Hyperlink]],\"Weblink\")","v":"Weblink"},"Enslow Publishing","2018","August 2017","8.250 X 9.000",null,null,null,null,null,null,null,null,"Grade 2","Grade Pre-K - 3","Children may be surprised to learn that doing the right thing isn't always easy. Each of these accessible, character-education books explores the story of one child who faces dilemmas about different social situations, the choices he or she makes, and the consequences of those choices. The interactive question-and-answer approach engages the reader in real-life situations while the charming, colorful illustrations keep the tome of the books light, whimsical, playful, and fun. Features include: Fictional accounts supported by fast facts and helpful advice. Illustrations, glossaries, indexes, and interactive queries support each narrative.","English",206.16,154.6,null,"32 pp.","https://www.enslow.com/series/You_Choose/446",{"$f":"Table1[[#This Row],[QTY]]*Table1[[#This Row],['# of Books]]","v":0},{"$f":"Table1[[#This Row],[QTY]]*Table1[[#This Row],[School & Library Price]]","v":0}]
[null,null,null,"You Choose","Don't Play Dirty, Gertie",1,"Library Bound Book","978-0-7660-4307-7",{"$f":"HYPERLINK(Table1[[#This Row],[Hyperlink]],\"Weblink\")","v":"Weblink"},"Enslow Publishing","2014","August 2013","8.250 X 9.000","Author","Sarah Eason","3.2",null,null,null,"K",null,"Grade 2","Grade Pre-K - 3","Gertie doesn't always play fair. Sometimes Gertie is on the spot with some tricky problems. Can Gertie learn to decide what is fair?","English",26.27,19.7,"155.4","32 pp.","https://www.enslow.com/books/Dont_Play_Dirty_Gertie/4190",{"$f":"Table1[[#This Row],[QTY]]*Table1[[#This Row],['# of Books]]","v":0},{"$f":"Table1[[#This Row],[QTY]]*Table1[[#This Row],[School & Library Price]]","v":0}]
[null,null,null,"You Choose","Don't Be Sad, Sam: It's Ok",1,"Library Bound Book","978-0-7660-8698-2",{"$f":"HYPERLINK(Table1[[#This Row],[Hyperlink]],\"Weblink\")","v":"Weblink"},"Enslow Publishing","2018","August 2017","8.250 X 9.000","Author","Lisa Regan",null,null,null,null,"M",null,"Grade 2","Grade Pre-K - 3","Readers will be delighted by colorful illustrations as they immerse themselves in Sam’s story and try to make the right decisions. Sam finds himself in several situations that make him sad: his hamster dies, his best friend moves away, and his parents pay more attention to his little sister than to him. There are three ways Sam can act in every situation. The reader can compare Sam’s choices to the ones he or she would have made and gain a deeper understanding of the central lesson.","English",25.27,18.95,"152.4--dc23","32 pp.","https://www.enslow.com/books/Dont_Be_Sad_Sam/412795",{"$f":"Table1[[#This Row],[QTY]]*Table1[[#This Row],['# of Books]]","v":0},{"$f":"Table1[[#This Row],[QTY]]*Table1[[#This Row],[School & Library Price]]","v":0}]
[null,null,null,"You Choose","Don't Get Angry, Annie: Stay Calm",1,"eBook","978-0-7660-8701-9",{"$f":"HYPERLINK(Table1[[#This Row],[Hyperlink]],\"Weblink\")","v":"Weblink"},"Enslow Publishing","2018","August 2017",null,"Author","Lisa Regan",null,null,null,null,"M",null,"Grade 2","Grade Pre-K - 3","Whimsical illustrations and simple, engaging narrative guide readers through different situations Annie faces that cause her to get angry. She becomes frustrated when her dog drawing comes out poorly. Her mother will not allow her to have a cookie before tea. Her little brother is not playing a game correctly. Annie chooses one out of three behaviors for each situation, and the consequences of that choice is explained. A \"How to Use This Book Section\" for both parents and children shows how to apply these lessons to real life.","English",25.27,18.95,"152.4’7--dc23","32 pp.","https://www.enslow.com/books/Dont_Get_Angry_Annie/412796",{"$f":"Table1[[#This Row],[QTY]]*Table1[[#This Row],['# of Books]]","v":0},{"$f":"Table1[[#This Row],[QTY]]*Table1[[#This Row],[School & Library Price]]","v":0}]
[null,null,null,"You Choose","Hand it Over, Harry",1,"Library Bound Book","978-0-7660-4308-4",{"$f":"HYPERLINK(Table1[[#This Row],[Hyperlink]],\"Weblink\")","v":"Weblink"},"Enslow Publishing","2014","August 2013","8.250 X 9.000","Author","Sarah Eason","3.1",null,null,null,"K",null,"Grade 2","Grade Pre-K - 3","At times, Harry might be faced with some sticky situations. What is the best way to get a present for his mom? Readers help Harry decide what choices to make, are they the honest ones?","English",26.27,19.7,"179","32 pp.","https://www.enslow.com/books/Hand_it_Over_Harry/4191",{"$f":"Table1[[#This Row],[QTY]]*Table1[[#This Row],['# of Books]]","v":0},{"$f":"Table1[[#This Row],[QTY]]*Table1[[#This Row],[School & Library Price]]","v":0}]
[null,null,null,"You Choose","Wait Your Turn, Tilly: Be Patient",1,"Library Bound Book","978-0-7660-8704-0",{"$f":"HYPERLINK(Table1[[#This Row],[Hyperlink]],\"Weblink\")","v":"Weblink"},"Enslow Publishing","2018","August 2017","8.250 X 9.000","Author","Lisa Regan",null,null,null,null,"O",null,"Grade 2","Grade Pre-K - 3","This accessible value education book explores the story of an impatient child named Tilly who does not like waiting or letting others have their turn. She wants to play the video game her brother is playing. She wants to go on the seesaw her friends are on. She wants to tell her parents about her swimming lesson in the middle of their conversation. Tilly chooses one out of three behaviors for each situation, and the consequences of each choice is explained. The interactive question-and-answer approach engages the reader in real-life situations, while the charming, colorful illustrations keep the tone of the book whimsical and playful.","English",25.27,18.95,"179’.9--dc23","32 pp.","https://www.enslow.com/books/Wait_Your_Turn_Tilly/412798",{"$f":"Table1[[#This Row],[QTY]]*Table1[[#This Row],['# of Books]]","v":0},{"$f":"Table1[[#This Row],[QTY]]*Table1[[#This Row],[School & Library Price]]","v":0}]
[null,null,null,"You Choose","Wait Your Turn, Tilly: Be Patient",1,"eBook","978-0-7660-8705-7",{"$f":"HYPERLINK(Table1[[#This Row],[Hyperlink]],\"Weblink\")","v":"Weblink"},"Enslow Publishing","2018","August 2017",null,"Author","Lisa Regan",null,null,null,null,"O",null,"Grade 2","Grade Pre-K - 3","This accessible value education book explores the story of an impatient child named Tilly who does not like waiting or letting others have their turn. She wants to play the video game her brother is playing. She wants to go on the seesaw her friends are on. She wants to tell her parents about her swimming lesson in the middle of their conversation. Tilly chooses one out of three behaviors for each situation, and the consequences of each choice is explained. The interactive question-and-answer approach engages the reader in real-life situations, while the charming, colorful illustrations keep the tone of the book whimsical and playful.","English",25.27,18.95,"179’.9--dc23","32 pp.","https://www.enslow.com/books/Wait_Your_Turn_Tilly/412798",{"$f":"Table1[[#This Row],[QTY]]*Table1[[#This Row],['# of Books]]","v":0},{"$f":"Table1[[#This Row],[QTY]]*Table1[[#This Row],[School & Library Price]]","v":0}]
[null,null,null,"I Want to Know","Are Aliens Real?",1,"eBook","978-0-7660-8231-1",{"$f":"HYPERLINK(Table1[[#This Row],[Hyperlink]],\"Weblink\")","v":"Weblink"},"Enslow Publishing","2017","January 2017",null,"Author, Author","Portia Summers, Dana Meachen Rau",null,null,null,null,"O","880L","Grade 3","Grade 3 - 6","Information about aliens and UFOs is presented through historical accounts and personal experiences, as well as possible scientific explanations. Vivid images and a colorful design will keep even reluctant readers interested, while a glossary strengthens vocabulary. Then, readers can decide for themselves based on the evidence presented.","English",25.27,18.95,"001.942--dc23","32 pp.","https://www.enslow.com/books/Are_Aliens_Real/421609",{"$f":"Table1[[#This Row],[QTY]]*Table1[[#This Row],['# of Books]]","v":0},{"$f":"Table1[[#This Row],[QTY]]*Table1[[#This Row],[School & Library Price]]","v":0}]
[null,null,null,"I Want to Know","Are Dragons Real?",1,"Library Bound Book","978-0-7660-8234-2",{"$f":"HYPERLINK(Table1[[#This Row],[Hyperlink]],\"Weblink\")","v":"Weblink"},"Enslow Publishing","2017","January 2017","7.125 X 8.500","Author, Author","Portia Summers, Dana Meachen Rau",null,null,null,null,"N",null,"Grade 3","Grade 3 - 6","Delving deep into mythology of dragons from across the globe, this narrative text will inform readers about different cultures and present possible scientific explanations. A glossary strengthens vocabulary, while full-color images and a bright design will keep even the most reluctant readers interested. Then, readers can decide for themselves based on the evidence presented.","English",25.27,18.95,"398.24/54--dc23","32 pp.","https://www.enslow.com/books/Are_Dragons_Real/421611",{"$f":"Table1[[#This Row],[QTY]]*Table1[[#This Row],['# of Books]]","v":0},{"$f":"Table1[[#This Row],[QTY]]*Table1[[#This Row],[School & Library Price]]","v":0}]
[null,null,null,"I Want to Know","Are Ghosts Real?",1,"Library Bound Book","978-0-7660-8238-0",{"$f":"HYPERLINK(Table1[[#This Row],[Hyperlink]],\"Weblink\")","v":"Weblink"},"Enslow Publishing","2017","January 2017","7.125 X 8.500","Author","Heather Moore Niver",null,null,null,null,"O","850L","Grade 3","Grade 3 - 6","Haunted houses, spirits, and ghosts are explored through historical accounts, personal experiences, photographs, and legendary stories. Full-color images and a fun design will keep even reluctant readers interested, while a glossary strengthens vocabulary. Then, readers can come to their own conclusions.","English",25.27,18.95,"133.1--dc23","32 pp.","https://www.enslow.com/books/Are_Ghosts_Real/421612",{"$f":"Table1[[#This Row],[QTY]]*Table1[[#This Row],['# of Books]]","v":0},{"$f":"Table1[[#This Row],[QTY]]*Table1[[#This Row],[School & Library Price]]","v":0}]
[null,null,null,"I Want to Know","Are Ghosts Real?",1,"eBook","978-0-7660-8239-7",{"$f":"HYPERLINK(Table1[[#This Row],[Hyperlink]],\"Weblink\")","v":"Weblink"},"Enslow Publishing","2017","January 2017",null,"Author","Heather Moore Niver",null,null,null,null,"O","850L","Grade 3","Grade 3 - 6","Haunted houses, spirits, and ghosts are explored through historical accounts, personal experiences, photographs, and legendary stories. Full-color images and a fun design will keep even reluctant readers interested, while a glossary strengthens vocabulary. Then, readers can come to their own conclusions.","English",25.27,18.95,"133.1--dc23","32 pp.","https://www.enslow.com/books/Are_Ghosts_Real/421612",{"$f":"Table1[[#This Row],[QTY]]*Table1[[#This Row],['# of Books]]","v":0},{"$f":"Table1[[#This Row],[QTY]]*Table1[[#This Row],[School & Library Price]]","v":0}]
[null,null,null,"I Want to Know","Are Monsters Real?",1,"Library Bound Book","978-0-7660-8246-5",{"$f":"HYPERLINK(Table1[[#This Row],[Hyperlink]],\"Weblink\")","v":"Weblink"},"Enslow Publishing","2017","January 2017","7.125 X 8.500","Author, Author","Portia Summers, Dana Meachen Rau",null,null,null,null,"P","900L","Grade 3","Grade 3 - 6","Delving into myths and legends from across many cultures, this narrative text presents classic legends side by side with possible scientific explanations. Vivid images and a dynamic design will keep even the most reluctant readers interested, while a glossary allows readers to build vocabulary. Then, readers can examine the evidence and decide for themselves.","English",25.27,18.95,"001.944--dc23","32 pp.","https://www.enslow.com/books/Are_Monsters_Real/421613",{"$f":"Table1[[#This Row],[QTY]]*Table1[[#This Row],['# of Books]]","v":0},{"$f":"Table1[[#This Row],[QTY]]*Table1[[#This Row],[School & Library Price]]","v":0}]
[null,null,null,"I Want to Know","Are Monsters Real?",1,"eBook","978-0-7660-8247-2",{"$f":"HYPERLINK(Table1[[#This Row],[Hyperlink]],\"Weblink\")","v":"Weblink"},"Enslow Publishing","2017","January 2017",null,"Author, Author","Portia Summers, Dana Meachen Rau",null,null,null,null,"P","900L","Grade 3","Grade 3 - 6","Delving into myths and legends from across many cultures, this narrative text presents classic legends side by side with possible scientific explanations. Vivid images and a dynamic design will keep even the most reluctant readers interested, while a glossary allows readers to build vocabulary. Then, readers can examine the evidence and decide for themselves.","English",25.27,18.95,"001.944--dc23","32 pp.","https://www.enslow.com/books/Are_Monsters_Real/421613",{"$f":"Table1[[#This Row],[QTY]]*Table1[[#This Row],['# of Books]]","v":0},{"$f":"Table1[[#This Row],[QTY]]*Table1[[#This Row],[School & Library Price]]","v":0}]
[null,null,null,"I Want to Know","Was Atlantis Real?",1,"Library Bound Book","978-0-7660-9201-3",{"$f":"HYPERLINK(Table1[[#This Row],[Hyperlink]],\"Weblink\")","v":"Weblink"},"Enslow Publishing","2018","January 2018","7.125 X 8.500","Author","Portia Summers",null,null,null,null,"L",null,"Grade 3","Grade 3 - 6","Already a legend during the time of the ancient Greeks, the story of Atlantis told of a sophisticated civilization that disappeared underwater. Civilizations and floods have been talked about for centuries, across many cultures and continents. Readers will discover the many stories of underwater cities and how they have been discussed over the years. Vibrant images and fast facts will help readers further explore the legend of Atlantis, and curious minds will be encouraged to answer the question for themselves.","English",25.27,18.95,"001.94--dc23","32 pp.","https://www.enslow.com/books/Was_Atlantis_Real/421699",{"$f":"Table1[[#This Row],[QTY]]*Table1[[#This Row],['# of Books]]","v":0},{"$f":"Table1[[#This Row],[QTY]]*Table1[[#This Row],[School & Library Price]]","v":0}]
[null,null,null,"I Want to Know","Was Atlantis Real?",1,"eBook","978-0-7660-9337-9",{"$f":"HYPERLINK(Table1[[#This Row],[Hyperlink]],\"Weblink\")","v":"Weblink"},"Enslow Publishing","2018","January 2018",null,"Author","Portia Summers",null,null,null,null,"L",null,"Grade 3","Grade 3 - 6","Already a legend during the time of the ancient Greeks, the story of Atlantis told of a sophisticated civilization that disappeared underwater. Civilizations and floods have been talked about for centuries, across many cultures and continents. Readers will discover the many stories of underwater cities and how they have been discussed over the years. Vibrant images and fast facts will help readers further explore the legend of Atlantis, and curious minds will be encouraged to answer the question for themselves.","English",25.27,18.95,"001.94--dc23","32 pp.","https://www.enslow.com/books/Was_Atlantis_Real/421699",{"$f":"Table1[[#This Row],[QTY]]*Table1[[#This Row],['# of Books]]","v":0},{"$f":"Table1[[#This Row],[QTY]]*Table1[[#This Row],[School & Library Price]]","v":0}]
[null,null,null,"I Want to Know","Was Dr. Frankenstein Real?",1,"Library Bound Book","978-0-7660-9198-6",{"$f":"HYPERLINK(Table1[[#This Row],[Hyperlink]],\"Weblink\")","v":"Weblink"},"Enslow Publishing","2018","January 2018","7.125 X 8.500","Author","Therese M. Shea",null,null,null,null,"N","990L","Grade 3","Grade 3 - 6","The Frankenstein monster is an icon of horror. Even the youngest trick-or-treaters recognize Frankenstein's green-skinned costume. However, many people are surprised to know this monster's name is not actually Frankenstein. That's the name of its creator, Dr. Victor Frankenstein, from the nineteenth-century novel written by Mary Shelley. This fictitious doctor, one of the first \"mad scientists,\" was based on real-life researchers and their experiments. This compelling volume examines the work of Shelley and its possible inspirations in the world of science. The high-interest topic, thought-provoking sidebars, fun fact boxes, and historical images will attract all levels of readers.","English",25.27,18.95,"823/.7--dc23","32 pp.","https://www.enslow.com/books/Was_Dr_Frankenstein_Real/421697",{"$f":"Table1[[#This Row],[QTY]]*Table1[[#This Row],['# of Books]]","v":0},{"$f":"Table1[[#This Row],[QTY]]*Table1[[#This Row],[School & Library Price]]","v":0}]
[null,null,null,"I Want to Know","Was Dr. Frankenstein Real?",1,"eBook","978-0-7660-9335-5",{"$f":"HYPERLINK(Table1[[#This Row],[Hyperlink]],\"Weblink\")","v":"Weblink"},"Enslow Publishing","2018","January 2018",null,"Author","Therese M. Shea",null,null,null,null,"N","990L","Grade 3","Grade 3 - 6","The Frankenstein monster is an icon of horror. Even the youngest trick-or-treaters recognize Frankenstein's green-skinned costume. However, many people are surprised to know this monster's name is not actually Frankenstein. That's the name of its creator, Dr. Victor Frankenstein, from the nineteenth-century novel written by Mary Shelley. This fictitious doctor, one of the first \"mad scientists,\" was based on real-life researchers and their experiments. This compelling volume examines the work of Shelley and its possible inspirations in the world of science. The high-interest topic, thought-provoking sidebars, fun fact boxes, and historical images will attract all levels of readers.","English",25.27,18.95,"823/.7--dc23","32 pp.","https://www.enslow.com/books/Was_Dr_Frankenstein_Real/421697",{"$f":"Table1[[#This Row],[QTY]]*Table1[[#This Row],['# of Books]]","v":0},{"$f":"Table1[[#This Row],[QTY]]*Table1[[#This Row],[School & Library Price]]","v":0}]
[null,null,null,"I Want to Know","Was Moby Dick Real?",1,"Library Bound Book","978-0-7660-9197-9",{"$f":"HYPERLINK(Table1[[#This Row],[Hyperlink]],\"Weblink\")","v":"Weblink"},"Enslow Publishing","2018","January 2018","7.125 X 8.500","Author","Laura Baskes Litwin",null,null,null,null,"P","940L","Grade 3","Grade 3 - 6","The tale of the giant white whale immortalized in Herman Melville's classic 1851 novel was inspired by horrifying real events: the shipwreck of a whaling boat and the desperate efforts of its twenty-man crew to survive. With accessible text and vivid full-color imagery, this engrossing volume investigates both the legend and the true story behind Moby Dick. Entertaining fast facts and insightful sidebars will keep elementary-level readers engaged throughout. A Further Reading list with books and websites encourages further exploration.","English",25.27,18.95,"813/.3--dc23","32 pp.","https://www.enslow.com/books/Was_Moby_Dick_Real/421696",{"$f":"Table1[[#This Row],[QTY]]*Table1[[#This Row],['# of Books]]","v":0},{"$f":"Table1[[#This Row],[QTY]]*Table1[[#This Row],[School & Library Price]]","v":0}]
[null,null,null,"I Want to Know","Was Moby Dick Real?",1,"eBook","978-0-7660-9334-8",{"$f":"HYPERLINK(Table1[[#This Row],[Hyperlink]],\"Weblink\")","v":"Weblink"},"Enslow Publishing","2018","January 2018",null,"Author","Laura Baskes Litwin",null,null,null,null,"P","940L","Grade 3","Grade 3 - 6","The tale of the giant white whale immortalized in Herman Melville's classic 1851 novel was inspired by horrifying real events: the shipwreck of a whaling boat and the desperate efforts of its twenty-man crew to survive. With accessible text and vivid full-color imagery, this engrossing volume investigates both the legend and the true story behind Moby Dick. Entertaining fast facts and insightful sidebars will keep elementary-level readers engaged throughout. A Further Reading list with books and websites encourages further exploration.","English",25.27,18.95,"813/.3--dc23","32 pp.","https://www.enslow.com/books/Was_Moby_Dick_Real/421696",{"$f":"Table1[[#This Row],[QTY]]*Table1[[#This Row],['# of Books]]","v":0},{"$f":"Table1[[#This Row],[QTY]]*Table1[[#This Row],[School & Library Price]]","v":0}]
[null,null,null,"I Want to Know","Was Sherlock Holmes Real?",1,"eBook","978-0-7660-9336-2",{"$f":"HYPERLINK(Table1[[#This Row],[Hyperlink]],\"Weblink\")","v":"Weblink"},"Enslow Publishing","2018","January 2018",null,"Author","Heather Moore Niver",null,null,null,null,"O","790L","Grade 3","Grade 3 - 6","The quirky sleuth Sherlock Holmes has been a popular character on the page and stage, as well as on television and in movies. Made famous by Scottish writer Sir Arthur Conan Doyle, Holmes became a model for many future detectives. Readers will learn whether this character came from the brilliant mind of his writer or if Sherlock's sometimes outrageous means of solving cases were actually those of a real-life detective. Fast facts add entertaining and informative clues to help readers solve this mystery for themselves.","English",25.27,18.95,"823/.8--dc23","32 pp.","https://www.enslow.com/books/Was_Sherlock_Holmes_Real/421698",{"$f":"Table1[[#This Row],[QTY]]*Table1[[#This Row],['# of Books]]","v":0},{"$f":"Table1[[#This Row],[QTY]]*Table1[[#This Row],[School & Library Price]]","v":0}]
[null,null,null,"True or False?","True or False?",4,"Library Set","978-0-7660-7497-2",{"$f":"HYPERLINK(Table1[[#This Row],[Hyperlink]],\"Weblink\")","v":"Weblink"},"Enslow Publishing","2017","August 2016","7.250 X 9.250",null,null,null,null,null,null,null,null,"Grade 3","Grade 3 - 5","A mouthful of seawater contains millions of organisms. No plants can grow in Antarctica. Sir Isaac Newton wrote his theory of relativity after an apple fell on his head. These are well-known facts. Or are they? Through clever language and fun information, readers can learn facts about history, animal science, the planet, outer space, and scientific breakthroughs. A quiz begins each chapter so readers can test their knowledge and then find out the answers. A score card in the back lets them compare with their friends and classmates. Colorful illustrations help these facts stay on the mind and will keep readers talking about weird science, heroes and heroines, and strange biology for a long time to come.","English",111.72,83.8,null,"48 pp.","https://www.enslow.com/series/True_or_False/419698",{"$f":"Table1[[#This Row],[QTY]]*Table1[[#This Row],['# of Books]]","v":0},{"$f":"Table1[[#This Row],[QTY]]*Table1[[#This Row],[School & Library Price]]","v":0}]
[null,null,null,"True or False?","It Can Rain Frogs and Fish: And Other Facts About Planet Earth",1,"Library Bound Book","978-0-7660-7736-2",{"$f":"HYPERLINK(Table1[[#This Row],[Hyperlink]],\"Weblink\")","v":"Weblink"},"Enslow Publishing","2017","August 2016","7.250 X 9.250","Author, Author","Jan Payne, Steven Wilder","6.5","1",null,null,"S",null,"Grade 3","Grade 3 - 5","Earth is a mesmerizing place to live. Weather, climate, and the solar system surrounding it are filled with fascinating phenomena. Many are well known, while others are still hearsay. Through engaging text enhanced by whimsical color illustrations and a fun quiz, readers can test their knowledge of earth science.","English",27.93,20.95,"525--dc23","48 pp.","https://www.enslow.com/books/It_Can_Rain_Frogs_and_Fish/419447",{"$f":"Table1[[#This Row],[QTY]]*Table1[[#This Row],['# of Books]]","v":0},{"$f":"Table1[[#This Row],[QTY]]*Table1[[#This Row],[School & Library Price]]","v":0}]
[null,null,null,"True or False?","It Can Rain Frogs and Fish: And Other Facts About Planet Earth",1,"eBook","978-0-7660-7737-9",{"$f":"HYPERLINK(Table1[[#This Row],[Hyperlink]],\"Weblink\")","v":"Weblink"},"Enslow Publishing","2017","August 2016",null,"Author, Author","Jan Payne, Steven Wilder","6.5","1",null,null,"S",null,"Grade 3","Grade 3 - 5","Earth is a mesmerizing place to live. Weather, climate, and the solar system surrounding it are filled with fascinating phenomena. Many are well known, while others are still hearsay. Through engaging text enhanced by whimsical color illustrations and a fun quiz, readers can test their knowledge of earth science.","English",27.93,20.95,"525--dc23","48 pp.","https://www.enslow.com/books/It_Can_Rain_Frogs_and_Fish/419447",{"$f":"Table1[[#This Row],[QTY]]*Table1[[#This Row],['# of Books]]","v":0},{"$f":"Table1[[#This Row],[QTY]]*Table1[[#This Row],[School & Library Price]]","v":0}]
[null,null,null,"True or False?","Rabbits Eat Their Own Poop: And Other Facts About Animals",1,"Library Bound Book","978-0-7660-7730-0",{"$f":"HYPERLINK(Table1[[#This Row],[Hyperlink]],\"Weblink\")","v":"Weblink"},"Enslow Publishing","2017","August 2016","7.250 X 9.250","Author, Author","Jan Payne, Steven Wilder","6","1",null,null,"T",null,"Grade 3","Grade 3 - 5","When broken down into their biological elements, people and animals are fascinating creatures that exhibit unique characteristics and go through very interesting life processes. Through engaging text enhanced by whimsical color illustrations and a fun quiz, students can discover just how much they know about animals.","English",27.93,20.95,"591.5--dc23","48 pp.","https://www.enslow.com/books/Rabbits_Eat_Their_Own_Poop/419442",{"$f":"Table1[[#This Row],[QTY]]*Table1[[#This Row],['# of Books]]","v":0},{"$f":"Table1[[#This Row],[QTY]]*Table1[[#This Row],[School & Library Price]]","v":0}]
[null,null,null,"True or False?","Rabbits Eat Their Own Poop: And Other Facts About Animals",1,"eBook","978-0-7660-7731-7",{"$f":"HYPERLINK(Table1[[#This Row],[Hyperlink]],\"Weblink\")","v":"Weblink"},"Enslow Publishing","2017","August 2016",null,"Author, Author","Jan Payne, Steven Wilder","6","1",null,null,"T",null,"Grade 3","Grade 3 - 5","When broken down into their biological elements, people and animals are fascinating creatures that exhibit unique characteristics and go through very interesting life processes. Through engaging text enhanced by whimsical color illustrations and a fun quiz, students can discover just how much they know about animals.","English",27.93,20.95,"591.5--dc23","48 pp.","https://www.enslow.com/books/Rabbits_Eat_Their_Own_Poop/419442",{"$f":"Table1[[#This Row],[QTY]]*Table1[[#This Row],['# of Books]]","v":0},{"$f":"Table1[[#This Row],[QTY]]*Table1[[#This Row],[School & Library Price]]","v":0}]
[null,null,null,"Math Fun with Puppies and Kittens","Learning Addition with Puppies and Kittens",1,"eBook","978-0-7660-9081-1",{"$f":"HYPERLINK(Table1[[#This Row],[Hyperlink]],\"Weblink\")","v":"Weblink"},"Enslow Publishing","2018","January 2018",null,"Revised by, Author","Eustacia Moldovo, Patricia J. Murphy ",null,null,null,null,"D",null,"Grade 1 - 2","Grade K - 3","Elementary math students will enjoy full-color photographs of adorable puppies and kittens as they learn the basics of addition and master adding numbers 1 through 10. This book supports the Common Core Mathematical Standards Basic by helping students develop strategies for solving equations within 20, such as counting on or applying the commutative property of addition. Number lines, fact boxes, and activities enhance the math concepts. The 'Words to Know' section in the front of the book primes students for new vocabulary before encountering it in the text.","English",25.27,18.95,"513.2/11--dc23","32 pp.","https://www.enslow.com/books/Learning_Addition_with_Puppies_and_Kittens/421733",{"$f":"Table1[[#This Row],[QTY]]*Table1[[#This Row],['# of Books]]","v":0},{"$f":"Table1[[#This Row],[QTY]]*Table1[[#This Row],[School & Library Price]]","v":0}]
[null,null,null,"Math Fun with Puppies and Kittens","Learning Division with Puppies and Kittens",1,"Library Bound Book","978-0-7660-9088-0",{"$f":"HYPERLINK(Table1[[#This Row],[Hyperlink]],\"Weblink\")","v":"Weblink"},"Enslow Publishing","2018","January 2018","8.500 X 7.125","Author","Linda R. Baker",null,null,null,null,"L","590L","Grade 1 - 2","Grade K - 3","Accompanied by vibrant color pictures of adorable puppies and kittens, this book will capture the interest of elementary school students. Beginning with 'Words to Know' and continuing on to explain what division is and its relationship to subtraction and multiplication, readers will learn division within 100, supporting the Common Core Math Standards, and have fun at the same time. They will learn to recognize words that will lead them to use the operation of division to solve real-life math problems and feel confident about their ability to understand and implement division concepts.","English",25.27,18.95,"513.2/14--dc23","32 pp.","https://www.enslow.com/books/Learning_Division_with_Puppies_and_Kittens/421736",{"$f":"Table1[[#This Row],[QTY]]*Table1[[#This Row],['# of Books]]","v":0},{"$f":"Table1[[#This Row],[QTY]]*Table1[[#This Row],[School & Library Price]]","v":0}]
[null,null,null,"Math Fun with Puppies and Kittens","Learning How to Measure with Puppies and Kittens",1,"eBook","978-0-7660-9085-9",{"$f":"HYPERLINK(Table1[[#This Row],[Hyperlink]],\"Weblink\")","v":"Weblink"},"Enslow Publishing","2018","January 2018",null,"Revised by, Author","Eustacia Moldovo, Patricia J. Murphy ",null,null,null,null,"G",null,"Grade 1 - 2","Grade K - 3","Through cute animal pictures and simple language, this text will teach elementary math students about using nonstandard and standard measurements to measure length, width, and height. This book supports the Common Core Mathematical Standards Basic by helping students figure out the length of an object as a whole number of length units by counting how many multiple copies of a shorter object fit end to end along the original object as well as using rulers, yardsticks, and measuring tapes. Fact boxes and activities enhance the math concepts.","English",25.27,18.95,"530.8--dc23","32 pp.","https://www.enslow.com/books/Learning_How_to_Measure_with_Puppies_and_Kittens/421737",{"$f":"Table1[[#This Row],[QTY]]*Table1[[#This Row],['# of Books]]","v":0},{"$f":"Table1[[#This Row],[QTY]]*Table1[[#This Row],[School & Library Price]]","v":0}]
[null,null,null,"Math Fun with Puppies and Kittens","Learning Multiplication with Puppies and Kittens",1,"Library Bound Book","978-0-7660-9091-0",{"$f":"HYPERLINK(Table1[[#This Row],[Hyperlink]],\"Weblink\")","v":"Weblink"},"Enslow Publishing","2018","January 2018","8.500 X 7.125","Author","Linda R. Baker",null,null,null,null,"L",null,"Grade 1 - 2","Grade K - 3","This volume, using colorful pictures and simple language, will introduce elementary school students to the concept of \"fast adding,\" which is multiplication. With games and examples featuring adorable puppies and kittens, readers will have fun learning multiplication within 100, which supports the Common Core Math Standards. They will learn to recognize terms that will direct them to use multiplication to solve word problems as well as important vocabulary and facts about multiplication. By the end of the book, readers will be confident in their abilities to determine when and where to use multiplication concepts.","English",25.27,18.95,"513.2/14--dc23","32 pp.","https://www.enslow.com/books/Learning_Multiplication_with_Puppies_and_Kittens/421735",{"$f":"Table1[[#This Row],[QTY]]*Table1[[#This Row],['# of Books]]","v":0},{"$f":"Table1[[#This Row],[QTY]]*Table1[[#This Row],[School & Library Price]]","v":0}]
[null,null,null,"Math Fun with Puppies and Kittens","Learning Subtraction with Puppies and Kittens",1,"Library Bound Book","978-0-7660-9090-3",{"$f":"HYPERLINK(Table1[[#This Row],[Hyperlink]],\"Weblink\")","v":"Weblink"},"Enslow Publishing","2018","January 2018","8.500 X 7.125","Author, Revised by","Patricia J. Murphy , Eustacia Moldovo",null,null,null,null,"D","500L","Grade 1 - 2","Grade K - 3","Math is fun and easy with this delightful text, which teaches elementary students the basics of subtraction through appealing images of puppies and kittens. This book supports the Common Core Mathematical Standards Basic by helping students develop strategies for solving equations within 20, such as counting back or using the relationship between addition and subtraction to understand fact families and double facts. Number lines, fact boxes, and activities enhance the math concepts. A further reading list with books and websites encourages further exploration.","English",25.27,18.95,"513.2/12--dc23","32 pp.","https://www.enslow.com/books/Learning_Subtraction_with_Puppies_and_Kittens/421734",{"$f":"Table1[[#This Row],[QTY]]*Table1[[#This Row],['# of Books]]","v":0},{"$f":"Table1[[#This Row],[QTY]]*Table1[[#This Row],[School & Library Price]]","v":0}]
[null,null,null,"Math Fun with Puppies and Kittens","Learning Subtraction with Puppies and Kittens",1,"eBook","978-0-7660-9082-8",{"$f":"HYPERLINK(Table1[[#This Row],[Hyperlink]],\"Weblink\")","v":"Weblink"},"Enslow Publishing","2018","January 2018",null,"Author, Revised by","Patricia J. Murphy , Eustacia Moldovo",null,null,null,null,"D","500L","Grade 1 - 2","Grade K - 3","Math is fun and easy with this delightful text, which teaches elementary students the basics of subtraction through appealing images of puppies and kittens. This book supports the Common Core Mathematical Standards Basic by helping students develop strategies for solving equations within 20, such as counting back or using the relationship between addition and subtraction to understand fact families and double facts. Number lines, fact boxes, and activities enhance the math concepts. A further reading list with books and websites encourages further exploration.","English",25.27,18.95,"513.2/12--dc23","32 pp.","https://www.enslow.com/books/Learning_Subtraction_with_Puppies_and_Kittens/421734",{"$f":"Table1[[#This Row],[QTY]]*Table1[[#This Row],['# of Books]]","v":0},{"$f":"Table1[[#This Row],[QTY]]*Table1[[#This Row],[School & Library Price]]","v":0}]
[null,null,null,"The Value of Money","The Value of Money",6,"Library Set","978-0-7660-7491-0",{"$f":"HYPERLINK(Table1[[#This Row],[Hyperlink]],\"Weblink\")","v":"Weblink"},"Enslow Publishing","2017","August 2016","7.125 X 8.500",null,null,null,null,null,null,null,null,"Grade 1 - 2","Grade K - 3","Money math is an important part of everyday life. This book breaks down the value of a dollar and teaches young readers how to create a dollar with smaller change. With language that easily breaks down the subject so anyone can understand and full-color photographs that illustrate each denomination, students will easily grasp the basics of counting money and how to use it.","English",135.6,101.7,null,"24 pp.","https://www.enslow.com/series/The_Value_of_Money/419692",{"$f":"Table1[[#This Row],[QTY]]*Table1[[#This Row],['# of Books]]","v":0},{"$f":"Table1[[#This Row],[QTY]]*Table1[[#This Row],[School & Library Price]]","v":0}]
[null,null,null,"The Value of Money","Adding Coins and Bills",1,"Library Bound Book","978-0-7660-7696-9",{"$f":"HYPERLINK(Table1[[#This Row],[Hyperlink]],\"Weblink\")","v":"Weblink"},"Enslow Publishing","2017","August 2016","7.125 X 8.500","Author","Portia Summers",null,null,null,null,"F",null,"Grade 1 - 2","Grade K - 3","This book teaches young readers how to use the math skills they already have and apply it to currency. Full-color photographs illustrate each denomination, helping students easily grasp the basics of adding money. A words-to-know section helps students learn new vocabulary and \"Moments in Minting\" sidebars introduce young readers to interesting facts about currency.","English",22.6,16.95,"332.4--dc23","24 pp.","https://www.enslow.com/books/Adding_Coins_and_Bills/419243",{"$f":"Table1[[#This Row],[QTY]]*Table1[[#This Row],['# of Books]]","v":0},{"$f":"Table1[[#This Row],[QTY]]*Table1[[#This Row],[School & Library Price]]","v":0}]
[null,null,null,"The Value of Money","Counting Coins and Bills",1,"eBook","978-0-7660-7705-8",{"$f":"HYPERLINK(Table1[[#This Row],[Hyperlink]],\"Weblink\")","v":"Weblink"},"Enslow Publishing","2017","August 2016",null,"Author","Portia Summers",null,null,null,null,"E",null,"Grade 1 - 2","Grade K - 3","Through simple language and full-color photographs, young readers will learn how to count different denominations of currency. Words to Know help students learn new vocabulary and “Moments in Minting” sidebars introduce young readers to interesting facts about money.","English",22.6,16.95,"332.4--dc23","24 pp.","https://www.enslow.com/books/Counting_Coins_and_Bills/419248",{"$f":"Table1[[#This Row],[QTY]]*Table1[[#This Row],['# of Books]]","v":0},{"$f":"Table1[[#This Row],[QTY]]*Table1[[#This Row],[School & Library Price]]","v":0}]
[null,null,null,"The Value of Money","One Dollar: How Many Pennies?",1,"Library Bound Book","978-0-7660-7688-4",{"$f":"HYPERLINK(Table1[[#This Row],[Hyperlink]],\"Weblink\")","v":"Weblink"},"Enslow Publishing","2017","August 2016","7.125 X 8.500","Author","Portia Summers",null,null,null,null,"E",null,"Grade 1 - 2","Grade K - 3","Money math is an important part of every day life. This book breaks down the value of a dollar, teaching young readers how to create a dollar with smaller change. With language that easily breaks down the subject so that anyone can understand, and full-color photographs that illustrate each denomination, students will easily grasp the basics of counting money and how to use it.","English",22.6,16.95,"332.4/040973--dc23","24 pp.","https://www.enslow.com/books/One_Dollar/419238",{"$f":"Table1[[#This Row],[QTY]]*Table1[[#This Row],['# of Books]]","v":0},{"$f":"Table1[[#This Row],[QTY]]*Table1[[#This Row],[School & Library Price]]","v":0}]
[null,null,null,"The Value of Money","Subtracting Coins and Bills",1,"eBook","978-0-7660-7723-2",{"$f":"HYPERLINK(Table1[[#This Row],[Hyperlink]],\"Weblink\")","v":"Weblink"},"Enslow Publishing","2017","August 2016",null,"Author","Portia Summers",null,null,null,null,"F",null,"Grade 1 - 2","Grade K - 3","Through simple text and full-color photos, this book breaks down how to subtract dollars and cents, teaching young readers how to use the math skills they already have and apply it to currency. Words to Know help students learn new vocabulary and “Moments in Minting” sidebars introduce young readers to interesting facts about currency.","English",22.6,16.95,"332.4--dc23 (LOC)","24 pp.","https://www.enslow.com/books/Subtracting_Coins_and_Bills/419263",{"$f":"Table1[[#This Row],[QTY]]*Table1[[#This Row],['# of Books]]","v":0},{"$f":"Table1[[#This Row],[QTY]]*Table1[[#This Row],[School & Library Price]]","v":0}]
[null,null,null,"The Value of Money","What Is Money?",1,"Library Bound Book","978-0-7660-7718-8",{"$f":"HYPERLINK(Table1[[#This Row],[Hyperlink]],\"Weblink\")","v":"Weblink"},"Enslow Publishing","2017","August 2016","7.125 X 8.500","Author","Portia Summers",null,null,null,null,"E",null,"Grade 1 - 2","Grade K - 3","Using easy-to-understand language, this book introduces young readers to the concept of money and how to use it. Full-color photographs illustrate each denomination and will help students grasp the basics of money and how to use it. Words to Know help students learn new vocabulary and \"Moments in Minting\" sidebars introduce young readers to interesting facts about currency.","English",22.6,16.95,"332.4--dc23","24 pp.","https://www.enslow.com/books/What_Is_Money/419258",{"$f":"Table1[[#This Row],[QTY]]*Table1[[#This Row],['# of Books]]","v":0},{"$f":"Table1[[#This Row],[QTY]]*Table1[[#This Row],[School & Library Price]]","v":0}]
[null,null,null,"The Value of Money","Word Problems with Money",1,"eBook","978-0-7660-7714-0",{"$f":"HYPERLINK(Table1[[#This Row],[Hyperlink]],\"Weblink\")","v":"Weblink"},"Enslow Publishing","2017","August 2016",null,"Author","Portia Summers",null,null,null,null,"F",null,"Grade 1 - 2","Grade K - 3","With full-color photos and simple, engaging language, this book introduces young readers to word problems involving money, helping them learn the skills needed to handle money on a daily basis. Words to Know help students learn new vocabulary and “Moments in Minting” sidebars introduce young readers to interesting facts about currency.","English",22.6,16.95,"332.4/040973--dc23","24 pp.","https://www.enslow.com/books/Word_Problems_With_Money/419253",{"$f":"Table1[[#This Row],[QTY]]*Table1[[#This Row],['# of Books]]","v":0},{"$f":"Table1[[#This Row],[QTY]]*Table1[[#This Row],[School & Library Price]]","v":0}]
[null,null,null,"Mastering Math Word Problems","Mastering Math Word Problems",6,"Library Set","978-0-7660-8468-1",{"$f":"HYPERLINK(Table1[[#This Row],[Hyperlink]],\"Weblink\")","v":"Weblink"},"Enslow Publishing","2017","January 2017","7.250 X 9.250",null,null,null,null,null,null,null,null,"Grade 3 - 4","Grade 3 - 5","Using simple language and everyday situations, these books help elementary readers with word problems and basic math skills. Each book covers a different mathematical subject and has a different theme. Full-color photos correlate with text and problem-solving tips are included .","English",167.58,125.7,null,"48 pp.","https://www.enslow.com/series/Mastering_Math_Word_Problems/421576",{"$f":"Table1[[#This Row],[QTY]]*Table1[[#This Row],['# of Books]]","v":0},{"$f":"Table1[[#This Row],[QTY]]*Table1[[#This Row],[School & Library Price]]","v":0}]
[null,null,null,"Mastering Math Word Problems","Word Problems Using Addition and Subtraction",1,"eBook","978-0-7660-8255-7",{"$f":"HYPERLINK(Table1[[#This Row],[Hyperlink]],\"Weblink\")","v":"Weblink"},"Enslow Publishing","2017","January 2017",null,"Author, Author","Zella Williams, Rebecca Wingard-Nelson",null,null,null,null,"T",null,"Grade 3 - 4","Grade 3 - 5","Word problems can be daunting for students, young and old alike. This book teaches students to break the solving process into four simple steps. They learn that every problem has clue words to tell them which operation to use, and easy-to-follow sample problems—all related to animals—give readers the confidence to solve new problems on their own. A tips section helps encourage readers to try their best, to ask for help, and to keep practicing.","English",27.93,20.95,"513.2--dc23","48 pp.","https://www.enslow.com/books/Word_Problems_Using_Addition_and_Subtraction/421631",{"$f":"Table1[[#This Row],[QTY]]*Table1[[#This Row],['# of Books]]","v":0},{"$f":"Table1[[#This Row],[QTY]]*Table1[[#This Row],[School & Library Price]]","v":0}]
[null,null,null,"Mastering Math Word Problems","Word Problems Using Decimals and Percentages",1,"Library Bound Book","978-0-7660-8258-8",{"$f":"HYPERLINK(Table1[[#This Row],[Hyperlink]],\"Weblink\")","v":"Weblink"},"Enslow Publishing","2017","January 2017","7.250 X 9.250","Author, Author","Zella Williams, Rebecca Wingard-Nelson",null,null,null,null,"U",null,"Grade 3 - 4","Grade 3 - 5","Straightforward yet engaging text and attainable, sports-related examples will help even the most reluctant math student tackle word problems using decimals and percentages. Full-color photos help connect math to the real world, and the inviting design supports understanding while drawing readers in. A Words to Know section defines any unfamiliar terms to allow readers to fully engage with the text.","English",27.93,20.95,"513.2/45--dc23","48 pp.","https://www.enslow.com/books/Word_Problems_Using_Decimals_and_Percentages/421633",{"$f":"Table1[[#This Row],[QTY]]*Table1[[#This Row],['# of Books]]","v":0},{"$f":"Table1[[#This Row],[QTY]]*Table1[[#This Row],[School & Library Price]]","v":0}]
[null,null,null,"Mastering Math Word Problems","Word Problems Using Fractions",1,"eBook","978-0-7660-8263-2",{"$f":"HYPERLINK(Table1[[#This Row],[Hyperlink]],\"Weblink\")","v":"Weblink"},"Enslow Publishing","2017","January 2017",null,"Author, Author","Zella Williams, Rebecca Wingard-Nelson",null,null,null,null,"U",null,"Grade 3 - 4","Grade 3 - 5","Not everyone loves word problems or fractions, but everyone loves food! Every sample problem relates to kids’ favorite snacks. Even better, each problem is broken down into four easy-to-follow steps, with tips and pointers on how to successfully solve the problem and apply the same strategies to other problems. Design elements aid in understanding the math concepts, and lively, color photographs pull the reader in.","English",27.93,20.95,"513.2/6--dc23","48 pp.","https://www.enslow.com/books/Word_Problems_Using_Fractions/421635",{"$f":"Table1[[#This Row],[QTY]]*Table1[[#This Row],['# of Books]]","v":0},{"$f":"Table1[[#This Row],[QTY]]*Table1[[#This Row],[School & Library Price]]","v":0}]
[null,null,null,"Mastering Math Word Problems","Word Problems Using Multiplication and Division",1,"Library Bound Book","978-0-7660-8266-3",{"$f":"HYPERLINK(Table1[[#This Row],[Hyperlink]],\"Weblink\")","v":"Weblink"},"Enslow Publishing","2017","January 2017","7.250 X 9.250","Author, Author","Zella Williams, Rebecca Wingard-Nelson",null,null,null,null,"U",null,"Grade 3 - 4","Grade 3 - 5","This book makes multiplication and division word problems fun using facts about big trucks and cars. The tips section takes the mystery out of word problems, making them accessible to even reluctant mathematicians. Sample problems highlight the clue words that word problems use to help students solve them. The vibrant photos and highly approachable text will encourage readers to think differently about word problems, and readers will close the book feeling new confidence in their abilities to solve word problems using multiplication and division.","English",27.93,20.95,"513.2'13--dc23","48 pp.","https://www.enslow.com/books/Word_Problems_Using_Multiplication_and_Division/421632",{"$f":"Table1[[#This Row],[QTY]]*Table1[[#This Row],['# of Books]]","v":0},{"$f":"Table1[[#This Row],[QTY]]*Table1[[#This Row],[School & Library Price]]","v":0}]
[null,null,null,"Mastering Math Word Problems","Word Problems Using Operations and Algebraic Thinking",1,"eBook","978-0-7660-8271-7",{"$f":"HYPERLINK(Table1[[#This Row],[Hyperlink]],\"Weblink\")","v":"Weblink"},"Enslow Publishing","2017","January 2017",null,"Author, Author","Zella Williams, Rebecca Wingard-Nelson",null,null,null,null,"V","650L","Grade 3 - 4","Grade 3 - 5","Word problems using operations and algebraic thinking may sound dry and boring, but not when they are done at the amusement park. Each sample problem connects to real-life examples a young person might come across at the park. Text is accessible and engaging but also provides real math content and challenges.","English",27.93,20.95,"512.9--dc23","48 pp.","https://www.enslow.com/books/Word_Problems_Using_Operations_and_Algebraic_Thinking/421636",{"$f":"Table1[[#This Row],[QTY]]*Table1[[#This Row],['# of Books]]","v":0},{"$f":"Table1[[#This Row],[QTY]]*Table1[[#This Row],[School & Library Price]]","v":0}]
[null,null,null,"Mastering Math Word Problems","Word Problems Using Ratios and Proportions",1,"Library Bound Book","978-0-7660-8274-8",{"$f":"HYPERLINK(Table1[[#This Row],[Hyperlink]],\"Weblink\")","v":"Weblink"},"Enslow Publishing","2017","January 2017","7.250 X 9.250","Author, Author","Zella Williams, Rebecca Wingard-Nelson",null,null,null,null,"V",null,"Grade 3 - 4","Grade 3 - 5","Ratios and proportions are good ways to break down and understand really big numbers, and the numbers don’t get any bigger than they do in outer space. This book brings young mathematicians on a space odyssey that will ultimately end with them gaining a greater understanding of how to solve word problems using ratios and proportions—and they might even learn a little science along the way. A tips section helps break down the problem-solving process into manageable steps designed to build confidence. These steps are repeated in every problem, helping reinforce the concepts and make them second nature.","English",27.93,20.95,"513.2/4--dc23","48 pp.","https://www.enslow.com/books/Word_Problems_Using_Ratios_and_Proportions/421634",{"$f":"Table1[[#This Row],[QTY]]*Table1[[#This Row],['# of Books]]","v":0},{"$f":"Table1[[#This Row],[QTY]]*Table1[[#This Row],[School & Library Price]]","v":0}]
[null,null,null,"Space Explorers","Discovering the Universe",1,"Library Bound Book","978-0-7660-9264-8",{"$f":"HYPERLINK(Table1[[#This Row],[Hyperlink]],\"Weblink\")","v":"Weblink"},"Enslow Publishing","2018","January 2018","8.500 X 11.00","Author","Giles Sparrow","6.5","1",null,null,"H",null,"Grade 2","Grade K - 4","Early humans turned what they could see above them into rich creation myths. Later philosophers created cosmologies that pushed myth closer toward empiricism. The flat disc universe yielded to celestial spheres, and the stationary Earth at the center of it all yielded to a spinning planet in a heliocentric solar system that was one of only untold hundreds of billions of solar systems in hundreds of billions of galaxies. This expansion of the cosmos was further revolutionized by theoretical physics, including the theory of relativity. The mind-expanding history of humanity's understanding of the universe is related here with gorgeous full-color photographs, captivating primary source imagery, and loads of capsule information and infographics.","English",25.27,18.95,"520--dc23","32 pp.","https://www.enslow.com/books/Discovering_the_Universe/421770",{"$f":"Table1[[#This Row],[QTY]]*Table1[[#This Row],['# of Books]]","v":0},{"$f":"Table1[[#This Row],[QTY]]*Table1[[#This Row],[School & Library Price]]","v":0}]
[null,null,null,"Space Explorers","Discovering the Universe",1,"eBook","978-0-7660-9316-4",{"$f":"HYPERLINK(Table1[[#This Row],[Hyperlink]],\"Weblink\")","v":"Weblink"},"Enslow Publishing","2018","January 2018",null,"Author","Giles Sparrow","6.5","1",null,null,"H",null,"Grade 2","Grade K - 4","Early humans turned what they could see above them into rich creation myths. Later philosophers created cosmologies that pushed myth closer toward empiricism. The flat disc universe yielded to celestial spheres, and the stationary Earth at the center of it all yielded to a spinning planet in a heliocentric solar system that was one of only untold hundreds of billions of solar systems in hundreds of billions of galaxies. This expansion of the cosmos was further revolutionized by theoretical physics, including the theory of relativity. The mind-expanding history of humanity's understanding of the universe is related here with gorgeous full-color photographs, captivating primary source imagery, and loads of capsule information and infographics.","English",25.27,18.95,"520--dc23","32 pp.","https://www.enslow.com/books/Discovering_the_Universe/421770",{"$f":"Table1[[#This Row],[QTY]]*Table1[[#This Row],['# of Books]]","v":0},{"$f":"Table1[[#This Row],[QTY]]*Table1[[#This Row],[School & Library Price]]","v":0}]
[null,null,null,"Space Explorers","Our Solar System",1,"Library Bound Book","978-0-7660-9267-9",{"$f":"HYPERLINK(Table1[[#This Row],[Hyperlink]],\"Weblink\")","v":"Weblink"},"Enslow Publishing","2018","January 2018","8.500 X 11.00","Author","Giles Sparrow","6.2","1",null,null,"F",null,"Grade 2","Grade K - 4","In a mind-bogglingly vast universe, our solar system feels like a comparatively cozy home, perched out on one of the outer arms of the spiral Milky Way galaxy. Formed 4.6 billion years ago from the gravitational collapse of a giant molecular cloud, it is comprised of eight terrestrial and gaseous planets, several hundred dwarf planets, nearly five hundred moons, and other small bodies such as asteroid belts, comets, and dust clouds. Chock full of breathtaking satellite imagery, meticulously detailed computer renderings, diagrams, infographics, and the latest discoveries, readers are treated to a wealth of mind-blowing facts, images, and data. They will gain familiarity with our home solar system while also becoming curious about what lies beyond our threshold in deep space.","English",25.27,18.95,"523.2--dc23","32 pp.","https://www.enslow.com/books/Our_Solar_System/421774",{"$f":"Table1[[#This Row],[QTY]]*Table1[[#This Row],['# of Books]]","v":0},{"$f":"Table1[[#This Row],[QTY]]*Table1[[#This Row],[School & Library Price]]","v":0}]
[null,null,null,"Space Explorers","Our Solar System",1,"eBook","978-0-7660-9320-1",{"$f":"HYPERLINK(Table1[[#This Row],[Hyperlink]],\"Weblink\")","v":"Weblink"},"Enslow Publishing","2018","January 2018",null,"Author","Giles Sparrow","6.2","1",null,null,"F",null,"Grade 2","Grade K - 4","In a mind-bogglingly vast universe, our solar system feels like a comparatively cozy home, perched out on one of the outer arms of the spiral Milky Way galaxy. Formed 4.6 billion years ago from the gravitational collapse of a giant molecular cloud, it is comprised of eight terrestrial and gaseous planets, several hundred dwarf planets, nearly five hundred moons, and other small bodies such as asteroid belts, comets, and dust clouds. Chock full of breathtaking satellite imagery, meticulously detailed computer renderings, diagrams, infographics, and the latest discoveries, readers are treated to a wealth of mind-blowing facts, images, and data. They will gain familiarity with our home solar system while also becoming curious about what lies beyond our threshold in deep space.","English",25.27,18.95,"523.2--dc23","32 pp.","https://www.enslow.com/books/Our_Solar_System/421774",{"$f":"Table1[[#This Row],[QTY]]*Table1[[#This Row],['# of Books]]","v":0},{"$f":"Table1[[#This Row],[QTY]]*Table1[[#This Row],[School & Library Price]]","v":0}]
[null,null,null,"Space Explorers","Our Universe",1,"eBook","978-0-7660-9318-8",{"$f":"HYPERLINK(Table1[[#This Row],[Hyperlink]],\"Weblink\")","v":"Weblink"},"Enslow Publishing","2018","January 2018",null,"Author","Giles Sparrow","6.5","1",null,null,"I",null,"Grade 2","Grade K - 4","Your readers will take a thrilling and mind-boggling voyage of discovery throughout the universe with this information-packed and gorgeously illustrated volume. And when we say \"the universe,\" we mean all of space and time and all that is contained within them, including planets, moons, stars, galaxies, matter, and energy. So this is a grand tour indeed, encompassing the birth of the universe with the Big Bang, hypotheses on its eventual demise, and fascinating conjectures about its shape and possible alternate \"mulitiverses.\" Also examined is humanity's evolving understanding of the universe and the latest discoveries. Always front and center, however, are the universe's many marvels and wonders, all the heavenly bodies, celestial objects, and mind-blowing phenomena that comprise existence past, present, and future.","English",25.27,18.95,"523.1--dc23","32 pp.","https://www.enslow.com/books/Our_Universe/421772",{"$f":"Table1[[#This Row],[QTY]]*Table1[[#This Row],['# of Books]]","v":0},{"$f":"Table1[[#This Row],[QTY]]*Table1[[#This Row],[School & Library Price]]","v":0}]
[null,null,null,"Space Explorers","Space Travel",1,"Library Bound Book","978-0-7660-9268-6",{"$f":"HYPERLINK(Table1[[#This Row],[Hyperlink]],\"Weblink\")","v":"Weblink"},"Enslow Publishing","2018","January 2018","8.500 X 11.00","Author","Giles Sparrow","6.4","1",null,null,"I",null,"Grade 2","Grade K - 4","From the shocking launch of the Soviet satellite Sputnik and the subsequent acceleration of the American space program to the first manned space flights, the moon landings, and the Space Shuttle and International Space Station programs, the history of space travel is full of fascinating stories, technological marvels, hair-raising and death-defying feats of courage, and an inspiring spirit of both adventure and discovery. This is all brought into sharp focus in spreads that are bursting with color, fascinating facts, and stunning imagery. Also examined is the future of space travel, including space tourism, manned missions to Mars, and intergalactic manned exploration of deep space.","English",25.27,18.95,"629.45--dc23","32 pp.","https://www.enslow.com/books/Space_Travel/421771",{"$f":"Table1[[#This Row],[QTY]]*Table1[[#This Row],['# of Books]]","v":0},{"$f":"Table1[[#This Row],[QTY]]*Table1[[#This Row],[School & Library Price]]","v":0}]
[null,null,null,"Space Explorers","The Stars",1,"eBook","978-0-7660-9319-5",{"$f":"HYPERLINK(Table1[[#This Row],[Hyperlink]],\"Weblink\")","v":"Weblink"},"Enslow Publishing","2018","January 2018",null,"Author","Giles Sparrow","6.4","1",null,null,"G",null,"Grade 2","Grade K - 4","Luminous spheres of plasma held together by their own gravity, each star is born out of the collapse of gaseous nebula and develops a core that radiates astounding amounts of energy, the result of thermonuclear fusion of hydrogen into helium, through its interior and across outer space. Ever-expanding, the star throws off mass, which helps form new stars, while the core begins to collapse, becoming a white dwarf, a neutron star, or even a black hole. Multiply this single star by 300 sextillion and you see how much drama and energy exist in the universe. The sheer wonder and power of stars is on full display here, with stunning high-definition photographs, intricate computer renderings, cutaway diagrams, and infographics.","English",25.27,18.95,"523.8--dc23","32 pp.","https://www.enslow.com/books/The_Stars/421773",{"$f":"Table1[[#This Row],[QTY]]*Table1[[#This Row],['# of Books]]","v":0},{"$f":"Table1[[#This Row],[QTY]]*Table1[[#This Row],[School & Library Price]]","v":0}]
[null,null,null,"Dino Explorers","Dino Explorers",6,"Library Set","978-1-9785-0017-4",{"$f":"HYPERLINK(Table1[[#This Row],[Hyperlink]],\"Weblink\")","v":"Weblink"},"Enslow Publishing","2019","August 2018","8.500 X 11.00",null,null,null,null,null,null,null,null,"Grade 3","Grade 2 - 5","Most people probably consider the terrifying Tyrannosaurus rex the king of the dinosaurs. It does, after all, have the Latin word for \"king\" in its name. However, the largest of the carnivorous dinosaurs was the crocodilian-snouted Spinosaurus, which lived 105 million years ago. Bright, colorful illustrations accompanied by fact boxes pointing to each dinosaur's specific physical characteristics enhance the engaging texts. Dinosaur profiles provide statistics such as height, length, weight, and the time period in which the dinosaur existed in a visually appealing and highly accessible format. Full-color and black-and-white photographs of skeletons, nests, claws, and teeth show readers what paleontologists study to determine how these long-dead animals lived. Features include: Supports the Next Generation Science Standards on biological evolution. Provides students with a deeper understanding of how skeletons and fossils can tell us much information about dinosaurs and their environments and their relationships to modern species. Informative sidebars provide more details about the featured dinosaur, such as their physical adaptations. Further Reading with current books and informative websites encourage further exploration of the subject.","English",151.62,113.7,null,"32 pp.","https://www.enslow.com/series/Dino_Explorers/450968",{"$f":"Table1[[#This Row],[QTY]]*Table1[[#This Row],['# of Books]]","v":0},{"$f":"Table1[[#This Row],[QTY]]*Table1[[#This Row],[School & Library Price]]","v":0}]
[null,null,null,"Dino Explorers","Beaked Battlers: Ornithopods",1,"Library Bound Book","978-0-7660-9989-0",{"$f":"HYPERLINK(Table1[[#This Row],[Hyperlink]],\"Weblink\")","v":"Weblink"},"Enslow Publishing","2019","August 2018","8.500 X 11.00","Author","Clare Hibbert",null,null,null,null,"V",null,"Grade 3","Grade 2 - 5","Ornithopods, or bird-like dinosaurs, were herbivores that thrived mostly in North America during the Cretaceous period, between 145 million and 65 million years ago. This book explores many different ornithopods and why they had unusual features such as crested heads or duckbills. From fossil evidence, paleontologists have determined more and more about how these dinosaurs ate, moved, communicated, and cared for their young. Fascinating questions such as what we know about prehistoric plants and dinosaur food chains are answered in this engaging guide.","English",25.27,18.95,"567.914--dc23","32 pp.","https://www.enslow.com/books/Beaked_Battlers/421915",{"$f":"Table1[[#This Row],[QTY]]*Table1[[#This Row],['# of Books]]","v":0},{"$f":"Table1[[#This Row],[QTY]]*Table1[[#This Row],[School & Library Price]]","v":0}]
[null,null,null,"Dino Explorers","Beaked Battlers: Ornithopods",1,"eBook","978-0-7660-9991-3",{"$f":"HYPERLINK(Table1[[#This Row],[Hyperlink]],\"Weblink\")","v":"Weblink"},"Enslow Publishing","2019","August 2018",null,"Author","Clare Hibbert",null,null,null,null,"V",null,"Grade 3","Grade 2 - 5","Ornithopods, or bird-like dinosaurs, were herbivores that thrived mostly in North America during the Cretaceous period, between 145 million and 65 million years ago. This book explores many different ornithopods and why they had unusual features such as crested heads or duckbills. From fossil evidence, paleontologists have determined more and more about how these dinosaurs ate, moved, communicated, and cared for their young. Fascinating questions such as what we know about prehistoric plants and dinosaur food chains are answered in this engaging guide.","English",25.27,18.95,"567.914--dc23","32 pp.","https://www.enslow.com/books/Beaked_Battlers/421915",{"$f":"Table1[[#This Row],[QTY]]*Table1[[#This Row],['# of Books]]","v":0},{"$f":"Table1[[#This Row],[QTY]]*Table1[[#This Row],[School & Library Price]]","v":0}]
[null,null,null,"Dino Explorers","Giant Dinosaurs: Sauropods",1,"Library Bound Book","978-0-7660-9996-8",{"$f":"HYPERLINK(Table1[[#This Row],[Hyperlink]],\"Weblink\")","v":"Weblink"},"Enslow Publishing","2019","August 2018","8.500 X 11.00","Author","Clare Hibbert",null,null,null,null,"T",null,"Grade 3","Grade 2 - 5","Sauropods, or long-necked plant-eating dinosaurs, are the largest land animals that have ever lived, with the biggest species discovered so far, Patagotitan mayorum, weighing as much as twelve African elephants! Why did they grow so big, and what was the purpose of their long necks? Readers will learn about all different kinds of sauropods, their features, what they ate, their nesting sites, the herds they lived in, and more. Paleontologists who have discovered sauropod fossils all over the world are recognized.","English",25.27,18.95,"567.913--dc23","32 pp.","https://www.enslow.com/books/Giant_Dinosaurs/421917",{"$f":"Table1[[#This Row],[QTY]]*Table1[[#This Row],['# of Books]]","v":0},{"$f":"Table1[[#This Row],[QTY]]*Table1[[#This Row],[School & Library Price]]","v":0}]
[null,null,null,"Dino Explorers","Giant Dinosaurs: Sauropods",1,"eBook","978-0-7660-9998-2",{"$f":"HYPERLINK(Table1[[#This Row],[Hyperlink]],\"Weblink\")","v":"Weblink"},"Enslow Publishing","2019","August 2018",null,"Author","Clare Hibbert",null,null,null,null,"T",null,"Grade 3","Grade 2 - 5","Sauropods, or long-necked plant-eating dinosaurs, are the largest land animals that have ever lived, with the biggest species discovered so far, Patagotitan mayorum, weighing as much as twelve African elephants! Why did they grow so big, and what was the purpose of their long necks? Readers will learn about all different kinds of sauropods, their features, what they ate, their nesting sites, the herds they lived in, and more. Paleontologists who have discovered sauropod fossils all over the world are recognized.","English",25.27,18.95,"567.913--dc23","32 pp.","https://www.enslow.com/books/Giant_Dinosaurs/421917",{"$f":"Table1[[#This Row],[QTY]]*Table1[[#This Row],['# of Books]]","v":0},{"$f":"Table1[[#This Row],[QTY]]*Table1[[#This Row],[School & Library Price]]","v":0}]
[null,null,null,"Dino Explorers","Sea Creatures and Flying Reptiles",1,"Library Bound Book","978-0-7660-9992-0",{"$f":"HYPERLINK(Table1[[#This Row],[Hyperlink]],\"Weblink\")","v":"Weblink"},"Enslow Publishing","2019","August 2018","8.500 X 11.00","Author","Clare Hibbert",null,null,null,null,"S",null,"Grade 3","Grade 2 - 5","While often confused as dinosaurs, prehistoric reptiles that could fly (pterosaurs) and swim (plesiosaurs) are distinct from land-dwelling dinosaurs. This book highlights the unique characteristics of these flying and sea-dwelling creatures, demonstrating the diversity and adaptability of prehistoric reptiles. Scientists have learned how the structure of pterosaurs' wings allowed them to take flight and how some plesiosaurs came ashore to lay eggs while others gave birth to live young. Colorful images and fun facts will fascinate young readers.","English",25.27,18.95,"567.9'37--dc23","32 pp.","https://www.enslow.com/books/Sea_Creatures_and_Flying_Reptiles/421916",{"$f":"Table1[[#This Row],[QTY]]*Table1[[#This Row],['# of Books]]","v":0},{"$f":"Table1[[#This Row],[QTY]]*Table1[[#This Row],[School & Library Price]]","v":0}]
[null,null,null,"Dino Explorers","Sea Creatures and Flying Reptiles",1,"eBook","978-0-7660-9994-4",{"$f":"HYPERLINK(Table1[[#This Row],[Hyperlink]],\"Weblink\")","v":"Weblink"},"Enslow Publishing","2019","August 2018",null,"Author","Clare Hibbert",null,null,null,null,"S",null,"Grade 3","Grade 2 - 5","While often confused as dinosaurs, prehistoric reptiles that could fly (pterosaurs) and swim (plesiosaurs) are distinct from land-dwelling dinosaurs. This book highlights the unique characteristics of these flying and sea-dwelling creatures, demonstrating the diversity and adaptability of prehistoric reptiles. Scientists have learned how the structure of pterosaurs' wings allowed them to take flight and how some plesiosaurs came ashore to lay eggs while others gave birth to live young. Colorful images and fun facts will fascinate young readers.","English",25.27,18.95,"567.9'37--dc23","32 pp.","https://www.enslow.com/books/Sea_Creatures_and_Flying_Reptiles/421916",{"$f":"Table1[[#This Row],[QTY]]*Table1[[#This Row],['# of Books]]","v":0},{"$f":"Table1[[#This Row],[QTY]]*Table1[[#This Row],[School & Library Price]]","v":0}]
[null,null,null,"Saving the Planet Through Green Energy","Fossil Fuels",1,"Library Bound Book","978-0-7660-8278-6",{"$f":"HYPERLINK(Table1[[#This Row],[Hyperlink]],\"Weblink\")","v":"Weblink"},"Enslow Publishing","2017","January 2017","7.125 X 8.500","Author","Colin Grady","4.7","0.5",null,null,"V","750L","Grade 3","Grade 3 - 5","Readers may have heard the term “fossil fuels,” but they may not know exactly what they are. Oil, natural gas, and coal are fossil fuels, but they are not clean or renewable sources of energy. This book takes a look at the history of fossil fuels and how we burn them to make heat and electricity as well as what can be done to decrease our use of these fuels and why this change is important. Color photos, a glossary, a timeline, and easy-to-read text help readers learn more about the sources of power that fuel their high-energy lives.","English",22.6,16.95,"333.8/2--dc23","24 pp.","https://www.enslow.com/books/Fossil_Fuels/421639",{"$f":"Table1[[#This Row],[QTY]]*Table1[[#This Row],['# of Books]]","v":0},{"$f":"Table1[[#This Row],[QTY]]*Table1[[#This Row],[School & Library Price]]","v":0}]
[null,null,null,"Saving the Planet Through Green Energy","Fossil Fuels",1,"eBook","978-0-7660-8279-3",{"$f":"HYPERLINK(Table1[[#This Row],[Hyperlink]],\"Weblink\")","v":"Weblink"},"Enslow Publishing","2017","January 2017",null,"Author","Colin Grady","4.7","0.5",null,null,"V","750L","Grade 3","Grade 3 - 5","Readers may have heard the term “fossil fuels,” but they may not know exactly what they are. Oil, natural gas, and coal are fossil fuels, but they are not clean or renewable sources of energy. This book takes a look at the history of fossil fuels and how we burn them to make heat and electricity as well as what can be done to decrease our use of these fuels and why this change is important. Color photos, a glossary, a timeline, and easy-to-read text help readers learn more about the sources of power that fuel their high-energy lives.","English",22.6,16.95,"333.8/2--dc23","24 pp.","https://www.enslow.com/books/Fossil_Fuels/421639",{"$f":"Table1[[#This Row],[QTY]]*Table1[[#This Row],['# of Books]]","v":0},{"$f":"Table1[[#This Row],[QTY]]*Table1[[#This Row],[School & Library Price]]","v":0}]
[null,null,null,"Saving the Planet Through Green Energy","Hydropower",1,"Library Bound Book","978-0-7660-8286-1",{"$f":"HYPERLINK(Table1[[#This Row],[Hyperlink]],\"Weblink\")","v":"Weblink"},"Enslow Publishing","2017","January 2017","7.125 X 8.500","Author","Colin Grady","5","0.5",null,null,"V","830L","Grade 3","Grade 3 - 5","Anyone who has been walloped by a large ocean wave or has watched water tumble down a tall waterfall knows the power of water. Readers will learn about hydropower throughout history and find out about the water cycle. Reading about how this clean energy source is used today and what the future of hydropower may look like will educate young readers about renewable energy fueled by water. Color photographs and a glossary are also included.","English",22.6,16.95,"621.31’2134--dc23","24 pp.","https://www.enslow.com/books/Hydropower/421637",{"$f":"Table1[[#This Row],[QTY]]*Table1[[#This Row],['# of Books]]","v":0},{"$f":"Table1[[#This Row],[QTY]]*Table1[[#This Row],[School & Library Price]]","v":0}]
[null,null,null,"Saving the Planet Through Green Energy","Hydropower",1,"eBook","978-0-7660-8287-8",{"$f":"HYPERLINK(Table1[[#This Row],[Hyperlink]],\"Weblink\")","v":"Weblink"},"Enslow Publishing","2017","January 2017",null,"Author","Colin Grady","5","0.5",null,null,"V","830L","Grade 3","Grade 3 - 5","Anyone who has been walloped by a large ocean wave or has watched water tumble down a tall waterfall knows the power of water. Readers will learn about hydropower throughout history and find out about the water cycle. Reading about how this clean energy source is used today and what the future of hydropower may look like will educate young readers about renewable energy fueled by water. Color photographs and a glossary are also included.","English",22.6,16.95,"621.31’2134--dc23","24 pp.","https://www.enslow.com/books/Hydropower/421637",{"$f":"Table1[[#This Row],[QTY]]*Table1[[#This Row],['# of Books]]","v":0},{"$f":"Table1[[#This Row],[QTY]]*Table1[[#This Row],[School & Library Price]]","v":0}]
[null,null,null,"Saving the Planet Through Green Energy","Solar Energy",1,"Library Bound Book","978-0-7660-8294-6",{"$f":"HYPERLINK(Table1[[#This Row],[Hyperlink]],\"Weblink\")","v":"Weblink"},"Enslow Publishing","2017","January 2017","7.125 X 8.500","Author","Colin Grady","4.9","0.5",null,null,"V","810L","Grade 3","Grade 3 - 5","The sun, responsible for life on our planet, is a valuable clean energy source that can lessen our dependence on fossil fuels. With color photos, a glossary, and simple text, this book explains how solar panels work, what passive solar power is, and how the sun can be used to make electricity. Young readers will be excited to learn more about renewable energy.","English",22.6,16.95,"333.792/3--dc23","24 pp.","https://www.enslow.com/books/Solar_Energy/421641",{"$f":"Table1[[#This Row],[QTY]]*Table1[[#This Row],['# of Books]]","v":0},{"$f":"Table1[[#This Row],[QTY]]*Table1[[#This Row],[School & Library Price]]","v":0}]
[null,null,null,"Saving the Planet Through Green Energy","Solar Energy",1,"eBook","978-0-7660-8295-3",{"$f":"HYPERLINK(Table1[[#This Row],[Hyperlink]],\"Weblink\")","v":"Weblink"},"Enslow Publishing","2017","January 2017",null,"Author","Colin Grady","4.9","0.5",null,null,"V","810L","Grade 3","Grade 3 - 5","The sun, responsible for life on our planet, is a valuable clean energy source that can lessen our dependence on fossil fuels. With color photos, a glossary, and simple text, this book explains how solar panels work, what passive solar power is, and how the sun can be used to make electricity. Young readers will be excited to learn more about renewable energy.","English",22.6,16.95,"333.792/3--dc23","24 pp.","https://www.enslow.com/books/Solar_Energy/421641",{"$f":"Table1[[#This Row],[QTY]]*Table1[[#This Row],['# of Books]]","v":0},{"$f":"Table1[[#This Row],[QTY]]*Table1[[#This Row],[School & Library Price]]","v":0}]
[null,null,null,"The Weather Report","The Weather Report",6,"Library Set","978-0-7660-9035-4",{"$f":"HYPERLINK(Table1[[#This Row],[Hyperlink]],\"Weblink\")","v":"Weblink"},"Enslow Publishing","2018","August 2017","8.500 X 7.125",null,null,null,null,null,null,null,null,"Grade 3","Grade 3 - 5","Weather is part of our daily lives. Indeed, watching the weather or checking a weather app on a phone or computer is part of most people's daily routine. Various weather phenomenon, including storms and the northern lights, and key players in the formation of weather, such as air pressure and the jet stream, are covered in-depth through a fun, captivating format and fact-laden text.","English",151.62,113.7,null,"32 pp.","https://www.enslow.com/series/The_Weather_Report/421594",{"$f":"Table1[[#This Row],[QTY]]*Table1[[#This Row],['# of Books]]","v":0},{"$f":"Table1[[#This Row],[QTY]]*Table1[[#This Row],[School & Library Price]]","v":0}]
[null,null,null,"The Weather Report","Air Pressure Driving the Weather!",1,"Library Bound Book","978-0-7660-9007-1",{"$f":"HYPERLINK(Table1[[#This Row],[Hyperlink]],\"Weblink\")","v":"Weblink"},"Enslow Publishing","2018","August 2017","8.500 X 7.125","Edited by","Joanne Randolph",null,null,"34",null,"P",null,"Grade 3","Grade 3 - 5","As one of the five elements of weather, air pressure is the driving force behind shifting weather patterns. Readers discover how high and low pressure areas work and the ways in which hot and cold air vie against each other every day, shaping our weather. A “Learn More” section will direct students to further information resources, and a detailed index serves as a quick reference to what is contained in the book (and where to find it).","English",25.27,18.95,"551.5/4--dc23","32 pp.","https://www.enslow.com/books/Air_Pressure_Driving_the_Weather/412789",{"$f":"Table1[[#This Row],[QTY]]*Table1[[#This Row],['# of Books]]","v":0},{"$f":"Table1[[#This Row],[QTY]]*Table1[[#This Row],[School & Library Price]]","v":0}]
[null,null,null,"The Weather Report","Extreme Weather Ahead!",1,"eBook","978-0-7660-9012-5",{"$f":"HYPERLINK(Table1[[#This Row],[Hyperlink]],\"Weblink\")","v":"Weblink"},"Enslow Publishing","2018","August 2017",null,"Edited by","Joanne Randolph",null,null,null,null,"O",null,"Grade 3","Grade 3 - 5","With climate change seeming to become an increasingly undeniable reality, we find ourselves facing more extreme weather than ever before. This title take a look at some examples of extreme weather, such as droughts and supercell thunder storms, and how and why they form.","English",25.27,18.95,"551.55--dc23","32 pp.","https://www.enslow.com/books/Extreme_Weather_Ahead/412790",{"$f":"Table1[[#This Row],[QTY]]*Table1[[#This Row],['# of Books]]","v":0},{"$f":"Table1[[#This Row],[QTY]]*Table1[[#This Row],[School & Library Price]]","v":0}]
[null,null,null,"The Weather Report","Hurricane Warning!",1,"Library Bound Book","978-0-7660-9015-6",{"$f":"HYPERLINK(Table1[[#This Row],[Hyperlink]],\"Weblink\")","v":"Weblink"},"Enslow Publishing","2018","August 2017","8.500 X 7.125","Edited by","Joanne Randolph",null,null,null,null,"O",null,"Grade 3","Grade 3 - 5","This title provides readers with a solid understanding of what a hurricane is and how it forms. It also provides information about how meteorologists track storms and the instruments they use to study and collect data about them. Readers will be blown away by the fascinating text, supported by full-color photographs and an eye-catching design.","English",25.27,18.95,"551.55/2--dc23","32 pp.","https://www.enslow.com/books/Hurricane_Warning/412791",{"$f":"Table1[[#This Row],[QTY]]*Table1[[#This Row],['# of Books]]","v":0},{"$f":"Table1[[#This Row],[QTY]]*Table1[[#This Row],[School & Library Price]]","v":0}]
[null,null,null,"The Weather Report","Jet Stream Steering the Winds!",1,"eBook","978-0-7660-9020-0",{"$f":"HYPERLINK(Table1[[#This Row],[Hyperlink]],\"Weblink\")","v":"Weblink"},"Enslow Publishing","2018","August 2017",null,"Edited by","Joanne Randolph",null,null,null,null,"P",null,"Grade 3","Grade 3 - 5","This title introduces readers to the jet stream and examines how it impacts the formation of winds and weather. Diagrams and full-color photos draw in even the most reluctant readers and the informative text will keep them turning the pages.","English",25.27,18.95,"551.51/87--dc23","32 pp.","https://www.enslow.com/books/Jet_Stream_Steering_the_Winds/412792",{"$f":"Table1[[#This Row],[QTY]]*Table1[[#This Row],['# of Books]]","v":0},{"$f":"Table1[[#This Row],[QTY]]*Table1[[#This Row],[School & Library Price]]","v":0}]
[null,null,null,"The Weather Report","Northern Lights Sighting!",1,"Library Bound Book","978-0-7660-9023-1",{"$f":"HYPERLINK(Table1[[#This Row],[Hyperlink]],\"Weblink\")","v":"Weblink"},"Enslow Publishing","2018","August 2017","8.500 X 7.125","Edited by","Joanne Randolph",null,null,null,null,"P",null,"Grade 3","Grade 3 - 5","The mysterious lights of the aurora borealis are a thing of legend. Some people live where they can see this phenomenon nearly every night, while others of us can only imagine what it must be like to see these eerie and awe-inspiring lights dancing across the night skies. This information-packed volume will take away some of the mystery, but not the awe, as it reveals what meteorologists have learned about the lights, and how and why they occur.","English",25.27,18.95,"538'.768--dc23","32 pp.","https://www.enslow.com/books/Northern_Lights_Sighting/412793",{"$f":"Table1[[#This Row],[QTY]]*Table1[[#This Row],['# of Books]]","v":0},{"$f":"Table1[[#This Row],[QTY]]*Table1[[#This Row],[School & Library Price]]","v":0}]
[null,null,null,"The Weather Report","Tornado Alert!",1,"Library Bound Book","978-0-7660-9027-9",{"$f":"HYPERLINK(Table1[[#This Row],[Hyperlink]],\"Weblink\")","v":"Weblink"},"Enslow Publishing","2018","August 2017","8.500 X 7.125","Edited by","Joanne Randolph",null,null,null,null,"O",null,"Grade 3","Grade 3 - 5","From the anatomy of a tornado to the weather conditions that invite them to form, this title has everything a person wants to know about tornados. There is discussion of historic twisters, as well, and a map showing the infamous area of our country known as “Tornado Alley” with detailed information about why this region is so prone to tornados.","English",25.27,18.95,"551.55'3--dc23","32 pp.","https://www.enslow.com/books/Tornado_Alert/412794",{"$f":"Table1[[#This Row],[QTY]]*Table1[[#This Row],['# of Books]]","v":0},{"$f":"Table1[[#This Row],[QTY]]*Table1[[#This Row],[School & Library Price]]","v":0}]
[null,null,null,"The Weather Report","Tornado Alert!",1,"eBook","978-0-7660-9028-6",{"$f":"HYPERLINK(Table1[[#This Row],[Hyperlink]],\"Weblink\")","v":"Weblink"},"Enslow Publishing","2018","August 2017",null,"Edited by","Joanne Randolph",null,null,null,null,"O",null,"Grade 3","Grade 3 - 5","From the anatomy of a tornado to the weather conditions that invite them to form, this title has everything a person wants to know about tornados. There is discussion of historic twisters, as well, and a map showing the infamous area of our country known as “Tornado Alley” with detailed information about why this region is so prone to tornados.","English",25.27,18.95,"551.55'3--dc23","32 pp.","https://www.enslow.com/books/Tornado_Alert/412794",{"$f":"Table1[[#This Row],[QTY]]*Table1[[#This Row],['# of Books]]","v":0},{"$f":"Table1[[#This Row],[QTY]]*Table1[[#This Row],[School & Library Price]]","v":0}]
[null,null,null,"The Power of Poop","Building with Poop",1,"eBook","978-0-7660-9110-8",{"$f":"HYPERLINK(Table1[[#This Row],[Hyperlink]],\"Weblink\")","v":"Weblink"},"Enslow Publishing","2018","January 2018",null,"Author","Jennifer Swanson",null,null,null,null,"L",null,"Grade 3 - 4","Grade 3 - 6","Readers will be surprised to find out that their poop is good for building things. They'll learn how animals use poop to construct nests, homes, and even fences. People mold it into bricks for houses and plop it on fences for support. It's biodegradable, environmentally friendly, and can add a bit of spice to any home construction project. This book meets NGSS Standards for grades 3 to 5 for STEM curriculum.","English",25.27,18.95,"612.3/6--dc23","32 pp.","https://www.enslow.com/books/Building_with_Poop/421686",{"$f":"Table1[[#This Row],[QTY]]*Table1[[#This Row],['# of Books]]","v":0},{"$f":"Table1[[#This Row],[QTY]]*Table1[[#This Row],[School & Library Price]]","v":0}]
[null,null,null,"The Power of Poop","Creating Sand Beaches with Poop",1,"Library Bound Book","978-0-7660-9106-1",{"$f":"HYPERLINK(Table1[[#This Row],[Hyperlink]],\"Weblink\")","v":"Weblink"},"Enslow Publishing","2018","January 2018","7.125 X 8.500","Author","Anita Louise McCormick",null,null,null,null,"N",null,"Grade 3 - 4","Grade 3 - 6","One of the amazing things poop can do is create beautiful white sandy beaches. Scientists have discovered that around 70 percent of white sand found on beaches comes from parrot fish poop. Parrot fish have bird-like beaks that can bite off pieces of coral. They chew the coral into tiny particles, digest the algae that grows on it, and poop out what they no longer need; streams of white coral sand. This fascinating book will help readers understand the value of poop in creating beaches, as well as the important role parrot fish play in the ecological system they live in.","English",25.27,18.95,"551.45/7--dc23","32 pp.","https://www.enslow.com/books/Creating_Sand_Beaches_with_Poop/421685",{"$f":"Table1[[#This Row],[QTY]]*Table1[[#This Row],['# of Books]]","v":0},{"$f":"Table1[[#This Row],[QTY]]*Table1[[#This Row],[School & Library Price]]","v":0}]
[null,null,null,"The Power of Poop","Digging for Poop Fossils",1,"eBook","978-0-7660-9099-6",{"$f":"HYPERLINK(Table1[[#This Row],[Hyperlink]],\"Weblink\")","v":"Weblink"},"Enslow Publishing","2018","January 2018",null,"Author","Kristina Lyn Heitkamp",null,null,null,null,"M",null,"Grade 3 - 4","Grade 3 - 6","Whether it weighs in at a whopping four pounds or is the size of an egg, fossilized dung is a precious treasure. Petrified poop, also known as coprolite, is rare. When it's discovered, it opens a world into the past. Trace fossils, such as coprolites, tell stories about how ancient animals and humans lived, behaved, and even how they died. Through accessible language and engrossing images, readers will learn how dung detectives identify and study coprolites. Readers will also explore how fossilized feces are formed. Special features include Fun Fact boxes that highlight the wealth of data pulled from poop.","English",25.27,18.95,"560.75--dc23","32 pp.","https://www.enslow.com/books/Digging_for_Poop_Fossils/421683",{"$f":"Table1[[#This Row],[QTY]]*Table1[[#This Row],['# of Books]]","v":0},{"$f":"Table1[[#This Row],[QTY]]*Table1[[#This Row],[School & Library Price]]","v":0}]
[null,null,null,"The Power of Poop","Poop Medicine",1,"Library Bound Book","978-0-7660-9113-9",{"$f":"HYPERLINK(Table1[[#This Row],[Hyperlink]],\"Weblink\")","v":"Weblink"},"Enslow Publishing","2018","January 2018","7.125 X 8.500","Author","Laura Loria",null,null,null,null,"O",null,"Grade 3 - 4","Grade 3 - 6","Most of U.S. take medicine to cure our stomach ailments, but poop is also a cure. Poop is a waste product that doctors can put to good use. This volume explores the healing properties of poop, focusing chiefly on fecal transplants. It will discuss the donation, collection, preparation and transplantation of poop, as well as the history of using human and animal waste to restore or enhance health and beauty. Young readers will engage with this high-interest material featuring photographic illustrations and fun fact boxes.","English",25.27,18.95,"612.3/6--dc23","32 pp.","https://www.enslow.com/books/Poop_Medicine/421687",{"$f":"Table1[[#This Row],[QTY]]*Table1[[#This Row],['# of Books]]","v":0},{"$f":"Table1[[#This Row],[QTY]]*Table1[[#This Row],[School & Library Price]]","v":0}]
[null,null,null,"The Power of Poop","Turning Poop into Power Fuel",1,"eBook","978-0-7660-9103-0",{"$f":"HYPERLINK(Table1[[#This Row],[Hyperlink]],\"Weblink\")","v":"Weblink"},"Enslow Publishing","2018","January 2018",null,"Author","Clara MacCarald",null,null,null,null,"P",null,"Grade 3 - 4","Grade 3 - 6","Imagine stopping at a gas station, and filling your car with...poop. Fuel made from poop may sound like science fiction, but it's already science fact. This engrossingly gross book explores the powerful possibilities. We'll discover how scientists are learning to make renewable fuels from something that most people are happy to get rid of. Unlike fossil fuels, poop is cheap, it's plentiful, and it's everywhere we are. Whether it's to the store, or all the way to Mars, poop is going places.","English",25.27,18.95,"628.4/4--dc23","32 pp.","https://www.enslow.com/books/Turning_Poop_into_Power_Fuel/421684",{"$f":"Table1[[#This Row],[QTY]]*Table1[[#This Row],['# of Books]]","v":0},{"$f":"Table1[[#This Row],[QTY]]*Table1[[#This Row],[School & Library Price]]","v":0}]
[null,null,null,"The Power of Poop","Weaponizing Poop",1,"Library Bound Book","978-0-7660-9095-8",{"$f":"HYPERLINK(Table1[[#This Row],[Hyperlink]],\"Weblink\")","v":"Weblink"},"Enslow Publishing","2018","January 2018","7.125 X 8.500","Author","Jeff Mapua",null,null,null,null,"P",null,"Grade 3 - 4","Grade 3 - 6","Bows and arrows, firearms, missiles...and poop? The progress of invention marches forward through time as humans discover a new material to use in the manufacturing of weapons. People have a history of utilizing excrement for various uses. This book takes a look at this interesting development of warfare, and the redefinition of just what a stink bomb is. Investigating the elements of feces will shine a light on the effectiveness and possible danger posed by what we are all too happy to flush away. This memorable and accessible book is one that readers will enjoy.","English",25.27,18.95,"623.4/594--dc23","32 pp.","https://www.enslow.com/books/Weaponizing_Poop/421682",{"$f":"Table1[[#This Row],[QTY]]*Table1[[#This Row],['# of Books]]","v":0},{"$f":"Table1[[#This Row],[QTY]]*Table1[[#This Row],[School & Library Price]]","v":0}]
[null,null,null,"Feats of 21st-Century Engineering","21st-Century Airplanes",1,"Library Bound Book","978-0-7660-9691-2",{"$f":"HYPERLINK(Table1[[#This Row],[Hyperlink]],\"Weblink\")","v":"Weblink"},"Enslow Publishing","2019","August 2018","7.250 X 9.250","Author","Lisa Idzikowski",null,null,null,null,"Q",null,"Grade 4","Grade 3 - 6","Taking off with a brief history lesson including the Wright Brothers' famous first flight, this exciting resource engages readers with the feats of today's aeronautical engineers, scientists, and researchers as they design, test, engineer, and build the flying machines of the present and the future. Readers will explore supersonic planes of the future that will fly faster than a speeding bullet, flying cars that can lift off and speed passengers to school or grandma's house, and biofuels that will power the next generation of aircraft.","English",27.93,20.95,"629.1333/34--dc23","48 pp.","https://www.enslow.com/books/21st_Century_Airplanes/421834",{"$f":"Table1[[#This Row],[QTY]]*Table1[[#This Row],['# of Books]]","v":0},{"$f":"Table1[[#This Row],[QTY]]*Table1[[#This Row],[School & Library Price]]","v":0}]
[null,null,null,"Feats of 21st-Century Engineering","21st-Century Airplanes",1,"eBook","978-0-7660-9693-6",{"$f":"HYPERLINK(Table1[[#This Row],[Hyperlink]],\"Weblink\")","v":"Weblink"},"Enslow Publishing","2019","August 2018",null,"Author","Lisa Idzikowski",null,null,null,null,"Q",null,"Grade 4","Grade 3 - 6","Taking off with a brief history lesson including the Wright Brothers' famous first flight, this exciting resource engages readers with the feats of today's aeronautical engineers, scientists, and researchers as they design, test, engineer, and build the flying machines of the present and the future. Readers will explore supersonic planes of the future that will fly faster than a speeding bullet, flying cars that can lift off and speed passengers to school or grandma's house, and biofuels that will power the next generation of aircraft.","English",27.93,20.95,"629.1333/34--dc23","48 pp.","https://www.enslow.com/books/21st_Century_Airplanes/421834",{"$f":"Table1[[#This Row],[QTY]]*Table1[[#This Row],['# of Books]]","v":0},{"$f":"Table1[[#This Row],[QTY]]*Table1[[#This Row],[School & Library Price]]","v":0}]
[null,null,null,"Feats of 21st-Century Engineering","21st-Century Bridges",1,"eBook","978-0-7660-9696-7",{"$f":"HYPERLINK(Table1[[#This Row],[Hyperlink]],\"Weblink\")","v":"Weblink"},"Enslow Publishing","2019","August 2018",null,"Author","Kathy Furgang",null,null,null,null,"P",null,"Grade 4","Grade 3 - 6","One of the most important things about living in today's modern world is the ability to travel. Bridges are one of the most important aspects of our modern transportation system. Since the beginning of civilizations, simple bridges have been used to get people over rivers, across valleys, and even across mountains. Today, technology allows engineers to design the most amazing architectural marvels in the world. This resource explores the fascinating history of bridge building and focuses on the engineering accomplishments that will allow safe and sustainable transportation today and far into the future.","English",27.93,20.95,"624.2--dc23","48 pp.","https://www.enslow.com/books/21st_Century_Bridges/421835",{"$f":"Table1[[#This Row],[QTY]]*Table1[[#This Row],['# of Books]]","v":0},{"$f":"Table1[[#This Row],[QTY]]*Table1[[#This Row],[School & Library Price]]","v":0}]
[null,null,null,"Feats of 21st-Century Engineering","21st-Century Cars",1,"Library Bound Book","978-0-7660-9697-4",{"$f":"HYPERLINK(Table1[[#This Row],[Hyperlink]],\"Weblink\")","v":"Weblink"},"Enslow Publishing","2019","August 2018","7.250 X 9.250","Author","Heather Moore Niver",null,null,null,null,"O",null,"Grade 4","Grade 3 - 6","As technology and engineering advance, the automotive industry moves right along with them. In fact, one might argue that the cars of the twenty-first century are a little ahead of the curve. Readers will learn all about the most innovative cars, whether they are eye-opening concept cars or environmentally friendly, fuel-efficient green cars that help people get from place to place with a minimal environmental impact. This fascinating read covers the safe, fast, furious, and fun aspects of automotive engineering that is always on the cutting edge.","English",27.93,20.95,"629.222--dc23","48 pp.","https://www.enslow.com/books/21st_Century_Cars/421836",{"$f":"Table1[[#This Row],[QTY]]*Table1[[#This Row],['# of Books]]","v":0},{"$f":"Table1[[#This Row],[QTY]]*Table1[[#This Row],[School & Library Price]]","v":0}]
[null,null,null,"Feats of 21st-Century Engineering","21st-Century Ships",1,"eBook","978-0-7660-9702-5",{"$f":"HYPERLINK(Table1[[#This Row],[Hyperlink]],\"Weblink\")","v":"Weblink"},"Enslow Publishing","2019","August 2018",null,"Author","Philip Wolny",null,null,null,null,"O",null,"Grade 4","Grade 3 - 6","Cruise liners, destroyers, aircraft carriers, and oil tankers are some of the massive watercraft breaking records and keeping the world economy moving and safe. This fascinating resource provides snapshots of innovative and impressive ships of the future, using these awe-inspiring vessels as an introduction to basic engineering principles. A dynamic overview of present and future seagoing giants also tackles the green and energy-efficient innovations that will make the coming century particularly important. Students will marvel at these cutting-edge craft while absorbing valuable STEM lessons.","English",27.93,20.95,"623.82--dc23","48 pp.","https://www.enslow.com/books/21st_Century_Ships/421837",{"$f":"Table1[[#This Row],[QTY]]*Table1[[#This Row],['# of Books]]","v":0},{"$f":"Table1[[#This Row],[QTY]]*Table1[[#This Row],[School & Library Price]]","v":0}]
[null,null,null,"Feats of 21st-Century Engineering","21st-Century Skyscrapers",1,"Library Bound Book","978-0-7660-9703-2",{"$f":"HYPERLINK(Table1[[#This Row],[Hyperlink]],\"Weblink\")","v":"Weblink"},"Enslow Publishing","2019","August 2018","7.250 X 9.250","Author","Philip Wolny",null,null,null,null,"R",null,"Grade 4","Grade 3 - 6","The modern skylines of major cities around the globe are both majestic and awe-inspiring. Since the turn of the century, ever more impressive and innovative skyscrapers have been built. This resource features the tallest and most famous buildings standing, and inspires young aspiring architects and engineers to dream of ever taller buildings. The sky's the limit for readers, who will gain valuable insights into engineering basics while their imaginations are stirred by images and descriptions of these architectural giants from all over the world.","English",27.93,20.95,"720/.483--dc23","48 pp.","https://www.enslow.com/books/21st_Century_Skyscrapers/421838",{"$f":"Table1[[#This Row],[QTY]]*Table1[[#This Row],['# of Books]]","v":0},{"$f":"Table1[[#This Row],[QTY]]*Table1[[#This Row],[School & Library Price]]","v":0}]
[null,null,null,"Feats of 21st-Century Engineering","21st-Century Spaceships",1,"eBook","978-0-7660-9708-7",{"$f":"HYPERLINK(Table1[[#This Row],[Hyperlink]],\"Weblink\")","v":"Weblink"},"Enslow Publishing","2019","August 2018",null,"Author","Gloria G. Adams",null,null,null,null,"R",null,"Grade 4","Grade 3 - 6","What does it take to design, create and launch a spaceship? The skills of engineers. Since the mid-twentieth century, engineers have given us spaceships, satellites, probes, land rovers and an orbiting space station. Plans for future spaceships, as well as a manned voyage to Mars, are well underway. With a focus on the principles of engineering, this resource will teach students about the astronautical engineering accomplishments of the past and present, along with an array of engineering obstacles that must be overcome to create the spaceships that will launch us into the exciting future of space exploration.","English",27.93,20.95,"629.47--dc23","48 pp.","https://www.enslow.com/books/21st_Century_Spaceships/421839",{"$f":"Table1[[#This Row],[QTY]]*Table1[[#This Row],['# of Books]]","v":0},{"$f":"Table1[[#This Row],[QTY]]*Table1[[#This Row],[School & Library Price]]","v":0}]
[null,null,null,"Feats of 21st-Century Engineering","21st-Century Trains",1,"Library Bound Book","978-0-7660-9709-4",{"$f":"HYPERLINK(Table1[[#This Row],[Hyperlink]],\"Weblink\")","v":"Weblink"},"Enslow Publishing","2019","August 2018","7.250 X 9.250","Author","Vera J. Hurst",null,null,null,null,"P",null,"Grade 4","Grade 3 - 6","From horse-drawn carts on wheels to flying trains, there is no doubt that trains have become a major force for societal change. Humans have moved goods and themselves from place to place from our earliest times. Creating solutions to these problems have long engaged creative people. This resource explores the remarkable engineering feats that have moved this form of transportation forward into the twenty-first century. Contrasting the past with the present, budding engineers will see how they, too, may use engineering principles to discover, create and engineer the new trains of the future by building upon the past.","English",27.93,20.95,"625.2--dc23","48 pp.","https://www.enslow.com/books/21st_Century_Trains/421840",{"$f":"Table1[[#This Row],[QTY]]*Table1[[#This Row],['# of Books]]","v":0},{"$f":"Table1[[#This Row],[QTY]]*Table1[[#This Row],[School & Library Price]]","v":0}]
[null,null,null,"Feats of 21st-Century Engineering","21st-Century Tunnels",1,"eBook","978-0-7660-9714-8",{"$f":"HYPERLINK(Table1[[#This Row],[Hyperlink]],\"Weblink\")","v":"Weblink"},"Enslow Publishing","2019","August 2018",null,"Author","LeeAnn Blankenship",null,null,null,null,"Q",null,"Grade 4","Grade 3 - 6","As cities grow and Earth becomes more congested with millions of miles of roads and railways, tunnels offer access to some of our last available space. They pass through massive mountains, beneath bodies of water, and even under large cities. This resource introduces readers to underground engineering and explains how it works in connection with other disciplines to solve problems of tunnel design, safety, construction, and sustainability. No doubt tunnels of the future will revolutionize transportation and address other global issues. This insightful resource will inspire readers to consider a career in engineering so they can help make it happen.","English",27.93,20.95,"624.1/93--dc23","48 pp.","https://www.enslow.com/books/21st_Century_Tunnels/421841",{"$f":"Table1[[#This Row],[QTY]]*Table1[[#This Row],['# of Books]]","v":0},{"$f":"Table1[[#This Row],[QTY]]*Table1[[#This Row],[School & Library Price]]","v":0}]
[null,null,null,"Hands-On Science","Hands-On Science",6,"Library Set","978-0-7660-8392-9",{"$f":"HYPERLINK(Table1[[#This Row],[Hyperlink]],\"Weblink\")","v":"Weblink"},"Enslow Publishing","2017","January 2017","7.250 X 9.250",null,null,null,null,null,null,null,null,"Grade 4","Grade 3 - 5","With these easy-to-follow experiments enhanced by bright, colorful illustrations, readers will explore key earth science concepts. Science fair projects ideas and safety tips help young scientists further understand the information that is being presented.","English",167.58,125.7,null,"48 pp.","https://www.enslow.com/series/Hands_On_Science/421572",{"$f":"Table1[[#This Row],[QTY]]*Table1[[#This Row],['# of Books]]","v":0},{"$f":"Table1[[#This Row],[QTY]]*Table1[[#This Row],[School & Library Price]]","v":0}]
[null,null,null,"Hands-On Science","Science Fair Projects About Rocks and Minerals",1,"Library Bound Book","978-0-7660-8209-0",{"$f":"HYPERLINK(Table1[[#This Row],[Hyperlink]],\"Weblink\")","v":"Weblink"},"Enslow Publishing","2017","January 2017","7.250 X 9.250","Author","Robert Gardner",null,null,null,null,"V",null,"Grade 4","Grade 3 - 5","The hands-on experiments in this book, illustrated in color, will unlock the secrets of rocks and minerals, including how sedimentary rock is different from metamorphic rock, what is in soil, and what minerals can be found at home. Some will even give readers ideas for their own science fair project. All they need are some simple materials, most of which can be found around the home, school, or neighborhood.","English",27.93,20.95,"549.078--dc23","48 pp.","https://www.enslow.com/books/Science_Fair_Projects_About_Rocks_and_Minerals/421603",{"$f":"Table1[[#This Row],[QTY]]*Table1[[#This Row],['# of Books]]","v":0},{"$f":"Table1[[#This Row],[QTY]]*Table1[[#This Row],[School & Library Price]]","v":0}]
[null,null,null,"Hands-On Science","Science Fair Projects About Rocks and Minerals",1,"eBook","978-0-7660-8210-6",{"$f":"HYPERLINK(Table1[[#This Row],[Hyperlink]],\"Weblink\")","v":"Weblink"},"Enslow Publishing","2017","January 2017",null,"Author","Robert Gardner",null,null,null,null,"V",null,"Grade 4","Grade 3 - 5","The hands-on experiments in this book, illustrated in color, will unlock the secrets of rocks and minerals, including how sedimentary rock is different from metamorphic rock, what is in soil, and what minerals can be found at home. Some will even give readers ideas for their own science fair project. All they need are some simple materials, most of which can be found around the home, school, or neighborhood.","English",27.93,20.95,"549.078--dc23","48 pp.","https://www.enslow.com/books/Science_Fair_Projects_About_Rocks_and_Minerals/421603",{"$f":"Table1[[#This Row],[QTY]]*Table1[[#This Row],['# of Books]]","v":0},{"$f":"Table1[[#This Row],[QTY]]*Table1[[#This Row],[School & Library Price]]","v":0}]
[null,null,null,"Hands-On Science","Science Fair Projects About the Atmosphere",1,"eBook","978-0-7660-8223-6",{"$f":"HYPERLINK(Table1[[#This Row],[Hyperlink]],\"Weblink\")","v":"Weblink"},"Enslow Publishing","2017","January 2017",null,"Author","Robert Gardner",null,null,null,null,"U",null,"Grade 4","Grade 3 - 5","By doing the simple science projects in this book, young scientists will discover if air has weight, if one can make a cloud, and the reason the sky is blue. The experiments use materials found at home or at school. Young scientists can take what they've learned from these experiments and use suggestions to create their own unique science fair projects. Detailed explanations explain the science used in each experiment. A glossary and full-color illustrations complete each title.","English",27.93,20.95,"551.5078--dc23","48 pp.","https://www.enslow.com/books/Science_Fair_Projects_About_the_Atmosphere/421606",{"$f":"Table1[[#This Row],[QTY]]*Table1[[#This Row],['# of Books]]","v":0},{"$f":"Table1[[#This Row],[QTY]]*Table1[[#This Row],[School & Library Price]]","v":0}]
[null,null,null,"Hands-On Science","Science Fair Projects About the Sun and the Moon",1,"Library Bound Book","978-0-7660-8217-5",{"$f":"HYPERLINK(Table1[[#This Row],[Hyperlink]],\"Weblink\")","v":"Weblink"},"Enslow Publishing","2017","January 2017","7.250 X 9.250","Author","Robert Gardner",null,null,null,null,"U",null,"Grade 4","Grade 3 - 5","Using materials they can find in their home, students can start to learn the facts about our sun and moon, including how to get the time or direction by looking at the sun, the colors in sunlight, and why the moon's appearance changes during the month. Each activity is followed by an explanation section to discuss the science concepts that were covered in the experiment. Engaging color illustrations accompany every experiment, and a glossary defines scientific terms.","English",27.93,20.95,"523.7078--dc23","48 pp.","https://www.enslow.com/books/Science_Fair_Projects_About_the_Sun_and_the_Moon/421604",{"$f":"Table1[[#This Row],[QTY]]*Table1[[#This Row],['# of Books]]","v":0},{"$f":"Table1[[#This Row],[QTY]]*Table1[[#This Row],[School & Library Price]]","v":0}]
[null,null,null,"Hands-On Science","Science Fair Projects About Water and Soil",1,"eBook","978-0-7660-8214-4",{"$f":"HYPERLINK(Table1[[#This Row],[Hyperlink]],\"Weblink\")","v":"Weblink"},"Enslow Publishing","2017","January 2017",null,"Author","Robert Gardner",null,null,null,null,"U",null,"Grade 4","Grade 3 - 5","Award-winning author Robert Gardner makes earth science fun. Using common materials found in the home or school, students can perform simple, hands-on experiments and find out what an aquifer is, if water ever disappears, and in what type of soil plants grow best. The follow-up section to every activity includes narrative that explains the scientific concepts of each experiment. Color illustrations and a glossary add even more to this fun title.","English",27.93,20.95,"631.4--dc23","48 pp.","https://www.enslow.com/books/Science_Fair_Projects_About_Water_and_Soil/421607",{"$f":"Table1[[#This Row],[QTY]]*Table1[[#This Row],['# of Books]]","v":0},{"$f":"Table1[[#This Row],[QTY]]*Table1[[#This Row],[School & Library Price]]","v":0}]
[null,null,null,"Hands-On Science","Science Fair Projects About Weather",1,"Library Bound Book","978-0-7660-8206-9",{"$f":"HYPERLINK(Table1[[#This Row],[Hyperlink]],\"Weblink\")","v":"Weblink"},"Enslow Publishing","2017","January 2017","7.250 X 9.250","Author","Robert Gardner",null,null,null,null,"U",null,"Grade 4","Grade 3 - 5","Award-winning author Robert Gardner has been engaging young readers for decades. He continues to educate readers with simple hands-on activities that help kids understand earth science, including what exactly rain is, what air pressure is, and if rainfall can be measured. A glossary and a detailed explanation section following each experiment describe the science concepts and terms. Color illustrations accompany each experiment.","English",27.93,20.95,"551.5078--dc23","48 pp.","https://www.enslow.com/books/Science_Fair_Projects_About_Weather/421605",{"$f":"Table1[[#This Row],[QTY]]*Table1[[#This Row],['# of Books]]","v":0},{"$f":"Table1[[#This Row],[QTY]]*Table1[[#This Row],[School & Library Price]]","v":0}]
[null,null,null,"The Story of Our Holidays","Chinese New Year",1,"Library Bound Book","978-0-7660-8326-4",{"$f":"HYPERLINK(Table1[[#This Row],[Hyperlink]],\"Weblink\")","v":"Weblink"},"Enslow Publishing","2017","January 2017","7.125 X 8.500","Author, Author","Fay Robinson, Joanna Ponto","5","0.5",null,null,"M",null,"Grade 3","Grade 3 - 5","Chinese New Year has been celebrated for thousands of years in China. Now it is celebrated all around the world. It does not always come on the same date each year, but it is always in January or February. Readers of this volume will learn the meaning behind the holiday as well as the costumes, decorations, food, and other customs, such as the dragon parade, associated with it. This simple yet engaging book also provides instructions on how to make ya sui qian, or the red envelopes the Chinese use for gifts of money, as well as a recipe for fried rice.","English",25.27,18.95,"394.261--dc23","32 pp.","https://www.enslow.com/books/Chinese_New_Year/421650",{"$f":"Table1[[#This Row],[QTY]]*Table1[[#This Row],['# of Books]]","v":0},{"$f":"Table1[[#This Row],[QTY]]*Table1[[#This Row],[School & Library Price]]","v":0}]
[null,null,null,"The Story of Our Holidays","Chinese New Year",1,"eBook","978-0-7660-8327-1",{"$f":"HYPERLINK(Table1[[#This Row],[Hyperlink]],\"Weblink\")","v":"Weblink"},"Enslow Publishing","2017","January 2017",null,"Author, Author","Fay Robinson, Joanna Ponto","5","0.5",null,null,"M",null,"Grade 3","Grade 3 - 5","Chinese New Year has been celebrated for thousands of years in China. Now it is celebrated all around the world. It does not always come on the same date each year, but it is always in January or February. Readers of this volume will learn the meaning behind the holiday as well as the costumes, decorations, food, and other customs, such as the dragon parade, associated with it. This simple yet engaging book also provides instructions on how to make ya sui qian, or the red envelopes the Chinese use for gifts of money, as well as a recipe for fried rice.","English",25.27,18.95,"394.261--dc23","32 pp.","https://www.enslow.com/books/Chinese_New_Year/421650",{"$f":"Table1[[#This Row],[QTY]]*Table1[[#This Row],['# of Books]]","v":0},{"$f":"Table1[[#This Row],[QTY]]*Table1[[#This Row],[School & Library Price]]","v":0}]
[null,null,null,"The Story of Our Holidays","Cinco de Mayo",1,"Library Bound Book","978-0-7660-8330-1",{"$f":"HYPERLINK(Table1[[#This Row],[Hyperlink]],\"Weblink\")","v":"Weblink"},"Enslow Publishing","2017","January 2017","7.125 X 8.500","Author, Author","Carol Gnojewski, Joanna Ponto","4.7","0.5",null,null,"M","760L","Grade 3","Grade 3 - 5","Cinco de Mayo is a Mexican holiday that celebrates the country’s defeat of invading French forces during the Battle of Puebla. Readers of this volume will learn the history behind the holiday as well as the music, dances, and food associated with it. A recipe for salsa fresca and instructions to create a Mexican flag are also provided.","English",25.27,18.95,"394.262--dc23","32 pp.","https://www.enslow.com/books/Cinco_de_Mayo/421652",{"$f":"Table1[[#This Row],[QTY]]*Table1[[#This Row],['# of Books]]","v":0},{"$f":"Table1[[#This Row],[QTY]]*Table1[[#This Row],[School & Library Price]]","v":0}]
[null,null,null,"The Story of Our Holidays","Cinco de Mayo",1,"eBook","978-0-7660-8331-8",{"$f":"HYPERLINK(Table1[[#This Row],[Hyperlink]],\"Weblink\")","v":"Weblink"},"Enslow Publishing","2017","January 2017",null,"Author, Author","Carol Gnojewski, Joanna Ponto","4.7","0.5",null,null,"M","760L","Grade 3","Grade 3 - 5","Cinco de Mayo is a Mexican holiday that celebrates the country’s defeat of invading French forces during the Battle of Puebla. Readers of this volume will learn the history behind the holiday as well as the music, dances, and food associated with it. A recipe for salsa fresca and instructions to create a Mexican flag are also provided.","English",25.27,18.95,"394.262--dc23","32 pp.","https://www.enslow.com/books/Cinco_de_Mayo/421652",{"$f":"Table1[[#This Row],[QTY]]*Table1[[#This Row],['# of Books]]","v":0},{"$f":"Table1[[#This Row],[QTY]]*Table1[[#This Row],[School & Library Price]]","v":0}]
[null,null,null,"The Story of Our Holidays","Day of the Dead",1,"Library Bound Book","978-0-7660-7644-0",{"$f":"HYPERLINK(Table1[[#This Row],[Hyperlink]],\"Weblink\")","v":"Weblink"},"Enslow Publishing","2017","August 2016","7.125 X 8.500","Author, Author","Joanna Ponto, Carol Gnojewski","5","0.5",null,null,"M",null,"Grade 3","Grade 3 - 5","The Day of the Dead is a celebration honoring those who have left this world. Readers of this volume will understand the meaning behind the holiday as well as the costumes, decorations, food, and other customs associated with it. A recipe for champurrado (Mexican drinking chocolate) and instructions to create a skeleton craft are also provided.","English",25.27,18.95,"394.266--dc23","32 pp.","https://www.enslow.com/books/Day_of_the_Dead/419417",{"$f":"Table1[[#This Row],[QTY]]*Table1[[#This Row],['# of Books]]","v":0},{"$f":"Table1[[#This Row],[QTY]]*Table1[[#This Row],[School & Library Price]]","v":0}]
[null,null,null,"The Story of Our Holidays","Day of the Dead",1,"eBook","978-0-7660-7645-7",{"$f":"HYPERLINK(Table1[[#This Row],[Hyperlink]],\"Weblink\")","v":"Weblink"},"Enslow Publishing","2017","August 2016",null,"Author, Author","Joanna Ponto, Carol Gnojewski","5","0.5",null,null,"M",null,"Grade 3","Grade 3 - 5","The Day of the Dead is a celebration honoring those who have left this world. Readers of this volume will understand the meaning behind the holiday as well as the costumes, decorations, food, and other customs associated with it. A recipe for champurrado (Mexican drinking chocolate) and instructions to create a skeleton craft are also provided.","English",25.27,18.95,"394.266--dc23","32 pp.","https://www.enslow.com/books/Day_of_the_Dead/419417",{"$f":"Table1[[#This Row],[QTY]]*Table1[[#This Row],['# of Books]]","v":0},{"$f":"Table1[[#This Row],[QTY]]*Table1[[#This Row],[School & Library Price]]","v":0}]
[null,null,null,"The Story of Our Holidays","Diwali",1,"eBook","978-0-7660-7649-5",{"$f":"HYPERLINK(Table1[[#This Row],[Hyperlink]],\"Weblink\")","v":"Weblink"},"Enslow Publishing","2017","August 2016",null,"Author, Author","Joanna Ponto, Michelle Parker-Rock","5","0.5",null,null,"M","830L","Grade 3","Grade 3 - 5","Diwali, the Hindu festival of lights, is celebrated with firecrackers, sweet treats, and exciting tales of a prince and princess. Readers will learn about the customs involved in celebrating this joyful holiday, and they can prepare a delicious mango lassi and construct a fun Diwali game to play on the big day.","English",25.27,18.95,"294.5/36--dc23","32 pp.","https://www.enslow.com/books/Diwali/419422",{"$f":"Table1[[#This Row],[QTY]]*Table1[[#This Row],['# of Books]]","v":0},{"$f":"Table1[[#This Row],[QTY]]*Table1[[#This Row],[School & Library Price]]","v":0}]
[null,null,null,"The Story of Our Holidays","Earth Day",1,"Library Bound Book","978-0-7660-7457-6",{"$f":"HYPERLINK(Table1[[#This Row],[Hyperlink]],\"Weblink\")","v":"Weblink"},"Enslow Publishing","2016","January 2016","7.125 X 8.500","Author","Joanna Ponto","4","0.5",null,null,"L",null,"Grade 3","Grade 3 - 5","By reading about Earth Day’s history and purpose as well as how it is celebrated the world over, students will learn that there is more to the holiday than just recycling and planting trees. To celebrate our planet, children can create a rock paperweight and make an Earth Day-related recipe to share with family and friends.","English",25.27,18.95,"394.262--dc23","32 pp.","https://www.enslow.com/books/Earth_Day/4597",{"$f":"Table1[[#This Row],[QTY]]*Table1[[#This Row],['# of Books]]","v":0},{"$f":"Table1[[#This Row],[QTY]]*Table1[[#This Row],[School & Library Price]]","v":0}]
[null,null,null,"The Story of Our Holidays","Easter",1,"eBook","978-0-7660-7452-1",{"$f":"HYPERLINK(Table1[[#This Row],[Hyperlink]],\"Weblink\")","v":"Weblink"},"Enslow Publishing","2016","January 2016",null,"Author","Joanna Ponto","4.1","0.5",null,null,"L",null,"Grade 3","Grade 3 - 5","Through full-color photos and exciting text, young readers will discover that Easter is not just a religious holiday, but also a time to celebrate spring and rebirth. They will learn about the history of this holiday and how it is celebrated throughout diverse cultures all over the world. Students can even make baby chick crafts and an Easter-related recipe to share.","English",25.27,18.95,"394.2’68283--dc23","32 pp.","https://www.enslow.com/books/Easter/4598",{"$f":"Table1[[#This Row],[QTY]]*Table1[[#This Row],['# of Books]]","v":0},{"$f":"Table1[[#This Row],[QTY]]*Table1[[#This Row],[School & Library Price]]","v":0}]
[null,null,null,"The Story of Our Holidays","Groundhog Day",1,"Library Bound Book","978-0-7660-8334-9",{"$f":"HYPERLINK(Table1[[#This Row],[Hyperlink]],\"Weblink\")","v":"Weblink"},"Enslow Publishing","2017","January 2017","7.125 X 8.500","Author","Hannah Isbell","5.7","0.5",null,null,"M","950L","Grade 3","Grade 3 - 5","Early in the morning on February 2, as many as thirty thousand people make their way to Gobbler’s Knob to see Punxsutawney Phil, the most famous groundhog in the United States. They watch and wait to see whether he will see his shadow and predict six more weeks of winter. Readers will learn how this strange tradition came to be and its significance, in addition to following a German apple brown bread recipe and making a groundhog shadow box.","English",25.27,18.95,"394.261--dc23","32 pp.","https://www.enslow.com/books/Groundhog_Day/421655",{"$f":"Table1[[#This Row],[QTY]]*Table1[[#This Row],['# of Books]]","v":0},{"$f":"Table1[[#This Row],[QTY]]*Table1[[#This Row],[School & Library Price]]","v":0}]
[null,null,null,"The Story of Our Holidays","Halloween",1,"eBook","978-0-7660-7653-2",{"$f":"HYPERLINK(Table1[[#This Row],[Hyperlink]],\"Weblink\")","v":"Weblink"},"Enslow Publishing","2017","August 2016",null,"Author, Author","Joanna Ponto, Fay Robinson","4.4","0.5",null,null,"L",null,"Grade 3","Grade 3 - 5","Most kids think about candy and costumes when they think about Halloween. Readers of this engaging volume will be excited to learn about the way other cultures celebrate and honor the dead, as well as their differing customs. They can round off their learning by making witch finger treats and mini ghost decorations.","English",25.27,18.95,"394.2646--dc23","32 pp.","https://www.enslow.com/books/Halloween/419427",{"$f":"Table1[[#This Row],[QTY]]*Table1[[#This Row],['# of Books]]","v":0},{"$f":"Table1[[#This Row],[QTY]]*Table1[[#This Row],[School & Library Price]]","v":0}]
[null,null,null,"The Story of Our Holidays","Hanukkah",1,"Library Bound Book","978-0-7660-7628-0",{"$f":"HYPERLINK(Table1[[#This Row],[Hyperlink]],\"Weblink\")","v":"Weblink"},"Enslow Publishing","2017","August 2016","7.125 X 8.500","Author, Author","Joanna Ponto, Arlene Erlbach","5.1","0.5",null,null,"L",null,"Grade 3","Grade 3 - 5","Young readers will learn how Jews in the United States and abroad celebrate Hanukkah, an eight-day commemoration of the Maccabean rebellion, when a lamp with enough oil to last only one day burned for eight days and nights. This simple yet engaging book also provides instructions on how to make a dreidel and play the game as well as a recipe for applesauce to enjoy over latkes, roast chicken, or just on its own.","English",25.27,18.95,"296.4/35--dc23","32 pp.","https://www.enslow.com/books/Hanukkah/419402",{"$f":"Table1[[#This Row],[QTY]]*Table1[[#This Row],['# of Books]]","v":0},{"$f":"Table1[[#This Row],[QTY]]*Table1[[#This Row],[School & Library Price]]","v":0}]
[null,null,null,"The Story of Our Holidays","Independence Day",1,"eBook","978-0-7660-7453-8",{"$f":"HYPERLINK(Table1[[#This Row],[Hyperlink]],\"Weblink\")","v":"Weblink"},"Enslow Publishing","2016","January 2016",null,"Author","Joanna Ponto","4.7","0.5","30",null,"N",null,"Grade 3","Grade 3 - 5","Through captivating, simple language, young readers will learn about the history of America’s independence and how it is celebrated across the country. From flags to fireworks, full-color photos will be sure to make this text a favorite for students across the United States. Readers can even make their own sparklers and a Fourth of July-inspired recipe to celebrate!","English",25.27,18.95,"394.2634--dc23","32 pp.","https://www.enslow.com/books/Independence_Day/4613",{"$f":"Table1[[#This Row],[QTY]]*Table1[[#This Row],['# of Books]]","v":0},{"$f":"Table1[[#This Row],[QTY]]*Table1[[#This Row],[School & Library Price]]","v":0}]
[null,null,null,"The Story of Our Holidays","Juneteenth",1,"Library Bound Book","978-0-7660-8338-7",{"$f":"HYPERLINK(Table1[[#This Row],[Hyperlink]],\"Weblink\")","v":"Weblink"},"Enslow Publishing","2017","January 2017","7.125 X 8.500","Author, Author","Angela Leeper, Joanna Ponto","5.1","0.5",null,null,"M","820L","Grade 3","Grade 3 - 5","In Texas, all slaves found out they were free on June 19, 1865. This day is known as Juneteenth. At first, it was a holiday in Texas, but now people celebrate Juneteenth all across the United States. Readers will learn about the history of the holiday as well as how it is celebrated today. In addition, they can prepare a delicious recipe for corn muffins and construct Juneteenth flag pinwheels to place in a garden, yard, or window.","English",25.27,18.95,"394.263--dc23","32 pp.","https://www.enslow.com/books/Juneteenth/421654",{"$f":"Table1[[#This Row],[QTY]]*Table1[[#This Row],['# of Books]]","v":0},{"$f":"Table1[[#This Row],[QTY]]*Table1[[#This Row],[School & Library Price]]","v":0}]
[null,null,null,"The Story of Our Holidays","Kwanzaa",1,"eBook","978-0-7660-7624-2",{"$f":"HYPERLINK(Table1[[#This Row],[Hyperlink]],\"Weblink\")","v":"Weblink"},"Enslow Publishing","2017","August 2016",null,"Author, Author","Joanna Ponto, Carol Gnojewski","4.7","0.5",null,null,"L",null,"Grade 3","Grade 3 - 5","First observed in 1966, Kwanzaa is the weeklong celebration of African traditions in American culture. Readers will be introduced to the black power movement of the last century and understand that this holiday was created to connect African Americans with their heritage. This informative resource includes colorful photos, an easy-to-follow recipe for Botswanan stew and instructions on how to make and play the mancala counting game.","English",25.27,18.95,"394.2612--dc23","32 pp.","https://www.enslow.com/books/Kwanzaa/419397",{"$f":"Table1[[#This Row],[QTY]]*Table1[[#This Row],['# of Books]]","v":0},{"$f":"Table1[[#This Row],[QTY]]*Table1[[#This Row],[School & Library Price]]","v":0}]
[null,null,null,"The Story of Our Holidays","Mardi Gras",1,"Library Bound Book","978-0-7660-7460-6",{"$f":"HYPERLINK(Table1[[#This Row],[Hyperlink]],\"Weblink\")","v":"Weblink"},"Enslow Publishing","2016","January 2016","7.125 X 8.500","Author","Joanna Ponto","4.3","0.5",null,null,"M",null,"Grade 3","Grade 3 - 5","Young readers will learn all about the culture, history, and celebrations of Mardi Gras. From costumes to carnivals and music, students will want to revel in the festivities. Students can make gumbo according to the recipe in the book, as well as create a Mardi Gras mask to celebrate!","English",25.27,18.95,"394.2509763'35--dc23","32 pp.","https://www.enslow.com/books/Mardi_Gras/4621",{"$f":"Table1[[#This Row],[QTY]]*Table1[[#This Row],['# of Books]]","v":0},{"$f":"Table1[[#This Row],[QTY]]*Table1[[#This Row],[School & Library Price]]","v":0}]
[null,null,null,"The Story of Our Holidays","Martin Luther King Jr. Day",1,"Library Bound Book","978-0-7660-8342-4",{"$f":"HYPERLINK(Table1[[#This Row],[Hyperlink]],\"Weblink\")","v":"Weblink"},"Enslow Publishing","2017","January 2017","7.125 X 8.500","Author, Author","Carol Gnojewski, Joanna Ponto","4.4","0.5",null,null,"M","740L","Grade 3","Grade 3 - 5","The United States celebrated the first Martin Luther King Jr. Day on January 20, 1986. There were marches, parades, and candlelight gatherings. Readers will learn about the life and accomplishments of Martin Luther King Jr. and why his birthday was made an official national holiday. This informative resource includes black-and-white and color photos, an easy-to-follow recipe for peach pie, and instructions on how to make a “Circle of Friendship” craft.","English",25.27,18.95,"323.092--dc23","32 pp.","https://www.enslow.com/books/Martin_Luther_King_Jr_Day/421653",{"$f":"Table1[[#This Row],[QTY]]*Table1[[#This Row],['# of Books]]","v":0},{"$f":"Table1[[#This Row],[QTY]]*Table1[[#This Row],[School & Library Price]]","v":0}]
[null,null,null,"The Story of Our Holidays","Martin Luther King Jr. Day",1,"eBook","978-0-7660-8344-8",{"$f":"HYPERLINK(Table1[[#This Row],[Hyperlink]],\"Weblink\")","v":"Weblink"},"Enslow Publishing","2017","January 2017",null,"Author, Author","Carol Gnojewski, Joanna Ponto","4.4","0.5",null,null,"M","740L","Grade 3","Grade 3 - 5","The United States celebrated the first Martin Luther King Jr. Day on January 20, 1986. There were marches, parades, and candlelight gatherings. Readers will learn about the life and accomplishments of Martin Luther King Jr. and why his birthday was made an official national holiday. This informative resource includes black-and-white and color photos, an easy-to-follow recipe for peach pie, and instructions on how to make a “Circle of Friendship” craft.","English",25.27,18.95,"323.092--dc23","32 pp.","https://www.enslow.com/books/Martin_Luther_King_Jr_Day/421653",{"$f":"Table1[[#This Row],[QTY]]*Table1[[#This Row],['# of Books]]","v":0},{"$f":"Table1[[#This Row],[QTY]]*Table1[[#This Row],[School & Library Price]]","v":0}]
[null,null,null,"The Story of Our Holidays","Ramadan",1,"Library Bound Book","978-0-7660-8352-3",{"$f":"HYPERLINK(Table1[[#This Row],[Hyperlink]],\"Weblink\")","v":"Weblink"},"Enslow Publishing","2017","January 2017","7.125 X 8.500","Author, Author","Carol Gnojewski, Joanna Ponto","5.5","0.5",null,null,"M","880L","Grade 3","Grade 3 - 5","One special night each year, at moonrise, Ramadan, the ninth month of the Islamic year, begins. During Ramadan, Muslims spend the entire month gathering as families and communities. They celebrate with prayer, fasts, and feasts in honor of God. Readers will learn the history and significance of this holy month and how it is celebrated around the world. They can also follow a recipe for an apricot honey walnut tart and instructions to make a garland featuring stars and moons.","English",25.27,18.95,"297.3/62--dc23","32 pp.","https://www.enslow.com/books/Ramadan/421651",{"$f":"Table1[[#This Row],[QTY]]*Table1[[#This Row],['# of Books]]","v":0},{"$f":"Table1[[#This Row],[QTY]]*Table1[[#This Row],[School & Library Price]]","v":0}]
[null,null,null,"The Story of Our Holidays","Ramadan",1,"eBook","978-0-7660-8353-0",{"$f":"HYPERLINK(Table1[[#This Row],[Hyperlink]],\"Weblink\")","v":"Weblink"},"Enslow Publishing","2017","January 2017",null,"Author, Author","Carol Gnojewski, Joanna Ponto","5.5","0.5",null,null,"M","880L","Grade 3","Grade 3 - 5","One special night each year, at moonrise, Ramadan, the ninth month of the Islamic year, begins. During Ramadan, Muslims spend the entire month gathering as families and communities. They celebrate with prayer, fasts, and feasts in honor of God. Readers will learn the history and significance of this holy month and how it is celebrated around the world. They can also follow a recipe for an apricot honey walnut tart and instructions to make a garland featuring stars and moons.","English",25.27,18.95,"297.3/62--dc23","32 pp.","https://www.enslow.com/books/Ramadan/421651",{"$f":"Table1[[#This Row],[QTY]]*Table1[[#This Row],['# of Books]]","v":0},{"$f":"Table1[[#This Row],[QTY]]*Table1[[#This Row],[School & Library Price]]","v":0}]
[null,null,null,"The Story of Our Holidays","Thanksgiving",1,"Library Bound Book","978-0-7660-7634-1",{"$f":"HYPERLINK(Table1[[#This Row],[Hyperlink]],\"Weblink\")","v":"Weblink"},"Enslow Publishing","2017","August 2016","7.125 X 8.500","Author","Joanna Ponto","4.6","0.5",null,null,"L",null,"Grade 3","Grade 3 - 5","Thanksgiving is one of the most traditional holidays celebrated in America. We associate the day with turkey, football, and family. Many students might not know that even though the holiday celebrates a harvest feast that supposedly took place in the seventeenth century, Thanksgiving was not declared a federal holiday until 1941. This resource will tell young readers all they need to know about Thanksgiving, in addition to providing a recipe for cranberry sauce and instructions to make turkey-themed seating cards that are sure to be big hits at their next Thanksgiving dinner.","English",25.27,18.95,"394.2649--dc23","32 pp.","https://www.enslow.com/books/Thanksgiving/419407",{"$f":"Table1[[#This Row],[QTY]]*Table1[[#This Row],['# of Books]]","v":0},{"$f":"Table1[[#This Row],[QTY]]*Table1[[#This Row],[School & Library Price]]","v":0}]
[null,null,null,"The Story of Our Holidays","Thanksgiving",1,"eBook","978-0-7660-7636-5",{"$f":"HYPERLINK(Table1[[#This Row],[Hyperlink]],\"Weblink\")","v":"Weblink"},"Enslow Publishing","2017","August 2016",null,"Author","Joanna Ponto","4.6","0.5",null,null,"L",null,"Grade 3","Grade 3 - 5","Thanksgiving is one of the most traditional holidays celebrated in America. We associate the day with turkey, football, and family. Many students might not know that even though the holiday celebrates a harvest feast that supposedly took place in the seventeenth century, Thanksgiving was not declared a federal holiday until 1941. This resource will tell young readers all they need to know about Thanksgiving, in addition to providing a recipe for cranberry sauce and instructions to make turkey-themed seating cards that are sure to be big hits at their next Thanksgiving dinner.","English",25.27,18.95,"394.2649--dc23","32 pp.","https://www.enslow.com/books/Thanksgiving/419407",{"$f":"Table1[[#This Row],[QTY]]*Table1[[#This Row],['# of Books]]","v":0},{"$f":"Table1[[#This Row],[QTY]]*Table1[[#This Row],[School & Library Price]]","v":0}]
[null,null,null,"The Story of Our Holidays","Veterans Day",1,"Library Bound Book","978-0-7660-7640-2",{"$f":"HYPERLINK(Table1[[#This Row],[Hyperlink]],\"Weblink\")","v":"Weblink"},"Enslow Publishing","2017","August 2016","7.125 X 8.500","Author","Joanna Ponto","4.7","0.5",null,null,"M",null,"Grade 3","Grade 3 - 5","On Veterans Day, Americans honor all who have served in the US armed forces. The holiday began in commemoration of the one-year anniversary of the end of World War I and continues to be celebrated every year on November 11. Readers will learn the ways this holiday is celebrated across the country, and can reinforce their understanding by following a recipe for the all-American Apple Brown Betty and instructions to make a thank-you card they can give to a veteran they know.","English",25.27,18.95,"394.264--dc23","32 pp.","https://www.enslow.com/books/Veterans_Day/419412",{"$f":"Table1[[#This Row],[QTY]]*Table1[[#This Row],['# of Books]]","v":0},{"$f":"Table1[[#This Row],[QTY]]*Table1[[#This Row],[School & Library Price]]","v":0}]
[null,null,null,"The Story of Our Holidays","Veterans Day",1,"eBook","978-0-7660-7641-9",{"$f":"HYPERLINK(Table1[[#This Row],[Hyperlink]],\"Weblink\")","v":"Weblink"},"Enslow Publishing","2017","August 2016",null,"Author","Joanna Ponto","4.7","0.5",null,null,"M",null,"Grade 3","Grade 3 - 5","On Veterans Day, Americans honor all who have served in the US armed forces. The holiday began in commemoration of the one-year anniversary of the end of World War I and continues to be celebrated every year on November 11. Readers will learn the ways this holiday is celebrated across the country, and can reinforce their understanding by following a recipe for the all-American Apple Brown Betty and instructions to make a thank-you card they can give to a veteran they know.","English",25.27,18.95,"394.264--dc23","32 pp.","https://www.enslow.com/books/Veterans_Day/419412",{"$f":"Table1[[#This Row],[QTY]]*Table1[[#This Row],['# of Books]]","v":0},{"$f":"Table1[[#This Row],[QTY]]*Table1[[#This Row],[School & Library Price]]","v":0}]
[null,null,null,"Bands That Rock!","Aerosmith",1,"eBook","978-1-9785-0404-2",{"$f":"HYPERLINK(Table1[[#This Row],[Hyperlink]],\"Weblink\")","v":"Weblink"},"Enslow Publishing","2019","January 2019",null,"Author","Jeff Burlingame",null,null,null,null,"Z","1050L","Grade 7","Grade 7 - 12","Steven Tyler, Joe Perry, Tom Hamilton, Brad Whitford, and Joey Kramer, in the early 1970s, these five young men from diverse backgrounds came together to form Aerosmith, a blues-tinted hard rock band that eventually would become known as one of the greatest rock-and-roll bands in history. However, the band's path to iconic status, with millions of records sold and a spot in the Rock and Roll Hall of Fame, was anything but easy. Featuring an engaging narrative, informative sidebars, and direct quotations, this book explores the hits and misses of this rock band that, despite it all, keeps on rocking.","English",37.270000000000003,27.95,"782.42166092/2--dc23","112 pp.","https://www.enslow.com/books/Aerosmith/4727",{"$f":"Table1[[#This Row],[QTY]]*Table1[[#This Row],['# of Books]]","v":0},{"$f":"Table1[[#This Row],[QTY]]*Table1[[#This Row],[School & Library Price]]","v":0}]
[null,null,null,"Bands That Rock!","The Clash",1,"Library Bound Book","978-1-9785-0347-2",{"$f":"HYPERLINK(Table1[[#This Row],[Hyperlink]],\"Weblink\")","v":"Weblink"},"Enslow Publishing","2019","January 2019","6.000 X 9.000","Author","Brian J. Bowe",null,null,null,null,"Z","1010L","Grade 7","Grade 7 - 12","Punk rock innovators the Clash were the first group to bring this style of high-energy music to the top of the charts. Their songs were explosive acts of defiance that combined the sounds of rockabilly, reggae, funk, and hip-hop. This engaging book examines how the group used music, art, and fashion to deliver a strong political message. Through full-color photographs, fascinating direct quotations, and informative sidebars, readers will discover how in the band's short history, the Clash created exciting and brand-new sounds and spoke out against racism and consumerism. Moving beyond hits such as \"Rock the Casbah\" and \"Should I Stay or Should I Go?\" this text reveals why some called the group \"the only band that matters.\"","English",37.270000000000003,27.95,"782.42166092/2--dc23","112 pp.","https://www.enslow.com/books/The_Clash/4728",{"$f":"Table1[[#This Row],[QTY]]*Table1[[#This Row],['# of Books]]","v":0},{"$f":"Table1[[#This Row],[QTY]]*Table1[[#This Row],[School & Library Price]]","v":0}]
[null,null,null,"Bands That Rock!","The Grateful Dead",1,"Library Bound Book","978-1-9785-0348-9",{"$f":"HYPERLINK(Table1[[#This Row],[Hyperlink]],\"Weblink\")","v":"Weblink"},"Enslow Publishing","2019","January 2019","6.000 X 9.000","Author","Michele C. Hollow",null,null,null,null,"Z","980L","Grade 7","Grade 7 - 12","Onstage and offstage, the Grateful Dead ran their band on their own terms. Each concert was different from the last, and their fans loved them for it. Many of the band's songs were autobiographical, and their fans could relate to life's ups and downs, which included drug and alcohol addiction, death of band members, illness, and breakups of personal relationships. Featuring fascinating sidebars, revealing direct quotations, and accessible language that highlights the sense of community that existed among Deadheads, this book delves into the thirty-plus-year career of the Grateful Dead and looks to the future of its founding members.","English",37.270000000000003,27.95,"782.42166092/2--dc23","112 pp.","https://www.enslow.com/books/The_Grateful_Dead/4729",{"$f":"Table1[[#This Row],[QTY]]*Table1[[#This Row],['# of Books]]","v":0},{"$f":"Table1[[#This Row],[QTY]]*Table1[[#This Row],[School & Library Price]]","v":0}]
[null,null,null,"Bands That Rock!","The Grateful Dead",1,"eBook","978-1-9785-0406-6",{"$f":"HYPERLINK(Table1[[#This Row],[Hyperlink]],\"Weblink\")","v":"Weblink"},"Enslow Publishing","2019","January 2019",null,"Author","Michele C. Hollow",null,null,null,null,"Z","980L","Grade 7","Grade 7 - 12","Onstage and offstage, the Grateful Dead ran their band on their own terms. Each concert was different from the last, and their fans loved them for it. Many of the band's songs were autobiographical, and their fans could relate to life's ups and downs, which included drug and alcohol addiction, death of band members, illness, and breakups of personal relationships. Featuring fascinating sidebars, revealing direct quotations, and accessible language that highlights the sense of community that existed among Deadheads, this book delves into the thirty-plus-year career of the Grateful Dead and looks to the future of its founding members.","English",37.270000000000003,27.95,"782.42166092/2--dc23","112 pp.","https://www.enslow.com/books/The_Grateful_Dead/4729",{"$f":"Table1[[#This Row],[QTY]]*Table1[[#This Row],['# of Books]]","v":0},{"$f":"Table1[[#This Row],[QTY]]*Table1[[#This Row],[School & Library Price]]","v":0}]
[null,null,null,"Bands That Rock!","Pink Floyd",1,"Library Bound Book","978-1-9785-0350-2",{"$f":"HYPERLINK(Table1[[#This Row],[Hyperlink]],\"Weblink\")","v":"Weblink"},"Enslow Publishing","2019","January 2019","6.000 X 9.000","Author","Laura Stassi",null,null,null,null,"Z","1040L","Grade 7","Grade 7 - 12","Tapping into the harmony as well as the discord of the creative process, Pink Floyd was a pioneer in producing concept albums and including pyrotechnics in live performances. Full-color images, fascinating personal facts, and engaging narratives will pull the reader right into the trials and triumphs of Pink Floyd, who even after losing founding member and creative genius Syd Barrett, sold more than two hundred million albums, was inducted into the Rock and Roll Hall of Fame, and inspired legions of musical performers, including David Bowie and Queen. Readers will discover why more than fifty years after the first album, Pink Floyd continues to attract new generations of fans.","English",37.270000000000003,27.95,"782.42166092/2--dc23","112 pp.","https://www.enslow.com/books/Pink_Floyd/4731",{"$f":"Table1[[#This Row],[QTY]]*Table1[[#This Row],['# of Books]]","v":0},{"$f":"Table1[[#This Row],[QTY]]*Table1[[#This Row],[School & Library Price]]","v":0}]
[null,null,null,"Bands That Rock!","Pink Floyd",1,"eBook","978-1-9785-0408-0",{"$f":"HYPERLINK(Table1[[#This Row],[Hyperlink]],\"Weblink\")","v":"Weblink"},"Enslow Publishing","2019","January 2019",null,"Author","Laura Stassi",null,null,null,null,"Z","1040L","Grade 7","Grade 7 - 12","Tapping into the harmony as well as the discord of the creative process, Pink Floyd was a pioneer in producing concept albums and including pyrotechnics in live performances. Full-color images, fascinating personal facts, and engaging narratives will pull the reader right into the trials and triumphs of Pink Floyd, who even after losing founding member and creative genius Syd Barrett, sold more than two hundred million albums, was inducted into the Rock and Roll Hall of Fame, and inspired legions of musical performers, including David Bowie and Queen. Readers will discover why more than fifty years after the first album, Pink Floyd continues to attract new generations of fans.","English",37.270000000000003,27.95,"782.42166092/2--dc23","112 pp.","https://www.enslow.com/books/Pink_Floyd/4731",{"$f":"Table1[[#This Row],[QTY]]*Table1[[#This Row],['# of Books]]","v":0},{"$f":"Table1[[#This Row],[QTY]]*Table1[[#This Row],[School & Library Price]]","v":0}]
[null,null,null,"Bands That Rock!","The Ramones",1,"Library Bound Book","978-1-9785-0352-6",{"$f":"HYPERLINK(Table1[[#This Row],[Hyperlink]],\"Weblink\")","v":"Weblink"},"Enslow Publishing","2019","January 2019","6.000 X 9.000","Author","Brian J. Bowe",null,null,null,null,"Z","1010L","Grade 7","Grade 7 - 12","The Ramones' logo T-shirts and \"Hey! Ho! Let's go!\" chant are familiar around the world, but a lot of people might not know the degree to which the Ramones reshaped pop music. Striking photographs, fascinating personal facts, and an engaging narrative will show readers how the band unleashed punk rock on the world with two-minute bursts of energy, combining bubblegum pop sensibilities with teenage boredom and pop culture references that created a wall of sound unlike anything audiences had heard before. This book reveals how the Ramones helped create a style of music that continues to resonate from sweaty clubs to baseball stadiums.","English",37.270000000000003,27.95,"782.42166092/2--dc23","112 pp.","https://www.enslow.com/books/The_Ramones/4733",{"$f":"Table1[[#This Row],[QTY]]*Table1[[#This Row],['# of Books]]","v":0},{"$f":"Table1[[#This Row],[QTY]]*Table1[[#This Row],[School & Library Price]]","v":0}]
[null,null,null,"Bands That Rock!","The Ramones",1,"eBook","978-1-9785-0410-3",{"$f":"HYPERLINK(Table1[[#This Row],[Hyperlink]],\"Weblink\")","v":"Weblink"},"Enslow Publishing","2019","January 2019",null,"Author","Brian J. Bowe",null,null,null,null,"Z","1010L","Grade 7","Grade 7 - 12","The Ramones' logo T-shirts and \"Hey! Ho! Let's go!\" chant are familiar around the world, but a lot of people might not know the degree to which the Ramones reshaped pop music. Striking photographs, fascinating personal facts, and an engaging narrative will show readers how the band unleashed punk rock on the world with two-minute bursts of energy, combining bubblegum pop sensibilities with teenage boredom and pop culture references that created a wall of sound unlike anything audiences had heard before. This book reveals how the Ramones helped create a style of music that continues to resonate from sweaty clubs to baseball stadiums.","English",37.270000000000003,27.95,"782.42166092/2--dc23","112 pp.","https://www.enslow.com/books/The_Ramones/4733",{"$f":"Table1[[#This Row],[QTY]]*Table1[[#This Row],['# of Books]]","v":0},{"$f":"Table1[[#This Row],[QTY]]*Table1[[#This Row],[School & Library Price]]","v":0}]
[null,null,null,"Bands That Rock!","U2",1,"Library Bound Book","978-1-9785-0354-0",{"$f":"HYPERLINK(Table1[[#This Row],[Hyperlink]],\"Weblink\")","v":"Weblink"},"Enslow Publishing","2019","January 2019","6.000 X 9.000","Author","Angie Timmons",null,null,null,null,"Z","1250L","Grade 7","Grade 7 - 12","U2 has sold more than 170 million records; won twenty-two Grammy Awards, four MTV Video Music Awards, and two Golden Globes; and recorded fourteen studio albums. U2's members are some of the most influential and highly recognized philanthropists in the world. Since the band's modest start in a strife-torn Ireland in 1976, the ragtag group from Dublin has used success as a platform to raise sociopolitical awareness, explore spirituality, and launch highly successful charities. Featuring striking photographs, fascinating direct quotations, and informative sidebars, this captivating, lively text will reveal to readers how four musicians of dubious musical ability became one of the biggest bands in the world.","English",37.270000000000003,27.95,"782.42166092/2--dc23","112 pp.","https://www.enslow.com/books/U2/4735",{"$f":"Table1[[#This Row],[QTY]]*Table1[[#This Row],['# of Books]]","v":0},{"$f":"Table1[[#This Row],[QTY]]*Table1[[#This Row],[School & Library Price]]","v":0}]
[null,null,null,"Bands That Rock!","U2",1,"eBook","978-1-9785-0412-7",{"$f":"HYPERLINK(Table1[[#This Row],[Hyperlink]],\"Weblink\")","v":"Weblink"},"Enslow Publishing","2019","January 2019",null,"Author","Angie Timmons",null,null,null,null,"Z","1250L","Grade 7","Grade 7 - 12","U2 has sold more than 170 million records; won twenty-two Grammy Awards, four MTV Video Music Awards, and two Golden Globes; and recorded fourteen studio albums. U2's members are some of the most influential and highly recognized philanthropists in the world. Since the band's modest start in a strife-torn Ireland in 1976, the ragtag group from Dublin has used success as a platform to raise sociopolitical awareness, explore spirituality, and launch highly successful charities. Featuring striking photographs, fascinating direct quotations, and informative sidebars, this captivating, lively text will reveal to readers how four musicians of dubious musical ability became one of the biggest bands in the world.","English",37.270000000000003,27.95,"782.42166092/2--dc23","112 pp.","https://www.enslow.com/books/U2/4735",{"$f":"Table1[[#This Row],[QTY]]*Table1[[#This Row],['# of Books]]","v":0},{"$f":"Table1[[#This Row],[QTY]]*Table1[[#This Row],[School & Library Price]]","v":0}]
[null,null,null,"Joined by Fate: Intertwined Biographies","Abraham Lincoln and John Wilkes Booth",1,"eBook","978-0-7660-9811-4",{"$f":"HYPERLINK(Table1[[#This Row],[Hyperlink]],\"Weblink\")","v":"Weblink"},"Enslow Publishing","2019","January 2019",null,"Author","Donna M. Bozzone, Ph.D.",null,null,null,null,"Z","920L","Grade 7","Grade 7 - 12","Until John Wilkes Booth killed Abraham Lincoln, the assassination of a U.S. President was considered unthinkable. All of that changed on April 14, 1865, when Booth shot Lincoln as the president watched the play Our American Cousin. What led Booth to commit this murder, and what effect did this deadly act have on the United States? With this book, readers will take a closer look at this history-making event as well as the lives of Lincoln and Booth before their fateful encounter. Booth may have assassinated Lincoln, but even today the 16th president remains one of the nation's most respected.","English",38.6,28.95,"973.7092/2--dc23","128 pp.","https://www.enslow.com/books/Abraham_Lincoln_and_John_Wilkes_Booth/4660",{"$f":"Table1[[#This Row],[QTY]]*Table1[[#This Row],['# of Books]]","v":0},{"$f":"Table1[[#This Row],[QTY]]*Table1[[#This Row],[School & Library Price]]","v":0}]
[null,null,null,"Joined by Fate: Intertwined Biographies","Alexander Hamilton and Aaron Burr",1,"Library Bound Book","978-0-7660-9812-1",{"$f":"HYPERLINK(Table1[[#This Row],[Hyperlink]],\"Weblink\")","v":"Weblink"},"Enslow Publishing","2019","January 2019","6.000 X 9.000","Author","Richard Worth",null,null,null,null,"Z","1080L","Grade 7","Grade 7 - 12","In 1804, Alexander Hamilton and Aaron Burr fought the most famous duel in American history. Both men had served with great courage during the American Revolution. Afterward, each had become an important lawyer and politician. Hamilton helped write the United States Constitution and became America's first treasury secretary, but he stopped Burr from becoming president in 1800. This move and others led to a strong hatred between the two men, which finally ended in a deadly face-off. Keep readers at the edge of their seats with this riveting examination of a history-changing rivalry.","English",38.6,28.95,"973.4/60922--dc23","128 pp.","https://www.enslow.com/books/Alexander_Hamilton_and_Aaron_Burr/4661",{"$f":"Table1[[#This Row],[QTY]]*Table1[[#This Row],['# of Books]]","v":0},{"$f":"Table1[[#This Row],[QTY]]*Table1[[#This Row],[School & Library Price]]","v":0}]
[null,null,null,"Joined by Fate: Intertwined Biographies","Hernán Cortés and La Malinche",1,"Library Bound Book","978-0-7660-9815-2",{"$f":"HYPERLINK(Table1[[#This Row],[Hyperlink]],\"Weblink\")","v":"Weblink"},"Enslow Publishing","2019","January 2019","6.000 X 9.000","Author","John A. Torres",null,null,null,null,"Z","1070L","Grade 7","Grade 7 - 12","To this day, the relationship between Hernán Cortés and his translator La Malinche remains confusing. Was Cortés a double-crossing murderer or a heroic conqueror? Was La Malinche, an enslaved woman from Aztec royalty, an intelligent woman doing what was necessary to stay alive or the betrayer of her people? The history books have not been kind to her. However you view this pair, one thing is clear: their stories cannot be told without linking their biographies. As your readers will find out, there is little doubt that their pairing forever changed Mexico and the Americas.","English",38.6,28.95,"972/.02092--dc23","128 pp.","https://www.enslow.com/books/Hernan_Cortes_and_La_Malinche/4662",{"$f":"Table1[[#This Row],[QTY]]*Table1[[#This Row],['# of Books]]","v":0},{"$f":"Table1[[#This Row],[QTY]]*Table1[[#This Row],[School & Library Price]]","v":0}]
[null,null,null,"Joined by Fate: Intertwined Biographies","Hernán Cortés and La Malinche",1,"eBook","978-0-7660-9817-6",{"$f":"HYPERLINK(Table1[[#This Row],[Hyperlink]],\"Weblink\")","v":"Weblink"},"Enslow Publishing","2019","January 2019",null,"Author","John A. Torres",null,null,null,null,"Z","1070L","Grade 7","Grade 7 - 12","To this day, the relationship between Hernán Cortés and his translator La Malinche remains confusing. Was Cortés a double-crossing murderer or a heroic conqueror? Was La Malinche, an enslaved woman from Aztec royalty, an intelligent woman doing what was necessary to stay alive or the betrayer of her people? The history books have not been kind to her. However you view this pair, one thing is clear: their stories cannot be told without linking their biographies. As your readers will find out, there is little doubt that their pairing forever changed Mexico and the Americas.","English",38.6,28.95,"972/.02092--dc23","128 pp.","https://www.enslow.com/books/Hernan_Cortes_and_La_Malinche/4662",{"$f":"Table1[[#This Row],[QTY]]*Table1[[#This Row],['# of Books]]","v":0},{"$f":"Table1[[#This Row],[QTY]]*Table1[[#This Row],[School & Library Price]]","v":0}]
[null,null,null,"Joined by Fate: Intertwined Biographies","Thomas Alva Edison and Nikola Tesla",1,"Library Bound Book","978-0-7660-9821-3",{"$f":"HYPERLINK(Table1[[#This Row],[Hyperlink]],\"Weblink\")","v":"Weblink"},"Enslow Publishing","2019","January 2019","6.000 X 9.000","Author","Samantha Green",null,null,null,null,"Z","980L","Grade 7","Grade 7 - 12","For much of the world, turning on electricity is as easy as flipping a switch, but that wasn't always the case. At the end of the nineteenth century, two geniuses competed to change the world: Thomas Edison and Nikola Tesla. In the War of Currents, they fought to shape the world with their electrical systems. Without Edison and Tesla, we might not have the lightbulb, the radio, affordable electricity, and movies. This book examines the lives of these two inventors, their dizzying array of creations, and a professional rivalry that began the moment they met each other.","English",38.6,28.95,"621.3092/273--dc23","128 pp.","https://www.enslow.com/books/Thomas_Alva_Edison_and_Nikola_Tesla/4664",{"$f":"Table1[[#This Row],[QTY]]*Table1[[#This Row],['# of Books]]","v":0},{"$f":"Table1[[#This Row],[QTY]]*Table1[[#This Row],[School & Library Price]]","v":0}]
[null,null,null,"Joined by Fate: Intertwined Biographies","Thomas Alva Edison and Nikola Tesla",1,"eBook","978-0-7660-9823-7",{"$f":"HYPERLINK(Table1[[#This Row],[Hyperlink]],\"Weblink\")","v":"Weblink"},"Enslow Publishing","2019","January 2019",null,"Author","Samantha Green",null,null,null,null,"Z","980L","Grade 7","Grade 7 - 12","For much of the world, turning on electricity is as easy as flipping a switch, but that wasn't always the case. At the end of the nineteenth century, two geniuses competed to change the world: Thomas Edison and Nikola Tesla. In the War of Currents, they fought to shape the world with their electrical systems. Without Edison and Tesla, we might not have the lightbulb, the radio, affordable electricity, and movies. This book examines the lives of these two inventors, their dizzying array of creations, and a professional rivalry that began the moment they met each other.","English",38.6,28.95,"621.3092/273--dc23","128 pp.","https://www.enslow.com/books/Thomas_Alva_Edison_and_Nikola_Tesla/4664",{"$f":"Table1[[#This Row],[QTY]]*Table1[[#This Row],['# of Books]]","v":0},{"$f":"Table1[[#This Row],[QTY]]*Table1[[#This Row],[School & Library Price]]","v":0}]
[null,null,null,"Influential Lives","Influential Lives: Sets 1 – 3",18,"Library Set","978-1-9785-0585-8",{"$f":"HYPERLINK(Table1[[#This Row],[Hyperlink]],\"Weblink\")","v":"Weblink"},"Enslow Publishing","2019","January 2019","6.000 X 9.000",null,null,null,null,null,null,null,null,"Grade 7","Grade 7 - 12","This engaging, easy-to-read collection of biographies explores the lives and accomplishments of recognizable and influential figures from entertainment, the arts, and politics. Teeming with full-color images, fascinating personal facts, and inspiring quotations directly from the individuals, these books will appeal to researchers looking for age-appropriate sources as well as leisure readers in grades 7 and up. Features include: High-interest books cover public figures who are on the rise in the cultural zeitgeist. Presents important people from multi-cultural backgrounds. Sidebars provide little-known information about each figure.","English",694.8,521.1,null,"128 pp.","https://www.enslow.com/series/Influential_Lives/421587",{"$f":"Table1[[#This Row],[QTY]]*Table1[[#This Row],['# of Books]]","v":0},{"$f":"Table1[[#This Row],[QTY]]*Table1[[#This Row],[School & Library Price]]","v":0}]
[null,null,null,"Influential Lives","Influential Lives: Set 3",6,"Library Set","978-1-9785-0584-1",{"$f":"HYPERLINK(Table1[[#This Row],[Hyperlink]],\"Weblink\")","v":"Weblink"},"Enslow Publishing","2019","January 2019","6.000 X 9.000",null,null,null,null,null,null,null,null,"Grade 7","Grade 7 - 12","This irresistible biography set explores the lives of influential figures from entertainment, the arts, business, and politics. Readers will be introduced to notables including Mike Pence, Chris Rock, Gal Gadot, and Jeff Bezos. Each biography presents full-color images, fascinating personal facts, and inspiring quotations directly from the individuals. Features include: High-interest books cover public figures who are on the rise in the cultural zeitgeist. Presents important people from multi-cultural backgrounds. Sidebars provide little-known information about each figure.","English",231.6,173.7,null,"128 pp.","https://www.enslow.com/series/Influential_Lives/421587",{"$f":"Table1[[#This Row],[QTY]]*Table1[[#This Row],['# of Books]]","v":0},{"$f":"Table1[[#This Row],[QTY]]*Table1[[#This Row],[School & Library Price]]","v":0}]
[null,null,null,"Influential Lives","Gal Gadot: Israeli Actor and Model",1,"Library Bound Book","978-1-9785-0341-0",{"$f":"HYPERLINK(Table1[[#This Row],[Hyperlink]],\"Weblink\")","v":"Weblink"},"Enslow Publishing","2019","January 2019","6.000 X 9.000","Author","Kathy Furgang",null,null,null,null,"Z","1140L","Grade 7","Grade 7 - 12","Introduce your readers to the woman behind the cape, tiara, and wrist bands. Wonder Woman actress Gal Gadot has a life as fascinating as the Amazonian princess she plays on the big screen. This captivating biography examines the influential life of former Miss Israel and combat trainer in the Israeli Defense Forces. From her Hollywood acting debut in Fast and Furious films to her domination of the DC Extended Universe, Gal Gadot has charmed audiences around the world by being an inspirational superhero on-screen and a dedicated activist and mother off-screen.","English",38.6,28.95,"791.4302/8092--dc23","128 pp.","https://www.enslow.com/books/Gal_Gadot/4722",{"$f":"Table1[[#This Row],[QTY]]*Table1[[#This Row],['# of Books]]","v":0},{"$f":"Table1[[#This Row],[QTY]]*Table1[[#This Row],[School & Library Price]]","v":0}]
[null,null,null,"Influential Lives","Gal Gadot: Israeli Actor and Model",1,"eBook","978-1-9785-0395-3",{"$f":"HYPERLINK(Table1[[#This Row],[Hyperlink]],\"Weblink\")","v":"Weblink"},"Enslow Publishing","2019","January 2019",null,"Author","Kathy Furgang",null,null,null,null,"Z","1140L","Grade 7","Grade 7 - 12","Introduce your readers to the woman behind the cape, tiara, and wrist bands. Wonder Woman actress Gal Gadot has a life as fascinating as the Amazonian princess she plays on the big screen. This captivating biography examines the influential life of former Miss Israel and combat trainer in the Israeli Defense Forces. From her Hollywood acting debut in Fast and Furious films to her domination of the DC Extended Universe, Gal Gadot has charmed audiences around the world by being an inspirational superhero on-screen and a dedicated activist and mother off-screen.","English",38.6,28.95,"791.4302/8092--dc23","128 pp.","https://www.enslow.com/books/Gal_Gadot/4722",{"$f":"Table1[[#This Row],[QTY]]*Table1[[#This Row],['# of Books]]","v":0},{"$f":"Table1[[#This Row],[QTY]]*Table1[[#This Row],[School & Library Price]]","v":0}]
[null,null,null,"Influential Lives","Jimmy Kimmel: Late-Night Talk Show Host",1,"Library Bound Book","978-1-9785-0342-7",{"$f":"HYPERLINK(Table1[[#This Row],[Hyperlink]],\"Weblink\")","v":"Weblink"},"Enslow Publishing","2019","January 2019","6.000 X 9.000","Author","David Fischer",null,null,null,null,"Z",null,"Grade 7","Grade 7 - 12","Born in Brooklyn, Jimmy Kimmel grew up in Las Vegas, in a stereotypical Italian family. As a teenager he was a practical joker. He dropped out of college to work at radio stations, and then got his big break as a TV game-show host. This led to The Man Show, a frat-boy comedy that turned him into a household name. In 2003, he began hosting Jimmy Kimmel Live! and transformed into a worldwide celebrity. Today he is an influencer in popular culture and national politics. This biography examines how Kimmel has reinvented the perception of the late-night talk show host.","English",38.6,28.95,"791.4502/8092--dc23","128 pp.","https://www.enslow.com/books/Jimmy_Kimmel/4723",{"$f":"Table1[[#This Row],[QTY]]*Table1[[#This Row],['# of Books]]","v":0},{"$f":"Table1[[#This Row],[QTY]]*Table1[[#This Row],[School & Library Price]]","v":0}]
[null,null,null,"Influential Lives","Jimmy Kimmel: Late-Night Talk Show Host",1,"eBook","978-1-9785-0400-4",{"$f":"HYPERLINK(Table1[[#This Row],[Hyperlink]],\"Weblink\")","v":"Weblink"},"Enslow Publishing","2019","January 2019",null,"Author","David Fischer",null,null,null,null,"Z",null,"Grade 7","Grade 7 - 12","Born in Brooklyn, Jimmy Kimmel grew up in Las Vegas, in a stereotypical Italian family. As a teenager he was a practical joker. He dropped out of college to work at radio stations, and then got his big break as a TV game-show host. This led to The Man Show, a frat-boy comedy that turned him into a household name. In 2003, he began hosting Jimmy Kimmel Live! and transformed into a worldwide celebrity. Today he is an influencer in popular culture and national politics. This biography examines how Kimmel has reinvented the perception of the late-night talk show host.","English",38.6,28.95,"791.4502/8092--dc23","128 pp.","https://www.enslow.com/books/Jimmy_Kimmel/4723",{"$f":"Table1[[#This Row],[QTY]]*Table1[[#This Row],['# of Books]]","v":0},{"$f":"Table1[[#This Row],[QTY]]*Table1[[#This Row],[School & Library Price]]","v":0}]
[null,null,null,"Influential Lives","Mark Zuckerberg and Priscilla Chan: Top Couple in Tech and Philanthropy",1,"eBook","978-1-9785-0403-5",{"$f":"HYPERLINK(Table1[[#This Row],[Hyperlink]],\"Weblink\")","v":"Weblink"},"Enslow Publishing","2019","January 2019",null,"Author","Lita Sorensen",null,null,null,null,"Z","1230L","Grade 7","Grade 7 - 12","Facebook's Mark Zuckerberg and his wife, Priscilla Chan, are a shining example of a young couple who are not only successful in their careers, he as a tech entrepreneur and she as a pediatrician, but who also serve as role models for socially conscious philanthropy. This accessible volume highlights Zuckerberg's accomplishments creating the social network that changed the world, Chan's desire to serve a greater good, and the couple's \"Giving Pledge,\" a promise to give away most of their income to charity and research. Readers will be inspired by two bright stars who want to make the world a better place for their children.","English",38.6,28.95,"006.7/540922--dc23","128 pp.","https://www.enslow.com/books/Mark_Zuckerberg_and_Priscilla_Chan/4726",{"$f":"Table1[[#This Row],[QTY]]*Table1[[#This Row],['# of Books]]","v":0},{"$f":"Table1[[#This Row],[QTY]]*Table1[[#This Row],[School & Library Price]]","v":0}]
[null,null,null,"Influential Lives","Mike Pence: Vice President of the United States",1,"Library Bound Book","978-1-9785-0343-4",{"$f":"HYPERLINK(Table1[[#This Row],[Hyperlink]],\"Weblink\")","v":"Weblink"},"Enslow Publishing","2019","January 2019","6.000 X 9.000","Author","Amanda Sales",null,null,null,null,"Z","1270L","Grade 7","Grade 7 - 12","This biography paints a picture of an intriguing and complex individual who rose from a small-town Midwestern boy to a major player in world politics. From his early days as an altar boy to hosting a popular radio program to obtaining a seat in Congress and then becoming Governor of Indiana, Mike Pence has filled numerous roles, all leading to his most important one yet as running mate of Donald Trump in the 2016 presidential election. Readers will follow the journey of the staunch Christian, conservative, and Republican who became the Vice President of the United States.","English",38.6,28.95,"973.933092--dc23","128 pp.","https://www.enslow.com/books/Mike_Pence/4724",{"$f":"Table1[[#This Row],[QTY]]*Table1[[#This Row],['# of Books]]","v":0},{"$f":"Table1[[#This Row],[QTY]]*Table1[[#This Row],[School & Library Price]]","v":0}]
[null,null,null,"Influential Lives","Bob Dylan: Singer, Songwriter, and Music Icon",1,"eBook","978-0-7660-9346-1",{"$f":"HYPERLINK(Table1[[#This Row],[Hyperlink]],\"Weblink\")","v":"Weblink"},"Enslow Publishing","2019","August 2018",null,"Author","Michael A. Schuman",null,null,null,null,"Z","1030L","Grade 7","Grade 7 - 12","Over the course of his 50-year career, musician Bob Dylan has won a Nobel Prize, has had an audience with the Pope, and has earned a multitude of accolades, from a Grammy Lifetime Achievement Award to a coveted Kennedy Center honor. Not bad for a kid from a small city in northern Minnesota who just wanted to play rock and roll. His songs are legendary and his spiritual journeys have taken him all over the world. This biography explores the man, his music, and his distinctive life.","English",38.6,28.95,"782.42164092--dc23","128 pp.","https://www.enslow.com/books/Bob_Dylan/421807",{"$f":"Table1[[#This Row],[QTY]]*Table1[[#This Row],['# of Books]]","v":0},{"$f":"Table1[[#This Row],[QTY]]*Table1[[#This Row],[School & Library Price]]","v":0}]
[null,null,null,"Influential Lives","Charles Schulz: Cartoonist and Writer",1,"Library Bound Book","978-0-7660-9209-9",{"$f":"HYPERLINK(Table1[[#This Row],[Hyperlink]],\"Weblink\")","v":"Weblink"},"Enslow Publishing","2019","August 2018","6.000 X 9.000","Author","Michael A. Schuman",null,null,null,null,"Z","970L","Grade 7","Grade 7 - 12","Cartoonist Charles Schulz died in 2000, but his work, most notably the Peanuts comics, is as alive as ever. His comic strip continues to run in newspapers around the world, the classic television specials are aired annually, and somewhere at this moment a high school drama club is performing the stage play You're a Good Man, Charlie Brown. This entertaining biography tells the story of a shy, awkward teenager who went on to create some of the most beloved and iconic characters in modern history.","English",38.6,28.95,"741.5/092--dc23","128 pp.","https://www.enslow.com/books/Charles_Schulz/421810",{"$f":"Table1[[#This Row],[QTY]]*Table1[[#This Row],['# of Books]]","v":0},{"$f":"Table1[[#This Row],[QTY]]*Table1[[#This Row],[School & Library Price]]","v":0}]
[null,null,null,"Influential Lives","Cristiano Ronaldo: International Soccer Star",1,"eBook","978-0-7660-9349-2",{"$f":"HYPERLINK(Table1[[#This Row],[Hyperlink]],\"Weblink\")","v":"Weblink"},"Enslow Publishing","2019","August 2018",null,"Author","David Fischer",null,null,null,null,"Z",null,"Grade 7","Grade 7 - 12","Even though he was born with an otherworldly athletic gift, Cristiano Ronaldo’s early life was anything but easy. A poor kid from Portugal, he was expelled from school at age fourteen and then diagnosed with an abnormal heart condition. But through hard work and an intense desire to succeed, he soon blossomed into one of the greatest soccer players in the world. When he transferred to Real Madrid for a record-breaking salary, Ronaldo transformed himself into a worldwide celebrity, reinventing the ideal of an international sports icon. Sports fans will be inspired by this soccer superstar’s rags-to-riches story.","English",38.6,28.95,"796.334092--dc23","128 pp.","https://www.enslow.com/books/Cristiano_Ronaldo/421806",{"$f":"Table1[[#This Row],[QTY]]*Table1[[#This Row],['# of Books]]","v":0},{"$f":"Table1[[#This Row],[QTY]]*Table1[[#This Row],[School & Library Price]]","v":0}]
[null,null,null,"Influential Lives","Donald Trump: Real Estate Mogul and President",1,"Library Bound Book","978-0-7660-8499-5",{"$f":"HYPERLINK(Table1[[#This Row],[Hyperlink]],\"Weblink\")","v":"Weblink"},"Enslow Publishing","2018","August 2017","6.000 X 9.000","Author","Sara Mcintosh Wooten",null,null,null,null,"Z","1060L","Grade 7","Grade 7 - 12","For years, Donald Trump was a real-estate magnate known for his overblown, opulent lifestyle. His brash but entertaining antics made him a best-selling author and host of the long-running television reality shows The Apprentice and Celebrity Apprentice. But the stakes grew higher in 2016 when he shocked many by beating out a huge field of contenders to secure the Republican Party nomination for president. This compelling biography traces the businessman’s privileged childhood through his successes and failures, to the most important race of his life.","English",38.6,28.95,"333.33092--dc23","128 pp.","https://www.enslow.com/books/Donald_Trump/412722",{"$f":"Table1[[#This Row],[QTY]]*Table1[[#This Row],['# of Books]]","v":0},{"$f":"Table1[[#This Row],[QTY]]*Table1[[#This Row],[School & Library Price]]","v":0}]
[null,null,null,"Influential Lives","Edward Snowden: Whistleblower in Exile",1,"eBook","978-0-7660-9347-8",{"$f":"HYPERLINK(Table1[[#This Row],[Hyperlink]],\"Weblink\")","v":"Weblink"},"Enslow Publishing","2019","August 2018",null,"Author","Adam Furgang",null,null,null,null,"Z",null,"Grade 7","Grade 7 - 12","In June 2013, the news organization The Guardian first published articles revealing the shocking revelations that the National Security Agency (NSA) was conducting mass surveillance on all American citizens in secretive bulk-data collection programs. Hundreds of thousands of top-secret documents were leaked from the NSA by a computer programmer named Edward Snowden. This enlightening biography examines the life of Edward Snowden, his reasons for leaking classified documents, his ongoing controversy as a whistleblower, and the revelations and changes in data collection laws that resulted from the massive disclosure.","English",38.6,28.95,"327.12730092--dc23","128 pp.","https://www.enslow.com/books/Edward_Snowden/421809",{"$f":"Table1[[#This Row],[QTY]]*Table1[[#This Row],['# of Books]]","v":0},{"$f":"Table1[[#This Row],[QTY]]*Table1[[#This Row],[School & Library Price]]","v":0}]
[null,null,null,"Influential Lives","Hillary Clinton: Former First Lady and Secretary of State",1,"Library Bound Book","978-0-7660-8501-5",{"$f":"HYPERLINK(Table1[[#This Row],[Hyperlink]],\"Weblink\")","v":"Weblink"},"Enslow Publishing","2018","August 2017","6.000 X 9.000","Author, Author","Anne C. Cunningham, Jeff Burlingame",null,null,null,null,"Z","1010L","Grade 7","Grade 7 - 12","Hillary Clinton is arguably one of the most polarizing political figures in American history. She burst into the national spotlight during her husband’s presidential campaign, when she managed to both impress and offend the American public. Since then, Clinton has proven herself a capable public servant, with successful terms in the US Senate and as secretary of state. But controversy continually threatens to undermine her accomplishments, and it often seems that her ambitions get the best of her. This biography tells the story of the rise of remarkable woman, from her humble Midwestern beginnings to a historic run for the White House.","English",38.6,28.95,"324.092--dc23","128 pp.","https://www.enslow.com/books/Hillary_Clinton/412723",{"$f":"Table1[[#This Row],[QTY]]*Table1[[#This Row],['# of Books]]","v":0},{"$f":"Table1[[#This Row],[QTY]]*Table1[[#This Row],[School & Library Price]]","v":0}]
[null,null,null,"Influential Lives","Kevin Hart: Comedian, Actor, Writer, and Producer",1,"eBook","978-0-7660-8508-4",{"$f":"HYPERLINK(Table1[[#This Row],[Hyperlink]],\"Weblink\")","v":"Weblink"},"Enslow Publishing","2018","August 2017",null,"Author","Susan Kauffman",null,null,null,null,"Z","1210L","Grade 7","Grade 7 - 12","Kevin Hart is a well-known comedian and actor who has starred in television shows and movies for nearly two decades. More than a funny man, however, Hart works hard behind the camera and on stage as well. This lively and enlightening text will help readers understand the business behind the man and will allow them to understand the comedian better. Full-color photos from throughout Hart's life, along with quotes from the personality himself, will allow readers and fans a glimpse into his life. The glossary helps to understand new terminology, while Further Reading encourages deeper exploration into comedy.","English",38.6,28.95,"792.702'8092--dc23","128 pp.","https://www.enslow.com/books/Kevin_Hart/412724",{"$f":"Table1[[#This Row],[QTY]]*Table1[[#This Row],['# of Books]]","v":0},{"$f":"Table1[[#This Row],[QTY]]*Table1[[#This Row],[School & Library Price]]","v":0}]
[null,null,null,"Influential Lives","Kim Kardashian: TV Personality and Business Mogul",1,"Library Bound Book","978-0-7660-9207-5",{"$f":"HYPERLINK(Table1[[#This Row],[Hyperlink]],\"Weblink\")","v":"Weblink"},"Enslow Publishing","2019","August 2018","6.000 X 9.000","Author","Dennis Abrams",null,null,null,null,"Z","1060L","Grade 7","Grade 7 - 12","With more than 50 million followers on Twitter and an additional 92 million on Instagram, Kim Kardashian is an American phenomenon. Through ambition, drive, and a masterful use of social media, Kardashian has become a television star, successful businesswoman, and tech entrepreneur with a net worth estimated at close to 150 million dollars. Readers who think they know everything about this pop-culture giant may be surprised to learn how Kardashian turned infamy into fame to become one of the most photographed, talked about, and richest women in the world.","English",38.6,28.95,"791.4502/8092--dc23","128 pp.","https://www.enslow.com/books/Kim_Kardashian/421808",{"$f":"Table1[[#This Row],[QTY]]*Table1[[#This Row],['# of Books]]","v":0},{"$f":"Table1[[#This Row],[QTY]]*Table1[[#This Row],[School & Library Price]]","v":0}]
[null,null,null,"Influential Lives","Lin-Manuel Miranda: Composer, Actor, and Creator of Hamilton",1,"Library Bound Book","978-0-7660-8505-3",{"$f":"HYPERLINK(Table1[[#This Row],[Hyperlink]],\"Weblink\")","v":"Weblink"},"Enslow Publishing","2018","August 2017","6.000 X 9.000","Author","Kat Harrison",null,null,null,null,"Z","1140L","Grade 7","Grade 7 - 12","Born in New York City to Puerto Rican immigrant parents, Lin-Manuel Miranda's creativity was influenced by the vibrant city. He began writing his first musical while he was in college and has since gone on to win a Pulitzer Prize, two Grammys, an Emmy, three Tonys, and many other accolades. He is possibly the best-known name in modern theater. Through lively text and bright photos, readers will learn about Miranda’s life, education, and accomplishments, as well as Hamilton, New York City, and Broadway. Quotes from Miranda will allow readers a firsthand look into the mind of America’s most famous modern composer. The Glossary helps readers understand vocabulary, and Further Reading will encourage deeper research.","English",38.6,28.95,"792.02/8092--dc23","128 pp.","https://www.enslow.com/books/Lin_Manuel_Miranda/412725",{"$f":"Table1[[#This Row],[QTY]]*Table1[[#This Row],['# of Books]]","v":0},{"$f":"Table1[[#This Row],[QTY]]*Table1[[#This Row],[School & Library Price]]","v":0}]
[null,null,null,"Influential Lives","Lin-Manuel Miranda: Composer, Actor, and Creator of Hamilton",1,"eBook","978-0-7660-8506-0",{"$f":"HYPERLINK(Table1[[#This Row],[Hyperlink]],\"Weblink\")","v":"Weblink"},"Enslow Publishing","2018","August 2017",null,"Author","Kat Harrison",null,null,null,null,"Z","1140L","Grade 7","Grade 7 - 12","Born in New York City to Puerto Rican immigrant parents, Lin-Manuel Miranda's creativity was influenced by the vibrant city. He began writing his first musical while he was in college and has since gone on to win a Pulitzer Prize, two Grammys, an Emmy, three Tonys, and many other accolades. He is possibly the best-known name in modern theater. Through lively text and bright photos, readers will learn about Miranda’s life, education, and accomplishments, as well as Hamilton, New York City, and Broadway. Quotes from Miranda will allow readers a firsthand look into the mind of America’s most famous modern composer. The Glossary helps readers understand vocabulary, and Further Reading will encourage deeper research.","English",38.6,28.95,"792.02/8092--dc23","128 pp.","https://www.enslow.com/books/Lin_Manuel_Miranda/412725",{"$f":"Table1[[#This Row],[QTY]]*Table1[[#This Row],['# of Books]]","v":0},{"$f":"Table1[[#This Row],[QTY]]*Table1[[#This Row],[School & Library Price]]","v":0}]
[null,null,null,"Influential Lives","Shonda Rhimes: TV Producer, Screenwriter, and Showrunner",1,"Library Bound Book","978-0-7660-8503-9",{"$f":"HYPERLINK(Table1[[#This Row],[Hyperlink]],\"Weblink\")","v":"Weblink"},"Enslow Publishing","2018","August 2017","6.000 X 9.000","Author","Naida Redgrave",null,null,null,null,"Z","1080L","Grade 7","Grade 7 - 12","Shonda Rhimes is one of the most well-known television writers, producers, and showrunners in the world. Her creations include smash hits like Grey's Anatomy, Scandal, and How to Get Away with Murder. Born in Chicago, Illinois, Rhimes knew she wanted to write in Hollywood. Through engaging text, full-color photos, and quotes from the writer herself, readers will learn all about Rhimes's rise to fame, the hardships she has endured, and what is next for the acclaimed television creator.","English",38.6,28.95,"791.4502/32--dc23","128 pp.","https://www.enslow.com/books/Shonda_Rhimes/412727",{"$f":"Table1[[#This Row],[QTY]]*Table1[[#This Row],['# of Books]]","v":0},{"$f":"Table1[[#This Row],[QTY]]*Table1[[#This Row],[School & Library Price]]","v":0}]
[null,null,null,"Influential Lives","Shonda Rhimes: TV Producer, Screenwriter, and Showrunner",1,"eBook","978-0-7660-8504-6",{"$f":"HYPERLINK(Table1[[#This Row],[Hyperlink]],\"Weblink\")","v":"Weblink"},"Enslow Publishing","2018","August 2017",null,"Author","Naida Redgrave",null,null,null,null,"Z","1080L","Grade 7","Grade 7 - 12","Shonda Rhimes is one of the most well-known television writers, producers, and showrunners in the world. Her creations include smash hits like Grey's Anatomy, Scandal, and How to Get Away with Murder. Born in Chicago, Illinois, Rhimes knew she wanted to write in Hollywood. Through engaging text, full-color photos, and quotes from the writer herself, readers will learn all about Rhimes's rise to fame, the hardships she has endured, and what is next for the acclaimed television creator.","English",38.6,28.95,"791.4502/32--dc23","128 pp.","https://www.enslow.com/books/Shonda_Rhimes/412727",{"$f":"Table1[[#This Row],[QTY]]*Table1[[#This Row],['# of Books]]","v":0},{"$f":"Table1[[#This Row],[QTY]]*Table1[[#This Row],[School & Library Price]]","v":0}]
[null,null,null,"Gold's Gym Guide to Fitness","Gold's Gym Guide to Fitness",4,"Library Set","978-1-9785-0691-6",{"$f":"HYPERLINK(Table1[[#This Row],[Hyperlink]],\"Weblink\")","v":"Weblink"},"Enslow Publishing","2019","January 2019","7.250 X 9.250",null,null,null,null,null,null,null,null,"Grade 7","Grade 7 - 12","This comprehensive and instructive set supplies students with the knowledge, information, exercises, and resources they need to lead long, healthy lives. With accessible, easy-to-understand language and thorough explanations, this set provides readers with a well-rounded picture of health, including nutrition, strength, flexibility, cardio, and safety. With this age-appropriate road map for health, students will learn both how to take care of their bodies and the importance of doing so. Written in an encouraging and supportive tone, readers of all fitness levels and body shapes will find a place for themselves. Features include: \"Ask the Expert\" sections where students get their questions answered anonymously, ensuring a safe space. Instructions on how to safely and properly use exercise equipment. Workout routines for the gym and at home. Aligns with health and wellness programs in schools nationwide.","English",111.72,83.8,null,"48 pp.","https://www.enslow.com/series/golds_gym_guide_to_fitness/537",{"$f":"Table1[[#This Row],[QTY]]*Table1[[#This Row],['# of Books]]","v":0},{"$f":"Table1[[#This Row],[QTY]]*Table1[[#This Row],[School & Library Price]]","v":0}]
[null,null,null,"Gold's Gym Guide to Fitness","Find Balance with Yoga and Pilates",1,"Library Bound Book","978-1-9785-0658-9",{"$f":"HYPERLINK(Table1[[#This Row],[Hyperlink]],\"Weblink\")","v":"Weblink"},"Enslow Publishing","2019","January 2019","7.250 X 9.250","Author","The Experts at Gold's Gym",null,null,null,null,"Z","1170L","Grade 7","Grade 7 - 12","Starting a fitness regimen can be difficult, but, oftentimes, it can be even more challenging to maintain. This guidebook teaches students how to turn their healthy habits into a healthy lifestyle. Readers learn the importance of establishing a mind-body connection and receive meditation and yoga exercises as ways of helping create that relationship. In listening to their bodies, students also explore safety's role in exercise.","English",27.93,20.95,"613.7--dc23","48 pp.","https://www.enslow.com/books/Find_Balance_with_Yoga_and_Pilates/4785",{"$f":"Table1[[#This Row],[QTY]]*Table1[[#This Row],['# of Books]]","v":0},{"$f":"Table1[[#This Row],[QTY]]*Table1[[#This Row],[School & Library Price]]","v":0}]
[null,null,null,"Gold's Gym Guide to Fitness","Make a Fitness Plan",1,"eBook","978-1-9785-0659-6",{"$f":"HYPERLINK(Table1[[#This Row],[Hyperlink]],\"Weblink\")","v":"Weblink"},"Enslow Publishing","2019","January 2019",null,"Author","The Experts at Gold's Gym",null,null,null,null,"Z","1180L","Grade 7","Grade 7 - 12","Provide your readers with an introduction to living a healthy life, both physically and mentally. Students will learn how to set health goals, create fitness plans, and read about different gym machines and how to use them both safely and effectively. They will also learn about the importance of nutrition as they read about different food groups, discover how to eat right on a budget, and how to portion correctly. This comprehensive starter guide gives students a broad introduction into the world of health and fitness, and in doing so, takes away some of the fear and power that may accompany some of these body changes.","English",27.93,20.95,"613.7--dc23","48 pp.","https://www.enslow.com/books/Make_a_Fitness_Plan/4782",{"$f":"Table1[[#This Row],[QTY]]*Table1[[#This Row],['# of Books]]","v":0},{"$f":"Table1[[#This Row],[QTY]]*Table1[[#This Row],[School & Library Price]]","v":0}]
[null,null,null,"Gold's Gym Guide to Fitness","Take the Cardio Challenge",1,"Library Bound Book","978-1-9785-0657-2",{"$f":"HYPERLINK(Table1[[#This Row],[Hyperlink]],\"Weblink\")","v":"Weblink"},"Enslow Publishing","2019","January 2019","7.250 X 9.250","Author","The Experts at Gold's Gym",null,null,null,null,"Z","1220L","Grade 7","Grade 7 - 12","This book reminds students that there are many ways to exercise. From walking to running, cycling to boxing, high-intensity interval training to swimming, this guidebook provides readers with a variety of cardiovascular training exercises. Students will receive sample exercises and stretches to add to their repertoire and learn about the importance of cardiovascular exercise. This book demonstrates the physical benefits, such as increased blood circulation, improved stamina, and stronger heart and lungs, that exercise has on the body.","English",27.93,20.95,"616.1/071--dc23","48 pp.","https://www.enslow.com/books/Take_the_Cardio_Challenge/4784",{"$f":"Table1[[#This Row],[QTY]]*Table1[[#This Row],['# of Books]]","v":0},{"$f":"Table1[[#This Row],[QTY]]*Table1[[#This Row],[School & Library Price]]","v":0}]
[null,null,null,"Gold's Gym Guide to Fitness","Train for Strength",1,"eBook","978-1-9785-0660-2",{"$f":"HYPERLINK(Table1[[#This Row],[Hyperlink]],\"Weblink\")","v":"Weblink"},"Enslow Publishing","2019","January 2019",null,"Author","The Experts at Gold's Gym",null,null,null,null,"Z","1150L","Grade 7","Grade 7 - 12","Readers learn about the importance of resistance training, which increases strength and endurance while working on your muscles and making them larger. After studying the three main methods of resistance training, which are free weights, resistance machines, and individual body weight, readers are taught how to pick the best practice for their individual needs and goals and are given sample exercises. This book also teaches students the science behind weight lifting and explains the function of different muscles so that students are able to understand what parts of their bodies they're training. This text ends with a focus on yoga and stretching to increase flexibility, a key component of strength.","English",27.93,20.95,"613.713--dc23","48 pp.","https://www.enslow.com/books/Train_for_Strength/4783",{"$f":"Table1[[#This Row],[QTY]]*Table1[[#This Row],['# of Books]]","v":0},{"$f":"Table1[[#This Row],[QTY]]*Table1[[#This Row],[School & Library Price]]","v":0}]
[null,null,null,"Exploring the Elements","Exploring the Elements: Sets 1 – 2",20,"Library Set","978-1-9785-0583-4",{"$f":"HYPERLINK(Table1[[#This Row],[Hyperlink]],\"Weblink\")","v":"Weblink"},"Enslow Publishing","2019","January 2019","7.250 X 9.250",null,null,null,null,null,null,null,null,"Grade 6","Grade 5 - 8","Gold, copper, iron, carbon, helium, silver, and hydrogen are among the many elements explored in this collection. Each book breaks the elements out of the confines of the periodic table and engagingly presents what these elements really can do. Everyday instances are used to explain how we relate to and take part of the elemental world. How do elements impact us? Your readers will find out. Features include: Detailed graphs, charts, illustrations, and full-color photographs offer visual references for readers to better understand complex concepts. Provides an informative, in-depth look at a critical part of the national chemistry curriculum. Further Reading sections refer readers to current resources for supplementary information.","English",558.6,419,null,"48 pp.","https://www.enslow.com/series/Exploring_the_Elements/450969",{"$f":"Table1[[#This Row],[QTY]]*Table1[[#This Row],['# of Books]]","v":0},{"$f":"Table1[[#This Row],[QTY]]*Table1[[#This Row],[School & Library Price]]","v":0}]
[null,null,null,"Exploring the Elements","Chlorine",1,"Library Bound Book","978-1-9785-0363-2",{"$f":"HYPERLINK(Table1[[#This Row],[Hyperlink]],\"Weblink\")","v":"Weblink"},"Enslow Publishing","2019","January 2019","7.250 X 9.250","Author","Jeff Mapua",null,null,null,null,"W","1050L","Grade 6","Grade 5 - 8","Chlorine's story includes food, war, and so much more. This book covers the mysterious discovery of chlorine and a case of mistaken identity. Readers explore how it is used to both keep people safe from disease and bacteria, while at the same time used as a weapon of mass destruction. Readers also get a peek inside the inner workings of the atom. A helpful periodic table of elements is included, as well as links to helpful websites and other books for further reading on chlorine.","English",27.93,20.95,"546/.732--dc23","48 pp.","https://www.enslow.com/books/Chlorine/4736",{"$f":"Table1[[#This Row],[QTY]]*Table1[[#This Row],['# of Books]]","v":0},{"$f":"Table1[[#This Row],[QTY]]*Table1[[#This Row],[School & Library Price]]","v":0}]
[null,null,null,"Exploring the Elements","Chlorine",1,"eBook","978-1-9785-0420-2",{"$f":"HYPERLINK(Table1[[#This Row],[Hyperlink]],\"Weblink\")","v":"Weblink"},"Enslow Publishing","2019","January 2019",null,"Author","Jeff Mapua",null,null,null,null,"W","1050L","Grade 6","Grade 5 - 8","Chlorine's story includes food, war, and so much more. This book covers the mysterious discovery of chlorine and a case of mistaken identity. Readers explore how it is used to both keep people safe from disease and bacteria, while at the same time used as a weapon of mass destruction. Readers also get a peek inside the inner workings of the atom. A helpful periodic table of elements is included, as well as links to helpful websites and other books for further reading on chlorine.","English",27.93,20.95,"546/.732--dc23","48 pp.","https://www.enslow.com/books/Chlorine/4736",{"$f":"Table1[[#This Row],[QTY]]*Table1[[#This Row],['# of Books]]","v":0},{"$f":"Table1[[#This Row],[QTY]]*Table1[[#This Row],[School & Library Price]]","v":0}]
[null,null,null,"Exploring the Elements","Gold",1,"Library Bound Book","978-1-9785-0365-6",{"$f":"HYPERLINK(Table1[[#This Row],[Hyperlink]],\"Weblink\")","v":"Weblink"},"Enslow Publishing","2019","January 2019","7.250 X 9.250","Author","Anita Louise McCormick",null,null,null,null,"W","1030L","Grade 6","Grade 5 - 8","Since ancient times, people the world over have valued gold above most metals. For at least 5,000 years, gold has been used to make jewelry, coins, art objects, and other valuable items. Today, gold also has many industrial applications, from computers to medicine. In this book, students will learn about the elemental properties of gold, how gold is mined and processed, and how, through the centuries, the quest for gold has led to war.","English",27.93,20.95,"546/.656--dc23","48 pp.","https://www.enslow.com/books/Gold/4738",{"$f":"Table1[[#This Row],[QTY]]*Table1[[#This Row],['# of Books]]","v":0},{"$f":"Table1[[#This Row],[QTY]]*Table1[[#This Row],[School & Library Price]]","v":0}]
[null,null,null,"Exploring the Elements","Gold",1,"eBook","978-1-9785-0422-6",{"$f":"HYPERLINK(Table1[[#This Row],[Hyperlink]],\"Weblink\")","v":"Weblink"},"Enslow Publishing","2019","January 2019",null,"Author","Anita Louise McCormick",null,null,null,null,"W","1030L","Grade 6","Grade 5 - 8","Since ancient times, people the world over have valued gold above most metals. For at least 5,000 years, gold has been used to make jewelry, coins, art objects, and other valuable items. Today, gold also has many industrial applications, from computers to medicine. In this book, students will learn about the elemental properties of gold, how gold is mined and processed, and how, through the centuries, the quest for gold has led to war.","English",27.93,20.95,"546/.656--dc23","48 pp.","https://www.enslow.com/books/Gold/4738",{"$f":"Table1[[#This Row],[QTY]]*Table1[[#This Row],['# of Books]]","v":0},{"$f":"Table1[[#This Row],[QTY]]*Table1[[#This Row],[School & Library Price]]","v":0}]
[null,null,null,"Exploring the Elements","Mercury",1,"Library Bound Book","978-1-9785-0367-0",{"$f":"HYPERLINK(Table1[[#This Row],[Hyperlink]],\"Weblink\")","v":"Weblink"},"Enslow Publishing","2019","January 2019","7.250 X 9.250","Author","Anita Louise McCormick",null,null,null,null,"Y","1100L","Grade 6","Grade 5 - 8","Liquid, shiny, dangerous Mercury has the distinction of being the only metal that is liquid at room temperature. Because of this trait, mercury is used in thermometers, scientific instruments, florescent lights, and many other devices. In this book, students will learn about mercury's unique properties as an element. They will also learn how mercury is mined and extracted, and how this element, though useful, is also very dangerous, to both the environment and animals. This book contains relevant resources students can use to continue their exploration of mercury and other elements.","English",27.93,20.95,"546/.663--dc23","48 pp.","https://www.enslow.com/books/Mercury/4740",{"$f":"Table1[[#This Row],[QTY]]*Table1[[#This Row],['# of Books]]","v":0},{"$f":"Table1[[#This Row],[QTY]]*Table1[[#This Row],[School & Library Price]]","v":0}]
[null,null,null,"Exploring the Elements","Mercury",1,"eBook","978-1-9785-0424-0",{"$f":"HYPERLINK(Table1[[#This Row],[Hyperlink]],\"Weblink\")","v":"Weblink"},"Enslow Publishing","2019","January 2019",null,"Author","Anita Louise McCormick",null,null,null,null,"Y","1100L","Grade 6","Grade 5 - 8","Liquid, shiny, dangerous Mercury has the distinction of being the only metal that is liquid at room temperature. Because of this trait, mercury is used in thermometers, scientific instruments, florescent lights, and many other devices. In this book, students will learn about mercury's unique properties as an element. They will also learn how mercury is mined and extracted, and how this element, though useful, is also very dangerous, to both the environment and animals. This book contains relevant resources students can use to continue their exploration of mercury and other elements.","English",27.93,20.95,"546/.663--dc23","48 pp.","https://www.enslow.com/books/Mercury/4740",{"$f":"Table1[[#This Row],[QTY]]*Table1[[#This Row],['# of Books]]","v":0},{"$f":"Table1[[#This Row],[QTY]]*Table1[[#This Row],[School & Library Price]]","v":0}]
[null,null,null,"Exploring the Elements","Potassium",1,"Library Bound Book","978-1-9785-0369-4",{"$f":"HYPERLINK(Table1[[#This Row],[Hyperlink]],\"Weblink\")","v":"Weblink"},"Enslow Publishing","2019","January 2019","7.250 X 9.250","Author","Donna B. McKinney",null,null,null,null,"W","1090L","Grade 6","Grade 5 - 8","Readers can find potassium in their kitchens. This silvery white element is in bananas, avocados, nuts, chocolate, and potatoes. It's also found in ocean water. In the human body, potassium helps keep our bones healthy and our muscles contracting properly. Potassium is used in many everyday items, such as fire extinguishers, fertilizers, soaps, and batteries. K is potassium's symbol, from the Latin word \"kalium.\" This book helps students better understand the basics of chemistry as they learn what potassium is and how this soft metal is used in our world.","English",27.93,20.95,"546/.383--dc23","48 pp.","https://www.enslow.com/books/Potassium/4742",{"$f":"Table1[[#This Row],[QTY]]*Table1[[#This Row],['# of Books]]","v":0},{"$f":"Table1[[#This Row],[QTY]]*Table1[[#This Row],[School & Library Price]]","v":0}]
[null,null,null,"Exploring the Elements","Potassium",1,"eBook","978-1-9785-0426-4",{"$f":"HYPERLINK(Table1[[#This Row],[Hyperlink]],\"Weblink\")","v":"Weblink"},"Enslow Publishing","2019","January 2019",null,"Author","Donna B. McKinney",null,null,null,null,"W","1090L","Grade 6","Grade 5 - 8","Readers can find potassium in their kitchens. This silvery white element is in bananas, avocados, nuts, chocolate, and potatoes. It's also found in ocean water. In the human body, potassium helps keep our bones healthy and our muscles contracting properly. Potassium is used in many everyday items, such as fire extinguishers, fertilizers, soaps, and batteries. K is potassium's symbol, from the Latin word \"kalium.\" This book helps students better understand the basics of chemistry as they learn what potassium is and how this soft metal is used in our world.","English",27.93,20.95,"546/.383--dc23","48 pp.","https://www.enslow.com/books/Potassium/4742",{"$f":"Table1[[#This Row],[QTY]]*Table1[[#This Row],['# of Books]]","v":0},{"$f":"Table1[[#This Row],[QTY]]*Table1[[#This Row],[School & Library Price]]","v":0}]
[null,null,null,"Exploring the Elements","Sulfur",1,"Library Bound Book","978-1-9785-0371-7",{"$f":"HYPERLINK(Table1[[#This Row],[Hyperlink]],\"Weblink\")","v":"Weblink"},"Enslow Publishing","2019","January 2019","7.250 X 9.250","Author","Elise Tobler",null,null,null,null,"W","1160L","Grade 6","Grade 5 - 8","Sulfur has been known since ancient times, used by Indians, Greeks, and Egyptians. This distinctive and often smelly element was sometimes called brimstone. Sulfur is present in garlic, a skunk's defensive spray, and is also responsible for the horrible smell of rotten eggs. Sulfur also lends strength to feathers, adds a tang to grapefruit, and is an important ingredient of fertilizer. Readers will explore sulfur from A to Z: from how it's used in matches, to how it's a critical macronutrient for every living body.","English",27.93,20.95,"546/.723--dc23","48 pp.","https://www.enslow.com/books/Sulfur/4744",{"$f":"Table1[[#This Row],[QTY]]*Table1[[#This Row],['# of Books]]","v":0},{"$f":"Table1[[#This Row],[QTY]]*Table1[[#This Row],[School & Library Price]]","v":0}]
[null,null,null,"Exploring the Elements","Sulfur",1,"eBook","978-1-9785-0428-8",{"$f":"HYPERLINK(Table1[[#This Row],[Hyperlink]],\"Weblink\")","v":"Weblink"},"Enslow Publishing","2019","January 2019",null,"Author","Elise Tobler",null,null,null,null,"W","1160L","Grade 6","Grade 5 - 8","Sulfur has been known since ancient times, used by Indians, Greeks, and Egyptians. This distinctive and often smelly element was sometimes called brimstone. Sulfur is present in garlic, a skunk's defensive spray, and is also responsible for the horrible smell of rotten eggs. Sulfur also lends strength to feathers, adds a tang to grapefruit, and is an important ingredient of fertilizer. Readers will explore sulfur from A to Z: from how it's used in matches, to how it's a critical macronutrient for every living body.","English",27.93,20.95,"546/.723--dc23","48 pp.","https://www.enslow.com/books/Sulfur/4744",{"$f":"Table1[[#This Row],[QTY]]*Table1[[#This Row],['# of Books]]","v":0},{"$f":"Table1[[#This Row],[QTY]]*Table1[[#This Row],[School & Library Price]]","v":0}]
[null,null,null,"Exploring the Elements","Zinc",1,"eBook","978-1-9785-0429-5",{"$f":"HYPERLINK(Table1[[#This Row],[Hyperlink]],\"Weblink\")","v":"Weblink"},"Enslow Publishing","2019","January 2019",null,"Author","Elise Tobler",null,null,null,null,"W","1100L","Grade 6","Grade 5 - 8","Every cell requires zinc in order to reproduce, you couldn't have been born without it. Zinc boosts brain activity, and is an essential trace element for humans, but it requires a delicate balance, being toxic in higher quantities. It is a component to sunblock, but can also protect skin against windburn and other irritations. Readers will explore every aspect of zinc, from how it contributes to health even prior to birth, to how it's inside every penny we spend.","English",27.93,20.95,"546/.661--dc23","48 pp.","https://www.enslow.com/books/Zinc/4745",{"$f":"Table1[[#This Row],[QTY]]*Table1[[#This Row],['# of Books]]","v":0},{"$f":"Table1[[#This Row],[QTY]]*Table1[[#This Row],[School & Library Price]]","v":0}]
[null,null,null,"Exploring the Elements","Aluminum",1,"Library Bound Book","978-0-7660-9902-9",{"$f":"HYPERLINK(Table1[[#This Row],[Hyperlink]],\"Weblink\")","v":"Weblink"},"Enslow Publishing","2019","August 2018","7.250 X 9.250","Author","Anita Louise McCormick",null,null,null,null,"X","1080L","Grade 6","Grade 5 - 8","Aluminum is one of the most abundant metals in the Earth's crust. It is used for everything from soda cans to cars, planes, rockets, and in construction. In the 1800s, scientists learned how to extract aluminum from rocks so it could be put to practical use. This book tells the fascinating story of aluminum's history, explains the properties of the element and its components, and provides students with resources to learn more about aluminum and how it is mined, recycled, and used in our society.","English",27.93,20.95,"546/.673--dc23","48 pp.","https://www.enslow.com/books/Aluminum/421886",{"$f":"Table1[[#This Row],[QTY]]*Table1[[#This Row],['# of Books]]","v":0},{"$f":"Table1[[#This Row],[QTY]]*Table1[[#This Row],[School & Library Price]]","v":0}]
[null,null,null,"Exploring the Elements","Carbon",1,"eBook","978-0-7660-9907-4",{"$f":"HYPERLINK(Table1[[#This Row],[Hyperlink]],\"Weblink\")","v":"Weblink"},"Enslow Publishing","2019","August 2018",null,"Author","Donna B. McKinney",null,null,null,null,"X","1100L","Grade 6","Grade 5 - 8","Carbon is amazing. In the form of a diamond, carbon is one of the hardest materials we know. In the form of pencil lead, it's easily broken with our fingers. Carbon is the most common element on Earth. Think of it as a building block of life; it's found in all living creatures, and it's so old, people have known of its existence since prehistoric times. Yet scientists today continue to discover new forms of carbon. This book will help students better understand the basics of chemistry as they learn what carbon is and how important it is in our world.","English",27.93,20.95,"547--dc23","48 pp.","https://www.enslow.com/books/Carbon/421887",{"$f":"Table1[[#This Row],[QTY]]*Table1[[#This Row],['# of Books]]","v":0},{"$f":"Table1[[#This Row],[QTY]]*Table1[[#This Row],[School & Library Price]]","v":0}]
[null,null,null,"Exploring the Elements","Helium",1,"Library Bound Book","978-0-7660-9908-1",{"$f":"HYPERLINK(Table1[[#This Row],[Hyperlink]],\"Weblink\")","v":"Weblink"},"Enslow Publishing","2019","August 2018","7.250 X 9.250","Author","Donna B. McKinney",null,null,null,null,"Y","1040L","Grade 6","Grade 5 - 8","Named for the Greek god of the sun, Helios, Helium is the second most abundant element in the universe. Scientists discovered helium while they were studying the sun. A colorless and odorless gas, helium is so light it floats in air. At first scientists couldn't decide if helium was useful for anything. Today, helium is extremely valuable and rare, used in devices ranging from medical equipment to laboratory instruments to welding to scuba gear, and more. This book will help students better understand the basics of chemistry as they learn what helium is and how important it is in our daily lives.","English",27.93,20.95,"546/.751--dc23","48 pp.","https://www.enslow.com/books/Helium/421888",{"$f":"Table1[[#This Row],[QTY]]*Table1[[#This Row],['# of Books]]","v":0},{"$f":"Table1[[#This Row],[QTY]]*Table1[[#This Row],[School & Library Price]]","v":0}]
[null,null,null,"Exploring the Elements","Hydrogen",1,"eBook","978-0-7660-9913-5",{"$f":"HYPERLINK(Table1[[#This Row],[Hyperlink]],\"Weblink\")","v":"Weblink"},"Enslow Publishing","2019","August 2018",null,"Author","Clara MacCarald",null,null,null,null,"X","1020L","Grade 6","Grade 5 - 8","Hydrogen is the most widespread element and one of the building blocks of life. First appearing when the Big Bang created the universe, hydrogen is now part of human technologies that could change the future. People have used liquid hydrogen to send astronauts into space and hydrogen gas to drive families to the store. In this informative book, we'll explore the first element in the periodic table, looking at its properties and finding its hiding places. From our bodies to the Sun, hydrogen is everywhere.","English",27.93,20.95,"546/.21--dc23","48 pp.","https://www.enslow.com/books/Hydrogen/421889",{"$f":"Table1[[#This Row],[QTY]]*Table1[[#This Row],['# of Books]]","v":0},{"$f":"Table1[[#This Row],[QTY]]*Table1[[#This Row],[School & Library Price]]","v":0}]
[null,null,null,"Exploring the Elements","Iron",1,"Library Bound Book","978-0-7660-9914-2",{"$f":"HYPERLINK(Table1[[#This Row],[Hyperlink]],\"Weblink\")","v":"Weblink"},"Enslow Publishing","2019","August 2018","7.250 X 9.250","Author","Henrietta Toth",null,null,null,null,"W","970L","Grade 6","Grade 5 - 8","Iron is the most common metal found on earth. Not often found in its pure form, it is fashioned into things that are used every day. Iron forms part of the earth's core and is even added to breakfast cereal. From its early uses by the ancient Egyptians to modern times, this volume simplifies the complex facts of iron into an easy-to-understand story. Also explained is iron's place on the periodic table and how to locate it on the table.","English",27.93,20.95,"546/.621--dc23","48 pp.","https://www.enslow.com/books/Iron/421890",{"$f":"Table1[[#This Row],[QTY]]*Table1[[#This Row],['# of Books]]","v":0},{"$f":"Table1[[#This Row],[QTY]]*Table1[[#This Row],[School & Library Price]]","v":0}]
[null,null,null,"Exploring the Elements","Nickel",1,"eBook","978-0-7660-9919-7",{"$f":"HYPERLINK(Table1[[#This Row],[Hyperlink]],\"Weblink\")","v":"Weblink"},"Enslow Publishing","2019","August 2018",null,"Author","Anita Louise McCormick",null,null,null,null,"X","1140L","Grade 6","Grade 5 - 8","When you think of nickel, a 5-cent coin probably comes to mind, but nickel is used for so much more than manufacturing coins. Nickel and nickel-containing alloys are very important in our society. Nickel is used in the construction, transportation, power, high-tech and many other industries. This book tells the fascinating story of how nickel was discovered, how ore containing nickel is mined and extracted, the properties that make nickel so useful, and how nickel's many uses and applications make the high-tech world we live in possible. It also provides students with up-to-date resources to continue their research.","English",27.93,20.95,"546/.625--dc23","48 pp.","https://www.enslow.com/books/Nickel/421891",{"$f":"Table1[[#This Row],[QTY]]*Table1[[#This Row],['# of Books]]","v":0},{"$f":"Table1[[#This Row],[QTY]]*Table1[[#This Row],[School & Library Price]]","v":0}]
[null,null,null,"Exploring the Elements","Nitrogen",1,"Library Bound Book","978-0-7660-9920-3",{"$f":"HYPERLINK(Table1[[#This Row],[Hyperlink]],\"Weblink\")","v":"Weblink"},"Enslow Publishing","2019","August 2018","7.250 X 9.250","Author","Clara MacCarald",null,null,null,null,"Y","950L","Grade 6","Grade 5 - 8","Take a deep breath, you're breathing in nitrogen! This element makes up 78 percent of the air around us. While nitrogen by itself is incredibly stable, nitrogen compounds have a tendency to explode. Dynamite contains nitrogen, and so do air bags, which use a small explosion to fill up and keep us safe in a car crash. In this informative book, we'll explore this important element, seeing how nitrogen cycles through the environment and even makes up part of our own bodies. Without nitrogen, we wouldn't exist.","English",27.93,20.95,"546/.711--dc23","48 pp.","https://www.enslow.com/books/Nitrogen/421892",{"$f":"Table1[[#This Row],[QTY]]*Table1[[#This Row],['# of Books]]","v":0},{"$f":"Table1[[#This Row],[QTY]]*Table1[[#This Row],[School & Library Price]]","v":0}]
[null,null,null,"Exploring the Elements","Oxygen",1,"eBook","978-0-7660-9925-8",{"$f":"HYPERLINK(Table1[[#This Row],[Hyperlink]],\"Weblink\")","v":"Weblink"},"Enslow Publishing","2019","August 2018",null,"Author","Avery Elizabeth Hurt",null,null,null,null,"W","1040L","Grade 6","Grade 5 - 8","Oxygen is essential to life on Earth, but what is this tasteless, colorless, element? From how oxygen was discovered to how it supports life, this book answers all your questions about element we all depend on. Readers will learn about atoms, molecules, and how oxygen fits in the periodic table. Discussions of photosynthesis, combustion, and oxygen compounds explore the role of oxygen in our world. Interesting and accessible explanations of chemistry terms are accompanied by lively illustrations and images.","English",27.93,20.95,"546/.721--dc23","48 pp.","https://www.enslow.com/books/Oxygen/421893",{"$f":"Table1[[#This Row],[QTY]]*Table1[[#This Row],['# of Books]]","v":0},{"$f":"Table1[[#This Row],[QTY]]*Table1[[#This Row],[School & Library Price]]","v":0}]
[null,null,null,"Exploring the Elements","Silver",1,"Library Bound Book","978-0-7660-9926-5",{"$f":"HYPERLINK(Table1[[#This Row],[Hyperlink]],\"Weblink\")","v":"Weblink"},"Enslow Publishing","2019","August 2018","7.250 X 9.250","Author","Henrietta Toth",null,null,null,null,"W","1010L","Grade 6","Grade 5 - 8","Silver has always been a precious metal, used in photography, dentistry, currency, knives, forks, and spoons. Silver is used in x-rays, mirrors, and even medical bandages. In this book, we'll explore how silver was first discovered and used, and how it forms into compounds and alloys. Readers will discover where silver fits into the Periodic Table, and how silver plays a part in modern day electronics from cell phones to computers, but is no longer used in coins, given its expense. Interesting chemistry terms are accompanied by illustrations and photographs, allowing your readers to look at silver in a whole new way.","English",27.93,20.95,"546/.654--dc23","48 pp.","https://www.enslow.com/books/Silver/421894",{"$f":"Table1[[#This Row],[QTY]]*Table1[[#This Row],['# of Books]]","v":0},{"$f":"Table1[[#This Row],[QTY]]*Table1[[#This Row],[School & Library Price]]","v":0}]
[null,null,null,"Exploring the Elements","Sodium",1,"Library Bound Book","978-0-7660-9929-6",{"$f":"HYPERLINK(Table1[[#This Row],[Hyperlink]],\"Weblink\")","v":"Weblink"},"Enslow Publishing","2019","August 2018","7.250 X 9.250","Author","Avery Elizabeth Hurt",null,null,null,null,"Y","1060L","Grade 6","Grade 5 - 8","From the table to the lab to our bodies, this interesting and informative book introduces young readers to the element sodium. Easy-to-understand explanations, colorful illustrations, and examples children can relate to make this a fun way to learn about one of Earth's most abundant elements. Historical information gives the subject context, while discussions of the common uses of sodium, such as in soap making and food preservation, keep it relevant.","English",27.93,20.95,"546/.382--dc23","48 pp.","https://www.enslow.com/books/Sodium/421895",{"$f":"Table1[[#This Row],[QTY]]*Table1[[#This Row],['# of Books]]","v":0},{"$f":"Table1[[#This Row],[QTY]]*Table1[[#This Row],[School & Library Price]]","v":0}]
[null,null,null,"Exploring the Elements","Sodium",1,"eBook","978-0-7660-9931-9",{"$f":"HYPERLINK(Table1[[#This Row],[Hyperlink]],\"Weblink\")","v":"Weblink"},"Enslow Publishing","2019","August 2018",null,"Author","Avery Elizabeth Hurt",null,null,null,null,"Y","1060L","Grade 6","Grade 5 - 8","From the table to the lab to our bodies, this interesting and informative book introduces young readers to the element sodium. Easy-to-understand explanations, colorful illustrations, and examples children can relate to make this a fun way to learn about one of Earth's most abundant elements. Historical information gives the subject context, while discussions of the common uses of sodium, such as in soap making and food preservation, keep it relevant.","English",27.93,20.95,"546/.382--dc23","48 pp.","https://www.enslow.com/books/Sodium/421895",{"$f":"Table1[[#This Row],[QTY]]*Table1[[#This Row],['# of Books]]","v":0},{"$f":"Table1[[#This Row],[QTY]]*Table1[[#This Row],[School & Library Price]]","v":0}]
[null,null,null,"The Mysteries of Space","Antimatter Explained",1,"Library Bound Book","978-1-9785-0453-0",{"$f":"HYPERLINK(Table1[[#This Row],[Hyperlink]],\"Weblink\")","v":"Weblink"},"Enslow Publishing","2019","January 2019","6.500 X 9.125","Author","Richard Gaughan",null,null,null,null,"Z",null,"Grade 7","Grade 7 - 12","According to many science fiction books and movies, antimatter is dangerous stuff, stuff that would blow up if it comes into contact with normal matter. Antimatter and normal matter will annihilate one another in a burst of energy, and if that burst could be captured, antimatter would provide vast amounts of power. Enhanced by detailed diagrams and illuminating sidebars, this engaging text uses comprehensible analogies to everyday experiences to introduce the forms of matter in our universe, the forms of antimatter, and how an understanding of antimatter can provide insight into the very structure of the universe.","English",37.26,27.95,"530.4--dc23","80 pp.","https://www.enslow.com/books/Antimatter_Explained/4752",{"$f":"Table1[[#This Row],[QTY]]*Table1[[#This Row],['# of Books]]","v":0},{"$f":"Table1[[#This Row],[QTY]]*Table1[[#This Row],[School & Library Price]]","v":0}]
[null,null,null,"The Mysteries of Space","Antimatter Explained",1,"eBook","978-1-9785-0436-3",{"$f":"HYPERLINK(Table1[[#This Row],[Hyperlink]],\"Weblink\")","v":"Weblink"},"Enslow Publishing","2019","January 2019",null,"Author","Richard Gaughan",null,null,null,null,"Z",null,"Grade 7","Grade 7 - 12","According to many science fiction books and movies, antimatter is dangerous stuff, stuff that would blow up if it comes into contact with normal matter. Antimatter and normal matter will annihilate one another in a burst of energy, and if that burst could be captured, antimatter would provide vast amounts of power. Enhanced by detailed diagrams and illuminating sidebars, this engaging text uses comprehensible analogies to everyday experiences to introduce the forms of matter in our universe, the forms of antimatter, and how an understanding of antimatter can provide insight into the very structure of the universe.","English",37.26,27.95,"530.4--dc23","80 pp.","https://www.enslow.com/books/Antimatter_Explained/4752",{"$f":"Table1[[#This Row],[QTY]]*Table1[[#This Row],['# of Books]]","v":0},{"$f":"Table1[[#This Row],[QTY]]*Table1[[#This Row],[School & Library Price]]","v":0}]
[null,null,null,"The Mysteries of Space","Dark Matter Explained",1,"Library Bound Book","978-1-9785-0455-4",{"$f":"HYPERLINK(Table1[[#This Row],[Hyperlink]],\"Weblink\")","v":"Weblink"},"Enslow Publishing","2019","January 2019","6.500 X 9.125","Author","Kristi Lew",null,null,null,null,"Z",null,"Grade 7","Grade 7 - 12","Scientists believe that the universe is mostly made up of dark matter, a mysterious substance that is different from the ordinary matter people can touch, smell, see, and interact with. Dark matter cannot be directly observed, but it can be studied by examining its effect on ordinary matter. Simplified explanations of complex scientific concepts and fascinating images will help students understand how physicists employ Kepler's laws of planetary motion, gravitational lensing, particle colliders, and other theories and tools to learn about dark matter. Informative sidebars explore related timely topics in depth, while a Further Reading section provides several resources for additional study.","English",37.26,27.95,"523.1/126--dc23","80 pp.","https://www.enslow.com/books/Dark_Matter_Explained/4754",{"$f":"Table1[[#This Row],[QTY]]*Table1[[#This Row],['# of Books]]","v":0},{"$f":"Table1[[#This Row],[QTY]]*Table1[[#This Row],[School & Library Price]]","v":0}]
[null,null,null,"The Mysteries of Space","Dark Matter Explained",1,"eBook","978-1-9785-0438-7",{"$f":"HYPERLINK(Table1[[#This Row],[Hyperlink]],\"Weblink\")","v":"Weblink"},"Enslow Publishing","2019","January 2019",null,"Author","Kristi Lew",null,null,null,null,"Z",null,"Grade 7","Grade 7 - 12","Scientists believe that the universe is mostly made up of dark matter, a mysterious substance that is different from the ordinary matter people can touch, smell, see, and interact with. Dark matter cannot be directly observed, but it can be studied by examining its effect on ordinary matter. Simplified explanations of complex scientific concepts and fascinating images will help students understand how physicists employ Kepler's laws of planetary motion, gravitational lensing, particle colliders, and other theories and tools to learn about dark matter. Informative sidebars explore related timely topics in depth, while a Further Reading section provides several resources for additional study.","English",37.26,27.95,"523.1/126--dc23","80 pp.","https://www.enslow.com/books/Dark_Matter_Explained/4754",{"$f":"Table1[[#This Row],[QTY]]*Table1[[#This Row],['# of Books]]","v":0},{"$f":"Table1[[#This Row],[QTY]]*Table1[[#This Row],[School & Library Price]]","v":0}]
[null,null,null,"The Mysteries of Space","Parallel Universes Explained",1,"Library Bound Book","978-1-9785-0457-8",{"$f":"HYPERLINK(Table1[[#This Row],[Hyperlink]],\"Weblink\")","v":"Weblink"},"Enslow Publishing","2019","January 2019","6.500 X 9.125","Author","Ryan Jeffrey Farber",null,null,null,null,"Z",null,"Grade 7","Grade 7 - 12","Since the time of Einstein, ideas of parallel universes have grown from far-out concepts to mature scientific theories. Using everyday analogies and do-it-yourself models to simplify intimidating concepts, students will learn about the most fascinating topics in modern cosmology, such as the big bang theory, inflation, wormholes, and higher dimensions. Student learning is enhanced by illuminating diagrams and informative sidebars that explore related timely topics in depth. This book supports the Next Generation Science Standards' emphasis on evidence-based theories by discussing past observations and future tests of each parallel universe theory.","English",37.26,27.95,"523.1--dc23","80 pp.","https://www.enslow.com/books/Parallel_Universes_Explained/4756",{"$f":"Table1[[#This Row],[QTY]]*Table1[[#This Row],['# of Books]]","v":0},{"$f":"Table1[[#This Row],[QTY]]*Table1[[#This Row],[School & Library Price]]","v":0}]
[null,null,null,"The Mysteries of Space","Parallel Universes Explained",1,"eBook","978-1-9785-0440-0",{"$f":"HYPERLINK(Table1[[#This Row],[Hyperlink]],\"Weblink\")","v":"Weblink"},"Enslow Publishing","2019","January 2019",null,"Author","Ryan Jeffrey Farber",null,null,null,null,"Z",null,"Grade 7","Grade 7 - 12","Since the time of Einstein, ideas of parallel universes have grown from far-out concepts to mature scientific theories. Using everyday analogies and do-it-yourself models to simplify intimidating concepts, students will learn about the most fascinating topics in modern cosmology, such as the big bang theory, inflation, wormholes, and higher dimensions. Student learning is enhanced by illuminating diagrams and informative sidebars that explore related timely topics in depth. This book supports the Next Generation Science Standards' emphasis on evidence-based theories by discussing past observations and future tests of each parallel universe theory.","English",37.26,27.95,"523.1--dc23","80 pp.","https://www.enslow.com/books/Parallel_Universes_Explained/4756",{"$f":"Table1[[#This Row],[QTY]]*Table1[[#This Row],['# of Books]]","v":0},{"$f":"Table1[[#This Row],[QTY]]*Table1[[#This Row],[School & Library Price]]","v":0}]
[null,null,null,"The Mysteries of Space","Black Holes Explained",1,"Library Bound Book","978-0-7660-9962-3",{"$f":"HYPERLINK(Table1[[#This Row],[Hyperlink]],\"Weblink\")","v":"Weblink"},"Enslow Publishing","2019","August 2018","6.500 X 9.125","Author","James Negus",null,null,null,null,"Z",null,"Grade 7","Grade 7 - 12","On December 26, 2015, the Laser Interferometer Gravitational-Wave Observatory (LIGO) detected gravitational waves generated from merging black holes for the first time in human history. Through an engaging, easily accessible approach, the origins, dynamics, and ultimate fate of black holes are thoroughly unraveled so that students without a scientific background can grasp complex physics theories. This book supports the Next Generation Science Standards' emphasis on scientific collection and analysis of data and evidence-based theories by discussing the methods research universities and space agencies use to explore black holes.","English",37.26,27.95,"523.8/875--dc23","80 pp.","https://www.enslow.com/books/Black_Holes_Explained/421906",{"$f":"Table1[[#This Row],[QTY]]*Table1[[#This Row],['# of Books]]","v":0},{"$f":"Table1[[#This Row],[QTY]]*Table1[[#This Row],[School & Library Price]]","v":0}]
[null,null,null,"The Mysteries of Space","Black Holes Explained",1,"eBook","978-0-7660-9964-7",{"$f":"HYPERLINK(Table1[[#This Row],[Hyperlink]],\"Weblink\")","v":"Weblink"},"Enslow Publishing","2019","August 2018",null,"Author","James Negus",null,null,null,null,"Z",null,"Grade 7","Grade 7 - 12","On December 26, 2015, the Laser Interferometer Gravitational-Wave Observatory (LIGO) detected gravitational waves generated from merging black holes for the first time in human history. Through an engaging, easily accessible approach, the origins, dynamics, and ultimate fate of black holes are thoroughly unraveled so that students without a scientific background can grasp complex physics theories. This book supports the Next Generation Science Standards' emphasis on scientific collection and analysis of data and evidence-based theories by discussing the methods research universities and space agencies use to explore black holes.","English",37.26,27.95,"523.8/875--dc23","80 pp.","https://www.enslow.com/books/Black_Holes_Explained/421906",{"$f":"Table1[[#This Row],[QTY]]*Table1[[#This Row],['# of Books]]","v":0},{"$f":"Table1[[#This Row],[QTY]]*Table1[[#This Row],[School & Library Price]]","v":0}]
[null,null,null,"The Mysteries of Space","Cosmic Inflation Explained",1,"eBook","978-0-7660-9955-5",{"$f":"HYPERLINK(Table1[[#This Row],[Hyperlink]],\"Weblink\")","v":"Weblink"},"Enslow Publishing","2019","August 2018",null,"Author","Kelly Blumenthal",null,null,null,null,"Z",null,"Grade 7","Grade 7 - 12","Cosmic inflation is the theory that the early universe went through fast, exponential expansion for a fraction of a second after the Big Bang and then slowed down to the current rate of expansion. Simplified explanations of complex scientific concepts such as dark energy, dark matter, and the cosmic microwave background and dynamic images will help students comprehend how the study of cosmic inflation has reshaped our understanding of how the universe was born, evolved, and might be in the future. This book correlates with the Next Generation Science Standards' emphasis on scientific collection and analysis of data and evidence-based theories. Informative sidebars explore related timely topics in depth, while a Further Reading section provides several resources for additional study.","English",37.26,27.95,"523.1/8--dc23","80 pp.","https://www.enslow.com/books/Cosmic_Inflation_Explained/421903",{"$f":"Table1[[#This Row],[QTY]]*Table1[[#This Row],['# of Books]]","v":0},{"$f":"Table1[[#This Row],[QTY]]*Table1[[#This Row],[School & Library Price]]","v":0}]
[null,null,null,"The Mysteries of Space","Gravity Explained",1,"Library Bound Book","978-0-7660-9950-0",{"$f":"HYPERLINK(Table1[[#This Row],[Hyperlink]],\"Weblink\")","v":"Weblink"},"Enslow Publishing","2019","August 2018","6.500 X 9.125","Author","Alexander Tolish",null,null,null,null,"Z",null,"Grade 7","Grade 7 - 12","Gravity causes an apple to fall to the ground and keeps the moon in orbit around Earth, but it can also trap light for infinity in a dying star and ripple across the cosmos carrying the news of a massive collision between two distant black holes. With accessible language and breathtaking NASA images, students will explore the theory of gravity, from Newton's law of universal gravitation to Einstein's general relativity and beyond. This book supports the Next Generation Science Standards' emphasis on scientific collection and analysis of data and evidence-based theories by discussing the theoretical models scientists devise to describe gravity and the real-world experiments they use to test them.","English",37.26,27.95,"531/.14--dc23","80 pp.","https://www.enslow.com/books/Gravity_Explained/421902",{"$f":"Table1[[#This Row],[QTY]]*Table1[[#This Row],['# of Books]]","v":0},{"$f":"Table1[[#This Row],[QTY]]*Table1[[#This Row],[School & Library Price]]","v":0}]
[null,null,null,"The Mysteries of Space","The Big Bang Explained",1,"eBook","978-0-7660-9958-6",{"$f":"HYPERLINK(Table1[[#This Row],[Hyperlink]],\"Weblink\")","v":"Weblink"},"Enslow Publishing","2019","August 2018",null,"Author","Megan Ansdell",null,null,null,null,"Z",null,"Grade 7","Grade 7 - 12","The Big Bang theory describes the very beginnings of the universe, when it was infinitesimally small and infinitely dense, and follows its rapid expansion and evolution, from the formation of nuclei within the first few minutes to the creation of the first galaxies a billion years later. The Big Bang theory is a cornerstone of modern cosmology, and although astronomers cannot directly observe the birth of the universe, the theory is widely accepted because it makes concrete predictions of the current observable universe, which have been tested repeatedly with striking success. Supporting the Next Generation Science Standards' emphasis on scientific collection and analysis of data and evidence-based theories, this book will help students understand the observational evidence supporting the Big Bang theory and speculate on the ultimate fate of the universe it implies.","English",37.26,27.95,"523.1/8--dc23","80 pp.","https://www.enslow.com/books/The_Big_Bang_Explained/421904",{"$f":"Table1[[#This Row],[QTY]]*Table1[[#This Row],['# of Books]]","v":0},{"$f":"Table1[[#This Row],[QTY]]*Table1[[#This Row],[School & Library Price]]","v":0}]
[null,null,null,"The Mysteries of Space","The Higgs Mechanism Explained",1,"Library Bound Book","978-0-7660-9959-3",{"$f":"HYPERLINK(Table1[[#This Row],[Hyperlink]],\"Weblink\")","v":"Weblink"},"Enslow Publishing","2019","August 2018","6.500 X 9.125","Author","Jaryd Ulbricht",null,null,null,null,"Z",null,"Grade 7","Grade 7 - 12","The Standard Model explains how the universe works at distances a billion times smaller than the size of an atom. However, in the Standard Model, none of the particles have mass, yet one only has to look around to see that things do have mass. Explaining the source of mass has been the goal of particle physicists for over half a century, culminating in the discovery of the Higgs boson at the Large Hadron Collider in 2012. Supporting the Next Generation Science Standards' emphasis on scientific collection and analysis of data and evidence-based theories, this book simplifies the difficult concept of the Higgs mechanism through analogies to everyday experiences as well as pictures, diagrams, and intuitive explanations.","English",37.26,27.95,"539.7/21--dc23","80 pp.","https://www.enslow.com/books/The_Higgs_Mechanism_Explained/421905",{"$f":"Table1[[#This Row],[QTY]]*Table1[[#This Row],['# of Books]]","v":0},{"$f":"Table1[[#This Row],[QTY]]*Table1[[#This Row],[School & Library Price]]","v":0}]
[null,null,null,"The Mysteries of Space","Wormholes Explained",1,"eBook","978-0-7660-9967-8",{"$f":"HYPERLINK(Table1[[#This Row],[Hyperlink]],\"Weblink\")","v":"Weblink"},"Enslow Publishing","2019","August 2018",null,"Author","Richard Gaughan",null,null,null,null,"Z",null,"Grade 7","Grade 7 - 12","A wormhole is a tube-like distortion of time and space connecting distant places in the universe. Wormholes have been featured in many movies, but can they really exist? Wormholes are a prediction of scientific theories, and the precision of mathematics allows them to be described, even before they have ever been seen. Untangling complex physics theories with accessible language and captivating imagery, this book explores the development and evaluation of scientific theories behind wormholes. Supporting the Next Generation Science Standards' emphasis on scientific collection and analysis of data and evidence-based theories, this book will help students grasp the importance of mathematical models of reality, laying the groundwork for a deeper understanding of the nature of science.","English",37.26,27.95,"523.1--dc23","80 pp.","https://www.enslow.com/books/Wormholes_Explained/421907",{"$f":"Table1[[#This Row],[QTY]]*Table1[[#This Row],['# of Books]]","v":0},{"$f":"Table1[[#This Row],[QTY]]*Table1[[#This Row],[School & Library Price]]","v":0}]
[null,null,null,"Critical Thinking About Digital Media","Critical Thinking About Digital Media",6,"Library Set","978-1-9785-0577-3",{"$f":"HYPERLINK(Table1[[#This Row],[Hyperlink]],\"Weblink\")","v":"Weblink"},"Enslow Publishing","2019","January 2019","6.500 X 9.125",null,null,null,null,null,null,null,null,"Grade 7","Grade 7 - 12","In recent years, our consumption of media has changed in ways we could never have anticipated. Just as CNN's 24-hour news cycle showed us that news didn't have to sleep, independent bloggers and the popularity of social media proved that media also didn't have to be newspaper- or television-bound. The internet allows us all to take part in a public dialogue, for better or worse. In this thoughtful and entertaining series, students will explore the good, the bad, and the ugly of the new media wave: from the fake news that tipped the 2016 U.S. election to fun memes that brighten our days; from weaponized social media hashtags like #HasJustineLandedYet to the blessings and curses of living in a culture where any post, tweet, video, or message can go viral in the blink of an eye. Features include: Extremely high-interest and relevant topic as the online space, Facebook, Twitter, Tumblr, Instagram, and Reddit is where many students spend a significant amount of time and find information. Directly correlates with state journalism standards about developing media literacy. Supports the C3 Framework for Social Studies' emphasis on being critical about the accuracy of sources.","English",215.58,161.69999999999999,null,"80 pp.","https://www.enslow.com/series/Critical_Thinking_About_Digital_Media/535",{"$f":"Table1[[#This Row],[QTY]]*Table1[[#This Row],['# of Books]]","v":0},{"$f":"Table1[[#This Row],[QTY]]*Table1[[#This Row],[School & Library Price]]","v":0}]
[null,null,null,"Critical Thinking About Digital Media","Fake News and the Factories That Make It",1,"Library Bound Book","978-1-9785-0472-1",{"$f":"HYPERLINK(Table1[[#This Row],[Hyperlink]],\"Weblink\")","v":"Weblink"},"Enslow Publishing","2019","January 2019","6.500 X 9.125","Author","Kristina Lyn Heitkamp",null,null,null,null,"Z",null,"Grade 7","Grade 7 - 12","Once on the fringe, fake news has become mainstream. From bogus social media accounts to Russian troll factories, phony news muddies the social and political discourse, and is a threat to our democracy. This high-interest book defines fake news and reveals the people behind the spread of disinformation. This text directly correlates with state journalism standards about developing media literacy. Readers will also glimpse the future of fake news and the alarming technologies used to make it, such as face-morphing technology. This book will help readers navigate the messy world of fake news.","English",35.93,26.95,"070.4/3--dc23","80 pp.","https://www.enslow.com/books/Fake_News_and_the_Factories_That_Make_It/4765",{"$f":"Table1[[#This Row],[QTY]]*Table1[[#This Row],['# of Books]]","v":0},{"$f":"Table1[[#This Row],[QTY]]*Table1[[#This Row],[School & Library Price]]","v":0}]
[null,null,null,"Critical Thinking About Digital Media","Fake News and the Factories That Make It",1,"eBook","978-1-9785-0459-2",{"$f":"HYPERLINK(Table1[[#This Row],[Hyperlink]],\"Weblink\")","v":"Weblink"},"Enslow Publishing","2019","January 2019",null,"Author","Kristina Lyn Heitkamp",null,null,null,null,"Z",null,"Grade 7","Grade 7 - 12","Once on the fringe, fake news has become mainstream. From bogus social media accounts to Russian troll factories, phony news muddies the social and political discourse, and is a threat to our democracy. This high-interest book defines fake news and reveals the people behind the spread of disinformation. This text directly correlates with state journalism standards about developing media literacy. Readers will also glimpse the future of fake news and the alarming technologies used to make it, such as face-morphing technology. This book will help readers navigate the messy world of fake news.","English",35.93,26.95,"070.4/3--dc23","80 pp.","https://www.enslow.com/books/Fake_News_and_the_Factories_That_Make_It/4765",{"$f":"Table1[[#This Row],[QTY]]*Table1[[#This Row],['# of Books]]","v":0},{"$f":"Table1[[#This Row],[QTY]]*Table1[[#This Row],[School & Library Price]]","v":0}]
[null,null,null,"Critical Thinking About Digital Media","Understanding Memes and Internet Satire",1,"Library Bound Book","978-1-9785-0474-5",{"$f":"HYPERLINK(Table1[[#This Row],[Hyperlink]],\"Weblink\")","v":"Weblink"},"Enslow Publishing","2019","January 2019","6.500 X 9.125","Author","Jeff Mapua",null,null,null,null,"Z",null,"Grade 7","Grade 7 - 12","Memes and Internet satire are everywhere online. They come and go so quickly, it's hard to understand what they even mean. Readers take a closer look at this modern phenomenon in a thoughtful and accessible way. They will explore the early days of memes including where the name comes from and how they spread throughout the web. This book investigates the world of Internet satire including the rise of fake news and the trouble humor can cause when they go too far. A helpful glossary and resources to further readers' learning are provided inside.","English",35.93,26.95,"302.231--dc23","80 pp.","https://www.enslow.com/books/Understanding_Memes_and_Internet_Satire/4767",{"$f":"Table1[[#This Row],[QTY]]*Table1[[#This Row],['# of Books]]","v":0},{"$f":"Table1[[#This Row],[QTY]]*Table1[[#This Row],[School & Library Price]]","v":0}]
[null,null,null,"Critical Thinking About Digital Media","Understanding Memes and Internet Satire",1,"eBook","978-1-9785-0461-5",{"$f":"HYPERLINK(Table1[[#This Row],[Hyperlink]],\"Weblink\")","v":"Weblink"},"Enslow Publishing","2019","January 2019",null,"Author","Jeff Mapua",null,null,null,null,"Z",null,"Grade 7","Grade 7 - 12","Memes and Internet satire are everywhere online. They come and go so quickly, it's hard to understand what they even mean. Readers take a closer look at this modern phenomenon in a thoughtful and accessible way. They will explore the early days of memes including where the name comes from and how they spread throughout the web. This book investigates the world of Internet satire including the rise of fake news and the trouble humor can cause when they go too far. A helpful glossary and resources to further readers' learning are provided inside.","English",35.93,26.95,"302.231--dc23","80 pp.","https://www.enslow.com/books/Understanding_Memes_and_Internet_Satire/4767",{"$f":"Table1[[#This Row],[QTY]]*Table1[[#This Row],['# of Books]]","v":0},{"$f":"Table1[[#This Row],[QTY]]*Table1[[#This Row],[School & Library Price]]","v":0}]
[null,null,null,"Critical Thinking About Digital Media","Weaponized Social Media",1,"eBook","978-1-9785-0462-2",{"$f":"HYPERLINK(Table1[[#This Row],[Hyperlink]],\"Weblink\")","v":"Weblink"},"Enslow Publishing","2019","January 2019",null,"Author","Sherri M. Gordon",null,null,null,null,"Z",null,"Grade 7","Grade 7 - 12","Originally conceived as a way for people to stay connected, share photographs and post information, social media has evolved. Today, it is much more than a fun communication tool, it can become a destructive weapon when exploited by the wrong people. Readers will discover how social media is used as a weapon and what they can do to protect themselves. From Russian bots and fake news to cyberbullying and online shaming, readers will discover who is weaponizing social media and why. They also will uncover useful information about the benefits of social media and how they can use it in beneficial ways. This book also includes a glossary of useful terms and a list of helpful references for further exploration.","English",35.93,26.95,"302.23/1--dc23","80 pp.","https://www.enslow.com/books/Weaponized_Social_Media/4768",{"$f":"Table1[[#This Row],[QTY]]*Table1[[#This Row],['# of Books]]","v":0},{"$f":"Table1[[#This Row],[QTY]]*Table1[[#This Row],[School & Library Price]]","v":0}]
[null,null,null,"Critical Thinking About Digital Media","When Content Goes Viral",1,"Library Bound Book","978-1-9785-0476-9",{"$f":"HYPERLINK(Table1[[#This Row],[Hyperlink]],\"Weblink\")","v":"Weblink"},"Enslow Publishing","2019","January 2019","6.500 X 9.125","Author","Brian White",null,null,null,null,"Z",null,"Grade 7","Grade 7 - 12","\"Going viral.\" It's a phrase that you hear thrown around whenever something is blowing up on the Internet, but what does it really mean? How does something or someone go from a random post on social media to a household name? What does it mean for the person who posted it? There's the dark side, too: hoaxes, illegal content, and Russian trolls. Readers take a deep dive into the world where fame isn't measured in minutes, but in clicks. This book gives readers the tools to sort the real from the fake, as well as resources to explore.","English",35.93,26.95,"302.30285--dc23","80 pp.","https://www.enslow.com/books/When_Content_Goes_Viral/4769",{"$f":"Table1[[#This Row],[QTY]]*Table1[[#This Row],['# of Books]]","v":0},{"$f":"Table1[[#This Row],[QTY]]*Table1[[#This Row],[School & Library Price]]","v":0}]
[null,null,null,"Racial Literacy","Examining Assimilation",1,"Library Bound Book","978-1-9785-0469-1",{"$f":"HYPERLINK(Table1[[#This Row],[Hyperlink]],\"Weblink\")","v":"Weblink"},"Enslow Publishing","2019","January 2019","6.500 X 9.125","Author","Emilly Prado",null,null,null,null,"Z",null,"Grade 7","Grade 7 - 12","Did you know that the United States has the highest immigrant population in the world? You may have heard the phrase, \"We are a nation built by immigrants,\" but that saying doesn't tell the full story. Students will examine this popular phrase by retracing the immigrant journey within the United States and investigating the concept of cultural assimilation. What does it mean to be American? As the United States continues to grow and change, students can become better-informed citizens by looking at the immigrant experience and understanding the roots of American identities.","English",35.93,26.95,"305.800973--dc23","80 pp.","https://www.enslow.com/books/Examining_Assimilation/4762",{"$f":"Table1[[#This Row],[QTY]]*Table1[[#This Row],['# of Books]]","v":0},{"$f":"Table1[[#This Row],[QTY]]*Table1[[#This Row],[School & Library Price]]","v":0}]
[null,null,null,"Racial Literacy","Examining Assimilation",1,"eBook","978-1-9785-0446-2",{"$f":"HYPERLINK(Table1[[#This Row],[Hyperlink]],\"Weblink\")","v":"Weblink"},"Enslow Publishing","2019","January 2019",null,"Author","Emilly Prado",null,null,null,null,"Z",null,"Grade 7","Grade 7 - 12","Did you know that the United States has the highest immigrant population in the world? You may have heard the phrase, \"We are a nation built by immigrants,\" but that saying doesn't tell the full story. Students will examine this popular phrase by retracing the immigrant journey within the United States and investigating the concept of cultural assimilation. What does it mean to be American? As the United States continues to grow and change, students can become better-informed citizens by looking at the immigrant experience and understanding the roots of American identities.","English",35.93,26.95,"305.800973--dc23","80 pp.","https://www.enslow.com/books/Examining_Assimilation/4762",{"$f":"Table1[[#This Row],[QTY]]*Table1[[#This Row],['# of Books]]","v":0},{"$f":"Table1[[#This Row],[QTY]]*Table1[[#This Row],[School & Library Price]]","v":0}]
[null,null,null,"Racial Literacy","Looking at Privilege and Power",1,"Library Bound Book","978-1-9785-0467-7",{"$f":"HYPERLINK(Table1[[#This Row],[Hyperlink]],\"Weblink\")","v":"Weblink"},"Enslow Publishing","2019","January 2019","6.500 X 9.125","Author","Kelly Glass",null,null,null,null,"Z",null,"Grade 7","Grade 7 - 12","\"Check your privilege\" is a much-used phrase that's often met with defensiveness and even denial. Admitting to benefitting from the oppression of others is a painful truth. In this book, readers uncover truths about privilege and power that can help lead the productive conversations that are necessary to social justice education and beginning the work of accepting responsibility.","English",35.93,26.95,"303.3/72--dc23","80 pp.","https://www.enslow.com/books/Looking_at_Privilege_and_Power/4760",{"$f":"Table1[[#This Row],[QTY]]*Table1[[#This Row],['# of Books]]","v":0},{"$f":"Table1[[#This Row],[QTY]]*Table1[[#This Row],[School & Library Price]]","v":0}]
[null,null,null,"Racial Literacy","Looking at Privilege and Power",1,"eBook","978-1-9785-0444-8",{"$f":"HYPERLINK(Table1[[#This Row],[Hyperlink]],\"Weblink\")","v":"Weblink"},"Enslow Publishing","2019","January 2019",null,"Author","Kelly Glass",null,null,null,null,"Z",null,"Grade 7","Grade 7 - 12","\"Check your privilege\" is a much-used phrase that's often met with defensiveness and even denial. Admitting to benefitting from the oppression of others is a painful truth. In this book, readers uncover truths about privilege and power that can help lead the productive conversations that are necessary to social justice education and beginning the work of accepting responsibility.","English",35.93,26.95,"303.3/72--dc23","80 pp.","https://www.enslow.com/books/Looking_at_Privilege_and_Power/4760",{"$f":"Table1[[#This Row],[QTY]]*Table1[[#This Row],['# of Books]]","v":0},{"$f":"Table1[[#This Row],[QTY]]*Table1[[#This Row],[School & Library Price]]","v":0}]
[null,null,null,"Racial Literacy","Questioning Cultural Appropriation",1,"Library Bound Book","978-1-9785-0468-4",{"$f":"HYPERLINK(Table1[[#This Row],[Hyperlink]],\"Weblink\")","v":"Weblink"},"Enslow Publishing","2019","January 2019","6.500 X 9.125","Author","Jonita Davis",null,null,null,null,"Z",null,"Grade 7","Grade 7 - 12","We live in a country where you can have Thai take-out ordered in while you lay warm under your Navajo-style blanket watching Bollywood musicals on Netflix. We are surrounded by other cultures that we also have a duty to protect. This volume is all about defining that responsibility and giving readers the tools to fulfill it. We must all learn to questions this cultural crime before it wipes out and whitewashes all of our differences away.","English",35.93,26.95,"155.2/4--dc23","80 pp.","https://www.enslow.com/books/Questioning_Cultural_Appropriation/4761",{"$f":"Table1[[#This Row],[QTY]]*Table1[[#This Row],['# of Books]]","v":0},{"$f":"Table1[[#This Row],[QTY]]*Table1[[#This Row],[School & Library Price]]","v":0}]
[null,null,null,"Racial Literacy","Questioning Cultural Appropriation",1,"eBook","978-1-9785-0445-5",{"$f":"HYPERLINK(Table1[[#This Row],[Hyperlink]],\"Weblink\")","v":"Weblink"},"Enslow Publishing","2019","January 2019",null,"Author","Jonita Davis",null,null,null,null,"Z",null,"Grade 7","Grade 7 - 12","We live in a country where you can have Thai take-out ordered in while you lay warm under your Navajo-style blanket watching Bollywood musicals on Netflix. We are surrounded by other cultures that we also have a duty to protect. This volume is all about defining that responsibility and giving readers the tools to fulfill it. We must all learn to questions this cultural crime before it wipes out and whitewashes all of our differences away.","English",35.93,26.95,"155.2/4--dc23","80 pp.","https://www.enslow.com/books/Questioning_Cultural_Appropriation/4761",{"$f":"Table1[[#This Row],[QTY]]*Table1[[#This Row],['# of Books]]","v":0},{"$f":"Table1[[#This Row],[QTY]]*Table1[[#This Row],[School & Library Price]]","v":0}]
[null,null,null,"Sports Star Champions","Sports Star Champions: Sets 1 – 2",11,"Library Set","978-0-7660-8599-2",{"$f":"HYPERLINK(Table1[[#This Row],[Hyperlink]],\"Weblink\")","v":"Weblink"},"Enslow Publishing","2018","August 2017","7.250 X 9.250",null,null,null,null,null,null,null,null,"Grade 5 - 6","Grade 6 - 8","Great for sports fanatics and reluctant readers, this exciting series takes an entertaining, action-packed look at today’s biggest professional athletes from a wide array of sports. Written in a lively, descriptive style full of fascinating details, each title covers the life of one sports champion, including his or her childhood, education, rise to fame, and defining moment in his or her sport. With vivid, full-color photographs and career statistics, this series will intrigue readers by focusing on their favorite professional athletes.","English",307.23,230.45,null,"48 pp.","https://www.enslow.com/series/Sports_Star_Champions/379",{"$f":"Table1[[#This Row],[QTY]]*Table1[[#This Row],['# of Books]]","v":0},{"$f":"Table1[[#This Row],[QTY]]*Table1[[#This Row],[School & Library Price]]","v":0}]
[null,null,null,"Sports Star Champions","Aaron Rodgers: Champion Football Star",1,"Library Bound Book","978-0-7660-8716-3",{"$f":"HYPERLINK(Table1[[#This Row],[Hyperlink]],\"Weblink\")","v":"Weblink"},"Enslow Publishing","2018","August 2017","7.250 X 9.250","Author","David Aretha",null,null,null,null,"U","960L","Grade 5 - 6","Grade 6 - 8","Kids know Aaron Rodgers as one of the NFL’s best quarterbacks. He has won two NFL MVP Awards and led the Green Bay Packers to a Super Bowl title. He has orchestrated several “miracle” finishes, and he’s the highest-rated passer in NFL history. In this book, kids will get to know Rodgers on a personal level. They’ll see how he rose from a little-known QB at Butte Community College to a passing machine in Green Bay. Off the field, Rodgers impresses with his compassion, intelligence, and side-splitting humor. Engaging text—peppered with quotes—and high-impact photos accentuate the experience.","English",27.93,20.95,"796.332092--dc23","48 pp.","https://www.enslow.com/books/Aaron_Rodgers/412767",{"$f":"Table1[[#This Row],[QTY]]*Table1[[#This Row],['# of Books]]","v":0},{"$f":"Table1[[#This Row],[QTY]]*Table1[[#This Row],[School & Library Price]]","v":0}]
[null,null,null,"Sports Star Champions","Cristiano Ronaldo: Champion Soccer Star",1,"Library Bound Book","978-0-7660-8688-3",{"$f":"HYPERLINK(Table1[[#This Row],[Hyperlink]],\"Weblink\")","v":"Weblink"},"Enslow Publishing","2018","August 2017","7.250 X 9.250","Author","John A. Torres",null,null,null,null,"Z","1010L","Grade 5 - 6","Grade 6 - 8","Even though he was born with an otherworldly athletic gift, Cristiano Ronaldo's early life was anything but easy. A poor kid from Portugal, he was expelled from school at age fourteen and then diagnosed with an abnormal heart condition. Through hard work and an intense desire to succeed, he soon blossomed into one of the greatest soccer players in the world. When he transferred to Real Madrid for a record-breaking salary, Ronaldo transformed himself into a worldwide celebrity, reinventing the ideal of an international sports icon. Sports fans will be inspired by this soccer superstar's rags-to-riches story.","English",27.93,20.95,"796.334092--dc23","48 pp.","https://www.enslow.com/books/Cristiano_Ronaldo/412768",{"$f":"Table1[[#This Row],[QTY]]*Table1[[#This Row],['# of Books]]","v":0},{"$f":"Table1[[#This Row],[QTY]]*Table1[[#This Row],[School & Library Price]]","v":0}]
[null,null,null,"Sports Star Champions","Cristiano Ronaldo: Champion Soccer Star",1,"eBook","978-0-7660-8689-0",{"$f":"HYPERLINK(Table1[[#This Row],[Hyperlink]],\"Weblink\")","v":"Weblink"},"Enslow Publishing","2018","August 2017",null,"Author","John A. Torres",null,null,null,null,"Z","1010L","Grade 5 - 6","Grade 6 - 8","Even though he was born with an otherworldly athletic gift, Cristiano Ronaldo's early life was anything but easy. A poor kid from Portugal, he was expelled from school at age fourteen and then diagnosed with an abnormal heart condition. Through hard work and an intense desire to succeed, he soon blossomed into one of the greatest soccer players in the world. When he transferred to Real Madrid for a record-breaking salary, Ronaldo transformed himself into a worldwide celebrity, reinventing the ideal of an international sports icon. Sports fans will be inspired by this soccer superstar's rags-to-riches story.","English",27.93,20.95,"796.334092--dc23","48 pp.","https://www.enslow.com/books/Cristiano_Ronaldo/412768",{"$f":"Table1[[#This Row],[QTY]]*Table1[[#This Row],['# of Books]]","v":0},{"$f":"Table1[[#This Row],[QTY]]*Table1[[#This Row],[School & Library Price]]","v":0}]
[null,null,null,"Sports Star Champions","José Altuve: Champion Baseball Star",1,"Library Bound Book","978-0-7660-8690-6",{"$f":"HYPERLINK(Table1[[#This Row],[Hyperlink]],\"Weblink\")","v":"Weblink"},"Enslow Publishing","2018","August 2017","7.250 X 9.250","Author","David Aretha",null,null,null,null,"V","980L","Grade 5 - 6","Grade 6 - 8","As a sixteen-year-old in Venezuela, José Altuve attended a tryout camp with the Houston Astros. The Astros rejected him because he was too short, but that didn’t break his spirit. He attended the tryout a year later and earned a minor-league contract with Houston. Just five-foot-five, Altuve has become a baseball phenomenon. He has played in four MLB All-Star Games and led the American League in hits, stolen bases, and batting average. In 2016, he even belted more than twenty home runs. Learn how Altuve overcame the odds in his first-ever biography. Full-color photographs and plenty of vibrant quotes bring his story into sharp focus.","English",27.93,20.95,"796.357092--dc23","48 pp.","https://www.enslow.com/books/Jose_Altuve/412769",{"$f":"Table1[[#This Row],[QTY]]*Table1[[#This Row],['# of Books]]","v":0},{"$f":"Table1[[#This Row],[QTY]]*Table1[[#This Row],[School & Library Price]]","v":0}]
[null,null,null,"Sports Star Champions","José Altuve: Champion Baseball Star",1,"eBook","978-0-7660-8691-3",{"$f":"HYPERLINK(Table1[[#This Row],[Hyperlink]],\"Weblink\")","v":"Weblink"},"Enslow Publishing","2018","August 2017",null,"Author","David Aretha",null,null,null,null,"V","980L","Grade 5 - 6","Grade 6 - 8","As a sixteen-year-old in Venezuela, José Altuve attended a tryout camp with the Houston Astros. The Astros rejected him because he was too short, but that didn’t break his spirit. He attended the tryout a year later and earned a minor-league contract with Houston. Just five-foot-five, Altuve has become a baseball phenomenon. He has played in four MLB All-Star Games and led the American League in hits, stolen bases, and batting average. In 2016, he even belted more than twenty home runs. Learn how Altuve overcame the odds in his first-ever biography. Full-color photographs and plenty of vibrant quotes bring his story into sharp focus.","English",27.93,20.95,"796.357092--dc23","48 pp.","https://www.enslow.com/books/Jose_Altuve/412769",{"$f":"Table1[[#This Row],[QTY]]*Table1[[#This Row],['# of Books]]","v":0},{"$f":"Table1[[#This Row],[QTY]]*Table1[[#This Row],[School & Library Price]]","v":0}]
[null,null,null,"Sports Star Champions","Kevin Garnett: Champion Basketball Star",1,"Library Bound Book","978-0-7660-4028-1",{"$f":"HYPERLINK(Table1[[#This Row],[Hyperlink]],\"Weblink\")","v":"Weblink"},"Enslow Publishing","2013","August 2012","7.500 X 9.000","Author","Stew Thornley","4.3","1",null,null,"N",null,"Grade 5 - 7","Grade 5 - 9","Why is Kevin Garnett called the Big Ticket? He certainly is big, seven feet tall, but his amazing ability and presence on the court truly explains his nickname. For every fan who buys a ticket to see him play, Garnett always delivers a superstar performance. In his spectacular career, Garnett has won MVP trophies and other individual awards, but his NBA championship ring is most important to him. The team has always come first for KG. Author Stew Thornley explores the exciting career of this basketball champion. ","English",27.93,20.95,"796.323092","48 pp.","https://www.enslow.com/books/Kevin_Garnett/3158",{"$f":"Table1[[#This Row],[QTY]]*Table1[[#This Row],['# of Books]]","v":0},{"$f":"Table1[[#This Row],[QTY]]*Table1[[#This Row],[School & Library Price]]","v":0}]
[null,null,null,"Sports Star Champions","Kevin Garnett: Champion Basketball Star",1,"eBook","978-0-7660-4442-5",{"$f":"HYPERLINK(Table1[[#This Row],[Hyperlink]],\"Weblink\")","v":"Weblink"},"Enslow Publishing","2013","August 2012",null,"Author","Stew Thornley","4.3","1",null,null,"N",null,"Grade 5 - 7","Grade 5 - 9","Why is Kevin Garnett called the Big Ticket? He certainly is big, seven feet tall, but his amazing ability and presence on the court truly explains his nickname. For every fan who buys a ticket to see him play, Garnett always delivers a superstar performance. In his spectacular career, Garnett has won MVP trophies and other individual awards, but his NBA championship ring is most important to him. The team has always come first for KG. Author Stew Thornley explores the exciting career of this basketball champion. ","English",27.93,20.95,"796.323092","48 pp.","https://www.enslow.com/books/Kevin_Garnett/3158",{"$f":"Table1[[#This Row],[QTY]]*Table1[[#This Row],['# of Books]]","v":0},{"$f":"Table1[[#This Row],[QTY]]*Table1[[#This Row],[School & Library Price]]","v":0}]
[null,null,null,"Sports Star Champions","Neymar: Champion Soccer Star",1,"Library Bound Book","978-0-7660-8694-4",{"$f":"HYPERLINK(Table1[[#This Row],[Hyperlink]],\"Weblink\")","v":"Weblink"},"Enslow Publishing","2018","August 2017","7.250 X 9.250","Author","John A. Torres",null,null,null,null,"T","1050L","Grade 5 - 6","Grade 6 - 8","Regarded by many to be the next great international soccer player, the young Neymar is already being compared to legends like Lionel Messi and Cristiano Ronaldo. Through easy-to-read text and full-color photos, readers can follow his meteoric rise through the ranks of international soccer, culminating with an Olympic gold medal in the 2016 games. A glossary helps readers learn new vocabulary, while a Further Reading section encourages further exploration.","English",27.93,20.95,"796.334092--dc23","48 pp.","https://www.enslow.com/books/Neymar/412771",{"$f":"Table1[[#This Row],[QTY]]*Table1[[#This Row],['# of Books]]","v":0},{"$f":"Table1[[#This Row],[QTY]]*Table1[[#This Row],[School & Library Price]]","v":0}]
[null,null,null,"Sports Star Champions","Neymar: Champion Soccer Star",1,"eBook","978-0-7660-8695-1",{"$f":"HYPERLINK(Table1[[#This Row],[Hyperlink]],\"Weblink\")","v":"Weblink"},"Enslow Publishing","2018","August 2017",null,"Author","John A. Torres",null,null,null,null,"T","1050L","Grade 5 - 6","Grade 6 - 8","Regarded by many to be the next great international soccer player, the young Neymar is already being compared to legends like Lionel Messi and Cristiano Ronaldo. Through easy-to-read text and full-color photos, readers can follow his meteoric rise through the ranks of international soccer, culminating with an Olympic gold medal in the 2016 games. A glossary helps readers learn new vocabulary, while a Further Reading section encourages further exploration.","English",27.93,20.95,"796.334092--dc23","48 pp.","https://www.enslow.com/books/Neymar/412771",{"$f":"Table1[[#This Row],[QTY]]*Table1[[#This Row],['# of Books]]","v":0},{"$f":"Table1[[#This Row],[QTY]]*Table1[[#This Row],[School & Library Price]]","v":0}]
[null,null,null,"Sports Star Champions","Ronda Rousey: Champion Mixed Martial Arts Star",1,"Library Bound Book","978-0-7660-8696-8",{"$f":"HYPERLINK(Table1[[#This Row],[Hyperlink]],\"Weblink\")","v":"Weblink"},"Enslow Publishing","2018","August 2017","7.250 X 9.250","Author","Ellina Litmanovich",null,null,null,null,"V","930L","Grade 5 - 6","Grade 6 - 8","When Ronda Rousey approached the president of the UFC and told him that one day she would fight for him, he was skeptical. Rousey made a name for herself as the youngest judoka and a force to be reckoned with when she qualified for the 2004 Olympics at the age of seventeen. Through a combination of determination and hard work, Rousey went on to become the first UFC women’s bantamweight champion. With easy-to-follow text and full-color photos, readers will learn about Rousey's life and the challenges she has overcome. Sidebars help readers learn more about the sport. A glossary helps readers master new vocabulary, while Further Reading encourages further exploration.","English",27.93,20.95,"796.8092--dc23","48 pp.","https://www.enslow.com/books/Ronda_Rousey/412772",{"$f":"Table1[[#This Row],[QTY]]*Table1[[#This Row],['# of Books]]","v":0},{"$f":"Table1[[#This Row],[QTY]]*Table1[[#This Row],[School & Library Price]]","v":0}]
[null,null,null,"Sports Star Champions","Ronda Rousey: Champion Mixed Martial Arts Star",1,"eBook","978-0-7660-8697-5",{"$f":"HYPERLINK(Table1[[#This Row],[Hyperlink]],\"Weblink\")","v":"Weblink"},"Enslow Publishing","2018","August 2017",null,"Author","Ellina Litmanovich",null,null,null,null,"V","930L","Grade 5 - 6","Grade 6 - 8","When Ronda Rousey approached the president of the UFC and told him that one day she would fight for him, he was skeptical. Rousey made a name for herself as the youngest judoka and a force to be reckoned with when she qualified for the 2004 Olympics at the age of seventeen. Through a combination of determination and hard work, Rousey went on to become the first UFC women’s bantamweight champion. With easy-to-follow text and full-color photos, readers will learn about Rousey's life and the challenges she has overcome. Sidebars help readers learn more about the sport. A glossary helps readers master new vocabulary, while Further Reading encourages further exploration.","English",27.93,20.95,"796.8092--dc23","48 pp.","https://www.enslow.com/books/Ronda_Rousey/412772",{"$f":"Table1[[#This Row],[QTY]]*Table1[[#This Row],['# of Books]]","v":0},{"$f":"Table1[[#This Row],[QTY]]*Table1[[#This Row],[School & Library Price]]","v":0}]
[null,null,null,"Sports Star Champions","Tim Duncan: Champion Basketball Star",1,"eBook","978-0-7660-4445-6",{"$f":"HYPERLINK(Table1[[#This Row],[Hyperlink]],\"Weblink\")","v":"Weblink"},"Enslow Publishing","2013","August 2012",null,"Author","Stew Thornley","4.9","1",null,null,"N",null,"Grade 5 - 7","Grade 5 - 9","Tim Duncan is a dominant player. He can score against the best opponents with a flurry of strong moves near the basket, or he can step outside and bury his classic bank shot. On defense, he controls the paint. He blocks shots and corrals rebounds. Tim Duncan can do it all on the court. And all he does is win. Since joining the San Antonio Spurs in 1997, Duncan has led the team to four NBA championships and twelve straight fifty-win seasons. Author Stew Thornley explores the spectacular career of this all-time great champion. ","English",27.93,20.95,"796.323092","48 pp.","https://www.enslow.com/books/Tim_Duncan/3161",{"$f":"Table1[[#This Row],[QTY]]*Table1[[#This Row],['# of Books]]","v":0},{"$f":"Table1[[#This Row],[QTY]]*Table1[[#This Row],[School & Library Price]]","v":0}]
[null,null,null,"Celebrity Chefs","Celebrity Chefs: Sets 1 – 2",8,"Library Set","978-0-7660-7938-0",{"$f":"HYPERLINK(Table1[[#This Row],[Hyperlink]],\"Weblink\")","v":"Weblink"},"Enslow Publishing","2017","August 2016","6.000 X 9.000",null,null,null,null,null,null,null,null,"Grade 6","Grade 6 - 12","Food is no longer just a source of sustenance. It has now become a form of entertainment that produces larger-than-life personalities such as Rachael Ray, Jamie Oliver, and many others. How did these chefs reach celebrity status and what makes them so fascinating? Readers explore the lives and accomplishments of these popular and influential celebrity chefs, and may even discover their own potential path to cooking success. They can also try their hand at a few tasty recipes!","English",298.16000000000003,223.6,null,"128 pp.","https://www.enslow.com/series/Celebrity_Chefs/520",{"$f":"Table1[[#This Row],[QTY]]*Table1[[#This Row],['# of Books]]","v":0},{"$f":"Table1[[#This Row],[QTY]]*Table1[[#This Row],[School & Library Price]]","v":0}]
[null,null,null,"Celebrity Chefs","Bobby Flay",1,"Library Bound Book","978-0-7660-7172-8",{"$f":"HYPERLINK(Table1[[#This Row],[Hyperlink]],\"Weblink\")","v":"Weblink"},"Enslow Publishing","2016","January 2016","6.000 X 9.000","Author","Don Rauf",null,null,null,null,"Z","1050L","Grade 7 - 8","Grade 6 - 12","Born in New York City, Bobby Flay was destined for fame in food. Readers will discover how Flay, host and competitor in several television shows, became the culinary master that he is today. This text also includes information on how to pursue a career in cooking and recipes inspired by Flay for readers to try themselves.","English",37.270000000000003,27.95,"641.5092--dc23","128 pp.","https://www.enslow.com/books/Bobby_Flay/4584",{"$f":"Table1[[#This Row],[QTY]]*Table1[[#This Row],['# of Books]]","v":0},{"$f":"Table1[[#This Row],[QTY]]*Table1[[#This Row],[School & Library Price]]","v":0}]
[null,null,null,"Celebrity Chefs","Bobby Flay",1,"eBook","978-0-7660-7173-5",{"$f":"HYPERLINK(Table1[[#This Row],[Hyperlink]],\"Weblink\")","v":"Weblink"},"Enslow Publishing","2016","January 2016",null,"Author","Don Rauf",null,null,null,null,"Z","1050L","Grade 7 - 8","Grade 6 - 12","Born in New York City, Bobby Flay was destined for fame in food. Readers will discover how Flay, host and competitor in several television shows, became the culinary master that he is today. This text also includes information on how to pursue a career in cooking and recipes inspired by Flay for readers to try themselves.","English",37.270000000000003,27.95,"641.5092--dc23","128 pp.","https://www.enslow.com/books/Bobby_Flay/4584",{"$f":"Table1[[#This Row],[QTY]]*Table1[[#This Row],['# of Books]]","v":0},{"$f":"Table1[[#This Row],[QTY]]*Table1[[#This Row],[School & Library Price]]","v":0}]
[null,null,null,"Celebrity Chefs","Giada De Laurentiis",1,"Library Bound Book","978-0-7660-7759-1",{"$f":"HYPERLINK(Table1[[#This Row],[Hyperlink]],\"Weblink\")","v":"Weblink"},"Enslow Publishing","2017","August 2016","6.000 X 9.000","Author","Jeanne Nagle",null,null,null,null,"Z","1140L","Grade 6","Grade 6 - 12","Italian-American Giada De Laurentiis is a successful chef, author, television personality, and host of her own cooking show on the Food Network. Full-color photographs, inspiring direct quotations, and engaging details of Giada’s personal and professional life will show readers what it takes to make it in the food industry. This text also includes education and career information on becoming a chef, as well as a variety of recipes for students to try on their own.","English",37.270000000000003,27.95,"641.5092--dc23","128 pp.","https://www.enslow.com/books/Giada_De_Laurentiis/419683",{"$f":"Table1[[#This Row],[QTY]]*Table1[[#This Row],['# of Books]]","v":0},{"$f":"Table1[[#This Row],[QTY]]*Table1[[#This Row],[School & Library Price]]","v":0}]
[null,null,null,"Celebrity Chefs","Giada De Laurentiis",1,"eBook","978-0-7660-7753-9",{"$f":"HYPERLINK(Table1[[#This Row],[Hyperlink]],\"Weblink\")","v":"Weblink"},"Enslow Publishing","2017","August 2016",null,"Author","Jeanne Nagle",null,null,null,null,"Z","1140L","Grade 6","Grade 6 - 12","Italian-American Giada De Laurentiis is a successful chef, author, television personality, and host of her own cooking show on the Food Network. Full-color photographs, inspiring direct quotations, and engaging details of Giada’s personal and professional life will show readers what it takes to make it in the food industry. This text also includes education and career information on becoming a chef, as well as a variety of recipes for students to try on their own.","English",37.270000000000003,27.95,"641.5092--dc23","128 pp.","https://www.enslow.com/books/Giada_De_Laurentiis/419683",{"$f":"Table1[[#This Row],[QTY]]*Table1[[#This Row],['# of Books]]","v":0},{"$f":"Table1[[#This Row],[QTY]]*Table1[[#This Row],[School & Library Price]]","v":0}]
[null,null,null,"Celebrity Chefs","Jamie Oliver",1,"Library Bound Book","978-0-7660-7760-7",{"$f":"HYPERLINK(Table1[[#This Row],[Hyperlink]],\"Weblink\")","v":"Weblink"},"Enslow Publishing","2017","August 2016","6.000 X 9.000","Author","Don Rauf",null,null,null,null,"Z","1150L","Grade 6","Grade 6 - 12","Through engaging text, direct quotations, and full-color photographs, readers will take an in-depth look into the life of Jaime Oliver, Great Britain's Naked Chef. Students will discover why food education is so important to the Brit, as well as how he became a chef, and how he became a celebrity. Budding chefs can also learn about the different pathways to becoming a professional chef and try their hands at some recipes.","English",37.270000000000003,27.95,"641.5092--dc23","128 pp.","https://www.enslow.com/books/Jamie_Oliver/419686",{"$f":"Table1[[#This Row],[QTY]]*Table1[[#This Row],['# of Books]]","v":0},{"$f":"Table1[[#This Row],[QTY]]*Table1[[#This Row],[School & Library Price]]","v":0}]
[null,null,null,"Celebrity Chefs","Jamie Oliver",1,"eBook","978-0-7660-7755-3",{"$f":"HYPERLINK(Table1[[#This Row],[Hyperlink]],\"Weblink\")","v":"Weblink"},"Enslow Publishing","2017","August 2016",null,"Author","Don Rauf",null,null,null,null,"Z","1150L","Grade 6","Grade 6 - 12","Through engaging text, direct quotations, and full-color photographs, readers will take an in-depth look into the life of Jaime Oliver, Great Britain's Naked Chef. Students will discover why food education is so important to the Brit, as well as how he became a chef, and how he became a celebrity. Budding chefs can also learn about the different pathways to becoming a professional chef and try their hands at some recipes.","English",37.270000000000003,27.95,"641.5092--dc23","128 pp.","https://www.enslow.com/books/Jamie_Oliver/419686",{"$f":"Table1[[#This Row],[QTY]]*Table1[[#This Row],['# of Books]]","v":0},{"$f":"Table1[[#This Row],[QTY]]*Table1[[#This Row],[School & Library Price]]","v":0}]
[null,null,null,"Celebrity Chefs","Tyler Florence",1,"Library Bound Book","978-0-7660-7756-0",{"$f":"HYPERLINK(Table1[[#This Row],[Hyperlink]],\"Weblink\")","v":"Weblink"},"Enslow Publishing","2017","August 2016","6.000 X 9.000","Author","Sherri Mabry Gordon",null,null,null,null,"Z","1090L","Grade 6","Grade 6 - 12","Upper-level readers will learn about Food Network star Tyler Florence’s roots and style, how he got his start in the industry, and how he got involved in food competitions through full-color photos and direct quotations. The text also provides details about becoming a chef and recipes they can try themselves.","English",37.270000000000003,27.95,"641.5092--dc23","128 pp.","https://www.enslow.com/books/Tyler_Florence/419677",{"$f":"Table1[[#This Row],[QTY]]*Table1[[#This Row],['# of Books]]","v":0},{"$f":"Table1[[#This Row],[QTY]]*Table1[[#This Row],[School & Library Price]]","v":0}]
[null,null,null,"Celebrity Chefs","Tyler Florence",1,"eBook","978-0-7660-7750-8",{"$f":"HYPERLINK(Table1[[#This Row],[Hyperlink]],\"Weblink\")","v":"Weblink"},"Enslow Publishing","2017","August 2016",null,"Author","Sherri Mabry Gordon",null,null,null,null,"Z","1090L","Grade 6","Grade 6 - 12","Upper-level readers will learn about Food Network star Tyler Florence’s roots and style, how he got his start in the industry, and how he got involved in food competitions through full-color photos and direct quotations. The text also provides details about becoming a chef and recipes they can try themselves.","English",37.270000000000003,27.95,"641.5092--dc23","128 pp.","https://www.enslow.com/books/Tyler_Florence/419677",{"$f":"Table1[[#This Row],[QTY]]*Table1[[#This Row],['# of Books]]","v":0},{"$f":"Table1[[#This Row],[QTY]]*Table1[[#This Row],[School & Library Price]]","v":0}]
[null,null,null,"Defying Convention: Women Who Changed the Rules","Women Athletes",1,"Library Bound Book","978-0-7660-8147-5",{"$f":"HYPERLINK(Table1[[#This Row],[Hyperlink]],\"Weblink\")","v":"Weblink"},"Enslow Publishing","2017","January 2017","6.000 X 9.000","Author","Sherri Mabry Gordon",null,null,null,null,"Z","1020L","Grade 6","Grade 6 - 12","It’s hard to believe, but there was a time not long ago when girls and women were discouraged from participating in sports. Thanks to the women who ignored society’s rules and also to a piece of legislation called Title IX, girls in the United States—and around the world—began flocking to tracks, fields, and courts to enjoy all the benefits that come from playing a sport. This book celebrates women athletes through the ages, from early Olympians to present powerhouses like Serena Williams and Missy Franklin. Also included are chapter notes, a glossary, a further reading section containing books and websites, and an index.","English",37.270000000000003,27.95,"796.082--dc23","128 pp.","https://www.enslow.com/books/Women_Athletes/421589",{"$f":"Table1[[#This Row],[QTY]]*Table1[[#This Row],['# of Books]]","v":0},{"$f":"Table1[[#This Row],[QTY]]*Table1[[#This Row],[School & Library Price]]","v":0}]
[null,null,null,"Defying Convention: Women Who Changed the Rules","Women Athletes",1,"eBook","978-0-7660-8148-2",{"$f":"HYPERLINK(Table1[[#This Row],[Hyperlink]],\"Weblink\")","v":"Weblink"},"Enslow Publishing","2017","January 2017",null,"Author","Sherri Mabry Gordon",null,null,null,null,"Z","1020L","Grade 6","Grade 6 - 12","It’s hard to believe, but there was a time not long ago when girls and women were discouraged from participating in sports. Thanks to the women who ignored society’s rules and also to a piece of legislation called Title IX, girls in the United States—and around the world—began flocking to tracks, fields, and courts to enjoy all the benefits that come from playing a sport. This book celebrates women athletes through the ages, from early Olympians to present powerhouses like Serena Williams and Missy Franklin. Also included are chapter notes, a glossary, a further reading section containing books and websites, and an index.","English",37.270000000000003,27.95,"796.082--dc23","128 pp.","https://www.enslow.com/books/Women_Athletes/421589",{"$f":"Table1[[#This Row],[QTY]]*Table1[[#This Row],['# of Books]]","v":0},{"$f":"Table1[[#This Row],[QTY]]*Table1[[#This Row],[School & Library Price]]","v":0}]
[null,null,null,"Defying Convention: Women Who Changed the Rules","Women in Technology",1,"Library Bound Book","978-0-7660-8149-9",{"$f":"HYPERLINK(Table1[[#This Row],[Hyperlink]],\"Weblink\")","v":"Weblink"},"Enslow Publishing","2017","January 2017","6.000 X 9.000","Author","Elizabeth Schmermund",null,null,null,null,"Z","1230L","Grade 6","Grade 6 - 12","Statistics tell us that women are underrepresented in STEM careers, yet many of technology’s greatest innovations have come from women. Ada Lovelace is considered one of the first computer programmers. It was six women who programmed the important ENIAC computer during World War II. While women’s contributions to technology are often overlooked, this resource celebrates the lives and accomplishments of women inventors and innovators throughout history. Also included are chapter notes, a glossary, a further reading section containing books and websites, and an index.","English",37.270000000000003,27.95,"609.2/52--dc23","128 pp.","https://www.enslow.com/books/Women_in_Technology/421586",{"$f":"Table1[[#This Row],[QTY]]*Table1[[#This Row],['# of Books]]","v":0},{"$f":"Table1[[#This Row],[QTY]]*Table1[[#This Row],[School & Library Price]]","v":0}]
[null,null,null,"Defying Convention: Women Who Changed the Rules","Women in Technology",1,"eBook","978-0-7660-8150-5",{"$f":"HYPERLINK(Table1[[#This Row],[Hyperlink]],\"Weblink\")","v":"Weblink"},"Enslow Publishing","2017","January 2017",null,"Author","Elizabeth Schmermund",null,null,null,null,"Z","1230L","Grade 6","Grade 6 - 12","Statistics tell us that women are underrepresented in STEM careers, yet many of technology’s greatest innovations have come from women. Ada Lovelace is considered one of the first computer programmers. It was six women who programmed the important ENIAC computer during World War II. While women’s contributions to technology are often overlooked, this resource celebrates the lives and accomplishments of women inventors and innovators throughout history. Also included are chapter notes, a glossary, a further reading section containing books and websites, and an index.","English",37.270000000000003,27.95,"609.2/52--dc23","128 pp.","https://www.enslow.com/books/Women_in_Technology/421586",{"$f":"Table1[[#This Row],[QTY]]*Table1[[#This Row],['# of Books]]","v":0},{"$f":"Table1[[#This Row],[QTY]]*Table1[[#This Row],[School & Library Price]]","v":0}]
[null,null,null,"Defying Convention: Women Who Changed the Rules","Women Warriors",1,"Library Bound Book","978-0-7660-8151-2",{"$f":"HYPERLINK(Table1[[#This Row],[Hyperlink]],\"Weblink\")","v":"Weblink"},"Enslow Publishing","2017","January 2017","6.000 X 9.000","Author","Elizabeth Schmermund",null,null,null,null,"Z","1160L","Grade 6","Grade 6 - 12","Although war has long been considered the domain of men, women have courageously fought for their families, their nations, and their causes—whether on the battlefield or off. The women profiled in this inspiring resource have proven that courage doesn’t have a gender and that fighting for a just cause is very much a woman’s issue. Also included are chapter notes, a glossary, a further reading section containing books and websites, and an index.","English",37.270000000000003,27.95,"355.0092/52--dc23","128 pp.","https://www.enslow.com/books/Women_Warriors/421587",{"$f":"Table1[[#This Row],[QTY]]*Table1[[#This Row],['# of Books]]","v":0},{"$f":"Table1[[#This Row],[QTY]]*Table1[[#This Row],[School & Library Price]]","v":0}]
[null,null,null,"Defying Convention: Women Who Changed the Rules","Women Warriors",1,"eBook","978-0-7660-8152-9",{"$f":"HYPERLINK(Table1[[#This Row],[Hyperlink]],\"Weblink\")","v":"Weblink"},"Enslow Publishing","2017","January 2017",null,"Author","Elizabeth Schmermund",null,null,null,null,"Z","1160L","Grade 6","Grade 6 - 12","Although war has long been considered the domain of men, women have courageously fought for their families, their nations, and their causes—whether on the battlefield or off. The women profiled in this inspiring resource have proven that courage doesn’t have a gender and that fighting for a just cause is very much a woman’s issue. Also included are chapter notes, a glossary, a further reading section containing books and websites, and an index.","English",37.270000000000003,27.95,"355.0092/52--dc23","128 pp.","https://www.enslow.com/books/Women_Warriors/421587",{"$f":"Table1[[#This Row],[QTY]]*Table1[[#This Row],['# of Books]]","v":0},{"$f":"Table1[[#This Row],[QTY]]*Table1[[#This Row],[School & Library Price]]","v":0}]
[null,null,null,"Heroes of the Women's Suffrage Movement","Heroes of the Women's Suffrage Movement",6,"Library Set","978-0-7660-7507-8",{"$f":"HYPERLINK(Table1[[#This Row],[Hyperlink]],\"Weblink\")","v":"Weblink"},"Enslow Publishing","2017","August 2016","6.000 X 9.000",null,null,null,null,null,null,null,null,"Grade 6","Grade 5 - 12","This series introduces teen readers to the courageous and fiery pioneers of the women’s rights movement. These are women who fought against long odds and often violent opposition to gain all women—indeed all persons—the equality, dignity, and civil and human rights that today we frequently take for granted. Though there is still a long way to go down the road to true equality of the sexes, these biographies allow readers to celebrate the women who have carried us so far and provisioned us so well.","English",223.62,167.7,null,"128 pp.","https://www.enslow.com/series/Heroes_of_the_Womens_Suffrage_Movement/419708",{"$f":"Table1[[#This Row],[QTY]]*Table1[[#This Row],['# of Books]]","v":0},{"$f":"Table1[[#This Row],[QTY]]*Table1[[#This Row],[School & Library Price]]","v":0}]
[null,null,null,"Heroes of the Women's Suffrage Movement","Champions for Women's Rights: Matilda Joslyn Gage, Julia Ward Howe, Lucretia Mott, and Lucy Stone",1,"Library Bound Book","978-0-7660-7891-8",{"$f":"HYPERLINK(Table1[[#This Row],[Hyperlink]],\"Weblink\")","v":"Weblink"},"Enslow Publishing","2017","August 2016","6.000 X 9.000","Author","Lynn Barber",null,null,null,null,"Z","1130L","Grade 6","Grade 5 - 12","Enriched by primary sources, images, and sidebars, this volume of collective biographies features the life stories of four leaders of the women's suffrage movement. Readers will learn how such a diverse group of women came together to fight for a common cause and come to understand the game-changing roles citizens play in shaping government policy. \n","English",37.270000000000003,27.95,"323.3/40973--dc23","128 pp.","https://www.enslow.com/books/Champions_for_Womens_Rights/419659",{"$f":"Table1[[#This Row],[QTY]]*Table1[[#This Row],['# of Books]]","v":0},{"$f":"Table1[[#This Row],[QTY]]*Table1[[#This Row],[School & Library Price]]","v":0}]
[null,null,null,"Heroes of the Women's Suffrage Movement","Elizabeth Blackwell: Doctor and Advocate for Women in Medicine",1,"eBook","978-0-7660-7884-0",{"$f":"HYPERLINK(Table1[[#This Row],[Hyperlink]],\"Weblink\")","v":"Weblink"},"Enslow Publishing","2017","August 2016",null,"Author","Lisa A. Crayton",null,null,null,null,"Z","910L","Grade 6","Grade 5 - 12","Born in England and raised by a progressive father, an abolitionist who also believed women were equal to men, Elizabeth Blackwell is famous for becoming America’s first woman doctor. But her story is far more complex. Students will be interested to learn that Blackwell was denied the ability to practice medicine, simply because she was a woman. Her insistence on breaking barriers, as well as opening doors for other women, will teach students the importance of perseverance, and excerpts from primary sources, images, and sidebars will enrich the reader’s experience.","English",37.270000000000003,27.95,"610.92--dc23","128 pp.","https://www.enslow.com/books/Elizabeth_Blackwell/419656",{"$f":"Table1[[#This Row],[QTY]]*Table1[[#This Row],['# of Books]]","v":0},{"$f":"Table1[[#This Row],[QTY]]*Table1[[#This Row],[School & Library Price]]","v":0}]
[null,null,null,"Heroes of the Women's Suffrage Movement","Elizabeth Cady Stanton: Founder of the Women's Suffrage Movement",1,"Library Bound Book","978-0-7660-7889-5",{"$f":"HYPERLINK(Table1[[#This Row],[Hyperlink]],\"Weblink\")","v":"Weblink"},"Enslow Publishing","2017","August 2016","6.000 X 9.000","Author","Deborah Kent",null,null,null,null,"Z","1080L","Grade 6","Grade 5 - 12","Every time women vote, they should thank Elizabeth Cady Stanton. Stanton's unyielding efforts to attain the vote for American women finally paid off in 1920, after her death, with the ratification of the Nineteenth Amendment to the Constitution. Enhanced by primary sources, images, and sidebars, this inspiring biography proves that with enough passion and commitment, change can occur.\n","English",37.270000000000003,27.95,"305.42092--dc23","128 pp.","https://www.enslow.com/books/Elizabeth_Cady_Stanton/419653",{"$f":"Table1[[#This Row],[QTY]]*Table1[[#This Row],['# of Books]]","v":0},{"$f":"Table1[[#This Row],[QTY]]*Table1[[#This Row],[School & Library Price]]","v":0}]
[null,null,null,"Heroes of the Women's Suffrage Movement","The Seneca Falls Convention: Working to Expand Women's Rights",1,"Library Bound Book","978-0-7660-7892-5",{"$f":"HYPERLINK(Table1[[#This Row],[Hyperlink]],\"Weblink\")","v":"Weblink"},"Enslow Publishing","2017","August 2016","6.000 X 9.000","Author","Deborah Kent",null,null,null,null,"Z","1110L","Grade 6","Grade 5 - 12","They were two days that changed the world. The 1848 Seneca Falls Convention was the first of its kind to address the topic of women’s rights. Featuring excerpts from primary sources, images, and sidebars, this informative volume describes the low status held by nineteenth-century women, and how a handful of key players sought to achieve equal rights during this convention that spawned a greater movement.","English",37.270000000000003,27.95,"305.40973--dc23","128 pp.","https://www.enslow.com/books/The_Seneca_Falls_Convention/419662",{"$f":"Table1[[#This Row],[QTY]]*Table1[[#This Row],['# of Books]]","v":0},{"$f":"Table1[[#This Row],[QTY]]*Table1[[#This Row],[School & Library Price]]","v":0}]
[null,null,null,"Heroes of the Women's Suffrage Movement","The Seneca Falls Convention: Working to Expand Women's Rights",1,"eBook","978-0-7660-7886-4",{"$f":"HYPERLINK(Table1[[#This Row],[Hyperlink]],\"Weblink\")","v":"Weblink"},"Enslow Publishing","2017","August 2016",null,"Author","Deborah Kent",null,null,null,null,"Z","1110L","Grade 6","Grade 5 - 12","They were two days that changed the world. The 1848 Seneca Falls Convention was the first of its kind to address the topic of women’s rights. Featuring excerpts from primary sources, images, and sidebars, this informative volume describes the low status held by nineteenth-century women, and how a handful of key players sought to achieve equal rights during this convention that spawned a greater movement.","English",37.270000000000003,27.95,"305.40973--dc23","128 pp.","https://www.enslow.com/books/The_Seneca_Falls_Convention/419662",{"$f":"Table1[[#This Row],[QTY]]*Table1[[#This Row],['# of Books]]","v":0},{"$f":"Table1[[#This Row],[QTY]]*Table1[[#This Row],[School & Library Price]]","v":0}]
[null,null,null,"Heroes of the Women's Suffrage Movement","Susan B. Anthony: Social Reformer and Feminist",1,"Library Bound Book","978-0-7660-7888-8",{"$f":"HYPERLINK(Table1[[#This Row],[Hyperlink]],\"Weblink\")","v":"Weblink"},"Enslow Publishing","2017","August 2016","6.000 X 9.000","Author","Laura Baskes Litwin",null,null,null,null,"Z","1060L","Grade 6","Grade 5 - 12","Enhanced by primary sources, images, and sidebars, this engaging biography of one of the suffrage movement’s most inspiring leaders paints a vivid picture of what life was like for a woman in nineteenth-century America. Readers will be inspired by Anthony’s tireless fight to improve women’s standing, an effort that changed the course of history.","English",37.270000000000003,27.95,"305.42092--dc23","128 pp.","https://www.enslow.com/books/Susan_B_Anthony/419650",{"$f":"Table1[[#This Row],[QTY]]*Table1[[#This Row],['# of Books]]","v":0},{"$f":"Table1[[#This Row],[QTY]]*Table1[[#This Row],[School & Library Price]]","v":0}]
[null,null,null,"Heroes of the Women's Suffrage Movement","Susan B. Anthony: Social Reformer and Feminist",1,"eBook","978-0-7660-7882-6",{"$f":"HYPERLINK(Table1[[#This Row],[Hyperlink]],\"Weblink\")","v":"Weblink"},"Enslow Publishing","2017","August 2016",null,"Author","Laura Baskes Litwin",null,null,null,null,"Z","1060L","Grade 6","Grade 5 - 12","Enhanced by primary sources, images, and sidebars, this engaging biography of one of the suffrage movement’s most inspiring leaders paints a vivid picture of what life was like for a woman in nineteenth-century America. Readers will be inspired by Anthony’s tireless fight to improve women’s standing, an effort that changed the course of history.","English",37.270000000000003,27.95,"305.42092--dc23","128 pp.","https://www.enslow.com/books/Susan_B_Anthony/419650",{"$f":"Table1[[#This Row],[QTY]]*Table1[[#This Row],['# of Books]]","v":0},{"$f":"Table1[[#This Row],[QTY]]*Table1[[#This Row],[School & Library Price]]","v":0}]
[null,null,null,"Pioneering African Americans","African American Artists & Writers",1,"eBook","978-0-7660-9307-2",{"$f":"HYPERLINK(Table1[[#This Row],[Hyperlink]],\"Weblink\")","v":"Weblink"},"Enslow Publishing","2018","January 2018",null,"Edited by","Joanne Randolph",null,null,null,null,"W","1200L","Grade 6","Grade 5 - 8","Despite inequality of access to education, relentless discrimination, and a starkly segregated society, African American artists and writers have made landmark contributions to American art and literature. Works like A Raisin in the Son, Beloved, Their Eyes Were Watching God, Invisible Man, and I Know Why the Caged Bird Sings powerfully express the African American experience, expose the injustices of American society, and reveal the hopes, dreams, sorrows, suffering, and enduring achievements of Black America. With profiles of figures like Phillis Wheatley, Langston Hughes, James Baldwin, Rita Dove, Maya Angelou, and Toni Morrison, this collection puts the rich tapestry woven by African American authors and artists on full and breathtaking display.","English",27.93,20.95,"700.92/2--dc23","48 pp.","https://www.enslow.com/books/African_American_Artists__and__Writers/421783",{"$f":"Table1[[#This Row],[QTY]]*Table1[[#This Row],['# of Books]]","v":0},{"$f":"Table1[[#This Row],[QTY]]*Table1[[#This Row],[School & Library Price]]","v":0}]
[null,null,null,"Pioneering African Americans","African American Explorers & Adventurers",1,"Library Bound Book","978-0-7660-9249-5",{"$f":"HYPERLINK(Table1[[#This Row],[Hyperlink]],\"Weblink\")","v":"Weblink"},"Enslow Publishing","2018","January 2018","7.250 X 9.250","Edited by","Joanne Randolph",null,null,null,null,"X","1130L","Grade 6","Grade 5 - 8","From the top of Everest to the deepest recesses of previously unexplored caves, from the heart of the sea to the far reaches of space, African American explorers and adventurers have helped chart the unknown, push the boundaries of the frontier, scale the heights, and shoot for the stars. With profiles of courageous and pioneering figures like Arctic explorer Matthew Alexander Henson, the Lewis and Clark corpsman York, and pilot Bessie Coleman, this inspiring collection celebrates the often unsung accomplishments of African American whalers, gold rush fortune-seekers, explorers, mountaineers, pilots, and other intrepid adventurers. They overcame injustice, prejudice, and inequality to triumph in expanding our knowledge of the world and our notions of what was possible within it.","English",27.93,20.95,"910.92/396073--dc23","48 pp.","https://www.enslow.com/books/African_American_Explorers__and__Adventurers/421781",{"$f":"Table1[[#This Row],[QTY]]*Table1[[#This Row],['# of Books]]","v":0},{"$f":"Table1[[#This Row],[QTY]]*Table1[[#This Row],[School & Library Price]]","v":0}]
[null,null,null,"Pioneering African Americans","African American Inventors & Scientists",1,"eBook","978-0-7660-9304-1",{"$f":"HYPERLINK(Table1[[#This Row],[Hyperlink]],\"Weblink\")","v":"Weblink"},"Enslow Publishing","2018","January 2018",null,"Edited by","Joanne Randolph",null,null,null,null,"Y","1080L","Grade 6","Grade 5 - 8","From soil-preserving crop rotation methods and innovative beauty products to the filaments that made electric light bulbs possible and laser probes that correct cataracts, African American inventors and scientists have revolutionized daily life in the modern world. With profiles of towering figures like George Washington Carver, Madam C. J. Walker, and Mae Jemison, this inspiring collection celebrates the often unsung and little known accomplishments and innovations of African American scientists, engineers, inventors, and entrepreneurs. They overcame injustice, prejudice, and inequality of access to triumph in every American field of endeavor, from agriculture to the space program.","English",27.93,20.95,"509.2/396073--dc23","48 pp.","https://www.enslow.com/books/African_American_Inventors__and__Scientists/421780",{"$f":"Table1[[#This Row],[QTY]]*Table1[[#This Row],['# of Books]]","v":0},{"$f":"Table1[[#This Row],[QTY]]*Table1[[#This Row],[School & Library Price]]","v":0}]
[null,null,null,"Pioneering African Americans","African American Musicians & Entertainers",1,"Library Bound Book","978-0-7660-9250-1",{"$f":"HYPERLINK(Table1[[#This Row],[Hyperlink]],\"Weblink\")","v":"Weblink"},"Enslow Publishing","2018","January 2018","7.250 X 9.250","Edited by","Joanne Randolph",null,null,null,null,"W","1140L","Grade 6","Grade 5 - 8","Imagine a world in which gospel, the blues, jazz, rhythm and blues, and rock 'n' roll didn't exist. These indigenous American musical forms are the product of, and a moving expression of the African American experience. Musical geniuses and innovators like Duke Ellington, Louis Armstrong, Bessie Smith, B. B. King, and Jimi Hendrix turned individual and collective histories of suffering and injustice into soul-stirring, monumental art that shattered boundaries, shifted perceptions, and contributed to progress in civil rights. Their efforts were matched by other African Americans in the entertainment field, like Jackie Robinson, Josephine Baker, and Sidney Poitier. A celebration of music, movies, and a growing movement for equality, this collection will inspire, enlighten, and energize teen readers.","English",27.93,20.95,"780.89/96073--dc23","48 pp.","https://www.enslow.com/books/African_American_Musicians__and__Entertainers/421782",{"$f":"Table1[[#This Row],[QTY]]*Table1[[#This Row],['# of Books]]","v":0},{"$f":"Table1[[#This Row],[QTY]]*Table1[[#This Row],[School & Library Price]]","v":0}]
[null,null,null,"Pioneering African Americans","African American Politicians & Civil Rights Activists",1,"eBook","978-0-7660-9308-9",{"$f":"HYPERLINK(Table1[[#This Row],[Hyperlink]],\"Weblink\")","v":"Weblink"},"Enslow Publishing","2018","January 2018",null,"Edited by","Joanne Randolph",null,null,null,null,"Y","1140L","Grade 6","Grade 5 - 8","Through centuries of suffering, slavery, inequality, discrimination, segregation, and racist violence, African Americans have endured, resisted, fought, and, increasingly over time, won many battles. These victories were propelled by a groundswell of grassroots action, but they were also motivated and organized by courageous and inspirational leadership. Journalists, abolitionists, educators, religious leaders, politicians, judges, and even schoolchildren showed the world a better way forward and led the way down the very difficult road to greater equality, freedom, and civil rights. This collection profiles the leading lights in the struggle for freedom and equality, including MLK, Coretta Scott King, Malcolm X, Marcus Garvey, W.E.B. DuBois, Harriet Tubman, Ida B. Wells, and Ruby Bridges, among many others.","English",27.93,20.95,"323.092/2--dc23","48 pp.","https://www.enslow.com/books/African_American_Politicians__and__Civil_Rights_Activists/421784",{"$f":"Table1[[#This Row],[QTY]]*Table1[[#This Row],['# of Books]]","v":0},{"$f":"Table1[[#This Row],[QTY]]*Table1[[#This Row],[School & Library Price]]","v":0}]
[null,null,null,"Pioneering African Americans","African American Soldiers",1,"Library Bound Book","978-0-7660-9253-2",{"$f":"HYPERLINK(Table1[[#This Row],[Hyperlink]],\"Weblink\")","v":"Weblink"},"Enslow Publishing","2018","January 2018","7.250 X 9.250","Edited by","Joanne Randolph",null,null,null,null,"X","1170L","Grade 6","Grade 5 - 8","Though often fighting for a country that did not recognize their rights or even their humanity, African Americans have fought courageously in every American war. Even though they often knew they would return to civilian lives of limited opportunities and unequal treatment, they served their nation with conviction and distinction. This volume offers inspiring profiles of African American service people, from Crispus Attucks, the first casualty of the American Revolution, and the freedom-seeking Loyalists to the renowned 54th Massachusetts Volunteer Infantry of the Civil War. From Buffalo Soldiers to the twenty-first century, readers will be thrilled. Also covered is the nation's first African American commander in chief, Barack Obama.","English",27.93,20.95,"355.0089/96073--dc23","48 pp.","https://www.enslow.com/books/African_American_Soldiers/421785",{"$f":"Table1[[#This Row],[QTY]]*Table1[[#This Row],['# of Books]]","v":0},{"$f":"Table1[[#This Row],[QTY]]*Table1[[#This Row],[School & Library Price]]","v":0}]
[null,null,null,"Influential Asians","Influential Asians",6,"Library Set","978-0-7660-7506-1",{"$f":"HYPERLINK(Table1[[#This Row],[Hyperlink]],\"Weblink\")","v":"Weblink"},"Enslow Publishing","2017","August 2016","6.000 X 9.000",null,null,null,null,null,null,null,null,"Grade 6 - 7","Grade 6 - 12","This engaging, accessible series of biographies explores the lives and accomplishments of recognizable and influential Asians in history and today. These books will appeal to researchers looking for age-appropriate sources, as well as casual readers in grades 6 and up.","English",223.62,167.7,null,"128 pp.","https://www.enslow.com/series/Influential_Asians/419707",{"$f":"Table1[[#This Row],[QTY]]*Table1[[#This Row],['# of Books]]","v":0},{"$f":"Table1[[#This Row],[QTY]]*Table1[[#This Row],[School & Library Price]]","v":0}]
[null,null,null,"Influential Asians","Haruki Murakami: Best-Selling Author",1,"Library Bound Book","978-0-7660-7901-4",{"$f":"HYPERLINK(Table1[[#This Row],[Hyperlink]],\"Weblink\")","v":"Weblink"},"Enslow Publishing","2017","August 2016","6.000 X 9.000","Author","John A. Torres",null,null,null,null,"Z","1060L","Grade 6 - 7","Grade 6 - 12","A child of Japan’s post-war baby boom, Haruki Murakami grew up—much to the chagrin of his parents—immersed in Western culture. The unhappy and unmotivated student didn’t begin writing until he was twenty-nine years old. Through engaging narrative, full-color photos, and thoughtful direct quotations, readers will be inspired by the life story of this celebrated novelist, whose works have been translated into more than fifty languages.","English",37.270000000000003,27.95,"895.63/5--dc23","128 pp.","https://www.enslow.com/books/Haruki_Murakami/419635",{"$f":"Table1[[#This Row],[QTY]]*Table1[[#This Row],['# of Books]]","v":0},{"$f":"Table1[[#This Row],[QTY]]*Table1[[#This Row],[School & Library Price]]","v":0}]
[null,null,null,"Influential Asians","Ichiro Suzuki: Baseball's Most Valuable Player",1,"eBook","978-0-7660-7896-3",{"$f":"HYPERLINK(Table1[[#This Row],[Hyperlink]],\"Weblink\")","v":"Weblink"},"Enslow Publishing","2017","August 2016",null,"Author","David Aretha",null,null,null,null,"Z","1020L","Grade 6 - 7","Grade 6 - 12","Ichiro Suzuki has had a storied baseball career in Japan and the United States. Since signed to the major leagues in 2001, the right fielder has racked up batting records for the Yankees, Mariners, and Marlins. Through fascinating details about his personal and professional life, full-color photos, and direct quotations, baseball fans and report writers will be inspired by this biography of a top player driven by a strong work ethic and devotion to charity.","English",37.270000000000003,27.95,"796.357092--dc23","128 pp.","https://www.enslow.com/books/Ichiro_Suzuki/419638",{"$f":"Table1[[#This Row],[QTY]]*Table1[[#This Row],['# of Books]]","v":0},{"$f":"Table1[[#This Row],[QTY]]*Table1[[#This Row],[School & Library Price]]","v":0}]
[null,null,null,"Influential Asians","Margaret Cho: Comedian, Actress, and Activist",1,"Library Bound Book","978-0-7660-7904-5",{"$f":"HYPERLINK(Table1[[#This Row],[Hyperlink]],\"Weblink\")","v":"Weblink"},"Enslow Publishing","2017","August 2016","6.000 X 9.000","Author","Michael A. Schuman",null,null,null,null,"Z","930L","Grade 6 - 7","Grade 6 - 12","Margaret Cho is known for her take-no-prisoners approach to comedy. The daughter of Korean immigrants, Cho experienced difficult teen years which led her to seek solace in the comedy clubs of her native San Francisco. Teeming with full-color photos and direct quotations, his fascinating biography tells Cho’s story through the lens of what it means to be Korean in America.","English",37.270000000000003,27.95,"792.702/8092--dc23","128 pp.","https://www.enslow.com/books/Margaret_Cho/419644",{"$f":"Table1[[#This Row],[QTY]]*Table1[[#This Row],['# of Books]]","v":0},{"$f":"Table1[[#This Row],[QTY]]*Table1[[#This Row],[School & Library Price]]","v":0}]
[null,null,null,"Influential Asians","Maya Lin: Artist, Architect, and Environmentalist",1,"eBook","978-0-7660-7894-9",{"$f":"HYPERLINK(Table1[[#This Row],[Hyperlink]],\"Weblink\")","v":"Weblink"},"Enslow Publishing","2017","August 2016",null,"Author, Author","Tricia Yearling, Mary Malone",null,null,null,null,"Z","1100L","Grade 6 - 7","Grade 6 - 12","When she was just twenty-one, Maya Lin won a competition to design a memorial to US Vietnam veterans. Her winning design provoked impassioned reactions from politicians, veterans, and the general public. Through fascinating details about her personal and professional life, full-color photos, and inspiring quotations, students will learn how this daughter of Chinese immigrants persevered through the controversy until her vision was realized, and how the experience shaped the rest of her artistic and design career.","English",37.270000000000003,27.95,"720.92--dc23","128 pp.","https://www.enslow.com/books/Maya_Lin/419632",{"$f":"Table1[[#This Row],[QTY]]*Table1[[#This Row],['# of Books]]","v":0},{"$f":"Table1[[#This Row],[QTY]]*Table1[[#This Row],[School & Library Price]]","v":0}]
[null,null,null,"Influential Asians","Vera Wang: Fashion Designer",1,"Library Bound Book","978-0-7660-7903-8",{"$f":"HYPERLINK(Table1[[#This Row],[Hyperlink]],\"Weblink\")","v":"Weblink"},"Enslow Publishing","2017","August 2016","6.000 X 9.000","Author","Richard Worth",null,null,null,null,"Z","1080L","Grade 6 - 7","Grade 6 - 12","Born to wealthy and accomplished Chinese immigrants, Vera Wang was given nearly every opportunity in life. But when the budding skater failed to realize her dream of making the US Olympic team, she turned to a career in fashion. Wang has since become one of the world’s most accomplished fashion designers, creating wedding gowns for celebrities and figure skating costumes for gold medal winners. Riveting text, full-color photos, and inspirational direct quotations will make it clear to readers exactly why Vera Wang is an influential Asian.","English",37.270000000000003,27.95,"746.9/2092--dc23","128 pp.","https://www.enslow.com/books/Vera_Wang/419641",{"$f":"Table1[[#This Row],[QTY]]*Table1[[#This Row],['# of Books]]","v":0},{"$f":"Table1[[#This Row],[QTY]]*Table1[[#This Row],[School & Library Price]]","v":0}]
[null,null,null,"Influential Asians","Yo-Yo Ma: Grammy Award-Winning Cellist",1,"eBook","978-0-7660-7893-2",{"$f":"HYPERLINK(Table1[[#This Row],[Hyperlink]],\"Weblink\")","v":"Weblink"},"Enslow Publishing","2017","August 2016",null,"Author, Author","Jeanne Nagle, Lisa A. Chippendale",null,null,null,null,"Z","1080L","Grade 6 - 7","Grade 6 - 12","The famed Chinese-American cellist Yo-Yo Ma was a music prodigy, performing for paying audiences at the tender age of five. Ma has built a career on the exploration of many types of music and was awarded the Presidential Medal of Freedom. Through engaging narrative, full-color photos, and thoughtful direct quotations, readers of this biography will be inspired by Ma’s never-ending drive to stretch the boundaries of his creativity.","English",37.270000000000003,27.95,"787.4092--dc23","128 pp.","https://www.enslow.com/books/Yo_Yo_Ma/419629",{"$f":"Table1[[#This Row],[QTY]]*Table1[[#This Row],['# of Books]]","v":0},{"$f":"Table1[[#This Row],[QTY]]*Table1[[#This Row],[School & Library Price]]","v":0}]
[null,null,null,"Rebels with a Cause","Rebels with a Cause: Sets 1 – 2",14,"Library Set","978-0-7660-9262-4",{"$f":"HYPERLINK(Table1[[#This Row],[Hyperlink]],\"Weblink\")","v":"Weblink"},"Enslow Publishing","2018","January 2018","6.500 X 9.250",null,null,null,null,null,null,null,null,"Grade 8","Grade 7 - 12","This captivating series will introduce readers to a group of rebels whose contributions to the politics, civil and human rights, arts, music and athletics came with a social message that helped shape society and change the world. Engrossing narrative text examines each rebel in depth, including his or her education, life experiences, personality, and developing social conscience; formative events that inspired a sense of justice, outrage or mission; and how he or she used the stage afforded by politics, the media, and the entertainment industry to share an important social message with admirers across the globe. These titles will also examine the effects of each rebel's legacy of activism through and the lasting influences they have left on our culture.","English",521.78,391.3,null,"128 pp.","https://www.enslow.com/series/Rebels_with_a_Cause/421590",{"$f":"Table1[[#This Row],[QTY]]*Table1[[#This Row],['# of Books]]","v":0},{"$f":"Table1[[#This Row],[QTY]]*Table1[[#This Row],[School & Library Price]]","v":0}]
[null,null,null,"Rebels with a Cause","César Chávez: Fighting for Migrant Farmworkers",1,"Library Bound Book","978-0-7660-8951-8",{"$f":"HYPERLINK(Table1[[#This Row],[Hyperlink]],\"Weblink\")","v":"Weblink"},"Enslow Publishing","2018","August 2017","6.500 X 9.250","Author","Kathlyn Gay",null,null,null,null,"Z","1200L","Grade 8","Grade 7 - 12","César Chávez is best known for uniting Mexican American farmworkers and for his efforts to obtain civil rights for his people. He followed the nonviolent methods of Mahatma Gandhi and Martin Luther King Jr. A dedicated, stubborn religious leader, Chávez stuck to his cause in spite of tremendous obstacles. With numerous documented quotes from Chávez, union members, and even Pope Paul VI, the Chávez story recounts his difficult early life and how he inspired countless people to advocate for farmworker justice. Students will be guided through their reading with a glossary of important words, a timeline, and references for further reading on the topic.","English",37.270000000000003,27.95,"331.88/13092--dc23","128 pp.","https://www.enslow.com/books/Cesar_Chavez/412753",{"$f":"Table1[[#This Row],[QTY]]*Table1[[#This Row],['# of Books]]","v":0},{"$f":"Table1[[#This Row],[QTY]]*Table1[[#This Row],[School & Library Price]]","v":0}]
[null,null,null,"Rebels with a Cause","César Chávez: Fighting for Migrant Farmworkers",1,"eBook","978-0-7660-8953-2",{"$f":"HYPERLINK(Table1[[#This Row],[Hyperlink]],\"Weblink\")","v":"Weblink"},"Enslow Publishing","2018","August 2017",null,"Author","Kathlyn Gay",null,null,null,null,"Z","1200L","Grade 8","Grade 7 - 12","César Chávez is best known for uniting Mexican American farmworkers and for his efforts to obtain civil rights for his people. He followed the nonviolent methods of Mahatma Gandhi and Martin Luther King Jr. A dedicated, stubborn religious leader, Chávez stuck to his cause in spite of tremendous obstacles. With numerous documented quotes from Chávez, union members, and even Pope Paul VI, the Chávez story recounts his difficult early life and how he inspired countless people to advocate for farmworker justice. Students will be guided through their reading with a glossary of important words, a timeline, and references for further reading on the topic.","English",37.270000000000003,27.95,"331.88/13092--dc23","128 pp.","https://www.enslow.com/books/Cesar_Chavez/412753",{"$f":"Table1[[#This Row],[QTY]]*Table1[[#This Row],['# of Books]]","v":0},{"$f":"Table1[[#This Row],[QTY]]*Table1[[#This Row],[School & Library Price]]","v":0}]
[null,null,null,"Rebels with a Cause","Elvis Presley: Fighting for the Right to Rock",1,"eBook","978-0-7660-9313-3",{"$f":"HYPERLINK(Table1[[#This Row],[Hyperlink]],\"Weblink\")","v":"Weblink"},"Enslow Publishing","2018","January 2018",null,"Author","John Micklos, Jr.",null,null,null,null,"Z","950L","Grade 8","Grade 7 - 12","This biography revisits an all American classic; the King of Rock and Roll. The original rock-n-roll rebel, Elvis Presley revolutionized the music industry. His hip-shaking performances made young fans scream, television censors scramble, and parents furious. But Elvis was far more than a sex symbol. Over a period of two decades, he had nearly 40 Top 10 hits. His music influenced The Beatles, Bruce Springsteen, and many others. Elvis showed remarkable range as a singer, excelling at rock songs, ballads, rhythm and blues, country, and even gospel. Elvis died of heart failure in 1977 at the age of 42, but his legend and music live on.","English",37.270000000000003,27.95,"782.42166092--dc23","128 pp.","https://www.enslow.com/books/Elvis_Presley/421761",{"$f":"Table1[[#This Row],[QTY]]*Table1[[#This Row],['# of Books]]","v":0},{"$f":"Table1[[#This Row],[QTY]]*Table1[[#This Row],[School & Library Price]]","v":0}]
[null,null,null,"Rebels with a Cause","John Lennon: Fighting for World Peace",1,"Library Bound Book","978-0-7660-9260-0",{"$f":"HYPERLINK(Table1[[#This Row],[Hyperlink]],\"Weblink\")","v":"Weblink"},"Enslow Publishing","2018","January 2018","6.500 X 9.250","Author","Jeff Burlingame",null,null,null,null,"Z","1140L","Grade 8","Grade 7 - 12","This comprehensive biography by award-winning author Jeff Burlingame explores the life of John Lennon, whose music and life story still resonate and remain popular with both young and old fans, nearly four decades after his untimely death in 1980. He was known foremost as a musician, but played many roles during his too-short life. Born and raised in Liverpool, England, Lennon was a founding member of The Beatles, a solo musician, a peace activist, and a stay-at-home father to son Sean in his adopted hometown of New York City. He left a mark on popular culture that is without parallel.","English",37.270000000000003,27.95,"782.42166092--dc23","128 pp.","https://www.enslow.com/books/John_Lennon/421763",{"$f":"Table1[[#This Row],[QTY]]*Table1[[#This Row],['# of Books]]","v":0},{"$f":"Table1[[#This Row],[QTY]]*Table1[[#This Row],[School & Library Price]]","v":0}]
[null,null,null,"Rebels with a Cause","Johnny Cash: Fighting for the Underdog",1,"eBook","978-0-7660-9312-6",{"$f":"HYPERLINK(Table1[[#This Row],[Hyperlink]],\"Weblink\")","v":"Weblink"},"Enslow Publishing","2018","January 2018",null,"Author","Edward Willett",null,null,null,null,"Z","1140L","Grade 8","Grade 7 - 12","This bio will be a favorite among your readers. From the beginning of his career, country music legend Johnny Cash, \"The Man in Black,\" was seen as a rebel, a perception solidified when he took the stage for his famous concert at Folsom State Prison in 1968. Born in Arkansas during the Great Depression, as a child Cash endured poverty, the death of his older brother, and a difficult relationship with his father. He turned to gospel and country music to express his pain, and eventually his songs of hardship and hope reached the ears of those waiting for an artist who represented them, ordinary people fighting to survive, just as he fought to survive his own lifelong battle with addiction. Over the decades, his career soared and floundered, and then, very late in life, soared again, as he found a whole new audience of young people who responded to the hard, gritty truths he poured into every song: a true rebel with a cause.","English",37.270000000000003,27.95,"782.421642092--dc23","128 pp.","https://www.enslow.com/books/Johnny_Cash/421760",{"$f":"Table1[[#This Row],[QTY]]*Table1[[#This Row],['# of Books]]","v":0},{"$f":"Table1[[#This Row],[QTY]]*Table1[[#This Row],[School & Library Price]]","v":0}]
[null,null,null,"Rebels with a Cause","Madonna: Fighting for Self-Expression",1,"Library Bound Book","978-0-7660-9255-6",{"$f":"HYPERLINK(Table1[[#This Row],[Hyperlink]],\"Weblink\")","v":"Weblink"},"Enslow Publishing","2018","January 2018","6.500 X 9.250","Author","Carol Gnojewski",null,null,null,null,"Z","1150L","Grade 8","Grade 7 - 12","Madonna enjoys pushing the envelope, generating accolades and controversy with each cause and project to which she lends her fame. A pop culture icon for over 30 years, her ongoing artistic evolution inspires fans who find her unconventionality refreshing. A self-described fighter, she's been unafraid to take a political stance, openly championing women's rights and civil rights throughout her career. This book tracks the queen of reinvention from her early struggles and ambitions through her unparalleled metamorphosis from pop star, to film star, to author, and philanthropist. Curious minds will discover how she's thrived and survived as a world-renowned female artist and provocateur.","English",37.270000000000003,27.95,"782.42166092--dc23","128 pp.","https://www.enslow.com/books/Madonna/421758",{"$f":"Table1[[#This Row],[QTY]]*Table1[[#This Row],['# of Books]]","v":0},{"$f":"Table1[[#This Row],[QTY]]*Table1[[#This Row],[School & Library Price]]","v":0}]
[null,null,null,"Rebels with a Cause","Mahatma Gandhi: Fighting For Indian Independence",1,"eBook","978-0-7660-8514-5",{"$f":"HYPERLINK(Table1[[#This Row],[Hyperlink]],\"Weblink\")","v":"Weblink"},"Enslow Publishing","2018","August 2017",null,"Author","Eileen Lucas",null,null,null,null,"Z","1260L","Grade 8","Grade 7 - 12","This compelling biography traces the evolution of Mohandas K. Gandhi as he forged the philosophy of Satyagraha—from Indian words for \"truth\" and \"firmness\"—amid the brutal racism of South Africa and helped lead the struggle for Indian independence. But Satyagraha was a bigger concept even than the Indian subcontinent and the mighty British Empire. Readers will learn about the Mahatma—“Great soul in peasant’s garb”—often in his own words, as well as the philosophy of truth and nonviolence that would later inspire Nelson Mandela, Martin Luther King Jr., and other rebels with a cause for ages to come. Students will be guided through their reading with a glossary of important words, a timeline, and references for further reading on the topic.","English",37.270000000000003,27.95,"954.03/5092--dc23","128 pp.","https://www.enslow.com/books/Mahatma_Gandhi/412754",{"$f":"Table1[[#This Row],[QTY]]*Table1[[#This Row],['# of Books]]","v":0},{"$f":"Table1[[#This Row],[QTY]]*Table1[[#This Row],[School & Library Price]]","v":0}]
[null,null,null,"Rebels with a Cause","Malcolm X: Fighting for Human Rights",1,"Library Bound Book","978-0-7660-8519-0",{"$f":"HYPERLINK(Table1[[#This Row],[Hyperlink]],\"Weblink\")","v":"Weblink"},"Enslow Publishing","2018","August 2017","6.500 X 9.250","Author","Jeff Burlingame",null,null,null,null,"Z","1070L","Grade 8","Grade 7 - 12","Malcolm X faced many injustices growing up as an African American in the early twentieth century. Funneling his anger over systemic racism into activism, Malcolm X became a leader of the civil rights movement as well as one of the best-known spokesmen for the Nation of Islam. In this engaging biography, students will learn about Malcolm X's trials, tribulations, and victories in the battle for civil rights. Students will be guided through the reading with historical context and primary source documents, as well as a glossary of important words, a timeline, and references for further reading.","English",37.270000000000003,27.95,"320.546092--dc23","128 pp.","https://www.enslow.com/books/Malcolm_X/412755",{"$f":"Table1[[#This Row],[QTY]]*Table1[[#This Row],['# of Books]]","v":0},{"$f":"Table1[[#This Row],[QTY]]*Table1[[#This Row],[School & Library Price]]","v":0}]
[null,null,null,"Rebels with a Cause","Martin Luther King Jr.: Fighting for Civil Rights",1,"eBook","978-0-7660-8512-1",{"$f":"HYPERLINK(Table1[[#This Row],[Hyperlink]],\"Weblink\")","v":"Weblink"},"Enslow Publishing","2018","August 2017",null,"Author, Author","Michael A. Schuman, Anne E. Schraff",null,null,null,null,"Z","1030L","Grade 8","Grade 7 - 12","Martin Luther King Jr. had a dream that, one day, all people would be viewed equally, no matter the color of their skin. And he fought hard for civil rights for African Americans, eventually even giving his life to the cause. This compelling biography explores King’s early life and his activism in his own words within the context of the Jim Crow American South, along with his victories and the way in which he changed our world. Students will be guided through their reading with a glossary of important terms, a timeline of King’s life and important events in the civil rights movement, and resources for further learning.","English",37.270000000000003,27.95,"323.092--dc23","128 pp.","https://www.enslow.com/books/Martin_Luther_King_Jr/412756",{"$f":"Table1[[#This Row],[QTY]]*Table1[[#This Row],['# of Books]]","v":0},{"$f":"Table1[[#This Row],[QTY]]*Table1[[#This Row],[School & Library Price]]","v":0}]
[null,null,null,"Rebels with a Cause","Muhammad Ali: Fighting as a Conscientious Objector",1,"Library Bound Book","978-0-7660-9256-3",{"$f":"HYPERLINK(Table1[[#This Row],[Hyperlink]],\"Weblink\")","v":"Weblink"},"Enslow Publishing","2018","January 2018","6.500 X 9.250","Author","John Micklos, Jr.",null,null,null,null,"Z","890L","Grade 8","Grade 7 - 12","This biography will have your readers on the edge of their seats. Muhammad Ali was a triple threat: heavyweight boxing champion, civil rights activist, and international sports icon. One of the most influential figures of the twentieth century, Ali dominated professional boxing for more than a decade in the 1960s and 1970s. Brash and outspoken, he proclaimed \"I am the greatest.\" He backed it up. A true rebel, he refused to serve in the U.S. Army during the Vietnam War, saying it violated his religious beliefs. And after retiring from boxing, Ali had one more fight: diagnosed with Parkinson's disease in 1984, he raised awareness of and funds for treatment and research for over 30 years. When he died in 2016, the world lost one of its most treasured and rebellious sports figures.","English",37.270000000000003,27.95,"796.83092--dc23","128 pp.","https://www.enslow.com/books/Muhammad_Ali/421759",{"$f":"Table1[[#This Row],[QTY]]*Table1[[#This Row],['# of Books]]","v":0},{"$f":"Table1[[#This Row],[QTY]]*Table1[[#This Row],[School & Library Price]]","v":0}]
[null,null,null,"Rebels with a Cause","Nelson Mandela: Fighting to Dismantle Apartheid",1,"eBook","978-0-7660-8518-3",{"$f":"HYPERLINK(Table1[[#This Row],[Hyperlink]],\"Weblink\")","v":"Weblink"},"Enslow Publishing","2018","August 2017",null,"Author","Ann Malaspina ",null,null,null,null,"Z",null,"Grade 8","Grade 7 - 12","Nelson Mandela's fight to end apartheid in South Africa is a riveting story of hardship, courage, and triumph. One of the great moral leaders of modern history, Mandela never gave up his struggle against racial oppression. Through Mandela's own words, primary documents, photographs, and engaging text, readers will learn about his early life in a small village, the stirrings of his political consciousness, his twenty-seven years of imprisonment for defying apartheid, and the events leading to his election as the first black president of South Africa. The book also explores Mandela's legacy of justice, equality, and dignity, which has inspired people to action around the globe.","English",37.270000000000003,27.95,"968.07/1092--dc23","128 pp.","https://www.enslow.com/books/Nelson_Mandela/412757",{"$f":"Table1[[#This Row],[QTY]]*Table1[[#This Row],['# of Books]]","v":0},{"$f":"Table1[[#This Row],[QTY]]*Table1[[#This Row],[School & Library Price]]","v":0}]
[null,null,null,"Rebels with a Cause","Simón Bolívar: Fighting for Latin American Liberation",1,"Library Bound Book","978-0-7660-8952-5",{"$f":"HYPERLINK(Table1[[#This Row],[Hyperlink]],\"Weblink\")","v":"Weblink"},"Enslow Publishing","2018","August 2017","6.500 X 9.250","Author","Bárbara C. Cruz",null,null,null,null,"Z","1110L","Grade 8","Grade 7 - 12","Simón Bolívar was a revolutionary and a political leader whose courageous battles for Latin self-rule led to the establishment of Venezuela, Bolivia, Colombia, Ecuador, Peru, and Panama as independent nations. Today, Bolívar is known as a great hero, and his name graces many institutions and streets across Latin America. This text examines Bolívar’s life and influence using primary source documents, photographs, and an examination of the context in which Bolívar fought for Latin American independence. Students will be guided through their reading with a glossary of important words, a timeline, and references for further reading on the topic.","English",37.270000000000003,27.95,"980/.02092--dc23","128 pp.","https://www.enslow.com/books/Simon_Bolivar/412758",{"$f":"Table1[[#This Row],[QTY]]*Table1[[#This Row],['# of Books]]","v":0},{"$f":"Table1[[#This Row],[QTY]]*Table1[[#This Row],[School & Library Price]]","v":0}]
[null,null,null,"Rebels with a Cause","Thomas Paine: Fighting for American Independence",1,"eBook","978-0-7660-8516-9",{"$f":"HYPERLINK(Table1[[#This Row],[Hyperlink]],\"Weblink\")","v":"Weblink"},"Enslow Publishing","2018","August 2017",null,"Author","Samuel Willard Crompton ",null,null,null,null,"Z","980L","Grade 8","Grade 7 - 12","Thomas Paine was the best-known rebel of his time. From England to America, and from America to France, he spread a doctrine of revolution and liberty. This volume uses inspiring quotes to highlight Paine's contributions. Through Paine's own words, along with photographs and primary documents, this text explores the American and French revolutions. In addition to Paine's contributions, the text also discusses the actions of Benjamin Franklin, Thomas Jefferson, and others. Students will be guided through their reading with a glossary of important words, a timeline, and references for further reading on the topic.","English",37.270000000000003,27.95,"320.51092--dc23","128 pp.","https://www.enslow.com/books/Thomas_Paine/412759",{"$f":"Table1[[#This Row],[QTY]]*Table1[[#This Row],['# of Books]]","v":0},{"$f":"Table1[[#This Row],[QTY]]*Table1[[#This Row],[School & Library Price]]","v":0}]
[null,null,null,"Rebels with a Cause","Toussaint L'Ouverture: Fighting for Haitian Independence",1,"Library Bound Book","978-0-7660-8521-3",{"$f":"HYPERLINK(Table1[[#This Row],[Hyperlink]],\"Weblink\")","v":"Weblink"},"Enslow Publishing","2018","August 2017","6.500 X 9.250","Author","Richard Worth",null,null,null,null,"Z","1120L","Grade 8","Grade 7 - 12","Toussaint L’Ouverture was an eighteenth-century military hero who led the Haitian Revolution, one of the greatest and most successful slave uprisings in the world. L’Ouverture believed strongly in both racial equality and anticolonialism, and he not only led the revolution against French control of Haiti but also created a prosperous autonomous colony before breaking ties with France. Unfortunately, L’Ouverture died in exile before seeing the fruits of his labor. In this text, students will learn about the historical context in which the Haitian Revolution was fought, as well as L’Ouverture’s role in it. Students will be guided through their reading with a glossary of important words, a timeline, and references for further reading on the topic.","English",37.270000000000003,27.95,"972.94/03092--dc23","128 pp.","https://www.enslow.com/books/Toussaint_LOuverture/412760",{"$f":"Table1[[#This Row],[QTY]]*Table1[[#This Row],['# of Books]]","v":0},{"$f":"Table1[[#This Row],[QTY]]*Table1[[#This Row],[School & Library Price]]","v":0}]
[null,null,null,"Lit Crit Guides","Lit Crit Guides: Sets 1 – 4",26,"Library Set","978-0-7660-8573-2",{"$f":"HYPERLINK(Table1[[#This Row],[Hyperlink]],\"Weblink\")","v":"Weblink"},"Enslow Publishing","2018","August 2017","6.000 X 9.000",null,null,null,null,null,null,null,null,"Grade 6 - 8","Grade 7 - 12","Readers will gain a better understanding of some of the most famous pieces of literature in history. Each book delves into the life and major works of an author, firmly placing the author’s work within the context of their world and the era in which they wrote. Readers learn about interpretations and major themes of each work, taking an in-depth look at style and language choices, genre, and plot. Excerpts from original works allow readers to utilize their new skills of analysis and encourage further reading of the author’s work.","English",1038.18,778.7,null,"152–176 pp.","https://www.enslow.com/series/Lit_Crit_Guides/523",{"$f":"Table1[[#This Row],[QTY]]*Table1[[#This Row],['# of Books]]","v":0},{"$f":"Table1[[#This Row],[QTY]]*Table1[[#This Row],[School & Library Price]]","v":0}]
[null,null,null,"Lit Crit Guides","Reading and Interpreting the Works of Alice Walker",1,"Library Bound Book","978-0-7660-8359-2",{"$f":"HYPERLINK(Table1[[#This Row],[Hyperlink]],\"Weblink\")","v":"Weblink"},"Enslow Publishing","2017","January 2017","6.000 X 9.000","Author","Lisa A. Crayton",null,null,null,null,"Z","1060L","Grade 6","Grade 7 - 12","Growing up poor in a small town in Georgia, Alice Walker became aware of the effects of prejudice and segregation at a young age. She would later call on these early experiences when writing her most famous novel, The Color Purple. But the themes of Walker’s prose and poetry extend far beyond race, including women’s issues, religion, relationships, and culture. This text explores the many themes of her work, as well as her use of characterization, literary devices, and plot. Through biographical information, quotes from the author, excerpts from texts, and critical analysis, readers will obtain a strong appreciation for the life and works of this controversial and esteemed author.","English",39.93,29.95,"813/.54--dc23","176 pp.","https://www.enslow.com/books/Reading_and_Interpreting_the_Works_of_Alice_Walker/421621",{"$f":"Table1[[#This Row],[QTY]]*Table1[[#This Row],['# of Books]]","v":0},{"$f":"Table1[[#This Row],[QTY]]*Table1[[#This Row],[School & Library Price]]","v":0}]
[null,null,null,"Lit Crit Guides","Reading and Interpreting the Works of Amy Tan",1,"eBook","978-0-7660-7910-6",{"$f":"HYPERLINK(Table1[[#This Row],[Hyperlink]],\"Weblink\")","v":"Weblink"},"Enslow Publishing","2017","August 2016",null,"Author","Audrey Borus",null,null,null,null,"Z","1150L","Grade 6","Grade 7 - 12","Amy Tan was born to Chinese immigrants who worked hard to fulfill their own version of the American Dream. After tragedy befell her family when she was a teenager, a tumultuous period followed in which Tan and her mother often clashed. This text reveals how biographical elements like these largely influenced the recurring themes in many of her novels. Tan's unique view on the Chinese-American experience and mother-daughter relationships, along with her use of setting, point of view, and a unique writing style are closely examined through excerpts from the books as well as critical analysis. Quotations from Tan herself help readers gain a better understanding and appreciation for this critically acclaimed author.","English",39.93,29.95,"813/.54--dc23","176 pp.","https://www.enslow.com/books/Reading_and_Interpreting_the_Works_of_Amy_Tan/419626",{"$f":"Table1[[#This Row],[QTY]]*Table1[[#This Row],['# of Books]]","v":0},{"$f":"Table1[[#This Row],[QTY]]*Table1[[#This Row],[School & Library Price]]","v":0}]
[null,null,null,"Lit Crit Guides","Reading and Interpreting the Works of Arthur Miller",1,"Library Bound Book","978-0-7660-7340-1",{"$f":"HYPERLINK(Table1[[#This Row],[Hyperlink]],\"Weblink\")","v":"Weblink"},"Enslow Publishing","2016","January 2016","6.000 X 9.000","Author","Amy Dunkleberger",null,null,null,null,"Z","1210L","Grade 8","Grade 7 - 12","Arthur Miller is described by some as the greatest American playwright of the twentieth century. To fully understand and appreciate his work, students must comprehend the political climate in which he was writing and the changes facing the world at the time. This engaging text provides readers with critical analysis of his themes, style, and language; direct quotations from Miller; and relevant biographical details. Students will learn about the world Arthur Miller was reflecting in his writing and why his works have become American classics.","English",39.93,29.95,"812'.52--dc23","160 pp.","https://www.enslow.com/books/Reading_and_Interpreting_the_Works_of_Arthur_Miller/4633",{"$f":"Table1[[#This Row],[QTY]]*Table1[[#This Row],['# of Books]]","v":0},{"$f":"Table1[[#This Row],[QTY]]*Table1[[#This Row],[School & Library Price]]","v":0}]
[null,null,null,"Lit Crit Guides","Reading and Interpreting the Works of Cormac McCarthy",1,"eBook","978-0-7660-7909-0",{"$f":"HYPERLINK(Table1[[#This Row],[Hyperlink]],\"Weblink\")","v":"Weblink"},"Enslow Publishing","2017","August 2016",null,"Author","Greg Clinton",null,null,null,null,"Z","1220L","Grade 6","Grade 7 - 12","The works of Pulitzer Prize-winning author Cormac McCarthy can be described as dark, mysterious, and violent. His unique writing style and Southern Gothic, post-apocalyptic brand of literature defy classification and make for a challenging and thought-provoking read. This text closely examines McCarthy’s recurring styles, symbols, and themes through excerpts from his books as well as critical analysis. Students will learn how to read and interpret McCarthy’s complex works while they come to a greater understanding of one of America’s most powerful writers.","English",39.93,29.95,"813/.54--dc23","176 pp.","https://www.enslow.com/books/Reading_and_Interpreting_the_Works_of_Cormac_McCarthy/419623",{"$f":"Table1[[#This Row],[QTY]]*Table1[[#This Row],['# of Books]]","v":0},{"$f":"Table1[[#This Row],[QTY]]*Table1[[#This Row],[School & Library Price]]","v":0}]
[null,null,null,"Lit Crit Guides","Reading and Interpreting the Works of Edgar Allan Poe",1,"Library Bound Book","978-0-7660-7342-5",{"$f":"HYPERLINK(Table1[[#This Row],[Hyperlink]],\"Weblink\")","v":"Weblink"},"Enslow Publishing","2016","January 2016","6.000 X 9.000","Author","Debra Mcarthur",null,null,null,null,"Z","1180L","Grade 8","Grade 7 - 12","Edgar Allan Poe's poems and short stories may be familiar to students, but the life that inspired these tales may still remain a mystery. This text provides readers with an understanding of how Poe's writing was influenced by the time period in which he lived and the circumstances of his tragic life. Students will learn how to ponder, interpret, and comprehend Poe's work through critical analysis of his themes, word choice, and style and through direct quotations from Poe himself.","English",39.93,29.95,"818'.309--dc23","160 pp.","https://www.enslow.com/books/Reading_and_Interpreting_the_Works_of_Edgar_Allan_Poe/4634",{"$f":"Table1[[#This Row],[QTY]]*Table1[[#This Row],['# of Books]]","v":0},{"$f":"Table1[[#This Row],[QTY]]*Table1[[#This Row],[School & Library Price]]","v":0}]
[null,null,null,"Lit Crit Guides","Reading and Interpreting the Works of Emily Dickinson",1,"eBook","978-0-7660-7345-6",{"$f":"HYPERLINK(Table1[[#This Row],[Hyperlink]],\"Weblink\")","v":"Weblink"},"Enslow Publishing","2016","January 2016",null,"Author","Audrey Borus",null,null,null,null,"Z","1130L","Grade 8","Grade 7 - 12","Emily Dickinson’s words may be well known to students, but they may know very little of her quiet solitary life. This text positions her work within the political climate in which she lived, the culture and expectations for an educated young woman of the day, and discusses what it meant to be a poet during the American Civil War. Through critical analysis of her themes, language, and style and direct quotations from Dickinson’s many correspondences, readers will learn how to think about and understand the works of Emily Dickinson.","English",39.93,29.95,"811'.4--dc23","160 pp.","https://www.enslow.com/books/Reading_and_Interpreting_the_Works_of_Emily_Dickinson/4635",{"$f":"Table1[[#This Row],[QTY]]*Table1[[#This Row],['# of Books]]","v":0},{"$f":"Table1[[#This Row],[QTY]]*Table1[[#This Row],[School & Library Price]]","v":0}]
[null,null,null,"Lit Crit Guides","Reading and Interpreting the Works of Ernest Hemingway",1,"Library Bound Book","978-0-7660-8489-6",{"$f":"HYPERLINK(Table1[[#This Row],[Hyperlink]],\"Weblink\")","v":"Weblink"},"Enslow Publishing","2018","August 2017","6.000 X 9.000","Author","Timothy J. Pingelton",null,null,null,null,"Z","1000L","Grade 8","Grade 7 - 12","No twentieth-century writer has achieved greater literary success than Ernest Hemingway. His early days in journalism resulted in his trademark lean prose and a compelling writing style that would influence generations of writers to come. A larger-than-life figure, the author pursued adventures that would provide the groundwork for compelling tales of wars, bullfights, and safaris. This insightful guide provides excerpts, quotes, and critical analysis of Hemingway’s novels and short stories in the context of his fascinating and ultimately tragic personal life. Through an in-depth exploration of some of his greatest works, readers will gain a greater understanding of this literary giant.","English",39.93,29.95,"813'.52--dc23","160 pp.","https://www.enslow.com/books/Reading_and_Interpreting_the_Works_of_Ernest_Hemingway/412734",{"$f":"Table1[[#This Row],[QTY]]*Table1[[#This Row],['# of Books]]","v":0},{"$f":"Table1[[#This Row],[QTY]]*Table1[[#This Row],[School & Library Price]]","v":0}]
[null,null,null,"Lit Crit Guides","Reading and Interpreting the Works of Eugene O'Neill",1,"eBook","978-0-7660-7907-6",{"$f":"HYPERLINK(Table1[[#This Row],[Hyperlink]],\"Weblink\")","v":"Weblink"},"Enslow Publishing","2017","August 2016",null,"Author","Spring Hermann",null,null,null,null,"Z","1110L","Grade 6","Grade 7 - 12","Playwright Eugene O'Neill dominated American theater for the first half of the twentieth century, and inspired most of the important dramatists of its second half. This text tells the story of O'Neill's often troubled life, then ties it in with his work: complex, lengthy dramas unlike anything seen on Broadway before. The playwright's main themes, which he returned to throughout his career, are carefully detailed, as are the various styles he employed over the years. Critical analysis, excerpts from the work, and quotes from O'Neill enhance readers' understanding and appreciation for this prolific playwright.","English",39.93,29.95,"812/.52--dc23","176 pp.","https://www.enslow.com/books/Reading_and_Interpreting_the_Works_of_Eugene_ONeill/419617",{"$f":"Table1[[#This Row],[QTY]]*Table1[[#This Row],['# of Books]]","v":0},{"$f":"Table1[[#This Row],[QTY]]*Table1[[#This Row],[School & Library Price]]","v":0}]
[null,null,null,"Lit Crit Guides","Reading and Interpreting the Works of F. Scott Fitzgerald",1,"Library Bound Book","978-0-7660-7346-3",{"$f":"HYPERLINK(Table1[[#This Row],[Hyperlink]],\"Weblink\")","v":"Weblink"},"Enslow Publishing","2016","January 2016","6.000 X 9.000","Author","Eva Weisbrod Geertz ",null,null,null,null,"Z","1100L","Grade 8","Grade 7 - 12","F. Scott Fitzgerald’s books may reflect the glitz and glamour of the 1920s, but was his life anything like that of his characters? Through direct quotations and intriguing biographical information, this text helps readers understand how the era in which Fitzgerald wrote influenced his writing. Excerpts from original works and critical analysis of his themes, style, and word choice allow readers to immerse themselves in his world.","English",39.93,29.95,"813'.52--dc23","160 pp.","https://www.enslow.com/books/Reading_and_Interpreting_the_Works_of_F_Scott_Fitzgerald/4636",{"$f":"Table1[[#This Row],[QTY]]*Table1[[#This Row],['# of Books]]","v":0},{"$f":"Table1[[#This Row],[QTY]]*Table1[[#This Row],[School & Library Price]]","v":0}]
[null,null,null,"Lit Crit Guides","Reading and Interpreting the Works of George Orwell",1,"Library Bound Book","978-0-7660-8354-7",{"$f":"HYPERLINK(Table1[[#This Row],[Hyperlink]],\"Weblink\")","v":"Weblink"},"Enslow Publishing","2017","January 2017","6.000 X 9.000","Author","Audrey Borus",null,null,null,null,"Z","1220L","Grade 6","Grade 7 - 12","As a young man, Eric Blair, better known as George Orwell, traveled to Spain to fight in that country’s civil war. Although he was a British citizen, he felt the need to fight for the rights of the oppressed in that country. As the writer of the classics Animal Farm and Nineteen Eighty-Four, Orwell used his pen to comment on power and corruption in government and how they affect society. This text takes an in-depth look at Orwell’s novels and essays in the context of his own fascinating life and times. It analyzes his style, themes, and use of language, while also asking readers to consider how this prescient author and his works are still relevant in today’s world.","English",39.93,29.95,"828/.91209--dc23","176 pp.","https://www.enslow.com/books/Reading_and_Interpreting_the_Works_of_George_Orwell/421623",{"$f":"Table1[[#This Row],[QTY]]*Table1[[#This Row],['# of Books]]","v":0},{"$f":"Table1[[#This Row],[QTY]]*Table1[[#This Row],[School & Library Price]]","v":0}]
[null,null,null,"Lit Crit Guides","Reading and Interpreting the Works of George Orwell",1,"eBook","978-0-7660-8355-4",{"$f":"HYPERLINK(Table1[[#This Row],[Hyperlink]],\"Weblink\")","v":"Weblink"},"Enslow Publishing","2017","January 2017",null,"Author","Audrey Borus",null,null,null,null,"Z","1220L","Grade 6","Grade 7 - 12","As a young man, Eric Blair, better known as George Orwell, traveled to Spain to fight in that country’s civil war. Although he was a British citizen, he felt the need to fight for the rights of the oppressed in that country. As the writer of the classics Animal Farm and Nineteen Eighty-Four, Orwell used his pen to comment on power and corruption in government and how they affect society. This text takes an in-depth look at Orwell’s novels and essays in the context of his own fascinating life and times. It analyzes his style, themes, and use of language, while also asking readers to consider how this prescient author and his works are still relevant in today’s world.","English",39.93,29.95,"828/.91209--dc23","176 pp.","https://www.enslow.com/books/Reading_and_Interpreting_the_Works_of_George_Orwell/421623",{"$f":"Table1[[#This Row],[QTY]]*Table1[[#This Row],['# of Books]]","v":0},{"$f":"Table1[[#This Row],[QTY]]*Table1[[#This Row],[School & Library Price]]","v":0}]
[null,null,null,"Lit Crit Guides","Reading and Interpreting the Works of J.R.R. Tolkien",1,"Library Bound Book","978-0-7660-8362-2",{"$f":"HYPERLINK(Table1[[#This Row],[Hyperlink]],\"Weblink\")","v":"Weblink"},"Enslow Publishing","2017","January 2017","6.000 X 9.000","Author","Greg Clinton",null,null,null,null,"Z","1230L","Grade 6","Grade 7 - 12","The world of J.R.R. Tolkien is one that is inhabited by hobbits, dwarves, elves, wizards, and dragons. As a young man, Tolkien created his very own language, and from there he went on to imagine an entire magical world and its detailed history. Students will take an in-depth and thought-provoking look at The Hobbit and The Lord of the Rings, as well as The Simarillion, which provides the foundation for his classic works. The text includes an insightful analysis of the major themes and characters of the works that continue to fascinate new generations of readers.","English",39.93,29.95,"828/.91209--dc23","176 pp.","https://www.enslow.com/books/Reading_and_Interpreting_the_Works_of_JRR_Tolkien/421624",{"$f":"Table1[[#This Row],[QTY]]*Table1[[#This Row],['# of Books]]","v":0},{"$f":"Table1[[#This Row],[QTY]]*Table1[[#This Row],[School & Library Price]]","v":0}]
[null,null,null,"Lit Crit Guides","Reading and Interpreting the Works of J.R.R. Tolkien",1,"eBook","978-0-7660-8363-9",{"$f":"HYPERLINK(Table1[[#This Row],[Hyperlink]],\"Weblink\")","v":"Weblink"},"Enslow Publishing","2017","January 2017",null,"Author","Greg Clinton",null,null,null,null,"Z","1230L","Grade 6","Grade 7 - 12","The world of J.R.R. Tolkien is one that is inhabited by hobbits, dwarves, elves, wizards, and dragons. As a young man, Tolkien created his very own language, and from there he went on to imagine an entire magical world and its detailed history. Students will take an in-depth and thought-provoking look at The Hobbit and The Lord of the Rings, as well as The Simarillion, which provides the foundation for his classic works. The text includes an insightful analysis of the major themes and characters of the works that continue to fascinate new generations of readers.","English",39.93,29.95,"828/.91209--dc23","176 pp.","https://www.enslow.com/books/Reading_and_Interpreting_the_Works_of_JRR_Tolkien/421624",{"$f":"Table1[[#This Row],[QTY]]*Table1[[#This Row],['# of Books]]","v":0},{"$f":"Table1[[#This Row],[QTY]]*Table1[[#This Row],[School & Library Price]]","v":0}]
[null,null,null,"Lit Crit Guides","Reading and Interpreting the Works of Jane Austen",1,"Library Bound Book","978-0-7660-7911-3",{"$f":"HYPERLINK(Table1[[#This Row],[Hyperlink]],\"Weblink\")","v":"Weblink"},"Enslow Publishing","2017","August 2016","6.000 X 9.000","Author","Connie Ann Kirk, Ph.D.",null,null,null,null,"Z","1210L","Grade 6","Grade 7 - 12","Jane Austen is one of the most beloved novelists of all time, yet despite her ever-growing popularity, there still remains a certain mystique about the woman herself. In this text, readers will get to know the novelist and her works in the context of Regency England society as well as the author’s more intimate circle of family and friends. Students will come to a greater understanding of Austen’s innovative writing style and universal themes through excerpts from the novels, critical analysis, and quotes from Austen herself. This text also explores the recent explosion of Austen-inspired books and films; evidence that Austen and her novels continue to transcend time and connect with the newest generation of readers.","English",39.93,29.95,"823/.7--dc23","176 pp.","https://www.enslow.com/books/Reading_and_Interpreting_the_Works_of_Jane_Austen/419611",{"$f":"Table1[[#This Row],[QTY]]*Table1[[#This Row],['# of Books]]","v":0},{"$f":"Table1[[#This Row],[QTY]]*Table1[[#This Row],[School & Library Price]]","v":0}]
[null,null,null,"Lit Crit Guides","Reading and Interpreting the Works of Jane Austen",1,"eBook","978-0-7660-7905-2",{"$f":"HYPERLINK(Table1[[#This Row],[Hyperlink]],\"Weblink\")","v":"Weblink"},"Enslow Publishing","2017","August 2016",null,"Author","Connie Ann Kirk, Ph.D.",null,null,null,null,"Z","1210L","Grade 6","Grade 7 - 12","Jane Austen is one of the most beloved novelists of all time, yet despite her ever-growing popularity, there still remains a certain mystique about the woman herself. In this text, readers will get to know the novelist and her works in the context of Regency England society as well as the author’s more intimate circle of family and friends. Students will come to a greater understanding of Austen’s innovative writing style and universal themes through excerpts from the novels, critical analysis, and quotes from Austen herself. This text also explores the recent explosion of Austen-inspired books and films; evidence that Austen and her novels continue to transcend time and connect with the newest generation of readers.","English",39.93,29.95,"823/.7--dc23","176 pp.","https://www.enslow.com/books/Reading_and_Interpreting_the_Works_of_Jane_Austen/419611",{"$f":"Table1[[#This Row],[QTY]]*Table1[[#This Row],['# of Books]]","v":0},{"$f":"Table1[[#This Row],[QTY]]*Table1[[#This Row],[School & Library Price]]","v":0}]
[null,null,null,"Lit Crit Guides","Reading and Interpreting the Works of John Steinbeck",1,"Library Bound Book","978-0-7660-7348-7",{"$f":"HYPERLINK(Table1[[#This Row],[Hyperlink]],\"Weblink\")","v":"Weblink"},"Enslow Publishing","2016","January 2016","6.000 X 9.000","Author, Author","Gerald Newman, Eleanor Newman Layfield",null,null,null,null,"Z","1080L","Grade 8","Grade 7 - 12","To appreciate and understand John Steinbeck's stories, students must comprehend what it was like to live during the Great Depression, and they must understand the working man to whom Steinbeck was attempting to appeal. Through direct quotations; biographical details; and in-depth discussions of his style, themes, and form, this text will allow readers to ponder and interpret Steinbeck's works.","English",39.93,29.95,"813'.52--dc23","176 pp.","https://www.enslow.com/books/Reading_and_Interpreting_the_Works_of_John_Steinbeck/4637",{"$f":"Table1[[#This Row],[QTY]]*Table1[[#This Row],['# of Books]]","v":0},{"$f":"Table1[[#This Row],[QTY]]*Table1[[#This Row],[School & Library Price]]","v":0}]
[null,null,null,"Lit Crit Guides","Reading and Interpreting the Works of John Steinbeck",1,"eBook","978-0-7660-7349-4",{"$f":"HYPERLINK(Table1[[#This Row],[Hyperlink]],\"Weblink\")","v":"Weblink"},"Enslow Publishing","2016","January 2016",null,"Author, Author","Gerald Newman, Eleanor Newman Layfield",null,null,null,null,"Z","1080L","Grade 8","Grade 7 - 12","To appreciate and understand John Steinbeck's stories, students must comprehend what it was like to live during the Great Depression, and they must understand the working man to whom Steinbeck was attempting to appeal. Through direct quotations; biographical details; and in-depth discussions of his style, themes, and form, this text will allow readers to ponder and interpret Steinbeck's works.","English",39.93,29.95,"813'.52--dc23","176 pp.","https://www.enslow.com/books/Reading_and_Interpreting_the_Works_of_John_Steinbeck/4637",{"$f":"Table1[[#This Row],[QTY]]*Table1[[#This Row],['# of Books]]","v":0},{"$f":"Table1[[#This Row],[QTY]]*Table1[[#This Row],[School & Library Price]]","v":0}]
[null,null,null,"Lit Crit Guides","Reading and Interpreting the Works of Maya Angelou",1,"Library Bound Book","978-0-7660-8497-1",{"$f":"HYPERLINK(Table1[[#This Row],[Hyperlink]],\"Weblink\")","v":"Weblink"},"Enslow Publishing","2018","August 2017","6.000 X 9.000","Author","Audrey Borus",null,null,null,null,"Z","1140L","Grade 8","Grade 7 - 12","\"There is no greater agony than bearing an untold story inside you.\" Maya Angelou's words in I Know Why the Caged Bird Sings reveal her own need to tell stories, a lifelong passion that manifested itself in the form of memoirs and poetry as well as essays, film, and music. This in-depth guide utilizes the fascinating life story of Angelou, who was also an educator and activist, as a springboard for exploring the themes, motifs, and literary techniques that characterize her writing. Critical analysis, quotes, and excerpts from a variety of texts provide a compelling examination of Angelou's extensive body of work.","English",39.93,29.95,"818'.5409--dc23","160 pp.","https://www.enslow.com/books/Reading_and_Interpreting_the_Works_of_Maya_Angelou/412737",{"$f":"Table1[[#This Row],[QTY]]*Table1[[#This Row],['# of Books]]","v":0},{"$f":"Table1[[#This Row],[QTY]]*Table1[[#This Row],[School & Library Price]]","v":0}]
[null,null,null,"Lit Crit Guides","Reading and Interpreting the Works of Maya Angelou",1,"eBook","978-0-7660-8498-8",{"$f":"HYPERLINK(Table1[[#This Row],[Hyperlink]],\"Weblink\")","v":"Weblink"},"Enslow Publishing","2018","August 2017",null,"Author","Audrey Borus",null,null,null,null,"Z","1140L","Grade 8","Grade 7 - 12","\"There is no greater agony than bearing an untold story inside you.\" Maya Angelou's words in I Know Why the Caged Bird Sings reveal her own need to tell stories, a lifelong passion that manifested itself in the form of memoirs and poetry as well as essays, film, and music. This in-depth guide utilizes the fascinating life story of Angelou, who was also an educator and activist, as a springboard for exploring the themes, motifs, and literary techniques that characterize her writing. Critical analysis, quotes, and excerpts from a variety of texts provide a compelling examination of Angelou's extensive body of work.","English",39.93,29.95,"818'.5409--dc23","160 pp.","https://www.enslow.com/books/Reading_and_Interpreting_the_Works_of_Maya_Angelou/412737",{"$f":"Table1[[#This Row],[QTY]]*Table1[[#This Row],['# of Books]]","v":0},{"$f":"Table1[[#This Row],[QTY]]*Table1[[#This Row],[School & Library Price]]","v":0}]
[null,null,null,"Lit Crit Guides","Reading and Interpreting the Works of Robert Frost",1,"eBook","978-0-7660-7351-7",{"$f":"HYPERLINK(Table1[[#This Row],[Hyperlink]],\"Weblink\")","v":"Weblink"},"Enslow Publishing","2016","January 2016",null,"Author","Connie Ann Kirk, Ph.D.",null,null,null,null,"Z","1180L","Grade 8","Grade 7 - 12","Although Frost's words may be well-known to most students, the life that inspired his work may not be. By discussing the time in which Frost lived; the events of his life; and an analysis of his themes, style, and language, this text introduces readers to the world of Robert Frost and shows them what made him an American poetry legend.","English",39.93,29.95,"811'.52--dc23","176 pp.","https://www.enslow.com/books/Reading_and_Interpreting_the_Works_of_Robert_Frost/4638",{"$f":"Table1[[#This Row],[QTY]]*Table1[[#This Row],['# of Books]]","v":0},{"$f":"Table1[[#This Row],[QTY]]*Table1[[#This Row],[School & Library Price]]","v":0}]
[null,null,null,"Lit Crit Guides","Reading and Interpreting the Works of T.S. Eliot",1,"Library Bound Book","978-0-7660-8356-1",{"$f":"HYPERLINK(Table1[[#This Row],[Hyperlink]],\"Weblink\")","v":"Weblink"},"Enslow Publishing","2017","January 2017","6.000 X 9.000","Author","Naomi Pasachoff",null,null,null,null,"Z","1250L","Grade 6","Grade 7 - 12","Students often approach the complex poetry of T. S. Eliot with some degree of trepidation, but as this comprehensive text demonstrates, that need not be the case. With its thoughtful analysis and engaging writing style, this guide provides readers with the tools they need to approach Eliot's works with confidence, while at the same time encouraging them to draw their own meaning from the words and sounds of the poetry. This text also explores Eliot’s life beyond his poems, including his extensive work as an essayist, editor, and critic. Given this context, readers will establish a deeper understanding of the poet as well as his work.","English",39.93,29.95,"821'.912--dc23","176 pp.","https://www.enslow.com/books/Reading_and_Interpreting_the_Works_of_TS_Eliot/421625",{"$f":"Table1[[#This Row],[QTY]]*Table1[[#This Row],['# of Books]]","v":0},{"$f":"Table1[[#This Row],[QTY]]*Table1[[#This Row],[School & Library Price]]","v":0}]
[null,null,null,"Lit Crit Guides","Reading and Interpreting the Works of Tennessee Williams",1,"eBook","978-0-7660-8358-5",{"$f":"HYPERLINK(Table1[[#This Row],[Hyperlink]],\"Weblink\")","v":"Weblink"},"Enslow Publishing","2017","January 2017",null,"Author","Spring Hermann",null,null,null,null,"Z","1090L","Grade 6","Grade 7 - 12","As a child growing up in the Deep South, Tom “Tennessee” Williams escaped from his tumultuous home life by retreating into his imagination. His love for made-up stories would eventually translate into a propensity for writing drama and poetry. This compelling text places the playwright’s work in the context of his life and times, allowing readers to gain a greater understanding of the two-time Pulitzer Prize winner. Featuring quotes, excerpts, and in-depth critical analysis of his most famous plays as well as his lesser-known works, the text provides an in-depth look at this hard-working, prolific playwright considered by many to be among the greatest of his time.","English",39.93,29.95,"812/.54dc23","176 pp.","https://www.enslow.com/books/Reading_and_Interpreting_the_Works_of_Tennessee_Williams/421620",{"$f":"Table1[[#This Row],[QTY]]*Table1[[#This Row],['# of Books]]","v":0},{"$f":"Table1[[#This Row],[QTY]]*Table1[[#This Row],[School & Library Price]]","v":0}]
[null,null,null,"Lit Crit Guides","Reading and Interpreting the Works of the Brontë Sisters",1,"Library Bound Book","978-0-7660-8949-5",{"$f":"HYPERLINK(Table1[[#This Row],[Hyperlink]],\"Weblink\")","v":"Weblink"},"Enslow Publishing","2018","August 2017","6.000 X 9.000","Author","Naomi Pasachoff",null,null,null,null,"Z","1300L","Grade 8","Grade 7 - 12","The literary output of the Brontë sisters was small, but their novels remain immensely popular more than 150 years after their deaths. Each sister wrote a novel that challenged the ideas of the day on what was fit to print: Charlotte’s Jane Eyre by examining the interior life of a young girl; Emily’s Wuthering Heights by overturning the conventions of the novel, even while making use of traditional literary forms; Anne’s The Tenant of Wildfell Hall by depicting a husband’s alcoholism and debauchery. This guide, which roots the writers’ work in their unusual upbringing and describes and challenges the so-called Brontë myth, aims to provide both first-time readers and long-time Brontë enthusiasts with a deeper understanding of their work and the reasons it continues to engross readers today.","English",39.93,29.95,"823/.8--dc23","160 pp.","https://www.enslow.com/books/Reading_and_Interpreting_the_Works_of_the_Bronte_Sisters/412738",{"$f":"Table1[[#This Row],[QTY]]*Table1[[#This Row],['# of Books]]","v":0},{"$f":"Table1[[#This Row],[QTY]]*Table1[[#This Row],[School & Library Price]]","v":0}]
[null,null,null,"Lit Crit Guides","Reading and Interpreting the Works of Toni Morrison",1,"eBook","978-0-7660-7353-1",{"$f":"HYPERLINK(Table1[[#This Row],[Hyperlink]],\"Weblink\")","v":"Weblink"},"Enslow Publishing","2016","January 2016",null,"Author","Lisa A. Crayton",null,null,null,null,"Z","990L","Grade 8","Grade 7 - 12","Toni Morrison has received the Nobel Prize for Literature, the Pulitzer Prize, and many other awards. In order to fully appreciate what this amazing author has accomplished, students must know where she came from, the era in which she grew up, and how these details influenced the major themes, style, and language of her writing. Through critical analysis, excerpts, and direct quotations from Morrison herself, this biography will allow readers to gain a deeper understanding of her work.","English",39.93,29.95,"813'.54--dc23","152 pp.","https://www.enslow.com/books/Reading_and_Interpreting_the_Works_of_Toni_Morrison/4639",{"$f":"Table1[[#This Row],[QTY]]*Table1[[#This Row],['# of Books]]","v":0},{"$f":"Table1[[#This Row],[QTY]]*Table1[[#This Row],[School & Library Price]]","v":0}]
[null,null,null,"Lit Crit Guides","Reading and Interpreting the Works of Walt Whitman",1,"Library Bound Book","978-0-7660-8495-7",{"$f":"HYPERLINK(Table1[[#This Row],[Hyperlink]],\"Weblink\")","v":"Weblink"},"Enslow Publishing","2018","August 2017","6.000 X 9.000","Author","Alex Beene",null,null,null,null,"Z","1220L","Grade 8","Grade 7 - 12","For most students, the images stirred by the word \"poet\" are those of an introverted individual removed from the crowd and devoted more to his or her work than engaging in the company of others. Walt Whitman spent a lifetime avoiding these commonly held notions of what a writer should be. From founding his own newspaper to acting as a volunteer nurse during the Civil War, Whitman encountered years of progress and turmoil that dramatically influenced the author he would become. This detailed guide serves as a compass through the magnificent journey Whitman took as a man who wanted to present the profoundly essential relationship between poetry and society.","English",39.93,29.95,"811'.3--dc23","160 pp.","https://www.enslow.com/books/Reading_and_Interpreting_the_Works_of_Walt_Whitman/412739",{"$f":"Table1[[#This Row],[QTY]]*Table1[[#This Row],['# of Books]]","v":0},{"$f":"Table1[[#This Row],[QTY]]*Table1[[#This Row],[School & Library Price]]","v":0}]
[null,null,null,"Lit Crit Guides","Reading and Interpreting the Works of William Faulkner",1,"eBook","978-0-7660-7355-5",{"$f":"HYPERLINK(Table1[[#This Row],[Hyperlink]],\"Weblink\")","v":"Weblink"},"Enslow Publishing","2016","January 2016",null,"Author","Debra Mcarthur",null,null,null,null,"Z","1130L","Grade 8","Grade 7 - 12","Living in the southern United States during the civil rights movement, William Faulkner's work is fraught with depictions of life in the changing South. Through the interpretation of key details of his life, as well as direct quotations and analysis of his word choice and themes, readers will learn how to examine and comprehend Faulkner's writing for themselves.","English",39.93,29.95,"813'.52--dc23","160 pp.","https://www.enslow.com/books/Reading_and_Interpreting_the_Works_of_William_Faulkner/4640",{"$f":"Table1[[#This Row],[QTY]]*Table1[[#This Row],['# of Books]]","v":0},{"$f":"Table1[[#This Row],[QTY]]*Table1[[#This Row],[School & Library Price]]","v":0}]
[null,null,null,"Lit Crit Guides","Reading and Interpreting the Works of William Shakespeare",1,"Library Bound Book","978-0-7660-7912-0",{"$f":"HYPERLINK(Table1[[#This Row],[Hyperlink]],\"Weblink\")","v":"Weblink"},"Enslow Publishing","2017","August 2016","6.000 X 9.000","Author","Walt Mittelstaedt",null,null,null,null,"Z","1130L","Grade 6","Grade 7 - 12","The subject of William Shakespeare, considered by many to be the greatest writer in the English language, is often approached with trepidation by students encountering one of his plays for the first time. This text explains Shakespeare’s works by putting them into the context of the Elizabethan times in which he lived. Characters, themes, and literary devices are defined and examined as students are exposed to close readings of the histories, tragedies, comedies, and verse. The text includes examples from every type of work as well as ample critical analysis that serves to illuminate the life and work of this peerless dramatist and poet.","English",39.93,29.95,"822.3/3--dc23","176 pp.","https://www.enslow.com/books/Reading_and_Interpreting_the_Works_of_William_Shakespeare/419614",{"$f":"Table1[[#This Row],[QTY]]*Table1[[#This Row],['# of Books]]","v":0},{"$f":"Table1[[#This Row],[QTY]]*Table1[[#This Row],[School & Library Price]]","v":0}]
[null,null,null,"Life Skills","Always Broke?: Skills to Make More Money",1,"Library Bound Book","978-0-7660-9980-7",{"$f":"HYPERLINK(Table1[[#This Row],[Hyperlink]],\"Weblink\")","v":"Weblink"},"Enslow Publishing","2019","August 2018","7.250 X 9.250","Author","Louise Spilsbury",null,null,null,null,"L",null,"Grade 5","Grade 5 - 8","Managing finances can be tricky for adults, much less teenagers who are dealing with money for the first time. In this useful resource, readers will learn about earning money through part-time jobs or making and selling products. Other helpful topics covered include saving and making budgets, banks and different types of accounts, and credit cards and debt. Readers will come away knowing how to be a thoughtful consumer and make the most of their money.","English",29.26,21.95,"332.024--dc23","48 pp.","https://www.enslow.com/books/Always_Broke/421912",{"$f":"Table1[[#This Row],[QTY]]*Table1[[#This Row],['# of Books]]","v":0},{"$f":"Table1[[#This Row],[QTY]]*Table1[[#This Row],[School & Library Price]]","v":0}]
[null,null,null,"Life Skills","Always Broke?: Skills to Make More Money",1,"eBook","978-0-7660-9982-1",{"$f":"HYPERLINK(Table1[[#This Row],[Hyperlink]],\"Weblink\")","v":"Weblink"},"Enslow Publishing","2019","August 2018",null,"Author","Louise Spilsbury",null,null,null,null,"L",null,"Grade 5","Grade 5 - 8","Managing finances can be tricky for adults, much less teenagers who are dealing with money for the first time. In this useful resource, readers will learn about earning money through part-time jobs or making and selling products. Other helpful topics covered include saving and making budgets, banks and different types of accounts, and credit cards and debt. Readers will come away knowing how to be a thoughtful consumer and make the most of their money.","English",29.26,21.95,"332.024--dc23","48 pp.","https://www.enslow.com/books/Always_Broke/421912",{"$f":"Table1[[#This Row],[QTY]]*Table1[[#This Row],['# of Books]]","v":0},{"$f":"Table1[[#This Row],[QTY]]*Table1[[#This Row],[School & Library Price]]","v":0}]
[null,null,null,"Life Skills","Avoiding Bullies?: Skills to Outsmart and Stop Them",1,"eBook","978-0-7660-9970-8",{"$f":"HYPERLINK(Table1[[#This Row],[Hyperlink]],\"Weblink\")","v":"Weblink"},"Enslow Publishing","2019","August 2018",null,"Author","Louise Spilsbury",null,null,null,null,"S",null,"Grade 5","Grade 5 - 8","Bullying can take many forms, from verbal threats and physical confrontation to social ostracism and cyberbullying. It can happen to anyone, regardless of race, sexual orientation, or disability; it can happen at school or at home. Readers will learn how to cope with bullying, how to boost their self-esteem, how to help a friend, and even how to know whether their own behavior constitutes bullying. Sidebars provide practical advice on every aspect of bullying, including what to do if the bully is a teacher or parent.","English",29.26,21.95,"302.34'3--dc23","48 pp.","https://www.enslow.com/books/Avoiding_Bullies/421908",{"$f":"Table1[[#This Row],[QTY]]*Table1[[#This Row],['# of Books]]","v":0},{"$f":"Table1[[#This Row],[QTY]]*Table1[[#This Row],[School & Library Price]]","v":0}]
[null,null,null,"Life Skills","Drinking and Drugs?: Skills to Avoid ’Em and Stay Cool",1,"Library Bound Book","978-0-7660-9971-5",{"$f":"HYPERLINK(Table1[[#This Row],[Hyperlink]],\"Weblink\")","v":"Weblink"},"Enslow Publishing","2019","August 2018","7.250 X 9.250","Author","Louise Spilsbury",null,null,null,null,"U",null,"Grade 5","Grade 5 - 8","Drug use and abuse is a serious problem for teenagers and adults alike. In this guide, readers will learn how to deal with addiction, how to avoid peer pressure to use, and how to get help and make healthy choices. From alcohol and nicotine to marijuana and heroin, each drug has dangerous short- and long-term effects on the body, some of which can be life-threatening and lead to lethal overdose. Even painkillers prescribed by a doctor can become addictive and harmful. Readers will be inspired to make healthy choices and avoid drugs.","English",29.26,21.95,"363.45--dc23","48 pp.","https://www.enslow.com/books/Drinking_and_Drugs/421909",{"$f":"Table1[[#This Row],[QTY]]*Table1[[#This Row],['# of Books]]","v":0},{"$f":"Table1[[#This Row],[QTY]]*Table1[[#This Row],[School & Library Price]]","v":0}]
[null,null,null,"Life Skills","Family Issues?: Skills to Communicate",1,"eBook","978-0-7660-9976-0",{"$f":"HYPERLINK(Table1[[#This Row],[Hyperlink]],\"Weblink\")","v":"Weblink"},"Enslow Publishing","2019","August 2018",null,"Author","Louise Spilsbury",null,null,null,null,"S",null,"Grade 5","Grade 5 - 8","No matter what their family situation, teenagers often clash with their relatives on issues ranging from small sibling squabbles to major crises like divorce and abuse. This relatable guide helps students build strong relationships with their parents, siblings, and other family members through open communication and compromise. Whether readers live with their biological parents, adopted parents, foster parents, or grandparents, they will find helpful advice and resources for navigating and resolving conflicts both big and small.","English",29.26,21.95,"362.82--dc23","48 pp.","https://www.enslow.com/books/Family_Issues/421910",{"$f":"Table1[[#This Row],[QTY]]*Table1[[#This Row],['# of Books]]","v":0},{"$f":"Table1[[#This Row],[QTY]]*Table1[[#This Row],[School & Library Price]]","v":0}]
[null,null,null,"Life Skills","Got Career Goals?: Skills to Land Your Dream Job",1,"Library Bound Book","978-0-7660-9983-8",{"$f":"HYPERLINK(Table1[[#This Row],[Hyperlink]],\"Weblink\")","v":"Weblink"},"Enslow Publishing","2019","August 2018","7.250 X 9.250","Author","Louise Spilsbury",null,null,null,null,"V","1070L","Grade 5","Grade 5 - 8","It's never too early for teens to start thinking about their future careers, but planning ahead can be stressful and overwhelming. Whether they want to make their dream job a reality or are unsure what field to pursue, this guide will help teenagers assess their interests, skills, and goals and turn them into a rewarding career path. Readers will find out how to research jobs that reflect their talents and personality, how to plan ahead for the qualifications they'll need, and how to gain experience through internships, volunteering, or part-time jobs.","English",29.26,21.95,"650.14--dc23","48 pp.","https://www.enslow.com/books/Got_Career_Goals/421913",{"$f":"Table1[[#This Row],[QTY]]*Table1[[#This Row],['# of Books]]","v":0},{"$f":"Table1[[#This Row],[QTY]]*Table1[[#This Row],[School & Library Price]]","v":0}]
[null,null,null,"Life Skills","Zits and Hormones?: Skills to Handle Puberty",1,"eBook","978-0-7660-9979-1",{"$f":"HYPERLINK(Table1[[#This Row],[Hyperlink]],\"Weblink\")","v":"Weblink"},"Enslow Publishing","2019","August 2018",null,"Author","Louise Spilsbury",null,null,null,null,"V",null,"Grade 5","Grade 5 - 8","Going through puberty can be a challenging time for adolescents. This book explains how hormones cause various changes in the body for both boys and girls, as well as advice on how to cope with them. Useful tips are highlighted on how to handle topics from persistent pimples to the most effective shaving methods. Readers will also gain insight on how to deal with stress at home and at school. Medical and technical terms are defined, and health is emphasized throughout.","English",29.26,21.95,"613'.0433--dc23","48 pp.","https://www.enslow.com/books/Zits_and_Hormones/421911",{"$f":"Table1[[#This Row],[QTY]]*Table1[[#This Row],['# of Books]]","v":0},{"$f":"Table1[[#This Row],[QTY]]*Table1[[#This Row],[School & Library Price]]","v":0}]
[null,null,null,"Teen Survival Guide","Teen Survival Guide",6,"Library Set","978-0-7660-9195-5",{"$f":"HYPERLINK(Table1[[#This Row],[Hyperlink]],\"Weblink\")","v":"Weblink"},"Enslow Publishing","2018","January 2018","7.250 X 9.250",null,null,null,null,null,null,null,null,"Grade 6","Grade 7 - 12","It's hard to be a teen today. One might even tell you, \"Like, I sure would like a teen life survival guide.\" High school life forty years ago was about classes, dances, sports, friends, learning to drive, having simple fun like going to the movies, and planning for the future. High school life now includes all that, plus the incredible complications and pressures caused by a heavily technofied, plugged-in world. With this series, you'll help teenagers survive it all. From first dates to the epic evening of prom, teens will be able to face every challenge with these fact-based, helpful, and informative guides. Teens will learn healthy ways of dealing with mean teens, bullies, and even first breakups. The teen years can be the best years, and this series makes sure that your readers have every chance to experience that.","English",167.58,125.7,null,"48 pp.","https://www.enslow.com/series/Teen_Survival_Guide/450939",{"$f":"Table1[[#This Row],[QTY]]*Table1[[#This Row],['# of Books]]","v":0},{"$f":"Table1[[#This Row],[QTY]]*Table1[[#This Row],[School & Library Price]]","v":0}]
[null,null,null,"Teen Survival Guide","Surviving a First Date",1,"Library Bound Book","978-0-7660-9191-7",{"$f":"HYPERLINK(Table1[[#This Row],[Hyperlink]],\"Weblink\")","v":"Weblink"},"Enslow Publishing","2018","January 2018","7.250 X 9.250","Author","Taylor Morris",null,null,null,null,"X",null,"Grade 6","Grade 7 - 12","It happens once for every couple, the first date. The crush, the pining, the wondering, and the daydreaming has now come to fruition. It's when two people take their growing attraction for each other to the next level, which is public acknowledgement of a romantic kind. Whether young or old, the first date will always cause jitters. This book offers the best advice, the worst-case scenarios, and the sweetest, funniest, and most \"awww-worthy\" moments from the dating archives. Whether on a group date or one-on-one, teens will appreciate the background they'll have obtained from this book, allowing them to graciously experience a great first date.","English",27.93,20.95,"306.73--dc23","48 pp.","https://www.enslow.com/books/Surviving_a_First_Date/421703",{"$f":"Table1[[#This Row],[QTY]]*Table1[[#This Row],['# of Books]]","v":0},{"$f":"Table1[[#This Row],[QTY]]*Table1[[#This Row],[School & Library Price]]","v":0}]
[null,null,null,"Teen Survival Guide","Surviving a First Date",1,"eBook","978-0-7660-9341-6",{"$f":"HYPERLINK(Table1[[#This Row],[Hyperlink]],\"Weblink\")","v":"Weblink"},"Enslow Publishing","2018","January 2018",null,"Author","Taylor Morris",null,null,null,null,"X",null,"Grade 6","Grade 7 - 12","It happens once for every couple, the first date. The crush, the pining, the wondering, and the daydreaming has now come to fruition. It's when two people take their growing attraction for each other to the next level, which is public acknowledgement of a romantic kind. Whether young or old, the first date will always cause jitters. This book offers the best advice, the worst-case scenarios, and the sweetest, funniest, and most \"awww-worthy\" moments from the dating archives. Whether on a group date or one-on-one, teens will appreciate the background they'll have obtained from this book, allowing them to graciously experience a great first date.","English",27.93,20.95,"306.73--dc23","48 pp.","https://www.enslow.com/books/Surviving_a_First_Date/421703",{"$f":"Table1[[#This Row],[QTY]]*Table1[[#This Row],['# of Books]]","v":0},{"$f":"Table1[[#This Row],[QTY]]*Table1[[#This Row],[School & Library Price]]","v":0}]
[null,null,null,"Teen Survival Guide","Surviving Gym Class",1,"Library Bound Book","978-0-7660-9190-0",{"$f":"HYPERLINK(Table1[[#This Row],[Hyperlink]],\"Weblink\")","v":"Weblink"},"Enslow Publishing","2018","January 2018","7.250 X 9.250","Author","John A. Torres",null,null,null,null,"W",null,"Grade 6","Grade 7 - 12","Gym can seem like a drag to many teens who'd rather be doing something else, but it's a great excuse to get up and moving in the middle of the day. Gym class is less about fierce competition and measuring everyone by the same fitness standards. Instead, it's all about developing confidence and competence in sports, and, yes, having fun. Of course, there are still locker rooms, stinky gym clothes, and other kids with their own issues to deal with. This guide will help teens navigate all the difficult moments, like being picked last for a team or fielding snarky comments about lack of coordination or skills. This book provides indispensable advice to help readers arrive prepared with the right gear and the right attitude.","English",27.93,20.95,"372.86--dc23","48 pp.","https://www.enslow.com/books/Surviving_Gym_Class/421702",{"$f":"Table1[[#This Row],[QTY]]*Table1[[#This Row],['# of Books]]","v":0},{"$f":"Table1[[#This Row],[QTY]]*Table1[[#This Row],[School & Library Price]]","v":0}]
[null,null,null,"Teen Survival Guide","Surviving Gym Class",1,"eBook","978-0-7660-9340-9",{"$f":"HYPERLINK(Table1[[#This Row],[Hyperlink]],\"Weblink\")","v":"Weblink"},"Enslow Publishing","2018","January 2018",null,"Author","John A. Torres",null,null,null,null,"W",null,"Grade 6","Grade 7 - 12","Gym can seem like a drag to many teens who'd rather be doing something else, but it's a great excuse to get up and moving in the middle of the day. Gym class is less about fierce competition and measuring everyone by the same fitness standards. Instead, it's all about developing confidence and competence in sports, and, yes, having fun. Of course, there are still locker rooms, stinky gym clothes, and other kids with their own issues to deal with. This guide will help teens navigate all the difficult moments, like being picked last for a team or fielding snarky comments about lack of coordination or skills. This book provides indispensable advice to help readers arrive prepared with the right gear and the right attitude.","English",27.93,20.95,"372.86--dc23","48 pp.","https://www.enslow.com/books/Surviving_Gym_Class/421702",{"$f":"Table1[[#This Row],[QTY]]*Table1[[#This Row],['# of Books]]","v":0},{"$f":"Table1[[#This Row],[QTY]]*Table1[[#This Row],[School & Library Price]]","v":0}]
[null,null,null,"Teen Survival Guide","Surviving Prom",1,"eBook","978-0-7660-9339-3",{"$f":"HYPERLINK(Table1[[#This Row],[Hyperlink]],\"Weblink\")","v":"Weblink"},"Enslow Publishing","2018","January 2018",null,"Author","Taylor Morris",null,null,null,null,"X","900L","Grade 6","Grade 7 - 12","Prom has the potential to be the most glamorous night of the year. Fancy gowns and suits, perfect hair, and a date who makes your knees buckle. For some, planning for prom takes months of careful work, to say nothing of the nerves that build as the date nears. This book helps teens navigate all the prep and build up, plus the emotions that come along with it. From date jitters to outfit stress, this book ensures that no matter what, surviving prom is a piece of cake.","English",27.93,20.95,"793.3/808837318--dc23","48 pp.","https://www.enslow.com/books/Surviving_Prom/421701",{"$f":"Table1[[#This Row],[QTY]]*Table1[[#This Row],['# of Books]]","v":0},{"$f":"Table1[[#This Row],[QTY]]*Table1[[#This Row],[School & Library Price]]","v":0}]
[null,null,null,"Teen Survival Guide","Surviving Your First High School Party",1,"Library Bound Book","978-0-7660-9193-1",{"$f":"HYPERLINK(Table1[[#This Row],[Hyperlink]],\"Weblink\")","v":"Weblink"},"Enslow Publishing","2018","January 2018","7.250 X 9.250","Author","Alexis Burling",null,null,null,null,"W",null,"Grade 6","Grade 7 - 12","Going to the first high school party should be loads of fun. There's yummy snacks, tons of friends to hang out with, and it's free time away from parents and homework. But there are other factors that might seem a little terrifying, at least at first. Like slow dancing with members of the opposite sex or a first kiss, or even not getting asked to do either at all. Kids may be worried about older kids in attendance, or the presence of alcohol or drugs. This book offers practical tips on how to get through the night, and the next day at school, with confidence. Through a compelling and non-judgmental tone, readers will gain the skills they need to get their 'party on' in style.","English",27.93,20.95,"646.7/60835--dc23","48 pp.","https://www.enslow.com/books/Surviving_Your_First_High_School_Party/421705",{"$f":"Table1[[#This Row],[QTY]]*Table1[[#This Row],['# of Books]]","v":0},{"$f":"Table1[[#This Row],[QTY]]*Table1[[#This Row],[School & Library Price]]","v":0}]
[null,null,null,"Military Engineering in Action","Armored Tanks: Battlefield Dominance",1,"Library Bound Book","978-0-7660-6908-4",{"$f":"HYPERLINK(Table1[[#This Row],[Hyperlink]],\"Weblink\")","v":"Weblink"},"Enslow Publishing","2016","August 2015","7.250 X 9.250","Author, Author","Gerry Souter, Taylor Baldwin Kiland ","7","1",null,null,"Z",null,"Grade 6","Grade 6 - 8","Although armored tanks have been in use since World War II, they have undergone changes in recent years. Used all over the world, the armored tank has become a standard military weapon. Readers learn how they work, what they do, and why they are so effective from the soldiers who operate them.","English",27.93,20.95,"355.8'3--dc23","48 pp.","https://www.enslow.com/books/Armored_Tanks/4513",{"$f":"Table1[[#This Row],[QTY]]*Table1[[#This Row],['# of Books]]","v":0},{"$f":"Table1[[#This Row],[QTY]]*Table1[[#This Row],[School & Library Price]]","v":0}]
[null,null,null,"Military Engineering in Action","Armored Tanks: Battlefield Dominance",1,"eBook","978-0-7660-6909-1",{"$f":"HYPERLINK(Table1[[#This Row],[Hyperlink]],\"Weblink\")","v":"Weblink"},"Enslow Publishing","2016","August 2015",null,"Author, Author","Gerry Souter, Taylor Baldwin Kiland ","7","1",null,null,"Z",null,"Grade 6","Grade 6 - 8","Although armored tanks have been in use since World War II, they have undergone changes in recent years. Used all over the world, the armored tank has become a standard military weapon. Readers learn how they work, what they do, and why they are so effective from the soldiers who operate them.","English",27.93,20.95,"355.8'3--dc23","48 pp.","https://www.enslow.com/books/Armored_Tanks/4513",{"$f":"Table1[[#This Row],[QTY]]*Table1[[#This Row],['# of Books]]","v":0},{"$f":"Table1[[#This Row],[QTY]]*Table1[[#This Row],[School & Library Price]]","v":0}]
[null,null,null,"Military Engineering in Action","Cyber Technology: Using Computers to Fight Terrorism",1,"Library Bound Book","978-0-7660-7538-2",{"$f":"HYPERLINK(Table1[[#This Row],[Hyperlink]],\"Weblink\")","v":"Weblink"},"Enslow Publishing","2017","August 2016","7.250 X 9.250","Author, Author","Judy Silverstein Gray, Taylor Baldwin Kiland ","8.2","1",null,null,"X",null,"Grade 5 - 6","Grade 6 - 8","Cyber technology and counterterrorism are a hot topic today, and this book details how criminals, terrorists, and enemy governments attempt to use technology against the United States. How can we counter this threat? What training is our military and government using to prevent or repel cyberattacks? Students will learn about the cyber warriors who protect our nation’s information networks. Historical accounts include narrative about the codebreakers during World War II. Full-color photographs, engaging text, fact boxes, and information about how to prepare for a career in cybersecurity in the military round out this fascinating book.","English",27.93,20.95,"363.325--dc23","48 pp.","https://www.enslow.com/books/Cyber_Technology/419507",{"$f":"Table1[[#This Row],[QTY]]*Table1[[#This Row],['# of Books]]","v":0},{"$f":"Table1[[#This Row],[QTY]]*Table1[[#This Row],[School & Library Price]]","v":0}]
[null,null,null,"Military Engineering in Action","Cyber Technology: Using Computers to Fight Terrorism",1,"eBook","978-0-7660-7539-9",{"$f":"HYPERLINK(Table1[[#This Row],[Hyperlink]],\"Weblink\")","v":"Weblink"},"Enslow Publishing","2017","August 2016",null,"Author, Author","Judy Silverstein Gray, Taylor Baldwin Kiland ","8.2","1",null,null,"X",null,"Grade 5 - 6","Grade 6 - 8","Cyber technology and counterterrorism are a hot topic today, and this book details how criminals, terrorists, and enemy governments attempt to use technology against the United States. How can we counter this threat? What training is our military and government using to prevent or repel cyberattacks? Students will learn about the cyber warriors who protect our nation’s information networks. Historical accounts include narrative about the codebreakers during World War II. Full-color photographs, engaging text, fact boxes, and information about how to prepare for a career in cybersecurity in the military round out this fascinating book.","English",27.93,20.95,"363.325--dc23","48 pp.","https://www.enslow.com/books/Cyber_Technology/419507",{"$f":"Table1[[#This Row],[QTY]]*Table1[[#This Row],['# of Books]]","v":0},{"$f":"Table1[[#This Row],[QTY]]*Table1[[#This Row],[School & Library Price]]","v":0}]
[null,null,null,"Military Engineering in Action","Fighter Planes: Masters of the Sky",1,"Library Bound Book","978-0-7660-6910-7",{"$f":"HYPERLINK(Table1[[#This Row],[Hyperlink]],\"Weblink\")","v":"Weblink"},"Enslow Publishing","2016","August 2015","7.250 X 9.250","Author, Author, Author","Karen E. Bledsoe, Glen Bledsoe, Taylor Baldwin Kiland ","7.1","1",null,null,"Z",null,"Grade 6","Grade 6 - 8","Fighter planes were made famous by the movie Top Gun, but they were first used during World War I and have become a standard symbol for the military. Through first-hand interviews, readers learn about the development and evolution of fighter planes, when and how they are used, and what it's like to be the pilots who fly them and the engineers who fix them.","English",27.93,20.95,"358.4'183--dc23","48 pp.","https://www.enslow.com/books/Fighter_Planes/4514",{"$f":"Table1[[#This Row],[QTY]]*Table1[[#This Row],['# of Books]]","v":0},{"$f":"Table1[[#This Row],[QTY]]*Table1[[#This Row],[School & Library Price]]","v":0}]
[null,null,null,"Military Engineering in Action","Fighter Planes: Masters of the Sky",1,"eBook","978-0-7660-6911-4",{"$f":"HYPERLINK(Table1[[#This Row],[Hyperlink]],\"Weblink\")","v":"Weblink"},"Enslow Publishing","2016","August 2015",null,"Author, Author, Author","Karen E. Bledsoe, Glen Bledsoe, Taylor Baldwin Kiland ","7.1","1",null,null,"Z",null,"Grade 6","Grade 6 - 8","Fighter planes were made famous by the movie Top Gun, but they were first used during World War I and have become a standard symbol for the military. Through first-hand interviews, readers learn about the development and evolution of fighter planes, when and how they are used, and what it's like to be the pilots who fly them and the engineers who fix them.","English",27.93,20.95,"358.4'183--dc23","48 pp.","https://www.enslow.com/books/Fighter_Planes/4514",{"$f":"Table1[[#This Row],[QTY]]*Table1[[#This Row],['# of Books]]","v":0},{"$f":"Table1[[#This Row],[QTY]]*Table1[[#This Row],[School & Library Price]]","v":0}]
[null,null,null,"Military Engineering in Action","Military Humvees: Armored Mobility",1,"Library Bound Book","978-0-7660-6914-5",{"$f":"HYPERLINK(Table1[[#This Row],[Hyperlink]],\"Weblink\")","v":"Weblink"},"Enslow Publishing","2016","August 2015","7.250 X 9.250","Author, Author","Michael Teitelbaum, Taylor Baldwin Kiland ","6.7","1",null,null,"Z",null,"Grade 6","Grade 6 - 8","Armored, weaponized, and able to navigate different terrains, the Humvee has been used by the U.S. military since the 1970s and continues to be a standard vehicle used in military operations. Soldiers in the field tell readers what it's like to operate Humvees in the field, and introduce them to the newest military vehicle, the MRAP (Mine Resistant Ambush Protected).","English",27.93,20.95,"355.8'3--dc23","48 pp.","https://www.enslow.com/books/Military_Humvees/4516",{"$f":"Table1[[#This Row],[QTY]]*Table1[[#This Row],['# of Books]]","v":0},{"$f":"Table1[[#This Row],[QTY]]*Table1[[#This Row],[School & Library Price]]","v":0}]
[null,null,null,"Military Engineering in Action","Military Humvees: Armored Mobility",1,"eBook","978-0-7660-6915-2",{"$f":"HYPERLINK(Table1[[#This Row],[Hyperlink]],\"Weblink\")","v":"Weblink"},"Enslow Publishing","2016","August 2015",null,"Author, Author","Michael Teitelbaum, Taylor Baldwin Kiland ","6.7","1",null,null,"Z",null,"Grade 6","Grade 6 - 8","Armored, weaponized, and able to navigate different terrains, the Humvee has been used by the U.S. military since the 1970s and continues to be a standard vehicle used in military operations. Soldiers in the field tell readers what it's like to operate Humvees in the field, and introduce them to the newest military vehicle, the MRAP (Mine Resistant Ambush Protected).","English",27.93,20.95,"355.8'3--dc23","48 pp.","https://www.enslow.com/books/Military_Humvees/4516",{"$f":"Table1[[#This Row],[QTY]]*Table1[[#This Row],['# of Books]]","v":0},{"$f":"Table1[[#This Row],[QTY]]*Table1[[#This Row],[School & Library Price]]","v":0}]
[null,null,null,"Military Engineering in Action","Military Rifles: Combat Ready",1,"eBook","978-0-7660-6917-6",{"$f":"HYPERLINK(Table1[[#This Row],[Hyperlink]],\"Weblink\")","v":"Weblink"},"Enslow Publishing","2016","August 2015",null,"Author, Author","Gerry Souter, Taylor Baldwin Kiland ","7","1",null,null,"Z",null,"Grade 6","Grade 6 - 8","First invented by the Chinese thousands of years ago, the rifle has changed as warfare has evolved. First-hand interviews with soldiers in the field give readers insight as to how these rifles work, what military rifle training entails, and what it's like to use these high-powered weapons every day.","English",27.93,20.95,"355.8'2425--dc23","48 pp.","https://www.enslow.com/books/Military_Rifles/4517",{"$f":"Table1[[#This Row],[QTY]]*Table1[[#This Row],['# of Books]]","v":0},{"$f":"Table1[[#This Row],[QTY]]*Table1[[#This Row],[School & Library Price]]","v":0}]
[null,null,null,"Military Engineering in Action","Military Submarines: Sea Power",1,"Library Bound Book","978-0-7660-6918-3",{"$f":"HYPERLINK(Table1[[#This Row],[Hyperlink]],\"Weblink\")","v":"Weblink"},"Enslow Publishing","2016","August 2015","7.250 X 9.250","Author, Author","Taylor Baldwin Kiland , Michael Teitelbaum","7.1","1",null,null,"Z",null,"Grade 6","Grade 6 - 8","Submarines have been in use for centuries, but it wasn’t until the late 1800s that they were commonly used in the military. Today submarines are invaluable weapons in most navies. Through interviews with engineers and soldiers, readers learn how they work and what it's like to live and work underwater.","English",27.93,20.95,"359.9'3830973--dc23","48 pp.","https://www.enslow.com/books/Military_Submarines/4518",{"$f":"Table1[[#This Row],[QTY]]*Table1[[#This Row],['# of Books]]","v":0},{"$f":"Table1[[#This Row],[QTY]]*Table1[[#This Row],[School & Library Price]]","v":0}]
[null,null,null,"Military Engineering in Action","Missiles: Self-Guided Explosives",1,"eBook","978-0-7660-7526-9",{"$f":"HYPERLINK(Table1[[#This Row],[Hyperlink]],\"Weblink\")","v":"Weblink"},"Enslow Publishing","2017","August 2016",null,"Author","Earle Rice, Jr.","8.1","1",null,null,"X",null,"Grade 5 - 6","Grade 6 - 8","Firing Hellfire missiles in Afghanistan, launching Tomahawk cruise missiles from a destroyer, or manning the underground launch control panel for nuclear warheads is all part of America’s military missile program. This book takes readers to the front lines, explaining the innovation, development, and use of precision-guided smart weapons, ballistic missiles, cruise missiles, and nuclear deterrence. They will learn about the dawn of the missile age and how the armed forces use these weapons. Fact boxes give detailed specs about the weapons and an inside look at military training.","English",27.93,20.95,"358.1/7182--dc23","48 pp.","https://www.enslow.com/books/Missiles/419497",{"$f":"Table1[[#This Row],[QTY]]*Table1[[#This Row],['# of Books]]","v":0},{"$f":"Table1[[#This Row],[QTY]]*Table1[[#This Row],[School & Library Price]]","v":0}]
[null,null,null,"Military Engineering in Action","Rockets & Satellites: Surveillance from Space",1,"Library Bound Book","978-0-7660-7532-0",{"$f":"HYPERLINK(Table1[[#This Row],[Hyperlink]],\"Weblink\")","v":"Weblink"},"Enslow Publishing","2017","August 2016","7.250 X 9.250","Author","Earle Rice, Jr.","8","1",null,null,"X",null,"Grade 5 - 6","Grade 6 - 8","The trail to find Osama bin Laden was uncovered by human and satellite intelligence, and the raid that killed him was directed by a fleet of intelligence-collecting satellites over Pakistan. Even though we can't see them, satellites play a large role in reconnaissance and defense support. Students will learn about the rockets that launch satellites, how satellites are used, and how the military uses secret space planes and test vehicles that are ready to spy from space or engage in any possible space wars. Full color photographs, fact boxes, and comprehensive coverage of the history of the U.S. satellite program fill out this timely volume.","English",27.93,20.95,"358/.88--dc23","48 pp.","https://www.enslow.com/books/Rockets__and__Satellites/419502",{"$f":"Table1[[#This Row],[QTY]]*Table1[[#This Row],['# of Books]]","v":0},{"$f":"Table1[[#This Row],[QTY]]*Table1[[#This Row],[School & Library Price]]","v":0}]
[null,null,null,"Military Engineering in Action","The Military GPS: Cutting Edge Global Positioning System",1,"eBook","978-0-7660-7519-1",{"$f":"HYPERLINK(Table1[[#This Row],[Hyperlink]],\"Weblink\")","v":"Weblink"},"Enslow Publishing","2017","August 2016",null,"Author, Author","Taylor Baldwin Kiland , Judy Silverstein Gray","8.1","1",null,null,"X","1270L","Grade 5 - 6","Grade 6 - 8","GPS technology is used in everything from car satellite systems to iPhones to FitBits. How does GPS actually work? Who takes care of the vast constellation of satellites that are needed to make these systems work? Enhanced with full-color photographs and fact boxes, this book showcases current military technology and tools, historical accounts leading to today's global systems, and tips to prepare for a career in the military.","English",27.93,20.95,"623/.043--dc23","48 pp.","https://www.enslow.com/books/The_Miitary_GPS/419492",{"$f":"Table1[[#This Row],[QTY]]*Table1[[#This Row],['# of Books]]","v":0},{"$f":"Table1[[#This Row],[QTY]]*Table1[[#This Row],[School & Library Price]]","v":0}]
[null,null,null,"Making Headlines","Making Headlines",5,"Library Set","978-0-7660-8399-8",{"$f":"HYPERLINK(Table1[[#This Row],[Hyperlink]],\"Weblink\")","v":"Weblink"},"Enslow Publishing","2017","January 2017","6.000 X 9.000",null,null,null,null,null,null,null,null,"Grade 7","Grade 7 - 12","There are many stories that capture the imagination and that inspire a media sensation. Stories involving lies, betrayal, faked deaths, and other unbelievable events that are absolutely true are profiled in each collection. Exciting topics are dramatically conveyed in order to engage readers and encourage leisure reading.","English",199.65,149.75,null,"160 pp.","https://www.enslow.com/series/Making_Headlines/421575",{"$f":"Table1[[#This Row],[QTY]]*Table1[[#This Row],['# of Books]]","v":0},{"$f":"Table1[[#This Row],[QTY]]*Table1[[#This Row],[School & Library Price]]","v":0}]
[null,null,null,"Making Headlines","The World's Most Tragic Disasters",1,"Library Bound Book","978-0-7660-8383-7",{"$f":"HYPERLINK(Table1[[#This Row],[Hyperlink]],\"Weblink\")","v":"Weblink"},"Enslow Publishing","2017","January 2017","6.000 X 9.000","Author","Jeanne Nagle",null,null,null,null,"Z",null,"Grade 7","Grade 7 - 12","They may make great action movies, but in real life big disasters are simply tragic. From the beginning, the earth has experienced devastating natural disasters that have resonated today. Humankind has introduced disasters of its own, caused by machines and chemicals. Readers will be fascinated to learn of the earthquakes, tornadoes and hurricanes, floods and tsunamis, volcanic eruptions, crashes and sinkings, and oil spills and nuclear accidents that have plagued us from ancient to modern times. Sidebars, a glossary, and books and websites in the further reading section are also included.","English",39.93,29.95,"363.34--dc23","160 pp.","https://www.enslow.com/books/The_Worlds_Most_Tragic_Disasters/421626",{"$f":"Table1[[#This Row],[QTY]]*Table1[[#This Row],['# of Books]]","v":0},{"$f":"Table1[[#This Row],[QTY]]*Table1[[#This Row],[School & Library Price]]","v":0}]
[null,null,null,"Making Headlines","The World's Most Tragic Disasters",1,"eBook","978-0-7660-8376-9",{"$f":"HYPERLINK(Table1[[#This Row],[Hyperlink]],\"Weblink\")","v":"Weblink"},"Enslow Publishing","2017","January 2017",null,"Author","Jeanne Nagle",null,null,null,null,"Z",null,"Grade 7","Grade 7 - 12","They may make great action movies, but in real life big disasters are simply tragic. From the beginning, the earth has experienced devastating natural disasters that have resonated today. Humankind has introduced disasters of its own, caused by machines and chemicals. Readers will be fascinated to learn of the earthquakes, tornadoes and hurricanes, floods and tsunamis, volcanic eruptions, crashes and sinkings, and oil spills and nuclear accidents that have plagued us from ancient to modern times. Sidebars, a glossary, and books and websites in the further reading section are also included.","English",39.93,29.95,"363.34--dc23","160 pp.","https://www.enslow.com/books/The_Worlds_Most_Tragic_Disasters/421626",{"$f":"Table1[[#This Row],[QTY]]*Table1[[#This Row],['# of Books]]","v":0},{"$f":"Table1[[#This Row],[QTY]]*Table1[[#This Row],[School & Library Price]]","v":0}]
[null,null,null,"Making Headlines","The World's Worst Acts of Brutality",1,"Library Bound Book","978-0-7660-8370-7",{"$f":"HYPERLINK(Table1[[#This Row],[Hyperlink]],\"Weblink\")","v":"Weblink"},"Enslow Publishing","2017","January 2017","6.000 X 9.000","Author, Author","Don Rauf, Nigel Cawthorne",null,null,null,null,"Z",null,"Grade 7","Grade 7 - 12","This important volume examines history's darker side: the massacres, terrorist attacks, ethnic cleansing, and subjugation of races that have taken place throughout the history of humankind. Through examination of acts of brutality such as the Crusades, the Holocaust, the Hutu massacre of the Tutsis in Rwanda, recent terrorist attacks committed by al-Qaeda and ISIS, and many others, readers will be forced to confront the violence that continues to plague the human race. Sidebars, a glossary, and further reading section are also included.","English",39.93,29.95,"909--dc23","160 pp.","https://www.enslow.com/books/The_Worlds_Worst_Acts_of_Brutality/421630",{"$f":"Table1[[#This Row],[QTY]]*Table1[[#This Row],['# of Books]]","v":0},{"$f":"Table1[[#This Row],[QTY]]*Table1[[#This Row],[School & Library Price]]","v":0}]
[null,null,null,"Making Headlines","The World's Worst Acts of Brutality",1,"eBook","978-0-7660-8371-4",{"$f":"HYPERLINK(Table1[[#This Row],[Hyperlink]],\"Weblink\")","v":"Weblink"},"Enslow Publishing","2017","January 2017",null,"Author, Author","Don Rauf, Nigel Cawthorne",null,null,null,null,"Z",null,"Grade 7","Grade 7 - 12","This important volume examines history's darker side: the massacres, terrorist attacks, ethnic cleansing, and subjugation of races that have taken place throughout the history of humankind. Through examination of acts of brutality such as the Crusades, the Holocaust, the Hutu massacre of the Tutsis in Rwanda, recent terrorist attacks committed by al-Qaeda and ISIS, and many others, readers will be forced to confront the violence that continues to plague the human race. Sidebars, a glossary, and further reading section are also included.","English",39.93,29.95,"909--dc23","160 pp.","https://www.enslow.com/books/The_Worlds_Worst_Acts_of_Brutality/421630",{"$f":"Table1[[#This Row],[QTY]]*Table1[[#This Row],['# of Books]]","v":0},{"$f":"Table1[[#This Row],[QTY]]*Table1[[#This Row],[School & Library Price]]","v":0}]
[null,null,null,"Making Headlines","The World's Worst Mistakes",1,"eBook","978-0-7660-8368-4",{"$f":"HYPERLINK(Table1[[#This Row],[Hyperlink]],\"Weblink\")","v":"Weblink"},"Enslow Publishing","2017","January 2017",null,"Author, Author","Kathlyn Gay, Nigel Blundell",null,null,null,null,"Z",null,"Grade 7","Grade 7 - 12","History books tend to celebrate the successes, the geniuses, and the breakthroughs that have made our world what it is today, but what about the mistakes? This book examines the blunders and the goof-ups, both miniscule and colossal in scale, many of which have been lost to history. Readers will find humor in the story of the priest who married a bride to her groom's best man and cringe at the poor fool who thought he actually purchased the White House. They also will learn about mistakes that changed the course of history, like the sinking of the Titanic, the Exxon Valdez disaster, and the weapons of mass destruction that started a war but didn't exist. Sidebars, a glossary, and books and websites in the further reading section are also included.","English",39.93,29.95,"909--dc23","160 pp.","https://www.enslow.com/books/The_Worlds_Worst_Mistakes/421629",{"$f":"Table1[[#This Row],[QTY]]*Table1[[#This Row],['# of Books]]","v":0},{"$f":"Table1[[#This Row],[QTY]]*Table1[[#This Row],[School & Library Price]]","v":0}]
[null,null,null,"The Psychology of Mass Murderers","The Psychology of Mass Murderers",4,"Library Set","978-0-7660-7508-5",{"$f":"HYPERLINK(Table1[[#This Row],[Hyperlink]],\"Weblink\")","v":"Weblink"},"Enslow Publishing","2017","August 2016","6.000 X 9.000",null,null,null,null,null,null,null,null,"Grade 8","Grade 9 - 12","To address the needs and interests of students taking psychology in high school, this series focuses on the factors that create, motivate, and often lead to the capture of mass murderers. Each book contains profiles of up to about twenty mass murderers grouped into chapters by psychological type or type of crime. Readers will learn how killers are diagnosed and classified and whether it's possible to treat or cure them.","English",149.08000000000001,111.8,null,"128 pp.","https://www.enslow.com/series/The_Psychology_of_Mass_Murderers/419709",{"$f":"Table1[[#This Row],[QTY]]*Table1[[#This Row],['# of Books]]","v":0},{"$f":"Table1[[#This Row],[QTY]]*Table1[[#This Row],[School & Library Price]]","v":0}]
[null,null,null,"The Psychology of Mass Murderers","The People Behind Deadly Terrorist Attacks",1,"Library Bound Book","978-0-7660-7775-1",{"$f":"HYPERLINK(Table1[[#This Row],[Hyperlink]],\"Weblink\")","v":"Weblink"},"Enslow Publishing","2017","August 2016","6.000 X 9.000","Author","Laura La Bella",null,null,null,null,"Z",null,"Grade 8","Grade 9 - 12","All the world knows what happened on September 11, 2001. And the Paris attacks of 2015 are just the latest in a string of terrorist attacks today. Bombings, hijackings, and mass shootings produce widespread fear and gain worldwide attention. Psychology students will gain insight into what motivates the terrorists behind these acts. Modern threats from cyberterrorism are also included in this title, which features psychological profiles, motivation, and often the ultimate capture of the terrorists. Readers will learn how killers are diagnosed and classified, and whether it is possible to treat or cure them.","English",37.270000000000003,27.95,"363.325--dc23","144 pp.","https://www.enslow.com/books/The_People_Behind_Deadly_Terrorist_Attacks/419671",{"$f":"Table1[[#This Row],[QTY]]*Table1[[#This Row],['# of Books]]","v":0},{"$f":"Table1[[#This Row],[QTY]]*Table1[[#This Row],[School & Library Price]]","v":0}]
[null,null,null,"The Psychology of Mass Murderers","The People Behind Deadly Terrorist Attacks",1,"eBook","978-0-7660-7614-3",{"$f":"HYPERLINK(Table1[[#This Row],[Hyperlink]],\"Weblink\")","v":"Weblink"},"Enslow Publishing","2017","August 2016",null,"Author","Laura La Bella",null,null,null,null,"Z",null,"Grade 8","Grade 9 - 12","All the world knows what happened on September 11, 2001. And the Paris attacks of 2015 are just the latest in a string of terrorist attacks today. Bombings, hijackings, and mass shootings produce widespread fear and gain worldwide attention. Psychology students will gain insight into what motivates the terrorists behind these acts. Modern threats from cyberterrorism are also included in this title, which features psychological profiles, motivation, and often the ultimate capture of the terrorists. Readers will learn how killers are diagnosed and classified, and whether it is possible to treat or cure them.","English",37.270000000000003,27.95,"363.325--dc23","144 pp.","https://www.enslow.com/books/The_People_Behind_Deadly_Terrorist_Attacks/419671",{"$f":"Table1[[#This Row],[QTY]]*Table1[[#This Row],['# of Books]]","v":0},{"$f":"Table1[[#This Row],[QTY]]*Table1[[#This Row],[School & Library Price]]","v":0}]
[null,null,null,"The Psychology of Mass Murderers","The People Behind School Shootings and Public Massacres",1,"Library Bound Book","978-0-7660-7615-0",{"$f":"HYPERLINK(Table1[[#This Row],[Hyperlink]],\"Weblink\")","v":"Weblink"},"Enslow Publishing","2017","August 2016","6.000 X 9.000","Author","John A. Torres",null,null,null,null,"Z",null,"Grade 8","Grade 9 - 12","Sandy Hook Elementary School...Columbine High School...San Bernardino Social Services Center...Aurora Movie Theater. There are more school shootings and public massacres than anyone wants to believe. What motivates the people behind these horrific crimes? This book addresses the needs of high school psychology students, detailing the accounts of the shooting sprees. This timely text follows with details of the individuals responsible for the acts and describes how mental health professionals seek to break the physical and psychological motivations of the mass murderers.","English",37.270000000000003,27.95,"364.152/34092273--dc23","144 pp.","https://www.enslow.com/books/The_People_Behind_School_Shootings_and_Public_Massacres/419674",{"$f":"Table1[[#This Row],[QTY]]*Table1[[#This Row],['# of Books]]","v":0},{"$f":"Table1[[#This Row],[QTY]]*Table1[[#This Row],[School & Library Price]]","v":0}]
[null,null,null,"The Psychology of Mass Murderers","The People Behind School Shootings and Public Massacres",1,"eBook","978-0-7660-7616-7",{"$f":"HYPERLINK(Table1[[#This Row],[Hyperlink]],\"Weblink\")","v":"Weblink"},"Enslow Publishing","2017","August 2016",null,"Author","John A. Torres",null,null,null,null,"Z",null,"Grade 8","Grade 9 - 12","Sandy Hook Elementary School...Columbine High School...San Bernardino Social Services Center...Aurora Movie Theater. There are more school shootings and public massacres than anyone wants to believe. What motivates the people behind these horrific crimes? This book addresses the needs of high school psychology students, detailing the accounts of the shooting sprees. This timely text follows with details of the individuals responsible for the acts and describes how mental health professionals seek to break the physical and psychological motivations of the mass murderers.","English",37.270000000000003,27.95,"364.152/34092273--dc23","144 pp.","https://www.enslow.com/books/The_People_Behind_School_Shootings_and_Public_Massacres/419674",{"$f":"Table1[[#This Row],[QTY]]*Table1[[#This Row],['# of Books]]","v":0},{"$f":"Table1[[#This Row],[QTY]]*Table1[[#This Row],[School & Library Price]]","v":0}]
[null,null,null,"Crime Scene Investigators","Investigating Bones",1,"eBook","978-0-7660-9351-5",{"$f":"HYPERLINK(Table1[[#This Row],[Hyperlink]],\"Weblink\")","v":"Weblink"},"Enslow Publishing","2018","January 2018",null,"Revised by, Author","Ellina Litmanovich, Sara L. Latta",null,null,null,null,"X","1070L","Grade 6","Grade 5 - 8","Bones are a powerful tool for forensic anthropologists. They can indicate age and gender, and a set of teeth or a fragment of bone can even show when a person died, as well as how long the body has been decomposing. Did the person die from natural causes or was it foul play? With the help of authorities, including the FBI and CIA, forensic anthropologists can find out the answers with a few small clues. Readers will be captivated by ancient and modern real-life cases. A chapter on careers allows students to dig deeper and find out what it takes to work in this fascinating field.","English",37.270000000000003,27.95,"599.9--dc23","104 pp.","https://www.enslow.com/books/Investigating_Bones/421764",{"$f":"Table1[[#This Row],[QTY]]*Table1[[#This Row],['# of Books]]","v":0},{"$f":"Table1[[#This Row],[QTY]]*Table1[[#This Row],[School & Library Price]]","v":0}]
[null,null,null,"Crime Scene Investigators","Investigating Cybercrime",1,"Library Bound Book","978-0-7660-9183-2",{"$f":"HYPERLINK(Table1[[#This Row],[Hyperlink]],\"Weblink\")","v":"Weblink"},"Enslow Publishing","2018","January 2018","6.000 X 9.000","Revised by, Author","Angie Timmons, Sara L. Latta",null,null,null,null,"Y",null,"Grade 6","Grade 5 - 8","Cybercriminals are criminals in the truest sense of the word. However, their techniques are highly specialized and technical. Their crimes are high-impact and often global, but, simultaneously, they are difficult to trace, often leading investigators on thrilling chases in an underworld society of coders and hackers. To combat the devastating work of cybercriminals, the need for cybercrime investigators has increased exponentially. This book will introduce readers to the dark world of cybercrime, the various disguises cybercrime can take, and the increased need to combat cybercrime, as well as highlight the fascinating world of cybercrime investigation, including training, education, real-world cases, and typical salary ranges.","English",37.270000000000003,27.95,"363.25/968--dc23","104 pp.","https://www.enslow.com/books/Investigating_Cybercrime/421765",{"$f":"Table1[[#This Row],[QTY]]*Table1[[#This Row],['# of Books]]","v":0},{"$f":"Table1[[#This Row],[QTY]]*Table1[[#This Row],[School & Library Price]]","v":0}]
[null,null,null,"Crime Scene Investigators","Investigating DNA and Blood",1,"eBook","978-0-7660-9353-9",{"$f":"HYPERLINK(Table1[[#This Row],[Hyperlink]],\"Weblink\")","v":"Weblink"},"Enslow Publishing","2018","January 2018",null,"Revised by, Author","Ellina Litmanovich, Sara L. Latta",null,null,null,null,"X",null,"Grade 6","Grade 5 - 8","Bloodstains provide clues as to how a crime had been committed. When a speck of blood falls on a surface, it leaves a shape and stain. This is called bloodstain evidence. Each individual carries DNA that is unique to him or her, except for identical twins. With the help of bloodstains and saliva, as well as fingernails, an investigator can recover enough evidence to confirm whether a defendant is guilty or innocent of a crime. This book includes sidebars that further expand on the topic, as well as a further reading list and career information for readers interested in this intriguing STEM field.","English",37.270000000000003,27.95,"614/.1--dc23","104 pp.","https://www.enslow.com/books/Investigating_DNA_and_Blood/421766",{"$f":"Table1[[#This Row],[QTY]]*Table1[[#This Row],['# of Books]]","v":0},{"$f":"Table1[[#This Row],[QTY]]*Table1[[#This Row],[School & Library Price]]","v":0}]
[null,null,null,"Crime Scene Investigators","Investigating Fingerprints",1,"Library Bound Book","978-0-7660-9185-6",{"$f":"HYPERLINK(Table1[[#This Row],[Hyperlink]],\"Weblink\")","v":"Weblink"},"Enslow Publishing","2018","January 2018","6.000 X 9.000","Revised by, Author","Hallie Murray, Chana Stiefel",null,null,null,null,"W",null,"Grade 6","Grade 5 - 8","Fingerprints are completely unique to each individual. Not even identical twins have the same fingerprints. So it's no surprise that law enforcement uses fingerprint evidence to catch criminals. With engaging text and eye-catching visuals, this book examines all aspects of fingerprints and their use in forensic analysis. Real-world cases illustrate how criminals attempt to mask their fingerprints and the potential pitfalls of the fingerprinting system. Sidebars explore the science behind fingerprinting, such as the many methods of locating prints, including dusting powder and lasers to evaporated superglue. Plus, an annotated list of fingerprint-related jobs encourages students to imagine a future in STEM.","English",37.270000000000003,27.95,"363.25/8--dc23","104 pp.","https://www.enslow.com/books/Investigating_Fingerprints/421767",{"$f":"Table1[[#This Row],[QTY]]*Table1[[#This Row],['# of Books]]","v":0},{"$f":"Table1[[#This Row],[QTY]]*Table1[[#This Row],[School & Library Price]]","v":0}]
[null,null,null,"Crime Scene Investigators","Investigating Gun Crimes",1,"Library Bound Book","978-0-7660-9186-3",{"$f":"HYPERLINK(Table1[[#This Row],[Hyperlink]],\"Weblink\")","v":"Weblink"},"Enslow Publishing","2018","January 2018","6.000 X 9.000","Author","Michelle Faulk, Ph.D.",null,null,null,null,"W",null,"Grade 6","Grade 5 - 8","An explosion propels a bullet from a firearm, a life is taken, and a gun crime has been committed. This book uses true life crime stories from early cases like the St. Valentine's Day Massacre to more recent war crimes in Croatia to engage readers while educating them on forensic firearm analysis, which includes identifying basic types of firearms and bullets, matching bullet toolmarks to a specific gun, and gathering crime scene evidence. This book is excellent for readers interested in STEM, as forensic firearm analysis is a multidisciplinary field that incorporates chemistry, microscopy, physics, medical pathology, and deductive reasoning.","English",37.270000000000003,27.95,"363.25/62--dc23","104 pp.","https://www.enslow.com/books/Investigating_Gun_Crimes/421768",{"$f":"Table1[[#This Row],[QTY]]*Table1[[#This Row],['# of Books]]","v":0},{"$f":"Table1[[#This Row],[QTY]]*Table1[[#This Row],[School & Library Price]]","v":0}]
[null,null,null,"Crime Scene Investigators","Investigating Gun Crimes",1,"eBook","978-0-7660-9355-3",{"$f":"HYPERLINK(Table1[[#This Row],[Hyperlink]],\"Weblink\")","v":"Weblink"},"Enslow Publishing","2018","January 2018",null,"Author","Michelle Faulk, Ph.D.",null,null,null,null,"W",null,"Grade 6","Grade 5 - 8","An explosion propels a bullet from a firearm, a life is taken, and a gun crime has been committed. This book uses true life crime stories from early cases like the St. Valentine's Day Massacre to more recent war crimes in Croatia to engage readers while educating them on forensic firearm analysis, which includes identifying basic types of firearms and bullets, matching bullet toolmarks to a specific gun, and gathering crime scene evidence. This book is excellent for readers interested in STEM, as forensic firearm analysis is a multidisciplinary field that incorporates chemistry, microscopy, physics, medical pathology, and deductive reasoning.","English",37.270000000000003,27.95,"363.25/62--dc23","104 pp.","https://www.enslow.com/books/Investigating_Gun_Crimes/421768",{"$f":"Table1[[#This Row],[QTY]]*Table1[[#This Row],['# of Books]]","v":0},{"$f":"Table1[[#This Row],[QTY]]*Table1[[#This Row],[School & Library Price]]","v":0}]
[null,null,null,"The Amazing Human Body","The Amazing Human Body",6,"Library Set","978-0-7660-9032-3",{"$f":"HYPERLINK(Table1[[#This Row],[Hyperlink]],\"Weblink\")","v":"Weblink"},"Enslow Publishing","2018","August 2017","7.250 X 9.250",null,null,null,null,null,null,null,null,"Grade 6","Grade 5 - 8","The human body truly is amazing. This set takes readers on a tour of different body systems and processes. Fun but fact-filled text and full-color photos and diagrams bring the workings of our body into sharp focus, making this set a must-have addition to any collection on the human body.","English",167.58,125.7,null,"48 pp.","https://www.enslow.com/series/The_Amazing_Human_Body/421592",{"$f":"Table1[[#This Row],[QTY]]*Table1[[#This Row],['# of Books]]","v":0},{"$f":"Table1[[#This Row],[QTY]]*Table1[[#This Row],[School & Library Price]]","v":0}]
[null,null,null,"The Amazing Human Body","Growth and Aging",1,"Library Bound Book","978-0-7660-8983-9",{"$f":"HYPERLINK(Table1[[#This Row],[Hyperlink]],\"Weblink\")","v":"Weblink"},"Enslow Publishing","2018","August 2017","7.250 X 9.250","Edited by","Joanne Randolph",null,null,null,null,"O","1100L","Grade 6","Grade 5 - 8","Our bodies are constantly growing and changing. Not only do our bodies grow taller, but even once we reach our ultimate height, the body still experiences growth on the inside. New cells grow, get old, and are replaced by new cells. Informative text coupled with clear diagrams and colorful imagery help readers understand the processes of growth and aging in the human body.","English",27.93,20.95,"612.6/7--dc23","48 pp.","https://www.enslow.com/books/Growth_and_Aging/412773",{"$f":"Table1[[#This Row],[QTY]]*Table1[[#This Row],['# of Books]]","v":0},{"$f":"Table1[[#This Row],[QTY]]*Table1[[#This Row],[School & Library Price]]","v":0}]
[null,null,null,"The Amazing Human Body","Microbes: The Good, the Bad, and the Ugly",1,"eBook","978-0-7660-9000-2",{"$f":"HYPERLINK(Table1[[#This Row],[Hyperlink]],\"Weblink\")","v":"Weblink"},"Enslow Publishing","2018","August 2017",null,"Edited by","Joanne Randolph",null,null,null,null,"P","1050L","Grade 6","Grade 5 - 8","Microbes are the oldest living organisms on the planet. They have been around for billions of years. Why haven’t you seen them, then? Microbes are tiny, single-celled organisms—millions could fit in the eye of a needle. You might think of microbes as organisms that make us sick. This is true, but it is also true that we couldn’t live without them. Readers will be thrilled to learn more about the microscopic world of microbes and their impact on the human body.","English",27.93,20.95,"612--dc23","48 pp.","https://www.enslow.com/books/Microbes/412774",{"$f":"Table1[[#This Row],[QTY]]*Table1[[#This Row],['# of Books]]","v":0},{"$f":"Table1[[#This Row],[QTY]]*Table1[[#This Row],[School & Library Price]]","v":0}]
[null,null,null,"The Amazing Human Body","Pump It Up: The Heart and Blood",1,"Library Bound Book","978-0-7660-8987-7",null,"Enslow Publishing","2018","August 2017","7.250 X 9.250","Edited by","Joanne Randolph",null,null,null,null,"O","1010L","Grade 6","Grade 5 - 8","The heart is a vital organ in the human body. Diagrams and full-color photographs and illustrations, paired with accessible and informative text, showcase how the heart works and what its job is in the human body.","English",27.93,20.95,"612.1/1--dc23","48 pp.",null,{"$f":"Table1[[#This Row],[QTY]]*Table1[[#This Row],['# of Books]]","v":0},{"$f":"Table1[[#This Row],[QTY]]*Table1[[#This Row],[School & Library Price]]","v":0}]
[null,null,null,"The Amazing Human Body","Taste and Digestion",1,"eBook","978-0-7660-8992-1",{"$f":"HYPERLINK(Table1[[#This Row],[Hyperlink]],\"Weblink\")","v":"Weblink"},"Enslow Publishing","2018","August 2017",null,"Edited by","Joanne Randolph",null,null,null,null,"O","1070L","Grade 6","Grade 5 - 8","What’s your favorite food? Everyone has their own personal likes and dislikes when it comes to food. Explore the world of taste and digestion in this volume that follows food through the digestive system. Touching on proper nutrition as well as the functioning of this important body system, this title is relatable, readable, and dare we say it—highly digestible!","English",27.93,20.95,"612.8/7--dc23","48 pp.","https://www.enslow.com/books/Taste_and_Digestion/412776",{"$f":"Table1[[#This Row],[QTY]]*Table1[[#This Row],['# of Books]]","v":0},{"$f":"Table1[[#This Row],[QTY]]*Table1[[#This Row],[School & Library Price]]","v":0}]
[null,null,null,"The Amazing Human Body","The Eyes Have It",1,"Library Bound Book","978-0-7660-8995-2",null,"Enslow Publishing","2018","August 2017","7.250 X 9.250","Edited by","Joanne Randolph",null,null,null,null,"O","960L","Grade 6","Grade 5 - 8","Take a tour of the human eye in this engrossing volume. Colorful images and diagrams invite the reader to take a deeper look at the workings of the human eye. Follow along as we discover how light plays a role and how the eye and the brain work together to interpret the world around us.","English",27.93,20.95,"612.8/4--dc23","48 pp.",null,{"$f":"Table1[[#This Row],[QTY]]*Table1[[#This Row],['# of Books]]","v":0},{"$f":"Table1[[#This Row],[QTY]]*Table1[[#This Row],[School & Library Price]]","v":0}]
[null,null,null,"The Amazing Human Body","Understanding the Brain",1,"eBook","978-0-7660-9004-0",{"$f":"HYPERLINK(Table1[[#This Row],[Hyperlink]],\"Weblink\")","v":"Weblink"},"Enslow Publishing","2018","August 2017",null,"Edited by","Joanne Randolph",null,null,null,null,"P","1010L","Grade 6","Grade 5 - 8","Of all the parts of the human body, the brain is perhaps the most amazing. This complex organ runs the show when it comes to our bodies. It is the command center that keeps the body’s voluntary and involuntary systems working as they should. Readers will find out how the brain works, the many different jobs it does, and more in this photo-illustrated and engaging text.","English",27.93,20.95,"612.8/2--dc23","48 pp.","https://www.enslow.com/books/Understanding_the_Brain/412778",{"$f":"Table1[[#This Row],[QTY]]*Table1[[#This Row],['# of Books]]","v":0},{"$f":"Table1[[#This Row],[QTY]]*Table1[[#This Row],[School & Library Price]]","v":0}]
[null,null,null,"Heredity and Genetics","Heredity and Genetics",6,"Library Set","978-1-9785-0020-4",{"$f":"HYPERLINK(Table1[[#This Row],[Hyperlink]],\"Weblink\")","v":"Weblink"},"Enslow Publishing","2019","August 2018","6.500 X 9.125",null,null,null,null,null,null,null,null,"Grade 8","Grade 7 - 12","\"Who am I?\" \"Where do I come from?\" Biologically speaking, the answers to these questions are far more complicated than a name and hometown. Advances in science now allow an individual to map his or her genes and trace his or her ancestry. Engaging language and detailed, colorful images, charts, and diagrams simplify complicated scientific principles so that students can answer the question, \"How are traits passed down from parent to offspring?\" Readers will learn how genetic variation results from gene mutations and sexual reproduction, as well as how asexual reproduction works, which will allow them to understand how an organism’s functions depend on its specific gene structure. Features include: Supports the Next Generation Science Standards on heredity and inheritance of traits. Provides students with a deeper understanding of cause and effect relationships at the genetic level so they can predict outcomes, such as traits, in nature. Informative sidebars dive deeper into related timely topics. Further Reading with current books and informative websites and bibliographies encourage further exploration of each subject.","English",215.58,161.69999999999999,null,"80 pp.","https://www.enslow.com/series/Heredity_and_Genetics/450971",{"$f":"Table1[[#This Row],[QTY]]*Table1[[#This Row],['# of Books]]","v":0},{"$f":"Table1[[#This Row],[QTY]]*Table1[[#This Row],[School & Library Price]]","v":0}]
[null,null,null,"Heredity and Genetics","DNA, RNA, and the Inheritance of Traits",1,"eBook","978-0-7660-9943-2",{"$f":"HYPERLINK(Table1[[#This Row],[Hyperlink]],\"Weblink\")","v":"Weblink"},"Enslow Publishing","2019","August 2018",null,"Author","Don Rauf",null,null,null,null,"Z",null,"Grade 8","Grade 7 - 12","Why do people have certain traits and talents? We are all who we are because cells in our bodies grow and respond according to instructions from DNA molecules. RNA carries the DNA details from the cell nucleus to other parts of the cell. Engaging language and detailed, colorful images and diagrams simplify complicated scientific principles into pieces of information students can comprehend more easily. They will gain a deeper understanding of how DNA and RNA work together to make all the individual humans, animals, and plants on our planet.","English",35.93,26.95,"572.8--dc23","80 pp.","https://www.enslow.com/books/DNA_RNA_and_the_Inheritance_of_Traits/421899",{"$f":"Table1[[#This Row],[QTY]]*Table1[[#This Row],['# of Books]]","v":0},{"$f":"Table1[[#This Row],[QTY]]*Table1[[#This Row],[School & Library Price]]","v":0}]
[null,null,null,"Heredity and Genetics","Genetic Ancestry Testing",1,"Library Bound Book","978-0-7660-9947-0",{"$f":"HYPERLINK(Table1[[#This Row],[Hyperlink]],\"Weblink\")","v":"Weblink"},"Enslow Publishing","2019","August 2018","6.500 X 9.125","Author","Kristi Lew",null,null,null,null,"Z","1190L","Grade 8","Grade 7 - 12","Popular television shows, such as Finding Your Roots and Who Do You Think You Are?, have ignited a renewed passion for traditional genealogical research and thrown genetic ancestry testing into the spotlight. Once a tool only for historians and forensic scientists, DNA testing is now available directly to the consumer. Supporting the Next Generation Science Standards on heredity and inheritance of traits, this book uses simple language and detailed images and charts to explain how genetic ancestry testing is done, what it can, and cannot, reveal about a family tree, and the potential unintended consequences of being tested. Sidebars offer information about related topics, such as the Human Genome Project, mitochondrial Eve, and genetic genealogy careers.","English",35.93,26.95,"929.1072--dc23","80 pp.","https://www.enslow.com/books/Genetic_Ancestry_Testing/421901",{"$f":"Table1[[#This Row],[QTY]]*Table1[[#This Row],['# of Books]]","v":0},{"$f":"Table1[[#This Row],[QTY]]*Table1[[#This Row],[School & Library Price]]","v":0}]
[null,null,null,"Heredity and Genetics","Inheritance and Variation of Traits",1,"eBook","978-0-7660-9936-4",{"$f":"HYPERLINK(Table1[[#This Row],[Hyperlink]],\"Weblink\")","v":"Weblink"},"Enslow Publishing","2019","August 2018",null,"Author","Don Rauf",null,null,null,null,"Z",null,"Grade 8","Grade 7 - 12","She has her mother's eyes. He has his father's nose. People, animals, and plants inherit traits from their parents through their genes. Variations and new combinations of genes create the differences that make each individual unique. Through simplified explanations of complex scientific concepts, full-color images, and informative sidebars, this book supports the Next Generation Science Standards on heredity and inheritance of traits by discussing how genes are passed on through the generations, how variations occur, and how these genetic changes can help humans and other populations survive. A Further Reading section with current books and websites and a bibliography encourage further exploration of the subject.","English",35.93,26.95,"576.5--dc23","80 pp.","https://www.enslow.com/books/Inheritance_and_Variation_of_Traits/421897",{"$f":"Table1[[#This Row],[QTY]]*Table1[[#This Row],['# of Books]]","v":0},{"$f":"Table1[[#This Row],[QTY]]*Table1[[#This Row],[School & Library Price]]","v":0}]
[null,null,null,"Heredity and Genetics","Taxonomy: The Classification of Biological Organisms",1,"Library Bound Book","978-0-7660-9938-8",{"$f":"HYPERLINK(Table1[[#This Row],[Hyperlink]],\"Weblink\")","v":"Weblink"},"Enslow Publishing","2019","August 2018","6.500 X 9.125","Author","Kristi Lew",null,null,null,null,"Z",null,"Grade 8","Grade 7 - 12","Through simple yet engaging language and detailed images and charts, readers will explore the work of Aristotle, Linnaeus, Darwin, and other well-known, and some not so well-known, figures throughout history who tried to make sense of the natural world, as well as the breakthroughs and technologies that allow scientists to study organisms down to the genetic level. This book supports the Next Generation Science Standards on heredity and biological evolution by helping students understand how mutations lead to genetic variation, which in turn leads to natural selection. In addition, informative sidebars, a bibliography, and a Further Reading section with current books and educational websites will allow inquisitive minds to dive deeper into the evolutionary relationships among organisms.","English",35.93,26.95,"578.01/2--dc23","80 pp.","https://www.enslow.com/books/Taxonomy___The_Classification_of_Biological_Organisms/421898",{"$f":"Table1[[#This Row],[QTY]]*Table1[[#This Row],['# of Books]]","v":0},{"$f":"Table1[[#This Row],[QTY]]*Table1[[#This Row],[School & Library Price]]","v":0}]
[null,null,null,"Heredity and Genetics","Understanding Microbes",1,"eBook","978-0-7660-9946-3",{"$f":"HYPERLINK(Table1[[#This Row],[Hyperlink]],\"Weblink\")","v":"Weblink"},"Enslow Publishing","2019","August 2018",null,"Author","Donna M. Bozzone, Ph.D.",null,null,null,null,"Z",null,"Grade 8","Grade 7 - 12","A great deal of what is known about genetics and inheritance is thanks to what has been learned by studying microbes. Supporting the Next Generation Science Standards on heredity and inheritance of traits as well as the structures and processes of simple and complex organisms, this book introduces all of the various types of microbes found on Earth, and in and on human bodies: bacteria, archaea, and protists. Through engaging language that simplifies complicated science concepts into easily digestible pieces of information and detailed images and diagrams, students will learn about the discovery, evolutionary history, and roles of microbes in health, disease, and the functioning of our planet. Sidebars provide students with additional information to help them gain a deeper understanding of the diversity of life.","English",35.93,26.95,"579--dc23","80 pp.","https://www.enslow.com/books/Understanding_Microbes/421900",{"$f":"Table1[[#This Row],[QTY]]*Table1[[#This Row],['# of Books]]","v":0},{"$f":"Table1[[#This Row],[QTY]]*Table1[[#This Row],[School & Library Price]]","v":0}]
[null,null,null,"Heredity and Genetics","Understanding the Human Genome",1,"Library Bound Book","978-0-7660-9932-6",{"$f":"HYPERLINK(Table1[[#This Row],[Hyperlink]],\"Weblink\")","v":"Weblink"},"Enslow Publishing","2019","August 2018","6.500 X 9.125","Author","Kristi Lew",null,null,null,null,"Z",null,"Grade 8","Grade 7 - 12","Completed in April 2003, the Human Genome Project was an international effort to map out and read all the genes that make up Homo sapiens. This book supports the Next Generation Science Standards on heredity and biological evolution by examining the history of genetics and the Human Genome Project, the mechanisms behind heredity, and the types of genetic errors that lead to hereditary diseases. Through simplified explanations of complex scientific concepts, full-color images, and informative sidebars, students will also learn about the ethical issues associated with the program as well how the information gained from the research has given rise to individualized medical tests and treatments.","English",35.93,26.95,"611/.0181663--dc23","80 pp.","https://www.enslow.com/books/Understanding_the_Human_Genome/421896",{"$f":"Table1[[#This Row],[QTY]]*Table1[[#This Row],['# of Books]]","v":0},{"$f":"Table1[[#This Row],[QTY]]*Table1[[#This Row],[School & Library Price]]","v":0}]
[null,null,null,"Science Whiz Experiments","Experiments with Chemistry",1,"Library Bound Book","978-0-7660-8676-0",{"$f":"HYPERLINK(Table1[[#This Row],[Hyperlink]],\"Weblink\")","v":"Weblink"},"Enslow Publishing","2018","August 2017","6.500 X 9.250","Author","Robert Gardner",null,null,null,null,"V",null,"Grade 5","Grade 5 - 8","These easy and fun chemistry experiments use easy-to-obtain household materials and are excellent starting points for students to devise their own science fair projects. Readers are guided through applying the scientific method to conduct experiments, such as examining Brownian motion of smoke particles, building an electric cell, and separating substances in a solution. Through clear instructions and scientific illustrations, students will gain a better understanding of the basic concepts demonstrated by each experiment. This book also contains safety tips to educate students on the code of conduct expected when conducting experiments, an appendix listing science supply companies, a glossary, further reading with books and websites, and an index.","English",37.270000000000003,27.95,"540.78--dc23","128 pp.","https://www.enslow.com/books/Experiments_with_Chemistry/412761",{"$f":"Table1[[#This Row],[QTY]]*Table1[[#This Row],['# of Books]]","v":0},{"$f":"Table1[[#This Row],[QTY]]*Table1[[#This Row],[School & Library Price]]","v":0}]
[null,null,null,"Science Whiz Experiments","Experiments with Chemistry",1,"eBook","978-0-7660-8677-7",{"$f":"HYPERLINK(Table1[[#This Row],[Hyperlink]],\"Weblink\")","v":"Weblink"},"Enslow Publishing","2018","August 2017",null,"Author","Robert Gardner",null,null,null,null,"V",null,"Grade 5","Grade 5 - 8","These easy and fun chemistry experiments use easy-to-obtain household materials and are excellent starting points for students to devise their own science fair projects. Readers are guided through applying the scientific method to conduct experiments, such as examining Brownian motion of smoke particles, building an electric cell, and separating substances in a solution. Through clear instructions and scientific illustrations, students will gain a better understanding of the basic concepts demonstrated by each experiment. This book also contains safety tips to educate students on the code of conduct expected when conducting experiments, an appendix listing science supply companies, a glossary, further reading with books and websites, and an index.","English",37.270000000000003,27.95,"540.78--dc23","128 pp.","https://www.enslow.com/books/Experiments_with_Chemistry/412761",{"$f":"Table1[[#This Row],[QTY]]*Table1[[#This Row],['# of Books]]","v":0},{"$f":"Table1[[#This Row],[QTY]]*Table1[[#This Row],[School & Library Price]]","v":0}]
[null,null,null,"Science Whiz Experiments","Experiments with Light",1,"Library Bound Book","978-0-7660-8680-7",{"$f":"HYPERLINK(Table1[[#This Row],[Hyperlink]],\"Weblink\")","v":"Weblink"},"Enslow Publishing","2018","August 2017","6.500 X 9.250","Author","Robert Gardner",null,null,null,null,"T",null,"Grade 5","Grade 5 - 8","By doing the simple science projects in this book, young scientists will discover how distance affects images made by a convex lens, observe a wave model of polarized light, and explore the science behind mirages. The experiments use materials found at home or at school. Readers can take what they have learned from these experiments and use suggestions to create their own unique science fair projects. An explanation of the scientific method, safety tips, scientific illustrations, an appendix with science supply companies, a glossary, further reading with books and websites, and an index complete this title.","English",37.270000000000003,27.95,"535.078--dc23","128 pp.","https://www.enslow.com/books/Experiments_with_Light/412763",{"$f":"Table1[[#This Row],[QTY]]*Table1[[#This Row],['# of Books]]","v":0},{"$f":"Table1[[#This Row],[QTY]]*Table1[[#This Row],[School & Library Price]]","v":0}]
[null,null,null,"Science Whiz Experiments","Experiments with Light",1,"eBook","978-0-7660-8681-4",{"$f":"HYPERLINK(Table1[[#This Row],[Hyperlink]],\"Weblink\")","v":"Weblink"},"Enslow Publishing","2018","August 2017",null,"Author","Robert Gardner",null,null,null,null,"T",null,"Grade 5","Grade 5 - 8","By doing the simple science projects in this book, young scientists will discover how distance affects images made by a convex lens, observe a wave model of polarized light, and explore the science behind mirages. The experiments use materials found at home or at school. Readers can take what they have learned from these experiments and use suggestions to create their own unique science fair projects. An explanation of the scientific method, safety tips, scientific illustrations, an appendix with science supply companies, a glossary, further reading with books and websites, and an index complete this title.","English",37.270000000000003,27.95,"535.078--dc23","128 pp.","https://www.enslow.com/books/Experiments_with_Light/412763",{"$f":"Table1[[#This Row],[QTY]]*Table1[[#This Row],['# of Books]]","v":0},{"$f":"Table1[[#This Row],[QTY]]*Table1[[#This Row],[School & Library Price]]","v":0}]
[null,null,null,"Science Whiz Experiments","Experiments with Temperature and Heat",1,"eBook","978-0-7660-8683-8",{"$f":"HYPERLINK(Table1[[#This Row],[Hyperlink]],\"Weblink\")","v":"Weblink"},"Enslow Publishing","2018","August 2017",null,"Author, Author","Robert Gardner, Eric Kemer",null,null,null,null,"T",null,"Grade 5","Grade 5 - 8","Using materials they can find in their home, students can learn the science behind temperature and heat by performing experiments that demonstrate the conduction of heat in solids, thermal conductivity of liquids and gases, the relationship between temperature and color, and other scientific principles. Engaging color illustrations accompany every experiment, an explanation of the scientific method guides students, and safety tips educate students on the code of conduct expected when conducting experiments. An appendix with science supply companies, a glossary, further reading with books and websites, and an index are also included.","English",37.270000000000003,27.95,"536.078--dc23","128 pp.","https://www.enslow.com/books/Experiments_with_Temperature_and_Heat/412764",{"$f":"Table1[[#This Row],[QTY]]*Table1[[#This Row],['# of Books]]","v":0},{"$f":"Table1[[#This Row],[QTY]]*Table1[[#This Row],[School & Library Price]]","v":0}]
[null,null,null,"Science Whiz Experiments","Experiments with the Human Body",1,"Library Bound Book","978-0-7660-8684-5",{"$f":"HYPERLINK(Table1[[#This Row],[Hyperlink]],\"Weblink\")","v":"Weblink"},"Enslow Publishing","2018","August 2017","6.500 X 9.250","Author","Robert Gardner",null,null,null,null,"T",null,"Grade 5","Grade 5 - 8","These simple and engaging biology experiments use easy-to-obtain household materials to explore the science behind the human body. Readers are guided through applying the scientific method to conduct experiments, which include observing the effect of body position and exercise on heart rate, breathing rate, and blood pressure; building a model of the human eye; and figuring out how food moves through the body. Clear instructions and scientific illustrations will allow students to gain a better understanding of the basic biological concepts demonstrated by each experiment. This book also contains safety tips to educate students on the code of conduct expected when conducting experiments.","English",37.270000000000003,27.95,"612--dc23","128 pp.","https://www.enslow.com/books/Experiments_with_the_Human_Body/412765",{"$f":"Table1[[#This Row],[QTY]]*Table1[[#This Row],['# of Books]]","v":0},{"$f":"Table1[[#This Row],[QTY]]*Table1[[#This Row],[School & Library Price]]","v":0}]
[null,null,null,"Science Whiz Experiments","Experiments with Weather",1,"eBook","978-0-7660-8687-6",{"$f":"HYPERLINK(Table1[[#This Row],[Hyperlink]],\"Weblink\")","v":"Weblink"},"Enslow Publishing","2018","August 2017",null,"Author","Robert Gardner",null,null,null,null,"U",null,"Grade 5","Grade 5 - 8","Through clear instructions and scientific illustrations, students can conduct easy yet engaging experiments to examine the science behind weather. Using easy-to-obtain household materials, readers will discover how Torricelli’s barometer works, the terminal velocity of raindrops, and how density affects air masses in Earth’s atmosphere. Readers are guided through applying the scientific method to gain a better understanding of the basic concepts demonstrated by each experiment. Safety tips educate students on the code of conduct expected when conducting experiments. Also included are an appendix with science supply companies, a glossary, further reading with books and websites, and an index.","English",37.270000000000003,27.95,"551.5078--dc23","128 pp.","https://www.enslow.com/books/Experiments_with_Weather/412766",{"$f":"Table1[[#This Row],[QTY]]*Table1[[#This Row],['# of Books]]","v":0},{"$f":"Table1[[#This Row],[QTY]]*Table1[[#This Row],[School & Library Price]]","v":0}]
[null,null,null,"Experiments for Future STEM Professionals","Experiments for Future STEM Professionals: Sets 1 – 2",8,"Library Set","978-0-7660-8471-1",{"$f":"HYPERLINK(Table1[[#This Row],[Hyperlink]],\"Weblink\")","v":"Weblink"},"Enslow Publishing","2017","January 2017","6.500 X 9.250",null,null,null,null,null,null,null,null,"Grade 6","Grade 6 - 12","Students interested in pursuing a STEM (Science, Technology, Engineering, and Math) career will engage in hands-on projects that reinforce the basic concepts found in each science discipline. Through the scientific method, readers are required to identify a problem, propose a solution, conduct an experiment to test the hypothesis, and then discuss the practical application of the solution. Furthermore, clear scientific drawings illustrate experimental setups, safety guidelines keep kids safe, and great ideas for science fair projects after many experiments encourage original scientific thinking.","English",298.16000000000003,223.6,null,"128 pp.","https://www.enslow.com/series/Experiments_for_Future_STEM_Professionals/419703",{"$f":"Table1[[#This Row],[QTY]]*Table1[[#This Row],['# of Books]]","v":0},{"$f":"Table1[[#This Row],[QTY]]*Table1[[#This Row],[School & Library Price]]","v":0}]
[null,null,null,"Experiments for Future STEM Professionals","Experiments for Future Biologists",1,"Library Bound Book","978-0-7660-8198-7",{"$f":"HYPERLINK(Table1[[#This Row],[Hyperlink]],\"Weblink\")","v":"Weblink"},"Enslow Publishing","2017","January 2017","6.500 X 9.250","Author, Author","Robert Gardner, Joshua Conklin",null,null,null,null,"Y",null,"Grade 6","Grade 6 - 12","Is your reader a future biologist? Robert Gardner’s latest experiments book may be just the inspiration for a young scientist considering a career in life science. The many experiments in this title cover the different areas of math and science that biologists use. Ideas for science fair projects are suggested throughout the book, along with clear illustrations, explanations of the scientific method, career information, and guidelines for safe experimenting.","English",37.270000000000003,27.95,"570.78--dc23","128 pp.","https://www.enslow.com/books/Experiments_for_Future_Biologists/421600",{"$f":"Table1[[#This Row],[QTY]]*Table1[[#This Row],['# of Books]]","v":0},{"$f":"Table1[[#This Row],[QTY]]*Table1[[#This Row],[School & Library Price]]","v":0}]
[null,null,null,"Experiments for Future STEM Professionals","Experiments for Future Biologists",1,"eBook","978-0-7660-8199-4",{"$f":"HYPERLINK(Table1[[#This Row],[Hyperlink]],\"Weblink\")","v":"Weblink"},"Enslow Publishing","2017","January 2017",null,"Author, Author","Robert Gardner, Joshua Conklin",null,null,null,null,"Y",null,"Grade 6","Grade 6 - 12","Is your reader a future biologist? Robert Gardner’s latest experiments book may be just the inspiration for a young scientist considering a career in life science. The many experiments in this title cover the different areas of math and science that biologists use. Ideas for science fair projects are suggested throughout the book, along with clear illustrations, explanations of the scientific method, career information, and guidelines for safe experimenting.","English",37.270000000000003,27.95,"570.78--dc23","128 pp.","https://www.enslow.com/books/Experiments_for_Future_Biologists/421600",{"$f":"Table1[[#This Row],[QTY]]*Table1[[#This Row],['# of Books]]","v":0},{"$f":"Table1[[#This Row],[QTY]]*Table1[[#This Row],[School & Library Price]]","v":0}]
[null,null,null,"Experiments for Future STEM Professionals","Experiments for Future Doctors",1,"Library Bound Book","978-0-7660-7854-3",{"$f":"HYPERLINK(Table1[[#This Row],[Hyperlink]],\"Weblink\")","v":"Weblink"},"Enslow Publishing","2017","August 2016","6.500 X 9.250","Author, Author","Robert Gardner, Joshua Conklin",null,null,null,null,"Z",null,"Grade 6","Grade 6 - 12","Is your reader a future doctor? Robert Gardner's latest experiments book may be just the inspiration for a young scientist considering a career in medicine. The many experiments in this volume cover the different areas of math and science that doctors use. Ideas for science fair projects are suggested throughout the book, along with simple illustrations, explanations of the scientific method, career information, and guidelines for safe experimenting.","English",37.270000000000003,27.95,"610.78--dc23","128 pp.","https://www.enslow.com/books/Experiments_for_Future_Doctors/419566",{"$f":"Table1[[#This Row],[QTY]]*Table1[[#This Row],['# of Books]]","v":0},{"$f":"Table1[[#This Row],[QTY]]*Table1[[#This Row],[School & Library Price]]","v":0}]
[null,null,null,"Experiments for Future STEM Professionals","Experiments for Future Doctors",1,"eBook","978-0-7660-7850-5",{"$f":"HYPERLINK(Table1[[#This Row],[Hyperlink]],\"Weblink\")","v":"Weblink"},"Enslow Publishing","2017","August 2016",null,"Author, Author","Robert Gardner, Joshua Conklin",null,null,null,null,"Z",null,"Grade 6","Grade 6 - 12","Is your reader a future doctor? Robert Gardner's latest experiments book may be just the inspiration for a young scientist considering a career in medicine. The many experiments in this volume cover the different areas of math and science that doctors use. Ideas for science fair projects are suggested throughout the book, along with simple illustrations, explanations of the scientific method, career information, and guidelines for safe experimenting.","English",37.270000000000003,27.95,"610.78--dc23","128 pp.","https://www.enslow.com/books/Experiments_for_Future_Doctors/419566",{"$f":"Table1[[#This Row],[QTY]]*Table1[[#This Row],['# of Books]]","v":0},{"$f":"Table1[[#This Row],[QTY]]*Table1[[#This Row],[School & Library Price]]","v":0}]
[null,null,null,"Experiments for Future STEM Professionals","Experiments for Future Forensic Scientists",1,"Library Bound Book","978-0-7660-8202-1",{"$f":"HYPERLINK(Table1[[#This Row],[Hyperlink]],\"Weblink\")","v":"Weblink"},"Enslow Publishing","2017","January 2017","6.500 X 9.250","Author, Author","Robert Gardner, Joshua Conklin",null,null,null,null,"Y",null,"Grade 6","Grade 6 - 12","It has been said that every criminal leaves a trace. Forensic scientists have the exciting chance to find these traces, analyze them, and help solve crimes. The experiments in this book analyze evidence such as fingerprints and handwriting samples. After reading about the types of jobs forensic scientists have, students begin experimenting with hands-on activities. Scientific drawings illustrate experimental setups, safety guidelines keep kids safe, and great ideas for science fair projects after many experiments encourage original scientific thinking.","English",37.270000000000003,27.95,"363.25--dc23","128 pp.","https://www.enslow.com/books/Experiments_for_Future_Forensic_Scientists/421599",{"$f":"Table1[[#This Row],[QTY]]*Table1[[#This Row],['# of Books]]","v":0},{"$f":"Table1[[#This Row],[QTY]]*Table1[[#This Row],[School & Library Price]]","v":0}]
[null,null,null,"Experiments for Future STEM Professionals","Experiments for Future Forensic Scientists",1,"eBook","978-0-7660-8203-8",{"$f":"HYPERLINK(Table1[[#This Row],[Hyperlink]],\"Weblink\")","v":"Weblink"},"Enslow Publishing","2017","January 2017",null,"Author, Author","Robert Gardner, Joshua Conklin",null,null,null,null,"Y",null,"Grade 6","Grade 6 - 12","It has been said that every criminal leaves a trace. Forensic scientists have the exciting chance to find these traces, analyze them, and help solve crimes. The experiments in this book analyze evidence such as fingerprints and handwriting samples. After reading about the types of jobs forensic scientists have, students begin experimenting with hands-on activities. Scientific drawings illustrate experimental setups, safety guidelines keep kids safe, and great ideas for science fair projects after many experiments encourage original scientific thinking.","English",37.270000000000003,27.95,"363.25--dc23","128 pp.","https://www.enslow.com/books/Experiments_for_Future_Forensic_Scientists/421599",{"$f":"Table1[[#This Row],[QTY]]*Table1[[#This Row],['# of Books]]","v":0},{"$f":"Table1[[#This Row],[QTY]]*Table1[[#This Row],[School & Library Price]]","v":0}]
[null,null,null,"Experiments for Future STEM Professionals","Experiments for Future Meteorologists",1,"eBook","978-0-7660-8197-0",{"$f":"HYPERLINK(Table1[[#This Row],[Hyperlink]],\"Weblink\")","v":"Weblink"},"Enslow Publishing","2017","January 2017",null,"Author, Author","Robert Gardner, Joshua Conklin",null,null,null,null,"Y",null,"Grade 6","Grade 6 - 12","Award-winning author Robert Gardner continues to create hands-on ways to engage young scientists and teach them the basic math and science skills involved in meteorology and weather. Readers can build their own weather station and study rain, clouds, wind, and temperature. The concepts in these science projects may inspire future meteorologists and will provide a rich foundation for science fairs, experiments, or classroom activities. Also included are detailed illustrations of the experimental designs, descriptions of the scientific method, lab safety guidelines, and career information.","English",37.270000000000003,27.95,"551.5078--dc23","128 pp.","https://www.enslow.com/books/Experiments_for_Future_Meteorologists/421598",{"$f":"Table1[[#This Row],[QTY]]*Table1[[#This Row],['# of Books]]","v":0},{"$f":"Table1[[#This Row],[QTY]]*Table1[[#This Row],[School & Library Price]]","v":0}]
[null,null,null,"Experiments for Future STEM Professionals","Experiments for Future Physicists",1,"Library Bound Book","978-0-7660-7855-0",{"$f":"HYPERLINK(Table1[[#This Row],[Hyperlink]],\"Weblink\")","v":"Weblink"},"Enslow Publishing","2017","August 2016","6.500 X 9.250","Author, Author","Robert Gardner, Joshua Conklin",null,null,null,null,"Z",null,"Grade 6","Grade 6 - 12","What do electricity, magnetism, space, energy, and matter have in common? They are all topics that interest physicists. If you have a budding professional scientist, then this book will introduce them to hands-on experiments that teach physics concept they will never forget. All books contain descriptions of the scientific method, lab safety guidelines, and career information. Detailed scientific drawings illustrate experimental setups and scientific ideas. Great ideas for science fair projects, which incorporate math and science, are included throughout the book.","English",37.270000000000003,27.95,"530.078--dc23","128 pp.","https://www.enslow.com/books/Experiments_for_Future_Physicists/419569",{"$f":"Table1[[#This Row],[QTY]]*Table1[[#This Row],['# of Books]]","v":0},{"$f":"Table1[[#This Row],[QTY]]*Table1[[#This Row],[School & Library Price]]","v":0}]
[null,null,null,"Explore Colonial America","Ben Franklin",1,"Library Bound Book","978-0-7660-7873-4",{"$f":"HYPERLINK(Table1[[#This Row],[Hyperlink]],\"Weblink\")","v":"Weblink"},"Enslow Publishing","2017","August 2016","7.250 X 9.250","Author","Sarah Gilman","4.6","1",null,null,"R",null,"Grade 4 - 5","Grade 4 - 8","Many students know the story of Ben Franklin’s famed electricity experiment, but do they understand how influential he was in the formation of the United States? Through simple but engaging narrative, this fully illustrated volume leads readers through Franklin’s childhood, his diverse interests and accomplishments, and the role he played in the American Revolution and creation of an independent nation.","English",27.93,20.95,"973.3092--dc23","48 pp.","https://www.enslow.com/books/Ben_Franklin/419477",{"$f":"Table1[[#This Row],[QTY]]*Table1[[#This Row],['# of Books]]","v":0},{"$f":"Table1[[#This Row],[QTY]]*Table1[[#This Row],[School & Library Price]]","v":0}]
[null,null,null,"Explore Colonial America","Ben Franklin",1,"eBook","978-0-7660-7867-3",{"$f":"HYPERLINK(Table1[[#This Row],[Hyperlink]],\"Weblink\")","v":"Weblink"},"Enslow Publishing","2017","August 2016",null,"Author","Sarah Gilman","4.6","1",null,null,"R",null,"Grade 4 - 5","Grade 4 - 8","Many students know the story of Ben Franklin’s famed electricity experiment, but do they understand how influential he was in the formation of the United States? Through simple but engaging narrative, this fully illustrated volume leads readers through Franklin’s childhood, his diverse interests and accomplishments, and the role he played in the American Revolution and creation of an independent nation.","English",27.93,20.95,"973.3092--dc23","48 pp.","https://www.enslow.com/books/Ben_Franklin/419477",{"$f":"Table1[[#This Row],[QTY]]*Table1[[#This Row],['# of Books]]","v":0},{"$f":"Table1[[#This Row],[QTY]]*Table1[[#This Row],[School & Library Price]]","v":0}]
[null,null,null,"Explore Colonial America","Colonial Jamestown",1,"Library Bound Book","978-0-7660-7871-0",{"$f":"HYPERLINK(Table1[[#This Row],[Hyperlink]],\"Weblink\")","v":"Weblink"},"Enslow Publishing","2017","August 2016","7.250 X 9.250","Author","Sarah Gilman","5","1","50",null,"T",null,"Grade 4 - 5","Grade 4 - 8","Readers of this exciting volume will be transported back to Colonial Jamestown, the first permanent English colony in North America. Through simple text and full-color images, students will experience the journey along with the colonists: the difficult voyage overseas, illness and starvation, uncertainty about the local American Indians, and the hard work that went into forming a successful colony. \n","English",27.93,20.95,"975.5/4251--dc23","48 pp.","https://www.enslow.com/books/Colonial_Jamestown/419467",{"$f":"Table1[[#This Row],[QTY]]*Table1[[#This Row],['# of Books]]","v":0},{"$f":"Table1[[#This Row],[QTY]]*Table1[[#This Row],[School & Library Price]]","v":0}]
[null,null,null,"Explore Colonial America","Colonial Jamestown",1,"eBook","978-0-7660-7865-9",{"$f":"HYPERLINK(Table1[[#This Row],[Hyperlink]],\"Weblink\")","v":"Weblink"},"Enslow Publishing","2017","August 2016",null,"Author","Sarah Gilman","5","1","50",null,"T",null,"Grade 4 - 5","Grade 4 - 8","Readers of this exciting volume will be transported back to Colonial Jamestown, the first permanent English colony in North America. Through simple text and full-color images, students will experience the journey along with the colonists: the difficult voyage overseas, illness and starvation, uncertainty about the local American Indians, and the hard work that went into forming a successful colony. \n","English",27.93,20.95,"975.5/4251--dc23","48 pp.","https://www.enslow.com/books/Colonial_Jamestown/419467",{"$f":"Table1[[#This Row],[QTY]]*Table1[[#This Row],['# of Books]]","v":0},{"$f":"Table1[[#This Row],[QTY]]*Table1[[#This Row],[School & Library Price]]","v":0}]
[null,null,null,"Explore Colonial America","The Founding of America",1,"Library Bound Book","978-0-7660-7870-3",{"$f":"HYPERLINK(Table1[[#This Row],[Hyperlink]],\"Weblink\")","v":"Weblink"},"Enslow Publishing","2017","August 2016","7.250 X 9.250","Author","Sarah Gilman","5.6","1",null,null,"S",null,"Grade 4 - 5","Grade 4 - 8","As discontent brewed among the thirteen American colonies, a grassroots campaign was started to break free from England. Teeming with full-color images, this volume explains the steps toward Revolution in clear, captivating prose that will help readers understand the remarkable achievements made by the Founding Fathers in creating a new nation.\n","English",27.93,20.95,"974.402--dc23","48 pp.","https://www.enslow.com/books/The_Founding_of_America/419462",{"$f":"Table1[[#This Row],[QTY]]*Table1[[#This Row],['# of Books]]","v":0},{"$f":"Table1[[#This Row],[QTY]]*Table1[[#This Row],[School & Library Price]]","v":0}]
[null,null,null,"Explore Colonial America","The Founding of America",1,"eBook","978-0-7660-7864-2",{"$f":"HYPERLINK(Table1[[#This Row],[Hyperlink]],\"Weblink\")","v":"Weblink"},"Enslow Publishing","2017","August 2016",null,"Author","Sarah Gilman","5.6","1",null,null,"S",null,"Grade 4 - 5","Grade 4 - 8","As discontent brewed among the thirteen American colonies, a grassroots campaign was started to break free from England. Teeming with full-color images, this volume explains the steps toward Revolution in clear, captivating prose that will help readers understand the remarkable achievements made by the Founding Fathers in creating a new nation.\n","English",27.93,20.95,"974.402--dc23","48 pp.","https://www.enslow.com/books/The_Founding_of_America/419462",{"$f":"Table1[[#This Row],[QTY]]*Table1[[#This Row],['# of Books]]","v":0},{"$f":"Table1[[#This Row],[QTY]]*Table1[[#This Row],[School & Library Price]]","v":0}]
[null,null,null,"Understanding the Executive Branch","Understanding the Executive Branch",6,"Library Set","978-1-9785-0028-0",{"$f":"HYPERLINK(Table1[[#This Row],[Hyperlink]],\"Weblink\")","v":"Weblink"},"Enslow Publishing","2019","August 2018","7.250 X 9.250",null,null,null,null,null,null,null,null,"Grade 5","Grade 5 - 8","While most people know that the federal government is made of the executive, legislative, and judicial branches, and everyone knows what the Senate, House of Representatives, the Supreme Court, and the president, are supposed to do, few know how the executive branch operates through its many cabinet departments. In this series, students will explore the work done by some of the most powerful departments in America. From the hot-button Department of Homeland Security to the everyday necessity of the Departments of Agriculture and Commerce to the maligned Department of Energy, students will learn what each division does and how they work to keep the United States safe, secure, and running smoothly. Features include: Gives elementary-level readers a specific, granular look at various federal departments and the executive branch's role in filling them. Developed to correlate directly with the 5th grade-level guidelines about the structure and limits of government in the C3 Framework for Social Studies. Detailed chronologies illustrate the history of the role of the executive branch in its association with each federal department. Bibliography sections provide a lengthy selection of resources for gathering further information.","English",167.58,125.7,null,"48 pp.","https://www.enslow.com/series/Understanding_the_Executive_Branch/450976",{"$f":"Table1[[#This Row],[QTY]]*Table1[[#This Row],['# of Books]]","v":0},{"$f":"Table1[[#This Row],[QTY]]*Table1[[#This Row],[School & Library Price]]","v":0}]
[null,null,null,"Understanding the Executive Branch","Inside the Department of Agriculture",1,"Library Bound Book","978-0-7660-9884-8",{"$f":"HYPERLINK(Table1[[#This Row],[Hyperlink]],\"Weblink\")","v":"Weblink"},"Enslow Publishing","2019","August 2018","7.250 X 9.250","Author","Jennifer Peters",null,null,null,null,"T",null,"Grade 5","Grade 5 - 8","The Department of Agriculture is responsible for all the laws and regulations related to food and farming in the United States. While working to ensure the safety of the food we eat and beverages we drink, the Department of Agriculture also does all it can to promote the work of the country's ranchers and farmers, control trade, and protect our nation's natural resources. Every day, you're interacting with the work of the Department of Agriculture. Each time you have a snack or sit down to a meal, wear a cotton shirt, or admire the flowers planted in your garden, you're seeing the work of the Department of Agriculture. Readers will learn more about what this department does, and how its work impacts our lives in big and small ways.","English",27.93,20.95,"338.10973--dc23","48 pp.","https://www.enslow.com/books/Inside_the_Department_of_Agriculture/421880",{"$f":"Table1[[#This Row],[QTY]]*Table1[[#This Row],['# of Books]]","v":0},{"$f":"Table1[[#This Row],[QTY]]*Table1[[#This Row],[School & Library Price]]","v":0}]
[null,null,null,"Understanding the Executive Branch","Inside the Department of Commerce",1,"Library Bound Book","978-0-7660-9887-9",{"$f":"HYPERLINK(Table1[[#This Row],[Hyperlink]],\"Weblink\")","v":"Weblink"},"Enslow Publishing","2019","August 2018","7.250 X 9.250","Author","Jennifer Peters",null,null,null,null,"U",null,"Grade 5","Grade 5 - 8","Concerned with promoting economic growth, the Department of Commerce is responsible for things like creating jobs and helping American businesses grow and survive. This Cabinet department is tasked with building up the American economy to help American businesses thrive and provide a suitable quality of life for the country's workers. Readers will discover how the Department of Commerce operates to keep the American economy healthy and operates to create jobs that ensure as many citizens as possible have the opportunity to live a safe and stable life.","English",27.93,20.95,"381.0973--dc23","48 pp.","https://www.enslow.com/books/Inside_the_Department_of_Commerce/421881",{"$f":"Table1[[#This Row],[QTY]]*Table1[[#This Row],['# of Books]]","v":0},{"$f":"Table1[[#This Row],[QTY]]*Table1[[#This Row],[School & Library Price]]","v":0}]
[null,null,null,"Understanding the Executive Branch","Inside the Department of Commerce",1,"eBook","978-0-7660-9889-3",{"$f":"HYPERLINK(Table1[[#This Row],[Hyperlink]],\"Weblink\")","v":"Weblink"},"Enslow Publishing","2019","August 2018",null,"Author","Jennifer Peters",null,null,null,null,"U",null,"Grade 5","Grade 5 - 8","Concerned with promoting economic growth, the Department of Commerce is responsible for things like creating jobs and helping American businesses grow and survive. This Cabinet department is tasked with building up the American economy to help American businesses thrive and provide a suitable quality of life for the country's workers. Readers will discover how the Department of Commerce operates to keep the American economy healthy and operates to create jobs that ensure as many citizens as possible have the opportunity to live a safe and stable life.","English",27.93,20.95,"381.0973--dc23","48 pp.","https://www.enslow.com/books/Inside_the_Department_of_Commerce/421881",{"$f":"Table1[[#This Row],[QTY]]*Table1[[#This Row],['# of Books]]","v":0},{"$f":"Table1[[#This Row],[QTY]]*Table1[[#This Row],[School & Library Price]]","v":0}]
[null,null,null,"Understanding the Executive Branch","Inside the Department of Homeland Security",1,"Library Bound Book","978-0-7660-9893-0",{"$f":"HYPERLINK(Table1[[#This Row],[Hyperlink]],\"Weblink\")","v":"Weblink"},"Enslow Publishing","2019","August 2018","7.250 X 9.250","Author","Jennifer Peters",null,null,null,null,"S",null,"Grade 5","Grade 5 - 8","Terrorism. Immigration. Cyber security. Border control. In addition to being hot-button issues, these are also the areas of American safety under the purview of the Department of Homeland Security. Whether they're determining the rules of immigration and how we let migrants and refugees into the country, beefing up security along America's borders, fighting cyber attacks from foreign countries, or creating plans to keep terrorists from attacking our citizens, the Department of Homeland Security plays a big role in keeping Americans safe. Introduce your readers to this essential department, the how and why they operate, the way they do, and which of their rules play a part in our everyday life.","English",27.93,20.95,"363.340973--dc23","48 pp.","https://www.enslow.com/books/Inside_the_Department_of_Homeland_Security/421883",{"$f":"Table1[[#This Row],[QTY]]*Table1[[#This Row],['# of Books]]","v":0},{"$f":"Table1[[#This Row],[QTY]]*Table1[[#This Row],[School & Library Price]]","v":0}]
[null,null,null,"Understanding the Executive Branch","Inside the Department of Homeland Security",1,"eBook","978-0-7660-9895-4",{"$f":"HYPERLINK(Table1[[#This Row],[Hyperlink]],\"Weblink\")","v":"Weblink"},"Enslow Publishing","2019","August 2018",null,"Author","Jennifer Peters",null,null,null,null,"S",null,"Grade 5","Grade 5 - 8","Terrorism. Immigration. Cyber security. Border control. In addition to being hot-button issues, these are also the areas of American safety under the purview of the Department of Homeland Security. Whether they're determining the rules of immigration and how we let migrants and refugees into the country, beefing up security along America's borders, fighting cyber attacks from foreign countries, or creating plans to keep terrorists from attacking our citizens, the Department of Homeland Security plays a big role in keeping Americans safe. Introduce your readers to this essential department, the how and why they operate, the way they do, and which of their rules play a part in our everyday life.","English",27.93,20.95,"363.340973--dc23","48 pp.","https://www.enslow.com/books/Inside_the_Department_of_Homeland_Security/421883",{"$f":"Table1[[#This Row],[QTY]]*Table1[[#This Row],['# of Books]]","v":0},{"$f":"Table1[[#This Row],[QTY]]*Table1[[#This Row],[School & Library Price]]","v":0}]
[null,null,null,"Understanding the Executive Branch","Inside the Department of Transportation",1,"Library Bound Book","978-0-7660-9899-2",{"$f":"HYPERLINK(Table1[[#This Row],[Hyperlink]],\"Weblink\")","v":"Weblink"},"Enslow Publishing","2019","August 2018","7.250 X 9.250","Author","Jennifer Peters",null,null,null,null,"S",null,"Grade 5","Grade 5 - 8","Every time you get on an airplane, take a railway train to visit family, or drive down the highway to go on an adventure, you're putting your safety in the hands of the Department of Transportation. The Cabinet department determines how the country's various public transit systems operate and connect, what the rules are for airline flight, and how highways and roadways are constructed and maintained. Readers will learn about the various rules and regulations the DOT is responsible for, and how those rules help keep us safe whenever and wherever we travel in America.","English",27.93,20.95,"388.0973--dc23","48 pp.","https://www.enslow.com/books/Inside_the_Department_of_Transportation/421885",{"$f":"Table1[[#This Row],[QTY]]*Table1[[#This Row],['# of Books]]","v":0},{"$f":"Table1[[#This Row],[QTY]]*Table1[[#This Row],[School & Library Price]]","v":0}]
[null,null,null,"Understanding the Executive Branch","Inside the Department of Transportation",1,"eBook","978-0-7660-9901-2",{"$f":"HYPERLINK(Table1[[#This Row],[Hyperlink]],\"Weblink\")","v":"Weblink"},"Enslow Publishing","2019","August 2018",null,"Author","Jennifer Peters",null,null,null,null,"S",null,"Grade 5","Grade 5 - 8","Every time you get on an airplane, take a railway train to visit family, or drive down the highway to go on an adventure, you're putting your safety in the hands of the Department of Transportation. The Cabinet department determines how the country's various public transit systems operate and connect, what the rules are for airline flight, and how highways and roadways are constructed and maintained. Readers will learn about the various rules and regulations the DOT is responsible for, and how those rules help keep us safe whenever and wherever we travel in America.","English",27.93,20.95,"388.0973--dc23","48 pp.","https://www.enslow.com/books/Inside_the_Department_of_Transportation/421885",{"$f":"Table1[[#This Row],[QTY]]*Table1[[#This Row],['# of Books]]","v":0},{"$f":"Table1[[#This Row],[QTY]]*Table1[[#This Row],[School & Library Price]]","v":0}]
[null,null,null,"What Does a Citizen Do?","What Does a Juror Do?",1,"eBook","978-0-7660-9865-7",{"$f":"HYPERLINK(Table1[[#This Row],[Hyperlink]],\"Weblink\")","v":"Weblink"},"Enslow Publishing","2019","August 2018",null,"Author","Bridey Heing",null,null,null,null,"U",null,"Grade 5","Grade 5 - 8","The Constitution of the United States lists many rights for citizens. A fair trial by jury is one of those rights. A jury is made up of people from the place where the crime happened. These jurors are picked from a pool of citizens. Jurors hear evidence and receive directions from the judge for the case. After hearing the case, jurors decide if a person is guilty or innocent. In some cases, jurors also decide the punishment. This book will explore what it means to be a juror through an inquiry-based approach aligned with C3 standards.","English",29.26,21.95,"347.73/752--dc23","48 pp.","https://www.enslow.com/books/What_Does_a_Juror_Do/421873",{"$f":"Table1[[#This Row],[QTY]]*Table1[[#This Row],['# of Books]]","v":0},{"$f":"Table1[[#This Row],[QTY]]*Table1[[#This Row],[School & Library Price]]","v":0}]
[null,null,null,"What Does a Citizen Do?","What Does a Member of the Armed Forces Do?",1,"Library Bound Book","978-0-7660-9866-4",{"$f":"HYPERLINK(Table1[[#This Row],[Hyperlink]],\"Weblink\")","v":"Weblink"},"Enslow Publishing","2019","August 2018","7.250 X 9.250","Author","Chris Townsend",null,null,null,null,"S",null,"Grade 5","Grade 5 - 8","Members of the Armed Forces come from all over the United States. These citizens choose to serve their country by fighting for it. Some are sailors on the high seas. Some fly airplanes. Others fight on the ground with tanks and guns, but there is much more to service than just fighting. This book looks at the civic responsibility of service where ordinary men and women sign up to defend their country. Using an inquiry based approach, students will learn the facts about military service and understand this important civic service in a format aligned with C3 standards.","English",29.26,21.95,"355.0023/73--dc23","48 pp.","https://www.enslow.com/books/What_Does_a_Member_of_the_Armed_Forces_Do/421874",{"$f":"Table1[[#This Row],[QTY]]*Table1[[#This Row],['# of Books]]","v":0},{"$f":"Table1[[#This Row],[QTY]]*Table1[[#This Row],[School & Library Price]]","v":0}]
[null,null,null,"What Does a Citizen Do?","What Does a Petitioner Do?",1,"eBook","978-0-7660-9871-8",{"$f":"HYPERLINK(Table1[[#This Row],[Hyperlink]],\"Weblink\")","v":"Weblink"},"Enslow Publishing","2019","August 2018",null,"Author","Rita Santos",null,null,null,null,"V",null,"Grade 5","Grade 5 - 8","Sometimes problems are too big to be resolved by the people involved. In these cases, someone asks a court to decide what is fair. The person who asks the court to hear a case is called a petitioner. People do not always agree with the court. A petitioner can also ask a higher court to hear the case. Without petitioners, there is no way for two people who don't agree to get an answer. This book explores the role of petitioners in civic society. Students will explore this very important role for citizens within the C3 framework.","English",29.26,21.95,"322.40973--dc23","48 pp.","https://www.enslow.com/books/What_Does_a_Petitioner_Do/421875",{"$f":"Table1[[#This Row],[QTY]]*Table1[[#This Row],['# of Books]]","v":0},{"$f":"Table1[[#This Row],[QTY]]*Table1[[#This Row],[School & Library Price]]","v":0}]
[null,null,null,"What Does a Citizen Do?","What Does a Protester Do?",1,"Library Bound Book","978-0-7660-9872-5",{"$f":"HYPERLINK(Table1[[#This Row],[Hyperlink]],\"Weblink\")","v":"Weblink"},"Enslow Publishing","2019","August 2018","7.250 X 9.250","Author","Bridey Heing",null,null,null,null,"T",null,"Grade 5","Grade 5 - 8","President Abraham Lincoln said that the U.S. government is \"of the people, by the people, and for the people.\" What happens when the people do not think the government is working for them? Some take to the streets and other public places to protest. Peaceful protest is an important tool for democracy. Some of the biggest changes in our country happened because of protests. From the Boston Tea Party to the Black Lives Matter movement, this book will allow students to understand the role of protestors through an inquiry-based approach.","English",29.26,21.95,"303.48/40973--dc23","48 pp.","https://www.enslow.com/books/What_Does_a_Protester_Do/421876",{"$f":"Table1[[#This Row],[QTY]]*Table1[[#This Row],['# of Books]]","v":0},{"$f":"Table1[[#This Row],[QTY]]*Table1[[#This Row],[School & Library Price]]","v":0}]
[null,null,null,"What Does a Citizen Do?","What Does a Taxpayer Do?",1,"Library Bound Book","978-0-7660-9875-6",{"$f":"HYPERLINK(Table1[[#This Row],[Hyperlink]],\"Weblink\")","v":"Weblink"},"Enslow Publishing","2019","August 2018","7.250 X 9.250","Author","Chris Townsend",null,null,null,null,"U",null,"Grade 5","Grade 5 - 8","The U.S. Constitution allows Congress to require citizen to pay taxes. The first income tax was created during the Civil War. Citizens have been paying takes to the government ever since. The government uses the money to pay for many services. Who has to pay taxes? What are those taxes used for? What happened if a citizen does not pay taxes? What can be taxed? How are taxes collected? This book examines the role of a taxpayer in a civic society. The text follows an inquiry-based approach using the C-3 Framework for Social Studies.","English",29.26,21.95,"336.200973--dc23","48 pp.","https://www.enslow.com/books/What_Does_a_Taxpayer_Do/421877",{"$f":"Table1[[#This Row],[QTY]]*Table1[[#This Row],['# of Books]]","v":0},{"$f":"Table1[[#This Row],[QTY]]*Table1[[#This Row],[School & Library Price]]","v":0}]
[null,null,null,"What Does a Citizen Do?","What Does a Taxpayer Do?",1,"eBook","978-0-7660-9877-0",{"$f":"HYPERLINK(Table1[[#This Row],[Hyperlink]],\"Weblink\")","v":"Weblink"},"Enslow Publishing","2019","August 2018",null,"Author","Chris Townsend",null,null,null,null,"U",null,"Grade 5","Grade 5 - 8","The U.S. Constitution allows Congress to require citizen to pay taxes. The first income tax was created during the Civil War. Citizens have been paying takes to the government ever since. The government uses the money to pay for many services. Who has to pay taxes? What are those taxes used for? What happened if a citizen does not pay taxes? What can be taxed? How are taxes collected? This book examines the role of a taxpayer in a civic society. The text follows an inquiry-based approach using the C-3 Framework for Social Studies.","English",29.26,21.95,"336.200973--dc23","48 pp.","https://www.enslow.com/books/What_Does_a_Taxpayer_Do/421877",{"$f":"Table1[[#This Row],[QTY]]*Table1[[#This Row],['# of Books]]","v":0},{"$f":"Table1[[#This Row],[QTY]]*Table1[[#This Row],[School & Library Price]]","v":0}]
[null,null,null,"What Does a Citizen Do?","What Does an Officeholder Do?",1,"Library Bound Book","978-0-7660-9881-7",{"$f":"HYPERLINK(Table1[[#This Row],[Hyperlink]],\"Weblink\")","v":"Weblink"},"Enslow Publishing","2019","August 2018","7.250 X 9.250","Author","Chris Townsend",null,null,null,null,"T",null,"Grade 5","Grade 5 - 8","America is a representative democracy. This means that voters choose people to represent them in government. Some are chosen to lead government. Others are chosen to make laws. Some states even allow for judges to be elected. This allows the people to choose who interprets the law. There are office holders at every level of government from City Hall to the White House. How do these people get elected? What do they do once they are elected? This book explores the civic role of office holder using an inquiry and fact-based exploration within the C-3 Framework.","English",29.26,21.95,"352.6/30973--dc23","48 pp.","https://www.enslow.com/books/What_Does_an_Officeholder_Do/421879",{"$f":"Table1[[#This Row],[QTY]]*Table1[[#This Row],['# of Books]]","v":0},{"$f":"Table1[[#This Row],[QTY]]*Table1[[#This Row],[School & Library Price]]","v":0}]
[null,null,null,"What Does a Citizen Do?","What Does an Officeholder Do?",1,"eBook","978-0-7660-9883-1",{"$f":"HYPERLINK(Table1[[#This Row],[Hyperlink]],\"Weblink\")","v":"Weblink"},"Enslow Publishing","2019","August 2018",null,"Author","Chris Townsend",null,null,null,null,"T",null,"Grade 5","Grade 5 - 8","America is a representative democracy. This means that voters choose people to represent them in government. Some are chosen to lead government. Others are chosen to make laws. Some states even allow for judges to be elected. This allows the people to choose who interprets the law. There are office holders at every level of government from City Hall to the White House. How do these people get elected? What do they do once they are elected? This book explores the civic role of office holder using an inquiry and fact-based exploration within the C-3 Framework.","English",29.26,21.95,"352.6/30973--dc23","48 pp.","https://www.enslow.com/books/What_Does_an_Officeholder_Do/421879",{"$f":"Table1[[#This Row],[QTY]]*Table1[[#This Row],['# of Books]]","v":0},{"$f":"Table1[[#This Row],[QTY]]*Table1[[#This Row],[School & Library Price]]","v":0}]
[null,null,null,"Back in Time","Living and Working in Ancient China",1,"eBook","978-0-7660-8964-8",{"$f":"HYPERLINK(Table1[[#This Row],[Hyperlink]],\"Weblink\")","v":"Weblink"},"Enslow Publishing","2018","August 2017",null,"Edited by","Joanne Randolph",null,null,"60",null,"S","920L","Grade 5 - 6","Grade 5 - 8","People have been living in Asia for hundreds of thousands of years. The ancient civilizations that developed in places such as China, Japan, and India, were shaped by the geography and climate in those areas. Readers will learn about the interesting and diverse ancient civilizations of Asia as the eye-catching design draws them in and informative, accessible text keeps them engaged.","English",27.93,20.95,"931--dc23","48 pp.","https://www.enslow.com/books/Living_and_Working_in_Ancient_China/412700",{"$f":"Table1[[#This Row],[QTY]]*Table1[[#This Row],['# of Books]]","v":0},{"$f":"Table1[[#This Row],[QTY]]*Table1[[#This Row],[School & Library Price]]","v":0}]
[null,null,null,"Back in Time","Living and Working in Ancient Egypt",1,"Library Bound Book","978-0-7660-8967-9",{"$f":"HYPERLINK(Table1[[#This Row],[Hyperlink]],\"Weblink\")","v":"Weblink"},"Enslow Publishing","2018","August 2017","7.250 X 9.250","Edited by","Joanne Randolph",null,null,"44",null,"R","900L","Grade 5 - 6","Grade 5 - 8","Information-packed text and full-color imagery will transport readers to ancient Egypt, as they discover what it was like to live and work in this harshly beautiful place. Readers will also gain an understanding of how environment can shape belief as they find out about the Sun god Ra and life in the desert thousands of years ago.","English",27.93,20.95,"932/.01--dc23","48 pp.","https://www.enslow.com/books/Living_and_Working_in_Ancient_Egypt/412701",{"$f":"Table1[[#This Row],[QTY]]*Table1[[#This Row],['# of Books]]","v":0},{"$f":"Table1[[#This Row],[QTY]]*Table1[[#This Row],[School & Library Price]]","v":0}]
[null,null,null,"Back in Time","Living and Working in Ancient Greece",1,"eBook","978-0-7660-8972-3",{"$f":"HYPERLINK(Table1[[#This Row],[Hyperlink]],\"Weblink\")","v":"Weblink"},"Enslow Publishing","2018","August 2017",null,"Edited by","Joanne Randolph",null,null,null,null,"R","1040L","Grade 5 - 6","Grade 5 - 8","Ancient Greece was known for its sophisticated culture and great thinkers in the fields of philosophy, science, and math. The life and culture of this amazing ancient society will leap off the page, as readers engage with the compelling, informational text and complementary photos. As readers travel back in time to ancient Greece, they will discover the lasting influence this ancient civilization has had on the modern world.","English",27.93,20.95,"938--dc23","48 pp.","https://www.enslow.com/books/Living_and_Working_in_Ancient_Greece/412702",{"$f":"Table1[[#This Row],[QTY]]*Table1[[#This Row],['# of Books]]","v":0},{"$f":"Table1[[#This Row],[QTY]]*Table1[[#This Row],[School & Library Price]]","v":0}]
[null,null,null,"Back in Time","Living and Working in Ancient Mesopotamia",1,"Library Bound Book","978-0-7660-8958-7",{"$f":"HYPERLINK(Table1[[#This Row],[Hyperlink]],\"Weblink\")","v":"Weblink"},"Enslow Publishing","2018","August 2017","7.250 X 9.250","Edited by","Joanne Randolph",null,null,null,null,"S","940L","Grade 5 - 6","Grade 5 - 8","Known as the “cradle of civilization,” Ancient Mesopotamia was different from other ancient civilizations in that it was made up of a collection of varied cultures that were only loosely connected by their writing, their gods and their attitude toward women. The Mesopotamian culture is credited with inventing the wheel, the first writing, and many other accomplishments. Readers will enjoy discovering more about life in Ancient Mesopotamia through the absorbing text and appealing and colorful design.","English",27.93,20.95,"935--dc23","48 pp.","https://www.enslow.com/books/Living_and_Working_in_Ancient_Mesopotamia/412703",{"$f":"Table1[[#This Row],[QTY]]*Table1[[#This Row],['# of Books]]","v":0},{"$f":"Table1[[#This Row],[QTY]]*Table1[[#This Row],[School & Library Price]]","v":0}]
[null,null,null,"Back in Time","Living and Working in Ancient Rome",1,"eBook","978-0-7660-8976-1",{"$f":"HYPERLINK(Table1[[#This Row],[Hyperlink]],\"Weblink\")","v":"Weblink"},"Enslow Publishing","2018","August 2017",null,"Edited by","Joanne Randolph",null,null,null,null,"S","1100L","Grade 5 - 6","Grade 5 - 8","What was it like to live in Ancient Rome? What made the society so successful and what led, ultimately, to its downfall? Fact-filled yet engaging text and full-color photographs will bring this ancient culture to life for readers. From what they wore and the kinds of jobs people had to an exploration of their art and architecture, this title has something for everyone interested in understanding ancient Roman life and culture.","English",27.93,20.95,"937--dc23","48 pp.","https://www.enslow.com/books/Living_and_Working_in_Ancient_Rome/412704",{"$f":"Table1[[#This Row],[QTY]]*Table1[[#This Row],['# of Books]]","v":0},{"$f":"Table1[[#This Row],[QTY]]*Table1[[#This Row],[School & Library Price]]","v":0}]
[null,null,null,"Back in Time","Living and Working in the Pre-Columbian Americas",1,"Library Bound Book","978-0-7660-8979-2",{"$f":"HYPERLINK(Table1[[#This Row],[Hyperlink]],\"Weblink\")","v":"Weblink"},"Enslow Publishing","2018","August 2017","7.250 X 9.250","Edited by","Joanne Randolph",null,null,null,null,"S","1170L","Grade 5 - 6","Grade 5 - 8","Everyone knows Europeans did not discover the Americas, despite what Christopher Columbus may have believed. People had been living there for thousands of years before the first Europeans landed on its shores. This title explores the ancient civilizations, including the Incas and Mayas, that peopled the North and South American continents long ago.","English",27.93,20.95,"970.004/97--dc23","48 pp.","https://www.enslow.com/books/Living_and_Working_in_the_Pre_Columbian_Americas/412705",{"$f":"Table1[[#This Row],[QTY]]*Table1[[#This Row],['# of Books]]","v":0},{"$f":"Table1[[#This Row],[QTY]]*Table1[[#This Row],[School & Library Price]]","v":0}]
[null,null,null,"The Bill of Rights","The Bill of Rights",10,"Library Set","978-0-7660-8587-9",{"$f":"HYPERLINK(Table1[[#This Row],[Hyperlink]],\"Weblink\")","v":"Weblink"},"Enslow Publishing","2018","August 2017","7.250 X 9.250",null,null,null,null,null,null,null,null,"Grade 5 - 6","Grade 5 - 8","This riveting series describes, in-depth, each of the first ten amendments to the US Constitution. Each book focuses on one of the amendments, including the events that led up to the writing of the amendment, as well as key players involved in its writing, ratifications to the amendment, and the affects the amendment has had on American policies since its writing.","English",279.3,209.5,null,"48 pp.","https://www.enslow.com/series/The_Bill_of_Rights/421593",{"$f":"Table1[[#This Row],[QTY]]*Table1[[#This Row],['# of Books]]","v":0},{"$f":"Table1[[#This Row],[QTY]]*Table1[[#This Row],[School & Library Price]]","v":0}]
[null,null,null,"The Bill of Rights","Double Jeopardy, Self-Incrimination, and Due Process of Law: The Fifth Amendment",1,"Library Bound Book","978-0-7660-8557-2",{"$f":"HYPERLINK(Table1[[#This Row],[Hyperlink]],\"Weblink\")","v":"Weblink"},"Enslow Publishing","2018","August 2017","7.250 X 9.250","Author","John Rokutani",null,null,null,null,"Y","1160L","Grade 5 - 6","Grade 5 - 8","The Fifth Amendment is one of the more complex and far-reaching amendments to the US Constitution, so this book begins by breaking down each clause one by one, explaining the legalese in uncomplicated language, thus allowing the reader to reach a full understanding of due process. It then systemically describes the impact of the Fifth Amendment clause by clause, using Supreme Court cases as real-world examples. Sidebars highlight the amendment in action and delve into some of the finer points. This book includes rich resource sections that allow for further exploration.","English",27.93,20.95,"347.73/5--dc23","48 pp.","https://www.enslow.com/books/Double_Jeopardy_Self_Incrimination_and_Due_Process_of_Law/412779",{"$f":"Table1[[#This Row],[QTY]]*Table1[[#This Row],['# of Books]]","v":0},{"$f":"Table1[[#This Row],[QTY]]*Table1[[#This Row],[School & Library Price]]","v":0}]
[null,null,null,"The Bill of Rights","Freedom of Speech, the Press, and Religion: The First Amendment",1,"eBook","978-0-7660-8550-3",{"$f":"HYPERLINK(Table1[[#This Row],[Hyperlink]],\"Weblink\")","v":"Weblink"},"Enslow Publishing","2018","August 2017",null,"Author","John Rokutani",null,null,null,null,"T",null,"Grade 5 - 6","Grade 5 - 8","The Bill of Rights is one of the most influential documents in American history. These ten amendments safeguard the basic rights that every American has. The First Amendment protects Americans’ right to speak freely, assemble peacefully, and practice their own religions, and for journalists to write any story they choose. This book delves into the history of the amendment, from its conception to its writers, why it was written, and why it is still so important today. Through clear and exciting text, explanations of the interpretation of the amendment are revealed, as well as important court cases that set its precedent. Primary source documents allow readers to examine the amendments themselves and come up with their own conclusions. Full-color and black-and-white photos help students better understand the document and its creation. Further reading and sidebars encourage students to explore the amendments further, and a glossary helps students master new vocabulary.","English",27.93,20.95,"342.7308/5--dc23","48 pp.","https://www.enslow.com/books/Freedom_of_Speech_the_Press_and_Religion/412780",{"$f":"Table1[[#This Row],[QTY]]*Table1[[#This Row],['# of Books]]","v":0},{"$f":"Table1[[#This Row],[QTY]]*Table1[[#This Row],[School & Library Price]]","v":0}]
[null,null,null,"The Bill of Rights","Limiting Federal Powers: The Tenth Amendment",1,"Library Bound Book","978-0-7660-8567-1",{"$f":"HYPERLINK(Table1[[#This Row],[Hyperlink]],\"Weblink\")","v":"Weblink"},"Enslow Publishing","2018","August 2017","7.250 X 9.250","Author","Hallie Murray",null,null,null,null,"X","1260L","Grade 5 - 6","Grade 5 - 8","The Tenth Amendment says that the powers not delegated to the federal government by the Constitution belong to the individual states and their residents and can not be taken away from them. Like the Ninth Amendment, the Tenth Amendment’s wording is vague and abstract and often debated, especially when applied to such important contemporary issues as the drinking age, gun ownership, health care, environmental standards, and controlled substances. Through full-color and black-and-white photos, engaging text, and primary sources, students will learn why this amendment was created, how notions of states' versus federal rights have changed throughout history, and how this ongoing conflict between state and federal government affects their lives.","English",27.93,20.95,"342.73/042--dc23","48 pp.","https://www.enslow.com/books/Limiting_Federal_Powers/412781",{"$f":"Table1[[#This Row],[QTY]]*Table1[[#This Row],['# of Books]]","v":0},{"$f":"Table1[[#This Row],[QTY]]*Table1[[#This Row],[School & Library Price]]","v":0}]
[null,null,null,"The Bill of Rights","Preventing Cruel and Unusual Punishment: The Eighth Amendment",1,"eBook","978-0-7660-8564-0",{"$f":"HYPERLINK(Table1[[#This Row],[Hyperlink]],\"Weblink\")","v":"Weblink"},"Enslow Publishing","2018","August 2017",null,"Author","Hallie Murray",null,null,null,null,"V","1210L","Grade 5 - 6","Grade 5 - 8","The Founding Fathers created the Eighth Amendment to protect the people from the kind of abuse they had seen while the colonies were under British rule. But to this day, Americans continue to argue about what exactly “cruel and unusual,” “excessive bail,” and “excessive fines” mean. Through full-color and black-and-white photos, engaging text, and primary sources, students will examine the events leading up to the Eighth Amendment’s creation, how it has been defined throughout the centuries, and how it is interpreted today. In addition, informative sidebars and a further reading section with books and websites encourage students to explore the people and events of this time in history in more depth.","English",27.93,20.95,"345.73/0772--dc23","48 pp.","https://www.enslow.com/books/Preventing_Cruel_and_Unusual_Punishment/412782",{"$f":"Table1[[#This Row],[QTY]]*Table1[[#This Row],['# of Books]]","v":0},{"$f":"Table1[[#This Row],[QTY]]*Table1[[#This Row],[School & Library Price]]","v":0}]
[null,null,null,"The Bill of Rights","Rights Retained by the People: The Ninth Amendment",1,"Library Bound Book","978-0-7660-8565-7",{"$f":"HYPERLINK(Table1[[#This Row],[Hyperlink]],\"Weblink\")","v":"Weblink"},"Enslow Publishing","2018","August 2017","7.250 X 9.250","Author","Hallie Murray",null,null,null,null,"X","1230L","Grade 5 - 6","Grade 5 - 8","The Ninth Amendment, which guarantees individuals rights not specifically named within the Constitution or the other amendments, was written using vague, open-ended language to ensure no American citizen would be denied the many rights he or she retained that were not explicitly enumerated. Yet this vagueness has caused confusion and uncertainty even in the Supreme Court. Through full-color and black-and-white photos, engaging text, and primary sources, readers will learn why it was proposed and ratified, how it has been interpreted in several landmark Supreme Court cases, and how it has impacted society through such issues as labor activities, fair housing laws, and privacy. Sidebars, a glossary, and further reading are also included.","English",27.93,20.95,"342.7308--dc23","48 pp.","https://www.enslow.com/books/Rights_Retained_by_the_People/412783",{"$f":"Table1[[#This Row],[QTY]]*Table1[[#This Row],['# of Books]]","v":0},{"$f":"Table1[[#This Row],[QTY]]*Table1[[#This Row],[School & Library Price]]","v":0}]
[null,null,null,"The Bill of Rights","The Right to a Jury Trial: The Seventh Amendment",1,"eBook","978-0-7660-8562-6",{"$f":"HYPERLINK(Table1[[#This Row],[Hyperlink]],\"Weblink\")","v":"Weblink"},"Enslow Publishing","2018","August 2017",null,"Author","Hallie Murray",null,null,null,null,"Y","1200L","Grade 5 - 6","Grade 5 - 8","By entrusting a jury of ordinary and impartial citizens to decide the outcome of lawsuits, the Seventh Amendment removed the power from judges, who could potentially be swayed and corrupted. It levels the playing field, guaranteeing that each citizen's voice and interests carry as much weight as that of a wealthy individual, major corporation, or powerful government. The historical context that motivated the drafting and passage of this amendment is discussed. Contemporary, straight-from-the-headlines cases illustrate the relevance of the Seventh Amendment and its application to cases involving consumer protection, environmental cleanup, medical malpractice, and corporate wrongdoing.","English",27.93,20.95,"347.73/752--dc23","48 pp.","https://www.enslow.com/books/The_Right_to_a_Jury_Trial/412784",{"$f":"Table1[[#This Row],[QTY]]*Table1[[#This Row],['# of Books]]","v":0},{"$f":"Table1[[#This Row],[QTY]]*Table1[[#This Row],[School & Library Price]]","v":0}]
[null,null,null,"The Bill of Rights","The Right to Bear Arms: The Second Amendment",1,"Library Bound Book","978-0-7660-8551-0",{"$f":"HYPERLINK(Table1[[#This Row],[Hyperlink]],\"Weblink\")","v":"Weblink"},"Enslow Publishing","2018","August 2017","7.250 X 9.250","Author","Hallie Murray",null,null,null,null,"T",null,"Grade 5 - 6","Grade 5 - 8","A hot button issue that is in the news daily, the right to bear arms is one of Americans’ most provincial and cherished rights. There are more guns per capita in the United States than anywhere else in the world. Through engaging and enlightening text, the Second Amendment, the right to bear arms, is studied in-depth. Analyzing the varying views on the amendment, students will get the opportunity to learn about the different interpretations of the amendment. The history of the amendment, as well as its creators, supporters, and detractors are studied thoroughly. Primary source documents allow readers to examine the amendments themselves and come up with their own conclusions. Full-color and black-and-white photos help students better understand the Bill of Rights and its creation. Further reading and sidebars encourage students to explore the amendments further, and a glossary helps students master new vocabulary.","English",27.93,20.95,"323.4/3--dc23","48 pp.","https://www.enslow.com/books/The_Right_to_Bear_Arms/412785",{"$f":"Table1[[#This Row],[QTY]]*Table1[[#This Row],['# of Books]]","v":0},{"$f":"Table1[[#This Row],[QTY]]*Table1[[#This Row],[School & Library Price]]","v":0}]
[null,null,null,"The Bill of Rights","The Right to Privacy in the Home: The Third Amendment",1,"eBook","978-0-7660-8554-1",{"$f":"HYPERLINK(Table1[[#This Row],[Hyperlink]],\"Weblink\")","v":"Weblink"},"Enslow Publishing","2018","August 2017",null,"Author","John Rokutani",null,null,null,null,"U","1190L","Grade 5 - 6","Grade 5 - 8","Under British rule, soldiers could show up at any American’s doorstep, demand shelter, eat all the food, and require the homeowner to provide anything they asked for or else the colonist would be punished by the military. After the Revolutionary War, the Founding Fathers would ensure no American would have to endure such abuse of power by ratifying the Third Amendment, which guarantees that soldiers cannot be quartered with American citizens during times of peace without the homeowner’s consent. Through full-color and black-and-white photos, engaging text, and primary sources, readers will learn the history behind this amendment and how it has affected modern society by giving rise to military bases all over the country.","English",27.93,20.95,"342.7308/58--dc23","48 pp.","https://www.enslow.com/books/The_Right_to_Privacy_in_the_Home/412786",{"$f":"Table1[[#This Row],[QTY]]*Table1[[#This Row],['# of Books]]","v":0},{"$f":"Table1[[#This Row],[QTY]]*Table1[[#This Row],[School & Library Price]]","v":0}]
[null,null,null,"The Bill of Rights","The Rights of the Accused in Criminal Cases: The Sixth Amendment",1,"Library Bound Book","978-0-7660-8559-6",{"$f":"HYPERLINK(Table1[[#This Row],[Hyperlink]],\"Weblink\")","v":"Weblink"},"Enslow Publishing","2018","August 2017","7.250 X 9.250","Author","Hallie Murray",null,null,null,null,"Y","1170L","Grade 5 - 6","Grade 5 - 8","The fact that individuals accused of a crime are innocent until proven guilty and safeguarded by a robust set of rights and protections is one of the things that sets the United States apart from many other nations. According to the Sixth Amendment, individuals accused of crimes have a number of important rights, including the right to a speedy trial, to a jury of peers, to be informed of the charges against them, to an attorney and witnesses in their defense, and to face their accuser. This book reviews the history of the Sixth Amendment, including the events that inspired it and the major Supreme Court cases related to it.","English",27.93,20.95,"345.73/056--dc23","48 pp.","https://www.enslow.com/books/The_Rights_of_the_Accused_in_Criminal_Cases/412787",{"$f":"Table1[[#This Row],[QTY]]*Table1[[#This Row],['# of Books]]","v":0},{"$f":"Table1[[#This Row],[QTY]]*Table1[[#This Row],[School & Library Price]]","v":0}]
[null,null,null,"The Bill of Rights","Unreasonable Search and Seizure: The Fourth Amendment",1,"Library Bound Book","978-0-7660-8555-8",{"$f":"HYPERLINK(Table1[[#This Row],[Hyperlink]],\"Weblink\")","v":"Weblink"},"Enslow Publishing","2018","August 2017","7.250 X 9.250","Author","Hallie Murray",null,null,null,null,"W","1210L","Grade 5 - 6","Grade 5 - 8","Some people believe that the USA PATRIOT Act and Homeland Security Act, passed after the 9/11 terrorist attacks, violate the Fourth Amendment, which guarantees that US citizens have the right to be secure in their persons, houses, papers, and belongings against unreasonable searches and seizures. Through full-color and black-and-white photos, engaging text, and primary sources, this book examines the events leading up to the creation and ratification of the Fourth Amendment and its impact on modern American life, including how the Supreme Court must balance the rights of the individual against the needs of the government to keep the nation safe and how technological advances affect our privacy. Sidebars, a list of all ten Bill of Rights, and a glossary are also included.","English",27.93,20.95,"3445.73/0522--dc23","48 pp.","https://www.enslow.com/books/Unreasonable_Search_and_Seizure/412788",{"$f":"Table1[[#This Row],[QTY]]*Table1[[#This Row],['# of Books]]","v":0},{"$f":"Table1[[#This Row],[QTY]]*Table1[[#This Row],[School & Library Price]]","v":0}]
[null,null,null,"The Bill of Rights","Unreasonable Search and Seizure: The Fourth Amendment",1,"eBook","978-0-7660-8556-5",{"$f":"HYPERLINK(Table1[[#This Row],[Hyperlink]],\"Weblink\")","v":"Weblink"},"Enslow Publishing","2018","August 2017",null,"Author","Hallie Murray",null,null,null,null,"W","1210L","Grade 5 - 6","Grade 5 - 8","Some people believe that the USA PATRIOT Act and Homeland Security Act, passed after the 9/11 terrorist attacks, violate the Fourth Amendment, which guarantees that US citizens have the right to be secure in their persons, houses, papers, and belongings against unreasonable searches and seizures. Through full-color and black-and-white photos, engaging text, and primary sources, this book examines the events leading up to the creation and ratification of the Fourth Amendment and its impact on modern American life, including how the Supreme Court must balance the rights of the individual against the needs of the government to keep the nation safe and how technological advances affect our privacy. Sidebars, a list of all ten Bill of Rights, and a glossary are also included.","English",27.93,20.95,"3445.73/0522--dc23","48 pp.","https://www.enslow.com/books/Unreasonable_Search_and_Seizure/412788",{"$f":"Table1[[#This Row],[QTY]]*Table1[[#This Row],['# of Books]]","v":0},{"$f":"Table1[[#This Row],[QTY]]*Table1[[#This Row],[School & Library Price]]","v":0}]
[null,null,null,"Slavery and Slave Resistance","Beyond Slavery: African Americans From Emancipation to Today",1,"eBook","978-0-7660-7548-1",{"$f":"HYPERLINK(Table1[[#This Row],[Hyperlink]],\"Weblink\")","v":"Weblink"},"Enslow Publishing","2017","August 2016",null,"Author","Ann Byers",null,null,null,null,"Z","1040L","Grade 6","Grade 6 - 12","Once slavery ended and emancipation was granted to slaves in the United States, African Americans did not suddenly find true independence and equality as they had dreamed. Instead many struggled to correct centuries-old attitudes that they were inferior to whites. Through excerpts from source documents, images, and riveting narrative, students will learn about the struggle and the rise of many in the black community to positions of power and importance in America.","English",37.270000000000003,27.95,"323.1196/0730904--dc23","128 pp.","https://www.enslow.com/books/Beyond_Slavery/419596",{"$f":"Table1[[#This Row],[QTY]]*Table1[[#This Row],['# of Books]]","v":0},{"$f":"Table1[[#This Row],[QTY]]*Table1[[#This Row],[School & Library Price]]","v":0}]
[null,null,null,"Slavery and Slave Resistance","Collective Biographies of Slave Resistance Heroes",1,"Library Bound Book","978-0-7660-7555-9",{"$f":"HYPERLINK(Table1[[#This Row],[Hyperlink]],\"Weblink\")","v":"Weblink"},"Enslow Publishing","2017","August 2016","6.000 X 9.000","Author","Lisa A. Crayton",null,null,null,null,"Z","850L","Grade 6","Grade 6 - 12","This captivating and inspirational volume of biographies celebrates the lives of those who railed against slavery. Beginning with an overview of the institution, the narrative turns to biographical examinations of escaped slaves turned social activists, supporters of the Underground Railroad, political activists, journalists, and militant advocates. Readers will understand how the brave contributions of these individuals helped bring about the end of slavery in America.","English",37.270000000000003,27.95,"326/.80922--dc23","128 pp.","https://www.enslow.com/books/Collective_Biographies_of_Slave_Resistance_Heroes/419608",{"$f":"Table1[[#This Row],[QTY]]*Table1[[#This Row],['# of Books]]","v":0},{"$f":"Table1[[#This Row],[QTY]]*Table1[[#This Row],[School & Library Price]]","v":0}]
[null,null,null,"Slavery and Slave Resistance","Fighting for Freedom: Abolitionists and Slave Resistance",1,"eBook","978-0-7660-7546-7",{"$f":"HYPERLINK(Table1[[#This Row],[Hyperlink]],\"Weblink\")","v":"Weblink"},"Enslow Publishing","2017","August 2016",null,"Author","Judith Edwards",null,null,null,null,"Z","1190L","Grade 6","Grade 6 - 12","Slavery didn’t end without an organized and impassioned struggle. Through source documents, images, and engaging text, students will learn the story of those abolitionists and slave resisters who fought against a system they believed was inhumane and morally wrong.","English",37.270000000000003,27.95,"326/.80973--dc23","128 pp.","https://www.enslow.com/books/Fighting_for_Freedom/419593",{"$f":"Table1[[#This Row],[QTY]]*Table1[[#This Row],['# of Books]]","v":0},{"$f":"Table1[[#This Row],[QTY]]*Table1[[#This Row],[School & Library Price]]","v":0}]
[null,null,null,"Slavery and Slave Resistance","Life as a Slave",1,"Library Bound Book","978-0-7660-7549-8",{"$f":"HYPERLINK(Table1[[#This Row],[Hyperlink]],\"Weblink\")","v":"Weblink"},"Enslow Publishing","2017","August 2016","6.000 X 9.000","Author","Richard Worth",null,null,null,null,"Z","940L","Grade 6","Grade 6 - 12","This fascinating volume explores everyday life for slaves in America. Readers will learn about the various duties that slaves were responsible for conducting, their relationships with their masters, and the ways they found to cope with the humiliating and demoralizing lives they were captured into. Contextual information about how the practice of slavery began, how slaves contributed to the southern economy, and how the institution was finally destroyed rounds out this informative resource.","English",37.270000000000003,27.95,"306.3/620975--dc23","128 pp.","https://www.enslow.com/books/Life_as_a_Slave/419599",{"$f":"Table1[[#This Row],[QTY]]*Table1[[#This Row],['# of Books]]","v":0},{"$f":"Table1[[#This Row],[QTY]]*Table1[[#This Row],[School & Library Price]]","v":0}]
[null,null,null,"Slavery and Slave Resistance","Political Debates on Slavery",1,"eBook","978-0-7660-7552-8",{"$f":"HYPERLINK(Table1[[#This Row],[Hyperlink]],\"Weblink\")","v":"Weblink"},"Enslow Publishing","2017","August 2016",null,"Author, Author","Suzanne Cloud-Tapper, Linda Jacobs",null,null,null,null,"Z","1020L","Grade 6","Grade 6 - 12","As abolitionists fought to end slavery and influential southerners fought to keep it, the institution of slavery became a political issue. This valuable resource for student reports presents the impassioned debates made on the subject. Primary source document excerpts help further understanding.","English",37.270000000000003,27.95,"306.3/620973--dc23","128 pp.","https://www.enslow.com/books/Political_Debates_on_Slavery/419602",{"$f":"Table1[[#This Row],[QTY]]*Table1[[#This Row],['# of Books]]","v":0},{"$f":"Table1[[#This Row],[QTY]]*Table1[[#This Row],[School & Library Price]]","v":0}]
[null,null,null,"Slavery and Slave Resistance","Views on Slavery: In the Words of Enslaved Africans, Merchants, Owners, and Abolitionists",1,"Library Bound Book","978-0-7660-7553-5",{"$f":"HYPERLINK(Table1[[#This Row],[Hyperlink]],\"Weblink\")","v":"Weblink"},"Enslow Publishing","2017","August 2016","6.000 X 9.000","Author","Suzanne Cloud-Tapper",null,null,null,null,"Z","1060L","Grade 6","Grade 6 - 12","It is difficult for the modern student to truly understand how America could have supported slavery. This volume, containing primary source first-person accounts, allows readers to learn directly from the people of the time. Through their words—some hateful, others inspiring—students will develop a fuller understanding of this chapter in American history.","English",37.270000000000003,27.95,"306.3/620973--dc23","128 pp.","https://www.enslow.com/books/Views_on_Slavery/419605",{"$f":"Table1[[#This Row],[QTY]]*Table1[[#This Row],['# of Books]]","v":0},{"$f":"Table1[[#This Row],[QTY]]*Table1[[#This Row],[School & Library Price]]","v":0}]
[null,null,null,"The United States at War","The French and Indian War",1,"Library Bound Book","978-0-7660-7676-1",{"$f":"HYPERLINK(Table1[[#This Row],[Hyperlink]],\"Weblink\")","v":"Weblink"},"Enslow Publishing","2017","August 2016","6.500 X 9.250","Author","William R. Sanford",null,null,null,null,"Z","1130L","Grade 6","Grade 6 - 12","A riveting full-page photo and a quotation from the period opens each chapter in this engaging analysis of the French and Indian War, which covers the arc of the conflict, from its genesis to its legacy.","English",37.270000000000003,27.95,"973.2/6--dc23","128 pp.","https://www.enslow.com/books/The_French_and_Indian_War/419557",{"$f":"Table1[[#This Row],[QTY]]*Table1[[#This Row],['# of Books]]","v":0},{"$f":"Table1[[#This Row],[QTY]]*Table1[[#This Row],[School & Library Price]]","v":0}]
[null,null,null,"The United States at War","The French and Indian War",1,"eBook","978-0-7660-7679-2",{"$f":"HYPERLINK(Table1[[#This Row],[Hyperlink]],\"Weblink\")","v":"Weblink"},"Enslow Publishing","2017","August 2016",null,"Author","William R. Sanford",null,null,null,null,"Z","1130L","Grade 6","Grade 6 - 12","A riveting full-page photo and a quotation from the period opens each chapter in this engaging analysis of the French and Indian War, which covers the arc of the conflict, from its genesis to its legacy.","English",37.270000000000003,27.95,"973.2/6--dc23","128 pp.","https://www.enslow.com/books/The_French_and_Indian_War/419557",{"$f":"Table1[[#This Row],[QTY]]*Table1[[#This Row],['# of Books]]","v":0},{"$f":"Table1[[#This Row],[QTY]]*Table1[[#This Row],[School & Library Price]]","v":0}]
[null,null,null,"The United States at War","The Korean War",1,"eBook","978-0-7660-7660-0",{"$f":"HYPERLINK(Table1[[#This Row],[Hyperlink]],\"Weblink\")","v":"Weblink"},"Enslow Publishing","2017","August 2016",null,"Author, Author","Kevin Hall, R. Conrad Stein",null,null,null,null,"Z","1060L","Grade 6","Grade 6 - 12","More than 36,000 Americans were killed in the Korean War, yet the three-year conflict went largely ignored by the American public as it took place. Through primary sources and personal accounts, informative sidebars, and riveting photographs, this book provides readers with an in-depth look at this \"Forgotten War\" to help them understand the reasons behind it, the important battles and military leaders, what resulted from the war, and the legacy it has today.\n","English",37.270000000000003,27.95,"951.904/2--dc23","128 pp.","https://www.enslow.com/books/The_Korean_War/419545",{"$f":"Table1[[#This Row],[QTY]]*Table1[[#This Row],['# of Books]]","v":0},{"$f":"Table1[[#This Row],[QTY]]*Table1[[#This Row],[School & Library Price]]","v":0}]
[null,null,null,"The United States at War","The Mexican-American War",1,"Library Bound Book","978-0-7660-7662-4",{"$f":"HYPERLINK(Table1[[#This Row],[Hyperlink]],\"Weblink\")","v":"Weblink"},"Enslow Publishing","2017","August 2016","6.500 X 9.250","Author","Charles W. Carey, Jr.",null,null,null,null,"Z","1160L","Grade 6","Grade 6 - 12","The Mexican War was a war of conquest led by the United States to take the lands north of the Rio Grande and Gila rivers from Mexico. Even today, the debate continues as to the morality of the U.S. invasion although it paved the way for the United States to become a dominant world power. Engaging narrative enhanced by excerpts from primary sources and images will enthrall students as they learn about the circumstances that led to the war, the people who fought it, the deciding battles, the aftermath, and the lasting impact it has had on American pop culture and relations between Mexicans and Americans.","English",37.270000000000003,27.95,"973.6/2--dc23","128 pp.","https://www.enslow.com/books/The_Mexican_American_War/419548",{"$f":"Table1[[#This Row],[QTY]]*Table1[[#This Row],['# of Books]]","v":0},{"$f":"Table1[[#This Row],[QTY]]*Table1[[#This Row],[School & Library Price]]","v":0}]
[null,null,null,"The United States at War","The Persian Gulf War and the War in Iraq",1,"eBook","978-0-7660-7682-2",{"$f":"HYPERLINK(Table1[[#This Row],[Hyperlink]],\"Weblink\")","v":"Weblink"},"Enslow Publishing","2017","August 2016",null,"Author","Elizabeth Schmermund",null,null,null,null,"Z","1120L","Grade 6","Grade 6 - 12","Hundreds of thousands of Iraqis and thousands of Americans were killed during the Persian Gulf War, which lasted from 1990 to 1991, and the Iraq War, which lasted from 2003 to 2011. Full of riveting primary sources and personal accounts and full-color photographs from the front lines, this book will provide readers with an in-depth look at the complicated relationship between Iraq and the United States, the reasons behind these two wars, the decision-makers, the important battles, and the global impact these conflicts have had which continues to affect us even today.","English",37.270000000000003,27.95,"956.7044/3--dc23","128 pp.","https://www.enslow.com/books/The_Persian_Gulf_War_and_the_War_in_Iraq/419560",{"$f":"Table1[[#This Row],[QTY]]*Table1[[#This Row],['# of Books]]","v":0},{"$f":"Table1[[#This Row],[QTY]]*Table1[[#This Row],[School & Library Price]]","v":0}]
[null,null,null,"The United States at War","The Spanish-American War",1,"Library Bound Book","978-0-7660-7665-5",{"$f":"HYPERLINK(Table1[[#This Row],[Hyperlink]],\"Weblink\")","v":"Weblink"},"Enslow Publishing","2017","August 2016","6.500 X 9.250","Author","Paula Johanson",null,null,null,null,"Z","1040L","Grade 6","Grade 6 - 12","Before the Spanish-American War, the United States was a relatively isolated nation, but Cuba’s fight to gain independence from Spain garnered sympathy from America and the mysterious sinking of the US battleship Maine pushed the young nation toward war and into world affairs. Engaging narrative enhanced by excerpts from primary sources and images will enthrall students as they learn about the events that led to the war, the important battles and military leaders, the outcome, and the legacy it has today.","English",37.270000000000003,27.95,"973.8/9--dc23","128 pp.","https://www.enslow.com/books/The_Spanish_American_War/419551",{"$f":"Table1[[#This Row],[QTY]]*Table1[[#This Row],['# of Books]]","v":0},{"$f":"Table1[[#This Row],[QTY]]*Table1[[#This Row],[School & Library Price]]","v":0}]
[null,null,null,"The United States at War","The War of 1812",1,"eBook","978-0-7660-7673-0",{"$f":"HYPERLINK(Table1[[#This Row],[Hyperlink]],\"Weblink\")","v":"Weblink"},"Enslow Publishing","2017","August 2016",null,"Author","Karen Clemens Warrick",null,null,null,null,"Z","1070L","Grade 6","Grade 6 - 12","Many readers may know that the events of the War of 1812 inspired Francis Scott Key to write a poem that later became the national anthem. However, they may not be familiar with the reasons behind the war, its outcomes, and its legacy. Enhanced by excerpts from primary sources and images, this book will discuss the circumstances that led to the war, the people who fought it, the deciding battles, the aftermath, and how it has shaped the nation we know today.","English",37.270000000000003,27.95,"973.5/2--dc23","128 pp.","https://www.enslow.com/books/The_War_of_1812/419554",{"$f":"Table1[[#This Row],[QTY]]*Table1[[#This Row],['# of Books]]","v":0},{"$f":"Table1[[#This Row],[QTY]]*Table1[[#This Row],[School & Library Price]]","v":0}]
[null,null,null,"Making America Great: Immigrant Success Stories","Making America Great: Immigrant Success Stories",6,"Library Set","978-0-7660-9247-1",{"$f":"HYPERLINK(Table1[[#This Row],[Hyperlink]],\"Weblink\")","v":"Weblink"},"Enslow Publishing","2018","January 2018","6.000 X 9.000",null,null,null,null,null,null,null,null,"Grade 7","Grade 7 - 12","America is known for welcoming immigrants, but not everyone knows how much immigrants have given back. They've led the nation's top baseball teams to the World Series. Many have served their communities in public office and others have made amazing scientific breakthroughs. Chances are that your favorite devices and apps have also benefited from immigrant know-how, as many of the tech whizzes in the U.S. hail from abroad. The contributions immigrants have made don't always make headlines, but the U.S. would be unrecognizable without them. With this informative series, readers will get to know the immigrants who've made America great.","English",223.62,167.7,null,"112 pp.","https://www.enslow.com/series/Making_America_Great___Immigrant_Success_Stories/450951",{"$f":"Table1[[#This Row],[QTY]]*Table1[[#This Row],['# of Books]]","v":0},{"$f":"Table1[[#This Row],[QTY]]*Table1[[#This Row],[School & Library Price]]","v":0}]
[null,null,null,"Making America Great: Immigrant Success Stories","Famous Immigrant Athletes",1,"Library Bound Book","978-0-7660-9243-3",{"$f":"HYPERLINK(Table1[[#This Row],[Hyperlink]],\"Weblink\")","v":"Weblink"},"Enslow Publishing","2018","January 2018","6.000 X 9.000","Author","John A. Torres",null,null,null,null,"Z","1040L","Grade 7","Grade 7 - 12","If music is the universal language, then sports is a close second. Every four years the world comes together for soccer's World Cup as well as the Olympics. We take pride in presenting our best to compete against the best. As a country of immigrants, the United States has always been a standout. In fact, some of our best athletes have come from other countries. Readers learn about the greatness of basketball player Dikembe Mutombo, tennis star Martina Navratilova, baseball great Albert Pujols, weightlifter-turned-movie star Arnold Schwarzenegger and more athletes who have come to this country and excelled at their sport.","English",37.270000000000003,27.95,"796.092/2--dc23","112 pp.","https://www.enslow.com/books/Famous_Immigrant_Athletes/421729",{"$f":"Table1[[#This Row],[QTY]]*Table1[[#This Row],['# of Books]]","v":0},{"$f":"Table1[[#This Row],[QTY]]*Table1[[#This Row],[School & Library Price]]","v":0}]
[null,null,null,"Making America Great: Immigrant Success Stories","Famous Immigrant Athletes",1,"eBook","978-0-7660-9300-3",{"$f":"HYPERLINK(Table1[[#This Row],[Hyperlink]],\"Weblink\")","v":"Weblink"},"Enslow Publishing","2018","January 2018",null,"Author","John A. Torres",null,null,null,null,"Z","1040L","Grade 7","Grade 7 - 12","If music is the universal language, then sports is a close second. Every four years the world comes together for soccer's World Cup as well as the Olympics. We take pride in presenting our best to compete against the best. As a country of immigrants, the United States has always been a standout. In fact, some of our best athletes have come from other countries. Readers learn about the greatness of basketball player Dikembe Mutombo, tennis star Martina Navratilova, baseball great Albert Pujols, weightlifter-turned-movie star Arnold Schwarzenegger and more athletes who have come to this country and excelled at their sport.","English",37.270000000000003,27.95,"796.092/2--dc23","112 pp.","https://www.enslow.com/books/Famous_Immigrant_Athletes/421729",{"$f":"Table1[[#This Row],[QTY]]*Table1[[#This Row],['# of Books]]","v":0},{"$f":"Table1[[#This Row],[QTY]]*Table1[[#This Row],[School & Library Price]]","v":0}]
[null,null,null,"Making America Great: Immigrant Success Stories","Famous Immigrant Entrepreneurs",1,"Library Bound Book","978-0-7660-9241-9",{"$f":"HYPERLINK(Table1[[#This Row],[Hyperlink]],\"Weblink\")","v":"Weblink"},"Enslow Publishing","2018","January 2018","6.000 X 9.000","Author","Barbara Krasner ",null,null,null,null,"Z","1010L","Grade 7","Grade 7 - 12","At a time when immigration makes daily news headlines, the contributions of newcomers to our nation's economy cannot be ignored. Their talent and determination drove them to leave their homelands for a better life. But they didn't just make their lives better; some immigrant entrepreneurs have built empires, and reshaped our lives in the process. Focusing on those individuals who truly embody the American Dream, this volume touches on powerhouses like news mogul Arianna Huffington from Greece, computer innovator An Wang from China, steel magnate and philanthropist Andrew Carnegie from Scotland, and many more from across the globe.","English",37.270000000000003,27.95,"338.092/69120973--dc23","112 pp.","https://www.enslow.com/books/Famous_Immigrant_Entrepreneurs/421727",{"$f":"Table1[[#This Row],[QTY]]*Table1[[#This Row],['# of Books]]","v":0},{"$f":"Table1[[#This Row],[QTY]]*Table1[[#This Row],[School & Library Price]]","v":0}]
[null,null,null,"Making America Great: Immigrant Success Stories","Famous Immigrant Entrepreneurs",1,"eBook","978-0-7660-9298-3",{"$f":"HYPERLINK(Table1[[#This Row],[Hyperlink]],\"Weblink\")","v":"Weblink"},"Enslow Publishing","2018","January 2018",null,"Author","Barbara Krasner ",null,null,null,null,"Z","1010L","Grade 7","Grade 7 - 12","At a time when immigration makes daily news headlines, the contributions of newcomers to our nation's economy cannot be ignored. Their talent and determination drove them to leave their homelands for a better life. But they didn't just make their lives better; some immigrant entrepreneurs have built empires, and reshaped our lives in the process. Focusing on those individuals who truly embody the American Dream, this volume touches on powerhouses like news mogul Arianna Huffington from Greece, computer innovator An Wang from China, steel magnate and philanthropist Andrew Carnegie from Scotland, and many more from across the globe.","English",37.270000000000003,27.95,"338.092/69120973--dc23","112 pp.","https://www.enslow.com/books/Famous_Immigrant_Entrepreneurs/421727",{"$f":"Table1[[#This Row],[QTY]]*Table1[[#This Row],['# of Books]]","v":0},{"$f":"Table1[[#This Row],[QTY]]*Table1[[#This Row],[School & Library Price]]","v":0}]
[null,null,null,"Making America Great: Immigrant Success Stories","Famous Immigrant Politicians",1,"eBook","978-0-7660-9299-0",{"$f":"HYPERLINK(Table1[[#This Row],[Hyperlink]],\"Weblink\")","v":"Weblink"},"Enslow Publishing","2018","January 2018",null,"Author","Susan Nichols",null,null,null,null,"Z","1090L","Grade 7","Grade 7 - 12","The U.S. Constitution was signed by 39 men, all of whom we consider the \"founding fathers\" of the nation. But did you know that seven of those 39 were immigrants to the United States? Immigrants have served as politicians in the United States since the country's founding, in all branches and all levels of government. Readers learn about the contributions of immigrants who served as senators, congressional representatives, mayors, and governors, such as Henry Kissinger, Arnold Schwarzenegger, Pramila Jayapal, Mazie Hirono, and Tammy Duckworth.","English",37.270000000000003,27.95,"305.9/06912073--dc23","112 pp.","https://www.enslow.com/books/Famous_Immigrant_Politicians/421728",{"$f":"Table1[[#This Row],[QTY]]*Table1[[#This Row],['# of Books]]","v":0},{"$f":"Table1[[#This Row],[QTY]]*Table1[[#This Row],[School & Library Price]]","v":0}]
[null,null,null,"Making America Great: Immigrant Success Stories","Famous Immigrant Scientists",1,"Library Bound Book","978-0-7660-9244-0",{"$f":"HYPERLINK(Table1[[#This Row],[Hyperlink]],\"Weblink\")","v":"Weblink"},"Enslow Publishing","2018","January 2018","6.000 X 9.000","Author","Maryellen Lo Bosco",null,null,null,null,"Z","1130L","Grade 7","Grade 7 - 12","The United States has been the one of the world leaders in scientific discovery for almost a century, and that is due in no small part to the contributions of immigrants. Yet new arrivals to the country have always faced some measure of hostility and suspicion, despite the fact that American success continues to be built on the backs of immigrants. This volume looks at the scientific achievements of early immigrants, from Joseph Priestley and Nikola Tesla to Enrico Fermi and Albert Einstein, as well as the contributions of modern immigrant scientists from every continent.","English",37.270000000000003,27.95,"509.22--dc23","112 pp.","https://www.enslow.com/books/Famous_Immigrant_Scientists/421730",{"$f":"Table1[[#This Row],[QTY]]*Table1[[#This Row],['# of Books]]","v":0},{"$f":"Table1[[#This Row],[QTY]]*Table1[[#This Row],[School & Library Price]]","v":0}]
[null,null,null,"Tales of Atrocity and Resistance: First-Person Stories of Teens in the Holocaust","Escaping Nazi Atrocities",1,"Library Bound Book","978-0-7660-9827-5",{"$f":"HYPERLINK(Table1[[#This Row],[Hyperlink]],\"Weblink\")","v":"Weblink"},"Enslow Publishing","2019","August 2018","6.000 X 9.000","Author, Author","Hallie Murray, Linda Jacobs Altman",null,null,null,null,"Z",null,"Grade 7","Grade 7 - 12","By the time it became clear how horrific the situation in Germany would become for non-Aryans, many Jews had been rendered incapable of leaving by the slow acceleration of Adolf Hitler's anti-Semitic policies. As more Jews were stripped of their jobs, homes, and basic rights, many lacked the resources to flee, and those that successfully escaped faced terrifying obstacles even after they left Germany. This book offers readers a first-hand look at the stories of teens who managed to escape the Nazi regime, surviving only through a combination of gut instinct and luck. Readers will also see parallels between the plight of those fleeing Germany and the refugees from Syria and other countries facing similar crises today and will discover the complex reasons some people simply didn't leave before it was too late.","English",38.6,28.95,"940.53/180922--dc23","128 pp.","https://www.enslow.com/books/Escaping_Nazi_Atrocities/421861",{"$f":"Table1[[#This Row],[QTY]]*Table1[[#This Row],['# of Books]]","v":0},{"$f":"Table1[[#This Row],[QTY]]*Table1[[#This Row],[School & Library Price]]","v":0}]
[null,null,null,"Tales of Atrocity and Resistance: First-Person Stories of Teens in the Holocaust","Escaping Nazi Atrocities",1,"eBook","978-0-7660-9829-9",{"$f":"HYPERLINK(Table1[[#This Row],[Hyperlink]],\"Weblink\")","v":"Weblink"},"Enslow Publishing","2019","August 2018",null,"Author, Author","Hallie Murray, Linda Jacobs Altman",null,null,null,null,"Z",null,"Grade 7","Grade 7 - 12","By the time it became clear how horrific the situation in Germany would become for non-Aryans, many Jews had been rendered incapable of leaving by the slow acceleration of Adolf Hitler's anti-Semitic policies. As more Jews were stripped of their jobs, homes, and basic rights, many lacked the resources to flee, and those that successfully escaped faced terrifying obstacles even after they left Germany. This book offers readers a first-hand look at the stories of teens who managed to escape the Nazi regime, surviving only through a combination of gut instinct and luck. Readers will also see parallels between the plight of those fleeing Germany and the refugees from Syria and other countries facing similar crises today and will discover the complex reasons some people simply didn't leave before it was too late.","English",38.6,28.95,"940.53/180922--dc23","128 pp.","https://www.enslow.com/books/Escaping_Nazi_Atrocities/421861",{"$f":"Table1[[#This Row],[QTY]]*Table1[[#This Row],['# of Books]]","v":0},{"$f":"Table1[[#This Row],[QTY]]*Table1[[#This Row],[School & Library Price]]","v":0}]
[null,null,null,"Tales of Atrocity and Resistance: First-Person Stories of Teens in the Holocaust","Life in the Nazi Ghettos",1,"Library Bound Book","978-0-7660-9833-6",{"$f":"HYPERLINK(Table1[[#This Row],[Hyperlink]],\"Weblink\")","v":"Weblink"},"Enslow Publishing","2019","August 2018","6.000 X 9.000","Author, Author","Hallie Murray, Ann Byers",null,null,null,null,"Z",null,"Grade 7","Grade 7 - 12","Nazi control of Germany was marked by the insidious escalation of anti-Semitic policies, as Jews were first forced to self-identify, then were violently pushed to relocate from their apartments to the poorest areas of town, where their movements and livelihoods were tightly controlled by German soldiers. The ghettos were isolated from the rest of the city and subject to ever-increasingly restrictions the resulted in overcrowding, disease, and starvation. Readers will also learn the terrifying aftermath of the liquidation of the ghettos, as it was revealed that they were primarily meant as holding cells on the way to death camps. These stories will not only open conversation into the horrors of anti-Semitism in Germany, but will also lead to discussions of anti-Semitism and Jewish ghettos elsewhere in history.","English",38.6,28.95,"940.53/180922--dc23","128 pp.","https://www.enslow.com/books/Life_in_the_Nazi_Ghettos/421863",{"$f":"Table1[[#This Row],[QTY]]*Table1[[#This Row],['# of Books]]","v":0},{"$f":"Table1[[#This Row],[QTY]]*Table1[[#This Row],[School & Library Price]]","v":0}]
[null,null,null,"Tales of Atrocity and Resistance: First-Person Stories of Teens in the Holocaust","Life in the Nazi Ghettos",1,"eBook","978-0-7660-9835-0",{"$f":"HYPERLINK(Table1[[#This Row],[Hyperlink]],\"Weblink\")","v":"Weblink"},"Enslow Publishing","2019","August 2018",null,"Author, Author","Hallie Murray, Ann Byers",null,null,null,null,"Z",null,"Grade 7","Grade 7 - 12","Nazi control of Germany was marked by the insidious escalation of anti-Semitic policies, as Jews were first forced to self-identify, then were violently pushed to relocate from their apartments to the poorest areas of town, where their movements and livelihoods were tightly controlled by German soldiers. The ghettos were isolated from the rest of the city and subject to ever-increasingly restrictions the resulted in overcrowding, disease, and starvation. Readers will also learn the terrifying aftermath of the liquidation of the ghettos, as it was revealed that they were primarily meant as holding cells on the way to death camps. These stories will not only open conversation into the horrors of anti-Semitism in Germany, but will also lead to discussions of anti-Semitism and Jewish ghettos elsewhere in history.","English",38.6,28.95,"940.53/180922--dc23","128 pp.","https://www.enslow.com/books/Life_in_the_Nazi_Ghettos/421863",{"$f":"Table1[[#This Row],[QTY]]*Table1[[#This Row],['# of Books]]","v":0},{"$f":"Table1[[#This Row],[QTY]]*Table1[[#This Row],[School & Library Price]]","v":0}]
[null,null,null,"Tales of Atrocity and Resistance: First-Person Stories of Teens in the Holocaust","Teen Victims of the Nazi Regime",1,"Library Bound Book","978-0-7660-9839-8",{"$f":"HYPERLINK(Table1[[#This Row],[Hyperlink]],\"Weblink\")","v":"Weblink"},"Enslow Publishing","2019","August 2018","6.000 X 9.000","Author, Author","Hallie Murray, Linda Jacobs Altman",null,null,null,null,"Z",null,"Grade 7","Grade 7 - 12","Though many teens and children did not fully understand what was happening in the early days of Adolf Hitler's reign, they certainly felt the effects of anti-Semitism. Students in Nazified schools were forced to perform the Hitler salute every day, and Jewish students were increasingly persecuted by teachers and peers alike. Friends turned against friends, and there was enormous pressure on young Gentiles to adhere to Hitler's racist policies, as Aryan teens were compelled and eventually forced to join the Hitler Youth or the League of German Girls. Students may find parallels between the pressure to conform in these groups and the echo chambers of social media. These stories of Nazi teens will spur discussion of the recruiting tactics and bonding rituals of racist groups in America today.","English",38.6,28.95,"940.53/40835--dc23","128 pp.","https://www.enslow.com/books/Teen_Victims_of_the_Nazi_Regime/421865",{"$f":"Table1[[#This Row],[QTY]]*Table1[[#This Row],['# of Books]]","v":0},{"$f":"Table1[[#This Row],[QTY]]*Table1[[#This Row],[School & Library Price]]","v":0}]
[null,null,null,"Tales of Atrocity and Resistance: First-Person Stories of Teens in the Holocaust","Teen Victims of the Nazi Regime",1,"eBook","978-0-7660-9841-1",{"$f":"HYPERLINK(Table1[[#This Row],[Hyperlink]],\"Weblink\")","v":"Weblink"},"Enslow Publishing","2019","August 2018",null,"Author, Author","Hallie Murray, Linda Jacobs Altman",null,null,null,null,"Z",null,"Grade 7","Grade 7 - 12","Though many teens and children did not fully understand what was happening in the early days of Adolf Hitler's reign, they certainly felt the effects of anti-Semitism. Students in Nazified schools were forced to perform the Hitler salute every day, and Jewish students were increasingly persecuted by teachers and peers alike. Friends turned against friends, and there was enormous pressure on young Gentiles to adhere to Hitler's racist policies, as Aryan teens were compelled and eventually forced to join the Hitler Youth or the League of German Girls. Students may find parallels between the pressure to conform in these groups and the echo chambers of social media. These stories of Nazi teens will spur discussion of the recruiting tactics and bonding rituals of racist groups in America today.","English",38.6,28.95,"940.53/40835--dc23","128 pp.","https://www.enslow.com/books/Teen_Victims_of_the_Nazi_Regime/421865",{"$f":"Table1[[#This Row],[QTY]]*Table1[[#This Row],['# of Books]]","v":0},{"$f":"Table1[[#This Row],[QTY]]*Table1[[#This Row],[School & Library Price]]","v":0}]
[null,null,null,"U.S. Supreme Court Landmark Cases","U.S. Supreme Court Landmark Cases",8,"Library Set","978-0-7660-8418-6",{"$f":"HYPERLINK(Table1[[#This Row],[Hyperlink]],\"Weblink\")","v":"Weblink"},"Enslow Publishing","2017","January 2017","6.000 X 9.000",null,null,null,null,null,null,null,null,"Grade 7","Grade 7 - 12","This series examines eight influential court cases heard by the US Supreme Court. These decisions changed the way American society thought and behaved. Each book includes an in-depth look at the events and people that led up to the court case and explores the opposing sides of each case. Readers are then guided through the historical and societal contexts of each case and the long-term effects each case had on the nation.","English",298.16000000000003,223.6,null,"128 pp.","https://www.enslow.com/series/US_Supreme_Court_Landmark_Cases/421578",{"$f":"Table1[[#This Row],[QTY]]*Table1[[#This Row],['# of Books]]","v":0},{"$f":"Table1[[#This Row],[QTY]]*Table1[[#This Row],[School & Library Price]]","v":0}]
[null,null,null,"U.S. Supreme Court Landmark Cases","A Woman's Right to an Abortion: Roe v. Wade",1,"Library Bound Book","978-0-7660-8424-7",{"$f":"HYPERLINK(Table1[[#This Row],[Hyperlink]],\"Weblink\")","v":"Weblink"},"Enslow Publishing","2017","January 2017","6.000 X 9.000","Author","D. J. Herda",null,null,null,null,"Z",null,"Grade 7","Grade 7 - 12","Abortion has long been a hot-button issue. In 1973, in the landmark case of Roe v. Wade, the Supreme Court finally decided that women should be allowed to have an abortion, with some limits. This book gives the background on the case and the path the case took to make it to the Supreme Court and presents both the majority and dissenting opinions related to the case. It also takes a look at the lasting impact the case has continued to have on policies and the legal system. Also included are questions to consider, primary source documents, and a chronology of the case.","English",37.270000000000003,27.95,"342.7308/4--dc23","128 pp.","https://www.enslow.com/books/A_Womans_Right_to_an_Abortion/421660",{"$f":"Table1[[#This Row],[QTY]]*Table1[[#This Row],['# of Books]]","v":0},{"$f":"Table1[[#This Row],[QTY]]*Table1[[#This Row],[School & Library Price]]","v":0}]
[null,null,null,"U.S. Supreme Court Landmark Cases","Desegregating Schools: Brown v. Board of Education",1,"Library Bound Book","978-0-7660-8422-3",{"$f":"HYPERLINK(Table1[[#This Row],[Hyperlink]],\"Weblink\")","v":"Weblink"},"Enslow Publishing","2017","January 2017","6.000 X 9.000","Author, Author","John A. Torres, Harvey Fireside",null,null,null,null,"Z",null,"Grade 7","Grade 7 - 12","When the father of Linda Brown, an African American, sued to let his child go to a “white school” closer to home, history was made. When the court decided that “separate was inherently unequal,” the world changed for many students across America. Readers will learn what led up to the case, how the case made it to the Supreme Court, and how this case changed everything when it came to race equality in the United States. Also included are questions to consider, primary source documents, and a chronology of the case.","English",37.270000000000003,27.95,"344.73/0798--dc23","128 pp.","https://www.enslow.com/books/Desegregating_Schools/421661",{"$f":"Table1[[#This Row],[QTY]]*Table1[[#This Row],['# of Books]]","v":0},{"$f":"Table1[[#This Row],[QTY]]*Table1[[#This Row],[School & Library Price]]","v":0}]
[null,null,null,"U.S. Supreme Court Landmark Cases","Desegregating Schools: Brown v. Board of Education",1,"eBook","978-0-7660-8423-0",{"$f":"HYPERLINK(Table1[[#This Row],[Hyperlink]],\"Weblink\")","v":"Weblink"},"Enslow Publishing","2017","January 2017",null,"Author, Author","John A. Torres, Harvey Fireside",null,null,null,null,"Z",null,"Grade 7","Grade 7 - 12","When the father of Linda Brown, an African American, sued to let his child go to a “white school” closer to home, history was made. When the court decided that “separate was inherently unequal,” the world changed for many students across America. Readers will learn what led up to the case, how the case made it to the Supreme Court, and how this case changed everything when it came to race equality in the United States. Also included are questions to consider, primary source documents, and a chronology of the case.","English",37.270000000000003,27.95,"344.73/0798--dc23","128 pp.","https://www.enslow.com/books/Desegregating_Schools/421661",{"$f":"Table1[[#This Row],[QTY]]*Table1[[#This Row],['# of Books]]","v":0},{"$f":"Table1[[#This Row],[QTY]]*Table1[[#This Row],[School & Library Price]]","v":0}]
[null,null,null,"U.S. Supreme Court Landmark Cases","Fighting Censorship: New York Times v. United States",1,"Library Bound Book","978-0-7660-8432-2",{"$f":"HYPERLINK(Table1[[#This Row],[Hyperlink]],\"Weblink\")","v":"Weblink"},"Enslow Publishing","2017","January 2017","6.000 X 9.000","Author","D. J. Herda",null,null,null,null,"Z",null,"Grade 7","Grade 7 - 12","Freedom of speech is one of the cornerstones of American liberty, but it was not always taken for granted as it is now. During the Vietnam War, the government made some choices the American public did not necessarily agree with. When the New York Times published articles detailing a war nobody knew about, it caused some waves in the United States government as it scrambled to cover up what it could and control what it couldn’t. This title gives a balanced report of what went on during this time and how the case made it to the Supreme Court. It also gives lots of detail on the differing opinions and what the ultimate decision was. Also included are questions to consider, primary source documents, and a chronology of the case.","English",37.270000000000003,27.95,"342.7308/53--dc23","128 pp.","https://www.enslow.com/books/Fighting_Censorship/421656",{"$f":"Table1[[#This Row],[QTY]]*Table1[[#This Row],['# of Books]]","v":0},{"$f":"Table1[[#This Row],[QTY]]*Table1[[#This Row],[School & Library Price]]","v":0}]
[null,null,null,"U.S. Supreme Court Landmark Cases","Fighting Censorship: New York Times v. United States",1,"eBook","978-0-7660-8433-9",{"$f":"HYPERLINK(Table1[[#This Row],[Hyperlink]],\"Weblink\")","v":"Weblink"},"Enslow Publishing","2017","January 2017",null,"Author","D. J. Herda",null,null,null,null,"Z",null,"Grade 7","Grade 7 - 12","Freedom of speech is one of the cornerstones of American liberty, but it was not always taken for granted as it is now. During the Vietnam War, the government made some choices the American public did not necessarily agree with. When the New York Times published articles detailing a war nobody knew about, it caused some waves in the United States government as it scrambled to cover up what it could and control what it couldn’t. This title gives a balanced report of what went on during this time and how the case made it to the Supreme Court. It also gives lots of detail on the differing opinions and what the ultimate decision was. Also included are questions to consider, primary source documents, and a chronology of the case.","English",37.270000000000003,27.95,"342.7308/53--dc23","128 pp.","https://www.enslow.com/books/Fighting_Censorship/421656",{"$f":"Table1[[#This Row],[QTY]]*Table1[[#This Row],['# of Books]]","v":0},{"$f":"Table1[[#This Row],[QTY]]*Table1[[#This Row],[School & Library Price]]","v":0}]
[null,null,null,"U.S. Supreme Court Landmark Cases","Separate but Equal: Plessy v. Ferguson",1,"Library Bound Book","978-0-7660-8434-6",{"$f":"HYPERLINK(Table1[[#This Row],[Hyperlink]],\"Weblink\")","v":"Weblink"},"Enslow Publishing","2017","January 2017","6.000 X 9.000","Author, Author","Don Rauf, Harvey Fireside",null,null,null,null,"Z",null,"Grade 7","Grade 7 - 12","Following the Civil War, feelings were mixed about the freedoms that Lincoln had granted to African American citizens through his Emancipation Proclamation. A group in Louisiana decided to challenge a state law that required companies to have railway cars separated by race. They orchestrated a situation in which a “white-looking” black man would sit in the “white only” part of the train and announce he was “colored.” In a landmark decision that supported the racist feelings in some areas of the country following the Civil War, the effort to secure equal rights at this time failed. The book provides insight into the details of the case and also includes questions to consider, primary source documents, and a chronology.","English",37.270000000000003,27.95,"342.7308/73--dc23","128 pp.","https://www.enslow.com/books/Separate_but_Equal/421659",{"$f":"Table1[[#This Row],[QTY]]*Table1[[#This Row],['# of Books]]","v":0},{"$f":"Table1[[#This Row],[QTY]]*Table1[[#This Row],[School & Library Price]]","v":0}]
[null,null,null,"U.S. Supreme Court Landmark Cases","Separate but Equal: Plessy v. Ferguson",1,"eBook","978-0-7660-8435-3",{"$f":"HYPERLINK(Table1[[#This Row],[Hyperlink]],\"Weblink\")","v":"Weblink"},"Enslow Publishing","2017","January 2017",null,"Author, Author","Don Rauf, Harvey Fireside",null,null,null,null,"Z",null,"Grade 7","Grade 7 - 12","Following the Civil War, feelings were mixed about the freedoms that Lincoln had granted to African American citizens through his Emancipation Proclamation. A group in Louisiana decided to challenge a state law that required companies to have railway cars separated by race. They orchestrated a situation in which a “white-looking” black man would sit in the “white only” part of the train and announce he was “colored.” In a landmark decision that supported the racist feelings in some areas of the country following the Civil War, the effort to secure equal rights at this time failed. The book provides insight into the details of the case and also includes questions to consider, primary source documents, and a chronology.","English",37.270000000000003,27.95,"342.7308/73--dc23","128 pp.","https://www.enslow.com/books/Separate_but_Equal/421659",{"$f":"Table1[[#This Row],[QTY]]*Table1[[#This Row],['# of Books]]","v":0},{"$f":"Table1[[#This Row],[QTY]]*Table1[[#This Row],[School & Library Price]]","v":0}]
[null,null,null,"U.S. Supreme Court Landmark Cases","The Death Penalty: Furman v. Georgia",1,"Library Bound Book","978-0-7660-8430-8",{"$f":"HYPERLINK(Table1[[#This Row],[Hyperlink]],\"Weblink\")","v":"Weblink"},"Enslow Publishing","2017","January 2017","6.000 X 9.000","Author","D. J. Herda",null,null,null,null,"Z",null,"Grade 7","Grade 7 - 12","The death penalty is surely one of the most highly contentious points the Supreme Court has had to weigh in on. Whether you believe in the death penalty or not, the Furman v. Georgia case was groundbreaking in its decision to stay Furman’s execution because it was arbitrary and, very possibly, racially motivated. Though it did not stop capital punishment, the case changed the way states had to weigh their decisions. Also included are questions to consider, primary source documents, and a chronology of the case.","English",37.270000000000003,27.95,"345.73/0773--dc23","128 pp.","https://www.enslow.com/books/The_Death_Penalty/421658",{"$f":"Table1[[#This Row],[QTY]]*Table1[[#This Row],['# of Books]]","v":0},{"$f":"Table1[[#This Row],[QTY]]*Table1[[#This Row],[School & Library Price]]","v":0}]
[null,null,null,"U.S. Supreme Court Landmark Cases","The Death Penalty: Furman v. Georgia",1,"eBook","978-0-7660-8431-5",{"$f":"HYPERLINK(Table1[[#This Row],[Hyperlink]],\"Weblink\")","v":"Weblink"},"Enslow Publishing","2017","January 2017",null,"Author","D. J. Herda",null,null,null,null,"Z",null,"Grade 7","Grade 7 - 12","The death penalty is surely one of the most highly contentious points the Supreme Court has had to weigh in on. Whether you believe in the death penalty or not, the Furman v. Georgia case was groundbreaking in its decision to stay Furman’s execution because it was arbitrary and, very possibly, racially motivated. Though it did not stop capital punishment, the case changed the way states had to weigh their decisions. Also included are questions to consider, primary source documents, and a chronology of the case.","English",37.270000000000003,27.95,"345.73/0773--dc23","128 pp.","https://www.enslow.com/books/The_Death_Penalty/421658",{"$f":"Table1[[#This Row],[QTY]]*Table1[[#This Row],['# of Books]]","v":0},{"$f":"Table1[[#This Row],[QTY]]*Table1[[#This Row],[School & Library Price]]","v":0}]
[null,null,null,"Bloody History of America","America's Bloody History from Columbus to the Gold Rush",1,"eBook","978-0-7660-9173-3",{"$f":"HYPERLINK(Table1[[#This Row],[Hyperlink]],\"Weblink\")","v":"Weblink"},"Enslow Publishing","2018","January 2018",null,"Author","Kieron Connolly",null,null,null,null,"Z","1250L","Grade 8","Grade 7 - 12","This volume, rich with primary sources, traces the story of the United States from the first contact between Europeans and Native Americans to the American Revolution and through the gold rush. This is a history often characterized by conflict and violence. It is the story of the religious hysteria and violence of the Salem witch trials, the gradual expansion of the country across the continent, the ill treatment of Native Americans, and slavery. It is about how the values of the Founding Fathers laid down in the Bill of Rights have made for a more peaceful and fair country, but one that has not always lived up to its promises and ideals.","English",35.93,26.95,"973--dc23","88 pp.","https://www.enslow.com/books/Americas_Bloody_History_from_Columbus_to_the_Gold_Rush/421776",{"$f":"Table1[[#This Row],[QTY]]*Table1[[#This Row],['# of Books]]","v":0},{"$f":"Table1[[#This Row],[QTY]]*Table1[[#This Row],[School & Library Price]]","v":0}]
[null,null,null,"Bloody History of America","America's Bloody History from the Civil War to the Great Depression",1,"Library Bound Book","978-0-7660-9178-8",{"$f":"HYPERLINK(Table1[[#This Row],[Hyperlink]],\"Weblink\")","v":"Weblink"},"Enslow Publishing","2018","January 2018","6.500 X 9.125","Author","Kieron Connolly",null,null,null,null,"Z",null,"Grade 8","Grade 7 - 12","The United States was born in the violence of revolution, and it experienced equally violent growing pains that resulted in the Civil War. That conflict would be particularly bloody, with more American lives lost than in both World Wars combined. Following the end of the war, the violence of the Reconstruction era, the Jim Crow South, and ongoing Indian wars continued to convulse the former Confederacy. As a battered nation emerged into the twentieth century, World War I and the rise of organized crime awaited. This exceptionally bloody and difficult period of American history is told in vivid detail with the help of an abundance of primary source materials.","English",35.93,26.95,"973.7--dc23","88 pp.","https://www.enslow.com/books/Americas_Bloody_History_from_the_Civil_War_to_the_Great_Depression/421777",{"$f":"Table1[[#This Row],[QTY]]*Table1[[#This Row],['# of Books]]","v":0},{"$f":"Table1[[#This Row],[QTY]]*Table1[[#This Row],[School & Library Price]]","v":0}]
[null,null,null,"Bloody History of America","America's Bloody History from Vietnam to the War on Terror",1,"Library Bound Book","978-0-7660-9180-1",{"$f":"HYPERLINK(Table1[[#This Row],[Hyperlink]],\"Weblink\")","v":"Weblink"},"Enslow Publishing","2018","January 2018","6.500 X 9.125","Author","Kieron Connolly",null,null,null,null,"Z","1330L","Grade 8","Grade 7 - 12","During the 1960s, America became embroiled in an increasingly unpopular war fighting communism in Vietnam. Antiwar sentiment led to mass youth protests, which occasionally turned deadly. With the Soviet Union breaking up in the late 1980s, the United States was the sole superpower. But it quickly became the target of Islamist terrorism, as 9/11, the wars in Iraq and Afghanistan, and the War on Terror came to define the first two decades of the new millennium. At home, violence convulsed Waco, Oklahoma City, and Los Angeles, while gun massacres became a numbingly familiar occurrence. The troubled recent history of the United States is told with great attention to historic detail and with the help of an abundance of primary source materials.","English",35.93,26.95,"973.92--dc23","88 pp.","https://www.enslow.com/books/Americas_Bloody_History_from_Vietnam_to_the_War_on_Terror/421779",{"$f":"Table1[[#This Row],[QTY]]*Table1[[#This Row],['# of Books]]","v":0},{"$f":"Table1[[#This Row],[QTY]]*Table1[[#This Row],[School & Library Price]]","v":0}]
[null,null,null,"Bloody History of America","America's Bloody History from Vietnam to the War on Terror",1,"eBook","978-0-7660-9176-4",{"$f":"HYPERLINK(Table1[[#This Row],[Hyperlink]],\"Weblink\")","v":"Weblink"},"Enslow Publishing","2018","January 2018",null,"Author","Kieron Connolly",null,null,null,null,"Z","1330L","Grade 8","Grade 7 - 12","During the 1960s, America became embroiled in an increasingly unpopular war fighting communism in Vietnam. Antiwar sentiment led to mass youth protests, which occasionally turned deadly. With the Soviet Union breaking up in the late 1980s, the United States was the sole superpower. But it quickly became the target of Islamist terrorism, as 9/11, the wars in Iraq and Afghanistan, and the War on Terror came to define the first two decades of the new millennium. At home, violence convulsed Waco, Oklahoma City, and Los Angeles, while gun massacres became a numbingly familiar occurrence. The troubled recent history of the United States is told with great attention to historic detail and with the help of an abundance of primary source materials.","English",35.93,26.95,"973.92--dc23","88 pp.","https://www.enslow.com/books/Americas_Bloody_History_from_Vietnam_to_the_War_on_Terror/421779",{"$f":"Table1[[#This Row],[QTY]]*Table1[[#This Row],['# of Books]]","v":0},{"$f":"Table1[[#This Row],[QTY]]*Table1[[#This Row],[School & Library Price]]","v":0}]
[null,null,null,"Presidents at War","Presidents at War",7,"Library Set","978-0-7660-8596-1",{"$f":"HYPERLINK(Table1[[#This Row],[Hyperlink]],\"Weblink\")","v":"Weblink"},"Enslow Publishing","2018","August 2017","6.500 X 9.250",null,null,null,null,null,null,null,null,"Grade 8","Grade 7 - 12","Focusing on the dynamic role played by American presidents as commanders in chief during the major wars from the founding of the United States until the first decades of the twenty-first century, this series provides readers with insight into the administration, the people who advised the president, as well as combat and political strategies of the war itself. Each book examines the leadership qualities, character traits, worldview, policies, allies, triumphs, and defeats of an American wartime president, along with a detailed account of the war and the president's overwhelming influence on the US conduct of that war.","English",260.89,195.65,null,"128 pp.","https://www.enslow.com/series/Presidents_at_War/421589",{"$f":"Table1[[#This Row],[QTY]]*Table1[[#This Row],['# of Books]]","v":0},{"$f":"Table1[[#This Row],[QTY]]*Table1[[#This Row],[School & Library Price]]","v":0}]
[null,null,null,"Presidents at War","How Abraham Lincoln Fought the Civil War",1,"Library Bound Book","978-0-7660-8525-1",{"$f":"HYPERLINK(Table1[[#This Row],[Hyperlink]],\"Weblink\")","v":"Weblink"},"Enslow Publishing","2018","August 2017","6.500 X 9.250","Author","Laura Helweg",null,null,null,null,"Z","1070L","Grade 8","Grade 7 - 12","Abraham Lincoln is the only US president to have had his entire term encapsulated by war. Through primary sources, images, and compelling narrative, students will learn how President Lincoln approached and executed the seemingly impossible job of chief commander of the Union army during the Civil War. They will discover Lincoln’s hands-on management of battlefield strategy, his creative tactics for dealing with difficult generals and ruthless political opponents, and his unfaltering conviction that the Union must be saved at all cost.","English",37.270000000000003,27.95,"973.7092--dc23","128 pp.","https://www.enslow.com/books/How_Abraham_Lincoln_Fought_the_Civil_War/412746",{"$f":"Table1[[#This Row],[QTY]]*Table1[[#This Row],['# of Books]]","v":0},{"$f":"Table1[[#This Row],[QTY]]*Table1[[#This Row],[School & Library Price]]","v":0}]
[null,null,null,"Presidents at War","How Barack Obama Fought the War on Terrorism",1,"eBook","978-0-7660-8536-7",{"$f":"HYPERLINK(Table1[[#This Row],[Hyperlink]],\"Weblink\")","v":"Weblink"},"Enslow Publishing","2018","August 2017",null,"Author","John A. Torres",null,null,null,null,"Z",null,"Grade 8","Grade 7 - 12","From humble beginnings and a nontraditional upbringing, Barack Obama worked his way through law school and then onto Chicago’s political scene. After serving in the state legislature and one term in the Senate, Obama became the first African American president elected in the United States. His mettle would immediately be tested as he inherited a country at war—with terror. This ongoing conflict seems to have no end in sight. Read about the president’s actions to defeat the terror organizations that threaten America’s safety. Quotes from the two-term president himself bring readers into the Situation Room, where matters of life and death are decided.","English",37.270000000000003,27.95,"363.325/1609730905.12--dc23","128 pp.","https://www.enslow.com/books/How_Barack_Obama_Fought_the_War_on_Terrorism/412747",{"$f":"Table1[[#This Row],[QTY]]*Table1[[#This Row],['# of Books]]","v":0},{"$f":"Table1[[#This Row],[QTY]]*Table1[[#This Row],[School & Library Price]]","v":0}]
[null,null,null,"Presidents at War","How Franklin D. Roosevelt Fought World War II",1,"Library Bound Book","978-0-7660-8527-5",{"$f":"HYPERLINK(Table1[[#This Row],[Hyperlink]],\"Weblink\")","v":"Weblink"},"Enslow Publishing","2018","August 2017","6.500 X 9.250","Author","Earle Rice, Jr.",null,null,null,null,"Z","1170L","Grade 8","Grade 7 - 12","After Adolf Hitler attacked Poland on September 1, 1939, igniting World War II, it fell to President Franklin D. Roosevelt to keep his nation neutral while preparing it for war. When Japan’s surprise attack on Pearl Harbor brought that war to America, his strong, steady leadership guided it through all but four months of the most brutal war in the history of the world. Through full-color and black-and-white photos, informative sidebars, and engaging narrative, readers gain insight into Roosevelt’s administration and the people who advised him, as well as the combat and political strategies of the war itself and its legacy.","English",37.270000000000003,27.95,"973.917092--dc23","128 pp.","https://www.enslow.com/books/How_Franklin_D_Roosevelt_Fought_World_War_II/412748",{"$f":"Table1[[#This Row],[QTY]]*Table1[[#This Row],['# of Books]]","v":0},{"$f":"Table1[[#This Row],[QTY]]*Table1[[#This Row],[School & Library Price]]","v":0}]
[null,null,null,"Presidents at War","How George W. Bush Fought the Wars in Iraq and Afghanistan",1,"eBook","978-0-7660-8534-3",{"$f":"HYPERLINK(Table1[[#This Row],[Hyperlink]],\"Weblink\")","v":"Weblink"},"Enslow Publishing","2018","August 2017",null,"Author","Don Rauf",null,null,null,null,"Z","1240L","Grade 8","Grade 7 - 12","After Osama bin Laden, leader of the Islamic militant group al-Qaeda, took responsibility for the 9/11 attacks, President George W. Bush launched a battle against violent extremist organizations that threatened the security of America. His fight against terrorism sent millions of US troops into battle in Afghanistan and Iraq. This book looks at how President Bush led the War on Terror, the challenges and success of these efforts, and how his actions have shaped the world we live in today. Sidebars and quotes highlight key events, while full-color photos and straightforward, yet compelling text bring this very recent war to life for readers.","English",37.270000000000003,27.95,"973.931092--dc23","128 pp.","https://www.enslow.com/books/How_George_W_Bush_Fought_the_Wars_in_Iraq_and_Afghanistan/412749",{"$f":"Table1[[#This Row],[QTY]]*Table1[[#This Row],['# of Books]]","v":0},{"$f":"Table1[[#This Row],[QTY]]*Table1[[#This Row],[School & Library Price]]","v":0}]
[null,null,null,"Presidents at War","How George Washington Fought the Revolutionary War",1,"Library Bound Book","978-0-7660-8523-7",{"$f":"HYPERLINK(Table1[[#This Row],[Hyperlink]],\"Weblink\")","v":"Weblink"},"Enslow Publishing","2018","August 2017","6.500 X 9.250","Author","Jeanne Nagle",null,null,null,null,"Z","1240L","Grade 8","Grade 7 - 12","Before he became the first president of the United States, George Washington had already made his mark as a military leader. As commander in chief of the nascent Continental army, Washington guided colonial forces to victory over the British during the American Revolution. Through informative text and historical imagery, readers will follow Washington's trajectory as a military commander and strategist and discover how his innate leadership skills earned him the moniker \"Father of His Country.\"","English",37.270000000000003,27.95,"973.4/1092--dc23","128 pp.","https://www.enslow.com/books/How_George_Washington_Fought_the_Revolutionary_War/412750",{"$f":"Table1[[#This Row],[QTY]]*Table1[[#This Row],['# of Books]]","v":0},{"$f":"Table1[[#This Row],[QTY]]*Table1[[#This Row],[School & Library Price]]","v":0}]
[null,null,null,"Presidents at War","How Lyndon B. Johnson Fought the Vietnam War",1,"eBook","978-0-7660-8532-9",{"$f":"HYPERLINK(Table1[[#This Row],[Hyperlink]],\"Weblink\")","v":"Weblink"},"Enslow Publishing","2018","August 2017",null,"Author","Jason Porterfield",null,null,null,null,"Z","1190L","Grade 8","Grade 7 - 12","Though Lyndon B. Johnson did not make the initial decision to enter the conflict in Vietnam, he accepted the burdens of the unofficial war when he took office. Through full-color and black-and-white photos, informative sidebars, and engaging text, readers sneak a peek into the Johnson administration and the people who advised him, gaining insight into the combat and political strategies of the war itself and its legacy. Understanding the pressures of this unpopular war and what went into the decision making to ramp up the conflict will give readers a new perspective on the frustrating struggle that took place in this small nation in Southeast Asia.","English",37.270000000000003,27.95,"973.923092--dc23","128 pp.","https://www.enslow.com/books/How_Lyndon_B_Johnson_Fought_the_Vietnam_War/412751",{"$f":"Table1[[#This Row],[QTY]]*Table1[[#This Row],['# of Books]]","v":0},{"$f":"Table1[[#This Row],[QTY]]*Table1[[#This Row],[School & Library Price]]","v":0}]
[null,null,null,"Presidents at War","How Woodrow Wilson Fought World War I",1,"Library Bound Book","978-0-7660-8529-9",{"$f":"HYPERLINK(Table1[[#This Row],[Hyperlink]],\"Weblink\")","v":"Weblink"},"Enslow Publishing","2018","August 2017","6.500 X 9.250","Author","Samuel Willard Crompton ",null,null,null,null,"Z","1010L","Grade 8","Grade 7 - 12","Woodrow Wilson led America into the First World War in 1917. Historians have debated his methods and motives ever since. This volume explores Wilson's complex personality and the immense challenges he faced. Through quotes and vivid examples, the reader sees America and the world in a time when it seemed everything might come apart. Wilson is central to the story, but the reader also experiences the leading generals and the common soldier as well as the \"Big Four,\" the men who redrew the maps when the war ended.","English",37.270000000000003,27.95,"940.3/73--dc23","128 pp.","https://www.enslow.com/books/How_Woodrow_Wilson_Fought_World_War_I/412752",{"$f":"Table1[[#This Row],[QTY]]*Table1[[#This Row],['# of Books]]","v":0},{"$f":"Table1[[#This Row],[QTY]]*Table1[[#This Row],[School & Library Price]]","v":0}]
[null,null,null,"The Crimes of ISIS","The Crimes of ISIS",8,"Library Set","978-0-7660-9234-1",{"$f":"HYPERLINK(Table1[[#This Row],[Hyperlink]],\"Weblink\")","v":"Weblink"},"Enslow Publishing","2018","January 2018","6.000 X 9.000",null,null,null,null,null,null,null,null,"Grade 8","Grade 7 - 12","As terror attacks dominate our nightly news stories, it's important for young adults to learn how to decipher the headlines and get to the heart of the story. To do that, they need to know how and why the Islamic State (ISIS) exists, and what incites its members to produce a unique brand of widespread, horrific violence. Your readers will be taken through the rapid rise of the terror group, learn how they recruit people, including children, worldwide, and discover untold stories about those who have been persecuted by an organization that views all outsiders as enemies.","English",298.16000000000003,223.6,null,"104 pp.","https://www.enslow.com/series/The_Crimes_of_ISIS/450945",{"$f":"Table1[[#This Row],[QTY]]*Table1[[#This Row],['# of Books]]","v":0},{"$f":"Table1[[#This Row],[QTY]]*Table1[[#This Row],[School & Library Price]]","v":0}]
[null,null,null,"The Crimes of ISIS","Cultural Destruction by ISIS",1,"Library Bound Book","978-0-7660-9215-0",{"$f":"HYPERLINK(Table1[[#This Row],[Hyperlink]],\"Weblink\")","v":"Weblink"},"Enslow Publishing","2018","January 2018","6.000 X 9.000","Author","Bridey Heing",null,null,null,null,"Z",null,"Grade 8","Grade 7 - 12","When Muhammed swept victorious into the city of Mecca in 630 C.E., one of his first acts was to destroy all of the idols at the Kabbah, one of the holiest sites in the Islamic world. ISIS is taking the prophet's idea to the extreme, attempting to raze art and architecture they deem un-Islamic from their domain. Ancient cities have fallen beneath bulldozers and clouds of dust, while priceless artifacts have been looted from museums and destroyed. Students will be challenged to ask why ISIS is so bent on destroying artifacts of the past and what power the preservation of these objects gives those fighting against the Islamic State.","English",37.270000000000003,27.95,"364.16/4--dc23","104 pp.","https://www.enslow.com/books/Cultural_Destruction_by_ISIS/421717",{"$f":"Table1[[#This Row],[QTY]]*Table1[[#This Row],['# of Books]]","v":0},{"$f":"Table1[[#This Row],[QTY]]*Table1[[#This Row],[School & Library Price]]","v":0}]
[null,null,null,"The Crimes of ISIS","Global Recruitment by ISIS",1,"eBook","978-0-7660-9280-8",{"$f":"HYPERLINK(Table1[[#This Row],[Hyperlink]],\"Weblink\")","v":"Weblink"},"Enslow Publishing","2018","January 2018",null,"Author","Chris Townsend",null,null,null,null,"Z",null,"Grade 8","Grade 7 - 12","When Abu Bakr Al-Baghdadi called all Muslims to join the self-proclaimed Islamic State and fight jihad, tens of thousands answered the call from all over the globe. This book explores the formation of the Islamic State and how the organization went about recruiting an army to challenge the world order. Students will learn how the Islamic State used traditional recruitment methods, such as outreach through mosques and local influencers, as well as more modern tactics like social media and smartphone apps, to amass its following, and will explore what sorts of followers each mode of recruitment attracted.","English",37.270000000000003,27.95,"363.325--dc23","104 pp.","https://www.enslow.com/books/Global_Recruitment_by_ISIS/421715",{"$f":"Table1[[#This Row],[QTY]]*Table1[[#This Row],['# of Books]]","v":0},{"$f":"Table1[[#This Row],[QTY]]*Table1[[#This Row],[School & Library Price]]","v":0}]
[null,null,null,"The Crimes of ISIS","ISIS Brides",1,"Library Bound Book","978-0-7660-9213-6",{"$f":"HYPERLINK(Table1[[#This Row],[Hyperlink]],\"Weblink\")","v":"Weblink"},"Enslow Publishing","2018","January 2018","6.000 X 9.000","Author","Bridey Heing",null,null,null,null,"Z",null,"Grade 8","Grade 7 - 12","With the promise of glorious holy war and a wife, more than 20,000 foreign fighters flowed into Iraq and Syria, leaving the Islamic State hard-pressed to provide enough wives for the fighters. With the number of foreign women estimated at a few hundred, ISIS has turned to draconian measures like slavery, temporary marriages, and even child brides. Women captives of the group who managed to escape tell tales of terror and abuse despite the glowing promises of those who recruit women for the so-called Islamic State. This book explores the dangers for women and girls caught in the path of ISIS and how they're used by the group as both rewards for fighters and as warriors in their own right.","English",37.270000000000003,27.95,"363.325082/091767--dc23","104 pp.","https://www.enslow.com/books/ISIS_Brides/421716",{"$f":"Table1[[#This Row],[QTY]]*Table1[[#This Row],['# of Books]]","v":0},{"$f":"Table1[[#This Row],[QTY]]*Table1[[#This Row],[School & Library Price]]","v":0}]
[null,null,null,"The Crimes of ISIS","ISIS Hostages",1,"eBook","978-0-7660-9283-9",{"$f":"HYPERLINK(Table1[[#This Row],[Hyperlink]],\"Weblink\")","v":"Weblink"},"Enslow Publishing","2018","January 2018",null,"Author","Chris Townsend",null,null,null,null,"Z",null,"Grade 8","Grade 7 - 12","In August 2014, ISIS surged onto the global stage with the horrific killing of a journalist who had been held hostage by the group. The gruesome video was followed by several others as ISIS sought to capture and maintain the attention of the world media and encourage recruits to join them. ISIS's treatment of hostages has led some to take their own lives instead of being captured. But not all hostages are equal under the Islamic State. This book will explore to role of hostages under ISIS, from those who are killed or forced to fight to those who are used for their value as propaganda or their ability to generate income, in the form of bribes, for the Islamic State.","English",37.270000000000003,27.95,"363.325--dc23","104 pp.","https://www.enslow.com/books/ISIS_Hostages/421719",{"$f":"Table1[[#This Row],[QTY]]*Table1[[#This Row],['# of Books]]","v":0},{"$f":"Table1[[#This Row],[QTY]]*Table1[[#This Row],[School & Library Price]]","v":0}]
[null,null,null,"The Crimes of ISIS","Life Under the Caliphate",1,"Library Bound Book","978-0-7660-9218-1",{"$f":"HYPERLINK(Table1[[#This Row],[Hyperlink]],\"Weblink\")","v":"Weblink"},"Enslow Publishing","2018","January 2018","6.000 X 9.000","Author","Chris Townsend",null,null,null,null,"Z",null,"Grade 8","Grade 7 - 12","ISIS claims to have reinstated the glorious caliphate of old: a time when Islam was at the center of the world, and Islamic law was the law of the land. Many of their practices are considered barbaric by modern standards, but followers of the Islamic State claim their ways are prescribed by righteous ancestors, passed down orally and in written records. Daily life under the caliphate has been turned upside down for those caught in the path of ISIS. Students will learn how ISIS enforces a 1,500-year-old body of laws, what daily life is like for followers of the Islamic State, and what it's like to live under the caliphate for those forced to endure the rule of ISIS.","English",37.270000000000003,27.95,"363.325--dc23","104 pp.","https://www.enslow.com/books/Life_Under_the_Caliphate/421720",{"$f":"Table1[[#This Row],[QTY]]*Table1[[#This Row],['# of Books]]","v":0},{"$f":"Table1[[#This Row],[QTY]]*Table1[[#This Row],[School & Library Price]]","v":0}]
[null,null,null,"The Crimes of ISIS","The Children Soldiers of ISIS",1,"eBook","978-0-7660-9279-2",{"$f":"HYPERLINK(Table1[[#This Row],[Hyperlink]],\"Weblink\")","v":"Weblink"},"Enslow Publishing","2018","January 2018",null,"Author","Bridey Heing",null,null,null,null,"Z",null,"Grade 8","Grade 7 - 12","While most children learn reading and math, the child soldiers of ISIS spend their days on weapons training and religious education. Called \"The Cubs of the Caliphate,\" these children are weapons of the Islamic State. Some are the children of Islamic State fighters, while others are kidnapped and forced to fight for ISIS if they want to live. While the world has been outraged by footage of these young fighters killing hostages and waging war, there's more to their story. This book looks at how ISIS is selecting and grooming the next generation of jihadists and what can be done to prevent a generation of lost children.","English",37.270000000000003,27.95,"363.325083/0956--dc23","104 pp.","https://www.enslow.com/books/The_Children_Soldiers_of_ISIS/421714",{"$f":"Table1[[#This Row],[QTY]]*Table1[[#This Row],['# of Books]]","v":0},{"$f":"Table1[[#This Row],[QTY]]*Table1[[#This Row],[School & Library Price]]","v":0}]
[null,null,null,"The Crimes of ISIS","The Persecution of Christians and Religious Minorities by ISIS",1,"Library Bound Book","978-0-7660-9216-7",{"$f":"HYPERLINK(Table1[[#This Row],[Hyperlink]],\"Weblink\")","v":"Weblink"},"Enslow Publishing","2018","January 2018","6.000 X 9.000","Author","Bridey Heing",null,null,null,null,"Z",null,"Grade 8","Grade 7 - 12","The world leapt to action in 2014 when it learned that 50,000 members of a Christian minority group were trapped and starving on the side of a mountain, having been driven from their homes by ISIS soldiers. These Christians are not the only minorities caught in the destructive path of ISIS; Jews and Zoroastrians have also been persecuted, as have more permissive sects of Muslim believers. While many have fled, others have been offered a choice: convert to Islam, pay a tax, or die. This book explores how the rise of ISIS has influenced religious minorities caught in the so-called caliphate and what their lives are like under this oppressive regime.","English",37.270000000000003,27.95,"305.60956--dc23","104 pp.","https://www.enslow.com/books/The_Persecution_of_Christians_and_Religious_Minorities_by_ISIS/421718",{"$f":"Table1[[#This Row],[QTY]]*Table1[[#This Row],['# of Books]]","v":0},{"$f":"Table1[[#This Row],[QTY]]*Table1[[#This Row],[School & Library Price]]","v":0}]
[null,null,null,"The Crimes of ISIS","The Violent Rise of ISIS",1,"eBook","978-0-7660-9278-5",{"$f":"HYPERLINK(Table1[[#This Row],[Hyperlink]],\"Weblink\")","v":"Weblink"},"Enslow Publishing","2018","January 2018",null,"Author","Chris Townsend",null,null,null,null,"Z",null,"Grade 8","Grade 7 - 12","On July 5, 2014, after the stunning seizure of Mosul, Iraq, a relatively unknown man in black stepped into an Iraqi mosque and declared the reestablishment of The Caliphate, an Islamic body of governance not seen since the early days of the religion. Large swathes of Iraq and Syria have been swept under a medieval wave of violence, and groups as far away as Nigeria and Indonesia have pledged their loyalty to the Islamic State, waging their own campaigns of violence. This book charts the group's violent history, from the first signs of an emerging new jihadist group to the official declaration of the Caliphate, and tracks their use of violence as they seek power and dominance over the world's 1.5 billion Muslim practitioners.","English",37.270000000000003,27.95,"363.3250956--dc23","104 pp.","https://www.enslow.com/books/The_Violent_Rise_of_ISIS/421713",{"$f":"Table1[[#This Row],[QTY]]*Table1[[#This Row],['# of Books]]","v":0},{"$f":"Table1[[#This Row],[QTY]]*Table1[[#This Row],[School & Library Price]]","v":0}]
[null,null,null,"Sports Greats","Sports Greats: Sets 1 – 3",18,"Library Set","978-0-7660-8408-7",{"$f":"HYPERLINK(Table1[[#This Row],[Hyperlink]],\"Weblink\")","v":"Weblink"},"Enslow Publishing","2017","January 2017","7.250 X 9.250",null,null,null,null,null,null,null,null,"Grade 5 - 6","Grade 6 - 8","Sports fans of all ages and reading abilities will enjoy this series, which follows the popular Top 10 format and highlights the top ten moments or people in baseball, basketball, and football. Rich with stats, facts, figures, and photos, these engaging texts appeal to reluctant readers.","English",502.74,377.1,null,"48 pp.","https://www.enslow.com/series/Sports_Greats/525",{"$f":"Table1[[#This Row],[QTY]]*Table1[[#This Row],['# of Books]]","v":0},{"$f":"Table1[[#This Row],[QTY]]*Table1[[#This Row],[School & Library Price]]","v":0}]
[null,null,null,"Sports Greats","Top 10 Craziest Plays in Football",1,"Library Bound Book","978-0-7660-8306-6",{"$f":"HYPERLINK(Table1[[#This Row],[Hyperlink]],\"Weblink\")","v":"Weblink"},"Enslow Publishing","2017","January 2017","7.250 X 9.250","Author","David Aretha","5.7","1",null,null,"U","890L","Grade 5 - 6","Grade 6 - 8","The Music City Miracle, the Flutie Fling, and the Immaculate Reception are just a few of the unbelievable plays that have taken place on the football field. Written by veteran sports author David Aretha, this book engages readers with facts and stories about some of the most unusual and exciting NFL and college football moments. Plenty of full-page photos and statistics make this an exciting and entertaining read.","English",27.93,20.95,"796.330973--dc23","48 pp.","https://www.enslow.com/books/Top_10_Craziest_Plays_in_Football/421648",{"$f":"Table1[[#This Row],[QTY]]*Table1[[#This Row],['# of Books]]","v":0},{"$f":"Table1[[#This Row],[QTY]]*Table1[[#This Row],[School & Library Price]]","v":0}]
[null,null,null,"Sports Greats","Top 10 Craziest Plays in Football",1,"eBook","978-0-7660-8307-3",{"$f":"HYPERLINK(Table1[[#This Row],[Hyperlink]],\"Weblink\")","v":"Weblink"},"Enslow Publishing","2017","January 2017",null,"Author","David Aretha","5.7","1",null,null,"U","890L","Grade 5 - 6","Grade 6 - 8","The Music City Miracle, the Flutie Fling, and the Immaculate Reception are just a few of the unbelievable plays that have taken place on the football field. Written by veteran sports author David Aretha, this book engages readers with facts and stories about some of the most unusual and exciting NFL and college football moments. Plenty of full-page photos and statistics make this an exciting and entertaining read.","English",27.93,20.95,"796.330973--dc23","48 pp.","https://www.enslow.com/books/Top_10_Craziest_Plays_in_Football/421648",{"$f":"Table1[[#This Row],[QTY]]*Table1[[#This Row],['# of Books]]","v":0},{"$f":"Table1[[#This Row],[QTY]]*Table1[[#This Row],[School & Library Price]]","v":0}]
[null,null,null,"Sports Greats","Top 10 Dunkers in Basketball",1,"eBook","978-0-7660-7589-4",{"$f":"HYPERLINK(Table1[[#This Row],[Hyperlink]],\"Weblink\")","v":"Weblink"},"Enslow Publishing","2017","August 2016",null,"Author","David Aretha","6.3","1",null,null,"Z","1020L","Grade 5 - 6","Grade 6 - 8","There are not many things more exciting and entertaining than watching your favorite player charge toward the net, leap into the air, slam dunk, and score! The top NBA pros in this book, including Daryl Dawkins, Shawn Kemp, and Vince Carter, are known for their athletic power and crowd-stopping performances. Full-page photos of the players in action accompany each spread. Readers will learn the details of these NBA players’ backgrounds and such details as positions, teams, and best slam dunk moments. Easy-to-read language by veteran sports author David Aretha will keep readers turning the pages.","English",27.93,20.95,"796.323--dc23","48 pp.","https://www.enslow.com/books/Top_10_Dunkers_in_Basketball/419532",{"$f":"Table1[[#This Row],[QTY]]*Table1[[#This Row],['# of Books]]","v":0},{"$f":"Table1[[#This Row],[QTY]]*Table1[[#This Row],[School & Library Price]]","v":0}]
[null,null,null,"Sports Greats","Top 10 Games in Football",1,"Library Bound Book","978-0-7660-8314-1",{"$f":"HYPERLINK(Table1[[#This Row],[Hyperlink]],\"Weblink\")","v":"Weblink"},"Enslow Publishing","2017","January 2017","7.250 X 9.250","Author","David Aretha","6","1",null,null,"U","950L","Grade 5 - 6","Grade 6 - 8","The 1962 Green Bay Packers...the 1999 St. Louis Rams...the 2007 New England Patriots. Which is the best team in NFL history? Sports fans will debate this for all time. Readers will delight in all the details about the top ten teams chosen for this book. With specific statistics for each team's best year, as well as fun facts and team dynamics, readers will learn about these talented teams and coaches, and what made them truly great.","English",27.93,20.95,"796.330973--dc23","48 pp.","https://www.enslow.com/books/Top_10_Games_in_Football/421645",{"$f":"Table1[[#This Row],[QTY]]*Table1[[#This Row],['# of Books]]","v":0},{"$f":"Table1[[#This Row],[QTY]]*Table1[[#This Row],[School & Library Price]]","v":0}]
[null,null,null,"Sports Greats","Top 10 Hitters in Baseball",1,"eBook","978-0-7660-7397-5",{"$f":"HYPERLINK(Table1[[#This Row],[Hyperlink]],\"Weblink\")","v":"Weblink"},"Enslow Publishing","2016","January 2016",null,"Author","David Aretha","5.9","1",null,null,"Z","970L","Grade 5 - 6","Grade 6 - 8","This informative yet fun text highlights the top ten hitters in baseball and includes their career stats, nicknames, teams, positions, and achievements. Full-page photos of the players in action accompany each spread.","English",27.93,20.95,"796.357'26--dc23","48 pp.","https://www.enslow.com/books/Top_10_Hitters_in_Baseball/4652",{"$f":"Table1[[#This Row],[QTY]]*Table1[[#This Row],['# of Books]]","v":0},{"$f":"Table1[[#This Row],[QTY]]*Table1[[#This Row],[School & Library Price]]","v":0}]
[null,null,null,"Sports Greats","Top 10 Injuries in Baseball",1,"Library Bound Book","978-0-7660-7400-2",{"$f":"HYPERLINK(Table1[[#This Row],[Hyperlink]],\"Weblink\")","v":"Weblink"},"Enslow Publishing","2016","January 2016","7.250 X 9.250","Author","Jamal Hinnant","6.6","1",null,null,"Z","1070L","Grade 5 - 6","Grade 6 - 8","This engaging text is teeming with facts and photos of the ten worst injuries in baseball. Readers will get to know the unfortunate players’ backgrounds and such details as positions, teams, and recovery periods. Easy-to-read language and specific details surrounding the injury will encourage readers to play safely.","English",27.93,20.95,"617.1'0276357--dc23","48 pp.","https://www.enslow.com/books/Top_10_Injuries_in_Baseball/4653",{"$f":"Table1[[#This Row],[QTY]]*Table1[[#This Row],['# of Books]]","v":0},{"$f":"Table1[[#This Row],[QTY]]*Table1[[#This Row],[School & Library Price]]","v":0}]
[null,null,null,"Sports Greats","Top 10 Injuries in Basketball",1,"eBook","978-0-7660-7571-9",{"$f":"HYPERLINK(Table1[[#This Row],[Hyperlink]],\"Weblink\")","v":"Weblink"},"Enslow Publishing","2017","August 2016",null,"Author","Jamal Hinnant","7.1","1",null,null,"Z","1110L","Grade 5 - 6","Grade 6 - 8","A split head and stitches were not enough to deter LeBron James from returning to Game 4 of the 2015 NBA finals! And did Steve Nash really just pop his nose back into place?! This engaging text is teeming with facts and photos of the ten worst injuries in basketball. Readers will get to know these NBA players’ backgrounds and such details as positions, teams, and recovery periods. Easy-to-read language and full-page color photos of the players in action fill the pages that highlight the careers of the players as well as specific details surrounding each injury.","English",27.93,20.95,"617.1/0276323--dc23","48 pp.","https://www.enslow.com/books/Top_10_Injuries_in_Basketball/419522",{"$f":"Table1[[#This Row],[QTY]]*Table1[[#This Row],['# of Books]]","v":0},{"$f":"Table1[[#This Row],[QTY]]*Table1[[#This Row],[School & Library Price]]","v":0}]
[null,null,null,"Sports Greats","Top 10 Moments in Baseball",1,"Library Bound Book","978-0-7660-7404-0",{"$f":"HYPERLINK(Table1[[#This Row],[Hyperlink]],\"Weblink\")","v":"Weblink"},"Enslow Publishing","2016","January 2016","7.250 X 9.250","Author","David Aretha","5.8","1",null,null,"Z","960L","Grade 5 - 6","Grade 6 - 8","Fully illustrated with photos and using easy-to-understand language that is full of facts and stats, young readers will love reliving baseball’s top ten moments again and again.","English",27.93,20.95,"796.357--dc23","48 pp.","https://www.enslow.com/books/Top_10_Moments_in_Baseball/4654",{"$f":"Table1[[#This Row],[QTY]]*Table1[[#This Row],['# of Books]]","v":0},{"$f":"Table1[[#This Row],[QTY]]*Table1[[#This Row],[School & Library Price]]","v":0}]
[null,null,null,"Sports Greats","Top 10 Moments in Basketball",1,"eBook","978-0-7660-7782-9",{"$f":"HYPERLINK(Table1[[#This Row],[Hyperlink]],\"Weblink\")","v":"Weblink"},"Enslow Publishing","2017","August 2016",null,"Author","David Aretha","5.9","1",null,null,"Z","940L","Grade 5 - 6","Grade 6 - 8","Michael Jordan's deciding shot over Bryon Russell during the 1998 NBA Finals against the Utah Jazz may well be the most perfect moment in the decorated career of the greatest basketball player. But that is just one of the featured stories in this title that covers many other memorable plays on the professional court. David Aretha takes readers on a journey through the moments that sports fans will never forget. Rounding out the text features are full-page photos and many statistics, including details for each player’s top NBA year and their experiences on high school and college teams.","English",27.93,20.95,"796.32309--dc23","48 pp.","https://www.enslow.com/books/Top_10_Moments_in_Basketball/419537",{"$f":"Table1[[#This Row],[QTY]]*Table1[[#This Row],['# of Books]]","v":0},{"$f":"Table1[[#This Row],[QTY]]*Table1[[#This Row],[School & Library Price]]","v":0}]
[null,null,null,"Sports Greats","Top 10 Pitchers in Baseball",1,"Library Bound Book","978-0-7660-7408-8",{"$f":"HYPERLINK(Table1[[#This Row],[Hyperlink]],\"Weblink\")","v":"Weblink"},"Enslow Publishing","2016","January 2016","7.250 X 9.250","Author","David Aretha","5.9","1",null,null,"Z","970L","Grade 5 - 6","Grade 6 - 8","This high-interest, topical book is full of stats, photos, and fun facts about the top ten pitchers in baseball, including their backgrounds, nicknames, teams, positions, and years of note.","English",27.93,20.95,"796.357'22--dc23","48 pp.","https://www.enslow.com/books/Top_10_Pitchers_in_Baseball/4655",{"$f":"Table1[[#This Row],[QTY]]*Table1[[#This Row],['# of Books]]","v":0},{"$f":"Table1[[#This Row],[QTY]]*Table1[[#This Row],[School & Library Price]]","v":0}]
[null,null,null,"Sports Greats","Top 10 Quarterbacks in Football",1,"eBook","978-0-7660-8319-6",{"$f":"HYPERLINK(Table1[[#This Row],[Hyperlink]],\"Weblink\")","v":"Weblink"},"Enslow Publishing","2017","January 2017",null,"Author","David Aretha","6.3","1",null,null,"U","1050L","Grade 5 - 6","Grade 6 - 8","There are not many things more exciting and entertaining than watching your favorite quarterback fire pass after pass as he leads his team down the field to score. The top NFL QBs in this book, including Joe Montana, Brett Favre, Tom Brady, and Peyton Manning, are known for their athletic power and crowd-stopping performances. Full-page photos of the players in action accompany each spread. Readers will learn the details of these players’ backgrounds and such details as teams, completion percentages, and touchdown passes. Easy-to-read language by veteran sports author David Aretha will keep readers turning the pages.","English",27.93,20.95,"796.33092/2--dc23","48 pp.","https://www.enslow.com/books/Top_10_Quarterbacks_in_Football/421646",{"$f":"Table1[[#This Row],[QTY]]*Table1[[#This Row],['# of Books]]","v":0},{"$f":"Table1[[#This Row],[QTY]]*Table1[[#This Row],[School & Library Price]]","v":0}]
[null,null,null,"Sports Greats","Top 10 Shooters and Scorers in Basketball",1,"Library Bound Book","978-0-7660-7564-1",{"$f":"HYPERLINK(Table1[[#This Row],[Hyperlink]],\"Weblink\")","v":"Weblink"},"Enslow Publishing","2017","August 2016","7.250 X 9.250","Author","David Aretha","6.1","1",null,null,"Z","960L","Grade 5 - 6","Grade 6 - 8","Who should have the ball when the buzzer is about to go off: Stephen Curry? Air Jordan? LeBron James? The exciting narrative of this title introduces readers to the top NBA shooters of all time. Readers will lean about their roads to professional careers, from backyard hoops and college championships to the NBA court. Plenty of full-page photos and exciting statistics, including details for each player’s top NBA year, add to this informative and entertaining read.","English",27.93,20.95,"796.323092/2--dc23","48 pp.","https://www.enslow.com/books/Top_10_Shooters_and_Scorers_in_Basketball/419517",{"$f":"Table1[[#This Row],[QTY]]*Table1[[#This Row],['# of Books]]","v":0},{"$f":"Table1[[#This Row],[QTY]]*Table1[[#This Row],[School & Library Price]]","v":0}]
[null,null,null,"Sports Greats","Top 10 Teams in Baseball",1,"Library Bound Book","978-0-7660-7412-5",{"$f":"HYPERLINK(Table1[[#This Row],[Hyperlink]],\"Weblink\")","v":"Weblink"},"Enslow Publishing","2016","January 2016","7.250 X 9.250","Author","David Aretha","6","1",null,null,"Z","980L","Grade 5 - 6","Grade 6 - 8","This text describes the top ten baseball teams in great detail. With specific statistics as well as fun facts and photos, young readers will learn about their favorite teams and what made them truly great.","English",27.93,20.95,"796.357’64’0973","48 pp.","https://www.enslow.com/books/Top_10_Teams_in_Baseball/4656",{"$f":"Table1[[#This Row],[QTY]]*Table1[[#This Row],['# of Books]]","v":0},{"$f":"Table1[[#This Row],[QTY]]*Table1[[#This Row],[School & Library Price]]","v":0}]
[null,null,null,"Sports Greats","Top 10 Teams in Baseball",1,"eBook","978-0-7660-7413-2",{"$f":"HYPERLINK(Table1[[#This Row],[Hyperlink]],\"Weblink\")","v":"Weblink"},"Enslow Publishing","2016","January 2016",null,"Author","David Aretha","6","1",null,null,"Z","980L","Grade 5 - 6","Grade 6 - 8","This text describes the top ten baseball teams in great detail. With specific statistics as well as fun facts and photos, young readers will learn about their favorite teams and what made them truly great.","English",27.93,20.95,"796.357’64’0973","48 pp.","https://www.enslow.com/books/Top_10_Teams_in_Baseball/4656",{"$f":"Table1[[#This Row],[QTY]]*Table1[[#This Row],['# of Books]]","v":0},{"$f":"Table1[[#This Row],[QTY]]*Table1[[#This Row],[School & Library Price]]","v":0}]
[null,null,null,"Sports Greats","Top 10 Teams in Football",1,"Library Bound Book","978-0-7660-8310-3",{"$f":"HYPERLINK(Table1[[#This Row],[Hyperlink]],\"Weblink\")","v":"Weblink"},"Enslow Publishing","2017","January 2017","7.250 X 9.250","Author","David Aretha","6.3","1",null,null,"U","1040L","Grade 5 - 6","Grade 6 - 8","The 1962 Green Bay Packers...the 1999 St. Louis Rams...the 2007 New England Patriots. Which is the best team in NFL history? Sports fans will debate this for all time. Readers will delight in all the details about the top ten teams chosen for this book. With specific statistics for each team’s best year, as well as fun facts and team dynamics, readers will learn about these talented teams and coaches, and what made them truly great.","English",27.93,20.95,"796.332/64--dc23","48 pp.","https://www.enslow.com/books/Top_10_Teams_in_Football/421647",{"$f":"Table1[[#This Row],[QTY]]*Table1[[#This Row],['# of Books]]","v":0},{"$f":"Table1[[#This Row],[QTY]]*Table1[[#This Row],[School & Library Price]]","v":0}]
[null,null,null,"Sports Greats","Top 10 Teams in Football",1,"eBook","978-0-7660-8311-0",{"$f":"HYPERLINK(Table1[[#This Row],[Hyperlink]],\"Weblink\")","v":"Weblink"},"Enslow Publishing","2017","January 2017",null,"Author","David Aretha","6.3","1",null,null,"U","1040L","Grade 5 - 6","Grade 6 - 8","The 1962 Green Bay Packers...the 1999 St. Louis Rams...the 2007 New England Patriots. Which is the best team in NFL history? Sports fans will debate this for all time. Readers will delight in all the details about the top ten teams chosen for this book. With specific statistics for each team’s best year, as well as fun facts and team dynamics, readers will learn about these talented teams and coaches, and what made them truly great.","English",27.93,20.95,"796.332/64--dc23","48 pp.","https://www.enslow.com/books/Top_10_Teams_in_Football/421647",{"$f":"Table1[[#This Row],[QTY]]*Table1[[#This Row],['# of Books]]","v":0},{"$f":"Table1[[#This Row],[QTY]]*Table1[[#This Row],[School & Library Price]]","v":0}]
[null,null,null,"Sports Greats","Top 10 Wide Receivers in Football",1,"Library Bound Book","978-0-7660-8322-6",{"$f":"HYPERLINK(Table1[[#This Row],[Hyperlink]],\"Weblink\")","v":"Weblink"},"Enslow Publishing","2017","January 2017","7.250 X 9.250","Author","Sherri Mabry Gordon","6.7","1",null,null,"U","1090L","Grade 5 - 6","Grade 6 - 8","What receiver would you want to be going long for a pass in the end zone when the clock is running low and the team is behind? Jerry Rice? Randy Moss? Terrell Owens? The exciting narrative of this title introduces readers to the top NFL wide receivers of all time, including their roads to professional careers, from college championships to the NFL field. Plenty of full-page photos and exciting statistics add to this informative and entertaining read.","English",27.93,20.95,"796.3320922ódc23","48 pp.","https://www.enslow.com/books/Top_10_Wide_Receivers_in_Football/421643",{"$f":"Table1[[#This Row],[QTY]]*Table1[[#This Row],['# of Books]]","v":0},{"$f":"Table1[[#This Row],[QTY]]*Table1[[#This Row],[School & Library Price]]","v":0}]
[null,null,null,"Sports Greats","Top 10 Wide Receivers in Football",1,"eBook","978-0-7660-8323-3",{"$f":"HYPERLINK(Table1[[#This Row],[Hyperlink]],\"Weblink\")","v":"Weblink"},"Enslow Publishing","2017","January 2017",null,"Author","Sherri Mabry Gordon","6.7","1",null,null,"U","1090L","Grade 5 - 6","Grade 6 - 8","What receiver would you want to be going long for a pass in the end zone when the clock is running low and the team is behind? Jerry Rice? Randy Moss? Terrell Owens? The exciting narrative of this title introduces readers to the top NFL wide receivers of all time, including their roads to professional careers, from college championships to the NFL field. Plenty of full-page photos and exciting statistics add to this informative and entertaining read.","English",27.93,20.95,"796.3320922ódc23","48 pp.","https://www.enslow.com/books/Top_10_Wide_Receivers_in_Football/421643",{"$f":"Table1[[#This Row],[QTY]]*Table1[[#This Row],['# of Books]]","v":0},{"$f":"Table1[[#This Row],[QTY]]*Table1[[#This Row],[School & Library Price]]","v":0}]
[null,null,null,"Mastering Martial Arts","Mastering Martial Arts",6,"Library Set","978-0-7660-8595-4",{"$f":"HYPERLINK(Table1[[#This Row],[Hyperlink]],\"Weblink\")","v":"Weblink"},"Enslow Publishing","2018","August 2017","6.500 X 9.250",null,null,null,null,null,null,null,null,"Grade 6","Grade 6 - 12","Readers are introduced to the action-packed and fascinating world of martial arts. Each book provides a history of the discipline as well as any necessary equipment, warm-up exercises to prevent injury, and details on the different styles and categories. Detailed step-by-step instructions and accompanying photographs help readers learn the positions and fundamental techniques followed by a demonstration of basic attacks and counterattacks. As each book progresses, the attacks become more and more varied and complex. Formal exercises encourage students to practice what they have learned, keep track of personal progress, and improve their mastery of the discipline.","English",223.62,167.7,null,"128 pp.","https://www.enslow.com/series/Mastering_Martial_Arts/421588",{"$f":"Table1[[#This Row],[QTY]]*Table1[[#This Row],['# of Books]]","v":0},{"$f":"Table1[[#This Row],[QTY]]*Table1[[#This Row],[School & Library Price]]","v":0}]
[null,null,null,"Mastering Martial Arts","A Complete Guide to Ju Jitsu",1,"Library Bound Book","978-0-7660-8545-9",{"$f":"HYPERLINK(Table1[[#This Row],[Hyperlink]],\"Weblink\")","v":"Weblink"},"Enslow Publishing","2018","August 2017","6.500 X 9.250","Author","Giancarlo Bagnulo",null,null,null,null,"Y","1190L","Grade 6","Grade 6 - 12","This book provides a history of the Japanese martial art of ju jitsu as well as details on the different styles. Detailed step-by-step instructions and accompanying photographs help readers learn the positions and fundamental techniques to properly throw, pin, and joint-lock their opponents. As the book progresses, the moves become more and more complex. Formal exercises encourage students to practice what they have learned, keep track of personal progress, and improve their mastery of the discipline. The book also includes a glossary, a further reading section with books and websites, and an index.","English",37.270000000000003,27.95,"796.815/2--dc23","128 pp.","https://www.enslow.com/books/A_Complete_Guide_to_Ju_Jitsu/412740",{"$f":"Table1[[#This Row],[QTY]]*Table1[[#This Row],['# of Books]]","v":0},{"$f":"Table1[[#This Row],[QTY]]*Table1[[#This Row],[School & Library Price]]","v":0}]
[null,null,null,"Mastering Martial Arts","A Complete Guide to Judo",1,"eBook","978-0-7660-8548-0",{"$f":"HYPERLINK(Table1[[#This Row],[Hyperlink]],\"Weblink\")","v":"Weblink"},"Enslow Publishing","2018","August 2017",null,"Author","Roberto Ghetti",null,null,null,null,"Y","1200L","Grade 6","Grade 6 - 12","Judo is a modern martial art that originated in Japan in 1882 and became an Olympic sport in 1964. This book provides a history of the discipline as well as detailed step-by-step instructions and accompanying photographs to help readers learn the positions and fundamental techniques. Formal exercises encourage students to practice what they have learned, keep track of personal progress, and improve their mastery of the discipline. The book also includes a glossary, a further reading section with books and websites, and an index.","English",37.270000000000003,27.95,"796.815/2--dc23","128 pp.","https://www.enslow.com/books/A_Complete_Guide_to_Judo/412741",{"$f":"Table1[[#This Row],[QTY]]*Table1[[#This Row],['# of Books]]","v":0},{"$f":"Table1[[#This Row],[QTY]]*Table1[[#This Row],[School & Library Price]]","v":0}]
[null,null,null,"Mastering Martial Arts","A Complete Guide to Karate",1,"Library Bound Book","978-0-7660-8539-8",{"$f":"HYPERLINK(Table1[[#This Row],[Hyperlink]],\"Weblink\")","v":"Weblink"},"Enslow Publishing","2018","August 2017","6.500 X 9.250","Author, Author","Stefano Di Marino, Roberto Ghetti",null,null,null,null,"X","1130L","Grade 6","Grade 6 - 12","Readers will learn about the history of karate and details on the different styles and belt categories. Charts and tables organize information in a visually appealing and easy-to-grasp way. Detailed step-by-step instructions and accompanying photographs help readers learn the positions and fundamental techniques followed by a demonstration of basic attacks and counterattacks. As the book progresses, the attacks become more and more varied and complex. Formal exercises encourage students to practice what they have learned, keep track of personal progress, and improve their mastery of karate.","English",37.270000000000003,27.95,"796.815/3--dc23","128 pp.","https://www.enslow.com/books/A_Complete_Guide_to_Karate/412742",{"$f":"Table1[[#This Row],[QTY]]*Table1[[#This Row],['# of Books]]","v":0},{"$f":"Table1[[#This Row],[QTY]]*Table1[[#This Row],[School & Library Price]]","v":0}]
[null,null,null,"Mastering Martial Arts","A Complete Guide to Kickboxing",1,"Library Bound Book","978-0-7660-8543-5",{"$f":"HYPERLINK(Table1[[#This Row],[Hyperlink]],\"Weblink\")","v":"Weblink"},"Enslow Publishing","2018","August 2017","6.500 X 9.250","Author","Stefano Di Marino",null,null,null,null,"W","1090L","Grade 6","Grade 6 - 12","Readers will enter the action-packed and fascinating world of kickboxing. This book provides a history of the discipline as well as information on necessary equipment, warm-up exercises to prevent injury, and details on the different categories. Charts and tables organize information in a visually appealing and easy-to-grasp way. Detailed step-by-step instructions and accompanying photographs help readers learn the fundamental techniques and movements, such as defensive positions, punching, kicking, and knee and elbow strikes. The book also includes a glossary, a further reading section with books and websites, and an index.","English",37.270000000000003,27.95,"796.815--dc23","128 pp.","https://www.enslow.com/books/A_Complete_Guide_to_Kickboxing/412743",{"$f":"Table1[[#This Row],[QTY]]*Table1[[#This Row],['# of Books]]","v":0},{"$f":"Table1[[#This Row],[QTY]]*Table1[[#This Row],[School & Library Price]]","v":0}]
[null,null,null,"Mastering Martial Arts","A Complete Guide to Kickboxing",1,"eBook","978-0-7660-8544-2",{"$f":"HYPERLINK(Table1[[#This Row],[Hyperlink]],\"Weblink\")","v":"Weblink"},"Enslow Publishing","2018","August 2017",null,"Author","Stefano Di Marino",null,null,null,null,"W","1090L","Grade 6","Grade 6 - 12","Readers will enter the action-packed and fascinating world of kickboxing. This book provides a history of the discipline as well as information on necessary equipment, warm-up exercises to prevent injury, and details on the different categories. Charts and tables organize information in a visually appealing and easy-to-grasp way. Detailed step-by-step instructions and accompanying photographs help readers learn the fundamental techniques and movements, such as defensive positions, punching, kicking, and knee and elbow strikes. The book also includes a glossary, a further reading section with books and websites, and an index.","English",37.270000000000003,27.95,"796.815--dc23","128 pp.","https://www.enslow.com/books/A_Complete_Guide_to_Kickboxing/412743",{"$f":"Table1[[#This Row],[QTY]]*Table1[[#This Row],['# of Books]]","v":0},{"$f":"Table1[[#This Row],[QTY]]*Table1[[#This Row],[School & Library Price]]","v":0}]
[null,null,null,"Mastering Martial Arts","A Complete Guide to Tai Chi",1,"Library Bound Book","978-0-7660-8537-4",{"$f":"HYPERLINK(Table1[[#This Row],[Hyperlink]],\"Weblink\")","v":"Weblink"},"Enslow Publishing","2018","August 2017","6.500 X 9.250","Author","Walter Lorini",null,null,null,null,"Y","1050L","Grade 6","Grade 6 - 12","Readers are introduced to the action-packed and fascinating world of tai chi. This book provides a history of the discipline as well as information on any necessary equipment, warm-up exercises to prevent injury, and details on the different forms. Step-by-step instructions and accompanying photographs help readers learn the positions and fundamental techniques. Formal exercises encourage students to practice what they have learned, keep track of personal progress, and improve their mastery of the discipline. The book also includes a glossary, a further reading section with books and websites, and an index.","English",37.270000000000003,27.95,"613.7/148--dc23","128 pp.","https://www.enslow.com/books/A_Complete_Guide_to_Tai_Chi/412745",{"$f":"Table1[[#This Row],[QTY]]*Table1[[#This Row],['# of Books]]","v":0},{"$f":"Table1[[#This Row],[QTY]]*Table1[[#This Row],[School & Library Price]]","v":0}]
[null,null,null,"Mastering Martial Arts","A Complete Guide to Tai Chi",1,"eBook","978-0-7660-8538-1",{"$f":"HYPERLINK(Table1[[#This Row],[Hyperlink]],\"Weblink\")","v":"Weblink"},"Enslow Publishing","2018","August 2017",null,"Author","Walter Lorini",null,null,null,null,"Y","1050L","Grade 6","Grade 6 - 12","Readers are introduced to the action-packed and fascinating world of tai chi. This book provides a history of the discipline as well as information on any necessary equipment, warm-up exercises to prevent injury, and details on the different forms. Step-by-step instructions and accompanying photographs help readers learn the positions and fundamental techniques. Formal exercises encourage students to practice what they have learned, keep track of personal progress, and improve their mastery of the discipline. The book also includes a glossary, a further reading section with books and websites, and an index.","English",37.270000000000003,27.95,"613.7/148--dc23","128 pp.","https://www.enslow.com/books/A_Complete_Guide_to_Tai_Chi/412745",{"$f":"Table1[[#This Row],[QTY]]*Table1[[#This Row],['# of Books]]","v":0},{"$f":"Table1[[#This Row],[QTY]]*Table1[[#This Row],[School & Library Price]]","v":0}]
[null,null,null,"Speed Racers","Racing BMX Bikes",1,"eBook","978-0-7660-9322-5",{"$f":"HYPERLINK(Table1[[#This Row],[Hyperlink]],\"Weblink\")","v":"Weblink"},"Enslow Publishing","2018","January 2018",null,"Revised by, Author","Jane Katirgis, Ellen C. Labrecque",null,null,null,null,"W","830L","Grade 6","Grade 5 - 8","Whether you are four years old or seventy-five, you can be a BMX racer. BMX stands for bicycle motocross. Freestyle BMX is when riders pull tricks on their bikes. What's the best part of BMX? Is it the races, the tricks, or the dirt? All these things are fabulous. With full-color photographs, a glossary, and exciting fact boxes, this book will get your readers ready for their next race.","English",27.93,20.95,"796.6/22--dc23","48 pp.","https://www.enslow.com/books/Racing_BMX_Bikes/421707",{"$f":"Table1[[#This Row],[QTY]]*Table1[[#This Row],['# of Books]]","v":0},{"$f":"Table1[[#This Row],[QTY]]*Table1[[#This Row],[School & Library Price]]","v":0}]
[null,null,null,"Speed Racers","Racing Dirt Bikes",1,"Library Bound Book","978-0-7660-9275-4",{"$f":"HYPERLINK(Table1[[#This Row],[Hyperlink]],\"Weblink\")","v":"Weblink"},"Enslow Publishing","2018","January 2018","7.250 X 9.250","Revised by, Author","Jane Katirgis, James Holter",null,null,null,null,"W","830L","Grade 6","Grade 5 - 8","Motocross is the sport of racing motorcycles off-road. This book follows the riders as they complete several laps around a course of jumps, turns, hills, and bumps. After learning how to ride a dirt bike safely, many kids decide to race. Racing is tough, but with dedication, practice, and patience, anyone can become a dirt bike racer. Color photographs, a glossary, and exciting fact boxes will get your students ready to race.","English",27.93,20.95,"796.7/5--dc23","48 pp.","https://www.enslow.com/books/Racing_Dirt_Bikes/421708",{"$f":"Table1[[#This Row],[QTY]]*Table1[[#This Row],['# of Books]]","v":0},{"$f":"Table1[[#This Row],[QTY]]*Table1[[#This Row],[School & Library Price]]","v":0}]
[null,null,null,"Speed Racers","Racing Karts",1,"eBook","978-0-7660-9324-9",{"$f":"HYPERLINK(Table1[[#This Row],[Hyperlink]],\"Weblink\")","v":"Weblink"},"Enslow Publishing","2018","January 2018",null,"Revised by, Author","Jane Katirgis, Alison G. Norville",null,null,null,null,"X","840L","Grade 6","Grade 5 - 8","What is an inexpensive and fun way to get started in the world of motor sports? Karting is a good way to start racing. About half of the kart racers in the United States are under the age of eighteen. It may start as a hobby or it can be your first step in a professional driving career. There are go-kart groups for kids of almost any age, experience level, or budget. Color photographs, a glossary, and exciting fact boxes will get readers revved up for the sport.","English",27.93,20.95,"796.7/6--dc23","48 pp.","https://www.enslow.com/books/Racing_Karts/421709",{"$f":"Table1[[#This Row],[QTY]]*Table1[[#This Row],['# of Books]]","v":0},{"$f":"Table1[[#This Row],[QTY]]*Table1[[#This Row],[School & Library Price]]","v":0}]
[null,null,null,"Speed Racers","Racing Personal Watercraft (Sea-Doos)",1,"Library Bound Book","978-0-7660-9271-6",{"$f":"HYPERLINK(Table1[[#This Row],[Hyperlink]],\"Weblink\")","v":"Weblink"},"Enslow Publishing","2018","January 2018","7.250 X 9.250","Author","Jill Sherman",null,null,null,null,"Y","750L","Grade 6","Grade 5 - 8","Race over the waves on your personal watercraft (PWC). Zip around obstacles at top speed and bolt over the finish line. If your readers love to race among friends and are ready to take their skills to the next level, they can join the personal watercraft racing world. With practice, readers could become a personal watercraft champions. A glossary, color photographs, and fact boxes add detail to this exciting book.","English",27.93,20.95,"797.3--dc23","48 pp.","https://www.enslow.com/books/Racing_Personal_Watercraft_Sea_Doos/421712",{"$f":"Table1[[#This Row],[QTY]]*Table1[[#This Row],['# of Books]]","v":0},{"$f":"Table1[[#This Row],[QTY]]*Table1[[#This Row],[School & Library Price]]","v":0}]
[null,null,null,"Speed Racers","Racing Snowmobiles",1,"eBook","978-0-7660-9325-6",{"$f":"HYPERLINK(Table1[[#This Row],[Hyperlink]],\"Weblink\")","v":"Weblink"},"Enslow Publishing","2018","January 2018",null,"Revised by, Author","Jane Katirgis, Bob Woods",null,null,null,null,"Y","960L","Grade 6","Grade 5 - 8","More than a million Americans own snowmobiles. Every winter, they get ready to race. Riders hop on their hot machines for some cold-weather fun. How do you drive a snowmobile? What are the races like? How can you stay safe while racing? Readers learn all about the exciting sport of snowmobiling. Color photographs, a glossary, and fact boxes will get them ready for this exciting adventure.","English",27.93,20.95,"796.94--dc23","48 pp.","https://www.enslow.com/books/Racing_Snowmobiles/421710",{"$f":"Table1[[#This Row],[QTY]]*Table1[[#This Row],['# of Books]]","v":0},{"$f":"Table1[[#This Row],[QTY]]*Table1[[#This Row],[School & Library Price]]","v":0}]
[null,null,null,"Speed Racers","Racing Soap Box Derby Stock Cars",1,"Library Bound Book","978-0-7660-9270-9",{"$f":"HYPERLINK(Table1[[#This Row],[Hyperlink]],\"Weblink\")","v":"Weblink"},"Enslow Publishing","2018","January 2018","7.250 X 9.250","Author","John A. Torres",null,null,null,null,"X","1090L","Grade 6","Grade 5 - 8","Can a person race a car without an engine? You sure can. With the help of gravity and unique car design, soap box derby stock car drivers get to experience the thrill of the race. In 1914, Charlie Chaplain's movie \"The Kid Auto Races at Venice\" exposed Americans to the sport of soap box derby racing. Kids began racing cars whenever they could. When a newspaper photographer organized a race in 1933, the sport really took off. Readers learn about the races, heroes, scandals, and intense competition in this sport for kids and teens. A glossary, color photographs, and fact boxes round out this exciting book.","English",27.93,20.95,"796.6--dc23","48 pp.","https://www.enslow.com/books/Racing_Soap_Box_Derby_Stock_Cars/421711",{"$f":"Table1[[#This Row],[QTY]]*Table1[[#This Row],['# of Books]]","v":0},{"$f":"Table1[[#This Row],[QTY]]*Table1[[#This Row],[School & Library Price]]","v":0}]
[null,null,null,"Zoom in on Simple Machines","Inclined Planes at Work",1,"Library Bound Book","978-0-7660-6728-8",{"$f":"HYPERLINK(Table1[[#This Row],[Hyperlink]],\"Weblink\")","v":"Weblink"},"Enslow Publishing","2016","August 2015","8.500 X 7.125","Author","Dawn LaMachia","5.3","0.5",null,null,"M",null,"Grade 2","Grade K - 4","What is an inclined plane? How does it make our workload easier? Are inclined planes found in nature? Find out the answers to all these questions and more!","English",23.95,17.95,"621.8'11--dc23","24 pp.","https://www.enslow.com/books/Inclined_Planes_at_Work/4554",{"$f":"Table1[[#This Row],[QTY]]*Table1[[#This Row],['# of Books]]","v":0},{"$f":"Table1[[#This Row],[QTY]]*Table1[[#This Row],[School & Library Price]]","v":0}]
[null,null,null,"Zoom in on Simple Machines","Inclined Planes at Work",1,"eBook","978-0-7660-6729-5",{"$f":"HYPERLINK(Table1[[#This Row],[Hyperlink]],\"Weblink\")","v":"Weblink"},"Enslow Publishing","2016","August 2015",null,"Author","Dawn LaMachia","5.3","0.5",null,null,"M",null,"Grade 2","Grade K - 4","What is an inclined plane? How does it make our workload easier? Are inclined planes found in nature? Find out the answers to all these questions and more!","English",23.95,17.95,"621.8'11--dc23","24 pp.","https://www.enslow.com/books/Inclined_Planes_at_Work/4554",{"$f":"Table1[[#This Row],[QTY]]*Table1[[#This Row],['# of Books]]","v":0},{"$f":"Table1[[#This Row],[QTY]]*Table1[[#This Row],[School & Library Price]]","v":0}]
[null,null,null,"Zoom in on Simple Machines","Pulleys at Work",1,"Library Bound Book","978-0-7660-6736-3",{"$f":"HYPERLINK(Table1[[#This Row],[Hyperlink]],\"Weblink\")","v":"Weblink"},"Enslow Publishing","2016","August 2015","8.500 X 7.125","Author","Dawn LaMachia","4.8","0.5",null,null,"N",null,"Grade 2","Grade K - 4","What is a pulley and how is one made? How do pulleys work? How are they used? Find out the answers to all these questions and more!","English",23.95,17.95,"621.8'11--dc23","24 pp.","https://www.enslow.com/books/Pulleys_at_Work/4556",{"$f":"Table1[[#This Row],[QTY]]*Table1[[#This Row],['# of Books]]","v":0},{"$f":"Table1[[#This Row],[QTY]]*Table1[[#This Row],[School & Library Price]]","v":0}]
[null,null,null,"Zoom in on Simple Machines","Pulleys at Work",1,"eBook","978-0-7660-6737-0",{"$f":"HYPERLINK(Table1[[#This Row],[Hyperlink]],\"Weblink\")","v":"Weblink"},"Enslow Publishing","2016","August 2015",null,"Author","Dawn LaMachia","4.8","0.5",null,null,"N",null,"Grade 2","Grade K - 4","What is a pulley and how is one made? How do pulleys work? How are they used? Find out the answers to all these questions and more!","English",23.95,17.95,"621.8'11--dc23","24 pp.","https://www.enslow.com/books/Pulleys_at_Work/4556",{"$f":"Table1[[#This Row],[QTY]]*Table1[[#This Row],['# of Books]]","v":0},{"$f":"Table1[[#This Row],[QTY]]*Table1[[#This Row],[School & Library Price]]","v":0}]
[null,null,null,"Zoom in on Simple Machines","Wedges at Work",1,"Library Bound Book","978-0-7660-6744-8",{"$f":"HYPERLINK(Table1[[#This Row],[Hyperlink]],\"Weblink\")","v":"Weblink"},"Enslow Publishing","2016","August 2015","8.500 X 7.125","Author","Dawn LaMachia","4.6","0.5",null,null,"M",null,"Grade 2","Grade K - 4","What is a wedge? How does it make work easier? Who were the first people to use wedges? Are wedges found in nature? Find out the answers to these questions and more!","English",23.95,17.95,"621.8'22--dc23","24 pp.","https://www.enslow.com/books/Wedges_at_Work/4558",{"$f":"Table1[[#This Row],[QTY]]*Table1[[#This Row],['# of Books]]","v":0},{"$f":"Table1[[#This Row],[QTY]]*Table1[[#This Row],[School & Library Price]]","v":0}]
[null,null,null,"Zoom in on Simple Machines","Wedges at Work",1,"eBook","978-0-7660-6745-5",{"$f":"HYPERLINK(Table1[[#This Row],[Hyperlink]],\"Weblink\")","v":"Weblink"},"Enslow Publishing","2016","August 2015",null,"Author","Dawn LaMachia","4.6","0.5",null,null,"M",null,"Grade 2","Grade K - 4","What is a wedge? How does it make work easier? Who were the first people to use wedges? Are wedges found in nature? Find out the answers to these questions and more!","English",23.95,17.95,"621.8'22--dc23","24 pp.","https://www.enslow.com/books/Wedges_at_Work/4558",{"$f":"Table1[[#This Row],[QTY]]*Table1[[#This Row],['# of Books]]","v":0},{"$f":"Table1[[#This Row],[QTY]]*Table1[[#This Row],[School & Library Price]]","v":0}]
[null,null,null,"Zoom in on Technology","Computers: What They Are and How to Use Them",1,"Library Bound Book","978-0-7660-7363-0",{"$f":"HYPERLINK(Table1[[#This Row],[Hyperlink]],\"Weblink\")","v":"Weblink"},"Enslow Publishing","2016","January 2016","8.500 X 7.125","Author","Tricia Yearling","5.3","0.5",null,null,"K",null,"Grade 2","Grade K - 4","Young readers will discover all the wonderful things that can be accomplished on a computer, as well as the safest way to operate them. Full-page photos illustrate each idea, and practice exercises put these new skills to use.","English",23.95,17.95,"004--dc23","24 pp.","https://www.enslow.com/books/Computers/4590",{"$f":"Table1[[#This Row],[QTY]]*Table1[[#This Row],['# of Books]]","v":0},{"$f":"Table1[[#This Row],[QTY]]*Table1[[#This Row],[School & Library Price]]","v":0}]
[null,null,null,"Zoom in on Technology","Computers: What They Are and How to Use Them",1,"eBook","978-0-7660-7364-7",{"$f":"HYPERLINK(Table1[[#This Row],[Hyperlink]],\"Weblink\")","v":"Weblink"},"Enslow Publishing","2016","January 2016",null,"Author","Tricia Yearling","5.3","0.5",null,null,"K",null,"Grade 2","Grade K - 4","Young readers will discover all the wonderful things that can be accomplished on a computer, as well as the safest way to operate them. Full-page photos illustrate each idea, and practice exercises put these new skills to use.","English",23.95,17.95,"004--dc23","24 pp.","https://www.enslow.com/books/Computers/4590",{"$f":"Table1[[#This Row],[QTY]]*Table1[[#This Row],['# of Books]]","v":0},{"$f":"Table1[[#This Row],[QTY]]*Table1[[#This Row],[School & Library Price]]","v":0}]
[null,null,null,"Zoom in on Technology","The Internet: What It Is and How to Use It",1,"Library Bound Book","978-0-7660-7382-1",{"$f":"HYPERLINK(Table1[[#This Row],[Hyperlink]],\"Weblink\")","v":"Weblink"},"Enslow Publishing","2016","January 2016","8.500 X 7.125","Author","Tricia Yearling","4.5","0.5","16",null,"J",null,"Grade 2","Grade K - 4","Young readers will learn about the Internet and how to safely use it. Full-page color photos demonstrate the ideas introduced, and practice exercises will help children hone their skills.","English",23.95,17.95,"004.67'8--dc23","24 pp.","https://www.enslow.com/books/The_Internet/4648",{"$f":"Table1[[#This Row],[QTY]]*Table1[[#This Row],['# of Books]]","v":0},{"$f":"Table1[[#This Row],[QTY]]*Table1[[#This Row],[School & Library Price]]","v":0}]
[null,null,null,"Zoom in on Technology","The Internet: What It Is and How to Use It",1,"eBook","978-0-7660-7383-8",{"$f":"HYPERLINK(Table1[[#This Row],[Hyperlink]],\"Weblink\")","v":"Weblink"},"Enslow Publishing","2016","January 2016",null,"Author","Tricia Yearling","4.5","0.5","16",null,"J",null,"Grade 2","Grade K - 4","Young readers will learn about the Internet and how to safely use it. Full-page color photos demonstrate the ideas introduced, and practice exercises will help children hone their skills.","English",23.95,17.95,"004.67'8--dc23","24 pp.","https://www.enslow.com/books/The_Internet/4648",{"$f":"Table1[[#This Row],[QTY]]*Table1[[#This Row],['# of Books]]","v":0},{"$f":"Table1[[#This Row],[QTY]]*Table1[[#This Row],[School & Library Price]]","v":0}]
[null,null,null,"Zoom in on Technology","The World Wide Web: What It Is and How to Use It",1,"eBook","978-0-7660-7389-0",{"$f":"HYPERLINK(Table1[[#This Row],[Hyperlink]],\"Weblink\")","v":"Weblink"},"Enslow Publishing","2016","January 2016",null,"Author","Tricia Yearling","5.2","0.5",null,null,"K",null,"Grade 2","Grade K - 4","Young readers can learn all about the World Wide Web. Full-page photos illustrate the facts presented and practice exercises will help young students master the World Wide Web.","English",23.95,17.95,"025.042--dc23","24 pp.","https://www.enslow.com/books/The_World_Wide_Web/4650",{"$f":"Table1[[#This Row],[QTY]]*Table1[[#This Row],['# of Books]]","v":0},{"$f":"Table1[[#This Row],[QTY]]*Table1[[#This Row],[School & Library Price]]","v":0}]
[null,null,null,"All About Character","Being a Good Citizen",1,"Library Bound Book","978-0-7660-7103-2",{"$f":"HYPERLINK(Table1[[#This Row],[Hyperlink]],\"Weblink\")","v":"Weblink"},"Enslow Publishing","2016","August 2015","7.125 X 8.500","Author","Joanna Ponto",null,null,"3",null,"D",null,"Grade Pre-K - 1","Grade Pre-K - 1","What does it mean to be a good citizen? Full-page, color photographs accompany real-life examples of good citizenship that young readers will understand, relate to, and be inspired by.","English",22.6,16.95,"323.6'5--dc23","24 pp.","https://www.enslow.com/books/Being_a_Good_Citizen/4428",{"$f":"Table1[[#This Row],[QTY]]*Table1[[#This Row],['# of Books]]","v":0},{"$f":"Table1[[#This Row],[QTY]]*Table1[[#This Row],[School & Library Price]]","v":0}]
[null,null,null,"All About Character","Being Helpful",1,"eBook","978-0-7660-7121-6",{"$f":"HYPERLINK(Table1[[#This Row],[Hyperlink]],\"Weblink\")","v":"Weblink"},"Enslow Publishing","2016","August 2015",null,"Author","Joanna Ponto",null,null,null,null,"C",null,"Grade Pre-K - 1","Grade Pre-K - 1","What does it mean to be helpful? Full-page, color photographs accompany real-life examples of kids being helpful in their homes, schools, and communities, inspiring positive character traits in young readers.","English",22.6,16.95,"177'.7--dc23","24 pp.","https://www.enslow.com/books/Being_Helpful/4429",{"$f":"Table1[[#This Row],[QTY]]*Table1[[#This Row],['# of Books]]","v":0},{"$f":"Table1[[#This Row],[QTY]]*Table1[[#This Row],[School & Library Price]]","v":0}]
[null,null,null,"All About Character","Being Honest",1,"Library Bound Book","978-0-7660-7112-4",{"$f":"HYPERLINK(Table1[[#This Row],[Hyperlink]],\"Weblink\")","v":"Weblink"},"Enslow Publishing","2016","August 2015","7.125 X 8.500","Author","Joanna Ponto",null,null,null,null,"D",null,"Grade Pre-K - 1","Grade Pre-K - 1","What does it mean to be honest? Full-page photographs illustrate real-life examples showing children being honest with their friends, families, and neighbors—even when it's hard. Young readers will realize it is not always easy, but honesty is always best.","English",22.6,16.95,"179.9--dc23","24 pp.","https://www.enslow.com/books/Being_Honest/4430",{"$f":"Table1[[#This Row],[QTY]]*Table1[[#This Row],['# of Books]]","v":0},{"$f":"Table1[[#This Row],[QTY]]*Table1[[#This Row],[School & Library Price]]","v":0}]
[null,null,null,"All About Character","Being Kind",1,"eBook","978-0-7660-7117-9",{"$f":"HYPERLINK(Table1[[#This Row],[Hyperlink]],\"Weblink\")","v":"Weblink"},"Enslow Publishing","2016","August 2015",null,"Author","Joanna Ponto",null,null,null,null,"C",null,"Grade Pre-K - 1","Grade Pre-K - 1","What does it mean to be kind? Through simple scenarios illustrated by full-page color photographs, young readers are introduced to everyday kindness that will inspire them to try out their own acts of kindness.","English",22.6,16.95,"177.7--dc23","24 pp.","https://www.enslow.com/books/Being_Kind/4431",{"$f":"Table1[[#This Row],[QTY]]*Table1[[#This Row],['# of Books]]","v":0},{"$f":"Table1[[#This Row],[QTY]]*Table1[[#This Row],[School & Library Price]]","v":0}]
[null,null,null,"All About Character","Being Respectful",1,"Library Bound Book","978-0-7660-7099-8",{"$f":"HYPERLINK(Table1[[#This Row],[Hyperlink]],\"Weblink\")","v":"Weblink"},"Enslow Publishing","2016","August 2015","7.125 X 8.500","Author","Joanna Ponto",null,null,null,null,"C",null,"Grade Pre-K - 1","Grade Pre-K - 1","What does it mean to be respectful? What are good manners? Through real-life examples and full-page photographs, young readers learn how to be respectful to teachers, family, elders, and each other.","English",22.6,16.95,"179.9--dc23","24 pp.","https://www.enslow.com/books/Being_Respectful/4432",{"$f":"Table1[[#This Row],[QTY]]*Table1[[#This Row],['# of Books]]","v":0},{"$f":"Table1[[#This Row],[QTY]]*Table1[[#This Row],[School & Library Price]]","v":0}]
[null,null,null,"All About Character","Being Responsible",1,"eBook","978-0-7660-7109-4",{"$f":"HYPERLINK(Table1[[#This Row],[Hyperlink]],\"Weblink\")","v":"Weblink"},"Enslow Publishing","2016","August 2015",null,"Author","Joanna Ponto",null,null,null,null,"C",null,"Grade Pre-K - 1","Grade Pre-K - 1","What does it mean to be responsible? Through full-color photos and real-life examples, young readers learn how to take responsibility for themselves and their actions.","English",22.6,16.95,"179.9--dc23","24 pp.","https://www.enslow.com/books/Being_Responsible/4433",{"$f":"Table1[[#This Row],[QTY]]*Table1[[#This Row],['# of Books]]","v":0},{"$f":"Table1[[#This Row],[QTY]]*Table1[[#This Row],[School & Library Price]]","v":0}]
[null,null,null,"Multicultural Crafts","Exploring African-American Culture Through Crafts",1,"Library Bound Book","978-0-7660-6771-4",{"$f":"HYPERLINK(Table1[[#This Row],[Hyperlink]],\"Weblink\")","v":"Weblink"},"Enslow Publishing","2016","August 2015","7.125 X 8.500","Author","Mia Farrell",null,null,null,null,"S",null,"Grade 3 - 4","Grade 3 - 5","From inventors to writers to heroes, African-American history is made up of remarkable people. Step into the world of African-American culture with these fun, easy crafts and connect with people like Harriet Tubman, Ralph Ellison, George Washington Carver, and the Harlem Globetrotters!","English",25.27,18.95,"745.5089’96073--d23","32 pp.","https://www.enslow.com/books/Exploring_African_American_Culture_Through_Crafts/4519",{"$f":"Table1[[#This Row],[QTY]]*Table1[[#This Row],['# of Books]]","v":0},{"$f":"Table1[[#This Row],[QTY]]*Table1[[#This Row],[School & Library Price]]","v":0}]
[null,null,null,"Multicultural Crafts","Exploring Asian Cultures Through Crafts",1,"eBook","978-0-7660-6775-2",{"$f":"HYPERLINK(Table1[[#This Row],[Hyperlink]],\"Weblink\")","v":"Weblink"},"Enslow Publishing","2016","August 2015",null,"Author","Mia Farrell",null,null,null,null,"T",null,"Grade 3 - 4","Grade 3 - 5","From shadow puppets to mandalas to lanterns, these fun, easy crafts introduce you to the beauty and rich variety of Asian cultures. \n","English",25.27,18.95,"745.5095--d23","32 pp.","https://www.enslow.com/books/Exploring_Asian_Cultures_Through_Crafts/4520",{"$f":"Table1[[#This Row],[QTY]]*Table1[[#This Row],['# of Books]]","v":0},{"$f":"Table1[[#This Row],[QTY]]*Table1[[#This Row],[School & Library Price]]","v":0}]
[null,null,null,"Multicultural Crafts","Exploring Latino Cultures Through Crafts",1,"Library Bound Book","978-0-7660-6779-0",{"$f":"HYPERLINK(Table1[[#This Row],[Hyperlink]],\"Weblink\")","v":"Weblink"},"Enslow Publishing","2016","August 2015","7.125 X 8.500","Author","Mia Farrell",null,null,null,null,"S",null,"Grade 3 - 4","Grade 3 - 5","From weavings to piñatas to pottery, these fun, easy crafts introduce you to the vibrant and diverse world of Latino cultures.","English",25.27,18.95,"745.5089’68073--d23","32 pp.","https://www.enslow.com/books/Exploring_Latino_Cultures_Through_Crafts/4521",{"$f":"Table1[[#This Row],[QTY]]*Table1[[#This Row],['# of Books]]","v":0},{"$f":"Table1[[#This Row],[QTY]]*Table1[[#This Row],[School & Library Price]]","v":0}]
[null,null,null,"Multicultural Crafts","Exploring Middle Eastern Cultures Through Crafts",1,"Library Bound Book","978-0-7660-6783-7",{"$f":"HYPERLINK(Table1[[#This Row],[Hyperlink]],\"Weblink\")","v":"Weblink"},"Enslow Publishing","2016","August 2015","7.125 X 8.500","Author","Mia Farrell",null,null,null,null,"T",null,"Grade 3 - 4","Grade 3 - 5","From evil eye good luck charms to prayer rugs to perfume bottles, these fun, easy crafts introduce you to the beautiful world of the Middle East.","English",25.27,18.95,"745.50956--d23","32 pp.","https://www.enslow.com/books/Exploring_Middle_Eastern_Cultures_Through_Crafts/4522",{"$f":"Table1[[#This Row],[QTY]]*Table1[[#This Row],['# of Books]]","v":0},{"$f":"Table1[[#This Row],[QTY]]*Table1[[#This Row],[School & Library Price]]","v":0}]
[null,null,null,"Multicultural Crafts","Exploring Middle Eastern Cultures Through Crafts",1,"eBook","978-0-7660-6784-4",{"$f":"HYPERLINK(Table1[[#This Row],[Hyperlink]],\"Weblink\")","v":"Weblink"},"Enslow Publishing","2016","August 2015",null,"Author","Mia Farrell",null,null,null,null,"T",null,"Grade 3 - 4","Grade 3 - 5","From evil eye good luck charms to prayer rugs to perfume bottles, these fun, easy crafts introduce you to the beautiful world of the Middle East.","English",25.27,18.95,"745.50956--d23","32 pp.","https://www.enslow.com/books/Exploring_Middle_Eastern_Cultures_Through_Crafts/4522",{"$f":"Table1[[#This Row],[QTY]]*Table1[[#This Row],['# of Books]]","v":0},{"$f":"Table1[[#This Row],[QTY]]*Table1[[#This Row],[School & Library Price]]","v":0}]
[null,null,null,"Exceptional African Americans","Barack Obama: First African-American President",1,"Library Bound Book","978-0-7660-7124-7",{"$f":"HYPERLINK(Table1[[#This Row],[Hyperlink]],\"Weblink\")","v":"Weblink"},"Enslow Publishing","2016","August 2015","7.125 X 8.500","Author, Author","Stephen Feinstein, Charlotte Taylor","4.1","0.5",null,null,"L",null,"Grade 3 - 4","Grade 3 - 5","The first African-American president of the United States lived a colorful life before he was elected. Young readers will learn about his family, where he grew up, and how he came to be a history-making president.","English",22.6,16.95,"973.932092--dc23","24 pp.","https://www.enslow.com/books/Barack_Obama/4476",{"$f":"Table1[[#This Row],[QTY]]*Table1[[#This Row],['# of Books]]","v":0},{"$f":"Table1[[#This Row],[QTY]]*Table1[[#This Row],[School & Library Price]]","v":0}]
[null,null,null,"Exceptional African Americans","Barack Obama: First African-American President",1,"eBook","978-0-7660-7125-4",{"$f":"HYPERLINK(Table1[[#This Row],[Hyperlink]],\"Weblink\")","v":"Weblink"},"Enslow Publishing","2016","August 2015",null,"Author, Author","Stephen Feinstein, Charlotte Taylor","4.1","0.5",null,null,"L",null,"Grade 3 - 4","Grade 3 - 5","The first African-American president of the United States lived a colorful life before he was elected. Young readers will learn about his family, where he grew up, and how he came to be a history-making president.","English",22.6,16.95,"973.932092--dc23","24 pp.","https://www.enslow.com/books/Barack_Obama/4476",{"$f":"Table1[[#This Row],[QTY]]*Table1[[#This Row],['# of Books]]","v":0},{"$f":"Table1[[#This Row],[QTY]]*Table1[[#This Row],[School & Library Price]]","v":0}]
[null,null,null,"Exceptional African Americans","Crispus Attucks: A Hero of the American Revolution",1,"Library Bound Book","978-0-7660-7187-2",{"$f":"HYPERLINK(Table1[[#This Row],[Hyperlink]],\"Weblink\")","v":"Weblink"},"Enslow Publishing","2016","January 2016","7.125 X 8.500","Author","Charlotte Taylor","4","0.5",null,null,"M","670L","Grade 3","Grade 3 - 5","Through simple, informational text supported by black-and-white and color illustrations, readers will learn about Crispus Attucks, who had an exciting life at sea before going down in history as the first casualty of the Boston Massacre. A Words to Know section at the beginning of the book prepares students to understand the vocabulary they encounter in the text, and quotations about Attucks demonstrate how he inspired generations of Americans long after his death.","English",22.6,16.95,"973.3113092--dc23","24 pp.","https://www.enslow.com/books/Crispus_Attucks/4592",{"$f":"Table1[[#This Row],[QTY]]*Table1[[#This Row],['# of Books]]","v":0},{"$f":"Table1[[#This Row],[QTY]]*Table1[[#This Row],[School & Library Price]]","v":0}]
[null,null,null,"Exceptional African Americans","Crispus Attucks: A Hero of the American Revolution",1,"eBook","978-0-7660-7188-9",{"$f":"HYPERLINK(Table1[[#This Row],[Hyperlink]],\"Weblink\")","v":"Weblink"},"Enslow Publishing","2016","January 2016",null,"Author","Charlotte Taylor","4","0.5",null,null,"M","670L","Grade 3","Grade 3 - 5","Through simple, informational text supported by black-and-white and color illustrations, readers will learn about Crispus Attucks, who had an exciting life at sea before going down in history as the first casualty of the Boston Massacre. A Words to Know section at the beginning of the book prepares students to understand the vocabulary they encounter in the text, and quotations about Attucks demonstrate how he inspired generations of Americans long after his death.","English",22.6,16.95,"973.3113092--dc23","24 pp.","https://www.enslow.com/books/Crispus_Attucks/4592",{"$f":"Table1[[#This Row],[QTY]]*Table1[[#This Row],['# of Books]]","v":0},{"$f":"Table1[[#This Row],[QTY]]*Table1[[#This Row],[School & Library Price]]","v":0}]
[null,null,null,"Exceptional African Americans","Jay-Z: Rapper and Businessman",1,"Library Bound Book","978-0-7660-7254-1",{"$f":"HYPERLINK(Table1[[#This Row],[Hyperlink]],\"Weblink\")","v":"Weblink"},"Enslow Publishing","2016","January 2016","7.125 X 8.500","Author","Joseph Kampff","4.7","0.5",null,null,"M","830L","Grade 3","Grade 3 - 5","Rapper, producer, and entrepreneur Jay-Z is one of the most successful hip-hop artists in the world. Full-color photographs and engrossing text detail his career and personal life, while a Words to Know section primes readers for new terminology.","English",22.6,16.95,"782.421649092--dc23","24 pp.","https://www.enslow.com/books/Jay_Z/4616",{"$f":"Table1[[#This Row],[QTY]]*Table1[[#This Row],['# of Books]]","v":0},{"$f":"Table1[[#This Row],[QTY]]*Table1[[#This Row],[School & Library Price]]","v":0}]
[null,null,null,"Exceptional African Americans","Jay-Z: Rapper and Businessman",1,"eBook","978-0-7660-7255-8",{"$f":"HYPERLINK(Table1[[#This Row],[Hyperlink]],\"Weblink\")","v":"Weblink"},"Enslow Publishing","2016","January 2016",null,"Author","Joseph Kampff","4.7","0.5",null,null,"M","830L","Grade 3","Grade 3 - 5","Rapper, producer, and entrepreneur Jay-Z is one of the most successful hip-hop artists in the world. Full-color photographs and engrossing text detail his career and personal life, while a Words to Know section primes readers for new terminology.","English",22.6,16.95,"782.421649092--dc23","24 pp.","https://www.enslow.com/books/Jay_Z/4616",{"$f":"Table1[[#This Row],[QTY]]*Table1[[#This Row],['# of Books]]","v":0},{"$f":"Table1[[#This Row],[QTY]]*Table1[[#This Row],[School & Library Price]]","v":0}]
[null,null,null,"Exceptional African Americans","Laila Ali: Champion Boxer",1,"Library Bound Book","978-0-7660-6656-4",{"$f":"HYPERLINK(Table1[[#This Row],[Hyperlink]],\"Weblink\")","v":"Weblink"},"Enslow Publishing","2016","August 2015","7.125 X 8.500","Author","Norman D. Graubart ","4.8","0.5",null,null,"L",null,"Grade 3 - 4","Grade 3 - 5","The daughter of famous boxing legend Muhammad Ali, Laila Ali is a boxing icon in her own right. But she is also a television personality and an advocate for health and fitness for women. Learn all about this inspiring woman and her amazing life.","English",22.6,16.95,"796.83092--dc23","24 pp.","https://www.enslow.com/books/Laila_Ali/4478",{"$f":"Table1[[#This Row],[QTY]]*Table1[[#This Row],['# of Books]]","v":0},{"$f":"Table1[[#This Row],[QTY]]*Table1[[#This Row],[School & Library Price]]","v":0}]
[null,null,null,"Exceptional African Americans","Laila Ali: Champion Boxer",1,"eBook","978-0-7660-6657-1",{"$f":"HYPERLINK(Table1[[#This Row],[Hyperlink]],\"Weblink\")","v":"Weblink"},"Enslow Publishing","2016","August 2015",null,"Author","Norman D. Graubart ","4.8","0.5",null,null,"L",null,"Grade 3 - 4","Grade 3 - 5","The daughter of famous boxing legend Muhammad Ali, Laila Ali is a boxing icon in her own right. But she is also a television personality and an advocate for health and fitness for women. Learn all about this inspiring woman and her amazing life.","English",22.6,16.95,"796.83092--dc23","24 pp.","https://www.enslow.com/books/Laila_Ali/4478",{"$f":"Table1[[#This Row],[QTY]]*Table1[[#This Row],['# of Books]]","v":0},{"$f":"Table1[[#This Row],[QTY]]*Table1[[#This Row],[School & Library Price]]","v":0}]
[null,null,null,"Exceptional African Americans","LeBron James: Basketball Champion",1,"eBook","978-0-7660-6661-8",{"$f":"HYPERLINK(Table1[[#This Row],[Hyperlink]],\"Weblink\")","v":"Weblink"},"Enslow Publishing","2016","August 2015",null,"Author, Author","Stephen Feinstein, Charlotte Taylor","3.9","0.5",null,null,"L",null,"Grade 3 - 4","Grade 3 - 5","LeBron James is a living basketball legend. He is the youngest player in the history of the NBA to score 20,000 career points. He represented the United States in the 2008 Summer Olympics in Beijing, and he is one of the most influential athletes in the world. Readers learn more about his rise to superstardom and his life on and off the court.","English",22.6,16.95,"796.323092--dc23","24 pp.","https://www.enslow.com/books/LeBron_James/4479",{"$f":"Table1[[#This Row],[QTY]]*Table1[[#This Row],['# of Books]]","v":0},{"$f":"Table1[[#This Row],[QTY]]*Table1[[#This Row],[School & Library Price]]","v":0}]
[null,null,null,"Exceptional African Americans","Mae Jemison: First African-American Woman in Space",1,"Library Bound Book","978-0-7660-6664-9",{"$f":"HYPERLINK(Table1[[#This Row],[Hyperlink]],\"Weblink\")","v":"Weblink"},"Enslow Publishing","2016","August 2015","7.125 X 8.500","Author, Author","Stephen Feinstein, Charlotte Taylor","4.1","0.5",null,null,"L",null,"Grade 3 - 4","Grade 3 - 5","Scientist. Engineer. Doctor. Astronaut. Mae Jemison has done it all. Readers discover how a girl from Alabama became the first African-American woman in space thanks to her ambition, her intelligence, and her determination.","English",22.6,16.95,"629.450092--dc23","24 pp.","https://www.enslow.com/books/Mae_Jemison/4480",{"$f":"Table1[[#This Row],[QTY]]*Table1[[#This Row],['# of Books]]","v":0},{"$f":"Table1[[#This Row],[QTY]]*Table1[[#This Row],[School & Library Price]]","v":0}]
[null,null,null,"Exceptional African Americans","Neil deGrasse Tyson: Spokesperson for Science",1,"eBook","978-0-7660-6669-4",null,"Enslow Publishing","2016","August 2015",null,"Author","Norman D. Graubart ","4.6","0.5",null,null,"M","790L","Grade 3 - 4","Grade 3 - 5","Astrophysicist, cosmologist, and author, Neil deGrasse Tyson has devoted his life to understanding the universe and helping others do the same. He is an activist, an educator, and a television personality. Let his passion for making science fun inspire the scientist in you.","English",22.6,16.95,"523.01092--dc23","24 pp.",null,{"$f":"Table1[[#This Row],[QTY]]*Table1[[#This Row],['# of Books]]","v":0},{"$f":"Table1[[#This Row],[QTY]]*Table1[[#This Row],[School & Library Price]]","v":0}]
[null,null,null,"Exceptional African Americans","Phillis Wheatley: Colonial African-American Poet",1,"Library Bound Book","978-0-7660-7326-5",{"$f":"HYPERLINK(Table1[[#This Row],[Hyperlink]],\"Weblink\")","v":"Weblink"},"Enslow Publishing","2016","January 2016","7.125 X 8.500","Author","Charlotte Taylor","4","0.5",null,null,"L",null,"Grade 3","Grade 3 - 5","With simple yet engaging language, illustrations, and direct quotations, this biography introduces young readers to Phillis Wheatley's life and poetry. A Words to Know section in the beginning of the book prepares young readers for new vocabulary they will encounter in the book.","English",22.6,16.95,"811'.1--dc23","24 pp.","https://www.enslow.com/books/Phillis_Wheatley/4630",{"$f":"Table1[[#This Row],[QTY]]*Table1[[#This Row],['# of Books]]","v":0},{"$f":"Table1[[#This Row],[QTY]]*Table1[[#This Row],[School & Library Price]]","v":0}]
[null,null,null,"Exceptional African Americans","Sojourner Truth: Abolitionist and Activist",1,"eBook","978-0-7660-7373-9",{"$f":"HYPERLINK(Table1[[#This Row],[Hyperlink]],\"Weblink\")","v":"Weblink"},"Enslow Publishing","2016","January 2016",null,"Author","Charlotte Taylor","4.5","0.5",null,null,"N","720L","Grade 3","Grade 3 - 5","Abolitionist, author, and human rights activist Sojourner Truth was born a slave and fought her whole life to abolish slavery. Readers will learn about one of the first feminists through intriguing narrative, easy-to-comprehend information, black-and-white and color images, and direct quotations.","English",22.6,16.95,"326'.8092--dc23","24 pp.","https://www.enslow.com/books/Sojourner_Truth/4643",{"$f":"Table1[[#This Row],[QTY]]*Table1[[#This Row],['# of Books]]","v":0},{"$f":"Table1[[#This Row],[QTY]]*Table1[[#This Row],[School & Library Price]]","v":0}]
[null,null,null,"Exceptional Latinos","Diego Rivera: Famous Mexican Painter",1,"Library Bound Book","978-0-7660-6704-2",{"$f":"HYPERLINK(Table1[[#This Row],[Hyperlink]],\"Weblink\")","v":"Weblink"},"Enslow Publishing","2016","August 2015","7.125 X 8.500","Author","Mateo Alvarez","4.3","0.5",null,null,"L",null,"Grade 3 - 4","Grade 3 - 5","\"The secret of my best work is that it is Mexican,\" Diego Rivera once said in talking about his art. Learn what inspired this creative, talented, complicated artist.","English",22.6,16.95,"759.972--dc23","24 pp.","https://www.enslow.com/books/Diego_Rivera/4482",{"$f":"Table1[[#This Row],[QTY]]*Table1[[#This Row],['# of Books]]","v":0},{"$f":"Table1[[#This Row],[QTY]]*Table1[[#This Row],[School & Library Price]]","v":0}]
[null,null,null,"Exceptional Latinos","Eva Longoria: Actress and Businesswoman",1,"eBook","978-0-7660-6709-7",{"$f":"HYPERLINK(Table1[[#This Row],[Hyperlink]],\"Weblink\")","v":"Weblink"},"Enslow Publishing","2016","August 2015",null,"Author","Maria Betances","4.8","0.5",null,null,"L",null,"Grade 3 - 4","Grade 3 - 5","Eva Longoria has used her fame to call attention to people in need. Learn about her struggles in the entertainment industry and her success in the spotlight and in the community.","English",22.6,16.95,"791.43028--dc23","24 pp.","https://www.enslow.com/books/Eva_Longoria/4483",{"$f":"Table1[[#This Row],[QTY]]*Table1[[#This Row],['# of Books]]","v":0},{"$f":"Table1[[#This Row],[QTY]]*Table1[[#This Row],[School & Library Price]]","v":0}]
[null,null,null,"Exceptional Latinos","Father Junipero Serra: Founder of the California Missions",1,"Library Bound Book","978-0-7660-6712-7",{"$f":"HYPERLINK(Table1[[#This Row],[Hyperlink]],\"Weblink\")","v":"Weblink"},"Enslow Publishing","2016","August 2015","7.125 X 8.500","Author","Lynda Arnéz","5.1","0.5",null,null,"L",null,"Grade 3 - 4","Grade 3 - 5","Born in Spain in 1713, Father Serra was sent to the New World to spread the  Catholic religion. He founded twenty-one missions in what became the state of California, and influenced the lives of thousands of people. Learn about Father Serra’s remarkable life and accomplishments.","English",22.6,16.95,"759.972--dc23","24 pp.","https://www.enslow.com/books/Father_Junipero_Serra/4484",{"$f":"Table1[[#This Row],[QTY]]*Table1[[#This Row],['# of Books]]","v":0},{"$f":"Table1[[#This Row],[QTY]]*Table1[[#This Row],[School & Library Price]]","v":0}]
[null,null,null,"Exceptional Latinos","Frida Kahlo: Famous Mexican Artist",1,"eBook","978-0-7660-6717-2",{"$f":"HYPERLINK(Table1[[#This Row],[Hyperlink]],\"Weblink\")","v":"Weblink"},"Enslow Publishing","2016","August 2015",null,"Author","Mateo Alvarez","3.8","0.5",null,null,"K",null,"Grade 3 - 4","Grade 3 - 5","Frida Kahlo may be Mexico's most famous artist. Her paintings are known and seen around the world. Learn what inspired and tortured one of the twentieth century's most famous women.","English",22.6,16.95,"759.972--dc23","24 pp.","https://www.enslow.com/books/Frida_Kahlo/4485",{"$f":"Table1[[#This Row],[QTY]]*Table1[[#This Row],['# of Books]]","v":0},{"$f":"Table1[[#This Row],[QTY]]*Table1[[#This Row],[School & Library Price]]","v":0}]
[null,null,null,"Exceptional Latinos","Selena Gomez: Superstar Singer and Actress",1,"Library Bound Book","978-0-7660-6720-2",{"$f":"HYPERLINK(Table1[[#This Row],[Hyperlink]],\"Weblink\")","v":"Weblink"},"Enslow Publishing","2016","August 2015","7.125 X 8.500","Author","Maria Betances","4.6","0.5",null,null,"L",null,"Grade 3 - 4","Grade 3 - 5","Selena Gomez came from humble beginnings in Texas. She has worked hard in her short life and has risen to the top as a singer, actress, fashion designer, and role model. Learn about her struggles and her stardom and be inspired to work hard for your dreams!","English",22.6,16.95,"791.4302'8092--dc23","24 pp.","https://www.enslow.com/books/Selena_Gomez/4486",{"$f":"Table1[[#This Row],[QTY]]*Table1[[#This Row],['# of Books]]","v":0},{"$f":"Table1[[#This Row],[QTY]]*Table1[[#This Row],[School & Library Price]]","v":0}]
[null,null,null,"Exceptional Latinos","Sonia Sotomayor: Supreme Court Justice",1,"Library Bound Book","978-0-7660-6724-0",{"$f":"HYPERLINK(Table1[[#This Row],[Hyperlink]],\"Weblink\")","v":"Weblink"},"Enslow Publishing","2016","August 2015","7.125 X 8.500","Author","Stephanie Sammartino Mcpherson ","4.6","0.5",null,null,"L",null,"Grade 3 - 4","Grade 3 - 5","The first Latina to serve in the United States Supreme Court, Sonia came from humble beginnings in the Bronx in New York City. Overcoming health and financial problems, she earned a high-level college degree, became a lawyer, and eventually became a judge. Learn about Sonia’s inspiring life, her refusal to back down, and her insistence on fighting for the American Dream.","English",22.6,16.95,"347.73'2634--dc23","24 pp.","https://www.enslow.com/books/Sonia_Sotomayor/4487",{"$f":"Table1[[#This Row],[QTY]]*Table1[[#This Row],['# of Books]]","v":0},{"$f":"Table1[[#This Row],[QTY]]*Table1[[#This Row],[School & Library Price]]","v":0}]
[null,null,null,"Exceptional Latinos","Sonia Sotomayor: Supreme Court Justice",1,"eBook","978-0-7660-6725-7",{"$f":"HYPERLINK(Table1[[#This Row],[Hyperlink]],\"Weblink\")","v":"Weblink"},"Enslow Publishing","2016","August 2015",null,"Author","Stephanie Sammartino Mcpherson ","4.6","0.5",null,null,"L",null,"Grade 3 - 4","Grade 3 - 5","The first Latina to serve in the United States Supreme Court, Sonia came from humble beginnings in the Bronx in New York City. Overcoming health and financial problems, she earned a high-level college degree, became a lawyer, and eventually became a judge. Learn about Sonia’s inspiring life, her refusal to back down, and her insistence on fighting for the American Dream.","English",22.6,16.95,"347.73'2634--dc23","24 pp.","https://www.enslow.com/books/Sonia_Sotomayor/4487",{"$f":"Table1[[#This Row],[QTY]]*Table1[[#This Row],['# of Books]]","v":0},{"$f":"Table1[[#This Row],[QTY]]*Table1[[#This Row],[School & Library Price]]","v":0}]
[null,null,null,"Famous Artists","Get to Know Edward Hopper",1,"Library Bound Book","978-0-7660-7222-0",{"$f":"HYPERLINK(Table1[[#This Row],[Hyperlink]],\"Weblink\")","v":"Weblink"},"Enslow Publishing","2016","January 2016","7.250 X 9.250","Author","Charlotte Taylor","4.5","1",null,null,"T","740L","Grade 3 - 4","Grade 3 - 5","Through details about his life and education, readers learn not only to appreciate Edward Hopper’s paintings, but also his contributions to modern art. Images of his work show readers how his unique style developed, while Art Smart boxes help students understand the mediums and elements of Hopper’s work.","English",27.93,20.95,"759.13--dc23","48 pp.","https://www.enslow.com/books/Get_to_Know_Edward_Hopper/4605",{"$f":"Table1[[#This Row],[QTY]]*Table1[[#This Row],['# of Books]]","v":0},{"$f":"Table1[[#This Row],[QTY]]*Table1[[#This Row],[School & Library Price]]","v":0}]
[null,null,null,"Famous Artists","Get to Know Edward Hopper",1,"eBook","978-0-7660-7223-7",{"$f":"HYPERLINK(Table1[[#This Row],[Hyperlink]],\"Weblink\")","v":"Weblink"},"Enslow Publishing","2016","January 2016",null,"Author","Charlotte Taylor","4.5","1",null,null,"T","740L","Grade 3 - 4","Grade 3 - 5","Through details about his life and education, readers learn not only to appreciate Edward Hopper’s paintings, but also his contributions to modern art. Images of his work show readers how his unique style developed, while Art Smart boxes help students understand the mediums and elements of Hopper’s work.","English",27.93,20.95,"759.13--dc23","48 pp.","https://www.enslow.com/books/Get_to_Know_Edward_Hopper/4605",{"$f":"Table1[[#This Row],[QTY]]*Table1[[#This Row],['# of Books]]","v":0},{"$f":"Table1[[#This Row],[QTY]]*Table1[[#This Row],[School & Library Price]]","v":0}]
[null,null,null,"Famous Artists","Get to Know John Singer Sargent",1,"Library Bound Book","978-0-7660-7230-5",{"$f":"HYPERLINK(Table1[[#This Row],[Hyperlink]],\"Weblink\")","v":"Weblink"},"Enslow Publishing","2016","January 2016","7.250 X 9.250","Author","Charlotte Taylor","5.2","1",null,null,"R",null,"Grade 3 - 4","Grade 3 - 5","American artist John Singer Sargent is considered the leading portrait painter of his generation. Through specific details about his life and photos of his work, readers will learn about Sargent and the changing times in which he lived, developing a deeper appreciation of his work. Art Smart boxes inform readers on the style, form, and mediums of Sargent's work.","English",27.93,20.95,"759.13--dc23","48 pp.","https://www.enslow.com/books/Get_to_Know_John_Singer_Sargent/4607",{"$f":"Table1[[#This Row],[QTY]]*Table1[[#This Row],['# of Books]]","v":0},{"$f":"Table1[[#This Row],[QTY]]*Table1[[#This Row],[School & Library Price]]","v":0}]
[null,null,null,"Famous Artists","Get to Know John Singer Sargent",1,"eBook","978-0-7660-7231-2",{"$f":"HYPERLINK(Table1[[#This Row],[Hyperlink]],\"Weblink\")","v":"Weblink"},"Enslow Publishing","2016","January 2016",null,"Author","Charlotte Taylor","5.2","1",null,null,"R",null,"Grade 3 - 4","Grade 3 - 5","American artist John Singer Sargent is considered the leading portrait painter of his generation. Through specific details about his life and photos of his work, readers will learn about Sargent and the changing times in which he lived, developing a deeper appreciation of his work. Art Smart boxes inform readers on the style, form, and mediums of Sargent's work.","English",27.93,20.95,"759.13--dc23","48 pp.","https://www.enslow.com/books/Get_to_Know_John_Singer_Sargent/4607",{"$f":"Table1[[#This Row],[QTY]]*Table1[[#This Row],['# of Books]]","v":0},{"$f":"Table1[[#This Row],[QTY]]*Table1[[#This Row],[School & Library Price]]","v":0}]
[null,null,null,"Famous Artists","Get to Know Norman Rockwell",1,"Library Bound Book","978-0-7660-7238-1",{"$f":"HYPERLINK(Table1[[#This Row],[Hyperlink]],\"Weblink\")","v":"Weblink"},"Enslow Publishing","2016","January 2016","7.250 X 9.250","Author","Charlotte Taylor","5","1",null,null,"R",null,"Grade 3 - 4","Grade 3 - 5","American painter and illustrator Norman Rockwell is probably best known for his iconic Saturday Evening Post covers. Through captivating text detailing his life and photos of his work, this book will foster in readers a new appreciation for Rockwell. Art Smart boxes provide insight into Rockwell’s methods and mediums.","English",27.93,20.95,"759.13--dc23","48 pp.","https://www.enslow.com/books/Get_to_Know_Norman_Rockwell/4609",{"$f":"Table1[[#This Row],[QTY]]*Table1[[#This Row],['# of Books]]","v":0},{"$f":"Table1[[#This Row],[QTY]]*Table1[[#This Row],[School & Library Price]]","v":0}]
[null,null,null,"Famous Artists","Get to Know Norman Rockwell",1,"eBook","978-0-7660-7239-8",{"$f":"HYPERLINK(Table1[[#This Row],[Hyperlink]],\"Weblink\")","v":"Weblink"},"Enslow Publishing","2016","January 2016",null,"Author","Charlotte Taylor","5","1",null,null,"R",null,"Grade 3 - 4","Grade 3 - 5","American painter and illustrator Norman Rockwell is probably best known for his iconic Saturday Evening Post covers. Through captivating text detailing his life and photos of his work, this book will foster in readers a new appreciation for Rockwell. Art Smart boxes provide insight into Rockwell’s methods and mediums.","English",27.93,20.95,"759.13--dc23","48 pp.","https://www.enslow.com/books/Get_to_Know_Norman_Rockwell/4609",{"$f":"Table1[[#This Row],[QTY]]*Table1[[#This Row],['# of Books]]","v":0},{"$f":"Table1[[#This Row],[QTY]]*Table1[[#This Row],[School & Library Price]]","v":0}]
[null,null,null,"Online Smarts","How Do I Keep My Privacy Online?",1,"Library Bound Book","978-0-7660-6843-8",{"$f":"HYPERLINK(Table1[[#This Row],[Hyperlink]],\"Weblink\")","v":"Weblink"},"Enslow Publishing","2016","August 2015","7.125 X 8.500","Author","Tricia Yearling",null,null,null,null,"P",null,"Grade 3 - 4","Grade 3 - 5","Between social media, instant messaging, and e-mail, it can be difficult to maintain privacy online. This book will give you key tips and tricks to maintain your privacy and keep your information safe.","English",25.27,18.95,"005.8--dc23","32 pp.","https://www.enslow.com/books/How_Do_I_Keep_My_Privacy_Online/4525",{"$f":"Table1[[#This Row],[QTY]]*Table1[[#This Row],['# of Books]]","v":0},{"$f":"Table1[[#This Row],[QTY]]*Table1[[#This Row],[School & Library Price]]","v":0}]
[null,null,null,"Online Smarts","How Do I Keep My Privacy Online?",1,"eBook","978-0-7660-6844-5",{"$f":"HYPERLINK(Table1[[#This Row],[Hyperlink]],\"Weblink\")","v":"Weblink"},"Enslow Publishing","2016","August 2015",null,"Author","Tricia Yearling",null,null,null,null,"P",null,"Grade 3 - 4","Grade 3 - 5","Between social media, instant messaging, and e-mail, it can be difficult to maintain privacy online. This book will give you key tips and tricks to maintain your privacy and keep your information safe.","English",25.27,18.95,"005.8--dc23","32 pp.","https://www.enslow.com/books/How_Do_I_Keep_My_Privacy_Online/4525",{"$f":"Table1[[#This Row],[QTY]]*Table1[[#This Row],['# of Books]]","v":0},{"$f":"Table1[[#This Row],[QTY]]*Table1[[#This Row],[School & Library Price]]","v":0}]
[null,null,null,"Online Smarts","How Do I Play Games Online?",1,"eBook","978-0-7660-6848-3",{"$f":"HYPERLINK(Table1[[#This Row],[Hyperlink]],\"Weblink\")","v":"Weblink"},"Enslow Publishing","2016","August 2015",null,"Author","Tricia Yearling",null,null,null,null,"O",null,"Grade 3 - 4","Grade 3 - 5","Between computers, mobile devices, and gaming systems, it has never been easier to play games online. There is a game for every interest, skill set, and personality. This book will show you ways to play and how to stay safe while doing so. Playing online has never been more fun!","English",25.27,18.95,"004.67'8083--dc23","32 pp.","https://www.enslow.com/books/How_Do_I_Play_Games_Online/4526",{"$f":"Table1[[#This Row],[QTY]]*Table1[[#This Row],['# of Books]]","v":0},{"$f":"Table1[[#This Row],[QTY]]*Table1[[#This Row],[School & Library Price]]","v":0}]
[null,null,null,"Online Smarts","How Do I Stay Safe From Cyberbullies?",1,"Library Bound Book","978-0-7660-6851-3",{"$f":"HYPERLINK(Table1[[#This Row],[Hyperlink]],\"Weblink\")","v":"Weblink"},"Enslow Publishing","2016","August 2015","7.125 X 8.500","Author","Tricia Yearling",null,null,null,null,"P","810L","Grade 3 - 4","Grade 3 - 5","Social media is a fun way to stay connected with friends and family, but it can also be a way to be connected with cyberbullies. Cyberbullies can make life miserable. This book teaches you how to protect yourself and how to stop a cyberbully.","English",25.27,18.95,"613.6--dc23","32 pp.","https://www.enslow.com/books/How_Do_I_Stay_Safe_From_Cyberbullies/4527",{"$f":"Table1[[#This Row],[QTY]]*Table1[[#This Row],['# of Books]]","v":0},{"$f":"Table1[[#This Row],[QTY]]*Table1[[#This Row],[School & Library Price]]","v":0}]
[null,null,null,"Online Smarts","How Do I Stay Safe from Online Predators?",1,"eBook","978-0-7660-6855-1",{"$f":"HYPERLINK(Table1[[#This Row],[Hyperlink]],\"Weblink\")","v":"Weblink"},"Enslow Publishing","2016","August 2015",null,"Author","Tricia Yearling",null,null,null,null,"O",null,"Grade 3 - 4","Grade 3 - 5","The Internet is great for entertainment, information, and keeping in touch with people who are far away. But it can also connect you to predators who could take advantage of you, or worse! This book teaches you how to stay safe from online predators.","English",25.27,18.95,"025.042028'9--dc23","32 pp.","https://www.enslow.com/books/How_Do_I_Stay_Safe_from_Online_Predators/4528",{"$f":"Table1[[#This Row],[QTY]]*Table1[[#This Row],['# of Books]]","v":0},{"$f":"Table1[[#This Row],[QTY]]*Table1[[#This Row],[School & Library Price]]","v":0}]
[null,null,null,"Online Smarts","How Do I Use Social Networking?",1,"Library Bound Book","978-0-7660-6858-2",{"$f":"HYPERLINK(Table1[[#This Row],[Hyperlink]],\"Weblink\")","v":"Weblink"},"Enslow Publishing","2016","August 2015","7.125 X 8.500","Author","Tricia Yearling",null,null,null,null,"P",null,"Grade 3 - 4","Grade 3 - 5","Most people are part of an online community. Social networking is a great way to stay in touch with friends, family, and neighbors. Learn about different social networking sites and how to use them safely.","English",25.27,18.95,"302.23'1--dc23","32 pp.","https://www.enslow.com/books/How_Do_I_Use_Social_Networking/4529",{"$f":"Table1[[#This Row],[QTY]]*Table1[[#This Row],['# of Books]]","v":0},{"$f":"Table1[[#This Row],[QTY]]*Table1[[#This Row],[School & Library Price]]","v":0}]
[null,null,null,"Earth's Natural Disasters","Awful Avalanches",1,"eBook","978-0-7660-6792-9",{"$f":"HYPERLINK(Table1[[#This Row],[Hyperlink]],\"Weblink\")","v":"Weblink"},"Enslow Publishing","2016","August 2015",null,"Author, Author","Jane Katirgis, Michele Ingber Drohan","4.5","0.5",null,null,"N","780L","Grade 3 - 4","Grade 3 - 5","What are avalanches? What causes them? Readers learn about avalanches and what is being done to keep people safe from them.","English",25.27,18.95,"551.57'848--dc23","32 pp.","https://www.enslow.com/books/Awful_Avalanches/4470",{"$f":"Table1[[#This Row],[QTY]]*Table1[[#This Row],['# of Books]]","v":0},{"$f":"Table1[[#This Row],[QTY]]*Table1[[#This Row],[School & Library Price]]","v":0}]
[null,null,null,"Earth's Natural Disasters","Eerie Earthquakes",1,"Library Bound Book","978-0-7660-6795-0",{"$f":"HYPERLINK(Table1[[#This Row],[Hyperlink]],\"Weblink\")","v":"Weblink"},"Enslow Publishing","2016","August 2015","7.125 X 8.500","Author, Author","Jane Katirgis, Michele Ingber Drohan","4.6","0.5",null,null,"M","770L","Grade 3 - 4","Grade 3 - 5","What causes earthquakes? Where do they happen? How can people stay safe during them? Readers learn all about earthquakes so that they can be prepared.","English",25.27,18.95,"551.22--dc23","32 pp.","https://www.enslow.com/books/Eerie_Earthquakes/4471",{"$f":"Table1[[#This Row],[QTY]]*Table1[[#This Row],['# of Books]]","v":0},{"$f":"Table1[[#This Row],[QTY]]*Table1[[#This Row],[School & Library Price]]","v":0}]
[null,null,null,"Earth's Natural Disasters","Fearsome Forest Fires",1,"eBook","978-0-7660-6812-4",{"$f":"HYPERLINK(Table1[[#This Row],[Hyperlink]],\"Weblink\")","v":"Weblink"},"Enslow Publishing","2016","August 2015",null,"Author, Author","Jane Katirgis, Michele Ingber Drohan","4.2","0.5",null,null,"M","760L","Grade 3 - 4","Grade 3 - 5","What causes forest fires? How are they stopped? What are we doing to protect our forests, our animals, and ourselves from them? Your curious readers find answers to these questions and more.","English",25.27,18.95,"634.9'618--dc23","32 pp.","https://www.enslow.com/books/Fearsome_Forest_Fires/4472",{"$f":"Table1[[#This Row],[QTY]]*Table1[[#This Row],['# of Books]]","v":0},{"$f":"Table1[[#This Row],[QTY]]*Table1[[#This Row],[School & Library Price]]","v":0}]
[null,null,null,"Earth's Natural Disasters","Frightening Floods",1,"Library Bound Book","978-0-7660-6799-8",{"$f":"HYPERLINK(Table1[[#This Row],[Hyperlink]],\"Weblink\")","v":"Weblink"},"Enslow Publishing","2016","August 2015","7.125 X 8.500","Author, Author","Jane Katirgis, Michele Ingber Drohan","4.6","0.5",null,null,"M","790L","Grade 3 - 4","Grade 3 - 5","What causes floods? How can we prevent them? How do you stay safe in a flood? Readers find out answers to these questions and more.","English",25.27,18.95,"551.48'9--dc23","32 pp.","https://www.enslow.com/books/Frightening_Floods/4473",{"$f":"Table1[[#This Row],[QTY]]*Table1[[#This Row],['# of Books]]","v":0},{"$f":"Table1[[#This Row],[QTY]]*Table1[[#This Row],[School & Library Price]]","v":0}]
[null,null,null,"Earth's Natural Disasters","Scary Tsunamis",1,"eBook","978-0-7660-6808-7",{"$f":"HYPERLINK(Table1[[#This Row],[Hyperlink]],\"Weblink\")","v":"Weblink"},"Enslow Publishing","2016","August 2015",null,"Author, Author","Jane Katirgis, Michele Ingber Drohan","5","0.5",null,null,"N","870L","Grade 3 - 4","Grade 3 - 5","On the average, two tsunamis occur per year throughout the world, but thousands of people video record these tremendous feats of Mother Nature so we can see them up close. What is a tsunami? What causes one? Is there any way to predict them? Readers learn all about tsunamis and how to stay safe during one.","English",25.27,18.95,"551.46'37--dc23","32 pp.","https://www.enslow.com/books/Scary_Tsunamis/4474",{"$f":"Table1[[#This Row],[QTY]]*Table1[[#This Row],['# of Books]]","v":0},{"$f":"Table1[[#This Row],[QTY]]*Table1[[#This Row],[School & Library Price]]","v":0}]
[null,null,null,"Earth's Natural Disasters","Volatile Volcanoes",1,"Library Bound Book","978-0-7660-6803-2",{"$f":"HYPERLINK(Table1[[#This Row],[Hyperlink]],\"Weblink\")","v":"Weblink"},"Enslow Publishing","2016","August 2015","7.125 X 8.500","Author, Author","Jane Katirgis, Michele Ingber Drohan","4.6","0.5",null,null,"N","800L","Grade 3 - 4","Grade 3 - 5","On average, there are between 50 and 60 volcanoes that erupt each year somewhere on Earth. Nature's fury holds our attention and our wonder. What is a volcano? How is one formed? Is there a way to predict eruptions? Readers find out the answers to these questions and more.","English",25.27,18.95,"551.21--dc23","32 pp.","https://www.enslow.com/books/Volatile_Volcanoes/4475",{"$f":"Table1[[#This Row],[QTY]]*Table1[[#This Row],['# of Books]]","v":0},{"$f":"Table1[[#This Row],[QTY]]*Table1[[#This Row],[School & Library Price]]","v":0}]
[null,null,null,"Launch into Space!","Astronauts Explore the Galaxy",1,"Library Bound Book","978-0-7660-6815-5",{"$f":"HYPERLINK(Table1[[#This Row],[Hyperlink]],\"Weblink\")","v":"Weblink"},"Enslow Publishing","2016","August 2015","7.125 X 8.500","Author, Author","Carmen Bredeson, Marianne Dyson","4","0.5",null,null,"N",null,"Grade 3 - 4","Grade 3 - 5","Discover what life is like for astronauts in space—what they eat, how they sleep, how they work, and much more!","English",25.27,18.95,"629.45--dc23","32 pp.","https://www.enslow.com/books/Astronauts_Explore_the_Galaxy/4507",{"$f":"Table1[[#This Row],[QTY]]*Table1[[#This Row],['# of Books]]","v":0},{"$f":"Table1[[#This Row],[QTY]]*Table1[[#This Row],[School & Library Price]]","v":0}]
[null,null,null,"Launch into Space!","Astronauts Explore the Galaxy",1,"eBook","978-0-7660-6816-2",{"$f":"HYPERLINK(Table1[[#This Row],[Hyperlink]],\"Weblink\")","v":"Weblink"},"Enslow Publishing","2016","August 2015",null,"Author, Author","Carmen Bredeson, Marianne Dyson","4","0.5",null,null,"N",null,"Grade 3 - 4","Grade 3 - 5","Discover what life is like for astronauts in space—what they eat, how they sleep, how they work, and much more!","English",25.27,18.95,"629.45--dc23","32 pp.","https://www.enslow.com/books/Astronauts_Explore_the_Galaxy/4507",{"$f":"Table1[[#This Row],[QTY]]*Table1[[#This Row],['# of Books]]","v":0},{"$f":"Table1[[#This Row],[QTY]]*Table1[[#This Row],[School & Library Price]]","v":0}]
[null,null,null,"Launch into Space!","Exploring Earth",1,"Library Bound Book","978-0-7660-6819-3",{"$f":"HYPERLINK(Table1[[#This Row],[Hyperlink]],\"Weblink\")","v":"Weblink"},"Enslow Publishing","2016","August 2015","7.125 X 8.500","Author, Author","Carmen Bredeson, Marianne Dyson","3.6","0.5",null,null,"M",null,"Grade 3 - 4","Grade 3 - 5","Why is Earth the only planet in the solar system that has life? Why are there four seasons? What causes the weather? Discover the answers to these questions and more as you explore Earth.","English",25.27,18.95,"523.3--dc23","32 pp.","https://www.enslow.com/books/Exploring_Earth/4508",{"$f":"Table1[[#This Row],[QTY]]*Table1[[#This Row],['# of Books]]","v":0},{"$f":"Table1[[#This Row],[QTY]]*Table1[[#This Row],[School & Library Price]]","v":0}]
[null,null,null,"Launch into Space!","Exploring Earth",1,"eBook","978-0-7660-6820-9",{"$f":"HYPERLINK(Table1[[#This Row],[Hyperlink]],\"Weblink\")","v":"Weblink"},"Enslow Publishing","2016","August 2015",null,"Author, Author","Carmen Bredeson, Marianne Dyson","3.6","0.5",null,null,"M",null,"Grade 3 - 4","Grade 3 - 5","Why is Earth the only planet in the solar system that has life? Why are there four seasons? What causes the weather? Discover the answers to these questions and more as you explore Earth.","English",25.27,18.95,"523.3--dc23","32 pp.","https://www.enslow.com/books/Exploring_Earth/4508",{"$f":"Table1[[#This Row],[QTY]]*Table1[[#This Row],['# of Books]]","v":0},{"$f":"Table1[[#This Row],[QTY]]*Table1[[#This Row],[School & Library Price]]","v":0}]
[null,null,null,"Launch into Space!","Exploring the Moon",1,"Library Bound Book","978-0-7660-6823-0",{"$f":"HYPERLINK(Table1[[#This Row],[Hyperlink]],\"Weblink\")","v":"Weblink"},"Enslow Publishing","2016","August 2015","7.125 X 8.500","Author, Author","Carmen Bredeson, Marianne Dyson","4.1","0.5",null,null,"N",null,"Grade 3 - 4","Grade 3 - 5","What is the Moon made of? Who has been to the Moon? Why does the Moon change shape? Discover the answers to these questions and more as you explore the Moon.","English",25.27,18.95,null,"32 pp.","https://www.enslow.com/books/Exploring_the_Moon/4509",{"$f":"Table1[[#This Row],[QTY]]*Table1[[#This Row],['# of Books]]","v":0},{"$f":"Table1[[#This Row],[QTY]]*Table1[[#This Row],[School & Library Price]]","v":0}]
[null,null,null,"Launch into Space!","Exploring the Moon",1,"eBook","978-0-7660-6824-7",{"$f":"HYPERLINK(Table1[[#This Row],[Hyperlink]],\"Weblink\")","v":"Weblink"},"Enslow Publishing","2016","August 2015",null,"Author, Author","Carmen Bredeson, Marianne Dyson","4.1","0.5",null,null,"N",null,"Grade 3 - 4","Grade 3 - 5","What is the Moon made of? Who has been to the Moon? Why does the Moon change shape? Discover the answers to these questions and more as you explore the Moon.","English",25.27,18.95,null,"32 pp.","https://www.enslow.com/books/Exploring_the_Moon/4509",{"$f":"Table1[[#This Row],[QTY]]*Table1[[#This Row],['# of Books]]","v":0},{"$f":"Table1[[#This Row],[QTY]]*Table1[[#This Row],[School & Library Price]]","v":0}]
[null,null,null,"Launch into Space!","Exploring the Solar System",1,"Library Bound Book","978-0-7660-6827-8",{"$f":"HYPERLINK(Table1[[#This Row],[Hyperlink]],\"Weblink\")","v":"Weblink"},"Enslow Publishing","2016","August 2015","7.125 X 8.500","Author, Author","Carmen Bredeson, Marianne Dyson","4.3","0.5","24",null,"N",null,"Grade 3 - 4","Grade 3 - 5","What is a solar system? How many planets are there in our solar system? How many moons? What lies beyond our solar system? Discover the answers to all these questions and more as you explore the solar system.","English",25.27,18.95,"523.7--dc23","32 pp.","https://www.enslow.com/books/Exploring_the_Solar_System/4510",{"$f":"Table1[[#This Row],[QTY]]*Table1[[#This Row],['# of Books]]","v":0},{"$f":"Table1[[#This Row],[QTY]]*Table1[[#This Row],[School & Library Price]]","v":0}]
[null,null,null,"Launch into Space!","Exploring the Solar System",1,"eBook","978-0-7660-6828-5",{"$f":"HYPERLINK(Table1[[#This Row],[Hyperlink]],\"Weblink\")","v":"Weblink"},"Enslow Publishing","2016","August 2015",null,"Author, Author","Carmen Bredeson, Marianne Dyson","4.3","0.5","24",null,"N",null,"Grade 3 - 4","Grade 3 - 5","What is a solar system? How many planets are there in our solar system? How many moons? What lies beyond our solar system? Discover the answers to all these questions and more as you explore the solar system.","English",25.27,18.95,"523.7--dc23","32 pp.","https://www.enslow.com/books/Exploring_the_Solar_System/4510",{"$f":"Table1[[#This Row],[QTY]]*Table1[[#This Row],['# of Books]]","v":0},{"$f":"Table1[[#This Row],[QTY]]*Table1[[#This Row],[School & Library Price]]","v":0}]
[null,null,null,"Launch into Space!","Exploring the Stars",1,"Library Bound Book","978-0-7660-6831-5",{"$f":"HYPERLINK(Table1[[#This Row],[Hyperlink]],\"Weblink\")","v":"Weblink"},"Enslow Publishing","2016","August 2015","7.125 X 8.500","Author, Author","Carmen Bredeson, Marianne Dyson","3.9","0.5",null,null,"N",null,"Grade 3 - 4","Grade 3 - 5","What is a star? Why are stars different colors? What is a constellation? Who studies the stars? Discover the answers to all these questions and more as you explore the stars.","English",25.27,18.95,"523.8--dc23","32 pp.","https://www.enslow.com/books/Exploring_the_Stars/4511",{"$f":"Table1[[#This Row],[QTY]]*Table1[[#This Row],['# of Books]]","v":0},{"$f":"Table1[[#This Row],[QTY]]*Table1[[#This Row],[School & Library Price]]","v":0}]
[null,null,null,"Launch into Space!","Exploring the Stars",1,"eBook","978-0-7660-6832-2",{"$f":"HYPERLINK(Table1[[#This Row],[Hyperlink]],\"Weblink\")","v":"Weblink"},"Enslow Publishing","2016","August 2015",null,"Author, Author","Carmen Bredeson, Marianne Dyson","3.9","0.5",null,null,"N",null,"Grade 3 - 4","Grade 3 - 5","What is a star? Why are stars different colors? What is a constellation? Who studies the stars? Discover the answers to all these questions and more as you explore the stars.","English",25.27,18.95,"523.8--dc23","32 pp.","https://www.enslow.com/books/Exploring_the_Stars/4511",{"$f":"Table1[[#This Row],[QTY]]*Table1[[#This Row],['# of Books]]","v":0},{"$f":"Table1[[#This Row],[QTY]]*Table1[[#This Row],[School & Library Price]]","v":0}]
[null,null,null,"Launch into Space!","Exploring the Sun",1,"Library Bound Book","978-0-7660-6835-3",{"$f":"HYPERLINK(Table1[[#This Row],[Hyperlink]],\"Weblink\")","v":"Weblink"},"Enslow Publishing","2016","August 2015","7.125 X 8.500","Author, Author","Carmen Bredeson, Marianne Dyson","3.4","0.5",null,null,"N",null,"Grade 3 - 4","Grade 3 - 5","How far away is the Sun? What is the Sun made of? How big is the Sun? Why is it important to life on Earth? Discover the answers to these questions and more as you explore the Sun.","English",25.27,18.95,"523.7--dc23","32 pp.","https://www.enslow.com/books/Exploring_the_Sun/4512",{"$f":"Table1[[#This Row],[QTY]]*Table1[[#This Row],['# of Books]]","v":0},{"$f":"Table1[[#This Row],[QTY]]*Table1[[#This Row],[School & Library Price]]","v":0}]
[null,null,null,"Launch into Space!","Exploring the Sun",1,"eBook","978-0-7660-6836-0",{"$f":"HYPERLINK(Table1[[#This Row],[Hyperlink]],\"Weblink\")","v":"Weblink"},"Enslow Publishing","2016","August 2015",null,"Author, Author","Carmen Bredeson, Marianne Dyson","3.4","0.5",null,null,"N",null,"Grade 3 - 4","Grade 3 - 5","How far away is the Sun? What is the Sun made of? How big is the Sun? Why is it important to life on Earth? Discover the answers to these questions and more as you explore the Sun.","English",25.27,18.95,"523.7--dc23","32 pp.","https://www.enslow.com/books/Exploring_the_Sun/4512",{"$f":"Table1[[#This Row],[QTY]]*Table1[[#This Row],['# of Books]]","v":0},{"$f":"Table1[[#This Row],[QTY]]*Table1[[#This Row],[School & Library Price]]","v":0}]
[null,null,null,"The Rock Cycle","A Look at Erosion and Weathering",1,"Library Bound Book","978-0-7660-7280-0",{"$f":"HYPERLINK(Table1[[#This Row],[Hyperlink]],\"Weblink\")","v":"Weblink"},"Enslow Publishing","2016","January 2016","7.125 X 8.500","Author","Cecelia H. Brannon","5.2","0.5",null,null,"P",null,"Grade 3 - 4","Grade 3 - 6","Full-page photographs and diagrams illustrate the topics covered, while easy-to-comprehend text helps readers understand the concepts of erosion and weathering, including the difference between these two processes and how they affect rocks in the rock cycle.","English",25.27,18.95,"551.3'52--dc23","32 pp.","https://www.enslow.com/books/A_Look_at_Erosion_and_Weathering/4566",{"$f":"Table1[[#This Row],[QTY]]*Table1[[#This Row],['# of Books]]","v":0},{"$f":"Table1[[#This Row],[QTY]]*Table1[[#This Row],[School & Library Price]]","v":0}]
[null,null,null,"The Rock Cycle","A Look at Erosion and Weathering",1,"eBook","978-0-7660-7281-7",{"$f":"HYPERLINK(Table1[[#This Row],[Hyperlink]],\"Weblink\")","v":"Weblink"},"Enslow Publishing","2016","January 2016",null,"Author","Cecelia H. Brannon","5.2","0.5",null,null,"P",null,"Grade 3 - 4","Grade 3 - 6","Full-page photographs and diagrams illustrate the topics covered, while easy-to-comprehend text helps readers understand the concepts of erosion and weathering, including the difference between these two processes and how they affect rocks in the rock cycle.","English",25.27,18.95,"551.3'52--dc23","32 pp.","https://www.enslow.com/books/A_Look_at_Erosion_and_Weathering/4566",{"$f":"Table1[[#This Row],[QTY]]*Table1[[#This Row],['# of Books]]","v":0},{"$f":"Table1[[#This Row],[QTY]]*Table1[[#This Row],[School & Library Price]]","v":0}]
[null,null,null,"The Rock Cycle","A Look at Igneous Rocks",1,"Library Bound Book","978-0-7660-7318-0",{"$f":"HYPERLINK(Table1[[#This Row],[Hyperlink]],\"Weblink\")","v":"Weblink"},"Enslow Publishing","2016","January 2016","7.125 X 8.500","Author","Cecelia H. Brannon","5.4","0.5",null,null,"Q",null,"Grade 3 - 4","Grade 3 - 6","Easy-to-comprehend language and full-page photographs of igneous rocks inform readers on what they are, how they are formed, the different kinds that exist, and how humans use them.","English",25.27,18.95,"552.1--dc23","32 pp.","https://www.enslow.com/books/A_Look_at_Igneous_Rocks/4567",{"$f":"Table1[[#This Row],[QTY]]*Table1[[#This Row],['# of Books]]","v":0},{"$f":"Table1[[#This Row],[QTY]]*Table1[[#This Row],[School & Library Price]]","v":0}]
[null,null,null,"The Rock Cycle","A Look at Igneous Rocks",1,"eBook","978-0-7660-7319-7",{"$f":"HYPERLINK(Table1[[#This Row],[Hyperlink]],\"Weblink\")","v":"Weblink"},"Enslow Publishing","2016","January 2016",null,"Author","Cecelia H. Brannon","5.4","0.5",null,null,"Q",null,"Grade 3 - 4","Grade 3 - 6","Easy-to-comprehend language and full-page photographs of igneous rocks inform readers on what they are, how they are formed, the different kinds that exist, and how humans use them.","English",25.27,18.95,"552.1--dc23","32 pp.","https://www.enslow.com/books/A_Look_at_Igneous_Rocks/4567",{"$f":"Table1[[#This Row],[QTY]]*Table1[[#This Row],['# of Books]]","v":0},{"$f":"Table1[[#This Row],[QTY]]*Table1[[#This Row],[School & Library Price]]","v":0}]
[null,null,null,"The Rock Cycle","A Look at Metamorphic Rocks",1,"Library Bound Book","978-0-7660-7322-7",{"$f":"HYPERLINK(Table1[[#This Row],[Hyperlink]],\"Weblink\")","v":"Weblink"},"Enslow Publishing","2016","January 2016","7.125 X 8.500","Author","Cecelia H. Brannon","5.5","0.5",null,null,"R",null,"Grade 3 - 4","Grade 3 - 6","Through explanatory text and details written in an engaging and easy-to-understand style, this book explores metamorphic rocks in depth, including what they are, how they are formed, and the different kinds that exist. Full-page photos and graphics demonstrate key ideas for young readers.","English",25.27,18.95,"552.4--dc23","32 pp.","https://www.enslow.com/books/A_Look_at_Metamorphic_Rocks/4568",{"$f":"Table1[[#This Row],[QTY]]*Table1[[#This Row],['# of Books]]","v":0},{"$f":"Table1[[#This Row],[QTY]]*Table1[[#This Row],[School & Library Price]]","v":0}]
[null,null,null,"The Rock Cycle","A Look at Metamorphic Rocks",1,"eBook","978-0-7660-7323-4",{"$f":"HYPERLINK(Table1[[#This Row],[Hyperlink]],\"Weblink\")","v":"Weblink"},"Enslow Publishing","2016","January 2016",null,"Author","Cecelia H. Brannon","5.5","0.5",null,null,"R",null,"Grade 3 - 4","Grade 3 - 6","Through explanatory text and details written in an engaging and easy-to-understand style, this book explores metamorphic rocks in depth, including what they are, how they are formed, and the different kinds that exist. Full-page photos and graphics demonstrate key ideas for young readers.","English",25.27,18.95,"552.4--dc23","32 pp.","https://www.enslow.com/books/A_Look_at_Metamorphic_Rocks/4568",{"$f":"Table1[[#This Row],[QTY]]*Table1[[#This Row],['# of Books]]","v":0},{"$f":"Table1[[#This Row],[QTY]]*Table1[[#This Row],[School & Library Price]]","v":0}]
[null,null,null,"The Rock Cycle","A Look at Minerals",1,"Library Bound Book","978-0-7660-7309-8",{"$f":"HYPERLINK(Table1[[#This Row],[Hyperlink]],\"Weblink\")","v":"Weblink"},"Enslow Publishing","2016","January 2016","7.125 X 8.500","Author","Cecelia H. Brannon","5.5","0.5",null,null,"Q",null,"Grade 3 - 4","Grade 3 - 6","Analyzing texture, consistency, and hardness, this book discusses minerals in depth, even including what elements are in them and where they can be found. Full-page photos illustrate the differences between minerals and show readers just how fun geology can be!","English",25.27,18.95,"549--dc23","32 pp.","https://www.enslow.com/books/A_Look_at_Minerals/4569",{"$f":"Table1[[#This Row],[QTY]]*Table1[[#This Row],['# of Books]]","v":0},{"$f":"Table1[[#This Row],[QTY]]*Table1[[#This Row],[School & Library Price]]","v":0}]
[null,null,null,"The Rock Cycle","A Look at Minerals",1,"eBook","978-0-7660-7310-4",{"$f":"HYPERLINK(Table1[[#This Row],[Hyperlink]],\"Weblink\")","v":"Weblink"},"Enslow Publishing","2016","January 2016",null,"Author","Cecelia H. Brannon","5.5","0.5",null,null,"Q",null,"Grade 3 - 4","Grade 3 - 6","Analyzing texture, consistency, and hardness, this book discusses minerals in depth, even including what elements are in them and where they can be found. Full-page photos illustrate the differences between minerals and show readers just how fun geology can be!","English",25.27,18.95,"549--dc23","32 pp.","https://www.enslow.com/books/A_Look_at_Minerals/4569",{"$f":"Table1[[#This Row],[QTY]]*Table1[[#This Row],['# of Books]]","v":0},{"$f":"Table1[[#This Row],[QTY]]*Table1[[#This Row],[School & Library Price]]","v":0}]
[null,null,null,"The Rock Cycle","A Look at Sand, Silt, and Mud",1,"Library Bound Book","978-0-7660-7334-0",{"$f":"HYPERLINK(Table1[[#This Row],[Hyperlink]],\"Weblink\")","v":"Weblink"},"Enslow Publishing","2016","January 2016","7.125 X 8.500","Author","Cecelia H. Brannon","4.9","0.5",null,null,"P",null,"Grade 3 - 4","Grade 3 - 6","They might just seem like types of dirt, but young readers will soon recognize the importance of sand, silt, and mud in the rock cycle. Full-page photos, intriguing text, and fun facts describe the differences between them, and why they’re such an integral part of the earth’s surface.","English",25.27,18.95,"553.6--dc23","32 pp.","https://www.enslow.com/books/A_Look_at_Sand_Silt_and_Mud/4570",{"$f":"Table1[[#This Row],[QTY]]*Table1[[#This Row],['# of Books]]","v":0},{"$f":"Table1[[#This Row],[QTY]]*Table1[[#This Row],[School & Library Price]]","v":0}]
[null,null,null,"The Rock Cycle","A Look at Sand, Silt, and Mud",1,"eBook","978-0-7660-7335-7",{"$f":"HYPERLINK(Table1[[#This Row],[Hyperlink]],\"Weblink\")","v":"Weblink"},"Enslow Publishing","2016","January 2016",null,"Author","Cecelia H. Brannon","4.9","0.5",null,null,"P",null,"Grade 3 - 4","Grade 3 - 6","They might just seem like types of dirt, but young readers will soon recognize the importance of sand, silt, and mud in the rock cycle. Full-page photos, intriguing text, and fun facts describe the differences between them, and why they’re such an integral part of the earth’s surface.","English",25.27,18.95,"553.6--dc23","32 pp.","https://www.enslow.com/books/A_Look_at_Sand_Silt_and_Mud/4570",{"$f":"Table1[[#This Row],[QTY]]*Table1[[#This Row],['# of Books]]","v":0},{"$f":"Table1[[#This Row],[QTY]]*Table1[[#This Row],[School & Library Price]]","v":0}]
[null,null,null,"The Rock Cycle","A Look at Sedimentary Rocks",1,"Library Bound Book","978-0-7660-7338-8",{"$f":"HYPERLINK(Table1[[#This Row],[Hyperlink]],\"Weblink\")","v":"Weblink"},"Enslow Publishing","2016","January 2016","7.125 X 8.500","Author","Cecelia H. Brannon","5.7","0.5",null,null,"R",null,"Grade 3 - 4","Grade 3 - 6","Through simple text and intriguing facts, amateur geologists will learn about sedimentary rocks, including what they are, how they’re formed, and the different kinds found on earth. Young readers will recognize some of the most famous geological sites in the world through full-page photos and gain a new appreciation for the earth around them.","English",25.27,18.95,"552.5--dc23","32 pp.","https://www.enslow.com/books/A_Look_at_Sedimentary_Rocks/4571",{"$f":"Table1[[#This Row],[QTY]]*Table1[[#This Row],['# of Books]]","v":0},{"$f":"Table1[[#This Row],[QTY]]*Table1[[#This Row],[School & Library Price]]","v":0}]
[null,null,null,"The Rock Cycle","A Look at Sedimentary Rocks",1,"eBook","978-0-7660-7339-5",{"$f":"HYPERLINK(Table1[[#This Row],[Hyperlink]],\"Weblink\")","v":"Weblink"},"Enslow Publishing","2016","January 2016",null,"Author","Cecelia H. Brannon","5.7","0.5",null,null,"R",null,"Grade 3 - 4","Grade 3 - 6","Through simple text and intriguing facts, amateur geologists will learn about sedimentary rocks, including what they are, how they’re formed, and the different kinds found on earth. Young readers will recognize some of the most famous geological sites in the world through full-page photos and gain a new appreciation for the earth around them.","English",25.27,18.95,"552.5--dc23","32 pp.","https://www.enslow.com/books/A_Look_at_Sedimentary_Rocks/4571",{"$f":"Table1[[#This Row],[QTY]]*Table1[[#This Row],['# of Books]]","v":0},{"$f":"Table1[[#This Row],[QTY]]*Table1[[#This Row],[School & Library Price]]","v":0}]
[null,null,null,"Surprising Science Experiments","A Kid's Book of Experiments with Animals",1,"Library Bound Book","978-0-7660-7266-4",{"$f":"HYPERLINK(Table1[[#This Row],[Hyperlink]],\"Weblink\")","v":"Weblink"},"Enslow Publishing","2016","January 2016","7.250 X 9.250","Author, Author","Robert Gardner, Joshua Conklin",null,null,null,null,"W",null,"Grade 4","Grade 3 - 6","Easily accessible materials, step-by-step instructions, and fascinating subjects (such as birds, fish, and worms), make these simple and engaging experiments that examine behavior a must-do for any animal lover!","English",27.93,20.95,"590.78--dc23","48 pp.","https://www.enslow.com/books/A_Kids_Book_of_Experiments_with_Animals/4560",{"$f":"Table1[[#This Row],[QTY]]*Table1[[#This Row],['# of Books]]","v":0},{"$f":"Table1[[#This Row],[QTY]]*Table1[[#This Row],[School & Library Price]]","v":0}]
[null,null,null,"Surprising Science Experiments","A Kid's Book of Experiments with Animals",1,"eBook","978-0-7660-7267-1",{"$f":"HYPERLINK(Table1[[#This Row],[Hyperlink]],\"Weblink\")","v":"Weblink"},"Enslow Publishing","2016","January 2016",null,"Author, Author","Robert Gardner, Joshua Conklin",null,null,null,null,"W",null,"Grade 4","Grade 3 - 6","Easily accessible materials, step-by-step instructions, and fascinating subjects (such as birds, fish, and worms), make these simple and engaging experiments that examine behavior a must-do for any animal lover!","English",27.93,20.95,"590.78--dc23","48 pp.","https://www.enslow.com/books/A_Kids_Book_of_Experiments_with_Animals/4560",{"$f":"Table1[[#This Row],[QTY]]*Table1[[#This Row],['# of Books]]","v":0},{"$f":"Table1[[#This Row],[QTY]]*Table1[[#This Row],[School & Library Price]]","v":0}]
[null,null,null,"Surprising Science Experiments","A Kid's Book of Experiments with Color",1,"Library Bound Book","978-0-7660-7201-5",{"$f":"HYPERLINK(Table1[[#This Row],[Hyperlink]],\"Weblink\")","v":"Weblink"},"Enslow Publishing","2016","January 2016","7.250 X 9.250","Author, Author","Robert Gardner, Joshua Conklin",null,null,null,null,"W",null,"Grade 4","Grade 3 - 6","With easy-to-find materials and simple steps to follow, these color experiments will educate and entertain young scientists. They will gain a deeper understanding of color theory by mixing colors and subtracting colors using filters and pigments.","English",27.93,20.95,"535.6--dc23","48 pp.","https://www.enslow.com/books/A_Kids_Book_of_Experiments_with_Color/4561",{"$f":"Table1[[#This Row],[QTY]]*Table1[[#This Row],['# of Books]]","v":0},{"$f":"Table1[[#This Row],[QTY]]*Table1[[#This Row],[School & Library Price]]","v":0}]
[null,null,null,"Surprising Science Experiments","A Kid's Book of Experiments with Color",1,"eBook","978-0-7660-7202-2",{"$f":"HYPERLINK(Table1[[#This Row],[Hyperlink]],\"Weblink\")","v":"Weblink"},"Enslow Publishing","2016","January 2016",null,"Author, Author","Robert Gardner, Joshua Conklin",null,null,null,null,"W",null,"Grade 4","Grade 3 - 6","With easy-to-find materials and simple steps to follow, these color experiments will educate and entertain young scientists. They will gain a deeper understanding of color theory by mixing colors and subtracting colors using filters and pigments.","English",27.93,20.95,"535.6--dc23","48 pp.","https://www.enslow.com/books/A_Kids_Book_of_Experiments_with_Color/4561",{"$f":"Table1[[#This Row],[QTY]]*Table1[[#This Row],['# of Books]]","v":0},{"$f":"Table1[[#This Row],[QTY]]*Table1[[#This Row],[School & Library Price]]","v":0}]
[null,null,null,"Surprising Science Experiments","A Kid's Book of Experiments with Light",1,"Library Bound Book","978-0-7660-7205-3",{"$f":"HYPERLINK(Table1[[#This Row],[Hyperlink]],\"Weblink\")","v":"Weblink"},"Enslow Publishing","2016","January 2016","7.250 X 9.250","Author, Author","Robert Gardner, Joshua Conklin",null,null,null,null,"W",null,"Grade 4","Grade 3 - 6","With these easy-to-follow experiments, budding scientists will explore the properties of light, including refraction, reflection, and how light travels. Readily accessible materials make this a go-to resource for young readers who want to learn more about light.","English",27.93,20.95,"535.078--dc23","48 pp.","https://www.enslow.com/books/A_Kids_Book_of_Experiments_with_Light/4562",{"$f":"Table1[[#This Row],[QTY]]*Table1[[#This Row],['# of Books]]","v":0},{"$f":"Table1[[#This Row],[QTY]]*Table1[[#This Row],[School & Library Price]]","v":0}]
[null,null,null,"Surprising Science Experiments","A Kid's Book of Experiments with Light",1,"eBook","978-0-7660-7206-0",{"$f":"HYPERLINK(Table1[[#This Row],[Hyperlink]],\"Weblink\")","v":"Weblink"},"Enslow Publishing","2016","January 2016",null,"Author, Author","Robert Gardner, Joshua Conklin",null,null,null,null,"W",null,"Grade 4","Grade 3 - 6","With these easy-to-follow experiments, budding scientists will explore the properties of light, including refraction, reflection, and how light travels. Readily accessible materials make this a go-to resource for young readers who want to learn more about light.","English",27.93,20.95,"535.078--dc23","48 pp.","https://www.enslow.com/books/A_Kids_Book_of_Experiments_with_Light/4562",{"$f":"Table1[[#This Row],[QTY]]*Table1[[#This Row],['# of Books]]","v":0},{"$f":"Table1[[#This Row],[QTY]]*Table1[[#This Row],[School & Library Price]]","v":0}]
[null,null,null,"Surprising Science Experiments","A Kid's Book of Experiments with Sound",1,"Library Bound Book","978-0-7660-7209-1",{"$f":"HYPERLINK(Table1[[#This Row],[Hyperlink]],\"Weblink\")","v":"Weblink"},"Enslow Publishing","2016","January 2016","7.250 X 9.250","Author, Author","Robert Gardner, Joshua Conklin",null,null,null,null,"V",null,"Grade 4","Grade 3 - 6","With clear text and easy-to-find supplies, these experiments invite readers to explore the scientific principles of sound, which include finding out what kinds of matter conduct sound, locating the sources of sound, and matching vibrations.","English",27.93,20.95,"534.078--dc23","48 pp.","https://www.enslow.com/books/A_Kids_Book_of_Experiments_with_Sound/4563",{"$f":"Table1[[#This Row],[QTY]]*Table1[[#This Row],['# of Books]]","v":0},{"$f":"Table1[[#This Row],[QTY]]*Table1[[#This Row],[School & Library Price]]","v":0}]
[null,null,null,"Surprising Science Experiments","A Kid's Book of Experiments with Sound",1,"eBook","978-0-7660-7210-7",{"$f":"HYPERLINK(Table1[[#This Row],[Hyperlink]],\"Weblink\")","v":"Weblink"},"Enslow Publishing","2016","January 2016",null,"Author, Author","Robert Gardner, Joshua Conklin",null,null,null,null,"V",null,"Grade 4","Grade 3 - 6","With clear text and easy-to-find supplies, these experiments invite readers to explore the scientific principles of sound, which include finding out what kinds of matter conduct sound, locating the sources of sound, and matching vibrations.","English",27.93,20.95,"534.078--dc23","48 pp.","https://www.enslow.com/books/A_Kids_Book_of_Experiments_with_Sound/4563",{"$f":"Table1[[#This Row],[QTY]]*Table1[[#This Row],['# of Books]]","v":0},{"$f":"Table1[[#This Row],[QTY]]*Table1[[#This Row],[School & Library Price]]","v":0}]
[null,null,null,"Surprising Science Experiments","A Kid's Book of Experiments with Stars",1,"Library Bound Book","978-0-7660-7270-1",{"$f":"HYPERLINK(Table1[[#This Row],[Hyperlink]],\"Weblink\")","v":"Weblink"},"Enslow Publishing","2016","January 2016","7.250 X 9.250","Author, Author","Robert Gardner, Joshua Conklin",null,null,null,null,"X",null,"Grade 4","Grade 3 - 6","Perfect for science fairs or sleepovers, this book will inspire young readers to learn about constellations, the Sun, and even the Moon through hands-on experiments that use easy-to-obtain materials and the scientific method.","English",27.93,20.95,"520.78--dc23","48 pp.","https://www.enslow.com/books/A_Kids_Book_of_Experiments_with_Stars/4564",{"$f":"Table1[[#This Row],[QTY]]*Table1[[#This Row],['# of Books]]","v":0},{"$f":"Table1[[#This Row],[QTY]]*Table1[[#This Row],[School & Library Price]]","v":0}]
[null,null,null,"Surprising Science Experiments","A Kid's Book of Experiments with Stars",1,"eBook","978-0-7660-7271-8",{"$f":"HYPERLINK(Table1[[#This Row],[Hyperlink]],\"Weblink\")","v":"Weblink"},"Enslow Publishing","2016","January 2016",null,"Author, Author","Robert Gardner, Joshua Conklin",null,null,null,null,"X",null,"Grade 4","Grade 3 - 6","Perfect for science fairs or sleepovers, this book will inspire young readers to learn about constellations, the Sun, and even the Moon through hands-on experiments that use easy-to-obtain materials and the scientific method.","English",27.93,20.95,"520.78--dc23","48 pp.","https://www.enslow.com/books/A_Kids_Book_of_Experiments_with_Stars/4564",{"$f":"Table1[[#This Row],[QTY]]*Table1[[#This Row],['# of Books]]","v":0},{"$f":"Table1[[#This Row],[QTY]]*Table1[[#This Row],[School & Library Price]]","v":0}]
[null,null,null,"Surprising Science Experiments","A Kid's Book of Experiments with Time",1,"Library Bound Book","978-0-7660-7274-9",{"$f":"HYPERLINK(Table1[[#This Row],[Hyperlink]],\"Weblink\")","v":"Weblink"},"Enslow Publishing","2016","January 2016","7.250 X 9.250","Author, Author","Robert Gardner, Joshua Conklin",null,null,null,null,"X",null,"Grade 4","Grade 3 - 6","Using easy-to-find supplies as well as simple language to explain scientific theories and experimental procedures, young readers with discover the intricacies of time, including how it is measured and how it affects everyday life.","English",27.93,20.95,"529’.7’078--dc23","48 pp.","https://www.enslow.com/books/A_Kids_Book_of_Experiments_with_Time/4565",{"$f":"Table1[[#This Row],[QTY]]*Table1[[#This Row],['# of Books]]","v":0},{"$f":"Table1[[#This Row],[QTY]]*Table1[[#This Row],[School & Library Price]]","v":0}]
[null,null,null,"Surprising Science Experiments","A Kid's Book of Experiments with Time",1,"eBook","978-0-7660-7275-6",{"$f":"HYPERLINK(Table1[[#This Row],[Hyperlink]],\"Weblink\")","v":"Weblink"},"Enslow Publishing","2016","January 2016",null,"Author, Author","Robert Gardner, Joshua Conklin",null,null,null,null,"X",null,"Grade 4","Grade 3 - 6","Using easy-to-find supplies as well as simple language to explain scientific theories and experimental procedures, young readers with discover the intricacies of time, including how it is measured and how it affects everyday life.","English",27.93,20.95,"529’.7’078--dc23","48 pp.","https://www.enslow.com/books/A_Kids_Book_of_Experiments_with_Time/4565",{"$f":"Table1[[#This Row],[QTY]]*Table1[[#This Row],['# of Books]]","v":0},{"$f":"Table1[[#This Row],[QTY]]*Table1[[#This Row],[School & Library Price]]","v":0}]
[null,null,null,"Wildlife at Risk","Endangered Blue Whales",1,"Library Bound Book","978-0-7660-6890-2",{"$f":"HYPERLINK(Table1[[#This Row],[Hyperlink]],\"Weblink\")","v":"Weblink"},"Enslow Publishing","2016","August 2015","7.250 X 9.250","Author, Author","Chris Reiter, Jane Katirgis","7.2","1",null,null,"P","1140L","Grade 6","Grade 6 - 8","It is hard to imagine that these creatures as big as trucks could be vulnerable, but the giants of the sea are endangered. What is their biggest threat? What is being done to save them? Readers learn about blue whales and how to help the largest animal on the planet.","English",27.93,20.95,"599.5'248--dc23","48 pp.","https://www.enslow.com/books/Endangered_Blue_Whales/4548",{"$f":"Table1[[#This Row],[QTY]]*Table1[[#This Row],['# of Books]]","v":0},{"$f":"Table1[[#This Row],[QTY]]*Table1[[#This Row],[School & Library Price]]","v":0}]
[null,null,null,"Wildlife at Risk","Endangered Blue Whales",1,"eBook","978-0-7660-6891-9",{"$f":"HYPERLINK(Table1[[#This Row],[Hyperlink]],\"Weblink\")","v":"Weblink"},"Enslow Publishing","2016","August 2015",null,"Author, Author","Chris Reiter, Jane Katirgis","7.2","1",null,null,"P","1140L","Grade 6","Grade 6 - 8","It is hard to imagine that these creatures as big as trucks could be vulnerable, but the giants of the sea are endangered. What is their biggest threat? What is being done to save them? Readers learn about blue whales and how to help the largest animal on the planet.","English",27.93,20.95,"599.5'248--dc23","48 pp.","https://www.enslow.com/books/Endangered_Blue_Whales/4548",{"$f":"Table1[[#This Row],[QTY]]*Table1[[#This Row],['# of Books]]","v":0},{"$f":"Table1[[#This Row],[QTY]]*Table1[[#This Row],[School & Library Price]]","v":0}]
[null,null,null,"Wildlife at Risk","Endangered Giant Pandas",1,"Library Bound Book","978-0-7660-6894-0",{"$f":"HYPERLINK(Table1[[#This Row],[Hyperlink]],\"Weblink\")","v":"Weblink"},"Enslow Publishing","2016","August 2015","7.250 X 9.250","Author, Author","Carl R. Green, Jane Katirgis","6","1",null,null,"P","930L","Grade 6","Grade 6 - 8","The giant panda is the national symbol of China and one of the most beloved animals in the world. So who would want to hurt this creature? How does it survive in the wild? Why are populations shrinking? Readers learn about giant pandas and what is being done to help save them.","English",27.93,20.95,"599.789--dc23","48 pp.","https://www.enslow.com/books/Endangered_Giant_Pandas/4549",{"$f":"Table1[[#This Row],[QTY]]*Table1[[#This Row],['# of Books]]","v":0},{"$f":"Table1[[#This Row],[QTY]]*Table1[[#This Row],[School & Library Price]]","v":0}]
[null,null,null,"Wildlife at Risk","Endangered Giant Pandas",1,"eBook","978-0-7660-6895-7",{"$f":"HYPERLINK(Table1[[#This Row],[Hyperlink]],\"Weblink\")","v":"Weblink"},"Enslow Publishing","2016","August 2015",null,"Author, Author","Carl R. Green, Jane Katirgis","6","1",null,null,"P","930L","Grade 6","Grade 6 - 8","The giant panda is the national symbol of China and one of the most beloved animals in the world. So who would want to hurt this creature? How does it survive in the wild? Why are populations shrinking? Readers learn about giant pandas and what is being done to help save them.","English",27.93,20.95,"599.789--dc23","48 pp.","https://www.enslow.com/books/Endangered_Giant_Pandas/4549",{"$f":"Table1[[#This Row],[QTY]]*Table1[[#This Row],['# of Books]]","v":0},{"$f":"Table1[[#This Row],[QTY]]*Table1[[#This Row],[School & Library Price]]","v":0}]
[null,null,null,"Wildlife at Risk","Endangered Gorillas",1,"Library Bound Book","978-0-7660-6898-8",{"$f":"HYPERLINK(Table1[[#This Row],[Hyperlink]],\"Weblink\")","v":"Weblink"},"Enslow Publishing","2016","August 2015","7.250 X 9.250","Author, Author","Carl R. Green, Jane Katirgis","6.3","1",null,null,"Q","950L","Grade 6","Grade 6 - 8","Gorillas are brilliant, familial creatures that exhibit complex emotions, intellect, and abilities, much like humans. Then why are gorillas at risk? Readers learn about the daily lives of gorillas in the wild, what is threatening their very survival, and what is being done to save them.","English",27.93,20.95,"599.884--dc23","48 pp.","https://www.enslow.com/books/Endangered_Gorillas/4550",{"$f":"Table1[[#This Row],[QTY]]*Table1[[#This Row],['# of Books]]","v":0},{"$f":"Table1[[#This Row],[QTY]]*Table1[[#This Row],[School & Library Price]]","v":0}]
[null,null,null,"Wildlife at Risk","Endangered Gorillas",1,"eBook","978-0-7660-6899-5",{"$f":"HYPERLINK(Table1[[#This Row],[Hyperlink]],\"Weblink\")","v":"Weblink"},"Enslow Publishing","2016","August 2015",null,"Author, Author","Carl R. Green, Jane Katirgis","6.3","1",null,null,"Q","950L","Grade 6","Grade 6 - 8","Gorillas are brilliant, familial creatures that exhibit complex emotions, intellect, and abilities, much like humans. Then why are gorillas at risk? Readers learn about the daily lives of gorillas in the wild, what is threatening their very survival, and what is being done to save them.","English",27.93,20.95,"599.884--dc23","48 pp.","https://www.enslow.com/books/Endangered_Gorillas/4550",{"$f":"Table1[[#This Row],[QTY]]*Table1[[#This Row],['# of Books]]","v":0},{"$f":"Table1[[#This Row],[QTY]]*Table1[[#This Row],[School & Library Price]]","v":0}]
[null,null,null,"Wildlife at Risk","Endangered Orangutans",1,"Library Bound Book","978-0-7660-6886-5",{"$f":"HYPERLINK(Table1[[#This Row],[Hyperlink]],\"Weblink\")","v":"Weblink"},"Enslow Publishing","2016","August 2015","7.250 X 9.250","Author, Author","Jane Katirgis, Lisa Harkrader","6.7","1",null,null,"P","1070L","Grade 6","Grade 6 - 8","Orangutan means “person of the forest” in the Malay language. Extremely intelligent creatures, orangutans are closely related to humans, so why are they endangered? What has happened to their forest habitats? Who’s working to save orangutans? Readers learn the latest facts about orangutans and learn how to help.","English",27.93,20.95,"599.88'3--dc23","48 pp.","https://www.enslow.com/books/Endangered_Orangutans/4551",{"$f":"Table1[[#This Row],[QTY]]*Table1[[#This Row],['# of Books]]","v":0},{"$f":"Table1[[#This Row],[QTY]]*Table1[[#This Row],[School & Library Price]]","v":0}]
[null,null,null,"Wildlife at Risk","Endangered Orangutans",1,"eBook","978-0-7660-6887-2",{"$f":"HYPERLINK(Table1[[#This Row],[Hyperlink]],\"Weblink\")","v":"Weblink"},"Enslow Publishing","2016","August 2015",null,"Author, Author","Jane Katirgis, Lisa Harkrader","6.7","1",null,null,"P","1070L","Grade 6","Grade 6 - 8","Orangutan means “person of the forest” in the Malay language. Extremely intelligent creatures, orangutans are closely related to humans, so why are they endangered? What has happened to their forest habitats? Who’s working to save orangutans? Readers learn the latest facts about orangutans and learn how to help.","English",27.93,20.95,"599.88'3--dc23","48 pp.","https://www.enslow.com/books/Endangered_Orangutans/4551",{"$f":"Table1[[#This Row],[QTY]]*Table1[[#This Row],['# of Books]]","v":0},{"$f":"Table1[[#This Row],[QTY]]*Table1[[#This Row],[School & Library Price]]","v":0}]
[null,null,null,"Wildlife at Risk","Endangered Rhinos",1,"Library Bound Book","978-0-7660-6902-2",{"$f":"HYPERLINK(Table1[[#This Row],[Hyperlink]],\"Weblink\")","v":"Weblink"},"Enslow Publishing","2016","August 2015","7.250 X 9.250","Author, Author","Jan M. Czech, Jane Katirgis","7.4","1",null,null,"Q","1140L","Grade 6","Grade 6 - 8","Rhinoceroses are some of the oldest creatures on our planet, yet, despite surviving for thousands of years, this ancient animal is now endangered. Why? Your readers discover fascinating facts about rhinos and learn how they can help save them before it's too late.","English",27.93,20.95,"599.66'8--dc23","48 pp.","https://www.enslow.com/books/Endangered_Rhinos/4552",{"$f":"Table1[[#This Row],[QTY]]*Table1[[#This Row],['# of Books]]","v":0},{"$f":"Table1[[#This Row],[QTY]]*Table1[[#This Row],[School & Library Price]]","v":0}]
[null,null,null,"Wildlife at Risk","Endangered Rhinos",1,"eBook","978-0-7660-6903-9",{"$f":"HYPERLINK(Table1[[#This Row],[Hyperlink]],\"Weblink\")","v":"Weblink"},"Enslow Publishing","2016","August 2015",null,"Author, Author","Jan M. Czech, Jane Katirgis","7.4","1",null,null,"Q","1140L","Grade 6","Grade 6 - 8","Rhinoceroses are some of the oldest creatures on our planet, yet, despite surviving for thousands of years, this ancient animal is now endangered. Why? Your readers discover fascinating facts about rhinos and learn how they can help save them before it's too late.","English",27.93,20.95,"599.66'8--dc23","48 pp.","https://www.enslow.com/books/Endangered_Rhinos/4552",{"$f":"Table1[[#This Row],[QTY]]*Table1[[#This Row],['# of Books]]","v":0},{"$f":"Table1[[#This Row],[QTY]]*Table1[[#This Row],[School & Library Price]]","v":0}]
[null,null,null,"Wildlife at Risk","Endangered Tigers",1,"Library Bound Book","978-0-7660-6906-0",{"$f":"HYPERLINK(Table1[[#This Row],[Hyperlink]],\"Weblink\")","v":"Weblink"},"Enslow Publishing","2016","August 2015","7.250 X 9.250","Author, Author","Carl R. Green, Jane Katirgis","6.3","1",null,null,"Q","980L","Grade 6","Grade 6 - 8","The tiger is a legendary big cat inspiring stories, fear, awe, and admiration in people around the world. So why are tigers in danger of becoming extinct? Your readers learn why they are threatened and how to help save this beautiful big cat.","English",27.93,20.95,"599.75'5--dc23","48 pp.","https://www.enslow.com/books/Endangered_Tigers/4553",{"$f":"Table1[[#This Row],[QTY]]*Table1[[#This Row],['# of Books]]","v":0},{"$f":"Table1[[#This Row],[QTY]]*Table1[[#This Row],[School & Library Price]]","v":0}]
[null,null,null,"Wildlife at Risk","Endangered Tigers",1,"eBook","978-0-7660-6907-7",{"$f":"HYPERLINK(Table1[[#This Row],[Hyperlink]],\"Weblink\")","v":"Weblink"},"Enslow Publishing","2016","August 2015",null,"Author, Author","Carl R. Green, Jane Katirgis","6.3","1",null,null,"Q","980L","Grade 6","Grade 6 - 8","The tiger is a legendary big cat inspiring stories, fear, awe, and admiration in people around the world. So why are tigers in danger of becoming extinct? Your readers learn why they are threatened and how to help save this beautiful big cat.","English",27.93,20.95,"599.75'5--dc23","48 pp.","https://www.enslow.com/books/Endangered_Tigers/4553",{"$f":"Table1[[#This Row],[QTY]]*Table1[[#This Row],['# of Books]]","v":0},{"$f":"Table1[[#This Row],[QTY]]*Table1[[#This Row],[School & Library Price]]","v":0}]
[null,null,null,"Influential Latinos","César Chávez: Civil Rights Activist",1,"Library Bound Book","978-0-7660-7179-7",{"$f":"HYPERLINK(Table1[[#This Row],[Hyperlink]],\"Weblink\")","v":"Weblink"},"Enslow Publishing","2016","January 2016","6.000 X 9.000","Author","Bárbara C. Cruz",null,null,null,null,"Z","1070L","Grade 7 - 8","Grade 6 - 12","American farmworker, labor leader, and civil rights activist Cesar Chavez cofounded the United Farm Workers labor union and fought to increase immigrants' rights in the United States. Through direct quotations from Chavez as well as a captivating narrative of his life, readers will learn what made Chavez an influential Latino.","English",37.270000000000003,27.95,"331.88'13092--dc23","128 pp.","https://www.enslow.com/books/Cesar_Chavez/4587",{"$f":"Table1[[#This Row],[QTY]]*Table1[[#This Row],['# of Books]]","v":0},{"$f":"Table1[[#This Row],[QTY]]*Table1[[#This Row],[School & Library Price]]","v":0}]
[null,null,null,"Influential Latinos","César Chávez: Civil Rights Activist",1,"eBook","978-0-7660-7174-2",{"$f":"HYPERLINK(Table1[[#This Row],[Hyperlink]],\"Weblink\")","v":"Weblink"},"Enslow Publishing","2016","January 2016",null,"Author","Bárbara C. Cruz",null,null,null,null,"Z","1070L","Grade 7 - 8","Grade 6 - 12","American farmworker, labor leader, and civil rights activist Cesar Chavez cofounded the United Farm Workers labor union and fought to increase immigrants' rights in the United States. Through direct quotations from Chavez as well as a captivating narrative of his life, readers will learn what made Chavez an influential Latino.","English",37.270000000000003,27.95,"331.88'13092--dc23","128 pp.","https://www.enslow.com/books/Cesar_Chavez/4587",{"$f":"Table1[[#This Row],[QTY]]*Table1[[#This Row],['# of Books]]","v":0},{"$f":"Table1[[#This Row],[QTY]]*Table1[[#This Row],[School & Library Price]]","v":0}]
[null,null,null,"Influential Latinos","Christina Aguilera: Pop Singer",1,"Library Bound Book","978-0-7660-7180-3",{"$f":"HYPERLINK(Table1[[#This Row],[Hyperlink]],\"Weblink\")","v":"Weblink"},"Enslow Publishing","2016","January 2016","6.000 X 9.000","Author","Richard Worth",null,null,null,null,"Z",null,"Grade 7 - 8","Grade 6 - 12","Singer, songwriter, actress, and television personality Christina Aguilera has been in the public eye since the 1990s. Her big voice is recognizable to many, but what fans may not know is that she is also an ambassador for the World Food Programme. Through direct quotations from Aguilera, as well as fascinating details of her life and colorful photos, readers will discover what makes Christina Aguilera an influential Latina.","English",37.270000000000003,27.95,"782.42164092--dc23","128 pp.","https://www.enslow.com/books/Christina_Aguilera/4588",{"$f":"Table1[[#This Row],[QTY]]*Table1[[#This Row],['# of Books]]","v":0},{"$f":"Table1[[#This Row],[QTY]]*Table1[[#This Row],[School & Library Price]]","v":0}]
[null,null,null,"Influential Latinos","Christina Aguilera: Pop Singer",1,"eBook","978-0-7660-7198-8",{"$f":"HYPERLINK(Table1[[#This Row],[Hyperlink]],\"Weblink\")","v":"Weblink"},"Enslow Publishing","2016","January 2016",null,"Author","Richard Worth",null,null,null,null,"Z",null,"Grade 7 - 8","Grade 6 - 12","Singer, songwriter, actress, and television personality Christina Aguilera has been in the public eye since the 1990s. Her big voice is recognizable to many, but what fans may not know is that she is also an ambassador for the World Food Programme. Through direct quotations from Aguilera, as well as fascinating details of her life and colorful photos, readers will discover what makes Christina Aguilera an influential Latina.","English",37.270000000000003,27.95,"782.42164092--dc23","128 pp.","https://www.enslow.com/books/Christina_Aguilera/4588",{"$f":"Table1[[#This Row],[QTY]]*Table1[[#This Row],['# of Books]]","v":0},{"$f":"Table1[[#This Row],[QTY]]*Table1[[#This Row],[School & Library Price]]","v":0}]
[null,null,null,"Influential Latinos","Diego Rivera: Mexican Muralist",1,"Library Bound Book","978-0-7660-6991-6",{"$f":"HYPERLINK(Table1[[#This Row],[Hyperlink]],\"Weblink\")","v":"Weblink"},"Enslow Publishing","2016","August 2015","6.000 X 9.000","Author, Author","Mariana Medina, Laura Baskes Litwin",null,null,null,null,"Z","1060L","Grade 7","Grade 6 - 12","Diego Rivera is famous for painting murals of everyday life in Mexico. But he was also known for his work in literature, cinematography, and his marriage to another artist, Frida Kahlo. Discover the world of Diego Rivera, from the Mexican Revolution to the Museum of Modern Art in New York City, learn all about this talented artist and his creative life.","English",37.270000000000003,27.95,"759.972--dc23","128 pp.","https://www.enslow.com/books/Diego_Rivera/4501",{"$f":"Table1[[#This Row],[QTY]]*Table1[[#This Row],['# of Books]]","v":0},{"$f":"Table1[[#This Row],[QTY]]*Table1[[#This Row],[School & Library Price]]","v":0}]
[null,null,null,"Influential Latinos","Diego Rivera: Mexican Muralist",1,"eBook","978-0-7660-6992-3",{"$f":"HYPERLINK(Table1[[#This Row],[Hyperlink]],\"Weblink\")","v":"Weblink"},"Enslow Publishing","2016","August 2015",null,"Author, Author","Mariana Medina, Laura Baskes Litwin",null,null,null,null,"Z","1060L","Grade 7","Grade 6 - 12","Diego Rivera is famous for painting murals of everyday life in Mexico. But he was also known for his work in literature, cinematography, and his marriage to another artist, Frida Kahlo. Discover the world of Diego Rivera, from the Mexican Revolution to the Museum of Modern Art in New York City, learn all about this talented artist and his creative life.","English",37.270000000000003,27.95,"759.972--dc23","128 pp.","https://www.enslow.com/books/Diego_Rivera/4501",{"$f":"Table1[[#This Row],[QTY]]*Table1[[#This Row],['# of Books]]","v":0},{"$f":"Table1[[#This Row],[QTY]]*Table1[[#This Row],[School & Library Price]]","v":0}]
[null,null,null,"Influential Latinos","Eva Longoria: Actress, Activist, and Entrepreneur",1,"Library Bound Book","978-0-7660-6993-0",{"$f":"HYPERLINK(Table1[[#This Row],[Hyperlink]],\"Weblink\")","v":"Weblink"},"Enslow Publishing","2016","August 2015","6.000 X 9.000","Author","Richard Worth",null,null,null,null,"Z",null,"Grade 7","Grade 6 - 12","From soap operas to sitcoms, Mexican-American actress Eva Longoria is a familiar face on television. Far more than just a superstar, Eva is committed to raising awareness about issues facing the American Latino community. Discover the secrets of how she turned her struggles into success and what she is giving back to her community.","English",37.270000000000003,27.95,"791.4302'8092--dc23","128 pp.","https://www.enslow.com/books/Eva_Longoria/4502",{"$f":"Table1[[#This Row],[QTY]]*Table1[[#This Row],['# of Books]]","v":0},{"$f":"Table1[[#This Row],[QTY]]*Table1[[#This Row],[School & Library Price]]","v":0}]
[null,null,null,"Influential Latinos","Eva Longoria: Actress, Activist, and Entrepreneur",1,"eBook","978-0-7660-6994-7",{"$f":"HYPERLINK(Table1[[#This Row],[Hyperlink]],\"Weblink\")","v":"Weblink"},"Enslow Publishing","2016","August 2015",null,"Author","Richard Worth",null,null,null,null,"Z",null,"Grade 7","Grade 6 - 12","From soap operas to sitcoms, Mexican-American actress Eva Longoria is a familiar face on television. Far more than just a superstar, Eva is committed to raising awareness about issues facing the American Latino community. Discover the secrets of how she turned her struggles into success and what she is giving back to her community.","English",37.270000000000003,27.95,"791.4302'8092--dc23","128 pp.","https://www.enslow.com/books/Eva_Longoria/4502",{"$f":"Table1[[#This Row],[QTY]]*Table1[[#This Row],['# of Books]]","v":0},{"$f":"Table1[[#This Row],[QTY]]*Table1[[#This Row],[School & Library Price]]","v":0}]
[null,null,null,"Influential Latinos","Father Junipero Serra: Founder of the Missions of California",1,"Library Bound Book","978-0-7660-6995-4",{"$f":"HYPERLINK(Table1[[#This Row],[Hyperlink]],\"Weblink\")","v":"Weblink"},"Enslow Publishing","2016","August 2015","6.000 X 9.000","Author, Author","Mariana Medina, Donna Genet",null,null,null,null,"Z","990L","Grade 7","Grade 6 - 12","A Spanish Franciscan friar, Father Junipero Serra traveled to the New World to bring Catholicism to the indigenous peoples, and in 1769 founded the first mission in California. Read all about Father Serra's incredible life, including his historic accomplishments and the recent controversies surrounding his missionary work.","English",37.270000000000003,27.95,"979.4'02092--dc23","128 pp.","https://www.enslow.com/books/Father_Junipero_Serra/4503",{"$f":"Table1[[#This Row],[QTY]]*Table1[[#This Row],['# of Books]]","v":0},{"$f":"Table1[[#This Row],[QTY]]*Table1[[#This Row],[School & Library Price]]","v":0}]
[null,null,null,"Influential Latinos","Father Junipero Serra: Founder of the Missions of California",1,"eBook","978-0-7660-6996-1",{"$f":"HYPERLINK(Table1[[#This Row],[Hyperlink]],\"Weblink\")","v":"Weblink"},"Enslow Publishing","2016","August 2015",null,"Author, Author","Mariana Medina, Donna Genet",null,null,null,null,"Z","990L","Grade 7","Grade 6 - 12","A Spanish Franciscan friar, Father Junipero Serra traveled to the New World to bring Catholicism to the indigenous peoples, and in 1769 founded the first mission in California. Read all about Father Serra's incredible life, including his historic accomplishments and the recent controversies surrounding his missionary work.","English",37.270000000000003,27.95,"979.4'02092--dc23","128 pp.","https://www.enslow.com/books/Father_Junipero_Serra/4503",{"$f":"Table1[[#This Row],[QTY]]*Table1[[#This Row],['# of Books]]","v":0},{"$f":"Table1[[#This Row],[QTY]]*Table1[[#This Row],[School & Library Price]]","v":0}]
[null,null,null,"Influential Latinos","Frida Kahlo: Self-Portrait Artist",1,"Library Bound Book","978-0-7660-6997-8",{"$f":"HYPERLINK(Table1[[#This Row],[Hyperlink]],\"Weblink\")","v":"Weblink"},"Enslow Publishing","2016","August 2015","6.000 X 9.000","Author","Mariana Medina",null,null,null,null,"Z","1020L","Grade 7","Grade 6 - 12","\"I never paint dreams or nightmares. I paint my own reality.\" Frida Kahlo is arguably Mexico's most famous artist, with her sometimes whimsical and always poignant works earning international admiration. But the woman behind the self-portraits was darker than her paintings would suggest. Read about her struggles and triumphs and journey into her creative mind.","English",37.270000000000003,27.95,"759.972--dc23","128 pp.","https://www.enslow.com/books/Frida_Kahlo/4504",{"$f":"Table1[[#This Row],[QTY]]*Table1[[#This Row],['# of Books]]","v":0},{"$f":"Table1[[#This Row],[QTY]]*Table1[[#This Row],[School & Library Price]]","v":0}]
[null,null,null,"Influential Latinos","Frida Kahlo: Self-Portrait Artist",1,"eBook","978-0-7660-6998-5",{"$f":"HYPERLINK(Table1[[#This Row],[Hyperlink]],\"Weblink\")","v":"Weblink"},"Enslow Publishing","2016","August 2015",null,"Author, Author","Mariana Medina, Sara Mcintosh Wooten",null,null,null,null,"Z","1020L","Grade 7","Grade 6 - 12","\"I never paint dreams or nightmares. I paint my own reality.\" Frida Kahlo is arguably Mexico's most famous artist, with her sometimes whimsical and always poignant works earning international admiration. But the woman behind the self-portraits was darker than her paintings would suggest. Read about her struggles and triumphs and journey into her creative mind.","English",37.270000000000003,27.95,"759.972--dc23","128 pp.","https://www.enslow.com/books/Frida_Kahlo/4504",{"$f":"Table1[[#This Row],[QTY]]*Table1[[#This Row],['# of Books]]","v":0},{"$f":"Table1[[#This Row],[QTY]]*Table1[[#This Row],[School & Library Price]]","v":0}]
[null,null,null,"Influential Latinos","Isabel Allende: Award-Winning Author",1,"Library Bound Book","978-0-7660-7250-3",{"$f":"HYPERLINK(Table1[[#This Row],[Hyperlink]],\"Weblink\")","v":"Weblink"},"Enslow Publishing","2016","January 2016","6.000 X 9.000","Author, Author","Jeanne Nagle, Mary Main",null,null,null,null,"Z","1040L","Grade 7 - 8","Grade 6 - 12","The Chilean-American writer Isabel Allende has won many awards for her magical-realism fiction. But she also has an organization dedicated to supporting the rights of women and girls. Through quotations from the author herself, as well as detail descriptions about major events in her life and color images, readers will learn exactly what it is that makes Isabel Allende an influential Latina.","English",37.270000000000003,27.95,"863'.64--dc23","128 pp.","https://www.enslow.com/books/Isabel_Allende/4615",{"$f":"Table1[[#This Row],[QTY]]*Table1[[#This Row],['# of Books]]","v":0},{"$f":"Table1[[#This Row],[QTY]]*Table1[[#This Row],[School & Library Price]]","v":0}]
[null,null,null,"Influential Latinos","Isabel Allende: Award-Winning Author",1,"eBook","978-0-7660-7251-0",{"$f":"HYPERLINK(Table1[[#This Row],[Hyperlink]],\"Weblink\")","v":"Weblink"},"Enslow Publishing","2016","January 2016",null,"Author, Author","Jeanne Nagle, Mary Main",null,null,null,null,"Z","1040L","Grade 7 - 8","Grade 6 - 12","The Chilean-American writer Isabel Allende has won many awards for her magical-realism fiction. But she also has an organization dedicated to supporting the rights of women and girls. Through quotations from the author herself, as well as detail descriptions about major events in her life and color images, readers will learn exactly what it is that makes Isabel Allende an influential Latina.","English",37.270000000000003,27.95,"863'.64--dc23","128 pp.","https://www.enslow.com/books/Isabel_Allende/4615",{"$f":"Table1[[#This Row],[QTY]]*Table1[[#This Row],['# of Books]]","v":0},{"$f":"Table1[[#This Row],[QTY]]*Table1[[#This Row],[School & Library Price]]","v":0}]
[null,null,null,"Influential Latinos","Lionel Messi: Top-Scoring Soccer Star",1,"Library Bound Book","978-0-7660-7260-2",{"$f":"HYPERLINK(Table1[[#This Row],[Hyperlink]],\"Weblink\")","v":"Weblink"},"Enslow Publishing","2016","January 2016","6.000 X 9.000","Author","John A. Torres",null,null,null,null,"Z",null,"Grade 7 - 8","Grade 6 - 12","Teeming with full-color photos, direct quotations, and engaging, easy-to-read biographic details, this book focuses on Lionel Messi’s contributions to both soccer and children’s education, giving readers an in-depth look into the Argentinian’s life and showcasing why he is an influential Latino.","English",37.270000000000003,27.95,"796.334092--dc23","128 pp.","https://www.enslow.com/books/Lionel_Messi/4618",{"$f":"Table1[[#This Row],[QTY]]*Table1[[#This Row],['# of Books]]","v":0},{"$f":"Table1[[#This Row],[QTY]]*Table1[[#This Row],[School & Library Price]]","v":0}]
[null,null,null,"Influential Latinos","Lionel Messi: Top-Scoring Soccer Star",1,"eBook","978-0-7660-7261-9",{"$f":"HYPERLINK(Table1[[#This Row],[Hyperlink]],\"Weblink\")","v":"Weblink"},"Enslow Publishing","2016","January 2016",null,"Author","John A. Torres",null,null,null,null,"Z",null,"Grade 7 - 8","Grade 6 - 12","Teeming with full-color photos, direct quotations, and engaging, easy-to-read biographic details, this book focuses on Lionel Messi’s contributions to both soccer and children’s education, giving readers an in-depth look into the Argentinian’s life and showcasing why he is an influential Latino.","English",37.270000000000003,27.95,"796.334092--dc23","128 pp.","https://www.enslow.com/books/Lionel_Messi/4618",{"$f":"Table1[[#This Row],[QTY]]*Table1[[#This Row],['# of Books]]","v":0},{"$f":"Table1[[#This Row],[QTY]]*Table1[[#This Row],[School & Library Price]]","v":0}]
[null,null,null,"Influential Latinos","Pablo Neruda: Nobel Prize-Winning Poet",1,"Library Bound Book","978-0-7660-7314-2",{"$f":"HYPERLINK(Table1[[#This Row],[Hyperlink]],\"Weblink\")","v":"Weblink"},"Enslow Publishing","2016","January 2016","6.000 X 9.000","Author, Author","Jeanne Nagle, Jodie A. Schull",null,null,null,null,"Z","1050L","Grade 7 - 8","Grade 6 - 12","Chilean poet Pablo Neruda was more than just a writer. He was also an activist, politician, and Nobel Peace Prize winner. Through direct quotations, facts, and excerpts of his work, the life of Pablo Neruda is told in a way that is intriguing, captivating, and most of all, inspiring.","English",37.270000000000003,27.95,"861'.62--dc23","128 pp.","https://www.enslow.com/books/Pablo_Neruda/4629",{"$f":"Table1[[#This Row],[QTY]]*Table1[[#This Row],['# of Books]]","v":0},{"$f":"Table1[[#This Row],[QTY]]*Table1[[#This Row],[School & Library Price]]","v":0}]
[null,null,null,"Influential Latinos","Pablo Neruda: Nobel Prize-Winning Poet",1,"eBook","978-0-7660-7315-9",{"$f":"HYPERLINK(Table1[[#This Row],[Hyperlink]],\"Weblink\")","v":"Weblink"},"Enslow Publishing","2016","January 2016",null,"Author, Author","Jeanne Nagle, Jodie A. Schull",null,null,null,null,"Z","1050L","Grade 7 - 8","Grade 6 - 12","Chilean poet Pablo Neruda was more than just a writer. He was also an activist, politician, and Nobel Peace Prize winner. Through direct quotations, facts, and excerpts of his work, the life of Pablo Neruda is told in a way that is intriguing, captivating, and most of all, inspiring.","English",37.270000000000003,27.95,"861'.62--dc23","128 pp.","https://www.enslow.com/books/Pablo_Neruda/4629",{"$f":"Table1[[#This Row],[QTY]]*Table1[[#This Row],['# of Books]]","v":0},{"$f":"Table1[[#This Row],[QTY]]*Table1[[#This Row],[School & Library Price]]","v":0}]
[null,null,null,"Influential Latinos","Pope Francis: The People's Pope",1,"Library Bound Book","978-0-7660-7328-9",{"$f":"HYPERLINK(Table1[[#This Row],[Hyperlink]],\"Weblink\")","v":"Weblink"},"Enslow Publishing","2016","January 2016","6.000 X 9.000","Author","Richard Worth",null,null,null,null,"Z","1170L","Grade 7 - 8","Grade 6 - 12","The very first New World pope hails from Argentina and is bringing the people’s plight into the public eye. Vocalizing his views on many social issues, Pope Francis is a new pope for a new generation of Catholics. Through details about his life and missions, photos, and direct quotations from the Holy Father, readers will learn why Pope Francis is an influential Latino.","English",37.270000000000003,27.95,"282.092--dc23","128 pp.","https://www.enslow.com/books/Pope_Francis/4631",{"$f":"Table1[[#This Row],[QTY]]*Table1[[#This Row],['# of Books]]","v":0},{"$f":"Table1[[#This Row],[QTY]]*Table1[[#This Row],[School & Library Price]]","v":0}]
[null,null,null,"Influential Latinos","Pope Francis: The People's Pope",1,"eBook","978-0-7660-7329-6",{"$f":"HYPERLINK(Table1[[#This Row],[Hyperlink]],\"Weblink\")","v":"Weblink"},"Enslow Publishing","2016","January 2016",null,"Author","Richard Worth",null,null,null,null,"Z","1170L","Grade 7 - 8","Grade 6 - 12","The very first New World pope hails from Argentina and is bringing the people’s plight into the public eye. Vocalizing his views on many social issues, Pope Francis is a new pope for a new generation of Catholics. Through details about his life and missions, photos, and direct quotations from the Holy Father, readers will learn why Pope Francis is an influential Latino.","English",37.270000000000003,27.95,"282.092--dc23","128 pp.","https://www.enslow.com/books/Pope_Francis/4631",{"$f":"Table1[[#This Row],[QTY]]*Table1[[#This Row],['# of Books]]","v":0},{"$f":"Table1[[#This Row],[QTY]]*Table1[[#This Row],[School & Library Price]]","v":0}]
[null,null,null,"Influential Latinos","Selena Gomez: Pop Singer and Actress",1,"Library Bound Book","978-0-7660-6999-2",{"$f":"HYPERLINK(Table1[[#This Row],[Hyperlink]],\"Weblink\")","v":"Weblink"},"Enslow Publishing","2016","August 2015","6.000 X 9.000","Author","Jennifer Torres",null,null,null,null,"Z",null,"Grade 7","Grade 6 - 12","Life in Texas was not easy for Selena Gomez. Born to teenage parents, her family struggled with money during her childhood. But Selena dreamed of performing and worked hard to become everything she is today—a singer, actress, fashion designer, and role model. Learn about her creative lifestyle, her personal life, and her success, and be inspired to follow your dreams too.","English",37.270000000000003,27.95,"791.4302'8092--dc23","128 pp.","https://www.enslow.com/books/Selena_Gomez/4505",{"$f":"Table1[[#This Row],[QTY]]*Table1[[#This Row],['# of Books]]","v":0},{"$f":"Table1[[#This Row],[QTY]]*Table1[[#This Row],[School & Library Price]]","v":0}]
[null,null,null,"Influential Latinos","Selena Gomez: Pop Singer and Actress",1,"eBook","978-0-7660-7000-4",{"$f":"HYPERLINK(Table1[[#This Row],[Hyperlink]],\"Weblink\")","v":"Weblink"},"Enslow Publishing","2016","August 2015",null,"Author","Jennifer Torres",null,null,null,null,"Z",null,"Grade 7","Grade 6 - 12","Life in Texas was not easy for Selena Gomez. Born to teenage parents, her family struggled with money during her childhood. But Selena dreamed of performing and worked hard to become everything she is today—a singer, actress, fashion designer, and role model. Learn about her creative lifestyle, her personal life, and her success, and be inspired to follow your dreams too.","English",37.270000000000003,27.95,"791.4302'8092--dc23","128 pp.","https://www.enslow.com/books/Selena_Gomez/4505",{"$f":"Table1[[#This Row],[QTY]]*Table1[[#This Row],['# of Books]]","v":0},{"$f":"Table1[[#This Row],[QTY]]*Table1[[#This Row],[School & Library Price]]","v":0}]
[null,null,null,"Influential Latinos","Sonia Sotomayor: First Latina Supreme Court Justice",1,"Library Bound Book","978-0-7660-7001-1",{"$f":"HYPERLINK(Table1[[#This Row],[Hyperlink]],\"Weblink\")","v":"Weblink"},"Enslow Publishing","2016","August 2015","6.000 X 9.000","Author","John A. Torres",null,null,null,null,"Z",null,"Grade 7","Grade 6 - 12","Sonia Sotomayor came from a working class Puerto Rican family in the Bronx. She fought to overcome health issues and financial problems, received a Yale law education, and eventually became a judge. After more than a decade on the United States Court of Appeals, she assumed office as a Supreme Court Justice in 2009, becoming the first Latina in the Supreme Court of the United States. Read about her rise to the highest court in the land and her fight to help others.","English",37.270000000000003,27.95,"347.73'2634--dc23","128 pp.","https://www.enslow.com/books/Sonia_Sotomayor/4506",{"$f":"Table1[[#This Row],[QTY]]*Table1[[#This Row],['# of Books]]","v":0},{"$f":"Table1[[#This Row],[QTY]]*Table1[[#This Row],[School & Library Price]]","v":0}]
[null,null,null,"Influential Latinos","Sonia Sotomayor: First Latina Supreme Court Justice",1,"eBook","978-0-7660-7002-8",{"$f":"HYPERLINK(Table1[[#This Row],[Hyperlink]],\"Weblink\")","v":"Weblink"},"Enslow Publishing","2016","August 2015",null,"Author","John A. Torres",null,null,null,null,"Z",null,"Grade 7","Grade 6 - 12","Sonia Sotomayor came from a working class Puerto Rican family in the Bronx. She fought to overcome health issues and financial problems, received a Yale law education, and eventually became a judge. After more than a decade on the United States Court of Appeals, she assumed office as a Supreme Court Justice in 2009, becoming the first Latina in the Supreme Court of the United States. Read about her rise to the highest court in the land and her fight to help others.","English",37.270000000000003,27.95,"347.73'2634--dc23","128 pp.","https://www.enslow.com/books/Sonia_Sotomayor/4506",{"$f":"Table1[[#This Row],[QTY]]*Table1[[#This Row],['# of Books]]","v":0},{"$f":"Table1[[#This Row],[QTY]]*Table1[[#This Row],[School & Library Price]]","v":0}]
[null,null,null,"People and Events That Changed the World","Adolf Hitler and the Rise of the Third Reich",1,"Library Bound Book","978-0-7660-7175-9",{"$f":"HYPERLINK(Table1[[#This Row],[Hyperlink]],\"Weblink\")","v":"Weblink"},"Enslow Publishing","2016","January 2016","6.000 X 9.000","Author","Linda Jacobs Altman",null,null,null,null,"Z","940L","Grade 7 - 8","Grade 6 - 12","In-depth analysis and narrative prose explain the climate of Germany post World War I, and make it clear to students exactly who Adolf Hitler was and what his political aspirations for Germany were. A clear chronology of the early twentieth century will enlighten readers about the rise of the Third Reich and its leader.","English",37.270000000000003,27.95,"943.086092--dc23","112 pp.","https://www.enslow.com/books/Adolf_Hitler_and_the_Rise_of_the_Third_Reich/4572",{"$f":"Table1[[#This Row],[QTY]]*Table1[[#This Row],['# of Books]]","v":0},{"$f":"Table1[[#This Row],[QTY]]*Table1[[#This Row],[School & Library Price]]","v":0}]
[null,null,null,"People and Events That Changed the World","Adolf Hitler and the Rise of the Third Reich",1,"eBook","978-0-7660-7176-6",{"$f":"HYPERLINK(Table1[[#This Row],[Hyperlink]],\"Weblink\")","v":"Weblink"},"Enslow Publishing","2016","January 2016",null,"Author","Linda Jacobs Altman",null,null,null,null,"Z","940L","Grade 7 - 8","Grade 6 - 12","In-depth analysis and narrative prose explain the climate of Germany post World War I, and make it clear to students exactly who Adolf Hitler was and what his political aspirations for Germany were. A clear chronology of the early twentieth century will enlighten readers about the rise of the Third Reich and its leader.","English",37.270000000000003,27.95,"943.086092--dc23","112 pp.","https://www.enslow.com/books/Adolf_Hitler_and_the_Rise_of_the_Third_Reich/4572",{"$f":"Table1[[#This Row],[QTY]]*Table1[[#This Row],['# of Books]]","v":0},{"$f":"Table1[[#This Row],[QTY]]*Table1[[#This Row],[School & Library Price]]","v":0}]
[null,null,null,"People and Events That Changed the World","Mahatma Gandhi and India's Independence",1,"Library Bound Book","978-0-7660-7262-6",{"$f":"HYPERLINK(Table1[[#This Row],[Hyperlink]],\"Weblink\")","v":"Weblink"},"Enslow Publishing","2016","January 2016","6.000 X 9.000","Author","Ann Malaspina ",null,null,null,null,"Z","1020L","Grade 7 - 8","Grade 6 - 12","Highlighting Mahatma Gandhi's key ideals and details of his life through source documents, photographs, and informative text, this book will help students understand the revolutionary ideas that Gandhi portrayed. They will learn how he helped free India from British rule through nonviolence and shaped the behaviors of politicians and activists for generations to come.","English",37.270000000000003,27.95,"954.03'5'092--dc23","128 pp.","https://www.enslow.com/books/Mahatma_Gandhi_and_Indias_Independence/4619",{"$f":"Table1[[#This Row],[QTY]]*Table1[[#This Row],['# of Books]]","v":0},{"$f":"Table1[[#This Row],[QTY]]*Table1[[#This Row],[School & Library Price]]","v":0}]
[null,null,null,"People and Events That Changed the World","Mahatma Gandhi and India's Independence",1,"eBook","978-0-7660-7263-3",{"$f":"HYPERLINK(Table1[[#This Row],[Hyperlink]],\"Weblink\")","v":"Weblink"},"Enslow Publishing","2016","January 2016",null,"Author","Ann Malaspina ",null,null,null,null,"Z","1020L","Grade 7 - 8","Grade 6 - 12","Highlighting Mahatma Gandhi's key ideals and details of his life through source documents, photographs, and informative text, this book will help students understand the revolutionary ideas that Gandhi portrayed. They will learn how he helped free India from British rule through nonviolence and shaped the behaviors of politicians and activists for generations to come.","English",37.270000000000003,27.95,"954.03'5'092--dc23","128 pp.","https://www.enslow.com/books/Mahatma_Gandhi_and_Indias_Independence/4619",{"$f":"Table1[[#This Row],[QTY]]*Table1[[#This Row],['# of Books]]","v":0},{"$f":"Table1[[#This Row],[QTY]]*Table1[[#This Row],[School & Library Price]]","v":0}]
[null,null,null,"People and Events That Changed the World","Mao Zedong and the Chinese Revolution",1,"Library Bound Book","978-0-7660-7292-3",{"$f":"HYPERLINK(Table1[[#This Row],[Hyperlink]],\"Weblink\")","v":"Weblink"},"Enslow Publishing","2016","January 2016","6.000 X 9.000","Author","Ann Malaspina ",null,null,null,null,"Z","960L","Grade 7 - 8","Grade 6 - 12","Through first-person accounts, informational text, and photographs, students will learn about Chairman Mao's theories, military strategies, and political policies known as Maoism, which forever changed the culture of China and communication between the East and the West.","English",37.270000000000003,27.95,"951.04'2--dc23","128 pp.","https://www.enslow.com/books/Mao_Zedong_and_the_Chinese_Revolution/4620",{"$f":"Table1[[#This Row],[QTY]]*Table1[[#This Row],['# of Books]]","v":0},{"$f":"Table1[[#This Row],[QTY]]*Table1[[#This Row],[School & Library Price]]","v":0}]
[null,null,null,"People and Events That Changed the World","Mao Zedong and the Chinese Revolution",1,"eBook","978-0-7660-7293-0",{"$f":"HYPERLINK(Table1[[#This Row],[Hyperlink]],\"Weblink\")","v":"Weblink"},"Enslow Publishing","2016","January 2016",null,"Author","Ann Malaspina ",null,null,null,null,"Z","960L","Grade 7 - 8","Grade 6 - 12","Through first-person accounts, informational text, and photographs, students will learn about Chairman Mao's theories, military strategies, and political policies known as Maoism, which forever changed the culture of China and communication between the East and the West.","English",37.270000000000003,27.95,"951.04'2--dc23","128 pp.","https://www.enslow.com/books/Mao_Zedong_and_the_Chinese_Revolution/4620",{"$f":"Table1[[#This Row],[QTY]]*Table1[[#This Row],['# of Books]]","v":0},{"$f":"Table1[[#This Row],[QTY]]*Table1[[#This Row],[School & Library Price]]","v":0}]
[null,null,null,"People and Events That Changed the World","Maximilien Robespierre and the French Revolution",1,"Library Bound Book","978-0-7660-7294-7",{"$f":"HYPERLINK(Table1[[#This Row],[Hyperlink]],\"Weblink\")","v":"Weblink"},"Enslow Publishing","2016","January 2016","6.000 X 9.000","Author, Author","Elizabeth Schmermund, Tom McGowen",null,null,null,null,"Z",null,"Grade 7 - 8","Grade 6 - 12","Through source documents, engaging language, and illustrations, readers will discover why Maximilien Robespierre was one of the most influential figures of the French Revolution and how his politics, philosophies, and actions influenced the political landscape of today.","English",37.270000000000003,27.95,"944.04'1092--dc23","128 pp.","https://www.enslow.com/books/Maximilien_Robespierre_and_the_French_Revolution/4622",{"$f":"Table1[[#This Row],[QTY]]*Table1[[#This Row],['# of Books]]","v":0},{"$f":"Table1[[#This Row],[QTY]]*Table1[[#This Row],[School & Library Price]]","v":0}]
[null,null,null,"People and Events That Changed the World","Nelson Mandela and the End of Apartheid",1,"Library Bound Book","978-0-7660-7300-5",{"$f":"HYPERLINK(Table1[[#This Row],[Hyperlink]],\"Weblink\")","v":"Weblink"},"Enslow Publishing","2016","January 2016","6.000 X 9.000","Author","Ann Graham Gaines Rodriguez",null,null,null,null,"Z","1010L","Grade 7 - 8","Grade 6 - 12","Through an accessible narrative, a detailed chronology, and compelling photographs, readers will discover how Nelson Mandela's personal struggles and great courage spurred a South African revolution. He helped change the way the world looks at Africa..","English",37.270000000000003,27.95,"305.800968'09045--dc23","128 pp.","https://www.enslow.com/books/Nelson_Mandela_and_the_End_of_Apartheid/4625",{"$f":"Table1[[#This Row],[QTY]]*Table1[[#This Row],['# of Books]]","v":0},{"$f":"Table1[[#This Row],[QTY]]*Table1[[#This Row],[School & Library Price]]","v":0}]
[null,null,null,"People and Events That Changed the World","Nelson Mandela and the End of Apartheid",1,"eBook","978-0-7660-7301-2",{"$f":"HYPERLINK(Table1[[#This Row],[Hyperlink]],\"Weblink\")","v":"Weblink"},"Enslow Publishing","2016","January 2016",null,"Author","Ann Graham Gaines Rodriguez",null,null,null,null,"Z","1010L","Grade 7 - 8","Grade 6 - 12","Through an accessible narrative, a detailed chronology, and compelling photographs, readers will discover how Nelson Mandela's personal struggles and great courage spurred a South African revolution. He helped change the way the world looks at Africa..","English",37.270000000000003,27.95,"305.800968'09045--dc23","128 pp.","https://www.enslow.com/books/Nelson_Mandela_and_the_End_of_Apartheid/4625",{"$f":"Table1[[#This Row],[QTY]]*Table1[[#This Row],['# of Books]]","v":0},{"$f":"Table1[[#This Row],[QTY]]*Table1[[#This Row],[School & Library Price]]","v":0}]
[null,null,null,"People and Events That Changed the World","The Amistad Revolt and the Transatlantic Slave Trade",1,"Library Bound Book","978-0-7660-7378-4",{"$f":"HYPERLINK(Table1[[#This Row],[Hyperlink]],\"Weblink\")","v":"Weblink"},"Enslow Publishing","2016","January 2016","6.000 X 9.000","Author","Richard Worth",null,null,null,null,"Z","1130L","Grade 7 - 8","Grade 6 - 12","Through court documents, supporting details, and narrative language, students will discover how Sengbe Pieh, also known as Joseph Cinqué, staged a mutiny on a slave ship that not only gave him and his fellow captives freedom, but also spurred a court case that began an international debate over the morality and legality of slavery. Readers will gain a deeper understanding of the politics involved in the transatlantic slave trade, as well as a part of history that has shaped our society.","English",37.270000000000003,27.95,"326'.80973--dc23","128 pp.","https://www.enslow.com/books/The_Amistad_Revolt_and_the_Transatlantic_Slave_Trade/4647",{"$f":"Table1[[#This Row],[QTY]]*Table1[[#This Row],['# of Books]]","v":0},{"$f":"Table1[[#This Row],[QTY]]*Table1[[#This Row],[School & Library Price]]","v":0}]
[null,null,null,"People and Events That Changed the World","The Amistad Revolt and the Transatlantic Slave Trade",1,"eBook","978-0-7660-7379-1",{"$f":"HYPERLINK(Table1[[#This Row],[Hyperlink]],\"Weblink\")","v":"Weblink"},"Enslow Publishing","2016","January 2016",null,"Author","Richard Worth",null,null,null,null,"Z","1130L","Grade 7 - 8","Grade 6 - 12","Through court documents, supporting details, and narrative language, students will discover how Sengbe Pieh, also known as Joseph Cinqué, staged a mutiny on a slave ship that not only gave him and his fellow captives freedom, but also spurred a court case that began an international debate over the morality and legality of slavery. Readers will gain a deeper understanding of the politics involved in the transatlantic slave trade, as well as a part of history that has shaped our society.","English",37.270000000000003,27.95,"326'.80973--dc23","128 pp.","https://www.enslow.com/books/The_Amistad_Revolt_and_the_Transatlantic_Slave_Trade/4647",{"$f":"Table1[[#This Row],[QTY]]*Table1[[#This Row],['# of Books]]","v":0},{"$f":"Table1[[#This Row],[QTY]]*Table1[[#This Row],[School & Library Price]]","v":0}]
[null,null,null,"People and Events That Changed the World","Vladimir Lenin and the Russian Revolution",1,"Library Bound Book","978-0-7660-7414-9",{"$f":"HYPERLINK(Table1[[#This Row],[Hyperlink]],\"Weblink\")","v":"Weblink"},"Enslow Publishing","2016","January 2016","6.000 X 9.000","Author, Author","Elizabeth Schmermund, Judith Edwards",null,null,null,null,"Z","1190L","Grade 7 - 8","Grade 6 - 12","Ending a two-hundred-year tsarist regime and bringing communism to the masses, Vladimir Lenin changed not only Russia, but also the world’s political climate. Using source documents and photos, this text discusses the major events of the Russian Revolution and its consequences in a way that makes the concepts clear, concise, and interesting to students.","English",37.270000000000003,27.95,"947.0841092--dc23","128 pp.","https://www.enslow.com/books/Vladimir_Lenin_and_the_Russian_Revolution/4658",{"$f":"Table1[[#This Row],[QTY]]*Table1[[#This Row],['# of Books]]","v":0},{"$f":"Table1[[#This Row],[QTY]]*Table1[[#This Row],[School & Library Price]]","v":0}]
[null,null,null,"People and Events That Changed the World","Vladimir Lenin and the Russian Revolution",1,"eBook","978-0-7660-7415-6",{"$f":"HYPERLINK(Table1[[#This Row],[Hyperlink]],\"Weblink\")","v":"Weblink"},"Enslow Publishing","2016","January 2016",null,"Author, Author","Elizabeth Schmermund, Judith Edwards",null,null,null,null,"Z","1190L","Grade 7 - 8","Grade 6 - 12","Ending a two-hundred-year tsarist regime and bringing communism to the masses, Vladimir Lenin changed not only Russia, but also the world’s political climate. Using source documents and photos, this text discusses the major events of the Russian Revolution and its consequences in a way that makes the concepts clear, concise, and interesting to students.","English",37.270000000000003,27.95,"947.0841092--dc23","128 pp.","https://www.enslow.com/books/Vladimir_Lenin_and_the_Russian_Revolution/4658",{"$f":"Table1[[#This Row],[QTY]]*Table1[[#This Row],['# of Books]]","v":0},{"$f":"Table1[[#This Row],[QTY]]*Table1[[#This Row],[School & Library Price]]","v":0}]
[null,null,null,"Careers in the U.S. Armed Forces","Careers in the U.S. Air Force",1,"Library Bound Book","978-0-7660-6941-1",{"$f":"HYPERLINK(Table1[[#This Row],[Hyperlink]],\"Weblink\")","v":"Weblink"},"Enslow Publishing","2016","August 2015","6.000 X 9.000","Author, Author","Wilson Camelo, Earle Rice, Jr.",null,null,null,null,"Z",null,"Grade 6 - 7","Grade 6 - 12","The Air Force offers many great career opportunities. Not only can you fly planes, but the air force also trains engineers, doctors, nurses, teachers, and operations specialists. Through interviews, anecdotes, and facts, readers will learn what a career in the United States Air Force is like and how to go about signing up.","English",37.270000000000003,27.95,"358.4023’73--dc23","128 pp.","https://www.enslow.com/books/Careers_in_the_US_Air_Force/4440",{"$f":"Table1[[#This Row],[QTY]]*Table1[[#This Row],['# of Books]]","v":0},{"$f":"Table1[[#This Row],[QTY]]*Table1[[#This Row],[School & Library Price]]","v":0}]
[null,null,null,"Careers in the U.S. Armed Forces","Careers in the U.S. Army",1,"Library Bound Book","978-0-7660-6943-5",{"$f":"HYPERLINK(Table1[[#This Row],[Hyperlink]],\"Weblink\")","v":"Weblink"},"Enslow Publishing","2016","August 2015","6.000 X 9.000","Author","Earle Rice, Jr.",null,null,null,null,"Z","940L","Grade 6 - 7","Grade 6 - 12","Troops are only one important part of the United States Army. Others include munitions experts, teachers, animal trainers, doctors, administrators, and intelligence experts. Are your readers interested in travel, learning, and personal growth? This book helps them discover the different ways they can be a part of the U.S. Army.","English",37.270000000000003,27.95,"355.0023'73--dc23","128 pp.","https://www.enslow.com/books/Careers_in_the_US_Army/4441",{"$f":"Table1[[#This Row],[QTY]]*Table1[[#This Row],['# of Books]]","v":0},{"$f":"Table1[[#This Row],[QTY]]*Table1[[#This Row],[School & Library Price]]","v":0}]
[null,null,null,"Careers in the U.S. Armed Forces","Careers in the U.S. Army",1,"eBook","978-0-7660-6944-2",{"$f":"HYPERLINK(Table1[[#This Row],[Hyperlink]],\"Weblink\")","v":"Weblink"},"Enslow Publishing","2016","August 2015",null,"Author","Earle Rice, Jr.",null,null,null,null,"Z","940L","Grade 6 - 7","Grade 6 - 12","Troops are only one important part of the United States Army. Others include munitions experts, teachers, animal trainers, doctors, administrators, and intelligence experts. Are your readers interested in travel, learning, and personal growth? This book helps them discover the different ways they can be a part of the U.S. Army.","English",37.270000000000003,27.95,"355.0023'73--dc23","128 pp.","https://www.enslow.com/books/Careers_in_the_US_Army/4441",{"$f":"Table1[[#This Row],[QTY]]*Table1[[#This Row],['# of Books]]","v":0},{"$f":"Table1[[#This Row],[QTY]]*Table1[[#This Row],[School & Library Price]]","v":0}]
[null,null,null,"Careers in the U.S. Armed Forces","Careers in the U.S. Coast Guard",1,"Library Bound Book","978-0-7660-6945-9",{"$f":"HYPERLINK(Table1[[#This Row],[Hyperlink]],\"Weblink\")","v":"Weblink"},"Enslow Publishing","2016","August 2015","6.000 X 9.000","Author, Author","Taylor Baldwin Kiland , Judy Silverstein Gray",null,null,null,null,"Z","1280L","Grade 6 - 7","Grade 6 - 12","The United States Coast Guard is often the first line of defense against attacks at sea. They are also the first call if there is a hurricane or a flood. A career in the coast guard promises adventure, and working with diverse groups of people as well as equipment, technology, and transportation. Through interviews and history, readers will discover what it means to have a career in the U.S. Coast Guard.","English",37.270000000000003,27.95,"363.28'602373--dc23","128 pp.","https://www.enslow.com/books/Careers_in_the_US_Coast_Guard/4442",{"$f":"Table1[[#This Row],[QTY]]*Table1[[#This Row],['# of Books]]","v":0},{"$f":"Table1[[#This Row],[QTY]]*Table1[[#This Row],[School & Library Price]]","v":0}]
[null,null,null,"Careers in the U.S. Armed Forces","Careers in the U.S. Coast Guard",1,"eBook","978-0-7660-6946-6",{"$f":"HYPERLINK(Table1[[#This Row],[Hyperlink]],\"Weblink\")","v":"Weblink"},"Enslow Publishing","2016","August 2015",null,"Author, Author","Taylor Baldwin Kiland , Judy Silverstein Gray",null,null,null,null,"Z","1280L","Grade 6 - 7","Grade 6 - 12","The United States Coast Guard is often the first line of defense against attacks at sea. They are also the first call if there is a hurricane or a flood. A career in the coast guard promises adventure, and working with diverse groups of people as well as equipment, technology, and transportation. Through interviews and history, readers will discover what it means to have a career in the U.S. Coast Guard.","English",37.270000000000003,27.95,"363.28'602373--dc23","128 pp.","https://www.enslow.com/books/Careers_in_the_US_Coast_Guard/4442",{"$f":"Table1[[#This Row],[QTY]]*Table1[[#This Row],['# of Books]]","v":0},{"$f":"Table1[[#This Row],[QTY]]*Table1[[#This Row],[School & Library Price]]","v":0}]
[null,null,null,"Careers in the U.S. Armed Forces","Careers in the U.S. Marine Corps",1,"Library Bound Book","978-0-7660-6947-3",{"$f":"HYPERLINK(Table1[[#This Row],[Hyperlink]],\"Weblink\")","v":"Weblink"},"Enslow Publishing","2016","August 2015","6.000 X 9.000","Author, Author","Taylor Baldwin Kiland , R. Conrad Stein",null,null,null,null,"Z","1040L","Grade 6 - 7","Grade 6 - 12","Marines are known for being the first to fight in a battle. They are highly trained and are prepared at all times. In addition to being soldiers, marines are also code-breakers, engineers, transporters, charity workers, and musicians. Readers will dive into this book to discover what it means to be a U.S. Marine.","English",37.270000000000003,27.95,"359.9'602373--dc23","128 pp.","https://www.enslow.com/books/Careers_in_the_US_Marine_Corps/4443",{"$f":"Table1[[#This Row],[QTY]]*Table1[[#This Row],['# of Books]]","v":0},{"$f":"Table1[[#This Row],[QTY]]*Table1[[#This Row],[School & Library Price]]","v":0}]
[null,null,null,"Careers in the U.S. Armed Forces","Careers in the U.S. Marine Corps",1,"eBook","978-0-7660-6948-0",{"$f":"HYPERLINK(Table1[[#This Row],[Hyperlink]],\"Weblink\")","v":"Weblink"},"Enslow Publishing","2016","August 2015",null,"Author, Author","Taylor Baldwin Kiland , R. Conrad Stein",null,null,null,null,"Z","1040L","Grade 6 - 7","Grade 6 - 12","Marines are known for being the first to fight in a battle. They are highly trained and are prepared at all times. In addition to being soldiers, marines are also code-breakers, engineers, transporters, charity workers, and musicians. Readers will dive into this book to discover what it means to be a U.S. Marine.","English",37.270000000000003,27.95,"359.9'602373--dc23","128 pp.","https://www.enslow.com/books/Careers_in_the_US_Marine_Corps/4443",{"$f":"Table1[[#This Row],[QTY]]*Table1[[#This Row],['# of Books]]","v":0},{"$f":"Table1[[#This Row],[QTY]]*Table1[[#This Row],[School & Library Price]]","v":0}]
[null,null,null,"Careers in the U.S. Armed Forces","Careers in the U.S. Navy",1,"Library Bound Book","978-0-7660-6949-7",{"$f":"HYPERLINK(Table1[[#This Row],[Hyperlink]],\"Weblink\")","v":"Weblink"},"Enslow Publishing","2016","August 2015","6.000 X 9.000","Author","Taylor Baldwin Kiland ",null,null,null,null,"Z","1230L","Grade 6 - 7","Grade 6 - 12","Navy men and women are specialists, tech analysts, engineers, humanitarians, and relief workers, as well as boatswains and captains. Through reading personal accounts and interviews, readers discover what it means to be a part of the proud tradition of the U.S. Navy.","English",37.270000000000003,27.95,"359.0023'73--dc23","128 pp.","https://www.enslow.com/books/Careers_in_the_US_Navy/4444",{"$f":"Table1[[#This Row],[QTY]]*Table1[[#This Row],['# of Books]]","v":0},{"$f":"Table1[[#This Row],[QTY]]*Table1[[#This Row],[School & Library Price]]","v":0}]
[null,null,null,"Careers in the U.S. Armed Forces","Careers in the U.S. Navy",1,"eBook","978-0-7660-6950-3",{"$f":"HYPERLINK(Table1[[#This Row],[Hyperlink]],\"Weblink\")","v":"Weblink"},"Enslow Publishing","2016","August 2015",null,"Author","Taylor Baldwin Kiland ",null,null,null,null,"Z","1230L","Grade 6 - 7","Grade 6 - 12","Navy men and women are specialists, tech analysts, engineers, humanitarians, and relief workers, as well as boatswains and captains. Through reading personal accounts and interviews, readers discover what it means to be a part of the proud tradition of the U.S. Navy.","English",37.270000000000003,27.95,"359.0023'73--dc23","128 pp.","https://www.enslow.com/books/Careers_in_the_US_Navy/4444",{"$f":"Table1[[#This Row],[QTY]]*Table1[[#This Row],['# of Books]]","v":0},{"$f":"Table1[[#This Row],[QTY]]*Table1[[#This Row],[School & Library Price]]","v":0}]
[null,null,null,"Extreme Science Careers","Forensic Science Specialists: Making Sense of Crime Scene Evidence",1,"Library Bound Book","978-0-7660-6962-6",{"$f":"HYPERLINK(Table1[[#This Row],[Hyperlink]],\"Weblink\")","v":"Weblink"},"Enslow Publishing","2016","August 2015","6.000 X 9.000","Author, Author","Judith Williams, Don Rauf",null,null,null,null,"Z","1020L","Grade 7","Grade 7 - 12","Do you love solving riddles and mysteries? Does the unknown fascinate you? Would you enjoy gathering evidence and analyzing data? If so, perhaps a career in forensic science is for you! This book explores what a forensic scientist does through interviews, real-life examples, and actual case studies.","English",37.270000000000003,27.95,"363.25’023--d23","128 pp.","https://www.enslow.com/books/Forensic_Science_Specialists/4488",{"$f":"Table1[[#This Row],[QTY]]*Table1[[#This Row],['# of Books]]","v":0},{"$f":"Table1[[#This Row],[QTY]]*Table1[[#This Row],[School & Library Price]]","v":0}]
[null,null,null,"Extreme Science Careers","Forensic Science Specialists: Making Sense of Crime Scene Evidence",1,"eBook","978-0-7660-6963-3",{"$f":"HYPERLINK(Table1[[#This Row],[Hyperlink]],\"Weblink\")","v":"Weblink"},"Enslow Publishing","2016","August 2015",null,"Author, Author","Judith Williams, Don Rauf",null,null,null,null,"Z","1020L","Grade 7","Grade 7 - 12","Do you love solving riddles and mysteries? Does the unknown fascinate you? Would you enjoy gathering evidence and analyzing data? If so, perhaps a career in forensic science is for you! This book explores what a forensic scientist does through interviews, real-life examples, and actual case studies.","English",37.270000000000003,27.95,"363.25’023--d23","128 pp.","https://www.enslow.com/books/Forensic_Science_Specialists/4488",{"$f":"Table1[[#This Row],[QTY]]*Table1[[#This Row],['# of Books]]","v":0},{"$f":"Table1[[#This Row],[QTY]]*Table1[[#This Row],[School & Library Price]]","v":0}]
[null,null,null,"Extreme Science Careers","Infectious Disease Specialists: Hunting Down Disease",1,"Library Bound Book","978-0-7660-6970-1",{"$f":"HYPERLINK(Table1[[#This Row],[Hyperlink]],\"Weblink\")","v":"Weblink"},"Enslow Publishing","2016","August 2015","6.000 X 9.000","Author","Edward Willett",null,null,null,null,"Z","1170L","Grade 7","Grade 7 - 12","Are you fascinated by sickness and how it spreads? Do you have the urge to help people suffering from diseases both known and unknown? Do you ever wonder how vaccines and cures are developed? If so, a career as an infectious disease specialist might be for you! Through interviews and actual case studies, you'll learn what it's like to be an infectious disease specialist and discover the role they play in modern medicine.","English",37.270000000000003,27.95,"614.4--d23","128 pp.","https://www.enslow.com/books/Infectious_Disease_Specialists/4489",{"$f":"Table1[[#This Row],[QTY]]*Table1[[#This Row],['# of Books]]","v":0},{"$f":"Table1[[#This Row],[QTY]]*Table1[[#This Row],[School & Library Price]]","v":0}]
[null,null,null,"Extreme Science Careers","Infectious Disease Specialists: Hunting Down Disease",1,"eBook","978-0-7660-6971-8",{"$f":"HYPERLINK(Table1[[#This Row],[Hyperlink]],\"Weblink\")","v":"Weblink"},"Enslow Publishing","2016","August 2015",null,"Author","Edward Willett",null,null,null,null,"Z","1170L","Grade 7","Grade 7 - 12","Are you fascinated by sickness and how it spreads? Do you have the urge to help people suffering from diseases both known and unknown? Do you ever wonder how vaccines and cures are developed? If so, a career as an infectious disease specialist might be for you! Through interviews and actual case studies, you'll learn what it's like to be an infectious disease specialist and discover the role they play in modern medicine.","English",37.270000000000003,27.95,"614.4--d23","128 pp.","https://www.enslow.com/books/Infectious_Disease_Specialists/4489",{"$f":"Table1[[#This Row],[QTY]]*Table1[[#This Row],['# of Books]]","v":0},{"$f":"Table1[[#This Row],[QTY]]*Table1[[#This Row],[School & Library Price]]","v":0}]
[null,null,null,"Extreme Science Careers","Paleontologists: Searching for Dinosaur Bones",1,"Library Bound Book","978-0-7660-6964-0",{"$f":"HYPERLINK(Table1[[#This Row],[Hyperlink]],\"Weblink\")","v":"Weblink"},"Enslow Publishing","2016","August 2015","6.000 X 9.000","Author","Thom Holmes",null,null,null,null,"Z","1150L","Grade 7","Grade 7 - 12","Are you interested in dinosaurs and how they lived? Do you want to travel the world, digging through the earth's history? Then perhaps a career in paleontology is for you! Through first-hand accounts, interviews, and case studies, you'll learn what it takes to be a paleontologist.","English",37.270000000000003,27.95,"560.23--dc22","128 pp.","https://www.enslow.com/books/Paleontologists/4490",{"$f":"Table1[[#This Row],[QTY]]*Table1[[#This Row],['# of Books]]","v":0},{"$f":"Table1[[#This Row],[QTY]]*Table1[[#This Row],[School & Library Price]]","v":0}]
[null,null,null,"Extreme Science Careers","Paleontologists: Searching for Dinosaur Bones",1,"eBook","978-0-7660-6965-7",{"$f":"HYPERLINK(Table1[[#This Row],[Hyperlink]],\"Weblink\")","v":"Weblink"},"Enslow Publishing","2016","August 2015",null,"Author","Thom Holmes",null,null,null,null,"Z","1150L","Grade 7","Grade 7 - 12","Are you interested in dinosaurs and how they lived? Do you want to travel the world, digging through the earth's history? Then perhaps a career in paleontology is for you! Through first-hand accounts, interviews, and case studies, you'll learn what it takes to be a paleontologist.","English",37.270000000000003,27.95,"560.23--dc22","128 pp.","https://www.enslow.com/books/Paleontologists/4490",{"$f":"Table1[[#This Row],[QTY]]*Table1[[#This Row],['# of Books]]","v":0},{"$f":"Table1[[#This Row],[QTY]]*Table1[[#This Row],[School & Library Price]]","v":0}]
[null,null,null,"Extreme Science Careers","Polar Scientists: Studying the Antarctic",1,"Library Bound Book","978-0-7660-6966-4",{"$f":"HYPERLINK(Table1[[#This Row],[Hyperlink]],\"Weblink\")","v":"Weblink"},"Enslow Publishing","2016","August 2015","6.000 X 9.000","Author","Sara L. Latta",null,null,null,null,"Z","1040L","Grade 7","Grade 7 - 12","Do you like the cold? Do you like solving mysteries and discovering answers? Are you interested in Earth's history? Then a career as an polar scientist might be for you! Through case studies and interviews, you'll discover what it means to be a polar scientist, studying the ice for answers to some of history's biggest questions.","English",37.270000000000003,27.95,"559.89023--dc23","128 pp.","https://www.enslow.com/books/Polar_Scientists/4491",{"$f":"Table1[[#This Row],[QTY]]*Table1[[#This Row],['# of Books]]","v":0},{"$f":"Table1[[#This Row],[QTY]]*Table1[[#This Row],[School & Library Price]]","v":0}]
[null,null,null,"Extreme Science Careers","Polar Scientists: Studying the Antarctic",1,"eBook","978-0-7660-6967-1",{"$f":"HYPERLINK(Table1[[#This Row],[Hyperlink]],\"Weblink\")","v":"Weblink"},"Enslow Publishing","2016","August 2015",null,"Author","Sara L. Latta",null,null,null,null,"Z","1040L","Grade 7","Grade 7 - 12","Do you like the cold? Do you like solving mysteries and discovering answers? Are you interested in Earth's history? Then a career as an polar scientist might be for you! Through case studies and interviews, you'll discover what it means to be a polar scientist, studying the ice for answers to some of history's biggest questions.","English",37.270000000000003,27.95,"559.89023--dc23","128 pp.","https://www.enslow.com/books/Polar_Scientists/4491",{"$f":"Table1[[#This Row],[QTY]]*Table1[[#This Row],['# of Books]]","v":0},{"$f":"Table1[[#This Row],[QTY]]*Table1[[#This Row],[School & Library Price]]","v":0}]
[null,null,null,"Extreme Science Careers","Severe-Storm Scientists: Chasing Tornadoes and Hurricanes",1,"Library Bound Book","978-0-7660-6968-8",{"$f":"HYPERLINK(Table1[[#This Row],[Hyperlink]],\"Weblink\")","v":"Weblink"},"Enslow Publishing","2016","August 2015","6.000 X 9.000","Author, Author","Jennifer Way, Timothy R. Gaffney",null,null,null,null,"Z","1010L","Grade 7","Grade 7 - 12","Are you fascinated by wind, tornadoes, and hurricanes? Do you wish you could chase them? Then maybe a career in weather science is for you! Through interviews and stories of exciting—and terrifying—encounters with actual storms, you'll learn what these storm chasers do, how they study the weather, and what they can learn from it.","English",37.270000000000003,27.95,"551.55--dc23","128 pp.","https://www.enslow.com/books/Severe_Storm_Scientists/4492",{"$f":"Table1[[#This Row],[QTY]]*Table1[[#This Row],['# of Books]]","v":0},{"$f":"Table1[[#This Row],[QTY]]*Table1[[#This Row],[School & Library Price]]","v":0}]
[null,null,null,"Extreme Science Careers","Severe-Storm Scientists: Chasing Tornadoes and Hurricanes",1,"eBook","978-0-7660-6969-5",{"$f":"HYPERLINK(Table1[[#This Row],[Hyperlink]],\"Weblink\")","v":"Weblink"},"Enslow Publishing","2016","August 2015",null,"Author, Author","Jennifer Way, Timothy R. Gaffney",null,null,null,null,"Z","1010L","Grade 7","Grade 7 - 12","Are you fascinated by wind, tornadoes, and hurricanes? Do you wish you could chase them? Then maybe a career in weather science is for you! Through interviews and stories of exciting—and terrifying—encounters with actual storms, you'll learn what these storm chasers do, how they study the weather, and what they can learn from it.","English",37.270000000000003,27.95,"551.55--dc23","128 pp.","https://www.enslow.com/books/Severe_Storm_Scientists/4492",{"$f":"Table1[[#This Row],[QTY]]*Table1[[#This Row],['# of Books]]","v":0},{"$f":"Table1[[#This Row],[QTY]]*Table1[[#This Row],[School & Library Price]]","v":0}]
[null,null,null,"Extreme Science Careers","Volcanologists: Examining Active Volcanoes",1,"Library Bound Book","978-0-7660-6972-5",{"$f":"HYPERLINK(Table1[[#This Row],[Hyperlink]],\"Weblink\")","v":"Weblink"},"Enslow Publishing","2016","August 2015","6.000 X 9.000","Author","Sara L. Latta",null,null,null,null,"Z","1080L","Grade 7","Grade 7 - 12","If a trip to an active volcano is your idea of a dream adventure, then perhaps a career in volcanology is for you! Through case studies, photographs, interviews, and facts, you'll discover what it means to be a volcanologist, why we need them, and how you can become one too.","English",37.270000000000003,27.95,"551.21092--d23","128 pp.","https://www.enslow.com/books/Volcanologists/4493",{"$f":"Table1[[#This Row],[QTY]]*Table1[[#This Row],['# of Books]]","v":0},{"$f":"Table1[[#This Row],[QTY]]*Table1[[#This Row],[School & Library Price]]","v":0}]
[null,null,null,"Extreme Science Careers","Volcanologists: Examining Active Volcanoes",1,"eBook","978-0-7660-6973-2",{"$f":"HYPERLINK(Table1[[#This Row],[Hyperlink]],\"Weblink\")","v":"Weblink"},"Enslow Publishing","2016","August 2015",null,"Author","Sara L. Latta",null,null,null,null,"Z","1080L","Grade 7","Grade 7 - 12","If a trip to an active volcano is your idea of a dream adventure, then perhaps a career in volcanology is for you! Through case studies, photographs, interviews, and facts, you'll discover what it means to be a volcanologist, why we need them, and how you can become one too.","English",37.270000000000003,27.95,"551.21092--d23","128 pp.","https://www.enslow.com/books/Volcanologists/4493",{"$f":"Table1[[#This Row],[QTY]]*Table1[[#This Row],['# of Books]]","v":0},{"$f":"Table1[[#This Row],[QTY]]*Table1[[#This Row],[School & Library Price]]","v":0}]
[null,null,null,"Got Issues?","Are You Afraid?",1,"Library Bound Book","978-0-7660-6977-0",{"$f":"HYPERLINK(Table1[[#This Row],[Hyperlink]],\"Weblink\")","v":"Weblink"},"Enslow Publishing","2016","August 2015","6.000 X 9.000","Author, Author","Jennifer Way, Judy Monroe",null,null,null,null,"Z",null,"Grade 7","Grade 7 - 12","Extreme or irrational fears are called phobias. From aerophobia to zoophobia, this book explores the many phobias that exist and the crippling effects they can have on phobics. An extensive list of phobias helps identify them, while treatment plans shed light on how to manage symptoms.","English",37.270000000000003,27.95,"616.85'225--dc23","128 pp.","https://www.enslow.com/books/Are_You_Afraid/4494",{"$f":"Table1[[#This Row],[QTY]]*Table1[[#This Row],['# of Books]]","v":0},{"$f":"Table1[[#This Row],[QTY]]*Table1[[#This Row],[School & Library Price]]","v":0}]
[null,null,null,"Got Issues?","Are You Afraid?",1,"eBook","978-0-7660-6978-7",{"$f":"HYPERLINK(Table1[[#This Row],[Hyperlink]],\"Weblink\")","v":"Weblink"},"Enslow Publishing","2016","August 2015",null,"Author, Author","Jennifer Way, Judy Monroe",null,null,null,null,"Z",null,"Grade 7","Grade 7 - 12","Extreme or irrational fears are called phobias. From aerophobia to zoophobia, this book explores the many phobias that exist and the crippling effects they can have on phobics. An extensive list of phobias helps identify them, while treatment plans shed light on how to manage symptoms.","English",37.270000000000003,27.95,"616.85'225--dc23","128 pp.","https://www.enslow.com/books/Are_You_Afraid/4494",{"$f":"Table1[[#This Row],[QTY]]*Table1[[#This Row],['# of Books]]","v":0},{"$f":"Table1[[#This Row],[QTY]]*Table1[[#This Row],[School & Library Price]]","v":0}]
[null,null,null,"Got Issues?","Are You at Risk for Public Shaming?",1,"Library Bound Book","978-0-7660-7136-0",{"$f":"HYPERLINK(Table1[[#This Row],[Hyperlink]],\"Weblink\")","v":"Weblink"},"Enslow Publishing","2016","January 2016","6.000 X 9.000","Author","Sherri Mabry Gordon",null,null,null,null,"Z",null,"Grade 7 - 8","Grade 7 - 12","In the era of social media and viral videos, public shaming is a serious threat to teens. Public shaming is more than just feeling a little embarrassment. It can be dangerous and even deadly. Through firsthand accounts by teens who have experienced it and insights from experts, readers can learn how best to recognize and rise above public shaming.","English",37.270000000000003,27.95,"152.4--dc23","112 pp.","https://www.enslow.com/books/Are_You_at_Risk_for_Public_Shaming/4573",{"$f":"Table1[[#This Row],[QTY]]*Table1[[#This Row],['# of Books]]","v":0},{"$f":"Table1[[#This Row],[QTY]]*Table1[[#This Row],[School & Library Price]]","v":0}]
[null,null,null,"Got Issues?","Are You at Risk for Public Shaming?",1,"eBook","978-0-7660-7137-7",{"$f":"HYPERLINK(Table1[[#This Row],[Hyperlink]],\"Weblink\")","v":"Weblink"},"Enslow Publishing","2016","January 2016",null,"Author","Sherri Mabry Gordon",null,null,null,null,"Z",null,"Grade 7 - 8","Grade 7 - 12","In the era of social media and viral videos, public shaming is a serious threat to teens. Public shaming is more than just feeling a little embarrassment. It can be dangerous and even deadly. Through firsthand accounts by teens who have experienced it and insights from experts, readers can learn how best to recognize and rise above public shaming.","English",37.270000000000003,27.95,"152.4--dc23","112 pp.","https://www.enslow.com/books/Are_You_at_Risk_for_Public_Shaming/4573",{"$f":"Table1[[#This Row],[QTY]]*Table1[[#This Row],['# of Books]]","v":0},{"$f":"Table1[[#This Row],[QTY]]*Table1[[#This Row],[School & Library Price]]","v":0}]
[null,null,null,"Got Issues?","Are You Being Abused?",1,"Library Bound Book","978-0-7660-6979-4",{"$f":"HYPERLINK(Table1[[#This Row],[Hyperlink]],\"Weblink\")","v":"Weblink"},"Enslow Publishing","2016","August 2015","6.000 X 9.000","Author","Sherri Mabry Gordon",null,null,null,null,"Z",null,"Grade 7","Grade 7 - 12","How do you know when you're being abused? And what's the best way get out of an abusive situation? How do you help someone you suspect is being abused? With a compassionate approach, this book clarifies abuse and its circumstances, spells options for help, and suggests what communities can do to help end the violence.","English",37.270000000000003,27.95,"362.76--dc23","128 pp.","https://www.enslow.com/books/Are_You_Being_Abused/4495",{"$f":"Table1[[#This Row],[QTY]]*Table1[[#This Row],['# of Books]]","v":0},{"$f":"Table1[[#This Row],[QTY]]*Table1[[#This Row],[School & Library Price]]","v":0}]
[null,null,null,"Got Issues?","Are You Being Abused?",1,"eBook","978-0-7660-6980-0",{"$f":"HYPERLINK(Table1[[#This Row],[Hyperlink]],\"Weblink\")","v":"Weblink"},"Enslow Publishing","2016","August 2015",null,"Author","Sherri Mabry Gordon",null,null,null,null,"Z",null,"Grade 7","Grade 7 - 12","How do you know when you're being abused? And what's the best way get out of an abusive situation? How do you help someone you suspect is being abused? With a compassionate approach, this book clarifies abuse and its circumstances, spells options for help, and suggests what communities can do to help end the violence.","English",37.270000000000003,27.95,"362.76--dc23","128 pp.","https://www.enslow.com/books/Are_You_Being_Abused/4495",{"$f":"Table1[[#This Row],[QTY]]*Table1[[#This Row],['# of Books]]","v":0},{"$f":"Table1[[#This Row],[QTY]]*Table1[[#This Row],[School & Library Price]]","v":0}]
[null,null,null,"Got Issues?","Are You Being Racially Profiled?",1,"Library Bound Book","978-0-7660-7138-4",{"$f":"HYPERLINK(Table1[[#This Row],[Hyperlink]],\"Weblink\")","v":"Weblink"},"Enslow Publishing","2016","January 2016","6.000 X 9.000","Author","Alexandra Hanson-Harding",null,null,null,null,"Z",null,"Grade 7 - 8","Grade 7 - 12","This timely book addresses the issue of racial profiling head on—what it is, why it happens, who it happens to, and what someone who is at risk of racial profiling can do about it. Interviews with teens directly affected by racial profiling and advice from professionals make this text excellent for research or personal use.","English",37.270000000000003,27.95,"363.2/308900973--dc23","112 pp.","https://www.enslow.com/books/Are_You_Being_Racially_Profiled/4574",{"$f":"Table1[[#This Row],[QTY]]*Table1[[#This Row],['# of Books]]","v":0},{"$f":"Table1[[#This Row],[QTY]]*Table1[[#This Row],[School & Library Price]]","v":0}]
[null,null,null,"Got Issues?","Are You Being Racially Profiled?",1,"eBook","978-0-7660-7147-6",{"$f":"HYPERLINK(Table1[[#This Row],[Hyperlink]],\"Weblink\")","v":"Weblink"},"Enslow Publishing","2016","January 2016",null,"Author","Alexandra Hanson-Harding",null,null,null,null,"Z",null,"Grade 7 - 8","Grade 7 - 12","This timely book addresses the issue of racial profiling head on—what it is, why it happens, who it happens to, and what someone who is at risk of racial profiling can do about it. Interviews with teens directly affected by racial profiling and advice from professionals make this text excellent for research or personal use.","English",37.270000000000003,27.95,"363.2/308900973--dc23","112 pp.","https://www.enslow.com/books/Are_You_Being_Racially_Profiled/4574",{"$f":"Table1[[#This Row],[QTY]]*Table1[[#This Row],['# of Books]]","v":0},{"$f":"Table1[[#This Row],[QTY]]*Table1[[#This Row],[School & Library Price]]","v":0}]
[null,null,null,"Got Issues?","Are You Depressed?",1,"Library Bound Book","978-0-7660-6981-7",{"$f":"HYPERLINK(Table1[[#This Row],[Hyperlink]],\"Weblink\")","v":"Weblink"},"Enslow Publishing","2016","August 2015","6.000 X 9.000","Author, Author, Author","Ray Spangenburg, Kit Moser, Don Rauf",null,null,null,null,"Z",null,"Grade 7","Grade 7 - 12","How do you know when sadness is something more serious—such as depression? And what can you do about it? Through personal interviews and thorough research, this book explains the symptoms of depression as a disorder and offers suggestions for seeking help and receiving treatment.","English",37.270000000000003,27.95,"616.85’27--d23","128 pp.","https://www.enslow.com/books/Are_You_Depressed/4496",{"$f":"Table1[[#This Row],[QTY]]*Table1[[#This Row],['# of Books]]","v":0},{"$f":"Table1[[#This Row],[QTY]]*Table1[[#This Row],[School & Library Price]]","v":0}]
[null,null,null,"Got Issues?","Are You Depressed?",1,"eBook","978-0-7660-6982-4",{"$f":"HYPERLINK(Table1[[#This Row],[Hyperlink]],\"Weblink\")","v":"Weblink"},"Enslow Publishing","2016","August 2015",null,"Author, Author, Author","Ray Spangenburg, Kit Moser, Don Rauf",null,null,null,null,"Z",null,"Grade 7","Grade 7 - 12","How do you know when sadness is something more serious—such as depression? And what can you do about it? Through personal interviews and thorough research, this book explains the symptoms of depression as a disorder and offers suggestions for seeking help and receiving treatment.","English",37.270000000000003,27.95,"616.85’27--d23","128 pp.","https://www.enslow.com/books/Are_You_Depressed/4496",{"$f":"Table1[[#This Row],[QTY]]*Table1[[#This Row],['# of Books]]","v":0},{"$f":"Table1[[#This Row],[QTY]]*Table1[[#This Row],[School & Library Price]]","v":0}]
[null,null,null,"Got Issues?","Are You LGBTQ?",1,"Library Bound Book","978-0-7660-7139-1",{"$f":"HYPERLINK(Table1[[#This Row],[Hyperlink]],\"Weblink\")","v":"Weblink"},"Enslow Publishing","2016","January 2016","6.000 X 9.000","Author","Jeanne Nagle",null,null,null,null,"Z",null,"Grade 7 - 8","Grade 7 - 12","Lesbian Gay Bisexual Transgender Queer or Questioning. Each of these terms has an individual meaning and community around them. Through interviews with professionals as well as those in the LGBTQ community, readers can learn not only the definition of each of these words, but also what it means on a greater scale. Perfect for research or personal use, this text will provide teens with answers to many of their questions about sexuality and create a dialogue through which they can learn to accept each other and themselves.","English",37.270000000000003,27.95,"306.76’60835--dc23","112 pp.","https://www.enslow.com/books/Are_You_LGBTQ/4575",{"$f":"Table1[[#This Row],[QTY]]*Table1[[#This Row],['# of Books]]","v":0},{"$f":"Table1[[#This Row],[QTY]]*Table1[[#This Row],[School & Library Price]]","v":0}]
[null,null,null,"Got Issues?","Are You LGBTQ?",1,"eBook","978-0-7660-7140-7",{"$f":"HYPERLINK(Table1[[#This Row],[Hyperlink]],\"Weblink\")","v":"Weblink"},"Enslow Publishing","2016","January 2016",null,"Author","Jeanne Nagle",null,null,null,null,"Z",null,"Grade 7 - 8","Grade 7 - 12","Lesbian Gay Bisexual Transgender Queer or Questioning. Each of these terms has an individual meaning and community around them. Through interviews with professionals as well as those in the LGBTQ community, readers can learn not only the definition of each of these words, but also what it means on a greater scale. Perfect for research or personal use, this text will provide teens with answers to many of their questions about sexuality and create a dialogue through which they can learn to accept each other and themselves.","English",37.270000000000003,27.95,"306.76’60835--dc23","112 pp.","https://www.enslow.com/books/Are_You_LGBTQ/4575",{"$f":"Table1[[#This Row],[QTY]]*Table1[[#This Row],['# of Books]]","v":0},{"$f":"Table1[[#This Row],[QTY]]*Table1[[#This Row],[School & Library Price]]","v":0}]
[null,null,null,"Got Issues?","Are You Stressed Out In School?",1,"Library Bound Book","978-0-7660-6983-1",{"$f":"HYPERLINK(Table1[[#This Row],[Hyperlink]],\"Weblink\")","v":"Weblink"},"Enslow Publishing","2016","August 2015","6.000 X 9.000","Author","Stephanie Sammartino Mcpherson ",null,null,null,null,"Z",null,"Grade 7","Grade 7 - 12","Between standardized tests, extra-curricular activities, pressure from parents, and the strain of getting into college, school is more stressful than ever. Relieve some of that stress by learning techniques to deal with the mounting pressure felt by students every day.","English",37.270000000000003,27.95,"371.713--d23","128 pp.","https://www.enslow.com/books/Are_You_Stressed_Out_In_School/4497",{"$f":"Table1[[#This Row],[QTY]]*Table1[[#This Row],['# of Books]]","v":0},{"$f":"Table1[[#This Row],[QTY]]*Table1[[#This Row],[School & Library Price]]","v":0}]
[null,null,null,"Got Issues?","Are You Stressed Out In School?",1,"eBook","978-0-7660-6984-8",{"$f":"HYPERLINK(Table1[[#This Row],[Hyperlink]],\"Weblink\")","v":"Weblink"},"Enslow Publishing","2016","August 2015",null,"Author","Stephanie Sammartino Mcpherson ",null,null,null,null,"Z",null,"Grade 7","Grade 7 - 12","Between standardized tests, extra-curricular activities, pressure from parents, and the strain of getting into college, school is more stressful than ever. Relieve some of that stress by learning techniques to deal with the mounting pressure felt by students every day.","English",37.270000000000003,27.95,"371.713--d23","128 pp.","https://www.enslow.com/books/Are_You_Stressed_Out_In_School/4497",{"$f":"Table1[[#This Row],[QTY]]*Table1[[#This Row],['# of Books]]","v":0},{"$f":"Table1[[#This Row],[QTY]]*Table1[[#This Row],[School & Library Price]]","v":0}]
[null,null,null,"Got Issues?","Did Someone You Love Die?",1,"Library Bound Book","978-0-7660-6985-5",{"$f":"HYPERLINK(Table1[[#This Row],[Hyperlink]],\"Weblink\")","v":"Weblink"},"Enslow Publishing","2016","August 2015","6.000 X 9.000","Author","Tracy A. Phillips",null,null,null,null,"Z","1080L","Grade 7","Grade 7 - 12","For a teen, it can be especially difficult to lose a family member or friend through death. Explore the emotions involved and learn ways to get through this experience as well as how to support someone living through a loss.","English",37.270000000000003,27.95,"155.9'37--dc23","128 pp.","https://www.enslow.com/books/Did_Someone_You_Love_Die/4498",{"$f":"Table1[[#This Row],[QTY]]*Table1[[#This Row],['# of Books]]","v":0},{"$f":"Table1[[#This Row],[QTY]]*Table1[[#This Row],[School & Library Price]]","v":0}]
[null,null,null,"Got Issues?","Did Someone You Love Die?",1,"eBook","978-0-7660-6986-2",{"$f":"HYPERLINK(Table1[[#This Row],[Hyperlink]],\"Weblink\")","v":"Weblink"},"Enslow Publishing","2016","August 2015",null,"Author","Tracy A. Phillips",null,null,null,null,"Z","1080L","Grade 7","Grade 7 - 12","For a teen, it can be especially difficult to lose a family member or friend through death. Explore the emotions involved and learn ways to get through this experience as well as how to support someone living through a loss.","English",37.270000000000003,27.95,"155.9'37--dc23","128 pp.","https://www.enslow.com/books/Did_Someone_You_Love_Die/4498",{"$f":"Table1[[#This Row],[QTY]]*Table1[[#This Row],['# of Books]]","v":0},{"$f":"Table1[[#This Row],[QTY]]*Table1[[#This Row],[School & Library Price]]","v":0}]
[null,null,null,"Got Issues?","Do You Get Into Arguments?",1,"Library Bound Book","978-0-7660-7189-6",{"$f":"HYPERLINK(Table1[[#This Row],[Hyperlink]],\"Weblink\")","v":"Weblink"},"Enslow Publishing","2016","January 2016","6.000 X 9.000","Author, Author","Monique Vescia, Karen Faye Judson",null,null,null,null,"Z","1120L","Grade 7 - 8","Grade 7 - 12","While it’s normal to argue from time to time, is there a point when it’s too much? Through up-to-date informational text that includes first-hand accounts by teens and advice from experts, this book will teach readers new techniques for dealing with their anger, as well as ways of avoiding arguments and disagreements. Excellent for research or for personal use.","English",37.270000000000003,27.95,"155.5'1247--dc23","128 pp.","https://www.enslow.com/books/Do_You_Get_Into_Arguments/4593",{"$f":"Table1[[#This Row],[QTY]]*Table1[[#This Row],['# of Books]]","v":0},{"$f":"Table1[[#This Row],[QTY]]*Table1[[#This Row],[School & Library Price]]","v":0}]
[null,null,null,"Got Issues?","Do You Get Into Arguments?",1,"eBook","978-0-7660-7190-2",{"$f":"HYPERLINK(Table1[[#This Row],[Hyperlink]],\"Weblink\")","v":"Weblink"},"Enslow Publishing","2016","January 2016",null,"Author, Author","Monique Vescia, Karen Faye Judson",null,null,null,null,"Z","1120L","Grade 7 - 8","Grade 7 - 12","While it’s normal to argue from time to time, is there a point when it’s too much? Through up-to-date informational text that includes first-hand accounts by teens and advice from experts, this book will teach readers new techniques for dealing with their anger, as well as ways of avoiding arguments and disagreements. Excellent for research or for personal use.","English",37.270000000000003,27.95,"155.5'1247--dc23","128 pp.","https://www.enslow.com/books/Do_You_Get_Into_Arguments/4593",{"$f":"Table1[[#This Row],[QTY]]*Table1[[#This Row],['# of Books]]","v":0},{"$f":"Table1[[#This Row],[QTY]]*Table1[[#This Row],[School & Library Price]]","v":0}]
[null,null,null,"Got Issues?","Do You Have a Friend Who Is Suicidal?",1,"Library Bound Book","978-0-7660-7191-9",{"$f":"HYPERLINK(Table1[[#This Row],[Hyperlink]],\"Weblink\")","v":"Weblink"},"Enslow Publishing","2016","January 2016","6.000 X 9.000","Author","Elizabeth Wahl",null,null,null,null,"Z",null,"Grade 7 - 8","Grade 7 - 12","In today’s high-paced, high-pressure world, many teens cave into the pressure and decide to take their own lives, leaving behind confused and hurt family and friends. Through expert advice and firsthand accounts from teens, readers can learn the warning signs of suicidal behavior, and how best to help others or themselves.","English",37.270000000000003,27.95,"362.28--dc23","112 pp.","https://www.enslow.com/books/Do_You_Have_a_Friend_Who_Is_Suicidal/4594",{"$f":"Table1[[#This Row],[QTY]]*Table1[[#This Row],['# of Books]]","v":0},{"$f":"Table1[[#This Row],[QTY]]*Table1[[#This Row],[School & Library Price]]","v":0}]
[null,null,null,"Got Issues?","Do You Have a Friend Who Is Suicidal?",1,"eBook","978-0-7660-7192-6",{"$f":"HYPERLINK(Table1[[#This Row],[Hyperlink]],\"Weblink\")","v":"Weblink"},"Enslow Publishing","2016","January 2016",null,"Author","Elizabeth Wahl",null,null,null,null,"Z",null,"Grade 7 - 8","Grade 7 - 12","In today’s high-paced, high-pressure world, many teens cave into the pressure and decide to take their own lives, leaving behind confused and hurt family and friends. Through expert advice and firsthand accounts from teens, readers can learn the warning signs of suicidal behavior, and how best to help others or themselves.","English",37.270000000000003,27.95,"362.28--dc23","112 pp.","https://www.enslow.com/books/Do_You_Have_a_Friend_Who_Is_Suicidal/4594",{"$f":"Table1[[#This Row],[QTY]]*Table1[[#This Row],['# of Books]]","v":0},{"$f":"Table1[[#This Row],[QTY]]*Table1[[#This Row],[School & Library Price]]","v":0}]
[null,null,null,"Got Issues?","Do You Know What to Eat?",1,"Library Bound Book","978-0-7660-6987-9",{"$f":"HYPERLINK(Table1[[#This Row],[Hyperlink]],\"Weblink\")","v":"Weblink"},"Enslow Publishing","2016","August 2015","6.000 X 9.000","Author","Kathlyn Gay",null,null,null,null,"Z","1230L","Grade 7","Grade 7 - 12","Eating right is one of the most important things a person can do. A proper diet can boost your energy, your creativity, and your focus. But eating the wrong foods, overeating, or not eating enough can be a problem. This book explains nutrition and the best ways to get it, helping readers understand that food is more than just an everyday meal.","English",37.270000000000003,27.95,"613.2--dc23","128 pp.","https://www.enslow.com/books/Do_You_Know_What_to_Eat/4499",{"$f":"Table1[[#This Row],[QTY]]*Table1[[#This Row],['# of Books]]","v":0},{"$f":"Table1[[#This Row],[QTY]]*Table1[[#This Row],[School & Library Price]]","v":0}]
[null,null,null,"Got Issues?","Do You Know What to Eat?",1,"eBook","978-0-7660-6988-6",{"$f":"HYPERLINK(Table1[[#This Row],[Hyperlink]],\"Weblink\")","v":"Weblink"},"Enslow Publishing","2016","August 2015",null,"Author","Kathlyn Gay",null,null,null,null,"Z","1230L","Grade 7","Grade 7 - 12","Eating right is one of the most important things a person can do. A proper diet can boost your energy, your creativity, and your focus. But eating the wrong foods, overeating, or not eating enough can be a problem. This book explains nutrition and the best ways to get it, helping readers understand that food is more than just an everyday meal.","English",37.270000000000003,27.95,"613.2--dc23","128 pp.","https://www.enslow.com/books/Do_You_Know_What_to_Eat/4499",{"$f":"Table1[[#This Row],[QTY]]*Table1[[#This Row],['# of Books]]","v":0},{"$f":"Table1[[#This Row],[QTY]]*Table1[[#This Row],[School & Library Price]]","v":0}]
[null,null,null,"Got Issues?","Do You Know Your Rights?",1,"Library Bound Book","978-0-7660-7193-3",{"$f":"HYPERLINK(Table1[[#This Row],[Hyperlink]],\"Weblink\")","v":"Weblink"},"Enslow Publishing","2016","January 2016","6.000 X 9.000","Author","Maurene Hinds",null,null,null,null,"Z",null,"Grade 7 - 8","Grade 7 - 12","Most American teens know that when they turn eighteen they can vote, or that they have the right to free speech or to a twelfth-grade education. But what about other rights? Through expert advice and interviews with teens, readers will learn about their rights as consumers and employees, rights to health care and access to information, and their rights when they are in abusive situations or when they break the law.","English",37.270000000000003,27.95,"305.235--dc23","112 pp.","https://www.enslow.com/books/Do_You_Know_Your_Rights/4595",{"$f":"Table1[[#This Row],[QTY]]*Table1[[#This Row],['# of Books]]","v":0},{"$f":"Table1[[#This Row],[QTY]]*Table1[[#This Row],[School & Library Price]]","v":0}]
[null,null,null,"Got Issues?","Do You Know Your Rights?",1,"eBook","978-0-7660-7194-0",{"$f":"HYPERLINK(Table1[[#This Row],[Hyperlink]],\"Weblink\")","v":"Weblink"},"Enslow Publishing","2016","January 2016",null,"Author","Maurene Hinds",null,null,null,null,"Z",null,"Grade 7 - 8","Grade 7 - 12","Most American teens know that when they turn eighteen they can vote, or that they have the right to free speech or to a twelfth-grade education. But what about other rights? Through expert advice and interviews with teens, readers will learn about their rights as consumers and employees, rights to health care and access to information, and their rights when they are in abusive situations or when they break the law.","English",37.270000000000003,27.95,"305.235--dc23","112 pp.","https://www.enslow.com/books/Do_You_Know_Your_Rights/4595",{"$f":"Table1[[#This Row],[QTY]]*Table1[[#This Row],['# of Books]]","v":0},{"$f":"Table1[[#This Row],[QTY]]*Table1[[#This Row],[School & Library Price]]","v":0}]
[null,null,null,"Got Issues?","Do You Wonder About Sex and Sexuality?",1,"Library Bound Book","978-0-7660-6989-3",{"$f":"HYPERLINK(Table1[[#This Row],[Hyperlink]],\"Weblink\")","v":"Weblink"},"Enslow Publishing","2016","August 2015","6.000 X 9.000","Author","Stephen Feinstein",null,null,null,null,"Z",null,"Grade 7","Grade 7 - 12","Sex and sexuality can be difficult topics to talk about. Find answers to your questions as you learn about the complex and sometimes controversial topics of sexuality, contraception, abstinence, sex education, pregnancy, and STDs. A little knowledge goes a long way in helping you to make informed decisions.","English",37.270000000000003,27.95,"613.9071'2--dc23","128 pp.","https://www.enslow.com/books/Do_You_Wonder_About_Sex_and_Sexuality/4500",{"$f":"Table1[[#This Row],[QTY]]*Table1[[#This Row],['# of Books]]","v":0},{"$f":"Table1[[#This Row],[QTY]]*Table1[[#This Row],[School & Library Price]]","v":0}]
[null,null,null,"Got Issues?","Do You Wonder About Sex and Sexuality?",1,"eBook","978-0-7660-6990-9",{"$f":"HYPERLINK(Table1[[#This Row],[Hyperlink]],\"Weblink\")","v":"Weblink"},"Enslow Publishing","2016","August 2015",null,"Author","Stephen Feinstein",null,null,null,null,"Z",null,"Grade 7","Grade 7 - 12","Sex and sexuality can be difficult topics to talk about. Find answers to your questions as you learn about the complex and sometimes controversial topics of sexuality, contraception, abstinence, sex education, pregnancy, and STDs. A little knowledge goes a long way in helping you to make informed decisions.","English",37.270000000000003,27.95,"613.9071'2--dc23","128 pp.","https://www.enslow.com/books/Do_You_Wonder_About_Sex_and_Sexuality/4500",{"$f":"Table1[[#This Row],[QTY]]*Table1[[#This Row],['# of Books]]","v":0},{"$f":"Table1[[#This Row],[QTY]]*Table1[[#This Row],[School & Library Price]]","v":0}]
[null,null,null,"The Psychology of Serial Killers","Cannibal Serial Killers",1,"Library Bound Book","978-0-7660-7282-4",{"$f":"HYPERLINK(Table1[[#This Row],[Hyperlink]],\"Weblink\")","v":"Weblink"},"Enslow Publishing","2016","January 2016","6.000 X 9.000","Author","Nicki Peter Petrikowski ",null,null,null,null,"Z",null,"Grade 9","Grade 9 - 12","From Albert Fish to Jeffery Dahmer, these cannibals represent the most horrific parts of the human psyche. This text provides psychology students with in-depth examinations by professionals of the factors that create, motivate, and often lead to the capture of these savage killers. Readers can also take a personality disorder self-assessment quiz to learn more about psychopathy—the most common psychological condition for serial killers.","English",37.270000000000003,27.95,"364.152'32--dc23","128 pp.","https://www.enslow.com/books/Cannibal_Serial_Killers/4586",{"$f":"Table1[[#This Row],[QTY]]*Table1[[#This Row],['# of Books]]","v":0},{"$f":"Table1[[#This Row],[QTY]]*Table1[[#This Row],[School & Library Price]]","v":0}]
[null,null,null,"The Psychology of Serial Killers","Cannibal Serial Killers",1,"eBook","978-0-7660-7283-1",{"$f":"HYPERLINK(Table1[[#This Row],[Hyperlink]],\"Weblink\")","v":"Weblink"},"Enslow Publishing","2016","January 2016",null,"Author","Nicki Peter Petrikowski ",null,null,null,null,"Z",null,"Grade 9","Grade 9 - 12","From Albert Fish to Jeffery Dahmer, these cannibals represent the most horrific parts of the human psyche. This text provides psychology students with in-depth examinations by professionals of the factors that create, motivate, and often lead to the capture of these savage killers. Readers can also take a personality disorder self-assessment quiz to learn more about psychopathy—the most common psychological condition for serial killers.","English",37.270000000000003,27.95,"364.152'32--dc23","128 pp.","https://www.enslow.com/books/Cannibal_Serial_Killers/4586",{"$f":"Table1[[#This Row],[QTY]]*Table1[[#This Row],['# of Books]]","v":0},{"$f":"Table1[[#This Row],[QTY]]*Table1[[#This Row],[School & Library Price]]","v":0}]
[null,null,null,"The Psychology of Serial Killers","Female Serial Killers",1,"Library Bound Book","978-0-7660-7288-6",{"$f":"HYPERLINK(Table1[[#This Row],[Hyperlink]],\"Weblink\")","v":"Weblink"},"Enslow Publishing","2016","January 2016","6.000 X 9.000","Author","Don Rauf",null,null,null,null,"Z",null,"Grade 9","Grade 9 - 12","From Lady Elizabeth Bathory to Bell Gunness to Aileen Wuornos, this book takes an in-depth approach to evaluating the life and crimes of some of the world’s most vicious women, who are grouped into chapters by psychological type. Readers can also take a personality disorder self-assessment quiz to learn more about psychopathy—the most common psychological condition for serial killers.","English",37.270000000000003,27.95,"364.152/32082--dc23","128 pp.","https://www.enslow.com/books/Female_Serial_Killers/4602",{"$f":"Table1[[#This Row],[QTY]]*Table1[[#This Row],['# of Books]]","v":0},{"$f":"Table1[[#This Row],[QTY]]*Table1[[#This Row],[School & Library Price]]","v":0}]
[null,null,null,"The Psychology of Serial Killers","Female Serial Killers",1,"eBook","978-0-7660-7289-3",{"$f":"HYPERLINK(Table1[[#This Row],[Hyperlink]],\"Weblink\")","v":"Weblink"},"Enslow Publishing","2016","January 2016",null,"Author","Don Rauf",null,null,null,null,"Z",null,"Grade 9","Grade 9 - 12","From Lady Elizabeth Bathory to Bell Gunness to Aileen Wuornos, this book takes an in-depth approach to evaluating the life and crimes of some of the world’s most vicious women, who are grouped into chapters by psychological type. Readers can also take a personality disorder self-assessment quiz to learn more about psychopathy—the most common psychological condition for serial killers.","English",37.270000000000003,27.95,"364.152/32082--dc23","128 pp.","https://www.enslow.com/books/Female_Serial_Killers/4602",{"$f":"Table1[[#This Row],[QTY]]*Table1[[#This Row],['# of Books]]","v":0},{"$f":"Table1[[#This Row],[QTY]]*Table1[[#This Row],[School & Library Price]]","v":0}]
[null,null,null,"The Psychology of Serial Killers","Historical Serial Killers",1,"Library Bound Book","978-0-7660-7290-9",{"$f":"HYPERLINK(Table1[[#This Row],[Hyperlink]],\"Weblink\")","v":"Weblink"},"Enslow Publishing","2016","January 2016","6.000 X 9.000","Author","Don Rauf",null,null,null,null,"Z",null,"Grade 9","Grade 9 - 12","Containing profiles of several of the most famous serial killers throughout history such as Jack the Ripper and H. H. Holmes, this in-depth analysis of the killers’ minds, behavior, and actions will surely intrigue any psychology student. Comprehensive text explains the life and crimes of these prolific killers from history, and a personality disorder self-assessment quiz will give readers insight into psychopathy, which is the most common psychological condition for serial killers.","English",37.270000000000003,27.95,"364.15’23--dc23","144 pp.","https://www.enslow.com/books/Historical_Serial_Killers/4612",{"$f":"Table1[[#This Row],[QTY]]*Table1[[#This Row],['# of Books]]","v":0},{"$f":"Table1[[#This Row],[QTY]]*Table1[[#This Row],[School & Library Price]]","v":0}]
[null,null,null,"The Psychology of Serial Killers","Historical Serial Killers",1,"eBook","978-0-7660-7291-6",{"$f":"HYPERLINK(Table1[[#This Row],[Hyperlink]],\"Weblink\")","v":"Weblink"},"Enslow Publishing","2016","January 2016",null,"Author","Don Rauf",null,null,null,null,"Z",null,"Grade 9","Grade 9 - 12","Containing profiles of several of the most famous serial killers throughout history such as Jack the Ripper and H. H. Holmes, this in-depth analysis of the killers’ minds, behavior, and actions will surely intrigue any psychology student. Comprehensive text explains the life and crimes of these prolific killers from history, and a personality disorder self-assessment quiz will give readers insight into psychopathy, which is the most common psychological condition for serial killers.","English",37.270000000000003,27.95,"364.15’23--dc23","144 pp.","https://www.enslow.com/books/Historical_Serial_Killers/4612",{"$f":"Table1[[#This Row],[QTY]]*Table1[[#This Row],['# of Books]]","v":0},{"$f":"Table1[[#This Row],[QTY]]*Table1[[#This Row],[School & Library Price]]","v":0}]
[null,null,null,"The Psychology of Serial Killers","Medical Serial Killers",1,"Library Bound Book","978-0-7660-7296-1",{"$f":"HYPERLINK(Table1[[#This Row],[Hyperlink]],\"Weblink\")","v":"Weblink"},"Enslow Publishing","2016","January 2016","6.000 X 9.000","Author","Sara L. Latta",null,null,null,null,"Z",null,"Grade 9","Grade 9 - 12","In-depth analysis and comprehensive text delve into the psychology of medical serial killers, such as Dr. Michael Swango and Dr. Harold Shipman, in order to examine their motives, behaviors, and methods. Readers can also take a personality disorder self-assessment quiz to learn more about psychopathy—the most common psychological condition for serial killers.","English",37.270000000000003,27.95,"364.152'32--dc23","128 pp.","https://www.enslow.com/books/Medical_Serial_Killers/4623",{"$f":"Table1[[#This Row],[QTY]]*Table1[[#This Row],['# of Books]]","v":0},{"$f":"Table1[[#This Row],[QTY]]*Table1[[#This Row],[School & Library Price]]","v":0}]
[null,null,null,"The Psychology of Serial Killers","Medical Serial Killers",1,"eBook","978-0-7660-7297-8",{"$f":"HYPERLINK(Table1[[#This Row],[Hyperlink]],\"Weblink\")","v":"Weblink"},"Enslow Publishing","2016","January 2016",null,"Author","Sara L. Latta",null,null,null,null,"Z",null,"Grade 9","Grade 9 - 12","In-depth analysis and comprehensive text delve into the psychology of medical serial killers, such as Dr. Michael Swango and Dr. Harold Shipman, in order to examine their motives, behaviors, and methods. Readers can also take a personality disorder self-assessment quiz to learn more about psychopathy—the most common psychological condition for serial killers.","English",37.270000000000003,27.95,"364.152'32--dc23","128 pp.","https://www.enslow.com/books/Medical_Serial_Killers/4623",{"$f":"Table1[[#This Row],[QTY]]*Table1[[#This Row],['# of Books]]","v":0},{"$f":"Table1[[#This Row],[QTY]]*Table1[[#This Row],[School & Library Price]]","v":0}]
[null,null,null,"The Psychology of Serial Killers","Modern-Day Serial Killers",1,"Library Bound Book","978-0-7660-7298-5",{"$f":"HYPERLINK(Table1[[#This Row],[Hyperlink]],\"Weblink\")","v":"Weblink"},"Enslow Publishing","2016","January 2016","6.000 X 9.000","Author","Don Rauf",null,null,null,null,"Z",null,"Grade 9","Grade 9 - 12","Ted Bundy, BTK, Lonnie Franklin Jr. (“the Grim Sleeper”), and Anthony Sowell (“the Cleveland Strangler”)—what made these men into serial killers? Examination by authorities and professionals has given some insight into the minds of these serial killers and others, and psychology students will learn about the most current psychoanalysis of these modern-day murderers. The text also includes a personality disorder self-assessment quiz readers can take to learn more about psychopathy—the most common psychological condition for serial killers.","English",37.270000000000003,27.95,"364.152/32--dc23","128 pp.","https://www.enslow.com/books/Modern_Day_Serial_Killers/4624",{"$f":"Table1[[#This Row],[QTY]]*Table1[[#This Row],['# of Books]]","v":0},{"$f":"Table1[[#This Row],[QTY]]*Table1[[#This Row],[School & Library Price]]","v":0}]
[null,null,null,"The Psychology of Serial Killers","Modern-Day Serial Killers",1,"eBook","978-0-7660-7299-2",{"$f":"HYPERLINK(Table1[[#This Row],[Hyperlink]],\"Weblink\")","v":"Weblink"},"Enslow Publishing","2016","January 2016",null,"Author","Don Rauf",null,null,null,null,"Z",null,"Grade 9","Grade 9 - 12","Ted Bundy, BTK, Lonnie Franklin Jr. (“the Grim Sleeper”), and Anthony Sowell (“the Cleveland Strangler”)—what made these men into serial killers? Examination by authorities and professionals has given some insight into the minds of these serial killers and others, and psychology students will learn about the most current psychoanalysis of these modern-day murderers. The text also includes a personality disorder self-assessment quiz readers can take to learn more about psychopathy—the most common psychological condition for serial killers.","English",37.270000000000003,27.95,"364.152/32--dc23","128 pp.","https://www.enslow.com/books/Modern_Day_Serial_Killers/4624",{"$f":"Table1[[#This Row],[QTY]]*Table1[[#This Row],['# of Books]]","v":0},{"$f":"Table1[[#This Row],[QTY]]*Table1[[#This Row],[School & Library Price]]","v":0}]
[null,null,null,"Contemporary Diseases and Disorders","What You Can Do About ADHD",1,"Library Bound Book","978-0-7660-7028-8",{"$f":"HYPERLINK(Table1[[#This Row],[Hyperlink]],\"Weblink\")","v":"Weblink"},"Enslow Publishing","2016","August 2015","6.000 X 9.000","Author, Author, Author","Monique Vescia, Alvin Silverstein, Virginia Silverstein",null,null,null,null,"Z",null,"Grade 7","Grade 7 - 12","What is ADHD and what are the symptoms? How is ADHD treated? Readers explore this common behavioral condition that causes problems in three main areas: inability to focus or pay attention, being overly active, and acting without thinking first. Students learn how thousands of people learn to accept, treat, and thrive with ADHD.","English",37.270000000000003,27.95,"599.6713'92--dc23","128 pp.","https://www.enslow.com/books/What_You_Can_Do_About_ADHD/4445",{"$f":"Table1[[#This Row],[QTY]]*Table1[[#This Row],['# of Books]]","v":0},{"$f":"Table1[[#This Row],[QTY]]*Table1[[#This Row],[School & Library Price]]","v":0}]
[null,null,null,"Contemporary Diseases and Disorders","What You Can Do About ADHD",1,"eBook","978-0-7660-7029-5",{"$f":"HYPERLINK(Table1[[#This Row],[Hyperlink]],\"Weblink\")","v":"Weblink"},"Enslow Publishing","2016","August 2015",null,"Author, Author, Author","Monique Vescia, Alvin Silverstein, Virginia Silverstein",null,null,null,null,"Z",null,"Grade 7","Grade 7 - 12","What is ADHD and what are the symptoms? How is ADHD treated? Readers explore this common behavioral condition that causes problems in three main areas: inability to focus or pay attention, being overly active, and acting without thinking first. Students learn how thousands of people learn to accept, treat, and thrive with ADHD.","English",37.270000000000003,27.95,"599.6713'92--dc23","128 pp.","https://www.enslow.com/books/What_You_Can_Do_About_ADHD/4445",{"$f":"Table1[[#This Row],[QTY]]*Table1[[#This Row],['# of Books]]","v":0},{"$f":"Table1[[#This Row],[QTY]]*Table1[[#This Row],[School & Library Price]]","v":0}]
[null,null,null,"Contemporary Diseases and Disorders","What You Can Do About Allergies",1,"Library Bound Book","978-0-7660-7030-1",{"$f":"HYPERLINK(Table1[[#This Row],[Hyperlink]],\"Weblink\")","v":"Weblink"},"Enslow Publishing","2016","August 2015","6.000 X 9.000","Author","Sara L. Latta",null,null,null,null,"Z",null,"Grade 7","Grade 7 - 12","Through real-life stories, readers learn about the many types of allergies and their effects, including asthma, hay fever, food allergies, latex allergies, and anaphylaxis. They'll understand how the immune system works and how different people react to allergens. This volume explores the history, symptoms, diagnosis, treatment, prevention, and future areas of research for those with allergies.","English",37.270000000000003,27.95,"616.97--d23","128 pp.","https://www.enslow.com/books/What_You_Can_Do_About_Allergies/4446",{"$f":"Table1[[#This Row],[QTY]]*Table1[[#This Row],['# of Books]]","v":0},{"$f":"Table1[[#This Row],[QTY]]*Table1[[#This Row],[School & Library Price]]","v":0}]
[null,null,null,"Contemporary Diseases and Disorders","What You Can Do About Allergies",1,"eBook","978-0-7660-7031-8",{"$f":"HYPERLINK(Table1[[#This Row],[Hyperlink]],\"Weblink\")","v":"Weblink"},"Enslow Publishing","2016","August 2015",null,"Author","Sara L. Latta",null,null,null,null,"Z",null,"Grade 7","Grade 7 - 12","Through real-life stories, readers learn about the many types of allergies and their effects, including asthma, hay fever, food allergies, latex allergies, and anaphylaxis. They'll understand how the immune system works and how different people react to allergens. This volume explores the history, symptoms, diagnosis, treatment, prevention, and future areas of research for those with allergies.","English",37.270000000000003,27.95,"616.97--d23","128 pp.","https://www.enslow.com/books/What_You_Can_Do_About_Allergies/4446",{"$f":"Table1[[#This Row],[QTY]]*Table1[[#This Row],['# of Books]]","v":0},{"$f":"Table1[[#This Row],[QTY]]*Table1[[#This Row],[School & Library Price]]","v":0}]
[null,null,null,"Contemporary Diseases and Disorders","What You Can Do About Breast Cancer",1,"Library Bound Book","978-0-7660-7032-5",{"$f":"HYPERLINK(Table1[[#This Row],[Hyperlink]],\"Weblink\")","v":"Weblink"},"Enslow Publishing","2016","August 2015","6.000 X 9.000","Author, Author, Author","Don Rauf, Alvin Silverstein, Virginia Silverstein",null,null,null,null,"Z",null,"Grade 7","Grade 7 - 12","Most people are aware that October goes pink for breast cancer. But what, exactly, is breast cancer? Can men get it? What causes it? What are the treatment options? What is the likelihood of surviving breast cancer? This text explains a very complex disease in a way that makes it comprehensible to everyone so that if you or someone you know is diagnosed, you're prepared for the road ahead.","English",37.270000000000003,27.95,"616.99'449--dc23","128 pp.","https://www.enslow.com/books/What_You_Can_Do_About_Breast_Cancer/4447",{"$f":"Table1[[#This Row],[QTY]]*Table1[[#This Row],['# of Books]]","v":0},{"$f":"Table1[[#This Row],[QTY]]*Table1[[#This Row],[School & Library Price]]","v":0}]
[null,null,null,"Contemporary Diseases and Disorders","What You Can Do About Breast Cancer",1,"eBook","978-0-7660-7033-2",{"$f":"HYPERLINK(Table1[[#This Row],[Hyperlink]],\"Weblink\")","v":"Weblink"},"Enslow Publishing","2016","August 2015",null,"Author, Author, Author","Don Rauf, Alvin Silverstein, Virginia Silverstein",null,null,null,null,"Z",null,"Grade 7","Grade 7 - 12","Most people are aware that October goes pink for breast cancer. But what, exactly, is breast cancer? Can men get it? What causes it? What are the treatment options? What is the likelihood of surviving breast cancer? This text explains a very complex disease in a way that makes it comprehensible to everyone so that if you or someone you know is diagnosed, you're prepared for the road ahead.","English",37.270000000000003,27.95,"616.99'449--dc23","128 pp.","https://www.enslow.com/books/What_You_Can_Do_About_Breast_Cancer/4447",{"$f":"Table1[[#This Row],[QTY]]*Table1[[#This Row],['# of Books]]","v":0},{"$f":"Table1[[#This Row],[QTY]]*Table1[[#This Row],[School & Library Price]]","v":0}]
[null,null,null,"Contemporary Diseases and Disorders","What You Can Do About Carpal Tunnel Syndrome and Other Repetitive Strain Injuries",1,"Library Bound Book","978-0-7660-7034-9",{"$f":"HYPERLINK(Table1[[#This Row],[Hyperlink]],\"Weblink\")","v":"Weblink"},"Enslow Publishing","2016","August 2015","6.000 X 9.000","Author","Philip Johansson",null,null,null,null,"Z",null,"Grade 7","Grade 7 - 12","Do you text, use a computer, or play video games? Then you are at risk for carpel tunnel syndrome or repetitive strain injury. What are these injuries? Who do they affect? How are they treated and how can they be prevented? This text explains a relatively new diagnosis for an old condition and gives advice on how you can avoid these all-too-common injuries.","English",37.270000000000003,27.95,"616.85'6--dc23","128 pp.","https://www.enslow.com/books/What_You_Can_Do_About_Carpal_Tunnel_Syndrome_and_Other_Repetitive_Strain_Injuries/4448",{"$f":"Table1[[#This Row],[QTY]]*Table1[[#This Row],['# of Books]]","v":0},{"$f":"Table1[[#This Row],[QTY]]*Table1[[#This Row],[School & Library Price]]","v":0}]
[null,null,null,"Contemporary Diseases and Disorders","What You Can Do About Carpal Tunnel Syndrome and Other Repetitive Strain Injuries",1,"eBook","978-0-7660-7035-6",{"$f":"HYPERLINK(Table1[[#This Row],[Hyperlink]],\"Weblink\")","v":"Weblink"},"Enslow Publishing","2016","August 2015",null,"Author","Philip Johansson",null,null,null,null,"Z",null,"Grade 7","Grade 7 - 12","Do you text, use a computer, or play video games? Then you are at risk for carpel tunnel syndrome or repetitive strain injury. What are these injuries? Who do they affect? How are they treated and how can they be prevented? This text explains a relatively new diagnosis for an old condition and gives advice on how you can avoid these all-too-common injuries.","English",37.270000000000003,27.95,"616.85'6--dc23","128 pp.","https://www.enslow.com/books/What_You_Can_Do_About_Carpal_Tunnel_Syndrome_and_Other_Repetitive_Strain_Injuries/4448",{"$f":"Table1[[#This Row],[QTY]]*Table1[[#This Row],['# of Books]]","v":0},{"$f":"Table1[[#This Row],[QTY]]*Table1[[#This Row],[School & Library Price]]","v":0}]
[null,null,null,"Contemporary Diseases and Disorders","What You Can Do About Ebola",1,"Library Bound Book","978-0-7660-7036-3",{"$f":"HYPERLINK(Table1[[#This Row],[Hyperlink]],\"Weblink\")","v":"Weblink"},"Enslow Publishing","2016","August 2015","6.000 X 9.000","Author","Edward Willett",null,null,null,null,"Z",null,"Grade 7","Grade 7 - 12","The recent Ebola epidemic in West Africa killed more than 10,000 people, was the largest Ebola outbreak in history, and terrified people around the world. But what, exactly, is Ebola? What are the symptoms? How is it spread? How is it treated? This text explains this disease and how the latest epidemic changed the way we look at viruses forever.","English",37.270000000000003,27.95,"616.9’25--d23","128 pp.","https://www.enslow.com/books/What_You_Can_Do_About_Ebola/4449",{"$f":"Table1[[#This Row],[QTY]]*Table1[[#This Row],['# of Books]]","v":0},{"$f":"Table1[[#This Row],[QTY]]*Table1[[#This Row],[School & Library Price]]","v":0}]
[null,null,null,"Contemporary Diseases and Disorders","What You Can Do About Ebola",1,"eBook","978-0-7660-7037-0",{"$f":"HYPERLINK(Table1[[#This Row],[Hyperlink]],\"Weblink\")","v":"Weblink"},"Enslow Publishing","2016","August 2015",null,"Author","Edward Willett",null,null,null,null,"Z",null,"Grade 7","Grade 7 - 12","The recent Ebola epidemic in West Africa killed more than 10,000 people, was the largest Ebola outbreak in history, and terrified people around the world. But what, exactly, is Ebola? What are the symptoms? How is it spread? How is it treated? This text explains this disease and how the latest epidemic changed the way we look at viruses forever.","English",37.270000000000003,27.95,"616.9’25--d23","128 pp.","https://www.enslow.com/books/What_You_Can_Do_About_Ebola/4449",{"$f":"Table1[[#This Row],[QTY]]*Table1[[#This Row],['# of Books]]","v":0},{"$f":"Table1[[#This Row],[QTY]]*Table1[[#This Row],[School & Library Price]]","v":0}]
[null,null,null,"Contemporary Diseases and Disorders","What You Can Do About Food Poisoning",1,"Library Bound Book","978-0-7660-7038-7",{"$f":"HYPERLINK(Table1[[#This Row],[Hyperlink]],\"Weblink\")","v":"Weblink"},"Enslow Publishing","2016","August 2015","6.000 X 9.000","Author, Author, Author","Don Rauf, Alvin Silverstein, Virginia Silverstein",null,null,null,null,"Z",null,"Grade 7","Grade 7 - 12","What causes food poisoning? Is it preventable? What is the best way to treat it? This book provides information on the symptoms, remedies, and preemptive measures that can be taken to protect yourself from foodborne diseases such as E. coli, botulism, and salmonella.","English",37.270000000000003,27.95,"615.9'5293--dc23","128 pp.","https://www.enslow.com/books/What_You_Can_Do_About_Food_Poisoning/4450",{"$f":"Table1[[#This Row],[QTY]]*Table1[[#This Row],['# of Books]]","v":0},{"$f":"Table1[[#This Row],[QTY]]*Table1[[#This Row],[School & Library Price]]","v":0}]
[null,null,null,"Contemporary Diseases and Disorders","What You Can Do About Food Poisoning",1,"eBook","978-0-7660-7039-4",{"$f":"HYPERLINK(Table1[[#This Row],[Hyperlink]],\"Weblink\")","v":"Weblink"},"Enslow Publishing","2016","August 2015",null,"Author, Author, Author","Don Rauf, Alvin Silverstein, Virginia Silverstein",null,null,null,null,"Z",null,"Grade 7","Grade 7 - 12","What causes food poisoning? Is it preventable? What is the best way to treat it? This book provides information on the symptoms, remedies, and preemptive measures that can be taken to protect yourself from foodborne diseases such as E. coli, botulism, and salmonella.","English",37.270000000000003,27.95,"615.9'5293--dc23","128 pp.","https://www.enslow.com/books/What_You_Can_Do_About_Food_Poisoning/4450",{"$f":"Table1[[#This Row],[QTY]]*Table1[[#This Row],['# of Books]]","v":0},{"$f":"Table1[[#This Row],[QTY]]*Table1[[#This Row],[School & Library Price]]","v":0}]
[null,null,null,"Contemporary Diseases and Disorders","What You Can Do About Sickle Cell Disease",1,"Library Bound Book","978-0-7660-7040-0",{"$f":"HYPERLINK(Table1[[#This Row],[Hyperlink]],\"Weblink\")","v":"Weblink"},"Enslow Publishing","2016","August 2015","6.000 X 9.000","Author, Author, Author","Monique Vescia, Alvin Silverstein, Virginia Silverstein",null,null,null,null,"Z",null,"Grade 7","Grade 7 - 12","What is sickle cell disease? What damage can it cause? Can anyone get it? Can it be treated or prevented? This text explains a rather complex and potentially deadly condition through case studies and interviews, and presents the most current research and treatments.","English",37.270000000000003,27.95,"616.1'527--dc23","128 pp.","https://www.enslow.com/books/What_You_Can_Do_About_Sickle_Cell_Disease/4451",{"$f":"Table1[[#This Row],[QTY]]*Table1[[#This Row],['# of Books]]","v":0},{"$f":"Table1[[#This Row],[QTY]]*Table1[[#This Row],[School & Library Price]]","v":0}]
[null,null,null,"Contemporary Diseases and Disorders","What You Can Do About Sickle Cell Disease",1,"eBook","978-0-7660-7041-7",{"$f":"HYPERLINK(Table1[[#This Row],[Hyperlink]],\"Weblink\")","v":"Weblink"},"Enslow Publishing","2016","August 2015",null,"Author, Author, Author","Monique Vescia, Alvin Silverstein, Virginia Silverstein",null,null,null,null,"Z",null,"Grade 7","Grade 7 - 12","What is sickle cell disease? What damage can it cause? Can anyone get it? Can it be treated or prevented? This text explains a rather complex and potentially deadly condition through case studies and interviews, and presents the most current research and treatments.","English",37.270000000000003,27.95,"616.1'527--dc23","128 pp.","https://www.enslow.com/books/What_You_Can_Do_About_Sickle_Cell_Disease/4451",{"$f":"Table1[[#This Row],[QTY]]*Table1[[#This Row],['# of Books]]","v":0},{"$f":"Table1[[#This Row],[QTY]]*Table1[[#This Row],[School & Library Price]]","v":0}]
[null,null,null,"Contemporary Diseases and Disorders","What You Can Do About Stress and Anxiety",1,"Library Bound Book","978-0-7660-7042-4",{"$f":"HYPERLINK(Table1[[#This Row],[Hyperlink]],\"Weblink\")","v":"Weblink"},"Enslow Publishing","2016","August 2015","6.000 X 9.000","Author, Author","Jennifer Way, Sara Van Duyne",null,null,null,null,"Z","970L","Grade 7","Grade 7 - 12","Are you anxious, depressed, obsessive, or afraid? Do you wonder what causes these conditions and how are they treated? This book discusses the evolving understanding of how stress and anxiety affect people's lives and includes the foremost research on treating these conditions. Personal stories give readers an intimate look at how others are managing these sometimes-debilitating conditions.","English",37.270000000000003,27.95,"401833","128 pp.","https://www.enslow.com/books/What_You_Can_Do_About_Stress_and_Anxiety/4452",{"$f":"Table1[[#This Row],[QTY]]*Table1[[#This Row],['# of Books]]","v":0},{"$f":"Table1[[#This Row],[QTY]]*Table1[[#This Row],[School & Library Price]]","v":0}]
[null,null,null,"Contemporary Diseases and Disorders","What You Can Do About Stress and Anxiety",1,"eBook","978-0-7660-7043-1",{"$f":"HYPERLINK(Table1[[#This Row],[Hyperlink]],\"Weblink\")","v":"Weblink"},"Enslow Publishing","2016","August 2015",null,"Author, Author","Jennifer Way, Sara Van Duyne",null,null,null,null,"Z","970L","Grade 7","Grade 7 - 12","Are you anxious, depressed, obsessive, or afraid? Do you wonder what causes these conditions and how are they treated? This book discusses the evolving understanding of how stress and anxiety affect people's lives and includes the foremost research on treating these conditions. Personal stories give readers an intimate look at how others are managing these sometimes-debilitating conditions.","English",37.270000000000003,27.95,"401833","128 pp.","https://www.enslow.com/books/What_You_Can_Do_About_Stress_and_Anxiety/4452",{"$f":"Table1[[#This Row],[QTY]]*Table1[[#This Row],['# of Books]]","v":0},{"$f":"Table1[[#This Row],[QTY]]*Table1[[#This Row],[School & Library Price]]","v":0}]
[null,null,null,"The End of Life as We Know It","Buried: Too Much Garbage",1,"Library Bound Book","978-0-7660-7276-3",{"$f":"HYPERLINK(Table1[[#This Row],[Hyperlink]],\"Weblink\")","v":"Weblink"},"Enslow Publishing","2016","January 2016","6.000 X 9.000","Author","Kathlyn Gay",null,null,null,null,"Z","1250L","Grade 7 - 8","Grade 7 - 12","Informational text, expert analysis, and seminal public documents enlighten students about the garbage situation we are facing, which not only includes mountains of food scraps and discarded possessions, but hazardous, toxic, and radioactive waste as well. Take Action boxes give readers ideas on how to do their part to improve the situation, such as reducing how much waste they produce and purchasing reusable water bottles.","English",37.270000000000003,27.95,"628.4'4--dc23","144 pp.","https://www.enslow.com/books/Buried/4585",{"$f":"Table1[[#This Row],[QTY]]*Table1[[#This Row],['# of Books]]","v":0},{"$f":"Table1[[#This Row],[QTY]]*Table1[[#This Row],[School & Library Price]]","v":0}]
[null,null,null,"The End of Life as We Know It","Buried: Too Much Garbage",1,"eBook","978-0-7660-7277-0",{"$f":"HYPERLINK(Table1[[#This Row],[Hyperlink]],\"Weblink\")","v":"Weblink"},"Enslow Publishing","2016","January 2016",null,"Author","Kathlyn Gay",null,null,null,null,"Z","1250L","Grade 7 - 8","Grade 7 - 12","Informational text, expert analysis, and seminal public documents enlighten students about the garbage situation we are facing, which not only includes mountains of food scraps and discarded possessions, but hazardous, toxic, and radioactive waste as well. Take Action boxes give readers ideas on how to do their part to improve the situation, such as reducing how much waste they produce and purchasing reusable water bottles.","English",37.270000000000003,27.95,"628.4'4--dc23","144 pp.","https://www.enslow.com/books/Buried/4585",{"$f":"Table1[[#This Row],[QTY]]*Table1[[#This Row],['# of Books]]","v":0},{"$f":"Table1[[#This Row],[QTY]]*Table1[[#This Row],[School & Library Price]]","v":0}]
[null,null,null,"The End of Life as We Know It","Climate Change: A Threat to All Life on Earth",1,"Library Bound Book","978-0-7660-7284-8",{"$f":"HYPERLINK(Table1[[#This Row],[Hyperlink]],\"Weblink\")","v":"Weblink"},"Enslow Publishing","2016","January 2016","6.000 X 9.000","Author, Author","Anne C. Cunningham, Kenneth Green",null,null,null,null,"Z",null,"Grade 7 - 8","Grade 7 - 12","Although it’s a buzzword used by politicians, scientists, and even religious figures, the concept of climate change is a confusing one. Through expert analysis, informational text, and excerpts from public documents, readers are introduced to the subject of climate change and how it is affecting the world around us. Take Action boxes encourage teens to engage in environmental activism.","English",37.270000000000003,27.95,"551.6--dc23","128 pp.","https://www.enslow.com/books/Climate_Change/4589",{"$f":"Table1[[#This Row],[QTY]]*Table1[[#This Row],['# of Books]]","v":0},{"$f":"Table1[[#This Row],[QTY]]*Table1[[#This Row],[School & Library Price]]","v":0}]
[null,null,null,"The End of Life as We Know It","Drying Up: Running Out of Water",1,"Library Bound Book","978-0-7660-7286-2",{"$f":"HYPERLINK(Table1[[#This Row],[Hyperlink]],\"Weblink\")","v":"Weblink"},"Enslow Publishing","2016","January 2016","6.000 X 9.000","Author","Stephen Feinstein",null,null,null,null,"Z",null,"Grade 7 - 8","Grade 7 - 12","Water is an essential part of life on Earth. But in some places, it’s running out. Through expert analysis and informational insets, students will learn about water scarcity, pollution, the impact on public health, and how to protect this diminishing resource. Take Action boxes will show teens how they can help stop the drought.","English",37.270000000000003,27.95,"363.6'1--dc23","144 pp.","https://www.enslow.com/books/Drying_Up/4596",{"$f":"Table1[[#This Row],[QTY]]*Table1[[#This Row],['# of Books]]","v":0},{"$f":"Table1[[#This Row],[QTY]]*Table1[[#This Row],[School & Library Price]]","v":0}]
[null,null,null,"The End of Life as We Know It","Drying Up: Running Out of Water",1,"eBook","978-0-7660-7287-9",{"$f":"HYPERLINK(Table1[[#This Row],[Hyperlink]],\"Weblink\")","v":"Weblink"},"Enslow Publishing","2016","January 2016",null,"Author","Stephen Feinstein",null,null,null,null,"Z",null,"Grade 7 - 8","Grade 7 - 12","Water is an essential part of life on Earth. But in some places, it’s running out. Through expert analysis and informational insets, students will learn about water scarcity, pollution, the impact on public health, and how to protect this diminishing resource. Take Action boxes will show teens how they can help stop the drought.","English",37.270000000000003,27.95,"363.6'1--dc23","144 pp.","https://www.enslow.com/books/Drying_Up/4596",{"$f":"Table1[[#This Row],[QTY]]*Table1[[#This Row],['# of Books]]","v":0},{"$f":"Table1[[#This Row],[QTY]]*Table1[[#This Row],[School & Library Price]]","v":0}]
[null,null,null,"The End of Life as We Know It","Out of Gas: Using Up Fossil Fuels",1,"Library Bound Book","978-0-7660-7306-7",{"$f":"HYPERLINK(Table1[[#This Row],[Hyperlink]],\"Weblink\")","v":"Weblink"},"Enslow Publishing","2016","January 2016","6.000 X 9.000","Author","Sherri Mabry Gordon",null,null,null,null,"Z","1080L","Grade 7 - 8","Grade 7 - 12","Most people use a gas-powered vehicle of some kind on a daily basis. But what would happen if we were to run out of gas? This book evaluates a situation quickly coming to the forefront of our cultural consciousness. Through expert analysis, informational text, and seminal public documents, the problem is assessed and evaluated in a manner that makes readers understand the urgency of the situation. Take Action boxes provide suggestions on what teens can do to help.","English",37.270000000000003,27.95,"333.8'2--dc23","128 pp.","https://www.enslow.com/books/Out_of_Gas/4627",{"$f":"Table1[[#This Row],[QTY]]*Table1[[#This Row],['# of Books]]","v":0},{"$f":"Table1[[#This Row],[QTY]]*Table1[[#This Row],[School & Library Price]]","v":0}]
[null,null,null,"The End of Life as We Know It","Out of Gas: Using Up Fossil Fuels",1,"eBook","978-0-7660-7311-1",{"$f":"HYPERLINK(Table1[[#This Row],[Hyperlink]],\"Weblink\")","v":"Weblink"},"Enslow Publishing","2016","January 2016",null,"Author","Sherri Mabry Gordon",null,null,null,null,"Z","1080L","Grade 7 - 8","Grade 7 - 12","Most people use a gas-powered vehicle of some kind on a daily basis. But what would happen if we were to run out of gas? This book evaluates a situation quickly coming to the forefront of our cultural consciousness. Through expert analysis, informational text, and seminal public documents, the problem is assessed and evaluated in a manner that makes readers understand the urgency of the situation. Take Action boxes provide suggestions on what teens can do to help.","English",37.270000000000003,27.95,"333.8'2--dc23","128 pp.","https://www.enslow.com/books/Out_of_Gas/4627",{"$f":"Table1[[#This Row],[QTY]]*Table1[[#This Row],['# of Books]]","v":0},{"$f":"Table1[[#This Row],[QTY]]*Table1[[#This Row],[School & Library Price]]","v":0}]
[null,null,null,"The End of Life as We Know It","Overpopulation: 7 Billion People and Counting",1,"Library Bound Book","978-0-7660-7312-8",{"$f":"HYPERLINK(Table1[[#This Row],[Hyperlink]],\"Weblink\")","v":"Weblink"},"Enslow Publishing","2016","January 2016","6.000 X 9.000","Author","David E. Newton",null,null,null,null,"Z",null,"Grade 7 - 8","Grade 7 - 12","Thanks to modern medicine, people are living longer. But can our planet support such a large population? Experts weigh in on the subject, introducing readers to ideas and key details, including how populations grow, change, and how trends are measured. Take Action boxes suggest research activities students can do to increase their understanding of the issue.","English",37.270000000000003,27.95,"363.9'1--dc23","160 pp.","https://www.enslow.com/books/Overpopulation/4628",{"$f":"Table1[[#This Row],[QTY]]*Table1[[#This Row],['# of Books]]","v":0},{"$f":"Table1[[#This Row],[QTY]]*Table1[[#This Row],[School & Library Price]]","v":0}]
[null,null,null,"The End of Life as We Know It","Overpopulation: 7 Billion People and Counting",1,"eBook","978-0-7660-7313-5",{"$f":"HYPERLINK(Table1[[#This Row],[Hyperlink]],\"Weblink\")","v":"Weblink"},"Enslow Publishing","2016","January 2016",null,"Author","David E. Newton",null,null,null,null,"Z",null,"Grade 7 - 8","Grade 7 - 12","Thanks to modern medicine, people are living longer. But can our planet support such a large population? Experts weigh in on the subject, introducing readers to ideas and key details, including how populations grow, change, and how trends are measured. Take Action boxes suggest research activities students can do to increase their understanding of the issue.","English",37.270000000000003,27.95,"363.9'1--dc23","160 pp.","https://www.enslow.com/books/Overpopulation/4628",{"$f":"Table1[[#This Row],[QTY]]*Table1[[#This Row],['# of Books]]","v":0},{"$f":"Table1[[#This Row],[QTY]]*Table1[[#This Row],[School & Library Price]]","v":0}]
[null,null,null,"The End of Life as We Know It","Starving: Can We Feed Everyone?",1,"Library Bound Book","978-0-7660-7374-6",{"$f":"HYPERLINK(Table1[[#This Row],[Hyperlink]],\"Weblink\")","v":"Weblink"},"Enslow Publishing","2016","January 2016","6.000 X 9.000","Author","Lisa A. Wroble ",null,null,null,null,"Z",null,"Grade 7 - 8","Grade 7 - 12","There are more hungry people in the world than most students know. And with the human population growing every day, is there a possibility we will run out of food? Filled with current facts, key details, and expert analysis, this book introduces readers to the specifics of feeding a population, including problems, such as the dangers of overly processed food, and possible solutions, such as agroecology. Students will learn how to do their part to improve the situation through Take Action boxes that can be as simple as tracking the food they eat or as involved as starting a community garden.","English",37.270000000000003,27.95,"363.8--dc23","128 pp.","https://www.enslow.com/books/Starving/4645",{"$f":"Table1[[#This Row],[QTY]]*Table1[[#This Row],['# of Books]]","v":0},{"$f":"Table1[[#This Row],[QTY]]*Table1[[#This Row],[School & Library Price]]","v":0}]
[null,null,null,"The End of Life as We Know It","Starving: Can We Feed Everyone?",1,"eBook","978-0-7660-7375-3",{"$f":"HYPERLINK(Table1[[#This Row],[Hyperlink]],\"Weblink\")","v":"Weblink"},"Enslow Publishing","2016","January 2016",null,"Author","Lisa A. Wroble ",null,null,null,null,"Z",null,"Grade 7 - 8","Grade 7 - 12","There are more hungry people in the world than most students know. And with the human population growing every day, is there a possibility we will run out of food? Filled with current facts, key details, and expert analysis, this book introduces readers to the specifics of feeding a population, including problems, such as the dangers of overly processed food, and possible solutions, such as agroecology. Students will learn how to do their part to improve the situation through Take Action boxes that can be as simple as tracking the food they eat or as involved as starting a community garden.","English",37.270000000000003,27.95,"363.8--dc23","128 pp.","https://www.enslow.com/books/Starving/4645",{"$f":"Table1[[#This Row],[QTY]]*Table1[[#This Row],['# of Books]]","v":0},{"$f":"Table1[[#This Row],[QTY]]*Table1[[#This Row],[School & Library Price]]","v":0}]
[null,null,null,"Design, Build, Experiment","Astronomy Experiments in Your Own Observatory",1,"Library Bound Book","978-0-7660-6951-0",{"$f":"HYPERLINK(Table1[[#This Row],[Hyperlink]],\"Weblink\")","v":"Weblink"},"Enslow Publishing","2016","August 2015","6.500 X 9.250","Author","Robert Gardner",null,null,null,null,"Z",null,"Grade 7","Grade 6 - 12","Museums and colleges aren’t the only places that can have observatories. Now you can build your own observatory with easily accessible tools and supplies. Follow the directions in this book to use your observatory to view the stars and planets, develop hypotheses, and conduct experiments to test them out!","English",37.270000000000003,27.95,"522--d23","128 pp.","https://www.enslow.com/books/Astronomy_Experiments_in_Your_Own_Observatory/4464",{"$f":"Table1[[#This Row],[QTY]]*Table1[[#This Row],['# of Books]]","v":0},{"$f":"Table1[[#This Row],[QTY]]*Table1[[#This Row],[School & Library Price]]","v":0}]
[null,null,null,"Design, Build, Experiment","Astronomy Experiments in Your Own Observatory",1,"eBook","978-0-7660-6952-7",{"$f":"HYPERLINK(Table1[[#This Row],[Hyperlink]],\"Weblink\")","v":"Weblink"},"Enslow Publishing","2016","August 2015",null,"Author","Robert Gardner",null,null,null,null,"Z",null,"Grade 7","Grade 6 - 12","Museums and colleges aren’t the only places that can have observatories. Now you can build your own observatory with easily accessible tools and supplies. Follow the directions in this book to use your observatory to view the stars and planets, develop hypotheses, and conduct experiments to test them out!","English",37.270000000000003,27.95,"522--d23","128 pp.","https://www.enslow.com/books/Astronomy_Experiments_in_Your_Own_Observatory/4464",{"$f":"Table1[[#This Row],[QTY]]*Table1[[#This Row],['# of Books]]","v":0},{"$f":"Table1[[#This Row],[QTY]]*Table1[[#This Row],[School & Library Price]]","v":0}]
[null,null,null,"Design, Build, Experiment","Chemistry Experiments in Your Own Laboratory",1,"Library Bound Book","978-0-7660-6953-4",{"$f":"HYPERLINK(Table1[[#This Row],[Hyperlink]],\"Weblink\")","v":"Weblink"},"Enslow Publishing","2016","August 2015","6.500 X 9.250","Author","Robert Gardner",null,null,null,null,"Z",null,"Grade 7","Grade 6 - 12","Does mass change when water freezes? What is the source of the gas in a seltzer tablet? Find out in your own lab! Readers learn how to make their own laboratory with simple materials and household items. Then it's time to start experimenting! Step-by-step directions help you conduct your own experiments and test hypotheses. Perfect for the science fair!","English",37.270000000000003,27.95,"540.78--d23","128 pp.","https://www.enslow.com/books/Chemistry_Experiments_in_Your_Own_Laboratory/4465",{"$f":"Table1[[#This Row],[QTY]]*Table1[[#This Row],['# of Books]]","v":0},{"$f":"Table1[[#This Row],[QTY]]*Table1[[#This Row],[School & Library Price]]","v":0}]
[null,null,null,"Design, Build, Experiment","Chemistry Experiments in Your Own Laboratory",1,"eBook","978-0-7660-6954-1",{"$f":"HYPERLINK(Table1[[#This Row],[Hyperlink]],\"Weblink\")","v":"Weblink"},"Enslow Publishing","2016","August 2015",null,"Author","Robert Gardner",null,null,null,null,"Z",null,"Grade 7","Grade 6 - 12","Does mass change when water freezes? What is the source of the gas in a seltzer tablet? Find out in your own lab! Readers learn how to make their own laboratory with simple materials and household items. Then it's time to start experimenting! Step-by-step directions help you conduct your own experiments and test hypotheses. Perfect for the science fair!","English",37.270000000000003,27.95,"540.78--d23","128 pp.","https://www.enslow.com/books/Chemistry_Experiments_in_Your_Own_Laboratory/4465",{"$f":"Table1[[#This Row],[QTY]]*Table1[[#This Row],['# of Books]]","v":0},{"$f":"Table1[[#This Row],[QTY]]*Table1[[#This Row],[School & Library Price]]","v":0}]
[null,null,null,"Design, Build, Experiment","Forensic Science Experiments in Your Own Crime Lab",1,"Library Bound Book","978-0-7660-6955-8",{"$f":"HYPERLINK(Table1[[#This Row],[Hyperlink]],\"Weblink\")","v":"Weblink"},"Enslow Publishing","2016","August 2015","6.500 X 9.250","Author","Robert Gardner",null,null,null,null,"Z",null,"Grade 7","Grade 6 - 12","Ever wonder how forensics experts and law enforcement solve crimes? Learn how to build a crime lab of your very own with tools and supplies you can easily obtain. Then, following the step-by-step instructions, play the part of a forensic scientist by doing your own experiments, analyzing evidence and drawing conclusions.","English",37.270000000000003,27.95,"363.25--d23","128 pp.","https://www.enslow.com/books/Forensic_Science_Experiments_in_Your_Own_Crime_Lab/4466",{"$f":"Table1[[#This Row],[QTY]]*Table1[[#This Row],['# of Books]]","v":0},{"$f":"Table1[[#This Row],[QTY]]*Table1[[#This Row],[School & Library Price]]","v":0}]
[null,null,null,"Design, Build, Experiment","Forensic Science Experiments in Your Own Crime Lab",1,"eBook","978-0-7660-6956-5",{"$f":"HYPERLINK(Table1[[#This Row],[Hyperlink]],\"Weblink\")","v":"Weblink"},"Enslow Publishing","2016","August 2015",null,"Author","Robert Gardner",null,null,null,null,"Z",null,"Grade 7","Grade 6 - 12","Ever wonder how forensics experts and law enforcement solve crimes? Learn how to build a crime lab of your very own with tools and supplies you can easily obtain. Then, following the step-by-step instructions, play the part of a forensic scientist by doing your own experiments, analyzing evidence and drawing conclusions.","English",37.270000000000003,27.95,"363.25--d23","128 pp.","https://www.enslow.com/books/Forensic_Science_Experiments_in_Your_Own_Crime_Lab/4466",{"$f":"Table1[[#This Row],[QTY]]*Table1[[#This Row],['# of Books]]","v":0},{"$f":"Table1[[#This Row],[QTY]]*Table1[[#This Row],[School & Library Price]]","v":0}]
[null,null,null,"Design, Build, Experiment","Meteorology Experiments in Your Own Weather Station",1,"Library Bound Book","978-0-7660-6957-2",{"$f":"HYPERLINK(Table1[[#This Row],[Hyperlink]],\"Weblink\")","v":"Weblink"},"Enslow Publishing","2016","August 2015","6.500 X 9.250","Author","Robert Gardner",null,null,null,null,"Z",null,"Grade 7","Grade 6 - 12","Ever wonder how meteorologists predict the weather? Learn how to build a weather station of your very own with readily available tools and supplies. Then, following step-by-step directions, you can design and conduct experiments that will have you predicting the weather too!","English",37.270000000000003,27.95,"551.5078--d23","128 pp.","https://www.enslow.com/books/Meteorology_Experiments_in_Your_Own_Weather_Station/4467",{"$f":"Table1[[#This Row],[QTY]]*Table1[[#This Row],['# of Books]]","v":0},{"$f":"Table1[[#This Row],[QTY]]*Table1[[#This Row],[School & Library Price]]","v":0}]
[null,null,null,"Design, Build, Experiment","Meteorology Experiments in Your Own Weather Station",1,"eBook","978-0-7660-6976-3",{"$f":"HYPERLINK(Table1[[#This Row],[Hyperlink]],\"Weblink\")","v":"Weblink"},"Enslow Publishing","2016","August 2015",null,"Author","Robert Gardner",null,null,null,null,"Z",null,"Grade 7","Grade 6 - 12","Ever wonder how meteorologists predict the weather? Learn how to build a weather station of your very own with readily available tools and supplies. Then, following step-by-step directions, you can design and conduct experiments that will have you predicting the weather too!","English",37.270000000000003,27.95,"551.5078--d23","128 pp.","https://www.enslow.com/books/Meteorology_Experiments_in_Your_Own_Weather_Station/4467",{"$f":"Table1[[#This Row],[QTY]]*Table1[[#This Row],['# of Books]]","v":0},{"$f":"Table1[[#This Row],[QTY]]*Table1[[#This Row],[School & Library Price]]","v":0}]
[null,null,null,"Design, Build, Experiment","Physics Experiments in Your Own Light Box",1,"Library Bound Book","978-0-7660-6958-9",{"$f":"HYPERLINK(Table1[[#This Row],[Hyperlink]],\"Weblink\")","v":"Weblink"},"Enslow Publishing","2016","August 2015","6.500 X 9.250","Author","Robert Gardner",null,null,null,null,"Z",null,"Grade 7","Grade 6 - 12","Ever wonder about the science behind a rainbow? Now you can solve the mystery by building a light box of your own! Using tools and supplies you can easily find, conduct experiments and test hypotheses on reflection, refraction, shadows, color and more.","English",37.270000000000003,27.95,"530.078--d23","128 pp.","https://www.enslow.com/books/Physics_Experiments_in_Your_Own_Light_Box/4468",{"$f":"Table1[[#This Row],[QTY]]*Table1[[#This Row],['# of Books]]","v":0},{"$f":"Table1[[#This Row],[QTY]]*Table1[[#This Row],[School & Library Price]]","v":0}]
[null,null,null,"Design, Build, Experiment","Physics Experiments in Your Own Light Box",1,"eBook","978-0-7660-6959-6",{"$f":"HYPERLINK(Table1[[#This Row],[Hyperlink]],\"Weblink\")","v":"Weblink"},"Enslow Publishing","2016","August 2015",null,"Author","Robert Gardner",null,null,null,null,"Z",null,"Grade 7","Grade 6 - 12","Ever wonder about the science behind a rainbow? Now you can solve the mystery by building a light box of your own! Using tools and supplies you can easily find, conduct experiments and test hypotheses on reflection, refraction, shadows, color and more.","English",37.270000000000003,27.95,"530.078--d23","128 pp.","https://www.enslow.com/books/Physics_Experiments_in_Your_Own_Light_Box/4468",{"$f":"Table1[[#This Row],[QTY]]*Table1[[#This Row],['# of Books]]","v":0},{"$f":"Table1[[#This Row],[QTY]]*Table1[[#This Row],[School & Library Price]]","v":0}]
[null,null,null,"Design, Build, Experiment","Sound Experiments in Your Own Music Lab",1,"Library Bound Book","978-0-7660-6960-2",{"$f":"HYPERLINK(Table1[[#This Row],[Hyperlink]],\"Weblink\")","v":"Weblink"},"Enslow Publishing","2016","August 2015","6.500 X 9.250","Author","Robert Gardner",null,null,null,null,"Z",null,"Grade 7","Grade 6 - 12","Ever wonder how flutes, harps, guitars, pianos, or drums produce sound? Find out by building your own musical instruments! Using supplies and tools that are easy to find, you can experiment with frequency, vibration, harmonics, and more—all with homemade instruments. Follow the suggestions for expanding the ideas to develop your own unique science fair project!","English",37.270000000000003,27.95,"534.078--d23","128 pp.","https://www.enslow.com/books/Sound_Experiments_in_Your_Own_Music_Lab/4469",{"$f":"Table1[[#This Row],[QTY]]*Table1[[#This Row],['# of Books]]","v":0},{"$f":"Table1[[#This Row],[QTY]]*Table1[[#This Row],[School & Library Price]]","v":0}]
[null,null,null,"Design, Build, Experiment","Sound Experiments in Your Own Music Lab",1,"eBook","978-0-7660-6961-9",{"$f":"HYPERLINK(Table1[[#This Row],[Hyperlink]],\"Weblink\")","v":"Weblink"},"Enslow Publishing","2016","August 2015",null,"Author","Robert Gardner",null,null,null,null,"Z",null,"Grade 7","Grade 6 - 12","Ever wonder how flutes, harps, guitars, pianos, or drums produce sound? Find out by building your own musical instruments! Using supplies and tools that are easy to find, you can experiment with frequency, vibration, harmonics, and more—all with homemade instruments. Follow the suggestions for expanding the ideas to develop your own unique science fair project!","English",37.270000000000003,27.95,"534.078--d23","128 pp.","https://www.enslow.com/books/Sound_Experiments_in_Your_Own_Music_Lab/4469",{"$f":"Table1[[#This Row],[QTY]]*Table1[[#This Row],['# of Books]]","v":0},{"$f":"Table1[[#This Row],[QTY]]*Table1[[#This Row],[School & Library Price]]","v":0}]
[null,null,null,"Prize-Winning Science Fair Projects","Bicycle Science Fair Projects",1,"Library Bound Book","978-0-7660-7016-5",{"$f":"HYPERLINK(Table1[[#This Row],[Hyperlink]],\"Weblink\")","v":"Weblink"},"Enslow Publishing","2016","August 2015","6.500 X 9.250","Author","Robert Gardner",null,null,null,null,"Z","1020L","Grade 7","Grade 6 - 12","From demonstrating gravitational pull to measuring speed and efficiency, your bicycle is a great tool to use when planning your next science fair project. Diagrams, detailed instructions, and photographs make these projects easy to do, earning you that prize at the science fair!","English",37.270000000000003,27.95,"531’.6--d23","128 pp.","https://www.enslow.com/books/Bicycle_Science_Fair_Projects/4542",{"$f":"Table1[[#This Row],[QTY]]*Table1[[#This Row],['# of Books]]","v":0},{"$f":"Table1[[#This Row],[QTY]]*Table1[[#This Row],[School & Library Price]]","v":0}]
[null,null,null,"Prize-Winning Science Fair Projects","Bicycle Science Fair Projects",1,"eBook","978-0-7660-7017-2",null,"Enslow Publishing","2016","August 2015",null,"Author","Robert Gardner",null,null,null,null,"Z","1020L","Grade 7","Grade 6 - 12","From demonstrating gravitational pull to measuring speed and efficiency, your bicycle is a great tool to use when planning your next science fair project. Diagrams, detailed instructions, and photographs make these projects easy to do, earning you that prize at the science fair!","English",37.270000000000003,27.95,"531’.6--d23","128 pp.",null,{"$f":"Table1[[#This Row],[QTY]]*Table1[[#This Row],['# of Books]]","v":0},{"$f":"Table1[[#This Row],[QTY]]*Table1[[#This Row],[School & Library Price]]","v":0}]
[null,null,null,"Prize-Winning Science Fair Projects","Build Your Own Robot Science Fair Project",1,"Library Bound Book","978-0-7660-7018-9",{"$f":"HYPERLINK(Table1[[#This Row],[Hyperlink]],\"Weblink\")","v":"Weblink"},"Enslow Publishing","2016","August 2015","6.500 X 9.250","Author","Ed Sobey, Ph.D.",null,null,null,null,"Z","1010L","Grade 7","Grade 6 - 12","Design and build your own robots, RC cars, motors, and more with these prize-winning science fair ideas!","English",37.270000000000003,27.95,"629.8’92--d23","128 pp.","https://www.enslow.com/books/Build_Your_Own_Robot_Science_Fair_Project/4543",{"$f":"Table1[[#This Row],[QTY]]*Table1[[#This Row],['# of Books]]","v":0},{"$f":"Table1[[#This Row],[QTY]]*Table1[[#This Row],[School & Library Price]]","v":0}]
[null,null,null,"Prize-Winning Science Fair Projects","Build Your Own Robot Science Fair Project",1,"eBook","978-0-7660-7019-6",{"$f":"HYPERLINK(Table1[[#This Row],[Hyperlink]],\"Weblink\")","v":"Weblink"},"Enslow Publishing","2016","August 2015",null,"Author","Ed Sobey, Ph.D.",null,null,null,null,"Z","1010L","Grade 7","Grade 6 - 12","Design and build your own robots, RC cars, motors, and more with these prize-winning science fair ideas!","English",37.270000000000003,27.95,"629.8’92--d23","128 pp.","https://www.enslow.com/books/Build_Your_Own_Robot_Science_Fair_Project/4543",{"$f":"Table1[[#This Row],[QTY]]*Table1[[#This Row],['# of Books]]","v":0},{"$f":"Table1[[#This Row],[QTY]]*Table1[[#This Row],[School & Library Price]]","v":0}]
[null,null,null,"Prize-Winning Science Fair Projects","Science Fair Projects with Everyday Stuff",1,"Library Bound Book","978-0-7660-7020-2",{"$f":"HYPERLINK(Table1[[#This Row],[Hyperlink]],\"Weblink\")","v":"Weblink"},"Enslow Publishing","2016","August 2015","6.500 X 9.250","Author","Salvatore Tocci",null,null,null,null,"Z","970L","Grade 7","Grade 6 - 12","There's science behind everything. From testing how effective sunblock is to finding out how skin cream works to learning what chemicals are in aspirin besides pain relievers, these unique experiments use items you already have around the house. Investigate your world while you conduct a prize-winning science fair project!","English",37.270000000000003,27.95,"507’.8--d23","128 pp.","https://www.enslow.com/books/Science_Fair_Projects_with_Everyday_Stuff/4544",{"$f":"Table1[[#This Row],[QTY]]*Table1[[#This Row],['# of Books]]","v":0},{"$f":"Table1[[#This Row],[QTY]]*Table1[[#This Row],[School & Library Price]]","v":0}]
[null,null,null,"Prize-Winning Science Fair Projects","Science Fair Projects with Everyday Stuff",1,"eBook","978-0-7660-7021-9",{"$f":"HYPERLINK(Table1[[#This Row],[Hyperlink]],\"Weblink\")","v":"Weblink"},"Enslow Publishing","2016","August 2015",null,"Author","Salvatore Tocci",null,null,null,null,"Z","970L","Grade 7","Grade 6 - 12","There's science behind everything. From testing how effective sunblock is to finding out how skin cream works to learning what chemicals are in aspirin besides pain relievers, these unique experiments use items you already have around the house. Investigate your world while you conduct a prize-winning science fair project!","English",37.270000000000003,27.95,"507’.8--d23","128 pp.","https://www.enslow.com/books/Science_Fair_Projects_with_Everyday_Stuff/4544",{"$f":"Table1[[#This Row],[QTY]]*Table1[[#This Row],['# of Books]]","v":0},{"$f":"Table1[[#This Row],[QTY]]*Table1[[#This Row],[School & Library Price]]","v":0}]
[null,null,null,"Prize-Winning Science Fair Projects","Smelly Science Fair Projects",1,"Library Bound Book","978-0-7660-7022-6",{"$f":"HYPERLINK(Table1[[#This Row],[Hyperlink]],\"Weblink\")","v":"Weblink"},"Enslow Publishing","2016","August 2015","6.500 X 9.250","Author, Author","Leah M. Rybolt, Thomas R. Rybolt",null,null,null,null,"Z","960L","Grade 7","Grade 6 - 12","Your sense of smell plays a huge role in how you taste, what you remember, what attracts you, and what repels you. Through photos, diagrams, and hands-on experiments, you'll discover how to find out your odor threshold, conduct a jelly bean smell and taste test, and learn what makes those feet so stinky.","English",37.270000000000003,27.95,"612.8’6’078--d23","128 pp.","https://www.enslow.com/books/Smelly_Science_Fair_Projects/4545",{"$f":"Table1[[#This Row],[QTY]]*Table1[[#This Row],['# of Books]]","v":0},{"$f":"Table1[[#This Row],[QTY]]*Table1[[#This Row],[School & Library Price]]","v":0}]
[null,null,null,"Prize-Winning Science Fair Projects","Smelly Science Fair Projects",1,"eBook","978-0-7660-7023-3",{"$f":"HYPERLINK(Table1[[#This Row],[Hyperlink]],\"Weblink\")","v":"Weblink"},"Enslow Publishing","2016","August 2015",null,"Author, Author","Leah M. Rybolt, Thomas R. Rybolt",null,null,null,null,"Z","960L","Grade 7","Grade 6 - 12","Your sense of smell plays a huge role in how you taste, what you remember, what attracts you, and what repels you. Through photos, diagrams, and hands-on experiments, you'll discover how to find out your odor threshold, conduct a jelly bean smell and taste test, and learn what makes those feet so stinky.","English",37.270000000000003,27.95,"612.8’6’078--d23","128 pp.","https://www.enslow.com/books/Smelly_Science_Fair_Projects/4545",{"$f":"Table1[[#This Row],[QTY]]*Table1[[#This Row],['# of Books]]","v":0},{"$f":"Table1[[#This Row],[QTY]]*Table1[[#This Row],[School & Library Price]]","v":0}]
[null,null,null,"Prize-Winning Science Fair Projects","Soda Pop Science Fair Projects",1,"Library Bound Book","978-0-7660-7024-0",{"$f":"HYPERLINK(Table1[[#This Row],[Hyperlink]],\"Weblink\")","v":"Weblink"},"Enslow Publishing","2016","August 2015","6.500 X 9.250","Author","Thomas R. Rybolt",null,null,null,null,"Z",null,"Grade 7","Grade 6 - 12","Who knew you could do more with soda pop than just drink it? This collection of hands-on experiments allows you to have fun while investigating the properties of carbonated beverages. What causes soda to go flat? Can you identify your favorite cola by smell alone? How can you remove the coloring from soda? Using everyday objects, readers will learn about liquids, gases, acids, sugars, and more.  For a one-of-a-kind science fair project, just look in your fridge!","English",37.270000000000003,27.95,"663’.62--d23","128 pp.","https://www.enslow.com/books/Soda_Pop_Science_Fair_Projects/4546",{"$f":"Table1[[#This Row],[QTY]]*Table1[[#This Row],['# of Books]]","v":0},{"$f":"Table1[[#This Row],[QTY]]*Table1[[#This Row],[School & Library Price]]","v":0}]
[null,null,null,"Prize-Winning Science Fair Projects","Soda Pop Science Fair Projects",1,"eBook","978-0-7660-7025-7",{"$f":"HYPERLINK(Table1[[#This Row],[Hyperlink]],\"Weblink\")","v":"Weblink"},"Enslow Publishing","2016","August 2015",null,"Author","Thomas R. Rybolt",null,null,null,null,"Z",null,"Grade 7","Grade 6 - 12","Who knew you could do more with soda pop than just drink it? This collection of hands-on experiments allows you to have fun while investigating the properties of carbonated beverages. What causes soda to go flat? Can you identify your favorite cola by smell alone? How can you remove the coloring from soda? Using everyday objects, readers will learn about liquids, gases, acids, sugars, and more.  For a one-of-a-kind science fair project, just look in your fridge!","English",37.270000000000003,27.95,"663’.62--d23","128 pp.","https://www.enslow.com/books/Soda_Pop_Science_Fair_Projects/4546",{"$f":"Table1[[#This Row],[QTY]]*Table1[[#This Row],['# of Books]]","v":0},{"$f":"Table1[[#This Row],[QTY]]*Table1[[#This Row],[School & Library Price]]","v":0}]
[null,null,null,"Prize-Winning Science Fair Projects","Sports Science Fair Projects",1,"Library Bound Book","978-0-7660-7026-4",{"$f":"HYPERLINK(Table1[[#This Row],[Hyperlink]],\"Weblink\")","v":"Weblink"},"Enslow Publishing","2016","August 2015","6.500 X 9.250","Author","Madeline Goodstein",null,null,null,null,"Z",null,"Grade 7","Grade 6 - 12","Why do baseballs have stitches? Why do football have an oblong shape? How does a Ping-Pong ball change if you fill its center? Through these fun, step-by-step experiments, readers will discover the science behind the sports that they play. They'll take home a trophy for the science fair this season.","English",37.270000000000003,27.95,"530’.078--d23","128 pp.","https://www.enslow.com/books/Sports_Science_Fair_Projects/4547",{"$f":"Table1[[#This Row],[QTY]]*Table1[[#This Row],['# of Books]]","v":0},{"$f":"Table1[[#This Row],[QTY]]*Table1[[#This Row],[School & Library Price]]","v":0}]
[null,null,null,"Prize-Winning Science Fair Projects","Sports Science Fair Projects",1,"eBook","978-0-7660-7027-1",null,"Enslow Publishing","2016","August 2015",null,"Author","Madeline Goodstein",null,null,null,null,"Z",null,"Grade 7","Grade 6 - 12","Why do baseballs have stitches? Why do football have an oblong shape? How does a Ping-Pong ball change if you fill its center? Through these fun, step-by-step experiments, you will discover the science behind the sports that you play. Take home a trophy for the science fair this season!","English",37.270000000000003,27.95,null,"128 pp.",null,{"$f":"Table1[[#This Row],[QTY]]*Table1[[#This Row],['# of Books]]","v":0},{"$f":"Table1[[#This Row],[QTY]]*Table1[[#This Row],[School & Library Price]]","v":0}]
[null,null,null,"Decades of the 20th and 21st Centuries","The 1900s",1,"Library Bound Book","978-0-7660-6920-6",{"$f":"HYPERLINK(Table1[[#This Row],[Hyperlink]],\"Weblink\")","v":"Weblink"},"Enslow Publishing","2016","August 2015","6.500 X 9.125","Author","Stephen Feinstein",null,null,null,null,"Z","1040L","Grade 7","Grade 7 - 12","For the first time ever, human beings were in control of their environment. Airplanes, trains, and the first diesel engines let people go faster and farther than ever before. The birth of modern art and sound recording promised new cultural heights, while the invention of jazz music and the popularization of low-cost photography managed to bring societies closer together. This decade, from its arts and fashion to its politics and technological advancements, would help shape a culture and set the stage for the century ahead.","English",34.6,25.95,"973.8--dc23","96 pp.","https://www.enslow.com/books/The_1900s/4453",{"$f":"Table1[[#This Row],[QTY]]*Table1[[#This Row],['# of Books]]","v":0},{"$f":"Table1[[#This Row],[QTY]]*Table1[[#This Row],[School & Library Price]]","v":0}]
[null,null,null,"Decades of the 20th and 21st Centuries","The 1900s",1,"eBook","978-0-7660-6921-3",{"$f":"HYPERLINK(Table1[[#This Row],[Hyperlink]],\"Weblink\")","v":"Weblink"},"Enslow Publishing","2016","August 2015",null,"Author","Stephen Feinstein",null,null,null,null,"Z","1040L","Grade 7","Grade 7 - 12","For the first time ever, human beings were in control of their environment. Airplanes, trains, and the first diesel engines let people go faster and farther than ever before. The birth of modern art and sound recording promised new cultural heights, while the invention of jazz music and the popularization of low-cost photography managed to bring societies closer together. This decade, from its arts and fashion to its politics and technological advancements, would help shape a culture and set the stage for the century ahead.","English",34.6,25.95,"973.8--dc23","96 pp.","https://www.enslow.com/books/The_1900s/4453",{"$f":"Table1[[#This Row],[QTY]]*Table1[[#This Row],['# of Books]]","v":0},{"$f":"Table1[[#This Row],[QTY]]*Table1[[#This Row],[School & Library Price]]","v":0}]
[null,null,null,"Decades of the 20th and 21st Centuries","The 1910s",1,"Library Bound Book","978-0-7660-6922-0",{"$f":"HYPERLINK(Table1[[#This Row],[Hyperlink]],\"Weblink\")","v":"Weblink"},"Enslow Publishing","2016","August 2015","6.500 X 9.125","Author","Stephen Feinstein",null,null,null,null,"Z",null,"Grade 7","Grade 7 - 12","From the invention of the motorcar and the widespread use of the radio to Albert Einstein's theory of relativity and Charlie Chaplin's entertaining silent films, the 1910s held more promise than any decade before it. But the sinking of the Titanic, the eruption of World War I, race riots, and the deadly Spanish flu pandemic proved there were growing pains to be experienced. Explore the people and events of one of the most unique periods in history.","English",34.6,25.95,"973.91'2--dc23","96 pp.","https://www.enslow.com/books/The_1910s/4454",{"$f":"Table1[[#This Row],[QTY]]*Table1[[#This Row],['# of Books]]","v":0},{"$f":"Table1[[#This Row],[QTY]]*Table1[[#This Row],[School & Library Price]]","v":0}]
[null,null,null,"Decades of the 20th and 21st Centuries","The 1910s",1,"eBook","978-0-7660-6923-7",{"$f":"HYPERLINK(Table1[[#This Row],[Hyperlink]],\"Weblink\")","v":"Weblink"},"Enslow Publishing","2016","August 2015",null,"Author","Stephen Feinstein",null,null,null,null,"Z",null,"Grade 7","Grade 7 - 12","From the invention of the motorcar and the widespread use of the radio to Albert Einstein's theory of relativity and Charlie Chaplin's entertaining silent films, the 1910s held more promise than any decade before it. But the sinking of the Titanic, the eruption of World War I, race riots, and the deadly Spanish flu pandemic proved there were growing pains to be experienced. Explore the people and events of one of the most unique periods in history.","English",34.6,25.95,"973.91'2--dc23","96 pp.","https://www.enslow.com/books/The_1910s/4454",{"$f":"Table1[[#This Row],[QTY]]*Table1[[#This Row],['# of Books]]","v":0},{"$f":"Table1[[#This Row],[QTY]]*Table1[[#This Row],[School & Library Price]]","v":0}]
[null,null,null,"Decades of the 20th and 21st Centuries","The 1920s",1,"Library Bound Book","978-0-7660-6924-4",{"$f":"HYPERLINK(Table1[[#This Row],[Hyperlink]],\"Weblink\")","v":"Weblink"},"Enslow Publishing","2016","August 2015","6.500 X 9.125","Author","Stephen Feinstein",null,null,null,null,"Z","1100L","Grade 7","Grade 7 - 12","Suffragettes won women the right to vote in the United States. Babe Ruth was the biggest name in sports. The \"Lost Generation\" created music and literature that would speak to everyone. Prohibition created gangsters and mob bosses. And silent films gave way to talking ones. The 1920s was a decade full of idealization, prosperity, and creativity, leading a generation of Americans out of war and into a golden age.","English",34.6,25.95,"973.91'4--dc23","96 pp.","https://www.enslow.com/books/The_1920s/4455",{"$f":"Table1[[#This Row],[QTY]]*Table1[[#This Row],['# of Books]]","v":0},{"$f":"Table1[[#This Row],[QTY]]*Table1[[#This Row],[School & Library Price]]","v":0}]
[null,null,null,"Decades of the 20th and 21st Centuries","The 1920s",1,"eBook","978-0-7660-6925-1",{"$f":"HYPERLINK(Table1[[#This Row],[Hyperlink]],\"Weblink\")","v":"Weblink"},"Enslow Publishing","2016","August 2015",null,"Author","Stephen Feinstein",null,null,null,null,"Z","1100L","Grade 7","Grade 7 - 12","Suffragettes won women the right to vote in the United States. Babe Ruth was the biggest name in sports. The \"Lost Generation\" created music and literature that would speak to everyone. Prohibition created gangsters and mob bosses. And silent films gave way to talking ones. The 1920s was a decade full of idealization, prosperity, and creativity, leading a generation of Americans out of war and into a golden age.","English",34.6,25.95,"973.91'4--dc23","96 pp.","https://www.enslow.com/books/The_1920s/4455",{"$f":"Table1[[#This Row],[QTY]]*Table1[[#This Row],['# of Books]]","v":0},{"$f":"Table1[[#This Row],[QTY]]*Table1[[#This Row],[School & Library Price]]","v":0}]
[null,null,null,"Decades of the 20th and 21st Centuries","The 1930s",1,"Library Bound Book","978-0-7660-6926-8",{"$f":"HYPERLINK(Table1[[#This Row],[Hyperlink]],\"Weblink\")","v":"Weblink"},"Enslow Publishing","2016","August 2015","6.500 X 9.125","Author","Stephen Feinstein",null,null,null,null,"Z","1100L","Grade 7","Grade 7 - 12","Dust storms ravaged the Great Plains, and the economy crashed, leaving thousands unemployed, homeless, and hungry. Nazism began its rise to power in Germany, and a hurricane devastated New England. The 1930s were a time of enormous devastation, but also of great progress. Franklin D. Roosevelt promised a New Deal for America. Amelia Earhart attempted to become the first woman to fly around the world. Walt Disney began a media empire that would change entertainment forever. The 1930s would shape America and the world, with each new policy and invention creating the backdrop for a new world power.","English",34.6,25.95,"973.91'6--dc23","96 pp.","https://www.enslow.com/books/The_1930s/4456",{"$f":"Table1[[#This Row],[QTY]]*Table1[[#This Row],['# of Books]]","v":0},{"$f":"Table1[[#This Row],[QTY]]*Table1[[#This Row],[School & Library Price]]","v":0}]
[null,null,null,"Decades of the 20th and 21st Centuries","The 1930s",1,"eBook","978-0-7660-6927-5",{"$f":"HYPERLINK(Table1[[#This Row],[Hyperlink]],\"Weblink\")","v":"Weblink"},"Enslow Publishing","2016","August 2015",null,"Author","Stephen Feinstein",null,null,null,null,"Z","1100L","Grade 7","Grade 7 - 12","Dust storms ravaged the Great Plains, and the economy crashed, leaving thousands unemployed, homeless, and hungry. Nazism began its rise to power in Germany, and a hurricane devastated New England. The 1930s were a time of enormous devastation, but also of great progress. Franklin D. Roosevelt promised a New Deal for America. Amelia Earhart attempted to become the first woman to fly around the world. Walt Disney began a media empire that would change entertainment forever. The 1930s would shape America and the world, with each new policy and invention creating the backdrop for a new world power.","English",34.6,25.95,"973.91'6--dc23","96 pp.","https://www.enslow.com/books/The_1930s/4456",{"$f":"Table1[[#This Row],[QTY]]*Table1[[#This Row],['# of Books]]","v":0},{"$f":"Table1[[#This Row],[QTY]]*Table1[[#This Row],[School & Library Price]]","v":0}]
[null,null,null,"Decades of the 20th and 21st Centuries","The 1940s",1,"Library Bound Book","978-0-7660-6928-2",{"$f":"HYPERLINK(Table1[[#This Row],[Hyperlink]],\"Weblink\")","v":"Weblink"},"Enslow Publishing","2016","August 2015","6.500 X 9.125","Author","Stephen Feinstein",null,null,null,null,"Z",null,"Grade 7","Grade 7 - 12","A decade of invention, adaptation, and creation, the 1940s were also a time of world conflict. From big band music, bobbysoxers, and Frank Sinatra to World War II, Rosie the Riveter, and the atomic bomb, readers will trace the changing attitudes of Americans through the decade. See how World War II helped end the poverty and despair of the Great Depression, ushering in a new time of prosperity in which Americans felt comfortable pursuing dreams of home ownership and family.","English",34.6,25.95,"973.918--dc23","96 pp.","https://www.enslow.com/books/The_1940s/4457",{"$f":"Table1[[#This Row],[QTY]]*Table1[[#This Row],['# of Books]]","v":0},{"$f":"Table1[[#This Row],[QTY]]*Table1[[#This Row],[School & Library Price]]","v":0}]
[null,null,null,"Decades of the 20th and 21st Centuries","The 1940s",1,"eBook","978-0-7660-6929-9",{"$f":"HYPERLINK(Table1[[#This Row],[Hyperlink]],\"Weblink\")","v":"Weblink"},"Enslow Publishing","2016","August 2015",null,"Author","Stephen Feinstein",null,null,null,null,"Z",null,"Grade 7","Grade 7 - 12","A decade of invention, adaptation, and creation, the 1940s were also a time of world conflict. From big band music, bobbysoxers, and Frank Sinatra to World War II, Rosie the Riveter, and the atomic bomb, readers will trace the changing attitudes of Americans through the decade. See how World War II helped end the poverty and despair of the Great Depression, ushering in a new time of prosperity in which Americans felt comfortable pursuing dreams of home ownership and family.","English",34.6,25.95,"973.918--dc23","96 pp.","https://www.enslow.com/books/The_1940s/4457",{"$f":"Table1[[#This Row],[QTY]]*Table1[[#This Row],['# of Books]]","v":0},{"$f":"Table1[[#This Row],[QTY]]*Table1[[#This Row],[School & Library Price]]","v":0}]
[null,null,null,"Decades of the 20th and 21st Centuries","The 1950s",1,"Library Bound Book","978-0-7660-6930-5",{"$f":"HYPERLINK(Table1[[#This Row],[Hyperlink]],\"Weblink\")","v":"Weblink"},"Enslow Publishing","2016","August 2015","6.500 X 9.125","Author","Stephen Feinstein",null,null,null,null,"Z",null,"Grade 7","Grade 7 - 12","During the 1950s, the United States became a world leader in business, technology, and health care. The invention of the polio vaccine and the establishment of NASA set the stage for scientific advancement. Rosa Parks refused to give up her bus seat, spurring the civil rights movement. However, U.S. troops fought to a deadlock in Korea, the Soviet Union took an early lead in the Space Race, and Americans worried about the presence of Soviet spies. Social mores were being tested by new thinking, new music, and new idols. The 1950s would prove to be a decade that would reimagine pop culture, the new normal, and the American Dream.","English",34.6,25.95,"973.918--dc23","96 pp.","https://www.enslow.com/books/The_1950s/4458",{"$f":"Table1[[#This Row],[QTY]]*Table1[[#This Row],['# of Books]]","v":0},{"$f":"Table1[[#This Row],[QTY]]*Table1[[#This Row],[School & Library Price]]","v":0}]
[null,null,null,"Decades of the 20th and 21st Centuries","The 1950s",1,"eBook","978-0-7660-6931-2",{"$f":"HYPERLINK(Table1[[#This Row],[Hyperlink]],\"Weblink\")","v":"Weblink"},"Enslow Publishing","2016","August 2015",null,"Author","Stephen Feinstein",null,null,null,null,"Z",null,"Grade 7","Grade 7 - 12","During the 1950s, the United States became a world leader in business, technology, and health care. The invention of the polio vaccine and the establishment of NASA set the stage for scientific advancement. Rosa Parks refused to give up her bus seat, spurring the civil rights movement. However, U.S. troops fought to a deadlock in Korea, the Soviet Union took an early lead in the Space Race, and Americans worried about the presence of Soviet spies. Social mores were being tested by new thinking, new music, and new idols. The 1950s would prove to be a decade that would reimagine pop culture, the new normal, and the American Dream.","English",34.6,25.95,"973.918--dc23","96 pp.","https://www.enslow.com/books/The_1950s/4458",{"$f":"Table1[[#This Row],[QTY]]*Table1[[#This Row],['# of Books]]","v":0},{"$f":"Table1[[#This Row],[QTY]]*Table1[[#This Row],[School & Library Price]]","v":0}]
[null,null,null,"Decades of the 20th and 21st Centuries","The 1960s",1,"Library Bound Book","978-0-7660-6932-9",{"$f":"HYPERLINK(Table1[[#This Row],[Hyperlink]],\"Weblink\")","v":"Weblink"},"Enslow Publishing","2016","August 2015","6.500 X 9.125","Author","Stephen Feinstein",null,null,null,null,"Z",null,"Grade 7","Grade 7 - 12","The 1960s were an exciting and unsettling time for America. Hippies protested the Vietnam War, astronauts walked on the moon, and Martin Luther King, Jr., lead the way to equal rights for African-Americans. Soldiers battled in the jungles of Southeast Asia. Inspirational leaders fell victim to assassins’ bullets. The Bay of Pigs invasion and ensuing Cuban Missile Crisis pushed the world toward nuclear war. The Beatles changed rock 'n' roll forever.","English",34.6,25.95,"973.922--dc23","96 pp.","https://www.enslow.com/books/The_1960s/4459",{"$f":"Table1[[#This Row],[QTY]]*Table1[[#This Row],['# of Books]]","v":0},{"$f":"Table1[[#This Row],[QTY]]*Table1[[#This Row],[School & Library Price]]","v":0}]
[null,null,null,"Decades of the 20th and 21st Centuries","The 1960s",1,"eBook","978-0-7660-6933-6",{"$f":"HYPERLINK(Table1[[#This Row],[Hyperlink]],\"Weblink\")","v":"Weblink"},"Enslow Publishing","2016","August 2015",null,"Author","Stephen Feinstein",null,null,null,null,"Z",null,"Grade 7","Grade 7 - 12","The 1960s were an exciting and unsettling time for America. Hippies protested the Vietnam War, astronauts walked on the moon, and Martin Luther King, Jr., lead the way to equal rights for African-Americans. Soldiers battled in the jungles of Southeast Asia. Inspirational leaders fell victim to assassins’ bullets. The Bay of Pigs invasion and ensuing Cuban Missile Crisis pushed the world toward nuclear war. The Beatles changed rock 'n' roll forever.","English",34.6,25.95,"973.922--dc23","96 pp.","https://www.enslow.com/books/The_1960s/4459",{"$f":"Table1[[#This Row],[QTY]]*Table1[[#This Row],['# of Books]]","v":0},{"$f":"Table1[[#This Row],[QTY]]*Table1[[#This Row],[School & Library Price]]","v":0}]
[null,null,null,"Decades of the 20th and 21st Centuries","The 1970s",1,"Library Bound Book","978-0-7660-6934-3",{"$f":"HYPERLINK(Table1[[#This Row],[Hyperlink]],\"Weblink\")","v":"Weblink"},"Enslow Publishing","2016","August 2015","6.500 X 9.125","Author","Stephen Feinstein",null,null,null,null,"Z",null,"Grade 7","Grade 7 - 12","The 1970s were a time of protest and change. President Nixon broke the law and caused the Watergate scandal, American dependency on oil increased, and the military draft sent thousands of young men to fight in Vietnam. But 1970s were happy times, too. The nation celebrated two hundred years of independence. Audiences enjoyed hit films such as Star Wars and Jaws. People dressed in funky clothes and danced to the beat of disco music.","English",34.6,25.95,"973.924--dc23","96 pp.","https://www.enslow.com/books/The_1970s/4460",{"$f":"Table1[[#This Row],[QTY]]*Table1[[#This Row],['# of Books]]","v":0},{"$f":"Table1[[#This Row],[QTY]]*Table1[[#This Row],[School & Library Price]]","v":0}]
[null,null,null,"Decades of the 20th and 21st Centuries","The 1970s",1,"eBook","978-0-7660-6975-6",{"$f":"HYPERLINK(Table1[[#This Row],[Hyperlink]],\"Weblink\")","v":"Weblink"},"Enslow Publishing","2016","August 2015",null,"Author","Stephen Feinstein",null,null,null,null,"Z",null,"Grade 7","Grade 7 - 12","The 1970s were a time of protest and change. President Nixon broke the law and caused the Watergate scandal, American dependency on oil increased, and the military draft sent thousands of young men to fight in Vietnam. But 1970s were happy times, too. The nation celebrated two hundred years of independence. Audiences enjoyed hit films such as Star Wars and Jaws. People dressed in funky clothes and danced to the beat of disco music.","English",34.6,25.95,"973.924--dc23","96 pp.","https://www.enslow.com/books/The_1970s/4460",{"$f":"Table1[[#This Row],[QTY]]*Table1[[#This Row],['# of Books]]","v":0},{"$f":"Table1[[#This Row],[QTY]]*Table1[[#This Row],[School & Library Price]]","v":0}]
[null,null,null,"Decades of the 20th and 21st Centuries","The 1980s",1,"Library Bound Book","978-0-7660-6935-0",{"$f":"HYPERLINK(Table1[[#This Row],[Hyperlink]],\"Weblink\")","v":"Weblink"},"Enslow Publishing","2016","August 2015","6.500 X 9.125","Author","Stephen Feinstein",null,null,null,null,"Z",null,"Grade 7","Grade 7 - 12","The 1980s were a time of tremendous growth and prosperity. The Cold War ended. The human population on earth was the largest it had ever been. Computers and video games became readily available. Cable television brought a diversity of entertainment to the American household. Severe social, economic, and military pressures forced the Soviet Union to abandon its longstanding political doctrine. Although the Space Shuttle Challenger exploded and the worst nuclear power accident in history occurred in Chernobyl, the 1980s were a decade filled with wild style and economic stability, ushering in a new wave of hope for the future.","English",34.6,25.95,"973.927--dc23","96 pp.","https://www.enslow.com/books/The_1980s/4461",{"$f":"Table1[[#This Row],[QTY]]*Table1[[#This Row],['# of Books]]","v":0},{"$f":"Table1[[#This Row],[QTY]]*Table1[[#This Row],[School & Library Price]]","v":0}]
[null,null,null,"Decades of the 20th and 21st Centuries","The 1980s",1,"eBook","978-0-7660-6936-7",{"$f":"HYPERLINK(Table1[[#This Row],[Hyperlink]],\"Weblink\")","v":"Weblink"},"Enslow Publishing","2016","August 2015",null,"Author","Stephen Feinstein",null,null,null,null,"Z",null,"Grade 7","Grade 7 - 12","The 1980s were a time of tremendous growth and prosperity. The Cold War ended. The human population on earth was the largest it had ever been. Computers and video games became readily available. Cable television brought a diversity of entertainment to the American household. Severe social, economic, and military pressures forced the Soviet Union to abandon its longstanding political doctrine. Although the Space Shuttle Challenger exploded and the worst nuclear power accident in history occurred in Chernobyl, the 1980s were a decade filled with wild style and economic stability, ushering in a new wave of hope for the future.","English",34.6,25.95,"973.927--dc23","96 pp.","https://www.enslow.com/books/The_1980s/4461",{"$f":"Table1[[#This Row],[QTY]]*Table1[[#This Row],['# of Books]]","v":0},{"$f":"Table1[[#This Row],[QTY]]*Table1[[#This Row],[School & Library Price]]","v":0}]
[null,null,null,"Decades of the 20th and 21st Centuries","The 1990s",1,"Library Bound Book","978-0-7660-6937-4",{"$f":"HYPERLINK(Table1[[#This Row],[Hyperlink]],\"Weblink\")","v":"Weblink"},"Enslow Publishing","2016","August 2015","6.500 X 9.125","Author","Stephen Feinstein",null,null,null,null,"Z",null,"Grade 7","Grade 7 - 12","The economic prosperity and technological advancement of the 1990s were counterbalanced by a sharp rise in terrorism. Following a military and diplomatic triumph in the first Persian Gulf War, Americans focused largely on domestic issues. Despite enhanced communications through the Internet, the world was slow to react to growing humanitarian crises in Africa and the Balkans. Grunge and hip-hop dominated the music scene. The last decade of the 20th century embodied Americans' excitement and fears for the future.","English",34.6,25.95,"973.929--dc23","96 pp.","https://www.enslow.com/books/The_1990s/4462",{"$f":"Table1[[#This Row],[QTY]]*Table1[[#This Row],['# of Books]]","v":0},{"$f":"Table1[[#This Row],[QTY]]*Table1[[#This Row],[School & Library Price]]","v":0}]
[null,null,null,"Decades of the 20th and 21st Centuries","The 1990s",1,"eBook","978-0-7660-6938-1",{"$f":"HYPERLINK(Table1[[#This Row],[Hyperlink]],\"Weblink\")","v":"Weblink"},"Enslow Publishing","2016","August 2015",null,"Author","Stephen Feinstein",null,null,null,null,"Z",null,"Grade 7","Grade 7 - 12","The economic prosperity and technological advancement of the 1990s were counterbalanced by a sharp rise in terrorism. Following a military and diplomatic triumph in the first Persian Gulf War, Americans focused largely on domestic issues. Despite enhanced communications through the Internet, the world was slow to react to growing humanitarian crises in Africa and the Balkans. Grunge and hip-hop dominated the music scene. The last decade of the 20th century embodied Americans' excitement and fears for the future.","English",34.6,25.95,"973.929--dc23","96 pp.","https://www.enslow.com/books/The_1990s/4462",{"$f":"Table1[[#This Row],[QTY]]*Table1[[#This Row],['# of Books]]","v":0},{"$f":"Table1[[#This Row],[QTY]]*Table1[[#This Row],[School & Library Price]]","v":0}]
[null,null,null,"Decades of the 20th and 21st Centuries","The 2000s",1,"Library Bound Book","978-0-7660-6939-8",{"$f":"HYPERLINK(Table1[[#This Row],[Hyperlink]],\"Weblink\")","v":"Weblink"},"Enslow Publishing","2016","August 2015","6.500 X 9.125","Author","Stephen Feinstein",null,null,null,null,"Z",null,"Grade 7","Grade 7 - 12","The first decade of the new millennium ushered in an age of unprecedented amounts of information through the Internet and electronic media. The US was attacked in 2001, changing the face of New York City forever. There was economic slowdown, political divisiveness, and unprecedented terrorism. US-led invasions of Afghanistan and Iraq achieved their initial goals, then devolved into bloody guerrilla conflicts. International competition for energy resources escalated dramatically. Then, in 2008, a time of change began when Barack Obama was elected president. As the 2000s moved forward, people changed the way they socialized, worked, and even entertained.","English",34.6,25.95,"973.931--dc23","96 pp.","https://www.enslow.com/books/The_2000s/4463",{"$f":"Table1[[#This Row],[QTY]]*Table1[[#This Row],['# of Books]]","v":0},{"$f":"Table1[[#This Row],[QTY]]*Table1[[#This Row],[School & Library Price]]","v":0}]
[null,null,null,"Decades of the 20th and 21st Centuries","The 2000s",1,"eBook","978-0-7660-6940-4",{"$f":"HYPERLINK(Table1[[#This Row],[Hyperlink]],\"Weblink\")","v":"Weblink"},"Enslow Publishing","2016","August 2015",null,"Author","Stephen Feinstein",null,null,null,null,"Z",null,"Grade 7","Grade 7 - 12","The first decade of the new millennium ushered in an age of unprecedented amounts of information through the Internet and electronic media. The US was attacked in 2001, changing the face of New York City forever. There was economic slowdown, political divisiveness, and unprecedented terrorism. US-led invasions of Afghanistan and Iraq achieved their initial goals, then devolved into bloody guerrilla conflicts. International competition for energy resources escalated dramatically. Then, in 2008, a time of change began when Barack Obama was elected president. As the 2000s moved forward, people changed the way they socialized, worked, and even entertained.","English",34.6,25.95,"973.931--dc23","96 pp.","https://www.enslow.com/books/The_2000s/4463",{"$f":"Table1[[#This Row],[QTY]]*Table1[[#This Row],['# of Books]]","v":0},{"$f":"Table1[[#This Row],[QTY]]*Table1[[#This Row],[School & Library Price]]","v":0}]
[null,null,null,"Our Shared History","Puerto Rico: From Colony to Commonwealth",1,"Library Bound Book","978-0-7660-7004-2",{"$f":"HYPERLINK(Table1[[#This Row],[Hyperlink]],\"Weblink\")","v":"Weblink"},"Enslow Publishing","2016","August 2015","6.000 X 9.000","Author","Richard Worth",null,null,null,null,"Z","960L","Grade 7","Grade 6 - 12","After the Spanish-American War brought Puerto Rico under the control of the United States, the island transformed from an agricultural colony to a densely populated American commonwealth. Explore the island’s rich history, from the early clash between Spanish colonists and the Taino people to the vibrant, yet uncertain, future of this growing nation.","English",37.270000000000003,27.95,"972.95--d23","128 pp.","https://www.enslow.com/books/Puerto_Rico/4530",{"$f":"Table1[[#This Row],[QTY]]*Table1[[#This Row],['# of Books]]","v":0},{"$f":"Table1[[#This Row],[QTY]]*Table1[[#This Row],[School & Library Price]]","v":0}]
[null,null,null,"Our Shared History","Puerto Rico: From Colony to Commonwealth",1,"eBook","978-0-7660-7005-9",{"$f":"HYPERLINK(Table1[[#This Row],[Hyperlink]],\"Weblink\")","v":"Weblink"},"Enslow Publishing","2016","August 2015",null,"Author","Richard Worth",null,null,null,null,"Z","960L","Grade 7","Grade 6 - 12","After the Spanish-American War brought Puerto Rico under the control of the United States, the island transformed from an agricultural colony to a densely populated American commonwealth. Explore the island’s rich history, from the early clash between Spanish colonists and the Taino people to the vibrant, yet uncertain, future of this growing nation.","English",37.270000000000003,27.95,"972.95--d23","128 pp.","https://www.enslow.com/books/Puerto_Rico/4530",{"$f":"Table1[[#This Row],[QTY]]*Table1[[#This Row],['# of Books]]","v":0},{"$f":"Table1[[#This Row],[QTY]]*Table1[[#This Row],[School & Library Price]]","v":0}]
[null,null,null,"Our Shared History","The Fight for Latino Civil Rights",1,"Library Bound Book","978-0-7660-7006-6",{"$f":"HYPERLINK(Table1[[#This Row],[Hyperlink]],\"Weblink\")","v":"Weblink"},"Enslow Publishing","2016","August 2015","6.000 X 9.000","Author","Bárbara C. Cruz",null,null,null,null,"Z","1160L","Grade 7","Grade 6 - 12","The fight for civil rights is stronger today than ever before, particularly for the largest minority population in the United States, which are Latinos. Readers learn about Latino history in the United States, from the missionary Father Junípero Serra to the activist Cesar Chavez to Supreme Court Justice Sonia Sotomayor, and the continuing struggle for equality and justice.","English",37.270000000000003,27.95,"323.119468073--d23","160 pp.","https://www.enslow.com/books/The_Fight_for_Latino_Civil_Rights/4531",{"$f":"Table1[[#This Row],[QTY]]*Table1[[#This Row],['# of Books]]","v":0},{"$f":"Table1[[#This Row],[QTY]]*Table1[[#This Row],[School & Library Price]]","v":0}]
[null,null,null,"Our Shared History","The Fight for Latino Civil Rights",1,"eBook","978-0-7660-7007-3",{"$f":"HYPERLINK(Table1[[#This Row],[Hyperlink]],\"Weblink\")","v":"Weblink"},"Enslow Publishing","2016","August 2015",null,"Author","Bárbara C. Cruz",null,null,null,null,"Z","1160L","Grade 7","Grade 6 - 12","The fight for civil rights is stronger today than ever before, particularly for the largest minority population in the United States, which are Latinos. Readers learn about Latino history in the United States, from the missionary Father Junípero Serra to the activist Cesar Chavez to Supreme Court Justice Sonia Sotomayor, and the continuing struggle for equality and justice.","English",37.270000000000003,27.95,"323.119468073--d23","160 pp.","https://www.enslow.com/books/The_Fight_for_Latino_Civil_Rights/4531",{"$f":"Table1[[#This Row],[QTY]]*Table1[[#This Row],['# of Books]]","v":0},{"$f":"Table1[[#This Row],[QTY]]*Table1[[#This Row],[School & Library Price]]","v":0}]
[null,null,null,"Our Shared History","The Internment of Japanese Americans",1,"Library Bound Book","978-0-7660-7008-0",{"$f":"HYPERLINK(Table1[[#This Row],[Hyperlink]],\"Weblink\")","v":"Weblink"},"Enslow Publishing","2016","August 2015","6.000 X 9.000","Author, Author","Charlotte Taylor, Deborah Kent",null,null,null,null,"Z","940L","Grade 7","Grade 6 - 12","Before World War II, Japanese Americans worked hard to adapt to American life while creating tight-knit communities. But after Japan bombed Pearl Harbor, everything changed. The U.S. government sent 120,000 Americans of Japanese descent into internment camps. Learn the sad history of the camps, the reasons behind their creation, how the internees made the best of their deplorable situation, and how they finally received an official apology from the US government.","English",37.270000000000003,27.95,"940.53’1773--d23","128 pp.","https://www.enslow.com/books/The_Internment_of_Japanese_Americans/4532",{"$f":"Table1[[#This Row],[QTY]]*Table1[[#This Row],['# of Books]]","v":0},{"$f":"Table1[[#This Row],[QTY]]*Table1[[#This Row],[School & Library Price]]","v":0}]
[null,null,null,"Our Shared History","The Internment of Japanese Americans",1,"eBook","978-0-7660-7009-7",{"$f":"HYPERLINK(Table1[[#This Row],[Hyperlink]],\"Weblink\")","v":"Weblink"},"Enslow Publishing","2016","August 2015",null,"Author, Author","Charlotte Taylor, Deborah Kent",null,null,null,null,"Z","940L","Grade 7","Grade 6 - 12","Before World War II, Japanese Americans worked hard to adapt to American life while creating tight-knit communities. But after Japan bombed Pearl Harbor, everything changed. The U.S. government sent 120,000 Americans of Japanese descent into internment camps. Learn the sad history of the camps, the reasons behind their creation, how the internees made the best of their deplorable situation, and how they finally received an official apology from the US government.","English",37.270000000000003,27.95,"940.53’1773--d23","128 pp.","https://www.enslow.com/books/The_Internment_of_Japanese_Americans/4532",{"$f":"Table1[[#This Row],[QTY]]*Table1[[#This Row],['# of Books]]","v":0},{"$f":"Table1[[#This Row],[QTY]]*Table1[[#This Row],[School & Library Price]]","v":0}]
[null,null,null,"Our Shared History","The Little Rock Nine and School Desegregation",1,"Library Bound Book","978-0-7660-7010-3",{"$f":"HYPERLINK(Table1[[#This Row],[Hyperlink]],\"Weblink\")","v":"Weblink"},"Enslow Publishing","2016","August 2015","6.000 X 9.000","Author, Author","Charlotte Taylor, Mara Miller",null,null,null,null,"Z",null,"Grade 7","Grade 6 - 12","Nine African-American teenagers from Little Rock, Arkansas, changed history when they went to Little Rock Central High School in 1957. Why? Because the school had previously been segregated. Read about their amazing story, their courageous determination, and how they succeeded in helping to eliminate segregation from the American school system forever.","English",37.270000000000003,27.95,"379.2’630976773--d23","128 pp.","https://www.enslow.com/books/The_Little_Rock_Nine_and_School_Desegregation/4533",{"$f":"Table1[[#This Row],[QTY]]*Table1[[#This Row],['# of Books]]","v":0},{"$f":"Table1[[#This Row],[QTY]]*Table1[[#This Row],[School & Library Price]]","v":0}]
[null,null,null,"Our Shared History","The Relocation of Native Peoples of North America",1,"Library Bound Book","978-0-7660-7012-7",{"$f":"HYPERLINK(Table1[[#This Row],[Hyperlink]],\"Weblink\")","v":"Weblink"},"Enslow Publishing","2016","August 2015","6.000 X 9.000","Author, Author","Judith Edwards, Nicki Peter Petrikowski ",null,null,null,null,"Z","1210L","Grade 7","Grade 6 - 12","When the first European settlers arrived in what would become the United States and Canada, the lives of the native peoples of North America changed forever. As the two nations grew, native peoples were pushed off the land they called home and onto tightly controlled reservations. To better understand what life on the reservation is like today, learn about the dramatic transformation these native peoples were forced to undertake.","English",37.270000000000003,27.95,"323.1197--d23","128 pp.","https://www.enslow.com/books/The_Relocation_of_Native_Peoples_of_North_America/4534",{"$f":"Table1[[#This Row],[QTY]]*Table1[[#This Row],['# of Books]]","v":0},{"$f":"Table1[[#This Row],[QTY]]*Table1[[#This Row],[School & Library Price]]","v":0}]
[null,null,null,"Our Shared History","The Relocation of Native Peoples of North America",1,"eBook","978-0-7660-7013-4",{"$f":"HYPERLINK(Table1[[#This Row],[Hyperlink]],\"Weblink\")","v":"Weblink"},"Enslow Publishing","2016","August 2015",null,"Author, Author","Judith Edwards, Nicki Peter Petrikowski ",null,null,null,null,"Z","1210L","Grade 7","Grade 6 - 12","When the first European settlers arrived in what would become the United States and Canada, the lives of the native peoples of North America changed forever. As the two nations grew, native peoples were pushed off the land they called home and onto tightly controlled reservations. To better understand what life on the reservation is like today, learn about the dramatic transformation these native peoples were forced to undertake.","English",37.270000000000003,27.95,"323.1197--d23","128 pp.","https://www.enslow.com/books/The_Relocation_of_Native_Peoples_of_North_America/4534",{"$f":"Table1[[#This Row],[QTY]]*Table1[[#This Row],['# of Books]]","v":0},{"$f":"Table1[[#This Row],[QTY]]*Table1[[#This Row],[School & Library Price]]","v":0}]
[null,null,null,"Our Shared History","The Underground Railroad",1,"Library Bound Book","978-0-7660-7014-1",{"$f":"HYPERLINK(Table1[[#This Row],[Hyperlink]],\"Weblink\")","v":"Weblink"},"Enslow Publishing","2016","August 2015","6.000 X 9.000","Author, Author","R. Conrad Stein, Charlotte Taylor",null,null,null,null,"Z",null,"Grade 7","Grade 6 - 12","The Underground Railroad was a complex network of secret routes, safe houses, and courageous men and women, both black and white, who helped slaves escape to free states and to Canada.  \"Conductors,\" such as Harriet Tubman, risked recapture in the South guiding slaves to freedom. Readers explore the formation of this extremely effective anti-slavery escape network and the people who made it work.","English",37.270000000000003,27.95,"973.7’115--d23","128 pp.","https://www.enslow.com/books/The_Underground_Railroad/4535",{"$f":"Table1[[#This Row],[QTY]]*Table1[[#This Row],['# of Books]]","v":0},{"$f":"Table1[[#This Row],[QTY]]*Table1[[#This Row],[School & Library Price]]","v":0}]
[null,null,null,"Our Shared History","The Underground Railroad",1,"eBook","978-0-7660-7015-8",{"$f":"HYPERLINK(Table1[[#This Row],[Hyperlink]],\"Weblink\")","v":"Weblink"},"Enslow Publishing","2016","August 2015",null,"Author, Author","R. Conrad Stein, Charlotte Taylor",null,null,null,null,"Z",null,"Grade 7","Grade 6 - 12","The Underground Railroad was a complex network of secret routes, safe houses, and courageous men and women, both black and white, who helped slaves escape to free states and to Canada.  \"Conductors,\" such as Harriet Tubman, risked recapture in the South guiding slaves to freedom. Readers explore the formation of this extremely effective anti-slavery escape network and the people who made it work.","English",37.270000000000003,27.95,"973.7’115--d23","128 pp.","https://www.enslow.com/books/The_Underground_Railroad/4535",{"$f":"Table1[[#This Row],[QTY]]*Table1[[#This Row],['# of Books]]","v":0},{"$f":"Table1[[#This Row],[QTY]]*Table1[[#This Row],[School & Library Price]]","v":0}]
[null,null,null,"Primary Sources of American Political Documents","Understanding the Articles of Confederation",1,"Library Bound Book","978-0-7660-6866-7",{"$f":"HYPERLINK(Table1[[#This Row],[Hyperlink]],\"Weblink\")","v":"Weblink"},"Enslow Publishing","2016","August 2015","6.000 X 9.000","Author, Author","James Wolfe, Kerry P. Callahan ",null,null,null,null,"Z","1280L","Grade 7","Grade 7 - 12","“The title of this confederacy shall be the United States...\" Thus began the first constitution of the United States of America. Although replaced by the current US Constitution in 1788, the Articles of Confederation defined the US government and established policies that are still in place today. Featuring a unique combination of context and primary source text, this book provides a thorough understanding of this essential document.","English",37.270000000000003,27.95,"342.7302'9--dc23","128 pp.","https://www.enslow.com/books/Understanding_the_Articles_of_Confederation/4537",{"$f":"Table1[[#This Row],[QTY]]*Table1[[#This Row],['# of Books]]","v":0},{"$f":"Table1[[#This Row],[QTY]]*Table1[[#This Row],[School & Library Price]]","v":0}]
[null,null,null,"Primary Sources of American Political Documents","Understanding the Articles of Confederation",1,"eBook","978-0-7660-6867-4",{"$f":"HYPERLINK(Table1[[#This Row],[Hyperlink]],\"Weblink\")","v":"Weblink"},"Enslow Publishing","2016","August 2015",null,"Author, Author","James Wolfe, Kerry P. Callahan ",null,null,null,null,"Z","1280L","Grade 7","Grade 7 - 12","“The title of this confederacy shall be the United States...\" Thus began the first constitution of the United States of America. Although replaced by the current US Constitution in 1788, the Articles of Confederation defined the US government and established policies that are still in place today. Featuring a unique combination of context and primary source text, this book provides a thorough understanding of this essential document.","English",37.270000000000003,27.95,"342.7302'9--dc23","128 pp.","https://www.enslow.com/books/Understanding_the_Articles_of_Confederation/4537",{"$f":"Table1[[#This Row],[QTY]]*Table1[[#This Row],['# of Books]]","v":0},{"$f":"Table1[[#This Row],[QTY]]*Table1[[#This Row],[School & Library Price]]","v":0}]
[null,null,null,"Primary Sources of American Political Documents","Understanding the Bill of Rights",1,"Library Bound Book","978-0-7660-6882-7",{"$f":"HYPERLINK(Table1[[#This Row],[Hyperlink]],\"Weblink\")","v":"Weblink"},"Enslow Publishing","2016","August 2015","6.000 X 9.000","Author, Author","James Wolfe, Nancy L. Stair ",null,null,null,null,"Z",null,"Grade 7","Grade 7 - 12","Secret societies. Spy networks. Rebellion. Revolution. All of these were precursors to one of the most influential political documents in history. The Bill of Rights consists of the first ten amendments of the United States Constitution, outlining the basic human rights awarded to every American citizen from birth. Read about the origins of the Bill of Rights, its creation, and the influence it still holds.","English",37.270000000000003,27.95,"342.7308'5--dc23","112 pp.","https://www.enslow.com/books/Understanding_the_Bill_of_Rights/4538",{"$f":"Table1[[#This Row],[QTY]]*Table1[[#This Row],['# of Books]]","v":0},{"$f":"Table1[[#This Row],[QTY]]*Table1[[#This Row],[School & Library Price]]","v":0}]
[null,null,null,"Primary Sources of American Political Documents","Understanding the Bill of Rights",1,"eBook","978-0-7660-6883-4",{"$f":"HYPERLINK(Table1[[#This Row],[Hyperlink]],\"Weblink\")","v":"Weblink"},"Enslow Publishing","2016","August 2015",null,"Author, Author","James Wolfe, Nancy L. Stair ",null,null,null,null,"Z",null,"Grade 7","Grade 7 - 12","Secret societies. Spy networks. Rebellion. Revolution. All of these were precursors to one of the most influential political documents in history. The Bill of Rights consists of the first ten amendments of the United States Constitution, outlining the basic human rights awarded to every American citizen from birth. Read about the origins of the Bill of Rights, its creation, and the influence it still holds.","English",37.270000000000003,27.95,"342.7308'5--dc23","112 pp.","https://www.enslow.com/books/Understanding_the_Bill_of_Rights/4538",{"$f":"Table1[[#This Row],[QTY]]*Table1[[#This Row],['# of Books]]","v":0},{"$f":"Table1[[#This Row],[QTY]]*Table1[[#This Row],[School & Library Price]]","v":0}]
[null,null,null,"Primary Sources of American Political Documents","Understanding the Charter of the Massachusetts Bay Colony",1,"Library Bound Book","978-0-7660-6870-4",{"$f":"HYPERLINK(Table1[[#This Row],[Hyperlink]],\"Weblink\")","v":"Weblink"},"Enslow Publishing","2016","August 2015","6.000 X 9.000","Author, Author","James Wolfe, Barbara Moe",null,null,null,null,"Z","1170L","Grade 7","Grade 7 - 12","Early American colonists were optimistic adventurers who helped build a new settlement. But they also experimented with creating a new society. The Charter of the Massachusetts Bay Colony was the first political document written in the United States, a first attempt at self-government. Discover who wrote this document and why, and how it influenced the creation of the United States government.","English",37.270000000000003,27.95,"974.4'02--dc23","112 pp.","https://www.enslow.com/books/Understanding_the_Charter_of_the_Massachusetts_Bay_Colony/4539",{"$f":"Table1[[#This Row],[QTY]]*Table1[[#This Row],['# of Books]]","v":0},{"$f":"Table1[[#This Row],[QTY]]*Table1[[#This Row],[School & Library Price]]","v":0}]
[null,null,null,"Primary Sources of American Political Documents","Understanding the Charter of the Massachusetts Bay Colony",1,"eBook","978-0-7660-6871-1",{"$f":"HYPERLINK(Table1[[#This Row],[Hyperlink]],\"Weblink\")","v":"Weblink"},"Enslow Publishing","2016","August 2015",null,"Author, Author","James Wolfe, Barbara Moe",null,null,null,null,"Z","1170L","Grade 7","Grade 7 - 12","Early American colonists were optimistic adventurers who helped build a new settlement. But they also experimented with creating a new society. The Charter of the Massachusetts Bay Colony was the first political document written in the United States, a first attempt at self-government. Discover who wrote this document and why, and how it influenced the creation of the United States government.","English",37.270000000000003,27.95,"974.4'02--dc23","112 pp.","https://www.enslow.com/books/Understanding_the_Charter_of_the_Massachusetts_Bay_Colony/4539",{"$f":"Table1[[#This Row],[QTY]]*Table1[[#This Row],['# of Books]]","v":0},{"$f":"Table1[[#This Row],[QTY]]*Table1[[#This Row],[School & Library Price]]","v":0}]
[null,null,null,"Primary Sources of American Political Documents","Understanding the Declaration of Independence",1,"Library Bound Book","978-0-7660-6874-2",{"$f":"HYPERLINK(Table1[[#This Row],[Hyperlink]],\"Weblink\")","v":"Weblink"},"Enslow Publishing","2016","August 2015","6.000 X 9.000","Author, Author","James Wolfe, Jennifer Viegas",null,null,null,null,"Z","1210L","Grade 7","Grade 7 - 12","The Declaration of Independence became the cornerstone document of our democratic nation. But why was it written? What influenced its author, Thomas Jefferson, and what made it so revolutionary? Discover how this document shaped the foundation of a nation, and how it continues to influence American government today.","English",37.270000000000003,27.95,"973.3'13--dc23","112 pp.","https://www.enslow.com/books/Understanding_the_Declaration_of_Independence/4540",{"$f":"Table1[[#This Row],[QTY]]*Table1[[#This Row],['# of Books]]","v":0},{"$f":"Table1[[#This Row],[QTY]]*Table1[[#This Row],[School & Library Price]]","v":0}]
[null,null,null,"Primary Sources of American Political Documents","Understanding the Declaration of Independence",1,"eBook","978-0-7660-6875-9",{"$f":"HYPERLINK(Table1[[#This Row],[Hyperlink]],\"Weblink\")","v":"Weblink"},"Enslow Publishing","2016","August 2015",null,"Author, Author","James Wolfe, Jennifer Viegas",null,null,null,null,"Z","1210L","Grade 7","Grade 7 - 12","The Declaration of Independence became the cornerstone document of our democratic nation. But why was it written? What influenced its author, Thomas Jefferson, and what made it so revolutionary? Discover how this document shaped the foundation of a nation, and how it continues to influence American government today.","English",37.270000000000003,27.95,"973.3'13--dc23","112 pp.","https://www.enslow.com/books/Understanding_the_Declaration_of_Independence/4540",{"$f":"Table1[[#This Row],[QTY]]*Table1[[#This Row],['# of Books]]","v":0},{"$f":"Table1[[#This Row],[QTY]]*Table1[[#This Row],[School & Library Price]]","v":0}]
[null,null,null,"Primary Sources of American Political Documents","Understanding the Iroquois Constitution",1,"Library Bound Book","978-0-7660-6878-0",{"$f":"HYPERLINK(Table1[[#This Row],[Hyperlink]],\"Weblink\")","v":"Weblink"},"Enslow Publishing","2016","August 2015","6.000 X 9.000","Author, Author","James Wolfe, Heather Moehn",null,null,null,null,"Z","1150L","Grade 7","Grade 7 - 12","The Iroquois Constitution was created in the late sixteenth century to bring peace and unity to five—and later, six—warring Iroquois nations. But how was this understanding reached? What were its specific conditions? And did it affect later political documents in the United States? Read about the legacy of the Iroquois Constitution and how its influence can still be felt today.","English",37.270000000000003,27.95,"974.7004'9755--dc23","160 pp.","https://www.enslow.com/books/Understanding_the__Iroquois_Constitution/4536",{"$f":"Table1[[#This Row],[QTY]]*Table1[[#This Row],['# of Books]]","v":0},{"$f":"Table1[[#This Row],[QTY]]*Table1[[#This Row],[School & Library Price]]","v":0}]
[null,null,null,"Primary Sources of American Political Documents","Understanding the Iroquois Constitution",1,"eBook","978-0-7660-6879-7",{"$f":"HYPERLINK(Table1[[#This Row],[Hyperlink]],\"Weblink\")","v":"Weblink"},"Enslow Publishing","2016","August 2015",null,"Author, Author","James Wolfe, Heather Moehn",null,null,null,null,"Z","1150L","Grade 7","Grade 7 - 12","The Iroquois Constitution was created in the late sixteenth century to bring peace and unity to five—and later, six—warring Iroquois nations. But how was this understanding reached? What were its specific conditions? And did it affect later political documents in the United States? Read about the legacy of the Iroquois Constitution and how its influence can still be felt today.","English",37.270000000000003,27.95,"974.7004'9755--dc23","160 pp.","https://www.enslow.com/books/Understanding_the__Iroquois_Constitution/4536",{"$f":"Table1[[#This Row],[QTY]]*Table1[[#This Row],['# of Books]]","v":0},{"$f":"Table1[[#This Row],[QTY]]*Table1[[#This Row],[School & Library Price]]","v":0}]
[null,null,null,"Primary Sources of American Political Documents","Understanding the U.S. Constitution",1,"Library Bound Book","978-0-7660-6862-9",{"$f":"HYPERLINK(Table1[[#This Row],[Hyperlink]],\"Weblink\")","v":"Weblink"},"Enslow Publishing","2016","August 2015","6.000 X 9.000","Author, Author","James Wolfe, Lesli J. Favor, Ph.D.",null,null,null,null,"Z",null,"Grade 7","Grade 7 - 12","The United States Constitution is our country's founding document, providing the framework for our government and judicial system. Explore the goals, intentions, and debates of the framers of the constitution to understand how and why our nation continues to live by and interpret its principles today.","English",37.270000000000003,27.95,"342.7302'9--dc23","144 pp.","https://www.enslow.com/books/Understanding_the_US_Constitution/4541",{"$f":"Table1[[#This Row],[QTY]]*Table1[[#This Row],['# of Books]]","v":0},{"$f":"Table1[[#This Row],[QTY]]*Table1[[#This Row],[School & Library Price]]","v":0}]
[null,null,null,"Primary Sources of American Political Documents","Understanding the U.S. Constitution",1,"eBook","978-0-7660-6863-6",{"$f":"HYPERLINK(Table1[[#This Row],[Hyperlink]],\"Weblink\")","v":"Weblink"},"Enslow Publishing","2016","August 2015",null,"Author, Author","James Wolfe, Lesli J. Favor, Ph.D.",null,null,null,null,"Z",null,"Grade 7","Grade 7 - 12","The United States Constitution is our country's founding document, providing the framework for our government and judicial system. Explore the goals, intentions, and debates of the framers of the constitution to understand how and why our nation continues to live by and interpret its principles today.","English",37.270000000000003,27.95,"342.7302'9--dc23","144 pp.","https://www.enslow.com/books/Understanding_the_US_Constitution/4541",{"$f":"Table1[[#This Row],[QTY]]*Table1[[#This Row],['# of Books]]","v":0},{"$f":"Table1[[#This Row],[QTY]]*Table1[[#This Row],[School & Library Price]]","v":0}]
[null,null,null,"Economics in the 21st Century","Economic Depression: What It Is and How It Works",1,"Library Bound Book","978-0-7660-7195-7",{"$f":"HYPERLINK(Table1[[#This Row],[Hyperlink]],\"Weblink\")","v":"Weblink"},"Enslow Publishing","2016","January 2016","6.500 X 9.125","Author, Author","Lisa A. Crayton, Jason Porterfield",null,null,null,null,"Z",null,"Grade 8","Grade 7 - 12","Economic depression is a term frequently heard in the news and an event read about in history class. But what exactly is it? Supporting financial literacy in school and in life, this text breaks down the complicated concept of economic depression into language readers can understand. They will learn how a depression starts, what causes it, how an economy can recover from it, if one is likely in the future, and how an economic depression can affect them directly.","English",34.6,25.95,"338.5'42--dc23","96 pp.","https://www.enslow.com/books/Economic_Depression/4599",{"$f":"Table1[[#This Row],[QTY]]*Table1[[#This Row],['# of Books]]","v":0},{"$f":"Table1[[#This Row],[QTY]]*Table1[[#This Row],[School & Library Price]]","v":0}]
[null,null,null,"Economics in the 21st Century","Economic Depression: What It Is and How It Works",1,"eBook","978-0-7660-7196-4",{"$f":"HYPERLINK(Table1[[#This Row],[Hyperlink]],\"Weblink\")","v":"Weblink"},"Enslow Publishing","2016","January 2016",null,"Author, Author","Lisa A. Crayton, Jason Porterfield",null,null,null,null,"Z",null,"Grade 8","Grade 7 - 12","Economic depression is a term frequently heard in the news and an event read about in history class. But what exactly is it? Supporting financial literacy in school and in life, this text breaks down the complicated concept of economic depression into language readers can understand. They will learn how a depression starts, what causes it, how an economy can recover from it, if one is likely in the future, and how an economic depression can affect them directly.","English",34.6,25.95,"338.5'42--dc23","96 pp.","https://www.enslow.com/books/Economic_Depression/4599",{"$f":"Table1[[#This Row],[QTY]]*Table1[[#This Row],['# of Books]]","v":0},{"$f":"Table1[[#This Row],[QTY]]*Table1[[#This Row],[School & Library Price]]","v":0}]
[null,null,null,"Economics in the 21st Century","Globalization: What It Is and How It Works",1,"Library Bound Book","978-0-7660-7244-2",{"$f":"HYPERLINK(Table1[[#This Row],[Hyperlink]],\"Weblink\")","v":"Weblink"},"Enslow Publishing","2016","January 2016","6.500 X 9.125","Author, Author","Lisa A. Crayton, Laura La Bella",null,null,null,null,"Z",null,"Grade 8","Grade 7 - 12","Using explanatory text, photos, and graphics, this book makes it easier for readers to understand the complicated and often controversial topic of globalization by discussing the different types of globalization, how and why it occurs, its effect on people, and what it means in the Internet Age.","English",34.6,25.95,"337--dc23","96 pp.","https://www.enslow.com/books/Globalization/4610",{"$f":"Table1[[#This Row],[QTY]]*Table1[[#This Row],['# of Books]]","v":0},{"$f":"Table1[[#This Row],[QTY]]*Table1[[#This Row],[School & Library Price]]","v":0}]
[null,null,null,"Economics in the 21st Century","Globalization: What It Is and How It Works",1,"eBook","978-0-7660-7245-9",{"$f":"HYPERLINK(Table1[[#This Row],[Hyperlink]],\"Weblink\")","v":"Weblink"},"Enslow Publishing","2016","January 2016",null,"Author, Author","Lisa A. Crayton, Laura La Bella",null,null,null,null,"Z",null,"Grade 8","Grade 7 - 12","Using explanatory text, photos, and graphics, this book makes it easier for readers to understand the complicated and often controversial topic of globalization by discussing the different types of globalization, how and why it occurs, its effect on people, and what it means in the Internet Age.","English",34.6,25.95,"337--dc23","96 pp.","https://www.enslow.com/books/Globalization/4610",{"$f":"Table1[[#This Row],[QTY]]*Table1[[#This Row],['# of Books]]","v":0},{"$f":"Table1[[#This Row],[QTY]]*Table1[[#This Row],[School & Library Price]]","v":0}]
[null,null,null,"Economics in the 21st Century","Inflation: What It Is and How It Works",1,"Library Bound Book","978-0-7660-7248-0",{"$f":"HYPERLINK(Table1[[#This Row],[Hyperlink]],\"Weblink\")","v":"Weblink"},"Enslow Publishing","2016","January 2016","6.500 X 9.125","Author, Author","Lisa A. Crayton, Joyce Hart",null,null,null,null,"Z",null,"Grade 8","Grade 7 - 12","This engaging text breaks down the complicated concept of inflation for readers and explains what inflation is, what causes it, its effects on the rest of the economy, and its impact on everyday life.","English",34.6,25.95,"332.4'1--dc23","96 pp.","https://www.enslow.com/books/Inflation/4614",{"$f":"Table1[[#This Row],[QTY]]*Table1[[#This Row],['# of Books]]","v":0},{"$f":"Table1[[#This Row],[QTY]]*Table1[[#This Row],[School & Library Price]]","v":0}]
[null,null,null,"Economics in the 21st Century","Inflation: What It Is and How It Works",1,"eBook","978-0-7660-7249-7",{"$f":"HYPERLINK(Table1[[#This Row],[Hyperlink]],\"Weblink\")","v":"Weblink"},"Enslow Publishing","2016","January 2016",null,"Author, Author","Lisa A. Crayton, Joyce Hart",null,null,null,null,"Z",null,"Grade 8","Grade 7 - 12","This engaging text breaks down the complicated concept of inflation for readers and explains what inflation is, what causes it, its effects on the rest of the economy, and its impact on everyday life.","English",34.6,25.95,"332.4'1--dc23","96 pp.","https://www.enslow.com/books/Inflation/4614",{"$f":"Table1[[#This Row],[QTY]]*Table1[[#This Row],['# of Books]]","v":0},{"$f":"Table1[[#This Row],[QTY]]*Table1[[#This Row],[School & Library Price]]","v":0}]
[null,null,null,"Economics in the 21st Century","Recession: What It Is and How It Works",1,"Library Bound Book","978-0-7660-7356-2",{"$f":"HYPERLINK(Table1[[#This Row],[Hyperlink]],\"Weblink\")","v":"Weblink"},"Enslow Publishing","2016","January 2016","6.500 X 9.125","Author, Author","Lisa A. Crayton, Jeanne Nagle",null,null,null,null,"Z",null,"Grade 8","Grade 7 - 12","Through engaging, easily understood language, readers will learn about the specifics of an economic recession, including the difference between a recession and a depression, what can be done about a recession, how it affects everyday life, and how it will impact their future. This text supports financial literacy and informs teens how to be fiscally responsible in life.","English",34.6,25.95,"338.5'42--dc23","96 pp.","https://www.enslow.com/books/Recession/4641",{"$f":"Table1[[#This Row],[QTY]]*Table1[[#This Row],['# of Books]]","v":0},{"$f":"Table1[[#This Row],[QTY]]*Table1[[#This Row],[School & Library Price]]","v":0}]
[null,null,null,"Economics in the 21st Century","Recession: What It Is and How It Works",1,"eBook","978-0-7660-7357-9",{"$f":"HYPERLINK(Table1[[#This Row],[Hyperlink]],\"Weblink\")","v":"Weblink"},"Enslow Publishing","2016","January 2016",null,"Author, Author","Lisa A. Crayton, Jeanne Nagle",null,null,null,null,"Z",null,"Grade 8","Grade 7 - 12","Through engaging, easily understood language, readers will learn about the specifics of an economic recession, including the difference between a recession and a depression, what can be done about a recession, how it affects everyday life, and how it will impact their future. This text supports financial literacy and informs teens how to be fiscally responsible in life.","English",34.6,25.95,"338.5'42--dc23","96 pp.","https://www.enslow.com/books/Recession/4641",{"$f":"Table1[[#This Row],[QTY]]*Table1[[#This Row],['# of Books]]","v":0},{"$f":"Table1[[#This Row],[QTY]]*Table1[[#This Row],[School & Library Price]]","v":0}]
[null,null,null,"Economics in the 21st Century","Taxes: What They Are and How They Work",1,"Library Bound Book","978-0-7660-7376-0",{"$f":"HYPERLINK(Table1[[#This Row],[Hyperlink]],\"Weblink\")","v":"Weblink"},"Enslow Publishing","2016","January 2016","6.500 X 9.125","Author, Author","Lisa A. Crayton, Laura La Bella",null,null,null,null,"Z",null,"Grade 8","Grade 7 - 12","Annually inundated with commercials, news segments, and online articles during tax season, students might be wondering about the intricacies of the American tax system. Designed to prepare readers for the working world, this book will inform them about taxes, including the different types of taxes, why they are needed, their history, where the tax money goes, and how the digital revolution has affected taxes.","English",34.6,25.95,"336.200973--dc23","96 pp.","https://www.enslow.com/books/Taxes/4646",{"$f":"Table1[[#This Row],[QTY]]*Table1[[#This Row],['# of Books]]","v":0},{"$f":"Table1[[#This Row],[QTY]]*Table1[[#This Row],[School & Library Price]]","v":0}]
[null,null,null,"Economics in the 21st Century","Taxes: What They Are and How They Work",1,"eBook","978-0-7660-7377-7",{"$f":"HYPERLINK(Table1[[#This Row],[Hyperlink]],\"Weblink\")","v":"Weblink"},"Enslow Publishing","2016","January 2016",null,"Author, Author","Lisa A. Crayton, Laura La Bella",null,null,null,null,"Z",null,"Grade 8","Grade 7 - 12","Annually inundated with commercials, news segments, and online articles during tax season, students might be wondering about the intricacies of the American tax system. Designed to prepare readers for the working world, this book will inform them about taxes, including the different types of taxes, why they are needed, their history, where the tax money goes, and how the digital revolution has affected taxes.","English",34.6,25.95,"336.200973--dc23","96 pp.","https://www.enslow.com/books/Taxes/4646",{"$f":"Table1[[#This Row],[QTY]]*Table1[[#This Row],['# of Books]]","v":0},{"$f":"Table1[[#This Row],[QTY]]*Table1[[#This Row],[School & Library Price]]","v":0}]
[null,null,null,"Economics in the 21st Century","The Stock Market: What It Is and How It Works",1,"Library Bound Book","978-0-7660-7384-5",{"$f":"HYPERLINK(Table1[[#This Row],[Hyperlink]],\"Weblink\")","v":"Weblink"},"Enslow Publishing","2016","January 2016","6.500 X 9.125","Author, Author","Lisa A. Crayton, Kathy Furgang",null,null,null,null,"Z",null,"Grade 8","Grade 7 - 12","Engaging text breaks down the complicated subject of the stock market and explains what it is, its history, what really happens on Wall Street, and how it can affect readers personally. Students will gain valuable fiscal knowledge that will serve them well in school and in life.","English",34.6,25.95,"332.64'2--dc23","96 pp.","https://www.enslow.com/books/The_Stock_Market/4649",{"$f":"Table1[[#This Row],[QTY]]*Table1[[#This Row],['# of Books]]","v":0},{"$f":"Table1[[#This Row],[QTY]]*Table1[[#This Row],[School & Library Price]]","v":0}]
[null,null,null,"Economics in the 21st Century","The Stock Market: What It Is and How It Works",1,"eBook","978-0-7660-7385-2",{"$f":"HYPERLINK(Table1[[#This Row],[Hyperlink]],\"Weblink\")","v":"Weblink"},"Enslow Publishing","2016","January 2016",null,"Author, Author","Lisa A. Crayton, Kathy Furgang",null,null,null,null,"Z",null,"Grade 8","Grade 7 - 12","Engaging text breaks down the complicated subject of the stock market and explains what it is, its history, what really happens on Wall Street, and how it can affect readers personally. Students will gain valuable fiscal knowledge that will serve them well in school and in life.","English",34.6,25.95,"332.64'2--dc23","96 pp.","https://www.enslow.com/books/The_Stock_Market/4649",{"$f":"Table1[[#This Row],[QTY]]*Table1[[#This Row],['# of Books]]","v":0},{"$f":"Table1[[#This Row],[QTY]]*Table1[[#This Row],[School & Library Price]]","v":0}]

{"sheet":"Sheet2","index":2,"n_rows":27,"n_cols":10,"rows_kept":27,"cut":false,"hidden":false,"merged":[[21,5,21,6],[22,5,22,6],[24,5,24,6],[13,5,13,6],[15,1,15,2],[15,4,15,6],[16,5,16,6],[17,5,17,6],[18,5,18,6],[23,5,23,6],[0,4,3,5],[12,5,12,6],[4,1,4,2],[5,4,7,4],[10,5,10,6],[11,5,11,6]]}
[null,null,null,null,"Enslow Publishing\n101 W. 23rd Street, Suite 240\nNew York, NY 10011\nPhone: 800-398-2504\nenslow.com"]
[null,null,null,null,null,null,null,null,null,{"$f":"COUNT(I:I)","v":0}]
[]
[]
[null,"BILL TO:",null,null,null,null,null,null,null,"Visa"]
[null,"School/Library",{"$f":"Sheet1!J8","v":0},null,"For Credit card orders \nselect one:",null,null,null,null,"Mastercard"]
[null,"Attention",{"$f":"Sheet1!J9","v":0},null,null,null,"Select Card Type",null,null,"AMEX"]
[null,"Address",{"$f":"Sheet1!J11","v":0}]
[null,"City",{"$f":"Sheet1!J12","v":0}]
[null,"State",{"$f":"Sheet1!J13","v":0}]
[null,"Zip",{"$f":"Sheet1!J14","v":0},null,"Card Number"]
[null,"Phone",{"$f":"Sheet1!J16","v":0},null,"Name on Card"]
[null,"Fax",{"$f":"Sheet1!J17","v":0},null,"Exp. Date"]
[null,"Email",{"$f":"Sheet1!J18","v":0},null,"CVV Code"]
[]
[null,"SHIP TO:",null,null,"SUMMARY"]
[null,"School/Library",{"$f":"Sheet1!E8","v":0},null,"Book Subtotal",{"$f":"Sheet1!W11","v":0}]
[null,"Attention",{"$f":"Sheet1!E9","v":0},null,"Library Processing",{"$f":"Sheet1!W12","v":0}]
[null,"Address",{"$f":"Sheet1!E11","v":0},null,"S&H",{"$f":"Sheet1!W13","v":0}]
[null,"City",{"$f":"Sheet1!E12","v":0}]
[null,"State",{"$f":"Sheet1!E13","v":0}]
[null,"Zip",{"$f":"Sheet1!E14","v":0},null,"Tax",{"$f":"Sheet1!W14","v":0},null,"Notes"]
[null,"Phone",{"$f":"Sheet1!E16","v":0},null,"GRAND TOTAL",{"$f":"Sheet1!W15","v":0}]
[null,"Fax",{"$f":"Sheet1!E17","v":0},null,"Total # of Books Ordered",{"$f":"Sheet1!T9+Sheet1!V9+Sheet1!W9","v":0}]
[null,"Email",{"$f":"Sheet1!E18","v":0},null,"Purchase Order #",{"$f":"Sheet1!E20","v":0}]
[]
["QTY","ISBN","Title","Series","Product Type","# of Books","© Date","Price (ea.)","Total"]