{"text_format":"1","workbook":"xlsx","n_sheets":2,"sheets":["Order Form","Ebook Offer"],"not_rendered":{"charts":0,"images":1,"macros":1,"external_links":1,"defined_names":4,"comments":0,"pivot_tables":0},"unopened":[],"bounds":{"document_bytes":16777216,"sheet_cells":100000,"rows_first":2000,"rows_last":500,"rows_between":2000,"halvings":0,"cell_chars":16384,"cell_head_chars":4096},"cells_cut":0,"cells_raw":0,"read":"whole","date_system":"1900"}

{"sheet":"Order Form","index":0,"n_rows":1718,"n_cols":21,"rows_kept":1718,"cut":false,"hidden":false,"merged":[[1718,1,1726,4]]}
[]
[]
[]
[null,"Date ",null,"Phone# "]
[null,"PO# ",null,"Fax# "]
[null,"Sales Rep ",null,"Email "]
[null,"Quote Preparer "]
[null,null," "]
[null,"Bill To: ",null,"Ship To: "]
[null,"School/Library ",null,"Attn"]
[null,"Address ",null,"Address"]
[]
[]
[null,null,"Indiana Rep: ","mikewhite@booklookindiana.com"]
["Qty","Price","Title","Series","Imprint","ISBN-13","Discount Price","Dewey","Copyright","# in Series","# of Pages","ATOS","GRL","Lexile","Catalog Page(s)","Author"]
[null,{"$f":"A16*G16","v":0},"Journey into Space Set (6)","Journey into Space","Blastoff! Missions",null,119.7,null,null,6,null,null,null,null,5,null,null,null,{"$f":"IF(A16>0,1,0)","v":0},null,{"$f":"A16*J16","v":0}]
[null,{"$f":"A17*G17","v":0},"Asteroid Belt, The","Journey into Space","Blastoff! Missions",9781644876534,19.95,523.44000000000005,2023,1,24,null,null,520,5,"Betsy Rathburn",null,null,0,null,0]
[null,0,"Dwarf Planets, The","Journey into Space","Blastoff! Missions",9781644876541,19.95,523.4,2023,1,24,null,null,520,5,"Betsy Rathburn",null,null,0,null,0]
[null,0,"Inner Planets, The","Journey into Space","Blastoff! Missions",9781644876558,19.95,523.4,2023,1,24,null,null,510,5,"Christina Leaf",null,null,0,null,0]
[null,0,"Moons","Journey into Space","Blastoff! Missions",9781644876565,19.95,523.9,2023,1,24,null,null,560,5,"Harriet Loy",null,null,0,null,0]
[null,0,"Outer Planets, The","Journey into Space","Blastoff! Missions",9781644876572,19.95,523.4,2023,1,24,null,null,550,5,"Christina Leaf",null,null,0,null,0]
[null,0,"Sun, The","Journey into Space","Blastoff! Missions",9781644876589,19.95,523.70000000000005,2023,1,24,null,null,430,5,"Christina Leaf",null,null,0,null,0]
[null,0,"Machines at Work Set (6)","Machines at Work","Blastoff! Missions",null,119.7,null,null,6,null,null,null,null,6,null,null,null,0,null,0]
[null,0,"An Airplane's Day","Machines at Work","Blastoff! Missions",9781644876596,19.95,629.13300000000004,2023,1,24,null,null,520,6,"Harriet Loy",null,null,0,null,0]
[null,0,"A Backhoe's Day","Machines at Work","Blastoff! Missions",9781644876602,19.95,621.79999999999995,2023,1,24,null,null,490,6,"Betsy Rathburn",null,null,0,null,0]
[null,0,"A Bulldozer's Day","Machines at Work","Blastoff! Missions",9781644876619,19.95,629.22500000000002,2023,1,24,null,null,480,6,"Harriet Loy",null,null,0,null,0]
[null,0,"A Dump Truck's Day","Machines at Work","Blastoff! Missions",9781644876626,19.95,629.22400000000005,2023,1,24,null,null,490,6,"Betsy Rathburn",null,null,0,null,0]
[null,0,"A Fire Truck's Day","Machines at Work","Blastoff! Missions",9781644876633,19.95,628.9,2023,1,24,null,null,510,6,"Lily Schell",null,null,0,null,0]
[null,0,"A Tractor's Day","Machines at Work","Blastoff! Missions",9781644876640,19.95,631.29999999999995,2023,1,24,null,null,470,6,"Lily Schell",null,null,0,null,0]
[null,0,"Amazing Animal Classes Set (6)","Amazing Animal Classes","Blastoff! Missions",null,119.7,null,null,6,null,null,null,null,7,null,null,null,0,null,0]
[null,0,"Awesome Amphibians","Amazing Animal Classes","Blastoff! Missions",9781644876473,19.95,597.79999999999995,2023,1,24,null,null,560,7,"Betsy Rathburn",null,null,0,null,0]
[null,0,"Brilliant Birds","Amazing Animal Classes","Blastoff! Missions",9781644876480,19.95,598,2023,1,24,null,null,530,7,"Betsy Rathburn",null,null,0,null,0]
[null,0,"Fantastic Fish","Amazing Animal Classes","Blastoff! Missions",9781644876497,19.95,597,2023,1,24,null,null,520,7,"Lily Schell",null,null,0,null,0]
[null,0,"Incredible Insects","Amazing Animal Classes","Blastoff! Missions",9781644876503,19.95,595.70000000000005,2023,1,24,null,null,520,7,"Harriet Loy",null,null,0,null,0]
[null,0,"Marvelous Mammals","Amazing Animal Classes","Blastoff! Missions",9781644876510,19.95,599,2023,1,24,null,null,510,7,"Lily Schell",null,null,0,null,0]
[null,0,"Remarkable Reptiles","Amazing Animal Classes","Blastoff! Missions",9781644876527,19.95,597.9,2023,1,24,null,null,510,7,"Betsy Rathburn",null,null,0,null,0]
[null,0,"The Seasons Set (4)","The Seasons","Blastoff! Beginners",null,71.8,null,null,4,null,null,null,null,10,null,null,null,0,null,0]
[null,0,"Fall","The Seasons","Blastoff! Beginners",9781644876855,17.95,508.2,2023,1,24,null,null,24,10,"Lily Schell",null,null,0,null,0]
[null,0,"Spring","The Seasons","Blastoff! Beginners",9781644876862,17.95,508.2,2023,1,24,null,null,24,10,"Lily Schell",null,null,0,null,0]
[null,0,"Summer","The Seasons","Blastoff! Beginners",9781644876879,17.95,508.2,2023,1,24,null,null,24,10,"Lily Schell",null,null,0,null,0]
[null,0,"Winter","The Seasons","Blastoff! Beginners",9781644876886,17.95,508.2,2023,1,24,null,null,24,10,"Lily Schell",null,null,0,null,0]
[null,0,"Community Places Set (10)","Community Places","Blastoff! Beginners",null,107.7,null,null,10,null,null,null,null,10,null,null,null,{"$f":"IF(A42>0,1,0)","v":0},null,{"$f":"A42*J42","v":0}]
[null,0,"Bank","Community Places","Blastoff! Beginners",9781644876657,17.95,332.1,2023,1,24,null,null,290,10,"Lily Schell",null,null,0,null,0]
[null,0,"Community Center","Community Places","Blastoff! Beginners",9781644876664,17.95,303.3,2023,1,24,null,null,290,10,"Lily Schell",null,null,0,null,0]
[null,0,"Fire Station","Community Places","Blastoff! Beginners",9781644875650,17.95,628.9,2022,1,24,null,"G",240,10,"Amy McDonald",null,null,0,null,0]
[null,0,"Grocery Store","Community Places","Blastoff! Beginners",9781644876671,17.95,381,2023,1,24,null,null,330,10,"Lily Schell",null,null,0,null,0]
[null,0,"Hospital","Community Places","Blastoff! Beginners",9781644875667,17.95,362.11,2022,1,24,null,"G",210,10,"Amy McDonald",null,null,0,null,0]
[null,0,"Library","Community Places","Blastoff! Beginners",9781644875674,17.95,"*027",2022,1,24,null,"G",310,10,"Amy McDonald",null,null,0,null,0]
[null,0,"Park","Community Places","Blastoff! Beginners",9781644876688,17.95,333.78,2023,1,24,null,null,310,10,"Lily Schell",null,null,0,null,0]
[null,0,"Police Station","Community Places","Blastoff! Beginners",9781644875681,17.95,363.2,2022,1,24,null,"G",350,10,"Amy McDonald",null,null,0,null,0]
[null,0,"Post Office","Community Places","Blastoff! Beginners",9781644875698,17.95,383,2022,1,24,null,"G",310,10,"Amy McDonald",null,null,0,null,0]
[null,0,"School","Community Places","Blastoff! Beginners",9781644875704,17.95,371,2022,1,24,null,"G",290,10,"Amy McDonald",null,null,0,null,0]
[null,0,"Happy Holidays! Set (12)","Happy Holidays!","Blastoff! Beginners",null,215.4,null,null,12,null,null,null,null,11,null,null,null,0,null,0]
[null,0,"Christmas","Happy Holidays!","Blastoff! Beginners",9781644876756,17.95,394.2663,2023,1,24,null,null,310,11,"Rebecca Sabelko",null,null,0,null,0]
[null,0,"Day of the Dead","Happy Holidays!","Blastoff! Beginners",9781644877838,17.95,394.26600000000002,2023,1,24,null,null,290,11,"Betsy Rathburn",null,null,0,null,0]
[null,0,"Diwali","Happy Holidays!","Blastoff! Beginners",9781644876763,17.95,394.26499999999999,2023,1,24,null,null,280,11,"Rebecca Sabelko",null,null,0,null,0]
[null,0,"Earth Day","Happy Holidays!","Blastoff! Beginners",9781644876770,17.95,394.262,2023,1,24,null,null,330,11,"Rebecca Sabelko",null,null,0,null,0]
[null,0,"Easter","Happy Holidays!","Blastoff! Beginners",9781644876787,17.95,394.26670000000001,2023,1,24,null,null,310,11,"Rebecca Sabelko",null,null,0,null,0]
[null,0,"Halloween","Happy Holidays!","Blastoff! Beginners",9781644876794,17.95,394.26459999999997,2023,1,24,null,null,270,11,"Betsy Rathburn",null,null,0,null,0]
[null,0,"Hanukkah","Happy Holidays!","Blastoff! Beginners",9781644876800,17.95,296.39999999999998,2023,1,24,null,null,280,11,"Rebecca Sabelko",null,null,0,null,0]
[null,0,"Indigenous Peoples' Day","Happy Holidays!","Blastoff! Beginners",9781644877845,17.95,394.26400000000001,2023,1,24,null,null,310,11,"Rebecca Sabelko",null,null,0,null,0]
[null,0,"Kwanzaa","Happy Holidays!","Blastoff! Beginners",9781644876817,17.95,394.26119999999997,2023,1,24,null,null,280,11,"Betsy Rathburn",null,null,0,null,0]
[null,0,"Lunar New Year","Happy Holidays!","Blastoff! Beginners",9781644876824,17.95,394.26139999999998,2023,1,24,null,null,260,11,"Betsy Rathburn",null,null,0,null,0]
[null,0,"Ramadan","Happy Holidays!","Blastoff! Beginners",9781644876831,17.95,297.3,2023,1,24,null,null,240,11,"Betsy Rathburn",null,null,0,null,0]
[null,0,"Thanksgiving","Happy Holidays!","Blastoff! Beginners",9781644876848,17.95,394.26490000000001,2023,1,24,null,null,260,11,"Betsy Rathburn",null,null,0,null,0]
[null,0,"Oceans Animals Set (14)","Ocean Animals","Blastoff! Beginners",null,251.3,null,null,14,null,null,null,null,12,null,null,null,0,null,0]
[null,0,"Crabs","Ocean Animals","Blastoff! Beginners",9781644873717,17.95,595.29999999999995,2021,1,24,null,"G",270,12,"Derek Zobel",null,null,0,null,0]
[null,0,"Dolphins","Ocean Animals","Blastoff! Beginners",9781644873243,17.95,"591.77",2021,1,24,null,"F",340,12,"Christina Leaf",null,null,0,null,0]
[null,0,"Eels","Ocean Animals","Blastoff! Beginners",9781644874806,17.95,597,2022,1,24,null,"H",260,12,"Betsy Rathburn",null,null,0,null,0]
[null,0,"Jellyfish","Ocean Animals","Blastoff! Beginners",9781644873250,17.95,"593.5",2021,1,24,null,"G",270,12,"Derek Zobel",null,null,0,null,0]
[null,0,"Octopuses","Ocean Animals","Blastoff! Beginners",9781644873267,17.95,"594",2021,1,24,null,"G",250,12,"Derek Zobel",null,null,0,null,0]
[null,0,"Orcas","Ocean Animals","Blastoff! Beginners",9781644874813,17.95,599.53,2022,1,24,null,"H",250,12,"Betsy Rathburn",null,null,0,null,0]
[null,0,"Penguins","Ocean Animals","Blastoff! Beginners",9781644874820,17.95,598.47,2022,1,24,null,"H",250,12,"Christina Leaf",null,null,0,null,0]
[null,0,"Sea Horses","Ocean Animals","Blastoff! Beginners",9781644873960,17.95,597,2021,1,24,null,"G",240,12,"Christina Leaf",null,null,0,null,0]
[null,0,"Sea Stars","Ocean Animals","Blastoff! Beginners",9781644873977,17.95,593.9,2021,1,24,null,"G",290,12,"Derek Zobel",null,null,0,null,0]
[null,0,"Sea Turtles","Ocean Animals","Blastoff! Beginners",9781644873274,17.95,"597.92",2021,1,24,null,"G",290,12,"Christina Leaf",null,null,0,null,0]
[null,0,"Sharks","Ocean Animals","Blastoff! Beginners",9781644873281,17.95,"597.3",2021,1,24,null,"F",220,12,"Christina Leaf",null,null,0,null,0]
[null,0,"Stingrays","Ocean Animals","Blastoff! Beginners",9781644873984,17.95,597.29999999999995,2021,1,24,null,"G",260,12,"Christina Leaf",null,null,0,null,0]
[null,0,"Walruses","Ocean Animals","Blastoff! Beginners",9781644874837,17.95,599.79,2022,1,24,null,"H",320,12,"Christina Leaf",null,null,0,null,0]
[null,0,"Whales","Ocean Animals","Blastoff! Beginners",9781644873298,17.95,"599.5",2021,1,24,null,"G",250,12,"Christina Leaf",null,null,{"$f":"IF(A80>0,1,0)","v":0},null,0]
[null,{"$f":"A81*G81","v":0},"Favorite Pets  Set (10)","Favorite Pets","Blastoff! Beginners",null,179.5,null,null,10,null,null,null,null,12,null,null,null,0,null,0]
[null,0,"Birds","Favorite Pets","Blastoff! Beginners",9781644873120,17.95,363.6,2021,1,24,0.9,"F",240,12,"Christina Leaf",null,null,0,null,0]
[null,0,"Cats","Favorite Pets","Blastoff! Beginners",9781644873137,17.95,363.8,2021,1,24,0.8,"F",220,12,"Christina Leaf",null,null,0,null,0]
[null,0,"Dogs","Favorite Pets","Blastoff! Beginners",9781644873144,17.95,363.7,2021,1,24,0.8,"F",230,12,"Christina Leaf",null,null,0,null,0]
[null,0,"Fish","Favorite Pets","Blastoff! Beginners",9781644873151,17.95,598,2021,1,24,0.9,"F",290,12,"Christina Leaf",null,null,0,null,0]
[null,0,"Guinea Pigs","Favorite Pets","Blastoff! Beginners",9781644873175,17.95,636.93499999999995,2021,1,24,1.2,"G",250,12,"Christina Leaf",null,null,0,null,0]
[null,0,"Hamsters","Favorite Pets","Blastoff! Beginners",9781644873168,17.95,636.93499999999995,2021,1,24,0.9,"F",220,12,"Derek Zobel",null,null,0,null,0]
[null,0,"Hermit Crabs","Favorite Pets","Blastoff! Beginners",9781644873649,17.95,639,2021,1,24,null,"F",290,12,"Christina Leaf",null,null,0,null,0]
[null,0,"Lizards","Favorite Pets","Blastoff! Beginners",9781644873632,17.95,639.29999999999995,2021,1,24,null,"F",270,12,"Derek Zobel",null,null,0,null,0]
[null,0,"Rabbits","Favorite Pets","Blastoff! Beginners",9781644873656,17.95,632,2021,1,24,null,"F",260,12,"Christina Leaf",null,null,0,null,0]
[null,0,"Turtles","Favorite Pets","Blastoff! Beginners",9781644873663,17.95,639.29999999999995,2021,1,24,null,"F",210,12,"Derek Zobel",null,null,0,null,0]
[null,0,"Too Cute! Set (18)","Too Cute!","Blastoff! Beginners",null,323.10000000000002,null,null,18,null,null,null,null,13,null,null,null,0,null,0]
[null,0,"Baby Bears","Too Cute!","Blastoff! Beginners",9781644874844,17.95,599.78129999999999,2022,1,24,null,"G",210,13,"Christina Leaf",null,null,0,null,0]
[null,0,"Baby Cats","Too Cute!","Blastoff! Beginners",9781644874851,17.95,636.79999999999995,2022,1,24,null,"G",260,13,"Christina Leaf",null,null,0,null,0]
[null,0,"Baby Cows","Too Cute!","Blastoff! Beginners",9781644876695,17.95,636.20000000000005,2023,1,24,null,null,280,13,"Rachael Barnes",null,null,0,null,0]
[null,0,"Baby Deer","Too Cute!","Blastoff! Beginners",9781644875711,17.95,599.65129999999999,2022,1,24,null,"G",330,13,"Rebecca Sabelko",null,null,0,null,0]
[null,0,"Baby Dogs","Too Cute!","Blastoff! Beginners",9781644874868,17.95,636.70000000000005,2022,1,24,null,"G",250,13,"Betsy Rathburn",null,null,0,null,0]
[null,0,"Baby Ducks","Too Cute!","Blastoff! Beginners",9781644875728,17.95,598.4,2022,1,24,null,"G",230,13,"Betsy Rathburn",null,null,0,null,0]
[null,0,"Baby Foxes","Too Cute!","Blastoff! Beginners",9781644875735,17.95,599.77512999999999,2022,1,24,null,"G",290,13,"Christina Leaf",null,null,0,null,0]
[null,0,"Baby Giraffes","Too Cute!","Blastoff! Beginners",9781644875742,17.95,599.63813000000005,2022,1,24,null,"G",320,13,"Christina Leaf",null,null,0,null,0]
[null,0,"Baby Horses","Too Cute!","Blastoff! Beginners",9781644874875,17.95,636.1,2022,1,24,null,"G",250,13,"Betsy Rathburn",null,null,0,null,0]
[null,0,"Baby Koalas","Too Cute!","Blastoff! Beginners",9781644875759,17.95,599.20000000000005,2022,1,24,null,"G",240,13,"Rebecca Sabelko",null,null,0,null,0]
[null,0,"Baby Monkeys","Too Cute!","Blastoff! Beginners",9781644876701,17.95,599.81299999999999,2023,1,24,null,null,210,13,"Rachael Barnes",null,null,0,null,0]
[null,0,"Baby Pandas","Too Cute!","Blastoff! Beginners",9781644875766,17.95,599.78913,2022,1,24,null,"G",230,13,"Betsy Rathburn",null,null,0,null,0]
[null,0,"Baby Penguins","Too Cute!","Blastoff! Beginners",9781644874882,17.95,598.47130000000004,2022,1,24,null,"G",320,13,"Betsy Rathburn",null,null,0,null,0]
[null,0,"Baby Rabbits","Too Cute!","Blastoff! Beginners",9781644874899,17.95,636.93200000000002,2022,1,24,null,"G",260,13,"Christina Leaf",null,null,0,null,{"$f":"A106*J106","v":0}]
[null,0,"Baby Raccoons","Too Cute!","Blastoff! Beginners",9781644876718,17.95,599.76,2023,1,24,null,null,320,13,"Elizabeth Neuenfeldt",null,null,0,null,0]
[null,0,"Baby Sloths","Too Cute!","Blastoff! Beginners",9781644876725,17.95,599.29999999999995,2023,1,24,null,null,280,13,"Rachael Barnes",null,null,0,null,0]
[null,0,"Baby Squirrels","Too Cute!","Blastoff! Beginners",9781644876732,17.95,599.36,2023,1,24,null,null,240,13,"Elizabeth Neuenfeldt",null,null,0,null,0]
[null,0,"Baby Wolves","Too Cute!","Blastoff! Beginners",9781644876749,17.95,599.77300000000002,2023,1,24,null,null,280,13,"Elizabeth Neuenfeldt",null,null,0,null,0]
[null,0,"Machines with Power! Set (14)","Machines with Power!","Blastoff! Beginners",null,251.3,null,null,14,null,null,null,null,14,null,null,null,0,null,0]
[null,0,"Airplanes","Machines with Power!","Blastoff! Beginners",9781644873182,17.95,629.13300000000004,2021,1,24,null,"G",290,14,"Derek Zobel",null,null,0,null,0]
[null,0,"Backhoes","Machines with Power!","Blastoff! Beginners",9781644873670,17.95,621.79999999999995,2021,1,24,null,"G",280,14,"Amy McDonald",null,null,0,null,0]
[null,0,"Bulldozers","Machines with Power!","Blastoff! Beginners",9781644873199,17.95,629.22500000000002,2021,1,24,null,"G",270,14,"Christina Leaf",null,null,0,null,0]
[null,0,"Cranes","Machines with Power!","Blastoff! Beginners",9781644873687,17.95,621.79999999999995,2021,1,24,null,"G",240,14,"Amy McDonald",null,null,0,null,0]
[null,0,"Dump Trucks","Machines with Power!","Blastoff! Beginners",9781644873694,17.95,629.22500000000002,2021,1,24,null,"G",230,14,"Amy McDonald",null,null,0,null,0]
[null,0,"Fire Trucks","Machines with Power!","Blastoff! Beginners",9781644873205,17.95,629.22500000000002,2021,1,24,null,"G",160,14,"Amy McDonald",null,null,0,null,0]
[null,0,"Garbage Trucks","Machines with Power!","Blastoff! Beginners",9781644874776,17.95,628.4,2022,1,24,null,"G",260,14,"Amy McDonald",null,null,0,null,0]
[null,0,"Helicopters","Machines with Power!","Blastoff! Beginners",9781644874769,17.95,629.13300000000004,2022,1,24,null,"G",280,14,"Amy McDonald",null,null,0,null,0]
[null,0,"Monster Trucks","Machines with Power!","Blastoff! Beginners",9781644873212,17.95,629.22400000000005,2021,1,24,null,"F",260,14,"Amy McDonald",null,null,0,null,0]
[null,0,"Police Cars","Machines with Power!","Blastoff! Beginners",9781644874783,17.95,629.2088,2022,1,24,null,"G",280,14,"Amy McDonald",null,null,0,null,0]
[null,0,"Race Cars","Machines with Power!","Blastoff! Beginners",9781644874790,17.95,629.22799999999995,2022,1,24,null,"G",260,14,"Amy McDonald",null,null,0,null,0]
[null,0,"Ships","Machines with Power!","Blastoff! Beginners",9781644873700,17.95,623.82000000000005,2021,1,24,null,"G",260,14,"Amy McDonald",null,null,0,null,0]
[null,0,"Tractors","Machines with Power!","Blastoff! Beginners",9781644873229,17.95,631.29999999999995,2021,1,24,null,"G",300,14,"Amy McDonald",null,null,0,null,0]
[null,0,"Trains","Machines with Power!","Blastoff! Beginners",9781644873236,17.95,625.20000000000005,2021,1,24,null,"G",290,14,"Amy McDonald",null,null,0,null,0]
[null,0,"Animals in My Yard Set (18)","Animals in My Yard","Blastoff! Beginners",null,323.10000000000002,null,null,18,null,null,null,null,15,null,null,null,0,null,0]
[null,0,"Armadillos","Animals in My Yard","Blastoff! Beginners",9781644873595,17.95,599.29999999999995,2021,1,24,null,"G",250,15,"Amy McDonald",null,null,0,null,0]
[null,0,"Badgers","Animals in My Yard","Blastoff! Beginners",9781644875612,17.95,599.76,2022,1,24,null,null,190,15,"Amy McDonald",null,null,0,null,0]
[null,0,"Bats","Animals in My Yard","Blastoff! Beginners",9781644873601,17.95,599.4,2021,1,24,null,"G",270,15,"Amy McDonald",null,null,0,null,0]
[null,0,"Bears","Animals in My Yard","Blastoff! Beginners",9781644874721,17.95,599.78,2022,1,24,0.7,"F",270,15,"Amy McDonald",null,null,0,null,0]
[null,0,"Chipmunks","Animals in My Yard","Blastoff! Beginners",9781644873069,17.95,"599.36",2021,1,24,1,"F",250,15,"Christina Leaf",null,null,0,null,0]
[null,0,"Coyotes","Animals in My Yard","Blastoff! Beginners",9781644874738,17.95,599.77,2022,1,24,1.1000000000000001,"G",260,15,"Amy McDonald",null,null,0,null,0]
[null,0,"Deer","Animals in My Yard","Blastoff! Beginners",9781644873076,17.95,"599.65",2021,1,24,0.8,"F",310,15,"Amy McDonald",null,null,0,null,0]
[null,0,"Eagles","Animals in My Yard","Blastoff! Beginners",9781644875629,17.95,598.9,2022,1,24,null,null,310,15,"Amy McDonald",null,null,0,null,0]
[null,0,"Foxes","Animals in My Yard","Blastoff! Beginners",9781644873083,17.95,"599.775",2021,1,24,0.8,"F",280,15,"Amy McDonald",null,null,0,null,0]
[null,0,"Frogs","Animals in My Yard","Blastoff! Beginners",9781644875636,17.95,597.79999999999995,2022,1,24,null,null,250,15,"Amy McDonald",null,null,0,null,0]
[null,0,"Owls","Animals in My Yard","Blastoff! Beginners",9781644874745,17.95,598.9,2022,1,24,0.9,"G",270,15,"Amy McDonald",null,null,0,null,0]
[null,0,"Porcupines","Animals in My Yard","Blastoff! Beginners",9781644873618,17.95,599.35,2021,1,24,null,"G",260,15,"Amy McDonald",null,null,0,null,0]
[null,0,"Rabbits","Animals in My Yard","Blastoff! Beginners",9781644873090,17.95,"599.32",2021,1,24,0.8,"F",260,15,"Amy McDonald",null,null,0,null,0]
[null,0,"Raccoons","Animals in My Yard","Blastoff! Beginners",9781644873106,17.95,"599.76",2021,1,24,1,"G",290,15,"Amy McDonald",null,null,0,null,0]
[null,0,"Skunks","Animals in My Yard","Blastoff! Beginners",9781644874752,17.95,599.76,2022,1,24,1.1000000000000001,"G",370,15,"Amy McDonald",null,null,0,null,0]
[null,0,"Snakes","Animals in My Yard","Blastoff! Beginners",9781644873625,17.95,597.96,2021,1,24,null,"G",250,15,"Amy McDonald",null,null,0,null,0]
[null,0,"Squirrels","Animals in My Yard","Blastoff! Beginners",9781644873113,17.95,599.36,2021,1,24,1,"G",240,15,"Derek Zobel",null,null,0,null,0]
[null,0,"Weasels","Animals in My Yard","Blastoff! Beginners",9781644875643,17.95,599.76,2022,1,24,null,null,250,15,"Amy McDonald",null,null,{"$f":"IF(A144>0,1,0)","v":0},null,0]
[null,{"$f":"A145*G145","v":0},"Backyard Birds Set (12)","Backyard Birds","Blastoff! Readers",null,227.4,null,null,12,null,null,null,null,18,null,null,null,0,null,0]
[null,0,"Blackbirds","Backyard Birds","Blastoff! Readers",9781644876893,18.95,598.79999999999995,2023,1,24,null,null,400,18,"Rachael Barnes",null,null,0,null,0]
[null,0,"Blue Jays","Backyard Birds","Blastoff! Readers",9781644874905,18.95,598.79999999999995,2022,1,24,null,"I",390,18,"Elizabeth Neuenfeldt",null,null,0,null,0]
[null,0,"Bluebirds","Backyard Birds","Blastoff! Readers",9781644876909,18.95,598.79999999999995,2023,1,24,null,null,390,18,"Rachael Barnes",null,null,0,null,0]
[null,0,"Cardinals","Backyard Birds","Blastoff! Readers",9781644874912,18.95,598.79999999999995,2022,1,24,null,"I",390,18,"Elizabeth Neuenfeldt",null,null,0,null,0]
[null,0,"Chickadees","Backyard Birds","Blastoff! Readers",9781644874929,18.95,598.79999999999995,2022,1,24,null,"I",330,18,"Elizabeth Neuenfeldt",null,null,0,null,0]
[null,0,"Crows","Backyard Birds","Blastoff! Readers",9781644876916,18.95,598.79999999999995,2023,1,24,null,null,330,18,"Rachael Barnes",null,null,0,null,0]
[null,0,"Goldfinches","Backyard Birds","Blastoff! Readers",9781644874936,18.95,598.79999999999995,2022,1,24,null,"I",450,18,"Elizabeth Neuenfeldt",null,null,0,null,0]
[null,0,"Hummingbirds","Backyard Birds","Blastoff! Readers",9781644876923,18.95,598.70000000000005,2023,1,24,null,null,380,18,"Rachael Barnes",null,null,0,null,0]
[null,0,"Orioles","Backyard Birds","Blastoff! Readers",9781644874943,18.95,598.79999999999995,2022,1,24,null,"J",430,18,"Elizabeth Neuenfeldt",null,null,0,null,0]
[null,0,"Robins","Backyard Birds","Blastoff! Readers",9781644874950,18.95,598.79999999999995,2022,1,24,null,"I",390,18,"Elizabeth Neuenfeldt",null,null,0,null,0]
[null,0,"Swallows","Backyard Birds","Blastoff! Readers",9781644876930,18.95,598.79999999999995,2023,1,24,null,null,410,18,"Rachael Barnes",null,null,0,null,0]
[null,0,"Woodpeckers","Backyard Birds","Blastoff! Readers",9781644876947,18.95,598.70000000000005,2023,1,24,null,null,400,18,"Rachael Barnes",null,null,0,null,0]
[null,0,"Weather Forecast Set (6)","Weather Forecast","Blastoff! Readers",null,113.7,null,null,6,null,null,null,null,19,null,null,null,0,null,0]
[null,0,"Clouds","Weather Forecast","Blastoff! Readers",9781644876992,18.95,551.57000000000005,2023,1,24,null,null,320,19,"Kirsten Chang",null,null,0,null,0]
[null,0,"Rain","Weather Forecast","Blastoff! Readers",9781644877005,18.95,551.57000000000005,2023,1,24,null,null,340,19,"Kirsten Chang",null,null,0,null,0]
[null,0,"Snow","Weather Forecast","Blastoff! Readers",9781644877012,18.95,551.57000000000005,2023,1,24,null,null,320,19,"Kirsten Chang",null,null,0,null,0]
[null,0,"Sunshine","Weather Forecast","Blastoff! Readers",9781644877029,18.95,551.5,2023,1,24,null,null,290,19,"Kirsten Chang",null,null,0,null,0]
[null,0,"Thunderstorms","Weather Forecast","Blastoff! Readers",9781644877036,18.95,551.54999999999995,2023,1,24,null,null,350,19,"Kirsten Chang",null,null,0,null,0]
[null,0,"Wind","Weather Forecast","Blastoff! Readers",9781644877043,18.95,551.51,2023,1,24,null,null,370,19,"Kirsten Chang",null,null,0,null,0]
[null,0,"A Healthy Life","A Healthy Life","Blastoff! Readers",null,113.7,null,null,6,null,null,null,null,19,null,null,null,0,null,0]
[null,0,"Being Social","A Healthy Life","Blastoff! Readers",9781644875773,18.95,613.20000000000005,2022,1,24,null,"J",310,19,"Kirsten Chang",null,null,0,null,0]
[null,0,"Eating Healthy","A Healthy Life","Blastoff! Readers",9781644875780,18.95,613.20000000000005,2022,1,24,null,"J",390,19,"Kirsten Chang",null,null,0,null,0]
[null,0,"Getting Sleep","A Healthy Life","Blastoff! Readers",9781644875797,18.95,612.79999999999995,2022,1,24,null,"J",380,19,"Kirsten Chang",null,null,0,null,0]
[null,0,"Keeping Clean","A Healthy Life","Blastoff! Readers",9781644875803,18.95,613,2022,1,24,null,"J",430,19,"Kirsten Chang",null,null,0,null,0]
[null,0,"Staying Active","A Healthy Life","Blastoff! Readers",9781644875810,18.95,613.70000000000005,2022,1,24,null,"J",440,19,"Kirsten Chang",null,null,0,null,{"$f":"A170*J170","v":0}]
[null,0,"Understanding Emotions","A Healthy Life","Blastoff! Readers",9781644875827,18.95,152.4,2022,1,24,null,"J",450,19,"Kirsten Chang",null,null,0,null,0]
[null,0,"Spotting Differences Set (24)","Spotting Differences","Blastoff! Readers",null,454.8,null,null,24,null,null,null,null,"20 & 21",null,null,null,0,null,0]
[null,0,"Aardvark or Anteater?","Spotting Differences","Blastoff! Readers",9781644876954,18.95,599.29999999999995,2023,1,24,null,"I",320,"20 & 21","Mari Schuh",null,null,0,null,0]
[null,0,"Alligator or Crocodile?","Spotting Differences","Blastoff! Readers",9781644870303,18.95,597.98,2020,1,24,1.9,"G",430,"20 & 21","Christina Leaf",null,null,0,null,0]
[null,0,"Beaver or Muskrat?","Spotting Differences","Blastoff! Readers",9781644871973,18.95,599.37,2021,1,24,null,"I",390,"20 & 21","Kirsten Chang",null,null,0,null,0]
[null,0,"Bee or Wasp?","Spotting Differences","Blastoff! Readers",9781644870310,18.95,595.79,2020,1,24,1.5,"F",380,"20 & 21","Kirsten Chang",null,null,0,null,0]
[null,0,"Bison or Buffalo?","Spotting Differences","Blastoff! Readers",9781644875834,18.95,599.64,2022,1,24,null,"I",360,"20 & 21","Mari Schuh",null,null,0,null,0]
[null,0,"Bobcat or Lynx?","Spotting Differences","Blastoff! Readers",9781644875841,18.95,599.75,2022,1,24,null,"I",350,"20 & 21","Mari Schuh",null,null,0,null,0]
[null,0,"Butterfly or Moth?","Spotting Differences","Blastoff! Readers",9781644870327,18.95,595.78,2020,1,24,2,"F",410,"20 & 21","Christina Leaf",null,null,0,null,0]
[null,0,"Cheetah or Leopard?","Spotting Differences","Blastoff! Readers",9781644870334,18.95,599.75,2020,1,24,1.6,"F",350,"20 & 21","Kirsten Chang",null,null,0,null,0]
[null,0,"Cricket or Grasshopper?","Spotting Differences","Blastoff! Readers",9781644875858,18.95,595.70000000000005,2022,1,24,null,"I",330,"20 & 21","Mari Schuh",null,null,0,null,0]
[null,0,"Crow or Raven?","Spotting Differences","Blastoff! Readers",9781644876961,18.95,598.79999999999995,2023,1,24,null,"I",390,"20 & 21","Mari Schuh",null,null,0,null,0]
[null,0,"Dolphin or Porpoise?","Spotting Differences","Blastoff! Readers",9781644876978,18.95,599.53,2023,1,24,null,"I",350,"20 & 21","Mari Schuh",null,null,0,null,0]
[null,0,"Emu or Ostrich?","Spotting Differences","Blastoff! Readers",9781644874035,18.95,598.5,2021,1,24,null,"I",270,"20 & 21","Kirsten Chang",null,null,0,null,0]
[null,0,"Frog or Toad?","Spotting Differences","Blastoff! Readers",9781644871980,18.95,597.79999999999995,2021,1,24,null,"I",320,"20 & 21","Kirsten Chang",null,null,0,null,0]
[null,0,"Hedgehog or Porcupine?","Spotting Differences","Blastoff! Readers",9781644871997,18.95,599.33000000000004,2021,1,24,null,"I",350,"20 & 21","Christina Leaf",null,null,0,null,0]
[null,0,"Lizard or Salamander?","Spotting Differences","Blastoff! Readers",9781644876985,18.95,597.95000000000005,2023,1,24,null,"I",310,"20 & 21","Mari Schuh",null,null,0,null,0]
[null,0,"Llama or Alpaca?","Spotting Differences","Blastoff! Readers",9781644870341,18.95,599.63,2020,1,24,1.9,"G",430,"20 & 21","Christina Leaf",null,null,0,null,0]
[null,0,"Moose or Elk?","Spotting Differences","Blastoff! Readers",9781644874042,18.95,599.65,2021,1,24,null,"I",380,"20 & 21","Kirsten Chang",null,null,0,null,0]
[null,0,"Octopus or Squid?","Spotting Differences","Blastoff! Readers",9781644872000,18.95,594,2021,1,24,null,"I",330,"20 & 21","Christina Leaf",null,null,0,null,0]
[null,0,"Penguin or Puffin?","Spotting Differences","Blastoff! Readers",9781644875865,18.95,598.47,2022,1,24,null,"I",320,"20 & 21","Mari Schuh",null,null,0,null,0]
[null,0,"Rabbit or Hare?","Spotting Differences","Blastoff! Readers",9781644870358,18.95,599.32000000000005,2020,1,24,1.4,"F",400,"20 & 21","Christina Leaf",null,null,0,null,0]
[null,0,"Seal or Sea Lion?","Spotting Differences","Blastoff! Readers",9781644874059,18.95,599.79,2021,1,24,null,"I",340,"20 & 21","Kirsten Chang",null,null,0,null,0]
[null,0,"Swan or Goose?","Spotting Differences","Blastoff! Readers",9781644874066,18.95,598.4,2021,1,24,null,"I",390,"20 & 21","Kirsten Chang",null,null,0,null,0]
[null,0,"Turtle or Tortoise?","Spotting Differences","Blastoff! Readers",9781644870365,18.95,597.91999999999996,2020,1,24,1.5,"F",280,"20 & 21","Kirsten Chang",null,null,0,null,0]
[null,0,"Wolf or Coyote?","Spotting Differences","Blastoff! Readers",9781644870372,18.95,599.77300000000002,2020,1,24,1.7,"G",340,"20 & 21","Kirsten Chang",null,null,0,null,0]
[null,0,"Symbols of American Freedom Set (12)","Symbols of American Freedom","Blastoff! Readers",null,227.4,null,null,12,null,null,null,null,22,null,null,null,0,null,0]
[null,0,"Bald Eagle, The","Symbols of American Freedom","Blastoff! Readers",9781626178830,18.95,929.9,2019,1,24,1.9,"G",430,22,"Mari Schuh",null,null,0,null,0]
[null,0,"Bill of Rights, The","Symbols of American Freedom","Blastoff! Readers",9781626179158,18.95,342.7303,2019,1,24,2.1,"G","420",22,"Kirsten Chang",null,null,0,null,0]
[null,0,"Liberty Bell, The","Symbols of American Freedom","Blastoff! Readers",9781626178847,18.95,974.8,2019,1,24,1.9,"F",440,22,"Kirsten Chang",null,null,0,null,0]
[null,0,"Lincoln Memorial, The","Symbols of American Freedom","Blastoff! Readers",9781626179165,18.95,975.3,2019,1,24,1.9,"G","370",22,"Kirsten Chang",null,null,0,null,0]
[null,0,"Mount Rushmore","Symbols of American Freedom","Blastoff! Readers",9781626179172,18.95,978.3,2019,1,24,1.9,"G","480",22,"Kirsten Chang",null,null,0,null,0]
[null,0,"Pledge of Allegiance, The","Symbols of American Freedom","Blastoff! Readers",9781626178854,18.95,323.60000000000002,2019,1,24,2,"F",440,22,"Kirsten Chang",null,null,0,null,0]
[null,0,"Star-Spangled Banner, The","Symbols of American Freedom","Blastoff! Readers",9781626178861,18.95,973.5,2019,1,24,1.9,"F",400,22,"Kirsten Chang",null,null,0,null,0]
[null,0,"Statue of Liberty, The","Symbols of American Freedom","Blastoff! Readers",9781626178878,18.95,974.7,2019,1,24,2,"F",400,22,"Mari Schuh",null,null,0,null,0]
[null,0,"United States Constitution, The","Symbols of American Freedom","Blastoff! Readers",9781626178885,18.95,973.3,2019,1,24,2.1,"G",340,22,"Mari Schuh",null,null,0,null,0]
[null,0,"United States Flag, The","Symbols of American Freedom","Blastoff! Readers",9781626178892,18.95,929.9,2019,1,24,1.8,"F",380,22,"Kirsten Chang",null,null,0,null,0]
[null,0,"Washington Monument, The","Symbols of American Freedom","Blastoff! Readers",9781626179189,18.95,975.3,2019,1,24,1.9,"G","310",22,"Kirsten Chang",null,null,{"$f":"IF(A208>0,1,0)","v":0},null,0]
[null,{"$f":"A209*G209","v":0},"White House, The","Symbols of American Freedom","Blastoff! Readers",9781626178908,18.95,975.3,2019,1,24,1.8,"F",390,22,"Mari Schuh",null,null,0,null,0]
[null,0,"Animals on the Farm Set (8)","Animals on the Farm","Blastoff! Readers",null,151.6,null,null,8,null,null,null,null,22,null,null,null,0,null,0]
[null,0,"Chickens","Animals on the Farm","Blastoff! Readers",9781626177208,18.95,636.5,2019,1,24,1.5,"E",410,22,"Kari Schuetz",null,null,0,null,0]
[null,0,"Cows","Animals on the Farm","Blastoff! Readers",9781626177215,18.95,636.20000000000005,2019,1,24,1.4,"E",420,22,"Kari Schuetz",null,null,0,null,0]
[null,0,"Ducks","Animals on the Farm","Blastoff! Readers",9781626177222,18.95,636.5,2019,1,24,1.5,"F",400,22,"Kari Schuetz",null,null,0,null,0]
[null,0,"Goats","Animals on the Farm","Blastoff! Readers",9781626177239,18.95,636.29999999999995,2019,1,24,1.4,"E",460,22,"Christina Leighton",null,null,0,null,0]
[null,0,"Horses","Animals on the Farm","Blastoff! Readers",9781626177246,18.95,636.1,2019,1,24,1.3,"F",400,22,"Christina Leighton",null,null,0,null,0]
[null,0,"Pigs","Animals on the Farm","Blastoff! Readers",9781626177253,18.95,636.4,2019,1,24,1.2,"E",380,22,"Christina Leighton",null,null,0,null,0]
[null,0,"Sheep","Animals on the Farm","Blastoff! Readers",9781626177260,18.95,636.29999999999995,2019,1,24,1.5,"E",450,22,"Christina Leighton",null,null,0,null,0]
[null,0,"Turkeys","Animals on the Farm","Blastoff! Readers",9781626177277,18.95,636.5,2019,1,24,1.7,"E",450,22,"Kari Schuetz",null,null,0,null,0]
[null,0,"Responsible Citizenship Set (6)","Responsible Citizenship","Blastoff! Readers",null,113.7,null,null,6,null,null,null,null,23,null,null,null,0,null,0]
[null,0,"Caring for the Environment","Responsible Citizenship","Blastoff! Readers",9781644874967,18.95,333.72,2022,1,24,1.8,"I",390,23,"Kirsten Chang",null,null,0,null,0]
[null,0,"Jury Duty","Responsible Citizenship","Blastoff! Readers",9781644874974,18.95,347.73,2022,1,24,1.9,"K",380,23,"Kirsten Chang",null,null,0,null,0]
[null,0,"Military Service","Responsible Citizenship","Blastoff! Readers",9781644874981,18.95,355.2,2022,1,24,1.8,"L",450,23,"Kirsten Chang",null,null,0,null,0]
[null,0,"Obeying Laws","Responsible Citizenship","Blastoff! Readers",9781644874998,18.95,340,2022,1,24,1.6,"K",430,23,"Kirsten Chang",null,null,0,null,0]
[null,0,"Volunteering","Responsible Citizenship","Blastoff! Readers",9781644875001,18.95,302,2022,1,24,1.7,"K",430,23,"Kirsten Chang",null,null,0,null,0]
[null,0,"Voting","Responsible Citizenship","Blastoff! Readers",9781644875018,18.95,324.60000000000002,2022,1,24,1.8,"J",400,23,"Kirsten Chang",null,null,0,null,0]
[null,0,"Our Government Set (6)","Our Government","Blastoff! Readers",null,113.7,null,null,6,null,null,null,null,23,null,null,null,0,null,0]
[null,0,"Governor","Our Government","Blastoff! Readers",9781644872017,18.95,352.23,2021,1,24,null,"K",430,23,"Kirsten Chang",null,null,0,null,0]
[null,0,"House of Representatives, The","Our Government","Blastoff! Readers",9781644872024,18.95,328.73,2021,1,24,null,"L",420,23,"Mari Schuh",null,null,0,null,0]
[null,0,"President","Our Government","Blastoff! Readers",9781644872031,18.95,352.23097300000001,2021,1,24,null,"L",340,23,"Kirsten Chang",null,null,0,null,0]
[null,0,"Senate, The","Our Government","Blastoff! Readers",9781644872048,18.95,328.73,2021,1,24,null,"L",290,23,"Mari Schuh",null,null,0,null,0]
[null,0,"Supreme Court, The","Our Government","Blastoff! Readers",9781644872055,18.95,347.73,2021,1,24,null,"L",350,23,"Mari Schuh",null,null,0,null,0]
[null,0,"Vice President","Our Government","Blastoff! Readers",9781644872062,18.95,352.23,2021,1,24,null,"L",390,23,"Kirsten Chang",null,null,0,null,0]
[null,0,"Community Helpers Set (32)","Community Helpers","Blastoff! Readers",null,606.4,null,null,32,null,null,null,null,"24 & 25",null,null,null,0,null,0]
[null,0,"Bakers","Community Helpers","Blastoff! Readers",9781644871058,18.95,641.79999999999995,2020,1,24,1.6,"J",440,"24 & 25","Rebecca Sabelko",null,null,0,null,{"$f":"A234*J234","v":0}]
[null,0,"Bus Drivers","Community Helpers","Blastoff! Readers",9781626177420,18.95,629.28,2018,1,24,1.3,"G",440,"24 & 25","Mari Schuh",null,null,0,null,0]
[null,0,"Carpenters","Community Helpers","Blastoff! Readers",9781644871935,18.95,694,2021,1,24,null,"J",440,"24 & 25","Kieran Downs",null,null,0,null,0]
[null,0,"Cashiers","Community Helpers","Blastoff! Readers",9781644873991,18.95,651.29999999999995,2021,1,24,null,"J",380,"24 & 25","Kate Moening",null,null,0,null,0]
[null,0,"Chefs","Community Helpers","Blastoff! Readers",9781626179011,18.95,641.50919999999996,2019,1,24,1.6,"F","440","24 & 25","Kate Moening",null,null,0,null,0]
[null,0,"Construction Workers","Community Helpers","Blastoff! Readers",9781626177437,18.95,690,2018,1,24,1.8,"F",430,"24 & 25","Chris Bowman",null,null,0,null,0]
[null,0,"Counselors","Community Helpers","Blastoff! Readers",9781644874004,18.95,158.30000000000001,2021,1,24,null,"J",410,"24 & 25","Kate Moening",null,null,0,null,0]
[null,0,"Custodians","Community Helpers","Blastoff! Readers",9781626179028,18.95,648,2019,1,24,1.8,"F","460","24 & 25","Kate Moening",null,null,0,null,0]
[null,0,"Delivery Drivers","Community Helpers","Blastoff! Readers",9781644874011,18.95,388.4,2021,1,24,null,"J",460,"24 & 25","Kate Moening",null,null,0,null,0]
[null,0,"Dentists","Community Helpers","Blastoff! Readers",9781626177444,18.95,617.6,2018,1,24,1.8,"F",440,"24 & 25","Mari Schuh",null,null,0,null,0]
[null,0,"Doctors","Community Helpers","Blastoff! Readers",9781626177451,18.95,610.69000000000005,2018,1,24,1.9,"F",490,"24 & 25","Christina Leaf",null,null,0,null,0]
[null,0,"Electricians","Community Helpers","Blastoff! Readers",9781644871065,18.95,621.30229999999995,2020,1,24,1.8,"J",410,"24 & 25","Rebecca Sabelko",null,null,0,null,0]
[null,0,"EMTs","Community Helpers","Blastoff! Readers",9781644874028,18.95,616.02,2021,1,24,null,"J",450,"24 & 25","Kate Moening",null,null,0,null,0]
[null,0,"Farmers","Community Helpers","Blastoff! Readers",9781626178977,18.95,630.91999999999996,2019,1,24,1.6,"G",450,"24 & 25","Kate Moening",null,null,0,null,0]
[null,0,"Firefighters","Community Helpers","Blastoff! Readers",9781626177468,18.95,363.37,2018,1,24,1.6,"F",420,"24 & 25","Chris Bowman",null,null,0,null,0]
[null,0,"Flight Attendants","Community Helpers","Blastoff! Readers",9781644871072,18.95,387.7,2020,1,24,1.9,"J",460,"24 & 25","Rebecca Sabelko",null,null,0,null,0]
[null,0,"Garbage Collectors","Community Helpers","Blastoff! Readers",9781626178984,18.95,628.4,2019,1,24,2,"G",450,"24 & 25","Christina Leaf",null,null,0,null,0]
[null,0,"Hairstylists","Community Helpers","Blastoff! Readers",9781644871089,18.95,646.70000000000005,2020,1,24,1.9,"J",400,"24 & 25","Betsy Rathburn",null,null,0,null,0]
[null,0,"Judges","Community Helpers","Blastoff! Readers",9781644871942,18.95,347.73,2021,1,24,null,"J",360,"24 & 25","Kieran Downs",null,null,0,null,0]
[null,0,"Librarians","Community Helpers","Blastoff! Readers",9781626178991,18.95,20.92,2019,1,24,1.9,"F",470,"24 & 25","Kate Moening",null,null,0,null,0]
[null,0,"Mail Carriers","Community Helpers","Blastoff! Readers",9781626177475,18.95,383,2018,1,24,1.8,"F",420,"24 & 25","Christina Leaf",null,null,0,null,0]
[null,0,"Mechanics","Community Helpers","Blastoff! Readers",9781626179004,18.95,331.7,2019,1,24,1.7,"F",440,"24 & 25","Christina Leaf",null,null,0,null,0]
[null,0,"Nurses","Community Helpers","Blastoff! Readers",9781626177482,18.95,610.73,2018,1,24,1.7,"F",460,"24 & 25","Christina Leaf",null,null,0,null,0]
[null,0,"Pilots","Community Helpers","Blastoff! Readers",9781626179035,18.95,629.13091999999995,2019,1,24,1.7,"G","450","24 & 25","Kate Moening",null,null,0,null,0]
[null,0,"Plumbers","Community Helpers","Blastoff! Readers",9781626179042,18.95,696.10230000000001,2019,1,24,1.7,"F","450","24 & 25","Kate Moening",null,null,0,null,0]
[null,0,"Police Officers","Community Helpers","Blastoff! Readers",9781626177499,18.95,363.2,2018,1,24,1.7,"F",460,"24 & 25","Christina Leaf",null,null,0,null,0]
[null,0,"Reporters","Community Helpers","Blastoff! Readers",9781644871959,18.95,"070.4",2021,1,24,null,"J",400,"24 & 25","Kieran Downs",null,null,0,null,0]
[null,0,"Servers","Community Helpers","Blastoff! Readers",9781644871966,18.95,"642",2021,1,24,null,"J",400,"24 & 25","Kieran Downs",null,null,0,null,0]
[null,0,"Teachers","Community Helpers","Blastoff! Readers",9781626177505,18.95,371.1,2018,1,24,1.7,"F",460,"24 & 25","Christina Leaf",null,null,0,null,0]
[null,0,"Truck Drivers","Community Helpers","Blastoff! Readers",9781644871096,18.95,388.3,2020,1,24,1.5,"J",430,"24 & 25","Betsy Rathburn",null,null,0,null,0]
[null,0,"Veterinarians","Community Helpers","Blastoff! Readers",9781626177512,18.95,636.08909200000005,2018,1,24,"2.0","G",460,"24 & 25","Christina Leaf",null,null,0,null,0]
[null,0,"Welders","Community Helpers","Blastoff! Readers",9781644871102,18.95,671.5,2020,1,24,1.9,"J",420,"24 & 25","Betsy Rathburn",null,null,0,null,0]
[null,0,"Insects Up Close Set (20)","Insects Up Close","Blastoff! Readers",null,379,null,null,20,null,null,null,null,26,null,null,null,0,null,0]
[null,0,"Ants","Insects Up Close","Blastoff! Readers",9781626176577,18.95,595.79,2018,1,24,1.5,"F",450,26,"Patrick Perish",null,null,0,null,0]
[null,0,"Aphids","Insects Up Close","Blastoff! Readers",9781626176584,18.95,595.70000000000005,2018,1,24,2.1,"F",400,26,"Patrick Perish",null,null,0,null,0]
[null,0,"Bumblebees","Insects Up Close","Blastoff! Readers",9781626178014,18.95,595.79,2019,1,24,1.6,"G",450,26,"Patrick Perish",null,null,0,null,0]
[null,0,"Butterflies","Insects Up Close","Blastoff! Readers",9781626176591,18.95,595.78,2018,1,24,1.9,"G",430,26,"Christina Leaf",null,null,0,null,0]
[null,0,"Cicadas","Insects Up Close","Blastoff! Readers",9781626176607,18.95,595.70000000000005,2018,1,24,1.8,"F",420,26,"Christina Leaf",null,null,0,null,0]
[null,0,"Cockroaches","Insects Up Close","Blastoff! Readers",9781626178021,18.95,595.70000000000005,2019,1,24,2,"G",420,26,"Patrick Perish",null,null,{"$f":"IF(A272>0,1,0)","v":0},null,0]
[null,{"$f":"A273*G273","v":0},"Crickets","Insects Up Close","Blastoff! Readers",9781626178038,18.95,595.70000000000005,2019,1,24,1.7,"G",430,26,"Patrick Perish",null,null,0,null,0]
[null,0,"Damselflies","Insects Up Close","Blastoff! Readers",9781626176614,18.95,595.70000000000005,2018,1,24,1.9,"G",340,26,"Christina Leaf",null,null,0,null,0]
[null,0,"Dragonflies","Insects Up Close","Blastoff! Readers",9781626176621,18.95,595.70000000000005,2018,1,24,1.9,"F",450,26,"Patrick Perish",null,null,0,null,0]
[null,0,"Earwigs","Insects Up Close","Blastoff! Readers",9781626176638,18.95,595.70000000000005,2018,1,24,1.7,"F",420,26,"Patrick Perish",null,null,0,null,0]
[null,0,"Fireflies","Insects Up Close","Blastoff! Readers",9781626176645,18.95,595.76,2018,1,24,1.8,"F",450,26,"Christina Leaf",null,null,0,null,0]
[null,0,"Grasshoppers","Insects Up Close","Blastoff! Readers",9781626176652,18.95,595.70000000000005,2018,1,24,1.8,"F",430,26,"Patrick Perish",null,null,0,null,0]
[null,0,"Honeybees","Insects Up Close","Blastoff! Readers",9781626176669,18.95,638,2018,1,24,1.8,"F",420,26,"Christina Leaf",null,null,0,null,0]
[null,0,"Ladybugs","Insects Up Close","Blastoff! Readers",9781626176676,18.95,595.76,2018,1,24,1.7,"F",450,26,"Christina Leaf",null,null,0,null,0]
[null,0,"Milkweed Bugs","Insects Up Close","Blastoff! Readers",9781626177161,18.95,583,2018,1,24,1.7,"G",420,26,"Patrick Perish",null,null,0,null,0]
[null,0,"Mosquitoes","Insects Up Close","Blastoff! Readers",9781626177178,18.95,595.77,2018,1,24,1.9,"G",450,26,"Patrick Perish",null,null,0,null,0]
[null,0,"Moths","Insects Up Close","Blastoff! Readers",9781626177185,18.95,595.78,2018,1,24,1.8,"F",450,26,"Patrick Perish",null,null,0,null,0]
[null,0,"Termites","Insects Up Close","Blastoff! Readers",9781626177192,18.95,595.70000000000005,2018,1,24,1.7,"F",410,26,"Patrick Perish",null,null,0,null,0]
[null,0,"Walkingsticks","Insects Up Close","Blastoff! Readers",9781626178045,18.95,595.70000000000005,2019,1,24,1.8,"G",390,26,"Patrick Perish",null,null,0,null,0]
[null,0,"Wasps","Insects Up Close","Blastoff! Readers",9781626176683,18.95,595.79,2018,1,24,1.6,"F",430,26,"Patrick Perish",null,null,0,null,0]
[null,0,"Character Education Set (10)","Character Education","Blastoff! Readers",null,189.5,null,null,10,null,null,null,null,27,null,null,null,0,null,0]
[null,0,"I Am a Good Citizen","Character Education","Blastoff! Readers",9781626179257,18.95,323.60000000000002,2019,1,24,null,"F",390,27,"Jenny Fretland VanVoorst",null,null,0,null,0]
[null,0,"I Am Generous","Character Education","Blastoff! Readers",9781644871119,18.95,179,2020,1,24,1.4,"I",370,27,"Kirsten Chang",null,null,0,null,0]
[null,0,"I Am Helpful","Character Education","Blastoff! Readers",9781626179264,18.95,179.9,2019,1,24,null,"F",420,27,"Jenny Fretland VanVoorst",null,null,0,null,0]
[null,0,"I Am Honest","Character Education","Blastoff! Readers",9781626179271,18.95,179.9,2019,1,24,null,"G",360,27,"Jenny Fretland VanVoorst",null,null,0,null,0]
[null,0,"I Am Humble","Character Education","Blastoff! Readers",9781644871126,18.95,179,2020,1,24,1.5,"I",410,27,"Kirsten Chang",null,null,0,null,0]
[null,0,"I Am Kind","Character Education","Blastoff! Readers",9781626179288,18.95,177.7,2019,1,24,null,"F",380,27,"Jenny Fretland VanVoorst",null,null,0,null,0]
[null,0,"I Am Resourceful","Character Education","Blastoff! Readers",9781644871133,18.95,179,2020,1,24,1.8,"J",390,27,"Kirsten Chang",null,null,0,null,0]
[null,0,"I Am Respectful","Character Education","Blastoff! Readers",9781626179295,18.95,179.9,2019,1,24,null,"G",410,27,"Jenny Fretland VanVoorst",null,null,0,null,0]
[null,0,"I Am Responsible","Character Education","Blastoff! Readers",9781626179301,18.95,179.9,2019,1,24,null,"F",320,27,"Jenny Fretland VanVoorst",null,null,0,null,0]
[null,0,"I Am Tolerant","Character Education","Blastoff! Readers",9781644871140,18.95,179,2020,1,24,1.9,"I",440,27,"Kirsten Chang",null,null,0,null,0]
[null,0,"Amazing Trains Set (6)","Amazing Trains","Blastoff! Readers",null,113.7,null,null,6,null,null,null,null,27,null,null,null,0,null,{"$f":"A298*J298","v":0}]
[null,0,"City Trains","Amazing Trains","Blastoff! Readers",9781626176690,18.95,625.4,2018,1,24,1.6,"H",440,27,"Christina Leighton",null,null,0,null,0]
[null,0,"Freight Trains","Amazing Trains","Blastoff! Readers",9781626176706,18.95,625.20000000000005,2018,1,24,1.7,"H",390,27,"Christina Leighton",null,null,0,null,0]
[null,0,"High-Speed Trains","Amazing Trains","Blastoff! Readers",9781626176713,18.95,925.2,2018,1,24,1.7,"H",450,27,"Christina Leighton",null,null,0,null,0]
[null,0,"Monorails","Amazing Trains","Blastoff! Readers",9781626176720,18.95,625.4,2018,1,24,1.8,"H",450,27,"Christina Leighton",null,null,0,null,0]
[null,0,"Passenger Trains","Amazing Trains","Blastoff! Readers",9781626176737,18.95,625.20000000000005,2018,1,24,1.5,"H",460,27,"Christina Leighton",null,null,0,null,0]
[null,0,"Subway Trains","Amazing Trains","Blastoff! Readers",9781626176744,18.95,625.4,2018,1,24,1.8,"I",460,27,"Christina Leighton",null,null,0,null,0]
[null,0,"Let's Play Sports Set (16)","Let's Play Sports","Blastoff! Readers",null,303.2,null,null,16,null,null,null,null,28,null,null,null,0,null,0]
[null,0,"Archery","Let's Play Sports","Blastoff! Readers",9781644872154,18.95,799.3,2021,1,24,2.5,"K",480,28,"Kieran Downs",null,null,0,null,0]
[null,0,"Baseball","Let's Play Sports","Blastoff! Readers",9781626179974,18.95,796.35699999999997,2020,1,24,2.2000000000000002,"K",500,28,"Thomas K. Adamson",null,null,0,null,0]
[null,0,"Basketball","Let's Play Sports","Blastoff! Readers",9781626179981,18.95,796.32299999999998,2020,1,24,2.5,"K",510,28,"Thomas K. Adamson",null,null,0,null,0]
[null,0,"Cheerleading","Let's Play Sports","Blastoff! Readers",9781600149993,18.95,791.6,2020,1,24,3,"K",500,28,"Jill Sherman",null,null,0,null,0]
[null,0,"Fishing","Let's Play Sports","Blastoff! Readers",9781644872161,18.95,639.20000000000005,2021,1,24,2.4,"K",470,28,"Kieran Downs",null,null,0,null,0]
[null,0,"Football","Let's Play Sports","Blastoff! Readers",9781626179998,18.95,796.33199999999999,2020,1,24,2.5,"K",530,28,"Thomas K. Adamson",null,null,0,null,0]
[null,0,"Gymnastics","Let's Play Sports","Blastoff! Readers",9781644870006,18.95,796.44,2020,1,24,2.9,"K",590,28,"Jill Sherman",null,null,0,null,0]
[null,0,"Hockey","Let's Play Sports","Blastoff! Readers",9781644870013,18.95,796.96199999999999,2020,1,24,2.4,"K",490,28,"Jill Sherman",null,null,0,null,0]
[null,0,"Karate","Let's Play Sports","Blastoff! Readers",9781644874257,18.95,796.81500000000005,2021,1,24,2.6,"K",470,28,"Kieran Downs",null,null,0,null,0]
[null,0,"Lacrosse","Let's Play Sports","Blastoff! Readers",9781644874264,18.95,796.36,2021,1,24,2.4,"K",470,28,"Kieran Downs",null,null,0,null,0]
[null,0,"Soccer","Let's Play Sports","Blastoff! Readers",9781644870020,18.95,796.33399999999995,2020,1,24,2.4,"K",460,28,"Thomas K. Adamson",null,null,0,null,0]
[null,0,"Softball","Let's Play Sports","Blastoff! Readers",9781644874271,18.95,796.35699999999997,2021,1,24,2.4,"K",490,28,"Kieran Downs",null,null,0,null,0]
[null,0,"Swimming","Let's Play Sports","Blastoff! Readers",9781644872178,18.95,797.2,2021,1,24,2.5,"K",500,28,"Kieran Downs",null,null,0,null,0]
[null,0,"Tennis","Let's Play Sports","Blastoff! Readers",9781644872185,18.95,796.34199999999998,2021,1,24,2.5,"K",440,28,"Kieran Downs",null,null,0,null,0]
[null,0,"Volleyball","Let's Play Sports","Blastoff! Readers",9781644874288,18.95,796.32500000000005,2021,1,24,2.6,"K",490,28,"Kieran Downs",null,null,0,null,0]
[null,0,"Wrestling","Let's Play Sports","Blastoff! Readers",9781644870037,18.95,796.81200000000001,2020,1,24,2.7,"K",470,28,"Jill Sherman",null,null,0,null,0]
[null,0,"What Animal Am I? Set (8)","What Animal Am I?","Blastoff! Readers",null,151.6,null,null,8,null,null,null,null,29,null,null,null,0,null,0]
[null,0,"Arctic Animals","What Animal Am I?","Blastoff! Readers",9781644877258,18.95,590.91099999999994,2023,1,24,null,null,470,29,"Elizabeth Neuenfeldt",null,null,0,null,0]
[null,0,"Desert Animals","What Animal Am I?","Blastoff! Readers",9781644877265,18.95,591.75400000000002,2023,1,24,null,null,470,29,"Rebecca Sabelko",null,null,0,null,0]
[null,0,"Forest Animals","What Animal Am I?","Blastoff! Readers",9781644877272,18.95,591.73,2023,1,24,null,null,480,29,"Elizabeth Neuenfeldt",null,null,0,null,0]
[null,0,"Grassland Animals","What Animal Am I?","Blastoff! Readers",9781644877289,18.95,591.74,2023,1,24,null,null,500,29,"Rebecca Sabelko",null,null,0,null,0]
[null,0,"Mountain Animals","What Animal Am I?","Blastoff! Readers",9781644877296,18.95,591.70000000000005,2023,1,24,null,null,470,29,"Elizabeth Neuenfeldt",null,null,0,null,0]
[null,0,"Ocean Animals","What Animal Am I?","Blastoff! Readers",9781644877302,18.95,591.77,2023,1,24,null,null,470,29,"Rebecca Sabelko",null,null,0,null,0]
[null,0,"Rain Forest Animals","What Animal Am I?","Blastoff! Readers",9781644877319,18.95,591.73400000000004,2023,1,24,null,null,490,29,"Rebecca Sabelko",null,null,0,null,0]
[null,0,"Wetlands Animals","What Animal Am I?","Blastoff! Readers",9781644877326,18.95,591.76800000000003,2023,1,24,null,null,470,29,"Elizabeth Neuenfeldt",null,null,0,null,0]
[null,0,"American Presidents Set (14)","American Presidents","Blastoff! Readers",null,265.3,null,null,14,null,null,null,null,30,null,null,null,0,null,0]
[null,0,"Abraham Lincoln","American Presidents","Blastoff! Readers",9781644875100,18.95,973.70920000000001,2022,1,24,null,"O",370,30,"Rachel Grack",null,null,0,null,0]
[null,0,"Barack Obama","American Presidents","Blastoff! Readers",9781644875117,18.95,973.93209200000001,2022,1,24,null,"N",500,30,"Rebecca Pettiford",null,null,0,null,0]
[null,0,"Bill Clinton","American Presidents","Blastoff! Readers",9781644875124,18.95,973.92909199999997,2022,1,24,null,"N",380,30,"Rachel Grack",null,null,0,null,0]
[null,0,"Donald Trump","American Presidents","Blastoff! Readers",9781644875131,18.95,973.93309199999999,2022,1,24,null,"N",310,30,"Alex Monroe",null,null,0,null,0]
[null,0,"Dwight D. Eisenhower","American Presidents","Blastoff! Readers",9781644877050,18.95,973.92109200000004,2023,1,24,null,null,380,30,"Rebecca Pettiford",null,null,{"$f":"IF(A336>0,1,0)","v":0},null,0]
[null,{"$f":"A337*G337","v":0},"Franklin Delano Roosevelt","American Presidents","Blastoff! Readers",9781644877067,18.95,973.91709200000003,2023,1,24,null,null,330,30,"Rebecca Pettiford",null,null,0,null,0]
[null,0,"George W. Bush","American Presidents","Blastoff! Readers",9781644875148,18.95,973.93109200000004,2022,1,24,null,"N",450,30,"Rebecca Pettiford",null,null,0,null,0]
[null,0,"George Washington","American Presidents","Blastoff! Readers",9781644875155,18.95,"973.4/1092",2022,1,24,null,"N",390,30,"Rebecca Pettiford",null,null,0,null,0]
[null,0,"Jimmy Carter","American Presidents","Blastoff! Readers",9781644877074,18.95,973.92609200000004,2023,1,24,null,null,360,30,"Rebecca Pettiford",null,null,0,null,0]
[null,0,"Joe Biden","American Presidents","Blastoff! Readers",9781644875162,18.95,973.93409199999996,2022,1,24,null,"N",370,30,"Alex Monroe",null,null,0,null,0]
[null,0,"John F. Kennedy","American Presidents","Blastoff! Readers",9781644875179,18.95,973.92209200000002,2022,1,24,null,"N",400,30,"Rachel Grack",null,null,0,null,0]
[null,0,"Ronald Reagan","American Presidents","Blastoff! Readers",9781644875186,18.95,973.92709200000002,2022,1,24,null,"N",400,30,"Rachel Grack",null,null,0,null,0]
[null,0,"Theodore Roosevelt","American Presidents","Blastoff! Readers",9781644877081,18.95,973.91,2023,1,24,null,null,450,30,"Rebecca Pettiford",null,null,0,null,0]
[null,0,"Thomas Jefferson","American Presidents","Blastoff! Readers",9781644875193,18.95,"973.4/6092",2022,1,24,null,"O",400,30,"Rebecca Pettiford",null,null,0,null,0]
[null,0,"Countries of the World Set (12)","Countries of the World","Blastoff! Readers",null,227.4,null,null,12,null,null,null,null,31,null,null,null,0,null,0]
[null,0,"Australia","Countries of the World","Blastoff! Readers",9781644877135,18.95,994,2023,1,24,null,null,510,31,"Rebecca Sabelko",null,null,0,null,0]
[null,0,"Brazil","Countries of the World","Blastoff! Readers",9781644877142,18.95,981,2023,1,24,null,null,470,31,"Monika Davies",null,null,0,null,0]
[null,0,"Canada","Countries of the World","Blastoff! Readers",9781644877159,18.95,971,2023,1,24,null,null,480,31,"Monika Davies",null,null,0,null,0]
[null,0,"China","Countries of the World","Blastoff! Readers",9781644877166,18.95,951,2023,1,24,null,null,500,31,"Monika Davies",null,null,0,null,0]
[null,0,"England","Countries of the World","Blastoff! Readers",9781644877173,18.95,942,2023,1,24,null,null,420,31,"Monika Davies",null,null,0,null,0]
[null,0,"France","Countries of the World","Blastoff! Readers",9781644877180,18.95,944,2023,1,24,null,null,520,31,"Rebecca Sabelko",null,null,0,null,0]
[null,0,"India","Countries of the World","Blastoff! Readers",9781644877197,18.95,954,2023,1,24,null,null,460,31,"Monika Davies",null,null,0,null,0]
[null,0,"Iraq","Countries of the World","Blastoff! Readers",9781644877203,18.95,956.7,2023,1,24,null,null,510,31,"Rebecca Sabelko",null,null,0,null,0]
[null,0,"Italy","Countries of the World","Blastoff! Readers",9781644877210,18.95,945,2023,1,24,null,null,470,31,"Rebecca Sabelko",null,null,0,null,0]
[null,0,"Japan","Countries of the World","Blastoff! Readers",9781644877227,18.95,952,2023,1,24,null,null,470,31,"Rebecca Sabelko",null,null,0,null,0]
[null,0,"Mexico","Countries of the World","Blastoff! Readers",9781644877234,18.95,972,2023,1,24,null,null,500,31,"Monika Davies",null,null,0,null,0]
[null,0,"Russia","Countries of the World","Blastoff! Readers",9781644877241,18.95,947,2023,1,24,null,null,500,31,"Rebecca Sabelko",null,null,0,null,0]
[null,0,"Saddle Up! Set (10)","Saddle Up!","Blastoff! Readers",null,189.5,null,null,10,null,null,null,null,32,null,null,null,0,null,0]
[null,0,"American Paint Horses","Saddle Up!","Blastoff! Readers",9781644872314,18.95,"636.1",2021,1,24,2.2000000000000002,"N",520,32,"Rachel Grack",null,null,0,null,0]
[null,0,"American Quarter Horses","Saddle Up!","Blastoff! Readers",9781644872321,18.95,"636.1",2021,1,24,2.4,"N",520,32,"Rachel Grack",null,null,0,null,0]
[null,0,"Appaloosa Horses","Saddle Up!","Blastoff! Readers",9781644872338,18.95,"636.1",2021,1,24,2.5,"N",500,32,"Rachel Grack",null,null,0,null,{"$f":"A362*J362","v":0}]
[null,0,"Arabian Horses","Saddle Up!","Blastoff! Readers",9781644872345,18.95,"636.1",2021,1,24,2.2999999999999998,"N",530,32,"Rachel Grack",null,null,0,null,0]
[null,0,"Belgian Horses","Saddle Up!","Blastoff! Readers",9781644874295,18.95,636.1,2021,1,24,null,"N",520,32,"Rachel Grack",null,null,0,null,0]
[null,0,"Clydesdale Horses","Saddle Up!","Blastoff! Readers",9781644872352,18.95,"636.1",2021,1,24,2.2000000000000002,"N",510,32,"Rachel Grack",null,null,0,null,0]
[null,0,"Morgan Horses","Saddle Up!","Blastoff! Readers",9781644874301,18.95,636.1,2021,1,24,null,"N",520,32,"Rachel Grack",null,null,0,null,0]
[null,0,"Shetland Ponies","Saddle Up!","Blastoff! Readers",9781644874318,18.95,636.1,2021,1,24,null,"N",550,32,"Rachel Grack",null,null,0,null,0]
[null,0,"Spanish Mustangs","Saddle Up!","Blastoff! Readers",9781644874325,18.95,636.1,2021,1,24,null,"N",530,32,"Rachel Grack",null,null,0,null,0]
[null,0,"Thoroughbred Horses","Saddle Up!","Blastoff! Readers",9781644872369,18.95,"636.1",2021,1,24,2.4,"N",500,32,"Rachel Grack",null,null,0,null,0]
[null,0,"Animal Life Cycles Set (6)","Animal Life Cycles","Blastoff! Readers",null,113.7,null,null,6,null,null,null,null,32,null,null,null,0,null,0]
[null,0,"Animal Life Cycles: Bee","Animal Life Cycles","Blastoff! Readers",9781644874073,18.95,595.79,2021,1,24,null,"M",470,32,"Rebecca Sabelko",null,null,0,null,0]
[null,0,"Animal Life Cycles: Butterfly","Animal Life Cycles","Blastoff! Readers",9781644874080,18.95,595.78,2021,1,24,null,"M",470,32,"Rebecca Sabelko",null,null,0,null,0]
[null,0,"Animal Life Cycles: Frog","Animal Life Cycles","Blastoff! Readers",9781644874097,18.95,597.79999999999995,2021,1,24,null,"M",480,32,"Elizabeth Neuenfeldt",null,null,0,null,0]
[null,0,"Animal Life Cycles: Ladybug","Animal Life Cycles","Blastoff! Readers",9781644874103,18.95,595.76,2021,1,24,null,"M",500,32,"Elizabeth Neuenfeldt",null,null,0,null,0]
[null,0,"Animal Life Cycles: Penguin","Animal Life Cycles","Blastoff! Readers",9781644874110,18.95,598.47155999999995,2021,1,24,null,"M",450,32,"Rebecca Sabelko",null,null,0,null,0]
[null,0,"Animal Life Cycles: Sea Horse","Animal Life Cycles","Blastoff! Readers",9781644874127,18.95,597,2021,1,24,null,"M",440,32,"Elizabeth Neuenfeldt",null,null,0,null,0]
[null,0,"Animals at Risk (10)","Animals at Risk","Blastoff! Readers",null,189.5,null,null,10,null,null,null,null,33,null,null,null,0,null,0]
[null,0,"Elephants","Animals at Risk","Blastoff! Readers",9781644875872,18.95,599.66999999999996,2022,1,24,null,"L",480,33,"Rachel Grack",null,null,0,null,0]
[null,0,"Giant Pandas","Animals at Risk","Blastoff! Readers",9781644875889,18.95,599.78899999999999,2022,1,24,null,"L",530,33,"Rachel Grack",null,null,0,null,0]
[null,0,"Orangutans","Animals at Risk","Blastoff! Readers",9781644875896,18.95,599.88,2022,1,24,null,"L",520,33,"Rachel Grack",null,null,0,null,0]
[null,0,"Polar Bears","Animals at Risk","Blastoff! Readers",9781644875902,18.95,599.78599999999994,2022,1,24,null,"L",610,33,"Rachel Grack",null,null,0,null,0]
[null,0,"Sea Turtles","Animals at Risk","Blastoff! Readers",9781644875919,18.95,597.91999999999996,2022,1,24,null,"L",540,33,"Rachel Grack",null,null,0,null,0]
[null,0,"Tigers","Animals at Risk","Blastoff! Readers",9781644875926,18.95,599.75599999999997,2022,1,24,null,"L",520,33,"Rachel Grack",null,null,0,null,0]
[null,0,"Black-footed Ferrets","Animals at Risk","Blastoff! Readers",9781644877098,18.95,599.76,2023,1,24,null,"L",480,33,"Rachel Grack",null,null,0,null,0]
[null,0,"Blue Whales","Animals at Risk","Blastoff! Readers",9781644877104,18.95,599.5,2023,1,24,null,"L",490,33,"Rachel Grack",null,null,0,null,0]
[null,0,"Cheetahs","Animals at Risk","Blastoff! Readers",9781644877111,18.95,599.75,2023,1,24,null,"L",480,33,"Rachel Grack",null,null,0,null,0]
[null,0,"Giant Tortoises","Animals at Risk","Blastoff! Readers",9781644877128,18.95,597.91999999999996,2023,1,24,null,"L",510,33,"Rachel Grack",null,null,0,null,0]
[null,0,"Animals of the Desert Set (10)","Animals of the Desert","Blastoff! Readers",null,189.5,null,null,10,null,null,null,null,34,null,null,null,0,null,0]
[null,0,"Antelope Jackrabbits","Animals of the Desert","Blastoff! Readers",9781644872192,18.95,"599.32",2021,1,24,2.5,"L",470,34,"Patrick Perish",null,null,0,null,0]
[null,0,"Bark Scorpions","Animals of the Desert","Blastoff! Readers",9781626179196,18.95,591.75400000000002,2019,1,24,2.5,"J","520",34,"Patrick Perish",null,null,0,null,0]
[null,0,"Bighorn Sheep","Animals of the Desert","Blastoff! Readers",9781626179202,18.95,599.64970000000005,2019,1,24,2.6,"I","530",34,"Patrick Perish",null,null,0,null,0]
[null,0,"Collared Lizards","Animals of the Desert","Blastoff! Readers",9781626179219,18.95,597.95000000000005,2019,1,24,2.4,"J","510",34,"Patrick Perish",null,null,0,null,0]
[null,0,"Desert Tortoises","Animals of the Desert","Blastoff! Readers",9781644872208,18.95,"597.92",2021,1,24,2.6,"K",500,34,"Patrick Perish",null,null,0,null,0]
[null,0,"Fennec Foxes","Animals of the Desert","Blastoff! Readers",9781626179226,18.95,599.77599999999995,2019,1,24,2.5,"I","500",34,"Patrick Perish",null,null,0,null,0]
[null,0,"Roadrunners","Animals of the Desert","Blastoff! Readers",9781626179233,18.95,598.74,2019,1,24,2.4,"I","510",34,"Patrick Perish",null,null,0,null,0]
[null,0,"Sand Cats","Animals of the Desert","Blastoff! Readers",9781644872215,18.95,"599.75",2021,1,24,2.5,"L",510,34,"Patrick Perish",null,null,0,null,0]
[null,0,"Sidewinders","Animals of the Desert","Blastoff! Readers",9781626179240,18.95,597.96,2019,1,24,2.5,"J","550",34,"Patrick Perish",null,null,0,null,0]
[null,0,"Thorny Devils","Animals of the Desert","Blastoff! Readers",9781644872222,18.95,"597.95",2021,1,24,2.4,"K",450,34,"Patrick Perish",null,null,0,null,0]
[null,0,"Animals of the Arctic Set (10)","Animals of the Arctic","Blastoff! Readers",null,189.5,null,null,10,null,null,null,null,35,null,null,null,0,null,0]
[null,0,"Arctic Foxes","Animals of the Arctic","Blastoff! Readers",9781626179356,18.95,599.77639999999997,2019,1,24,2.5,"J",520,35,"Rebecca Pettiford",null,null,{"$f":"IF(A400>0,1,0)","v":0},null,0]
[null,{"$f":"A401*G401","v":0},"Arctic Hares","Animals of the Arctic","Blastoff! Readers",9781626179400,18.95,590.91099999999994,2019,1,24,2.6,"I",510,35,"Rebecca Pettiford",null,null,0,null,0]
[null,0,"Arctic Wolves","Animals of the Arctic","Blastoff! Readers",9781644872116,18.95,599.77309109999999,2021,1,24,2.2999999999999998,"L",480,35,"Betsy Rathburn",null,null,0,null,0]
[null,0,"Beluga Whales","Animals of the Arctic","Blastoff! Readers",9781644872123,18.95,599.5,2021,1,24,2.2999999999999998,"L",480,35,"Betsy Rathburn",null,null,0,null,0]
[null,0,"Collared Lemmings","Animals of the Arctic","Blastoff! Readers",9781626179363,18.95,590.91099999999994,2019,1,24,2.5,"J",540,35,"Rebecca Pettiford",null,null,0,null,0]
[null,0,"Harp Seals","Animals of the Arctic","Blastoff! Readers",9781626179370,18.95,599.79290000000003,2019,1,24,2.5,"J",520,35,"Rebecca Pettiford",null,null,0,null,0]
[null,0,"Narwhals","Animals of the Arctic","Blastoff! Readers",9781644872130,18.95,599.5,2021,1,24,2.2000000000000002,"L",440,35,"Betsy Rathburn",null,null,0,null,0]
[null,0,"Polar Bears","Animals of the Arctic","Blastoff! Readers",9781626179387,18.95,599.78599999999994,2019,1,24,2.4,"J",490,35,"Rebecca Pettiford",null,null,0,null,0]
[null,0,"Reindeer","Animals of the Arctic","Blastoff! Readers",9781626179394,18.95,599.65800000000002,2019,1,24,2.5,"J",550,35,"Rebecca Pettiford",null,null,0,null,0]
[null,0,"Snowy Owls","Animals of the Arctic","Blastoff! Readers",9781644872147,18.95,598.9,2021,1,24,2.2000000000000002,"M",460,35,"Betsy Rathburn",null,null,0,null,0]
[null,0,"Animals of the Mountains Set (10)","Animals of the Mountains","Blastoff! Readers",null,189.5,null,null,10,null,null,null,null,36,null,null,null,0,null,0]
[null,0,"Alpine Ibex","Animals of the Mountains","Blastoff! Readers",9781644874134,18.95,599.64,2021,1,24,null,"L",450,36,"Kaitlyn Duling",null,null,0,null,0]
[null,0,"Bearded Vultures","Animals of the Mountains","Blastoff! Readers","9781644870129",18.95,598.9,2020,1,24,2.6,"I",510,36,"Lindsay Shaffer",null,null,0,null,0]
[null,0,"Brown Bears","Animals of the Mountains","Blastoff! Readers","9781644870136",18.95,599.78399999999999,2020,1,24,2.8,"I",570,36,"Lindsay Shaffer",null,null,0,null,0]
[null,0,"Mountain Goats","Animals of the Mountains","Blastoff! Readers","9781644870143",18.95,599.64,2020,1,24,2.6,"I",530,36,"Lindsay Shaffer",null,null,0,null,0]
[null,0,"Mountain Gorillas","Animals of the Mountains","Blastoff! Readers",9781644874141,18.95,599.88400000000001,2021,1,24,null,"L",490,36,"Kaitlyn Duling",null,null,0,null,0]
[null,0,"Mountain Lions","Animals of the Mountains","Blastoff! Readers","9781644870150",18.95,599.75,2020,1,24,2.6,"I",540,36,"Lindsay Shaffer",null,null,0,null,0]
[null,0,"Pikas","Animals of the Mountains","Blastoff! Readers","9781644870167",18.95,599.32000000000005,2020,1,24,2.6,"I",540,36,"Lindsay Shaffer",null,null,0,null,0]
[null,0,"Red Pandas","Animals of the Mountains","Blastoff! Readers",9781644874158,18.95,599.76,2021,1,24,null,"L",500,36,"Kaitlyn Duling",null,null,0,null,0]
[null,0,"Snow Leopards","Animals of the Mountains","Blastoff! Readers","9781644870174",18.95,599.75,2020,1,24,2.6,"I",520,36,"Lindsay Shaffer",null,null,0,null,0]
[null,0,"Wild Yaks","Animals of the Mountains","Blastoff! Readers",9781644874165,18.95,599.64,2021,1,24,null,"L",450,36,"Kaitlyn Duling",null,null,0,null,0]
[null,0,"Animals of the Coral Reef Set (10)","Animals of the Coral Reef","Blastoff! Readers",null,189.5,null,null,10,null,null,null,null,37,null,null,null,0,null,0]
[null,0,"Angelfish","Animals of the Coral Reef","Blastoff! Readers",9781644875025,18.95,597,2022,1,24,2.2999999999999998,"L",460,37,"Kate Moening",null,null,0,null,0]
[null,0,"Clownfish","Animals of the Coral Reef","Blastoff! Readers",9781644871317,18.95,597,2020,1,24,2.5,"L",480,37,"Lindsay Shaffer",null,null,0,null,0]
[null,0,"Giant Clams","Animals of the Coral Reef","Blastoff! Readers",9781644875032,18.95,594,2022,1,24,2.5,"L",470,37,"Kate Moening",null,null,0,null,0]
[null,0,"Moray Eels","Animals of the Coral Reef","Blastoff! Readers",9781644871324,18.95,597,2020,1,24,2.5,"L",470,37,"Lindsay Shaffer",null,null,0,null,0]
[null,0,"Octopuses","Animals of the Coral Reef","Blastoff! Readers",9781644871331,18.95,594,2020,1,24,2.5,"L",460,37,"Lindsay Shaffer",null,null,0,null,{"$f":"A426*J426","v":0}]
[null,0,"Parrotfish","Animals of the Coral Reef","Blastoff! Readers",9781644875049,18.95,597,2022,1,24,2.2999999999999998,"L",440,37,"Kate Moening",null,null,0,null,0]
[null,0,"Sea Horses","Animals of the Coral Reef","Blastoff! Readers",9781644875056,18.95,597,2022,1,24,2.2000000000000002,"L",480,37,"Kate Moening",null,null,0,null,0]
[null,0,"Sea Snakes","Animals of the Coral Reef","Blastoff! Readers",9781644871348,18.95,597.96,2020,1,24,2.4,"L",460,37,"Lindsay Shaffer",null,null,0,null,0]
[null,0,"Spiny Lobsters","Animals of the Coral Reef","Blastoff! Readers",9781644871355,18.95,595.29999999999995,2020,1,24,2.4,"L",440,37,"Lindsay Shaffer",null,null,0,null,0]
[null,0,"Whitetip Reef Sharks","Animals of the Coral Reef","Blastoff! Readers",9781644871362,18.95,597.29999999999995,2020,1,24,2.5,"L",440,37,"Lindsay Shaffer",null,null,0,null,0]
[null,0,"Animals of the Wetlands Set (10)","Animals of the Wetlands","Blastoff! Readers",null,189.5,null,null,10,null,null,null,null,38,null,null,null,0,null,0]
[null,0,"Alligators","Animals of the Wetlands","Blastoff! Readers","9781626179851",18.95,597.98,2020,1,24,2.5,"I",530,38,"Rachel Grack",null,null,0,null,0]
[null,0,"Beavers","Animals of the Wetlands","Blastoff! Readers","9781626179868",18.95,599.70000000000005,2020,1,24,2.2999999999999998,"I",490,38,"Rachel Grack",null,null,0,null,0]
[null,0,"Crocodiles","Animals of the Wetlands","Blastoff! Readers","9781626179875",18.95,597.98,2020,1,24,2.5,"I",530,38,"Rachel Grack",null,null,0,null,0]
[null,0,"Fishing Cats","Animals of the Wetlands","Blastoff! Readers",9781644874172,18.95,599.75,2021,1,24,null,"M",480,38,"Karen Latchana Kenney",null,null,0,null,0]
[null,0,"Flamingos","Animals of the Wetlands","Blastoff! Readers",9781644874189,18.95,598.29999999999995,2021,1,24,null,"L",440,38,"Karen Latchana Kenney",null,null,0,null,0]
[null,0,"Herons","Animals of the Wetlands","Blastoff! Readers","9781626179882",18.95,598.29999999999995,2020,1,24,2.2999999999999998,"I",470,38,"Rachel Grack",null,null,0,null,0]
[null,0,"Hippopotamuses","Animals of the Wetlands","Blastoff! Readers","9781626179899",18.95,599.63,2020,1,24,2.5,"I",540,38,"Rachel Grack",null,null,0,null,0]
[null,0,"Platypuses","Animals of the Wetlands","Blastoff! Readers",9781644874196,18.95,599.20000000000005,2021,1,24,null,"M",430,38,"Karen Latchana Kenney",null,null,0,null,0]
[null,0,"River Otters","Animals of the Wetlands","Blastoff! Readers",9781644874202,18.95,599.76900000000001,2021,1,24,null,"M",490,38,"Karen Latchana Kenney",null,null,0,null,0]
[null,0,"Wood Ducks","Animals of the Wetlands","Blastoff! Readers","9781626179905",18.95,598.4,2020,1,24,2.2999999999999998,"I",540,38,"Rachel Grack",null,null,0,null,0]
[null,0,"Animals of the Rain Forest Set (10)","Animals of the Rain Forest","Blastoff! Readers",null,189.5,null,null,10,null,null,null,null,39,null,null,null,0,null,0]
[null,0,"Anacondas","Animals of the Rain Forest","Blastoff! Readers",9781626179479,18.95,597.96699999999998,2019,1,24,2.4,"I",540,39,"Rachel Grack",null,null,0,null,0]
[null,0,"Capybaras","Animals of the Rain Forest","Blastoff! Readers",9781626179486,18.95,599.35900000000004,2019,1,24,2.4,"J",550,39,"Rachel Grack",null,null,0,null,0]
[null,0,"Chimpanzees","Animals of the Rain Forest","Blastoff! Readers",9781626179493,18.95,599.88499999999999,2019,1,24,2.2000000000000002,"I",520,39,"Rachel Grack",null,null,0,null,0]
[null,0,"Harpy Eagles","Animals of the Rain Forest","Blastoff! Readers",9781644872239,18.95,598.9,2021,1,24,2.4,"L",490,39,"Karen Latchana Kenney",null,null,0,null,0]
[null,0,"Howler Monkeys","Animals of the Rain Forest","Blastoff! Readers",9781644872246,18.95,599.79999999999995,2021,1,24,2.1,"L",470,39,"Karen Latchana Kenney",null,null,0,null,0]
[null,0,"Jaguars","Animals of the Rain Forest","Blastoff! Readers",9781626179509,18.95,599.755,2019,1,24,2.4,"I",540,39,"Rachel Grack",null,null,0,null,0]
[null,0,"Macaws","Animals of the Rain Forest","Blastoff! Readers",9781644872253,18.95,598.70000000000005,2021,1,24,2.4,"L",450,39,"Karen Latchana Kenney",null,null,0,null,0]
[null,0,"Poison Dart Frogs","Animals of the Rain Forest","Blastoff! Readers",9781626179516,18.95,597.87699999999995,2019,1,24,2.4,"J",520,39,"Rachel Grack",null,null,0,null,0]
[null,0,"Sloths","Animals of the Rain Forest","Blastoff! Readers",9781644872260,18.95,599.29999999999995,2021,1,24,2.2999999999999998,"L",430,39,"Karen Latchana Kenney",null,null,0,null,0]
[null,0,"Toucans","Animals of the Rain Forest","Blastoff! Readers",9781626179523,18.95,598.72,2019,1,24,2.4,"I",480,39,"Rachel Grack",null,null,0,null,0]
[null,0,"Animals of the Forest Set (10)","Animals of the Forest","Blastoff! Readers",null,189.5,null,null,10,null,null,null,null,40,null,null,null,0,null,0]
[null,0,"Black Bears","Animals of the Forest","Blastoff! Readers",9781644871256,18.95,599.78,2020,1,24,2.2000000000000002,"L",470,40,"Al Albertson",null,null,0,null,0]
[null,0,"Brown Bats","Animals of the Forest","Blastoff! Readers",9781644875063,18.95,599.4,2022,1,24,2.2999999999999998,"L",500,40,"Patrick Perish",null,null,0,null,0]
[null,0,"Gray Wolves","Animals of the Forest","Blastoff! Readers",9781644871263,18.95,599.77300000000002,2020,1,24,2.4,"L",460,40,"Al Albertson",null,null,0,null,0]
[null,0,"Great Gray Owls","Animals of the Forest","Blastoff! Readers",9781644871270,18.95,598.9,2020,1,24,2.2999999999999998,"L",470,40,"Al Albertson",null,null,0,null,0]
[null,0,"Lynx","Animals of the Forest","Blastoff! Readers",9781644875070,18.95,599.75,2022,1,24,2.5,"L",500,40,"Patrick Perish",null,null,0,null,0]
[null,0,"Moose","Animals of the Forest","Blastoff! Readers",9781644871287,18.95,599.65,2020,1,24,2.4,"L",520,40,"Al Albertson",null,null,0,null,0]
[null,0,"Raccoons","Animals of the Forest","Blastoff! Readers",9781644871294,18.95,599.76,2020,1,24,2.2000000000000002,"L",470,40,"Al Albertson",null,null,0,null,0]
[null,0,"Red Foxes","Animals of the Forest","Blastoff! Readers",9781644875087,18.95,755.77499999999998,2022,1,24,2.1,"L",490,40,"Patrick Perish",null,null,0,null,0]
[null,0,"White-tailed Deer","Animals of the Forest","Blastoff! Readers",9781644871300,18.95,599.65,2020,1,24,2.4,"L",500,40,"Al Albertson",null,null,0,null,0]
[null,0,"Woodpeckers","Animals of the Forest","Blastoff! Readers",9781644875094,18.95,598.70000000000005,2022,1,24,2.2999999999999998,"L",510,40,"Patrick Perish",null,null,{"$f":"IF(A464>0,1,0)","v":0},null,0]
[null,{"$f":"A465*G465","v":0},"Animals of the Grasslands Set (10)","Animals of the Grasslands","Blastoff! Readers",null,189.5,null,null,10,null,null,null,null,41,null,null,null,0,null,0]
[null,0,"African Elephants","Animals of the Grasslands","Blastoff! Readers","9781644870549",18.95,599.67399999999998,2020,1,24,2.6,"I",520,41,"Kaitlyn Duling",null,null,0,null,0]
[null,0,"African Lions","Animals of the Grasslands","Blastoff! Readers","9781644870556",18.95,599.75699999999995,2020,1,24,2.2999999999999998,"I",480,41,"Kaitlyn Duling",null,null,0,null,0]
[null,0,"Bison","Animals of the Grasslands","Blastoff! Readers","9781644870563",18.95,599.64300000000003,2020,1,24,2.5,"I",480,41,"Kaitlyn Duling",null,null,0,null,0]
[null,0,"Giraffes","Animals of the Grasslands","Blastoff! Readers","9781644870570",18.95,599.63800000000003,2020,1,24,2.5,"I",470,41,"Kaitlyn Duling",null,null,0,null,0]
[null,0,"Hyenas","Animals of the Grasslands","Blastoff! Readers","9781644870587",18.95,599.74300000000005,2020,1,24,2.4,"I",520,41,"Kaitlyn Duling",null,null,0,null,0]
[null,0,"Kangaroos","Animals of the Grasslands","Blastoff! Readers",9781644872277,18.95,"599.2",2021,1,24,2.4,"L",520,41,"Kaitlyn Duling",null,null,0,null,0]
[null,0,"Prairie Dogs","Animals of the Grasslands","Blastoff! Readers",9781644872284,18.95,"599.36",2021,1,24,2.4,"L",460,41,"Kaitlyn Duling",null,null,0,null,0]
[null,0,"Pronghorn","Animals of the Grasslands","Blastoff! Readers",9781644872291,18.95,"599.63",2021,1,24,2.4,"L",490,41,"Kaitlyn Duling",null,null,0,null,0]
[null,0,"Rhinoceroses","Animals of the Grasslands","Blastoff! Readers",9781644872307,18.95,"599.66",2021,1,24,2.2999999999999998,"K",430,41,"Kaitlyn Duling",null,null,0,null,0]
[null,0,"Zebras","Animals of the Grasslands","Blastoff! Readers","9781644870594",18.95,599.66499999999996,2020,1,24,2.2000000000000002,"I",470,41,"Kaitlyn Duling",null,null,0,null,0]
[null,0,"Mighty Machines in Action Set (22)","Mighty Machines in Action","Blastoff! Readers",null,416.9,null,null,22,null,null,null,null,42,null,null,null,0,null,0]
[null,0,"Airplanes","Mighty Machines in Action","Blastoff! Readers","9781626175990",18.95,629.13300000000004,2017,1,24,2,"I",520,42,"Thomas K. Adamson",null,null,0,null,0]
[null,0,"Backhoes","Mighty Machines in Action","Blastoff! Readers","9781626176003",18.95,629.22500000000002,2017,1,24,2,"H",470,42,"Chris Bowman",null,null,0,null,0]
[null,0,"Bulldozers","Mighty Machines in Action","Blastoff! Readers","9781626176010",18.95,629.22500000000002,2017,1,24,2.2000000000000002,"H",480,42,"Chris Bowman",null,null,0,null,0]
[null,0,"Cranes","Mighty Machines in Action","Blastoff! Readers","9781626176027",18.95,621.79999999999995,2017,1,24,2.2999999999999998,"H",470,42,"Chris Bowman",null,null,0,null,0]
[null,0,"Dump Trucks","Mighty Machines in Action","Blastoff! Readers","9781626176034",18.95,629.22500000000002,2017,1,24,2.1,"H",500,42,"Emily Rose Oachs",null,null,0,null,0]
[null,0,"Fire Trucks","Mighty Machines in Action","Blastoff! Readers","9781626176041",18.95,629.22500000000002,2017,1,24,2,"G",460,42,"Chris Bowman",null,null,0,null,0]
[null,0,"Garbage Trucks","Mighty Machines in Action","Blastoff! Readers","9781626176058",18.95,628.4,2017,1,24,2.2999999999999998,"H",460,42,"Thomas K. Adamson",null,null,0,null,0]
[null,0,"Monster Trucks","Mighty Machines in Action","Blastoff! Readers","9781626176065",18.95,629.22400000000005,2017,1,24,2,"H",490,42,"Chris Bowman",null,null,0,null,0]
[null,0,"Police Cars","Mighty Machines in Action","Blastoff! Readers","9781626176072",18.95,363.2,2017,1,24,2.1,"G",520,42,"Emily Rose Oachs",null,null,0,null,0]
[null,0,"Ships","Mighty Machines in Action","Blastoff! Readers","9781626176089",18.95,623.82000000000005,2017,1,24,2.2000000000000002,"H",470,42,"Thomas K. Adamson",null,null,0,null,0]
[null,0,"Tractors","Mighty Machines in Action","Blastoff! Readers","9781626176096",18.95,631.29999999999995,2017,1,24,2.2999999999999998,"H",520,42,"Emily Rose Oachs",null,null,0,null,0]
[null,0,"Trains","Mighty Machines in Action","Blastoff! Readers","9781626176102",18.95,625.1,2017,1,24,1.9,"G",480,42,"Chris Bowman",null,null,0,null,0]
[null,0,"Big Rigs","Mighty Machines in Action","Blastoff! Readers",9781626176294,18.95,629.22400000000005,2018,1,24,2.2999999999999998,"H",530,42,"Rebecca Pettiford",null,null,0,null,0]
[null,0,"Concrete Mixers","Mighty Machines in Action","Blastoff! Readers",9781626176300,18.95,624.1,2018,1,24,2.5,"H",470,42,"Rebecca Pettiford",null,null,0,null,{"$f":"A490*J490","v":0}]
[null,0,"Earth Movers","Mighty Machines in Action","Blastoff! Readers",9781626176317,18.95,629.22500000000002,2018,1,24,2.2999999999999998,"G",440,42,"Rebecca Pettiford",null,null,0,null,0]
[null,0,"Helicopters","Mighty Machines in Action","Blastoff! Readers",9781626176324,18.95,629.13300000000004,2018,1,24,2.5,"H",520,42,"Rebecca Pettiford",null,null,0,null,0]
[null,0,"Snowplows","Mighty Machines in Action","Blastoff! Readers",9781626176331,18.95,625.70000000000005,2018,1,24,2.2000000000000002,"H",470,42,"Rebecca Pettiford",null,null,0,null,0]
[null,0,"Zamboni Ice Resurfacers","Mighty Machines in Action","Blastoff! Readers",9781626176348,18.95,796.91027999999994,2018,1,24,2.7,"H",560,42,"Rebecca Pettiford",null,null,0,null,0]
[null,0,"Ambulances","Mighty Machines in Action","Blastoff! Readers",9781626177567,18.95,629.22199999999998,2018,1,24,2.4,"H",540,42,"Chris Bowman",null,null,0,null,0]
[null,0,"Motorcycles","Mighty Machines in Action","Blastoff! Readers",9781626177581,18.95,629.22699999999998,2018,1,24,2.4,"H",540,42,"Chris Bowman",null,null,0,null,0]
[null,0,"Pickup Trucks","Mighty Machines in Action","Blastoff! Readers",9781626177574,18.95,629.22299999999996,2018,1,24,2.5,"H",520,42,"Chris Bowman",null,null,0,null,0]
[null,0,"Race Cars","Mighty Machines in Action","Blastoff! Readers",9781626177598,18.95,629.22799999999995,2018,1,24,2.2999999999999998,"H",490,42,"Chris Bowman",null,null,0,null,0]
[null,0,"Celebrating Holidays Set (24)","Celebrating Holidays","Blastoff! Readers",null,454.8,null,null,24,null,null,null,null,43,null,null,null,0,null,0]
[null,0,"Chinese New Year","Celebrating Holidays","Blastoff! Readers","9781626175914",18.95,394.26100000000002,2017,1,24,2.2999999999999998,"K",620,43,"Rachel Grack",null,null,0,null,0]
[null,0,"Christmas","Celebrating Holidays","Blastoff! Readers","9781626175921",18.95,263.91500000000002,2017,1,24,2.4,"L",580,43,"Rachel Grack",null,null,0,null,0]
[null,0,"Diwali","Celebrating Holidays","Blastoff! Readers","9781626175938",18.95,263.93,2017,1,24,2.4,"L",620,43,"Rachel Grack",null,null,0,null,0]
[null,0,"Easter","Celebrating Holidays","Blastoff! Readers","9781626175945",18.95,294.5,2017,1,24,2.4,"L",560,43,"Rachel Grack",null,null,0,null,0]
[null,0,"Hanukkah","Celebrating Holidays","Blastoff! Readers",9781626175952,18.95,296.39999999999998,2017,1,24,2.5,"K",540,43,"Rachel Grack",null,null,0,null,0]
[null,0,"Kwanzaa","Celebrating Holidays","Blastoff! Readers","9781626175969",18.95,394.26119999999997,2017,1,24,2.5,"K",590,43,"Rachel Grack",null,null,0,null,0]
[null,0,"Ramadan","Celebrating Holidays","Blastoff! Readers","9781626175976",18.95,297.3,2017,1,24,2.8,"K",600,43,"Rachel Grack",null,null,0,null,0]
[null,0,"Thanksgiving","Celebrating Holidays","Blastoff! Readers","9781626175983",18.95,394.26490000000001,2017,1,24,2.6,"K",560,43,"Rachel Grack",null,null,0,null,0]
[null,0,"Cinco de Mayo","Celebrating Holidays","Blastoff! Readers",9781626176171,18.95,394.262,2018,1,24,2.6,"K",600,43,"Rachel Grack",null,null,0,null,0]
[null,0,"Day of the Dead","Celebrating Holidays","Blastoff! Readers",9781626176188,18.95,394.26600000000002,2018,1,24,2.4,"K",590,43,"Rachel Grack",null,null,0,null,0]
[null,0,"Earth Day","Celebrating Holidays","Blastoff! Readers",9781626176195,18.95,394.262,2018,1,24,2.4,"K",570,43,"Rachel Grack",null,null,0,null,0]
[null,0,"Groundhog Day","Celebrating Holidays","Blastoff! Readers",9781626176201,18.95,394.26100000000002,2018,1,24,2.4,"K",540,43,"Rachel Grack",null,null,0,null,0]
[null,0,"Halloween","Celebrating Holidays","Blastoff! Readers",9781626176218,18.95,394.26459999999997,2018,1,24,2.4,"K",540,43,"Rachel Grack",null,null,0,null,0]
[null,0,"Independence Day","Celebrating Holidays","Blastoff! Readers",9781626176225,18.95,394.26339999999999,2018,1,24,2.5,"K",550,43,"Rachel Grack",null,null,0,null,0]
[null,0,"Saint Patrick's Day","Celebrating Holidays","Blastoff! Readers",9781626176232,18.95,394.262,2018,1,24,2.5,"K",580,43,"Rachel Grack",null,null,0,null,0]
[null,0,"Veterans Day","Celebrating Holidays","Blastoff! Readers",9781626176249,18.95,394.26400000000001,2018,1,24,2.5,"K",560,43,"Rachel Grack",null,null,0,null,0]
[null,0,"Martin Luther King, Jr. Day","Celebrating Holidays","Blastoff! Readers",9781626177529,18.95,394.26100000000002,2018,1,24,2.4,"L",620,43,"Rachel Grack",null,null,0,null,0]
[null,0,"Memorial Day","Celebrating Holidays","Blastoff! Readers",9781626177536,18.95,394.262,2018,1,24,2.5,"K",600,43,"Rachel Grack",null,null,0,null,0]
[null,0,"Presidents' Day","Celebrating Holidays","Blastoff! Readers",9781626177543,18.95,394.26100000000002,2018,1,24,2.5,"K",520,43,"Rachel Grack",null,null,0,null,0]
[null,0,"Valentine's Day","Celebrating Holidays","Blastoff! Readers",9781626177550,18.95,394.26179999999999,2018,1,24,2.2999999999999998,"K",550,43,"Rachel Grack",null,null,0,null,0]
[null,0,"Holi","Celebrating Holidays","Blastoff! Readers",9781626177871,18.95,294.5,2019,1,24,2.4,"J",550,43,"Rachel Grack",null,null,0,null,0]
[null,0,"Juneteenth","Celebrating Holidays","Blastoff! Readers",9781626177888,18.95,394.26299999999998,2019,1,24,2.4,"K",480,43,"Rachel Grack",null,null,0,null,0]
[null,0,"Labor Day","Celebrating Holidays","Blastoff! Readers",9781626177895,18.95,394.26400000000001,2019,1,24,2.2999999999999998,"J",540,43,"Rachel Grack",null,null,0,null,0]
[null,0,"Passover","Celebrating Holidays","Blastoff! Readers",9781626177901,18.95,296.39999999999998,2019,1,24,2.7,"K",490,43,"Rachel Grack",null,null,0,null,0]
[null,0,"Coding is Everywhere Set (6)","Coding is Everywhere","Blastoff! Readers",null,113.7,null,null,6,null,null,null,null,44,null,null,null,0,null,0]
[null,0,"Coding in Computers","Coding is Everywhere","Blastoff! Readers","9780531131251",18.95,5.13,2019,1,24,2.5,"K",490,44,"Elizabeth Noll",null,null,0,null,0]
[null,0,"Coding in the Internet","Coding is Everywhere","Blastoff! Readers","9780531131268",18.95,6.7,2019,1,24,2.6,"K",500,44,"Elizabeth Noll",null,null,0,null,0]
[null,0,"Coding in Transportation","Coding is Everywhere","Blastoff! Readers","9780531131275",18.95,629.04,2019,1,24,2.6,"J",530,44,"Elizabeth Noll",null,null,0,null,0]
[null,0,"Coding in Video Games","Coding is Everywhere","Blastoff! Readers","9780531131282",18.95,794.8,2019,1,24,2.5,"K",600,44,"Elizabeth Noll",null,null,{"$f":"IF(A528>0,1,0)","v":0},null,0]
[null,{"$f":"A529*G529","v":0},"Coding in Your Home","Coding is Everywhere","Blastoff! Readers","9780531131299",18.95,643,2019,1,24,2.2999999999999998,"K",540,44,"Elizabeth Noll",null,null,0,null,0]
[null,0,"Coding in Your School","Coding is Everywhere","Blastoff! Readers","9780531131305",18.95,5.0999999999999996,2019,1,24,2.5,"J",510,44,"Elizabeth Noll",null,null,0,null,0]
[null,0,"Simple Machines Fun! (6)","Simple Machines Fun!","Blastoff! Readers",null,113.7,null,null,6,null,null,null,null,44,null,null,null,0,null,0]
[null,0,"Inclined Planes","Simple Machines Fun!","Blastoff! Readers","9781626179912",18.95,621.79999999999995,2020,1,24,2.2999999999999998,"K",520,44,"Joanne Mattern",null,null,0,null,0]
[null,0,"Levers","Simple Machines Fun!","Blastoff! Readers","9781626179929",18.95,621.79999999999995,2020,1,24,2.4,"K",470,44,"Joanne Mattern",null,null,0,null,0]
[null,0,"Pulleys","Simple Machines Fun!","Blastoff! Readers","9781626179936",18.95,621.82000000000005,2020,1,24,2.2000000000000002,"K",520,44,"Joanne Mattern",null,null,0,null,0]
[null,0,"Screws","Simple Machines Fun!","Blastoff! Readers","9781626179943",18.95,621.88199999999995,2020,1,24,2.2999999999999998,"K",510,44,"Joanne Mattern",null,null,0,null,0]
[null,0,"Wedges","Simple Machines Fun!","Blastoff! Readers","9781626179950",18.95,621.79999999999995,2020,1,24,2.2000000000000002,"K",490,44,"Joanne Mattern",null,null,0,null,0]
[null,0,"Wheels and Axles","Simple Machines Fun!","Blastoff! Readers","9781626179967",18.95,621.79999999999995,2020,1,24,2.2000000000000002,"K",490,44,"Joanne Mattern",null,null,0,null,0]
[null,0,"Beginning to End Set (10)","Beginning to End","Blastoff! Readers",null,189.5,null,null,10,null,null,null,null,45,null,null,null,0,null,0]
[null,0,"Acorn to Oak Tree","Beginning to End","Blastoff! Readers",9781644874219,18.95,583,2021,1,24,null,"L",540,45,"Elizabeth Neuenfeldt",null,null,0,null,0]
[null,0,"Bulb to Tulip","Beginning to End","Blastoff! Readers","9781644871379",18.95,635.9,2020,1,24,2.2000000000000002,"L",450,45,"Rachel Grack",null,null,0,null,0]
[null,0,"Cocoa Bean to Chocolate","Beginning to End","Blastoff! Readers","9781644871386",18.95,663,2020,1,24,2.5,"L",490,45,"Rachel Grack",null,null,0,null,0]
[null,0,"Cotton to T-shirt","Beginning to End","Blastoff! Readers","9781644871393",18.95,687,2020,1,24,2.7,"M",500,45,"Rachel Grack",null,null,0,null,0]
[null,0,"Grass to Milk","Beginning to End","Blastoff! Readers","9781644871409",18.95,637.1,2020,1,24,2.2999999999999998,"M",460,45,"Rachel Grack",null,null,0,null,0]
[null,0,"Milk to Ice Cream","Beginning to End","Blastoff! Readers",9781644874226,18.95,641.86,2021,1,24,null,"L",510,45,"Elizabeth Neuenfeldt",null,null,0,null,0]
[null,0,"Paper to Book","Beginning to End","Blastoff! Readers",9781644874233,18.95,"*002",2021,1,24,null,"L",500,45,"Elizabeth Neuenfeldt",null,null,0,null,0]
[null,0,"Potato to French Fry","Beginning to End","Blastoff! Readers",9781644874240,18.95,641.6,2021,1,24,null,"L",530,45,"Elizabeth Neuenfeldt",null,null,0,null,0]
[null,0,"Pumpkin Seed to Pie","Beginning to End","Blastoff! Readers","9781644871416",18.95,635,2020,1,24,2.2000000000000002,"L",490,45,"Rachel Grack",null,null,0,null,0]
[null,0,"Tree to Paper","Beginning to End","Blastoff! Readers","9781644871423",18.95,676,2020,1,24,2.4,"L",470,45,"Rachel Grack",null,null,0,null,0]
[null,0,"Seasons of the Year Set (4)","Seasons of the Year","Blastoff! Readers",null,75.8,null,null,4,null,null,null,null,46,null,null,null,0,null,0]
[null,0,"Fall","Seasons of the Year","Blastoff! Readers",9781626177604,18.95,508.2,2018,1,24,2.2000000000000002,"I",560,46,"Rebecca Pettiford",null,null,0,null,0]
[null,0,"Spring","Seasons of the Year","Blastoff! Readers",9781626177611,18.95,508.2,2018,1,24,2.1,"J",550,46,"Rebecca Pettiford",null,null,0,null,0]
[null,0,"Summer","Seasons of the Year","Blastoff! Readers",9781626177628,18.95,508.2,2018,1,24,2.2000000000000002,"I",550,46,"Rebecca Pettiford",null,null,0,null,0]
[null,0,"Winter","Seasons of the Year","Blastoff! Readers",9781626177635,18.95,508.2,2018,1,24,2.2000000000000002,"I",550,46,"Rebecca Pettiford",null,null,0,null,0]
[null,0,"Everyday Engineering Set (6)","Everyday Engineering","Blastoff! Readers",null,113.7,null,null,6,null,null,null,null,46,null,null,null,0,null,{"$f":"A554*J554","v":0}]
[null,0,"Bridges","Everyday Engineering","Blastoff! Readers ",9781626178212,18.95,624.20000000000005,2019,1,24,2.4,"I",480,46,"Chris Bowman",null,null,0,null,0]
[null,0,"Dams","Everyday Engineering","Blastoff! Readers ",9781626178229,18.95,627,2019,1,24,2.5,"I",520,46,"Chris Bowman",null,null,0,null,0]
[null,0,"Highways","Everyday Engineering","Blastoff! Readers ",9781626178236,18.95,625.70000000000005,2019,1,24,2.2999999999999998,"H",520,46,"Chris Bowman",null,null,0,null,0]
[null,0,"Roller Coasters","Everyday Engineering","Blastoff! Readers ",9781626178243,18.95,791.06,2019,1,24,2.4,"I",520,46,"Chris Bowman",null,null,0,null,0]
[null,0,"Skyscrapers","Everyday Engineering","Blastoff! Readers ",9781626178250,18.95,720,2019,1,24,2.6,"H",520,46,"Chris Bowman",null,null,0,null,0]
[null,0,"Stadiums","Everyday Engineering","Blastoff! Readers ",9781626178267,18.95,725,2019,1,24,2.5,"H",480,46,"Chris Bowman",null,null,0,null,0]
[null,0,"Women Leading the Way Set (26)","Women Leading the Way","Blastoff! Readers",null,492.7,null,null,26,null,null,null,null,47,null,null,null,0,null,0]
[null,0,"Angela Merkel: Chancellor of Germany","Women Leading the Way","Blastoff! Readers","9781644870983",18.95,943.08799999999997,2020,1,24,2.5,"L",510,47,"Kate Moening",null,null,0,null,0]
[null,0,"Ann Bancroft: Explorer","Women Leading the Way","Blastoff! Readers",9781644871195,18.95,910.91629999999998,2020,1,24,2.5,"M",510,47,"Kate Moening",null,null,0,null,0]
[null,0,"Ava DuVernay: Movie Director","Women Leading the Way","Blastoff! Readers",9781644872079,18.95,"791.4302",2021,1,24,null,"M",480,47,"Kate Moening",null,null,0,null,0]
[null,0,"Carla Hayden: Librarian of Congress","Women Leading the Way","Blastoff! Readers",9781644872086,18.95,"027.573092",2021,1,24,null,"M",490,47,"Kate Moening",null,null,0,null,0]
[null,0,"Dolly Parton: Country Music Star","Women Leading the Way","Blastoff! Readers",9781644872093,18.95,"782.4216421",2021,1,24,null,"L",540,47,"Kate Moening",null,null,0,null,0]
[null,0,"Dolores Huerta: Labor Activist","Women Leading the Way","Blastoff! Readers","9781644870990",18.95,331.4,2020,1,24,2.5,"K",560,47,"Kate Moening",null,null,0,null,0]
[null,0,"Emma Watson: Women's Rights Activist","Women Leading the Way","Blastoff! Readers",9781644871201,18.95,791.43020000000001,2020,1,24,2.2999999999999998,"M",510,47,"Kate Moening",null,null,0,null,0]
[null,0,"Greta Thunberg: Climate Activist","Women Leading the Way","Blastoff! Readers",9781644875933,18.95,363.738,2022,1,24,null,null,510,47,"Elizabeth Neuenfeldt",null,null,0,null,0]
[null,0,"Indra Nooyi: CEO of PepsiCo","Women Leading the Way","Blastoff! Readers",9781626179417,18.95,338.7,2019,1,24,2.2000000000000002,"K","530",47,"Paige V. Polinsky",null,null,0,null,0]
[null,0,"Jill Biden: Educator","Women Leading the Way","Blastoff! Readers",9781644875940,18.95,973.93409199999996,2022,1,24,null,null,440,47,"Elizabeth Neuenfeldt",null,null,0,null,0]
[null,0,"Kamala Harris: Vice President","Women Leading the Way","Blastoff! Readers",9781644875957,18.95,973.93409199999996,2022,1,24,null,null,480,47,"Elizabeth Neuenfeldt",null,null,0,null,0]
[null,0,"Kathleen Kennedy: Movie Producer","Women Leading the Way","Blastoff! Readers","9781644871003",18.95,791.43020000000001,2020,1,24,2.7,"K",620,47,"Kate Moening",null,null,0,null,0]
[null,0,"Malala Yousafzai: Education Activist","Women Leading the Way","Blastoff! Readers","9781644871010",18.95,370.8209549,2020,1,24,2.2000000000000002,"K",530,47,"Kate Moening",null,null,0,null,0]
[null,0,"Maria Tallchief: Prima Ballerina","Women Leading the Way","Blastoff! Readers",9781644872109,18.95,"792.8092",2021,1,24,null,"M",490,47,"Kate Moening",null,null,0,null,0]
[null,0,"Melinda Gates: Philanthropist","Women Leading the Way","Blastoff! Readers",9781644871218,18.95,361.7,2020,1,24,2.2999999999999998,"M",510,47,"Kate Moening",null,null,0,null,0]
[null,0,"Michelle Howard: Four-star Admiral","Women Leading the Way","Blastoff! Readers",9781644871225,18.95,359.00920000000002,2020,1,24,2.5,"M",580,47,"Kate Moening",null,null,0,null,0]
[null,0,"Michelle Obama: Health Advocate","Women Leading the Way","Blastoff! Readers",9781626179424,18.95,973.93209200000001,2019,1,24,2.4,"K","470",47,"Christina Leaf",null,null,0,null,0]
[null,0,"Rachel Carson: Environmentalist","Women Leading the Way","Blastoff! Readers",9781626179431,18.95,570.91999999999996,2019,1,24,2.6,"K","490",47,"Christina Leaf",null,null,0,null,0]
[null,0,"Sara Seager: Planetary Scientist","Women Leading the Way","Blastoff! Readers",9781626179448,18.95,523.40920000000006,2019,1,24,2.2000000000000002,"K","470",47,"Paige V. Polinsky",null,null,0,null,0]
[null,0,"Selena Gomez: Mental Health Advocate","Women Leading the Way","Blastoff! Readers",9781644875964,18.95,791.43020000000001,2022,1,24,null,null,460,47,"Elizabeth Neuenfeldt",null,null,0,null,0]
[null,0,"Serena Williams: Tennis Star","Women Leading the Way","Blastoff! Readers","9781644871027",18.95,796.34199999999998,2020,1,24,2.5,"K",580,47,"Kate Moening",null,null,0,null,0]
[null,0,"Simone Biles: Olympic Gymnast","Women Leading the Way","Blastoff! Readers",9781644871232,18.95,796.44092000000001,2020,1,24,2.5,"L",570,47,"Kate Moening",null,null,0,null,0]
[null,0,"Sonia Sotomayor: Supreme Court Justice","Women Leading the Way","Blastoff! Readers",9781626179455,18.95,347.73263400000002,2019,1,24,2.4,"K","470",47,"Paige V. Polinsky",null,null,0,null,0]
[null,0,"Susan Wojcicki: CEO of YouTube","Women Leading the Way","Blastoff! Readers","9781644871034",18.95,384.3,2020,1,24,2.6,"L",620,47,"Kate Moening",null,null,0,null,0]
[null,0,"Vera Wang: Fashion Designer","Women Leading the Way","Blastoff! Readers",9781644871249,18.95,746.9,2020,1,24,2.4,"L",540,47,"Kate Moening",null,null,0,null,0]
[null,0,"Zaha Hadid: Architect","Women Leading the Way","Blastoff! Readers",9781626179462,18.95,720.92,2019,1,24,2.6,"K","580",47,"Christina Leaf",null,null,0,null,0]
[null,0,"Awesome Dogs Set (48 titles)","Awesome Dogs","Blastoff! Readers",null,909.6,null,null,48,null,null,null,null,"48 & 49",null,null,null,0,null,0]
[null,0,"Akitas","Awesome Dogs","Blastoff! Readers","9781644870044",18.95,636.73,2020,1,24,2.1,"L",480,"48 & 49","Chris Bowman",null,null,0,null,0]
[null,0,"Alaskan Malamutes","Awesome Dogs","Blastoff! Readers",9781626177918,18.95,636.73,2019,1,24,2.2000000000000002,"I",530,"48 & 49","Paige V. Polinsky",null,null,0,null,0]
[null,0,"Australian Cattle Dogs","Awesome Dogs","Blastoff! Readers",9781626179059,18.95,636.73699999999997,2019,1,24,2.4,"I","630","48 & 49","Lindsay Shaffer",null,null,0,null,0]
[null,0,"Australian Shepherds","Awesome Dogs","Blastoff! Readers",9781626173910,18.95,636.73699999999997,"2017",1,24,"2.3","I",370,"48 & 49","Domini Brown",null,null,{"$f":"IF(A592>0,1,0)","v":0},null,0]
[null,{"$f":"A593*G593","v":0},"Basset Hounds","Awesome Dogs","Blastoff! Readers",9781626177383,18.95,636.75300000000004,2018,1,24,2.2000000000000002,"I",480,"48 & 49","Paige V. Polinsky",null,null,0,null,0]
[null,0,"Beagles","Awesome Dogs","Blastoff! Readers",9781626172371,18.95,636.75300000000004,"2016",1,24,2.5,"J",550,"48 & 49","Mari Schuh",null,null,0,null,0]
[null,0,"Bernese Mountain Dogs","Awesome Dogs","Blastoff! Readers",9781626177390,18.95,636.73,2018,1,24,2.2999999999999998,"I",560,"48 & 49","Rebecca Sabelko",null,null,0,null,0]
[null,0,"Bichons Frises","Awesome Dogs","Blastoff! Readers",9781626179066,18.95,636.72,2019,1,24,2.6,"I","530","48 & 49","Lindsay Shaffer",null,null,0,null,0]
[null,0,"Bloodhounds","Awesome Dogs","Blastoff! Readers","9781644870051",18.95,"636.753/6",2020,1,24,2.2999999999999998,"L",510,"48 & 49","Chris Bowman",null,null,0,null,0]
[null,0,"Border Collies","Awesome Dogs","Blastoff! Readers",9781626177406,18.95,636.73699999999997,2018,1,24,2.5,"I",530,"48 & 49","Rebecca Sabelko",null,null,0,null,0]
[null,0,"Boston Terriers","Awesome Dogs","Blastoff! Readers","9781626175570",18.95,636.72,2017,1,24,2.4,"J",530,"48 & 49","Christina Leaf",null,null,0,null,0]
[null,0,"Boxers","Awesome Dogs","Blastoff! Readers",9781626173033,18.95,636.73,"2016",1,24,"2.4","J",530,"48 & 49","Mari Schuh",null,null,0,null,0]
[null,0,"Brittanys","Awesome Dogs","Blastoff! Readers",9781626179073,18.95,636.75199999999995,2019,1,24,2.2000000000000002,"I","520","48 & 49","Lindsay Shaffer",null,null,0,null,0]
[null,0,"Bulldogs","Awesome Dogs","Blastoff! Readers",9781626173040,18.95,636.72,"2016",1,24,"2.3","J",500,"48 & 49","Mari Schuh",null,null,0,null,0]
[null,0,"Cavalier King Charles Spaniels","Awesome Dogs","Blastoff! Readers",9781626177413,18.95,636.75199999999995,2018,1,24,2.4,"I",500,"48 & 49","Paige V. Polinsky",null,null,0,null,0]
[null,0,"Chihuahuas","Awesome Dogs","Blastoff! Readers",9781626173057,18.95,636.76,"2016",1,24,"2.2","I",540,"48 & 49","Mari Schuh",null,null,0,null,0]
[null,0,"Chinese Shar-pei","Awesome Dogs","Blastoff! Readers","9781644870068",18.95,636.72,2020,1,24,2.2999999999999998,"L",510,"48 & 49","Chris Bowman",null,null,0,null,0]
[null,0,"Cocker Spaniels","Awesome Dogs","Blastoff! Readers",9781626176119,18.95,636.75199999999995,2018,1,24,2.5,"I",520,"48 & 49","Nathan Sommer",null,null,0,null,0]
[null,0,"Collies","Awesome Dogs","Blastoff! Readers",9781626176126,18.95,636.73699999999997,2018,1,24,2.2000000000000002,"I",500,"48 & 49","Mari Schuh",null,null,0,null,0]
[null,0,"Dachshunds","Awesome Dogs","Blastoff! Readers",9781626172388,18.95,636.75300000000004,"2016",1,24,2.4,"J",450,"48 & 49","Mari Schuh",null,null,0,null,0]
[null,0,"Dalmatians","Awesome Dogs","Blastoff! Readers",9781626176133,18.95,636.72,2018,1,24,2.2999999999999998,"I",510,"48 & 49","Mari Schuh",null,null,0,null,0]
[null,0,"Doberman Pinschers","Awesome Dogs","Blastoff! Readers",9781626173927,18.95,636.73,"2017",1,24,"2.2","I",500,"48 & 49","Christina Leighton",null,null,0,null,0]
[null,0,"French Bulldogs","Awesome Dogs","Blastoff! Readers",9781626172395,18.95,636.70000000000005,"2016",1,24,2.2000000000000002,"J",370,"48 & 49","Mari Schuh",null,null,0,null,0]
[null,0,"German Shepherds","Awesome Dogs","Blastoff! Readers",9781626172401,18.95,636.73699999999997,"2016",1,24,2.2999999999999998,"J",430,"48 & 49","Chris Bowman",null,null,0,null,0]
[null,0,"German Shorthaired Pointers","Awesome Dogs","Blastoff! Readers","9781644870075",18.95,"636.752/5",2020,1,24,2.4,"L",510,"48 & 49","Chris Bowman",null,null,0,null,0]
[null,0,"Golden Retrievers","Awesome Dogs","Blastoff! Readers",9781626172418,18.95,636.75199999999995,"2016",1,24,2.4,"J",440,"48 & 49","Chris Bowman",null,null,0,null,0]
[null,0,"Great Danes","Awesome Dogs","Blastoff! Readers",9781626173064,18.95,636.73,"2016",1,24,"2.3","J",550,"48 & 49","Chris Bowman",null,null,0,null,0]
[null,0,"Greyhounds","Awesome Dogs","Blastoff! Readers",9781626179080,18.95,636.75340000000006,2019,1,24,2.5,"I","560","48 & 49","Lindsay Shaffer",null,null,0,null,0]
[null,0,"Irish Wolfhounds","Awesome Dogs","Blastoff! Readers",9781626177925,18.95,636.75300000000004,2019,1,24,2.5,"I",510,"48 & 49","Paige V. Polinsky",null,null,0,null,0]
[null,0,"Labrador Retrievers","Awesome Dogs","Blastoff! Readers",9781626172425,18.95,636.7527,"2016",1,24,2.4,"J",480,"48 & 49","Chris Bowman",null,null,0,null,{"$f":"A618*J618","v":0}]
[null,0,"Maltese","Awesome Dogs","Blastoff! Readers",9781644871157,18.95,636.76,2020,1,24,2.2000000000000002,"L",490,"48 & 49","Kaitlyn Duling",null,null,0,null,0]
[null,0,"Mastiffs","Awesome Dogs","Blastoff! Readers",9781626177932,18.95,636.73,2019,1,24,2.5,"I",480,"48 & 49","Paige V. Polinsky",null,null,0,null,0]
[null,0,"Miniature Schnauzers","Awesome Dogs","Blastoff! Readers",9781644871164,18.95,636.755,2020,1,24,2.4,"L",570,"48 & 49","Kaitlyn Duling",null,null,0,null,0]
[null,0,"Newfoundlands","Awesome Dogs","Blastoff! Readers",9781626176140,18.95,636.73,2018,1,24,2.2999999999999998,"I",550,"48 & 49","Nathan Sommer",null,null,0,null,0]
[null,0,"Pembroke Welsh Corgis","Awesome Dogs","Blastoff! Readers",9781626173934,18.95,636.73699999999997,"2017",1,24,"2.6","J",470,"48 & 49","Christina Leighton",null,null,0,null,0]
[null,0,"Pomeranians","Awesome Dogs","Blastoff! Readers",9781626173941,18.95,636.76,"2017",1,24,"2.2","J",340,"48 & 49","Domini Brown",null,null,0,null,0]
[null,0,"Poodles","Awesome Dogs","Blastoff! Readers",9781626172432,18.95,636.72,"2016",1,24,"2.4","J",500,"48 & 49","Breanna Berry",null,null,0,null,0]
[null,0,"Pugs","Awesome Dogs","Blastoff! Readers","9781626175587",18.95,636.76,2017,1,24,2.2999999999999998,"K",530,"48 & 49","Kari Schuetz",null,null,0,null,0]
[null,0,"Rottweilers","Awesome Dogs","Blastoff! Readers",9781626173071,18.95,636.73,"2016",1,24,"2.4","I",480,"48 & 49","Mari Schuh",null,null,0,null,0]
[null,0,"Saint Bernards","Awesome Dogs","Blastoff! Readers",9781626176157,18.95,636.73,2018,1,24,2.2999999999999998,"I",530,"48 & 49","Nathan Sommer",null,null,0,null,0]
[null,0,"Scottish Terriers","Awesome Dogs","Blastoff! Readers",9781626177949,18.95,636.755,2019,1,24,2.4,"I",510,"48 & 49","Paige V. Polinsky",null,null,0,null,0]
[null,0,"Shetland Sheepdogs","Awesome Dogs","Blastoff! Readers","9781626175594",18.95,636.73699999999997,2017,1,24,2.2999999999999998,"J",540,"48 & 49","Christina Leaf",null,null,0,null,0]
[null,0,"Shiba Inus","Awesome Dogs","Blastoff! Readers",9781644871171,18.95,636.72,2020,1,24,2.1,"L",480,"48 & 49","Kaitlyn Duling",null,null,0,null,0]
[null,0,"Shih Tzus","Awesome Dogs","Blastoff! Readers","9781626175600",18.95,636.76,2017,1,24,2.4,"J",540,"48 & 49","Kari Schuetz",null,null,0,null,0]
[null,0,"Siberian Huskies","Awesome Dogs","Blastoff! Readers",9781626173088,18.95,636.73,"2016",1,24,"2.3","I",550,"48 & 49","Chris Bowman",null,null,0,null,0]
[null,0,"Vizslas","Awesome Dogs","Blastoff! Readers",9781644871188,18.95,636.75199999999995,2020,1,24,1.9,"L",530,"48 & 49","Kaitlyn Duling",null,null,0,null,0]
[null,0,"West Highland White Terriers","Awesome Dogs","Blastoff! Readers",9781626176164,18.95,636.755,2018,1,24,2.2999999999999998,"I",510,"48 & 49","Nathan Sommer",null,null,0,null,0]
[null,0,"Yorkshire Terriers","Awesome Dogs","Blastoff! Readers",9781626172449,18.95,636.76,"2016",1,24,"2.2","J",360,"48 & 49","Mari Schuh",null,null,0,null,0]
[null,0,"Shark Frenzy Set (12)","Shark Frenzy","Blastoff! Readers",null,227.4,null,null,12,null,null,null,null,50,null,null,null,0,null,0]
[null,0,"Angel Sharks","Shark Frenzy","Blastoff! Readers",9781644872437,18.95,597.29999999999995,2021,1,24,2.7,"N",480,50,"Rebecca Pettiford",null,null,0,null,0]
[null,0,"Basking Sharks","Shark Frenzy","Blastoff! Readers",9781644874370,18.95,597.29999999999995,2021,1,24,2.8,"N",530,50,"Rebecca Pettiford",null,null,0,null,0]
[null,0,"Blue Sharks","Shark Frenzy","Blastoff! Readers",9781644872444,18.95,597.29999999999995,2021,1,24,2.6,"N",540,50,"Thomas K. Adamson",null,null,0,null,0]
[null,0,"Bull Sharks","Shark Frenzy","Blastoff! Readers",9781644874387,18.95,597.29999999999995,2021,1,24,2.9,"N",550,50,"Rebecca Pettiford",null,null,0,null,0]
[null,0,"Great White Sharks","Shark Frenzy","Blastoff! Readers",9781644872451,18.95,597.29999999999995,2021,1,24,2.8,"N",530,50,"Thomas K. Adamson",null,null,0,null,0]
[null,0,"Hammerhead Sharks","Shark Frenzy","Blastoff! Readers",9781644872468,18.95,597.29999999999995,2021,1,24,2.9,"N",540,50,"Rebecca Pettiford",null,null,0,null,0]
[null,0,"Lemon Sharks","Shark Frenzy","Blastoff! Readers",9781644874394,18.95,597.29999999999995,2021,1,24,2.8,"N",520,50,"Rebecca Pettiford",null,null,0,null,0]
[null,0,"Mako Sharks","Shark Frenzy","Blastoff! Readers",9781644872475,18.95,597.29999999999995,2021,1,24,3,"N",540,50,"Rebecca Pettiford",null,null,0,null,0]
[null,0,"Nurse Sharks","Shark Frenzy","Blastoff! Readers",9781644874400,18.95,597.29999999999995,2021,1,24,2.8,"N",540,50,"Rebecca Pettiford",null,null,0,null,0]
[null,0,"Oceanic Whitetip Sharks","Shark Frenzy","Blastoff! Readers",9781644872482,18.95,597.29999999999995,2021,1,24,3.1,"N",560,50,"Thomas K. Adamson",null,null,0,null,0]
[null,0,"Sand Tiger Sharks","Shark Frenzy","Blastoff! Readers",9781644872499,18.95,597.29999999999995,2021,1,24,2.9,"N",{"$f":"[1]Bellwether_Masterlist!BA1748","v":560},50,"Thomas K. Adamson",null,null,0,null,0]
[null,0,"Whale Sharks","Shark Frenzy","Blastoff! Readers",9781644872505,18.95,597.29999999999995,2021,1,24,2.6,"N",{"$f":"[1]Bellwether_Masterlist!BA1749","v":550},50,"Rebecca Pettiford",null,null,0,null,0]
[null,0,"The World's Smartest Animals Set (6)","The World's Smartest Animals","Blastoff! Readers",null,113.7,null,null,6,null,null,null,null,50,null,null,null,0,null,0]
[null,0,"Chimpanzees","The World's Smartest Animals","Blastoff! Readers",9781644872376,18.95,"599.88515",2021,1,24,null,"N",520,50,"Joanne Mattern",null,null,0,null,0]
[null,0,"Crows","The World's Smartest Animals","Blastoff! Readers",9781644872383,18.95,"598.8",2021,1,24,null,"N",540,50,"Joanne Mattern",null,null,0,null,0]
[null,0,"Dogs","The World's Smartest Animals","Blastoff! Readers",9781644872390,18.95,"636.7",2021,1,24,null,"N",500,50,"Joanne Mattern",null,null,0,null,0]
[null,0,"Dolphins","The World's Smartest Animals","Blastoff! Readers",9781644872406,18.95,"599.5315",2021,1,24,null,"N",500,50,"Joanne Mattern",null,null,0,null,0]
[null,0,"Octopuses","The World's Smartest Animals","Blastoff! Readers",9781644872413,18.95,"594",2021,1,24,null,"N",520,50,"Joanne Mattern",null,null,0,null,0]
[null,0,"Rats","The World's Smartest Animals","Blastoff! Readers",9781644872420,18.95,"599.35156",2021,1,24,null,"N",520,50,"Joanne Mattern",null,null,{"$f":"IF(A656>0,1,0)","v":0},null,0]
[null,{"$f":"A657*G657","v":0},"Careers in STEM Set (8)","Careers in STEM","Blastoff! Readers",null,151.6,null,null,8,null,null,null,null,51,null,null,null,0,null,0]
[null,0,"Architect","Careers in STEM","Blastoff! Readers",9781644877371,18.95,720,2023,1,24,null,null,430,51,"Kate Moening",null,null,0,null,0]
[null,0,"Astronomer","Careers in STEM","Blastoff! Readers",9781644877388,18.95,520.23,2023,1,24,null,null,390,51,"Elizabeth Noll",null,null,0,null,0]
[null,0,"Botanist","Careers in STEM","Blastoff! Readers",9781644877395,18.95,580.91999999999996,2023,1,24,null,null,430,51,"Kate Moening",null,null,0,null,0]
[null,0,"Chemist","Careers in STEM","Blastoff! Readers",9781644877401,18.95,540.23,2023,1,24,null,null,480,51,"Kate Moening",null,null,0,null,0]
[null,0,"Climate Scientist","Careers in STEM","Blastoff! Readers",9781644877418,18.95,551.60230000000001,2023,1,24,null,null,390,51,"Elizabeth Noll",null,null,0,null,0]
[null,0,"Computer Programmer","Careers in STEM","Blastoff! Readers",9781644877425,18.95,"*005.1",2023,1,24,null,null,470,51,"Elizabeth Noll",null,null,0,null,0]
[null,0,"Geologist","Careers in STEM","Blastoff! Readers",9781644877432,18.95,551.02300000000002,2023,1,24,null,null,420,51,"Kate Moening",null,null,0,null,0]
[null,0,"Meteorologist","Careers in STEM","Blastoff! Readers",9781644877449,18.95,551.50229999999999,2023,1,24,null,null,500,51,"Elizabeth Noll",null,null,0,null,0]
[null,0,"Science Starters Set (8)","Science Starters","Blastoff! Readers",null,151.6,null,null,8,null,null,null,null,51,null,null,null,0,null,0]
[null,0,"Electricity","Science Starters","Blastoff! Readers",9781626178052,18.95,537,2019,1,24,2.9,"M",540,51,"Rebecca Pettiford",null,null,0,null,0]
[null,0,"Energy","Science Starters","Blastoff! Readers",9781626178069,18.95,531,2019,1,24,2.8,"M",520,51,"Rebecca Pettiford",null,null,0,null,0]
[null,0,"Gravity","Science Starters","Blastoff! Readers",9781626178076,18.95,531,2019,1,24,2.9,"L",540,51,"Rebecca Pettiford",null,null,0,null,0]
[null,0,"Light","Science Starters","Blastoff! Readers",9781626178083,18.95,535,2019,1,24,2.5,"L",530,51,"Carolyn Bernhardt",null,null,0,null,0]
[null,0,"Magnetism","Science Starters","Blastoff! Readers",9781626178090,18.95,538,2019,1,24,3,"L",590,51,"Carolyn Bernhardt",null,null,0,null,0]
[null,0,"Matter","Science Starters","Blastoff! Readers",9781626178106,18.95,530.4,2019,1,24,2.6,"L",550,51,"Rebecca Pettiford",null,null,0,null,0]
[null,0,"Sound","Science Starters","Blastoff! Readers",9781626178113,18.95,534,2019,1,24,2.8,"M",560,51,"Carolyn Bernhardt",null,null,0,null,0]
[null,0,"Temperature","Science Starters","Blastoff! Readers",9781626178120,18.95,536,2019,1,24,2.9,"L",570,51,"Carolyn Bernhardt",null,null,0,null,0]
[null,0,"Natural Disasters Set (12)","Natural Disasters","Blastoff! Readers",null,227.4,null,null,12,null,null,null,null,52,null,null,null,0,null,0]
[null,0,"Blizzards","Natural Disasters","Blastoff! Readers",9781644870242,18.95,551.54999999999995,2020,1,24,2.7,"L",530,52,"Betsy Rathburn",null,null,0,null,0]
[null,0,"Earthquakes","Natural Disasters","Blastoff! Readers",9781644870259,18.95,551.22,2020,1,24,3.5,"L",580,52,"Betsy Rathburn",null,null,0,null,0]
[null,0,"Hurricanes","Natural Disasters","Blastoff! Readers",9781644870266,18.95,551.54999999999995,2020,1,24,3.5,"L",600,52,"Betsy Rathburn",null,null,0,null,0]
[null,0,"Tornadoes","Natural Disasters","Blastoff! Readers",9781644870273,18.95,551.54999999999995,2020,1,24,3.4,"L",570,52,"Betsy Rathburn",null,null,0,null,0]
[null,0,"Tsunamis","Natural Disasters","Blastoff! Readers",9781644870280,18.95,551.46,2020,1,24,3.1,"L",600,52,"Betsy Rathburn",null,null,0,null,0]
[null,0,"Volcanoes","Natural Disasters","Blastoff! Readers",9781644870297,18.95,551.21,2020,1,24,3.1,"L",590,52,"Betsy Rathburn",null,null,0,null,0]
[null,0,"Avalanches","Natural Disasters","Blastoff! Readers",9781644871492,18.95,551.57000000000005,2020,1,24,2.9,"N",530,52,"Rebecca Pettiford",null,null,0,null,{"$f":"A682*J682","v":0}]
[null,0,"Droughts","Natural Disasters","Blastoff! Readers",9781644871508,18.95,551.57000000000005,2020,1,24,2.8,"N",480,52,"Rebecca Pettiford",null,null,0,null,0]
[null,0,"Floods","Natural Disasters","Blastoff! Readers",9781644871515,18.95,551.48,2020,1,24,2.9,"N",620,52,"Rebecca Pettiford",null,null,0,null,0]
[null,0,"Ice Storms","Natural Disasters","Blastoff! Readers",9781644871522,18.95,551.54999999999995,2020,1,24,2.9,"N",630,52,"Rebecca Pettiford",null,null,0,null,0]
[null,0,"Sinkholes","Natural Disasters","Blastoff! Readers",9781644871539,18.95,551.4,2020,1,24,2.9,"N",520,52,"Rebecca Pettiford",null,null,0,null,0]
[null,0,"Wildfires","Natural Disasters","Blastoff! Readers",9781644871546,18.95,634.9,2020,1,24,2.8,"N",550,52,"Rebecca Pettiford",null,null,0,null,0]
[null,0,"How it Works (10)","How It Works","Blastoff! Readers",null,189.5,null,null,10,null,null,null,null,53,null,null,null,0,null,0]
[null,0,"Airplanes","How It Works","Blastoff! Readers",9781644875971,18.95,629.13300000000004,2022,1,24,null,"O",480,53,"Kaitlyn Duling",null,null,0,null,0]
[null,0,"Cars","How It Works","Blastoff! Readers",9781644875988,18.95,629.22199999999998,2022,1,24,null,"O",580,53,"Kaitlyn Duling",null,null,0,null,0]
[null,0,"Cell Phones","How It Works","Blastoff! Readers",9781644875995,18.95,621.3845,2022,1,24,null,"O",620,53,"Kaitlyn Duling",null,null,0,null,0]
[null,0,"Computers","How It Works","Blastoff! Readers",9781644876008,18.95,"*004",2022,1,24,null,"O",500,53,"Rebecca Pettiford",null,null,0,null,0]
[null,0,"Electric Guitars","How It Works","Blastoff! Readers",9781644877333,18.95,787.87,2023,1,24,null,null,520,53,"Kaitlyn Duling",null,null,0,null,0]
[null,0,"Helicopters","How It Works","Blastoff! Readers",9781644877340,18.95,629.13300000000004,2023,1,24,null,null,510,53,"Kaitlyn Duling",null,null,0,null,0]
[null,0,"Rockets","How It Works","Blastoff! Readers",9781644876015,18.95,621.42999999999995,2022,1,24,null,"O",490,53,"Rebecca Pettiford",null,null,0,null,0]
[null,0,"Roller Coasters","How It Works","Blastoff! Readers",9781644877357,18.95,791.06,2023,1,24,null,null,530,53,"Kaitlyn Duling",null,null,0,null,0]
[null,0,"Submarines","How It Works","Blastoff! Readers",9781644876022,18.95,623.82500000000005,2022,1,24,null,"O",490,53,"Rebecca Pettiford",null,null,0,null,0]
[null,0,"Trains","How It Works","Blastoff! Readers",9781644877364,18.95,625.1,2023,1,24,null,null,570,53,"Kaitlyn Duling",null,null,0,null,0]
[null,0,"Our Favorite Foods Set (10)","Our Favorite Foods","Blastoff! Readers",null,189.5,null,null,10,null,null,null,null,53,null,null,null,0,null,0]
[null,0,"Chocolate Chip Cookies","Our Favorite Foods","Blastoff! Readers",9781644871430,18.95,641.86,2020,1,24,3.1,"N",700,53,"Joanne Mattern",null,null,0,null,0]
[null,0,"Doughnuts","Our Favorite Foods","Blastoff! Readers",9781644874332,18.95,641.86,2021,1,24,2.9,"O",560,53,"Joanne Mattern",null,null,0,null,0]
[null,0,"French Fries","Our Favorite Foods","Blastoff! Readers",9781644871447,18.95,641.6,2020,1,24,3.1,"O",600,53,"Joanne Mattern",null,null,0,null,0]
[null,0,"Grilled Cheese Sandwiches","Our Favorite Foods","Blastoff! Readers",9781644874349,18.95,641.6,2021,1,24,3,"N",560,53,"Joanne Mattern",null,null,0,null,0]
[null,0,"Hamburgers","Our Favorite Foods","Blastoff! Readers",9781644874356,18.95,641.6,2021,1,24,2.8,"O",540,53,"Joanne Mattern",null,null,0,null,0]
[null,0,"Ice Cream","Our Favorite Foods","Blastoff! Readers",9781644871454,18.95,641.86,2020,1,24,2.7,"O",690,53,"Christina Leaf",null,null,0,null,0]
[null,0,"Macaroni & Cheese","Our Favorite Foods","Blastoff! Readers",9781644871461,18.95,641.82000000000005,2020,1,24,3.1,"O",630,53,"Christina Leaf",null,null,0,null,0]
[null,0,"Pizza","Our Favorite Foods","Blastoff! Readers",9781644871478,18.95,641.82000000000005,2020,1,24,3,"O",620,53,"Joanne Mattern",null,null,0,null,0]
[null,0,"Popcorn","Our Favorite Foods","Blastoff! Readers",9781644874363,18.95,641.6,2021,1,24,2.8,"O",570,53,"Joanne Mattern",null,null,0,null,0]
[null,0,"Tacos","Our Favorite Foods","Blastoff! Readers",9781644871485,18.95,641.84,2020,1,24,2.9,"O",680,53,"Joanne Mattern",null,null,0,null,0]
[null,0,"Animals on the Move Set (8)","Animals on the Move","Blastoff! Readers",null,151.6,null,null,8,null,null,null,null,54,null,null,null,0,null,0]
[null,0,"Arctic Tern Migration","Animals on the Move","Blastoff! Readers",9781626178137,18.95,598.29999999999995,2019,1,24,2.9,"L",550,54,"Kari Schuetz",null,null,0,null,0]
[null,0,"Caribou Migration","Animals on the Move","Blastoff! Readers",9781626178144,18.95,599.65,2019,1,24,3,"L",670,54,"Kari Schuetz",null,null,0,null,0]
[null,0,"Christmas Island Red Crab Migration","Animals on the Move","Blastoff! Readers",9781626178151,18.95,595.29999999999995,2019,1,24,2.8,"L",560,54,"Kari Schuetz",null,null,0,null,0]
[null,0,"Humpback Whale Migration","Animals on the Move","Blastoff! Readers",9781626178168,18.95,599.5,2019,1,24,2.7,"L",560,54,"Kari Schuetz",null,null,0,null,0]
[null,0,"Leatherback Sea Turtle Migration","Animals on the Move","Blastoff! Readers",9781626178175,18.95,597.91999999999996,2019,1,24,2.6,"L",570,54,"Kari Schuetz",null,null,0,null,0]
[null,0,"Monarch Butterfly Migration","Animals on the Move","Blastoff! Readers",9781626178182,18.95,595.78,2019,1,24,2.9,"L",560,54,"Kari Schuetz",null,null,0,null,0]
[null,0,"Salmon Migration","Animals on the Move","Blastoff! Readers",9781626178199,18.95,597.5,2019,1,24,2.9,"L",560,54,"Kari Schuetz",null,null,0,null,0]
[null,0,"Wildebeest Migration","Animals on the Move","Blastoff! Readers",9781626178205,18.95,599.64,2019,1,24,3,"L",560,54,"Kari Schuetz",null,null,0,null,0]
[null,0,"Animal Tag Teams Set (6)","Animal Tag Teams","Blastoff! Readers",null,113.7,null,null,6,null,null,null,null,54,null,null,null,0,null,0]
[null,0,"Cape Buffalo and Oxpeckers","Animal Tag Teams","Blastoff! Readers",9781626179530,18.95,577.85199999999998,2019,1,24,2.9,"K",530,54,"Kari Schuetz",null,null,{"$f":"IF(A720>0,1,0)","v":0},null,0]
[null,{"$f":"A721*G721","v":0},"Clownfish and Sea Anemones","Animal Tag Teams","Blastoff! Readers",9781626179547,18.95,577.85199999999998,2019,1,24,3,"L",670,54,"Kari Schuetz",null,null,0,null,0]
[null,0,"Goby Fish and Snapping Shrimp","Animal Tag Teams","Blastoff! Readers",9781626179554,18.95,577.85199999999998,2019,1,24,3,"K",600,54,"Kari Schuetz",null,null,0,null,0]
[null,0,"Nile Crocodiles and Egyptian Plovers","Animal Tag Teams","Blastoff! Readers",9781626179561,18.95,577.85199999999998,2019,1,24,3.1,"K",560,54,"Kari Schuetz",null,null,0,null,0]
[null,0,"Oceanic Whitetip Sharks and Pilot Fish","Animal Tag Teams","Blastoff! Readers",9781626179578,18.95,577.85199999999998,2019,1,24,3,"K",740,54,"Kari Schuetz",null,null,0,null,0]
[null,0,"Warthogs and Banded Mongooses","Animal Tag Teams","Blastoff! Readers",9781626179585,18.95,577.85199999999998,2019,1,24,3.2,"K",540,54,"Kari Schuetz",null,null,0,null,0]
[null,0,"Our Planet Earth Set (12)","Our Planet Earth","Blastoff! Readers",null,323.39999999999998,null,null,12,null,null,null,null,55,null,null,null,0,null,0]
[null,0,"Caves","Our Planet Earth","Blastoff! Readers",9781644875209,18.95,551.44000000000005,2022,1,24,2.8,"N",570,55,"Sara Green",null,null,0,null,0]
[null,0,"Coral Reefs","Our Planet Earth","Blastoff! Readers",9781644876039,18.95,577.70000000000005,2022,1,24,null,null,490,55,"Karen Latchana Kenney",null,null,0,null,0]
[null,0,"Deserts","Our Planet Earth","Blastoff! Readers",9781644875216,18.95,551.41,2022,1,24,3.1,"N",560,55,"Sara Green",null,null,0,null,0]
[null,0,"Forests","Our Planet Earth","Blastoff! Readers",9781644876046,18.95,634.9,2022,1,24,null,null,490,55,"Karen Latchana Kenney",null,null,0,null,0]
[null,0,"Glaciers","Our Planet Earth","Blastoff! Readers",9781644876053,18.95,551.30999999999995,2022,1,24,null,null,500,55,"Rebecca Sabelko",null,null,0,null,0]
[null,0,"Lakes","Our Planet Earth","Blastoff! Readers",9781644876060,18.95,577.63,2022,1,24,null,null,520,55,"Karen Latchana Kenney",null,null,0,null,0]
[null,0,"Mountains","Our Planet Earth","Blastoff! Readers",9781644876077,18.95,551.42999999999995,2022,1,24,null,null,550,55,"Rebecca Sabelko",null,null,0,null,0]
[null,0,"Oceans","Our Planet Earth","Blastoff! Readers",9781644875223,18.95,551.46,2022,1,24,2.8,"N",600,55,"Karen Latchana Kenney",null,null,0,null,0]
[null,0,"Prairies","Our Planet Earth","Blastoff! Readers",9781644875230,18.95,577.4,2022,1,24,3,"N",620,55,"Karen Latchana Kenney",null,null,0,null,0]
[null,0,"Rain Forests","Our Planet Earth","Blastoff! Readers",9781644875247,18.95,577.34,2022,1,24,3.1,"N",620,55,"Karen Latchana Kenney",null,null,0,null,0]
[null,0,"Rivers","Our Planet Earth","Blastoff! Readers",9781644875254,18.95,551.48,2022,1,24,2.6,"N",510,55,"Sara Green",null,null,0,null,0]
[null,0,"Wetlands","Our Planet Earth","Blastoff! Readers",9781644876084,18.95,333.91,2022,1,24,null,null,560,55,"Rebecca Sabelko",null,null,0,null,0]
[null,0,"Ocean Life Up Close Set (28)","Ocean Life Up Close","Blastoff! Readers",null,530.6,null,null,28,null,null,null,null,56,null,null,null,0,null,0]
[null,0,"Angelfish","Ocean Life Up Close","Blastoff! Readers",9781626177642,18.95,597,2018,1,24,2.8,"L",550,56,"Nathan Sommer",null,null,0,null,0]
[null,0,"Bottlenose Dolphins","Ocean Life Up Close","Blastoff! Readers",9781626174139,18.95,599.53,"2017",1,24,"2.8","K",510,56,"Kari Schuetz",null,null,0,null,0]
[null,0,"Clownfish","Ocean Life Up Close","Blastoff! Readers",9781626174146,18.95,597.72,"2017",1,24,"2.7","K",500,56,"Kari Schuetz",null,null,0,null,0]
[null,0,"Corals","Ocean Life Up Close","Blastoff! Readers","9781626175693",18.95,593.6,2017,1,24,2.8,"M",540,56,"Mari Schuh",null,null,0,null,0]
[null,0,"Crabs","Ocean Life Up Close","Blastoff! Readers",9781626174153,18.95,595.29999999999995,"2017",1,24,"2.7","K",540,56,"Rebecca Pettiford",null,null,0,null,0]
[null,0,"Eels","Ocean Life Up Close","Blastoff! Readers",9781626177659,18.95,597,2018,1,24,2.8,"L",550,56,"Nathan Sommer",null,null,0,null,0]
[null,0,"Emperor Penguins","Ocean Life Up Close","Blastoff! Readers",9781626176416,18.95,598.47,2018,1,24,2.9,"L",540,56,"Heather Adamson",null,null,0,null,{"$f":"A746*J746","v":0}]
[null,0,"Great White Sharks","Ocean Life Up Close","Blastoff! Readers",9781626174160,18.95,597.29999999999995,"2017",1,24,"2.8","K",560,56,"Rebecca Pettiford",null,null,0,null,0]
[null,0,"Humpback Whales","Ocean Life Up Close","Blastoff! Readers",9781626174177,18.95,599.5,"2017",1,24,"2.7","K",510,56,"Christina Leaf",null,null,0,null,0]
[null,0,"Jellyfish","Ocean Life Up Close","Blastoff! Readers",9781626174184,18.95,593.5,"2017",1,24,"2.7","L",450,56,"Christina Leaf",null,null,0,null,0]
[null,0,"Lobsters","Ocean Life Up Close","Blastoff! Readers",9781626176423,18.95,595.29999999999995,2018,1,24,2.9,"L",560,56,"Heather Adamson",null,null,0,null,0]
[null,0,"Manatees","Ocean Life Up Close","Blastoff! Readers","9781626175709",18.95,599.54999999999995,2017,1,24,2.6,"L",550,56,"Rebecca Pettiford",null,null,0,null,0]
[null,0,"Octopuses","Ocean Life Up Close","Blastoff! Readers",9781626174191,18.95,594.55999999999995,"2017",1,24,"2.7","L",480,56,"Christina Leaf",null,null,0,null,0]
[null,0,"Orcas","Ocean Life Up Close","Blastoff! Readers",9781626176430,18.95,599.53,2018,1,24,2.7,"L",520,56,"Heather Adamson",null,null,0,null,0]
[null,0,"Parrotfish","Ocean Life Up Close","Blastoff! Readers","9781626175716",18.95,597.70000000000005,2017,1,24,2.8,"L",510,56,"Mari Schuh",null,null,0,null,0]
[null,0,"Puffer Fish","Ocean Life Up Close","Blastoff! Readers","9781626175723",18.95,597.64,2017,1,24,2.6,"L",520,56,"Rebecca Pettiford",null,null,0,null,0]
[null,0,"Sea Anemones","Ocean Life Up Close","Blastoff! Readers","9781626175730",18.95,593.6,2017,1,24,2.6,"M",490,56,"Mari Schuh",null,null,0,null,0]
[null,0,"Sea Dragons","Ocean Life Up Close","Blastoff! Readers",9781626176447,18.95,597.67899999999997,2018,1,24,2.8,"L",530,56,"Heather Adamson",null,null,0,null,0]
[null,0,"Sea Horses","Ocean Life Up Close","Blastoff! Readers",9781626174207,18.95,597.6798,"2017",1,24,"2.7","L",560,56,"Christina Leaf",null,null,0,null,0]
[null,0,"Sea Lions","Ocean Life Up Close","Blastoff! Readers",9781626176454,18.95,599.79,2018,1,24,2.8,"L",550,56,"Heather Adamson",null,null,0,null,0]
[null,0,"Sea Otters","Ocean Life Up Close","Blastoff! Readers",9781626177666,18.95,599.76900000000001,2018,1,24,2.7,"L",590,56,"Nathan Sommer",null,null,0,null,0]
[null,0,"Sea Stars","Ocean Life Up Close","Blastoff! Readers",9781626174214,18.95,593.9,"2017",1,24,"2.5","K",530,56,"Rebecca Pettiford",null,null,0,null,0]
[null,0,"Sea Turtles","Ocean Life Up Close","Blastoff! Readers",9781626174221,18.95,597.91999999999996,"2017",1,24,"2.6","K",510,56,"Kari Schuetz",null,null,0,null,0]
[null,0,"Sea Urchins","Ocean Life Up Close","Blastoff! Readers",9781626176461,18.95,593.9,2018,1,24,3,"L",520,56,"Heather Adamson",null,null,0,null,0]
[null,0,"Seals","Ocean Life Up Close","Blastoff! Readers","9781626175747",18.95,599.79,2017,1,24,2.6,"L",560,56,"Rebecca Pettiford",null,null,0,null,0]
[null,0,"Squids","Ocean Life Up Close","Blastoff! Readers",9781626177673,18.95,594,2018,1,24,2.9,"L",550,56,"Nathan Sommer",null,null,0,null,0]
[null,0,"Stingrays","Ocean Life Up Close","Blastoff! Readers",9781626174238,18.95,597.29999999999995,"2017",1,24,"2.7","L",490,56,"Rebecca Pettiford",null,null,0,null,0]
[null,0,"Walruses","Ocean Life Up Close","Blastoff! Readers",9781626174245,18.95,599.79,"2017",1,24,"2.8","K",540,56,"Kari Schuetz",null,null,0,null,0]
[null,0,"Your Body Systems Set (6)","Your Body Systems","Blastoff! Readers",null,113.7,null,null,6,null,null,null,null,57,null,null,null,0,null,0]
[null,0,"Circulatory System, The","Your Body Systems","Blastoff! Readers","9781644870181",18.95,612.1,2020,1,24,"3.0","M",560,57,"Rebecca Pettiford",null,null,0,null,0]
[null,0,"Digestive System, The","Your Body Systems","Blastoff! Readers","9781644870198",18.95,612.29999999999995,2020,1,24,2.9,"L",480,57,"Rebecca Pettiford",null,null,0,null,0]
[null,0,"Muscular System, The","Your Body Systems","Blastoff! Readers","9781644870204",18.95,612.70000000000005,2020,1,24,2.9,"L",500,57,"Rebecca Pettiford",null,null,0,null,0]
[null,0,"Nervous System, The","Your Body Systems","Blastoff! Readers","9781644870211",18.95,612.79999999999995,2020,1,24,2.8,"M",510,57,"Rebecca Pettiford",null,null,0,null,0]
[null,0,"Respiratory System, The","Your Body Systems","Blastoff! Readers","9781644870228",18.95,612.20000000000005,2020,1,24,"3.0","L",560,57,"Rebecca Pettiford",null,null,0,null,0]
[null,0,"Skeletal System, The","Your Body Systems","Blastoff! Readers","9781644870235",18.95,612.70000000000005,2020,1,24,"3.0","L",520,57,"Rebecca Pettiford",null,null,0,null,0]
[null,0,"The Five Senses Set (5)","The Five Senses","Blastoff! Readers",null,94.75,null,null,5,null,null,null,null,57,null,null,null,0,null,0]
[null,0,"Hearing","The Five Senses","Blastoff! Readers",9781626177680,18.95,612.79999999999995,2018,1,24,2.7,"L",560,57,"Lisa Owings",null,null,0,null,0]
[null,0,"Seeing","The Five Senses","Blastoff! Readers",9781626177697,18.95,612.79999999999995,2018,1,24,2.6,"L",550,57,"Lisa Owings",null,null,0,null,0]
[null,0,"Smelling","The Five Senses","Blastoff! Readers",9781626177703,18.95,612.79999999999995,2018,1,24,2.8,"L",580,57,"Lisa Owings",null,null,0,null,0]
[null,0,"Tasting","The Five Senses","Blastoff! Readers",9781626177710,18.95,612.79999999999995,2018,1,24,2.8,"L",530,57,"Lisa Owings",null,null,0,null,0]
[null,0,"Touching","The Five Senses","Blastoff! Readers",9781626177727,18.95,612.79999999999995,2018,1,24,2.8,"L",540,57,"Lisa Owings",null,null,0,null,0]
[null,0,"North American Animals Set (58)","North American Animals","Blastoff! Readers",null,1099.0999999999999,null,null,58,null,null,null,null,"58 & 59",null,null,null,0,null,0]
[null,0,"American Alligators","North American Animals","Blastoff! Readers",9781626173996,18.95,597.98,"2017",1,24,"2.7","K",450,"58 & 59","Megan Borgert-Spaniol",null,null,0,null,0]
[null,0,"American Badgers","North American Animals","Blastoff! Readers",9781626177956,18.95,599.76,2019,1,24,2.9,"K",580,"58 & 59","Rebecca Sabelko",null,null,0,null,0]
[null,0,"American Beavers","North American Animals","Blastoff! Readers",9781626172562,18.95,599.37,"2016",1,24,2.7,"L",620,"58 & 59","Megan Borgert-Spaniol",null,null,{"$f":"IF(A784>0,1,0)","v":0},null,0]
[null,{"$f":"A785*G785","v":0},"American Bison","North American Animals","Blastoff! Readers",9781626171848,18.95,599.64,"2015",1,24,2.6,"L",460,"58 & 59","Chris Bowman",null,null,0,null,0]
[null,0,"American Bullfrogs","North American Animals","Blastoff! Readers","9781626179813",18.95,597.79999999999995,2020,1,24,2.9,"L",560,"58 & 59","Al Albertson",null,null,0,null,0]
[null,0,"American Crows","North American Animals","Blastoff! Readers",9781626179097,18.95,598.86400000000003,2019,1,24,2.2000000000000002,"K","560","58 & 59","Rebecca Sabelko",null,null,0,null,0]
[null,0,"American Robins","North American Animals","Blastoff! Readers",9781626174009,18.95,598.79999999999995,"2017",1,24,"2.6","K",490,"58 & 59","Megan Borgert-Spaniol",null,null,0,null,0]
[null,0,"Bald Eagles","North American Animals","Blastoff! Readers",9781626171855,18.95,598.9,"2015",1,24,2.7,"K",550,"58 & 59","Chris Bowman",null,null,0,null,0]
[null,0,"Bighorn Sheep","North American Animals","Blastoff! Readers",9781626172579,18.95,599.649,"2016",1,24,2.4,"L",460,"58 & 59","Megan Borgert-Spaniol",null,null,0,null,0]
[null,0,"Black Bears","North American Animals","Blastoff! Readers",9781626171862,18.95,599.78,"2015",1,24,2.7,"K",550,"58 & 59","Megan Borgert-Spaniol",null,null,0,null,0]
[null,0,"Blue Jays","North American Animals","Blastoff! Readers",9781626177284,18.95,598.79999999999995,2018,1,24,2.7,"K",610,"58 & 59","Betsy Rathburn",null,null,0,null,0]
[null,0,"Bobcats","North American Animals","Blastoff! Readers","9781626175655",18.95,599.75,2017,1,24,2.7,"K",530,"58 & 59","Christina Leighton",null,null,0,null,0]
[null,0,"Brown Bats","North American Animals","Blastoff! Readers",9781626172586,18.95,599.4,"2016",1,24,2.2999999999999998,"K",450,"58 & 59","Christina Leaf",null,null,0,null,0]
[null,0,"California Condors","North American Animals","Blastoff! Readers",9781626177963,18.95,598.9,2019,1,24,2.9,"L",600,"58 & 59","Rebecca Sabelko",null,null,0,null,0]
[null,0,"Canada Geese","North American Animals","Blastoff! Readers",9781626174016,18.95,598.4,"2017",1,24,"2.7","K",560,"58 & 59","Megan Borgert-Spaniol",null,null,0,null,0]
[null,0,"Canada Lynx","North American Animals","Blastoff! Readers",9781626176355,18.95,599.75,2018,1,24,3,"K",550,"58 & 59","Megan Borgert-Spaniol",null,null,0,null,0]
[null,0,"Caribou","North American Animals","Blastoff! Readers",9781626176362,18.95,599.65,2018,1,24,3,"L",570,"58 & 59","Megan Borgert-Spaniol",null,null,0,null,0]
[null,0,"Common Box Turtles","North American Animals","Blastoff! Readers","9781626179820",18.95,597.91999999999996,2020,1,24,2.6,"L",540,"58 & 59","Al Albertson",null,null,0,null,0]
[null,0,"Common Garter Snakes","North American Animals","Blastoff! Readers",9781626179103,18.95,597.96199999999999,2019,1,24,2.4,"K","550","58 & 59","Rebecca Sabelko",null,null,0,null,0]
[null,0,"Common Snapping Turtles","North American Animals","Blastoff! Readers",9781626179110,18.95,597.92200000000003,2019,1,24,2.2999999999999998,"K","550","58 & 59","Rebecca Sabelko",null,null,0,null,0]
[null,0,"Cottonmouths","North American Animals","Blastoff! Readers","9781626179837",18.95,597.96,2020,1,24,2.9,"L",580,"58 & 59","Al Albertson",null,null,0,null,0]
[null,0,"Cottontail Rabbits","North American Animals","Blastoff! Readers","9781626175662",18.95,599.32000000000005,2017,1,24,2.8,"K",580,"58 & 59","Christina Leighton",null,null,0,null,0]
[null,0,"Coyotes","North American Animals","Blastoff! Readers",9781626172593,18.95,599.77,"2016",1,24,2.8,"L",540,"58 & 59","Chris Bowman",null,null,0,null,0]
[null,0,"Diamondback Rattlesnakes","North American Animals","Blastoff! Readers",9781626176379,18.95,597.96,2018,1,24,3,"L",590,"58 & 59","Betsy Rathburn",null,null,0,null,0]
[null,0,"Eastern Chipmunks","North American Animals","Blastoff! Readers",9781626173354,18.95,599.36,"2016",1,24,"1.7","K",690,"58 & 59","Chris Bowman",null,null,0,null,0]
[null,0,"Gila Monsters","North American Animals","Blastoff! Readers",9781626177970,18.95,597.95000000000005,2019,1,24,3,"K",540,"58 & 59","Rebecca Sabelko",null,null,0,null,0]
[null,0,"Golden Eagles","North American Animals","Blastoff! Readers","9781626175679",18.95,598.9,2017,1,24,2.7,"K",540,"58 & 59","Christina Leighton",null,null,0,null,0]
[null,0,"Gray Foxes","North American Animals","Blastoff! Readers",9781626179127,18.95,599.77599999999995,2019,1,24,2.2000000000000002,"K","540","58 & 59","Rebecca Sabelko",null,null,0,null,0]
[null,0,"Gray Squirrels","North American Animals","Blastoff! Readers",9781626171879,18.95,599.36,"2015",1,24,2.8,"L",550,"58 & 59","Christina Leaf",null,null,0,null,{"$f":"A810*J810","v":0}]
[null,0,"Gray Wolves","North American Animals","Blastoff! Readers",9781626171886,18.95,599.77300000000002,"2015",1,24,2.7,"K",540,"58 & 59","Christina Leaf",null,null,0,null,0]
[null,0,"Great Horned Owls","North American Animals","Blastoff! Readers",9781626171893,18.95,598.9,"2015",1,24,2.9,"L",630,"58 & 59","Christina Leaf",null,null,0,null,0]
[null,0,"Grizzly Bears","North American Animals","Blastoff! Readers",9781626171909,18.95,599.78399999999999,"2015",1,24,"3.0","L",570,"58 & 59","Megan Borgert-Spaniol",null,null,0,null,0]
[null,0,"Jackrabbits","North American Animals","Blastoff! Readers",9781626171916,18.95,599.32000000000005,"2015",1,24,2.7,"L",510,"58 & 59","Christina Leaf",null,null,0,null,0]
[null,0,"Long-tailed Weasels","North American Animals","Blastoff! Readers",9781626177987,18.95,599.76,2019,1,24,2.8,"K",560,"58 & 59","Rebecca Sabelko",null,null,0,null,0]
[null,0,"Moose","North American Animals","Blastoff! Readers",9781626172609,18.95,599.65,"2016",1,24,2.2999999999999998,"L",520,"58 & 59","Megan Borgert-Spaniol",null,null,0,null,0]
[null,0,"Mountain Goats","North American Animals","Blastoff! Readers",9781626176386,18.95,599.64,2018,1,24,2.8,"K",580,"58 & 59","Megan Borgert-Spaniol",null,null,0,null,0]
[null,0,"Mountain Lions","North American Animals","Blastoff! Readers",9781626176393,18.95,599.65,2018,1,24,2.9,"K",580,"58 & 59","Betsy Rathburn",null,null,0,null,0]
[null,0,"Muskrats","North American Animals","Blastoff! Readers","9781626179844",18.95,599.35,2020,1,24,2.9,"L",560,"58 & 59","Al Albertson",null,null,0,null,0]
[null,0,"Nine-banded Armadillos","North American Animals","Blastoff! Readers",9781626172616,18.95,599.29999999999995,"2016",1,24,2.8,"K",560,"58 & 59","Megan Borgert-Spaniol",null,null,0,null,0]
[null,0,"Northern Cardinals","North American Animals","Blastoff! Readers",9781626176409,18.95,598.79999999999995,2018,1,24,2.7,"K",560,"58 & 59","Megan Borgert-Spaniol",null,null,0,null,0]
[null,0,"Northern Leopard Frogs","North American Animals","Blastoff! Readers",9781626179134,18.95,597.89,2019,1,24,2.9,"K","550","58 & 59","Rebecca Sabelko",null,null,0,null,0]
[null,0,"Opossums","North American Animals","Blastoff! Readers",9781626177291,18.95,599.20000000000005,2018,1,24,2.7,"K",580,"58 & 59","Betsy Rathburn",null,null,0,null,0]
[null,0,"Pileated Woodpeckers","North American Animals","Blastoff! Readers",9781626177994,18.95,598.70000000000005,2019,1,24,2.7,"K",570,"58 & 59","Rebecca Sabelko",null,null,0,null,0]
[null,0,"Porcupines","North American Animals","Blastoff! Readers",9781626172623,18.95,599.35,"2016",1,24,2.6,"K",490,"58 & 59","Christina Leaf",null,null,0,null,0]
[null,0,"Prairie Dogs","North American Animals","Blastoff! Readers",9781626174023,18.95,599.36,"2017",1,24,"2.9","K",540,"58 & 59","Megan Borgert-Spaniol",null,null,0,null,0]
[null,0,"Pronghorn","North American Animals","Blastoff! Readers",9781626171923,18.95,599.63,"2015",1,24,"3.0","K",540,"58 & 59","Chris Bowman",null,null,0,null,0]
[null,0,"Raccoons","North American Animals","Blastoff! Readers",9781626172630,18.95,599.76,"2016",1,24,2.6,"K",530,"58 & 59","Chris Bowman",null,null,0,null,0]
[null,0,"Red Foxes","North American Animals","Blastoff! Readers",9781626171930,18.95,599.77499999999998,"2015",1,24,2.4,"K",520,"58 & 59","Megan Borgert-Spaniol",null,null,0,null,0]
[null,0,"Red Squirrels","North American Animals","Blastoff! Readers",9781626173361,18.95,599.36,"2016",1,24,"2.7","L",670,"58 & 59","Chris Bowman",null,null,0,null,0]
[null,0,"Red-tailed Hawks","North American Animals","Blastoff! Readers",9781626171947,18.95,598.9,"2015",1,24,2.8,"K",590,"58 & 59","Megan Borgert-Spaniol",null,null,0,null,0]
[null,0,"River Otters","North American Animals","Blastoff! Readers",9781626177307,18.95,599.76900000000001,2018,1,24,2.8,"K",590,"58 & 59","Betsy Rathburn",null,null,0,null,0]
[null,0,"Roadrunners","North American Animals","Blastoff! Readers","9781626175686",18.95,598.70000000000005,2017,1,24,2.7,"K",530,"58 & 59","Christina Leighton",null,null,0,null,0]
[null,0,"Rocky Mountain Elk","North American Animals","Blastoff! Readers",9781626178007,18.95,599.65,2019,1,24,3,"L",600,"58 & 59","Rebecca Sabelko",null,null,0,null,0]
[null,0,"Ruby-throated Hummingbirds","North American Animals","Blastoff! Readers",9781626173378,18.95,598.70000000000005,"2016",1,24,"2.9","L",610,"58 & 59","Chris Bowman",null,null,0,null,0]
[null,0,"Striped Skunks","North American Animals","Blastoff! Readers",9781626173385,18.95,599.76,"2016",1,24,"2.7","L",640,"58 & 59","Chris Bowman",null,null,0,null,0]
[null,0,"White-tailed Deer","North American Animals","Blastoff! Readers",9781626171954,18.95,599.65,"2015",1,24,2.7,"K",500,"58 & 59","Chris Bowman",null,null,0,null,0]
[null,0,"Wild Turkeys","North American Animals","Blastoff! Readers",9781626179141,18.95,598.64499999999998,2019,1,24,2.6,"K","550","58 & 59","Rebecca Sabelko",null,null,0,null,0]
[null,0,"Wolverines","North American Animals","Blastoff! Readers",9781626177314,18.95,599.76,2018,1,24,2.9,"K",540,"58 & 59","Betsy Rathburn",null,null,0,null,0]
[null,0,"State Profiles Set (52)","State Profiles","Blastoff! Discovery",null,1037.4000000000001,null,null,52,null,null,null,null,"62 & 63",null,null,null,0,null,0]
[null,0,"Alabama","State Profiles","Blastoff! Discovery",9781644873724,19.95,976.1,2022,1,32,null,"S",780,"62 & 63","Patrick Perish",null,null,0,null,0]
[null,0,"Alaska","State Profiles","Blastoff! Discovery",9781644873731,19.95,979.8,2022,1,32,null,"S",810,"62 & 63","Colleen Sexton",null,null,0,null,0]
[null,0,"Arizona","State Profiles","Blastoff! Discovery",9781644873748,19.95,979.1,2022,1,32,null,"S",810,"62 & 63","Rachel Grack",null,null,0,null,0]
[null,0,"Arkansas","State Profiles","Blastoff! Discovery",9781644873755,19.95,976.7,2022,1,32,null,"S",770,"62 & 63","Patrick Perish",null,null,0,null,0]
[null,0,"California","State Profiles","Blastoff! Discovery",9781644873762,19.95,979.4,2022,1,32,null,"S",780,"62 & 63","Emily Rose Oachs",null,null,0,null,0]
[null,0,"Colorado","State Profiles","Blastoff! Discovery",9781644873779,19.95,978.8,2022,1,32,null,"S",830,"62 & 63","Nathan Sommer",null,null,0,null,0]
[null,0,"Connecticut","State Profiles","Blastoff! Discovery",9781644873786,19.95,974.6,2022,1,32,null,"S",820,"62 & 63","Alicia Klepeis",null,null,0,null,0]
[null,0,"Delaware","State Profiles","Blastoff! Discovery",9781644873793,19.95,975.1,2022,1,32,null,"S",810,"62 & 63","Colleen Sexton",null,null,{"$f":"IF(A848>0,1,0)","v":0},null,0]
[null,{"$f":"A849*G849","v":0},"Florida","State Profiles","Blastoff! Discovery",9781644873809,19.95,975.9,2022,1,32,null,"S",810,"62 & 63","Colleen Sexton",null,null,0,null,0]
[null,0,"Georgia","State Profiles","Blastoff! Discovery",9781644873816,19.95,975.8,2022,1,32,null,"S",780,"62 & 63","Rachel Grack",null,null,0,null,0]
[null,0,"Hawaii","State Profiles","Blastoff! Discovery",9781644873823,19.95,996.9,2022,1,32,null,"S",820,"62 & 63","Alicia Klepeis",null,null,0,null,0]
[null,0,"Idaho","State Profiles","Blastoff! Discovery",9781644873830,19.95,979.6,2022,1,32,null,"S",780,"62 & 63","Betsy Rathburn",null,null,0,null,0]
[null,0,"Illinois","State Profiles","Blastoff! Discovery",9781644873847,19.95,977.3,2022,1,32,null,"S",800,"62 & 63","Colleen Sexton",null,null,0,null,0]
[null,0,"Indiana","State Profiles","Blastoff! Discovery",9781644873854,19.95,977.2,2022,1,32,null,"S",830,"62 & 63","Betsy Rathburn",null,null,0,null,0]
[null,0,"Iowa","State Profiles","Blastoff! Discovery",9781644873861,19.95,977.7,2022,1,32,null,"S",810,"62 & 63","Nathan Sommer",null,null,0,null,0]
[null,0,"Kansas","State Profiles","Blastoff! Discovery",9781644873878,19.95,978.1,2022,1,32,null,"S",790,"62 & 63","Alicia Klepeis",null,null,0,null,0]
[null,0,"Kentucky","State Profiles","Blastoff! Discovery",9781644873885,19.95,976.9,2022,1,32,null,"S",790,"62 & 63","Alicia Klepeis",null,null,0,null,0]
[null,0,"Louisiana","State Profiles","Blastoff! Discovery",9781644873892,19.95,976.3,2022,1,32,null,"S",810,"62 & 63","Nathan Sommer",null,null,0,null,0]
[null,0,"Maine","State Profiles","Blastoff! Discovery",9781644873908,19.95,974.1,2022,1,32,null,"S",800,"62 & 63","Rachel Grack",null,null,0,null,0]
[null,0,"Maryland","State Profiles","Blastoff! Discovery",9781644873915,19.95,975.2,2022,1,32,null,"S",800,"62 & 63","Rachel Grack",null,null,0,null,0]
[null,0,"Massachusetts","State Profiles","Blastoff! Discovery",9781644873922,19.95,974.4,2022,1,32,null,"S",790,"62 & 63","Nathan Sommer",null,null,0,null,0]
[null,0,"Michigan","State Profiles","Blastoff! Discovery",9781644873939,19.95,977.4,2022,1,32,null,"S",790,"62 & 63","Betsy Rathburn",null,null,0,null,0]
[null,0,"Minnesota","State Profiles","Blastoff! Discovery",9781644873946,19.95,977.6,2022,1,32,null,"S",870,"62 & 63","Derek Zobel",null,null,0,null,0]
[null,0,"Mississippi","State Profiles","Blastoff! Discovery",9781644873953,19.95,976.2,2022,1,32,null,"S",760,"62 & 63","Colleen Sexton",null,null,0,null,0]
[null,0,"Missouri","State Profiles","Blastoff! Discovery",9781644873304,19.95,977.8,2022,1,32,null,"S",790,"62 & 63","Rachel Grack",null,null,0,null,0]
[null,0,"Montana","State Profiles","Blastoff! Discovery",9781644873311,19.95,978.6,2022,1,32,null,"S",780,"62 & 63","Alicia Klepeis",null,null,0,null,0]
[null,0,"Nebraska","State Profiles","Blastoff! Discovery",9781644873328,19.95,978.2,2022,1,32,null,"S",770,"62 & 63","Rachel Grack",null,null,0,null,0]
[null,0,"Nevada","State Profiles","Blastoff! Discovery",9781644873335,19.95,979.3,2022,1,32,null,"S",800,"62 & 63","Colleen Sexton",null,null,0,null,0]
[null,0,"New Hampshire","State Profiles","Blastoff! Discovery",9781644873342,19.95,974.2,2022,1,32,null,"S",800,"62 & 63","Colleen Sexton",null,null,0,null,0]
[null,0,"New Jersey","State Profiles","Blastoff! Discovery",9781644873359,19.95,974.9,2022,1,32,null,"S",780,"62 & 63","Rachel Grack",null,null,0,null,0]
[null,0,"New Mexico","State Profiles","Blastoff! Discovery",9781644873366,19.95,978.9,2022,1,32,null,"S",780,"62 & 63","Alicia Klepeis",null,null,0,null,0]
[null,0,"New York","State Profiles","Blastoff! Discovery",9781644873373,19.95,974.7,2022,1,32,null,"S",800,"62 & 63","Alicia Klepeis",null,null,0,null,0]
[null,0,"North Carolina","State Profiles","Blastoff! Discovery",9781644873380,19.95,975.6,2022,1,32,null,"S",830,"62 & 63","Nathan Sommer",null,null,0,null,0]
[null,0,"North Dakota","State Profiles","Blastoff! Discovery",9781644873397,19.95,978.4,2022,1,32,null,"S",810,"62 & 63","Patrick Perish",null,null,0,null,{"$f":"A874*J874","v":0}]
[null,0,"Ohio","State Profiles","Blastoff! Discovery",9781644873403,19.95,977.1,2022,1,32,null,"S",730,"62 & 63","Betsy Rathburn",null,null,0,null,0]
[null,0,"Oklahoma","State Profiles","Blastoff! Discovery",9781644873410,19.95,976.6,2022,1,32,null,"S",810,"62 & 63","Colleen Sexton",null,null,0,null,0]
[null,0,"Oregon","State Profiles","Blastoff! Discovery",9781644873427,19.95,979.5,2022,1,32,null,"S",780,"62 & 63","Patrick Perish",null,null,0,null,0]
[null,0,"Pennsylvania","State Profiles","Blastoff! Discovery",9781644873434,19.95,974.8,2022,1,32,null,"S",770,"62 & 63","Rebecca Sabelko",null,null,0,null,0]
[null,0,"Puerto Rico","State Profiles","Blastoff! Discovery",9781644873441,19.95,972.95,2022,1,32,null,"S",810,"62 & 63","Alicia Klepeis",null,null,0,null,0]
[null,0,"Rhode Island","State Profiles","Blastoff! Discovery",9781644873458,19.95,974.5,2022,1,32,null,"S",790,"62 & 63","Betsy Rathburn",null,null,0,null,0]
[null,0,"South Carolina","State Profiles","Blastoff! Discovery",9781644873465,19.95,975.7,2022,1,32,null,"S",800,"62 & 63","Emily Rose Oachs",null,null,0,null,0]
[null,0,"South Dakota","State Profiles","Blastoff! Discovery",9781644873472,19.95,978.3,2022,1,32,null,"S",800,"62 & 63","Betsy Rathburn",null,null,0,null,0]
[null,0,"Tennessee","State Profiles","Blastoff! Discovery",9781644873489,19.95,976.8,2022,1,32,null,"S",770,"62 & 63","Nathan Sommer",null,null,0,null,0]
[null,0,"Texas","State Profiles","Blastoff! Discovery",9781644873496,19.95,976.4,2022,1,32,null,"S",830,"62 & 63","Patrick Perish",null,null,0,null,0]
[null,0,"Utah","State Profiles","Blastoff! Discovery",9781644873502,19.95,979.2,2022,1,32,null,"S",840,"62 & 63","Emily Rose Oachs",null,null,0,null,0]
[null,0,"Vermont","State Profiles","Blastoff! Discovery",9781644873519,19.95,974.3,2022,1,32,null,"S",820,"62 & 63","Colleen Sexton",null,null,0,null,0]
[null,0,"Virginia","State Profiles","Blastoff! Discovery",9781644873526,19.95,975.5,2022,1,32,null,"S",760,"62 & 63","Rachel Grack",null,null,0,null,0]
[null,0,"Washington","State Profiles","Blastoff! Discovery",9781644873533,19.95,979.7,2022,1,32,null,"S",780,"62 & 63","Rebecca Sabelko",null,null,0,null,0]
[null,0,"Washington, D.C.","State Profiles","Blastoff! Discovery",9781644873540,19.95,975.3,2022,1,32,null,"S",780,"62 & 63","Colleen Sexton",null,null,0,null,0]
[null,0,"West Virginia","State Profiles","Blastoff! Discovery",9781644873557,19.95,975.4,2022,1,32,null,"S",730,"62 & 63","Betsy Rathburn",null,null,0,null,0]
[null,0,"Wisconsin","State Profiles","Blastoff! Discovery",9781644873564,19.95,977.5,2022,1,32,null,"S",810,"62 & 63","Nathan Sommer",null,null,0,null,0]
[null,0,"Wyoming","State Profiles","Blastoff! Discovery",9781644873571,19.95,978.7,2022,1,32,null,"S",810,"62 & 63","Christina Leaf",null,null,0,null,0]
[null,0,"Rocks & Minerals Set (6)","Rocks & Minerals","Blastoff! Discovery",null,119.7,null,null,6,null,null,null,null,64,null,null,null,0,null,0]
[null,0,"Crystals","Rocks & Minerals","Blastoff! Discovery","9781644870723",19.95,548,2020,1,32,4.3,"R",650,64,"Patrick Perish",null,null,0,null,0]
[null,0,"Fossils","Rocks & Minerals","Blastoff! Discovery","9781644870730",19.95,560,2020,1,32,4.8,"R",730,64,"Patrick Perish",null,null,0,null,0]
[null,0,"Gemstones","Rocks & Minerals","Blastoff! Discovery","9781644870747",19.95,553.79999999999995,2020,1,32,4.5999999999999996,"R",700,64,"Patrick Perish",null,null,0,null,0]
[null,0,"Igneous Rocks","Rocks & Minerals","Blastoff! Discovery","9781644870754",19.95,552,2020,1,32,4.5999999999999996,"R",760,64,"Jenny Fretland VanVoorst",null,null,0,null,0]
[null,0,"Metamorphic Rocks","Rocks & Minerals","Blastoff! Discovery","9781644870761",19.95,552,2020,1,32,4.8,"R",700,64,"Jenny Fretland VanVoorst",null,null,0,null,0]
[null,0,"Sedimentary Rocks","Rocks & Minerals","Blastoff! Discovery","9781644870778",19.95,552,2020,1,32,4.5,"R",720,64,"Jenny Fretland VanVoorst",null,null,0,null,0]
[null,0,"Movie Magic Set (10)","Movie Magic","Blastoff! Discovery",null,199.5,null,null,10,null,null,null,null,64,null,null,null,0,null,0]
[null,0,"Animal Performers","Movie Magic","Blastoff! Discovery",9781626178458,19.95,791.43,2019,1,32,4.3,"Q",760,64,"Sara Green",null,null,0,null,0]
[null,0,"Animation","Movie Magic","Blastoff! Discovery","9781644870426",19.95,777,2020,1,32,"5.0","Q",780,64,"Sara Green",null,null,0,null,0]
[null,0,"Camera Tricks","Movie Magic","Blastoff! Discovery",9781626178465,19.95,791.43020000000001,2019,1,32,4.7,"R",760,64,"Sara Green",null,null,0,null,0]
[null,0,"Costumes and Props","Movie Magic","Blastoff! Discovery",9781626178472,19.95,791.43020000000001,2019,1,32,4.8,"Q",820,64,"Sara Green",null,null,0,null,0]
[null,0,"Makeup","Movie Magic","Blastoff! Discovery",9781626178489,19.95,791.43020000000001,2019,1,32,4.5,"Q",670,64,"Sara Green",null,null,0,null,0]
[null,0,"Motion Capture","Movie Magic","Blastoff! Discovery","9781644870433",19.95,776,2020,1,32,4.9000000000000004,"Q",790,64,"Sara Green",null,null,0,null,0]
[null,0,"On-screen Vehicles","Movie Magic","Blastoff! Discovery","9781644870440",19.95,791.43,2020,1,32,4.9000000000000004,"Q",840,64,"Sara Green",null,null,0,null,0]
[null,0,"Special Effects","Movie Magic","Blastoff! Discovery",9781626178496,19.95,778.5,2019,1,32,4.7,"R",790,64,"Sara Green",null,null,0,null,0]
[null,0,"Stunts","Movie Magic","Blastoff! Discovery",9781626178502,19.95,791.43020000000001,2019,1,32,4.4000000000000004,"R",760,64,"Sara Green",null,null,0,null,0]
[null,0,"Visual Effects","Movie Magic","Blastoff! Discovery","9781644870457",19.95,777,2020,1,32,"5.0","Q",840,64,"Sara Green",null,null,0,null,0]
[null,0,"U.S. National Parks Set (8)","U.S. National Parks","Blastoff! Discovery",null,159.6,null,null,8,null,null,null,null,65,null,null,null,0,null,0]
[null,0,"Acadia National Park","U.S. National Parks","Blastoff! Discovery",9781644877517,19.95,974.1,2023,1,32,null,"R",840,65,"Christina Leaf",null,null,{"$f":"IF(A912>0,1,0)","v":0},null,0]
[null,{"$f":"A913*G913","v":0},"Glacier National Park","U.S. National Parks","Blastoff! Discovery",9781644877524,19.95,978.6,2023,1,32,null,"R",810,65,"Chris Bowman",null,null,0,null,0]
[null,0,"Grand Canyon National Park","U.S. National Parks","Blastoff! Discovery",9781644877531,19.95,979.1,2023,1,32,null,"R",800,65,"Christina Leaf",null,null,0,null,0]
[null,0,"Great Smoky Mountains National Park","U.S. National Parks","Blastoff! Discovery",9781644877548,19.95,976.8,2023,1,32,null,"R",790,65,"Chris Bowman",null,null,0,null,0]
[null,0,"Rocky Mountain National Park","U.S. National Parks","Blastoff! Discovery",9781644877555,19.95,978.8,2023,1,32,null,"R",820,65,"Christina Leaf",null,null,0,null,0]
[null,0,"Yellowstone National Park","U.S. National Parks","Blastoff! Discovery",9781644877562,19.95,978.7,2023,1,32,null,"R",790,65,"Chris Bowman",null,null,0,null,0]
[null,0,"Yosemite National Park","U.S. National Parks","Blastoff! Discovery",9781644877579,19.95,979.4,2023,1,32,null,"R",850,65,"Christina Leaf",null,null,0,null,0]
[null,0,"Zion National Park","U.S. National Parks","Blastoff! Discovery",9781644877586,19.95,979.2,2023,1,32,null,"R",810,65,"Chris Bowman",null,null,0,null,0]
[null,0,"The 7 Wonders of the Modern World Set (7)","The 7 Wonders of the Modern World","Blastoff! Discovery",null,139.65,null,null,7,32,null,null,null,66,null,null,null,0,null,0]
[null,0,"Chichén Itzá","The 7 Wonders of the Modern World","Blastoff! Discovery",9781644872659,19.95,972,2021,1,32,null,"S",820,66,"Sara Green",null,null,0,null,0]
[null,0,"Christ the Redeemer","The 7 Wonders of the Modern World","Blastoff! Discovery",9781644872666,19.95,730.98099999999999,2021,1,32,null,"S",740,66,"Elizabeth Noll",null,null,0,null,0]
[null,0,"The Colosseum","The 7 Wonders of the Modern World","Blastoff! Discovery",9781644872673,19.95,937,2021,1,32,null,"S",710,66,"Elizabeth Noll",null,null,0,null,0]
[null,0,"The Great Wall of China","The 7 Wonders of the Modern World","Blastoff! Discovery",9781644872680,19.95,931,2021,1,32,null,"S",700,66,"Elizabeth Noll",null,null,0,null,0]
[null,0,"Machu Picchu","The 7 Wonders of the Modern World","Blastoff! Discovery",9781644872697,19.95,985,2021,1,32,null,"S",740,66,"Elizabeth Noll",null,null,0,null,0]
[null,0,"Petra","The 7 Wonders of the Modern World","Blastoff! Discovery",9781644872703,19.95,939.4,2021,1,32,null,"S",760,66,"Sara Green",null,null,0,null,0]
[null,0,"Taj Mahal, The","The 7 Wonders of the Modern World","Blastoff! Discovery",9781644872710,19.95,954.02,2021,1,32,null,"S",720,66,"Sara Green",null,null,0,null,0]
[null,0,"Ancient Civilizations Set (8)","Ancient Civilizations","Blastoff! Discovery",null,159.6,null,null,8,null,null,null,null,66,null,null,null,0,null,0]
[null,0,"Ancient Aztecs","Ancient Civilizations","Blastoff! Discovery",9781644871737,19.95,972,2020,1,32,4.8,"T",790,66,"Emily Rose Oachs",null,null,0,null,0]
[null,0,"Ancient China","Ancient Civilizations","Blastoff! Discovery",9781644871744,19.95,931,2020,1,32,4.9000000000000004,"U",740,66,"Emily Rose Oachs",null,null,0,null,0]
[null,0,"Ancient Egypt","Ancient Civilizations","Blastoff! Discovery",9781644871751,19.95,932,2020,1,32,4.8,"T",760,66,"Emily Rose Oachs",null,null,0,null,0]
[null,0,"Ancient Greece","Ancient Civilizations","Blastoff! Discovery",9781644871768,19.95,938,2020,1,32,5,"U",730,66,"Sara Green",null,null,0,null,0]
[null,0,"Ancient India","Ancient Civilizations","Blastoff! Discovery",9781644871775,19.95,934,2020,1,32,5,"U",770,66,"Sara Green",null,null,0,null,0]
[null,0,"Ancient Maya","Ancient Civilizations","Blastoff! Discovery",9781644871782,19.95,972,2020,1,32,4.5999999999999996,"T",750,66,"Sara Green",null,null,0,null,0]
[null,0,"Ancient Mesopotamia","Ancient Civilizations","Blastoff! Discovery",9781644871799,19.95,935,2020,1,32,4.9000000000000004,"U",740,66,"Sara Green",null,null,0,null,0]
[null,0,"Ancient Rome","Ancient Civilizations","Blastoff! Discovery",9781644871805,19.95,937,2020,1,32,4.9000000000000004,"V",750,66,"Emily Rose Oachs",null,null,0,null,0]
[null,0,"Superhero Science Set (10)","Super Hero Science","Blastoff! Discovery",null,199.5,null,null,10,null,null,null,null,67,null,null,null,0,null,0]
[null,0,"Flight","Super Hero Science","Blastoff! Discovery",9781644872598,19.95,629.13,2021,1,32,null,"T",780,67,"Blake Hoena",null,null,0,null,{"$f":"A938*J938","v":0}]
[null,0,"Invisibility","Super Hero Science","Blastoff! Discovery",9781644872604,19.95,535,2021,1,32,null,"T",740,67,"Blake Hoena",null,null,0,null,0]
[null,0,"Invulnerability","Superhero Science","Blastoff! Discovery",9781644876190,19.95,739.7,2022,1,32,null,null,790,67,"Blake Hoena",null,null,0,null,0]
[null,0,"Shapeshifting","Superhero Science","Blastoff! Discovery",9781644876206,19.95,"*001.94",2022,1,32,null,null,760,67,"Blake Hoena",null,null,0,null,0]
[null,0,"Super Healing","Superhero Science","Blastoff! Discovery",9781644876213,19.95,610,2022,1,32,null,null,720,67,"Blake Hoena",null,null,0,null,0]
[null,0,"Super Senses","Super Hero Science","Blastoff! Discovery",9781644872611,19.95,612.79999999999995,2021,1,32,null,"U",770,67,"Paige V. Polinsky",null,null,0,null,0]
[null,0,"Super Speed","Super Hero Science","Blastoff! Discovery",9781644872628,19.95,531,2021,1,32,null,"T",810,67,"Blake Hoena",null,null,0,null,0]
[null,0,"Super Strength","Super Hero Science","Blastoff! Discovery",9781644872635,19.95,612.70000000000005,2021,1,32,null,"U",730,67,"Paige V. Polinsky",null,null,0,null,0]
[null,0,"Teleportation","Super Hero Science","Blastoff! Discovery",9781644872642,19.95,133.80000000000001,2021,1,32,null,"T",770,67,"Blake Hoena",null,null,0,null,0]
[null,0,"Weather Control","Superhero Science","Blastoff! Discovery",9781644876220,19.95,551.67999999999995,2022,1,32,null,null,760,67,"Blake Hoena",null,null,0,null,0]
[null,0,"Inventions that Changed the World Set (10)","Inventions that Changed the World","Blastoff! Discovery",null,199.5,null,null,10,null,null,null,null,67,null,null,null,0,null,0]
[null,0,"Airplane, The","Inventions that Changed the World","Blastoff! Discovery",9781626179653,19.95,629.13300000000004,2019,1,32,4.5999999999999996,"S","810",67,"Emily Rose Oachs",null,null,0,null,0]
[null,0,"Automobile, The","Inventions that Changed the World","Blastoff! Discovery",9781626179660,19.95,629.22208999999998,2019,1,32,4.5999999999999996,"S","790",67,"Emily Rose Oachs",null,null,0,null,0]
[null,0,"Camera, The","Inventions that Changed the World","Blastoff! Discovery",9781626179677,19.95,771.3,2019,1,32,4.8,"R","770",67,"Rebecca Sabelko",null,null,0,null,0]
[null,0,"Internet, The","Inventions that Changed the World","Blastoff! Discovery",9781644876152,19.95,4.67,2022,1,32,null,null,760,67,"Sara Green",null,null,0,null,0]
[null,0,"Light Bulb, The","Inventions that Changed the World","Blastoff! Discovery",9781626179684,19.95,621.32000000000005,2019,1,32,4.5999999999999996,"S","820",67,"Emily Rose Oachs",null,null,0,null,0]
[null,0,"Personal Computer, The","Inventions that Changed the World","Blastoff! Discovery",9781626179691,19.95,"DDC 004",2019,1,32,4.8,"R","790",67,"Emily Rose Oachs",null,null,0,null,0]
[null,0,"Printing Press, The","Inventions that Changed the World","Blastoff! Discovery",9781626179707,19.95,681,2019,1,32,4.7,"S","800",67,"Rebecca Sabelko",null,null,0,null,0]
[null,0,"Telephone, The","Inventions that Changed the World","Blastoff! Discovery",9781644876169,19.95,621.38499999999999,2022,1,32,null,null,710,67,"Sara Green",null,null,0,null,0]
[null,0,"Television, The","Inventions that Changed the World","Blastoff! Discovery",9781644876176,19.95,621.38800000000003,2022,1,32,null,null,800,67,"Sara Green",null,null,0,null,0]
[null,0,"Vaccines","Inventions that Changed the World","Blastoff! Discovery",9781644876183,19.95,615.29999999999995,2022,1,32,null,null,740,67,"Sara Green",null,null,0,null,0]
[null,0,"Incredible Sports Records Set (6)","Incredible Sports Records","Blastoff! Discovery",null,119.7,null,null,6,null,null,null,null,68,null,null,null,0,null,0]
[null,0,"Baseball Records","Incredible Sports Records","Blastoff! Discovery",9781626177819,19.95,796.35699999999997,2018,1,32,4.4000000000000004,"Q",900,68,"Allan Morey",null,null,0,null,0]
[null,0,"Basketball Records","Incredible Sports Records","Blastoff! Discovery",9781626177826,19.95,796.32299999999998,2018,1,32,4.5,"Q",900,68,"Thomas K. Adamson",null,null,0,null,0]
[null,0,"Football Records","Incredible Sports Records","Blastoff! Discovery",9781626177833,19.95,796.33199999999999,2018,1,32,4.4000000000000004,"Q",890,68,"Allan Morey",null,null,0,null,0]
[null,0,"Hockey Records","Incredible Sports Records","Blastoff! Discovery",9781626177840,19.95,796.96199999999999,2018,1,32,4.5999999999999996,"Q",870,68,"Allan Morey",null,null,0,null,0]
[null,0,"Olympic Records","Incredible Sports Records","Blastoff! Discovery",9781626177857,19.95,796.48068000000001,2018,1,32,4.3,"Q",810,68,"Thomas K. Adamson",null,null,0,null,0]
[null,0,"Soccer Records","Incredible Sports Records","Blastoff! Discovery",9781626177864,19.95,796.33399999999995,2018,1,32,4.2,"Q",880,68,"Thomas K. Adamson",null,null,0,null,0]
[null,0,"World of Robots Set (6)","World of Robots","Blastoff! Discovery",null,119.7,null,null,6,null,null,null,null,68,null,null,null,0,null,0]
[null,0,"Factory Robots","World of Robots","Blastoff! Discovery",9781626176874,19.95,670.42,2018,1,32,4.7,"U",670,68,"Elizabeth Noll",null,null,0,null,0]
[null,0,"Flying Robots","World of Robots","Blastoff! Discovery",9781626176881,19.95,629.13300000000004,2018,1,32,5,"U",800,68,"Elizabeth Noll",null,null,0,null,0]
[null,0,"Medical Robots","World of Robots","Blastoff! Discovery",9781626176898,19.95,610.28499999999997,2018,1,32,5.0999999999999996,"U",820,68,"Elizabeth Noll",null,null,0,null,0]
[null,0,"Military Robots","World of Robots","Blastoff! Discovery",9781626176904,19.95,623,2018,1,32,4.9000000000000004,"U",810,68,"Elizabeth Noll",null,null,0,null,0]
[null,0,"Police Robots","World of Robots","Blastoff! Discovery",9781626176911,19.95,363.20280000000002,2018,1,32,5,"U",810,68,"Elizabeth Noll",null,null,0,null,0]
[null,0,"Space Robots","World of Robots","Blastoff! Discovery",9781626176928,19.95,629.79999999999995,2018,1,32,5.0999999999999996,"U",810,68,"Elizabeth Noll",null,null,0,null,0]
[null,0,"Investigating the Unexplained Set (10)","Investigating the Unexplained","Blastoff! Discovery",null,199.5,null,null,10,null,null,null,null,69,null,null,null,0,null,0]
[null,0,"Alien Abductions","Investigating the Unexplained","Blastoff! Discovery",9781626178519,19.95,1.9419999999999999,2019,1,32,4.5999999999999996,"Q",750,69,"Lisa Owings",null,null,0,null,0]
[null,0,"Atlantis","Investigating the Unexplained","Blastoff! Discovery",9781644870389,19.95,1.94,2020,1,32,4.5,"R",760,69,"Paige V. Polinsky",null,null,0,null,0]
[null,0,"Bigfoot","Investigating the Unexplained","Blastoff! Discovery",9781626178526,19.95,1.944,2019,1,32,4.5999999999999996,"Q",770,69,"Emily Rose Oachs",null,null,{"$f":"IF(A976>0,1,0)","v":0},null,0]
[null,{"$f":"A977*G977","v":0},"ESP","Investigating the Unexplained","Blastoff! Discovery",9781644870402,19.95,133.80000000000001,2020,1,32,4.5,"R",730,69,"Paige V. Polinsky",null,null,0,null,0]
[null,0,"Ghost Ships","Investigating the Unexplained","Blastoff! Discovery",9781644870419,19.95,133.1,2020,1,32,4.9000000000000004,"R",750,69,"Paige V. Polinsky",null,null,0,null,0]
[null,0,"Ghosts","Investigating the Unexplained","Blastoff! Discovery",9781626178533,19.95,133.1,2019,1,32,4.5999999999999996,"Q",750,69,"Emily Rose Oachs",null,null,0,null,0]
[null,0,"Haunted Houses","Investigating the Unexplained","Blastoff! Discovery",9781626178540,19.95,133.1,2019,1,32,4.5,"R",770,69,"Lisa Owings",null,null,0,null,0]
[null,0,"Loch Ness Monster, The","Investigating the Unexplained","Blastoff! Discovery",9781626178557,19.95,1.944,2019,1,32,4.8,"Q",810,69,"Emily Rose Oachs",null,null,0,null,0]
[null,0,"The Bermuda Triangle","Investigating the Unexplained","Blastoff! Discovery",9781644870396,19.95,1.94,2020,1,32,4.7,"R",810,69,"Paige V. Polinsky",null,null,0,null,0]
[null,0,"UFOs","Investigating the Unexplained","Blastoff! Discovery",9781626178564,19.95,1.9419999999999999,2019,1,32,4.5,"R",730,69,"Emily Rose Oachs",null,null,0,null,0]
[null,0,"Dog Groups Set (7)","Dog Groups","Blastoff! Discovery",null,139.65,null,null,7,null,null,null,null,69,null,null,null,0,null,0]
[null,0,"Herding Dogs","Dog Groups","Blastoff! Discovery",9781644874417,19.95,636.73699999999997,2021,1,32,null,"P",810,69,"Sara Green",null,null,0,null,0]
[null,0,"Hounds","Dog Groups","Blastoff! Discovery",9781644874424,19.95,636.75300000000004,2021,1,32,null,"P",760,69,"Sara Green",null,null,0,null,0]
[null,0,"Non-sporting Dogs","Dog Groups","Blastoff! Discovery",9781644874431,19.95,636.70000000000005,2021,1,32,null,"P",620,69,"Elizabeth Noll",null,null,0,null,0]
[null,0,"Sporting Dogs","Dog Groups","Blastoff! Discovery",9781644874448,19.95,636.75,2021,1,32,null,"P",770,69,"Emily Rose Oachs",null,null,0,null,0]
[null,0,"Terriers","Dog Groups","Blastoff! Discovery",9781644874455,19.95,636.755,2021,1,32,null,"P",840,69,"Sara Green",null,null,0,null,0]
[null,0,"Toy Dogs","Dog Groups","Blastoff! Discovery",9781644874462,19.95,636.76,2021,1,32,null,"P",650,69,"Elizabeth Noll",null,null,0,null,0]
[null,0,"Working Dogs","Dog Groups","Blastoff! Discovery",9781644874479,19.95,636.73,2021,1,32,null,"P",780,69,"Emily Rose Oachs",null,null,0,null,0]
[null,0,"Country Profiles Set (72)","Country Profiles","Blastoff! Discovery",null,1436.4,null,null,72,null,null,null,null,"70 & 71",null,null,null,0,null,0]
[null,0,"Afghanistan","Country Profiles","Blastoff! Discovery",9781626178397,19.95,958.1,2019,1,32,5,"S",820,"70 & 71","Amy Rechner",null,null,0,null,0]
[null,0,"Argentina","Country Profiles","Blastoff! Discovery","9781644870464",19.95,982,2020,1,32,"5.0","S",830,"70 & 71","Christina Leaf",null,null,0,null,0]
[null,0,"Australia","Country Profiles","Blastoff! Discovery",9781626176751,19.95,994,2018,1,32,4.9000000000000004,"S",810,"70 & 71","Marty Gitlin",null,null,0,null,0]
[null,0,"Austria","Country Profiles","Blastoff! Discovery",9781644876091,19.95,943.6,2022,1,32,null,"R",790,"70 & 71","Alicia Z. Klepeis",null,null,0,null,0]
[null,0,"Belgium","Country Profiles","Blastoff! Discovery","9781644871652",19.95,949.3,2020,1,32,5,"R",800,"70 & 71","Chris Bowman",null,null,0,null,0]
[null,0,"Belize","Country Profiles","Blastoff! Discovery",9781644877456,19.95,972.82,2023,1,32,null,"R",790,"70 & 71","Alicia Z. Klepeis",null,null,0,null,0]
[null,0,"Brazil","Country Profiles","Blastoff! Discovery",9781626176768,19.95,981,2018,1,32,4.7,"S",810,"70 & 71","Marty Gitlin",null,null,0,null,0]
[null,0,"Cambodia","Country Profiles","Blastoff! Discovery",9781626179592,19.95,959.6,2019,1,32,5,"R","840","70 & 71","Alicia Z. Klepeis",null,null,0,null,0]
[null,0,"Canada","Country Profiles","Blastoff! Discovery",9781626176775,19.95,971,2018,1,32,4.5999999999999996,"S",810,"70 & 71","Emily Rose Oachs",null,null,0,null,0]
[null,0,"Chile","Country Profiles","Blastoff! Discovery","9781644871676",19.95,972.84,2020,1,32,4.9000000000000004,"R",850,"70 & 71","Chris Bowman",null,null,0,null,{"$f":"A1002*J1002","v":0}]
[null,0,"China","Country Profiles","Blastoff! Discovery",9781626176782,19.95,951,2018,1,32,4.7,"S",800,"70 & 71","Emily Rose Oachs",null,null,0,null,0]
[null,0,"Colombia","Country Profiles","Blastoff! Discovery",9781644872512,19.95,"986.1",2021,1,32,null,"R",800,"70 & 71","Golriz Golkar",null,null,0,null,0]
[null,0,"Costa Rica","Country Profiles","Blastoff! Discovery","9781644870471",19.95,972.86,2020,1,32,5.0999999999999996,"S",860,"70 & 71","Alicia Z. Klepeis",null,null,0,null,0]
[null,0,"Cuba","Country Profiles","Blastoff! Discovery",9781626178403,19.95,972.91,2019,1,32,4.9000000000000004,"S",830,"70 & 71","Amy Rechner",null,null,0,null,0]
[null,0,"Czech Republic, The","Country Profiles","Blastoff! Discovery",9781644872529,19.95,"943.71",2021,1,32,null,"R",770,"70 & 71","Alicia Z. Klepeis",null,null,0,null,0]
[null,0,"Denmark","Country Profiles","Blastoff! Discovery","9781644870488",19.95,948.9,2020,1,32,5.0999999999999996,"S",860,"70 & 71","Christina Leaf",null,null,0,null,0]
[null,0,"Dominican Republic, The","Country Profiles","Blastoff! Discovery",9781626178410,19.95,972.93,2019,1,32,5.0999999999999996,"S",830,"70 & 71","Amy Rechner",null,null,0,null,0]
[null,0,"Ecuador","Country Profiles","Blastoff! Discovery",9781644876107,19.95,986.6,2022,1,32,null,"R",770,"70 & 71","Golriz Golkar",null,null,0,null,0]
[null,0,"Egypt","Country Profiles","Blastoff! Discovery",9781626178427,19.95,962,2019,1,32,5.0999999999999996,"S",820,"70 & 71","Amy Rechner",null,null,0,null,0]
[null,0,"El Salvador","Country Profiles","Blastoff! Discovery","9781644871669",19.95,983,2020,1,32,4.8,"R",860,"70 & 71","Chris Bowman",null,null,0,null,0]
[null,0,"England","Country Profiles","Blastoff! Discovery",9781626176799,19.95,942,2018,1,32,4.7,"S",770,"70 & 71","Amy Rechner",null,null,0,null,0]
[null,0,"Ethiopia","Country Profiles","Blastoff! Discovery",9781644877463,19.95,963,2023,1,32,null,"R",800,"70 & 71","Alicia Z. Klepeis",null,null,0,null,0]
[null,0,"France","Country Profiles","Blastoff! Discovery",9781626176805,19.95,944,2018,1,32,5,"S",820,"70 & 71","Amy Rechner",null,null,0,null,0]
[null,0,"Germany","Country Profiles","Blastoff! Discovery",9781626177321,19.95,943,2018,1,32,4.7,"S",810,"70 & 71","Amy Rechner",null,null,0,null,0]
[null,0,"Greece","Country Profiles","Blastoff! Discovery","9781644870495",19.95,949.5,2020,1,32,"5.0","T",800,"70 & 71","Christina Leaf",null,null,0,null,0]
[null,0,"Guatemala","Country Profiles","Blastoff! Discovery",9781626179608,19.95,972.81,2019,1,32,4.9000000000000004,"R","800","70 & 71","Alicia Z. Klepeis",null,null,0,null,0]
[null,0,"Haiti","Country Profiles","Blastoff! Discovery","9781644871683",19.95,972.94,2020,1,32,4.8,"R",780,"70 & 71","Alicia Z. Klepeis",null,null,0,null,0]
[null,0,"Honduras","Country Profiles","Blastoff! Discovery",9781644874486,19.95,972.83,2021,1,32,null,"R",840,"70 & 71","Golriz Golkar",null,null,0,null,0]
[null,0,"Hungary","Country Profiles","Blastoff! Discovery",9781644877470,19.95,943.9,2023,1,32,null,"R",750,"70 & 71","Alicia Z. Klepeis",null,null,0,null,0]
[null,0,"Iceland","Country Profiles","Blastoff! Discovery",9781644872536,19.95,"949.12",2021,1,32,null,"R",760,"70 & 71","Alicia Z. Klepeis",null,null,0,null,0]
[null,0,"India","Country Profiles","Blastoff! Discovery",9781626176812,19.95,954,2018,1,32,4.9000000000000004,"S",800,"70 & 71","Emily Rose Oachs",null,null,0,null,0]
[null,0,"Indonesia","Country Profiles","Blastoff! Discovery","9781644870501",19.95,959.8,2020,1,32,4.9000000000000004,"T",800,"70 & 71","Christina Leaf",null,null,0,null,0]
[null,0,"Iran","Country Profiles","Blastoff! Discovery","9781644871690",19.95,955,2020,1,32,4.9000000000000004,"R",800,"70 & 71","Alicia Z. Klepeis",null,null,0,null,0]
[null,0,"Iraq","Country Profiles","Blastoff! Discovery",9781626176829,19.95,956.7,2018,1,32,4.9000000000000004,"S",810,"70 & 71","Emily Rose Oachs",null,null,0,null,0]
[null,0,"Ireland","Country Profiles","Blastoff! Discovery",9781626177338,19.95,941.7,2018,1,32,4.7,"S",790,"70 & 71","Amy Rechner",null,null,0,null,0]
[null,0,"Israel","Country Profiles","Blastoff! Discovery",9781626177345,19.95,956.94,2018,1,32,"5.0","S",820,"70 & 71","Amy Rechner",null,null,0,null,0]
[null,0,"Italy","Country Profiles","Blastoff! Discovery",9781626176836,19.95,945,2018,1,32,4.8,"S",780,"70 & 71","Amy Rechner",null,null,0,null,0]
[null,0,"Jamaica","Country Profiles","Blastoff! Discovery",9781644876114,19.95,972.92,2022,1,32,null,"R",760,"70 & 71","Golriz Golkar",null,null,0,null,0]
[null,0,"Japan","Country Profiles","Blastoff! Discovery",9781626176843,19.95,952,2018,1,32,4.9000000000000004,"S",840,"70 & 71","Marty Gitlin",null,null,0,null,0]
[null,0,"Jordan","Country Profiles","Blastoff! Discovery",9781626178434,19.95,956.95,2019,1,32,4.8,"S",780,"70 & 71","Amy Rechner",null,null,0,null,0]
[null,0,"Kenya","Country Profiles","Blastoff! Discovery",9781626179615,19.95,967.62,2019,1,32,4.8,"R","820","70 & 71","Amy Rechner",null,null,0,null,0]
[null,0,"Madagascar","Country Profiles","Blastoff! Discovery",9781644874493,19.95,969.1,2021,1,32,null,"R",830,"70 & 71","Golriz Golkar",null,null,0,null,0]
[null,0,"Malaysia","Country Profiles","Blastoff! Discovery",9781644876121,19.95,959.5,2022,1,32,null,"R",790,"70 & 71","Alicia Z. Klepeis",null,null,0,null,0]
[null,0,"Mexico","Country Profiles","Blastoff! Discovery",9781626176850,19.95,972,2018,1,32,4.8,"S",810,"70 & 71","Marty Gitlin",null,null,0,null,0]
[null,0,"Morocco","Country Profiles","Blastoff! Discovery","9781644871706",19.95,964,2020,1,32,5,"R",800,"70 & 71","Alicia Z. Klepeis",null,null,0,null,0]
[null,0,"Nepal","Country Profiles","Blastoff! Discovery",9781644874509,19.95,954.96,2021,1,32,null,"R",770,"70 & 71","Alicia Z. Klepeis",null,null,0,null,0]
[null,0,"New Zealand","Country Profiles","Blastoff! Discovery",9781644874516,19.95,993,2021,1,32,null,"R",790,"70 & 71","Alicia Z. Klepeis",null,null,0,null,0]
[null,0,"Nigeria","Country Profiles","Blastoff! Discovery",9781644872543,19.95,"966.9",2021,1,32,null,"R",800,"70 & 71","Golriz Golkar",null,null,{"$f":"IF(A1040>0,1,0)","v":0},null,0]
[null,{"$f":"A1041*G1041","v":0},"Norway","Country Profiles","Blastoff! Discovery","9781644871713",19.95,948.1,2020,1,32,4.9000000000000004,"R",850,"70 & 71","Chris Bowman",null,null,0,null,0]
[null,0,"Pakistan","Country Profiles","Blastoff! Discovery","9781644870525",19.95,954.91,2020,1,32,4.8,"S",770,"70 & 71","Alicia Z. Klepeis",null,null,0,null,0]
[null,0,"Panama","Country Profiles","Blastoff! Discovery",9781644877487,19.95,972.87,2023,1,32,null,"R",780,"70 & 71","Alicia Z. Klepeis",null,null,0,null,0]
[null,0,"Peru","Country Profiles","Blastoff! Discovery",9781626179622,19.95,985,2019,1,32,5,"R","820","70 & 71","Alicia Z. Klepeis",null,null,0,null,0]
[null,0,"Philippines, The","Country Profiles","Blastoff! Discovery",9781644872550,19.95,"959.9",2021,1,32,null,"R",800,"70 & 71","Alicia Z. Klepeis",null,null,0,null,0]
[null,0,"Poland","Country Profiles","Blastoff! Discovery",9781644876138,19.95,943.8,2022,1,32,null,"R",780,"70 & 71","Alicia Z. Klepeis",null,null,0,null,0]
[null,0,"Portugal","Country Profiles","Blastoff! Discovery",9781644872567,19.95,"946.9",2021,1,32,null,"R",800,"70 & 71","Golriz Golkar",null,null,0,null,0]
[null,0,"Russia","Country Profiles","Blastoff! Discovery",9781626176867,19.95,947,2018,1,32,4.8,"S",840,"70 & 71","Amy Rechner",null,null,0,null,0]
[null,0,"Saudi Arabia","Country Profiles","Blastoff! Discovery",9781644872574,19.95,"953.8",2021,1,32,null,"R",790,"70 & 71","Golriz Golkar",null,null,0,null,0]
[null,0,"Scotland","Country Profiles","Blastoff! Discovery","9781644870532",19.95,941.1,2020,1,32,4.8,"S",840,"70 & 71","Alicia Z. Klepeis",null,null,0,null,0]
[null,0,"Singapore","Country Profiles","Blastoff! Discovery",9781644877494,19.95,959.57,2023,1,32,null,"R",770,"70 & 71","Nicole E. Rodriguez Mata",null,null,0,null,0]
[null,0,"Somalia","Country Profiles","Blastoff! Discovery",9781644876145,19.95,967.73,2022,1,32,null,"R",730,"70 & 71","Golriz Golkar",null,null,0,null,0]
[null,0,"South Africa","Country Profiles","Blastoff! Discovery",9781644872581,19.95,"968",2021,1,32,null,"R",770,"70 & 71","Alicia Z. Klepeis",null,null,0,null,0]
[null,0,"South Korea","Country Profiles","Blastoff! Discovery","9781644871720",19.95,951.95,2020,1,32,4.9000000000000004,"R",820,"70 & 71","Alicia Z. Klepeis",null,null,0,null,0]
[null,0,"South Sudan","Country Profiles","Blastoff! Discovery",9781626179639,19.95,962.9,2019,1,32,4.9000000000000004,"R","810","70 & 71","Amy Rechner",null,null,0,null,0]
[null,0,"Spain","Country Profiles","Blastoff! Discovery",9781626178441,19.95,946,2019,1,32,4.9000000000000004,"R",880,"70 & 71","Amy Rechner",null,null,0,null,0]
[null,0,"Sweden","Country Profiles","Blastoff! Discovery",9781626177352,19.95,948.5,2018,1,32,4.9000000000000004,"S",830,"70 & 71","Amy Rechner",null,null,0,null,0]
[null,0,"Switzerland","Country Profiles","Blastoff! Discovery",9781626179646,19.95,949.4,2019,1,32,4.9000000000000004,"R","790","70 & 71","Amy Rechner",null,null,0,null,0]
[null,0,"Thailand","Country Profiles","Blastoff! Discovery",9781626177369,19.95,959.3,2018,1,32,4.7,"S",800,"70 & 71","Emily Rose Oachs",null,null,0,null,0]
[null,0,"The Netherlands","Country Profiles","Blastoff! Discovery","9781644870518",19.95,949.2,2020,1,32,5.0999999999999996,"T",760,"70 & 71","Alicia Z. Klepeis",null,null,0,null,0]
[null,0,"Turkey","Country Profiles","Blastoff! Discovery",9781644874523,19.95,956.1,2021,1,32,null,"R",840,"70 & 71","Golriz Golkar",null,null,0,null,0]
[null,0,"Ukraine","Country Profiles","Blastoff! Discovery",9781644874530,19.95,947.7,2021,1,32,null,"R",830,"70 & 71","Alicia Z. Klepeis",null,null,0,null,0]
[null,0,"Venezuela","Country Profiles","Blastoff! Discovery",9781644877500,19.95,987,2023,1,32,null,"R",760,"70 & 71","Nicole E. Rodriguez Mata",null,null,0,null,0]
[null,0,"Vietnam","Country Profiles","Blastoff! Discovery",9781626177376,19.95,959.7,2018,1,32,4.5999999999999996,"S",820,"70 & 71","Emily Rose Oachs",null,null,0,null,0]
[null,0,"The World of Dinosaurs Set (18 titles)","The World of Dinosaurs","Epic",null,359.1,null,null,18,null,null,null,null,"74 & 75",null,null,null,0,null,0]
[null,0,"Allosaurus","The World of Dinosaurs","Epic",9781644872901,19.95,567.91200000000003,2021,1,24,2.9,"O",550,"74 & 75","Rebecca Sabelko",null,null,0,null,{"$f":"A1066*J1066","v":0}]
[null,0,"Ankylosaurus","The World of Dinosaurs","Epic","9781644870860",19.95,567.91499999999996,2020,1,24,"3.0","M",580,"74 & 75","Rebecca Sabelko",null,null,0,null,0]
[null,0,"Apatosaurus","The World of Dinosaurs","Epic",9781644872918,19.95,567.91300000000001,2021,1,24,2.7,"O",530,"74 & 75","Rebecca Sabelko",null,null,0,null,0]
[null,0,"Archaeopteryx","The World of Dinosaurs","Epic",9781644875421,19.95,568,2022,1,24,2.8,"O",520,"74 & 75","Jennifer Sanderson",null,null,0,null,0]
[null,0,"Argentinosaurus","The World of Dinosaurs","Epic",9781644874684,19.95,567.91499999999996,2021,1,24,2.8,"O",550,"74 & 75","Rebecca Sabelko",null,null,0,null,0]
[null,0,"Brachiosaurus","The World of Dinosaurs","Epic",9781644875438,19.95,567.91300000000001,2022,1,24,2.8,"O",520,"74 & 75","Jennifer Sanderson",null,null,0,null,0]
[null,0,"Diplodocus","The World of Dinosaurs","Epic","9781644870877",19.95,567.91300000000001,2020,1,24,2.9,"M",530,"74 & 75","Rebecca Sabelko",null,null,0,null,0]
[null,0,"Giganotosaurus","The World of Dinosaurs","Epic",9781644875445,19.95,567.91200000000003,2022,1,24,2.8,"Q",570,"74 & 75","Jennifer Sanderson",null,null,0,null,0]
[null,0,"Iguanodon","The World of Dinosaurs","Epic",9781644874691,19.95,567.91399999999999,2021,1,24,2.8,"O",530,"74 & 75","Rebecca Sabelko",null,null,0,null,0]
[null,0,"Nasutoceratops","The World of Dinosaurs","Epic",9781644875452,19.95,567.91499999999996,2022,1,24,2.8,"O",540,"74 & 75","Jennifer Sanderson",null,null,0,null,0]
[null,0,"Oviraptor","The World of Dinosaurs","Epic",9781644872925,19.95,567.91200000000003,2021,1,24,2.8,"O",540,"74 & 75","Rebecca Sabelko",null,null,0,null,0]
[null,0,"Parasaurolophus","The World of Dinosaurs","Epic",9781644872932,19.95,567.91399999999999,2021,1,24,2.8,"O",560,"74 & 75","Rebecca Sabelko",null,null,0,null,0]
[null,0,"Spinosaurus","The World of Dinosaurs","Epic",9781644874707,19.95,567.91200000000003,2021,1,24,2.8,"O",490,"74 & 75","Rebecca Sabelko",null,null,0,null,0]
[null,0,"Stegosaurus","The World of Dinosaurs","Epic","9781644870884",19.95,567.91499999999996,2020,1,24,2.9,"M",550,"74 & 75","Rebecca Sabelko",null,null,0,null,0]
[null,0,"Triceratops","The World of Dinosaurs","Epic","9781644870891",19.95,567.91499999999996,2020,1,24,2.9,"M",550,"74 & 75","Rebecca Sabelko",null,null,0,null,0]
[null,0,"Tyrannosaurus Rex","The World of Dinosaurs","Epic","9781644870907",19.95,567.91200000000003,2020,1,24,"3.0","M",660,"74 & 75","Rebecca Sabelko",null,null,0,null,0]
[null,0,"Utahraptor","The World of Dinosaurs","Epic",9781644874714,19.95,567.91200000000003,2021,1,24,3,"O",610,"74 & 75","Rebecca Sabelko",null,null,0,null,0]
[null,0,"Velociraptor","The World of Dinosaurs","Epic","9781644870914",19.95,567.91200000000003,2020,1,24,"3.0","M",550,"74 & 75","Rebecca Sabelko",null,null,0,null,0]
[null,0,"Favorite Toys Set (10)","Favorite Toys","Epic",null,199.5,null,null,10,null,null,null,null,76,null,null,null,0,null,0]
[null,0,"Action Figures","Favorite Toys","Epic",9781644876336,19.95,688.7,2022,1,24,null,"M",520,76,"Chris Bowman",null,null,0,null,0]
[null,0,"Barbie Dolls","Favorite Toys","Epic",9781644876343,19.95,688.7,2022,1,24,null,"M",520,76,"Nathan Sommer",null,null,0,null,0]
[null,0,"Bicycles","Favorite Toys","Epic",9781644876350,19.95,629.22699999999998,2022,1,24,null,"M",570,76,"Nathan Sommer",null,null,0,null,0]
[null,0,"Board Games","Favorite Toys","Epic",9781644877692,19.95,794,2023,1,24,null,"N",590,76,"Paige V. Polinsky",null,null,0,null,0]
[null,0,"LEGO Bricks","Favorite Toys","Epic",9781644876367,19.95,688.7,2022,1,24,null,"M",540,76,"Chris Bowman",null,null,0,null,0]
[null,0,"Nerf Blasters","Favorite Toys","Epic",9781644876374,19.95,688.7,2022,1,24,null,"M",540,76,"Nathan Sommer",null,null,0,null,0]
[null,0,"Skateboards","Favorite Toys","Epic",9781644876381,19.95,796.22,2022,1,24,null,"M",500,76,"Chris Bowman",null,null,0,null,0]
[null,0,"Super Soakers","Favorite Toys","Epic",9781644877708,19.95,790.1,2023,1,24,null,"N",560,76,"Paige V. Polinsky",null,null,0,null,0]
[null,0,"Toy Cars","Favorite Toys","Epic",9781644877715,19.95,629.22,2023,1,24,null,"N",630,76,"Paige V. Polinsky",null,null,0,null,0]
[null,0,"Transformers","Favorite Toys","Epic",9781644877722,19.95,790.1,2023,1,24,null,"N",500,76,"Paige V. Polinsky",null,null,0,null,0]
[null,0,"Cool Cars Set (10)","Cool Cars","Epic",null,199.5,null,null,10,null,null,null,null,77,null,null,null,0,null,0]
[null,0,"Aston Martin Valhalla","Cool Cars","Epic",9781644877739,19.95,629.22199999999998,2023,1,24,null,"Q",570,77,"Nathan Sommer",null,null,0,null,0]
[null,0,"Bugatti Chiron","Cool Cars","Epic",9781644877746,19.95,629.22199999999998,2023,1,24,null,"Q",690,77,"Nathan Sommer",null,null,0,null,0]
[null,0,"Chevrolet Corvette Stingray","Cool Cars","Epic",9781644877753,19.95,629.22199999999998,2023,1,24,null,"Q",540,77,"Nathan Sommer",null,null,0,null,0]
[null,0,"Ferrari 812 Superfast","Cool Cars","Epic",9781644877760,19.95,629.22199999999998,2023,1,24,null,"Q",540,77,"Nathan Sommer",null,null,0,null,0]
[null,0,"Ferrari F8 Tributo","Cool Cars","Epic",9781644877777,19.95,629.22199999999998,2023,1,24,null,"Q",600,77,"Nathan Sommer",null,null,0,null,0]
[null,0,"Lamborghini Huracán Evo","Cool Cars","Epic",9781644877784,19.95,629.22199999999998,2023,1,24,null,"Q",620,77,"Thomas K. Adamson",null,null,0,null,0]
[null,0,"Lamborghini Sián","Cool Cars","Epic",9781644877791,19.95,629.22199999999998,2023,1,24,null,"Q",530,77,"Thomas K. Adamson",null,null,0,null,0]
[null,0,"Lotus Evija","Cool Cars","Epic",9781644877807,19.95,629.22199999999998,2023,1,24,null,"Q",590,77,"Nathan Sommer",null,null,0,null,0]
[null,0,"McLaren 720S","Cool Cars","Epic",9781644877814,19.95,629.22799999999995,2023,1,24,null,"Q",520,77,"Thomas K. Adamson",null,null,{"$f":"IF(A1104>0,1,0)","v":0},null,0]
[null,{"$f":"A1105*G1105","v":0},"Porsche Taycan","Cool Cars","Epic",9781644877821,19.95,629.22199999999998,2023,1,24,null,"Q",600,77,"Thomas K. Adamson",null,null,0,null,0]
[null,0,"Cutting-edge Technology Set (6)","Cutting-edge Technology","Epic",null,119.7,null,null,6,null,null,null,null,78,null,null,null,0,null,0]
[null,0,"Artificial Intelligence","Cutting-edge Technology","Epic",9781644872840,19.95,"*006.3",2021,1,24,null,null,500,78,"Betsy Rathburn",null,null,0,null,0]
[null,0,"Bionic Pets","Cutting-edge Technology","Epic",9781644872857,19.95,636.08900000000006,2021,1,24,null,null,530,78,"Betsy Rathburn",null,null,0,null,0]
[null,0,"Drones","Cutting-edge Technology","Epic",9781644872864,19.95,629.13300000000004,2021,1,24,null,null,620,78,"Betsy Rathburn",null,null,0,null,0]
[null,0,"Nanotechnology","Cutting-edge Technology","Epic",9781644872871,19.95,620,2021,1,24,null,null,520,78,"Betsy Rathburn",null,null,0,null,0]
[null,0,"Self-Driving Cars","Cutting-edge Technology","Epic",9781644872888,19.95,629.22199999999998,2021,1,24,null,"O",540,78,"Betsy Rathburn",null,null,0,null,0]
[null,0,"Virtual Reality","Cutting-edge Technology","Epic",9781644872895,19.95,"*006.8",2021,1,24,null,"O",610,78,"Betsy Rathburn",null,null,0,null,0]
[null,0,"A Pet What?! Set (6)","A Pet What?!","Epic",null,119.7,null,null,6,null,null,null,null,78,null,null,null,0,null,0]
[null,0,"My Pet Ferret","A Pet What?!","Epic",9781644871812,19.95,636.976,2020,1,24,2.6,"M",480,78,"Paige V. Polinsky",null,null,0,null,0]
[null,0,"My Pet Hedgehog","A Pet What?!","Epic",9781644871829,19.95,636.93299999999999,2020,1,24,2.7,"M",540,78,"Paige V. Polinsky",null,null,0,null,0]
[null,0,"My Pet Mini Horse","A Pet What?!","Epic",9781644871836,19.95,636.1,2020,1,24,2.7,"M",500,78,"Paige V. Polinsky",null,null,0,null,0]
[null,0,"My Pet Mini Pig","A Pet What?!","Epic",9781644871843,19.95,636.4,2020,1,24,2.6,"M",530,78,"Paige V. Polinsky",null,null,0,null,0]
[null,0,"My Pet Rat","A Pet What?!","Epic",9781644871850,19.95,636.93499999999995,2020,1,24,2.5,"M",490,78,"Paige V. Polinsky",null,null,0,null,0]
[null,0,"My Pet Sugar Glider","A Pet What?!","Epic",9781644871867,19.95,599.20000000000005,2020,1,24,2.6,"M",470,78,"Paige V. Polinsky",null,null,0,null,0]
[null,0,"Global Ghost Stories Set (6)","Global Ghost Stories","Epic",null,119.7,null,null,6,null,null,null,null,79,null,null,null,0,null,0]
[null,0,"Ghosts in Africa","Global Ghost Stories","Epic",9781644875360,19.95,133.1096,2022,1,24,2.9,"Q",570,79,"Christina Leaf",null,null,0,null,0]
[null,0,"Ghosts in Asia","Global Ghost Stories","Epic",9781644875377,19.95,133.1095,2022,1,24,2.9,"Q",510,79,"Monika Davies",null,null,0,null,0]
[null,0,"Ghosts in Australia","Global Ghost Stories","Epic",9781644875384,19.95,133.10993999999999,2022,1,24,2.7,"Q",540,79,"Paige V. Polinsky",null,null,0,null,0]
[null,0,"Ghosts in Europe","Global Ghost Stories","Epic",9781644875391,19.95,133.10939999999999,2022,1,24,2.9,"Q",550,79,"Paige V. Polinsky",null,null,0,null,0]
[null,0,"Ghosts in North America","Global Ghost Stories","Epic",9781644875407,19.95,133.1097,2022,1,24,2.8,"Q",540,79,"Paige V. Polinsky",null,null,0,null,0]
[null,0,"Ghosts in South America","Global Ghost Stories","Epic",9781644875414,19.95,133.1,2022,1,24,2.6,"Q",550,79,"Nicole E. Rodriguez Mata",null,null,0,null,0]
[null,0,"Ghost Stories Set (8)","Ghost Stories","Epic",null,159.6,null,null,8,null,null,null,null,79,null,null,null,0,null,0]
[null,0,"Ghosts at Sea","Ghost Stories","Epic",9781626174252,19.95,133.1,2017,1,24,"3.2","L",390,79,"Lisa Owings",null,null,0,null,0]
[null,0,"Ghosts in Battlefields","Ghost Stories","Epic",9781626174269,19.95,133.1,2017,1,24,"3.3","L",360,79,"Lisa Owings",null,null,0,null,0]
[null,0,"Ghosts in Cemeteries","Ghost Stories","Epic",9781626174276,19.95,133.1,2017,1,24,"3.1","L",370,79,"Lisa Owings",null,null,0,null,{"$f":"A1130*J1130","v":0}]
[null,0,"Ghosts in Hotels","Ghost Stories","Epic",9781626174283,19.95,133.1,2017,1,24,"3.2","L",380,79,"Lisa Owings",null,null,0,null,0]
[null,0,"Ghosts in Mansions","Ghost Stories","Epic",9781626174290,19.95,133.1,2017,1,24,"3.3","L",340,79,"Lisa Owings",null,null,0,null,0]
[null,0,"Ghosts in Palaces","Ghost Stories","Epic",9781626174306,19.95,133.1,2017,1,24,"3.2","L",340,79,"Lisa Owings",null,null,0,null,0]
[null,0,"Ghosts in Prisons","Ghost Stories","Epic",9781626174313,19.95,133.1,2017,1,24,"3.3","L",350,79,"Lisa Owings",null,null,0,null,0]
[null,0,"Ghosts in the White House","Ghost Stories","Epic",9781626174320,19.95,133.1,2017,1,24,"3.3","L",480,79,"Lisa Owings",null,null,0,null,0]
[null,0,"Birds of Prey Set (6)","Birds of Prey","Epic",null,119.7,null,null,6,null,null,null,null,80,null,null,null,0,null,0]
[null,0,"Eagles","Birds of Prey","Epic",9781626178786,19.95,598.9,2019,1,24,3,"L",660,80,"Nathan Sommer",null,null,0,null,0]
[null,0,"Falcons","Birds of Prey","Epic",9781626178793,19.95,598.9,2019,1,24,3,"L",550,80,"Nathan Sommer",null,null,0,null,0]
[null,0,"Hawks","Birds of Prey","Epic",9781626178809,19.95,598.9,2019,1,24,2.9,"L",550,80,"Nathan Sommer",null,null,0,null,0]
[null,0,"Kites","Birds of Prey","Epic",9781626178779,19.95,598.9,2019,1,24,3,"L",580,80,"Nathan Sommer",null,null,0,null,0]
[null,0,"Owls","Birds of Prey","Epic",9781626178816,19.95,598.9,2019,1,24,2.8,"L",530,80,"Nathan Sommer",null,null,0,null,0]
[null,0,"Vultures","Birds of Prey","Epic",9781626178823,19.95,598.9,2019,1,24,3,"L",570,80,"Nathan Sommer",null,null,0,null,0]
[null,0,"Space Tech Set (8)","Space Tech","Epic",null,159.6,null,null,8,null,null,null,null,80,null,null,null,0,null,0]
[null,0,"Earth Satellites","Space Tech","Epic",9781626176997,19.95,629.42999999999995,2018,1,24,2.8,"M",560,80,"Allan Morey",null,null,0,null,0]
[null,0,"Hubble Space Telescope, The","Space Tech","Epic",9781626177000,19.95,522.29190000000006,2018,1,24,3,"M",630,80,"Allan Morey",null,null,0,null,0]
[null,0,"International Space Station, The","Space Tech","Epic",9781626177017,19.95,629.44000000000005,2018,1,24,2.8,"M",600,80,"Allan Morey",null,null,0,null,0]
[null,0,"Lunar Probes","Space Tech","Epic",9781626177024,19.95,629.42999999999995,2018,1,24,2.8,"M",610,80,"Allan Morey",null,null,0,null,0]
[null,0,"Mars Rovers","Space Tech","Epic",9781626177031,19.95,629.20000000000005,2018,1,24,2.9,"M",590,80,"Allan Morey",null,null,0,null,0]
[null,0,"Robonauts","Space Tech","Epic",9781626177048,19.95,629.42999999999995,2018,1,24,3,"M",660,80,"Allan Morey",null,null,0,null,0]
[null,0,"Rockets","Space Tech","Epic",9781626177055,19.95,629.47,2018,1,24,2.8,"L",700,80,"Allan Morey",null,null,0,null,0]
[null,0,"Space Shuttles","Space Tech","Epic",9781626177062,19.95,629.44000000000005,2018,1,24,2.8,"M",620,80,"Allan Morey",null,null,0,null,0]
[null,0,"Full Throttle Set (12)","Full Throttle","Epic",null,239.4,null,null,12,null,null,null,null,81,null,null,null,0,null,0]
[null,0,"4x4 Trucks","Full Throttle","Epic",9781626178694,19.95,629.22299999999996,2019,1,24,2.9,"M",660,81,"Lindsay Shaffer",null,null,0,null,0]
[null,0,"ATVs","Full Throttle","Epic",9781626178700,19.95,629.22799999999995,2019,1,24,2.9,"L",570,81,"Lindsay Shaffer",null,null,0,null,0]
[null,0,"Dirt Bikes","Full Throttle","Epic",9781626178717,19.95,629.22699999999998,2019,1,24,2.9,"L",700,81,"Lindsay Shaffer",null,null,0,null,0]
[null,0,"Dragsters","Full Throttle","Epic",9781626179318,19.95,629.22799999999995,2019,1,24,3,"L",600,81,"Thomas K. Adamson",null,null,0,null,0]
[null,0,"Hot Rods","Full Throttle","Epic",9781626178724,19.95,629.22799999999995,2019,1,24,2.9,"M",720,81,"Thomas K. Adamson",null,null,0,null,0]
[null,0,"Indy Cars","Full Throttle","Epic",9781626179325,19.95,629.22850000000005,2019,1,24,2.8,"L",550,81,"Thomas K. Adamson",null,null,0,null,0]
[null,0,"Karts","Full Throttle","Epic",9781626179332,19.95,629.22850000000005,2019,1,24,2.7,"L",580,81,"Thomas K. Adamson",null,null,0,null,0]
[null,0,"Lowriders","Full Throttle","Epic",9781626178731,19.95,629.22199999999998,2019,1,24,2.8,"M",520,81,"Thomas K. Adamson",null,null,0,null,0]
[null,0,"Monster Trucks","Full Throttle","Epic",9781626178748,19.95,629.22400000000005,2019,1,24,3,"M",550,81,"Thomas K. Adamson",null,null,0,null,0]
[null,0,"Motocross Cycles","Full Throttle","Epic",9781626178755,19.95,629.22699999999998,2019,1,24,2.9,"M",590,81,"Lindsay Shaffer",null,null,0,null,0]
[null,0,"Sports Cars","Full Throttle","Epic",9781626179349,19.95,629.22209999999995,2019,1,24,2.9,"L",620,81,"Thomas K. Adamson",null,null,0,null,0]
[null,0,"Stock Cars","Full Throttle","Epic",9781626178762,19.95,629.22799999999995,2019,1,24,2.8,"M",590,81,"Thomas K. Adamson",null,null,0,null,0]
[null,0,"Extreme Sports Set (10)","Extreme Sports","Epic",null,199.5,null,null,10,null,null,null,null,81,null,null,null,0,null,0]
[null,0,"Big Air Skateboarding","Extreme Sports","Epic",9781626172722,19.95,796.22,2016,1,24,"3.2","M",540,81,"Thomas K. Adamson",null,null,0,null,0]
[null,0,"Big Air Snowboarding","Extreme Sports","Epic",9781626173514,19.95,796.93899999999996,2016,1,24,"3.2","M",610,81,"Thomas K. Adamson",null,null,0,null,0]
[null,0,"BMX Freestyle","Extreme Sports","Epic",9781626172739,19.95,796.6,2016,1,24,"3.0","M",570,81,"Thomas K. Adamson",null,null,{"$f":"IF(A1168>0,1,0)","v":0},null,0]
[null,{"$f":"A1169*G1169","v":0},"BMX Racing","Extreme Sports","Epic",9781626172746,19.95,796.62199999999996,2016,1,24,"2.9","L",490,81,"Thomas K. Adamson",null,null,0,null,0]
[null,0,"Motocross Freestyle","Extreme Sports","Epic",9781626172753,19.95,796.7,2016,1,24,"3.1","M",600,81,"Thomas K. Adamson",null,null,0,null,0]
[null,0,"Motocross Racing","Extreme Sports","Epic",9781626172760,19.95,796.7,2016,1,24,"3.1","M",540,81,"Thomas K. Adamson",null,null,0,null,0]
[null,0,"Rally Car Racing","Extreme Sports","Epic",9781626173521,19.95,796.7,2016,1,24,"3.1","L",580,81,"Chris Bowman",null,null,0,null,0]
[null,0,"Skateboarding Street Style","Extreme Sports","Epic",9781626172777,19.95,796.22,2016,1,24,"3.1","M",540,81,"Thomas K. Adamson",null,null,0,null,0]
[null,0,"Snowboarding Slopestyle","Extreme Sports","Epic",9781626173538,19.95,796.93899999999996,2016,1,24,"3.1","M",620,81,"Thomas K. Adamson",null,null,0,null,0]
[null,0,"Vert Skateboarding","Extreme Sports","Epic",9781626173545,19.95,796.22,2016,1,24,"3.1","L",540,81,"Chris Bowman",null,null,0,null,0]
[null,0,"Animal Battles Set (22)","Animal Battles","Torque",null,438.9,null,null,22,null,null,null,null,"84 & 85",null,null,null,0,null,0]
[null,0,"Anaconda vs. Jaguar","Animal Battles","Torque",9781644871553,19.95,597.96,2020,1,24,3.7,"P",590,"84 & 85","Thomas K. Adamson",null,null,0,null,0]
[null,0,"Barracuda vs. Moray Eel","Animal Battles","Torque",9781644876237,19.95,597,2022,1,24,3.4,"P",550,"84 & 85","Kieran Downs",null,null,0,null,0]
[null,0,"Dingo vs. Kangaroo","Animal Battles","Torque",9781644875322,19.95,599.77,2022,1,24,3.3,"P",560,"84 & 85","Kieran Downs",null,null,0,null,0]
[null,0,"Giant Otter vs. Caiman","Animal Battles","Torque",9781644876244,19.95,599.76900000000001,2022,1,24,3.7,"P",570,"84 & 85","Kieran Downs",null,null,0,null,0]
[null,0,"Golden Eagle vs. Great Horned Owl","Animal Battles","Torque",9781644872802,19.95,598.9,2021,1,24,4,"P",760,"84 & 85","Nathan Sommer",null,null,0,null,0]
[null,0,"Gorilla vs. Leopard","Animal Battles","Torque",9781644871560,19.95,599.88400000000001,2020,1,24,3.8,"P",610,"84 & 85","Nathan Sommer",null,null,0,null,0]
[null,0,"Great White Shark vs. Killer Whale","Animal Battles","Torque",9781644871577,19.95,597.29999999999995,2020,1,24,3.5,"P",580,"84 & 85","Thomas K. Adamson",null,null,0,null,0]
[null,0,"Grizzly Bear vs. Wolf Pack","Animal Battles","Torque",9781644871584,19.95,599.78399999999999,2020,1,24,3.9,"P",700,"84 & 85","Nathan Sommer",null,null,0,null,0]
[null,0,"King Cobra vs. Mongoose","Animal Battles","Torque",9781644875339,19.95,597.96,2022,1,24,3.6,"P",570,"84 & 85","Kieran Downs",null,null,0,null,0]
[null,0,"Komodo Dragon vs. Orangutan","Animal Battles","Torque",9781644872819,19.95,597.95000000000005,2021,1,24,3.9,"P",730,"84 & 85","Nathan Sommer",null,null,0,null,0]
[null,0,"Lion vs. Cape Buffalo","Animal Battles","Torque",9781644874608,19.95,599.75699999999995,2021,1,24,3.3,"P",560,"84 & 85","Kieran Downs",null,null,0,null,0]
[null,0,"Lion vs. Hyena Clan","Animal Battles","Torque",9781644871591,19.95,599.75699999999995,2020,1,24,3.7,"P",730,"84 & 85","Nathan Sommer",null,null,0,null,0]
[null,0,"Mountain Lion vs. Coyote","Animal Battles","Torque",9781644874615,19.95,599.75,2021,1,24,3.4,"P",580,"84 & 85","Thomas K. Adamson",null,null,0,null,0]
[null,0,"Nile Crocodile vs. Hippopotamus","Animal Battles","Torque",9781644875346,19.95,597.98,2022,1,24,3.5,"P",560,"84 & 85","Kieran Downs",null,null,0,null,0]
[null,0,"Polar Bear vs. Walrus","Animal Battles","Torque",9781644875353,19.95,599.78599999999994,2022,1,24,3.6,"P",580,"84 & 85","Kieran Downs",null,null,0,null,0]
[null,0,"Praying Mantis vs. Black Widow Spider","Animal Battles","Torque",9781644876251,19.95,595.70000000000005,2022,1,24,3.4,"P",530,"84 & 85","Kieran Downs",null,null,0,null,0]
[null,0,"Rhinoceros vs. African Elephant","Animal Battles","Torque",9781644871607,19.95,599.66,2020,1,24,3.6,"P",590,"84 & 85","Thomas K. Adamson",null,null,0,null,0]
[null,0,"Scorpion vs. Tarantula","Animal Battles","Torque",9781644874622,19.95,595.4,2021,1,24,3.6,"P",550,"84 & 85","Thomas K. Adamson",null,null,0,null,{"$f":"A1194*J1194","v":0}]
[null,0,"Siberian Tiger vs. Brown Bear","Animal Battles","Torque",9781644872826,19.95,599.75599999999997,2021,1,24,3.8,"P",630,"84 & 85","Nathan Sommer",null,null,0,null,0]
[null,0,"Snow Leopard vs. Wild Yak","Animal Battles","Torque",9781644876268,19.95,599.75,2022,1,24,3.5,"P",600,"84 & 85","Kieran Downs",null,null,0,null,0]
[null,0,"Wolf Pack vs. Moose","Animal Battles","Torque",9781644872833,19.95,599.77300000000002,2021,1,24,3.9,"P",710,"84 & 85","Nathan Sommer",null,null,0,null,0]
[null,0,"Wolverine vs. Honey Badger","Animal Battles","Torque",9781644874639,19.95,599.76,2021,1,24,3.5,"P",590,"84 & 85","Kieran Downs",null,null,0,null,0]
[null,0,"Military Science","Military Science","Torque",null,119.7,null,null,6,null,null,null,null,86,null,null,null,0,null,0]
[null,0,"Advanced Weaponry","Military Science","Torque",9781644876275,19.95,355.8,2022,1,24,null,"R",590,86,"Matt Chandler",null,null,0,null,0]
[null,0,"Armor","Military Science","Torque",9781644876282,19.95,355.82418000000001,2022,1,24,null,"R",610,86,"Elizabeth Noll",null,null,0,null,0]
[null,0,"Drones","Military Science","Torque",9781644876299,19.95,623.74,2022,1,24,null,"R",630,86,"Matt Chandler",null,null,0,null,0]
[null,0,"Robotics","Military Science","Torque",9781644876305,19.95,629.79999999999995,2022,1,24,null,"R",620,86,"Betsy Rathburn",null,null,0,null,0]
[null,0,"Stealth Technology","Military Science","Torque",9781644876312,19.95,358.1,2022,1,24,null,"R",560,86,"Elizabeth Noll",null,null,0,null,0]
[null,0,"Surveillance","Military Science","Torque",9781644876329,19.95,623.71,2022,1,24,null,"R",550,86,"Elizabeth Noll",null,null,0,null,0]
[null,0,"Deadly Disasters Set (6)","Deadly Disasters","Torque",null,119.7,null,null,6,null,null,null,null,86,null,null,null,0,null,0]
[null,0,"The Coronavirus Pandemic","Deadly Disasters","Torque",9781644875261,19.95,614.5,2022,1,24,3.8,"Q",570,86,"Nathan Sommer",null,null,0,null,0]
[null,0,"The Eruption of Mount St. Helens","Deadly Disasters","Torque",9781644875278,19.95,363.34950980000002,2022,1,24,3.7,"Q",700,86,"Thomas K. Adamson",null,null,0,null,0]
[null,0,"The Haiti Earthquake","Deadly Disasters","Torque",9781644875285,19.95,363.34,2022,1,24,3.8,"Q",590,86,"Nathan Sommer",null,null,0,null,0]
[null,0,"Hurricane Katrina","Deadly Disasters","Torque",9781644875292,19.95,363.34,2022,1,24,3.8,"Q",630,86,"Thomas K. Adamson",null,null,0,null,0]
[null,0,"The Indian Ocean Tsunami","Deadly Disasters","Torque",9781644875308,19.95,363.34,2022,1,24,3.7,"Q",660,86,"Thomas K. Adamson",null,null,0,null,0]
[null,0,"The Joplin Tornadoes","Deadly Disasters","Torque",9781644875315,19.95,363.34,2022,1,24,3.9,"Q",700,86,"Nathan Sommer",null,null,0,null,0]
[null,0,"Dangerous Journeys Set (6)","Dangerous Journeys","Torque",null,119.7,null,null,6,null,null,null,null,87,null,null,null,0,null,0]
[null,0,"Exploring Antarctica","Dangerous Journeys","Torque",9781644877630,19.95,919.89,2023,1,24,null,"P",620,87,"Allan Morey",null,null,0,null,0]
[null,0,"Exploring Caves","Dangerous Journeys","Torque",9781644877647,19.95,551.44000000000005,2023,1,24,null,"P",530,87,"Betsy Rathburn",null,null,0,null,0]
[null,0,"Exploring Mount Everest","Dangerous Journeys","Torque",9781644877654,19.95,954.96,2023,1,24,null,"P",590,87,"Betsy Rathburn",null,null,0,null,0]
[null,0,"Exploring Space","Dangerous Journeys","Torque",9781644877661,19.95,919.904,2023,1,24,null,"P",610,87,"Allan Morey",null,null,0,null,0]
[null,0,"Exploring the Amazon","Dangerous Journeys","Torque",9781644877678,19.95,577.34098100000006,2023,1,24,null,"P",590,87,"Betsy Rathburn",null,null,0,null,0]
[null,0,"Exploring the Deep Sea","Dangerous Journeys","Torque",9781644877685,19.95,551.46,2023,1,24,null,"P",610,87,"Allan Morey",null,null,0,null,0]
[null,0,"Mythical Creatures Set (12)","Mythical Creatures","Torque",null,239.4,null,null,12,null,null,null,null,87,null,null,null,0,null,0]
[null,0,"Centaurs","Mythical Creatures","Torque",9781644872727,19.95,398,2021,1,24,4.0999999999999996,"S",630,87,"Thomas Kingsley Troupe",null,null,0,null,0]
[null,0,"Dragons","Mythical Creatures","Torque",9781644872734,19.95,398,2021,1,24,3.9,"S",720,87,"Lisa Owings",null,null,0,null,0]
[null,0,"Fairies","Mythical Creatures","Torque",9781644874646,19.95,398.21,2021,1,24,3.4,"S",610,87,"Thomas Kingsley Troupe",null,null,0,null,0]
[null,0,"Giants","Mythical Creatures","Torque",9781644872741,19.95,398,2021,1,24,3.9,"R",650,87,"Thomas Kingsley Troupe",null,null,0,null,0]
[null,0,"Kraken","Mythical Creatures","Torque",9781644874653,19.95,594,2021,1,24,3.9,"S",700,87,"Thomas Kingsley Troupe",null,null,0,null,0]
[null,0,"Mermaids","Mythical Creatures","Torque",9781644872758,19.95,398,2021,1,24,3.9,"S",660,87,"Lisa Owings",null,null,0,null,0]
[null,0,"Phoenixes","Mythical Creatures","Torque",9781644872765,19.95,398,2021,1,24,4,"S",680,87,"Thomas Kingsley Troupe",null,null,0,null,0]
[null,0,"Sea Serpents","Mythical Creatures","Torque",9781644874660,19.95,"*001.944",2021,1,24,3.9,"S",690,87,"Thomas Kingsley Troupe",null,null,0,null,0]
[null,0,"Sphinxes","Mythical Creatures","Torque",9781644874677,19.95,398.21,2021,1,24,4,"S",670,87,"Thomas Kingsley Troupe",null,null,0,null,0]
[null,0,"Trolls","Mythical Creatures","Torque",9781644872772,19.95,398,2021,1,24,3.9,"S",620,87,"Thomas Kingsley Troupe",null,null,0,null,0]
[null,0,"Unicorns","Mythical Creatures","Torque",9781644872789,19.95,398,2021,1,24,3.9,"S",640,87,"Lisa Owings",null,null,0,null,0]
[null,0,"Werewolves","Mythical Creatures","Torque",9781644872796,19.95,398,2021,1,24,4,"T",620,87,"Thomas Kingsley Troupe",null,null,{"$f":"IF(A1232>0,1,0)","v":0},null,0]
[null,{"$f":"A1233*G1233","v":0},"Sports Championships Set (6)","Sports Championships","Torque",null,119.7,null,null,6,null,null,null,null,88,null,null,null,0,null,0]
[null,0,"Final Four, The","Sports Championships","Torque",9781626178632,19.95,796.32299999999998,2019,1,24,3.8,"N",680,88,"Allan Morey",null,null,0,null,0]
[null,0,"NBA Finals, The","Sports Championships","Torque",9781626178649,19.95,796.32299999999998,2019,1,24,3.8,"N",720,88,"Allan Morey",null,null,0,null,0]
[null,0,"Stanley Cup Finals, The","Sports Championships","Torque",9781626178656,19.95,796.96199999999999,2019,1,24,3.9,"N",740,88,"Allan Morey",null,null,0,null,0]
[null,0,"Super Bowl, The","Sports Championships","Torque",9781626178663,19.95,796.33199999999999,2019,1,24,3.9,"N",740,88,"Allan Morey",null,null,0,null,0]
[null,0,"World Cup, The","Sports Championships","Torque",9781626178670,19.95,796.33399999999995,2019,1,24,3.7,"N",590,88,"Allan Morey",null,null,0,null,0]
[null,0,"World Series, The","Sports Championships","Torque",9781626178687,19.95,796.35699999999997,2019,1,24,3.9,"N",740,88,"Allan Morey",null,null,0,null,0]
[null,0,"Digging Up the Past Set (6)","Digging Up the Past","Torque",null,119.7,null,null,6,null,null,null,null,88,null,null,null,0,null,0]
[null,0,"Cave of Altamira, The","Digging Up the Past","Torque","9781644870662",19.95,936.6,2020,1,24,"4.0","P",700,88,"Emily Rose Oachs",null,null,0,null,0]
[null,0,"King Tut's Tomb","Digging Up the Past","Torque","9781644870679",19.95,932,2020,1,24,3.9,"P",610,88,"Emily Rose Oachs",null,null,0,null,0]
[null,0,"The Palace of Knossos","Digging Up the Past","Torque","9781644870686",19.95,939,2020,1,24,"4.0","P",660,88,"Emily Rose Oachs",null,null,0,null,0]
[null,0,"Pompeii","Digging Up the Past","Torque","9781644870693",19.95,937,2020,1,24,"4.0","P",690,88,"Emily Rose Oachs",null,null,0,null,0]
[null,0,"Terra-Cotta Army, The","Digging Up the Past","Torque","9781644870709",19.95,931,2020,1,24,"4.0","P",670,88,"Emily Rose Oachs",null,null,0,null,0]
[null,0,"Titanic, The","Digging Up the Past","Torque","9781644870716",19.95,910.91629999999998,2020,1,24,"4.0","P",610,88,"Emily Rose Oachs",null,null,0,null,0]
[null,0,"Ready, Set, Game! Set (6)","Ready, Set, Game!","Torque",null,119.7,null,null,6,null,null,null,null,89,null,null,null,0,null,0]
[null,0,"Arcade Gaming","Ready, Set, Game!","Torque",9781644874547,19.95,794.8,2021,1,24,3.9,"R",640,89,"Betsy Rathburn",null,null,0,null,0]
[null,0,"Computer Gaming","Ready, Set, Game!","Torque",9781644874554,19.95,794.8,2021,1,24,3.7,"R",650,89,"Betsy Rathburn",null,null,0,null,0]
[null,0,"Console Gaming","Ready, Set, Game!","Torque",9781644874561,19.95,794.8,2021,1,24,3.9,"R",660,89,"Betsy Rathburn",null,null,0,null,0]
[null,0,"Handheld Gaming","Ready, Set, Game!","Torque",9781644874578,19.95,794.8,2021,1,24,3.9,"R",690,89,"Betsy Rathburn",null,null,0,null,0]
[null,0,"Online Gaming","Ready, Set, Game!","Torque",9781644874585,19.95,794.8,2021,1,24,3.9,"R",670,89,"Betsy Rathburn",null,null,0,null,0]
[null,0,"Virtual Reality Gaming","Ready, Set, Game!","Torque",9781644874592,19.95,794.8,2021,1,24,4,"R",710,89,"Betsy Rathburn",null,null,0,null,0]
[null,0,"Abandoned Places Set (10)","Abandoned Places","Torque",null,199.5,null,null,10,null,null,null,null,89,null,null,null,0,null,0]
[null,0,"Battleship Island: The Deserted Island","Abandoned Places","Torque",9781626176935,19.95,952,2018,1,24,3.6,"Q",640,89,"Lisa Owings",null,null,0,null,0]
[null,0,"Bodie: The Gold-mining Ghost Town","Abandoned Places","Torque",9781626176942,19.95,979.4,2018,1,24,3.9,"Q",730,89,"Kari Schuetz",null,null,0,null,0]
[null,0,"Craco: The Medieval Ghost Town","Abandoned Places","Torque",9781626176959,19.95,945,2018,1,24,3.7,"Q",650,89,"Lisa Owings",null,null,0,null,0]
[null,0,"Kolmanskop: The Diamond Mine Ghost Town","Abandoned Places","Torque","9781644871614",19.95,916.88099999999997,2020,1,24,3.8,"Q",720,89,"Christina Leaf",null,null,0,null,{"$f":"A1258*J1258","v":0}]
[null,0,"Machu Picchu: The Lost Civilization","Abandoned Places","Torque",9781626176966,19.95,985,2018,1,24,4,"Q",690,89,"Christina Leaf",null,null,0,null,0]
[null,0,"Pripyat: The Chernobyl Ghost Town","Abandoned Places","Torque",9781626176973,19.95,363.47,2018,1,24,3.9,"Q",640,89,"Lisa Owings",null,null,0,null,0]
[null,0,"Roanoke: The Lost Colony","Abandoned Places","Torque",9781626176980,19.95,975.6,2018,1,24,3.8,"Q",740,89,"Kari Schuetz",null,null,0,null,0]
[null,0,"Salton Riviera: The Deserted Resort Community","Abandoned Places","Torque","9781644871638",19.95,979.4,2020,1,24,3.9,"R",700,89,"Lisa Owings",null,null,0,null,0]
[null,0,"Six Flags New Orleans: The Ruined Theme Park","Abandoned Places","Torque","9781644871621",19.95,791.06,2020,1,24,3.9,"Q",720,89,"Christina Leaf",null,null,0,null,0]
[null,0,"Skara Brae: The Lost Neolithic Village","Abandoned Places","Torque","9781644871645",19.95,936.1,2020,1,24,3.9,"R",730,89,"Lisa Owings",null,null,0,null,0]
[null,0,"Survival Zone Set (12)","Survival Zone","Torque",null,239.4,null,null,12,null,null,null,null,90,null,null,null,0,null,0]
[null,0,"Survive a Blizzard","Survival Zone","Torque",9781626174412,19.95,613.6,"2017",1,24,"3.4","N",728,90,"Chris Bowman",null,null,0,null,0]
[null,0,"Survive a Fire","Survival Zone","Torque","9781626175815",19.95,613.69000000000005,2017,1,24,3.7,"O",670,90,"Patrick Perish",null,null,0,null,0]
[null,0,"Survive a Flood","Survival Zone","Torque",9781626174429,19.95,613.6,"2017",1,24,"3.7","N",703,90,"Patrick Perish",null,null,0,null,0]
[null,0,"Survive a Hurricane","Survival Zone","Torque",9781626174436,19.95,613.6,"2017",1,24,"3.8","N",669,90,"Patrick Perish",null,null,0,null,0]
[null,0,"Survive a Plane Crash","Survival Zone","Torque","9781626175822",19.95,613.69000000000005,2017,1,24,4,"N",720,90,"Patrick Perish",null,null,0,null,0]
[null,0,"Survive a Tornado","Survival Zone","Torque",9781626174443,19.95,613.6,"2017",1,24,"3.8","N",642,90,"Chris Bowman",null,null,0,null,0]
[null,0,"Survive a Tsunami","Survival Zone","Torque",9781626174450,19.95,613.6,"2017",1,24,"3.9","O",740,90,"Patrick Perish",null,null,0,null,0]
[null,0,"Survive an Avalanche","Survival Zone","Torque","9781626175839",19.95,613.69000000000005,2017,1,24,4,"O",700,90,"Patrick Perish",null,null,0,null,0]
[null,0,"Survive an Earthquake","Survival Zone","Torque","9781626175846",19.95,613.69000000000005,2017,1,24,3.8,"O",710,90,"Patrick Perish",null,null,0,null,0]
[null,0,"Survive in the Mountains","Survival Zone","Torque",9781626174467,19.95,619.6,"2017",1,24,"3.7","N",721,90,"Chris Bowman",null,null,0,null,0]
[null,0,"Survive in the Woods","Survival Zone","Torque",9781626174474,19.95,619.6,"2017",1,24,"3.4","N",695,90,"Chris Bowman",null,null,0,null,0]
[null,0,"Survive on a Desert Island","Survival Zone","Torque",9781626174481,19.95,619.6,"2017",1,24,"3.6","N",701,90,"Patrick Perish",null,null,0,null,0]
[null,0,"Tough Trucks Set (6)","Tough Trucks","Torque",null,119.7,null,null,6,null,null,null,null,90,null,null,null,0,null,0]
[null,0,"Chevrolet Silverado","Tough Trucks","Torque",9781626178915,19.95,629.22299999999996,2019,1,24,4,"N",710,90,"Larry Mack",null,null,0,null,0]
[null,0,"Ford F-150","Tough Trucks","Torque",9781626178922,19.95,629.22299999999996,2019,1,24,3.9,"N",660,90,"Larry Mack",null,null,0,null,0]
[null,0,"Honda Ridgeline","Tough Trucks","Torque",9781626178939,19.95,629.22299999999996,2019,1,24,4,"N",720,90,"Larry Mack",null,null,0,null,0]
[null,0,"Nissan Frontier","Tough Trucks","Torque",9781626178946,19.95,629.22299999999996,2019,1,24,4.0999999999999996,"N",710,90,"Larry Mack",null,null,0,null,0]
[null,0,"Ram 1500","Tough Trucks","Torque",9781626178953,19.95,629.22299999999996,2019,1,24,3.9,"N",720,90,"Larry Mack",null,null,0,null,0]
[null,0,"Toyota Tacoma","Tough Trucks","Torque",9781626178960,19.95,629.22299999999996,2019,1,24,4.2,"N",760,90,"Larry Mack",null,null,0,null,0]
[null,0,"Space Science Set (16)","Space Science","Torque",null,319.2,null,null,16,null,null,null,null,91,null,null,null,0,null,0]
[null,0,"Asteroids","Space Science","Torque",9781626178571,19.95,523.44000000000005,2019,1,24,3.8,"P",660,91,"Betsy Rathburn",null,null,0,null,0]
[null,0,"Comets","Space Science","Torque",9781626178588,19.95,523.6,2019,1,24,3.6,"P",700,91,"Betsy Rathburn",null,null,0,null,0]
[null,0,"Earth","Space Science","Torque",9781626179714,19.95,525,2019,1,24,3.8,"P","720",91,"Betsy Rathburn",null,null,0,null,0]
[null,0,"Galaxies","Space Science","Torque",9781626178595,19.95,523.1,2019,1,24,3.9,"P",670,91,"Betsy Rathburn",null,null,0,null,0]
[null,0,"Jupiter","Space Science","Torque",9781626179721,19.95,523.45000000000005,2019,1,24,3.9,"Q","690",91,"Betsy Rathburn",null,null,0,null,0]
[null,0,"Mars","Space Science","Torque",9781626179738,19.95,523.42999999999995,2019,1,24,3.7,"Q","730",91,"Nathan Sommer",null,null,0,null,0]
[null,0,"Mercury","Space Science","Torque",9781626179745,19.95,523.41,2019,1,24,3.9,"Q","710",91,"Nathan Sommer",null,null,0,null,0]
[null,0,"Moons","Space Science","Torque",9781626178601,19.95,523.9,2019,1,24,3.6,"P",680,91,"Betsy Rathburn",null,null,0,null,0]
[null,0,"Neptune","Space Science","Torque",9781626179769,19.95,523.48,2019,1,24,3.9,"Q","610",91,"Nathan Sommer",null,null,0,null,0]
[null,0,"Planets","Space Science","Torque",9781626178618,19.95,523.4,2019,1,24,3.7,"P",660,91,"Betsy Rathburn",null,null,0,null,0]
[null,0,"Pluto & the Dwarf Planets","Space Science","Torque",9781626179776,19.95,523.49,2019,1,24,3.9,"Q","740",91,"Nathan Sommer",null,null,{"$f":"IF(A1296>0,1,0)","v":0},null,0]
[null,{"$f":"A1297*G1297","v":0},"Saturn","Space Science","Torque",9781626179783,19.95,523.46,2019,1,24,3.6,"Q","700",91,"Betsy Rathburn",null,null,0,null,0]
[null,0,"Sun, The","Space Science","Torque",9781626178625,19.95,523.70000000000005,2019,1,24,3.7,"P",690,91,"Betsy Rathburn",null,null,0,null,0]
[null,0,"The Moon","Space Science","Torque",9781626179752,19.95,523.29999999999995,2019,1,24,3.7,"P","710",91,"Nathan Sommer",null,null,0,null,0]
[null,0,"Uranus","Space Science","Torque",9781626179790,19.95,523.47,2019,1,24,3.7,"Q","740",91,"Nathan Sommer",null,null,0,null,0]
[null,0,"Venus","Space Science","Torque",9781626179806,19.95,523.41999999999996,2019,1,24,3.9,"Q","690",91,"Betsy Rathburn",null,null,0,null,0]
[null,0,"Cool Careers Set (6)","Cool Careers","Torque",null,119.7,null,null,6,null,null,null,null,92,null,null,null,0,null,0]
[null,0,"Astronaut","Cool Careers","Torque","9781644870600",19.95,629.45002299999999,2020,1,24,4.0999999999999996,"Q",700,92,"Amy Rechner",null,null,0,null,0]
[null,0,"Baseball Player","Cool Careers","Torque","9781644870617",19.95,796.35699999999997,2020,1,24,4.0999999999999996,"O",640,92,"Amy Rechner",null,null,0,null,0]
[null,0,"Fighter Pilot","Cool Careers","Torque","9781644870624",19.95,358.4,2020,1,24,4.2,"Q",710,92,"Amy Rechner",null,null,0,null,0]
[null,0,"Movie Director","Cool Careers","Torque","9781644870631",19.95,791.43020000000001,2020,1,24,4.2,"P",660,92,"Amy Rechner",null,null,0,null,0]
[null,0,"Race Car Driver","Cool Careers","Torque","9781644870648",19.95,796.72,2020,1,24,3.9,"P",740,92,"Amy Rechner",null,null,0,null,0]
[null,0,"Stunt Performer","Cool Careers","Torque","9781644870655",19.95,791.43020000000001,2020,1,24,4.0999999999999996,"P",580,92,"Amy Rechner",null,null,0,null,0]
[null,0,"It's the End of the World Set (8)","It's the End of the World","Torque",null,159.6,null,null,8,null,null,null,null,92,null,null,null,0,null,0]
[null,0,"Alien Invasion","It's the End of the World","Torque","9781644870785",19.95,1.9419999999999999,2020,1,24,3.9,"P",610,92,"Allan Morey",null,null,0,null,0]
[null,0,"Asteroid Impact","It's the End of the World","Torque","9781644870792",19.95,523.44000000000005,2020,1,24,"4.0","Q",660,92,"Lisa Owings",null,null,0,null,0]
[null,0,"Climate Change","It's the End of the World","Torque","9781644870808",19.95,363.738,2020,1,24,"4.0","Q",660,92,"Lisa Owings",null,null,0,null,0]
[null,0,"Global Pandemic","It's the End of the World","Torque","9781644870815",19.95,614,2020,1,24,4.0999999999999996,"Q",590,92,"Allan Morey",null,null,0,null,0]
[null,0,"Nuclear War","It's the End of the World","Torque","9781644870822",19.95,355.02,2020,1,24,3.9,"Q",630,92,"Allan Morey",null,null,0,null,0]
[null,0,"Robot Uprising","It's the End of the World","Torque","9781644870839",19.95,629.79999999999995,2020,1,24,"4.0","P",640,92,"Lisa Owings",null,null,0,null,0]
[null,0,"Solar Storm","It's the End of the World","Torque","9781644870846",19.95,523.70000000000005,2020,1,24,3.7,"Q",620,92,"Allan Morey",null,null,0,null,0]
[null,0,"Supervolcano Eruption","It's the End of the World","Torque","9781644870853",19.95,551.21,2020,1,24,3.8,"Q",650,92,"Allan Morey",null,null,0,null,0]
[null,0,"Car Crazy Set (22)","Car Crazy","Torque",null,438.9,null,null,22,null,null,null,null,93,null,null,null,0,null,0]
[null,0,"Aston Martin DB9","Car Crazy","Torque","9781626175754",19.95,629.22199999999998,2017,1,24,4,"Q",770,93,"Emily Rose Oachs",null,null,0,null,0]
[null,0,"Audi R8 Spyder","Car Crazy","Torque","9781644870082",19.95,629.22199999999998,2020,1,24,"4.0","R",790,93,"Nathan Sommer",null,null,0,null,0]
[null,0,"Bentley Continental GT","Car Crazy","Torque",9781626172784,19.95,629.22199999999998,"2016",1,24,"4.1","O",720,93,"Calvin Cruz",null,null,0,null,0]
[null,0,"BMW M4","Car Crazy","Torque","9781644870099",19.95,629.22199999999998,2020,1,24,4.0999999999999996,"R",760,93,"Nathan Sommer",null,null,0,null,{"$f":"A1322*J1322","v":0}]
[null,0,"Bugatti Chiron","Car Crazy","Torque",9781626177772,19.95,381,2018,1,24,3.9,"Q",810,93,"Emily Rose Oachs",null,null,0,null,0]
[null,0,"Bugatti Veyron","Car Crazy","Torque",9781626172791,19.95,629.22199999999998,"2016",1,24,"3.8","P",660,93,"Calvin Cruz",null,null,0,null,0]
[null,0,"Chevrolet Camaro Z28","Car Crazy","Torque","9781626175761",19.95,629.22199999999998,2017,1,24,4.2,"Q",800,93,"Emily Rose Oachs",null,null,0,null,0]
[null,0,"Chevrolet Corvette Z06","Car Crazy","Torque",9781626172807,19.95,629.22199999999998,"2016",1,24,"4.1","O",750,93,"Calvin Cruz",null,null,0,null,0]
[null,0,"Dodge Challenger SRT Hellcat","Car Crazy","Torque","9781626175778",19.95,629.22199999999998,2017,1,24,4.2,"Q",760,93,"Emily Rose Oachs",null,null,0,null,0]
[null,0,"Dodge Charger R/T","Car Crazy","Torque","9781626175785",19.95,629.22199999999998,2017,1,24,4.3,"Q",810,93,"Emily Rose Oachs",null,null,0,null,0]
[null,0,"Dodge Viper SRT","Car Crazy","Torque",9781626172814,19.95,629.22199999999998,"2016",1,24,"4.0","O",730,93,"Calvin Cruz",null,null,0,null,0]
[null,0,"Ferrari 458 Italia","Car Crazy","Torque",9781626172821,19.95,629.22199999999998,"2016",1,24,"4.0","O",720,93,"Calvin Cruz",null,null,0,null,0]
[null,0,"Ford Mustang Shelby GT350","Car Crazy","Torque","9781626175792",19.95,629.22199999999998,2017,1,24,4.0999999999999996,"Q",740,93,"Emily Rose Oachs",null,null,0,null,0]
[null,0,"Jaguar F-Type","Car Crazy","Torque","9781644870105",19.95,629.22199999999998,2020,1,24,4.0999999999999996,"R",770,93,"Nathan Sommer",null,null,0,null,0]
[null,0,"Lamborghini Aventador","Car Crazy","Torque",9781626172838,19.95,629.22199999999998,"2016",1,24,"3.8","P",690,93,"Calvin Cruz",null,null,0,null,0]
[null,0,"Lykan HyperSport","Car Crazy","Torque","9781626175808",19.95,629.22199999999998,2017,1,24,4.0999999999999996,"Q",760,93,"Emily Rose Oachs",null,null,0,null,0]
[null,0,"Maserati GranTurismo","Car Crazy","Torque",9781626177789,19.95,338.4,2018,1,24,3.9,"Q",790,93,"Emily Rose Oachs",null,null,0,null,0]
[null,0,"McLaren 12C","Car Crazy","Torque",9781626172845,19.95,629.22199999999998,"2016",1,24,"3.8","O",670,93,"Calvin Cruz",null,null,0,null,0]
[null,0,"Nissan GT-R","Car Crazy","Torque","9781644870112",19.95,629.22199999999998,2020,1,24,4.2,"R",760,93,"Nathan Sommer",null,null,0,null,0]
[null,0,"Porsche 911 Carrera","Car Crazy","Torque",9781626177796,19.95,338.4,2018,1,24,3.8,"Q",740,93,"Emily Rose Oachs",null,null,0,null,0]
[null,0,"Porsche 918 Spyder","Car Crazy","Torque",9781626172852,19.95,629.22199999999998,"2016",1,24,"4.1","O",760,93,"Calvin Cruz",null,null,0,null,0]
[null,0,"Tesla Model S","Car Crazy","Torque",9781626177802,19.95,791.45,2018,1,24,3.9,"Q",760,93,"Emily Rose Oachs",null,null,0,null,0]
[null,0,"NFL Teams Set (32)","NFL Teams","Torque",null,638.4,null,null,32,null,null,null,null,"94 & 95",null,null,null,0,null,0]
[null,0,"The Arizona Cardinals Story","NFL Teams","Torque",9781626173552,19.95,796.33199999999999,2017,1,32,"4.2","O",740,"94 & 95","Thomas K. Adamson",null,null,0,null,0]
[null,0,"The Atlanta Falcons Story","NFL Teams","Torque",9781626173569,19.95,796.33199999999999,2017,1,32,"4.2","N",660,"94 & 95","Larry Mack ",null,null,0,null,0]
[null,0,"The Baltimore Ravens Story ","NFL Teams","Torque",9781626173576,19.95,796.33199999999999,2017,1,32,"4.2","O",680,"94 & 95","Allan Morey",null,null,0,null,0]
[null,0,"The Buffalo Bills Story","NFL Teams","Torque",9781626173583,19.95,796.33199999999999,2017,1,32,"4.3","N",730,"94 & 95","Thomas K. Adamson",null,null,0,null,0]
[null,0,"The Carolina Panthers Story","NFL Teams","Torque",9781626173590,19.95,796.33199999999999,2017,1,32,"4.2","N",670,"94 & 95","Larry Mack ",null,null,0,null,0]
[null,0,"The Chicago Bears Story","NFL Teams","Torque",9781626173606,19.95,796.33199999999999,2017,1,32,"4.0","O",660,"94 & 95","Allan Morey",null,null,0,null,0]
[null,0,"The Cincinnati Bengals Story","NFL Teams","Torque",9781626173613,19.95,796.33199999999999,2017,1,32,"4.2","N",620,"94 & 95","Allan Morey",null,null,0,null,0]
[null,0,"The Cleveland Browns Story","NFL Teams","Torque",9781626173620,19.95,796.33199999999999,2017,1,32,"3.8","O",560,"94 & 95","Allan Morey",null,null,0,null,0]
[null,0,"The Dallas Cowboys Story","NFL Teams","Torque",9781626173637,19.95,796.33199999999999,2017,1,32,"4.1","N",670,"94 & 95","Larry Mack ",null,null,0,null,0]
[null,0,"The Denver Broncos Story","NFL Teams","Torque",9781626173644,19.95,796.33199999999999,2017,1,32,"4.2","N",690,"94 & 95","Allan Morey",null,null,0,null,0]
[null,0,"The Detroit Lions Story","NFL Teams","Torque",9781626173651,19.95,796.33199999999999,2017,1,32,"4.2","O",670,"94 & 95","Allan Morey",null,null,0,null,0]
[null,0,"The Green Bay Packers Story","NFL Teams","Torque",9781626173668,19.95,796.33199999999999,2017,1,32,"4.0","O",660,"94 & 95","Allan Morey",null,null,0,null,0]
[null,0,"The Houston Texans Story","NFL Teams","Torque",9781626173675,19.95,796.33199999999999,2017,1,32,"4.2","N",680,"94 & 95","Thomas K. Adamson",null,null,0,null,0]
[null,0,"The Indianapolis Colts Story","NFL Teams","Torque",9781626173682,19.95,796.33199999999999,2017,1,32,"4.2","N",680,"94 & 95","Thomas K. Adamson",null,null,0,null,0]
[null,0,"The Jacksonville Jaguars Story","NFL Teams","Torque",9781626173699,19.95,796.33199999999999,2017,1,32,"4.3","N",720,"94 & 95","Thomas K. Adamson",null,null,0,null,0]
[null,0,"The Kansas City Chiefs Story","NFL Teams","Torque",9781626173705,19.95,796.33199999999999,2017,1,32,"4.3","O",720,"94 & 95","Allan Morey",null,null,0,null,0]
[null,0,"The Los Angeles Rams Story","NFL Teams","Torque",9781626173835,19.95,796.33199999999999,2017,1,32,"4.2","O",700,"94 & 95","Allan Morey",null,null,0,null,0]
[null,0,"The Miami Dolphins Story","NFL Teams","Torque",9781626173712,19.95,796.33199999999999,2017,1,32,"4.2","N",710,"94 & 95","Thomas K. Adamson",null,null,0,null,0]
[null,0,"The Minnesota Vikings Story","NFL Teams","Torque",9781626173729,19.95,796.33199999999999,2017,1,32,"4.2","N",710,"94 & 95","Thomas K. Adamson",null,null,{"$f":"IF(A1360>0,1,0)","v":0},null,0]
[null,{"$f":"A1361*G1361","v":0},"The New England Patriots Story","NFL Teams","Torque",9781626173736,19.95,796.33199999999999,2017,1,32,"4.3","N",730,"94 & 95","Thomas K. Adamson",null,null,0,null,0]
[null,0,"The New Orleans Saints Story","NFL Teams","Torque",9781626173743,19.95,796.33199999999999,2017,1,32,"4.3","N",680,"94 & 95","Larry Mack ",null,null,0,null,0]
[null,0,"The New York Giants Story","NFL Teams","Torque",9781626173750,19.95,796.33199999999999,2017,1,32,"4.2","O",730,"94 & 95","Larry Mack ",null,null,0,null,0]
[null,0,"The New York Jets Story","NFL Teams","Torque",9781626173767,19.95,796.33199999999999,2017,1,32,"4.3","N",740,"94 & 95","Thomas K. Adamson",null,null,0,null,0]
[null,0,"The Oakland Raiders Story","NFL Teams","Torque",9781626173774,19.95,796.33199999999999,2017,1,32,"4.3","O",690,"94 & 95","Allan Morey",null,null,0,null,0]
[null,0,"The Philadelphia Eagles Story","NFL Teams","Torque",9781626173781,19.95,796.33199999999999,2017,1,32,"4.3","N",720,"94 & 95","Larry Mack ",null,null,0,null,0]
[null,0,"The Pittsburgh Steelers Story","NFL Teams","Torque",9781626173798,19.95,796.33199999999999,2017,1,32,"4.2","N",660,"94 & 95","Allan Morey",null,null,0,null,0]
[null,0,"The San Diego Chargers Story","NFL Teams","Torque",9781626173804,19.95,796.33199999999999,2017,1,32,"4.2","N",660,"94 & 95","Allan Morey",null,null,0,null,0]
[null,0,"The San Francisco 49ers Story","NFL Teams","Torque",9781626173811,19.95,796.33199999999999,2017,1,32,"4.2","O",690,"94 & 95","Thomas K. Adamson",null,null,0,null,0]
[null,0,"The Seattle Seahawks Story","NFL Teams","Torque",9781626173828,19.95,796.33199999999999,2017,1,32,"4.3","N",710,"94 & 95","Thomas K. Adamson",null,null,0,null,0]
[null,0,"The Tampa Bay Buccaneers Story","NFL Teams","Torque",9781626173842,19.95,796.33199999999999,2017,1,32,"4.1","N",700,"94 & 95","Larry Mack ",null,null,0,null,0]
[null,0,"The Tennessee Titans Story","NFL Teams","Torque",9781626173859,19.95,796.33199999999999,2017,1,32,"4.3","N",720,"94 & 95","Thomas K. Adamson",null,null,0,null,0]
[null,0,"The Washington Redskins Story","NFL Teams","Torque",9781626173866,19.95,796.33199999999999,2017,1,32,"4.2","N",650,"94 & 95","Larry Mack ",null,null,0,null,0]
[null,0,"Pirate Tales Set (6)","Pirate Tales","Black Sheep",null,131.69999999999999,null,null,6,null,null,null,null,98,null,null,null,0,null,0]
[null,0,"Anne Bonny: Pirate Queen of the Caribbean","Pirate Tales","Black Sheep",9781644873007,21.95,910.4,2021,1,24,null,"T",570,98,"Christina Leaf",null,null,0,null,0]
[null,0,"Blackbeard: Captain of the Queen Anne's Revenge","Pirate Tales","Black Sheep",9781644873014,21.95,910.4,2021,1,24,null,"T",720,98,"Blake Hoena",null,null,0,null,0]
[null,0,"Ching Shih: The World's Most Successful Pirate","Pirate Tales","Black Sheep",9781644873021,21.95,910.4,2021,1,24,null,"T",690,98,"Christina Leaf",null,null,0,null,0]
[null,0,"Henry Morgan: Feared Buccaneer of the New World","Pirate Tales","Black Sheep",9781644873038,21.95,972.92,2021,1,24,null,"T",670,98,"Blake Hoena",null,null,0,null,0]
[null,0,"Mary Read: Pirate in Disguise","Pirate Tales","Black Sheep",9781644873045,21.95,910.4,2021,1,24,null,"T",500,98,"Christina Leaf",null,null,0,null,0]
[null,0,"Sir Francis Drake and the Trip Around the World","Pirate Tales","Black Sheep",9781644873052,21.95,910.4,2021,1,24,null,"T",690,98,"Blake Hoena",null,null,0,null,0]
[null,0,"True Survival Stories Set (6)","True Survival Stories","Black Sheep",null,131.69999999999999,null,null,6,null,null,null,null,99,null,null,null,0,null,0]
[null,0,"Escaping the Nazis: Jan Baalsrud","True Survival Stories","Black Sheep",9781644875469,21.95,940.54,2022,1,24,3.4,"V",590,99,"Betsy Rathburn",null,null,0,null,0]
[null,0,"Inside the Volcano: Michael Benson","True Survival Stories","Black Sheep",9781644875476,21.95,null,2022,1,24,3.1,"S",550,97,"Blake Hoena",null,null,0,null,0]
[null,0,"Lost in the Amazon: Juliane Koepcke","True Survival Stories","Black Sheep",9781644875483,21.95,363.12,2022,1,24,3.6,"S",620,97,"Betsy Rathburn",null,null,0,null,0]
[null,0,"Shark Attack!: Bethany Hamilton","True Survival Stories","Black Sheep",9781644875490,21.95,797.3,2022,1,24,3.6,"T",580,97,"Blake Hoena",null,null,0,null,0]
[null,0,"Stranded at Sea: Steve Callahan","True Survival Stories","Black Sheep",9781644875506,21.95,null,2022,1,24,3.8,"S",650,97,"Betsy Rathburn",null,null,0,null,{"$f":"A1386*J1386","v":0}]
[null,0,"Trapped in Antarctica: Shackleton and the Endurance","True Survival Stories","Black Sheep",9781644875513,21.95,null,2022,1,24,3.9,"S",650,97,"Blake Hoena",null,null,0,null,0]
[null,0,"Extraordinary Explorers Set (6)","Extraordinary Explorers","Black Sheep",null,131.69999999999999,null,null,6,null,null,null,null,100,null,null,null,0,null,0]
[null,0,"Amelia Earhart Flies Across the Atlantic","Extraordinary Explorers","Black Sheep",9781626172906,21.95,629.13091999999995,2016,1,24,4,"Q","GN700",100,"Nel Yomtov",null,null,0,null,0]
[null,0,"Edmund Hillary Reaches the Top of Everest","Extraordinary Explorers","Black Sheep",9781626172913,21.95,796.52209549600002,2016,1,24,3.8,"Q","GN620",100,"Nel Yomtov",null,null,0,null,0]
[null,0,"Ferdinand Magellan Sails Around the World","Extraordinary Explorers","Black Sheep",9781626172920,21.95,910.4,2016,1,24,4.4000000000000004,"R","GN670",100,"Nel Yomtov",null,null,0,null,0]
[null,0,"Lewis and Clark Map the American West","Extraordinary Explorers","Black Sheep",9781626172937,21.95,917.80399999999997,2016,1,24,4.3,"R","GN620",100,"Nel Yomtov",null,null,0,null,0]
[null,0,"Neil Armstrong Walks on the Moon","Extraordinary Explorers","Black Sheep",9781626172944,21.95,629.45000000000005,2016,1,24,4.2,"Q","GN690",100,"Nel Yomtov",null,null,0,null,0]
[null,0,"Roald Amundsen Explores the South Pole","Extraordinary Explorers","Black Sheep",9781626172951,21.95,919.89,2016,1,24,4.0999999999999996,"Q","GN660",100,"Nel Yomtov",null,null,0,null,0]
[null,0,"Disaster Stories Set (6)","Disaster Stories","Black Sheep",null,131.69999999999999,null,null,6,null,null,null,null,100,null,null,null,0,null,0]
[null,0,"The Apollo 13 Mission","Disaster Stories","Black Sheep",9781626171497,21.95,629.45000000000005,2015,1,24,3.7,"Q","GN520",100,"Adam Stone",null,null,0,null,0]
[null,0,"The Attack on Pearl Harbor","Disaster Stories","Black Sheep",9781626171503,21.95,940.54,2015,1,24,3.8,"R","GN510",100,"Chris Bowman",null,null,0,null,0]
[null,0,"The Challenger Explosion","Disaster Stories","Black Sheep",9781626171510,21.95,363.12,2015,1,24,4,"Q","GN630",100,"Adam Stone",null,null,0,null,0]
[null,0,"The Deepwater Horizon Oil Spill","Disaster Stories","Black Sheep",9781626171527,21.95,363.738,2015,1,24,3.6,"Q","GN590",100,"Adam Stone",null,null,0,null,0]
[null,0,"The Hindenburg Disaster","Disaster Stories","Black Sheep",9781626171534,21.95,363.12,2015,1,24,3.3,"R","GN420",100,"Chris Bowman",null,null,0,null,0]
[null,0,"The Titanic Disaster","Disaster Stories","Black Sheep",9781626171541,21.95,910.91629999999998,2015,1,24,3,"Q","GN430",100,"Adam Stone",null,null,0,null,0]
[null,0,"Paranormal Mysteries Set (6)","Paranormal Mysteries","Black Sheep",null,131.69999999999999,null,null,6,null,null,null,null,101,null,null,null,0,null,0]
[null,0,"Bell Witch Haunting, The","Paranormal Mysteries","Black Sheep","9781644870921",21.95,133.1,2020,1,24,3.3,"Q",580,101,"Blake Hoena",null,null,0,null,0]
[null,0,"Betty & Barney Hill Alien Abduction, The","Paranormal Mysteries","Black Sheep","9781644870938",21.95,1.9419999999999999,2020,1,24,3.6,"Q",610,101,"Chris Bowman",null,null,0,null,0]
[null,0,"Flight 19: Lost in the Bermuda Triangle","Paranormal Mysteries","Black Sheep","9781644870945",21.95,1.94,2020,1,24,4.2,"Q",700,101,"Chris Bowman",null,null,0,null,0]
[null,0,"Mothman Sightings, The","Paranormal Mysteries","Black Sheep","9781644870952",21.95,1.944,2020,1,24,3.7,"Q",620,101,"Chris Bowman",null,null,0,null,0]
[null,0,"Mummy's Curse, The: Discovering King Tut's Tomb","Paranormal Mysteries","Black Sheep","9781644870969",21.95,741.5,2020,1,24,4.2,"Q",660,101,"Blake Hoena",null,null,0,null,0]
[null,0,"Roswell UFO Incident, The","Paranormal Mysteries","Black Sheep","9781644870976",21.95,1.9420978900000001,2020,1,24,"4.0","Q",590,101,"Blake Hoena",null,null,0,null,0]
[null,0,"Orgami Fun Set (14)","Origami Fun","Express!",null,279.3,null,null,14,null,null,null,null,104,null,null,null,0,null,0]
[null,0,"Origami Fun: Aircraft","Origami Fun","Express!",9781626177079,19.95,736,2018,1,24,null,"O","540",104,"Robyn Hardyman",null,null,0,null,0]
[null,0,"Origami Fun: Birds","Origami Fun","Express!",9781626177086,19.95,736,2018,1,24,null,"O","550",104,"Robyn Hardyman",null,null,0,null,0]
[null,0,"Origami Fun: Buildings","Origami Fun","Express!",9781644872949,19.95,736,2021,1,24,null,"S",690,104,"Christina Leaf",null,null,0,null,0]
[null,0,"Origami Fun: Dinosaurs","Origami Fun","Express!",9781626177093,19.95,736,2018,1,24,null,"O","580",104,"Robyn Hardyman",null,null,0,null,0]
[null,0,"Origami Fun: Farm Animals","Origami Fun","Express!",9781626177109,19.95,736,2018,1,24,null,"O","540",104,"Robyn Hardyman",null,null,0,null,0]
[null,0,"Origami Fun: Holidays","Origami Fun","Express!",9781626177116,19.95,736,2018,1,24,null,"O","550",104,"Robyn Hardyman",null,null,0,null,0]
[null,0,"Origami Fun: Insects","Origami Fun","Express!",9781644872956,19.95,736,2021,1,24,null,"S",590,104,"Elizabeth Neuenfeldt",null,null,0,null,0]
[null,0,"Origami Fun: Jungle Animals","Origami Fun","Express!",9781626177123,19.95,736,2018,1,24,null,"O","540",104,"Robyn Hardyman",null,null,0,null,0]
[null,0,"Origami Fun: Mythical Creatures","Origami Fun","Express!",9781644872963,19.95,736,2021,1,24,null,"S",630,104,"Elizabeth Neuenfeldt",null,null,0,null,0]
[null,0,"Origami Fun: Ocean Animals","Origami Fun","Express!",9781626177130,19.95,736,2018,1,24,null,"O","550",104,"Robyn Hardyman",null,null,0,null,0]
[null,0,"Origami Fun: Pets","Origami Fun","Express!",9781626177147,19.95,736,2018,1,24,null,"O","550",104,"Robyn Hardyman",null,null,0,null,0]
[null,0,"Origami Fun: Plants","Origami Fun","Express!",9781644872970,19.95,736,2021,1,24,null,"S",660,104,"Elizabeth Neuenfeldt",null,null,0,null,0]
[null,0,"Origami Fun: Robots","Origami Fun","Express!",9781644872987,19.95,736,2021,1,24,null,"S",560,104,"Elizabeth Neuenfeldt",null,null,0,null,0]
[null,0,"Origami Fun: Vehicles","Origami Fun","Express!",9781644872994,19.95,736,2021,1,24,null,"S",570,104,"Christina Leaf",null,null,0,null,0]
[null,0,"Crafting with Nature Set (6)","Crafting with Nature","Express!",null,119.7,null,null,6,null,null,null,null,104,null,null,null,{"$f":"IF(A1424>0,1,0)","v":0},null,0]
[null,{"$f":"A1425*G1425","v":0},"Flower Crafts","Crafting with Nature","Express!","9781644871874",19.95,745.92,2020,1,24,null,"R",740,104,"Rebecca Sabelko",null,null,0,null,0]
[null,0,"Leaf Crafts","Crafting with Nature","Express!","9781644871881",19.95,746.41,2020,1,24,null,"S",720,104,"Rebecca Sabelko",null,null,0,null,0]
[null,0,"Rock Crafts","Crafting with Nature","Express!","9781644871898",19.95,745.5,2020,1,24,null,"R",660,104,"Betsy Rathburn",null,null,0,null,0]
[null,0,"Sand Crafts","Crafting with Nature","Express!","9781644871904",19.95,745.5,2020,1,24,null,"S",730,104,"Rebecca Sabelko",null,null,0,null,0]
[null,0,"Seed Crafts","Crafting with Nature","Express!","9781644871911",19.95,745.5,2020,1,24,null,"R",750,104,"Betsy Rathburn",null,null,0,null,0]
[null,0,"Stick Crafts","Crafting with Nature","Express!","9781644871928",19.95,551.57000000000005,2020,1,24,null,"R",620,104,"Betsy Rathburn",null,null,0,null,0]
[null,0,"Easy Upcycled Crafts","Easy Upcycled Crafts","Express!",null,119.7,null,null,6,null,null,null,null,105,null,null,null,0,null,0]
[null,0,"Cardboard Crafts","Easy Upcycled Crafts","Express!",9781644876398,19.95,745.54,2022,1,24,null,"Q",720,105,"Betsy Rathburn",null,null,0,null,0]
[null,0,"Egg Carton Crafts","Easy Upcycled Crafts","Express!",9781644876404,19.95,745.50829999999996,2022,1,24,null,"Q",760,105,"Betsy Rathburn",null,null,0,null,0]
[null,0,"Glass Jar Crafts","Easy Upcycled Crafts","Express!",9781644876411,19.95,748.50279999999998,2022,1,24,null,"Q",630,105,"Betsy Rathburn",null,null,0,null,0]
[null,0,"Old Art Supplies Crafts","Easy Upcycled Crafts","Express!",9781644876428,19.95,745.50829999999996,2022,1,24,null,"Q",820,105,"Rebecca Sabelko",null,null,0,null,0]
[null,0,"Plastic Bottle Crafts","Easy Upcycled Crafts","Express!",9781644876435,19.95,731.4,2022,1,24,null,"Q",780,105,"Rebecca Sabelko",null,null,0,null,0]
[null,0,"Trash to Treasure Crafts","Easy Upcycled Crafts","Express!",9781644876442,19.95,745.5,2022,1,24,null,"Q",800,105,"Rebecca Sabelko",null,null,0,null,0]
[null,0,"Take Flight! Set (6)","Take Flight!","Express!",null,119.7,null,null,6,null,null,null,null,105,null,null,null,0,null,0]
[null,0,"Novice Level Paper Airplanes","Take Flight!","Express!",9781644875520,19.95,745.59199999999998,2022,1,24,null,"P",550,105,"Jennifer Sanderson",null,null,0,null,0]
[null,0,"Beginner Level Paper Airplanes","Take Flight!","Express!",9781644875537,19.95,745.59199999999998,2022,1,24,null,"P",570,105,"Jennifer Sanderson",null,null,0,null,0]
[null,0,"Intermediate Level Paper Airplanes","Take Flight!","Express!",9781644875544,19.95,745.59199999999998,2022,1,24,null,"P",700,105,"Jennifer Sanderson",null,null,0,null,0]
[null,0,"Advanced Level Paper Airplanes","Take Flight!","Express!",9781644875551,19.95,745.59199999999998,2022,1,24,null,"Q",690,105,"Jennifer Sanderson",null,null,0,null,0]
[null,0,"Expert Level Paper Airplanes","Take Flight!","Express!",9781644875568,19.95,745.59199999999998,2022,1,24,null,"Q",540,105,"Jennifer Sanderson",null,null,0,null,0]
[null,0,"Master Level Paper Airplanes","Take Flight!","Express!",9781644875575,19.95,745.59199999999998,2022,1,24,null,"Q",510,105,"Jennifer Sanderson",null,null,0,null,0]
[null,0,"Creepy Crawlies Set (12)","Creepy Crawlies","Blastoff! Readers",null,227.4,null,null,12,null,null,null,null,106,null,null,null,0,null,0]
[null,0,"Black Widow Spiders","Creepy Crawlies","Blastoff! Readers",9780531217894,18.95,595.4,2016,1,24,"1.9","I",510,106,"Megan Borgert-Spaniol",null,null,0,null,0]
[null,0,"Centipedes","Creepy Crawlies","Blastoff! Readers",9781626172210,18.95,595.6,2016,1,24,"1.9","I",330,106,"Kari Schuetz",null,null,0,null,0]
[null,0,"Fire Ants","Creepy Crawlies","Blastoff! Readers",9781626172227,18.95,595.79,2016,1,24,1.7,"H",300,106,"Kari Schuetz",null,null,0,null,0]
[null,0,"Hissing Cockroaches","Creepy Crawlies","Blastoff! Readers",9781626172234,18.95,595.70000000000005,2016,1,24,1.9,"H",360,106,"Kari Schuetz",null,null,0,null,0]
[null,0,"Mealworms","Creepy Crawlies","Blastoff! Readers",9781626172241,18.95,595.76,2016,1,24,1.7,"I",270,106,"Kari Schuetz",null,null,0,null,{"$f":"A1450*J1450","v":0}]
[null,0,"Millipedes","Creepy Crawlies","Blastoff! Readers",9781626172258,18.95,595.6,2016,1,24,1.8,"H",330,106,"Kari Schuetz",null,null,0,null,0]
[null,0,"Praying Mantises","Creepy Crawlies","Blastoff! Readers",9780531217900,18.95,595.70000000000005,2016,1,24,"1.9","H",430,106,"Megan Borgert-Spaniol",null,null,0,null,0]
[null,0,"Scorpions","Creepy Crawlies","Blastoff! Readers",9781626172265,18.95,595.4,2016,1,24,1.9,"H",270,106,"Kari Schuetz",null,null,0,null,0]
[null,0,"Slugs","Creepy Crawlies","Blastoff! Readers",9780531217917,18.95,594.29999999999995,2016,1,24,"1.9","I",490,106,"Megan Borgert-Spaniol",null,null,0,null,0]
[null,0,"Tarantulas","Creepy Crawlies","Blastoff! Readers",9781626172272,18.95,595.4,2016,1,24,1.9,"H",340,106,"Kari Schuetz",null,null,0,null,0]
[null,0,"Termites","Creepy Crawlies","Blastoff! Readers",9781626172289,18.95,595.70000000000005,2016,1,24,1.5,"H",190,106,"Kari Schuetz",null,null,0,null,0]
[null,0,"Ticks","Creepy Crawlies","Blastoff! Readers",9780531217924,18.95,595.4,2016,1,24,"1.9","I",510,106,"Megan Borgert-Spaniol",null,null,0,null,0]
[null,0,"Super Cute! Set (39)","Super Cute!","Blastoff! Readers",null,739.05,null,null,39,null,null,null,null,106,null,null,null,0,null,0]
[null,0,"Baby Bears","Super Cute!","Blastoff! Readers",9781600149221,18.95,599.78,2014,1,24,1.3,"G",460,106,"Kari Schuetz",null,null,0,null,0]
[null,0,"Baby Camels","Super Cute!","Blastoff! Readers",9781626173873,18.95,599.63,"2017",1,24,"1.5","H",330,106,"Megan Borgert-Spaniol",null,null,0,null,0]
[null,0,"Baby Cats","Super Cute!","Blastoff! Readers",9781600149238,18.95,636.80700000000002,2014,1,24,1.4,"F",420,106,"Bethany Olson",null,null,0,null,0]
[null,0,"Baby Cheetahs","Super Cute!","Blastoff! Readers",9781626171688,18.95,599.75,"2015",1,24,1.6,"G",310,106,"Christina Leaf",null,null,0,null,0]
[null,0,"Baby Chickens","Super Cute!","Blastoff! Readers",9781626173880,18.95,636.5,"2017",1,24,"1.4","G",220,106,"Megan Borgert-Spaniol",null,null,0,null,0]
[null,0,"Baby Cows","Super Cute!","Blastoff! Readers",9781600149245,18.95,636.20699999999999,2014,1,24,1.3,"G",500,106,"Kari Schuetz",null,null,0,null,0]
[null,0,"Baby Deer","Super Cute!","Blastoff! Readers",9781600149252,18.95,599.65,2014,1,24,1.2,"G",320,106,"Bethany Olson",null,null,0,null,0]
[null,0,"Baby Dogs","Super Cute!","Blastoff! Readers",9781600149269,18.95,636.70699999999999,2014,1,24,1.1000000000000001,"F",360,106,"Kari Schuetz",null,null,0,null,0]
[null,0,"Baby Ducks","Super Cute!","Blastoff! Readers",9781600149733,18.95,598.4,2015,1,24,1.3,"G",400,106,"Christina Leaf",null,null,0,null,0]
[null,0,"Baby Elephants","Super Cute!","Blastoff! Readers",9781626171695,18.95,599.67129999999997,"2015",1,24,1.4,"F",270,106,"Christina Leaf",null,null,0,null,0]
[null,0,"Baby Foxes","Super Cute!","Blastoff! Readers",9781626172159,18.95,599.77499999999998,"2016",1,24,1.3,"G",220,106,"Megan Borgert-Spaniol",null,null,0,null,0]
[null,0,"Baby Giraffes","Super Cute!","Blastoff! Readers",9781626172166,18.95,599.63800000000003,"2016",1,24,1.5,"H",290,106,"Megan Borgert-Spaniol",null,null,0,null,0]
[null,0,"Baby Goats","Super Cute!","Blastoff! Readers",9781600149276,18.95,636.29999999999995,2014,1,24,"1.0","G",300,106,"Kari Schuetz",null,null,0,null,0]
[null,0,"Baby Gorillas","Super Cute!","Blastoff! Readers",9781626171701,18.95,599.88413000000003,"2015",1,24,1.5,"G",210,106,"Christina Leaf",null,null,0,null,0]
[null,0,"Baby Hedgehogs","Super Cute!","Blastoff! Readers",9781626172173,18.95,599.33000000000004,"2016",1,24,1.5,"H",260,106,"Megan Borgert-Spaniol",null,null,0,null,0]
[null,0,"Baby Hippos","Super Cute!","Blastoff! Readers",9781626172180,18.95,599.63,"2016",1,24,1.8,"H",360,106,"Megan Borgert-Spaniol",null,null,0,null,0]
[null,0,"Baby Horses","Super Cute!","Blastoff! Readers",9781600149283,18.95,636.1,2014,1,24,1.1000000000000001,"G",430,106,"Bethany Olson",null,null,0,null,0]
[null,0,"Baby Kangaroos","Super Cute!","Blastoff! Readers",9781626173897,18.95,599.20000000000005,"2017",1,24,"1.5","H",280,106,"Megan Borgert-Spaniol",null,null,0,null,0]
[null,0,"Baby Koalas","Super Cute!","Blastoff! Readers",9781626172197,18.95,599.20000000000005,"2016",1,24,1.4,"G",260,106,"Megan Borgert-Spaniol",null,null,0,null,0]
[null,0,"Baby Lions","Super Cute!","Blastoff! Readers",9781600149740,18.95,599.75699999999995,2015,1,24,1.4,"F",420,106,"Christina Leaf",null,null,0,null,0]
[null,0,"Baby Monkeys","Super Cute!","Blastoff! Readers",9781600149290,18.95,599.79999999999995,2014,1,24,1.2,"F",360,106,"Kari Schuetz",null,null,0,null,0]
[null,0,"Baby Orangutans","Super Cute!","Blastoff! Readers",9781626171718,18.95,599.88,"2015",1,24,1.5,"G",320,106,"Christina Leaf",null,null,0,null,0]
[null,0,"Baby Owls","Super Cute!","Blastoff! Readers",9781626171725,18.95,598.9,"2015",1,24,1.3,"G",180,106,"Christina Leaf",null,null,0,null,0]
[null,0,"Baby Pandas","Super Cute!","Blastoff! Readers",9781600149306,18.95,599.78899999999999,2014,1,24,1.2,"G",330,106,"Bethany Olson",null,null,0,null,0]
[null,0,"Baby Penguins","Super Cute!","Blastoff! Readers",9781600149313,18.95,598.47,2014,1,24,1.2,"G",330,106,"Kari Schuetz",null,null,0,null,0]
[null,0,"Baby Pigs","Super Cute!","Blastoff! Readers",9781600149757,18.95,636.4,2015,1,24,1.3,"G",420,106,"Christina Leaf",null,null,0,null,0]
[null,0,"Baby Rabbits","Super Cute!","Blastoff! Readers",9781600149320,18.95,599.32000000000005,2014,1,24,1.4,"G",440,106,"Bethany Olson",null,null,0,null,0]
[null,0,"Baby Raccoons","Super Cute!","Blastoff! Readers","9781626175457",18.95,599.76,2017,1,24,1.7,"G",400,106,"Megan Borgert-Spaniol",null,null,0,null,0]
[null,0,"Baby Rhinos","Super Cute!","Blastoff! Readers","9781626175464",18.95,599.66,2017,1,24,1.6,"H",430,106,"Megan Borgert-Spaniol",null,null,0,null,0]
[null,0,"Baby Sea Otters","Super Cute!","Blastoff! Readers",9781600149764,18.95,599.76900000000001,2015,1,24,1.1000000000000001,"F",370,106,"Christina Leaf",null,null,{"$f":"IF(A1488>0,1,0)","v":0},null,0]
[null,{"$f":"A1489*G1489","v":0},"Baby Seals","Super Cute!","Blastoff! Readers",9781600149771,18.95,599.79,2015,1,24,1.2,"G",410,106,"Christina Leaf",null,null,0,null,0]
[null,0,"Baby Sheep","Super Cute!","Blastoff! Readers",9781600149788,18.95,636.29999999999995,2015,1,24,1.2,"F",380,106,"Christina Leaf",null,null,0,null,0]
[null,0,"Baby Skunks","Super Cute!","Blastoff! Readers","9781626175471",18.95,599.76,2017,1,24,1.7,"H",440,106,"Megan Borgert-Spaniol",null,null,0,null,0]
[null,0,"Baby Sloths","Super Cute!","Blastoff! Readers",9781600149337,18.95,599.29999999999995,2014,1,24,1.7,"G",570,106,"Kari Schuetz",null,null,0,null,0]
[null,0,"Baby Squirrels","Super Cute!","Blastoff! Readers",9781626172203,18.95,599.36,"2016",1,24,1.6,"G",320,106,"Megan Borgert-Spaniol",null,null,0,null,0]
[null,0,"Baby Tigers","Super Cute!","Blastoff! Readers",9781626171732,18.95,599.75612999999998,"2015",1,24,1.4,"G",160,106,"Christina Leaf",null,null,0,null,0]
[null,0,"Baby Turtles","Super Cute!","Blastoff! Readers",9781626173903,18.95,597.91999999999996,"2017",1,24,"1.6","G",310,106,"Megan Borgert-Spaniol",null,null,0,null,0]
[null,0,"Baby Wolves","Super Cute!","Blastoff! Readers",9781600149344,18.95,599.77300000000002,2014,1,24,1.3,"G",390,106,"Bethany Olson",null,null,0,null,0]
[null,0,"Baby Zebras","Super Cute!","Blastoff! Readers","9781626175488",18.95,599.66499999999996,2017,1,24,1.5,"G",380,106,"Megan Borgert-Spaniol",null,null,0,null,0]
[null,0,"Cool Cats Set (26)","Cool Cats","Blastoff! Readers",null,492.7,null,null,26,null,null,null,null,106,null,null,null,0,null,0]
[null,0,"Abyssinians","Cool Cats","Blastoff! Readers",9781626172296,18.95,636.79999999999995,2016,1,24,2.4,"K",280,106,"Rebecca Felix",null,null,0,null,0]
[null,0,"American Curls","Cool Cats","Blastoff! Readers",9781626176256,18.95,636.79999999999995,2018,1,24,2.4,"K",420,106,"Christina Leaf",null,null,0,null,0]
[null,0,"American Shorthairs","Cool Cats","Blastoff! Readers",9781626172302,18.95,636.79999999999995,2016,1,24,2.1,"K",340,106,"Christina Leaf",null,null,0,null,0]
[null,0,"Balinese","Cool Cats","Blastoff! Readers",9781626176263,18.95,636.79999999999995,2018,1,24,2.2999999999999998,"J",490,106,"Rebecca Felix",null,null,0,null,0]
[null,0,"Birmans","Cool Cats","Blastoff! Readers",9781626172319,18.95,636.79999999999995,2016,1,24,2.2000000000000002,"K",360,106,"Rebecca Felix",null,null,0,null,0]
[null,0,"British Shorthairs","Cool Cats","Blastoff! Readers",9781626173958,18.95,636.79999999999995,2017,1,24,2.1,"K",360,106,"Rebecca Felix",null,null,0,null,0]
[null,0,"Burmese","Cool Cats","Blastoff! Readers",9781626175617,18.95,636.79999999999995,2017,1,24,2.2999999999999998,"K",450,106,"Rebecca Felix",null,null,0,null,0]
[null,0,"Cornish Rexes","Cool Cats","Blastoff! Readers",9781626173965,18.95,636.79999999999995,2017,1,24,2.4,"K",490,106,"Rebecca Felix",null,null,0,null,0]
[null,0,"Devon Rexes","Cool Cats","Blastoff! Readers",9781626173095,18.95,636.79999999999995,2016,1,24,2.4,"J",500,106,"Christina Leaf",null,null,0,null,0]
[null,0,"Egyptian Maus","Cool Cats","Blastoff! Readers",9781626173101,18.95,636.79999999999995,2016,1,24,2.2999999999999998,"J",550,106,"Domini Brown",null,null,0,null,0]
[null,0,"Exotics","Cool Cats","Blastoff! Readers",9781626173118,18.95,636.79999999999995,2016,1,24,2.4,"J",530,106,"Domini Brown",null,null,0,null,0]
[null,0,"Japanese Bobtails","Cool Cats","Blastoff! Readers",9781626175624,18.95,636.79999999999995,2017,1,24,2.4,"J",430,106,"Christina Leaf",null,null,0,null,0]
[null,0,"Maine Coons","Cool Cats","Blastoff! Readers",9781626172326,18.95,636.79999999999995,2016,1,24,2.6,"I",460,106,"Domini Brown",null,null,0,null,0]
[null,0,"Manx","Cool Cats","Blastoff! Readers",9781626173125,18.95,636.79999999999995,2016,1,24,2.5,"J",550,106,"Christina Leaf",null,null,0,null,0]
[null,0,"Norwegian Forest Cats","Cool Cats","Blastoff! Readers",9781626173972,18.95,636.79999999999995,2017,1,24,2.2999999999999998,"J",400,106,"Christina Leighton",null,null,0,null,0]
[null,0,"Ocicats","Cool Cats","Blastoff! Readers",9781626175631,18.95,636.79999999999995,2017,1,24,2,"J",290,106,"Christina Leighton",null,null,0,null,{"$f":"A1514*J1514","v":0}]
[null,0,"Orientals","Cool Cats","Blastoff! Readers",9781626173132,18.95,636.79999999999995,2016,1,24,2.4,"J",400,106,"Domini Brown",null,null,0,null,0]
[null,0,"Persians","Cool Cats","Blastoff! Readers",9781626172333,18.95,636.79999999999995,2016,1,24,2.4,"J",540,106,"Domini Brown",null,null,0,null,0]
[null,0,"RagaMuffins","Cool Cats","Blastoff! Readers",9781626176270,18.95,636.79999999999995,2018,1,24,2.2999999999999998,"J",510,106,"Betsy Rathburn",null,null,0,null,0]
[null,0,"Ragdolls","Cool Cats","Blastoff! Readers",9781626172340,18.95,636.79999999999995,2016,1,24,2.2999999999999998,"J",510,106,"Betsy Rathburn",null,null,0,null,0]
[null,0,"Russian Blues","Cool Cats","Blastoff! Readers",9781626173989,18.95,636.79999999999995,2017,1,24,2.1,"J",490,106,"Betsy Rathburn",null,null,0,null,0]
[null,0,"Scottish Folds","Cool Cats","Blastoff! Readers",9781626173149,18.95,636.79999999999995,2016,1,24,2.2000000000000002,"J",490,106,"Betsy Rathburn",null,null,0,null,0]
[null,0,"Selkirk Rexes","Cool Cats","Blastoff! Readers",9781626175648,18.95,636.79999999999995,2017,1,24,2.2999999999999998,"J",520,106,"Betsy Rathburn",null,null,0,null,0]
[null,0,"Siamese","Cool Cats","Blastoff! Readers",9781626172357,18.95,636.79999999999995,2016,1,24,2.2000000000000002,"J",480,106,"Betsy Rathburn",null,null,0,null,0]
[null,0,"Siberians","Cool Cats","Blastoff! Readers",9781626176287,18.95,636.79999999999995,2018,1,24,2.5,"J",480,106,"Betsy Rathburn",null,null,0,null,0]
[null,0,"Sphynx","Cool Cats","Blastoff! Readers",9781626172364,18.95,636.79999999999995,2016,1,24,2.4,"J",500,106,"Betsy Rathburn",null,null,0,null,0]
[null,0,"Money Matters Set (5)","Money Matters","Blastoff! Readers",null,94.75,null,null,5,null,null,null,null,107,null,null,null,0,null,0]
[null,0,"Counting Money","Money Matters","Blastoff! Readers",9780531221006,18.95,332.4,2016,1,24,"2.0","L",370,107,"Mari Schuh",null,null,0,null,0]
[null,0,"Earning Money","Money Matters","Blastoff! Readers",9780531221013,18.95,650.1,2016,1,24,"2.0","K",400,107,"Mari Schuh",null,null,0,null,0]
[null,0,"Saving Money","Money Matters","Blastoff! Readers",9780531221020,18.95,332.024,2016,1,24,2.2999999999999998,"K",470,107,"Mari Schuh",null,null,0,null,0]
[null,0,"Spending Money","Money Matters","Blastoff! Readers",9780531221037,18.95,332.024,2016,1,24,2.2000000000000002,"L",440,107,"Mari Schuh",null,null,0,null,0]
[null,0,"Types of Money","Money Matters","Blastoff! Readers",9780531221044,18.95,332.4,2016,1,24,2.2999999999999998,"L",400,107,"Mari Schuh",null,null,0,null,0]
[null,0,"Animal Classes Set (6)","Animal Classes","Blastoff! Readers",null,113.7,null,null,6,null,null,null,null,107,null,null,null,0,null,0]
[null,0,"Insects","Animal Classes","Blastoff! Readers",9781600147746,18.95,595.70000000000005,2013,1,24,"3.0","L",470,107,"Kari Schuetz",null,null,0,null,0]
[null,0,"Amphibians","Animal Classes","Blastoff! Readers",9781600147715,18.95,597.79999999999995,2013,1,24,3.1,"K",530,107,"Kari Schuetz",null,null,0,null,0]
[null,0,"Birds","Animal Classes","Blastoff! Readers",9781600147722,18.95,598,2013,1,24,2.7,"J",460,107,"Kari Schuetz",null,null,0,null,0]
[null,0,"Fish","Animal Classes","Blastoff! Readers",9781600147739,18.95,597,2013,1,24,"3.0","K",520,107,"Kari Schuetz",null,null,0,null,0]
[null,0,"Mammals","Animal Classes","Blastoff! Readers",9781600147753,18.95,599,2013,1,24,"3.0","L",470,107,"Kari Schuetz",null,null,0,null,0]
[null,0,"Reptiles","Animal Classes","Blastoff! Readers",9781600147760,18.95,597,2013,1,24,3.2,"K",560,107,"Kari Schuetz",null,null,0,null,0]
[null,0,"Discover the Continents Set (7)","Discover the Continents","Blastoff! Readers",null,132.65,null,null,7,null,null,null,null,107,null,null,null,0,null,0]
[null,0,"Africa","Discover the Continents","Blastoff! Readers",9781626173231,18.95,916,2016,1,24,3.2,"M",600,107,"Emily Rose Oachs",null,null,0,null,0]
[null,0,"Antarctica","Discover the Continents","Blastoff! Readers",9781626173248,18.95,919.89,2016,1,24,3.3,"L",660,107,"Emily Rose Oachs",null,null,0,null,0]
[null,0,"Asia","Discover the Continents","Blastoff! Readers",9781626173255,18.95,915,2016,1,24,3.4,"M",630,107,"Emily Rose Oachs",null,null,0,null,0]
[null,0,"Australia","Discover the Continents","Blastoff! Readers",9781626173262,18.95,994,2016,1,24,3.3,"L",610,107,"Emily Rose Oachs",null,null,0,null,0]
[null,0,"Europe","Discover the Continents","Blastoff! Readers",9781626173279,18.95,914,2016,1,24,3.4,"M",580,107,"Emily Rose Oachs",null,null,0,null,0]
[null,0,"North America","Discover the Continents","Blastoff! Readers",9781626173286,18.95,970,2016,1,24,3.3,"M",600,107,"Emily Rose Oachs",null,null,0,null,0]
[null,0,"South America","Discover the Continents","Blastoff! Readers",9781626173293,18.95,980,2016,1,24,3.3,"M",630,107,"Emily Rose Oachs",null,null,0,null,0]
[null,0,"Discover the Oceans Set (5)","Discover the Oceans","Blastoff! Readers",null,94.75,null,null,5,null,null,null,null,107,null,null,null,0,null,0]
[null,0,"Arctic Ocean","Discover the Oceans","Blastoff! Readers",9781626173309,18.95,910.91629999999998,2016,1,24,3.4,"M",620,107,"Emily Rose Oachs",null,null,0,null,0]
[null,0,"Atlantic Ocean","Discover the Oceans","Blastoff! Readers",9781626173316,18.95,910.91669999999999,2016,1,24,3.4,"M",570,107,"Emily Rose Oachs",null,null,0,null,0]
[null,0,"Indian Ocean","Discover the Oceans","Blastoff! Readers",9781626173323,18.95,910.91650000000004,2016,1,24,3.4,"L",680,107,"Emily Rose Oachs",null,null,0,null,0]
[null,0,"Pacific Ocean","Discover the Oceans","Blastoff! Readers",9781626173330,18.95,910.91639999999995,2016,1,24,3.4,"M",660,107,"Emily Rose Oachs",null,null,0,null,0]
[null,0,"Southern Ocean","Discover the Oceans","Blastoff! Readers",9781626173347,18.95,796.7,2016,1,24,3.4,"L",660,107,"Emily Rose Oachs",null,null,0,null,0]
[null,0,"Brands We Know Set (34)","Brands We Know","Pilot",null,678.3,null,null,34,null,null,null,null,107,null,null,null,{"$f":"IF(A1552>0,1,0)","v":0},null,0]
[null,{"$f":"A1553*G1553","v":0},"Amazon","Brands We Know","Pilot",9781626177734,19.95,629.22199999999998,2018,1,24,4.5,"S",720,107,"Sara Green",null,null,0,null,0]
[null,0,"American Girl","Brands We Know","Pilot","9781626175532",19.95,338.7,2017,1,24,4.5,"R",800,107,"Sara Green",null,null,0,null,0]
[null,0,"Apple","Brands We Know","Pilot",9781626172869,19.95,338.7,2016,1,24,"4.4","S",740,107,"Sara Green",null,null,0,null,0]
[null,0,"Barbie","Brands We Know","Pilot","9781626175549",19.95,688.7,2017,1,24,4.4000000000000004,"R",820,107,"Sara Green",null,null,0,null,0]
[null,0,"Coca-Cola","Brands We Know","Pilot",9781626172876,19.95,338.7,2016,1,24,4.5,"R",740,107,"Sara Green",null,null,0,null,0]
[null,0,"Crayola","Brands We Know","Pilot",9781626172883,19.95,338.7,2016,1,24,4.5,"R",760,107,"Sara Green",null,null,0,null,0]
[null,0,"Dairy Queen","Brands We Know","Pilot",9781626174078,19.95,647.95730000000003,2017,1,24,"4.4","R",800,107,"Sara Green",null,null,0,null,0]
[null,0,"Disney","Brands We Know","Pilot",9781626172050,19.95,384,2015,1,24,4.4000000000000004,"S",730,107,"Sara Green",null,null,0,null,0]
[null,0,"ESPN","Brands We Know","Pilot",9781626176515,19.95,70.449796097299995,2018,1,24,4.5,"S",770,107,"Sara Green",null,null,0,null,0]
[null,0,"Ford","Brands We Know","Pilot",9781626174085,19.95,338.7,2017,1,24,"4.4","R",710,107,"Sara Green",null,null,0,null,0]
[null,0,"General Mills","Brands We Know","Pilot",9781626176522,19.95,338.7,2018,1,24,4.5,"R",830,107,"Sara Green",null,null,0,null,0]
[null,0,"Google","Brands We Know","Pilot",9781626173477,19.95,338.7,2016,1,24,"4.6","R",740,107,"Sara Green",null,null,0,null,0]
[null,0,"Hello Kitty","Brands We Know","Pilot",9781626177741,19.95,629.22199999999998,2018,1,24,4.5,"R",830,107,"Sara Green",null,null,0,null,0]
[null,0,"Hershey's","Brands We Know","Pilot",9781626172067,19.95,338.7,2015,1,24,4.3,"R",710,107,"Sara Green",null,null,0,null,0]
[null,0,"Hot Wheels","Brands We Know","Pilot","9781626175556",19.95,629.22,2017,1,24,4.0999999999999996,"S",810,107,"Sara Green",null,null,0,null,0]
[null,0,"John Deere","Brands We Know","Pilot",9781626173484,19.95,338.7,2016,1,24,"4.5","Q",750,107,"Sara Green",null,null,0,null,0]
[null,0,"Kellogg's","Brands We Know","Pilot",9781626172074,19.95,338.7,2015,1,24,4.5,"S",750,107,"Sara Green",null,null,0,null,0]
[null,0,"Kraft","Brands We Know","Pilot",9781626174092,19.95,338.7,2017,1,24,"4.4","R",760,107,"Sara Green",null,null,0,null,0]
[null,0,"LEGO","Brands We Know","Pilot",9781626172081,19.95,338.7,2015,1,24,4.4000000000000004,"R",700,107,"Sara Green",null,null,0,null,0]
[null,0,"McDonald's","Brands We Know","Pilot",9781626172098,19.95,647.95730000000003,2015,1,24,4.5,"R",740,107,"Sara Green",null,null,0,null,0]
[null,0,"Minecraft","Brands We Know","Pilot",9781626174108,19.95,794.8,2017,1,24,"4.4","R","-",107,"Sara Green",null,null,0,null,0]
[null,0,"My Little Pony","Brands We Know","Pilot",9781626177758,19.95,629.22199999999998,2018,1,24,4.2,"R",700,107,"Sara Green",null,null,0,null,0]
[null,0,"Nerf","Brands We Know","Pilot",9781626173491,19.95,790.1,2016,1,24,"4.2","Q",760,107,"Sara Green",null,null,0,null,0]
[null,0,"Netflix","Brands We Know","Pilot",9781626176539,19.95,384.55,2018,1,24,4.5,"R",730,107,"Sara Green",null,null,0,null,0]
[null,0,"Nickelodeon","Brands We Know","Pilot",9781626174115,19.95,384.55059999999997,2017,1,24,"4.3","R",680,107,"Sara Green",null,null,0,null,0]
[null,0,"Nike","Brands We Know","Pilot",9781626172104,19.95,338.7,2015,1,24,4.5,"R",710,107,"Sara Green",null,null,0,null,{"$f":"A1578*J1578","v":0}]
[null,0,"Nintendo","Brands We Know","Pilot",9781626173507,19.95,794.8,2016,1,24,"4.4","R",770,107,"Sara Green",null,null,0,null,0]
[null,0,"Parker Brothers","Brands We Know","Pilot",9781626176546,19.95,338.7,2018,1,24,4.2,"R",750,107,"Sara Green",null,null,0,null,0]
[null,0,"Pokemon","Brands We Know","Pilot",9781626176553,19.95,794.8,2018,1,24,4.2,"R",780,107,"Sara Green",null,null,0,null,0]
[null,0,"Power Rangers","Brands We Know","Pilot",9781626177765,19.95,629.22,2018,1,24,4.5,"R",750,107,"Sara Green",null,null,0,null,0]
[null,0,"Sony","Brands We Know","Pilot",9781626174122,19.95,338.7,2017,1,24,"4.4","R",700,107,"Sara Green",null,null,0,null,0]
[null,0,"Star Wars","Brands We Know","Pilot",9781626176560,19.95,791.43,2018,1,24,4.5,"R",730,107,"Sara Green",null,null,0,null,0]
[null,0,"Target","Brands We Know","Pilot",9781626172890,19.95,381,2016,1,24,4.5,"R",720,107,"Sara Green",null,null,0,null,0]
[null,0,"Transformers","Brands We Know","Pilot","9781626175563",19.95,688.7,2017,1,24,4.5999999999999996,"S",760,107,"Sara Green",null,null,0,null,0]
[null,0,"Amazing Snakes! Set (12)","Amazing Snakes!","Epic",null,239.4,null,null,12,null,null,null,null,108,null,null,null,0,null,0]
[null,0,"Ball Pythons","Amazing Snakes!","Epic",9781626170889,19.95,597,2014,1,24,3.3,"O",680,108,"Davy Sweazey",null,null,0,null,0]
[null,0,"Burmese Pythons","Amazing Snakes!","Epic",9781626170896,19.95,597,2014,1,24,3.2,"N",700,108,"Emily Rose Oachs",null,null,0,null,0]
[null,0,"Bush Vipers","Amazing Snakes!","Epic",9781626170902,19.95,597,2014,1,24,"3.0","N",730,108,"Davy Sweazey",null,null,0,null,0]
[null,0,"Death Adders","Amazing Snakes!","Epic",9781626170919,19.95,597,2014,1,24,3.4,"O",630,108,"Davy Sweazey",null,null,0,null,0]
[null,0,"Emerald Tree Boas","Amazing Snakes!","Epic",9781626170926,19.95,597,2014,1,24,2.9,"N",660,108,"Emily Rose Oachs",null,null,0,null,0]
[null,0,"Green Anacondas","Amazing Snakes!","Epic",9781626170933,19.95,597,2014,1,24,2.9,"N",610,108,"Emily Rose Oachs",null,null,0,null,0]
[null,0,"King Cobras","Amazing Snakes!","Epic",9781626170940,19.95,597,2014,1,24,"3.0","N",720,108,"Davy Sweazey",null,null,0,null,0]
[null,0,"Spitting Cobras","Amazing Snakes!","Epic",9781626170957,19.95,597,2014,1,24,3.2,"N",690,108,"Emily Rose Oachs",null,null,0,null,0]
[null,0,"Gaboon Vipers","Amazing Snakes!","Epic",9781626171237,19.95,597.96,2015,1,24,3.2,"M",640,108,"Chris Bowman",null,null,0,null,0]
[null,0,"Inland Taipans","Amazing Snakes!","Epic",9781626171244,19.95,597.96,2015,1,24,3.1,"M",600,108,"Chris Bowman",null,null,0,null,0]
[null,0,"Rainbow Boas","Amazing Snakes!","Epic",9781626171251,19.95,597.96,2015,1,24,3.3,"M",710,108,"Chris Bowman",null,null,0,null,0]
[null,0,"Western Diamondback Rattlesnakes","Amazing Snakes!","Epic",9781626171268,19.95,597.96,2015,1,24,3.1,"M",610,108,"Chris Bowman",null,null,0,null,0]
[null,0,"Major League Sports Set (6)","Major League Sports","Epic",null,119.7,null,null,6,null,null,null,null,108,null,null,null,0,null,0]
[null,0,"Major League Baseball","Major League Sports","Epic",9781626171336,19.95,796.35699999999997,2015,1,24,3.7,"N",540,108,"David Rausch",null,null,0,null,0]
[null,0,"Major League Soccer","Major League Sports","Epic",9781626171343,19.95,796.33399999999995,2015,1,24,3.4,"N",560,108,"David Rausch",null,null,0,null,0]
[null,0,"National Basketball Association","Major League Sports","Epic",9781626171350,19.95,796.32299999999998,2015,1,24,3.4,"N",530,108,"David Rausch",null,null,0,null,0]
[null,0,"National Football League","Major League Sports","Epic",9781626171367,19.95,796.33199999999999,2015,1,24,3.3,"N",480,108,"David Rausch",null,null,0,null,0]
[null,0,"National Hockey League","Major League Sports","Epic",9781626171374,19.95,796.96199999999999,2015,1,24,3.5,"N",560,108,"David Rausch",null,null,0,null,0]
[null,0,"United States Tennis Association","Major League Sports","Epic",9781626171381,19.95,796.34199999999998,2015,1,24,3.5,"O",530,108,"David Rausch",null,null,0,null,0]
[null,0,"Military Missions Set (8)","Military Missions","Epic",null,159.6,null,null,8,null,null,null,null,108,null,null,null,0,null,0]
[null,0,"Combat","Military Missions","Epic",9781626174337,19.95,355.4,2017,1,24,"3.3","M",321,108,"Nel Yomtov",null,null,0,null,0]
[null,0,"Counterterrorism","Military Missions","Epic",9781626174344,19.95,363.32499999999999,2017,1,24,"3.6","M",313,108,"Nel Yomtov",null,null,0,null,0]
[null,0,"Patrolling","Military Missions","Epic",9781626174351,19.95,355.4,2017,1,24,"3.3","M",321,108,"Nel Yomtov",null,null,0,null,0]
[null,0,"Peacekeeping","Military Missions","Epic",9781626174368,19.95,355.4,2017,1,24,"3.4","M",303,108,"Nel Yomtov",null,null,0,null,0]
[null,0,"Recon","Military Missions","Epic",9781626174375,19.95,359.9,2017,1,24,"3.7","M",299,108,"Nel Yomtov",null,null,0,null,0]
[null,0,"Rescue","Military Missions","Epic",9781626174382,19.95,355.4,2017,1,24,"3.3","M",291,108,"Nel Yomtov",null,null,0,null,0]
[null,0,"Special Ops","Military Missions","Epic",9781626174399,19.95,356,2017,1,24,"3.5","M",328,108,"Nel Yomtov",null,null,0,null,0]
[null,0,"Troop Transport","Military Missions","Epic",9781626174405,19.95,355.4,2017,1,24,"3.5","M",346,108,"Nel Yomtov",null,null,0,null,0]
[null,0,"Military Vehicles Set (22)","Military Vehicles","Epic",null,438.9,null,null,22,null,null,null,null,108,null,null,null,{"$f":"IF(A1616>0,1,0)","v":0},null,0]
[null,{"$f":"A1617*G1617","v":0},"Abrams Tanks","Military Vehicles","Epic",9781600148149,19.95,623.74,2013,1,24,3.2,"M",540,108,"Denny Von Finn",null,null,0,null,0]
[null,0,"AH-1W Super Cobras","Military Vehicles","Epic",9781600148156,19.95,623.74,2013,1,24,3.4,"M",580,108,"Denny Von Finn",null,null,0,null,0]
[null,0,"Apache Helicopters","Military Vehicles","Epic",9781600148163,19.95,623.74,2013,1,24,2.9,"M",450,108,"Denny Von Finn",null,null,0,null,0]
[null,0,"Arleigh Burke Destroyers","Military Vehicles","Epic",9781626170803,19.95,623,2014,1,24,3.2,"N",650,108,"Denny Von Finn",null,null,0,null,0]
[null,0,"B-2 Stealth Bombers","Military Vehicles","Epic",9781600148835,19.95,358.4,2013,1,24,"2.9","N","680",108,"Denny Von Finn",null,null,0,null,0]
[null,0,"F-14 Tomcats","Military Vehicles","Epic",9781600149412,19.95,623.74,2014,1,24,2.9,"M",490,108,"Denny Von Finn",null,null,0,null,0]
[null,0,"F-15 Eagles","Military Vehicles","Epic",9781600149429,19.95,623.74,2014,1,24,"3.0","M",600,108,"Denny Von Finn",null,null,0,null,0]
[null,0,"F-16 Fighting Falcons","Military Vehicles","Epic",9781600148842,19.95,623.74,2013,1,24,"3.0","N","660",108,"Denny Von Finn",null,null,0,null,0]
[null,0,"F-22 Raptors","Military Vehicles","Epic",9781600148170,19.95,623.74,2013,1,24,3.3,"N",600,108,"Denny Von Finn",null,null,0,null,0]
[null,0,"F-35 Lightning II s","Military Vehicles","Epic",9781600148859,19.95,623.74,2013,1,24,"3.1","N","610",108,"Denny Von Finn",null,null,0,null,0]
[null,0,"F/A-18E/F Super Hornets","Military Vehicles","Epic",9781600148187,19.95,623.74,2013,1,24,3.4,"N",570,108,"Denny Von Finn",null,null,0,null,0]
[null,0,"HH-60 Pave Hawk Helicopters","Military Vehicles","Epic",9781600148194,19.95,623.74,2013,1,24,3.4,"M",650,108,"Denny Von Finn",null,null,0,null,0]
[null,0,"Humvees","Military Vehicles","Epic",9781600148866,19.95,623.74,2013,1,24,"2.9","N","580",108,"Denny Von Finn",null,null,0,null,0]
[null,0,"M-ATVs","Military Vehicles","Epic",9781600149436,19.95,623.74,2014,1,24,2.9,"M",550,108,"Denny Von Finn",null,null,0,null,0]
[null,0,"M109A6 Paladins","Military Vehicles","Epic",9781600148200,19.95,623.4,2013,1,24,3.1,"M",470,108,"Denny Von Finn",null,null,0,null,0]
[null,0,"MH-53E Sea Dragons","Military Vehicles","Epic",9781626170810,19.95,623,2014,1,24,3.4,"N",600,108,"Denny Von Finn",null,null,0,null,0]
[null,0,"Nimitz Aircraft Carriers","Military Vehicles","Epic",9781600148873,19.95,623.82500000000005,2013,1,24,"3.2","N","640",108,"Denny Von Finn",null,null,0,null,0]
[null,0,"Predator Drones","Military Vehicles","Epic",9781600148217,19.95,623.74,2013,1,24,3.4,"N",500,108,"Denny Von Finn",null,null,0,null,0]
[null,0,"Strykers","Military Vehicles","Epic",9781626170827,19.95,623,2014,1,24,"3.0","O",500,108,"Denny Von Finn",null,null,0,null,0]
[null,0,"U-2 Planes","Military Vehicles","Epic",9781600149443,19.95,358.4,2014,1,24,2.9,"M",600,108,"Denny Von Finn",null,null,0,null,0]
[null,0,"UH-60 Black Hawks","Military Vehicles","Epic",9781600148880,19.95,623.74,2013,1,24,"3.0","N","620",108,"Denny Von Finn",null,null,0,null,0]
[null,0,"V-22 Ospreys","Military Vehicles","Epic",9781626170834,19.95,623,2014,1,24,3.1,"N",590,108,"Denny Von Finn",null,null,0,null,0]
[null,0,"Totally Disgusting Set (6)","Totally Disgusting","Epic",null,119.7,null,null,6,null,null,null,null,109,null,null,null,0,null,0]
[null,0,"Disgusting Animals","Totally Disgusting","Epic",9781626171275,19.95,591.5,2015,1,24,2.7,"N",510,109,"Patrick Perish",null,null,0,null,0]
[null,0,"Disgusting Bugs","Totally Disgusting","Epic",9781626171282,19.95,595.71500000000003,2015,1,24,2.6,"M",450,109,"Patrick Perish",null,null,0,null,0]
[null,0,"Disgusting Bodily Functions","Totally Disgusting","Epic",9781626171299,19.95,612,2015,1,24,2.9,"N",530,109,"Patrick Perish",null,null,0,null,{"$f":"A1642*J1642","v":0}]
[null,0,"Disgusting Foods","Totally Disgusting","Epic",9781626171305,19.95,641.29999999999995,2015,1,24,2.9,"N",500,109,"Patrick Perish",null,null,0,null,0]
[null,0,"Disgusting Jobs","Totally Disgusting","Epic",9781626171312,19.95,331.7,2015,1,24,3.1,"N",530,109,"Patrick Perish",null,null,0,null,0]
[null,0,"Disgusting Plants","Totally Disgusting","Epic",9781626171329,19.95,580,2015,1,24,2.8,"N",540,109,"Patrick Perish",null,null,0,null,0]
[null,0,"Unexplained Mysteries Set (13)","Unexplained Mysteries","Epic",null,259.35000000000002,null,null,13,null,null,null,null,109,null,null,null,0,null,0]
[null,0,"Alien Abductions","Unexplained Mysteries","Epic",9781626171008,19.95,1,2014,1,24,2.8,"O",580,109,"Ray McClellan",null,null,0,null,0]
[null,0,"Area 51","Unexplained Mysteries","Epic",9781626171015,19.95,1,2014,1,24,3.1,"N",630,109,"Nadia Higgins",null,null,0,null,0]
[null,0,"Atlantis","Unexplained Mysteries","Epic",9781626172005,19.95,398.23,2015,1,24,"3.0","N",560,109,"Lisa Owings",null,null,0,null,0]
[null,0,"Bermuda Triangle, The","Unexplained Mysteries","Epic",9781626171022,19.95,1,2014,1,24,3.4,"N",580,109,"Ray McClellan",null,null,0,null,0]
[null,0,"Bigfoot","Unexplained Mysteries","Epic",9781626171039,19.95,1,2014,1,24,"3.0","N",590,109,"Ray McClellan",null,null,0,null,0]
[null,0,"ESP","Unexplained Mysteries","Epic",9781626172012,19.95,133.80000000000001,2015,1,24,"3.0","O",500,109,"Lisa Owings",null,null,0,null,0]
[null,0,"Ghost Ships","Unexplained Mysteries","Epic",9781626172029,19.95,1.94,2015,1,24,3.2,"N",530,109,"Lisa Owings",null,null,0,null,0]
[null,0,"Ghosts","Unexplained Mysteries","Epic",9781626171046,19.95,1,2014,1,24,"3.0","N",610,109,"Nadia Higgins",null,null,0,null,0]
[null,0,"Haunted Houses","Unexplained Mysteries","Epic",9781626171053,19.95,1,2014,1,24,3.1,"N",580,109,"Nadia Higgins",null,null,0,null,0]
[null,0,"Loch Ness Monster, The","Unexplained Mysteries","Epic",9781626171060,19.95,1,2014,1,24,"3.0","N",580,109,"Ray McClellan",null,null,0,null,0]
[null,0,"Mummy's Curse, The","Unexplained Mysteries","Epic",9781626172036,19.95,393,2015,1,24,3.3,"N",530,109,"Lisa Owings",null,null,0,null,0]
[null,0,"Stonehenge","Unexplained Mysteries","Epic",9781626172043,19.95,936.2,2015,1,24,3.1,"O",560,109,"Lisa Owings",null,null,0,null,0]
[null,0,"UFOs","Unexplained Mysteries","Epic",9781626171077,19.95,1,2014,1,24,3.4,"N",640,109,"Nadia Higgins",null,null,0,null,0]
[null,0,"Wrestling Superstars Set (16)","Wrestling Superstars","Epic",null,319.2,null,null,16,null,null,null,null,109,null,null,null,0,null,0]
[null,0,"Alberto Del Rio","Wrestling Superstars","Epic",9781626171398,19.95,796.81200000000001,2015,1,24,"3.0","M",600,109,"Blake Markegard",null,null,0,null,0]
[null,0,"Big Show","Wrestling Superstars","Epic",9781626171787,19.95,796.81209200000001,2015,1,24,2.6,"M",560,109,"Jesse Armstrong",null,null,0,null,0]
[null,0,"Chris Jericho","Wrestling Superstars","Epic",9781626171404,19.95,796.81200000000001,2015,1,24,2.8,"M",510,109,"Ray McClellan",null,null,0,null,0]
[null,0,"Dolph Ziggler","Wrestling Superstars","Epic",9781626171794,19.95,796.81209200000001,2015,1,24,2.8,"M",560,109,"Jesse Armstrong",null,null,0,null,0]
[null,0,"John Cena","Wrestling Superstars","Epic",9781626171411,19.95,796.81200000000001,2015,1,24,"3.0","M",540,109,"Blake Markegard",null,null,0,null,0]
[null,0,"Kane","Wrestling Superstars","Epic",9781626171428,19.95,796.81200000000001,2015,1,24,2.7,"M",560,109,"Ray McClellan",null,null,0,null,0]
[null,0,"Kofi Kingston","Wrestling Superstars","Epic",9781626171800,19.95,796.81209200000001,2015,1,24,3.1,"L",610,109,"Jesse Armstrong",null,null,0,null,0]
[null,0,"Mark Henry","Wrestling Superstars","Epic",9781626171817,19.95,796.81209200000001,2015,1,24,"3.0","L",530,109,"Jesse Armstrong",null,null,0,null,0]
[null,0,"Miz, The","Wrestling Superstars","Epic",9781626171466,19.95,796.81200000000001,2015,1,24,3.1,"M",550,109,"Blake Markegard",null,null,0,null,0]
[null,0,"Randy Orton","Wrestling Superstars","Epic",9781626171824,19.95,796.81209200000001,2015,1,24,2.9,"L",570,109,"Jesse Armstrong",null,null,0,null,0]
[null,0,"Rey Mysterio","Wrestling Superstars","Epic",9781626171435,19.95,796.81200000000001,2015,1,24,2.6,"M",540,109,"Blake Markegard",null,null,0,null,0]
[null,0,"Santino Marella","Wrestling Superstars","Epic",9781626171442,19.95,796.81200000000001,2015,1,24,"3.0","M",610,109,"Blake Markegard",null,null,0,null,0]
[null,0,"Sheamus","Wrestling Superstars","Epic",9781626171459,19.95,796.81200000000001,2015,1,24,"3.0","M",570,109,"Blake Markegard",null,null,0,null,0]
[null,0,"Triple H","Wrestling Superstars","Epic",9781626171831,19.95,796.81209200000001,2015,1,24,"3.0","M","NC650",109,"Jesse Armstrong",null,null,0,null,0]
[null,0,"Undertaker","Wrestling Superstars","Epic",9781626171473,19.95,796.81200000000001,2015,1,24,"3.0","M",580,109,"Ray McClellan",null,null,0,null,0]
[null,0,"Zack Ryder","Wrestling Superstars","Epic",9781626171480,19.95,796.81200000000001,2015,1,24,2.8,"M",570,109,"Blake Markegard",null,null,0,null,0]
[null,0,"The Scariest Places on Earth Set (12)","The Scariest Places on Earth","Torque",null,239.4,null,null,12,null,null,null,null,109,null,null,null,0,null,0]
[null,0,"Alcatraz","The Scariest Places on Earth","Torque",9781600149450,19.95,365,2014,1,24,3.2,"O",480,109,"Nick Gordon",null,null,0,null,0]
[null,0,"Bone Chapel, The","The Scariest Places on Earth","Torque",9781600149467,19.95,393,2014,1,24,3.5,"O",590,109,"Nick Gordon",null,null,0,null,0]
[null,0,"Eastern State Penitentiary","The Scariest Places on Earth","Torque",9781600149474,19.95,133.1,2014,1,24,3.6,"O",600,109,"Nick Gordon",null,null,{"$f":"IF(A1680>0,1,0)","v":0},null,0]
[null,{"$f":"A1681*G1681","v":0},"Edinburgh Castle","The Scariest Places on Earth","Torque",9781600149481,19.95,133.1,2014,1,24,3.7,"O",650,109,"Nick Gordon",null,null,0,null,0]
[null,0,"Gettysburg","The Scariest Places on Earth","Torque",9781600149955,19.95,133.1,2015,1,24,"4.0","N",630,109,"Michael Ferut",null,null,0,null,0]
[null,0,"Paris Catacombs","The Scariest Places on Earth","Torque",9781600149498,19.95,944,2014,1,24,3.5,"P",610,109,"Denny Von Finn",null,null,0,null,0]
[null,0,"RMS Queen Mary","The Scariest Places on Earth","Torque",9781600149962,19.95,133.1,2015,1,24,3.6,"N",650,109,"Michael Ferut",null,null,0,null,0]
[null,0,"St. Louis Cemetery No. 1","The Scariest Places on Earth","Torque",9781600149979,19.95,133.1,2015,1,24,3.4,"N",660,109,"Michael Ferut",null,null,0,null,0]
[null,0,"Stanley Hotel","The Scariest Places on Earth","Torque",9781600149504,19.95,133.1,2014,1,24,3.7,"O",630,109,"Denny Von Finn",null,null,0,null,0]
[null,0,"Tower of London","The Scariest Places on Earth","Torque",9781600149511,19.95,133.1,2014,1,24,3.7,"O",650,109,"Denny Von Finn",null,null,0,null,0]
[null,0,"Transylvania","The Scariest Places on Earth","Torque",9781600149528,19.95,133.109498,2014,1,24,3.7,"P",630,109,"Denny Von Finn",null,null,0,null,0]
[null,0,"Winchester Mystery House","The Scariest Places on Earth","Torque",9781600149986,19.95,133.1,2015,1,24,3.5,"N",540,109,"Michael Ferut",null,null,0,null,0]
[null,0,"Engineered by Nature Set (6)","Engineered by Nature","Pilot",null,119.7,null,null,6,null,null,null,null,null,null,null,null,0,null,{"$f":"A1690*J1690","v":0}]
[null,0,"Animal Adaptations","Engineered by Nature","Pilot","9781626175853",19.95,591.47,2017,1,24,3.9,"Q",650,null,"Louise and Richard Spilsbury",null,null,0,null,0]
[null,0,"Animal Homes and Hangouts","Engineered by Nature","Pilot","9781626175860",19.95,591.55999999999995,2017,1,24,3.9,"Q",720,null,"Louise and Richard Spilsbury",null,null,0,null,0]
[null,0,"Animal Traps and Lairs","Engineered by Nature","Pilot","9781626175877",19.95,591.5,2017,1,24,4,"Q",700,null,"Louise and Richard Spilsbury",null,null,0,null,0]
[null,0,"Born Survivors","Engineered by Nature","Pilot","9781626175884",19.95,591.29999999999995,2017,1,24,3.9,"Q",650,null,"Louise and Richard Spilsbury",null,null,0,null,0]
[null,0,"Deadly Predators","Engineered by Nature","Pilot","9781626175891",19.95,591.5,2017,1,24,4,"Q",710,null,"Louise and Richard Spilsbury",null,null,0,null,0]
[null,0,"Killer Plants","Engineered by Nature","Pilot","9781626175907",19.95,583.75,2017,1,24,4,"R",700,null,"Louise and Richard Spilsbury",null,null,0,null,0]
[null,0,"You Can Draw It! Set (14)","You Can Draw It!","Express!",null,279.3,null,null,14,null,null,null,null,null,null,null,null,0,null,0]
[null,0,"Aircraft","You Can Draw It!","Express!",9781600148088,19.95,743,2013,1,24,"5.0","O",930,null,"Jon Eppard",null,null,0,null,0]
[null,0,"Aliens","You Can Draw It!","Express!",9781600148989,19.95,743,2013,1,24,"4.8","P","840",null,"Maggie Rosier",null,null,0,null,0]
[null,0,"Big Cats","You Can Draw It!","Express!",9781600148095,19.95,743.6,2013,1,24,4.4000000000000004,"P",820,null,"Jon Eppard",null,null,0,null,0]
[null,0,"Birds of Prey","You Can Draw It!","Express!",9781626170964,19.95,743,2014,1,24,4.0999999999999996,"R",780,null,"Steve Porter",null,null,0,null,0]
[null,0,"Dinosaurs","You Can Draw It!","Express!",9781600148996,19.95,743.6,2013,1,24,"4.6","P","790",null,"Maggie Rosier",null,null,0,null,0]
[null,0,"Dogs","You Can Draw It!","Express!",9781600148101,19.95,743.6,2013,1,24,4.5999999999999996,"O",830,null,"Jon Eppard",null,null,0,null,0]
[null,0,"Fairies","You Can Draw It!","Express!",9781626170971,19.95,743,2014,1,24,4.0999999999999996,"Q",780,null,"Steve Porter",null,null,0,null,0]
[null,0,"Horses","You Can Draw It!","Express!",9781600148118,19.95,743.6,2013,1,24,4.5999999999999996,"P",820,null,"Jon Eppard",null,null,0,null,0]
[null,0,"Manga","You Can Draw It!","Express!",9781600148125,19.95,741.5,2013,1,24,4.7,"P",810,null,"Jon Eppard",null,null,0,null,0]
[null,0,"Monsters","You Can Draw It!","Express!",9781600148132,19.95,743,2013,1,24,4.9000000000000004,"P",850,null,"Jon Eppard",null,null,0,null,0]
[null,0,"Mythical Beasts","You Can Draw It!","Express!",9781626170988,19.95,743,2014,1,24,4.3,"R",820,null,"Steve Porter",null,null,0,null,0]
[null,0,"Robots","You Can Draw It!","Express!",9781600149009,19.95,743,2013,1,24,"4.9","P","850",null,"Maggie Rosier",null,null,0,null,0]
[null,0,"Sharks","You Can Draw It!","Express!",9781600149016,19.95,743.6,2013,1,24,"4.2","P","820",null,"Maggie Rosier",null,null,0,null,0]
[null,0,"Sports Cars","You Can Draw It!","Express!",9781626170995,19.95,743,2014,1,24,4.7,"R",810,null,"Steve Porter",null,null,0,null,0]
[]
[1,null,null,"PROMOS","(Y/N)"]
[1,"ORDER\nTOTAL:",{"$f":"SUM(B16:B1711)","v":0},"Buy Print, Get Ebook FREE",null,"($500 min.)"]
[1,"TOTAL\nUNITS:",{"$f":"SUM(U16:U1711)","v":0},"Free Shipping"]
[1,null,null,"Free Processing"]
[]
[null,"NOTES:"]

{"sheet":"Ebook Offer","index":1,"n_rows":1711,"n_cols":7,"rows_kept":1711,"cut":false,"hidden":false,"merged":[]}
[]
[]
[]
[null,"Date ",null,"Phone# "]
[null,"PO# ",null,"Fax# "]
[null,"Sales Rep ",null,"Email "]
[null,"Quote Preparer "]
[null,null," "]
[null,"Bill To: ",null,"Ship To: "]
[null,"School/Library ",null,"Attn"]
[null,"Address ",null,"Address"]
[]
[]
[null,null,"FREE EBOOKS"]
["Qty","Price","Title","Series","Imprint"]
[{"$f":"IF('Order Form'!A16>0, 1,0)","v":0},0,"Journey into Space Set (6)","Journey into Space","Blastoff! Missions",null,{"$f":"A16","v":0}]
[{"$f":"IF('Order Form'!A17>0, 1,0)","v":0},0,"Asteroid Belt, The","Journey into Space","Blastoff! Missions",null,0]
[{"$f":"IF('Order Form'!A18>0, 1,0)","v":0},0,"Dwarf Planets, The","Journey into Space","Blastoff! Missions",null,0]
[{"$f":"IF('Order Form'!A19>0, 1,0)","v":0},0,"Inner Planets, The","Journey into Space","Blastoff! Missions",null,0]
[{"$f":"IF('Order Form'!A20>0, 1,0)","v":0},0,"Moons","Journey into Space","Blastoff! Missions",null,0]
[{"$f":"IF('Order Form'!A21>0, 1,0)","v":0},0,"Outer Planets, The","Journey into Space","Blastoff! Missions",null,0]
[{"$f":"IF('Order Form'!A22>0, 1,0)","v":0},0,"Sun, The","Journey into Space","Blastoff! Missions",null,0]
[{"$f":"IF('Order Form'!A23>0, 1,0)","v":0},0,"Machines at Work Set (6)","Machines at Work","Blastoff! Missions",null,0]
[{"$f":"IF('Order Form'!A24>0, 1,0)","v":0},0,"An Airplane's Day","Machines at Work","Blastoff! Missions",null,0]
[{"$f":"IF('Order Form'!A25>0, 1,0)","v":0},0,"A Backhoe's Day","Machines at Work","Blastoff! Missions",null,0]
[{"$f":"IF('Order Form'!A26>0, 1,0)","v":0},0,"A Bulldozer's Day","Machines at Work","Blastoff! Missions",null,0]
[{"$f":"IF('Order Form'!A27>0, 1,0)","v":0},0,"A Dump Truck's Day","Machines at Work","Blastoff! Missions",null,0]
[{"$f":"IF('Order Form'!A28>0, 1,0)","v":0},0,"A Fire Truck's Day","Machines at Work","Blastoff! Missions",null,0]
[{"$f":"IF('Order Form'!A29>0, 1,0)","v":0},0,"A Tractor's Day","Machines at Work","Blastoff! Missions",null,0]
[{"$f":"IF('Order Form'!A30>0, 1,0)","v":0},0,"Amazing Animal Classes Set (6)","Amazing Animal Classes","Blastoff! Missions",null,0]
[{"$f":"IF('Order Form'!A31>0, 1,0)","v":0},0,"Awesome Amphibians","Amazing Animal Classes","Blastoff! Missions",null,0]
[{"$f":"IF('Order Form'!A32>0, 1,0)","v":0},0,"Brilliant Birds","Amazing Animal Classes","Blastoff! Missions",null,0]
[{"$f":"IF('Order Form'!A33>0, 1,0)","v":0},0,"Fantastic Fish","Amazing Animal Classes","Blastoff! Missions",null,0]
[{"$f":"IF('Order Form'!A34>0, 1,0)","v":0},0,"Incredible Insects","Amazing Animal Classes","Blastoff! Missions",null,0]
[{"$f":"IF('Order Form'!A35>0, 1,0)","v":0},0,"Marvelous Mammals","Amazing Animal Classes","Blastoff! Missions",null,0]
[{"$f":"IF('Order Form'!A36>0, 1,0)","v":0},0,"Remarkable Reptiles","Amazing Animal Classes","Blastoff! Missions",null,0]
[{"$f":"IF('Order Form'!A37>0, 1,0)","v":0},0,"The Seasons Set (4)","The Seasons","Blastoff! Beginners",null,0]
[{"$f":"IF('Order Form'!A38>0, 1,0)","v":0},0,"Fall","The Seasons","Blastoff! Beginners",null,0]
[{"$f":"IF('Order Form'!A39>0, 1,0)","v":0},0,"Spring","The Seasons","Blastoff! Beginners",null,0]
[{"$f":"IF('Order Form'!A40>0, 1,0)","v":0},0,"Summer","The Seasons","Blastoff! Beginners",null,0]
[{"$f":"IF('Order Form'!A41>0, 1,0)","v":0},0,"Winter","The Seasons","Blastoff! Beginners",null,0]
[{"$f":"IF('Order Form'!A42>0, 1,0)","v":0},0,"Community Places Set (10)","Community Places","Blastoff! Beginners",null,0]
[{"$f":"IF('Order Form'!A43>0, 1,0)","v":0},0,"Bank","Community Places","Blastoff! Beginners",null,0]
[{"$f":"IF('Order Form'!A44>0, 1,0)","v":0},0,"Community Center","Community Places","Blastoff! Beginners",null,0]
[{"$f":"IF('Order Form'!A45>0, 1,0)","v":0},0,"Fire Station","Community Places","Blastoff! Beginners",null,0]
[{"$f":"IF('Order Form'!A46>0, 1,0)","v":0},0,"Grocery Store","Community Places","Blastoff! Beginners",null,0]
[{"$f":"IF('Order Form'!A47>0, 1,0)","v":0},0,"Hospital","Community Places","Blastoff! Beginners",null,0]
[{"$f":"IF('Order Form'!A48>0, 1,0)","v":0},0,"Library","Community Places","Blastoff! Beginners",null,0]
[{"$f":"IF('Order Form'!A49>0, 1,0)","v":0},0,"Park","Community Places","Blastoff! Beginners",null,0]
[{"$f":"IF('Order Form'!A50>0, 1,0)","v":0},0,"Police Station","Community Places","Blastoff! Beginners",null,0]
[{"$f":"IF('Order Form'!A51>0, 1,0)","v":0},0,"Post Office","Community Places","Blastoff! Beginners",null,0]
[{"$f":"IF('Order Form'!A52>0, 1,0)","v":0},0,"School","Community Places","Blastoff! Beginners",null,0]
[{"$f":"IF('Order Form'!A53>0, 1,0)","v":0},0,"Happy Holidays! Set (12)","Happy Holidays!","Blastoff! Beginners",null,0]
[{"$f":"IF('Order Form'!A54>0, 1,0)","v":0},0,"Christmas","Happy Holidays!","Blastoff! Beginners",null,0]
[{"$f":"IF('Order Form'!A55>0, 1,0)","v":0},0,"Day of the Dead","Happy Holidays!","Blastoff! Beginners",null,0]
[{"$f":"IF('Order Form'!A56>0, 1,0)","v":0},0,"Diwali","Happy Holidays!","Blastoff! Beginners",null,0]
[{"$f":"IF('Order Form'!A57>0, 1,0)","v":0},0,"Earth Day","Happy Holidays!","Blastoff! Beginners",null,0]
[{"$f":"IF('Order Form'!A58>0, 1,0)","v":0},0,"Easter","Happy Holidays!","Blastoff! Beginners",null,0]
[{"$f":"IF('Order Form'!A59>0, 1,0)","v":0},0,"Halloween","Happy Holidays!","Blastoff! Beginners",null,0]
[{"$f":"IF('Order Form'!A60>0, 1,0)","v":0},0,"Hanukkah","Happy Holidays!","Blastoff! Beginners",null,0]
[{"$f":"IF('Order Form'!A61>0, 1,0)","v":0},0,"Indigenous Peoples' Day","Happy Holidays!","Blastoff! Beginners",null,0]
[{"$f":"IF('Order Form'!A62>0, 1,0)","v":0},0,"Kwanzaa","Happy Holidays!","Blastoff! Beginners",null,0]
[{"$f":"IF('Order Form'!A63>0, 1,0)","v":0},0,"Lunar New Year","Happy Holidays!","Blastoff! Beginners",null,0]
[{"$f":"IF('Order Form'!A64>0, 1,0)","v":0},0,"Ramadan","Happy Holidays!","Blastoff! Beginners",null,0]
[{"$f":"IF('Order Form'!A65>0, 1,0)","v":0},0,"Thanksgiving","Happy Holidays!","Blastoff! Beginners",null,0]
[{"$f":"IF('Order Form'!A66>0, 1,0)","v":0},0,"Oceans Animals Set (14)","Ocean Animals","Blastoff! Beginners",null,0]
[{"$f":"IF('Order Form'!A67>0, 1,0)","v":0},0,"Crabs","Ocean Animals","Blastoff! Beginners",null,0]
[{"$f":"IF('Order Form'!A68>0, 1,0)","v":0},0,"Dolphins","Ocean Animals","Blastoff! Beginners",null,0]
[{"$f":"IF('Order Form'!A69>0, 1,0)","v":0},0,"Eels","Ocean Animals","Blastoff! Beginners",null,0]
[{"$f":"IF('Order Form'!A70>0, 1,0)","v":0},0,"Jellyfish","Ocean Animals","Blastoff! Beginners",null,0]
[{"$f":"IF('Order Form'!A71>0, 1,0)","v":0},0,"Octopuses","Ocean Animals","Blastoff! Beginners",null,0]
[{"$f":"IF('Order Form'!A72>0, 1,0)","v":0},0,"Orcas","Ocean Animals","Blastoff! Beginners",null,0]
[{"$f":"IF('Order Form'!A73>0, 1,0)","v":0},0,"Penguins","Ocean Animals","Blastoff! Beginners",null,0]
[{"$f":"IF('Order Form'!A74>0, 1,0)","v":0},0,"Sea Horses","Ocean Animals","Blastoff! Beginners",null,0]
[{"$f":"IF('Order Form'!A75>0, 1,0)","v":0},0,"Sea Stars","Ocean Animals","Blastoff! Beginners",null,0]
[{"$f":"IF('Order Form'!A76>0, 1,0)","v":0},0,"Sea Turtles","Ocean Animals","Blastoff! Beginners",null,0]
[{"$f":"IF('Order Form'!A77>0, 1,0)","v":0},0,"Sharks","Ocean Animals","Blastoff! Beginners",null,0]
[{"$f":"IF('Order Form'!A78>0, 1,0)","v":0},0,"Stingrays","Ocean Animals","Blastoff! Beginners",null,0]
[{"$f":"IF('Order Form'!A79>0, 1,0)","v":0},0,"Walruses","Ocean Animals","Blastoff! Beginners",null,0]
[{"$f":"IF('Order Form'!A80>0, 1,0)","v":0},0,"Whales","Ocean Animals","Blastoff! Beginners",null,{"$f":"A80","v":0}]
[{"$f":"IF('Order Form'!A81>0, 1,0)","v":0},0,"Favorite Pets  Set (10)","Favorite Pets","Blastoff! Beginners",null,0]
[{"$f":"IF('Order Form'!A82>0, 1,0)","v":0},0,"Birds","Favorite Pets","Blastoff! Beginners",null,0]
[{"$f":"IF('Order Form'!A83>0, 1,0)","v":0},0,"Cats","Favorite Pets","Blastoff! Beginners",null,0]
[{"$f":"IF('Order Form'!A84>0, 1,0)","v":0},0,"Dogs","Favorite Pets","Blastoff! Beginners",null,0]
[{"$f":"IF('Order Form'!A85>0, 1,0)","v":0},0,"Fish","Favorite Pets","Blastoff! Beginners",null,0]
[{"$f":"IF('Order Form'!A86>0, 1,0)","v":0},0,"Guinea Pigs","Favorite Pets","Blastoff! Beginners",null,0]
[{"$f":"IF('Order Form'!A87>0, 1,0)","v":0},0,"Hamsters","Favorite Pets","Blastoff! Beginners",null,0]
[{"$f":"IF('Order Form'!A88>0, 1,0)","v":0},0,"Hermit Crabs","Favorite Pets","Blastoff! Beginners",null,0]
[{"$f":"IF('Order Form'!A89>0, 1,0)","v":0},0,"Lizards","Favorite Pets","Blastoff! Beginners",null,0]
[{"$f":"IF('Order Form'!A90>0, 1,0)","v":0},0,"Rabbits","Favorite Pets","Blastoff! Beginners",null,0]
[{"$f":"IF('Order Form'!A91>0, 1,0)","v":0},0,"Turtles","Favorite Pets","Blastoff! Beginners",null,0]
[{"$f":"IF('Order Form'!A92>0, 1,0)","v":0},0,"Too Cute! Set (18)","Too Cute!","Blastoff! Beginners",null,0]
[{"$f":"IF('Order Form'!A93>0, 1,0)","v":0},0,"Baby Bears","Too Cute!","Blastoff! Beginners",null,0]
[{"$f":"IF('Order Form'!A94>0, 1,0)","v":0},0,"Baby Cats","Too Cute!","Blastoff! Beginners",null,0]
[{"$f":"IF('Order Form'!A95>0, 1,0)","v":0},0,"Baby Cows","Too Cute!","Blastoff! Beginners",null,0]
[{"$f":"IF('Order Form'!A96>0, 1,0)","v":0},0,"Baby Deer","Too Cute!","Blastoff! Beginners",null,0]
[{"$f":"IF('Order Form'!A97>0, 1,0)","v":0},0,"Baby Dogs","Too Cute!","Blastoff! Beginners",null,0]
[{"$f":"IF('Order Form'!A98>0, 1,0)","v":0},0,"Baby Ducks","Too Cute!","Blastoff! Beginners",null,0]
[{"$f":"IF('Order Form'!A99>0, 1,0)","v":0},0,"Baby Foxes","Too Cute!","Blastoff! Beginners",null,0]
[{"$f":"IF('Order Form'!A100>0, 1,0)","v":0},0,"Baby Giraffes","Too Cute!","Blastoff! Beginners",null,0]
[{"$f":"IF('Order Form'!A101>0, 1,0)","v":0},0,"Baby Horses","Too Cute!","Blastoff! Beginners",null,0]
[{"$f":"IF('Order Form'!A102>0, 1,0)","v":0},0,"Baby Koalas","Too Cute!","Blastoff! Beginners",null,0]
[{"$f":"IF('Order Form'!A103>0, 1,0)","v":0},0,"Baby Monkeys","Too Cute!","Blastoff! Beginners",null,0]
[{"$f":"IF('Order Form'!A104>0, 1,0)","v":0},0,"Baby Pandas","Too Cute!","Blastoff! Beginners",null,0]
[{"$f":"IF('Order Form'!A105>0, 1,0)","v":0},0,"Baby Penguins","Too Cute!","Blastoff! Beginners",null,0]
[{"$f":"IF('Order Form'!A106>0, 1,0)","v":0},0,"Baby Rabbits","Too Cute!","Blastoff! Beginners",null,0]
[{"$f":"IF('Order Form'!A107>0, 1,0)","v":0},0,"Baby Raccoons","Too Cute!","Blastoff! Beginners",null,0]
[{"$f":"IF('Order Form'!A108>0, 1,0)","v":0},0,"Baby Sloths","Too Cute!","Blastoff! Beginners",null,0]
[{"$f":"IF('Order Form'!A109>0, 1,0)","v":0},0,"Baby Squirrels","Too Cute!","Blastoff! Beginners",null,0]
[{"$f":"IF('Order Form'!A110>0, 1,0)","v":0},0,"Baby Wolves","Too Cute!","Blastoff! Beginners",null,0]
[{"$f":"IF('Order Form'!A111>0, 1,0)","v":0},0,"Machines with Power! Set (14)","Machines with Power!","Blastoff! Beginners",null,0]
[{"$f":"IF('Order Form'!A112>0, 1,0)","v":0},0,"Airplanes","Machines with Power!","Blastoff! Beginners",null,0]
[{"$f":"IF('Order Form'!A113>0, 1,0)","v":0},0,"Backhoes","Machines with Power!","Blastoff! Beginners",null,0]
[{"$f":"IF('Order Form'!A114>0, 1,0)","v":0},0,"Bulldozers","Machines with Power!","Blastoff! Beginners",null,0]
[{"$f":"IF('Order Form'!A115>0, 1,0)","v":0},0,"Cranes","Machines with Power!","Blastoff! Beginners",null,0]
[{"$f":"IF('Order Form'!A116>0, 1,0)","v":0},0,"Dump Trucks","Machines with Power!","Blastoff! Beginners",null,0]
[{"$f":"IF('Order Form'!A117>0, 1,0)","v":0},0,"Fire Trucks","Machines with Power!","Blastoff! Beginners",null,0]
[{"$f":"IF('Order Form'!A118>0, 1,0)","v":0},0,"Garbage Trucks","Machines with Power!","Blastoff! Beginners",null,0]
[{"$f":"IF('Order Form'!A119>0, 1,0)","v":0},0,"Helicopters","Machines with Power!","Blastoff! Beginners",null,0]
[{"$f":"IF('Order Form'!A120>0, 1,0)","v":0},0,"Monster Trucks","Machines with Power!","Blastoff! Beginners",null,0]
[{"$f":"IF('Order Form'!A121>0, 1,0)","v":0},0,"Police Cars","Machines with Power!","Blastoff! Beginners",null,0]
[{"$f":"IF('Order Form'!A122>0, 1,0)","v":0},0,"Race Cars","Machines with Power!","Blastoff! Beginners",null,0]
[{"$f":"IF('Order Form'!A123>0, 1,0)","v":0},0,"Ships","Machines with Power!","Blastoff! Beginners",null,0]
[{"$f":"IF('Order Form'!A124>0, 1,0)","v":0},0,"Tractors","Machines with Power!","Blastoff! Beginners",null,0]
[{"$f":"IF('Order Form'!A125>0, 1,0)","v":0},0,"Trains","Machines with Power!","Blastoff! Beginners",null,0]
[{"$f":"IF('Order Form'!A126>0, 1,0)","v":0},0,"Animals in My Yard Set (18)","Animals in My Yard","Blastoff! Beginners",null,0]
[{"$f":"IF('Order Form'!A127>0, 1,0)","v":0},0,"Armadillos","Animals in My Yard","Blastoff! Beginners",null,0]
[{"$f":"IF('Order Form'!A128>0, 1,0)","v":0},0,"Badgers","Animals in My Yard","Blastoff! Beginners",null,0]
[{"$f":"IF('Order Form'!A129>0, 1,0)","v":0},0,"Bats","Animals in My Yard","Blastoff! Beginners",null,0]
[{"$f":"IF('Order Form'!A130>0, 1,0)","v":0},0,"Bears","Animals in My Yard","Blastoff! Beginners",null,0]
[{"$f":"IF('Order Form'!A131>0, 1,0)","v":0},0,"Chipmunks","Animals in My Yard","Blastoff! Beginners",null,0]
[{"$f":"IF('Order Form'!A132>0, 1,0)","v":0},0,"Coyotes","Animals in My Yard","Blastoff! Beginners",null,0]
[{"$f":"IF('Order Form'!A133>0, 1,0)","v":0},0,"Deer","Animals in My Yard","Blastoff! Beginners",null,0]
[{"$f":"IF('Order Form'!A134>0, 1,0)","v":0},0,"Eagles","Animals in My Yard","Blastoff! Beginners",null,0]
[{"$f":"IF('Order Form'!A135>0, 1,0)","v":0},0,"Foxes","Animals in My Yard","Blastoff! Beginners",null,0]
[{"$f":"IF('Order Form'!A136>0, 1,0)","v":0},0,"Frogs","Animals in My Yard","Blastoff! Beginners",null,0]
[{"$f":"IF('Order Form'!A137>0, 1,0)","v":0},0,"Owls","Animals in My Yard","Blastoff! Beginners",null,0]
[{"$f":"IF('Order Form'!A138>0, 1,0)","v":0},0,"Porcupines","Animals in My Yard","Blastoff! Beginners",null,0]
[{"$f":"IF('Order Form'!A139>0, 1,0)","v":0},0,"Rabbits","Animals in My Yard","Blastoff! Beginners",null,0]
[{"$f":"IF('Order Form'!A140>0, 1,0)","v":0},0,"Raccoons","Animals in My Yard","Blastoff! Beginners",null,0]
[{"$f":"IF('Order Form'!A141>0, 1,0)","v":0},0,"Skunks","Animals in My Yard","Blastoff! Beginners",null,0]
[{"$f":"IF('Order Form'!A142>0, 1,0)","v":0},0,"Snakes","Animals in My Yard","Blastoff! Beginners",null,0]
[{"$f":"IF('Order Form'!A143>0, 1,0)","v":0},0,"Squirrels","Animals in My Yard","Blastoff! Beginners",null,0]
[{"$f":"IF('Order Form'!A144>0, 1,0)","v":0},0,"Weasels","Animals in My Yard","Blastoff! Beginners",null,{"$f":"A144","v":0}]
[{"$f":"IF('Order Form'!A145>0, 1,0)","v":0},0,"Backyard Birds Set (12)","Backyard Birds","Blastoff! Readers",null,0]
[{"$f":"IF('Order Form'!A146>0, 1,0)","v":0},0,"Blackbirds","Backyard Birds","Blastoff! Readers",null,0]
[{"$f":"IF('Order Form'!A147>0, 1,0)","v":0},0,"Blue Jays","Backyard Birds","Blastoff! Readers",null,0]
[{"$f":"IF('Order Form'!A148>0, 1,0)","v":0},0,"Bluebirds","Backyard Birds","Blastoff! Readers",null,0]
[{"$f":"IF('Order Form'!A149>0, 1,0)","v":0},0,"Cardinals","Backyard Birds","Blastoff! Readers",null,0]
[{"$f":"IF('Order Form'!A150>0, 1,0)","v":0},0,"Chickadees","Backyard Birds","Blastoff! Readers",null,0]
[{"$f":"IF('Order Form'!A151>0, 1,0)","v":0},0,"Crows","Backyard Birds","Blastoff! Readers",null,0]
[{"$f":"IF('Order Form'!A152>0, 1,0)","v":0},0,"Goldfinches","Backyard Birds","Blastoff! Readers",null,0]
[{"$f":"IF('Order Form'!A153>0, 1,0)","v":0},0,"Hummingbirds","Backyard Birds","Blastoff! Readers",null,0]
[{"$f":"IF('Order Form'!A154>0, 1,0)","v":0},0,"Orioles","Backyard Birds","Blastoff! Readers",null,0]
[{"$f":"IF('Order Form'!A155>0, 1,0)","v":0},0,"Robins","Backyard Birds","Blastoff! Readers",null,0]
[{"$f":"IF('Order Form'!A156>0, 1,0)","v":0},0,"Swallows","Backyard Birds","Blastoff! Readers",null,0]
[{"$f":"IF('Order Form'!A157>0, 1,0)","v":0},0,"Woodpeckers","Backyard Birds","Blastoff! Readers",null,0]
[{"$f":"IF('Order Form'!A158>0, 1,0)","v":0},0,"Weather Forecast Set (6)","Weather Forecast","Blastoff! Readers",null,0]
[{"$f":"IF('Order Form'!A159>0, 1,0)","v":0},0,"Clouds","Weather Forecast","Blastoff! Readers",null,0]
[{"$f":"IF('Order Form'!A160>0, 1,0)","v":0},0,"Rain","Weather Forecast","Blastoff! Readers",null,0]
[{"$f":"IF('Order Form'!A161>0, 1,0)","v":0},0,"Snow","Weather Forecast","Blastoff! Readers",null,0]
[{"$f":"IF('Order Form'!A162>0, 1,0)","v":0},0,"Sunshine","Weather Forecast","Blastoff! Readers",null,0]
[{"$f":"IF('Order Form'!A163>0, 1,0)","v":0},0,"Thunderstorms","Weather Forecast","Blastoff! Readers",null,0]
[{"$f":"IF('Order Form'!A164>0, 1,0)","v":0},0,"Wind","Weather Forecast","Blastoff! Readers",null,0]
[{"$f":"IF('Order Form'!A165>0, 1,0)","v":0},0,"A Healthy Life","A Healthy Life","Blastoff! Readers",null,0]
[{"$f":"IF('Order Form'!A166>0, 1,0)","v":0},0,"Being Social","A Healthy Life","Blastoff! Readers",null,0]
[{"$f":"IF('Order Form'!A167>0, 1,0)","v":0},0,"Eating Healthy","A Healthy Life","Blastoff! Readers",null,0]
[{"$f":"IF('Order Form'!A168>0, 1,0)","v":0},0,"Getting Sleep","A Healthy Life","Blastoff! Readers",null,0]
[{"$f":"IF('Order Form'!A169>0, 1,0)","v":0},0,"Keeping Clean","A Healthy Life","Blastoff! Readers",null,0]
[{"$f":"IF('Order Form'!A170>0, 1,0)","v":0},0,"Staying Active","A Healthy Life","Blastoff! Readers",null,0]
[{"$f":"IF('Order Form'!A171>0, 1,0)","v":0},0,"Understanding Emotions","A Healthy Life","Blastoff! Readers",null,0]
[{"$f":"IF('Order Form'!A172>0, 1,0)","v":0},0,"Spotting Differences Set (24)","Spotting Differences","Blastoff! Readers",null,0]
[{"$f":"IF('Order Form'!A173>0, 1,0)","v":0},0,"Aardvark or Anteater?","Spotting Differences","Blastoff! Readers",null,0]
[{"$f":"IF('Order Form'!A174>0, 1,0)","v":0},0,"Alligator or Crocodile?","Spotting Differences","Blastoff! Readers",null,0]
[{"$f":"IF('Order Form'!A175>0, 1,0)","v":0},0,"Beaver or Muskrat?","Spotting Differences","Blastoff! Readers",null,0]
[{"$f":"IF('Order Form'!A176>0, 1,0)","v":0},0,"Bee or Wasp?","Spotting Differences","Blastoff! Readers",null,0]
[{"$f":"IF('Order Form'!A177>0, 1,0)","v":0},0,"Bison or Buffalo?","Spotting Differences","Blastoff! Readers",null,0]
[{"$f":"IF('Order Form'!A178>0, 1,0)","v":0},0,"Bobcat or Lynx?","Spotting Differences","Blastoff! Readers",null,0]
[{"$f":"IF('Order Form'!A179>0, 1,0)","v":0},0,"Butterfly or Moth?","Spotting Differences","Blastoff! Readers",null,0]
[{"$f":"IF('Order Form'!A180>0, 1,0)","v":0},0,"Cheetah or Leopard?","Spotting Differences","Blastoff! Readers",null,0]
[{"$f":"IF('Order Form'!A181>0, 1,0)","v":0},0,"Cricket or Grasshopper?","Spotting Differences","Blastoff! Readers",null,0]
[{"$f":"IF('Order Form'!A182>0, 1,0)","v":0},0,"Crow or Raven?","Spotting Differences","Blastoff! Readers",null,0]
[{"$f":"IF('Order Form'!A183>0, 1,0)","v":0},0,"Dolphin or Porpoise?","Spotting Differences","Blastoff! Readers",null,0]
[{"$f":"IF('Order Form'!A184>0, 1,0)","v":0},0,"Emu or Ostrich?","Spotting Differences","Blastoff! Readers",null,0]
[{"$f":"IF('Order Form'!A185>0, 1,0)","v":0},0,"Frog or Toad?","Spotting Differences","Blastoff! Readers",null,0]
[{"$f":"IF('Order Form'!A186>0, 1,0)","v":0},0,"Hedgehog or Porcupine?","Spotting Differences","Blastoff! Readers",null,0]
[{"$f":"IF('Order Form'!A187>0, 1,0)","v":0},0,"Lizard or Salamander?","Spotting Differences","Blastoff! Readers",null,0]
[{"$f":"IF('Order Form'!A188>0, 1,0)","v":0},0,"Llama or Alpaca?","Spotting Differences","Blastoff! Readers",null,0]
[{"$f":"IF('Order Form'!A189>0, 1,0)","v":0},0,"Moose or Elk?","Spotting Differences","Blastoff! Readers",null,0]
[{"$f":"IF('Order Form'!A190>0, 1,0)","v":0},0,"Octopus or Squid?","Spotting Differences","Blastoff! Readers",null,0]
[{"$f":"IF('Order Form'!A191>0, 1,0)","v":0},0,"Penguin or Puffin?","Spotting Differences","Blastoff! Readers",null,0]
[{"$f":"IF('Order Form'!A192>0, 1,0)","v":0},0,"Rabbit or Hare?","Spotting Differences","Blastoff! Readers",null,0]
[{"$f":"IF('Order Form'!A193>0, 1,0)","v":0},0,"Seal or Sea Lion?","Spotting Differences","Blastoff! Readers",null,0]
[{"$f":"IF('Order Form'!A194>0, 1,0)","v":0},0,"Swan or Goose?","Spotting Differences","Blastoff! Readers",null,0]
[{"$f":"IF('Order Form'!A195>0, 1,0)","v":0},0,"Turtle or Tortoise?","Spotting Differences","Blastoff! Readers",null,0]
[{"$f":"IF('Order Form'!A196>0, 1,0)","v":0},0,"Wolf or Coyote?","Spotting Differences","Blastoff! Readers",null,0]
[{"$f":"IF('Order Form'!A197>0, 1,0)","v":0},0,"Symbols of American Freedom Set (12)","Symbols of American Freedom","Blastoff! Readers",null,0]
[{"$f":"IF('Order Form'!A198>0, 1,0)","v":0},0,"Bald Eagle, The","Symbols of American Freedom","Blastoff! Readers",null,0]
[{"$f":"IF('Order Form'!A199>0, 1,0)","v":0},0,"Bill of Rights, The","Symbols of American Freedom","Blastoff! Readers",null,0]
[{"$f":"IF('Order Form'!A200>0, 1,0)","v":0},0,"Liberty Bell, The","Symbols of American Freedom","Blastoff! Readers",null,0]
[{"$f":"IF('Order Form'!A201>0, 1,0)","v":0},0,"Lincoln Memorial, The","Symbols of American Freedom","Blastoff! Readers",null,0]
[{"$f":"IF('Order Form'!A202>0, 1,0)","v":0},0,"Mount Rushmore","Symbols of American Freedom","Blastoff! Readers",null,0]
[{"$f":"IF('Order Form'!A203>0, 1,0)","v":0},0,"Pledge of Allegiance, The","Symbols of American Freedom","Blastoff! Readers",null,0]
[{"$f":"IF('Order Form'!A204>0, 1,0)","v":0},0,"Star-Spangled Banner, The","Symbols of American Freedom","Blastoff! Readers",null,0]
[{"$f":"IF('Order Form'!A205>0, 1,0)","v":0},0,"Statue of Liberty, The","Symbols of American Freedom","Blastoff! Readers",null,0]
[{"$f":"IF('Order Form'!A206>0, 1,0)","v":0},0,"United States Constitution, The","Symbols of American Freedom","Blastoff! Readers",null,0]
[{"$f":"IF('Order Form'!A207>0, 1,0)","v":0},0,"United States Flag, The","Symbols of American Freedom","Blastoff! Readers",null,0]
[{"$f":"IF('Order Form'!A208>0, 1,0)","v":0},0,"Washington Monument, The","Symbols of American Freedom","Blastoff! Readers",null,{"$f":"A208","v":0}]
[{"$f":"IF('Order Form'!A209>0, 1,0)","v":0},0,"White House, The","Symbols of American Freedom","Blastoff! Readers",null,0]
[{"$f":"IF('Order Form'!A210>0, 1,0)","v":0},0,"Animals on the Farm Set (8)","Animals on the Farm","Blastoff! Readers",null,0]
[{"$f":"IF('Order Form'!A211>0, 1,0)","v":0},0,"Chickens","Animals on the Farm","Blastoff! Readers",null,0]
[{"$f":"IF('Order Form'!A212>0, 1,0)","v":0},0,"Cows","Animals on the Farm","Blastoff! Readers",null,0]
[{"$f":"IF('Order Form'!A213>0, 1,0)","v":0},0,"Ducks","Animals on the Farm","Blastoff! Readers",null,0]
[{"$f":"IF('Order Form'!A214>0, 1,0)","v":0},0,"Goats","Animals on the Farm","Blastoff! Readers",null,0]
[{"$f":"IF('Order Form'!A215>0, 1,0)","v":0},0,"Horses","Animals on the Farm","Blastoff! Readers",null,0]
[{"$f":"IF('Order Form'!A216>0, 1,0)","v":0},0,"Pigs","Animals on the Farm","Blastoff! Readers",null,0]
[{"$f":"IF('Order Form'!A217>0, 1,0)","v":0},0,"Sheep","Animals on the Farm","Blastoff! Readers",null,0]
[{"$f":"IF('Order Form'!A218>0, 1,0)","v":0},0,"Turkeys","Animals on the Farm","Blastoff! Readers",null,0]
[{"$f":"IF('Order Form'!A219>0, 1,0)","v":0},0,"Responsible Citizenship Set (6)","Responsible Citizenship","Blastoff! Readers",null,0]
[{"$f":"IF('Order Form'!A220>0, 1,0)","v":0},0,"Caring for the Environment","Responsible Citizenship","Blastoff! Readers",null,0]
[{"$f":"IF('Order Form'!A221>0, 1,0)","v":0},0,"Jury Duty","Responsible Citizenship","Blastoff! Readers",null,0]
[{"$f":"IF('Order Form'!A222>0, 1,0)","v":0},0,"Military Service","Responsible Citizenship","Blastoff! Readers",null,0]
[{"$f":"IF('Order Form'!A223>0, 1,0)","v":0},0,"Obeying Laws","Responsible Citizenship","Blastoff! Readers",null,0]
[{"$f":"IF('Order Form'!A224>0, 1,0)","v":0},0,"Volunteering","Responsible Citizenship","Blastoff! Readers",null,0]
[{"$f":"IF('Order Form'!A225>0, 1,0)","v":0},0,"Voting","Responsible Citizenship","Blastoff! Readers",null,0]
[{"$f":"IF('Order Form'!A226>0, 1,0)","v":0},0,"Our Government Set (6)","Our Government","Blastoff! Readers",null,0]
[{"$f":"IF('Order Form'!A227>0, 1,0)","v":0},0,"Governor","Our Government","Blastoff! Readers",null,0]
[{"$f":"IF('Order Form'!A228>0, 1,0)","v":0},0,"House of Representatives, The","Our Government","Blastoff! Readers",null,0]
[{"$f":"IF('Order Form'!A229>0, 1,0)","v":0},0,"President","Our Government","Blastoff! Readers",null,0]
[{"$f":"IF('Order Form'!A230>0, 1,0)","v":0},0,"Senate, The","Our Government","Blastoff! Readers",null,0]
[{"$f":"IF('Order Form'!A231>0, 1,0)","v":0},0,"Supreme Court, The","Our Government","Blastoff! Readers",null,0]
[{"$f":"IF('Order Form'!A232>0, 1,0)","v":0},0,"Vice President","Our Government","Blastoff! Readers",null,0]
[{"$f":"IF('Order Form'!A233>0, 1,0)","v":0},0,"Community Helpers Set (32)","Community Helpers","Blastoff! Readers",null,0]
[{"$f":"IF('Order Form'!A234>0, 1,0)","v":0},0,"Bakers","Community Helpers","Blastoff! Readers",null,0]
[{"$f":"IF('Order Form'!A235>0, 1,0)","v":0},0,"Bus Drivers","Community Helpers","Blastoff! Readers",null,0]
[{"$f":"IF('Order Form'!A236>0, 1,0)","v":0},0,"Carpenters","Community Helpers","Blastoff! Readers",null,0]
[{"$f":"IF('Order Form'!A237>0, 1,0)","v":0},0,"Cashiers","Community Helpers","Blastoff! Readers",null,0]
[{"$f":"IF('Order Form'!A238>0, 1,0)","v":0},0,"Chefs","Community Helpers","Blastoff! Readers",null,0]
[{"$f":"IF('Order Form'!A239>0, 1,0)","v":0},0,"Construction Workers","Community Helpers","Blastoff! Readers",null,0]
[{"$f":"IF('Order Form'!A240>0, 1,0)","v":0},0,"Counselors","Community Helpers","Blastoff! Readers",null,0]
[{"$f":"IF('Order Form'!A241>0, 1,0)","v":0},0,"Custodians","Community Helpers","Blastoff! Readers",null,0]
[{"$f":"IF('Order Form'!A242>0, 1,0)","v":0},0,"Delivery Drivers","Community Helpers","Blastoff! Readers",null,0]
[{"$f":"IF('Order Form'!A243>0, 1,0)","v":0},0,"Dentists","Community Helpers","Blastoff! Readers",null,0]
[{"$f":"IF('Order Form'!A244>0, 1,0)","v":0},0,"Doctors","Community Helpers","Blastoff! Readers",null,0]
[{"$f":"IF('Order Form'!A245>0, 1,0)","v":0},0,"Electricians","Community Helpers","Blastoff! Readers",null,0]
[{"$f":"IF('Order Form'!A246>0, 1,0)","v":0},0,"EMTs","Community Helpers","Blastoff! Readers",null,0]
[{"$f":"IF('Order Form'!A247>0, 1,0)","v":0},0,"Farmers","Community Helpers","Blastoff! Readers",null,0]
[{"$f":"IF('Order Form'!A248>0, 1,0)","v":0},0,"Firefighters","Community Helpers","Blastoff! Readers",null,0]
[{"$f":"IF('Order Form'!A249>0, 1,0)","v":0},0,"Flight Attendants","Community Helpers","Blastoff! Readers",null,0]
[{"$f":"IF('Order Form'!A250>0, 1,0)","v":0},0,"Garbage Collectors","Community Helpers","Blastoff! Readers",null,0]
[{"$f":"IF('Order Form'!A251>0, 1,0)","v":0},0,"Hairstylists","Community Helpers","Blastoff! Readers",null,0]
[{"$f":"IF('Order Form'!A252>0, 1,0)","v":0},0,"Judges","Community Helpers","Blastoff! Readers",null,0]
[{"$f":"IF('Order Form'!A253>0, 1,0)","v":0},0,"Librarians","Community Helpers","Blastoff! Readers",null,0]
[{"$f":"IF('Order Form'!A254>0, 1,0)","v":0},0,"Mail Carriers","Community Helpers","Blastoff! Readers",null,0]
[{"$f":"IF('Order Form'!A255>0, 1,0)","v":0},0,"Mechanics","Community Helpers","Blastoff! Readers",null,0]
[{"$f":"IF('Order Form'!A256>0, 1,0)","v":0},0,"Nurses","Community Helpers","Blastoff! Readers",null,0]
[{"$f":"IF('Order Form'!A257>0, 1,0)","v":0},0,"Pilots","Community Helpers","Blastoff! Readers",null,0]
[{"$f":"IF('Order Form'!A258>0, 1,0)","v":0},0,"Plumbers","Community Helpers","Blastoff! Readers",null,0]
[{"$f":"IF('Order Form'!A259>0, 1,0)","v":0},0,"Police Officers","Community Helpers","Blastoff! Readers",null,0]
[{"$f":"IF('Order Form'!A260>0, 1,0)","v":0},0,"Reporters","Community Helpers","Blastoff! Readers",null,0]
[{"$f":"IF('Order Form'!A261>0, 1,0)","v":0},0,"Servers","Community Helpers","Blastoff! Readers",null,0]
[{"$f":"IF('Order Form'!A262>0, 1,0)","v":0},0,"Teachers","Community Helpers","Blastoff! Readers",null,0]
[{"$f":"IF('Order Form'!A263>0, 1,0)","v":0},0,"Truck Drivers","Community Helpers","Blastoff! Readers",null,0]
[{"$f":"IF('Order Form'!A264>0, 1,0)","v":0},0,"Veterinarians","Community Helpers","Blastoff! Readers",null,0]
[{"$f":"IF('Order Form'!A265>0, 1,0)","v":0},0,"Welders","Community Helpers","Blastoff! Readers",null,0]
[{"$f":"IF('Order Form'!A266>0, 1,0)","v":0},0,"Insects Up Close Set (20)","Insects Up Close","Blastoff! Readers",null,0]
[{"$f":"IF('Order Form'!A267>0, 1,0)","v":0},0,"Ants","Insects Up Close","Blastoff! Readers",null,0]
[{"$f":"IF('Order Form'!A268>0, 1,0)","v":0},0,"Aphids","Insects Up Close","Blastoff! Readers",null,0]
[{"$f":"IF('Order Form'!A269>0, 1,0)","v":0},0,"Bumblebees","Insects Up Close","Blastoff! Readers",null,0]
[{"$f":"IF('Order Form'!A270>0, 1,0)","v":0},0,"Butterflies","Insects Up Close","Blastoff! Readers",null,0]
[{"$f":"IF('Order Form'!A271>0, 1,0)","v":0},0,"Cicadas","Insects Up Close","Blastoff! Readers",null,0]
[{"$f":"IF('Order Form'!A272>0, 1,0)","v":0},0,"Cockroaches","Insects Up Close","Blastoff! Readers",null,{"$f":"A272","v":0}]
[{"$f":"IF('Order Form'!A273>0, 1,0)","v":0},0,"Crickets","Insects Up Close","Blastoff! Readers",null,0]
[{"$f":"IF('Order Form'!A274>0, 1,0)","v":0},0,"Damselflies","Insects Up Close","Blastoff! Readers",null,0]
[{"$f":"IF('Order Form'!A275>0, 1,0)","v":0},0,"Dragonflies","Insects Up Close","Blastoff! Readers",null,0]
[{"$f":"IF('Order Form'!A276>0, 1,0)","v":0},0,"Earwigs","Insects Up Close","Blastoff! Readers",null,0]
[{"$f":"IF('Order Form'!A277>0, 1,0)","v":0},0,"Fireflies","Insects Up Close","Blastoff! Readers",null,0]
[{"$f":"IF('Order Form'!A278>0, 1,0)","v":0},0,"Grasshoppers","Insects Up Close","Blastoff! Readers",null,0]
[{"$f":"IF('Order Form'!A279>0, 1,0)","v":0},0,"Honeybees","Insects Up Close","Blastoff! Readers",null,0]
[{"$f":"IF('Order Form'!A280>0, 1,0)","v":0},0,"Ladybugs","Insects Up Close","Blastoff! Readers",null,0]
[{"$f":"IF('Order Form'!A281>0, 1,0)","v":0},0,"Milkweed Bugs","Insects Up Close","Blastoff! Readers",null,0]
[{"$f":"IF('Order Form'!A282>0, 1,0)","v":0},0,"Mosquitoes","Insects Up Close","Blastoff! Readers",null,0]
[{"$f":"IF('Order Form'!A283>0, 1,0)","v":0},0,"Moths","Insects Up Close","Blastoff! Readers",null,0]
[{"$f":"IF('Order Form'!A284>0, 1,0)","v":0},0,"Termites","Insects Up Close","Blastoff! Readers",null,0]
[{"$f":"IF('Order Form'!A285>0, 1,0)","v":0},0,"Walkingsticks","Insects Up Close","Blastoff! Readers",null,0]
[{"$f":"IF('Order Form'!A286>0, 1,0)","v":0},0,"Wasps","Insects Up Close","Blastoff! Readers",null,0]
[{"$f":"IF('Order Form'!A287>0, 1,0)","v":0},0,"Character Education Set (10)","Character Education","Blastoff! Readers",null,0]
[{"$f":"IF('Order Form'!A288>0, 1,0)","v":0},0,"I Am a Good Citizen","Character Education","Blastoff! Readers",null,0]
[{"$f":"IF('Order Form'!A289>0, 1,0)","v":0},0,"I Am Generous","Character Education","Blastoff! Readers",null,0]
[{"$f":"IF('Order Form'!A290>0, 1,0)","v":0},0,"I Am Helpful","Character Education","Blastoff! Readers",null,0]
[{"$f":"IF('Order Form'!A291>0, 1,0)","v":0},0,"I Am Honest","Character Education","Blastoff! Readers",null,0]
[{"$f":"IF('Order Form'!A292>0, 1,0)","v":0},0,"I Am Humble","Character Education","Blastoff! Readers",null,0]
[{"$f":"IF('Order Form'!A293>0, 1,0)","v":0},0,"I Am Kind","Character Education","Blastoff! Readers",null,0]
[{"$f":"IF('Order Form'!A294>0, 1,0)","v":0},0,"I Am Resourceful","Character Education","Blastoff! Readers",null,0]
[{"$f":"IF('Order Form'!A295>0, 1,0)","v":0},0,"I Am Respectful","Character Education","Blastoff! Readers",null,0]
[{"$f":"IF('Order Form'!A296>0, 1,0)","v":0},0,"I Am Responsible","Character Education","Blastoff! Readers",null,0]
[{"$f":"IF('Order Form'!A297>0, 1,0)","v":0},0,"I Am Tolerant","Character Education","Blastoff! Readers",null,0]
[{"$f":"IF('Order Form'!A298>0, 1,0)","v":0},0,"Amazing Trains Set (6)","Amazing Trains","Blastoff! Readers",null,0]
[{"$f":"IF('Order Form'!A299>0, 1,0)","v":0},0,"City Trains","Amazing Trains","Blastoff! Readers",null,0]
[{"$f":"IF('Order Form'!A300>0, 1,0)","v":0},0,"Freight Trains","Amazing Trains","Blastoff! Readers",null,0]
[{"$f":"IF('Order Form'!A301>0, 1,0)","v":0},0,"High-Speed Trains","Amazing Trains","Blastoff! Readers",null,0]
[{"$f":"IF('Order Form'!A302>0, 1,0)","v":0},0,"Monorails","Amazing Trains","Blastoff! Readers",null,0]
[{"$f":"IF('Order Form'!A303>0, 1,0)","v":0},0,"Passenger Trains","Amazing Trains","Blastoff! Readers",null,0]
[{"$f":"IF('Order Form'!A304>0, 1,0)","v":0},0,"Subway Trains","Amazing Trains","Blastoff! Readers",null,0]
[{"$f":"IF('Order Form'!A305>0, 1,0)","v":0},0,"Let's Play Sports Set (16)","Let's Play Sports","Blastoff! Readers",null,0]
[{"$f":"IF('Order Form'!A306>0, 1,0)","v":0},0,"Archery","Let's Play Sports","Blastoff! Readers",null,0]
[{"$f":"IF('Order Form'!A307>0, 1,0)","v":0},0,"Baseball","Let's Play Sports","Blastoff! Readers",null,0]
[{"$f":"IF('Order Form'!A308>0, 1,0)","v":0},0,"Basketball","Let's Play Sports","Blastoff! Readers",null,0]
[{"$f":"IF('Order Form'!A309>0, 1,0)","v":0},0,"Cheerleading","Let's Play Sports","Blastoff! Readers",null,0]
[{"$f":"IF('Order Form'!A310>0, 1,0)","v":0},0,"Fishing","Let's Play Sports","Blastoff! Readers",null,0]
[{"$f":"IF('Order Form'!A311>0, 1,0)","v":0},0,"Football","Let's Play Sports","Blastoff! Readers",null,0]
[{"$f":"IF('Order Form'!A312>0, 1,0)","v":0},0,"Gymnastics","Let's Play Sports","Blastoff! Readers",null,0]
[{"$f":"IF('Order Form'!A313>0, 1,0)","v":0},0,"Hockey","Let's Play Sports","Blastoff! Readers",null,0]
[{"$f":"IF('Order Form'!A314>0, 1,0)","v":0},0,"Karate","Let's Play Sports","Blastoff! Readers",null,0]
[{"$f":"IF('Order Form'!A315>0, 1,0)","v":0},0,"Lacrosse","Let's Play Sports","Blastoff! Readers",null,0]
[{"$f":"IF('Order Form'!A316>0, 1,0)","v":0},0,"Soccer","Let's Play Sports","Blastoff! Readers",null,0]
[{"$f":"IF('Order Form'!A317>0, 1,0)","v":0},0,"Softball","Let's Play Sports","Blastoff! Readers",null,0]
[{"$f":"IF('Order Form'!A318>0, 1,0)","v":0},0,"Swimming","Let's Play Sports","Blastoff! Readers",null,0]
[{"$f":"IF('Order Form'!A319>0, 1,0)","v":0},0,"Tennis","Let's Play Sports","Blastoff! Readers",null,0]
[{"$f":"IF('Order Form'!A320>0, 1,0)","v":0},0,"Volleyball","Let's Play Sports","Blastoff! Readers",null,0]
[{"$f":"IF('Order Form'!A321>0, 1,0)","v":0},0,"Wrestling","Let's Play Sports","Blastoff! Readers",null,0]
[{"$f":"IF('Order Form'!A322>0, 1,0)","v":0},0,"What Animal Am I? Set (8)","What Animal Am I?","Blastoff! Readers",null,0]
[{"$f":"IF('Order Form'!A323>0, 1,0)","v":0},0,"Arctic Animals","What Animal Am I?","Blastoff! Readers",null,0]
[{"$f":"IF('Order Form'!A324>0, 1,0)","v":0},0,"Desert Animals","What Animal Am I?","Blastoff! Readers",null,0]
[{"$f":"IF('Order Form'!A325>0, 1,0)","v":0},0,"Forest Animals","What Animal Am I?","Blastoff! Readers",null,0]
[{"$f":"IF('Order Form'!A326>0, 1,0)","v":0},0,"Grassland Animals","What Animal Am I?","Blastoff! Readers",null,0]
[{"$f":"IF('Order Form'!A327>0, 1,0)","v":0},0,"Mountain Animals","What Animal Am I?","Blastoff! Readers",null,0]
[{"$f":"IF('Order Form'!A328>0, 1,0)","v":0},0,"Ocean Animals","What Animal Am I?","Blastoff! Readers",null,0]
[{"$f":"IF('Order Form'!A329>0, 1,0)","v":0},0,"Rain Forest Animals","What Animal Am I?","Blastoff! Readers",null,0]
[{"$f":"IF('Order Form'!A330>0, 1,0)","v":0},0,"Wetlands Animals","What Animal Am I?","Blastoff! Readers",null,0]
[{"$f":"IF('Order Form'!A331>0, 1,0)","v":0},0,"American Presidents Set (14)","American Presidents","Blastoff! Readers",null,0]
[{"$f":"IF('Order Form'!A332>0, 1,0)","v":0},0,"Abraham Lincoln","American Presidents","Blastoff! Readers",null,0]
[{"$f":"IF('Order Form'!A333>0, 1,0)","v":0},0,"Barack Obama","American Presidents","Blastoff! Readers",null,0]
[{"$f":"IF('Order Form'!A334>0, 1,0)","v":0},0,"Bill Clinton","American Presidents","Blastoff! Readers",null,0]
[{"$f":"IF('Order Form'!A335>0, 1,0)","v":0},0,"Donald Trump","American Presidents","Blastoff! Readers",null,0]
[{"$f":"IF('Order Form'!A336>0, 1,0)","v":0},0,"Dwight D. Eisenhower","American Presidents","Blastoff! Readers",null,{"$f":"A336","v":0}]
[{"$f":"IF('Order Form'!A337>0, 1,0)","v":0},0,"Franklin Delano Roosevelt","American Presidents","Blastoff! Readers",null,0]
[{"$f":"IF('Order Form'!A338>0, 1,0)","v":0},0,"George W. Bush","American Presidents","Blastoff! Readers",null,0]
[{"$f":"IF('Order Form'!A339>0, 1,0)","v":0},0,"George Washington","American Presidents","Blastoff! Readers",null,0]
[{"$f":"IF('Order Form'!A340>0, 1,0)","v":0},0,"Jimmy Carter","American Presidents","Blastoff! Readers",null,0]
[{"$f":"IF('Order Form'!A341>0, 1,0)","v":0},0,"Joe Biden","American Presidents","Blastoff! Readers",null,0]
[{"$f":"IF('Order Form'!A342>0, 1,0)","v":0},0,"John F. Kennedy","American Presidents","Blastoff! Readers",null,0]
[{"$f":"IF('Order Form'!A343>0, 1,0)","v":0},0,"Ronald Reagan","American Presidents","Blastoff! Readers",null,0]
[{"$f":"IF('Order Form'!A344>0, 1,0)","v":0},0,"Theodore Roosevelt","American Presidents","Blastoff! Readers",null,0]
[{"$f":"IF('Order Form'!A345>0, 1,0)","v":0},0,"Thomas Jefferson","American Presidents","Blastoff! Readers",null,0]
[{"$f":"IF('Order Form'!A346>0, 1,0)","v":0},0,"Countries of the World Set (12)","Countries of the World","Blastoff! Readers",null,0]
[{"$f":"IF('Order Form'!A347>0, 1,0)","v":0},0,"Australia","Countries of the World","Blastoff! Readers",null,0]
[{"$f":"IF('Order Form'!A348>0, 1,0)","v":0},0,"Brazil","Countries of the World","Blastoff! Readers",null,0]
[{"$f":"IF('Order Form'!A349>0, 1,0)","v":0},0,"Canada","Countries of the World","Blastoff! Readers",null,0]
[{"$f":"IF('Order Form'!A350>0, 1,0)","v":0},0,"China","Countries of the World","Blastoff! Readers",null,0]
[{"$f":"IF('Order Form'!A351>0, 1,0)","v":0},0,"England","Countries of the World","Blastoff! Readers",null,0]
[{"$f":"IF('Order Form'!A352>0, 1,0)","v":0},0,"France","Countries of the World","Blastoff! Readers",null,0]
[{"$f":"IF('Order Form'!A353>0, 1,0)","v":0},0,"India","Countries of the World","Blastoff! Readers",null,0]
[{"$f":"IF('Order Form'!A354>0, 1,0)","v":0},0,"Iraq","Countries of the World","Blastoff! Readers",null,0]
[{"$f":"IF('Order Form'!A355>0, 1,0)","v":0},0,"Italy","Countries of the World","Blastoff! Readers",null,0]
[{"$f":"IF('Order Form'!A356>0, 1,0)","v":0},0,"Japan","Countries of the World","Blastoff! Readers",null,0]
[{"$f":"IF('Order Form'!A357>0, 1,0)","v":0},0,"Mexico","Countries of the World","Blastoff! Readers",null,0]
[{"$f":"IF('Order Form'!A358>0, 1,0)","v":0},0,"Russia","Countries of the World","Blastoff! Readers",null,0]
[{"$f":"IF('Order Form'!A359>0, 1,0)","v":0},0,"Saddle Up! Set (10)","Saddle Up!","Blastoff! Readers",null,0]
[{"$f":"IF('Order Form'!A360>0, 1,0)","v":0},0,"American Paint Horses","Saddle Up!","Blastoff! Readers",null,0]
[{"$f":"IF('Order Form'!A361>0, 1,0)","v":0},0,"American Quarter Horses","Saddle Up!","Blastoff! Readers",null,0]
[{"$f":"IF('Order Form'!A362>0, 1,0)","v":0},0,"Appaloosa Horses","Saddle Up!","Blastoff! Readers",null,0]
[{"$f":"IF('Order Form'!A363>0, 1,0)","v":0},0,"Arabian Horses","Saddle Up!","Blastoff! Readers",null,0]
[{"$f":"IF('Order Form'!A364>0, 1,0)","v":0},0,"Belgian Horses","Saddle Up!","Blastoff! Readers",null,0]
[{"$f":"IF('Order Form'!A365>0, 1,0)","v":0},0,"Clydesdale Horses","Saddle Up!","Blastoff! Readers",null,0]
[{"$f":"IF('Order Form'!A366>0, 1,0)","v":0},0,"Morgan Horses","Saddle Up!","Blastoff! Readers",null,0]
[{"$f":"IF('Order Form'!A367>0, 1,0)","v":0},0,"Shetland Ponies","Saddle Up!","Blastoff! Readers",null,0]
[{"$f":"IF('Order Form'!A368>0, 1,0)","v":0},0,"Spanish Mustangs","Saddle Up!","Blastoff! Readers",null,0]
[{"$f":"IF('Order Form'!A369>0, 1,0)","v":0},0,"Thoroughbred Horses","Saddle Up!","Blastoff! Readers",null,0]
[{"$f":"IF('Order Form'!A370>0, 1,0)","v":0},0,"Animal Life Cycles Set (6)","Animal Life Cycles","Blastoff! Readers",null,0]
[{"$f":"IF('Order Form'!A371>0, 1,0)","v":0},0,"Animal Life Cycles: Bee","Animal Life Cycles","Blastoff! Readers",null,0]
[{"$f":"IF('Order Form'!A372>0, 1,0)","v":0},0,"Animal Life Cycles: Butterfly","Animal Life Cycles","Blastoff! Readers",null,0]
[{"$f":"IF('Order Form'!A373>0, 1,0)","v":0},0,"Animal Life Cycles: Frog","Animal Life Cycles","Blastoff! Readers",null,0]
[{"$f":"IF('Order Form'!A374>0, 1,0)","v":0},0,"Animal Life Cycles: Ladybug","Animal Life Cycles","Blastoff! Readers",null,0]
[{"$f":"IF('Order Form'!A375>0, 1,0)","v":0},0,"Animal Life Cycles: Penguin","Animal Life Cycles","Blastoff! Readers",null,0]
[{"$f":"IF('Order Form'!A376>0, 1,0)","v":0},0,"Animal Life Cycles: Sea Horse","Animal Life Cycles","Blastoff! Readers",null,0]
[{"$f":"IF('Order Form'!A377>0, 1,0)","v":0},0,"Animals at Risk (10)","Animals at Risk","Blastoff! Readers",null,0]
[{"$f":"IF('Order Form'!A378>0, 1,0)","v":0},0,"Elephants","Animals at Risk","Blastoff! Readers",null,0]
[{"$f":"IF('Order Form'!A379>0, 1,0)","v":0},0,"Giant Pandas","Animals at Risk","Blastoff! Readers",null,0]
[{"$f":"IF('Order Form'!A380>0, 1,0)","v":0},0,"Orangutans","Animals at Risk","Blastoff! Readers",null,0]
[{"$f":"IF('Order Form'!A381>0, 1,0)","v":0},0,"Polar Bears","Animals at Risk","Blastoff! Readers",null,0]
[{"$f":"IF('Order Form'!A382>0, 1,0)","v":0},0,"Sea Turtles","Animals at Risk","Blastoff! Readers",null,0]
[{"$f":"IF('Order Form'!A383>0, 1,0)","v":0},0,"Tigers","Animals at Risk","Blastoff! Readers",null,0]
[{"$f":"IF('Order Form'!A384>0, 1,0)","v":0},0,"Black-footed Ferrets","Animals at Risk","Blastoff! Readers",null,0]
[{"$f":"IF('Order Form'!A385>0, 1,0)","v":0},0,"Blue Whales","Animals at Risk","Blastoff! Readers",null,0]
[{"$f":"IF('Order Form'!A386>0, 1,0)","v":0},0,"Cheetahs","Animals at Risk","Blastoff! Readers",null,0]
[{"$f":"IF('Order Form'!A387>0, 1,0)","v":0},0,"Giant Tortoises","Animals at Risk","Blastoff! Readers",null,0]
[{"$f":"IF('Order Form'!A388>0, 1,0)","v":0},0,"Animals of the Desert Set (10)","Animals of the Desert","Blastoff! Readers",null,0]
[{"$f":"IF('Order Form'!A389>0, 1,0)","v":0},0,"Antelope Jackrabbits","Animals of the Desert","Blastoff! Readers",null,0]
[{"$f":"IF('Order Form'!A390>0, 1,0)","v":0},0,"Bark Scorpions","Animals of the Desert","Blastoff! Readers",null,0]
[{"$f":"IF('Order Form'!A391>0, 1,0)","v":0},0,"Bighorn Sheep","Animals of the Desert","Blastoff! Readers",null,0]
[{"$f":"IF('Order Form'!A392>0, 1,0)","v":0},0,"Collared Lizards","Animals of the Desert","Blastoff! Readers",null,0]
[{"$f":"IF('Order Form'!A393>0, 1,0)","v":0},0,"Desert Tortoises","Animals of the Desert","Blastoff! Readers",null,0]
[{"$f":"IF('Order Form'!A394>0, 1,0)","v":0},0,"Fennec Foxes","Animals of the Desert","Blastoff! Readers",null,0]
[{"$f":"IF('Order Form'!A395>0, 1,0)","v":0},0,"Roadrunners","Animals of the Desert","Blastoff! Readers",null,0]
[{"$f":"IF('Order Form'!A396>0, 1,0)","v":0},0,"Sand Cats","Animals of the Desert","Blastoff! Readers",null,0]
[{"$f":"IF('Order Form'!A397>0, 1,0)","v":0},0,"Sidewinders","Animals of the Desert","Blastoff! Readers",null,0]
[{"$f":"IF('Order Form'!A398>0, 1,0)","v":0},0,"Thorny Devils","Animals of the Desert","Blastoff! Readers",null,0]
[{"$f":"IF('Order Form'!A399>0, 1,0)","v":0},0,"Animals of the Arctic Set (10)","Animals of the Arctic","Blastoff! Readers",null,0]
[{"$f":"IF('Order Form'!A400>0, 1,0)","v":0},0,"Arctic Foxes","Animals of the Arctic","Blastoff! Readers",null,{"$f":"A400","v":0}]
[{"$f":"IF('Order Form'!A401>0, 1,0)","v":0},0,"Arctic Hares","Animals of the Arctic","Blastoff! Readers",null,0]
[{"$f":"IF('Order Form'!A402>0, 1,0)","v":0},0,"Arctic Wolves","Animals of the Arctic","Blastoff! Readers",null,0]
[{"$f":"IF('Order Form'!A403>0, 1,0)","v":0},0,"Beluga Whales","Animals of the Arctic","Blastoff! Readers",null,0]
[{"$f":"IF('Order Form'!A404>0, 1,0)","v":0},0,"Collared Lemmings","Animals of the Arctic","Blastoff! Readers",null,0]
[{"$f":"IF('Order Form'!A405>0, 1,0)","v":0},0,"Harp Seals","Animals of the Arctic","Blastoff! Readers",null,0]
[{"$f":"IF('Order Form'!A406>0, 1,0)","v":0},0,"Narwhals","Animals of the Arctic","Blastoff! Readers",null,0]
[{"$f":"IF('Order Form'!A407>0, 1,0)","v":0},0,"Polar Bears","Animals of the Arctic","Blastoff! Readers",null,0]
[{"$f":"IF('Order Form'!A408>0, 1,0)","v":0},0,"Reindeer","Animals of the Arctic","Blastoff! Readers",null,0]
[{"$f":"IF('Order Form'!A409>0, 1,0)","v":0},0,"Snowy Owls","Animals of the Arctic","Blastoff! Readers",null,0]
[{"$f":"IF('Order Form'!A410>0, 1,0)","v":0},0,"Animals of the Mountains Set (10)","Animals of the Mountains","Blastoff! Readers",null,0]
[{"$f":"IF('Order Form'!A411>0, 1,0)","v":0},0,"Alpine Ibex","Animals of the Mountains","Blastoff! Readers",null,0]
[{"$f":"IF('Order Form'!A412>0, 1,0)","v":0},0,"Bearded Vultures","Animals of the Mountains","Blastoff! Readers",null,0]
[{"$f":"IF('Order Form'!A413>0, 1,0)","v":0},0,"Brown Bears","Animals of the Mountains","Blastoff! Readers",null,0]
[{"$f":"IF('Order Form'!A414>0, 1,0)","v":0},0,"Mountain Goats","Animals of the Mountains","Blastoff! Readers",null,0]
[{"$f":"IF('Order Form'!A415>0, 1,0)","v":0},0,"Mountain Gorillas","Animals of the Mountains","Blastoff! Readers",null,0]
[{"$f":"IF('Order Form'!A416>0, 1,0)","v":0},0,"Mountain Lions","Animals of the Mountains","Blastoff! Readers",null,0]
[{"$f":"IF('Order Form'!A417>0, 1,0)","v":0},0,"Pikas","Animals of the Mountains","Blastoff! Readers",null,0]
[{"$f":"IF('Order Form'!A418>0, 1,0)","v":0},0,"Red Pandas","Animals of the Mountains","Blastoff! Readers",null,0]
[{"$f":"IF('Order Form'!A419>0, 1,0)","v":0},0,"Snow Leopards","Animals of the Mountains","Blastoff! Readers",null,0]
[{"$f":"IF('Order Form'!A420>0, 1,0)","v":0},0,"Wild Yaks","Animals of the Mountains","Blastoff! Readers",null,0]
[{"$f":"IF('Order Form'!A421>0, 1,0)","v":0},0,"Animals of the Coral Reef Set (10)","Animals of the Coral Reef","Blastoff! Readers",null,0]
[{"$f":"IF('Order Form'!A422>0, 1,0)","v":0},0,"Angelfish","Animals of the Coral Reef","Blastoff! Readers",null,0]
[{"$f":"IF('Order Form'!A423>0, 1,0)","v":0},0,"Clownfish","Animals of the Coral Reef","Blastoff! Readers",null,0]
[{"$f":"IF('Order Form'!A424>0, 1,0)","v":0},0,"Giant Clams","Animals of the Coral Reef","Blastoff! Readers",null,0]
[{"$f":"IF('Order Form'!A425>0, 1,0)","v":0},0,"Moray Eels","Animals of the Coral Reef","Blastoff! Readers",null,0]
[{"$f":"IF('Order Form'!A426>0, 1,0)","v":0},0,"Octopuses","Animals of the Coral Reef","Blastoff! Readers",null,0]
[{"$f":"IF('Order Form'!A427>0, 1,0)","v":0},0,"Parrotfish","Animals of the Coral Reef","Blastoff! Readers",null,0]
[{"$f":"IF('Order Form'!A428>0, 1,0)","v":0},0,"Sea Horses","Animals of the Coral Reef","Blastoff! Readers",null,0]
[{"$f":"IF('Order Form'!A429>0, 1,0)","v":0},0,"Sea Snakes","Animals of the Coral Reef","Blastoff! Readers",null,0]
[{"$f":"IF('Order Form'!A430>0, 1,0)","v":0},0,"Spiny Lobsters","Animals of the Coral Reef","Blastoff! Readers",null,0]
[{"$f":"IF('Order Form'!A431>0, 1,0)","v":0},0,"Whitetip Reef Sharks","Animals of the Coral Reef","Blastoff! Readers",null,0]
[{"$f":"IF('Order Form'!A432>0, 1,0)","v":0},0,"Animals of the Wetlands Set (10)","Animals of the Wetlands","Blastoff! Readers",null,0]
[{"$f":"IF('Order Form'!A433>0, 1,0)","v":0},0,"Alligators","Animals of the Wetlands","Blastoff! Readers",null,0]
[{"$f":"IF('Order Form'!A434>0, 1,0)","v":0},0,"Beavers","Animals of the Wetlands","Blastoff! Readers",null,0]
[{"$f":"IF('Order Form'!A435>0, 1,0)","v":0},0,"Crocodiles","Animals of the Wetlands","Blastoff! Readers",null,0]
[{"$f":"IF('Order Form'!A436>0, 1,0)","v":0},0,"Fishing Cats","Animals of the Wetlands","Blastoff! Readers",null,0]
[{"$f":"IF('Order Form'!A437>0, 1,0)","v":0},0,"Flamingos","Animals of the Wetlands","Blastoff! Readers",null,0]
[{"$f":"IF('Order Form'!A438>0, 1,0)","v":0},0,"Herons","Animals of the Wetlands","Blastoff! Readers",null,0]
[{"$f":"IF('Order Form'!A439>0, 1,0)","v":0},0,"Hippopotamuses","Animals of the Wetlands","Blastoff! Readers",null,0]
[{"$f":"IF('Order Form'!A440>0, 1,0)","v":0},0,"Platypuses","Animals of the Wetlands","Blastoff! Readers",null,0]
[{"$f":"IF('Order Form'!A441>0, 1,0)","v":0},0,"River Otters","Animals of the Wetlands","Blastoff! Readers",null,0]
[{"$f":"IF('Order Form'!A442>0, 1,0)","v":0},0,"Wood Ducks","Animals of the Wetlands","Blastoff! Readers",null,0]
[{"$f":"IF('Order Form'!A443>0, 1,0)","v":0},0,"Animals of the Rain Forest Set (10)","Animals of the Rain Forest","Blastoff! Readers",null,0]
[{"$f":"IF('Order Form'!A444>0, 1,0)","v":0},0,"Anacondas","Animals of the Rain Forest","Blastoff! Readers",null,0]
[{"$f":"IF('Order Form'!A445>0, 1,0)","v":0},0,"Capybaras","Animals of the Rain Forest","Blastoff! Readers",null,0]
[{"$f":"IF('Order Form'!A446>0, 1,0)","v":0},0,"Chimpanzees","Animals of the Rain Forest","Blastoff! Readers",null,0]
[{"$f":"IF('Order Form'!A447>0, 1,0)","v":0},0,"Harpy Eagles","Animals of the Rain Forest","Blastoff! Readers",null,0]
[{"$f":"IF('Order Form'!A448>0, 1,0)","v":0},0,"Howler Monkeys","Animals of the Rain Forest","Blastoff! Readers",null,0]
[{"$f":"IF('Order Form'!A449>0, 1,0)","v":0},0,"Jaguars","Animals of the Rain Forest","Blastoff! Readers",null,0]
[{"$f":"IF('Order Form'!A450>0, 1,0)","v":0},0,"Macaws","Animals of the Rain Forest","Blastoff! Readers",null,0]
[{"$f":"IF('Order Form'!A451>0, 1,0)","v":0},0,"Poison Dart Frogs","Animals of the Rain Forest","Blastoff! Readers",null,0]
[{"$f":"IF('Order Form'!A452>0, 1,0)","v":0},0,"Sloths","Animals of the Rain Forest","Blastoff! Readers",null,0]
[{"$f":"IF('Order Form'!A453>0, 1,0)","v":0},0,"Toucans","Animals of the Rain Forest","Blastoff! Readers",null,0]
[{"$f":"IF('Order Form'!A454>0, 1,0)","v":0},0,"Animals of the Forest Set (10)","Animals of the Forest","Blastoff! Readers",null,0]
[{"$f":"IF('Order Form'!A455>0, 1,0)","v":0},0,"Black Bears","Animals of the Forest","Blastoff! Readers",null,0]
[{"$f":"IF('Order Form'!A456>0, 1,0)","v":0},0,"Brown Bats","Animals of the Forest","Blastoff! Readers",null,0]
[{"$f":"IF('Order Form'!A457>0, 1,0)","v":0},0,"Gray Wolves","Animals of the Forest","Blastoff! Readers",null,0]
[{"$f":"IF('Order Form'!A458>0, 1,0)","v":0},0,"Great Gray Owls","Animals of the Forest","Blastoff! Readers",null,0]
[{"$f":"IF('Order Form'!A459>0, 1,0)","v":0},0,"Lynx","Animals of the Forest","Blastoff! Readers",null,0]
[{"$f":"IF('Order Form'!A460>0, 1,0)","v":0},0,"Moose","Animals of the Forest","Blastoff! Readers",null,0]
[{"$f":"IF('Order Form'!A461>0, 1,0)","v":0},0,"Raccoons","Animals of the Forest","Blastoff! Readers",null,0]
[{"$f":"IF('Order Form'!A462>0, 1,0)","v":0},0,"Red Foxes","Animals of the Forest","Blastoff! Readers",null,0]
[{"$f":"IF('Order Form'!A463>0, 1,0)","v":0},0,"White-tailed Deer","Animals of the Forest","Blastoff! Readers",null,0]
[{"$f":"IF('Order Form'!A464>0, 1,0)","v":0},0,"Woodpeckers","Animals of the Forest","Blastoff! Readers",null,{"$f":"A464","v":0}]
[{"$f":"IF('Order Form'!A465>0, 1,0)","v":0},0,"Animals of the Grasslands Set (10)","Animals of the Grasslands","Blastoff! Readers",null,0]
[{"$f":"IF('Order Form'!A466>0, 1,0)","v":0},0,"African Elephants","Animals of the Grasslands","Blastoff! Readers",null,0]
[{"$f":"IF('Order Form'!A467>0, 1,0)","v":0},0,"African Lions","Animals of the Grasslands","Blastoff! Readers",null,0]
[{"$f":"IF('Order Form'!A468>0, 1,0)","v":0},0,"Bison","Animals of the Grasslands","Blastoff! Readers",null,0]
[{"$f":"IF('Order Form'!A469>0, 1,0)","v":0},0,"Giraffes","Animals of the Grasslands","Blastoff! Readers",null,0]
[{"$f":"IF('Order Form'!A470>0, 1,0)","v":0},0,"Hyenas","Animals of the Grasslands","Blastoff! Readers",null,0]
[{"$f":"IF('Order Form'!A471>0, 1,0)","v":0},0,"Kangaroos","Animals of the Grasslands","Blastoff! Readers",null,0]
[{"$f":"IF('Order Form'!A472>0, 1,0)","v":0},0,"Prairie Dogs","Animals of the Grasslands","Blastoff! Readers",null,0]
[{"$f":"IF('Order Form'!A473>0, 1,0)","v":0},0,"Pronghorn","Animals of the Grasslands","Blastoff! Readers",null,0]
[{"$f":"IF('Order Form'!A474>0, 1,0)","v":0},0,"Rhinoceroses","Animals of the Grasslands","Blastoff! Readers",null,0]
[{"$f":"IF('Order Form'!A475>0, 1,0)","v":0},0,"Zebras","Animals of the Grasslands","Blastoff! Readers",null,0]
[{"$f":"IF('Order Form'!A476>0, 1,0)","v":0},0,"Mighty Machines in Action Set (22)","Mighty Machines in Action","Blastoff! Readers",null,0]
[{"$f":"IF('Order Form'!A477>0, 1,0)","v":0},0,"Airplanes","Mighty Machines in Action","Blastoff! Readers",null,0]
[{"$f":"IF('Order Form'!A478>0, 1,0)","v":0},0,"Backhoes","Mighty Machines in Action","Blastoff! Readers",null,0]
[{"$f":"IF('Order Form'!A479>0, 1,0)","v":0},0,"Bulldozers","Mighty Machines in Action","Blastoff! Readers",null,0]
[{"$f":"IF('Order Form'!A480>0, 1,0)","v":0},0,"Cranes","Mighty Machines in Action","Blastoff! Readers",null,0]
[{"$f":"IF('Order Form'!A481>0, 1,0)","v":0},0,"Dump Trucks","Mighty Machines in Action","Blastoff! Readers",null,0]
[{"$f":"IF('Order Form'!A482>0, 1,0)","v":0},0,"Fire Trucks","Mighty Machines in Action","Blastoff! Readers",null,0]
[{"$f":"IF('Order Form'!A483>0, 1,0)","v":0},0,"Garbage Trucks","Mighty Machines in Action","Blastoff! Readers",null,0]
[{"$f":"IF('Order Form'!A484>0, 1,0)","v":0},0,"Monster Trucks","Mighty Machines in Action","Blastoff! Readers",null,0]
[{"$f":"IF('Order Form'!A485>0, 1,0)","v":0},0,"Police Cars","Mighty Machines in Action","Blastoff! Readers",null,0]
[{"$f":"IF('Order Form'!A486>0, 1,0)","v":0},0,"Ships","Mighty Machines in Action","Blastoff! Readers",null,0]
[{"$f":"IF('Order Form'!A487>0, 1,0)","v":0},0,"Tractors","Mighty Machines in Action","Blastoff! Readers",null,0]
[{"$f":"IF('Order Form'!A488>0, 1,0)","v":0},0,"Trains","Mighty Machines in Action","Blastoff! Readers",null,0]
[{"$f":"IF('Order Form'!A489>0, 1,0)","v":0},0,"Big Rigs","Mighty Machines in Action","Blastoff! Readers",null,0]
[{"$f":"IF('Order Form'!A490>0, 1,0)","v":0},0,"Concrete Mixers","Mighty Machines in Action","Blastoff! Readers",null,0]
[{"$f":"IF('Order Form'!A491>0, 1,0)","v":0},0,"Earth Movers","Mighty Machines in Action","Blastoff! Readers",null,0]
[{"$f":"IF('Order Form'!A492>0, 1,0)","v":0},0,"Helicopters","Mighty Machines in Action","Blastoff! Readers",null,0]
[{"$f":"IF('Order Form'!A493>0, 1,0)","v":0},0,"Snowplows","Mighty Machines in Action","Blastoff! Readers",null,0]
[{"$f":"IF('Order Form'!A494>0, 1,0)","v":0},0,"Zamboni Ice Resurfacers","Mighty Machines in Action","Blastoff! Readers",null,0]
[{"$f":"IF('Order Form'!A495>0, 1,0)","v":0},0,"Ambulances","Mighty Machines in Action","Blastoff! Readers",null,0]
[{"$f":"IF('Order Form'!A496>0, 1,0)","v":0},0,"Motorcycles","Mighty Machines in Action","Blastoff! Readers",null,0]
[{"$f":"IF('Order Form'!A497>0, 1,0)","v":0},0,"Pickup Trucks","Mighty Machines in Action","Blastoff! Readers",null,0]
[{"$f":"IF('Order Form'!A498>0, 1,0)","v":0},0,"Race Cars","Mighty Machines in Action","Blastoff! Readers",null,0]
[{"$f":"IF('Order Form'!A499>0, 1,0)","v":0},0,"Celebrating Holidays Set (24)","Celebrating Holidays","Blastoff! Readers",null,0]
[{"$f":"IF('Order Form'!A500>0, 1,0)","v":0},0,"Chinese New Year","Celebrating Holidays","Blastoff! Readers",null,0]
[{"$f":"IF('Order Form'!A501>0, 1,0)","v":0},0,"Christmas","Celebrating Holidays","Blastoff! Readers",null,0]
[{"$f":"IF('Order Form'!A502>0, 1,0)","v":0},0,"Diwali","Celebrating Holidays","Blastoff! Readers",null,0]
[{"$f":"IF('Order Form'!A503>0, 1,0)","v":0},0,"Easter","Celebrating Holidays","Blastoff! Readers",null,0]
[{"$f":"IF('Order Form'!A504>0, 1,0)","v":0},0,"Hanukkah","Celebrating Holidays","Blastoff! Readers",null,0]
[{"$f":"IF('Order Form'!A505>0, 1,0)","v":0},0,"Kwanzaa","Celebrating Holidays","Blastoff! Readers",null,0]
[{"$f":"IF('Order Form'!A506>0, 1,0)","v":0},0,"Ramadan","Celebrating Holidays","Blastoff! Readers",null,0]
[{"$f":"IF('Order Form'!A507>0, 1,0)","v":0},0,"Thanksgiving","Celebrating Holidays","Blastoff! Readers",null,0]
[{"$f":"IF('Order Form'!A508>0, 1,0)","v":0},0,"Cinco de Mayo","Celebrating Holidays","Blastoff! Readers",null,0]
[{"$f":"IF('Order Form'!A509>0, 1,0)","v":0},0,"Day of the Dead","Celebrating Holidays","Blastoff! Readers",null,0]
[{"$f":"IF('Order Form'!A510>0, 1,0)","v":0},0,"Earth Day","Celebrating Holidays","Blastoff! Readers",null,0]
[{"$f":"IF('Order Form'!A511>0, 1,0)","v":0},0,"Groundhog Day","Celebrating Holidays","Blastoff! Readers",null,0]
[{"$f":"IF('Order Form'!A512>0, 1,0)","v":0},0,"Halloween","Celebrating Holidays","Blastoff! Readers",null,0]
[{"$f":"IF('Order Form'!A513>0, 1,0)","v":0},0,"Independence Day","Celebrating Holidays","Blastoff! Readers",null,0]
[{"$f":"IF('Order Form'!A514>0, 1,0)","v":0},0,"Saint Patrick's Day","Celebrating Holidays","Blastoff! Readers",null,0]
[{"$f":"IF('Order Form'!A515>0, 1,0)","v":0},0,"Veterans Day","Celebrating Holidays","Blastoff! Readers",null,0]
[{"$f":"IF('Order Form'!A516>0, 1,0)","v":0},0,"Martin Luther King, Jr. Day","Celebrating Holidays","Blastoff! Readers",null,0]
[{"$f":"IF('Order Form'!A517>0, 1,0)","v":0},0,"Memorial Day","Celebrating Holidays","Blastoff! Readers",null,0]
[{"$f":"IF('Order Form'!A518>0, 1,0)","v":0},0,"Presidents' Day","Celebrating Holidays","Blastoff! Readers",null,0]
[{"$f":"IF('Order Form'!A519>0, 1,0)","v":0},0,"Valentine's Day","Celebrating Holidays","Blastoff! Readers",null,0]
[{"$f":"IF('Order Form'!A520>0, 1,0)","v":0},0,"Holi","Celebrating Holidays","Blastoff! Readers",null,0]
[{"$f":"IF('Order Form'!A521>0, 1,0)","v":0},0,"Juneteenth","Celebrating Holidays","Blastoff! Readers",null,0]
[{"$f":"IF('Order Form'!A522>0, 1,0)","v":0},0,"Labor Day","Celebrating Holidays","Blastoff! Readers",null,0]
[{"$f":"IF('Order Form'!A523>0, 1,0)","v":0},0,"Passover","Celebrating Holidays","Blastoff! Readers",null,0]
[{"$f":"IF('Order Form'!A524>0, 1,0)","v":0},0,"Coding is Everywhere Set (6)","Coding is Everywhere","Blastoff! Readers",null,0]
[{"$f":"IF('Order Form'!A525>0, 1,0)","v":0},0,"Coding in Computers","Coding is Everywhere","Blastoff! Readers",null,0]
[{"$f":"IF('Order Form'!A526>0, 1,0)","v":0},0,"Coding in the Internet","Coding is Everywhere","Blastoff! Readers",null,0]
[{"$f":"IF('Order Form'!A527>0, 1,0)","v":0},0,"Coding in Transportation","Coding is Everywhere","Blastoff! Readers",null,0]
[{"$f":"IF('Order Form'!A528>0, 1,0)","v":0},0,"Coding in Video Games","Coding is Everywhere","Blastoff! Readers",null,{"$f":"A528","v":0}]
[{"$f":"IF('Order Form'!A529>0, 1,0)","v":0},0,"Coding in Your Home","Coding is Everywhere","Blastoff! Readers",null,0]
[{"$f":"IF('Order Form'!A530>0, 1,0)","v":0},0,"Coding in Your School","Coding is Everywhere","Blastoff! Readers",null,0]
[{"$f":"IF('Order Form'!A531>0, 1,0)","v":0},0,"Simple Machines Fun! (6)","Simple Machines Fun!","Blastoff! Readers",null,0]
[{"$f":"IF('Order Form'!A532>0, 1,0)","v":0},0,"Inclined Planes","Simple Machines Fun!","Blastoff! Readers",null,0]
[{"$f":"IF('Order Form'!A533>0, 1,0)","v":0},0,"Levers","Simple Machines Fun!","Blastoff! Readers",null,0]
[{"$f":"IF('Order Form'!A534>0, 1,0)","v":0},0,"Pulleys","Simple Machines Fun!","Blastoff! Readers",null,0]
[{"$f":"IF('Order Form'!A535>0, 1,0)","v":0},0,"Screws","Simple Machines Fun!","Blastoff! Readers",null,0]
[{"$f":"IF('Order Form'!A536>0, 1,0)","v":0},0,"Wedges","Simple Machines Fun!","Blastoff! Readers",null,0]
[{"$f":"IF('Order Form'!A537>0, 1,0)","v":0},0,"Wheels and Axles","Simple Machines Fun!","Blastoff! Readers",null,0]
[{"$f":"IF('Order Form'!A538>0, 1,0)","v":0},0,"Beginning to End Set (10)","Beginning to End","Blastoff! Readers",null,0]
[{"$f":"IF('Order Form'!A539>0, 1,0)","v":0},0,"Acorn to Oak Tree","Beginning to End","Blastoff! Readers",null,0]
[{"$f":"IF('Order Form'!A540>0, 1,0)","v":0},0,"Bulb to Tulip","Beginning to End","Blastoff! Readers",null,0]
[{"$f":"IF('Order Form'!A541>0, 1,0)","v":0},0,"Cocoa Bean to Chocolate","Beginning to End","Blastoff! Readers",null,0]
[{"$f":"IF('Order Form'!A542>0, 1,0)","v":0},0,"Cotton to T-shirt","Beginning to End","Blastoff! Readers",null,0]
[{"$f":"IF('Order Form'!A543>0, 1,0)","v":0},0,"Grass to Milk","Beginning to End","Blastoff! Readers",null,0]
[{"$f":"IF('Order Form'!A544>0, 1,0)","v":0},0,"Milk to Ice Cream","Beginning to End","Blastoff! Readers",null,0]
[{"$f":"IF('Order Form'!A545>0, 1,0)","v":0},0,"Paper to Book","Beginning to End","Blastoff! Readers",null,0]
[{"$f":"IF('Order Form'!A546>0, 1,0)","v":0},0,"Potato to French Fry","Beginning to End","Blastoff! Readers",null,0]
[{"$f":"IF('Order Form'!A547>0, 1,0)","v":0},0,"Pumpkin Seed to Pie","Beginning to End","Blastoff! Readers",null,0]
[{"$f":"IF('Order Form'!A548>0, 1,0)","v":0},0,"Tree to Paper","Beginning to End","Blastoff! Readers",null,0]
[{"$f":"IF('Order Form'!A549>0, 1,0)","v":0},0,"Seasons of the Year Set (4)","Seasons of the Year","Blastoff! Readers",null,0]
[{"$f":"IF('Order Form'!A550>0, 1,0)","v":0},0,"Fall","Seasons of the Year","Blastoff! Readers",null,0]
[{"$f":"IF('Order Form'!A551>0, 1,0)","v":0},0,"Spring","Seasons of the Year","Blastoff! Readers",null,0]
[{"$f":"IF('Order Form'!A552>0, 1,0)","v":0},0,"Summer","Seasons of the Year","Blastoff! Readers",null,0]
[{"$f":"IF('Order Form'!A553>0, 1,0)","v":0},0,"Winter","Seasons of the Year","Blastoff! Readers",null,0]
[{"$f":"IF('Order Form'!A554>0, 1,0)","v":0},0,"Everyday Engineering Set (6)","Everyday Engineering","Blastoff! Readers",null,0]
[{"$f":"IF('Order Form'!A555>0, 1,0)","v":0},0,"Bridges","Everyday Engineering","Blastoff! Readers ",null,0]
[{"$f":"IF('Order Form'!A556>0, 1,0)","v":0},0,"Dams","Everyday Engineering","Blastoff! Readers ",null,0]
[{"$f":"IF('Order Form'!A557>0, 1,0)","v":0},0,"Highways","Everyday Engineering","Blastoff! Readers ",null,0]
[{"$f":"IF('Order Form'!A558>0, 1,0)","v":0},0,"Roller Coasters","Everyday Engineering","Blastoff! Readers ",null,0]
[{"$f":"IF('Order Form'!A559>0, 1,0)","v":0},0,"Skyscrapers","Everyday Engineering","Blastoff! Readers ",null,0]
[{"$f":"IF('Order Form'!A560>0, 1,0)","v":0},0,"Stadiums","Everyday Engineering","Blastoff! Readers ",null,0]
[{"$f":"IF('Order Form'!A561>0, 1,0)","v":0},0,"Women Leading the Way Set (26)","Women Leading the Way","Blastoff! Readers",null,0]
[{"$f":"IF('Order Form'!A562>0, 1,0)","v":0},0,"Angela Merkel: Chancellor of Germany","Women Leading the Way","Blastoff! Readers",null,0]
[{"$f":"IF('Order Form'!A563>0, 1,0)","v":0},0,"Ann Bancroft: Explorer","Women Leading the Way","Blastoff! Readers",null,0]
[{"$f":"IF('Order Form'!A564>0, 1,0)","v":0},0,"Ava DuVernay: Movie Director","Women Leading the Way","Blastoff! Readers",null,0]
[{"$f":"IF('Order Form'!A565>0, 1,0)","v":0},0,"Carla Hayden: Librarian of Congress","Women Leading the Way","Blastoff! Readers",null,0]
[{"$f":"IF('Order Form'!A566>0, 1,0)","v":0},0,"Dolly Parton: Country Music Star","Women Leading the Way","Blastoff! Readers",null,0]
[{"$f":"IF('Order Form'!A567>0, 1,0)","v":0},0,"Dolores Huerta: Labor Activist","Women Leading the Way","Blastoff! Readers",null,0]
[{"$f":"IF('Order Form'!A568>0, 1,0)","v":0},0,"Emma Watson: Women's Rights Activist","Women Leading the Way","Blastoff! Readers",null,0]
[{"$f":"IF('Order Form'!A569>0, 1,0)","v":0},0,"Greta Thunberg: Climate Activist","Women Leading the Way","Blastoff! Readers",null,0]
[{"$f":"IF('Order Form'!A570>0, 1,0)","v":0},0,"Indra Nooyi: CEO of PepsiCo","Women Leading the Way","Blastoff! Readers",null,0]
[{"$f":"IF('Order Form'!A571>0, 1,0)","v":0},0,"Jill Biden: Educator","Women Leading the Way","Blastoff! Readers",null,0]
[{"$f":"IF('Order Form'!A572>0, 1,0)","v":0},0,"Kamala Harris: Vice President","Women Leading the Way","Blastoff! Readers",null,0]
[{"$f":"IF('Order Form'!A573>0, 1,0)","v":0},0,"Kathleen Kennedy: Movie Producer","Women Leading the Way","Blastoff! Readers",null,0]
[{"$f":"IF('Order Form'!A574>0, 1,0)","v":0},0,"Malala Yousafzai: Education Activist","Women Leading the Way","Blastoff! Readers",null,0]
[{"$f":"IF('Order Form'!A575>0, 1,0)","v":0},0,"Maria Tallchief: Prima Ballerina","Women Leading the Way","Blastoff! Readers",null,0]
[{"$f":"IF('Order Form'!A576>0, 1,0)","v":0},0,"Melinda Gates: Philanthropist","Women Leading the Way","Blastoff! Readers",null,0]
[{"$f":"IF('Order Form'!A577>0, 1,0)","v":0},0,"Michelle Howard: Four-star Admiral","Women Leading the Way","Blastoff! Readers",null,0]
[{"$f":"IF('Order Form'!A578>0, 1,0)","v":0},0,"Michelle Obama: Health Advocate","Women Leading the Way","Blastoff! Readers",null,0]
[{"$f":"IF('Order Form'!A579>0, 1,0)","v":0},0,"Rachel Carson: Environmentalist","Women Leading the Way","Blastoff! Readers",null,0]
[{"$f":"IF('Order Form'!A580>0, 1,0)","v":0},0,"Sara Seager: Planetary Scientist","Women Leading the Way","Blastoff! Readers",null,0]
[{"$f":"IF('Order Form'!A581>0, 1,0)","v":0},0,"Selena Gomez: Mental Health Advocate","Women Leading the Way","Blastoff! Readers",null,0]
[{"$f":"IF('Order Form'!A582>0, 1,0)","v":0},0,"Serena Williams: Tennis Star","Women Leading the Way","Blastoff! Readers",null,0]
[{"$f":"IF('Order Form'!A583>0, 1,0)","v":0},0,"Simone Biles: Olympic Gymnast","Women Leading the Way","Blastoff! Readers",null,0]
[{"$f":"IF('Order Form'!A584>0, 1,0)","v":0},0,"Sonia Sotomayor: Supreme Court Justice","Women Leading the Way","Blastoff! Readers",null,0]
[{"$f":"IF('Order Form'!A585>0, 1,0)","v":0},0,"Susan Wojcicki: CEO of YouTube","Women Leading the Way","Blastoff! Readers",null,0]
[{"$f":"IF('Order Form'!A586>0, 1,0)","v":0},0,"Vera Wang: Fashion Designer","Women Leading the Way","Blastoff! Readers",null,0]
[{"$f":"IF('Order Form'!A587>0, 1,0)","v":0},0,"Zaha Hadid: Architect","Women Leading the Way","Blastoff! Readers",null,0]
[{"$f":"IF('Order Form'!A588>0, 1,0)","v":0},0,"Awesome Dogs Set (48 titles)","Awesome Dogs","Blastoff! Readers",null,0]
[{"$f":"IF('Order Form'!A589>0, 1,0)","v":0},0,"Akitas","Awesome Dogs","Blastoff! Readers",null,0]
[{"$f":"IF('Order Form'!A590>0, 1,0)","v":0},0,"Alaskan Malamutes","Awesome Dogs","Blastoff! Readers",null,0]
[{"$f":"IF('Order Form'!A591>0, 1,0)","v":0},0,"Australian Cattle Dogs","Awesome Dogs","Blastoff! Readers",null,0]
[{"$f":"IF('Order Form'!A592>0, 1,0)","v":0},0,"Australian Shepherds","Awesome Dogs","Blastoff! Readers",null,{"$f":"A592","v":0}]
[{"$f":"IF('Order Form'!A593>0, 1,0)","v":0},0,"Basset Hounds","Awesome Dogs","Blastoff! Readers",null,0]
[{"$f":"IF('Order Form'!A594>0, 1,0)","v":0},0,"Beagles","Awesome Dogs","Blastoff! Readers",null,0]
[{"$f":"IF('Order Form'!A595>0, 1,0)","v":0},0,"Bernese Mountain Dogs","Awesome Dogs","Blastoff! Readers",null,0]
[{"$f":"IF('Order Form'!A596>0, 1,0)","v":0},0,"Bichons Frises","Awesome Dogs","Blastoff! Readers",null,0]
[{"$f":"IF('Order Form'!A597>0, 1,0)","v":0},0,"Bloodhounds","Awesome Dogs","Blastoff! Readers",null,0]
[{"$f":"IF('Order Form'!A598>0, 1,0)","v":0},0,"Border Collies","Awesome Dogs","Blastoff! Readers",null,0]
[{"$f":"IF('Order Form'!A599>0, 1,0)","v":0},0,"Boston Terriers","Awesome Dogs","Blastoff! Readers",null,0]
[{"$f":"IF('Order Form'!A600>0, 1,0)","v":0},0,"Boxers","Awesome Dogs","Blastoff! Readers",null,0]
[{"$f":"IF('Order Form'!A601>0, 1,0)","v":0},0,"Brittanys","Awesome Dogs","Blastoff! Readers",null,0]
[{"$f":"IF('Order Form'!A602>0, 1,0)","v":0},0,"Bulldogs","Awesome Dogs","Blastoff! Readers",null,0]
[{"$f":"IF('Order Form'!A603>0, 1,0)","v":0},0,"Cavalier King Charles Spaniels","Awesome Dogs","Blastoff! Readers",null,0]
[{"$f":"IF('Order Form'!A604>0, 1,0)","v":0},0,"Chihuahuas","Awesome Dogs","Blastoff! Readers",null,0]
[{"$f":"IF('Order Form'!A605>0, 1,0)","v":0},0,"Chinese Shar-pei","Awesome Dogs","Blastoff! Readers",null,0]
[{"$f":"IF('Order Form'!A606>0, 1,0)","v":0},0,"Cocker Spaniels","Awesome Dogs","Blastoff! Readers",null,0]
[{"$f":"IF('Order Form'!A607>0, 1,0)","v":0},0,"Collies","Awesome Dogs","Blastoff! Readers",null,0]
[{"$f":"IF('Order Form'!A608>0, 1,0)","v":0},0,"Dachshunds","Awesome Dogs","Blastoff! Readers",null,0]
[{"$f":"IF('Order Form'!A609>0, 1,0)","v":0},0,"Dalmatians","Awesome Dogs","Blastoff! Readers",null,0]
[{"$f":"IF('Order Form'!A610>0, 1,0)","v":0},0,"Doberman Pinschers","Awesome Dogs","Blastoff! Readers",null,0]
[{"$f":"IF('Order Form'!A611>0, 1,0)","v":0},0,"French Bulldogs","Awesome Dogs","Blastoff! Readers",null,0]
[{"$f":"IF('Order Form'!A612>0, 1,0)","v":0},0,"German Shepherds","Awesome Dogs","Blastoff! Readers",null,0]
[{"$f":"IF('Order Form'!A613>0, 1,0)","v":0},0,"German Shorthaired Pointers","Awesome Dogs","Blastoff! Readers",null,0]
[{"$f":"IF('Order Form'!A614>0, 1,0)","v":0},0,"Golden Retrievers","Awesome Dogs","Blastoff! Readers",null,0]
[{"$f":"IF('Order Form'!A615>0, 1,0)","v":0},0,"Great Danes","Awesome Dogs","Blastoff! Readers",null,0]
[{"$f":"IF('Order Form'!A616>0, 1,0)","v":0},0,"Greyhounds","Awesome Dogs","Blastoff! Readers",null,0]
[{"$f":"IF('Order Form'!A617>0, 1,0)","v":0},0,"Irish Wolfhounds","Awesome Dogs","Blastoff! Readers",null,0]
[{"$f":"IF('Order Form'!A618>0, 1,0)","v":0},0,"Labrador Retrievers","Awesome Dogs","Blastoff! Readers",null,0]
[{"$f":"IF('Order Form'!A619>0, 1,0)","v":0},0,"Maltese","Awesome Dogs","Blastoff! Readers",null,0]
[{"$f":"IF('Order Form'!A620>0, 1,0)","v":0},0,"Mastiffs","Awesome Dogs","Blastoff! Readers",null,0]
[{"$f":"IF('Order Form'!A621>0, 1,0)","v":0},0,"Miniature Schnauzers","Awesome Dogs","Blastoff! Readers",null,0]
[{"$f":"IF('Order Form'!A622>0, 1,0)","v":0},0,"Newfoundlands","Awesome Dogs","Blastoff! Readers",null,0]
[{"$f":"IF('Order Form'!A623>0, 1,0)","v":0},0,"Pembroke Welsh Corgis","Awesome Dogs","Blastoff! Readers",null,0]
[{"$f":"IF('Order Form'!A624>0, 1,0)","v":0},0,"Pomeranians","Awesome Dogs","Blastoff! Readers",null,0]
[{"$f":"IF('Order Form'!A625>0, 1,0)","v":0},0,"Poodles","Awesome Dogs","Blastoff! Readers",null,0]
[{"$f":"IF('Order Form'!A626>0, 1,0)","v":0},0,"Pugs","Awesome Dogs","Blastoff! Readers",null,0]
[{"$f":"IF('Order Form'!A627>0, 1,0)","v":0},0,"Rottweilers","Awesome Dogs","Blastoff! Readers",null,0]
[{"$f":"IF('Order Form'!A628>0, 1,0)","v":0},0,"Saint Bernards","Awesome Dogs","Blastoff! Readers",null,0]
[{"$f":"IF('Order Form'!A629>0, 1,0)","v":0},0,"Scottish Terriers","Awesome Dogs","Blastoff! Readers",null,0]
[{"$f":"IF('Order Form'!A630>0, 1,0)","v":0},0,"Shetland Sheepdogs","Awesome Dogs","Blastoff! Readers",null,0]
[{"$f":"IF('Order Form'!A631>0, 1,0)","v":0},0,"Shiba Inus","Awesome Dogs","Blastoff! Readers",null,0]
[{"$f":"IF('Order Form'!A632>0, 1,0)","v":0},0,"Shih Tzus","Awesome Dogs","Blastoff! Readers",null,0]
[{"$f":"IF('Order Form'!A633>0, 1,0)","v":0},0,"Siberian Huskies","Awesome Dogs","Blastoff! Readers",null,0]
[{"$f":"IF('Order Form'!A634>0, 1,0)","v":0},0,"Vizslas","Awesome Dogs","Blastoff! Readers",null,0]
[{"$f":"IF('Order Form'!A635>0, 1,0)","v":0},0,"West Highland White Terriers","Awesome Dogs","Blastoff! Readers",null,0]
[{"$f":"IF('Order Form'!A636>0, 1,0)","v":0},0,"Yorkshire Terriers","Awesome Dogs","Blastoff! Readers",null,0]
[{"$f":"IF('Order Form'!A637>0, 1,0)","v":0},0,"Shark Frenzy Set (12)","Shark Frenzy","Blastoff! Readers",null,0]
[{"$f":"IF('Order Form'!A638>0, 1,0)","v":0},0,"Angel Sharks","Shark Frenzy","Blastoff! Readers",null,0]
[{"$f":"IF('Order Form'!A639>0, 1,0)","v":0},0,"Basking Sharks","Shark Frenzy","Blastoff! Readers",null,0]
[{"$f":"IF('Order Form'!A640>0, 1,0)","v":0},0,"Blue Sharks","Shark Frenzy","Blastoff! Readers",null,0]
[{"$f":"IF('Order Form'!A641>0, 1,0)","v":0},0,"Bull Sharks","Shark Frenzy","Blastoff! Readers",null,0]
[{"$f":"IF('Order Form'!A642>0, 1,0)","v":0},0,"Great White Sharks","Shark Frenzy","Blastoff! Readers",null,0]
[{"$f":"IF('Order Form'!A643>0, 1,0)","v":0},0,"Hammerhead Sharks","Shark Frenzy","Blastoff! Readers",null,0]
[{"$f":"IF('Order Form'!A644>0, 1,0)","v":0},0,"Lemon Sharks","Shark Frenzy","Blastoff! Readers",null,0]
[{"$f":"IF('Order Form'!A645>0, 1,0)","v":0},0,"Mako Sharks","Shark Frenzy","Blastoff! Readers",null,0]
[{"$f":"IF('Order Form'!A646>0, 1,0)","v":0},0,"Nurse Sharks","Shark Frenzy","Blastoff! Readers",null,0]
[{"$f":"IF('Order Form'!A647>0, 1,0)","v":0},0,"Oceanic Whitetip Sharks","Shark Frenzy","Blastoff! Readers",null,0]
[{"$f":"IF('Order Form'!A648>0, 1,0)","v":0},0,"Sand Tiger Sharks","Shark Frenzy","Blastoff! Readers",null,0]
[{"$f":"IF('Order Form'!A649>0, 1,0)","v":0},0,"Whale Sharks","Shark Frenzy","Blastoff! Readers",null,0]
[{"$f":"IF('Order Form'!A650>0, 1,0)","v":0},0,"The World's Smartest Animals Set (6)","The World's Smartest Animals","Blastoff! Readers",null,0]
[{"$f":"IF('Order Form'!A651>0, 1,0)","v":0},0,"Chimpanzees","The World's Smartest Animals","Blastoff! Readers",null,0]
[{"$f":"IF('Order Form'!A652>0, 1,0)","v":0},0,"Crows","The World's Smartest Animals","Blastoff! Readers",null,0]
[{"$f":"IF('Order Form'!A653>0, 1,0)","v":0},0,"Dogs","The World's Smartest Animals","Blastoff! Readers",null,0]
[{"$f":"IF('Order Form'!A654>0, 1,0)","v":0},0,"Dolphins","The World's Smartest Animals","Blastoff! Readers",null,0]
[{"$f":"IF('Order Form'!A655>0, 1,0)","v":0},0,"Octopuses","The World's Smartest Animals","Blastoff! Readers",null,0]
[{"$f":"IF('Order Form'!A656>0, 1,0)","v":0},0,"Rats","The World's Smartest Animals","Blastoff! Readers",null,{"$f":"A656","v":0}]
[{"$f":"IF('Order Form'!A657>0, 1,0)","v":0},0,"Careers in STEM Set (8)","Careers in STEM","Blastoff! Readers",null,0]
[{"$f":"IF('Order Form'!A658>0, 1,0)","v":0},0,"Architect","Careers in STEM","Blastoff! Readers",null,0]
[{"$f":"IF('Order Form'!A659>0, 1,0)","v":0},0,"Astronomer","Careers in STEM","Blastoff! Readers",null,0]
[{"$f":"IF('Order Form'!A660>0, 1,0)","v":0},0,"Botanist","Careers in STEM","Blastoff! Readers",null,0]
[{"$f":"IF('Order Form'!A661>0, 1,0)","v":0},0,"Chemist","Careers in STEM","Blastoff! Readers",null,0]
[{"$f":"IF('Order Form'!A662>0, 1,0)","v":0},0,"Climate Scientist","Careers in STEM","Blastoff! Readers",null,0]
[{"$f":"IF('Order Form'!A663>0, 1,0)","v":0},0,"Computer Programmer","Careers in STEM","Blastoff! Readers",null,0]
[{"$f":"IF('Order Form'!A664>0, 1,0)","v":0},0,"Geologist","Careers in STEM","Blastoff! Readers",null,0]
[{"$f":"IF('Order Form'!A665>0, 1,0)","v":0},0,"Meteorologist","Careers in STEM","Blastoff! Readers",null,0]
[{"$f":"IF('Order Form'!A666>0, 1,0)","v":0},0,"Science Starters Set (8)","Science Starters","Blastoff! Readers",null,0]
[{"$f":"IF('Order Form'!A667>0, 1,0)","v":0},0,"Electricity","Science Starters","Blastoff! Readers",null,0]
[{"$f":"IF('Order Form'!A668>0, 1,0)","v":0},0,"Energy","Science Starters","Blastoff! Readers",null,0]
[{"$f":"IF('Order Form'!A669>0, 1,0)","v":0},0,"Gravity","Science Starters","Blastoff! Readers",null,0]
[{"$f":"IF('Order Form'!A670>0, 1,0)","v":0},0,"Light","Science Starters","Blastoff! Readers",null,0]
[{"$f":"IF('Order Form'!A671>0, 1,0)","v":0},0,"Magnetism","Science Starters","Blastoff! Readers",null,0]
[{"$f":"IF('Order Form'!A672>0, 1,0)","v":0},0,"Matter","Science Starters","Blastoff! Readers",null,0]
[{"$f":"IF('Order Form'!A673>0, 1,0)","v":0},0,"Sound","Science Starters","Blastoff! Readers",null,0]
[{"$f":"IF('Order Form'!A674>0, 1,0)","v":0},0,"Temperature","Science Starters","Blastoff! Readers",null,0]
[{"$f":"IF('Order Form'!A675>0, 1,0)","v":0},0,"Natural Disasters Set (12)","Natural Disasters","Blastoff! Readers",null,0]
[{"$f":"IF('Order Form'!A676>0, 1,0)","v":0},0,"Blizzards","Natural Disasters","Blastoff! Readers",null,0]
[{"$f":"IF('Order Form'!A677>0, 1,0)","v":0},0,"Earthquakes","Natural Disasters","Blastoff! Readers",null,0]
[{"$f":"IF('Order Form'!A678>0, 1,0)","v":0},0,"Hurricanes","Natural Disasters","Blastoff! Readers",null,0]
[{"$f":"IF('Order Form'!A679>0, 1,0)","v":0},0,"Tornadoes","Natural Disasters","Blastoff! Readers",null,0]
[{"$f":"IF('Order Form'!A680>0, 1,0)","v":0},0,"Tsunamis","Natural Disasters","Blastoff! Readers",null,0]
[{"$f":"IF('Order Form'!A681>0, 1,0)","v":0},0,"Volcanoes","Natural Disasters","Blastoff! Readers",null,0]
[{"$f":"IF('Order Form'!A682>0, 1,0)","v":0},0,"Avalanches","Natural Disasters","Blastoff! Readers",null,0]
[{"$f":"IF('Order Form'!A683>0, 1,0)","v":0},0,"Droughts","Natural Disasters","Blastoff! Readers",null,0]
[{"$f":"IF('Order Form'!A684>0, 1,0)","v":0},0,"Floods","Natural Disasters","Blastoff! Readers",null,0]
[{"$f":"IF('Order Form'!A685>0, 1,0)","v":0},0,"Ice Storms","Natural Disasters","Blastoff! Readers",null,0]
[{"$f":"IF('Order Form'!A686>0, 1,0)","v":0},0,"Sinkholes","Natural Disasters","Blastoff! Readers",null,0]
[{"$f":"IF('Order Form'!A687>0, 1,0)","v":0},0,"Wildfires","Natural Disasters","Blastoff! Readers",null,0]
[{"$f":"IF('Order Form'!A688>0, 1,0)","v":0},0,"How it Works (10)","How It Works","Blastoff! Readers",null,0]
[{"$f":"IF('Order Form'!A689>0, 1,0)","v":0},0,"Airplanes","How It Works","Blastoff! Readers",null,0]
[{"$f":"IF('Order Form'!A690>0, 1,0)","v":0},0,"Cars","How It Works","Blastoff! Readers",null,0]
[{"$f":"IF('Order Form'!A691>0, 1,0)","v":0},0,"Cell Phones","How It Works","Blastoff! Readers",null,0]
[{"$f":"IF('Order Form'!A692>0, 1,0)","v":0},0,"Computers","How It Works","Blastoff! Readers",null,0]
[{"$f":"IF('Order Form'!A693>0, 1,0)","v":0},0,"Electric Guitars","How It Works","Blastoff! Readers",null,0]
[{"$f":"IF('Order Form'!A694>0, 1,0)","v":0},0,"Helicopters","How It Works","Blastoff! Readers",null,0]
[{"$f":"IF('Order Form'!A695>0, 1,0)","v":0},0,"Rockets","How It Works","Blastoff! Readers",null,0]
[{"$f":"IF('Order Form'!A696>0, 1,0)","v":0},0,"Roller Coasters","How It Works","Blastoff! Readers",null,0]
[{"$f":"IF('Order Form'!A697>0, 1,0)","v":0},0,"Submarines","How It Works","Blastoff! Readers",null,0]
[{"$f":"IF('Order Form'!A698>0, 1,0)","v":0},0,"Trains","How It Works","Blastoff! Readers",null,0]
[{"$f":"IF('Order Form'!A699>0, 1,0)","v":0},0,"Our Favorite Foods Set (10)","Our Favorite Foods","Blastoff! Readers",null,0]
[{"$f":"IF('Order Form'!A700>0, 1,0)","v":0},0,"Chocolate Chip Cookies","Our Favorite Foods","Blastoff! Readers",null,0]
[{"$f":"IF('Order Form'!A701>0, 1,0)","v":0},0,"Doughnuts","Our Favorite Foods","Blastoff! Readers",null,0]
[{"$f":"IF('Order Form'!A702>0, 1,0)","v":0},0,"French Fries","Our Favorite Foods","Blastoff! Readers",null,0]
[{"$f":"IF('Order Form'!A703>0, 1,0)","v":0},0,"Grilled Cheese Sandwiches","Our Favorite Foods","Blastoff! Readers",null,0]
[{"$f":"IF('Order Form'!A704>0, 1,0)","v":0},0,"Hamburgers","Our Favorite Foods","Blastoff! Readers",null,0]
[{"$f":"IF('Order Form'!A705>0, 1,0)","v":0},0,"Ice Cream","Our Favorite Foods","Blastoff! Readers",null,0]
[{"$f":"IF('Order Form'!A706>0, 1,0)","v":0},0,"Macaroni & Cheese","Our Favorite Foods","Blastoff! Readers",null,0]
[{"$f":"IF('Order Form'!A707>0, 1,0)","v":0},0,"Pizza","Our Favorite Foods","Blastoff! Readers",null,0]
[{"$f":"IF('Order Form'!A708>0, 1,0)","v":0},0,"Popcorn","Our Favorite Foods","Blastoff! Readers",null,0]
[{"$f":"IF('Order Form'!A709>0, 1,0)","v":0},0,"Tacos","Our Favorite Foods","Blastoff! Readers",null,0]
[{"$f":"IF('Order Form'!A710>0, 1,0)","v":0},0,"Animals on the Move Set (8)","Animals on the Move","Blastoff! Readers",null,0]
[{"$f":"IF('Order Form'!A711>0, 1,0)","v":0},0,"Arctic Tern Migration","Animals on the Move","Blastoff! Readers",null,0]
[{"$f":"IF('Order Form'!A712>0, 1,0)","v":0},0,"Caribou Migration","Animals on the Move","Blastoff! Readers",null,0]
[{"$f":"IF('Order Form'!A713>0, 1,0)","v":0},0,"Christmas Island Red Crab Migration","Animals on the Move","Blastoff! Readers",null,0]
[{"$f":"IF('Order Form'!A714>0, 1,0)","v":0},0,"Humpback Whale Migration","Animals on the Move","Blastoff! Readers",null,0]
[{"$f":"IF('Order Form'!A715>0, 1,0)","v":0},0,"Leatherback Sea Turtle Migration","Animals on the Move","Blastoff! Readers",null,0]
[{"$f":"IF('Order Form'!A716>0, 1,0)","v":0},0,"Monarch Butterfly Migration","Animals on the Move","Blastoff! Readers",null,0]
[{"$f":"IF('Order Form'!A717>0, 1,0)","v":0},0,"Salmon Migration","Animals on the Move","Blastoff! Readers",null,0]
[{"$f":"IF('Order Form'!A718>0, 1,0)","v":0},0,"Wildebeest Migration","Animals on the Move","Blastoff! Readers",null,0]
[{"$f":"IF('Order Form'!A719>0, 1,0)","v":0},0,"Animal Tag Teams Set (6)","Animal Tag Teams","Blastoff! Readers",null,0]
[{"$f":"IF('Order Form'!A720>0, 1,0)","v":0},0,"Cape Buffalo and Oxpeckers","Animal Tag Teams","Blastoff! Readers",null,{"$f":"A720","v":0}]
[{"$f":"IF('Order Form'!A721>0, 1,0)","v":0},0,"Clownfish and Sea Anemones","Animal Tag Teams","Blastoff! Readers",null,0]
[{"$f":"IF('Order Form'!A722>0, 1,0)","v":0},0,"Goby Fish and Snapping Shrimp","Animal Tag Teams","Blastoff! Readers",null,0]
[{"$f":"IF('Order Form'!A723>0, 1,0)","v":0},0,"Nile Crocodiles and Egyptian Plovers","Animal Tag Teams","Blastoff! Readers",null,0]
[{"$f":"IF('Order Form'!A724>0, 1,0)","v":0},0,"Oceanic Whitetip Sharks and Pilot Fish","Animal Tag Teams","Blastoff! Readers",null,0]
[{"$f":"IF('Order Form'!A725>0, 1,0)","v":0},0,"Warthogs and Banded Mongooses","Animal Tag Teams","Blastoff! Readers",null,0]
[{"$f":"IF('Order Form'!A726>0, 1,0)","v":0},0,"Our Planet Earth Set (12)","Our Planet Earth","Blastoff! Readers",null,0]
[{"$f":"IF('Order Form'!A727>0, 1,0)","v":0},0,"Caves","Our Planet Earth","Blastoff! Readers",null,0]
[{"$f":"IF('Order Form'!A728>0, 1,0)","v":0},0,"Coral Reefs","Our Planet Earth","Blastoff! Readers",null,0]
[{"$f":"IF('Order Form'!A729>0, 1,0)","v":0},0,"Deserts","Our Planet Earth","Blastoff! Readers",null,0]
[{"$f":"IF('Order Form'!A730>0, 1,0)","v":0},0,"Forests","Our Planet Earth","Blastoff! Readers",null,0]
[{"$f":"IF('Order Form'!A731>0, 1,0)","v":0},0,"Glaciers","Our Planet Earth","Blastoff! Readers",null,0]
[{"$f":"IF('Order Form'!A732>0, 1,0)","v":0},0,"Lakes","Our Planet Earth","Blastoff! Readers",null,0]
[{"$f":"IF('Order Form'!A733>0, 1,0)","v":0},0,"Mountains","Our Planet Earth","Blastoff! Readers",null,0]
[{"$f":"IF('Order Form'!A734>0, 1,0)","v":0},0,"Oceans","Our Planet Earth","Blastoff! Readers",null,0]
[{"$f":"IF('Order Form'!A735>0, 1,0)","v":0},0,"Prairies","Our Planet Earth","Blastoff! Readers",null,0]
[{"$f":"IF('Order Form'!A736>0, 1,0)","v":0},0,"Rain Forests","Our Planet Earth","Blastoff! Readers",null,0]
[{"$f":"IF('Order Form'!A737>0, 1,0)","v":0},0,"Rivers","Our Planet Earth","Blastoff! Readers",null,0]
[{"$f":"IF('Order Form'!A738>0, 1,0)","v":0},0,"Wetlands","Our Planet Earth","Blastoff! Readers",null,0]
[{"$f":"IF('Order Form'!A739>0, 1,0)","v":0},0,"Ocean Life Up Close Set (28)","Ocean Life Up Close","Blastoff! Readers",null,0]
[{"$f":"IF('Order Form'!A740>0, 1,0)","v":0},0,"Angelfish","Ocean Life Up Close","Blastoff! Readers",null,0]
[{"$f":"IF('Order Form'!A741>0, 1,0)","v":0},0,"Bottlenose Dolphins","Ocean Life Up Close","Blastoff! Readers",null,0]
[{"$f":"IF('Order Form'!A742>0, 1,0)","v":0},0,"Clownfish","Ocean Life Up Close","Blastoff! Readers",null,0]
[{"$f":"IF('Order Form'!A743>0, 1,0)","v":0},0,"Corals","Ocean Life Up Close","Blastoff! Readers",null,0]
[{"$f":"IF('Order Form'!A744>0, 1,0)","v":0},0,"Crabs","Ocean Life Up Close","Blastoff! Readers",null,0]
[{"$f":"IF('Order Form'!A745>0, 1,0)","v":0},0,"Eels","Ocean Life Up Close","Blastoff! Readers",null,0]
[{"$f":"IF('Order Form'!A746>0, 1,0)","v":0},0,"Emperor Penguins","Ocean Life Up Close","Blastoff! Readers",null,0]
[{"$f":"IF('Order Form'!A747>0, 1,0)","v":0},0,"Great White Sharks","Ocean Life Up Close","Blastoff! Readers",null,0]
[{"$f":"IF('Order Form'!A748>0, 1,0)","v":0},0,"Humpback Whales","Ocean Life Up Close","Blastoff! Readers",null,0]
[{"$f":"IF('Order Form'!A749>0, 1,0)","v":0},0,"Jellyfish","Ocean Life Up Close","Blastoff! Readers",null,0]
[{"$f":"IF('Order Form'!A750>0, 1,0)","v":0},0,"Lobsters","Ocean Life Up Close","Blastoff! Readers",null,0]
[{"$f":"IF('Order Form'!A751>0, 1,0)","v":0},0,"Manatees","Ocean Life Up Close","Blastoff! Readers",null,0]
[{"$f":"IF('Order Form'!A752>0, 1,0)","v":0},0,"Octopuses","Ocean Life Up Close","Blastoff! Readers",null,0]
[{"$f":"IF('Order Form'!A753>0, 1,0)","v":0},0,"Orcas","Ocean Life Up Close","Blastoff! Readers",null,0]
[{"$f":"IF('Order Form'!A754>0, 1,0)","v":0},0,"Parrotfish","Ocean Life Up Close","Blastoff! Readers",null,0]
[{"$f":"IF('Order Form'!A755>0, 1,0)","v":0},0,"Puffer Fish","Ocean Life Up Close","Blastoff! Readers",null,0]
[{"$f":"IF('Order Form'!A756>0, 1,0)","v":0},0,"Sea Anemones","Ocean Life Up Close","Blastoff! Readers",null,0]
[{"$f":"IF('Order Form'!A757>0, 1,0)","v":0},0,"Sea Dragons","Ocean Life Up Close","Blastoff! Readers",null,0]
[{"$f":"IF('Order Form'!A758>0, 1,0)","v":0},0,"Sea Horses","Ocean Life Up Close","Blastoff! Readers",null,0]
[{"$f":"IF('Order Form'!A759>0, 1,0)","v":0},0,"Sea Lions","Ocean Life Up Close","Blastoff! Readers",null,0]
[{"$f":"IF('Order Form'!A760>0, 1,0)","v":0},0,"Sea Otters","Ocean Life Up Close","Blastoff! Readers",null,0]
[{"$f":"IF('Order Form'!A761>0, 1,0)","v":0},0,"Sea Stars","Ocean Life Up Close","Blastoff! Readers",null,0]
[{"$f":"IF('Order Form'!A762>0, 1,0)","v":0},0,"Sea Turtles","Ocean Life Up Close","Blastoff! Readers",null,0]
[{"$f":"IF('Order Form'!A763>0, 1,0)","v":0},0,"Sea Urchins","Ocean Life Up Close","Blastoff! Readers",null,0]
[{"$f":"IF('Order Form'!A764>0, 1,0)","v":0},0,"Seals","Ocean Life Up Close","Blastoff! Readers",null,0]
[{"$f":"IF('Order Form'!A765>0, 1,0)","v":0},0,"Squids","Ocean Life Up Close","Blastoff! Readers",null,0]
[{"$f":"IF('Order Form'!A766>0, 1,0)","v":0},0,"Stingrays","Ocean Life Up Close","Blastoff! Readers",null,0]
[{"$f":"IF('Order Form'!A767>0, 1,0)","v":0},0,"Walruses","Ocean Life Up Close","Blastoff! Readers",null,0]
[{"$f":"IF('Order Form'!A768>0, 1,0)","v":0},0,"Your Body Systems Set (6)","Your Body Systems","Blastoff! Readers",null,0]
[{"$f":"IF('Order Form'!A769>0, 1,0)","v":0},0,"Circulatory System, The","Your Body Systems","Blastoff! Readers",null,0]
[{"$f":"IF('Order Form'!A770>0, 1,0)","v":0},0,"Digestive System, The","Your Body Systems","Blastoff! Readers",null,0]
[{"$f":"IF('Order Form'!A771>0, 1,0)","v":0},0,"Muscular System, The","Your Body Systems","Blastoff! Readers",null,0]
[{"$f":"IF('Order Form'!A772>0, 1,0)","v":0},0,"Nervous System, The","Your Body Systems","Blastoff! Readers",null,0]
[{"$f":"IF('Order Form'!A773>0, 1,0)","v":0},0,"Respiratory System, The","Your Body Systems","Blastoff! Readers",null,0]
[{"$f":"IF('Order Form'!A774>0, 1,0)","v":0},0,"Skeletal System, The","Your Body Systems","Blastoff! Readers",null,0]
[{"$f":"IF('Order Form'!A775>0, 1,0)","v":0},0,"The Five Senses Set (5)","The Five Senses","Blastoff! Readers",null,0]
[{"$f":"IF('Order Form'!A776>0, 1,0)","v":0},0,"Hearing","The Five Senses","Blastoff! Readers",null,0]
[{"$f":"IF('Order Form'!A777>0, 1,0)","v":0},0,"Seeing","The Five Senses","Blastoff! Readers",null,0]
[{"$f":"IF('Order Form'!A778>0, 1,0)","v":0},0,"Smelling","The Five Senses","Blastoff! Readers",null,0]
[{"$f":"IF('Order Form'!A779>0, 1,0)","v":0},0,"Tasting","The Five Senses","Blastoff! Readers",null,0]
[{"$f":"IF('Order Form'!A780>0, 1,0)","v":0},0,"Touching","The Five Senses","Blastoff! Readers",null,0]
[{"$f":"IF('Order Form'!A781>0, 1,0)","v":0},0,"North American Animals Set (58)","North American Animals","Blastoff! Readers",null,0]
[{"$f":"IF('Order Form'!A782>0, 1,0)","v":0},0,"American Alligators","North American Animals","Blastoff! Readers",null,0]
[{"$f":"IF('Order Form'!A783>0, 1,0)","v":0},0,"American Badgers","North American Animals","Blastoff! Readers",null,0]
[{"$f":"IF('Order Form'!A784>0, 1,0)","v":0},0,"American Beavers","North American Animals","Blastoff! Readers",null,{"$f":"A784","v":0}]
[{"$f":"IF('Order Form'!A785>0, 1,0)","v":0},0,"American Bison","North American Animals","Blastoff! Readers",null,0]
[{"$f":"IF('Order Form'!A786>0, 1,0)","v":0},0,"American Bullfrogs","North American Animals","Blastoff! Readers",null,0]
[{"$f":"IF('Order Form'!A787>0, 1,0)","v":0},0,"American Crows","North American Animals","Blastoff! Readers",null,0]
[{"$f":"IF('Order Form'!A788>0, 1,0)","v":0},0,"American Robins","North American Animals","Blastoff! Readers",null,0]
[{"$f":"IF('Order Form'!A789>0, 1,0)","v":0},0,"Bald Eagles","North American Animals","Blastoff! Readers",null,0]
[{"$f":"IF('Order Form'!A790>0, 1,0)","v":0},0,"Bighorn Sheep","North American Animals","Blastoff! Readers",null,0]
[{"$f":"IF('Order Form'!A791>0, 1,0)","v":0},0,"Black Bears","North American Animals","Blastoff! Readers",null,0]
[{"$f":"IF('Order Form'!A792>0, 1,0)","v":0},0,"Blue Jays","North American Animals","Blastoff! Readers",null,0]
[{"$f":"IF('Order Form'!A793>0, 1,0)","v":0},0,"Bobcats","North American Animals","Blastoff! Readers",null,0]
[{"$f":"IF('Order Form'!A794>0, 1,0)","v":0},0,"Brown Bats","North American Animals","Blastoff! Readers",null,0]
[{"$f":"IF('Order Form'!A795>0, 1,0)","v":0},0,"California Condors","North American Animals","Blastoff! Readers",null,0]
[{"$f":"IF('Order Form'!A796>0, 1,0)","v":0},0,"Canada Geese","North American Animals","Blastoff! Readers",null,0]
[{"$f":"IF('Order Form'!A797>0, 1,0)","v":0},0,"Canada Lynx","North American Animals","Blastoff! Readers",null,0]
[{"$f":"IF('Order Form'!A798>0, 1,0)","v":0},0,"Caribou","North American Animals","Blastoff! Readers",null,0]
[{"$f":"IF('Order Form'!A799>0, 1,0)","v":0},0,"Common Box Turtles","North American Animals","Blastoff! Readers",null,0]
[{"$f":"IF('Order Form'!A800>0, 1,0)","v":0},0,"Common Garter Snakes","North American Animals","Blastoff! Readers",null,0]
[{"$f":"IF('Order Form'!A801>0, 1,0)","v":0},0,"Common Snapping Turtles","North American Animals","Blastoff! Readers",null,0]
[{"$f":"IF('Order Form'!A802>0, 1,0)","v":0},0,"Cottonmouths","North American Animals","Blastoff! Readers",null,0]
[{"$f":"IF('Order Form'!A803>0, 1,0)","v":0},0,"Cottontail Rabbits","North American Animals","Blastoff! Readers",null,0]
[{"$f":"IF('Order Form'!A804>0, 1,0)","v":0},0,"Coyotes","North American Animals","Blastoff! Readers",null,0]
[{"$f":"IF('Order Form'!A805>0, 1,0)","v":0},0,"Diamondback Rattlesnakes","North American Animals","Blastoff! Readers",null,0]
[{"$f":"IF('Order Form'!A806>0, 1,0)","v":0},0,"Eastern Chipmunks","North American Animals","Blastoff! Readers",null,0]
[{"$f":"IF('Order Form'!A807>0, 1,0)","v":0},0,"Gila Monsters","North American Animals","Blastoff! Readers",null,0]
[{"$f":"IF('Order Form'!A808>0, 1,0)","v":0},0,"Golden Eagles","North American Animals","Blastoff! Readers",null,0]
[{"$f":"IF('Order Form'!A809>0, 1,0)","v":0},0,"Gray Foxes","North American Animals","Blastoff! Readers",null,0]
[{"$f":"IF('Order Form'!A810>0, 1,0)","v":0},0,"Gray Squirrels","North American Animals","Blastoff! Readers",null,0]
[{"$f":"IF('Order Form'!A811>0, 1,0)","v":0},0,"Gray Wolves","North American Animals","Blastoff! Readers",null,0]
[{"$f":"IF('Order Form'!A812>0, 1,0)","v":0},0,"Great Horned Owls","North American Animals","Blastoff! Readers",null,0]
[{"$f":"IF('Order Form'!A813>0, 1,0)","v":0},0,"Grizzly Bears","North American Animals","Blastoff! Readers",null,0]
[{"$f":"IF('Order Form'!A814>0, 1,0)","v":0},0,"Jackrabbits","North American Animals","Blastoff! Readers",null,0]
[{"$f":"IF('Order Form'!A815>0, 1,0)","v":0},0,"Long-tailed Weasels","North American Animals","Blastoff! Readers",null,0]
[{"$f":"IF('Order Form'!A816>0, 1,0)","v":0},0,"Moose","North American Animals","Blastoff! Readers",null,0]
[{"$f":"IF('Order Form'!A817>0, 1,0)","v":0},0,"Mountain Goats","North American Animals","Blastoff! Readers",null,0]
[{"$f":"IF('Order Form'!A818>0, 1,0)","v":0},0,"Mountain Lions","North American Animals","Blastoff! Readers",null,0]
[{"$f":"IF('Order Form'!A819>0, 1,0)","v":0},0,"Muskrats","North American Animals","Blastoff! Readers",null,0]
[{"$f":"IF('Order Form'!A820>0, 1,0)","v":0},0,"Nine-banded Armadillos","North American Animals","Blastoff! Readers",null,0]
[{"$f":"IF('Order Form'!A821>0, 1,0)","v":0},0,"Northern Cardinals","North American Animals","Blastoff! Readers",null,0]
[{"$f":"IF('Order Form'!A822>0, 1,0)","v":0},0,"Northern Leopard Frogs","North American Animals","Blastoff! Readers",null,0]
[{"$f":"IF('Order Form'!A823>0, 1,0)","v":0},0,"Opossums","North American Animals","Blastoff! Readers",null,0]
[{"$f":"IF('Order Form'!A824>0, 1,0)","v":0},0,"Pileated Woodpeckers","North American Animals","Blastoff! Readers",null,0]
[{"$f":"IF('Order Form'!A825>0, 1,0)","v":0},0,"Porcupines","North American Animals","Blastoff! Readers",null,0]
[{"$f":"IF('Order Form'!A826>0, 1,0)","v":0},0,"Prairie Dogs","North American Animals","Blastoff! Readers",null,0]
[{"$f":"IF('Order Form'!A827>0, 1,0)","v":0},0,"Pronghorn","North American Animals","Blastoff! Readers",null,0]
[{"$f":"IF('Order Form'!A828>0, 1,0)","v":0},0,"Raccoons","North American Animals","Blastoff! Readers",null,0]
[{"$f":"IF('Order Form'!A829>0, 1,0)","v":0},0,"Red Foxes","North American Animals","Blastoff! Readers",null,0]
[{"$f":"IF('Order Form'!A830>0, 1,0)","v":0},0,"Red Squirrels","North American Animals","Blastoff! Readers",null,0]
[{"$f":"IF('Order Form'!A831>0, 1,0)","v":0},0,"Red-tailed Hawks","North American Animals","Blastoff! Readers",null,0]
[{"$f":"IF('Order Form'!A832>0, 1,0)","v":0},0,"River Otters","North American Animals","Blastoff! Readers",null,0]
[{"$f":"IF('Order Form'!A833>0, 1,0)","v":0},0,"Roadrunners","North American Animals","Blastoff! Readers",null,0]
[{"$f":"IF('Order Form'!A834>0, 1,0)","v":0},0,"Rocky Mountain Elk","North American Animals","Blastoff! Readers",null,0]
[{"$f":"IF('Order Form'!A835>0, 1,0)","v":0},0,"Ruby-throated Hummingbirds","North American Animals","Blastoff! Readers",null,0]
[{"$f":"IF('Order Form'!A836>0, 1,0)","v":0},0,"Striped Skunks","North American Animals","Blastoff! Readers",null,0]
[{"$f":"IF('Order Form'!A837>0, 1,0)","v":0},0,"White-tailed Deer","North American Animals","Blastoff! Readers",null,0]
[{"$f":"IF('Order Form'!A838>0, 1,0)","v":0},0,"Wild Turkeys","North American Animals","Blastoff! Readers",null,0]
[{"$f":"IF('Order Form'!A839>0, 1,0)","v":0},0,"Wolverines","North American Animals","Blastoff! Readers",null,0]
[{"$f":"IF('Order Form'!A840>0, 1,0)","v":0},0,"State Profiles Set (52)","State Profiles","Blastoff! Discovery",null,0]
[{"$f":"IF('Order Form'!A841>0, 1,0)","v":0},0,"Alabama","State Profiles","Blastoff! Discovery",null,0]
[{"$f":"IF('Order Form'!A842>0, 1,0)","v":0},0,"Alaska","State Profiles","Blastoff! Discovery",null,0]
[{"$f":"IF('Order Form'!A843>0, 1,0)","v":0},0,"Arizona","State Profiles","Blastoff! Discovery",null,0]
[{"$f":"IF('Order Form'!A844>0, 1,0)","v":0},0,"Arkansas","State Profiles","Blastoff! Discovery",null,0]
[{"$f":"IF('Order Form'!A845>0, 1,0)","v":0},0,"California","State Profiles","Blastoff! Discovery",null,0]
[{"$f":"IF('Order Form'!A846>0, 1,0)","v":0},0,"Colorado","State Profiles","Blastoff! Discovery",null,0]
[{"$f":"IF('Order Form'!A847>0, 1,0)","v":0},0,"Connecticut","State Profiles","Blastoff! Discovery",null,0]
[{"$f":"IF('Order Form'!A848>0, 1,0)","v":0},0,"Delaware","State Profiles","Blastoff! Discovery",null,{"$f":"A848","v":0}]
[{"$f":"IF('Order Form'!A849>0, 1,0)","v":0},0,"Florida","State Profiles","Blastoff! Discovery",null,0]
[{"$f":"IF('Order Form'!A850>0, 1,0)","v":0},0,"Georgia","State Profiles","Blastoff! Discovery",null,0]
[{"$f":"IF('Order Form'!A851>0, 1,0)","v":0},0,"Hawaii","State Profiles","Blastoff! Discovery",null,0]
[{"$f":"IF('Order Form'!A852>0, 1,0)","v":0},0,"Idaho","State Profiles","Blastoff! Discovery",null,0]
[{"$f":"IF('Order Form'!A853>0, 1,0)","v":0},0,"Illinois","State Profiles","Blastoff! Discovery",null,0]
[{"$f":"IF('Order Form'!A854>0, 1,0)","v":0},0,"Indiana","State Profiles","Blastoff! Discovery",null,0]
[{"$f":"IF('Order Form'!A855>0, 1,0)","v":0},0,"Iowa","State Profiles","Blastoff! Discovery",null,0]
[{"$f":"IF('Order Form'!A856>0, 1,0)","v":0},0,"Kansas","State Profiles","Blastoff! Discovery",null,0]
[{"$f":"IF('Order Form'!A857>0, 1,0)","v":0},0,"Kentucky","State Profiles","Blastoff! Discovery",null,0]
[{"$f":"IF('Order Form'!A858>0, 1,0)","v":0},0,"Louisiana","State Profiles","Blastoff! Discovery",null,0]
[{"$f":"IF('Order Form'!A859>0, 1,0)","v":0},0,"Maine","State Profiles","Blastoff! Discovery",null,0]
[{"$f":"IF('Order Form'!A860>0, 1,0)","v":0},0,"Maryland","State Profiles","Blastoff! Discovery",null,0]
[{"$f":"IF('Order Form'!A861>0, 1,0)","v":0},0,"Massachusetts","State Profiles","Blastoff! Discovery",null,0]
[{"$f":"IF('Order Form'!A862>0, 1,0)","v":0},0,"Michigan","State Profiles","Blastoff! Discovery",null,0]
[{"$f":"IF('Order Form'!A863>0, 1,0)","v":0},0,"Minnesota","State Profiles","Blastoff! Discovery",null,0]
[{"$f":"IF('Order Form'!A864>0, 1,0)","v":0},0,"Mississippi","State Profiles","Blastoff! Discovery",null,0]
[{"$f":"IF('Order Form'!A865>0, 1,0)","v":0},0,"Missouri","State Profiles","Blastoff! Discovery",null,0]
[{"$f":"IF('Order Form'!A866>0, 1,0)","v":0},0,"Montana","State Profiles","Blastoff! Discovery",null,0]
[{"$f":"IF('Order Form'!A867>0, 1,0)","v":0},0,"Nebraska","State Profiles","Blastoff! Discovery",null,0]
[{"$f":"IF('Order Form'!A868>0, 1,0)","v":0},0,"Nevada","State Profiles","Blastoff! Discovery",null,0]
[{"$f":"IF('Order Form'!A869>0, 1,0)","v":0},0,"New Hampshire","State Profiles","Blastoff! Discovery",null,0]
[{"$f":"IF('Order Form'!A870>0, 1,0)","v":0},0,"New Jersey","State Profiles","Blastoff! Discovery",null,0]
[{"$f":"IF('Order Form'!A871>0, 1,0)","v":0},0,"New Mexico","State Profiles","Blastoff! Discovery",null,0]
[{"$f":"IF('Order Form'!A872>0, 1,0)","v":0},0,"New York","State Profiles","Blastoff! Discovery",null,0]
[{"$f":"IF('Order Form'!A873>0, 1,0)","v":0},0,"North Carolina","State Profiles","Blastoff! Discovery",null,0]
[{"$f":"IF('Order Form'!A874>0, 1,0)","v":0},0,"North Dakota","State Profiles","Blastoff! Discovery",null,0]
[{"$f":"IF('Order Form'!A875>0, 1,0)","v":0},0,"Ohio","State Profiles","Blastoff! Discovery",null,0]
[{"$f":"IF('Order Form'!A876>0, 1,0)","v":0},0,"Oklahoma","State Profiles","Blastoff! Discovery",null,0]
[{"$f":"IF('Order Form'!A877>0, 1,0)","v":0},0,"Oregon","State Profiles","Blastoff! Discovery",null,0]
[{"$f":"IF('Order Form'!A878>0, 1,0)","v":0},0,"Pennsylvania","State Profiles","Blastoff! Discovery",null,0]
[{"$f":"IF('Order Form'!A879>0, 1,0)","v":0},0,"Puerto Rico","State Profiles","Blastoff! Discovery",null,0]
[{"$f":"IF('Order Form'!A880>0, 1,0)","v":0},0,"Rhode Island","State Profiles","Blastoff! Discovery",null,0]
[{"$f":"IF('Order Form'!A881>0, 1,0)","v":0},0,"South Carolina","State Profiles","Blastoff! Discovery",null,0]
[{"$f":"IF('Order Form'!A882>0, 1,0)","v":0},0,"South Dakota","State Profiles","Blastoff! Discovery",null,0]
[{"$f":"IF('Order Form'!A883>0, 1,0)","v":0},0,"Tennessee","State Profiles","Blastoff! Discovery",null,0]
[{"$f":"IF('Order Form'!A884>0, 1,0)","v":0},0,"Texas","State Profiles","Blastoff! Discovery",null,0]
[{"$f":"IF('Order Form'!A885>0, 1,0)","v":0},0,"Utah","State Profiles","Blastoff! Discovery",null,0]
[{"$f":"IF('Order Form'!A886>0, 1,0)","v":0},0,"Vermont","State Profiles","Blastoff! Discovery",null,0]
[{"$f":"IF('Order Form'!A887>0, 1,0)","v":0},0,"Virginia","State Profiles","Blastoff! Discovery",null,0]
[{"$f":"IF('Order Form'!A888>0, 1,0)","v":0},0,"Washington","State Profiles","Blastoff! Discovery",null,0]
[{"$f":"IF('Order Form'!A889>0, 1,0)","v":0},0,"Washington, D.C.","State Profiles","Blastoff! Discovery",null,0]
[{"$f":"IF('Order Form'!A890>0, 1,0)","v":0},0,"West Virginia","State Profiles","Blastoff! Discovery",null,0]
[{"$f":"IF('Order Form'!A891>0, 1,0)","v":0},0,"Wisconsin","State Profiles","Blastoff! Discovery",null,0]
[{"$f":"IF('Order Form'!A892>0, 1,0)","v":0},0,"Wyoming","State Profiles","Blastoff! Discovery",null,0]
[{"$f":"IF('Order Form'!A893>0, 1,0)","v":0},0,"Rocks & Minerals Set (6)","Rocks & Minerals","Blastoff! Discovery",null,0]
[{"$f":"IF('Order Form'!A894>0, 1,0)","v":0},0,"Crystals","Rocks & Minerals","Blastoff! Discovery",null,0]
[{"$f":"IF('Order Form'!A895>0, 1,0)","v":0},0,"Fossils","Rocks & Minerals","Blastoff! Discovery",null,0]
[{"$f":"IF('Order Form'!A896>0, 1,0)","v":0},0,"Gemstones","Rocks & Minerals","Blastoff! Discovery",null,0]
[{"$f":"IF('Order Form'!A897>0, 1,0)","v":0},0,"Igneous Rocks","Rocks & Minerals","Blastoff! Discovery",null,0]
[{"$f":"IF('Order Form'!A898>0, 1,0)","v":0},0,"Metamorphic Rocks","Rocks & Minerals","Blastoff! Discovery",null,0]
[{"$f":"IF('Order Form'!A899>0, 1,0)","v":0},0,"Sedimentary Rocks","Rocks & Minerals","Blastoff! Discovery",null,0]
[{"$f":"IF('Order Form'!A900>0, 1,0)","v":0},0,"Movie Magic Set (10)","Movie Magic","Blastoff! Discovery",null,0]
[{"$f":"IF('Order Form'!A901>0, 1,0)","v":0},0,"Animal Performers","Movie Magic","Blastoff! Discovery",null,0]
[{"$f":"IF('Order Form'!A902>0, 1,0)","v":0},0,"Animation","Movie Magic","Blastoff! Discovery",null,0]
[{"$f":"IF('Order Form'!A903>0, 1,0)","v":0},0,"Camera Tricks","Movie Magic","Blastoff! Discovery",null,0]
[{"$f":"IF('Order Form'!A904>0, 1,0)","v":0},0,"Costumes and Props","Movie Magic","Blastoff! Discovery",null,0]
[{"$f":"IF('Order Form'!A905>0, 1,0)","v":0},0,"Makeup","Movie Magic","Blastoff! Discovery",null,0]
[{"$f":"IF('Order Form'!A906>0, 1,0)","v":0},0,"Motion Capture","Movie Magic","Blastoff! Discovery",null,0]
[{"$f":"IF('Order Form'!A907>0, 1,0)","v":0},0,"On-screen Vehicles","Movie Magic","Blastoff! Discovery",null,0]
[{"$f":"IF('Order Form'!A908>0, 1,0)","v":0},0,"Special Effects","Movie Magic","Blastoff! Discovery",null,0]
[{"$f":"IF('Order Form'!A909>0, 1,0)","v":0},0,"Stunts","Movie Magic","Blastoff! Discovery",null,0]
[{"$f":"IF('Order Form'!A910>0, 1,0)","v":0},0,"Visual Effects","Movie Magic","Blastoff! Discovery",null,0]
[{"$f":"IF('Order Form'!A911>0, 1,0)","v":0},0,"U.S. National Parks Set (8)","U.S. National Parks","Blastoff! Discovery",null,0]
[{"$f":"IF('Order Form'!A912>0, 1,0)","v":0},0,"Acadia National Park","U.S. National Parks","Blastoff! Discovery",null,{"$f":"A912","v":0}]
[{"$f":"IF('Order Form'!A913>0, 1,0)","v":0},0,"Glacier National Park","U.S. National Parks","Blastoff! Discovery",null,0]
[{"$f":"IF('Order Form'!A914>0, 1,0)","v":0},0,"Grand Canyon National Park","U.S. National Parks","Blastoff! Discovery",null,0]
[{"$f":"IF('Order Form'!A915>0, 1,0)","v":0},0,"Great Smoky Mountains National Park","U.S. National Parks","Blastoff! Discovery",null,0]
[{"$f":"IF('Order Form'!A916>0, 1,0)","v":0},0,"Rocky Mountain National Park","U.S. National Parks","Blastoff! Discovery",null,0]
[{"$f":"IF('Order Form'!A917>0, 1,0)","v":0},0,"Yellowstone National Park","U.S. National Parks","Blastoff! Discovery",null,0]
[{"$f":"IF('Order Form'!A918>0, 1,0)","v":0},0,"Yosemite National Park","U.S. National Parks","Blastoff! Discovery",null,0]
[{"$f":"IF('Order Form'!A919>0, 1,0)","v":0},0,"Zion National Park","U.S. National Parks","Blastoff! Discovery",null,0]
[{"$f":"IF('Order Form'!A920>0, 1,0)","v":0},0,"The 7 Wonders of the Modern World Set (7)","The 7 Wonders of the Modern World","Blastoff! Discovery",null,0]
[{"$f":"IF('Order Form'!A921>0, 1,0)","v":0},0,"Chichén Itzá","The 7 Wonders of the Modern World","Blastoff! Discovery",null,0]
[{"$f":"IF('Order Form'!A922>0, 1,0)","v":0},0,"Christ the Redeemer","The 7 Wonders of the Modern World","Blastoff! Discovery",null,0]
[{"$f":"IF('Order Form'!A923>0, 1,0)","v":0},0,"The Colosseum","The 7 Wonders of the Modern World","Blastoff! Discovery",null,0]
[{"$f":"IF('Order Form'!A924>0, 1,0)","v":0},0,"The Great Wall of China","The 7 Wonders of the Modern World","Blastoff! Discovery",null,0]
[{"$f":"IF('Order Form'!A925>0, 1,0)","v":0},0,"Machu Picchu","The 7 Wonders of the Modern World","Blastoff! Discovery",null,0]
[{"$f":"IF('Order Form'!A926>0, 1,0)","v":0},0,"Petra","The 7 Wonders of the Modern World","Blastoff! Discovery",null,0]
[{"$f":"IF('Order Form'!A927>0, 1,0)","v":0},0,"Taj Mahal, The","The 7 Wonders of the Modern World","Blastoff! Discovery",null,0]
[{"$f":"IF('Order Form'!A928>0, 1,0)","v":0},0,"Ancient Civilizations Set (8)","Ancient Civilizations","Blastoff! Discovery",null,0]
[{"$f":"IF('Order Form'!A929>0, 1,0)","v":0},0,"Ancient Aztecs","Ancient Civilizations","Blastoff! Discovery",null,0]
[{"$f":"IF('Order Form'!A930>0, 1,0)","v":0},0,"Ancient China","Ancient Civilizations","Blastoff! Discovery",null,0]
[{"$f":"IF('Order Form'!A931>0, 1,0)","v":0},0,"Ancient Egypt","Ancient Civilizations","Blastoff! Discovery",null,0]
[{"$f":"IF('Order Form'!A932>0, 1,0)","v":0},0,"Ancient Greece","Ancient Civilizations","Blastoff! Discovery",null,0]
[{"$f":"IF('Order Form'!A933>0, 1,0)","v":0},0,"Ancient India","Ancient Civilizations","Blastoff! Discovery",null,0]
[{"$f":"IF('Order Form'!A934>0, 1,0)","v":0},0,"Ancient Maya","Ancient Civilizations","Blastoff! Discovery",null,0]
[{"$f":"IF('Order Form'!A935>0, 1,0)","v":0},0,"Ancient Mesopotamia","Ancient Civilizations","Blastoff! Discovery",null,0]
[{"$f":"IF('Order Form'!A936>0, 1,0)","v":0},0,"Ancient Rome","Ancient Civilizations","Blastoff! Discovery",null,0]
[{"$f":"IF('Order Form'!A937>0, 1,0)","v":0},0,"Superhero Science Set (10)","Super Hero Science","Blastoff! Discovery",null,0]
[{"$f":"IF('Order Form'!A938>0, 1,0)","v":0},0,"Flight","Super Hero Science","Blastoff! Discovery",null,0]
[{"$f":"IF('Order Form'!A939>0, 1,0)","v":0},0,"Invisibility","Super Hero Science","Blastoff! Discovery",null,0]
[{"$f":"IF('Order Form'!A940>0, 1,0)","v":0},0,"Invulnerability","Superhero Science","Blastoff! Discovery",null,0]
[{"$f":"IF('Order Form'!A941>0, 1,0)","v":0},0,"Shapeshifting","Superhero Science","Blastoff! Discovery",null,0]
[{"$f":"IF('Order Form'!A942>0, 1,0)","v":0},0,"Super Healing","Superhero Science","Blastoff! Discovery",null,0]
[{"$f":"IF('Order Form'!A943>0, 1,0)","v":0},0,"Super Senses","Super Hero Science","Blastoff! Discovery",null,0]
[{"$f":"IF('Order Form'!A944>0, 1,0)","v":0},0,"Super Speed","Super Hero Science","Blastoff! Discovery",null,0]
[{"$f":"IF('Order Form'!A945>0, 1,0)","v":0},0,"Super Strength","Super Hero Science","Blastoff! Discovery",null,0]
[{"$f":"IF('Order Form'!A946>0, 1,0)","v":0},0,"Teleportation","Super Hero Science","Blastoff! Discovery",null,0]
[{"$f":"IF('Order Form'!A947>0, 1,0)","v":0},0,"Weather Control","Superhero Science","Blastoff! Discovery",null,0]
[{"$f":"IF('Order Form'!A948>0, 1,0)","v":0},0,"Inventions that Changed the World Set (10)","Inventions that Changed the World","Blastoff! Discovery",null,0]
[{"$f":"IF('Order Form'!A949>0, 1,0)","v":0},0,"Airplane, The","Inventions that Changed the World","Blastoff! Discovery",null,0]
[{"$f":"IF('Order Form'!A950>0, 1,0)","v":0},0,"Automobile, The","Inventions that Changed the World","Blastoff! Discovery",null,0]
[{"$f":"IF('Order Form'!A951>0, 1,0)","v":0},0,"Camera, The","Inventions that Changed the World","Blastoff! Discovery",null,0]
[{"$f":"IF('Order Form'!A952>0, 1,0)","v":0},0,"Internet, The","Inventions that Changed the World","Blastoff! Discovery",null,0]
[{"$f":"IF('Order Form'!A953>0, 1,0)","v":0},0,"Light Bulb, The","Inventions that Changed the World","Blastoff! Discovery",null,0]
[{"$f":"IF('Order Form'!A954>0, 1,0)","v":0},0,"Personal Computer, The","Inventions that Changed the World","Blastoff! Discovery",null,0]
[{"$f":"IF('Order Form'!A955>0, 1,0)","v":0},0,"Printing Press, The","Inventions that Changed the World","Blastoff! Discovery",null,0]
[{"$f":"IF('Order Form'!A956>0, 1,0)","v":0},0,"Telephone, The","Inventions that Changed the World","Blastoff! Discovery",null,0]
[{"$f":"IF('Order Form'!A957>0, 1,0)","v":0},0,"Television, The","Inventions that Changed the World","Blastoff! Discovery",null,0]
[{"$f":"IF('Order Form'!A958>0, 1,0)","v":0},0,"Vaccines","Inventions that Changed the World","Blastoff! Discovery",null,0]
[{"$f":"IF('Order Form'!A959>0, 1,0)","v":0},0,"Incredible Sports Records Set (6)","Incredible Sports Records","Blastoff! Discovery",null,0]
[{"$f":"IF('Order Form'!A960>0, 1,0)","v":0},0,"Baseball Records","Incredible Sports Records","Blastoff! Discovery",null,0]
[{"$f":"IF('Order Form'!A961>0, 1,0)","v":0},0,"Basketball Records","Incredible Sports Records","Blastoff! Discovery",null,0]
[{"$f":"IF('Order Form'!A962>0, 1,0)","v":0},0,"Football Records","Incredible Sports Records","Blastoff! Discovery",null,0]
[{"$f":"IF('Order Form'!A963>0, 1,0)","v":0},0,"Hockey Records","Incredible Sports Records","Blastoff! Discovery",null,0]
[{"$f":"IF('Order Form'!A964>0, 1,0)","v":0},0,"Olympic Records","Incredible Sports Records","Blastoff! Discovery",null,0]
[{"$f":"IF('Order Form'!A965>0, 1,0)","v":0},0,"Soccer Records","Incredible Sports Records","Blastoff! Discovery",null,0]
[{"$f":"IF('Order Form'!A966>0, 1,0)","v":0},0,"World of Robots Set (6)","World of Robots","Blastoff! Discovery",null,0]
[{"$f":"IF('Order Form'!A967>0, 1,0)","v":0},0,"Factory Robots","World of Robots","Blastoff! Discovery",null,0]
[{"$f":"IF('Order Form'!A968>0, 1,0)","v":0},0,"Flying Robots","World of Robots","Blastoff! Discovery",null,0]
[{"$f":"IF('Order Form'!A969>0, 1,0)","v":0},0,"Medical Robots","World of Robots","Blastoff! Discovery",null,0]
[{"$f":"IF('Order Form'!A970>0, 1,0)","v":0},0,"Military Robots","World of Robots","Blastoff! Discovery",null,0]
[{"$f":"IF('Order Form'!A971>0, 1,0)","v":0},0,"Police Robots","World of Robots","Blastoff! Discovery",null,0]
[{"$f":"IF('Order Form'!A972>0, 1,0)","v":0},0,"Space Robots","World of Robots","Blastoff! Discovery",null,0]
[{"$f":"IF('Order Form'!A973>0, 1,0)","v":0},0,"Investigating the Unexplained Set (10)","Investigating the Unexplained","Blastoff! Discovery",null,0]
[{"$f":"IF('Order Form'!A974>0, 1,0)","v":0},0,"Alien Abductions","Investigating the Unexplained","Blastoff! Discovery",null,0]
[{"$f":"IF('Order Form'!A975>0, 1,0)","v":0},0,"Atlantis","Investigating the Unexplained","Blastoff! Discovery",null,0]
[{"$f":"IF('Order Form'!A976>0, 1,0)","v":0},0,"Bigfoot","Investigating the Unexplained","Blastoff! Discovery",null,{"$f":"A976","v":0}]
[{"$f":"IF('Order Form'!A977>0, 1,0)","v":0},0,"ESP","Investigating the Unexplained","Blastoff! Discovery",null,0]
[{"$f":"IF('Order Form'!A978>0, 1,0)","v":0},0,"Ghost Ships","Investigating the Unexplained","Blastoff! Discovery",null,0]
[{"$f":"IF('Order Form'!A979>0, 1,0)","v":0},0,"Ghosts","Investigating the Unexplained","Blastoff! Discovery",null,0]
[{"$f":"IF('Order Form'!A980>0, 1,0)","v":0},0,"Haunted Houses","Investigating the Unexplained","Blastoff! Discovery",null,0]
[{"$f":"IF('Order Form'!A981>0, 1,0)","v":0},0,"Loch Ness Monster, The","Investigating the Unexplained","Blastoff! Discovery",null,0]
[{"$f":"IF('Order Form'!A982>0, 1,0)","v":0},0,"The Bermuda Triangle","Investigating the Unexplained","Blastoff! Discovery",null,0]
[{"$f":"IF('Order Form'!A983>0, 1,0)","v":0},0,"UFOs","Investigating the Unexplained","Blastoff! Discovery",null,0]
[{"$f":"IF('Order Form'!A984>0, 1,0)","v":0},0,"Dog Groups Set (7)","Dog Groups","Blastoff! Discovery",null,0]
[{"$f":"IF('Order Form'!A985>0, 1,0)","v":0},0,"Herding Dogs","Dog Groups","Blastoff! Discovery",null,0]
[{"$f":"IF('Order Form'!A986>0, 1,0)","v":0},0,"Hounds","Dog Groups","Blastoff! Discovery",null,0]
[{"$f":"IF('Order Form'!A987>0, 1,0)","v":0},0,"Non-sporting Dogs","Dog Groups","Blastoff! Discovery",null,0]
[{"$f":"IF('Order Form'!A988>0, 1,0)","v":0},0,"Sporting Dogs","Dog Groups","Blastoff! Discovery",null,0]
[{"$f":"IF('Order Form'!A989>0, 1,0)","v":0},0,"Terriers","Dog Groups","Blastoff! Discovery",null,0]
[{"$f":"IF('Order Form'!A990>0, 1,0)","v":0},0,"Toy Dogs","Dog Groups","Blastoff! Discovery",null,0]
[{"$f":"IF('Order Form'!A991>0, 1,0)","v":0},0,"Working Dogs","Dog Groups","Blastoff! Discovery",null,0]
[{"$f":"IF('Order Form'!A992>0, 1,0)","v":0},0,"Country Profiles Set (72)","Country Profiles","Blastoff! Discovery",null,0]
[{"$f":"IF('Order Form'!A993>0, 1,0)","v":0},0,"Afghanistan","Country Profiles","Blastoff! Discovery",null,0]
[{"$f":"IF('Order Form'!A994>0, 1,0)","v":0},0,"Argentina","Country Profiles","Blastoff! Discovery",null,0]
[{"$f":"IF('Order Form'!A995>0, 1,0)","v":0},0,"Australia","Country Profiles","Blastoff! Discovery",null,0]
[{"$f":"IF('Order Form'!A996>0, 1,0)","v":0},0,"Austria","Country Profiles","Blastoff! Discovery",null,0]
[{"$f":"IF('Order Form'!A997>0, 1,0)","v":0},0,"Belgium","Country Profiles","Blastoff! Discovery",null,0]
[{"$f":"IF('Order Form'!A998>0, 1,0)","v":0},0,"Belize","Country Profiles","Blastoff! Discovery",null,0]
[{"$f":"IF('Order Form'!A999>0, 1,0)","v":0},0,"Brazil","Country Profiles","Blastoff! Discovery",null,0]
[{"$f":"IF('Order Form'!A1000>0, 1,0)","v":0},0,"Cambodia","Country Profiles","Blastoff! Discovery",null,0]
[{"$f":"IF('Order Form'!A1001>0, 1,0)","v":0},0,"Canada","Country Profiles","Blastoff! Discovery",null,0]
[{"$f":"IF('Order Form'!A1002>0, 1,0)","v":0},0,"Chile","Country Profiles","Blastoff! Discovery",null,0]
[{"$f":"IF('Order Form'!A1003>0, 1,0)","v":0},0,"China","Country Profiles","Blastoff! Discovery",null,0]
[{"$f":"IF('Order Form'!A1004>0, 1,0)","v":0},0,"Colombia","Country Profiles","Blastoff! Discovery",null,0]
[{"$f":"IF('Order Form'!A1005>0, 1,0)","v":0},0,"Costa Rica","Country Profiles","Blastoff! Discovery",null,0]
[{"$f":"IF('Order Form'!A1006>0, 1,0)","v":0},0,"Cuba","Country Profiles","Blastoff! Discovery",null,0]
[{"$f":"IF('Order Form'!A1007>0, 1,0)","v":0},0,"Czech Republic, The","Country Profiles","Blastoff! Discovery",null,0]
[{"$f":"IF('Order Form'!A1008>0, 1,0)","v":0},0,"Denmark","Country Profiles","Blastoff! Discovery",null,0]
[{"$f":"IF('Order Form'!A1009>0, 1,0)","v":0},0,"Dominican Republic, The","Country Profiles","Blastoff! Discovery",null,0]
[{"$f":"IF('Order Form'!A1010>0, 1,0)","v":0},0,"Ecuador","Country Profiles","Blastoff! Discovery",null,0]
[{"$f":"IF('Order Form'!A1011>0, 1,0)","v":0},0,"Egypt","Country Profiles","Blastoff! Discovery",null,0]
[{"$f":"IF('Order Form'!A1012>0, 1,0)","v":0},0,"El Salvador","Country Profiles","Blastoff! Discovery",null,0]
[{"$f":"IF('Order Form'!A1013>0, 1,0)","v":0},0,"England","Country Profiles","Blastoff! Discovery",null,0]
[{"$f":"IF('Order Form'!A1014>0, 1,0)","v":0},0,"Ethiopia","Country Profiles","Blastoff! Discovery",null,0]
[{"$f":"IF('Order Form'!A1015>0, 1,0)","v":0},0,"France","Country Profiles","Blastoff! Discovery",null,0]
[{"$f":"IF('Order Form'!A1016>0, 1,0)","v":0},0,"Germany","Country Profiles","Blastoff! Discovery",null,0]
[{"$f":"IF('Order Form'!A1017>0, 1,0)","v":0},0,"Greece","Country Profiles","Blastoff! Discovery",null,0]
[{"$f":"IF('Order Form'!A1018>0, 1,0)","v":0},0,"Guatemala","Country Profiles","Blastoff! Discovery",null,0]
[{"$f":"IF('Order Form'!A1019>0, 1,0)","v":0},0,"Haiti","Country Profiles","Blastoff! Discovery",null,0]
[{"$f":"IF('Order Form'!A1020>0, 1,0)","v":0},0,"Honduras","Country Profiles","Blastoff! Discovery",null,0]
[{"$f":"IF('Order Form'!A1021>0, 1,0)","v":0},0,"Hungary","Country Profiles","Blastoff! Discovery",null,0]
[{"$f":"IF('Order Form'!A1022>0, 1,0)","v":0},0,"Iceland","Country Profiles","Blastoff! Discovery",null,0]
[{"$f":"IF('Order Form'!A1023>0, 1,0)","v":0},0,"India","Country Profiles","Blastoff! Discovery",null,0]
[{"$f":"IF('Order Form'!A1024>0, 1,0)","v":0},0,"Indonesia","Country Profiles","Blastoff! Discovery",null,0]
[{"$f":"IF('Order Form'!A1025>0, 1,0)","v":0},0,"Iran","Country Profiles","Blastoff! Discovery",null,0]
[{"$f":"IF('Order Form'!A1026>0, 1,0)","v":0},0,"Iraq","Country Profiles","Blastoff! Discovery",null,0]
[{"$f":"IF('Order Form'!A1027>0, 1,0)","v":0},0,"Ireland","Country Profiles","Blastoff! Discovery",null,0]
[{"$f":"IF('Order Form'!A1028>0, 1,0)","v":0},0,"Israel","Country Profiles","Blastoff! Discovery",null,0]
[{"$f":"IF('Order Form'!A1029>0, 1,0)","v":0},0,"Italy","Country Profiles","Blastoff! Discovery",null,0]
[{"$f":"IF('Order Form'!A1030>0, 1,0)","v":0},0,"Jamaica","Country Profiles","Blastoff! Discovery",null,0]
[{"$f":"IF('Order Form'!A1031>0, 1,0)","v":0},0,"Japan","Country Profiles","Blastoff! Discovery",null,0]
[{"$f":"IF('Order Form'!A1032>0, 1,0)","v":0},0,"Jordan","Country Profiles","Blastoff! Discovery",null,0]
[{"$f":"IF('Order Form'!A1033>0, 1,0)","v":0},0,"Kenya","Country Profiles","Blastoff! Discovery",null,0]
[{"$f":"IF('Order Form'!A1034>0, 1,0)","v":0},0,"Madagascar","Country Profiles","Blastoff! Discovery",null,0]
[{"$f":"IF('Order Form'!A1035>0, 1,0)","v":0},0,"Malaysia","Country Profiles","Blastoff! Discovery",null,0]
[{"$f":"IF('Order Form'!A1036>0, 1,0)","v":0},0,"Mexico","Country Profiles","Blastoff! Discovery",null,0]
[{"$f":"IF('Order Form'!A1037>0, 1,0)","v":0},0,"Morocco","Country Profiles","Blastoff! Discovery",null,0]
[{"$f":"IF('Order Form'!A1038>0, 1,0)","v":0},0,"Nepal","Country Profiles","Blastoff! Discovery",null,0]
[{"$f":"IF('Order Form'!A1039>0, 1,0)","v":0},0,"New Zealand","Country Profiles","Blastoff! Discovery",null,0]
[{"$f":"IF('Order Form'!A1040>0, 1,0)","v":0},0,"Nigeria","Country Profiles","Blastoff! Discovery",null,{"$f":"A1040","v":0}]
[{"$f":"IF('Order Form'!A1041>0, 1,0)","v":0},0,"Norway","Country Profiles","Blastoff! Discovery",null,0]
[{"$f":"IF('Order Form'!A1042>0, 1,0)","v":0},0,"Pakistan","Country Profiles","Blastoff! Discovery",null,0]
[{"$f":"IF('Order Form'!A1043>0, 1,0)","v":0},0,"Panama","Country Profiles","Blastoff! Discovery",null,0]
[{"$f":"IF('Order Form'!A1044>0, 1,0)","v":0},0,"Peru","Country Profiles","Blastoff! Discovery",null,0]
[{"$f":"IF('Order Form'!A1045>0, 1,0)","v":0},0,"Philippines, The","Country Profiles","Blastoff! Discovery",null,0]
[{"$f":"IF('Order Form'!A1046>0, 1,0)","v":0},0,"Poland","Country Profiles","Blastoff! Discovery",null,0]
[{"$f":"IF('Order Form'!A1047>0, 1,0)","v":0},0,"Portugal","Country Profiles","Blastoff! Discovery",null,0]
[{"$f":"IF('Order Form'!A1048>0, 1,0)","v":0},0,"Russia","Country Profiles","Blastoff! Discovery",null,0]
[{"$f":"IF('Order Form'!A1049>0, 1,0)","v":0},0,"Saudi Arabia","Country Profiles","Blastoff! Discovery",null,0]
[{"$f":"IF('Order Form'!A1050>0, 1,0)","v":0},0,"Scotland","Country Profiles","Blastoff! Discovery",null,0]
[{"$f":"IF('Order Form'!A1051>0, 1,0)","v":0},0,"Singapore","Country Profiles","Blastoff! Discovery",null,0]
[{"$f":"IF('Order Form'!A1052>0, 1,0)","v":0},0,"Somalia","Country Profiles","Blastoff! Discovery",null,0]
[{"$f":"IF('Order Form'!A1053>0, 1,0)","v":0},0,"South Africa","Country Profiles","Blastoff! Discovery",null,0]
[{"$f":"IF('Order Form'!A1054>0, 1,0)","v":0},0,"South Korea","Country Profiles","Blastoff! Discovery",null,0]
[{"$f":"IF('Order Form'!A1055>0, 1,0)","v":0},0,"South Sudan","Country Profiles","Blastoff! Discovery",null,0]
[{"$f":"IF('Order Form'!A1056>0, 1,0)","v":0},0,"Spain","Country Profiles","Blastoff! Discovery",null,0]
[{"$f":"IF('Order Form'!A1057>0, 1,0)","v":0},0,"Sweden","Country Profiles","Blastoff! Discovery",null,0]
[{"$f":"IF('Order Form'!A1058>0, 1,0)","v":0},0,"Switzerland","Country Profiles","Blastoff! Discovery",null,0]
[{"$f":"IF('Order Form'!A1059>0, 1,0)","v":0},0,"Thailand","Country Profiles","Blastoff! Discovery",null,0]
[{"$f":"IF('Order Form'!A1060>0, 1,0)","v":0},0,"The Netherlands","Country Profiles","Blastoff! Discovery",null,0]
[{"$f":"IF('Order Form'!A1061>0, 1,0)","v":0},0,"Turkey","Country Profiles","Blastoff! Discovery",null,0]
[{"$f":"IF('Order Form'!A1062>0, 1,0)","v":0},0,"Ukraine","Country Profiles","Blastoff! Discovery",null,0]
[{"$f":"IF('Order Form'!A1063>0, 1,0)","v":0},0,"Venezuela","Country Profiles","Blastoff! Discovery",null,0]
[{"$f":"IF('Order Form'!A1064>0, 1,0)","v":0},0,"Vietnam","Country Profiles","Blastoff! Discovery",null,0]
[{"$f":"IF('Order Form'!A1065>0, 1,0)","v":0},0,"The World of Dinosaurs Set (18 titles)","The World of Dinosaurs","Epic",null,0]
[{"$f":"IF('Order Form'!A1066>0, 1,0)","v":0},0,"Allosaurus","The World of Dinosaurs","Epic",null,0]
[{"$f":"IF('Order Form'!A1067>0, 1,0)","v":0},0,"Ankylosaurus","The World of Dinosaurs","Epic",null,0]
[{"$f":"IF('Order Form'!A1068>0, 1,0)","v":0},0,"Apatosaurus","The World of Dinosaurs","Epic",null,0]
[{"$f":"IF('Order Form'!A1069>0, 1,0)","v":0},0,"Archaeopteryx","The World of Dinosaurs","Epic",null,0]
[{"$f":"IF('Order Form'!A1070>0, 1,0)","v":0},0,"Argentinosaurus","The World of Dinosaurs","Epic",null,0]
[{"$f":"IF('Order Form'!A1071>0, 1,0)","v":0},0,"Brachiosaurus","The World of Dinosaurs","Epic",null,0]
[{"$f":"IF('Order Form'!A1072>0, 1,0)","v":0},0,"Diplodocus","The World of Dinosaurs","Epic",null,0]
[{"$f":"IF('Order Form'!A1073>0, 1,0)","v":0},0,"Giganotosaurus","The World of Dinosaurs","Epic",null,0]
[{"$f":"IF('Order Form'!A1074>0, 1,0)","v":0},0,"Iguanodon","The World of Dinosaurs","Epic",null,0]
[{"$f":"IF('Order Form'!A1075>0, 1,0)","v":0},0,"Nasutoceratops","The World of Dinosaurs","Epic",null,0]
[{"$f":"IF('Order Form'!A1076>0, 1,0)","v":0},0,"Oviraptor","The World of Dinosaurs","Epic",null,0]
[{"$f":"IF('Order Form'!A1077>0, 1,0)","v":0},0,"Parasaurolophus","The World of Dinosaurs","Epic",null,0]
[{"$f":"IF('Order Form'!A1078>0, 1,0)","v":0},0,"Spinosaurus","The World of Dinosaurs","Epic",null,0]
[{"$f":"IF('Order Form'!A1079>0, 1,0)","v":0},0,"Stegosaurus","The World of Dinosaurs","Epic",null,0]
[{"$f":"IF('Order Form'!A1080>0, 1,0)","v":0},0,"Triceratops","The World of Dinosaurs","Epic",null,0]
[{"$f":"IF('Order Form'!A1081>0, 1,0)","v":0},0,"Tyrannosaurus Rex","The World of Dinosaurs","Epic",null,0]
[{"$f":"IF('Order Form'!A1082>0, 1,0)","v":0},0,"Utahraptor","The World of Dinosaurs","Epic",null,0]
[{"$f":"IF('Order Form'!A1083>0, 1,0)","v":0},0,"Velociraptor","The World of Dinosaurs","Epic",null,0]
[{"$f":"IF('Order Form'!A1084>0, 1,0)","v":0},0,"Favorite Toys Set (10)","Favorite Toys","Epic",null,0]
[{"$f":"IF('Order Form'!A1085>0, 1,0)","v":0},0,"Action Figures","Favorite Toys","Epic",null,0]
[{"$f":"IF('Order Form'!A1086>0, 1,0)","v":0},0,"Barbie Dolls","Favorite Toys","Epic",null,0]
[{"$f":"IF('Order Form'!A1087>0, 1,0)","v":0},0,"Bicycles","Favorite Toys","Epic",null,0]
[{"$f":"IF('Order Form'!A1088>0, 1,0)","v":0},0,"Board Games","Favorite Toys","Epic",null,0]
[{"$f":"IF('Order Form'!A1089>0, 1,0)","v":0},0,"LEGO Bricks","Favorite Toys","Epic",null,0]
[{"$f":"IF('Order Form'!A1090>0, 1,0)","v":0},0,"Nerf Blasters","Favorite Toys","Epic",null,0]
[{"$f":"IF('Order Form'!A1091>0, 1,0)","v":0},0,"Skateboards","Favorite Toys","Epic",null,0]
[{"$f":"IF('Order Form'!A1092>0, 1,0)","v":0},0,"Super Soakers","Favorite Toys","Epic",null,0]
[{"$f":"IF('Order Form'!A1093>0, 1,0)","v":0},0,"Toy Cars","Favorite Toys","Epic",null,0]
[{"$f":"IF('Order Form'!A1094>0, 1,0)","v":0},0,"Transformers","Favorite Toys","Epic",null,0]
[{"$f":"IF('Order Form'!A1095>0, 1,0)","v":0},0,"Cool Cars Set (10)","Cool Cars","Epic",null,0]
[{"$f":"IF('Order Form'!A1096>0, 1,0)","v":0},0,"Aston Martin Valhalla","Cool Cars","Epic",null,0]
[{"$f":"IF('Order Form'!A1097>0, 1,0)","v":0},0,"Bugatti Chiron","Cool Cars","Epic",null,0]
[{"$f":"IF('Order Form'!A1098>0, 1,0)","v":0},0,"Chevrolet Corvette Stingray","Cool Cars","Epic",null,0]
[{"$f":"IF('Order Form'!A1099>0, 1,0)","v":0},0,"Ferrari 812 Superfast","Cool Cars","Epic",null,0]
[{"$f":"IF('Order Form'!A1100>0, 1,0)","v":0},0,"Ferrari F8 Tributo","Cool Cars","Epic",null,0]
[{"$f":"IF('Order Form'!A1101>0, 1,0)","v":0},0,"Lamborghini Huracán Evo","Cool Cars","Epic",null,0]
[{"$f":"IF('Order Form'!A1102>0, 1,0)","v":0},0,"Lamborghini Sián","Cool Cars","Epic",null,0]
[{"$f":"IF('Order Form'!A1103>0, 1,0)","v":0},0,"Lotus Evija","Cool Cars","Epic",null,0]
[{"$f":"IF('Order Form'!A1104>0, 1,0)","v":0},0,"McLaren 720S","Cool Cars","Epic",null,{"$f":"A1104","v":0}]
[{"$f":"IF('Order Form'!A1105>0, 1,0)","v":0},0,"Porsche Taycan","Cool Cars","Epic",null,0]
[{"$f":"IF('Order Form'!A1106>0, 1,0)","v":0},0,"Cutting-edge Technology Set (6)","Cutting-edge Technology","Epic",null,0]
[{"$f":"IF('Order Form'!A1107>0, 1,0)","v":0},0,"Artificial Intelligence","Cutting-edge Technology","Epic",null,0]
[{"$f":"IF('Order Form'!A1108>0, 1,0)","v":0},0,"Bionic Pets","Cutting-edge Technology","Epic",null,0]
[{"$f":"IF('Order Form'!A1109>0, 1,0)","v":0},0,"Drones","Cutting-edge Technology","Epic",null,0]
[{"$f":"IF('Order Form'!A1110>0, 1,0)","v":0},0,"Nanotechnology","Cutting-edge Technology","Epic",null,0]
[{"$f":"IF('Order Form'!A1111>0, 1,0)","v":0},0,"Self-Driving Cars","Cutting-edge Technology","Epic",null,0]
[{"$f":"IF('Order Form'!A1112>0, 1,0)","v":0},0,"Virtual Reality","Cutting-edge Technology","Epic",null,0]
[{"$f":"IF('Order Form'!A1113>0, 1,0)","v":0},0,"A Pet What?! Set (6)","A Pet What?!","Epic",null,0]
[{"$f":"IF('Order Form'!A1114>0, 1,0)","v":0},0,"My Pet Ferret","A Pet What?!","Epic",null,0]
[{"$f":"IF('Order Form'!A1115>0, 1,0)","v":0},0,"My Pet Hedgehog","A Pet What?!","Epic",null,0]
[{"$f":"IF('Order Form'!A1116>0, 1,0)","v":0},0,"My Pet Mini Horse","A Pet What?!","Epic",null,0]
[{"$f":"IF('Order Form'!A1117>0, 1,0)","v":0},0,"My Pet Mini Pig","A Pet What?!","Epic",null,0]
[{"$f":"IF('Order Form'!A1118>0, 1,0)","v":0},0,"My Pet Rat","A Pet What?!","Epic",null,0]
[{"$f":"IF('Order Form'!A1119>0, 1,0)","v":0},0,"My Pet Sugar Glider","A Pet What?!","Epic",null,0]
[{"$f":"IF('Order Form'!A1120>0, 1,0)","v":0},0,"Global Ghost Stories Set (6)","Global Ghost Stories","Epic",null,0]
[{"$f":"IF('Order Form'!A1121>0, 1,0)","v":0},0,"Ghosts in Africa","Global Ghost Stories","Epic",null,0]
[{"$f":"IF('Order Form'!A1122>0, 1,0)","v":0},0,"Ghosts in Asia","Global Ghost Stories","Epic",null,0]
[{"$f":"IF('Order Form'!A1123>0, 1,0)","v":0},0,"Ghosts in Australia","Global Ghost Stories","Epic",null,0]
[{"$f":"IF('Order Form'!A1124>0, 1,0)","v":0},0,"Ghosts in Europe","Global Ghost Stories","Epic",null,0]
[{"$f":"IF('Order Form'!A1125>0, 1,0)","v":0},0,"Ghosts in North America","Global Ghost Stories","Epic",null,0]
[{"$f":"IF('Order Form'!A1126>0, 1,0)","v":0},0,"Ghosts in South America","Global Ghost Stories","Epic",null,0]
[{"$f":"IF('Order Form'!A1127>0, 1,0)","v":0},0,"Ghost Stories Set (8)","Ghost Stories","Epic",null,0]
[{"$f":"IF('Order Form'!A1128>0, 1,0)","v":0},0,"Ghosts at Sea","Ghost Stories","Epic",null,0]
[{"$f":"IF('Order Form'!A1129>0, 1,0)","v":0},0,"Ghosts in Battlefields","Ghost Stories","Epic",null,0]
[{"$f":"IF('Order Form'!A1130>0, 1,0)","v":0},0,"Ghosts in Cemeteries","Ghost Stories","Epic",null,0]
[{"$f":"IF('Order Form'!A1131>0, 1,0)","v":0},0,"Ghosts in Hotels","Ghost Stories","Epic",null,0]
[{"$f":"IF('Order Form'!A1132>0, 1,0)","v":0},0,"Ghosts in Mansions","Ghost Stories","Epic",null,0]
[{"$f":"IF('Order Form'!A1133>0, 1,0)","v":0},0,"Ghosts in Palaces","Ghost Stories","Epic",null,0]
[{"$f":"IF('Order Form'!A1134>0, 1,0)","v":0},0,"Ghosts in Prisons","Ghost Stories","Epic",null,0]
[{"$f":"IF('Order Form'!A1135>0, 1,0)","v":0},0,"Ghosts in the White House","Ghost Stories","Epic",null,0]
[{"$f":"IF('Order Form'!A1136>0, 1,0)","v":0},0,"Birds of Prey Set (6)","Birds of Prey","Epic",null,0]
[{"$f":"IF('Order Form'!A1137>0, 1,0)","v":0},0,"Eagles","Birds of Prey","Epic",null,0]
[{"$f":"IF('Order Form'!A1138>0, 1,0)","v":0},0,"Falcons","Birds of Prey","Epic",null,0]
[{"$f":"IF('Order Form'!A1139>0, 1,0)","v":0},0,"Hawks","Birds of Prey","Epic",null,0]
[{"$f":"IF('Order Form'!A1140>0, 1,0)","v":0},0,"Kites","Birds of Prey","Epic",null,0]
[{"$f":"IF('Order Form'!A1141>0, 1,0)","v":0},0,"Owls","Birds of Prey","Epic",null,0]
[{"$f":"IF('Order Form'!A1142>0, 1,0)","v":0},0,"Vultures","Birds of Prey","Epic",null,0]
[{"$f":"IF('Order Form'!A1143>0, 1,0)","v":0},0,"Space Tech Set (8)","Space Tech","Epic",null,0]
[{"$f":"IF('Order Form'!A1144>0, 1,0)","v":0},0,"Earth Satellites","Space Tech","Epic",null,0]
[{"$f":"IF('Order Form'!A1145>0, 1,0)","v":0},0,"Hubble Space Telescope, The","Space Tech","Epic",null,0]
[{"$f":"IF('Order Form'!A1146>0, 1,0)","v":0},0,"International Space Station, The","Space Tech","Epic",null,0]
[{"$f":"IF('Order Form'!A1147>0, 1,0)","v":0},0,"Lunar Probes","Space Tech","Epic",null,0]
[{"$f":"IF('Order Form'!A1148>0, 1,0)","v":0},0,"Mars Rovers","Space Tech","Epic",null,0]
[{"$f":"IF('Order Form'!A1149>0, 1,0)","v":0},0,"Robonauts","Space Tech","Epic",null,0]
[{"$f":"IF('Order Form'!A1150>0, 1,0)","v":0},0,"Rockets","Space Tech","Epic",null,0]
[{"$f":"IF('Order Form'!A1151>0, 1,0)","v":0},0,"Space Shuttles","Space Tech","Epic",null,0]
[{"$f":"IF('Order Form'!A1152>0, 1,0)","v":0},0,"Full Throttle Set (12)","Full Throttle","Epic",null,0]
[{"$f":"IF('Order Form'!A1153>0, 1,0)","v":0},0,"4x4 Trucks","Full Throttle","Epic",null,0]
[{"$f":"IF('Order Form'!A1154>0, 1,0)","v":0},0,"ATVs","Full Throttle","Epic",null,0]
[{"$f":"IF('Order Form'!A1155>0, 1,0)","v":0},0,"Dirt Bikes","Full Throttle","Epic",null,0]
[{"$f":"IF('Order Form'!A1156>0, 1,0)","v":0},0,"Dragsters","Full Throttle","Epic",null,0]
[{"$f":"IF('Order Form'!A1157>0, 1,0)","v":0},0,"Hot Rods","Full Throttle","Epic",null,0]
[{"$f":"IF('Order Form'!A1158>0, 1,0)","v":0},0,"Indy Cars","Full Throttle","Epic",null,0]
[{"$f":"IF('Order Form'!A1159>0, 1,0)","v":0},0,"Karts","Full Throttle","Epic",null,0]
[{"$f":"IF('Order Form'!A1160>0, 1,0)","v":0},0,"Lowriders","Full Throttle","Epic",null,0]
[{"$f":"IF('Order Form'!A1161>0, 1,0)","v":0},0,"Monster Trucks","Full Throttle","Epic",null,0]
[{"$f":"IF('Order Form'!A1162>0, 1,0)","v":0},0,"Motocross Cycles","Full Throttle","Epic",null,0]
[{"$f":"IF('Order Form'!A1163>0, 1,0)","v":0},0,"Sports Cars","Full Throttle","Epic",null,0]
[{"$f":"IF('Order Form'!A1164>0, 1,0)","v":0},0,"Stock Cars","Full Throttle","Epic",null,0]
[{"$f":"IF('Order Form'!A1165>0, 1,0)","v":0},0,"Extreme Sports Set (10)","Extreme Sports","Epic",null,0]
[{"$f":"IF('Order Form'!A1166>0, 1,0)","v":0},0,"Big Air Skateboarding","Extreme Sports","Epic",null,0]
[{"$f":"IF('Order Form'!A1167>0, 1,0)","v":0},0,"Big Air Snowboarding","Extreme Sports","Epic",null,0]
[{"$f":"IF('Order Form'!A1168>0, 1,0)","v":0},0,"BMX Freestyle","Extreme Sports","Epic",null,{"$f":"A1168","v":0}]
[{"$f":"IF('Order Form'!A1169>0, 1,0)","v":0},0,"BMX Racing","Extreme Sports","Epic",null,0]
[{"$f":"IF('Order Form'!A1170>0, 1,0)","v":0},0,"Motocross Freestyle","Extreme Sports","Epic",null,0]
[{"$f":"IF('Order Form'!A1171>0, 1,0)","v":0},0,"Motocross Racing","Extreme Sports","Epic",null,0]
[{"$f":"IF('Order Form'!A1172>0, 1,0)","v":0},0,"Rally Car Racing","Extreme Sports","Epic",null,0]
[{"$f":"IF('Order Form'!A1173>0, 1,0)","v":0},0,"Skateboarding Street Style","Extreme Sports","Epic",null,0]
[{"$f":"IF('Order Form'!A1174>0, 1,0)","v":0},0,"Snowboarding Slopestyle","Extreme Sports","Epic",null,0]
[{"$f":"IF('Order Form'!A1175>0, 1,0)","v":0},0,"Vert Skateboarding","Extreme Sports","Epic",null,0]
[{"$f":"IF('Order Form'!A1176>0, 1,0)","v":0},0,"Animal Battles Set (22)","Animal Battles","Torque",null,0]
[{"$f":"IF('Order Form'!A1177>0, 1,0)","v":0},0,"Anaconda vs. Jaguar","Animal Battles","Torque",null,0]
[{"$f":"IF('Order Form'!A1178>0, 1,0)","v":0},0,"Barracuda vs. Moray Eel","Animal Battles","Torque",null,0]
[{"$f":"IF('Order Form'!A1179>0, 1,0)","v":0},0,"Dingo vs. Kangaroo","Animal Battles","Torque",null,0]
[{"$f":"IF('Order Form'!A1180>0, 1,0)","v":0},0,"Giant Otter vs. Caiman","Animal Battles","Torque",null,0]
[{"$f":"IF('Order Form'!A1181>0, 1,0)","v":0},0,"Golden Eagle vs. Great Horned Owl","Animal Battles","Torque",null,0]
[{"$f":"IF('Order Form'!A1182>0, 1,0)","v":0},0,"Gorilla vs. Leopard","Animal Battles","Torque",null,0]
[{"$f":"IF('Order Form'!A1183>0, 1,0)","v":0},0,"Great White Shark vs. Killer Whale","Animal Battles","Torque",null,0]
[{"$f":"IF('Order Form'!A1184>0, 1,0)","v":0},0,"Grizzly Bear vs. Wolf Pack","Animal Battles","Torque",null,0]
[{"$f":"IF('Order Form'!A1185>0, 1,0)","v":0},0,"King Cobra vs. Mongoose","Animal Battles","Torque",null,0]
[{"$f":"IF('Order Form'!A1186>0, 1,0)","v":0},0,"Komodo Dragon vs. Orangutan","Animal Battles","Torque",null,0]
[{"$f":"IF('Order Form'!A1187>0, 1,0)","v":0},0,"Lion vs. Cape Buffalo","Animal Battles","Torque",null,0]
[{"$f":"IF('Order Form'!A1188>0, 1,0)","v":0},0,"Lion vs. Hyena Clan","Animal Battles","Torque",null,0]
[{"$f":"IF('Order Form'!A1189>0, 1,0)","v":0},0,"Mountain Lion vs. Coyote","Animal Battles","Torque",null,0]
[{"$f":"IF('Order Form'!A1190>0, 1,0)","v":0},0,"Nile Crocodile vs. Hippopotamus","Animal Battles","Torque",null,0]
[{"$f":"IF('Order Form'!A1191>0, 1,0)","v":0},0,"Polar Bear vs. Walrus","Animal Battles","Torque",null,0]
[{"$f":"IF('Order Form'!A1192>0, 1,0)","v":0},0,"Praying Mantis vs. Black Widow Spider","Animal Battles","Torque",null,0]
[{"$f":"IF('Order Form'!A1193>0, 1,0)","v":0},0,"Rhinoceros vs. African Elephant","Animal Battles","Torque",null,0]
[{"$f":"IF('Order Form'!A1194>0, 1,0)","v":0},0,"Scorpion vs. Tarantula","Animal Battles","Torque",null,0]
[{"$f":"IF('Order Form'!A1195>0, 1,0)","v":0},0,"Siberian Tiger vs. Brown Bear","Animal Battles","Torque",null,0]
[{"$f":"IF('Order Form'!A1196>0, 1,0)","v":0},0,"Snow Leopard vs. Wild Yak","Animal Battles","Torque",null,0]
[{"$f":"IF('Order Form'!A1197>0, 1,0)","v":0},0,"Wolf Pack vs. Moose","Animal Battles","Torque",null,0]
[{"$f":"IF('Order Form'!A1198>0, 1,0)","v":0},0,"Wolverine vs. Honey Badger","Animal Battles","Torque",null,0]
[{"$f":"IF('Order Form'!A1199>0, 1,0)","v":0},0,"Military Science","Military Science","Torque",null,0]
[{"$f":"IF('Order Form'!A1200>0, 1,0)","v":0},0,"Advanced Weaponry","Military Science","Torque",null,0]
[{"$f":"IF('Order Form'!A1201>0, 1,0)","v":0},0,"Armor","Military Science","Torque",null,0]
[{"$f":"IF('Order Form'!A1202>0, 1,0)","v":0},0,"Drones","Military Science","Torque",null,0]
[{"$f":"IF('Order Form'!A1203>0, 1,0)","v":0},0,"Robotics","Military Science","Torque",null,0]
[{"$f":"IF('Order Form'!A1204>0, 1,0)","v":0},0,"Stealth Technology","Military Science","Torque",null,0]
[{"$f":"IF('Order Form'!A1205>0, 1,0)","v":0},0,"Surveillance","Military Science","Torque",null,0]
[{"$f":"IF('Order Form'!A1206>0, 1,0)","v":0},0,"Deadly Disasters Set (6)","Deadly Disasters","Torque",null,0]
[{"$f":"IF('Order Form'!A1207>0, 1,0)","v":0},0,"The Coronavirus Pandemic","Deadly Disasters","Torque",null,0]
[{"$f":"IF('Order Form'!A1208>0, 1,0)","v":0},0,"The Eruption of Mount St. Helens","Deadly Disasters","Torque",null,0]
[{"$f":"IF('Order Form'!A1209>0, 1,0)","v":0},0,"The Haiti Earthquake","Deadly Disasters","Torque",null,0]
[{"$f":"IF('Order Form'!A1210>0, 1,0)","v":0},0,"Hurricane Katrina","Deadly Disasters","Torque",null,0]
[{"$f":"IF('Order Form'!A1211>0, 1,0)","v":0},0,"The Indian Ocean Tsunami","Deadly Disasters","Torque",null,0]
[{"$f":"IF('Order Form'!A1212>0, 1,0)","v":0},0,"The Joplin Tornadoes","Deadly Disasters","Torque",null,0]
[{"$f":"IF('Order Form'!A1213>0, 1,0)","v":0},0,"Dangerous Journeys Set (6)","Dangerous Journeys","Torque",null,0]
[{"$f":"IF('Order Form'!A1214>0, 1,0)","v":0},0,"Exploring Antarctica","Dangerous Journeys","Torque",null,0]
[{"$f":"IF('Order Form'!A1215>0, 1,0)","v":0},0,"Exploring Caves","Dangerous Journeys","Torque",null,0]
[{"$f":"IF('Order Form'!A1216>0, 1,0)","v":0},0,"Exploring Mount Everest","Dangerous Journeys","Torque",null,0]
[{"$f":"IF('Order Form'!A1217>0, 1,0)","v":0},0,"Exploring Space","Dangerous Journeys","Torque",null,0]
[{"$f":"IF('Order Form'!A1218>0, 1,0)","v":0},0,"Exploring the Amazon","Dangerous Journeys","Torque",null,0]
[{"$f":"IF('Order Form'!A1219>0, 1,0)","v":0},0,"Exploring the Deep Sea","Dangerous Journeys","Torque",null,0]
[{"$f":"IF('Order Form'!A1220>0, 1,0)","v":0},0,"Mythical Creatures Set (12)","Mythical Creatures","Torque",null,0]
[{"$f":"IF('Order Form'!A1221>0, 1,0)","v":0},0,"Centaurs","Mythical Creatures","Torque",null,0]
[{"$f":"IF('Order Form'!A1222>0, 1,0)","v":0},0,"Dragons","Mythical Creatures","Torque",null,0]
[{"$f":"IF('Order Form'!A1223>0, 1,0)","v":0},0,"Fairies","Mythical Creatures","Torque",null,0]
[{"$f":"IF('Order Form'!A1224>0, 1,0)","v":0},0,"Giants","Mythical Creatures","Torque",null,0]
[{"$f":"IF('Order Form'!A1225>0, 1,0)","v":0},0,"Kraken","Mythical Creatures","Torque",null,0]
[{"$f":"IF('Order Form'!A1226>0, 1,0)","v":0},0,"Mermaids","Mythical Creatures","Torque",null,0]
[{"$f":"IF('Order Form'!A1227>0, 1,0)","v":0},0,"Phoenixes","Mythical Creatures","Torque",null,0]
[{"$f":"IF('Order Form'!A1228>0, 1,0)","v":0},0,"Sea Serpents","Mythical Creatures","Torque",null,0]
[{"$f":"IF('Order Form'!A1229>0, 1,0)","v":0},0,"Sphinxes","Mythical Creatures","Torque",null,0]
[{"$f":"IF('Order Form'!A1230>0, 1,0)","v":0},0,"Trolls","Mythical Creatures","Torque",null,0]
[{"$f":"IF('Order Form'!A1231>0, 1,0)","v":0},0,"Unicorns","Mythical Creatures","Torque",null,0]
[{"$f":"IF('Order Form'!A1232>0, 1,0)","v":0},0,"Werewolves","Mythical Creatures","Torque",null,{"$f":"A1232","v":0}]
[{"$f":"IF('Order Form'!A1233>0, 1,0)","v":0},0,"Sports Championships Set (6)","Sports Championships","Torque",null,0]
[{"$f":"IF('Order Form'!A1234>0, 1,0)","v":0},0,"Final Four, The","Sports Championships","Torque",null,0]
[{"$f":"IF('Order Form'!A1235>0, 1,0)","v":0},0,"NBA Finals, The","Sports Championships","Torque",null,0]
[{"$f":"IF('Order Form'!A1236>0, 1,0)","v":0},0,"Stanley Cup Finals, The","Sports Championships","Torque",null,0]
[{"$f":"IF('Order Form'!A1237>0, 1,0)","v":0},0,"Super Bowl, The","Sports Championships","Torque",null,0]
[{"$f":"IF('Order Form'!A1238>0, 1,0)","v":0},0,"World Cup, The","Sports Championships","Torque",null,0]
[{"$f":"IF('Order Form'!A1239>0, 1,0)","v":0},0,"World Series, The","Sports Championships","Torque",null,0]
[{"$f":"IF('Order Form'!A1240>0, 1,0)","v":0},0,"Digging Up the Past Set (6)","Digging Up the Past","Torque",null,0]
[{"$f":"IF('Order Form'!A1241>0, 1,0)","v":0},0,"Cave of Altamira, The","Digging Up the Past","Torque",null,0]
[{"$f":"IF('Order Form'!A1242>0, 1,0)","v":0},0,"King Tut's Tomb","Digging Up the Past","Torque",null,0]
[{"$f":"IF('Order Form'!A1243>0, 1,0)","v":0},0,"The Palace of Knossos","Digging Up the Past","Torque",null,0]
[{"$f":"IF('Order Form'!A1244>0, 1,0)","v":0},0,"Pompeii","Digging Up the Past","Torque",null,0]
[{"$f":"IF('Order Form'!A1245>0, 1,0)","v":0},0,"Terra-Cotta Army, The","Digging Up the Past","Torque",null,0]
[{"$f":"IF('Order Form'!A1246>0, 1,0)","v":0},0,"Titanic, The","Digging Up the Past","Torque",null,0]
[{"$f":"IF('Order Form'!A1247>0, 1,0)","v":0},0,"Ready, Set, Game! Set (6)","Ready, Set, Game!","Torque",null,0]
[{"$f":"IF('Order Form'!A1248>0, 1,0)","v":0},0,"Arcade Gaming","Ready, Set, Game!","Torque",null,0]
[{"$f":"IF('Order Form'!A1249>0, 1,0)","v":0},0,"Computer Gaming","Ready, Set, Game!","Torque",null,0]
[{"$f":"IF('Order Form'!A1250>0, 1,0)","v":0},0,"Console Gaming","Ready, Set, Game!","Torque",null,0]
[{"$f":"IF('Order Form'!A1251>0, 1,0)","v":0},0,"Handheld Gaming","Ready, Set, Game!","Torque",null,0]
[{"$f":"IF('Order Form'!A1252>0, 1,0)","v":0},0,"Online Gaming","Ready, Set, Game!","Torque",null,0]
[{"$f":"IF('Order Form'!A1253>0, 1,0)","v":0},0,"Virtual Reality Gaming","Ready, Set, Game!","Torque",null,0]
[{"$f":"IF('Order Form'!A1254>0, 1,0)","v":0},0,"Abandoned Places Set (10)","Abandoned Places","Torque",null,0]
[{"$f":"IF('Order Form'!A1255>0, 1,0)","v":0},0,"Battleship Island: The Deserted Island","Abandoned Places","Torque",null,0]
[{"$f":"IF('Order Form'!A1256>0, 1,0)","v":0},0,"Bodie: The Gold-mining Ghost Town","Abandoned Places","Torque",null,0]
[{"$f":"IF('Order Form'!A1257>0, 1,0)","v":0},0,"Craco: The Medieval Ghost Town","Abandoned Places","Torque",null,0]
[{"$f":"IF('Order Form'!A1258>0, 1,0)","v":0},0,"Kolmanskop: The Diamond Mine Ghost Town","Abandoned Places","Torque",null,0]
[{"$f":"IF('Order Form'!A1259>0, 1,0)","v":0},0,"Machu Picchu: The Lost Civilization","Abandoned Places","Torque",null,0]
[{"$f":"IF('Order Form'!A1260>0, 1,0)","v":0},0,"Pripyat: The Chernobyl Ghost Town","Abandoned Places","Torque",null,0]
[{"$f":"IF('Order Form'!A1261>0, 1,0)","v":0},0,"Roanoke: The Lost Colony","Abandoned Places","Torque",null,0]
[{"$f":"IF('Order Form'!A1262>0, 1,0)","v":0},0,"Salton Riviera: The Deserted Resort Community","Abandoned Places","Torque",null,0]
[{"$f":"IF('Order Form'!A1263>0, 1,0)","v":0},0,"Six Flags New Orleans: The Ruined Theme Park","Abandoned Places","Torque",null,0]
[{"$f":"IF('Order Form'!A1264>0, 1,0)","v":0},0,"Skara Brae: The Lost Neolithic Village","Abandoned Places","Torque",null,0]
[{"$f":"IF('Order Form'!A1265>0, 1,0)","v":0},0,"Survival Zone Set (12)","Survival Zone","Torque",null,0]
[{"$f":"IF('Order Form'!A1266>0, 1,0)","v":0},0,"Survive a Blizzard","Survival Zone","Torque",null,0]
[{"$f":"IF('Order Form'!A1267>0, 1,0)","v":0},0,"Survive a Fire","Survival Zone","Torque",null,0]
[{"$f":"IF('Order Form'!A1268>0, 1,0)","v":0},0,"Survive a Flood","Survival Zone","Torque",null,0]
[{"$f":"IF('Order Form'!A1269>0, 1,0)","v":0},0,"Survive a Hurricane","Survival Zone","Torque",null,0]
[{"$f":"IF('Order Form'!A1270>0, 1,0)","v":0},0,"Survive a Plane Crash","Survival Zone","Torque",null,0]
[{"$f":"IF('Order Form'!A1271>0, 1,0)","v":0},0,"Survive a Tornado","Survival Zone","Torque",null,0]
[{"$f":"IF('Order Form'!A1272>0, 1,0)","v":0},0,"Survive a Tsunami","Survival Zone","Torque",null,0]
[{"$f":"IF('Order Form'!A1273>0, 1,0)","v":0},0,"Survive an Avalanche","Survival Zone","Torque",null,0]
[{"$f":"IF('Order Form'!A1274>0, 1,0)","v":0},0,"Survive an Earthquake","Survival Zone","Torque",null,0]
[{"$f":"IF('Order Form'!A1275>0, 1,0)","v":0},0,"Survive in the Mountains","Survival Zone","Torque",null,0]
[{"$f":"IF('Order Form'!A1276>0, 1,0)","v":0},0,"Survive in the Woods","Survival Zone","Torque",null,0]
[{"$f":"IF('Order Form'!A1277>0, 1,0)","v":0},0,"Survive on a Desert Island","Survival Zone","Torque",null,0]
[{"$f":"IF('Order Form'!A1278>0, 1,0)","v":0},0,"Tough Trucks Set (6)","Tough Trucks","Torque",null,0]
[{"$f":"IF('Order Form'!A1279>0, 1,0)","v":0},0,"Chevrolet Silverado","Tough Trucks","Torque",null,0]
[{"$f":"IF('Order Form'!A1280>0, 1,0)","v":0},0,"Ford F-150","Tough Trucks","Torque",null,0]
[{"$f":"IF('Order Form'!A1281>0, 1,0)","v":0},0,"Honda Ridgeline","Tough Trucks","Torque",null,0]
[{"$f":"IF('Order Form'!A1282>0, 1,0)","v":0},0,"Nissan Frontier","Tough Trucks","Torque",null,0]
[{"$f":"IF('Order Form'!A1283>0, 1,0)","v":0},0,"Ram 1500","Tough Trucks","Torque",null,0]
[{"$f":"IF('Order Form'!A1284>0, 1,0)","v":0},0,"Toyota Tacoma","Tough Trucks","Torque",null,0]
[{"$f":"IF('Order Form'!A1285>0, 1,0)","v":0},0,"Space Science Set (16)","Space Science","Torque",null,0]
[{"$f":"IF('Order Form'!A1286>0, 1,0)","v":0},0,"Asteroids","Space Science","Torque",null,0]
[{"$f":"IF('Order Form'!A1287>0, 1,0)","v":0},0,"Comets","Space Science","Torque",null,0]
[{"$f":"IF('Order Form'!A1288>0, 1,0)","v":0},0,"Earth","Space Science","Torque",null,0]
[{"$f":"IF('Order Form'!A1289>0, 1,0)","v":0},0,"Galaxies","Space Science","Torque",null,0]
[{"$f":"IF('Order Form'!A1290>0, 1,0)","v":0},0,"Jupiter","Space Science","Torque",null,0]
[{"$f":"IF('Order Form'!A1291>0, 1,0)","v":0},0,"Mars","Space Science","Torque",null,0]
[{"$f":"IF('Order Form'!A1292>0, 1,0)","v":0},0,"Mercury","Space Science","Torque",null,0]
[{"$f":"IF('Order Form'!A1293>0, 1,0)","v":0},0,"Moons","Space Science","Torque",null,0]
[{"$f":"IF('Order Form'!A1294>0, 1,0)","v":0},0,"Neptune","Space Science","Torque",null,0]
[{"$f":"IF('Order Form'!A1295>0, 1,0)","v":0},0,"Planets","Space Science","Torque",null,0]
[{"$f":"IF('Order Form'!A1296>0, 1,0)","v":0},0,"Pluto & the Dwarf Planets","Space Science","Torque",null,{"$f":"A1296","v":0}]
[{"$f":"IF('Order Form'!A1297>0, 1,0)","v":0},0,"Saturn","Space Science","Torque",null,0]
[{"$f":"IF('Order Form'!A1298>0, 1,0)","v":0},0,"Sun, The","Space Science","Torque",null,0]
[{"$f":"IF('Order Form'!A1299>0, 1,0)","v":0},0,"The Moon","Space Science","Torque",null,0]
[{"$f":"IF('Order Form'!A1300>0, 1,0)","v":0},0,"Uranus","Space Science","Torque",null,0]
[{"$f":"IF('Order Form'!A1301>0, 1,0)","v":0},0,"Venus","Space Science","Torque",null,0]
[{"$f":"IF('Order Form'!A1302>0, 1,0)","v":0},0,"Cool Careers Set (6)","Cool Careers","Torque",null,0]
[{"$f":"IF('Order Form'!A1303>0, 1,0)","v":0},0,"Astronaut","Cool Careers","Torque",null,0]
[{"$f":"IF('Order Form'!A1304>0, 1,0)","v":0},0,"Baseball Player","Cool Careers","Torque",null,0]
[{"$f":"IF('Order Form'!A1305>0, 1,0)","v":0},0,"Fighter Pilot","Cool Careers","Torque",null,0]
[{"$f":"IF('Order Form'!A1306>0, 1,0)","v":0},0,"Movie Director","Cool Careers","Torque",null,0]
[{"$f":"IF('Order Form'!A1307>0, 1,0)","v":0},0,"Race Car Driver","Cool Careers","Torque",null,0]
[{"$f":"IF('Order Form'!A1308>0, 1,0)","v":0},0,"Stunt Performer","Cool Careers","Torque",null,0]
[{"$f":"IF('Order Form'!A1309>0, 1,0)","v":0},0,"It's the End of the World Set (8)","It's the End of the World","Torque",null,0]
[{"$f":"IF('Order Form'!A1310>0, 1,0)","v":0},0,"Alien Invasion","It's the End of the World","Torque",null,0]
[{"$f":"IF('Order Form'!A1311>0, 1,0)","v":0},0,"Asteroid Impact","It's the End of the World","Torque",null,0]
[{"$f":"IF('Order Form'!A1312>0, 1,0)","v":0},0,"Climate Change","It's the End of the World","Torque",null,0]
[{"$f":"IF('Order Form'!A1313>0, 1,0)","v":0},0,"Global Pandemic","It's the End of the World","Torque",null,0]
[{"$f":"IF('Order Form'!A1314>0, 1,0)","v":0},0,"Nuclear War","It's the End of the World","Torque",null,0]
[{"$f":"IF('Order Form'!A1315>0, 1,0)","v":0},0,"Robot Uprising","It's the End of the World","Torque",null,0]
[{"$f":"IF('Order Form'!A1316>0, 1,0)","v":0},0,"Solar Storm","It's the End of the World","Torque",null,0]
[{"$f":"IF('Order Form'!A1317>0, 1,0)","v":0},0,"Supervolcano Eruption","It's the End of the World","Torque",null,0]
[{"$f":"IF('Order Form'!A1318>0, 1,0)","v":0},0,"Car Crazy Set (22)","Car Crazy","Torque",null,0]
[{"$f":"IF('Order Form'!A1319>0, 1,0)","v":0},0,"Aston Martin DB9","Car Crazy","Torque",null,0]
[{"$f":"IF('Order Form'!A1320>0, 1,0)","v":0},0,"Audi R8 Spyder","Car Crazy","Torque",null,0]
[{"$f":"IF('Order Form'!A1321>0, 1,0)","v":0},0,"Bentley Continental GT","Car Crazy","Torque",null,0]
[{"$f":"IF('Order Form'!A1322>0, 1,0)","v":0},0,"BMW M4","Car Crazy","Torque",null,0]
[{"$f":"IF('Order Form'!A1323>0, 1,0)","v":0},0,"Bugatti Chiron","Car Crazy","Torque",null,0]
[{"$f":"IF('Order Form'!A1324>0, 1,0)","v":0},0,"Bugatti Veyron","Car Crazy","Torque",null,0]
[{"$f":"IF('Order Form'!A1325>0, 1,0)","v":0},0,"Chevrolet Camaro Z28","Car Crazy","Torque",null,0]
[{"$f":"IF('Order Form'!A1326>0, 1,0)","v":0},0,"Chevrolet Corvette Z06","Car Crazy","Torque",null,0]
[{"$f":"IF('Order Form'!A1327>0, 1,0)","v":0},0,"Dodge Challenger SRT Hellcat","Car Crazy","Torque",null,0]
[{"$f":"IF('Order Form'!A1328>0, 1,0)","v":0},0,"Dodge Charger R/T","Car Crazy","Torque",null,0]
[{"$f":"IF('Order Form'!A1329>0, 1,0)","v":0},0,"Dodge Viper SRT","Car Crazy","Torque",null,0]
[{"$f":"IF('Order Form'!A1330>0, 1,0)","v":0},0,"Ferrari 458 Italia","Car Crazy","Torque",null,0]
[{"$f":"IF('Order Form'!A1331>0, 1,0)","v":0},0,"Ford Mustang Shelby GT350","Car Crazy","Torque",null,0]
[{"$f":"IF('Order Form'!A1332>0, 1,0)","v":0},0,"Jaguar F-Type","Car Crazy","Torque"]
[{"$f":"IF('Order Form'!A1333>0, 1,0)","v":0},0,"Lamborghini Aventador","Car Crazy","Torque"]
[{"$f":"IF('Order Form'!A1334>0, 1,0)","v":0},0,"Lykan HyperSport","Car Crazy","Torque"]
[{"$f":"IF('Order Form'!A1335>0, 1,0)","v":0},0,"Maserati GranTurismo","Car Crazy","Torque"]
[{"$f":"IF('Order Form'!A1336>0, 1,0)","v":0},0,"McLaren 12C","Car Crazy","Torque"]
[{"$f":"IF('Order Form'!A1337>0, 1,0)","v":0},0,"Nissan GT-R","Car Crazy","Torque"]
[{"$f":"IF('Order Form'!A1338>0, 1,0)","v":0},0,"Porsche 911 Carrera","Car Crazy","Torque"]
[{"$f":"IF('Order Form'!A1339>0, 1,0)","v":0},0,"Porsche 918 Spyder","Car Crazy","Torque"]
[{"$f":"IF('Order Form'!A1340>0, 1,0)","v":0},0,"Tesla Model S","Car Crazy","Torque"]
[{"$f":"IF('Order Form'!A1341>0, 1,0)","v":0},0,"NFL Teams Set (32)","NFL Teams","Torque"]
[{"$f":"IF('Order Form'!A1342>0, 1,0)","v":0},0,"The Arizona Cardinals Story","NFL Teams","Torque"]
[{"$f":"IF('Order Form'!A1343>0, 1,0)","v":0},0,"The Atlanta Falcons Story","NFL Teams","Torque"]
[{"$f":"IF('Order Form'!A1344>0, 1,0)","v":0},0,"The Baltimore Ravens Story ","NFL Teams","Torque"]
[{"$f":"IF('Order Form'!A1345>0, 1,0)","v":0},0,"The Buffalo Bills Story","NFL Teams","Torque"]
[{"$f":"IF('Order Form'!A1346>0, 1,0)","v":0},0,"The Carolina Panthers Story","NFL Teams","Torque"]
[{"$f":"IF('Order Form'!A1347>0, 1,0)","v":0},0,"The Chicago Bears Story","NFL Teams","Torque"]
[{"$f":"IF('Order Form'!A1348>0, 1,0)","v":0},0,"The Cincinnati Bengals Story","NFL Teams","Torque"]
[{"$f":"IF('Order Form'!A1349>0, 1,0)","v":0},0,"The Cleveland Browns Story","NFL Teams","Torque"]
[{"$f":"IF('Order Form'!A1350>0, 1,0)","v":0},0,"The Dallas Cowboys Story","NFL Teams","Torque"]
[{"$f":"IF('Order Form'!A1351>0, 1,0)","v":0},0,"The Denver Broncos Story","NFL Teams","Torque"]
[{"$f":"IF('Order Form'!A1352>0, 1,0)","v":0},0,"The Detroit Lions Story","NFL Teams","Torque"]
[{"$f":"IF('Order Form'!A1353>0, 1,0)","v":0},0,"The Green Bay Packers Story","NFL Teams","Torque"]
[{"$f":"IF('Order Form'!A1354>0, 1,0)","v":0},0,"The Houston Texans Story","NFL Teams","Torque"]
[{"$f":"IF('Order Form'!A1355>0, 1,0)","v":0},0,"The Indianapolis Colts Story","NFL Teams","Torque"]
[{"$f":"IF('Order Form'!A1356>0, 1,0)","v":0},0,"The Jacksonville Jaguars Story","NFL Teams","Torque"]
[{"$f":"IF('Order Form'!A1357>0, 1,0)","v":0},0,"The Kansas City Chiefs Story","NFL Teams","Torque"]
[{"$f":"IF('Order Form'!A1358>0, 1,0)","v":0},0,"The Los Angeles Rams Story","NFL Teams","Torque"]
[{"$f":"IF('Order Form'!A1359>0, 1,0)","v":0},0,"The Miami Dolphins Story","NFL Teams","Torque"]
[{"$f":"IF('Order Form'!A1360>0, 1,0)","v":0},0,"The Minnesota Vikings Story","NFL Teams","Torque"]
[{"$f":"IF('Order Form'!A1361>0, 1,0)","v":0},0,"The New England Patriots Story","NFL Teams","Torque"]
[{"$f":"IF('Order Form'!A1362>0, 1,0)","v":0},0,"The New Orleans Saints Story","NFL Teams","Torque"]
[{"$f":"IF('Order Form'!A1363>0, 1,0)","v":0},0,"The New York Giants Story","NFL Teams","Torque"]
[{"$f":"IF('Order Form'!A1364>0, 1,0)","v":0},0,"The New York Jets Story","NFL Teams","Torque"]
[{"$f":"IF('Order Form'!A1365>0, 1,0)","v":0},0,"The Oakland Raiders Story","NFL Teams","Torque"]
[{"$f":"IF('Order Form'!A1366>0, 1,0)","v":0},0,"The Philadelphia Eagles Story","NFL Teams","Torque"]
[{"$f":"IF('Order Form'!A1367>0, 1,0)","v":0},0,"The Pittsburgh Steelers Story","NFL Teams","Torque"]
[{"$f":"IF('Order Form'!A1368>0, 1,0)","v":0},0,"The San Diego Chargers Story","NFL Teams","Torque"]
[{"$f":"IF('Order Form'!A1369>0, 1,0)","v":0},0,"The San Francisco 49ers Story","NFL Teams","Torque"]
[{"$f":"IF('Order Form'!A1370>0, 1,0)","v":0},0,"The Seattle Seahawks Story","NFL Teams","Torque"]
[{"$f":"IF('Order Form'!A1371>0, 1,0)","v":0},0,"The Tampa Bay Buccaneers Story","NFL Teams","Torque"]
[{"$f":"IF('Order Form'!A1372>0, 1,0)","v":0},0,"The Tennessee Titans Story","NFL Teams","Torque"]
[{"$f":"IF('Order Form'!A1373>0, 1,0)","v":0},0,"The Washington Redskins Story","NFL Teams","Torque"]
[{"$f":"IF('Order Form'!A1374>0, 1,0)","v":0},0,"Pirate Tales Set (6)","Pirate Tales","Black Sheep"]
[{"$f":"IF('Order Form'!A1375>0, 1,0)","v":0},0,"Anne Bonny: Pirate Queen of the Caribbean","Pirate Tales","Black Sheep"]
[{"$f":"IF('Order Form'!A1376>0, 1,0)","v":0},0,"Blackbeard: Captain of the Queen Anne's Revenge","Pirate Tales","Black Sheep"]
[{"$f":"IF('Order Form'!A1377>0, 1,0)","v":0},0,"Ching Shih: The World's Most Successful Pirate","Pirate Tales","Black Sheep"]
[{"$f":"IF('Order Form'!A1378>0, 1,0)","v":0},0,"Henry Morgan: Feared Buccaneer of the New World","Pirate Tales","Black Sheep"]
[{"$f":"IF('Order Form'!A1379>0, 1,0)","v":0},0,"Mary Read: Pirate in Disguise","Pirate Tales","Black Sheep"]
[{"$f":"IF('Order Form'!A1380>0, 1,0)","v":0},0,"Sir Francis Drake and the Trip Around the World","Pirate Tales","Black Sheep"]
[{"$f":"IF('Order Form'!A1381>0, 1,0)","v":0},0,"True Survival Stories Set (6)","True Survival Stories","Black Sheep"]
[{"$f":"IF('Order Form'!A1382>0, 1,0)","v":0},0,"Escaping the Nazis: Jan Baalsrud","True Survival Stories","Black Sheep"]
[{"$f":"IF('Order Form'!A1383>0, 1,0)","v":0},0,"Inside the Volcano: Michael Benson","True Survival Stories","Black Sheep"]
[{"$f":"IF('Order Form'!A1384>0, 1,0)","v":0},0,"Lost in the Amazon: Juliane Koepcke","True Survival Stories","Black Sheep"]
[{"$f":"IF('Order Form'!A1385>0, 1,0)","v":0},0,"Shark Attack!: Bethany Hamilton","True Survival Stories","Black Sheep"]
[{"$f":"IF('Order Form'!A1386>0, 1,0)","v":0},0,"Stranded at Sea: Steve Callahan","True Survival Stories","Black Sheep"]
[{"$f":"IF('Order Form'!A1387>0, 1,0)","v":0},0,"Trapped in Antarctica: Shackleton and the Endurance","True Survival Stories","Black Sheep"]
[{"$f":"IF('Order Form'!A1388>0, 1,0)","v":0},0,"Extraordinary Explorers Set (6)","Extraordinary Explorers","Black Sheep"]
[{"$f":"IF('Order Form'!A1389>0, 1,0)","v":0},0,"Amelia Earhart Flies Across the Atlantic","Extraordinary Explorers","Black Sheep"]
[{"$f":"IF('Order Form'!A1390>0, 1,0)","v":0},0,"Edmund Hillary Reaches the Top of Everest","Extraordinary Explorers","Black Sheep"]
[{"$f":"IF('Order Form'!A1391>0, 1,0)","v":0},0,"Ferdinand Magellan Sails Around the World","Extraordinary Explorers","Black Sheep"]
[{"$f":"IF('Order Form'!A1392>0, 1,0)","v":0},0,"Lewis and Clark Map the American West","Extraordinary Explorers","Black Sheep"]
[{"$f":"IF('Order Form'!A1393>0, 1,0)","v":0},0,"Neil Armstrong Walks on the Moon","Extraordinary Explorers","Black Sheep"]
[{"$f":"IF('Order Form'!A1394>0, 1,0)","v":0},0,"Roald Amundsen Explores the South Pole","Extraordinary Explorers","Black Sheep"]
[{"$f":"IF('Order Form'!A1395>0, 1,0)","v":0},0,"Disaster Stories Set (6)","Disaster Stories","Black Sheep"]
[{"$f":"IF('Order Form'!A1396>0, 1,0)","v":0},0,"The Apollo 13 Mission","Disaster Stories","Black Sheep"]
[{"$f":"IF('Order Form'!A1397>0, 1,0)","v":0},0,"The Attack on Pearl Harbor","Disaster Stories","Black Sheep"]
[{"$f":"IF('Order Form'!A1398>0, 1,0)","v":0},0,"The Challenger Explosion","Disaster Stories","Black Sheep"]
[{"$f":"IF('Order Form'!A1399>0, 1,0)","v":0},0,"The Deepwater Horizon Oil Spill","Disaster Stories","Black Sheep"]
[{"$f":"IF('Order Form'!A1400>0, 1,0)","v":0},0,"The Hindenburg Disaster","Disaster Stories","Black Sheep"]
[{"$f":"IF('Order Form'!A1401>0, 1,0)","v":0},0,"The Titanic Disaster","Disaster Stories","Black Sheep"]
[{"$f":"IF('Order Form'!A1402>0, 1,0)","v":0},0,"Paranormal Mysteries Set (6)","Paranormal Mysteries","Black Sheep"]
[{"$f":"IF('Order Form'!A1403>0, 1,0)","v":0},0,"Bell Witch Haunting, The","Paranormal Mysteries","Black Sheep"]
[{"$f":"IF('Order Form'!A1404>0, 1,0)","v":0},0,"Betty & Barney Hill Alien Abduction, The","Paranormal Mysteries","Black Sheep"]
[{"$f":"IF('Order Form'!A1405>0, 1,0)","v":0},0,"Flight 19: Lost in the Bermuda Triangle","Paranormal Mysteries","Black Sheep"]
[{"$f":"IF('Order Form'!A1406>0, 1,0)","v":0},0,"Mothman Sightings, The","Paranormal Mysteries","Black Sheep"]
[{"$f":"IF('Order Form'!A1407>0, 1,0)","v":0},0,"Mummy's Curse, The: Discovering King Tut's Tomb","Paranormal Mysteries","Black Sheep"]
[{"$f":"IF('Order Form'!A1408>0, 1,0)","v":0},0,"Roswell UFO Incident, The","Paranormal Mysteries","Black Sheep"]
[{"$f":"IF('Order Form'!A1409>0, 1,0)","v":0},0,"Orgami Fun Set (14)","Origami Fun","Express!"]
[{"$f":"IF('Order Form'!A1410>0, 1,0)","v":0},0,"Origami Fun: Aircraft","Origami Fun","Express!"]
[{"$f":"IF('Order Form'!A1411>0, 1,0)","v":0},0,"Origami Fun: Birds","Origami Fun","Express!"]
[{"$f":"IF('Order Form'!A1412>0, 1,0)","v":0},0,"Origami Fun: Buildings","Origami Fun","Express!"]
[{"$f":"IF('Order Form'!A1413>0, 1,0)","v":0},0,"Origami Fun: Dinosaurs","Origami Fun","Express!"]
[{"$f":"IF('Order Form'!A1414>0, 1,0)","v":0},0,"Origami Fun: Farm Animals","Origami Fun","Express!"]
[{"$f":"IF('Order Form'!A1415>0, 1,0)","v":0},0,"Origami Fun: Holidays","Origami Fun","Express!"]
[{"$f":"IF('Order Form'!A1416>0, 1,0)","v":0},0,"Origami Fun: Insects","Origami Fun","Express!"]
[{"$f":"IF('Order Form'!A1417>0, 1,0)","v":0},0,"Origami Fun: Jungle Animals","Origami Fun","Express!"]
[{"$f":"IF('Order Form'!A1418>0, 1,0)","v":0},0,"Origami Fun: Mythical Creatures","Origami Fun","Express!"]
[{"$f":"IF('Order Form'!A1419>0, 1,0)","v":0},0,"Origami Fun: Ocean Animals","Origami Fun","Express!"]
[{"$f":"IF('Order Form'!A1420>0, 1,0)","v":0},0,"Origami Fun: Pets","Origami Fun","Express!"]
[{"$f":"IF('Order Form'!A1421>0, 1,0)","v":0},0,"Origami Fun: Plants","Origami Fun","Express!"]
[{"$f":"IF('Order Form'!A1422>0, 1,0)","v":0},0,"Origami Fun: Robots","Origami Fun","Express!"]
[{"$f":"IF('Order Form'!A1423>0, 1,0)","v":0},0,"Origami Fun: Vehicles","Origami Fun","Express!"]
[{"$f":"IF('Order Form'!A1424>0, 1,0)","v":0},0,"Crafting with Nature Set (6)","Crafting with Nature","Express!"]
[{"$f":"IF('Order Form'!A1425>0, 1,0)","v":0},0,"Flower Crafts","Crafting with Nature","Express!"]
[{"$f":"IF('Order Form'!A1426>0, 1,0)","v":0},0,"Leaf Crafts","Crafting with Nature","Express!"]
[{"$f":"IF('Order Form'!A1427>0, 1,0)","v":0},0,"Rock Crafts","Crafting with Nature","Express!"]
[{"$f":"IF('Order Form'!A1428>0, 1,0)","v":0},0,"Sand Crafts","Crafting with Nature","Express!"]
[{"$f":"IF('Order Form'!A1429>0, 1,0)","v":0},0,"Seed Crafts","Crafting with Nature","Express!"]
[{"$f":"IF('Order Form'!A1430>0, 1,0)","v":0},0,"Stick Crafts","Crafting with Nature","Express!"]
[{"$f":"IF('Order Form'!A1431>0, 1,0)","v":0},0,"Easy Upcycled Crafts","Easy Upcycled Crafts","Express!"]
[{"$f":"IF('Order Form'!A1432>0, 1,0)","v":0},0,"Cardboard Crafts","Easy Upcycled Crafts","Express!"]
[{"$f":"IF('Order Form'!A1433>0, 1,0)","v":0},0,"Egg Carton Crafts","Easy Upcycled Crafts","Express!"]
[{"$f":"IF('Order Form'!A1434>0, 1,0)","v":0},0,"Glass Jar Crafts","Easy Upcycled Crafts","Express!"]
[{"$f":"IF('Order Form'!A1435>0, 1,0)","v":0},0,"Old Art Supplies Crafts","Easy Upcycled Crafts","Express!"]
[{"$f":"IF('Order Form'!A1436>0, 1,0)","v":0},0,"Plastic Bottle Crafts","Easy Upcycled Crafts","Express!"]
[{"$f":"IF('Order Form'!A1437>0, 1,0)","v":0},0,"Trash to Treasure Crafts","Easy Upcycled Crafts","Express!"]
[{"$f":"IF('Order Form'!A1438>0, 1,0)","v":0},0,"Take Flight! Set (6)","Take Flight!","Express!"]
[{"$f":"IF('Order Form'!A1439>0, 1,0)","v":0},0,"Novice Level Paper Airplanes","Take Flight!","Express!"]
[{"$f":"IF('Order Form'!A1440>0, 1,0)","v":0},0,"Beginner Level Paper Airplanes","Take Flight!","Express!"]
[{"$f":"IF('Order Form'!A1441>0, 1,0)","v":0},0,"Intermediate Level Paper Airplanes","Take Flight!","Express!"]
[{"$f":"IF('Order Form'!A1442>0, 1,0)","v":0},0,"Advanced Level Paper Airplanes","Take Flight!","Express!"]
[{"$f":"IF('Order Form'!A1443>0, 1,0)","v":0},0,"Expert Level Paper Airplanes","Take Flight!","Express!"]
[{"$f":"IF('Order Form'!A1444>0, 1,0)","v":0},0,"Master Level Paper Airplanes","Take Flight!","Express!"]
[{"$f":"IF('Order Form'!A1445>0, 1,0)","v":0},0,"Creepy Crawlies Set (12)","Creepy Crawlies","Blastoff! Readers"]
[{"$f":"IF('Order Form'!A1446>0, 1,0)","v":0},0,"Black Widow Spiders","Creepy Crawlies","Blastoff! Readers"]
[{"$f":"IF('Order Form'!A1447>0, 1,0)","v":0},0,"Centipedes","Creepy Crawlies","Blastoff! Readers"]
[{"$f":"IF('Order Form'!A1448>0, 1,0)","v":0},0,"Fire Ants","Creepy Crawlies","Blastoff! Readers"]
[{"$f":"IF('Order Form'!A1449>0, 1,0)","v":0},0,"Hissing Cockroaches","Creepy Crawlies","Blastoff! Readers"]
[{"$f":"IF('Order Form'!A1450>0, 1,0)","v":0},0,"Mealworms","Creepy Crawlies","Blastoff! Readers"]
[{"$f":"IF('Order Form'!A1451>0, 1,0)","v":0},0,"Millipedes","Creepy Crawlies","Blastoff! Readers"]
[{"$f":"IF('Order Form'!A1452>0, 1,0)","v":0},0,"Praying Mantises","Creepy Crawlies","Blastoff! Readers"]
[{"$f":"IF('Order Form'!A1453>0, 1,0)","v":0},0,"Scorpions","Creepy Crawlies","Blastoff! Readers"]
[{"$f":"IF('Order Form'!A1454>0, 1,0)","v":0},0,"Slugs","Creepy Crawlies","Blastoff! Readers"]
[{"$f":"IF('Order Form'!A1455>0, 1,0)","v":0},0,"Tarantulas","Creepy Crawlies","Blastoff! Readers"]
[{"$f":"IF('Order Form'!A1456>0, 1,0)","v":0},0,"Termites","Creepy Crawlies","Blastoff! Readers"]
[{"$f":"IF('Order Form'!A1457>0, 1,0)","v":0},0,"Ticks","Creepy Crawlies","Blastoff! Readers"]
[{"$f":"IF('Order Form'!A1458>0, 1,0)","v":0},0,"Super Cute! Set (39)","Super Cute!","Blastoff! Readers"]
[{"$f":"IF('Order Form'!A1459>0, 1,0)","v":0},0,"Baby Bears","Super Cute!","Blastoff! Readers"]
[{"$f":"IF('Order Form'!A1460>0, 1,0)","v":0},0,"Baby Camels","Super Cute!","Blastoff! Readers"]
[{"$f":"IF('Order Form'!A1461>0, 1,0)","v":0},0,"Baby Cats","Super Cute!","Blastoff! Readers"]
[{"$f":"IF('Order Form'!A1462>0, 1,0)","v":0},0,"Baby Cheetahs","Super Cute!","Blastoff! Readers"]
[{"$f":"IF('Order Form'!A1463>0, 1,0)","v":0},0,"Baby Chickens","Super Cute!","Blastoff! Readers"]
[{"$f":"IF('Order Form'!A1464>0, 1,0)","v":0},0,"Baby Cows","Super Cute!","Blastoff! Readers"]
[{"$f":"IF('Order Form'!A1465>0, 1,0)","v":0},0,"Baby Deer","Super Cute!","Blastoff! Readers"]
[{"$f":"IF('Order Form'!A1466>0, 1,0)","v":0},0,"Baby Dogs","Super Cute!","Blastoff! Readers"]
[{"$f":"IF('Order Form'!A1467>0, 1,0)","v":0},0,"Baby Ducks","Super Cute!","Blastoff! Readers"]
[{"$f":"IF('Order Form'!A1468>0, 1,0)","v":0},0,"Baby Elephants","Super Cute!","Blastoff! Readers"]
[{"$f":"IF('Order Form'!A1469>0, 1,0)","v":0},0,"Baby Foxes","Super Cute!","Blastoff! Readers"]
[{"$f":"IF('Order Form'!A1470>0, 1,0)","v":0},0,"Baby Giraffes","Super Cute!","Blastoff! Readers"]
[{"$f":"IF('Order Form'!A1471>0, 1,0)","v":0},0,"Baby Goats","Super Cute!","Blastoff! Readers"]
[{"$f":"IF('Order Form'!A1472>0, 1,0)","v":0},0,"Baby Gorillas","Super Cute!","Blastoff! Readers"]
[{"$f":"IF('Order Form'!A1473>0, 1,0)","v":0},0,"Baby Hedgehogs","Super Cute!","Blastoff! Readers"]
[{"$f":"IF('Order Form'!A1474>0, 1,0)","v":0},0,"Baby Hippos","Super Cute!","Blastoff! Readers"]
[{"$f":"IF('Order Form'!A1475>0, 1,0)","v":0},0,"Baby Horses","Super Cute!","Blastoff! Readers"]
[{"$f":"IF('Order Form'!A1476>0, 1,0)","v":0},0,"Baby Kangaroos","Super Cute!","Blastoff! Readers"]
[{"$f":"IF('Order Form'!A1477>0, 1,0)","v":0},0,"Baby Koalas","Super Cute!","Blastoff! Readers"]
[{"$f":"IF('Order Form'!A1478>0, 1,0)","v":0},0,"Baby Lions","Super Cute!","Blastoff! Readers"]
[{"$f":"IF('Order Form'!A1479>0, 1,0)","v":0},0,"Baby Monkeys","Super Cute!","Blastoff! Readers"]
[{"$f":"IF('Order Form'!A1480>0, 1,0)","v":0},0,"Baby Orangutans","Super Cute!","Blastoff! Readers"]
[{"$f":"IF('Order Form'!A1481>0, 1,0)","v":0},0,"Baby Owls","Super Cute!","Blastoff! Readers"]
[{"$f":"IF('Order Form'!A1482>0, 1,0)","v":0},0,"Baby Pandas","Super Cute!","Blastoff! Readers"]
[{"$f":"IF('Order Form'!A1483>0, 1,0)","v":0},0,"Baby Penguins","Super Cute!","Blastoff! Readers"]
[{"$f":"IF('Order Form'!A1484>0, 1,0)","v":0},0,"Baby Pigs","Super Cute!","Blastoff! Readers"]
[{"$f":"IF('Order Form'!A1485>0, 1,0)","v":0},0,"Baby Rabbits","Super Cute!","Blastoff! Readers"]
[{"$f":"IF('Order Form'!A1486>0, 1,0)","v":0},0,"Baby Raccoons","Super Cute!","Blastoff! Readers"]
[{"$f":"IF('Order Form'!A1487>0, 1,0)","v":0},0,"Baby Rhinos","Super Cute!","Blastoff! Readers"]
[{"$f":"IF('Order Form'!A1488>0, 1,0)","v":0},0,"Baby Sea Otters","Super Cute!","Blastoff! Readers"]
[{"$f":"IF('Order Form'!A1489>0, 1,0)","v":0},0,"Baby Seals","Super Cute!","Blastoff! Readers"]
[{"$f":"IF('Order Form'!A1490>0, 1,0)","v":0},0,"Baby Sheep","Super Cute!","Blastoff! Readers"]
[{"$f":"IF('Order Form'!A1491>0, 1,0)","v":0},0,"Baby Skunks","Super Cute!","Blastoff! Readers"]
[{"$f":"IF('Order Form'!A1492>0, 1,0)","v":0},0,"Baby Sloths","Super Cute!","Blastoff! Readers"]
[{"$f":"IF('Order Form'!A1493>0, 1,0)","v":0},0,"Baby Squirrels","Super Cute!","Blastoff! Readers"]
[{"$f":"IF('Order Form'!A1494>0, 1,0)","v":0},0,"Baby Tigers","Super Cute!","Blastoff! Readers"]
[{"$f":"IF('Order Form'!A1495>0, 1,0)","v":0},0,"Baby Turtles","Super Cute!","Blastoff! Readers"]
[{"$f":"IF('Order Form'!A1496>0, 1,0)","v":0},0,"Baby Wolves","Super Cute!","Blastoff! Readers"]
[{"$f":"IF('Order Form'!A1497>0, 1,0)","v":0},0,"Baby Zebras","Super Cute!","Blastoff! Readers"]
[{"$f":"IF('Order Form'!A1498>0, 1,0)","v":0},0,"Cool Cats Set (26)","Cool Cats","Blastoff! Readers"]
[{"$f":"IF('Order Form'!A1499>0, 1,0)","v":0},0,"Abyssinians","Cool Cats","Blastoff! Readers"]
[{"$f":"IF('Order Form'!A1500>0, 1,0)","v":0},0,"American Curls","Cool Cats","Blastoff! Readers"]
[{"$f":"IF('Order Form'!A1501>0, 1,0)","v":0},0,"American Shorthairs","Cool Cats","Blastoff! Readers"]
[{"$f":"IF('Order Form'!A1502>0, 1,0)","v":0},0,"Balinese","Cool Cats","Blastoff! Readers"]
[{"$f":"IF('Order Form'!A1503>0, 1,0)","v":0},0,"Birmans","Cool Cats","Blastoff! Readers"]
[{"$f":"IF('Order Form'!A1504>0, 1,0)","v":0},0,"British Shorthairs","Cool Cats","Blastoff! Readers"]
[{"$f":"IF('Order Form'!A1505>0, 1,0)","v":0},0,"Burmese","Cool Cats","Blastoff! Readers"]
[{"$f":"IF('Order Form'!A1506>0, 1,0)","v":0},0,"Cornish Rexes","Cool Cats","Blastoff! Readers"]
[{"$f":"IF('Order Form'!A1507>0, 1,0)","v":0},0,"Devon Rexes","Cool Cats","Blastoff! Readers"]
[{"$f":"IF('Order Form'!A1508>0, 1,0)","v":0},0,"Egyptian Maus","Cool Cats","Blastoff! Readers"]
[{"$f":"IF('Order Form'!A1509>0, 1,0)","v":0},0,"Exotics","Cool Cats","Blastoff! Readers"]
[{"$f":"IF('Order Form'!A1510>0, 1,0)","v":0},0,"Japanese Bobtails","Cool Cats","Blastoff! Readers"]
[{"$f":"IF('Order Form'!A1511>0, 1,0)","v":0},0,"Maine Coons","Cool Cats","Blastoff! Readers"]
[{"$f":"IF('Order Form'!A1512>0, 1,0)","v":0},0,"Manx","Cool Cats","Blastoff! Readers"]
[{"$f":"IF('Order Form'!A1513>0, 1,0)","v":0},0,"Norwegian Forest Cats","Cool Cats","Blastoff! Readers"]
[{"$f":"IF('Order Form'!A1514>0, 1,0)","v":0},0,"Ocicats","Cool Cats","Blastoff! Readers"]
[{"$f":"IF('Order Form'!A1515>0, 1,0)","v":0},0,"Orientals","Cool Cats","Blastoff! Readers"]
[{"$f":"IF('Order Form'!A1516>0, 1,0)","v":0},0,"Persians","Cool Cats","Blastoff! Readers"]
[{"$f":"IF('Order Form'!A1517>0, 1,0)","v":0},0,"RagaMuffins","Cool Cats","Blastoff! Readers"]
[{"$f":"IF('Order Form'!A1518>0, 1,0)","v":0},0,"Ragdolls","Cool Cats","Blastoff! Readers"]
[{"$f":"IF('Order Form'!A1519>0, 1,0)","v":0},0,"Russian Blues","Cool Cats","Blastoff! Readers"]
[{"$f":"IF('Order Form'!A1520>0, 1,0)","v":0},0,"Scottish Folds","Cool Cats","Blastoff! Readers"]
[{"$f":"IF('Order Form'!A1521>0, 1,0)","v":0},0,"Selkirk Rexes","Cool Cats","Blastoff! Readers"]
[{"$f":"IF('Order Form'!A1522>0, 1,0)","v":0},0,"Siamese","Cool Cats","Blastoff! Readers"]
[{"$f":"IF('Order Form'!A1523>0, 1,0)","v":0},0,"Siberians","Cool Cats","Blastoff! Readers"]
[{"$f":"IF('Order Form'!A1524>0, 1,0)","v":0},0,"Sphynx","Cool Cats","Blastoff! Readers"]
[{"$f":"IF('Order Form'!A1525>0, 1,0)","v":0},0,"Money Matters Set (5)","Money Matters","Blastoff! Readers"]
[{"$f":"IF('Order Form'!A1526>0, 1,0)","v":0},0,"Counting Money","Money Matters","Blastoff! Readers"]
[{"$f":"IF('Order Form'!A1527>0, 1,0)","v":0},0,"Earning Money","Money Matters","Blastoff! Readers"]
[{"$f":"IF('Order Form'!A1528>0, 1,0)","v":0},0,"Saving Money","Money Matters","Blastoff! Readers"]
[{"$f":"IF('Order Form'!A1529>0, 1,0)","v":0},0,"Spending Money","Money Matters","Blastoff! Readers"]
[{"$f":"IF('Order Form'!A1530>0, 1,0)","v":0},0,"Types of Money","Money Matters","Blastoff! Readers"]
[{"$f":"IF('Order Form'!A1531>0, 1,0)","v":0},0,"Animal Classes Set (6)","Animal Classes","Blastoff! Readers"]
[{"$f":"IF('Order Form'!A1532>0, 1,0)","v":0},0,"Insects","Animal Classes","Blastoff! Readers"]
[{"$f":"IF('Order Form'!A1533>0, 1,0)","v":0},0,"Amphibians","Animal Classes","Blastoff! Readers"]
[{"$f":"IF('Order Form'!A1534>0, 1,0)","v":0},0,"Birds","Animal Classes","Blastoff! Readers"]
[{"$f":"IF('Order Form'!A1535>0, 1,0)","v":0},0,"Fish","Animal Classes","Blastoff! Readers"]
[{"$f":"IF('Order Form'!A1536>0, 1,0)","v":0},0,"Mammals","Animal Classes","Blastoff! Readers"]
[{"$f":"IF('Order Form'!A1537>0, 1,0)","v":0},0,"Reptiles","Animal Classes","Blastoff! Readers"]
[{"$f":"IF('Order Form'!A1538>0, 1,0)","v":0},0,"Discover the Continents Set (7)","Discover the Continents","Blastoff! Readers"]
[{"$f":"IF('Order Form'!A1539>0, 1,0)","v":0},0,"Africa","Discover the Continents","Blastoff! Readers"]
[{"$f":"IF('Order Form'!A1540>0, 1,0)","v":0},0,"Antarctica","Discover the Continents","Blastoff! Readers"]
[{"$f":"IF('Order Form'!A1541>0, 1,0)","v":0},0,"Asia","Discover the Continents","Blastoff! Readers"]
[{"$f":"IF('Order Form'!A1542>0, 1,0)","v":0},0,"Australia","Discover the Continents","Blastoff! Readers"]
[{"$f":"IF('Order Form'!A1543>0, 1,0)","v":0},0,"Europe","Discover the Continents","Blastoff! Readers"]
[{"$f":"IF('Order Form'!A1544>0, 1,0)","v":0},0,"North America","Discover the Continents","Blastoff! Readers"]
[{"$f":"IF('Order Form'!A1545>0, 1,0)","v":0},0,"South America","Discover the Continents","Blastoff! Readers"]
[{"$f":"IF('Order Form'!A1546>0, 1,0)","v":0},0,"Discover the Oceans Set (5)","Discover the Oceans","Blastoff! Readers"]
[{"$f":"IF('Order Form'!A1547>0, 1,0)","v":0},0,"Arctic Ocean","Discover the Oceans","Blastoff! Readers"]
[{"$f":"IF('Order Form'!A1548>0, 1,0)","v":0},0,"Atlantic Ocean","Discover the Oceans","Blastoff! Readers"]
[{"$f":"IF('Order Form'!A1549>0, 1,0)","v":0},0,"Indian Ocean","Discover the Oceans","Blastoff! Readers"]
[{"$f":"IF('Order Form'!A1550>0, 1,0)","v":0},0,"Pacific Ocean","Discover the Oceans","Blastoff! Readers"]
[{"$f":"IF('Order Form'!A1551>0, 1,0)","v":0},0,"Southern Ocean","Discover the Oceans","Blastoff! Readers"]
[{"$f":"IF('Order Form'!A1552>0, 1,0)","v":0},0,"Brands We Know Set (34)","Brands We Know","Pilot"]
[{"$f":"IF('Order Form'!A1553>0, 1,0)","v":0},0,"Amazon","Brands We Know","Pilot"]
[{"$f":"IF('Order Form'!A1554>0, 1,0)","v":0},0,"American Girl","Brands We Know","Pilot"]
[{"$f":"IF('Order Form'!A1555>0, 1,0)","v":0},0,"Apple","Brands We Know","Pilot"]
[{"$f":"IF('Order Form'!A1556>0, 1,0)","v":0},0,"Barbie","Brands We Know","Pilot"]
[{"$f":"IF('Order Form'!A1557>0, 1,0)","v":0},0,"Coca-Cola","Brands We Know","Pilot"]
[{"$f":"IF('Order Form'!A1558>0, 1,0)","v":0},0,"Crayola","Brands We Know","Pilot"]
[{"$f":"IF('Order Form'!A1559>0, 1,0)","v":0},0,"Dairy Queen","Brands We Know","Pilot"]
[{"$f":"IF('Order Form'!A1560>0, 1,0)","v":0},0,"Disney","Brands We Know","Pilot"]
[{"$f":"IF('Order Form'!A1561>0, 1,0)","v":0},0,"ESPN","Brands We Know","Pilot"]
[{"$f":"IF('Order Form'!A1562>0, 1,0)","v":0},0,"Ford","Brands We Know","Pilot"]
[{"$f":"IF('Order Form'!A1563>0, 1,0)","v":0},0,"General Mills","Brands We Know","Pilot"]
[{"$f":"IF('Order Form'!A1564>0, 1,0)","v":0},0,"Google","Brands We Know","Pilot"]
[{"$f":"IF('Order Form'!A1565>0, 1,0)","v":0},0,"Hello Kitty","Brands We Know","Pilot"]
[{"$f":"IF('Order Form'!A1566>0, 1,0)","v":0},0,"Hershey's","Brands We Know","Pilot"]
[{"$f":"IF('Order Form'!A1567>0, 1,0)","v":0},0,"Hot Wheels","Brands We Know","Pilot"]
[{"$f":"IF('Order Form'!A1568>0, 1,0)","v":0},0,"John Deere","Brands We Know","Pilot"]
[{"$f":"IF('Order Form'!A1569>0, 1,0)","v":0},0,"Kellogg's","Brands We Know","Pilot"]
[{"$f":"IF('Order Form'!A1570>0, 1,0)","v":0},0,"Kraft","Brands We Know","Pilot"]
[{"$f":"IF('Order Form'!A1571>0, 1,0)","v":0},0,"LEGO","Brands We Know","Pilot"]
[{"$f":"IF('Order Form'!A1572>0, 1,0)","v":0},0,"McDonald's","Brands We Know","Pilot"]
[{"$f":"IF('Order Form'!A1573>0, 1,0)","v":0},0,"Minecraft","Brands We Know","Pilot"]
[{"$f":"IF('Order Form'!A1574>0, 1,0)","v":0},0,"My Little Pony","Brands We Know","Pilot"]
[{"$f":"IF('Order Form'!A1575>0, 1,0)","v":0},0,"Nerf","Brands We Know","Pilot"]
[{"$f":"IF('Order Form'!A1576>0, 1,0)","v":0},0,"Netflix","Brands We Know","Pilot"]
[{"$f":"IF('Order Form'!A1577>0, 1,0)","v":0},0,"Nickelodeon","Brands We Know","Pilot"]
[{"$f":"IF('Order Form'!A1578>0, 1,0)","v":0},0,"Nike","Brands We Know","Pilot"]
[{"$f":"IF('Order Form'!A1579>0, 1,0)","v":0},0,"Nintendo","Brands We Know","Pilot"]
[{"$f":"IF('Order Form'!A1580>0, 1,0)","v":0},0,"Parker Brothers","Brands We Know","Pilot"]
[{"$f":"IF('Order Form'!A1581>0, 1,0)","v":0},0,"Pokemon","Brands We Know","Pilot"]
[{"$f":"IF('Order Form'!A1582>0, 1,0)","v":0},0,"Power Rangers","Brands We Know","Pilot"]
[{"$f":"IF('Order Form'!A1583>0, 1,0)","v":0},0,"Sony","Brands We Know","Pilot"]
[{"$f":"IF('Order Form'!A1584>0, 1,0)","v":0},0,"Star Wars","Brands We Know","Pilot"]
[{"$f":"IF('Order Form'!A1585>0, 1,0)","v":0},0,"Target","Brands We Know","Pilot"]
[{"$f":"IF('Order Form'!A1586>0, 1,0)","v":0},0,"Transformers","Brands We Know","Pilot"]
[{"$f":"IF('Order Form'!A1587>0, 1,0)","v":0},0,"Amazing Snakes! Set (12)","Amazing Snakes!","Epic"]
[{"$f":"IF('Order Form'!A1588>0, 1,0)","v":0},0,"Ball Pythons","Amazing Snakes!","Epic"]
[{"$f":"IF('Order Form'!A1589>0, 1,0)","v":0},0,"Burmese Pythons","Amazing Snakes!","Epic"]
[{"$f":"IF('Order Form'!A1590>0, 1,0)","v":0},0,"Bush Vipers","Amazing Snakes!","Epic"]
[{"$f":"IF('Order Form'!A1591>0, 1,0)","v":0},0,"Death Adders","Amazing Snakes!","Epic"]
[{"$f":"IF('Order Form'!A1592>0, 1,0)","v":0},0,"Emerald Tree Boas","Amazing Snakes!","Epic"]
[{"$f":"IF('Order Form'!A1593>0, 1,0)","v":0},0,"Green Anacondas","Amazing Snakes!","Epic"]
[{"$f":"IF('Order Form'!A1594>0, 1,0)","v":0},0,"King Cobras","Amazing Snakes!","Epic"]
[{"$f":"IF('Order Form'!A1595>0, 1,0)","v":0},0,"Spitting Cobras","Amazing Snakes!","Epic"]
[{"$f":"IF('Order Form'!A1596>0, 1,0)","v":0},0,"Gaboon Vipers","Amazing Snakes!","Epic"]
[{"$f":"IF('Order Form'!A1597>0, 1,0)","v":0},0,"Inland Taipans","Amazing Snakes!","Epic"]
[{"$f":"IF('Order Form'!A1598>0, 1,0)","v":0},0,"Rainbow Boas","Amazing Snakes!","Epic"]
[{"$f":"IF('Order Form'!A1599>0, 1,0)","v":0},0,"Western Diamondback Rattlesnakes","Amazing Snakes!","Epic"]
[{"$f":"IF('Order Form'!A1600>0, 1,0)","v":0},0,"Major League Sports Set (6)","Major League Sports","Epic"]
[{"$f":"IF('Order Form'!A1601>0, 1,0)","v":0},0,"Major League Baseball","Major League Sports","Epic"]
[{"$f":"IF('Order Form'!A1602>0, 1,0)","v":0},0,"Major League Soccer","Major League Sports","Epic"]
[{"$f":"IF('Order Form'!A1603>0, 1,0)","v":0},0,"National Basketball Association","Major League Sports","Epic"]
[{"$f":"IF('Order Form'!A1604>0, 1,0)","v":0},0,"National Football League","Major League Sports","Epic"]
[{"$f":"IF('Order Form'!A1605>0, 1,0)","v":0},0,"National Hockey League","Major League Sports","Epic"]
[{"$f":"IF('Order Form'!A1606>0, 1,0)","v":0},0,"United States Tennis Association","Major League Sports","Epic"]
[{"$f":"IF('Order Form'!A1607>0, 1,0)","v":0},0,"Military Missions Set (8)","Military Missions","Epic"]
[{"$f":"IF('Order Form'!A1608>0, 1,0)","v":0},0,"Combat","Military Missions","Epic"]
[{"$f":"IF('Order Form'!A1609>0, 1,0)","v":0},0,"Counterterrorism","Military Missions","Epic"]
[{"$f":"IF('Order Form'!A1610>0, 1,0)","v":0},0,"Patrolling","Military Missions","Epic"]
[{"$f":"IF('Order Form'!A1611>0, 1,0)","v":0},0,"Peacekeeping","Military Missions","Epic"]
[{"$f":"IF('Order Form'!A1612>0, 1,0)","v":0},0,"Recon","Military Missions","Epic"]
[{"$f":"IF('Order Form'!A1613>0, 1,0)","v":0},0,"Rescue","Military Missions","Epic"]
[{"$f":"IF('Order Form'!A1614>0, 1,0)","v":0},0,"Special Ops","Military Missions","Epic"]
[{"$f":"IF('Order Form'!A1615>0, 1,0)","v":0},0,"Troop Transport","Military Missions","Epic"]
[{"$f":"IF('Order Form'!A1616>0, 1,0)","v":0},0,"Military Vehicles Set (22)","Military Vehicles","Epic"]
[{"$f":"IF('Order Form'!A1617>0, 1,0)","v":0},0,"Abrams Tanks","Military Vehicles","Epic"]
[{"$f":"IF('Order Form'!A1618>0, 1,0)","v":0},0,"AH-1W Super Cobras","Military Vehicles","Epic"]
[{"$f":"IF('Order Form'!A1619>0, 1,0)","v":0},0,"Apache Helicopters","Military Vehicles","Epic"]
[{"$f":"IF('Order Form'!A1620>0, 1,0)","v":0},0,"Arleigh Burke Destroyers","Military Vehicles","Epic"]
[{"$f":"IF('Order Form'!A1621>0, 1,0)","v":0},0,"B-2 Stealth Bombers","Military Vehicles","Epic"]
[{"$f":"IF('Order Form'!A1622>0, 1,0)","v":0},0,"F-14 Tomcats","Military Vehicles","Epic"]
[{"$f":"IF('Order Form'!A1623>0, 1,0)","v":0},0,"F-15 Eagles","Military Vehicles","Epic"]
[{"$f":"IF('Order Form'!A1624>0, 1,0)","v":0},0,"F-16 Fighting Falcons","Military Vehicles","Epic"]
[{"$f":"IF('Order Form'!A1625>0, 1,0)","v":0},0,"F-22 Raptors","Military Vehicles","Epic"]
[{"$f":"IF('Order Form'!A1626>0, 1,0)","v":0},0,"F-35 Lightning II s","Military Vehicles","Epic"]
[{"$f":"IF('Order Form'!A1627>0, 1,0)","v":0},0,"F/A-18E/F Super Hornets","Military Vehicles","Epic"]
[{"$f":"IF('Order Form'!A1628>0, 1,0)","v":0},0,"HH-60 Pave Hawk Helicopters","Military Vehicles","Epic"]
[{"$f":"IF('Order Form'!A1629>0, 1,0)","v":0},0,"Humvees","Military Vehicles","Epic"]
[{"$f":"IF('Order Form'!A1630>0, 1,0)","v":0},0,"M-ATVs","Military Vehicles","Epic"]
[{"$f":"IF('Order Form'!A1631>0, 1,0)","v":0},0,"M109A6 Paladins","Military Vehicles","Epic"]
[{"$f":"IF('Order Form'!A1632>0, 1,0)","v":0},0,"MH-53E Sea Dragons","Military Vehicles","Epic"]
[{"$f":"IF('Order Form'!A1633>0, 1,0)","v":0},0,"Nimitz Aircraft Carriers","Military Vehicles","Epic"]
[{"$f":"IF('Order Form'!A1634>0, 1,0)","v":0},0,"Predator Drones","Military Vehicles","Epic"]
[{"$f":"IF('Order Form'!A1635>0, 1,0)","v":0},0,"Strykers","Military Vehicles","Epic"]
[{"$f":"IF('Order Form'!A1636>0, 1,0)","v":0},0,"U-2 Planes","Military Vehicles","Epic"]
[{"$f":"IF('Order Form'!A1637>0, 1,0)","v":0},0,"UH-60 Black Hawks","Military Vehicles","Epic"]
[{"$f":"IF('Order Form'!A1638>0, 1,0)","v":0},0,"V-22 Ospreys","Military Vehicles","Epic"]
[{"$f":"IF('Order Form'!A1639>0, 1,0)","v":0},0,"Totally Disgusting Set (6)","Totally Disgusting","Epic"]
[{"$f":"IF('Order Form'!A1640>0, 1,0)","v":0},0,"Disgusting Animals","Totally Disgusting","Epic"]
[{"$f":"IF('Order Form'!A1641>0, 1,0)","v":0},0,"Disgusting Bugs","Totally Disgusting","Epic"]
[{"$f":"IF('Order Form'!A1642>0, 1,0)","v":0},0,"Disgusting Bodily Functions","Totally Disgusting","Epic"]
[{"$f":"IF('Order Form'!A1643>0, 1,0)","v":0},0,"Disgusting Foods","Totally Disgusting","Epic"]
[{"$f":"IF('Order Form'!A1644>0, 1,0)","v":0},0,"Disgusting Jobs","Totally Disgusting","Epic"]
[{"$f":"IF('Order Form'!A1645>0, 1,0)","v":0},0,"Disgusting Plants","Totally Disgusting","Epic"]
[{"$f":"IF('Order Form'!A1646>0, 1,0)","v":0},0,"Unexplained Mysteries Set (13)","Unexplained Mysteries","Epic"]
[{"$f":"IF('Order Form'!A1647>0, 1,0)","v":0},0,"Alien Abductions","Unexplained Mysteries","Epic"]
[{"$f":"IF('Order Form'!A1648>0, 1,0)","v":0},0,"Area 51","Unexplained Mysteries","Epic"]
[{"$f":"IF('Order Form'!A1649>0, 1,0)","v":0},0,"Atlantis","Unexplained Mysteries","Epic"]
[{"$f":"IF('Order Form'!A1650>0, 1,0)","v":0},0,"Bermuda Triangle, The","Unexplained Mysteries","Epic"]
[{"$f":"IF('Order Form'!A1651>0, 1,0)","v":0},0,"Bigfoot","Unexplained Mysteries","Epic"]
[{"$f":"IF('Order Form'!A1652>0, 1,0)","v":0},0,"ESP","Unexplained Mysteries","Epic"]
[{"$f":"IF('Order Form'!A1653>0, 1,0)","v":0},0,"Ghost Ships","Unexplained Mysteries","Epic"]
[{"$f":"IF('Order Form'!A1654>0, 1,0)","v":0},0,"Ghosts","Unexplained Mysteries","Epic"]
[{"$f":"IF('Order Form'!A1655>0, 1,0)","v":0},0,"Haunted Houses","Unexplained Mysteries","Epic"]
[{"$f":"IF('Order Form'!A1656>0, 1,0)","v":0},0,"Loch Ness Monster, The","Unexplained Mysteries","Epic"]
[{"$f":"IF('Order Form'!A1657>0, 1,0)","v":0},0,"Mummy's Curse, The","Unexplained Mysteries","Epic"]
[{"$f":"IF('Order Form'!A1658>0, 1,0)","v":0},0,"Stonehenge","Unexplained Mysteries","Epic"]
[{"$f":"IF('Order Form'!A1659>0, 1,0)","v":0},0,"UFOs","Unexplained Mysteries","Epic"]
[{"$f":"IF('Order Form'!A1660>0, 1,0)","v":0},0,"Wrestling Superstars Set (16)","Wrestling Superstars","Epic"]
[{"$f":"IF('Order Form'!A1661>0, 1,0)","v":0},0,"Alberto Del Rio","Wrestling Superstars","Epic"]
[{"$f":"IF('Order Form'!A1662>0, 1,0)","v":0},0,"Big Show","Wrestling Superstars","Epic"]
[{"$f":"IF('Order Form'!A1663>0, 1,0)","v":0},0,"Chris Jericho","Wrestling Superstars","Epic"]
[{"$f":"IF('Order Form'!A1664>0, 1,0)","v":0},0,"Dolph Ziggler","Wrestling Superstars","Epic"]
[{"$f":"IF('Order Form'!A1665>0, 1,0)","v":0},0,"John Cena","Wrestling Superstars","Epic"]
[{"$f":"IF('Order Form'!A1666>0, 1,0)","v":0},0,"Kane","Wrestling Superstars","Epic"]
[{"$f":"IF('Order Form'!A1667>0, 1,0)","v":0},0,"Kofi Kingston","Wrestling Superstars","Epic"]
[{"$f":"IF('Order Form'!A1668>0, 1,0)","v":0},0,"Mark Henry","Wrestling Superstars","Epic"]
[{"$f":"IF('Order Form'!A1669>0, 1,0)","v":0},0,"Miz, The","Wrestling Superstars","Epic"]
[{"$f":"IF('Order Form'!A1670>0, 1,0)","v":0},0,"Randy Orton","Wrestling Superstars","Epic"]
[{"$f":"IF('Order Form'!A1671>0, 1,0)","v":0},0,"Rey Mysterio","Wrestling Superstars","Epic"]
[{"$f":"IF('Order Form'!A1672>0, 1,0)","v":0},0,"Santino Marella","Wrestling Superstars","Epic"]
[{"$f":"IF('Order Form'!A1673>0, 1,0)","v":0},0,"Sheamus","Wrestling Superstars","Epic"]
[{"$f":"IF('Order Form'!A1674>0, 1,0)","v":0},0,"Triple H","Wrestling Superstars","Epic"]
[{"$f":"IF('Order Form'!A1675>0, 1,0)","v":0},0,"Undertaker","Wrestling Superstars","Epic"]
[{"$f":"IF('Order Form'!A1676>0, 1,0)","v":0},0,"Zack Ryder","Wrestling Superstars","Epic"]
[{"$f":"IF('Order Form'!A1677>0, 1,0)","v":0},0,"The Scariest Places on Earth Set (12)","The Scariest Places on Earth","Torque"]
[{"$f":"IF('Order Form'!A1678>0, 1,0)","v":0},0,"Alcatraz","The Scariest Places on Earth","Torque"]
[{"$f":"IF('Order Form'!A1679>0, 1,0)","v":0},0,"Bone Chapel, The","The Scariest Places on Earth","Torque"]
[{"$f":"IF('Order Form'!A1680>0, 1,0)","v":0},0,"Eastern State Penitentiary","The Scariest Places on Earth","Torque"]
[{"$f":"IF('Order Form'!A1681>0, 1,0)","v":0},0,"Edinburgh Castle","The Scariest Places on Earth","Torque"]
[{"$f":"IF('Order Form'!A1682>0, 1,0)","v":0},0,"Gettysburg","The Scariest Places on Earth","Torque"]
[{"$f":"IF('Order Form'!A1683>0, 1,0)","v":0},0,"Paris Catacombs","The Scariest Places on Earth","Torque"]
[{"$f":"IF('Order Form'!A1684>0, 1,0)","v":0},0,"RMS Queen Mary","The Scariest Places on Earth","Torque"]
[{"$f":"IF('Order Form'!A1685>0, 1,0)","v":0},0,"St. Louis Cemetery No. 1","The Scariest Places on Earth","Torque"]
[{"$f":"IF('Order Form'!A1686>0, 1,0)","v":0},0,"Stanley Hotel","The Scariest Places on Earth","Torque"]
[{"$f":"IF('Order Form'!A1687>0, 1,0)","v":0},0,"Tower of London","The Scariest Places on Earth","Torque"]
[{"$f":"IF('Order Form'!A1688>0, 1,0)","v":0},0,"Transylvania","The Scariest Places on Earth","Torque"]
[{"$f":"IF('Order Form'!A1689>0, 1,0)","v":0},0,"Winchester Mystery House","The Scariest Places on Earth","Torque"]
[{"$f":"IF('Order Form'!A1690>0, 1,0)","v":0},0,"Engineered by Nature Set (6)","Engineered by Nature","Pilot"]
[{"$f":"IF('Order Form'!A1691>0, 1,0)","v":0},0,"Animal Adaptations","Engineered by Nature","Pilot"]
[{"$f":"IF('Order Form'!A1692>0, 1,0)","v":0},0,"Animal Homes and Hangouts","Engineered by Nature","Pilot"]
[{"$f":"IF('Order Form'!A1693>0, 1,0)","v":0},0,"Animal Traps and Lairs","Engineered by Nature","Pilot"]
[{"$f":"IF('Order Form'!A1694>0, 1,0)","v":0},0,"Born Survivors","Engineered by Nature","Pilot"]
[{"$f":"IF('Order Form'!A1695>0, 1,0)","v":0},0,"Deadly Predators","Engineered by Nature","Pilot"]
[{"$f":"IF('Order Form'!A1696>0, 1,0)","v":0},0,"Killer Plants","Engineered by Nature","Pilot"]
[{"$f":"IF('Order Form'!A1697>0, 1,0)","v":0},0,"You Can Draw It! Set (14)","You Can Draw It!","Express!"]
[{"$f":"IF('Order Form'!A1698>0, 1,0)","v":0},0,"Aircraft","You Can Draw It!","Express!"]
[{"$f":"IF('Order Form'!A1699>0, 1,0)","v":0},0,"Aliens","You Can Draw It!","Express!"]
[{"$f":"IF('Order Form'!A1700>0, 1,0)","v":0},0,"Big Cats","You Can Draw It!","Express!"]
[{"$f":"IF('Order Form'!A1701>0, 1,0)","v":0},0,"Birds of Prey","You Can Draw It!","Express!"]
[{"$f":"IF('Order Form'!A1702>0, 1,0)","v":0},0,"Dinosaurs","You Can Draw It!","Express!"]
[{"$f":"IF('Order Form'!A1703>0, 1,0)","v":0},0,"Dogs","You Can Draw It!","Express!"]
[{"$f":"IF('Order Form'!A1704>0, 1,0)","v":0},0,"Fairies","You Can Draw It!","Express!"]
[{"$f":"IF('Order Form'!A1705>0, 1,0)","v":0},0,"Horses","You Can Draw It!","Express!"]
[{"$f":"IF('Order Form'!A1706>0, 1,0)","v":0},0,"Manga","You Can Draw It!","Express!"]
[{"$f":"IF('Order Form'!A1707>0, 1,0)","v":0},0,"Monsters","You Can Draw It!","Express!"]
[{"$f":"IF('Order Form'!A1708>0, 1,0)","v":0},0,"Mythical Beasts","You Can Draw It!","Express!"]
[{"$f":"IF('Order Form'!A1709>0, 1,0)","v":0},0,"Robots","You Can Draw It!","Express!"]
[{"$f":"IF('Order Form'!A1710>0, 1,0)","v":0},0,"Sharks","You Can Draw It!","Express!"]
[{"$f":"IF('Order Form'!A1711>0, 1,0)","v":0},0,"Sports Cars","You Can Draw It!","Express!"]