{"text_format":"1","workbook":"xlsx","n_sheets":2,"sheets":["Order Form","Ebook Offer"],"not_rendered":{"charts":0,"images":1,"macros":1,"external_links":1,"defined_names":4,"comments":0,"pivot_tables":0},"unopened":[],"bounds":{"document_bytes":16777216,"sheet_cells":100000,"rows_first":2000,"rows_last":500,"rows_between":2000,"halvings":0,"cell_chars":16384,"cell_head_chars":4096},"cells_cut":0,"cells_raw":0,"read":"whole","date_system":"1900"}

{"sheet":"Order Form","index":0,"n_rows":1338,"n_cols":22,"rows_kept":1338,"cut":false,"hidden":false,"merged":[[1,4,1,5]]}
[]
[null,null,null,"Indiana Rep: ","mikewhite@booklookindiana.com"]
[]
[null,"Date ",null,"Contact Phone# "]
[null,"PO# ",null,"Fax# "]
[null,"Sales Rep ","White","Email "]
[null,"Quote Preparer "]
[null,null," "]
[null,"Bill To: ","per PO","Ship To: "]
[null,"School/Library ",null,"Attn"]
[null,"Address ",null,"Address"]
[]
[]
[]
["Qty","Price","Title","Series","Imprint","ISBN-13","Discount Price","List Price","Dewey","Copyright","# in Series","# of Pages","ATOS","GRL","Lexile","Catalog Page(s)","Author"]
[null,{"$f":"A16*G16","v":0},"Animals in My Yard Set (14)","Animals in My Yard","Blastoff! Beginners",null,251.3,null,null,null,14,null,null,null,null,6,null,null,null,{"$f":"IF(A16>0,1,0)","v":0},null,{"$f":"A16*K16","v":0}]
[null,0,"Armadillos","Animals in My Yard","Blastoff! Beginners",9781644873595,17.95,25.95,599.29999999999995,2021,1,24,null,"G",250,6,"Amy McDonald",null,null,{"$f":"IF(A17>0,1,0)","v":0},null,{"$f":"A17*K17","v":0}]
[null,0,"Bats","Animals in My Yard","Blastoff! Beginners",9781644873601,17.95,25.95,599.4,2021,1,24,null,"G",270,6,"Amy McDonald",null,null,0,null,0]
[null,0,"Bears","Animals in My Yard","Blastoff! Beginners",9781644874721,17.95,25.95,599.78,2022,1,24,null,null,null,6,"Amy McDonald",null,null,0,null,0]
[null,0,"Chipmunks","Animals in My Yard","Blastoff! Beginners",9781644873069,17.95,25.95,"599.36",2021,1,24,null,"F",250,6,"Christina Leaf",null,null,0,null,0]
[null,0,"Coyotes","Animals in My Yard","Blastoff! Beginners",9781644874738,17.95,25.95,599.77,2022,1,24,null,null,null,6,"Amy McDonald",null,null,0,null,0]
[null,0,"Deer","Animals in My Yard","Blastoff! Beginners",9781644873076,17.95,25.95,"599.65",2021,1,24,null,"F",310,6,"Amy McDonald",null,null,0,null,0]
[null,0,"Foxes","Animals in My Yard","Blastoff! Beginners",9781644873083,17.95,25.95,"599.775",2021,1,24,null,"F",280,6,"Amy McDonald",null,null,0,null,0]
[null,0,"Owls","Animals in My Yard","Blastoff! Beginners",9781644874745,17.95,25.95,598.9,2022,1,24,null,null,null,6,"Amy McDonald",null,null,0,null,0]
[null,0,"Porcupines","Animals in My Yard","Blastoff! Beginners",9781644873618,17.95,25.95,599.35,2021,1,24,null,"G",260,6,"Amy McDonald",null,null,0,null,0]
[null,0,"Rabbits","Animals in My Yard","Blastoff! Beginners",9781644873090,17.95,25.95,"599.32",2021,1,24,null,"F",260,6,"Amy McDonald",null,null,0,null,0]
[null,0,"Raccoons","Animals in My Yard","Blastoff! Beginners",9781644873106,17.95,25.95,"599.76",2021,1,24,null,"G",290,6,"Amy McDonald",null,null,0,null,0]
[null,0,"Skunks","Animals in My Yard","Blastoff! Beginners",9781644874752,17.95,25.95,599.76,2022,1,24,null,null,null,6,"Amy McDonald",null,null,0,null,0]
[null,0,"Snakes","Animals in My Yard","Blastoff! Beginners",9781644873625,17.95,25.95,597.96,2021,1,24,null,"G",250,6,"Amy McDonald",null,null,0,null,0]
[null,0,"Squirrels","Animals in My Yard","Blastoff! Beginners",9781644873113,17.95,25.95,599.36,2021,1,24,null,"G",240,6,"Derek Zobel",null,null,0,null,0]
[null,0,"Too Cute! Set (6)","Too Cute!","Blastoff! Beginners",null,107.7,null,null,null,6,null,null,null,null,7,null,null,null,0,null,0]
[null,0,"Baby Bears","Too Cute!","Blastoff! Beginners",9781644874844,17.95,25.95,599.78129999999999,2022,1,24,null,null,null,7,"Christina Leaf",null,null,0,null,0]
[null,0,"Baby Cats","Too Cute!","Blastoff! Beginners",9781644874851,17.95,25.95,636.79999999999995,2022,1,24,null,null,null,7,"Christina Leaf",null,null,0,null,0]
[null,0,"Baby Dogs","Too Cute!","Blastoff! Beginners",9781644874868,17.95,25.95,636.70000000000005,2022,1,24,null,null,null,7,"Betsy Rathburn",null,null,0,null,0]
[null,0,"Baby Horses","Too Cute!","Blastoff! Beginners",9781644874875,17.95,25.95,636.1,2022,1,24,null,null,null,7,"Betsy Rathburn",null,null,0,null,0]
[null,0,"Baby Penguins","Too Cute!","Blastoff! Beginners",9781644874882,17.95,25.95,598.47130000000004,2022,1,24,null,null,null,7,"Betsy Rathburn",null,null,0,null,0]
[null,0,"Baby Rabbits","Too Cute!","Blastoff! Beginners",9781644874899,17.95,25.95,636.93200000000002,2022,1,24,null,null,null,7,"Christina Leaf",null,null,0,null,0]
[null,0,"Favorite Pets  Set (10)","Favorite Pets","Blastoff! Beginners",null,179.5,null,null,null,10,null,null,null,null,7,null,null,null,0,null,0]
[null,0,"Birds","Favorite Pets","Blastoff! Beginners",9781644873120,17.95,25.95,363.6,2021,1,24,null,"F",240,7,"Christina Leaf",null,null,0,null,0]
[null,0,"Cats","Favorite Pets","Blastoff! Beginners",9781644873137,17.95,25.95,363.8,2021,1,24,null,"F",220,7,"Christina Leaf",null,null,0,null,0]
[null,0,"Dogs","Favorite Pets","Blastoff! Beginners",9781644873144,17.95,25.95,363.7,2021,1,24,null,"F",230,7,"Christina Leaf",null,null,0,null,0]
[null,0,"Fish","Favorite Pets","Blastoff! Beginners",9781644873151,17.95,25.95,598,2021,1,24,null,"F",290,7,"Christina Leaf",null,null,0,null,0]
[null,0,"Guinea Pigs","Favorite Pets","Blastoff! Beginners",9781644873175,17.95,25.95,636.93499999999995,2021,1,24,null,"G",250,7,"Christina Leaf",null,null,0,null,0]
[null,0,"Hamsters","Favorite Pets","Blastoff! Beginners",9781644873168,17.95,25.95,636.93499999999995,2021,1,24,null,"F",220,7,"Derek Zobel",null,null,0,null,0]
[null,0,"Hermit Crabs","Favorite Pets","Blastoff! Beginners",9781644873649,17.95,25.95,639,2021,1,24,null,"F",290,7,"Christina Leaf",null,null,0,null,0]
[null,0,"Lizards","Favorite Pets","Blastoff! Beginners",9781644873632,17.95,25.95,639.29999999999995,2021,1,24,null,"F",270,7,"Derek Zobel",null,null,0,null,0]
[null,0,"Rabbits","Favorite Pets","Blastoff! Beginners",9781644873656,17.95,25.95,632,2021,1,24,null,"F",260,7,"Christina Leaf",null,null,0,null,0]
[null,0,"Turtles","Favorite Pets","Blastoff! Beginners",9781644873663,17.95,25.95,639.29999999999995,2021,1,24,null,"F",210,7,"Derek Zobel",null,null,0,null,0]
[null,0,"Oceans Animals Set (14)","Ocean Animals","Blastoff! Beginners",null,251.3,null,null,null,14,null,null,null,null,8,null,null,null,0,null,0]
[null,0,"Crabs","Ocean Animals","Blastoff! Beginners",9781644873717,17.95,25.95,595.29999999999995,2021,1,24,null,"G",270,8,"Derek Zobel",null,null,0,null,0]
[null,0,"Dolphins","Ocean Animals","Blastoff! Beginners",9781644873243,17.95,25.95,"591.77",2021,1,24,null,"F",340,8,"Christina Leaf",null,null,0,null,0]
[null,0,"Eels","Ocean Animals","Blastoff! Beginners",9781644874806,17.95,25.95,597,2022,1,24,null,null,null,8,"Betsy Rathburn",null,null,0,null,0]
[null,0,"Jellyfish","Ocean Animals","Blastoff! Beginners",9781644873250,17.95,25.95,"593.5",2021,1,24,null,"G",270,8,"Derek Zobel",null,null,0,null,0]
[null,0,"Octopuses","Ocean Animals","Blastoff! Beginners",9781644873267,17.95,25.95,"594",2021,1,24,null,"G",250,8,"Derek Zobel",null,null,0,null,0]
[null,0,"Orcas","Ocean Animals","Blastoff! Beginners",9781644874813,17.95,25.95,599.53,2022,1,24,null,null,null,8,"Betsy Rathburn",null,null,0,null,0]
[null,0,"Penguins","Ocean Animals","Blastoff! Beginners",9781644874820,17.95,25.95,598.47,2022,1,24,null,null,null,8,"Christina Leaf",null,null,0,null,0]
[null,0,"Sea Horses","Ocean Animals","Blastoff! Beginners",9781644873960,17.95,25.95,597,2021,1,24,null,"G",240,8,"Christina Leaf",null,null,0,null,0]
[null,0,"Sea Stars","Ocean Animals","Blastoff! Beginners",9781644873977,17.95,25.95,593.9,2021,1,24,null,"G",290,8,"Derek Zobel",null,null,0,null,0]
[null,0,"Sea Turtles","Ocean Animals","Blastoff! Beginners",9781644873274,17.95,25.95,"597.92",2021,1,24,null,"G",290,8,"Christina Leaf",null,null,0,null,0]
[null,0,"Sharks","Ocean Animals","Blastoff! Beginners",9781644873281,17.95,25.95,"597.3",2021,1,24,null,"F",220,8,"Christina Leaf",null,null,0,null,0]
[null,0,"Stingrays","Ocean Animals","Blastoff! Beginners",9781644873984,17.95,25.95,597.29999999999995,2021,1,24,null,"G",260,8,"Christina Leaf",null,null,0,null,0]
[null,0,"Walruses","Ocean Animals","Blastoff! Beginners",9781644874837,17.95,25.95,599.79,2022,1,24,null,null,null,8,"Christina Leaf",null,null,0,null,0]
[null,0,"Whales","Ocean Animals","Blastoff! Beginners",9781644873298,17.95,25.95,"599.5",2021,1,24,null,"G",250,8,"Christina Leaf",null,null,0,null,0]
[null,0,"Machines with Power! Set (14)","Machines with Power!","Blastoff! Beginners",null,251.3,null,null,null,14,null,null,null,null,9,null,null,null,0,null,0]
[null,0,"Airplanes","Machines with Power!","Blastoff! Beginners",9781644873182,17.95,null,629.13300000000004,2021,1,24,null,"G",290,9,"Derek Zobel",null,null,0,null,0]
[null,0,"Backhoes","Machines with Power!","Blastoff! Beginners",9781644873670,17.95,null,621.79999999999995,2021,1,24,null,"G",280,9,"Amy McDonald",null,null,0,null,0]
[null,0,"Bulldozers","Machines with Power!","Blastoff! Beginners",9781644873199,17.95,null,629.22500000000002,2021,1,24,null,"G",270,9,"Christina Leaf",null,null,0,null,0]
[null,0,"Cranes","Machines with Power!","Blastoff! Beginners",9781644873687,17.95,null,621.79999999999995,2021,1,24,null,"G",240,9,"Amy McDonald",null,null,0,null,0]
[null,0,"Dump Trucks","Machines with Power!","Blastoff! Beginners",9781644873694,17.95,null,629.22500000000002,2021,1,24,null,"G",230,9,"Amy McDonald",null,null,0,null,0]
[null,0,"Fire Trucks","Machines with Power!","Blastoff! Beginners",9781644873205,17.95,null,629.22500000000002,2021,1,24,null,"G",160,9,"Amy McDonald",null,null,0,null,0]
[null,0,"Garbage Trucks","Machines with Power!","Blastoff! Beginners",9781644874776,17.95,null,628.4,2022,1,24,null,null,null,9,"Amy McDonald",null,null,0,null,0]
[null,0,"Helicopters","Machines with Power!","Blastoff! Beginners",9781644874769,17.95,null,629.13300000000004,2022,1,24,null,null,null,9,"Amy McDonald",null,null,0,null,0]
[null,0,"Monster Trucks","Machines with Power!","Blastoff! Beginners",9781644873212,17.95,null,629.22400000000005,2021,1,24,null,"F",260,9,"Amy McDonald",null,null,0,null,0]
[null,0,"Police Cars","Machines with Power!","Blastoff! Beginners",9781644874783,17.95,null,629.2088,2022,1,24,null,null,null,9,"Amy McDonald",null,null,0,null,0]
[null,0,"Race Cars","Machines with Power!","Blastoff! Beginners",9781644874790,17.95,null,629.22799999999995,2022,1,24,null,null,null,9,"Amy McDonald",null,null,0,null,0]
[null,0,"Ships","Machines with Power!","Blastoff! Beginners",9781644873700,17.95,null,623.82000000000005,2021,1,24,null,"G",260,9,"Amy McDonald",null,null,0,null,0]
[null,0,"Tractors","Machines with Power!","Blastoff! Beginners",9781644873229,17.95,null,631.29999999999995,2021,1,24,null,"G",300,9,"Amy McDonald",null,null,0,null,0]
[null,0,"Trains","Machines with Power!","Blastoff! Beginners",9781644873236,17.95,null,625.20000000000005,2021,1,24,null,"G",290,9,"Amy McDonald",null,null,0,null,0]
[null,0,"Spotting Differences Set (16)","Spotting Differences","Blastoff! Readers",null,303.2,null,null,null,16,null,null,null,null,12,null,null,null,0,null,0]
[null,{"$f":"A80*G80","v":0},"Alligator or Crocodile?","Spotting Differences","Blastoff! Readers",9781644870303,18.95,26.95,597.98,2020,1,24,1.9,"G",430,12,"Christina Leaf",null,null,0,null,0]
[null,0,"Beaver or Muskrat?","Spotting Differences","Blastoff! Readers",9781644871973,18.95,26.95,599.37,2021,1,24,null,"I",390,12,"Kirsten Chang",null,null,{"$f":"IF(A81>0,1,0)","v":0},null,{"$f":"A81*K81","v":0}]
[null,0,"Bee or Wasp?","Spotting Differences","Blastoff! Readers",9781644870310,18.95,26.95,595.79,2020,1,24,1.5,"F",380,12,"Kirsten Chang",null,null,0,null,0]
[null,0,"Butterfly or Moth?","Spotting Differences","Blastoff! Readers",9781644870327,18.95,26.95,595.78,2020,1,24,2,"F",410,12,"Christina Leaf",null,null,0,null,0]
[null,0,"Cheetah or Leopard?","Spotting Differences","Blastoff! Readers",9781644870334,18.95,26.95,599.75,2020,1,24,1.6,"F",350,12,"Kirsten Chang",null,null,0,null,0]
[null,0,"Emu or Ostrich?","Spotting Differences","Blastoff! Readers",9781644874035,18.95,26.95,598.5,2021,1,24,null,"I",270,12,"Kirsten Chang",null,null,0,null,0]
[null,0,"Frog or Toad?","Spotting Differences","Blastoff! Readers",9781644871980,18.95,26.95,597.79999999999995,2021,1,24,null,"I",320,12,"Kirsten Chang",null,null,0,null,0]
[null,0,"Hedgehog or Porcupine?","Spotting Differences","Blastoff! Readers",9781644871997,18.95,26.95,599.33000000000004,2021,1,24,null,"I",350,12,"Christina Leaf",null,null,0,null,0]
[null,0,"Llama or Alpaca?","Spotting Differences","Blastoff! Readers",9781644870341,18.95,26.95,599.63,2020,1,24,1.9,"G",430,12,"Christina Leaf",null,null,0,null,0]
[null,0,"Moose or Elk?","Spotting Differences","Blastoff! Readers",9781644874042,18.95,26.95,599.65,2021,1,24,null,"I",380,12,"Kirsten Chang",null,null,0,null,0]
[null,0,"Octopus or Squid?","Spotting Differences","Blastoff! Readers",9781644872000,18.95,26.95,594,2021,1,24,null,"I",330,12,"Christina Leaf",null,null,0,null,0]
[null,0,"Rabbit or Hare?","Spotting Differences","Blastoff! Readers",9781644870358,18.95,26.95,599.32000000000005,2020,1,24,1.4,"F",400,12,"Christina Leaf",null,null,0,null,0]
[null,0,"Seal or Sea Lion?","Spotting Differences","Blastoff! Readers",9781644874059,18.95,26.95,599.79,2021,1,24,null,"I",340,12,"Kirsten Chang",null,null,0,null,0]
[null,0,"Swan or Goose?","Spotting Differences","Blastoff! Readers",9781644874066,18.95,26.95,598.4,2021,1,24,null,"I",390,12,"Kirsten Chang",null,null,0,null,0]
[null,0,"Turtle or Tortoise?","Spotting Differences","Blastoff! Readers",9781644870365,18.95,26.95,597.91999999999996,2020,1,24,1.5,"F",280,12,"Kirsten Chang",null,null,0,null,0]
[null,0,"Wolf or Coyote?","Spotting Differences","Blastoff! Readers",9781644870372,18.95,26.95,599.77300000000002,2020,1,24,1.7,"G",340,12,"Kirsten Chang",null,null,0,null,0]
[null,0,"Backyard Birds Set (6)","Backyard Birds","Blastoff! Readers",null,113.7,null,null,null,6,null,null,null,null,13,null,null,null,0,null,0]
[0,0,"Blue Jays","Backyard Birds","Blastoff! Readers",9781644874905,18.95,null,598.79999999999995,2022,1,24,null,null,null,13,"Elizabeth Neuenfeldt",null,null,0,null,0]
[0,0,"Cardinals","Backyard Birds","Blastoff! Readers",9781644874912,18.95,null,598.79999999999995,2022,1,24,null,null,null,13,"Elizabeth Neuenfeldt",null,null,0,null,0]
[0,0,"Chickadees","Backyard Birds","Blastoff! Readers",9781644874929,18.95,null,598.79999999999995,2022,1,24,null,null,null,13,"Elizabeth Neuenfeldt",null,null,0,null,0]
[0,0,"Goldfinches","Backyard Birds","Blastoff! Readers",9781644874936,18.95,null,598.79999999999995,2022,1,24,null,null,null,13,"Elizabeth Neuenfeldt",null,null,0,null,0]
[0,0,"Orioles","Backyard Birds","Blastoff! Readers",9781644874943,18.95,null,598.79999999999995,2022,1,24,null,null,null,13,"Elizabeth Neuenfeldt",null,null,0,null,0]
[0,0,"Robins","Backyard Birds","Blastoff! Readers",9781644874950,18.95,null,598.79999999999995,2022,1,24,null,null,null,13,"Elizabeth Neuenfeldt",null,null,0,null,0]
[null,0,"Our Government Set (6)","Our Government","Blastoff! Readers",null,113.7,null,null,null,6,null,null,null,null,13,null,null,null,0,null,0]
[null,0,"Governor","Our Government","Blastoff! Readers",9781644872017,18.95,null,352.23,2021,1,24,null,"K",430,13,"Kirsten Chang",null,null,0,null,0]
[null,0,"House of Representatives, The","Our Government","Blastoff! Readers",9781644872024,18.95,null,328.73,2021,1,24,null,"L",420,13,"Mari Schuh",null,null,0,null,0]
[null,0,"President","Our Government","Blastoff! Readers",9781644872031,18.95,null,352.23097300000001,2021,1,24,null,"L",340,13,"Kirsten Chang",null,null,0,null,0]
[null,0,"Senate, The","Our Government","Blastoff! Readers",9781644872048,18.95,null,328.73,2021,1,24,null,"L",290,13,"Mari Schuh",null,null,0,null,0]
[null,0,"Supreme Court, The","Our Government","Blastoff! Readers",9781644872055,18.95,null,347.73,2021,1,24,null,"L",350,13,"Mari Schuh",null,null,0,null,0]
[null,0,"Vice President","Our Government","Blastoff! Readers",9781644872062,18.95,null,352.23,2021,1,24,null,"L",390,13,"Kirsten Chang",null,null,0,null,0]
[null,0,"Character Education Set (10)","Character Education","Blastoff! Readers",null,189.5,null,null,null,10,null,null,null,null,14,null,null,null,0,null,0]
[null,0,"I Am a Good Citizen","Character Education","Blastoff! Readers",9781626179257,18.95,null,323.60000000000002,2019,1,24,null,"F",390,14,"Jenny Fretland VanVoorst",null,null,0,null,0]
[null,0,"I Am Generous","Character Education","Blastoff! Readers",9781644871119,18.95,null,179,2020,1,24,1.4,"I",370,14,"Kirsten Chang",null,null,0,null,0]
[null,0,"I Am Helpful","Character Education","Blastoff! Readers",9781626179264,18.95,null,179.9,2019,1,24,null,"F",420,14,"Jenny Fretland VanVoorst",null,null,0,null,0]
[null,0,"I Am Honest","Character Education","Blastoff! Readers",9781626179271,18.95,null,179.9,2019,1,24,null,"G",360,14,"Jenny Fretland VanVoorst",null,null,0,null,0]
[null,0,"I Am Humble","Character Education","Blastoff! Readers",9781644871126,18.95,null,179,2020,1,24,1.5,"I",410,14,"Kirsten Chang",null,null,0,null,0]
[null,0,"I Am Kind","Character Education","Blastoff! Readers",9781626179288,18.95,null,177.7,2019,1,24,null,"F",380,14,"Jenny Fretland VanVoorst",null,null,0,null,0]
[null,0,"I Am Resourceful","Character Education","Blastoff! Readers",9781644871133,18.95,null,179,2020,1,24,1.8,"J",390,14,"Kirsten Chang",null,null,0,null,0]
[null,0,"I Am Respectful","Character Education","Blastoff! Readers",9781626179295,18.95,null,179.9,2019,1,24,null,"G",410,14,"Jenny Fretland VanVoorst",null,null,0,null,0]
[null,0,"I Am Responsible","Character Education","Blastoff! Readers",9781626179301,18.95,null,179.9,2019,1,24,null,"F",320,14,"Jenny Fretland VanVoorst",null,null,0,null,0]
[null,0,"I Am Tolerant","Character Education","Blastoff! Readers",9781644871140,18.95,null,179,2020,1,24,1.9,"I",440,14,"Kirsten Chang",null,null,0,null,0]
[null,0,"Animal Colors Set (6)","Animal Colors","Blastoff! Readers",null,113.7,null,null,null,6,null,null,null,null,14,null,null,null,0,null,0]
[null,0,"Blue Animals","Animal Colors","Blastoff! Readers ",9781626178274,18.95,null,591,2019,null,24,1.8,"H",470,14,"Christina Leaf",null,null,0,null,0]
[null,0,"Green Animals","Animal Colors","Blastoff! Readers ",9781626178281,18.95,null,591,2019,null,24,1.7,"G",450,14,"Christina Leaf",null,null,0,null,0]
[null,0,"Orange Animals","Animal Colors","Blastoff! Readers ",9781626178298,18.95,null,591,2019,null,24,1.9,"H",410,14,"Christina Leaf",null,null,0,null,0]
[null,0,"Red Animals","Animal Colors","Blastoff! Readers ",9781626178304,18.95,null,591,2019,null,24,1.4,"G",390,14,"Christina Leaf",null,null,0,null,0]
[null,0,"White Animals","Animal Colors","Blastoff! Readers ",9781626178311,18.95,null,591,2019,null,24,1.8,"G",540,14,"Christina Leaf",null,null,0,null,0]
[null,0,"Yellow Animals","Animal Colors","Blastoff! Readers ",9781626178328,18.95,null,591,2019,null,24,1.9,"H",470,14,"Christina Leaf",null,null,0,null,0]
[null,0,"Responsible Citizenship Set (6)","Responsible Citizenship","Blastoff! Readers",null,113.7,null,null,null,6,null,null,null,null,15,null,null,null,0,null,0]
[null,0,"Caring for the Environment","Responsible Citizenship","Blastoff! Readers",9781644874967,18.95,null,333.72,2022,1,24,null,null,null,15,"Kirsten Chang",null,null,0,null,0]
[null,0,"Jury Duty","Responsible Citizenship","Blastoff! Readers",9781644874974,18.95,null,347.73,2022,1,24,null,null,null,15,"Kirsten Chang",null,null,0,null,0]
[null,0,"Military Service","Responsible Citizenship","Blastoff! Readers",9781644874981,18.95,null,355.2,2022,1,24,null,null,null,15,"Kirsten Chang",null,null,0,null,0]
[null,0,"Obeying Laws","Responsible Citizenship","Blastoff! Readers",9781644874998,18.95,null,340,2022,1,24,null,null,null,15,"Kirsten Chang",null,null,0,null,0]
[null,0,"Volunteering","Responsible Citizenship","Blastoff! Readers",9781644875001,18.95,null,302,2022,1,24,null,null,null,15,"Kirsten Chang",null,null,0,null,0]
[null,0,"Voting","Responsible Citizenship","Blastoff! Readers",9781644875018,18.95,null,324.60000000000002,2022,1,24,null,null,null,15,"Kirsten Chang",null,null,0,null,0]
[null,0,"Amazing Trains Set (6)","Amazing Trains","Blastoff! Readers",null,113.7,null,null,null,6,null,null,null,null,18,null,null,null,0,null,0]
[null,0,"City Trains","Amazing Trains","Blastoff! Readers",9781626176690,18.95,null,625.4,2018,1,24,1.6,"H",440,18,"Christina Leighton",null,null,0,null,0]
[null,0,"Freight Trains","Amazing Trains","Blastoff! Readers",9781626176706,18.95,null,625.20000000000005,2018,1,24,1.7,"H",390,18,"Christina Leighton",null,null,0,null,0]
[null,0,"High-Speed Trains","Amazing Trains","Blastoff! Readers",9781626176713,18.95,null,925.2,2018,1,24,1.7,"H",450,18,"Christina Leighton",null,null,0,null,0]
[null,0,"Monorails","Amazing Trains","Blastoff! Readers",9781626176720,18.95,null,625.4,2018,1,24,1.8,"H",450,18,"Christina Leighton",null,null,0,null,0]
[null,0,"Passenger Trains","Amazing Trains","Blastoff! Readers",9781626176737,18.95,null,625.20000000000005,2018,1,24,1.5,"H",460,18,"Christina Leighton",null,null,0,null,0]
[null,0,"Subway Trains","Amazing Trains","Blastoff! Readers",9781626176744,18.95,null,625.4,2018,1,24,1.8,"I",460,18,"Christina Leighton",null,null,0,null,0]
[null,0,"Community Helpers Set (32)","Community Helpers","Blastoff! Readers",null,606.4,null,null,null,32,null,null,null,null,"16 & 17",null,null,null,0,null,0]
[null,0,"Bakers","Community Helpers","Blastoff! Readers",9781644871058,18.95,null,641.79999999999995,2020,1,24,1.6,"J",440,"16 & 17","Rebecca Sabelko",null,null,0,null,0]
[null,{"$f":"A144*G144","v":0},"Bus Drivers","Community Helpers","Blastoff! Readers",9781626177420,18.95,null,629.28,2018,1,24,1.3,"G",440,"16 & 17","Mari Schuh",null,null,0,null,0]
[null,0,"Carpenters","Community Helpers","Blastoff! Readers",9781644871935,18.95,null,694,2021,1,24,null,"J",440,"16 & 17","Kieran Downs",null,null,{"$f":"IF(A145>0,1,0)","v":0},null,{"$f":"A145*K145","v":0}]
[null,0,"Cashiers","Community Helpers","Blastoff! Readers",9781644873991,18.95,null,651.29999999999995,2021,1,24,null,"J",380,"16 & 17","Kate Moening",null,null,0,null,0]
[null,0,"Chefs","Community Helpers","Blastoff! Readers",9781626179011,18.95,null,641.50919999999996,2019,1,24,1.6,"F","440","16 & 17","Kate Moening",null,null,0,null,0]
[null,0,"Construction Workers","Community Helpers","Blastoff! Readers",9781626177437,18.95,null,690,2018,1,24,1.8,"F",430,"16 & 17","Chris Bowman",null,null,0,null,0]
[null,0,"Counselors","Community Helpers","Blastoff! Readers",9781644874004,18.95,null,158.30000000000001,2021,1,24,null,"J",410,"16 & 17","Kate Moening",null,null,0,null,0]
[null,0,"Custodians","Community Helpers","Blastoff! Readers",9781626179028,18.95,null,648,2019,1,24,1.8,"F","460","16 & 17","Kate Moening",null,null,0,null,0]
[null,0,"Delivery Drivers","Community Helpers","Blastoff! Readers",9781644874011,18.95,null,388.4,2021,1,24,null,"J",460,"16 & 17","Kate Moening",null,null,0,null,0]
[null,0,"Dentists","Community Helpers","Blastoff! Readers",9781626177444,18.95,null,617.6,2018,1,24,1.8,"F",440,"16 & 17","Mari Schuh",null,null,0,null,0]
[null,0,"Doctors","Community Helpers","Blastoff! Readers",9781626177451,18.95,null,610.69000000000005,2018,1,24,1.9,"F",490,"16 & 17","Christina Leaf",null,null,0,null,0]
[null,0,"Electricians","Community Helpers","Blastoff! Readers",9781644871065,18.95,null,621.30229999999995,2020,1,24,1.8,"J",410,"16 & 17","Rebecca Sabelko",null,null,0,null,0]
[null,0,"EMTs","Community Helpers","Blastoff! Readers",9781644874028,18.95,null,616.02,2021,1,24,null,"J",450,"16 & 17","Kate Moening",null,null,0,null,0]
[null,0,"Farmers","Community Helpers","Blastoff! Readers",9781626178977,18.95,null,630.91999999999996,2019,1,24,1.6,"G",450,"16 & 17","Kate Moening",null,null,0,null,0]
[null,0,"Firefighters","Community Helpers","Blastoff! Readers",9781626177468,18.95,null,363.37,2018,1,24,1.6,"F",420,"16 & 17","Chris Bowman",null,null,0,null,0]
[null,0,"Flight Attendants","Community Helpers","Blastoff! Readers",9781644871072,18.95,null,387.7,2020,1,24,1.9,"J",460,"16 & 17","Rebecca Sabelko",null,null,0,null,0]
[null,0,"Garbage Collectors","Community Helpers","Blastoff! Readers",9781626178984,18.95,null,628.4,2019,1,24,2,"G",450,"16 & 17","Christina Leaf",null,null,0,null,0]
[null,0,"Hairstylists","Community Helpers","Blastoff! Readers",9781644871089,18.95,null,646.70000000000005,2020,1,24,1.9,"J",400,"16 & 17","Betsy Rathburn",null,null,0,null,0]
[null,0,"Judges","Community Helpers","Blastoff! Readers",9781644871942,18.95,null,347.73,2021,1,24,null,"J",360,"16 & 17","Kieran Downs",null,null,0,null,0]
[null,0,"Librarians","Community Helpers","Blastoff! Readers",9781626178991,18.95,null,20.92,2019,1,24,1.9,"F",470,"16 & 17","Kate Moening",null,null,0,null,0]
[null,0,"Mail Carriers","Community Helpers","Blastoff! Readers",9781626177475,18.95,null,383,2018,1,24,1.8,"F",420,"16 & 17","Christina Leaf",null,null,0,null,0]
[null,0,"Mechanics","Community Helpers","Blastoff! Readers",9781626179004,18.95,null,331.7,2019,1,24,1.7,"F",440,"16 & 17","Christina Leaf",null,null,0,null,0]
[null,0,"Nurses","Community Helpers","Blastoff! Readers",9781626177482,18.95,null,610.73,2018,1,24,1.7,"F",460,"16 & 17","Christina Leaf",null,null,0,null,0]
[null,0,"Pilots","Community Helpers","Blastoff! Readers",9781626179035,18.95,null,629.13091999999995,2019,1,24,1.7,"G","450","16 & 17","Kate Moening",null,null,0,null,0]
[null,0,"Plumbers","Community Helpers","Blastoff! Readers",9781626179042,18.95,null,696.10230000000001,2019,1,24,1.7,"F","450","16 & 17","Kate Moening",null,null,0,null,0]
[null,0,"Police Officers","Community Helpers","Blastoff! Readers",9781626177499,18.95,null,363.2,2018,1,24,1.7,"F",460,"16 & 17","Christina Leaf",null,null,0,null,0]
[null,0,"Reporters","Community Helpers","Blastoff! Readers",9781644871959,18.95,null,"070.4",2021,1,24,null,"J",400,"16 & 17","Kieran Downs",null,null,0,null,0]
[null,0,"Servers","Community Helpers","Blastoff! Readers",9781644871966,18.95,null,"642",2021,1,24,null,"J",400,"16 & 17","Kieran Downs",null,null,0,null,0]
[null,0,"Teachers","Community Helpers","Blastoff! Readers",9781626177505,18.95,null,371.1,2018,1,24,1.7,"F",460,"16 & 17","Christina Leaf",null,null,0,null,0]
[null,0,"Truck Drivers","Community Helpers","Blastoff! Readers",9781644871096,18.95,null,388.3,2020,1,24,1.5,"J",430,"16 & 17","Betsy Rathburn",null,null,0,null,0]
[null,0,"Veterinarians","Community Helpers","Blastoff! Readers",9781626177512,18.95,null,636.08909200000005,2018,1,24,"2.0","G",460,"16 & 17","Christina Leaf",null,null,0,null,0]
[null,0,"Welders","Community Helpers","Blastoff! Readers",9781644871102,18.95,null,671.5,2020,1,24,1.9,"J",420,"16 & 17","Betsy Rathburn",null,null,0,null,0]
[null,0,"Insects Up Close Set (20)","Insects Up Close","Blastoff! Readers",null,379,null,null,null,20,null,null,null,null,18,null,null,null,0,null,0]
[null,0,"Ants","Insects Up Close","Blastoff! Readers",9781626176577,18.95,null,595.79,2018,1,24,1.5,"F",450,18,"Patrick Perish",null,null,0,null,0]
[null,0,"Aphids","Insects Up Close","Blastoff! Readers",9781626176584,18.95,null,595.70000000000005,2018,1,24,2.1,"F",400,18,"Patrick Perish",null,null,0,null,0]
[null,0,"Bumblebees","Insects Up Close","Blastoff! Readers",9781626178014,18.95,null,595.79,2019,1,24,1.6,"G",450,18,"Patrick Perish",null,null,0,null,0]
[null,0,"Butterflies","Insects Up Close","Blastoff! Readers",9781626176591,18.95,null,595.78,2018,1,24,1.9,"G",430,18,"Christina Leaf",null,null,0,null,0]
[null,0,"Cicadas","Insects Up Close","Blastoff! Readers",9781626176607,18.95,null,595.70000000000005,2018,1,24,1.8,"F",420,18,"Christina Leaf",null,null,0,null,0]
[null,0,"Cockroaches","Insects Up Close","Blastoff! Readers",9781626178021,18.95,null,595.70000000000005,2019,1,24,2,"G",420,18,"Patrick Perish",null,null,0,null,0]
[null,0,"Crickets","Insects Up Close","Blastoff! Readers",9781626178038,18.95,null,595.70000000000005,2019,1,24,1.7,"G",430,18,"Patrick Perish",null,null,0,null,0]
[null,0,"Damselflies","Insects Up Close","Blastoff! Readers",9781626176614,18.95,null,595.70000000000005,2018,1,24,1.9,"G",340,18,"Christina Leaf",null,null,0,null,0]
[null,0,"Dragonflies","Insects Up Close","Blastoff! Readers",9781626176621,18.95,null,595.70000000000005,2018,1,24,1.9,"F",450,18,"Patrick Perish",null,null,0,null,0]
[null,0,"Earwigs","Insects Up Close","Blastoff! Readers",9781626176638,18.95,null,595.70000000000005,2018,1,24,1.7,"F",420,18,"Patrick Perish",null,null,0,null,0]
[null,0,"Fireflies","Insects Up Close","Blastoff! Readers",9781626176645,18.95,null,595.76,2018,1,24,1.8,"F",450,18,"Christina Leaf",null,null,0,null,0]
[null,0,"Grasshoppers","Insects Up Close","Blastoff! Readers",9781626176652,18.95,null,595.70000000000005,2018,1,24,1.8,"F",430,18,"Patrick Perish",null,null,0,null,0]
[null,0,"Honeybees","Insects Up Close","Blastoff! Readers",9781626176669,18.95,null,638,2018,1,24,1.8,"F",420,18,"Christina Leaf",null,null,0,null,0]
[null,0,"Ladybugs","Insects Up Close","Blastoff! Readers",9781626176676,18.95,null,595.76,2018,1,24,1.7,"F",450,18,"Christina Leaf",null,null,0,null,0]
[null,0,"Milkweed Bugs","Insects Up Close","Blastoff! Readers",9781626177161,18.95,null,583,2018,1,24,1.7,"G",420,18,"Patrick Perish",null,null,0,null,0]
[null,0,"Mosquitoes","Insects Up Close","Blastoff! Readers",9781626177178,18.95,null,595.77,2018,1,24,1.9,"G",450,18,"Patrick Perish",null,null,0,null,0]
[null,0,"Moths","Insects Up Close","Blastoff! Readers",9781626177185,18.95,null,595.78,2018,1,24,1.8,"F",450,18,"Patrick Perish",null,null,0,null,0]
[null,0,"Termites","Insects Up Close","Blastoff! Readers",9781626177192,18.95,null,595.70000000000005,2018,1,24,1.7,"F",410,18,"Patrick Perish",null,null,0,null,0]
[null,0,"Walkingsticks","Insects Up Close","Blastoff! Readers",9781626178045,18.95,null,595.70000000000005,2019,1,24,1.8,"G",390,18,"Patrick Perish",null,null,0,null,0]
[null,0,"Wasps","Insects Up Close","Blastoff! Readers",9781626176683,18.95,null,595.79,2018,1,24,1.6,"F",430,18,"Patrick Perish",null,null,0,null,0]
[null,0,"Symbols of American Freedom Set (12)","Symbols of American Freedom","Blastoff! Readers",null,227.4,null,null,null,12,null,null,null,null,19,null,null,null,0,null,0]
[null,0,"Bald Eagle, The","Symbols of American Freedom","Blastoff! Readers",9781626178830,18.95,null,929.9,2019,1,24,1.9,"G",430,19,"Mari Schuh",null,null,0,null,0]
[null,0,"Bill of Rights, The","Symbols of American Freedom","Blastoff! Readers",9781626179158,18.95,null,342.7303,2019,1,24,2.1,"G","420",19,"Kirsten Chang",null,null,0,null,0]
[null,0,"Liberty Bell, The","Symbols of American Freedom","Blastoff! Readers",9781626178847,18.95,null,974.8,2019,1,24,1.9,"F",440,19,"Kirsten Chang",null,null,0,null,0]
[null,0,"Lincoln Memorial, The","Symbols of American Freedom","Blastoff! Readers",9781626179165,18.95,null,975.3,2019,1,24,1.9,"G","370",19,"Kirsten Chang",null,null,0,null,0]
[null,0,"Mount Rushmore","Symbols of American Freedom","Blastoff! Readers",9781626179172,18.95,null,978.3,2019,1,24,1.9,"G","480",19,"Kirsten Chang",null,null,0,null,0]
[null,0,"Pledge of Allegiance, The","Symbols of American Freedom","Blastoff! Readers",9781626178854,18.95,null,323.60000000000002,2019,1,24,2,"F",440,19,"Kirsten Chang",null,null,0,null,0]
[null,0,"Star-Spangled Banner, The","Symbols of American Freedom","Blastoff! Readers",9781626178861,18.95,null,973.5,2019,1,24,1.9,"F",400,19,"Kirsten Chang",null,null,0,null,0]
[null,0,"Statue of Liberty, The","Symbols of American Freedom","Blastoff! Readers",9781626178878,18.95,null,974.7,2019,1,24,2,"F",400,19,"Mari Schuh",null,null,0,null,0]
[null,0,"United States Constitution, The","Symbols of American Freedom","Blastoff! Readers",9781626178885,18.95,null,973.3,2019,1,24,2.1,"G",340,19,"Mari Schuh",null,null,0,null,0]
[null,0,"United States Flag, The","Symbols of American Freedom","Blastoff! Readers",9781626178892,18.95,null,929.9,2019,1,24,1.8,"F",380,19,"Kirsten Chang",null,null,0,null,0]
[null,0,"Washington Monument, The","Symbols of American Freedom","Blastoff! Readers",9781626179189,18.95,null,975.3,2019,1,24,1.9,"G","310",19,"Kirsten Chang",null,null,0,null,0]
[null,{"$f":"A208*G208","v":0},"White House, The","Symbols of American Freedom","Blastoff! Readers",9781626178908,18.95,null,975.3,2019,1,24,1.8,"F",390,19,"Mari Schuh",null,null,0,null,0]
[null,0,"Animals on the Farm Set (8)","Animals on the Farm","Blastoff! Readers",null,151.6,null,null,null,8,null,null,null,null,19,null,null,null,{"$f":"IF(A209>0,1,0)","v":0},null,{"$f":"A209*K209","v":0}]
[null,0,"Chickens","Animals on the Farm","Blastoff! Readers",9781626177208,18.95,null,636.5,2019,1,24,1.5,"E",410,19,"Kari Schuetz",null,null,0,null,0]
[null,0,"Cows","Animals on the Farm","Blastoff! Readers",9781626177215,18.95,null,636.20000000000005,2019,1,24,1.4,"E",420,19,"Kari Schuetz",null,null,0,null,0]
[null,0,"Ducks","Animals on the Farm","Blastoff! Readers",9781626177222,18.95,null,636.5,2019,1,24,1.5,"F",400,19,"Kari Schuetz",null,null,0,null,0]
[null,0,"Goats","Animals on the Farm","Blastoff! Readers",9781626177239,18.95,null,636.29999999999995,2019,1,24,1.4,"E",460,19,"Christina Leighton",null,null,0,null,0]
[null,0,"Horses","Animals on the Farm","Blastoff! Readers",9781626177246,18.95,null,636.1,2019,1,24,1.3,"F",400,19,"Christina Leighton",null,null,0,null,0]
[null,0,"Pigs","Animals on the Farm","Blastoff! Readers",9781626177253,18.95,null,636.4,2019,1,24,1.2,"E",380,19,"Christina Leighton",null,null,0,null,0]
[null,0,"Sheep","Animals on the Farm","Blastoff! Readers",9781626177260,18.95,null,636.29999999999995,2019,1,24,1.5,"E",450,19,"Christina Leighton",null,null,0,null,0]
[null,0,"Turkeys","Animals on the Farm","Blastoff! Readers",9781626177277,18.95,null,636.5,2019,1,24,1.7,"E",450,19,"Kari Schuetz",null,null,0,null,0]
[null,0,"Super Cute! Set (39)","Super Cute!","Blastoff! Readers",null,739.05,null,null,null,39,null,null,null,null,"20 & 21",null,null,null,0,null,0]
[null,0,"Baby Bears","Super Cute!","Blastoff! Readers",9781600149221,18.95,null,599.78,2014,1,24,1.3,"G",460,"20 & 21","Kari Schuetz",null,null,0,null,0]
[null,0,"Baby Camels","Super Cute!","Blastoff! Readers",9781626173873,18.95,null,599.63,"2017",1,24,"1.5","H",330,"20 & 21","Megan Borgert-Spaniol",null,null,0,null,0]
[null,0,"Baby Cats","Super Cute!","Blastoff! Readers",9781600149238,18.95,null,636.80700000000002,2014,1,24,1.4,"F",420,"20 & 21","Bethany Olson",null,null,0,null,0]
[null,0,"Baby Cheetahs","Super Cute!","Blastoff! Readers",9781626171688,18.95,null,599.75,"2015",1,24,1.6,"G",310,"20 & 21","Christina Leaf",null,null,0,null,0]
[null,0,"Baby Chickens","Super Cute!","Blastoff! Readers",9781626173880,18.95,null,636.5,"2017",1,24,"1.4","G",220,"20 & 21","Megan Borgert-Spaniol",null,null,0,null,0]
[null,0,"Baby Cows","Super Cute!","Blastoff! Readers",9781600149245,18.95,null,636.20699999999999,2014,1,24,1.3,"G",500,"20 & 21","Kari Schuetz",null,null,0,null,0]
[null,0,"Baby Deer","Super Cute!","Blastoff! Readers",9781600149252,18.95,null,599.65,2014,1,24,1.2,"G",320,"20 & 21","Bethany Olson",null,null,0,null,0]
[null,0,"Baby Dogs","Super Cute!","Blastoff! Readers",9781600149269,18.95,null,636.70699999999999,2014,1,24,1.1000000000000001,"F",360,"20 & 21","Kari Schuetz",null,null,0,null,0]
[null,0,"Baby Ducks","Super Cute!","Blastoff! Readers",9781600149733,18.95,null,598.4,2015,1,24,1.3,"G",400,"20 & 21","Christina Leaf",null,null,0,null,0]
[null,0,"Baby Elephants","Super Cute!","Blastoff! Readers",9781626171695,18.95,null,599.67129999999997,"2015",1,24,1.4,"F",270,"20 & 21","Christina Leaf",null,null,0,null,0]
[null,0,"Baby Foxes","Super Cute!","Blastoff! Readers",9781626172159,18.95,null,599.77499999999998,"2016",1,24,1.3,"G",220,"20 & 21","Megan Borgert-Spaniol",null,null,0,null,0]
[null,0,"Baby Giraffes","Super Cute!","Blastoff! Readers",9781626172166,18.95,null,599.63800000000003,"2016",1,24,1.5,"H",290,"20 & 21","Megan Borgert-Spaniol",null,null,0,null,0]
[null,0,"Baby Goats","Super Cute!","Blastoff! Readers",9781600149276,18.95,null,636.29999999999995,2014,1,24,"1.0","G",300,"20 & 21","Kari Schuetz",null,null,0,null,0]
[null,0,"Baby Gorillas","Super Cute!","Blastoff! Readers",9781626171701,18.95,null,599.88413000000003,"2015",1,24,1.5,"G",210,"20 & 21","Christina Leaf",null,null,0,null,0]
[null,0,"Baby Hedgehogs","Super Cute!","Blastoff! Readers",9781626172173,18.95,null,599.33000000000004,"2016",1,24,1.5,"H",260,"20 & 21","Megan Borgert-Spaniol",null,null,0,null,0]
[null,0,"Baby Hippos","Super Cute!","Blastoff! Readers",9781626172180,18.95,null,599.63,"2016",1,24,1.8,"H",360,"20 & 21","Megan Borgert-Spaniol",null,null,0,null,0]
[null,0,"Baby Horses","Super Cute!","Blastoff! Readers",9781600149283,18.95,null,636.1,2014,1,24,1.1000000000000001,"G",430,"20 & 21","Bethany Olson",null,null,0,null,0]
[null,0,"Baby Kangaroos","Super Cute!","Blastoff! Readers",9781626173897,18.95,null,599.20000000000005,"2017",1,24,"1.5","H",280,"20 & 21","Megan Borgert-Spaniol",null,null,0,null,0]
[null,0,"Baby Koalas","Super Cute!","Blastoff! Readers",9781626172197,18.95,null,599.20000000000005,"2016",1,24,1.4,"G",260,"20 & 21","Megan Borgert-Spaniol",null,null,0,null,0]
[null,0,"Baby Lions","Super Cute!","Blastoff! Readers",9781600149740,18.95,null,599.75699999999995,2015,1,24,1.4,"F",420,"20 & 21","Christina Leaf",null,null,0,null,0]
[null,0,"Baby Monkeys","Super Cute!","Blastoff! Readers",9781600149290,18.95,null,599.79999999999995,2014,1,24,1.2,"F",360,"20 & 21","Kari Schuetz",null,null,0,null,0]
[null,0,"Baby Orangutans","Super Cute!","Blastoff! Readers",9781626171718,18.95,null,599.88,"2015",1,24,1.5,"G",320,"20 & 21","Christina Leaf",null,null,0,null,0]
[null,0,"Baby Owls","Super Cute!","Blastoff! Readers",9781626171725,18.95,null,598.9,"2015",1,24,1.3,"G",180,"20 & 21","Christina Leaf",null,null,0,null,0]
[null,0,"Baby Pandas","Super Cute!","Blastoff! Readers",9781600149306,18.95,null,599.78899999999999,2014,1,24,1.2,"G",330,"20 & 21","Bethany Olson",null,null,0,null,0]
[null,0,"Baby Penguins","Super Cute!","Blastoff! Readers",9781600149313,18.95,null,598.47,2014,1,24,1.2,"G",330,"20 & 21","Kari Schuetz",null,null,0,null,0]
[null,0,"Baby Pigs","Super Cute!","Blastoff! Readers",9781600149757,18.95,null,636.4,2015,1,24,1.3,"G",420,"20 & 21","Christina Leaf",null,null,0,null,0]
[null,0,"Baby Rabbits","Super Cute!","Blastoff! Readers",9781600149320,18.95,null,599.32000000000005,2014,1,24,1.4,"G",440,"20 & 21","Bethany Olson",null,null,0,null,0]
[null,0,"Baby Raccoons","Super Cute!","Blastoff! Readers","9781626175457",18.95,null,599.76,2017,1,24,1.7,"G",400,"20 & 21","Megan Borgert-Spaniol",null,null,0,null,0]
[null,0,"Baby Rhinos","Super Cute!","Blastoff! Readers","9781626175464",18.95,null,599.66,2017,1,24,1.6,"H",430,"20 & 21","Megan Borgert-Spaniol",null,null,0,null,0]
[null,0,"Baby Sea Otters","Super Cute!","Blastoff! Readers",9781600149764,18.95,null,599.76900000000001,2015,1,24,1.1000000000000001,"F",370,"20 & 21","Christina Leaf",null,null,0,null,0]
[null,0,"Baby Seals","Super Cute!","Blastoff! Readers",9781600149771,18.95,null,599.79,2015,1,24,1.2,"G",410,"20 & 21","Christina Leaf",null,null,0,null,0]
[null,0,"Baby Sheep","Super Cute!","Blastoff! Readers",9781600149788,18.95,null,636.29999999999995,2015,1,24,1.2,"F",380,"20 & 21","Christina Leaf",null,null,0,null,0]
[null,0,"Baby Skunks","Super Cute!","Blastoff! Readers","9781626175471",18.95,null,599.76,2017,1,24,1.7,"H",440,"20 & 21","Megan Borgert-Spaniol",null,null,0,null,0]
[null,0,"Baby Sloths","Super Cute!","Blastoff! Readers",9781600149337,18.95,null,599.29999999999995,2014,1,24,1.7,"G",570,"20 & 21","Kari Schuetz",null,null,0,null,0]
[null,0,"Baby Squirrels","Super Cute!","Blastoff! Readers",9781626172203,18.95,null,599.36,"2016",1,24,1.6,"G",320,"20 & 21","Megan Borgert-Spaniol",null,null,0,null,0]
[null,0,"Baby Tigers","Super Cute!","Blastoff! Readers",9781626171732,18.95,null,599.75612999999998,"2015",1,24,1.4,"G",160,"20 & 21","Christina Leaf",null,null,0,null,0]
[null,0,"Baby Turtles","Super Cute!","Blastoff! Readers",9781626173903,18.95,null,597.91999999999996,"2017",1,24,"1.6","G",310,"20 & 21","Megan Borgert-Spaniol",null,null,0,null,0]
[null,0,"Baby Wolves","Super Cute!","Blastoff! Readers",9781600149344,18.95,null,599.77300000000002,2014,1,24,1.3,"G",390,"20 & 21","Bethany Olson",null,null,0,null,0]
[null,0,"Baby Zebras","Super Cute!","Blastoff! Readers","9781626175488",18.95,null,599.66499999999996,2017,1,24,1.5,"G",380,"20 & 21","Megan Borgert-Spaniol",null,null,0,null,0]
[null,0,"Saddle Up! Set (10)","Saddle Up!","Blastoff! Readers",null,189.5,null,null,null,10,null,null,null,null,22,null,null,null,0,null,0]
[null,0,"American Paint Horses","Saddle Up!","Blastoff! Readers",9781644872314,18.95,26.95,"636.1",2021,1,24,null,"N",520,22,"Rachel Grack",null,null,0,null,0]
[null,0,"American Quarter Horses","Saddle Up!","Blastoff! Readers",9781644872321,18.95,26.95,"636.1",2021,1,24,null,"N",520,22,"Rachel Grack",null,null,0,null,0]
[null,0,"Appaloosa Horses","Saddle Up!","Blastoff! Readers",9781644872338,18.95,26.95,"636.1",2021,1,24,null,"N",500,22,"Rachel Grack",null,null,0,null,0]
[null,0,"Arabian Horses","Saddle Up!","Blastoff! Readers",9781644872345,18.95,26.95,"636.1",2021,1,24,null,"N",530,22,"Rachel Grack",null,null,0,null,0]
[null,0,"Belgian Horses","Saddle Up!","Blastoff! Readers",9781644874295,18.95,26.95,636.1,2021,1,24,null,"N",520,22,"Rachel Grack",null,null,0,null,0]
[null,0,"Clydesdale Horses","Saddle Up!","Blastoff! Readers",9781644872352,18.95,26.95,"636.1",2021,1,24,null,"N",510,22,"Rachel Grack",null,null,0,null,0]
[null,0,"Morgan Horses","Saddle Up!","Blastoff! Readers",9781644874301,18.95,26.95,636.1,2021,1,24,null,"N",520,22,"Rachel Grack",null,null,0,null,0]
[null,0,"Shetland Ponies","Saddle Up!","Blastoff! Readers",9781644874318,18.95,26.95,636.1,2021,1,24,null,"N",550,22,"Rachel Grack",null,null,0,null,0]
[null,0,"Spanish Mustangs","Saddle Up!","Blastoff! Readers",9781644874325,18.95,26.95,636.1,2021,1,24,null,"N",530,22,"Rachel Grack",null,null,0,null,0]
[null,0,"Thoroughbred Horses","Saddle Up!","Blastoff! Readers",9781644872369,17.95,26.95,"636.1",2021,1,24,null,"N",500,22,"Rachel Grack",null,null,0,null,0]
[null,0,"American Presidents Set (10)","American Presidents","Blastoff! Readers",null,189.5,null,null,null,10,null,null,null,null,23,null,null,null,0,null,0]
[null,0,"Abraham Lincoln","American Presidents","Blastoff! Readers",9781644875100,18.95,26.95,973.70920000000001,2022,1,24,null,null,null,23,"Rachel Grack",null,null,0,null,0]
[null,0,"Barack Obama","American Presidents","Blastoff! Readers",9781644875117,18.95,26.95,973.93209200000001,2022,1,24,null,null,null,23,"Rebecca Pettiford",null,null,0,null,0]
[null,{"$f":"A272*G272","v":0},"Bill Clinton","American Presidents","Blastoff! Readers",9781644875124,18.95,26.95,973.92909199999997,2022,1,24,null,null,null,23,"Rachel Grack",null,null,0,null,0]
[null,0,"Donald Trump","American Presidents","Blastoff! Readers",9781644875131,18.95,26.95,973.93309199999999,2022,1,24,null,null,null,23,"Alex Monroe",null,null,{"$f":"IF(A273>0,1,0)","v":0},null,{"$f":"A273*K273","v":0}]
[null,0,"George W. Bush","American Presidents","Blastoff! Readers",9781644875148,18.95,26.95,973.93109200000004,2022,1,24,null,null,null,23,"Rebecca Pettiford",null,null,0,null,0]
[null,0,"George Washington","American Presidents","Blastoff! Readers",9781644875155,18.95,26.95,"973.4/1092",2022,1,24,null,null,null,23,"Rebecca Pettiford",null,null,0,null,0]
[null,0,"Joe Biden","American Presidents","Blastoff! Readers",9781644875162,18.95,26.95,973.93409199999996,2022,1,24,null,null,null,23,"Alex Monroe",null,null,0,null,0]
[null,0,"John F. Kennedy","American Presidents","Blastoff! Readers",9781644875179,18.95,26.95,973.92209200000002,2022,1,24,null,null,null,23,"Rachel Grack",null,null,0,null,0]
[null,0,"Ronald Reagan","American Presidents","Blastoff! Readers",9781644875186,18.95,26.95,973.92709200000002,2022,1,24,null,null,null,23,"Rachel Grack",null,null,0,null,0]
[null,0,"Thomas Jefferson","American Presidents","Blastoff! Readers",9781644875193,18.95,26.95,"973.4/6092",2022,1,24,null,null,null,23,"Rebecca Pettiford",null,null,0,null,0]
[null,0,"Let's Play Sports Set (16)","Let's Play Sports","Blastoff! Readers",null,303.2,null,null,null,16,null,null,null,null,24,null,null,null,0,null,0]
[null,0,"Archery","Let's Play Sports","Blastoff! Readers",9781644872154,18.95,26.95,799.3,2021,1,24,2.5,"K",480,24,"Kieran Downs",null,null,0,null,0]
[null,0,"Baseball","Let's Play Sports","Blastoff! Readers",9781626179974,18.95,26.95,796.35699999999997,2020,1,24,2.2000000000000002,"K",500,24,"Thomas K. Adamson",null,null,0,null,0]
[null,0,"Basketball","Let's Play Sports","Blastoff! Readers",9781626179981,18.95,26.95,796.32299999999998,2020,1,24,2.5,"K",510,24,"Thomas K. Adamson",null,null,0,null,0]
[null,0,"Cheerleading","Let's Play Sports","Blastoff! Readers",9781600149993,18.95,26.95,791.6,2020,1,24,3,"K",500,24,"Jill Sherman",null,null,0,null,0]
[null,0,"Fishing","Let's Play Sports","Blastoff! Readers",9781644872161,18.95,26.95,639.20000000000005,2021,1,24,2.4,"K",470,24,"Kieran Downs",null,null,0,null,0]
[null,0,"Football","Let's Play Sports","Blastoff! Readers",9781626179998,18.95,26.95,796.33199999999999,2020,1,24,2.5,"K",530,24,"Thomas K. Adamson",null,null,0,null,0]
[null,0,"Gymnastics","Let's Play Sports","Blastoff! Readers",9781644870006,18.95,26.95,796.44,2020,1,24,2.9,"K",590,24,"Jill Sherman",null,null,0,null,0]
[null,0,"Hockey","Let's Play Sports","Blastoff! Readers",9781644870013,18.95,26.95,796.96199999999999,2020,1,24,2.4,"K",490,24,"Jill Sherman",null,null,0,null,0]
[null,0,"Karate","Let's Play Sports","Blastoff! Readers",9781644874257,18.95,26.95,796.81500000000005,2021,1,24,2.6,"K",470,24,"Kieran Downs",null,null,0,null,0]
[null,0,"Lacrosse","Let's Play Sports","Blastoff! Readers",9781644874264,18.95,26.95,796.36,2021,1,24,2.4,"K",470,24,"Kieran Downs",null,null,0,null,0]
[null,0,"Soccer","Let's Play Sports","Blastoff! Readers",9781644870020,18.95,26.95,796.33399999999995,2020,1,24,2.4,"K",460,24,"Thomas K. Adamson",null,null,0,null,0]
[null,0,"Softball","Let's Play Sports","Blastoff! Readers",9781644874271,18.95,26.95,796.35699999999997,2021,1,24,2.4,"K",490,24,"Kieran Downs",null,null,0,null,0]
[null,0,"Swimming","Let's Play Sports","Blastoff! Readers",9781644872178,18.95,26.95,797.2,2021,1,24,2.5,"K",500,24,"Kieran Downs",null,null,0,null,0]
[null,0,"Tennis","Let's Play Sports","Blastoff! Readers",9781644872185,18.95,26.95,796.34199999999998,2021,1,24,2.5,"K",440,24,"Kieran Downs",null,null,0,null,0]
[null,0,"Volleyball","Let's Play Sports","Blastoff! Readers",9781644874288,18.95,26.95,796.32500000000005,2021,1,24,2.6,"K",490,24,"Kieran Downs",null,null,0,null,0]
[null,0,"Wrestling","Let's Play Sports","Blastoff! Readers",9781644870037,18.95,26.95,796.81200000000001,2020,1,24,2.7,"K",470,24,"Jill Sherman",null,null,0,null,0]
[null,0,"Animal Life Cycles Set (6)","Animal Life Cycles","Blastoff! Readers",null,113.7,null,null,null,6,null,null,null,null,25,null,null,null,0,null,0]
[0,0,"Animal Life Cycles: Bee","Animal Life Cycles","Blastoff! Readers",9781644874073,18.95,null,595.79,2021,1,24,null,"M",470,25,"Rebecca Sabelko",null,null,0,null,0]
[0,0,"Animal Life Cycles: Butterfly","Animal Life Cycles","Blastoff! Readers",9781644874080,18.95,null,595.78,2021,1,24,null,"M",470,25,"Rebecca Sabelko",null,null,0,null,0]
[0,0,"Animal Life Cycles: Frog","Animal Life Cycles","Blastoff! Readers",9781644874097,18.95,null,597.79999999999995,2021,1,24,null,"M",480,25,"Elizabeth Neuenfeldt",null,null,0,null,0]
[0,0,"Animal Life Cycles: Ladybug","Animal Life Cycles","Blastoff! Readers",9781644874103,18.95,null,595.76,2021,1,24,null,"M",500,25,"Elizabeth Neuenfeldt",null,null,0,null,0]
[0,0,"Animal Life Cycles: Penguin","Animal Life Cycles","Blastoff! Readers",9781644874110,18.95,null,598.47155999999995,2021,1,24,null,"M",450,25,"Rebecca Sabelko",null,null,0,null,0]
[0,0,"Animal Life Cycles: Sea Horse","Animal Life Cycles","Blastoff! Readers",9781644874127,18.95,null,597,2021,1,24,null,"M",440,25,"Elizabeth Neuenfeldt",null,null,0,null,0]
[null,0,"Everyday Engineering Set (6)","Everyday Engineering","Blastoff! Readers",null,113.7,null,null,null,6,null,null,null,null,25,null,null,null,0,null,0]
[null,0,"Bridges","Everyday Engineering","Blastoff! Readers ",9781626178212,18.95,null,624.20000000000005,2019,1,24,2.4,"I",480,25,"Chris Bowman",null,null,0,null,0]
[null,0,"Dams","Everyday Engineering","Blastoff! Readers ",9781626178229,18.95,null,627,2019,1,24,2.5,"I",520,25,"Chris Bowman",null,null,0,null,0]
[null,0,"Highways","Everyday Engineering","Blastoff! Readers ",9781626178236,18.95,null,625.70000000000005,2019,1,24,2.2999999999999998,"H",520,25,"Chris Bowman",null,null,0,null,0]
[null,0,"Roller Coasters","Everyday Engineering","Blastoff! Readers ",9781626178243,18.95,null,791.06,2019,1,24,2.4,"I",520,25,"Chris Bowman",null,null,0,null,0]
[null,0,"Skyscrapers","Everyday Engineering","Blastoff! Readers ",9781626178250,18.95,null,720,2019,1,24,2.6,"H",520,25,"Chris Bowman",null,null,0,null,0]
[null,0,"Stadiums","Everyday Engineering","Blastoff! Readers ",9781626178267,18.95,null,725,2019,1,24,2.5,"H",480,25,"Chris Bowman",null,null,0,null,0]
[null,0,"Animals of the Desert Set (10)","Animals of the Desert","Blastoff! Readers",null,189.5,null,null,null,10,null,null,null,null,26,null,null,null,0,null,0]
[null,0,"Antelope Jackrabbits","Animals of the Desert","Blastoff! Readers",9781644872192,18.95,26.95,"599.32",2021,1,24,2.5,"L",470,26,"Patrick Perish",null,null,0,null,0]
[null,0,"Bark Scorpions","Animals of the Desert","Blastoff! Readers",9781626179196,18.95,null,591.75400000000002,2019,1,24,2.5,"J","520",26,"Patrick Perish",null,null,0,null,0]
[null,0,"Bighorn Sheep","Animals of the Desert","Blastoff! Readers",9781626179202,18.95,null,599.64970000000005,2019,1,24,2.6,"I","530",26,"Patrick Perish",null,null,0,null,0]
[null,0,"Collared Lizards","Animals of the Desert","Blastoff! Readers",9781626179219,18.95,null,597.95000000000005,2019,1,24,2.4,"J","510",26,"Patrick Perish",null,null,0,null,0]
[null,0,"Desert Tortoises","Animals of the Desert","Blastoff! Readers",9781644872208,18.95,26.95,"597.92",2021,1,24,2.6,"K",500,26,"Patrick Perish",null,null,0,null,0]
[null,0,"Fennec Foxes","Animals of the Desert","Blastoff! Readers",9781626179226,18.95,null,599.77599999999995,2019,1,24,2.5,"I","500",26,"Patrick Perish",null,null,0,null,0]
[null,0,"Roadrunners","Animals of the Desert","Blastoff! Readers",9781626179233,18.95,null,598.74,2019,1,24,2.4,"I","510",26,"Patrick Perish",null,null,0,null,0]
[null,0,"Sand Cats","Animals of the Desert","Blastoff! Readers",9781644872215,18.95,26.95,"599.75",2021,1,24,2.5,"L",510,26,"Patrick Perish",null,null,0,null,0]
[null,0,"Sidewinders","Animals of the Desert","Blastoff! Readers",9781626179240,18.95,null,597.96,2019,1,24,2.5,"J","550",26,"Patrick Perish",null,null,0,null,0]
[null,0,"Thorny Devils","Animals of the Desert","Blastoff! Readers",9781644872222,18.95,26.95,"597.95",2021,1,24,2.4,"K",450,26,"Patrick Perish",null,null,0,null,0]
[null,0,"Animals of the Arctic Set (10)","Animals of the Arctic","Blastoff! Readers",null,189.5,null,null,null,10,null,null,null,null,27,null,null,null,0,null,0]
[null,0,"Arctic Foxes","Animals of the Arctic","Blastoff! Readers",9781626179356,18.95,null,599.77639999999997,2019,1,24,2.5,"J",520,27,"Rebecca Pettiford",null,null,0,null,0]
[null,0,"Arctic Hares","Animals of the Arctic","Blastoff! Readers",9781626179400,18.95,null,590.91099999999994,2019,1,24,2.6,"I",510,27,"Rebecca Pettiford",null,null,0,null,0]
[null,0,"Arctic Wolves","Animals of the Arctic","Blastoff! Readers",9781644872116,18.95,26.95,599.77309109999999,2021,1,24,2.2999999999999998,"L",480,27,"Betsy Rathburn",null,null,0,null,0]
[null,0,"Beluga Whales","Animals of the Arctic","Blastoff! Readers",9781644872123,18.95,26.95,599.5,2021,1,24,2.2999999999999998,"L",480,27,"Betsy Rathburn",null,null,0,null,0]
[null,0,"Collared Lemmings","Animals of the Arctic","Blastoff! Readers",9781626179363,18.95,null,590.91099999999994,2019,1,24,2.5,"J",540,27,"Rebecca Pettiford",null,null,0,null,0]
[null,0,"Harp Seals","Animals of the Arctic","Blastoff! Readers",9781626179370,18.95,null,599.79290000000003,2019,1,24,2.5,"J",520,27,"Rebecca Pettiford",null,null,0,null,0]
[null,0,"Narwhals","Animals of the Arctic","Blastoff! Readers",9781644872130,18.95,26.95,599.5,2021,1,24,2.2000000000000002,"L",440,27,"Betsy Rathburn",null,null,0,null,0]
[null,0,"Polar Bears","Animals of the Arctic","Blastoff! Readers",9781626179387,18.95,null,599.78599999999994,2019,1,24,2.4,"J",490,27,"Rebecca Pettiford",null,null,0,null,0]
[null,0,"Reindeer","Animals of the Arctic","Blastoff! Readers",9781626179394,18.95,null,599.65800000000002,2019,1,24,2.5,"J",550,27,"Rebecca Pettiford",null,null,0,null,0]
[null,0,"Snowy Owls","Animals of the Arctic","Blastoff! Readers",9781644872147,18.95,26.95,598.9,2021,1,24,2.2000000000000002,"M",460,27,"Betsy Rathburn",null,null,0,null,0]
[null,0,"Animals of the Mountains Set (10)","Animals of the Mountains","Blastoff! Readers",null,189.5,null,null,null,10,null,null,null,null,28,null,null,null,0,null,0]
[0,0,"Alpine Ibex","Animals of the Mountains","Blastoff! Readers",9781644874134,18.95,null,599.64,2021,1,24,null,"L",450,28,"Kaitlyn Duling",null,null,0,null,0]
[0,0,"Bearded Vultures","Animals of the Mountains","Blastoff! Readers","9781644870129",18.95,null,598.9,2020,1,24,2.6,"I",510,28,"Lindsay Shaffer",null,null,0,null,0]
[0,{"$f":"A336*G336","v":0},"Brown Bears","Animals of the Mountains","Blastoff! Readers","9781644870136",18.95,null,599.78399999999999,2020,1,24,2.8,"I",570,28,"Lindsay Shaffer",null,null,0,null,0]
[0,0,"Mountain Goats","Animals of the Mountains","Blastoff! Readers","9781644870143",18.95,null,599.64,2020,1,24,2.6,"I",530,28,"Lindsay Shaffer",null,null,{"$f":"IF(A337>0,1,0)","v":0},null,{"$f":"A337*K337","v":0}]
[0,0,"Mountain Gorillas","Animals of the Mountains","Blastoff! Readers",9781644874141,18.95,null,599.88400000000001,2021,1,24,null,"L",490,28,"Kaitlyn Duling",null,null,0,null,0]
[0,0,"Mountain Lions","Animals of the Mountains","Blastoff! Readers","9781644870150",18.95,null,599.75,2020,1,24,2.6,"I",540,28,"Lindsay Shaffer",null,null,0,null,0]
[0,0,"Pikas","Animals of the Mountains","Blastoff! Readers","9781644870167",18.95,null,599.32000000000005,2020,1,24,2.6,"I",540,28,"Lindsay Shaffer",null,null,0,null,0]
[0,0,"Red Pandas","Animals of the Mountains","Blastoff! Readers",9781644874158,18.95,null,599.76,2021,1,24,null,"L",500,28,"Kaitlyn Duling",null,null,0,null,0]
[0,0,"Snow Leopards","Animals of the Mountains","Blastoff! Readers","9781644870174",18.95,null,599.75,2020,1,24,2.6,"I",520,28,"Lindsay Shaffer",null,null,0,null,0]
[0,0,"Wild Yaks","Animals of the Mountains","Blastoff! Readers",9781644874165,18.95,null,599.64,2021,1,24,null,"L",450,28,"Kaitlyn Duling",null,null,0,null,0]
[null,0,"Animals of the Coral Reef Set (10)","Animals of the Coral Reef","Blastoff! Readers",null,189.5,null,null,null,10,null,null,null,null,29,null,null,null,0,null,0]
[0,0,"Angelfish","Animals of the Coral Reef","Blastoff! Readers",9781644875025,18.95,null,597,2022,1,24,null,null,null,29,"Kate Moening",null,null,0,null,0]
[0,0,"Clownfish","Animals of the Coral Reef","Blastoff! Readers",9781644871317,18.95,null,597,2020,1,24,2.5,"L",480,29,"Lindsay Shaffer",null,null,0,null,0]
[0,0,"Giant Clams","Animals of the Coral Reef","Blastoff! Readers",9781644875032,18.95,null,594,2022,1,24,null,null,null,29,"Kate Moening",null,null,0,null,0]
[0,0,"Moray Eels","Animals of the Coral Reef","Blastoff! Readers",9781644871324,18.95,null,597,2020,1,24,2.5,"L",470,29,"Lindsay Shaffer",null,null,0,null,0]
[0,0,"Octopuses","Animals of the Coral Reef","Blastoff! Readers",9781644871331,18.95,null,594,2020,1,24,2.5,"L",460,29,"Lindsay Shaffer",null,null,0,null,0]
[0,0,"Parrotfish","Animals of the Coral Reef","Blastoff! Readers",9781644875049,18.95,null,597,2022,1,24,null,null,null,29,"Kate Moening",null,null,0,null,0]
[0,0,"Sea Horses","Animals of the Coral Reef","Blastoff! Readers",9781644875056,18.95,null,597,2022,1,24,null,null,null,29,"Kate Moening",null,null,0,null,0]
[0,0,"Sea Snakes","Animals of the Coral Reef","Blastoff! Readers",9781644871348,18.95,null,597.96,2020,1,24,2.4,"L",460,29,"Lindsay Shaffer",null,null,0,null,0]
[0,0,"Spiny Lobsters","Animals of the Coral Reef","Blastoff! Readers",9781644871355,18.95,null,595.29999999999995,2020,1,24,2.4,"L",440,29,"Lindsay Shaffer",null,null,0,null,0]
[0,0,"Whitetip Reef Sharks","Animals of the Coral Reef","Blastoff! Readers",9781644871362,18.95,null,597.29999999999995,2020,1,24,2.5,"L",440,29,"Lindsay Shaffer",null,null,0,null,0]
[null,0,"Animals of the Wetlands Set (10)","Animals of the Wetlands","Blastoff! Readers",null,189.5,null,null,null,10,null,null,null,null,30,null,null,null,0,null,0]
[0,0,"Alligators","Animals of the Wetlands","Blastoff! Readers","9781626179851",18.95,null,597.98,2020,1,24,2.5,"I",530,30,"Rachel Grack",null,null,0,null,0]
[0,0,"Beavers","Animals of the Wetlands","Blastoff! Readers","9781626179868",18.95,null,599.70000000000005,2020,1,24,2.2999999999999998,"I",490,30,"Rachel Grack",null,null,0,null,0]
[0,0,"Crocodiles","Animals of the Wetlands","Blastoff! Readers","9781626179875",18.95,null,597.98,2020,1,24,2.5,"I",530,30,"Rachel Grack",null,null,0,null,0]
[0,0,"Fishing Cats","Animals of the Wetlands","Blastoff! Readers",9781644874172,18.95,null,599.75,2021,1,24,null,"M",480,30,"Karen Latchana Kenney",null,null,0,null,0]
[0,0,"Flamingos","Animals of the Wetlands","Blastoff! Readers",9781644874189,18.95,null,598.29999999999995,2021,1,24,null,"L",440,30,"Karen Latchana Kenney",null,null,0,null,0]
[0,0,"Herons","Animals of the Wetlands","Blastoff! Readers","9781626179882",18.95,null,598.29999999999995,2020,1,24,2.2999999999999998,"I",470,30,"Rachel Grack",null,null,0,null,0]
[0,0,"Hippopotamuses","Animals of the Wetlands","Blastoff! Readers","9781626179899",18.95,null,599.63,2020,1,24,2.5,"I",540,30,"Rachel Grack",null,null,0,null,0]
[0,0,"Platypuses","Animals of the Wetlands","Blastoff! Readers",9781644874196,18.95,null,599.20000000000005,2021,1,24,null,"M",430,30,"Karen Latchana Kenney",null,null,0,null,0]
[0,0,"River Otters","Animals of the Wetlands","Blastoff! Readers",9781644874202,18.95,null,599.76900000000001,2021,1,24,null,"M",490,30,"Karen Latchana Kenney",null,null,0,null,0]
[0,0,"Wood Ducks","Animals of the Wetlands","Blastoff! Readers","9781626179905",18.95,null,598.4,2020,1,24,2.2999999999999998,"I",540,30,"Rachel Grack",null,null,0,null,0]
[null,0,"Animals of the Rain Forest Set (10)","Animals of the Rain Forest","Blastoff! Readers",null,189.5,null,null,null,10,null,null,null,null,31,null,null,null,0,null,0]
[null,0,"Anacondas","Animals of the Rain Forest","Blastoff! Readers",9781626179479,18.95,null,597.96699999999998,2019,1,24,2.4,"I",540,31,"Rachel Grack",null,null,0,null,0]
[null,0,"Capybaras","Animals of the Rain Forest","Blastoff! Readers",9781626179486,18.95,null,599.35900000000004,2019,1,24,2.4,"J",550,31,"Rachel Grack",null,null,0,null,0]
[null,0,"Chimpanzees","Animals of the Rain Forest","Blastoff! Readers",9781626179493,18.95,null,599.88499999999999,2019,1,24,2.2000000000000002,"I",520,31,"Rachel Grack",null,null,0,null,0]
[0,0,"Harpy Eagles","Animals of the Rain Forest","Blastoff! Readers",9781644872239,18.95,null,598.9,2021,1,24,2.4,"L",490,31,"Karen Latchana Kenney",null,null,0,null,0]
[0,0,"Howler Monkeys","Animals of the Rain Forest","Blastoff! Readers",9781644872246,18.95,null,599.79999999999995,2021,1,24,2.1,"L",470,31,"Karen Latchana Kenney",null,null,0,null,0]
[null,0,"Jaguars","Animals of the Rain Forest","Blastoff! Readers",9781626179509,18.95,null,599.755,2019,1,24,2.4,"I",540,31,"Rachel Grack",null,null,0,null,0]
[0,0,"Macaws","Animals of the Rain Forest","Blastoff! Readers",9781644872253,18.95,null,598.70000000000005,2021,1,24,2.4,"L",450,31,"Karen Latchana Kenney",null,null,0,null,0]
[null,0,"Poison Dart Frogs","Animals of the Rain Forest","Blastoff! Readers",9781626179516,18.95,null,597.87699999999995,2019,1,24,2.4,"J",520,31,"Rachel Grack",null,null,0,null,0]
[0,0,"Sloths","Animals of the Rain Forest","Blastoff! Readers",9781644872260,18.95,null,599.29999999999995,2021,1,24,2.2999999999999998,"L",430,31,"Karen Latchana Kenney",null,null,0,null,0]
[null,0,"Toucans","Animals of the Rain Forest","Blastoff! Readers",9781626179523,18.95,null,598.72,2019,1,24,2.4,"I",480,31,"Rachel Grack",null,null,0,null,0]
[null,0,"Animals of the Forest Set (10)","Animals of the Forest","Blastoff! Readers",null,189.5,null,null,null,10,null,null,null,null,32,null,null,null,0,null,0]
[0,0,"Black Bears","Animals of the Forest","Blastoff! Readers",9781644871256,18.95,null,599.78,2020,1,24,2.2000000000000002,"L",470,32,"Al Albertson",null,null,0,null,0]
[0,0,"Brown Bats","Animals of the Forest","Blastoff! Readers",9781644875063,18.95,null,599.4,2022,1,24,null,null,null,32,"Patrick Perish",null,null,0,null,0]
[0,0,"Gray Wolves","Animals of the Forest","Blastoff! Readers",9781644871263,18.95,null,599.77300000000002,2020,1,24,2.4,"L",460,32,"Al Albertson",null,null,0,null,0]
[0,0,"Great Gray Owls","Animals of the Forest","Blastoff! Readers",9781644871270,18.95,null,598.9,2020,1,24,2.2999999999999998,"L",470,32,"Al Albertson",null,null,0,null,0]
[0,0,"Lynx","Animals of the Forest","Blastoff! Readers",9781644875070,18.95,null,599.75,2022,1,24,null,null,null,32,"Patrick Perish",null,null,0,null,0]
[0,0,"Moose","Animals of the Forest","Blastoff! Readers",9781644871287,18.95,null,599.65,2020,1,24,2.4,"L",520,32,"Al Albertson",null,null,0,null,0]
[0,0,"Raccoons","Animals of the Forest","Blastoff! Readers",9781644871294,18.95,null,599.76,2020,1,24,2.2000000000000002,"L",470,32,"Al Albertson",null,null,0,null,0]
[0,0,"Red Foxes","Animals of the Forest","Blastoff! Readers",9781644875087,18.95,null,755.77499999999998,2022,1,24,null,null,null,32,"Patrick Perish",null,null,0,null,0]
[0,0,"White-tailed Deer","Animals of the Forest","Blastoff! Readers",9781644871300,18.95,null,599.65,2020,1,24,2.4,"L",500,32,"Al Albertson",null,null,0,null,0]
[0,0,"Woodpeckers","Animals of the Forest","Blastoff! Readers",9781644875094,18.95,null,598.70000000000005,2022,1,24,null,null,null,32,"Patrick Perish",null,null,0,null,0]
[null,0,"Animals of the Grasslands Set (10)","Animals of the Grasslands","Blastoff! Readers",null,189.5,null,null,null,10,null,null,null,null,33,null,null,null,0,null,0]
[0,0,"African Elephants","Animals of the Grasslands","Blastoff! Readers","9781644870549",18.95,null,599.67399999999998,2020,1,24,2.6,"I",520,33,"Kaitlyn Duling",null,null,0,null,0]
[0,0,"African Lions","Animals of the Grasslands","Blastoff! Readers","9781644870556",18.95,null,599.75699999999995,2020,1,24,2.2999999999999998,"I",480,33,"Kaitlyn Duling",null,null,0,null,0]
[0,0,"Bison","Animals of the Grasslands","Blastoff! Readers","9781644870563",18.95,null,599.64300000000003,2020,1,24,2.5,"I",480,33,"Kaitlyn Duling",null,null,0,null,0]
[0,0,"Giraffes","Animals of the Grasslands","Blastoff! Readers","9781644870570",18.95,null,599.63800000000003,2020,1,24,2.5,"I",470,33,"Kaitlyn Duling",null,null,0,null,0]
[0,0,"Hyenas","Animals of the Grasslands","Blastoff! Readers","9781644870587",18.95,null,599.74300000000005,2020,1,24,2.4,"I",520,33,"Kaitlyn Duling",null,null,0,null,0]
[0,0,"Kangaroos","Animals of the Grasslands","Blastoff! Readers",9781644872277,18.95,null,"599.2",2021,1,24,2.4,"L",520,33,"Kaitlyn Duling",null,null,0,null,0]
[0,0,"Prairie Dogs","Animals of the Grasslands","Blastoff! Readers",9781644872284,18.95,null,"599.36",2021,1,24,2.4,"L",460,33,"Kaitlyn Duling",null,null,0,null,0]
[0,0,"Pronghorn","Animals of the Grasslands","Blastoff! Readers",9781644872291,18.95,null,"599.63",2021,1,24,2.4,"L",490,33,"Kaitlyn Duling",null,null,0,null,0]
[0,0,"Rhinoceroses","Animals of the Grasslands","Blastoff! Readers",9781644872307,18.95,null,"599.66",2021,1,24,2.2999999999999998,"K",430,33,"Kaitlyn Duling",null,null,0,null,0]
[0,0,"Zebras","Animals of the Grasslands","Blastoff! Readers","9781644870594",18.95,null,599.66499999999996,2020,1,24,2.2000000000000002,"I",470,33,"Kaitlyn Duling",null,null,0,null,0]
[null,0,"Coding is Everywhere Set (6)","Coding is Everywhere","Blastoff! Readers",null,113.7,null,null,null,6,null,null,null,null,34,null,null,null,0,null,0]
[null,{"$f":"A400*G400","v":0},"Coding in Computers","Coding is Everywhere","Blastoff! Readers","9780531131251",18.95,null,5.13,2019,1,24,2.5,"K",490,34,"Elizabeth Noll",null,null,0,null,0]
[null,0,"Coding in the Internet","Coding is Everywhere","Blastoff! Readers","9780531131268",18.95,null,6.7,2019,1,24,2.6,"K",500,34,"Elizabeth Noll",null,null,{"$f":"IF(A401>0,1,0)","v":0},null,{"$f":"A401*K401","v":0}]
[null,0,"Coding in Transportation","Coding is Everywhere","Blastoff! Readers","9780531131275",18.95,null,629.04,2019,1,24,2.6,"J",530,34,"Elizabeth Noll",null,null,0,null,0]
[null,0,"Coding in Video Games","Coding is Everywhere","Blastoff! Readers","9780531131282",18.95,null,794.8,2019,1,24,2.5,"K",600,34,"Elizabeth Noll",null,null,0,null,0]
[null,0,"Coding in Your Home","Coding is Everywhere","Blastoff! Readers","9780531131299",18.95,null,643,2019,1,24,2.2999999999999998,"K",540,34,"Elizabeth Noll",null,null,0,null,0]
[null,0,"Coding in Your School","Coding is Everywhere","Blastoff! Readers","9780531131305",18.95,null,5.0999999999999996,2019,1,24,2.5,"J",510,34,"Elizabeth Noll",null,null,0,null,0]
[null,0,"Simple Machines Fun! (6)","Simple Machines Fun!","Blastoff! Readers",null,113.7,null,null,null,6,null,null,null,null,34,null,null,null,0,null,0]
[null,0,"Inclined Planes","Simple Machines Fun!","Blastoff! Readers","9781626179912",18.95,26.95,621.79999999999995,2020,1,24,2.2999999999999998,"K",520,34,"Joanne Mattern",null,null,0,null,0]
[null,0,"Levers","Simple Machines Fun!","Blastoff! Readers","9781626179929",18.95,26.95,621.79999999999995,2020,1,24,2.4,"K",470,34,"Joanne Mattern",null,null,0,null,0]
[null,0,"Pulleys","Simple Machines Fun!","Blastoff! Readers","9781626179936",18.95,26.95,621.82000000000005,2020,1,24,2.2000000000000002,"K",520,34,"Joanne Mattern",null,null,0,null,0]
[null,0,"Screws","Simple Machines Fun!","Blastoff! Readers","9781626179943",18.95,26.95,621.88199999999995,2020,1,24,2.2999999999999998,"K",510,34,"Joanne Mattern",null,null,0,null,0]
[null,0,"Wedges","Simple Machines Fun!","Blastoff! Readers","9781626179950",18.95,26.95,621.79999999999995,2020,1,24,2.2000000000000002,"K",490,34,"Joanne Mattern",null,null,0,null,0]
[null,0,"Wheels and Axles","Simple Machines Fun!","Blastoff! Readers","9781626179967",18.95,26.95,621.79999999999995,2020,1,24,2.2000000000000002,"K",490,34,"Joanne Mattern",null,null,0,null,0]
[null,0,"Beginning to End Set (10)","Beginning to End","Blastoff! Readers",null,189.5,null,null,null,10,null,null,null,null,35,null,null,null,0,null,0]
[null,0,"Acorn to Oak Tree","Beginning to End","Blastoff! Readers",9781644874219,18.95,26.95,583,2021,1,24,null,"L",540,35,"Elizabeth Neuenfeldt",null,null,0,null,0]
[null,0,"Bulb to Tulip","Beginning to End","Blastoff! Readers","9781644871379",18.95,26.95,635.9,2020,1,24,2.2000000000000002,"L",450,35,"Rachel Grack",null,null,0,null,0]
[null,0,"Cocoa Bean to Chocolate","Beginning to End","Blastoff! Readers","9781644871386",18.95,26.95,663,2020,1,24,2.5,"L",490,35,"Rachel Grack",null,null,0,null,0]
[null,0,"Cotton to T-shirt","Beginning to End","Blastoff! Readers","9781644871393",18.95,26.95,687,2020,1,24,2.7,"M",500,35,"Rachel Grack",null,null,0,null,0]
[null,0,"Grass to Milk","Beginning to End","Blastoff! Readers","9781644871409",18.95,26.95,637.1,2020,1,24,2.2999999999999998,"M",460,35,"Rachel Grack",null,null,0,null,0]
[null,0,"Milk to Ice Cream","Beginning to End","Blastoff! Readers",9781644874226,18.95,26.95,641.86,2021,1,24,null,"L",510,35,"Elizabeth Neuenfeldt",null,null,0,null,0]
[null,0,"Paper to Book","Beginning to End","Blastoff! Readers",9781644874233,18.95,26.95,"*002",2021,1,24,null,"L",500,35,"Elizabeth Neuenfeldt",null,null,0,null,0]
[null,0,"Potato to French Fry","Beginning to End","Blastoff! Readers",9781644874240,18.95,26.95,641.6,2021,1,24,null,"L",530,35,"Elizabeth Neuenfeldt",null,null,0,null,0]
[null,0,"Pumpkin Seed to Pie","Beginning to End","Blastoff! Readers","9781644871416",18.95,26.95,635,2020,1,24,2.2000000000000002,"L",490,35,"Rachel Grack",null,null,0,null,0]
[null,0,"Tree to Paper","Beginning to End","Blastoff! Readers","9781644871423",18.95,26.95,676,2020,1,24,2.4,"L",470,35,"Rachel Grack",null,null,0,null,0]
[null,0,"Seasons of the Year Set (4)","Seasons of the Year","Blastoff! Readers",null,75.8,null,null,null,4,null,null,null,null,36,null,null,null,0,null,0]
[null,0,"Fall","Seasons of the Year","Blastoff! Readers",9781626177604,18.95,null,508.2,2018,1,24,2.2000000000000002,"I",560,36,"Rebecca Pettiford",null,null,0,null,0]
[null,0,"Spring","Seasons of the Year","Blastoff! Readers",9781626177611,18.95,null,508.2,2018,1,24,2.1,"J",550,36,"Rebecca Pettiford",null,null,0,null,0]
[null,0,"Summer","Seasons of the Year","Blastoff! Readers",9781626177628,18.95,null,508.2,2018,1,24,2.2000000000000002,"I",550,36,"Rebecca Pettiford",null,null,0,null,0]
[null,0,"Winter","Seasons of the Year","Blastoff! Readers",9781626177635,18.95,null,508.2,2018,1,24,2.2000000000000002,"I",550,36,"Rebecca Pettiford",null,null,0,null,0]
[null,0,"Understanding Weather Set (6)","Understanding Weather","Blastoff! Readers",null,113.7,null,null,null,6,null,null,null,null,36,null,null,null,0,null,0]
[null,0,"Cloud Cover","Understanding Weather","Blastoff! Readers",9781626172500,18.95,null,551.57000000000005,2016,1,24,2.2999999999999998,"K",420,36,"Kristin Schuetz",null,null,0,null,0]
[null,0,"Forecasts","Understanding Weather","Blastoff! Readers",9781626172517,18.95,null,551.63,2016,1,24,2.4,"K",400,36,"Kristin Schuetz",null,null,0,null,0]
[null,0,"Humidity","Understanding Weather","Blastoff! Readers",9781626172524,18.95,null,551.57000000000005,2016,1,24,2.5,"L",470,36,"Kristin Schuetz",null,null,0,null,0]
[null,0,"Precipitation","Understanding Weather","Blastoff! Readers",9781626172531,18.95,null,551.57000000000005,2016,1,24,2.4,"K",540,36,"Kristin Schuetz",null,null,0,null,0]
[null,0,"Severe Weather","Understanding Weather","Blastoff! Readers",9781626172548,18.95,null,551.54999999999995,2016,1,24,2.2000000000000002,"K",480,36,"Kristin Schuetz",null,null,0,null,0]
[null,0,"Temperature","Understanding Weather","Blastoff! Readers",9781626172555,18.95,null,551.5,2016,1,24,2.5,"L",540,36,"Kristin Schuetz",null,null,0,null,0]
[null,0,"Cool Cats Set (26)","Cool Cats","Blastoff! Readers",null,492.7,null,null,null,26,null,null,null,null,37,null,null,null,0,null,0]
[null,0,"Abyssinians","Cool Cats","Blastoff! Readers",9781626172296,18.95,null,636.79999999999995,2016,1,24,2.4,"K",280,37,"Rebecca Felix",null,null,0,null,0]
[null,0,"American Curls","Cool Cats","Blastoff! Readers",9781626176256,18.95,null,636.79999999999995,2018,1,24,2.4,"K",420,37,"Christina Leaf",null,null,0,null,0]
[null,0,"American Shorthairs","Cool Cats","Blastoff! Readers",9781626172302,18.95,null,636.79999999999995,2016,1,24,2.1,"K",340,37,"Christina Leaf",null,null,0,null,0]
[null,0,"Balinese","Cool Cats","Blastoff! Readers",9781626176263,18.95,null,636.79999999999995,2018,1,24,2.2999999999999998,"J",490,37,"Rebecca Felix",null,null,0,null,0]
[null,0,"Birmans","Cool Cats","Blastoff! Readers",9781626172319,18.95,null,636.79999999999995,2016,1,24,2.2000000000000002,"K",360,37,"Rebecca Felix",null,null,0,null,0]
[null,0,"British Shorthairs","Cool Cats","Blastoff! Readers",9781626173958,18.95,null,636.79999999999995,2017,1,24,2.1,"K",360,37,"Rebecca Felix",null,null,0,null,0]
[null,0,"Burmese","Cool Cats","Blastoff! Readers",9781626175617,18.95,null,636.79999999999995,2017,1,24,2.2999999999999998,"K",450,37,"Rebecca Felix",null,null,0,null,0]
[null,0,"Cornish Rexes","Cool Cats","Blastoff! Readers",9781626173965,18.95,null,636.79999999999995,2017,1,24,2.4,"K",490,37,"Rebecca Felix",null,null,0,null,0]
[null,0,"Devon Rexes","Cool Cats","Blastoff! Readers",9781626173095,18.95,null,636.79999999999995,2016,1,24,2.4,"J",500,37,"Christina Leaf",null,null,0,null,0]
[null,0,"Egyptian Maus","Cool Cats","Blastoff! Readers",9781626173101,18.95,null,636.79999999999995,2016,1,24,2.2999999999999998,"J",550,37,"Domini Brown",null,null,0,null,0]
[null,0,"Exotics","Cool Cats","Blastoff! Readers",9781626173118,18.95,null,636.79999999999995,2016,1,24,2.4,"J",530,37,"Domini Brown",null,null,0,null,0]
[null,0,"Japanese Bobtails","Cool Cats","Blastoff! Readers",9781626175624,18.95,null,636.79999999999995,2017,1,24,2.4,"J",430,37,"Christina Leaf",null,null,0,null,0]
[null,0,"Maine Coons","Cool Cats","Blastoff! Readers",9781626172326,18.95,null,636.79999999999995,2016,1,24,2.6,"I",460,37,"Domini Brown",null,null,0,null,0]
[null,0,"Manx","Cool Cats","Blastoff! Readers",9781626173125,18.95,null,636.79999999999995,2016,1,24,2.5,"J",550,37,"Christina Leaf",null,null,0,null,0]
[null,0,"Norwegian Forest Cats","Cool Cats","Blastoff! Readers",9781626173972,18.95,null,636.79999999999995,2017,1,24,2.2999999999999998,"J",400,37,"Christina Leighton",null,null,0,null,0]
[null,0,"Ocicats","Cool Cats","Blastoff! Readers",9781626175631,18.95,null,636.79999999999995,2017,1,24,2,"J",290,37,"Christina Leighton",null,null,0,null,0]
[null,0,"Orientals","Cool Cats","Blastoff! Readers",9781626173132,18.95,null,636.79999999999995,2016,1,24,2.4,"J",400,37,"Domini Brown",null,null,0,null,0]
[null,0,"Persians","Cool Cats","Blastoff! Readers",9781626172333,18.95,null,636.79999999999995,2016,1,24,2.4,"J",540,37,"Domini Brown",null,null,0,null,0]
[null,0,"RagaMuffins","Cool Cats","Blastoff! Readers",9781626176270,18.95,null,636.79999999999995,2018,1,24,2.2999999999999998,"J",510,37,"Betsy Rathburn",null,null,0,null,0]
[null,0,"Ragdolls","Cool Cats","Blastoff! Readers",9781626172340,18.95,null,636.79999999999995,2016,1,24,2.2999999999999998,"J",510,37,"Betsy Rathburn",null,null,0,null,0]
[null,0,"Russian Blues","Cool Cats","Blastoff! Readers",9781626173989,18.95,null,636.79999999999995,2017,1,24,2.1,"J",490,37,"Betsy Rathburn",null,null,0,null,0]
[null,0,"Scottish Folds","Cool Cats","Blastoff! Readers",9781626173149,18.95,null,636.79999999999995,2016,1,24,2.2000000000000002,"J",490,37,"Betsy Rathburn",null,null,0,null,0]
[null,0,"Selkirk Rexes","Cool Cats","Blastoff! Readers",9781626175648,18.95,null,636.79999999999995,2017,1,24,2.2999999999999998,"J",520,37,"Betsy Rathburn",null,null,0,null,0]
[null,0,"Siamese","Cool Cats","Blastoff! Readers",9781626172357,18.95,null,636.79999999999995,2016,1,24,2.2000000000000002,"J",480,37,"Betsy Rathburn",null,null,0,null,0]
[null,0,"Siberians","Cool Cats","Blastoff! Readers",9781626176287,18.95,null,636.79999999999995,2018,1,24,2.5,"J",480,37,"Betsy Rathburn",null,null,0,null,0]
[null,0,"Sphynx","Cool Cats","Blastoff! Readers",9781626172364,18.95,null,636.79999999999995,2016,1,24,2.4,"J",500,37,"Betsy Rathburn",null,null,0,null,0]
[null,0,"Women Leading the Way Set (22)","Women Leading the Way","Blastoff! Readers",null,416.9,null,null,null,22,null,null,null,null,"38 & 39",null,null,null,0,null,0]
[null,{"$f":"A464*G464","v":0},"Angela Merkel: Chancellor of Germany","Women Leading the Way","Blastoff! Readers","9781644870983",18.95,26.95,943.08799999999997,2020,1,24,2.5,"L",510,"38 & 39","Kate Moening",null,null,0,null,0]
[null,0,"Ann Bancroft: Explorer","Women Leading the Way","Blastoff! Readers",9781644871195,18.95,26.95,910.91629999999998,2020,1,24,2.5,"M",510,"38 & 39","Kate Moening",null,null,{"$f":"IF(A465>0,1,0)","v":0},null,{"$f":"A465*K465","v":0}]
[null,0,"Ava DuVernay: Movie Director","Women Leading the Way","Blastoff! Readers",9781644872079,18.95,26.95,"791.4302",2021,1,24,null,"M",480,"38 & 39","Kate Moening",null,null,0,null,0]
[null,0,"Carla Hayden: Librarian of Congress","Women Leading the Way","Blastoff! Readers",9781644872086,18.95,26.95,"027.573092",2021,1,24,null,"M",490,"38 & 39","Kate Moening",null,null,0,null,0]
[null,0,"Dolly Parton: Country Music Star","Women Leading the Way","Blastoff! Readers",9781644872093,18.95,26.95,"782.4216421",2021,1,24,null,"L",540,"38 & 39","Kate Moening",null,null,0,null,0]
[null,0,"Dolores Huerta: Labor Activist","Women Leading the Way","Blastoff! Readers","9781644870990",18.95,26.95,331.4,2020,1,24,2.5,"K",560,"38 & 39","Kate Moening",null,null,0,null,0]
[null,0,"Emma Watson: Women's Rights Activist","Women Leading the Way","Blastoff! Readers",9781644871201,18.95,26.95,791.43020000000001,2020,1,24,2.2999999999999998,"M",510,"38 & 39","Kate Moening",null,null,0,null,0]
[null,0,"Indra Nooyi: CEO of PepsiCo","Women Leading the Way","Blastoff! Readers",9781626179417,18.95,null,338.7,2019,1,24,2.2000000000000002,"K","530","38 & 39","Paige V. Polinsky",null,null,0,null,0]
[null,0,"Kathleen Kennedy: Movie Producer","Women Leading the Way","Blastoff! Readers","9781644871003",18.95,26.95,791.43020000000001,2020,1,24,2.7,"K",620,"38 & 39","Kate Moening",null,null,0,null,0]
[null,0,"Malala Yousafzai: Education Activist","Women Leading the Way","Blastoff! Readers","9781644871010",18.95,26.95,370.8209549,2020,1,24,2.2000000000000002,"K",530,"38 & 39","Kate Moening",null,null,0,null,0]
[null,0,"Maria Tallchief: Prima Ballerina","Women Leading the Way","Blastoff! Readers",9781644872109,18.95,26.95,"792.8092",2021,1,24,null,"M",490,"38 & 39","Kate Moening",null,null,0,null,0]
[null,0,"Melinda Gates: Philanthropist","Women Leading the Way","Blastoff! Readers",9781644871218,18.95,26.95,361.7,2020,1,24,2.2999999999999998,"M",510,"38 & 39","Kate Moening",null,null,0,null,0]
[null,0,"Michelle Howard: Four-star Admiral","Women Leading the Way","Blastoff! Readers",9781644871225,18.95,26.95,359.00920000000002,2020,1,24,2.5,"M",580,"38 & 39","Kate Moening",null,null,0,null,0]
[null,0,"Michelle Obama: Health Advocate","Women Leading the Way","Blastoff! Readers",9781626179424,18.95,null,973.93209200000001,2019,1,24,2.4,"K","470","38 & 39","Christina Leaf",null,null,0,null,0]
[null,0,"Rachel Carson: Environmentalist","Women Leading the Way","Blastoff! Readers",9781626179431,18.95,null,570.91999999999996,2019,1,24,2.6,"K","490","38 & 39","Christina Leaf",null,null,0,null,0]
[null,0,"Sara Seager: Planetary Scientist","Women Leading the Way","Blastoff! Readers",9781626179448,18.95,null,523.40920000000006,2019,1,24,2.2000000000000002,"K","470","38 & 39","Paige V. Polinsky",null,null,0,null,0]
[null,0,"Serena Williams: Tennis Star","Women Leading the Way","Blastoff! Readers","9781644871027",18.95,26.95,796.34199999999998,2020,1,24,2.5,"K",580,"38 & 39","Kate Moening",null,null,0,null,0]
[null,0,"Simone Biles: Olympic Gymnast","Women Leading the Way","Blastoff! Readers",9781644871232,18.95,26.95,796.44092000000001,2020,1,24,2.5,"L",570,"38 & 39","Kate Moening",null,null,0,null,0]
[null,0,"Sonia Sotomayor: Supreme Court Justice","Women Leading the Way","Blastoff! Readers",9781626179455,18.95,null,347.73263400000002,2019,1,24,2.4,"K","470","38 & 39","Paige V. Polinsky",null,null,0,null,0]
[null,0,"Susan Wojcicki: CEO of YouTube","Women Leading the Way","Blastoff! Readers","9781644871034",18.95,26.95,384.3,2020,1,24,2.6,"L",620,"38 & 39","Kate Moening",null,null,0,null,0]
[null,0,"Vera Wang: Fashion Designer","Women Leading the Way","Blastoff! Readers",9781644871249,18.95,26.95,746.9,2020,1,24,2.4,"L",540,"38 & 39","Kate Moening",null,null,0,null,0]
[null,0,"Zaha Hadid: Architect","Women Leading the Way","Blastoff! Readers",9781626179462,18.95,null,720.92,2019,1,24,2.6,"K","580","38 & 39","Christina Leaf",null,null,0,null,0]
[null,0,"Celebrating Holidays Set (24)","Celebrating Holidays","Blastoff! Readers",null,454.8,null,null,null,24,null,null,null,null,"40 & 41",null,null,null,0,null,0]
[null,0,"Chinese New Year","Celebrating Holidays","Blastoff! Readers","9781626175914",18.95,null,394.26100000000002,2017,1,24,2.2999999999999998,"K",620,"40 & 41","Rachel Grack",null,null,0,null,0]
[null,0,"Christmas","Celebrating Holidays","Blastoff! Readers","9781626175921",18.95,null,263.91500000000002,2017,1,24,2.4,"L",580,"40 & 41","Rachel Grack",null,null,0,null,0]
[null,0,"Diwali","Celebrating Holidays","Blastoff! Readers","9781626175938",18.95,null,263.93,2017,1,24,2.4,"L",620,"40 & 41","Rachel Grack",null,null,0,null,0]
[null,0,"Easter","Celebrating Holidays","Blastoff! Readers","9781626175945",18.95,null,294.5,2017,1,24,2.4,"L",560,"40 & 41","Rachel Grack",null,null,0,null,0]
[null,0,"Hanukkah","Celebrating Holidays","Blastoff! Readers",9781626175952,18.95,null,296.39999999999998,2017,1,24,2.5,"K",540,"40 & 41","Rachel Grack",null,null,0,null,0]
[null,0,"Kwanzaa","Celebrating Holidays","Blastoff! Readers","9781626175969",18.95,null,394.26119999999997,2017,1,24,2.5,"K",590,"40 & 41","Rachel Grack",null,null,0,null,0]
[null,0,"Ramadan","Celebrating Holidays","Blastoff! Readers","9781626175976",18.95,null,297.3,2017,1,24,2.8,"K",600,"40 & 41","Rachel Grack",null,null,0,null,0]
[null,0,"Thanksgiving","Celebrating Holidays","Blastoff! Readers","9781626175983",18.95,null,394.26490000000001,2017,1,24,2.6,"K",560,"40 & 41","Rachel Grack",null,null,0,null,0]
[null,0,"Cinco de Mayo","Celebrating Holidays","Blastoff! Readers",9781626176171,18.95,null,394.262,2018,1,24,2.6,"K",600,"40 & 41","Rachel Grack",null,null,0,null,0]
[null,0,"Day of the Dead","Celebrating Holidays","Blastoff! Readers",9781626176188,18.95,null,394.26600000000002,2018,1,24,2.4,"K",590,"40 & 41","Rachel Grack",null,null,0,null,0]
[null,0,"Earth Day","Celebrating Holidays","Blastoff! Readers",9781626176195,18.95,null,394.262,2018,1,24,2.4,"K",570,"40 & 41","Rachel Grack",null,null,0,null,0]
[null,0,"Groundhog Day","Celebrating Holidays","Blastoff! Readers",9781626176201,18.95,null,394.26100000000002,2018,1,24,2.4,"K",540,"40 & 41","Rachel Grack",null,null,0,null,0]
[null,0,"Halloween","Celebrating Holidays","Blastoff! Readers",9781626176218,18.95,null,394.26459999999997,2018,1,24,2.4,"K",540,"40 & 41","Rachel Grack",null,null,0,null,0]
[null,0,"Independence Day","Celebrating Holidays","Blastoff! Readers",9781626176225,18.95,null,394.26339999999999,2018,1,24,2.5,"K",550,"40 & 41","Rachel Grack",null,null,0,null,0]
[null,0,"Saint Patrick's Day","Celebrating Holidays","Blastoff! Readers",9781626176232,18.95,null,394.262,2018,1,24,2.5,"K",580,"40 & 41","Rachel Grack",null,null,0,null,0]
[null,0,"Veterans Day","Celebrating Holidays","Blastoff! Readers",9781626176249,18.95,null,394.26400000000001,2018,1,24,2.5,"K",560,"40 & 41","Rachel Grack",null,null,0,null,0]
[null,0,"Martin Luther King, Jr. Day","Celebrating Holidays","Blastoff! Readers",9781626177529,18.95,null,394.26100000000002,2018,1,24,2.4,"L",620,"40 & 41","Rachel Grack",null,null,0,null,0]
[null,0,"Memorial Day","Celebrating Holidays","Blastoff! Readers",9781626177536,18.95,null,394.262,2018,1,24,2.5,"K",600,"40 & 41","Rachel Grack",null,null,0,null,0]
[null,0,"Presidents' Day","Celebrating Holidays","Blastoff! Readers",9781626177543,18.95,null,394.26100000000002,2018,1,24,2.5,"K",520,"40 & 41","Rachel Grack",null,null,0,null,0]
[null,0,"Valentine's Day","Celebrating Holidays","Blastoff! Readers",9781626177550,18.95,null,394.26179999999999,2018,1,24,2.2999999999999998,"K",550,"40 & 41","Rachel Grack",null,null,0,null,0]
[null,0,"Holi","Celebrating Holidays","Blastoff! Readers",9781626177871,18.95,null,294.5,2019,1,24,2.4,"J",550,"40 & 41","Rachel Grack",null,null,0,null,0]
[null,0,"Juneteenth","Celebrating Holidays","Blastoff! Readers",9781626177888,18.95,null,394.26299999999998,2019,1,24,2.4,"K",480,"40 & 41","Rachel Grack",null,null,0,null,0]
[null,0,"Labor Day","Celebrating Holidays","Blastoff! Readers",9781626177895,18.95,null,394.26400000000001,2019,1,24,2.2999999999999998,"J",540,"40 & 41","Rachel Grack",null,null,0,null,0]
[null,0,"Passover","Celebrating Holidays","Blastoff! Readers",9781626177901,18.95,null,296.39999999999998,2019,1,24,2.7,"K",490,"40 & 41","Rachel Grack",null,null,0,null,0]
[null,0,"Mighty Machines in Action Set (22)","Mighty Machines in Action","Blastoff! Readers",null,416.9,null,null,null,22,null,null,null,null,"42 & 43",null,null,null,0,null,0]
[null,0,"Airplanes","Mighty Machines in Action","Blastoff! Readers","9781626175990",18.95,null,629.13300000000004,2017,1,24,2,"I",520,"42 & 43","Thomas K. Adamson",null,null,0,null,0]
[null,0,"Backhoes","Mighty Machines in Action","Blastoff! Readers","9781626176003",18.95,null,629.22500000000002,2017,1,24,2,"H",470,"42 & 43","Chris Bowman",null,null,0,null,0]
[null,0,"Bulldozers","Mighty Machines in Action","Blastoff! Readers","9781626176010",18.95,null,629.22500000000002,2017,1,24,2.2000000000000002,"H",480,"42 & 43","Chris Bowman",null,null,0,null,0]
[null,0,"Cranes","Mighty Machines in Action","Blastoff! Readers","9781626176027",18.95,null,621.79999999999995,2017,1,24,2.2999999999999998,"H",470,"42 & 43","Chris Bowman",null,null,0,null,0]
[null,0,"Dump Trucks","Mighty Machines in Action","Blastoff! Readers","9781626176034",18.95,null,629.22500000000002,2017,1,24,2.1,"H",500,"42 & 43","Emily Rose Oachs",null,null,0,null,0]
[null,0,"Fire Trucks","Mighty Machines in Action","Blastoff! Readers","9781626176041",18.95,null,629.22500000000002,2017,1,24,2,"G",460,"42 & 43","Chris Bowman",null,null,0,null,0]
[null,0,"Garbage Trucks","Mighty Machines in Action","Blastoff! Readers","9781626176058",18.95,null,628.4,2017,1,24,2.2999999999999998,"H",460,"42 & 43","Thomas K. Adamson",null,null,0,null,0]
[null,0,"Monster Trucks","Mighty Machines in Action","Blastoff! Readers","9781626176065",18.95,null,629.22400000000005,2017,1,24,2,"H",490,"42 & 43","Chris Bowman",null,null,0,null,0]
[null,0,"Police Cars","Mighty Machines in Action","Blastoff! Readers","9781626176072",18.95,null,363.2,2017,1,24,2.1,"G",520,"42 & 43","Emily Rose Oachs",null,null,0,null,0]
[null,0,"Ships","Mighty Machines in Action","Blastoff! Readers","9781626176089",18.95,null,623.82000000000005,2017,1,24,2.2000000000000002,"H",470,"42 & 43","Thomas K. Adamson",null,null,0,null,0]
[null,0,"Tractors","Mighty Machines in Action","Blastoff! Readers","9781626176096",18.95,null,631.29999999999995,2017,1,24,2.2999999999999998,"H",520,"42 & 43","Emily Rose Oachs",null,null,0,null,0]
[null,0,"Trains","Mighty Machines in Action","Blastoff! Readers","9781626176102",18.95,null,625.1,2017,1,24,1.9,"G",480,"42 & 43","Chris Bowman",null,null,0,null,0]
[null,0,"Big Rigs","Mighty Machines in Action","Blastoff! Readers",9781626176294,18.95,null,629.22400000000005,2018,1,24,2.2999999999999998,"H",530,"42 & 43","Rebecca Pettiford",null,null,0,null,0]
[null,0,"Concrete Mixers","Mighty Machines in Action","Blastoff! Readers",9781626176300,18.95,null,624.1,2018,1,24,2.5,"H",470,"42 & 43","Rebecca Pettiford",null,null,0,null,0]
[null,0,"Earth Movers","Mighty Machines in Action","Blastoff! Readers",9781626176317,18.95,null,629.22500000000002,2018,1,24,2.2999999999999998,"G",440,"42 & 43","Rebecca Pettiford",null,null,0,null,0]
[null,0,"Helicopters","Mighty Machines in Action","Blastoff! Readers",9781626176324,18.95,null,629.13300000000004,2018,1,24,2.5,"H",520,"42 & 43","Rebecca Pettiford",null,null,0,null,0]
[null,{"$f":"A528*G528","v":0},"Snowplows","Mighty Machines in Action","Blastoff! Readers",9781626176331,18.95,null,625.70000000000005,2018,1,24,2.2000000000000002,"H",470,"42 & 43","Rebecca Pettiford",null,null,0,null,0]
[null,0,"Zamboni Ice Resurfacers","Mighty Machines in Action","Blastoff! Readers",9781626176348,18.95,null,796.91027999999994,2018,1,24,2.7,"H",560,"42 & 43","Rebecca Pettiford",null,null,{"$f":"IF(A529>0,1,0)","v":0},null,{"$f":"A529*K529","v":0}]
[null,0,"Ambulances","Mighty Machines in Action","Blastoff! Readers",9781626177567,18.95,null,629.22199999999998,2018,1,24,2.4,"H",540,"42 & 43","Chris Bowman",null,null,0,null,0]
[null,0,"Motorcycles","Mighty Machines in Action","Blastoff! Readers",9781626177581,18.95,null,629.22699999999998,2018,1,24,2.4,"H",540,"42 & 43","Chris Bowman",null,null,0,null,0]
[null,0,"Pickup Trucks","Mighty Machines in Action","Blastoff! Readers",9781626177574,18.95,null,629.22299999999996,2018,1,24,2.5,"H",520,"42 & 43","Chris Bowman",null,null,0,null,0]
[null,0,"Race Cars","Mighty Machines in Action","Blastoff! Readers",9781626177598,18.95,null,629.22799999999995,2018,1,24,2.2999999999999998,"H",490,"42 & 43","Chris Bowman",null,null,0,null,0]
[null,0,"Awesome Dogs Set (48 titles)","Awesome Dogs","Blastoff! Readers",null,909.6,null,null,null,48,null,null,null,null,"44 & 45",null,null,null,0,null,0]
[null,0,"Akitas","Awesome Dogs","Blastoff! Readers","9781644870044",18.95,26.95,636.73,2020,1,24,2.1,"L",480,"44 & 45","Chris Bowman",null,null,0,null,0]
[null,0,"Alaskan Malamutes","Awesome Dogs","Blastoff! Readers",9781626177918,18.95,null,636.73,2019,1,24,2.2000000000000002,"I",530,"44 & 45","Paige V. Polinsky",null,null,0,null,0]
[null,0,"Australian Cattle Dogs","Awesome Dogs","Blastoff! Readers",9781626179059,18.95,null,636.73699999999997,2019,1,24,2.4,"I","630","44 & 45","Lindsay Shaffer",null,null,0,null,0]
[null,0,"Australian Shepherds","Awesome Dogs","Blastoff! Readers",9781626173910,18.95,null,636.73699999999997,"2017",1,24,"2.3","I",370,"44 & 45","Domini Brown",null,null,0,null,0]
[null,0,"Basset Hounds","Awesome Dogs","Blastoff! Readers",9781626177383,18.95,null,636.75300000000004,2018,1,24,2.2000000000000002,"I",480,"44 & 45","Paige V. Polinsky",null,null,0,null,0]
[null,0,"Beagles","Awesome Dogs","Blastoff! Readers",9781626172371,18.95,null,636.75300000000004,"2016",1,24,2.5,"J",550,"44 & 45","Mari Schuh",null,null,0,null,0]
[null,0,"Bernese Mountain Dogs","Awesome Dogs","Blastoff! Readers",9781626177390,18.95,null,636.73,2018,1,24,2.2999999999999998,"I",560,"44 & 45","Rebecca Sabelko",null,null,0,null,0]
[null,0,"Bichons Frises","Awesome Dogs","Blastoff! Readers",9781626179066,18.95,null,636.72,2019,1,24,2.6,"I","530","44 & 45","Lindsay Shaffer",null,null,0,null,0]
[null,0,"Bloodhounds","Awesome Dogs","Blastoff! Readers","9781644870051",18.95,26.95,"636.753/6",2020,1,24,2.2999999999999998,"L",510,"44 & 45","Chris Bowman",null,null,0,null,0]
[null,0,"Border Collies","Awesome Dogs","Blastoff! Readers",9781626177406,18.95,null,636.73699999999997,2018,1,24,2.5,"I",530,"44 & 45","Rebecca Sabelko",null,null,0,null,0]
[null,0,"Boston Terriers","Awesome Dogs","Blastoff! Readers","9781626175570",18.95,null,636.72,2017,1,24,2.4,"J",530,"44 & 45","Christina Leaf",null,null,0,null,0]
[null,0,"Boxers","Awesome Dogs","Blastoff! Readers",9781626173033,18.95,null,636.73,"2016",1,24,"2.4","J",530,"44 & 45","Mari Schuh",null,null,0,null,0]
[null,0,"Brittanys","Awesome Dogs","Blastoff! Readers",9781626179073,18.95,null,636.75199999999995,2019,1,24,2.2000000000000002,"I","520","44 & 45","Lindsay Shaffer",null,null,0,null,0]
[null,0,"Bulldogs","Awesome Dogs","Blastoff! Readers",9781626173040,18.95,null,636.72,"2016",1,24,"2.3","J",500,"44 & 45","Mari Schuh",null,null,0,null,0]
[null,0,"Cavalier King Charles Spaniels","Awesome Dogs","Blastoff! Readers",9781626177413,18.95,null,636.75199999999995,2018,1,24,2.4,"I",500,"44 & 45","Paige V. Polinsky",null,null,0,null,0]
[null,0,"Chihuahuas","Awesome Dogs","Blastoff! Readers",9781626173057,18.95,null,636.76,"2016",1,24,"2.2","I",540,"44 & 45","Mari Schuh",null,null,0,null,0]
[null,0,"Chinese Shar-pei","Awesome Dogs","Blastoff! Readers","9781644870068",18.95,26.95,636.72,2020,1,24,2.2999999999999998,"L",510,"44 & 45","Chris Bowman",null,null,0,null,0]
[null,0,"Cocker Spaniels","Awesome Dogs","Blastoff! Readers",9781626176119,18.95,null,636.75199999999995,2018,1,24,2.5,"I",520,"44 & 45","Nathan Sommer",null,null,0,null,0]
[null,0,"Collies","Awesome Dogs","Blastoff! Readers",9781626176126,18.95,null,636.73699999999997,2018,1,24,2.2000000000000002,"I",500,"44 & 45","Mari Schuh",null,null,0,null,0]
[null,0,"Dachshunds","Awesome Dogs","Blastoff! Readers",9781626172388,18.95,null,636.75300000000004,"2016",1,24,2.4,"J",450,"44 & 45","Mari Schuh",null,null,0,null,0]
[null,0,"Dalmatians","Awesome Dogs","Blastoff! Readers",9781626176133,18.95,null,636.72,2018,1,24,2.2999999999999998,"I",510,"44 & 45","Mari Schuh",null,null,0,null,0]
[null,0,"Doberman Pinschers","Awesome Dogs","Blastoff! Readers",9781626173927,18.95,null,636.73,"2017",1,24,"2.2","I",500,"44 & 45","Christina Leighton",null,null,0,null,0]
[null,0,"French Bulldogs","Awesome Dogs","Blastoff! Readers",9781626172395,18.95,null,636.70000000000005,"2016",1,24,2.2000000000000002,"J",370,"44 & 45","Mari Schuh",null,null,0,null,0]
[null,0,"German Shepherds","Awesome Dogs","Blastoff! Readers",9781626172401,18.95,null,636.73699999999997,"2016",1,24,2.2999999999999998,"J",430,"44 & 45","Chris Bowman",null,null,0,null,0]
[null,0,"German Shorthaired Pointers","Awesome Dogs","Blastoff! Readers","9781644870075",18.95,26.95,"636.752/5",2020,1,24,2.4,"L",510,"44 & 45","Chris Bowman",null,null,0,null,0]
[null,0,"Golden Retrievers","Awesome Dogs","Blastoff! Readers",9781626172418,18.95,null,636.75199999999995,"2016",1,24,2.4,"J",440,"44 & 45","Chris Bowman",null,null,0,null,0]
[null,0,"Great Danes","Awesome Dogs","Blastoff! Readers",9781626173064,18.95,null,636.73,"2016",1,24,"2.3","J",550,"44 & 45","Chris Bowman",null,null,0,null,0]
[null,0,"Greyhounds","Awesome Dogs","Blastoff! Readers",9781626179080,18.95,null,636.75340000000006,2019,1,24,2.5,"I","560","44 & 45","Lindsay Shaffer",null,null,0,null,0]
[null,0,"Irish Wolfhounds","Awesome Dogs","Blastoff! Readers",9781626177925,18.95,null,636.75300000000004,2019,1,24,2.5,"I",510,"44 & 45","Paige V. Polinsky",null,null,0,null,0]
[null,0,"Labrador Retrievers","Awesome Dogs","Blastoff! Readers",9781626172425,18.95,null,636.7527,"2016",1,24,2.4,"J",480,"44 & 45","Chris Bowman",null,null,0,null,0]
[null,0,"Maltese","Awesome Dogs","Blastoff! Readers",9781644871157,18.95,26.95,636.76,2020,1,24,2.2000000000000002,"L",490,"44 & 45","Kaitlyn Duling",null,null,0,null,0]
[null,0,"Mastiffs","Awesome Dogs","Blastoff! Readers",9781626177932,18.95,null,636.73,2019,1,24,2.5,"I",480,"44 & 45","Paige V. Polinsky",null,null,0,null,0]
[null,0,"Miniature Schnauzers","Awesome Dogs","Blastoff! Readers",9781644871164,18.95,26.95,636.755,2020,1,24,2.4,"L",570,"44 & 45","Kaitlyn Duling",null,null,0,null,0]
[null,0,"Newfoundlands","Awesome Dogs","Blastoff! Readers",9781626176140,18.95,null,636.73,2018,1,24,2.2999999999999998,"I",550,"44 & 45","Nathan Sommer",null,null,0,null,0]
[null,0,"Pembroke Welsh Corgis","Awesome Dogs","Blastoff! Readers",9781626173934,18.95,null,636.73699999999997,"2017",1,24,"2.6","J",470,"44 & 45","Christina Leighton",null,null,0,null,0]
[null,0,"Pomeranians","Awesome Dogs","Blastoff! Readers",9781626173941,18.95,null,636.76,"2017",1,24,"2.2","J",340,"44 & 45","Domini Brown",null,null,0,null,0]
[null,0,"Poodles","Awesome Dogs","Blastoff! Readers",9781626172432,18.95,null,636.72,"2016",1,24,"2.4","J",500,"44 & 45","Breanna Berry",null,null,0,null,0]
[null,0,"Pugs","Awesome Dogs","Blastoff! Readers","9781626175587",18.95,null,636.76,2017,1,24,2.2999999999999998,"K",530,"44 & 45","Kari Schuetz",null,null,0,null,0]
[null,0,"Rottweilers","Awesome Dogs","Blastoff! Readers",9781626173071,18.95,null,636.73,"2016",1,24,"2.4","I",480,"44 & 45","Mari Schuh",null,null,0,null,0]
[null,0,"Saint Bernards","Awesome Dogs","Blastoff! Readers",9781626176157,18.95,null,636.73,2018,1,24,2.2999999999999998,"I",530,"44 & 45","Nathan Sommer",null,null,0,null,0]
[null,0,"Scottish Terriers","Awesome Dogs","Blastoff! Readers",9781626177949,18.95,null,636.755,2019,1,24,2.4,"I",510,"44 & 45","Paige V. Polinsky",null,null,0,null,0]
[null,0,"Shetland Sheepdogs","Awesome Dogs","Blastoff! Readers","9781626175594",18.95,null,636.73699999999997,2017,1,24,2.2999999999999998,"J",540,"44 & 45","Christina Leaf",null,null,0,null,0]
[null,0,"Shiba Inus","Awesome Dogs","Blastoff! Readers",9781644871171,18.95,26.95,636.72,2020,1,24,2.1,"L",480,"44 & 45","Kaitlyn Duling",null,null,0,null,0]
[null,0,"Shih Tzus","Awesome Dogs","Blastoff! Readers","9781626175600",18.95,null,636.76,2017,1,24,2.4,"J",540,"44 & 45","Kari Schuetz",null,null,0,null,0]
[null,0,"Siberian Huskies","Awesome Dogs","Blastoff! Readers",9781626173088,18.95,null,636.73,"2016",1,24,"2.3","I",550,"44 & 45","Chris Bowman",null,null,0,null,0]
[null,0,"Vizslas","Awesome Dogs","Blastoff! Readers",9781644871188,18.95,26.95,636.75199999999995,2020,1,24,1.9,"L",530,"44 & 45","Kaitlyn Duling",null,null,0,null,0]
[null,0,"West Highland White Terriers","Awesome Dogs","Blastoff! Readers",9781626176164,18.95,null,636.755,2018,1,24,2.2999999999999998,"I",510,"44 & 45","Nathan Sommer",null,null,0,null,0]
[null,0,"Yorkshire Terriers","Awesome Dogs","Blastoff! Readers",9781626172449,18.95,null,636.76,"2016",1,24,"2.2","J",360,"44 & 45","Mari Schuh",null,null,0,null,0]
[null,0,"Shark Frenzy Set (12)","Shark Frenzy","Blastoff! Readers",null,227.4,null,null,null,12,null,null,null,null,46,null,null,null,0,null,0]
[0,0,"Angel Sharks","Shark Frenzy","Blastoff! Readers",9781644872437,18.95,null,597.29999999999995,2021,1,24,2.7,"N",480,46,"Rebecca Pettiford",null,null,0,null,0]
[0,0,"Basking Sharks","Shark Frenzy","Blastoff! Readers",9781644874370,18.95,null,597.29999999999995,2021,1,24,2.8,"N",530,46,"Rebecca Pettiford",null,null,0,null,0]
[0,0,"Blue Sharks","Shark Frenzy","Blastoff! Readers",9781644872444,18.95,null,597.29999999999995,2021,1,24,2.6,"N",540,46,"Thomas K. Adamson",null,null,0,null,0]
[0,0,"Bull Sharks","Shark Frenzy","Blastoff! Readers",9781644874387,18.95,null,597.29999999999995,2021,1,24,2.9,"N",550,46,"Rebecca Pettiford",null,null,0,null,0]
[0,0,"Great White Sharks","Shark Frenzy","Blastoff! Readers",9781644872451,18.95,null,597.29999999999995,2021,1,24,2.8,"N",530,46,"Thomas K. Adamson",null,null,0,null,0]
[0,0,"Hammerhead Sharks","Shark Frenzy","Blastoff! Readers",9781644872468,18.95,null,597.29999999999995,2021,1,24,2.9,"N",540,46,"Rebecca Pettiford",null,null,0,null,0]
[0,0,"Lemon Sharks","Shark Frenzy","Blastoff! Readers",9781644874394,18.95,null,597.29999999999995,2021,1,24,2.8,"N",520,46,"Rebecca Pettiford",null,null,0,null,0]
[0,0,"Mako Sharks","Shark Frenzy","Blastoff! Readers",9781644872475,18.95,null,597.29999999999995,2021,1,24,3,"N",540,46,"Rebecca Pettiford",null,null,0,null,0]
[0,{"$f":"A592*G592","v":0},"Nurse Sharks","Shark Frenzy","Blastoff! Readers",9781644874400,18.95,null,597.29999999999995,2021,1,24,2.8,"N",540,46,"Rebecca Pettiford",null,null,0,null,0]
[0,0,"Oceanic Whitetip Sharks","Shark Frenzy","Blastoff! Readers",9781644872482,18.95,null,597.29999999999995,2021,1,24,3.1,"N",560,46,"Thomas K. Adamson",null,null,{"$f":"IF(A593>0,1,0)","v":0},null,{"$f":"A593*K593","v":0}]
[0,0,"Sand Tiger Sharks","Shark Frenzy","Blastoff! Readers",9781644872499,18.95,null,597.29999999999995,2021,1,24,2.9,"N",{"$f":"[1]Bellwether_Masterlist!BA1748","v":560},46,"Thomas K. Adamson",null,null,0,null,0]
[0,0,"Whale Sharks","Shark Frenzy","Blastoff! Readers",9781644872505,18.95,null,597.29999999999995,2021,1,24,2.6,"N",{"$f":"[1]Bellwether_Masterlist!BA1749","v":550},46,"Rebecca Pettiford",null,null,0,null,0]
[null,0,"Our Planet Earth Set (6)","Our Planet Earth","Blastoff! Readers",null,113.7,null,null,null,6,null,null,null,null,47,null,null,null,0,null,0]
[0,0,"Caves","Our Planet Earth","Blastoff! Readers",9781644875209,18.95,null,551.44000000000005,2022,1,24,null,null,null,47,"Sara Green",null,null,0,null,0]
[0,0,"Deserts","Our Planet Earth","Blastoff! Readers",9781644875216,18.95,null,551.41,2022,1,24,null,null,null,47,"Sara Green",null,null,0,null,0]
[0,0,"Oceans","Our Planet Earth","Blastoff! Readers",9781644875223,18.95,null,551.46,2022,1,24,null,null,null,47,"Karen Latchana Kenney",null,null,0,null,0]
[0,0,"Prairies","Our Planet Earth","Blastoff! Readers",9781644875230,18.95,null,577.4,2022,1,24,null,null,null,47,"Karen Latchana Kenney",null,null,0,null,0]
[0,0,"Rain Forests","Our Planet Earth","Blastoff! Readers",9781644875247,18.95,null,577.34,2022,1,24,null,null,null,47,"Karen Latchana Kenney",null,null,0,null,0]
[0,0,"Rivers","Our Planet Earth","Blastoff! Readers",9781644875254,18.95,null,551.48,2022,1,24,null,null,null,47,"Sara Green",null,null,0,null,0]
[null,{"$f":"A603*G603","v":0},"Natural Disasters Set (12)","Natural Disasters","Blastoff! Readers",null,227.4,null,null,null,12,null,null,null,null,48,null,null,null,0,null,0]
[null,0,"Blizzards","Natural Disasters","Blastoff! Readers",9781644870242,18.95,26.95,551.54999999999995,2020,1,24,2.7,"L",530,48,"Betsy Rathburn",null,null,0,null,0]
[null,0,"Earthquakes","Natural Disasters","Blastoff! Readers",9781644870259,18.95,26.95,551.22,2020,1,24,3.5,"L",580,48,"Betsy Rathburn",null,null,0,null,0]
[null,0,"Hurricanes","Natural Disasters","Blastoff! Readers",9781644870266,18.95,26.95,551.54999999999995,2020,1,24,3.5,"L",600,48,"Betsy Rathburn",null,null,0,null,0]
[null,0,"Tornadoes","Natural Disasters","Blastoff! Readers",9781644870273,18.95,26.95,551.54999999999995,2020,1,24,3.4,"L",570,48,"Betsy Rathburn",null,null,0,null,0]
[null,0,"Tsunamis","Natural Disasters","Blastoff! Readers",9781644870280,18.95,26.95,551.46,2020,1,24,3.1,"L",600,48,"Betsy Rathburn",null,null,0,null,0]
[null,0,"Volcanoes","Natural Disasters","Blastoff! Readers",9781644870297,18.95,26.95,551.21,2020,1,24,3.1,"L",590,48,"Betsy Rathburn",null,null,0,null,0]
[null,0,"Avalanches","Natural Disasters","Blastoff! Readers",9781644871492,18.95,26.95,551.57000000000005,2020,1,24,2.9,"N",530,48,"Rebecca Pettiford",null,null,0,null,0]
[null,0,"Droughts","Natural Disasters","Blastoff! Readers",9781644871508,18.95,26.95,551.57000000000005,2020,1,24,2.8,"N",480,48,"Rebecca Pettiford",null,null,0,null,0]
[null,0,"Floods","Natural Disasters","Blastoff! Readers",9781644871515,18.95,26.95,551.48,2020,1,24,2.9,"N",620,48,"Rebecca Pettiford",null,null,0,null,0]
[null,0,"Ice Storms","Natural Disasters","Blastoff! Readers",9781644871522,18.95,26.95,551.54999999999995,2020,1,24,2.9,"N",630,48,"Rebecca Pettiford",null,null,0,null,0]
[null,0,"Sinkholes","Natural Disasters","Blastoff! Readers",9781644871539,18.95,26.95,551.4,2020,1,24,2.9,"N",520,48,"Rebecca Pettiford",null,null,0,null,0]
[null,0,"Wildfires","Natural Disasters","Blastoff! Readers",9781644871546,18.95,26.95,634.9,2020,1,24,2.8,"N",550,48,"Rebecca Pettiford",null,null,0,null,0]
[null,0,"Our Favorite Foods Set (10)","Our Favorite Foods","Blastoff! Readers",null,189.5,null,null,null,10,null,null,null,null,49,null,null,null,0,null,0]
[null,0,"Chocolate Chip Cookies","Our Favorite Foods","Blastoff! Readers",9781644871430,18.95,null,641.86,2020,1,24,3.1,"N",700,49,"Joanne Mattern",null,null,0,null,0]
[null,0,"Doughnuts","Our Favorite Foods","Blastoff! Readers",9781644874332,18.95,null,641.86,2021,1,24,2.9,"O",560,49,"Joanne Mattern",null,null,0,null,0]
[null,0,"French Fries","Our Favorite Foods","Blastoff! Readers",9781644871447,18.95,null,641.6,2020,1,24,3.1,"O",600,49,"Joanne Mattern",null,null,0,null,0]
[null,0,"Grilled Cheese Sandwiches","Our Favorite Foods","Blastoff! Readers",9781644874349,18.95,null,641.6,2021,1,24,3,"N",560,49,"Joanne Mattern",null,null,0,null,0]
[null,0,"Hamburgers","Our Favorite Foods","Blastoff! Readers",9781644874356,18.95,null,641.6,2021,1,24,2.8,"O",540,49,"Joanne Mattern",null,null,0,null,0]
[null,0,"Ice Cream","Our Favorite Foods","Blastoff! Readers",9781644871454,18.95,null,641.86,2020,1,24,2.7,"O",690,49,"Christina Leaf",null,null,0,null,0]
[null,0,"Macaroni & Cheese","Our Favorite Foods","Blastoff! Readers",9781644871461,18.95,null,641.82000000000005,2020,1,24,3.1,"O",630,49,"Christina Leaf",null,null,0,null,0]
[null,0,"Pizza","Our Favorite Foods","Blastoff! Readers",9781644871478,18.95,null,641.82000000000005,2020,1,24,3,"O",620,49,"Joanne Mattern",null,null,0,null,0]
[null,0,"Popcorn","Our Favorite Foods","Blastoff! Readers",9781644874363,18.95,null,641.6,2021,1,24,2.8,"O",570,49,"Joanne Mattern",null,null,0,null,0]
[null,0,"Tacos","Our Favorite Foods","Blastoff! Readers",9781644871485,18.95,null,641.84,2020,1,24,2.9,"O",680,49,"Joanne Mattern",null,null,0,null,0]
[null,0,"Animals on the Move Set (8)","Animals on the Move","Blastoff! Readers",null,151.6,null,null,null,8,null,null,null,null,50,null,null,null,0,null,0]
[null,0,"Arctic Tern Migration","Animals on the Move","Blastoff! Readers",9781626178137,18.95,null,598.29999999999995,2019,1,24,2.9,"L",550,50,"Kari Schuetz",null,null,0,null,0]
[null,0,"Caribou Migration","Animals on the Move","Blastoff! Readers",9781626178144,18.95,null,599.65,2019,1,24,3,"L",670,50,"Kari Schuetz",null,null,0,null,0]
[null,0,"Christmas Island Red Crab Migration","Animals on the Move","Blastoff! Readers",9781626178151,18.95,null,595.29999999999995,2019,1,24,2.8,"L",560,50,"Kari Schuetz",null,null,0,null,0]
[null,0,"Humpback Whale Migration","Animals on the Move","Blastoff! Readers",9781626178168,18.95,null,599.5,2019,1,24,2.7,"L",560,50,"Kari Schuetz",null,null,0,null,0]
[null,0,"Leatherback Sea Turtle Migration","Animals on the Move","Blastoff! Readers",9781626178175,18.95,null,597.91999999999996,2019,1,24,2.6,"L",570,50,"Kari Schuetz",null,null,0,null,0]
[null,0,"Monarch Butterfly Migration","Animals on the Move","Blastoff! Readers",9781626178182,18.95,null,595.78,2019,1,24,2.9,"L",560,50,"Kari Schuetz",null,null,0,null,0]
[null,0,"Salmon Migration","Animals on the Move","Blastoff! Readers",9781626178199,18.95,null,597.5,2019,1,24,2.9,"L",560,50,"Kari Schuetz",null,null,0,null,0]
[null,0,"Wildebeest Migration","Animals on the Move","Blastoff! Readers",9781626178205,18.95,null,599.64,2019,1,24,3,"L",560,50,"Kari Schuetz",null,null,0,null,0]
[null,0,"Animal Tag Teams Set (6)","Animal Tag Teams","Blastoff! Readers",null,113.7,null,null,null,6,null,null,null,null,50,null,null,null,0,null,0]
[null,0,"Cape Buffalo and Oxpeckers","Animal Tag Teams","Blastoff! Readers",9781626179530,18.95,null,577.85199999999998,2019,1,24,2.9,"K",530,50,"Kari Schuetz",null,null,0,null,0]
[null,0,"Clownfish and Sea Anemones","Animal Tag Teams","Blastoff! Readers",9781626179547,18.95,null,577.85199999999998,2019,1,24,3,"L",670,50,"Kari Schuetz",null,null,0,null,0]
[null,0,"Goby Fish and Snapping Shrimp","Animal Tag Teams","Blastoff! Readers",9781626179554,18.95,null,577.85199999999998,2019,1,24,3,"K",600,50,"Kari Schuetz",null,null,0,null,0]
[null,0,"Nile Crocodiles and Egyptian Plovers","Animal Tag Teams","Blastoff! Readers",9781626179561,18.95,null,577.85199999999998,2019,1,24,3.1,"K",560,50,"Kari Schuetz",null,null,0,null,0]
[null,0,"Oceanic Whitetip Sharks and Pilot Fish","Animal Tag Teams","Blastoff! Readers",9781626179578,18.95,null,577.85199999999998,2019,1,24,3,"K",740,50,"Kari Schuetz",null,null,0,null,0]
[null,0,"Warthogs and Banded Mongooses","Animal Tag Teams","Blastoff! Readers",9781626179585,18.95,null,577.85199999999998,2019,1,24,3.2,"K",540,50,"Kari Schuetz",null,null,0,null,0]
[null,0,"The World's Smartest Animals Set (6)","The World's Smartest Animals","Blastoff! Readers",null,113.7,null,null,null,6,null,null,null,null,51,null,null,null,0,null,0]
[null,0,"Chimpanzees","The World's Smartest Animals","Blastoff! Readers",9781644872376,18.95,26.95,"599.88515",2021,1,24,null,"N",520,51,"Joanne Mattern",null,null,0,null,0]
[null,0,"Crows","The World's Smartest Animals","Blastoff! Readers",9781644872383,18.95,26.95,"598.8",2021,1,24,null,"N",540,51,"Joanne Mattern",null,null,0,null,0]
[null,0,"Dogs","The World's Smartest Animals","Blastoff! Readers",9781644872390,18.95,26.95,"636.7",2021,1,24,null,"N",500,51,"Joanne Mattern",null,null,0,null,0]
[null,0,"Dolphins","The World's Smartest Animals","Blastoff! Readers",9781644872406,18.95,26.95,"599.5315",2021,1,24,null,"N",500,51,"Joanne Mattern",null,null,0,null,0]
[null,0,"Octopuses","The World's Smartest Animals","Blastoff! Readers",9781644872413,18.95,26.95,"594",2021,1,24,null,"N",520,51,"Joanne Mattern",null,null,0,null,0]
[null,0,"Rats","The World's Smartest Animals","Blastoff! Readers",9781644872420,18.95,26.95,"599.35156",2021,1,24,null,"N",520,51,"Joanne Mattern",null,null,0,null,0]
[null,0,"Your Body Systems Set (6)","Your Body Systems","Blastoff! Readers",null,113.7,null,null,null,6,null,null,null,null,51,null,null,null,0,null,0]
[0,0,"Circulatory System, The","Your Body Systems","Blastoff! Readers","9781644870181",18.95,null,612.1,2020,1,24,"3.0","M",560,51,"Rebecca Pettiford",null,null,0,null,0]
[0,0,"Digestive System, The","Your Body Systems","Blastoff! Readers","9781644870198",18.95,null,612.29999999999995,2020,1,24,2.9,"L",480,51,"Rebecca Pettiford",null,null,0,null,0]
[0,0,"Muscular System, The","Your Body Systems","Blastoff! Readers","9781644870204",18.95,null,612.70000000000005,2020,1,24,2.9,"L",500,51,"Rebecca Pettiford",null,null,0,null,0]
[0,0,"Nervous System, The","Your Body Systems","Blastoff! Readers","9781644870211",18.95,null,612.79999999999995,2020,1,24,2.8,"M",510,51,"Rebecca Pettiford",null,null,0,null,0]
[0,0,"Respiratory System, The","Your Body Systems","Blastoff! Readers","9781644870228",18.95,null,612.20000000000005,2020,1,24,"3.0","L",560,51,"Rebecca Pettiford",null,null,0,null,0]
[0,0,"Skeletal System, The","Your Body Systems","Blastoff! Readers","9781644870235",18.95,null,612.70000000000005,2020,1,24,"3.0","L",520,51,"Rebecca Pettiford",null,null,0,null,0]
[null,0,"Discover the Continents Set (7)","Discover the Continents","Blastoff! Readers",null,132.65,null,null,null,7,null,null,null,null,52,null,null,null,{"$f":"IF(A657>0,1,0)","v":0},null,{"$f":"A657*K657","v":0}]
[null,0,"Africa","Discover the Continents","Blastoff! Readers",9781626173231,18.95,null,916,2016,1,24,3.2,"M",600,52,"Emily Rose Oachs",null,null,0,null,0]
[null,0,"Antarctica","Discover the Continents","Blastoff! Readers",9781626173248,18.95,null,919.89,2016,1,24,3.3,"L",660,52,"Emily Rose Oachs",null,null,0,null,0]
[null,0,"Asia","Discover the Continents","Blastoff! Readers",9781626173255,18.95,null,915,2016,1,24,3.4,"M",630,52,"Emily Rose Oachs",null,null,0,null,0]
[null,0,"Australia","Discover the Continents","Blastoff! Readers",9781626173262,18.95,null,994,2016,1,24,3.3,"L",610,52,"Emily Rose Oachs",null,null,0,null,0]
[null,0,"Europe","Discover the Continents","Blastoff! Readers",9781626173279,18.95,null,914,2016,1,24,3.4,"M",580,52,"Emily Rose Oachs",null,null,0,null,0]
[null,0,"North America","Discover the Continents","Blastoff! Readers",9781626173286,18.95,null,970,2016,1,24,3.3,"M",600,52,"Emily Rose Oachs",null,null,0,null,0]
[null,0,"South America","Discover the Continents","Blastoff! Readers",9781626173293,18.95,null,980,2016,1,24,3.3,"M",630,52,"Emily Rose Oachs",null,null,0,null,0]
[null,0,"Discover the Oceans Set (5)","Discover the Oceans","Blastoff! Readers",null,94.75,null,null,null,5,null,null,null,null,52,null,null,null,0,null,0]
[null,0,"Arctic Ocean","Discover the Oceans","Blastoff! Readers",9781626173309,18.95,null,910.91629999999998,2016,1,24,3.4,"M",620,52,"Emily Rose Oachs",null,null,0,null,0]
[null,{"$f":"A667*G667","v":0},"Atlantic Ocean","Discover the Oceans","Blastoff! Readers",9781626173316,18.95,null,910.91669999999999,2016,1,24,3.4,"M",570,52,"Emily Rose Oachs",null,null,0,null,0]
[null,0,"Indian Ocean","Discover the Oceans","Blastoff! Readers",9781626173323,18.95,null,910.91650000000004,2016,1,24,3.4,"L",680,52,"Emily Rose Oachs",null,null,0,null,0]
[null,0,"Pacific Ocean","Discover the Oceans","Blastoff! Readers",9781626173330,18.95,null,910.91639999999995,2016,1,24,3.4,"M",660,52,"Emily Rose Oachs",null,null,0,null,0]
[null,0,"Southern Ocean","Discover the Oceans","Blastoff! Readers",9781626173347,18.95,null,796.7,2016,1,24,3.4,"L",660,52,"Emily Rose Oachs",null,null,0,null,0]
[null,0,"Science Starters Set (8)","Science Starters","Blastoff! Readers",null,151.6,null,null,null,8,null,null,null,null,53,null,null,null,0,null,0]
[null,0,"Electricity","Science Starters","Blastoff! Readers",9781626178052,18.95,null,537,2019,1,24,2.9,"M",540,53,"Rebecca Pettiford",null,null,0,null,0]
[null,0,"Energy","Science Starters","Blastoff! Readers",9781626178069,18.95,null,531,2019,1,24,2.8,"M",520,53,"Rebecca Pettiford",null,null,0,null,0]
[null,0,"Gravity","Science Starters","Blastoff! Readers",9781626178076,18.95,null,531,2019,1,24,2.9,"L",540,53,"Rebecca Pettiford",null,null,0,null,0]
[null,0,"Light","Science Starters","Blastoff! Readers",9781626178083,18.95,null,535,2019,1,24,2.5,"L",530,53,"Carolyn Bernhardt",null,null,0,null,0]
[null,0,"Magnetism","Science Starters","Blastoff! Readers",9781626178090,18.95,null,538,2019,1,24,3,"L",590,53,"Carolyn Bernhardt",null,null,0,null,0]
[null,0,"Matter","Science Starters","Blastoff! Readers",9781626178106,18.95,null,530.4,2019,1,24,2.6,"L",550,53,"Rebecca Pettiford",null,null,0,null,0]
[null,0,"Sound","Science Starters","Blastoff! Readers",9781626178113,18.95,null,534,2019,1,24,2.8,"M",560,53,"Carolyn Bernhardt",null,null,0,null,0]
[null,0,"Temperature","Science Starters","Blastoff! Readers",9781626178120,18.95,null,536,2019,1,24,2.9,"L",570,53,"Carolyn Bernhardt",null,null,0,null,0]
[null,0,"The Five Senses Set (5)","The Five Senses","Blastoff! Readers",null,94.75,null,null,null,5,null,null,null,null,53,null,null,null,0,null,0]
[null,0,"Hearing","The Five Senses","Blastoff! Readers",9781626177680,18.95,null,612.79999999999995,2018,1,24,2.7,"L",560,53,"Lisa Owings",null,null,0,null,0]
[null,0,"Seeing","The Five Senses","Blastoff! Readers",9781626177697,18.95,null,612.79999999999995,2018,1,24,2.6,"L",550,53,"Lisa Owings",null,null,0,null,0]
[null,0,"Smelling","The Five Senses","Blastoff! Readers",9781626177703,18.95,null,612.79999999999995,2018,1,24,2.8,"L",580,53,"Lisa Owings",null,null,0,null,0]
[null,0,"Tasting","The Five Senses","Blastoff! Readers",9781626177710,18.95,null,612.79999999999995,2018,1,24,2.8,"L",530,53,"Lisa Owings",null,null,0,null,0]
[null,0,"Touching","The Five Senses","Blastoff! Readers",9781626177727,18.95,null,612.79999999999995,2018,1,24,2.8,"L",540,53,"Lisa Owings",null,null,0,null,0]
[null,0,"North American Animals Set (58)","North American Animals","Blastoff! Readers",null,1099.0999999999999,null,null,null,58,null,null,null,null,"54 & 55",null,null,null,0,null,0]
[null,0,"American Alligators","North American Animals","Blastoff! Readers",9781626173996,18.95,null,597.98,"2017",1,24,"2.7","K",450,"54 & 55","Megan Borgert-Spaniol",null,null,0,null,0]
[null,0,"American Badgers","North American Animals","Blastoff! Readers",9781626177956,18.95,null,599.76,2019,1,24,2.9,"K",580,"54 & 55","Rebecca Sabelko",null,null,0,null,0]
[null,0,"American Beavers","North American Animals","Blastoff! Readers",9781626172562,18.95,null,599.37,"2016",1,24,2.7,"L",620,"54 & 55","Megan Borgert-Spaniol",null,null,0,null,0]
[null,0,"American Bison","North American Animals","Blastoff! Readers",9781626171848,18.95,null,599.64,"2015",1,24,2.6,"L",460,"54 & 55","Chris Bowman",null,null,0,null,0]
[null,0,"American Bullfrogs","North American Animals","Blastoff! Readers","9781626179813",18.95,26.95,597.79999999999995,2020,1,24,2.9,"L",560,"54 & 55","Al Albertson",null,null,0,null,0]
[null,0,"American Crows","North American Animals","Blastoff! Readers",9781626179097,18.95,null,598.86400000000003,2019,1,24,2.2000000000000002,"K","560","54 & 55","Rebecca Sabelko",null,null,0,null,0]
[null,0,"American Robins","North American Animals","Blastoff! Readers",9781626174009,18.95,null,598.79999999999995,"2017",1,24,"2.6","K",490,"54 & 55","Megan Borgert-Spaniol",null,null,0,null,0]
[null,0,"Bald Eagles","North American Animals","Blastoff! Readers",9781626171855,18.95,null,598.9,"2015",1,24,2.7,"K",550,"54 & 55","Chris Bowman",null,null,0,null,0]
[null,0,"Bighorn Sheep","North American Animals","Blastoff! Readers",9781626172579,18.95,null,599.649,"2016",1,24,2.4,"L",460,"54 & 55","Megan Borgert-Spaniol",null,null,0,null,0]
[null,0,"Black Bears","North American Animals","Blastoff! Readers",9781626171862,18.95,null,599.78,"2015",1,24,2.7,"K",550,"54 & 55","Megan Borgert-Spaniol",null,null,0,null,0]
[null,0,"Blue Jays","North American Animals","Blastoff! Readers",9781626177284,18.95,null,598.79999999999995,2018,1,24,2.7,"K",610,"54 & 55","Betsy Rathburn",null,null,0,null,0]
[null,0,"Bobcats","North American Animals","Blastoff! Readers","9781626175655",18.95,null,599.75,2017,1,24,2.7,"K",530,"54 & 55","Christina Leighton",null,null,0,null,0]
[null,0,"Brown Bats","North American Animals","Blastoff! Readers",9781626172586,18.95,null,599.4,"2016",1,24,2.2999999999999998,"K",450,"54 & 55","Christina Leaf",null,null,0,null,0]
[null,0,"California Condors","North American Animals","Blastoff! Readers",9781626177963,18.95,null,598.9,2019,1,24,2.9,"L",600,"54 & 55","Rebecca Sabelko",null,null,0,null,0]
[null,0,"Canada Geese","North American Animals","Blastoff! Readers",9781626174016,18.95,null,598.4,"2017",1,24,"2.7","K",560,"54 & 55","Megan Borgert-Spaniol",null,null,0,null,0]
[null,0,"Canada Lynx","North American Animals","Blastoff! Readers",9781626176355,18.95,null,599.75,2018,1,24,3,"K",550,"54 & 55","Megan Borgert-Spaniol",null,null,0,null,0]
[null,0,"Caribou","North American Animals","Blastoff! Readers",9781626176362,18.95,null,599.65,2018,1,24,3,"L",570,"54 & 55","Megan Borgert-Spaniol",null,null,0,null,0]
[null,0,"Common Box Turtles","North American Animals","Blastoff! Readers","9781626179820",18.95,26.95,597.91999999999996,2020,1,24,2.6,"L",540,"54 & 55","Al Albertson",null,null,0,null,0]
[null,0,"Common Garter Snakes","North American Animals","Blastoff! Readers",9781626179103,18.95,null,597.96199999999999,2019,1,24,2.4,"K","550","54 & 55","Rebecca Sabelko",null,null,0,null,0]
[null,0,"Common Snapping Turtles","North American Animals","Blastoff! Readers",9781626179110,18.95,null,597.92200000000003,2019,1,24,2.2999999999999998,"K","550","54 & 55","Rebecca Sabelko",null,null,0,null,0]
[null,0,"Cottonmouths","North American Animals","Blastoff! Readers","9781626179837",18.95,26.95,597.96,2020,1,24,2.9,"L",580,"54 & 55","Al Albertson",null,null,0,null,0]
[null,0,"Cottontail Rabbits","North American Animals","Blastoff! Readers","9781626175662",18.95,null,599.32000000000005,2017,1,24,2.8,"K",580,"54 & 55","Christina Leighton",null,null,0,null,0]
[null,0,"Coyotes","North American Animals","Blastoff! Readers",9781626172593,18.95,null,599.77,"2016",1,24,2.8,"L",540,"54 & 55","Chris Bowman",null,null,0,null,0]
[null,0,"Diamondback Rattlesnakes","North American Animals","Blastoff! Readers",9781626176379,18.95,null,597.96,2018,1,24,3,"L",590,"54 & 55","Betsy Rathburn",null,null,0,null,0]
[null,0,"Eastern Chipmunks","North American Animals","Blastoff! Readers",9781626173354,18.95,null,599.36,"2016",1,24,"1.7","K",690,"54 & 55","Chris Bowman",null,null,0,null,0]
[null,0,"Gila Monsters","North American Animals","Blastoff! Readers",9781626177970,18.95,null,597.95000000000005,2019,1,24,3,"K",540,"54 & 55","Rebecca Sabelko",null,null,0,null,0]
[null,0,"Golden Eagles","North American Animals","Blastoff! Readers","9781626175679",18.95,null,598.9,2017,1,24,2.7,"K",540,"54 & 55","Christina Leighton",null,null,0,null,0]
[null,0,"Gray Foxes","North American Animals","Blastoff! Readers",9781626179127,18.95,null,599.77599999999995,2019,1,24,2.2000000000000002,"K","540","54 & 55","Rebecca Sabelko",null,null,0,null,0]
[null,0,"Gray Squirrels","North American Animals","Blastoff! Readers",9781626171879,18.95,null,599.36,"2015",1,24,2.8,"L",550,"54 & 55","Christina Leaf",null,null,0,null,0]
[null,0,"Gray Wolves","North American Animals","Blastoff! Readers",9781626171886,18.95,null,599.77300000000002,"2015",1,24,2.7,"K",540,"54 & 55","Christina Leaf",null,null,0,null,0]
[null,0,"Great Horned Owls","North American Animals","Blastoff! Readers",9781626171893,18.95,null,598.9,"2015",1,24,2.9,"L",630,"54 & 55","Christina Leaf",null,null,0,null,0]
[null,0,"Grizzly Bears","North American Animals","Blastoff! Readers",9781626171909,18.95,null,599.78399999999999,"2015",1,24,"3.0","L",570,"54 & 55","Megan Borgert-Spaniol",null,null,0,null,0]
[null,0,"Jackrabbits","North American Animals","Blastoff! Readers",9781626171916,18.95,null,599.32000000000005,"2015",1,24,2.7,"L",510,"54 & 55","Christina Leaf",null,null,0,null,0]
[null,0,"Long-tailed Weasels","North American Animals","Blastoff! Readers",9781626177987,18.95,null,599.76,2019,1,24,2.8,"K",560,"54 & 55","Rebecca Sabelko",null,null,0,null,0]
[null,0,"Moose","North American Animals","Blastoff! Readers",9781626172609,18.95,null,599.65,"2016",1,24,2.2999999999999998,"L",520,"54 & 55","Megan Borgert-Spaniol",null,null,{"$f":"IF(A721>0,1,0)","v":0},null,{"$f":"A721*K721","v":0}]
[null,0,"Mountain Goats","North American Animals","Blastoff! Readers",9781626176386,18.95,null,599.64,2018,1,24,2.8,"K",580,"54 & 55","Megan Borgert-Spaniol",null,null,0,null,0]
[null,0,"Mountain Lions","North American Animals","Blastoff! Readers",9781626176393,18.95,null,599.65,2018,1,24,2.9,"K",580,"54 & 55","Betsy Rathburn",null,null,0,null,0]
[null,0,"Muskrats","North American Animals","Blastoff! Readers","9781626179844",18.95,26.95,599.35,2020,1,24,2.9,"L",560,"54 & 55","Al Albertson",null,null,0,null,0]
[null,0,"Nine-banded Armadillos","North American Animals","Blastoff! Readers",9781626172616,18.95,null,599.29999999999995,"2016",1,24,2.8,"K",560,"54 & 55","Megan Borgert-Spaniol",null,null,0,null,0]
[null,0,"Northern Cardinals","North American Animals","Blastoff! Readers",9781626176409,18.95,null,598.79999999999995,2018,1,24,2.7,"K",560,"54 & 55","Megan Borgert-Spaniol",null,null,0,null,0]
[null,0,"Northern Leopard Frogs","North American Animals","Blastoff! Readers",9781626179134,18.95,null,597.89,2019,1,24,2.9,"K","550","54 & 55","Rebecca Sabelko",null,null,0,null,0]
[null,0,"Opossums","North American Animals","Blastoff! Readers",9781626177291,18.95,null,599.20000000000005,2018,1,24,2.7,"K",580,"54 & 55","Betsy Rathburn",null,null,0,null,0]
[null,0,"Pileated Woodpeckers","North American Animals","Blastoff! Readers",9781626177994,18.95,null,598.70000000000005,2019,1,24,2.7,"K",570,"54 & 55","Rebecca Sabelko",null,null,0,null,0]
[null,0,"Porcupines","North American Animals","Blastoff! Readers",9781626172623,18.95,null,599.35,"2016",1,24,2.6,"K",490,"54 & 55","Christina Leaf",null,null,0,null,0]
[null,{"$f":"A731*G731","v":0},"Prairie Dogs","North American Animals","Blastoff! Readers",9781626174023,18.95,null,599.36,"2017",1,24,"2.9","K",540,"54 & 55","Megan Borgert-Spaniol",null,null,0,null,0]
[null,0,"Pronghorn","North American Animals","Blastoff! Readers",9781626171923,18.95,null,599.63,"2015",1,24,"3.0","K",540,"54 & 55","Chris Bowman",null,null,0,null,0]
[null,0,"Raccoons","North American Animals","Blastoff! Readers",9781626172630,18.95,null,599.76,"2016",1,24,2.6,"K",530,"54 & 55","Chris Bowman",null,null,0,null,0]
[null,0,"Red Foxes","North American Animals","Blastoff! Readers",9781626171930,18.95,null,599.77499999999998,"2015",1,24,2.4,"K",520,"54 & 55","Megan Borgert-Spaniol",null,null,0,null,0]
[null,0,"Red Squirrels","North American Animals","Blastoff! Readers",9781626173361,18.95,null,599.36,"2016",1,24,"2.7","L",670,"54 & 55","Chris Bowman",null,null,0,null,0]
[null,0,"Red-tailed Hawks","North American Animals","Blastoff! Readers",9781626171947,18.95,null,598.9,"2015",1,24,2.8,"K",590,"54 & 55","Megan Borgert-Spaniol",null,null,0,null,0]
[null,0,"River Otters","North American Animals","Blastoff! Readers",9781626177307,18.95,null,599.76900000000001,2018,1,24,2.8,"K",590,"54 & 55","Betsy Rathburn",null,null,0,null,0]
[null,0,"Roadrunners","North American Animals","Blastoff! Readers","9781626175686",18.95,null,598.70000000000005,2017,1,24,2.7,"K",530,"54 & 55","Christina Leighton",null,null,0,null,0]
[null,0,"Rocky Mountain Elk","North American Animals","Blastoff! Readers",9781626178007,18.95,null,599.65,2019,1,24,3,"L",600,"54 & 55","Rebecca Sabelko",null,null,0,null,0]
[null,0,"Ruby-throated Hummingbirds","North American Animals","Blastoff! Readers",9781626173378,18.95,null,598.70000000000005,"2016",1,24,"2.9","L",610,"54 & 55","Chris Bowman",null,null,0,null,0]
[null,0,"Striped Skunks","North American Animals","Blastoff! Readers",9781626173385,18.95,null,599.76,"2016",1,24,"2.7","L",640,"54 & 55","Chris Bowman",null,null,0,null,0]
[null,0,"White-tailed Deer","North American Animals","Blastoff! Readers",9781626171954,18.95,null,599.65,"2015",1,24,2.7,"K",500,"54 & 55","Chris Bowman",null,null,0,null,0]
[null,0,"Wild Turkeys","North American Animals","Blastoff! Readers",9781626179141,18.95,null,598.64499999999998,2019,1,24,2.6,"K","550","54 & 55","Rebecca Sabelko",null,null,0,null,0]
[null,0,"Wolverines","North American Animals","Blastoff! Readers",9781626177314,18.95,null,599.76,2018,1,24,2.9,"K",540,"54 & 55","Betsy Rathburn",null,null,0,null,0]
[null,0,"Ocean Life Up Close Set (28)","Ocean Life Up Close","Blastoff! Readers",null,530.6,null,null,null,28,null,null,null,null,"56 & 57",null,null,null,0,null,0]
[null,0,"Angelfish","Ocean Life Up Close","Blastoff! Readers",9781626177642,18.95,null,597,2018,1,24,2.8,"L",550,"56 & 57","Nathan Sommer",null,null,0,null,0]
[null,0,"Bottlenose Dolphins","Ocean Life Up Close","Blastoff! Readers",9781626174139,18.95,null,599.53,"2017",1,24,"2.8","K",510,"56 & 57","Kari Schuetz",null,null,0,null,0]
[null,0,"Clownfish","Ocean Life Up Close","Blastoff! Readers",9781626174146,18.95,null,597.72,"2017",1,24,"2.7","K",500,"56 & 57","Kari Schuetz",null,null,0,null,0]
[null,0,"Corals","Ocean Life Up Close","Blastoff! Readers","9781626175693",18.95,null,593.6,2017,1,24,2.8,"M",540,"56 & 57","Mari Schuh",null,null,0,null,0]
[null,0,"Crabs","Ocean Life Up Close","Blastoff! Readers",9781626174153,18.95,null,595.29999999999995,"2017",1,24,"2.7","K",540,"56 & 57","Rebecca Pettiford",null,null,0,null,0]
[null,0,"Eels","Ocean Life Up Close","Blastoff! Readers",9781626177659,18.95,null,597,2018,1,24,2.8,"L",550,"56 & 57","Nathan Sommer",null,null,0,null,0]
[null,0,"Emperor Penguins","Ocean Life Up Close","Blastoff! Readers",9781626176416,18.95,null,598.47,2018,1,24,2.9,"L",540,"56 & 57","Heather Adamson",null,null,0,null,0]
[null,0,"Great White Sharks","Ocean Life Up Close","Blastoff! Readers",9781626174160,18.95,null,597.29999999999995,"2017",1,24,"2.8","K",560,"56 & 57","Rebecca Pettiford",null,null,0,null,0]
[null,0,"Humpback Whales","Ocean Life Up Close","Blastoff! Readers",9781626174177,18.95,null,599.5,"2017",1,24,"2.7","K",510,"56 & 57","Christina Leaf",null,null,0,null,0]
[null,0,"Jellyfish","Ocean Life Up Close","Blastoff! Readers",9781626174184,18.95,null,593.5,"2017",1,24,"2.7","L",450,"56 & 57","Christina Leaf",null,null,0,null,0]
[null,0,"Lobsters","Ocean Life Up Close","Blastoff! Readers",9781626176423,18.95,null,595.29999999999995,2018,1,24,2.9,"L",560,"56 & 57","Heather Adamson",null,null,0,null,0]
[null,0,"Manatees","Ocean Life Up Close","Blastoff! Readers","9781626175709",18.95,null,599.54999999999995,2017,1,24,2.6,"L",550,"56 & 57","Rebecca Pettiford",null,null,0,null,0]
[null,0,"Octopuses","Ocean Life Up Close","Blastoff! Readers",9781626174191,18.95,null,594.55999999999995,"2017",1,24,"2.7","L",480,"56 & 57","Christina Leaf",null,null,0,null,0]
[null,0,"Orcas","Ocean Life Up Close","Blastoff! Readers",9781626176430,18.95,null,599.53,2018,1,24,2.7,"L",520,"56 & 57","Heather Adamson",null,null,0,null,0]
[null,0,"Parrotfish","Ocean Life Up Close","Blastoff! Readers","9781626175716",18.95,null,597.70000000000005,2017,1,24,2.8,"L",510,"56 & 57","Mari Schuh",null,null,0,null,0]
[null,0,"Puffer Fish","Ocean Life Up Close","Blastoff! Readers","9781626175723",18.95,null,597.64,2017,1,24,2.6,"L",520,"56 & 57","Rebecca Pettiford",null,null,0,null,0]
[null,0,"Sea Anemones","Ocean Life Up Close","Blastoff! Readers","9781626175730",18.95,null,593.6,2017,1,24,2.6,"M",490,"56 & 57","Mari Schuh",null,null,0,null,0]
[null,0,"Sea Dragons","Ocean Life Up Close","Blastoff! Readers",9781626176447,18.95,null,597.67899999999997,2018,1,24,2.8,"L",530,"56 & 57","Heather Adamson",null,null,0,null,0]
[null,0,"Sea Horses","Ocean Life Up Close","Blastoff! Readers",9781626174207,18.95,null,597.6798,"2017",1,24,"2.7","L",560,"56 & 57","Christina Leaf",null,null,0,null,0]
[null,0,"Sea Lions","Ocean Life Up Close","Blastoff! Readers",9781626176454,18.95,null,599.79,2018,1,24,2.8,"L",550,"56 & 57","Heather Adamson",null,null,0,null,0]
[null,0,"Sea Otters","Ocean Life Up Close","Blastoff! Readers",9781626177666,18.95,null,599.76900000000001,2018,1,24,2.7,"L",590,"56 & 57","Nathan Sommer",null,null,0,null,0]
[null,0,"Sea Stars","Ocean Life Up Close","Blastoff! Readers",9781626174214,18.95,null,593.9,"2017",1,24,"2.5","K",530,"56 & 57","Rebecca Pettiford",null,null,0,null,0]
[null,0,"Sea Turtles","Ocean Life Up Close","Blastoff! Readers",9781626174221,18.95,null,597.91999999999996,"2017",1,24,"2.6","K",510,"56 & 57","Kari Schuetz",null,null,0,null,0]
[null,0,"Sea Urchins","Ocean Life Up Close","Blastoff! Readers",9781626176461,18.95,null,593.9,2018,1,24,3,"L",520,"56 & 57","Heather Adamson",null,null,0,null,0]
[null,0,"Seals","Ocean Life Up Close","Blastoff! Readers","9781626175747",18.95,null,599.79,2017,1,24,2.6,"L",560,"56 & 57","Rebecca Pettiford",null,null,0,null,0]
[null,0,"Squids","Ocean Life Up Close","Blastoff! Readers",9781626177673,18.95,null,594,2018,1,24,2.9,"L",550,"56 & 57","Nathan Sommer",null,null,0,null,0]
[null,0,"Stingrays","Ocean Life Up Close","Blastoff! Readers",9781626174238,18.95,null,597.29999999999995,"2017",1,24,"2.7","L",490,"56 & 57","Rebecca Pettiford",null,null,0,null,0]
[null,0,"Walruses","Ocean Life Up Close","Blastoff! Readers",9781626174245,18.95,null,599.79,"2017",1,24,"2.8","K",540,"56 & 57","Kari Schuetz",null,null,0,null,0]
[null,0,"State Profiles Set (52)","State Profiles","Blastoff! Discovery",null,1037.4000000000001,null,null,null,52,null,null,null,null,"60 & 61",null,null,null,0,null,0]
[null,0,"Alabama","State Profiles","Blastoff! Discovery",9781644873724,19.95,27.95,976.1,2022,1,32,null,null,null,"60 & 61","Patrick Perish",null,null,0,null,0]
[null,0,"Alaska","State Profiles","Blastoff! Discovery",9781644873731,19.95,27.95,979.8,2022,1,32,null,null,null,"60 & 61","Colleen Sexton",null,null,0,null,0]
[null,0,"Arizona","State Profiles","Blastoff! Discovery",9781644873748,19.95,27.95,979.1,2022,1,32,null,null,null,"60 & 61","Rachel Grack",null,null,0,null,0]
[null,0,"Arkansas","State Profiles","Blastoff! Discovery",9781644873755,19.95,27.95,976.7,2022,1,32,null,null,null,"60 & 61","Patrick Perish",null,null,0,null,0]
[null,0,"California","State Profiles","Blastoff! Discovery",9781644873762,19.95,27.95,979.4,2022,1,32,null,null,null,"60 & 61","Emily Rose Oachs",null,null,0,null,0]
[null,0,"Colorado","State Profiles","Blastoff! Discovery",9781644873779,19.95,27.95,978.8,2022,1,32,null,null,null,"60 & 61","Nathan Sommer",null,null,0,null,0]
[null,0,"Connecticut","State Profiles","Blastoff! Discovery",9781644873786,19.95,27.95,974.6,2022,1,32,null,null,null,"60 & 61","Alicia Klepeis",null,null,0,null,0]
[null,0,"Delaware","State Profiles","Blastoff! Discovery",9781644873793,19.95,27.95,975.1,2022,1,32,null,null,null,"60 & 61","Colleen Sexton",null,null,0,null,0]
[null,0,"Florida","State Profiles","Blastoff! Discovery",9781644873809,19.95,27.95,975.9,2022,1,32,null,null,null,"60 & 61","Colleen Sexton",null,null,0,null,0]
[null,0,"Georgia","State Profiles","Blastoff! Discovery",9781644873816,19.95,27.95,975.8,2022,1,32,null,null,null,"60 & 61","Rachel Grack",null,null,0,null,0]
[null,0,"Hawaii","State Profiles","Blastoff! Discovery",9781644873823,19.95,27.95,996.9,2022,1,32,null,null,null,"60 & 61","Alicia Klepeis",null,null,{"$f":"IF(A785>0,1,0)","v":0},null,{"$f":"A785*K785","v":0}]
[null,0,"Idaho","State Profiles","Blastoff! Discovery",9781644873830,19.95,27.95,979.6,2022,1,32,null,null,null,"60 & 61","Betsy Rathburn",null,null,0,null,0]
[null,0,"Illinois","State Profiles","Blastoff! Discovery",9781644873847,19.95,27.95,977.3,2022,1,32,null,null,null,"60 & 61","Colleen Sexton",null,null,0,null,0]
[null,0,"Indiana","State Profiles","Blastoff! Discovery",9781644873854,19.95,27.95,977.2,2022,1,32,null,null,null,"60 & 61","Betsy Rathburn",null,null,0,null,0]
[null,0,"Iowa","State Profiles","Blastoff! Discovery",9781644873861,19.95,27.95,977.7,2022,1,32,null,null,null,"60 & 61","Nathan Sommer",null,null,0,null,0]
[null,0,"Kansas","State Profiles","Blastoff! Discovery",9781644873878,19.95,27.95,978.1,2022,1,32,null,null,null,"60 & 61","Alicia Klepeis",null,null,0,null,0]
[null,0,"Kentucky","State Profiles","Blastoff! Discovery",9781644873885,19.95,27.95,976.9,2022,1,32,null,null,null,"60 & 61","Alicia Klepeis",null,null,0,null,0]
[null,0,"Louisiana","State Profiles","Blastoff! Discovery",9781644873892,19.95,27.95,976.3,2022,1,32,null,null,null,"60 & 61","Nathan Sommer",null,null,0,null,0]
[null,0,"Maine","State Profiles","Blastoff! Discovery",9781644873908,19.95,27.95,974.1,2022,1,32,null,null,null,"60 & 61","Rachel Grack",null,null,0,null,0]
[null,0,"Maryland","State Profiles","Blastoff! Discovery",9781644873915,19.95,27.95,975.2,2022,1,32,null,null,null,"60 & 61","Rachel Grack",null,null,0,null,0]
[null,{"$f":"A795*G795","v":0},"Massachusetts","State Profiles","Blastoff! Discovery",9781644873922,19.95,27.95,974.4,2022,1,32,null,null,null,"60 & 61","Nathan Sommer",null,null,0,null,0]
[null,0,"Michigan","State Profiles","Blastoff! Discovery",9781644873939,19.95,27.95,977.4,2022,1,32,null,null,null,"60 & 61","Betsy Rathburn",null,null,0,null,0]
[null,0,"Minnesota","State Profiles","Blastoff! Discovery",9781644873946,19.95,27.95,977.6,2022,1,32,null,null,null,"60 & 61","Derek Zobel",null,null,0,null,0]
[null,0,"Mississippi","State Profiles","Blastoff! Discovery",9781644873953,19.95,27.95,976.2,2022,1,32,null,null,null,"60 & 61","Colleen Sexton",null,null,0,null,0]
[null,0,"Missouri","State Profiles","Blastoff! Discovery",9781644873304,19.95,27.95,977.8,2022,1,32,null,null,null,"60 & 61","Rachel Grack",null,null,0,null,0]
[null,0,"Montana","State Profiles","Blastoff! Discovery",9781644873311,19.95,27.95,978.6,2022,1,32,null,null,null,"60 & 61","Alicia Klepeis",null,null,0,null,0]
[null,0,"Nebraska","State Profiles","Blastoff! Discovery",9781644873328,19.95,27.95,978.2,2022,1,32,null,null,null,"60 & 61","Rachel Grack",null,null,0,null,0]
[null,0,"Nevada","State Profiles","Blastoff! Discovery",9781644873335,19.95,27.95,979.3,2022,1,32,null,null,null,"60 & 61","Colleen Sexton",null,null,0,null,0]
[null,0,"New Hampshire","State Profiles","Blastoff! Discovery",9781644873342,19.95,27.95,974.2,2022,1,32,null,null,null,"60 & 61","Colleen Sexton",null,null,0,null,0]
[null,0,"New Jersey","State Profiles","Blastoff! Discovery",9781644873359,19.95,27.95,974.9,2022,1,32,null,null,null,"60 & 61","Rachel Grack",null,null,0,null,0]
[null,0,"New Mexico","State Profiles","Blastoff! Discovery",9781644873366,19.95,27.95,978.9,2022,1,32,null,null,null,"60 & 61","Alicia Klepeis",null,null,0,null,0]
[null,0,"New York","State Profiles","Blastoff! Discovery",9781644873373,19.95,27.95,974.7,2022,1,32,null,null,null,"60 & 61","Alicia Klepeis",null,null,0,null,0]
[null,0,"North Carolina","State Profiles","Blastoff! Discovery",9781644873380,19.95,27.95,975.6,2022,1,32,null,null,null,"60 & 61","Nathan Sommer",null,null,0,null,0]
[null,0,"North Dakota","State Profiles","Blastoff! Discovery",9781644873397,19.95,27.95,978.4,2022,1,32,null,null,null,"60 & 61","Patrick Perish",null,null,0,null,0]
[null,0,"Ohio","State Profiles","Blastoff! Discovery",9781644873403,19.95,27.95,977.1,2022,1,32,null,null,null,"60 & 61","Betsy Rathburn",null,null,0,null,0]
[null,0,"Oklahoma","State Profiles","Blastoff! Discovery",9781644873410,19.95,27.95,976.6,2022,1,32,null,null,null,"60 & 61","Colleen Sexton",null,null,0,null,0]
[null,0,"Oregon","State Profiles","Blastoff! Discovery",9781644873427,19.95,27.95,979.5,2022,1,32,null,null,null,"60 & 61","Patrick Perish",null,null,0,null,0]
[null,0,"Pennsylvania","State Profiles","Blastoff! Discovery",9781644873434,19.95,27.95,974.8,2022,1,32,null,null,null,"60 & 61","Rebecca Sabelko",null,null,0,null,0]
[null,0,"Puerto Rico","State Profiles","Blastoff! Discovery",9781644873441,19.95,27.95,972.95,2022,1,32,null,null,null,"60 & 61","Alicia Klepeis",null,null,0,null,0]
[null,0,"Rhode Island","State Profiles","Blastoff! Discovery",9781644873458,19.95,27.95,974.5,2022,1,32,null,null,null,"60 & 61","Betsy Rathburn",null,null,0,null,0]
[null,0,"South Carolina","State Profiles","Blastoff! Discovery",9781644873465,19.95,27.95,975.7,2022,1,32,null,null,null,"60 & 61","Emily Rose Oachs",null,null,0,null,0]
[null,0,"South Dakota","State Profiles","Blastoff! Discovery",9781644873472,19.95,27.95,978.3,2022,1,32,null,null,null,"60 & 61","Betsy Rathburn",null,null,0,null,0]
[null,0,"Tennessee","State Profiles","Blastoff! Discovery",9781644873489,19.95,27.95,976.8,2022,1,32,null,null,null,"60 & 61","Nathan Sommer",null,null,0,null,0]
[null,0,"Texas","State Profiles","Blastoff! Discovery",9781644873496,19.95,27.95,976.4,2022,1,32,null,null,null,"60 & 61","Patrick Perish",null,null,0,null,0]
[null,0,"Utah","State Profiles","Blastoff! Discovery",9781644873502,19.95,27.95,979.2,2022,1,32,null,null,null,"60 & 61","Emily Rose Oachs",null,null,0,null,0]
[null,0,"Vermont","State Profiles","Blastoff! Discovery",9781644873519,19.95,27.95,974.3,2022,1,32,null,null,null,"60 & 61","Colleen Sexton",null,null,0,null,0]
[null,0,"Virginia","State Profiles","Blastoff! Discovery",9781644873526,19.95,27.95,975.5,2022,1,32,null,null,null,"60 & 61","Rachel Grack",null,null,0,null,0]
[null,0,"Washington","State Profiles","Blastoff! Discovery",9781644873533,19.95,27.95,979.7,2022,1,32,null,null,null,"60 & 61","Rebecca Sabelko",null,null,0,null,0]
[null,0,"Washington, D.C.","State Profiles","Blastoff! Discovery",9781644873540,19.95,27.95,975.3,2022,1,32,null,null,null,"60 & 61","Colleen Sexton",null,null,0,null,0]
[null,0,"West Virginia","State Profiles","Blastoff! Discovery",9781644873557,19.95,27.95,975.4,2022,1,32,null,null,null,"60 & 61","Betsy Rathburn",null,null,0,null,0]
[null,0,"Wisconsin","State Profiles","Blastoff! Discovery",9781644873564,19.95,27.95,977.5,2022,1,32,null,null,null,"60 & 61","Nathan Sommer",null,null,0,null,0]
[null,0,"Wyoming","State Profiles","Blastoff! Discovery",9781644873571,19.95,27.95,978.7,2022,1,32,null,null,null,"60 & 61","Christina Leaf",null,null,0,null,0]
[null,0,"The 7 Wonders of the Modern World Set (7)","The 7 Wonders of the Modern World","Blastoff! Discovery",null,139.65,null,null,null,7,null,null,null,null,62,null,null,null,0,null,0]
[null,0,"Chichén Itzá","The 7 Wonders of the Modern World","Blastoff! Discovery",9781644872659,19.95,null,972,2021,1,32,null,"S",820,62,"Sara Green",null,null,0,null,0]
[null,0,"Christ the Redeemer","The 7 Wonders of the Modern World","Blastoff! Discovery",9781644872666,19.95,null,730.98099999999999,2021,1,32,null,"S",740,62,"Elizabeth Noll",null,null,0,null,0]
[null,0,"The Colosseum","The 7 Wonders of the Modern World","Blastoff! Discovery",9781644872673,19.95,null,937,2021,1,32,null,"S",710,62,"Elizabeth Noll",null,null,0,null,0]
[null,0,"The Great Wall of China","The 7 Wonders of the Modern World","Blastoff! Discovery",9781644872680,19.95,null,931,2021,1,32,null,"S",700,62,"Elizabeth Noll",null,null,0,null,0]
[null,0,"Machu Picchu","The 7 Wonders of the Modern World","Blastoff! Discovery",9781644872697,19.95,null,985,2021,1,32,null,"S",740,62,"Elizabeth Noll",null,null,0,null,0]
[null,0,"Petra","The 7 Wonders of the Modern World","Blastoff! Discovery",9781644872703,19.95,null,939.4,2021,1,32,null,"S",760,62,"Sara Green",null,null,0,null,0]
[null,0,"Taj Mahal, The","The 7 Wonders of the Modern World","Blastoff! Discovery",9781644872710,19.95,null,954.02,2021,1,32,null,"S",720,62,"Sara Green",null,null,0,null,0]
[null,0,"Ancient Civilizations Set (8)","Ancient Civilizations","Blastoff! Discovery",null,159.6,null,null,null,8,null,null,null,null,62,null,null,null,0,null,0]
[0,0,"Ancient Aztecs","Ancient Civilizations","Blastoff! Discovery",9781644871737,19.95,null,972,2020,1,32,4.8,"T",790,62,"Emily Rose Oachs",null,null,0,null,0]
[0,0,"Ancient China","Ancient Civilizations","Blastoff! Discovery",9781644871744,19.95,null,931,2020,1,32,4.9000000000000004,"U",740,62,"Emily Rose Oachs",null,null,0,null,0]
[0,0,"Ancient Egypt","Ancient Civilizations","Blastoff! Discovery",9781644871751,19.95,null,932,2020,1,32,4.8,"T",760,62,"Emily Rose Oachs",null,null,0,null,0]
[0,0,"Ancient Greece","Ancient Civilizations","Blastoff! Discovery",9781644871768,19.95,null,938,2020,1,32,5,"U",730,62,"Sara Green",null,null,0,null,0]
[0,0,"Ancient India","Ancient Civilizations","Blastoff! Discovery",9781644871775,19.95,null,934,2020,1,32,5,"U",770,62,"Sara Green",null,null,0,null,0]
[0,0,"Ancient Maya","Ancient Civilizations","Blastoff! Discovery",9781644871782,19.95,null,972,2020,1,32,4.5999999999999996,"T",750,62,"Sara Green",null,null,0,null,0]
[0,0,"Ancient Mesopotamia","Ancient Civilizations","Blastoff! Discovery",9781644871799,19.95,null,935,2020,1,32,4.9000000000000004,"U",740,62,"Sara Green",null,null,0,null,0]
[0,0,"Ancient Rome","Ancient Civilizations","Blastoff! Discovery",9781644871805,19.95,null,937,2020,1,32,4.9000000000000004,"V",750,62,"Emily Rose Oachs",null,null,0,null,0]
[null,0,"Dog Groups Set (7)","Dog Groups","Blastoff! Discovery",null,139.65,null,null,null,7,null,null,null,null,63,null,null,null,0,null,0]
[null,0,"Herding Dogs","Dog Groups","Blastoff! Discovery",9781644874417,19.95,null,636.73699999999997,2021,1,32,null,"P",810,63,"Sara Green",null,null,0,null,0]
[null,0,"Hounds","Dog Groups","Blastoff! Discovery",9781644874424,19.95,null,636.75300000000004,2021,1,32,null,"P",760,63,"Sara Green",null,null,0,null,0]
[null,0,"Non-sporting Dogs","Dog Groups","Blastoff! Discovery",9781644874431,19.95,null,636.70000000000005,2021,1,32,null,"P",620,63,"Elizabeth Noll",null,null,0,null,0]
[null,0,"Sporting Dogs","Dog Groups","Blastoff! Discovery",9781644874448,19.95,null,636.75,2021,1,32,null,"P",770,63,"Emily Rose Oachs",null,null,0,null,0]
[null,0,"Terriers","Dog Groups","Blastoff! Discovery",9781644874455,19.95,null,636.755,2021,1,32,null,"P",840,63,"Sara Green",null,null,{"$f":"IF(A849>0,1,0)","v":0},null,{"$f":"A849*K849","v":0}]
[null,0,"Toy Dogs","Dog Groups","Blastoff! Discovery",9781644874462,19.95,null,636.76,2021,1,32,null,"P",650,63,"Elizabeth Noll",null,null,0,null,0]
[null,0,"Working Dogs","Dog Groups","Blastoff! Discovery",9781644874479,19.95,null,636.73,2021,1,32,null,"P",780,63,"Emily Rose Oachs",null,null,0,null,0]
[null,0,"Superhero Science Set (6)","Super Hero Science","Blastoff! Discovery",null,119.7,null,null,null,6,null,null,null,null,63,null,null,null,0,null,0]
[null,0,"Flight","Super Hero Science","Blastoff! Discovery",9781644872598,19.95,27.95,629.13,2021,1,32,null,"T",780,63,"Blake Hoena",null,null,0,null,0]
[null,0,"Invisibility","Super Hero Science","Blastoff! Discovery",9781644872604,19.95,27.95,535,2021,1,32,null,"T",740,63,"Blake Hoena",null,null,0,null,0]
[null,0,"Super Senses","Super Hero Science","Blastoff! Discovery",9781644872611,19.95,27.95,612.79999999999995,2021,1,32,null,"U",770,63,"Paige V. Polinsky",null,null,0,null,0]
[null,0,"Super Speed","Super Hero Science","Blastoff! Discovery",9781644872628,19.95,27.95,531,2021,1,32,null,"T",810,63,"Blake Hoena",null,null,0,null,0]
[null,0,"Super Strength","Super Hero Science","Blastoff! Discovery",9781644872635,19.95,27.95,612.70000000000005,2021,1,32,null,"U",730,63,"Paige V. Polinsky",null,null,0,null,0]
[null,0,"Teleportation","Super Hero Science","Blastoff! Discovery",9781644872642,19.95,27.95,133.80000000000001,2021,1,32,null,"T",770,63,"Blake Hoena",null,null,0,null,0]
[null,{"$f":"A859*G859","v":0},"Movie Magic Set (10)","Movie Magic","Blastoff! Discovery",null,199.5,null,null,null,10,null,null,null,null,64,null,null,null,0,null,0]
[null,0,"Animal Performers","Movie Magic","Blastoff! Discovery",9781626178458,19.95,null,791.43,2019,1,32,4.3,"Q",760,64,"Sara Green",null,null,0,null,0]
[null,0,"Animation","Movie Magic","Blastoff! Discovery","9781644870426",19.95,null,777,2020,1,32,"5.0","Q",780,64,"Sara Green",null,null,0,null,0]
[null,0,"Camera Tricks","Movie Magic","Blastoff! Discovery",9781626178465,19.95,null,791.43020000000001,2019,1,32,4.7,"R",760,64,"Sara Green",null,null,0,null,0]
[null,0,"Costumes and Props","Movie Magic","Blastoff! Discovery",9781626178472,19.95,null,791.43020000000001,2019,1,32,4.8,"Q",820,64,"Sara Green",null,null,0,null,0]
[null,0,"Makeup","Movie Magic","Blastoff! Discovery",9781626178489,19.95,null,791.43020000000001,2019,1,32,4.5,"Q",670,64,"Sara Green",null,null,0,null,0]
[null,0,"Motion Capture","Movie Magic","Blastoff! Discovery","9781644870433",19.95,null,776,2020,1,32,4.9000000000000004,"Q",790,64,"Sara Green",null,null,0,null,0]
[null,0,"On-screen Vehicles","Movie Magic","Blastoff! Discovery","9781644870440",19.95,null,791.43,2020,1,32,4.9000000000000004,"Q",840,64,"Sara Green",null,null,0,null,0]
[null,0,"Special Effects","Movie Magic","Blastoff! Discovery",9781626178496,19.95,null,778.5,2019,1,32,4.7,"R",790,64,"Sara Green",null,null,0,null,0]
[null,0,"Stunts","Movie Magic","Blastoff! Discovery",9781626178502,19.95,null,791.43020000000001,2019,1,32,4.4000000000000004,"R",760,64,"Sara Green",null,null,0,null,0]
[null,0,"Visual Effects","Movie Magic","Blastoff! Discovery","9781644870457",19.95,null,777,2020,1,32,"5.0","Q",840,64,"Sara Green",null,null,0,null,0]
[null,0,"Investigating the Unexplained Set (10)","Investigating the Unexplained","Blastoff! Discovery",null,199.5,null,null,null,10,null,null,null,null,65,null,null,null,0,null,0]
[null,0,"Alien Abductions","Investigating the Unexplained","Blastoff! Discovery",9781626178519,19.95,null,1.9419999999999999,2019,1,32,4.5999999999999996,"Q",750,65,"Lisa Owings",null,null,0,null,0]
[null,0,"Atlantis","Investigating the Unexplained","Blastoff! Discovery",9781644870389,19.95,null,1.94,2020,1,32,4.5,"R",760,65,"Paige V. Polinsky",null,null,0,null,0]
[null,0,"Bigfoot","Investigating the Unexplained","Blastoff! Discovery",9781626178526,19.95,null,1.944,2019,1,32,4.5999999999999996,"Q",770,65,"Emily Rose Oachs",null,null,0,null,0]
[null,0,"ESP","Investigating the Unexplained","Blastoff! Discovery",9781644870402,19.95,null,133.80000000000001,2020,1,32,4.5,"R",730,65,"Paige V. Polinsky",null,null,0,null,0]
[null,0,"Ghost Ships","Investigating the Unexplained","Blastoff! Discovery",9781644870419,19.95,null,133.1,2020,1,32,4.9000000000000004,"R",750,65,"Paige V. Polinsky",null,null,0,null,0]
[null,0,"Ghosts","Investigating the Unexplained","Blastoff! Discovery",9781626178533,19.95,null,133.1,2019,1,32,4.5999999999999996,"Q",750,65,"Emily Rose Oachs",null,null,0,null,0]
[null,0,"Haunted Houses","Investigating the Unexplained","Blastoff! Discovery",9781626178540,19.95,null,133.1,2019,1,32,4.5,"R",770,65,"Lisa Owings",null,null,0,null,0]
[null,0,"Loch Ness Monster, The","Investigating the Unexplained","Blastoff! Discovery",9781626178557,19.95,null,1.944,2019,1,32,4.8,"Q",810,65,"Emily Rose Oachs",null,null,0,null,0]
[null,0,"The Bermuda Triangle","Investigating the Unexplained","Blastoff! Discovery",9781644870396,19.95,null,1.94,2020,1,32,4.7,"R",810,65,"Paige V. Polinsky",null,null,0,null,0]
[null,0,"UFOs","Investigating the Unexplained","Blastoff! Discovery",9781626178564,19.95,null,1.9419999999999999,2019,1,32,4.5,"R",730,65,"Emily Rose Oachs",null,null,0,null,0]
[null,0,"Incredible Sports Records Set (6)","Incredible Sports Records","Blastoff! Discovery",null,119.7,null,null,null,6,null,null,null,null,66,null,null,null,0,null,0]
[null,0,"Baseball Records","Incredible Sports Records","Blastoff! Discovery",9781626177819,19.95,null,796.35699999999997,2018,1,32,4.4000000000000004,"Q",900,66,"Allan Morey",null,null,0,null,0]
[null,0,"Basketball Records","Incredible Sports Records","Blastoff! Discovery",9781626177826,19.95,null,796.32299999999998,2018,1,32,4.5,"Q",900,66,"Thomas K. Adamson",null,null,0,null,0]
[null,0,"Football Records","Incredible Sports Records","Blastoff! Discovery",9781626177833,19.95,null,796.33199999999999,2018,1,32,4.4000000000000004,"Q",890,66,"Allan Morey",null,null,0,null,0]
[null,0,"Hockey Records","Incredible Sports Records","Blastoff! Discovery",9781626177840,19.95,null,796.96199999999999,2018,1,32,4.5999999999999996,"Q",870,66,"Allan Morey",null,null,0,null,0]
[null,0,"Olympic Records","Incredible Sports Records","Blastoff! Discovery",9781626177857,19.95,null,796.48068000000001,2018,1,32,4.3,"Q",810,66,"Thomas K. Adamson",null,null,0,null,0]
[null,0,"Soccer Records","Incredible Sports Records","Blastoff! Discovery",9781626177864,19.95,null,796.33399999999995,2018,1,32,4.2,"Q",880,66,"Thomas K. Adamson",null,null,0,null,0]
[null,0,"World of Robots Set (6)","World of Robots","Blastoff! Discovery",null,119.7,null,null,null,6,null,null,null,null,66,null,null,null,0,null,0]
[null,0,"Factory Robots","World of Robots","Blastoff! Discovery",9781626176874,19.95,null,670.42,2018,1,32,4.7,"U",670,66,"Elizabeth Noll",null,null,0,null,0]
[null,0,"Flying Robots","World of Robots","Blastoff! Discovery",9781626176881,19.95,null,629.13300000000004,2018,1,32,5,"U",800,66,"Elizabeth Noll",null,null,0,null,0]
[null,0,"Medical Robots","World of Robots","Blastoff! Discovery",9781626176898,19.95,null,610.28499999999997,2018,1,32,5.0999999999999996,"U",820,66,"Elizabeth Noll",null,null,0,null,0]
[null,0,"Military Robots","World of Robots","Blastoff! Discovery",9781626176904,19.95,null,623,2018,1,32,4.9000000000000004,"U",810,66,"Elizabeth Noll",null,null,0,null,0]
[null,0,"Police Robots","World of Robots","Blastoff! Discovery",9781626176911,19.95,null,363.20280000000002,2018,1,32,5,"U",810,66,"Elizabeth Noll",null,null,0,null,0]
[null,0,"Space Robots","World of Robots","Blastoff! Discovery",9781626176928,19.95,null,629.79999999999995,2018,1,32,5.0999999999999996,"U",810,66,"Elizabeth Noll",null,null,0,null,0]
[null,0,"Rocks & Minerals Set (6)","Rocks & Minerals","Blastoff! Discovery",null,119.7,null,null,null,6,null,null,null,null,67,null,null,null,0,null,0]
[0,0,"Crystals","Rocks & Minerals","Blastoff! Discovery","9781644870723",19.95,null,548,2020,1,32,4.3,"R",650,67,"Patrick Perish",null,null,0,null,0]
[null,0,"Fossils","Rocks & Minerals","Blastoff! Discovery","9781644870730",19.95,27.95,560,2020,1,32,4.8,"R",730,67,"Patrick Perish",null,null,0,null,0]
[null,0,"Gemstones","Rocks & Minerals","Blastoff! Discovery","9781644870747",19.95,27.95,553.79999999999995,2020,1,32,4.5999999999999996,"R",700,67,"Patrick Perish",null,null,0,null,0]
[null,0,"Igneous Rocks","Rocks & Minerals","Blastoff! Discovery","9781644870754",19.95,27.95,552,2020,1,32,4.5999999999999996,"R",760,67,"Jenny Fretland VanVoorst",null,null,0,null,0]
[null,0,"Metamorphic Rocks","Rocks & Minerals","Blastoff! Discovery","9781644870761",19.95,27.95,552,2020,1,32,4.8,"R",700,67,"Jenny Fretland VanVoorst",null,null,0,null,0]
[null,0,"Sedimentary Rocks","Rocks & Minerals","Blastoff! Discovery","9781644870778",19.95,27.95,552,2020,1,32,4.5,"R",720,67,"Jenny Fretland VanVoorst",null,null,0,null,0]
[null,0,"Inventions that Changed the World Set (6)","Inventions that Changed the World","Blastoff! Discovery",null,119.7,null,null,null,6,null,null,null,null,67,null,null,null,0,null,0]
[null,0,"Airplane, The","Inventions that Changed the World","Blastoff! Discovery",9781626179653,19.95,null,629.13300000000004,2019,1,32,4.5999999999999996,"S","810",67,"Emily Rose Oachs",null,null,0,null,0]
[null,0,"Automobile, The","Inventions that Changed the World","Blastoff! Discovery",9781626179660,19.95,null,629.22208999999998,2019,1,32,4.5999999999999996,"S","790",67,"Emily Rose Oachs",null,null,0,null,0]
[null,0,"Camera, The","Inventions that Changed the World","Blastoff! Discovery",9781626179677,19.95,null,771.3,2019,1,32,4.8,"R","770",67,"Rebecca Sabelko",null,null,0,null,0]
[null,0,"Light Bulb, The","Inventions that Changed the World","Blastoff! Discovery",9781626179684,19.95,null,621.32000000000005,2019,1,32,4.5999999999999996,"S","820",67,"Emily Rose Oachs",null,null,0,null,0]
[null,0,"Personal Computer, The","Inventions that Changed the World","Blastoff! Discovery",9781626179691,19.95,null,"DDC 004",2019,1,32,4.8,"R","790",67,"Emily Rose Oachs",null,null,0,null,0]
[null,0,"Printing Press, The","Inventions that Changed the World","Blastoff! Discovery",9781626179707,19.95,null,681,2019,1,32,4.7,"S","800",67,"Rebecca Sabelko",null,null,0,null,0]
[null,0,"Country Profiles Set (60)","Country Profiles","Blastoff! Discovery",null,1197,null,null,null,60,null,null,null,null,"68 & 69",null,null,null,0,null,0]
[null,0,"Afghanistan","Country Profiles","Blastoff! Discovery",9781626178397,19.95,null,958.1,2019,1,32,5,"S",820,"68 & 69","Amy Rechner",null,null,0,null,0]
[null,0,"Argentina","Country Profiles","Blastoff! Discovery","9781644870464",19.95,27.95,982,2020,1,32,"5.0","S",830,"68 & 69","Christina Leaf",null,null,0,null,0]
[null,0,"Australia","Country Profiles","Blastoff! Discovery",9781626176751,19.95,null,994,2018,1,32,4.9000000000000004,"S",810,"68 & 69","Marty Gitlin",null,null,0,null,0]
[null,0,"Belgium","Country Profiles","Blastoff! Discovery","9781644871652",19.95,27.95,949.3,2020,1,32,5,"R",800,"68 & 69","Chris Bowman",null,null,{"$f":"IF(A913>0,1,0)","v":0},null,{"$f":"A913*K913","v":0}]
[null,0,"Brazil","Country Profiles","Blastoff! Discovery",9781626176768,19.95,null,981,2018,1,32,4.7,"S",810,"68 & 69","Marty Gitlin",null,null,0,null,0]
[null,0,"Cambodia","Country Profiles","Blastoff! Discovery",9781626179592,19.95,null,959.6,2019,1,32,5,"R","840","68 & 69","Alicia Z. Klepeis",null,null,0,null,0]
[null,0,"Canada","Country Profiles","Blastoff! Discovery",9781626176775,19.95,null,971,2018,1,32,4.5999999999999996,"S",810,"68 & 69","Emily Rose Oachs",null,null,0,null,0]
[null,0,"Chile","Country Profiles","Blastoff! Discovery","9781644871676",19.95,27.95,972.84,2020,1,32,4.9000000000000004,"R",850,"68 & 69","Chris Bowman",null,null,0,null,0]
[null,0,"China","Country Profiles","Blastoff! Discovery",9781626176782,19.95,null,951,2018,1,32,4.7,"S",800,"68 & 69","Emily Rose Oachs",null,null,0,null,0]
[null,0,"Colombia","Country Profiles","Blastoff! Discovery",9781644872512,19.95,27.95,"986.1",2021,1,32,null,"R",800,"68 & 69","Golriz Golkar",null,null,0,null,0]
[null,0,"Costa Rica","Country Profiles","Blastoff! Discovery","9781644870471",19.95,27.95,972.86,2020,1,32,5.0999999999999996,"S",860,"68 & 69","Alicia Z. Klepeis",null,null,0,null,0]
[null,0,"Cuba","Country Profiles","Blastoff! Discovery",9781626178403,19.95,null,972.91,2019,1,32,4.9000000000000004,"S",830,"68 & 69","Amy Rechner",null,null,0,null,0]
[null,0,"Czech Republic, The","Country Profiles","Blastoff! Discovery",9781644872529,19.95,27.95,"943.71",2021,1,32,null,"R",770,"68 & 69","Alicia Z. Klepeis",null,null,0,null,0]
[null,{"$f":"A923*G923","v":0},"Denmark","Country Profiles","Blastoff! Discovery","9781644870488",19.95,27.95,948.9,2020,1,32,5.0999999999999996,"S",860,"68 & 69","Christina Leaf",null,null,0,null,0]
[null,0,"Dominican Republic, The","Country Profiles","Blastoff! Discovery",9781626178410,19.95,null,972.93,2019,1,32,5.0999999999999996,"S",830,"68 & 69","Amy Rechner",null,null,0,null,0]
[null,0,"Egypt","Country Profiles","Blastoff! Discovery",9781626178427,19.95,null,962,2019,1,32,5.0999999999999996,"S",820,"68 & 69","Amy Rechner",null,null,0,null,0]
[null,0,"El Salvador","Country Profiles","Blastoff! Discovery","9781644871669",19.95,27.95,983,2020,1,32,4.8,"R",860,"68 & 69","Chris Bowman",null,null,0,null,0]
[null,0,"England","Country Profiles","Blastoff! Discovery",9781626176799,19.95,null,942,2018,1,32,4.7,"S",770,"68 & 69","Amy Rechner",null,null,0,null,0]
[null,0,"France","Country Profiles","Blastoff! Discovery",9781626176805,19.95,null,944,2018,1,32,5,"S",820,"68 & 69","Amy Rechner",null,null,0,null,0]
[null,0,"Germany","Country Profiles","Blastoff! Discovery",9781626177321,19.95,null,943,2018,1,32,4.7,"S",810,"68 & 69","Amy Rechner",null,null,0,null,0]
[null,0,"Greece","Country Profiles","Blastoff! Discovery","9781644870495",19.95,27.95,949.5,2020,1,32,"5.0","T",800,"68 & 69","Christina Leaf",null,null,0,null,0]
[null,0,"Guatemala","Country Profiles","Blastoff! Discovery",9781626179608,19.95,null,972.81,2019,1,32,4.9000000000000004,"R","800","68 & 69","Alicia Z. Klepeis",null,null,0,null,0]
[null,0,"Haiti","Country Profiles","Blastoff! Discovery","9781644871683",19.95,27.95,972.94,2020,1,32,4.8,"R",780,"68 & 69","Alicia Z. Klepeis",null,null,0,null,0]
[null,0,"Honduras","Country Profiles","Blastoff! Discovery",9781644874486,19.95,27.95,972.83,2021,1,32,null,"R",840,"68 & 69","Golriz Golkar",null,null,0,null,0]
[null,0,"Iceland","Country Profiles","Blastoff! Discovery",9781644872536,19.95,27.95,"949.12",2021,1,32,null,"R",760,"68 & 69","Alicia Z. Klepeis",null,null,0,null,0]
[null,0,"India","Country Profiles","Blastoff! Discovery",9781626176812,19.95,null,954,2018,1,32,4.9000000000000004,"S",800,"68 & 69","Emily Rose Oachs",null,null,0,null,0]
[null,0,"Indonesia","Country Profiles","Blastoff! Discovery","9781644870501",19.95,27.95,959.8,2020,1,32,4.9000000000000004,"T",800,"68 & 69","Christina Leaf",null,null,0,null,0]
[null,0,"Iran","Country Profiles","Blastoff! Discovery","9781644871690",19.95,27.95,955,2020,1,32,4.9000000000000004,"R",800,"68 & 69","Alicia Z. Klepeis",null,null,0,null,0]
[null,0,"Iraq","Country Profiles","Blastoff! Discovery",9781626176829,19.95,null,956.7,2018,1,32,4.9000000000000004,"S",810,"68 & 69","Emily Rose Oachs",null,null,0,null,0]
[null,0,"Ireland","Country Profiles","Blastoff! Discovery",9781626177338,19.95,null,941.7,2018,1,32,4.7,"S",790,"68 & 69","Amy Rechner",null,null,0,null,0]
[null,0,"Israel","Country Profiles","Blastoff! Discovery",9781626177345,19.95,null,956.94,2018,1,32,"5.0","S",820,"68 & 69","Amy Rechner",null,null,0,null,0]
[null,0,"Italy","Country Profiles","Blastoff! Discovery",9781626176836,19.95,null,945,2018,1,32,4.8,"S",780,"68 & 69","Amy Rechner",null,null,0,null,0]
[null,0,"Japan","Country Profiles","Blastoff! Discovery",9781626176843,19.95,null,952,2018,1,32,4.9000000000000004,"S",840,"68 & 69","Marty Gitlin",null,null,0,null,0]
[null,0,"Jordan","Country Profiles","Blastoff! Discovery",9781626178434,19.95,null,956.95,2019,1,32,4.8,"S",780,"68 & 69","Amy Rechner",null,null,0,null,0]
[null,0,"Kenya","Country Profiles","Blastoff! Discovery",9781626179615,19.95,null,967.62,2019,1,32,4.8,"R","820","68 & 69","Amy Rechner",null,null,0,null,0]
[null,0,"Madagascar","Country Profiles","Blastoff! Discovery",9781644874493,19.95,27.95,969.1,2021,1,32,null,"R",830,"68 & 69","Golriz Golkar",null,null,0,null,0]
[null,0,"Mexico","Country Profiles","Blastoff! Discovery",9781626176850,19.95,null,972,2018,1,32,4.8,"S",810,"68 & 69","Marty Gitlin",null,null,0,null,0]
[null,0,"Morocco","Country Profiles","Blastoff! Discovery","9781644871706",19.95,27.95,964,2020,1,32,5,"R",800,"68 & 69","Alicia Z. Klepeis",null,null,0,null,0]
[null,0,"Nepal","Country Profiles","Blastoff! Discovery",9781644874509,19.95,27.95,954.96,2021,1,32,null,"R",770,"68 & 69","Alicia Z. Klepeis",null,null,0,null,0]
[null,0,"New Zealand","Country Profiles","Blastoff! Discovery",9781644874516,19.95,27.95,993,2021,1,32,null,"R",790,"68 & 69","Alicia Z. Klepeis",null,null,0,null,0]
[null,0,"Nigeria","Country Profiles","Blastoff! Discovery",9781644872543,19.95,27.95,"966.9",2021,1,32,null,"R",800,"68 & 69","Golriz Golkar",null,null,0,null,0]
[null,0,"Norway","Country Profiles","Blastoff! Discovery","9781644871713",19.95,27.95,948.1,2020,1,32,4.9000000000000004,"R",850,"68 & 69","Chris Bowman",null,null,0,null,0]
[null,0,"Pakistan","Country Profiles","Blastoff! Discovery","9781644870525",19.95,27.95,954.91,2020,1,32,4.8,"S",770,"68 & 69","Alicia Z. Klepeis",null,null,0,null,0]
[null,0,"Peru","Country Profiles","Blastoff! Discovery",9781626179622,19.95,null,985,2019,1,32,5,"R","820","68 & 69","Alicia Z. Klepeis",null,null,0,null,0]
[null,0,"Philippines, The","Country Profiles","Blastoff! Discovery",9781644872550,19.95,27.95,"959.9",2021,1,32,null,"R",800,"68 & 69","Alicia Z. Klepeis",null,null,0,null,0]
[null,0,"Portugal","Country Profiles","Blastoff! Discovery",9781644872567,19.95,27.95,"946.9",2021,1,32,null,"R",800,"68 & 69","Golriz Golkar",null,null,0,null,0]
[null,0,"Russia","Country Profiles","Blastoff! Discovery",9781626176867,19.95,null,947,2018,1,32,4.8,"S",840,"68 & 69","Amy Rechner",null,null,0,null,0]
[null,0,"Saudi Arabia","Country Profiles","Blastoff! Discovery",9781644872574,19.95,27.95,"953.8",2021,1,32,null,"R",790,"68 & 69","Golriz Golkar",null,null,0,null,0]
[null,0,"Scotland","Country Profiles","Blastoff! Discovery","9781644870532",19.95,27.95,941.1,2020,1,32,4.8,"S",840,"68 & 69","Alicia Z. Klepeis",null,null,0,null,0]
[null,0,"South Africa","Country Profiles","Blastoff! Discovery",9781644872581,19.95,27.95,"968",2021,1,32,null,"R",770,"68 & 69","Alicia Z. Klepeis",null,null,0,null,0]
[null,0,"South Korea","Country Profiles","Blastoff! Discovery","9781644871720",19.95,27.95,951.95,2020,1,32,4.9000000000000004,"R",820,"68 & 69","Alicia Z. Klepeis",null,null,0,null,0]
[null,0,"South Sudan","Country Profiles","Blastoff! Discovery",9781626179639,19.95,null,962.9,2019,1,32,4.9000000000000004,"R","810","68 & 69","Amy Rechner",null,null,0,null,0]
[null,0,"Spain","Country Profiles","Blastoff! Discovery",9781626178441,19.95,null,946,2019,1,32,4.9000000000000004,"R",880,"68 & 69","Amy Rechner",null,null,0,null,0]
[null,0,"Sweden","Country Profiles","Blastoff! Discovery",9781626177352,19.95,null,948.5,2018,1,32,4.9000000000000004,"S",830,"68 & 69","Amy Rechner",null,null,0,null,0]
[null,0,"Switzerland","Country Profiles","Blastoff! Discovery",9781626179646,19.95,null,949.4,2019,1,32,4.9000000000000004,"R","790","68 & 69","Amy Rechner",null,null,0,null,0]
[null,0,"Thailand","Country Profiles","Blastoff! Discovery",9781626177369,19.95,null,959.3,2018,1,32,4.7,"S",800,"68 & 69","Emily Rose Oachs",null,null,0,null,0]
[null,0,"The Netherlands","Country Profiles","Blastoff! Discovery","9781644870518",19.95,27.95,949.2,2020,1,32,5.0999999999999996,"T",760,"68 & 69","Alicia Z. Klepeis",null,null,0,null,0]
[null,0,"Turkey","Country Profiles","Blastoff! Discovery",9781644874523,19.95,27.95,956.1,2021,1,32,null,"R",840,"68 & 69","Golriz Golkar",null,null,0,null,0]
[null,0,"Ukraine","Country Profiles","Blastoff! Discovery",9781644874530,19.95,27.95,947.7,2021,1,32,null,"R",830,"68 & 69","Alicia Z. Klepeis",null,null,0,null,0]
[null,0,"Vietnam","Country Profiles","Blastoff! Discovery",9781626177376,19.95,null,959.7,2018,1,32,4.5999999999999996,"S",820,"68 & 69","Emily Rose Oachs",null,null,0,null,0]
[null,0,"The World of Dinosaurs Set (18 titles)","The World of Dinosaurs","Epic",null,359.1,null,null,null,18,null,null,null,null,"72 & 73",null,null,null,0,null,0]
[null,0,"Allosaurus","The World of Dinosaurs","Epic",9781644872901,19.95,26.95,567.91200000000003,2021,1,24,null,"O",550,"72 & 73","Rebecca Sabelko",null,null,0,null,0]
[null,0,"Ankylosaurus","The World of Dinosaurs","Epic","9781644870860",19.95,26.95,567.91499999999996,2020,1,24,"3.0","M",580,"72 & 73","Rebecca Sabelko",null,null,0,null,0]
[null,0,"Apatosaurus","The World of Dinosaurs","Epic",9781644872918,19.95,26.95,567.91300000000001,2021,1,24,null,"O",530,"72 & 73","Rebecca Sabelko",null,null,0,null,0]
[null,0,"Archaeopteryx","The World of Dinosaurs","Epic",9781644875421,19.95,26.95,568,2022,1,24,null,null,null,"72 & 73","Jennifer Sanderson",null,null,0,null,0]
[null,0,"Argentinosaurus","The World of Dinosaurs","Epic",9781644874684,19.95,26.95,567.91499999999996,2021,1,24,2.8,"O",550,"72 & 73","Rebecca Sabelko",null,null,0,null,0]
[null,0,"Brachiosaurus","The World of Dinosaurs","Epic",9781644875438,19.95,26.95,567.91300000000001,2022,1,24,null,null,null,"72 & 73","Jennifer Sanderson",null,null,0,null,0]
[null,0,"Diplodocus","The World of Dinosaurs","Epic","9781644870877",19.95,26.95,567.91300000000001,2020,1,24,2.9,"M",530,"72 & 73","Rebecca Sabelko",null,null,{"$f":"IF(A977>0,1,0)","v":0},null,{"$f":"A977*K977","v":0}]
[null,0,"Giganotosaurus","The World of Dinosaurs","Epic",9781644875445,19.95,26.95,567.91200000000003,2022,1,24,null,null,null,"72 & 73","Jennifer Sanderson",null,null,0,null,0]
[null,0,"Iguanodon","The World of Dinosaurs","Epic",9781644874691,19.95,26.95,567.91399999999999,2021,1,24,2.8,"O",530,"72 & 73","Rebecca Sabelko",null,null,0,null,0]
[null,0,"Nasutoceratops","The World of Dinosaurs","Epic",9781644875452,19.95,26.95,567.91499999999996,2022,1,24,null,null,null,"72 & 73","Jennifer Sanderson",null,null,0,null,0]
[null,0,"Oviraptor","The World of Dinosaurs","Epic",9781644872925,19.95,26.95,567.91200000000003,2021,1,24,null,"O",540,"72 & 73","Rebecca Sabelko",null,null,0,null,0]
[null,0,"Parasaurolophus","The World of Dinosaurs","Epic",9781644872932,19.95,26.95,567.91399999999999,2021,1,24,null,"O",560,"72 & 73","Rebecca Sabelko",null,null,0,null,0]
[null,0,"Spinosaurus","The World of Dinosaurs","Epic",9781644874707,19.95,26.95,567.91200000000003,2021,1,24,2.8,"O",490,"72 & 73","Rebecca Sabelko",null,null,0,null,0]
[null,0,"Stegosaurus","The World of Dinosaurs","Epic","9781644870884",19.95,26.95,567.91499999999996,2020,1,24,2.9,"M",550,"72 & 73","Rebecca Sabelko",null,null,0,null,0]
[null,0,"Triceratops","The World of Dinosaurs","Epic","9781644870891",19.95,26.95,567.91499999999996,2020,1,24,2.9,"M",550,"72 & 73","Rebecca Sabelko",null,null,0,null,0]
[null,0,"Tyrannosaurus Rex","The World of Dinosaurs","Epic","9781644870907",19.95,26.95,567.91200000000003,2020,1,24,"3.0","M",660,"72 & 73","Rebecca Sabelko",null,null,0,null,0]
[null,{"$f":"A987*G987","v":0},"Utahraptor","The World of Dinosaurs","Epic",9781644874714,19.95,26.95,567.91200000000003,2021,1,24,3,"O",610,"72 & 73","Rebecca Sabelko",null,null,0,null,0]
[null,0,"Velociraptor","The World of Dinosaurs","Epic","9781644870914",19.95,26.95,567.91200000000003,2020,1,24,"3.0","M",550,"72 & 73","Rebecca Sabelko",null,null,0,null,0]
[null,0,"Cutting-edge Technology Set (6)","Cutting-edge Technology","Epic",null,119.7,null,null,null,6,null,null,null,null,74,null,null,null,0,null,0]
[0,0,"Artificial Intelligence","Cutting-edge Technology","Epic",9781644872840,19.95,null,"*006.3",2021,1,24,null,null,500,74,"Betsy Rathburn",null,null,0,null,0]
[0,0,"Bionic Pets","Cutting-edge Technology","Epic",9781644872857,19.95,null,636.08900000000006,2021,1,24,null,null,530,74,"Betsy Rathburn",null,null,0,null,0]
[0,0,"Drones","Cutting-edge Technology","Epic",9781644872864,19.95,null,629.13300000000004,2021,1,24,null,null,620,74,"Betsy Rathburn",null,null,0,null,0]
[0,0,"Nanotechnology","Cutting-edge Technology","Epic",9781644872871,19.95,null,620,2021,1,24,null,null,520,74,"Betsy Rathburn",null,null,0,null,0]
[0,0,"Self-Driving Cars","Cutting-edge Technology","Epic",9781644872888,19.95,null,629.22199999999998,2021,1,24,null,"O",540,74,"Betsy Rathburn",null,null,0,null,0]
[0,0,"Virtual Reality","Cutting-edge Technology","Epic",9781644872895,19.95,null,"*006.8",2021,1,24,null,"O",610,74,"Betsy Rathburn",null,null,0,null,0]
[null,0,"A Pet What?! Set (6)","A Pet What?!","Epic",null,119.7,null,null,null,6,null,null,null,null,74,null,null,null,0,null,0]
[null,0,"My Pet Ferret","A Pet What?!","Epic",9781644871812,19.95,null,636.976,2020,1,24,2.6,"M",480,74,"Paige V. Polinsky",null,null,0,null,0]
[null,0,"My Pet Hedgehog","A Pet What?!","Epic",9781644871829,19.95,null,636.93299999999999,2020,1,24,2.7,"M",540,74,"Paige V. Polinsky",null,null,0,null,0]
[null,0,"My Pet Mini Horse","A Pet What?!","Epic",9781644871836,19.95,null,636.1,2020,1,24,2.7,"M",500,74,"Paige V. Polinsky",null,null,0,null,0]
[null,0,"My Pet Mini Pig","A Pet What?!","Epic",9781644871843,19.95,null,636.4,2020,1,24,2.6,"M",530,74,"Paige V. Polinsky",null,null,0,null,0]
[null,0,"My Pet Rat","A Pet What?!","Epic",9781644871850,19.95,null,636.93499999999995,2020,1,24,2.5,"M",490,74,"Paige V. Polinsky",null,null,0,null,0]
[null,0,"My Pet Sugar Glider","A Pet What?!","Epic",9781644871867,19.95,null,599.20000000000005,2020,1,24,2.6,"M",470,74,"Paige V. Polinsky",null,null,0,null,0]
[null,0,"Global Ghost Stories Set (6)","Global Ghost Stories","Epic",null,119.7,null,null,null,6,null,null,null,null,75,null,null,null,0,null,0]
[null,0,"Ghosts in Africa","Global Ghost Stories","Epic",9781644875360,19.95,null,133.1096,2022,1,24,null,null,null,75,"Christina Leaf",null,null,0,null,0]
[null,0,"Ghosts in Asia","Global Ghost Stories","Epic",9781644875377,19.95,null,133.1095,2022,1,24,null,null,null,75,"Monika Davies",null,null,0,null,0]
[null,0,"Ghosts in Australia","Global Ghost Stories","Epic",9781644875384,19.95,null,133.10993999999999,2022,1,24,null,null,null,75,"Paige V. Polinsky",null,null,0,null,0]
[null,0,"Ghosts in Europe","Global Ghost Stories","Epic",9781644875391,19.95,null,133.10939999999999,2022,1,24,null,null,null,75,"Paige V. Polinsky",null,null,0,null,0]
[null,0,"Ghosts in North America","Global Ghost Stories","Epic",9781644875407,19.95,null,133.1097,2022,1,24,null,null,null,75,"Paige V. Polinsky",null,null,0,null,0]
[null,0,"Ghosts in South America","Global Ghost Stories","Epic",9781644875414,19.95,null,133.1,2022,1,24,null,null,null,75,"Nicole E. Rodriguez Mata",null,null,0,null,0]
[null,0,"Birds of Prey Set (6)","Birds of Prey","Epic",null,119.7,null,null,null,6,null,null,null,null,76,null,null,null,0,null,0]
[null,0,"Eagles","Birds of Prey","Epic",9781626178786,19.95,null,598.9,2019,1,24,3,"L",660,76,"Nathan Sommer",null,null,0,null,0]
[null,0,"Falcons","Birds of Prey","Epic",9781626178793,19.95,null,598.9,2019,1,24,3,"L",550,76,"Nathan Sommer",null,null,0,null,0]
[null,0,"Hawks","Birds of Prey","Epic",9781626178809,19.95,null,598.9,2019,1,24,2.9,"L",550,76,"Nathan Sommer",null,null,0,null,0]
[null,0,"Kites","Birds of Prey","Epic",9781626178779,19.95,null,598.9,2019,1,24,3,"L",580,76,"Nathan Sommer",null,null,0,null,0]
[null,0,"Owls","Birds of Prey","Epic",9781626178816,19.95,null,598.9,2019,1,24,2.8,"L",530,76,"Nathan Sommer",null,null,0,null,0]
[null,0,"Vultures","Birds of Prey","Epic",9781626178823,19.95,null,598.9,2019,1,24,3,"L",570,76,"Nathan Sommer",null,null,0,null,0]
[null,0,"Space Tech Set (8)","Space Tech","Epic",null,159.6,null,null,null,8,null,null,null,null,76,null,null,null,0,null,0]
[null,0,"Earth Satellites","Space Tech","Epic",9781626176997,19.95,null,629.42999999999995,2018,1,24,2.8,"M",560,76,"Allan Morey",null,null,0,null,0]
[null,0,"Hubble Space Telescope, The","Space Tech","Epic",9781626177000,19.95,null,522.29190000000006,2018,1,24,3,"M",630,76,"Allan Morey",null,null,0,null,0]
[null,0,"International Space Station, The","Space Tech","Epic",9781626177017,19.95,null,629.44000000000005,2018,1,24,2.8,"M",600,76,"Allan Morey",null,null,0,null,0]
[null,0,"Lunar Probes","Space Tech","Epic",9781626177024,19.95,null,629.42999999999995,2018,1,24,2.8,"M",610,76,"Allan Morey",null,null,0,null,0]
[null,0,"Mars Rovers","Space Tech","Epic",9781626177031,19.95,null,629.20000000000005,2018,1,24,2.9,"M",590,76,"Allan Morey",null,null,0,null,0]
[null,0,"Robonauts","Space Tech","Epic",9781626177048,19.95,null,629.42999999999995,2018,1,24,3,"M",660,76,"Allan Morey",null,null,0,null,0]
[null,0,"Rockets","Space Tech","Epic",9781626177055,19.95,null,629.47,2018,1,24,2.8,"L",700,76,"Allan Morey",null,null,0,null,0]
[null,0,"Space Shuttles","Space Tech","Epic",9781626177062,19.95,null,629.44000000000005,2018,1,24,2.8,"M",620,76,"Allan Morey",null,null,0,null,0]
[null,0,"Full Throttle Set (12)","Full Throttle","Epic",null,239.4,null,null,null,12,null,null,null,null,77,null,null,null,0,null,0]
[null,0,"4x4 Trucks","Full Throttle","Epic",9781626178694,19.95,null,629.22299999999996,2019,1,24,2.9,"M",660,77,"Lindsay Shaffer",null,null,0,null,0]
[null,0,"ATVs","Full Throttle","Epic",9781626178700,19.95,null,629.22799999999995,2019,1,24,2.9,"L",570,77,"Lindsay Shaffer",null,null,0,null,0]
[null,0,"Dirt Bikes","Full Throttle","Epic",9781626178717,19.95,null,629.22699999999998,2019,1,24,2.9,"L",700,77,"Lindsay Shaffer",null,null,0,null,0]
[null,0,"Dragsters","Full Throttle","Epic",9781626179318,19.95,null,629.22799999999995,2019,1,24,3,"L",600,77,"Thomas K. Adamson",null,null,0,null,0]
[null,0,"Hot Rods","Full Throttle","Epic",9781626178724,19.95,null,629.22799999999995,2019,1,24,2.9,"M",720,77,"Thomas K. Adamson",null,null,0,null,0]
[null,0,"Indy Cars","Full Throttle","Epic",9781626179325,19.95,null,629.22850000000005,2019,1,24,2.8,"L",550,77,"Thomas K. Adamson",null,null,0,null,0]
[null,0,"Karts","Full Throttle","Epic",9781626179332,19.95,null,629.22850000000005,2019,1,24,2.7,"L",580,77,"Thomas K. Adamson",null,null,0,null,0]
[null,0,"Lowriders","Full Throttle","Epic",9781626178731,19.95,null,629.22199999999998,2019,1,24,2.8,"M",520,77,"Thomas K. Adamson",null,null,0,null,0]
[null,0,"Monster Trucks","Full Throttle","Epic",9781626178748,19.95,null,629.22400000000005,2019,1,24,3,"M",550,77,"Thomas K. Adamson",null,null,0,null,0]
[null,0,"Motocross Cycles","Full Throttle","Epic",9781626178755,19.95,null,629.22699999999998,2019,1,24,2.9,"M",590,77,"Lindsay Shaffer",null,null,0,null,0]
[null,0,"Sports Cars","Full Throttle","Epic",9781626179349,19.95,null,629.22209999999995,2019,1,24,2.9,"L",620,77,"Thomas K. Adamson",null,null,0,null,0]
[null,0,"Stock Cars","Full Throttle","Epic",9781626178762,19.95,null,629.22799999999995,2019,1,24,2.8,"M",590,77,"Thomas K. Adamson",null,null,0,null,0]
[null,0,"Ghost Stories Set (8)","Ghost Stories","Epic",null,159.6,null,null,null,8,null,null,null,null,78,null,null,null,0,null,0]
[null,0,"Ghosts at Sea","Ghost Stories","Epic",9781626174252,19.95,null,133.1,2017,1,24,"3.2","L",390,78,"Lisa Owings",null,null,0,null,0]
[null,0,"Ghosts in Battlefields","Ghost Stories","Epic",9781626174269,19.95,null,133.1,2017,1,24,"3.3","L",360,78,"Lisa Owings",null,null,{"$f":"IF(A1041>0,1,0)","v":0},null,{"$f":"A1041*K1041","v":0}]
[null,0,"Ghosts in Cemeteries","Ghost Stories","Epic",9781626174276,19.95,null,133.1,2017,1,24,"3.1","L",370,78,"Lisa Owings",null,null,0,null,0]
[null,0,"Ghosts in Hotels","Ghost Stories","Epic",9781626174283,19.95,null,133.1,2017,1,24,"3.2","L",380,78,"Lisa Owings",null,null,0,null,0]
[null,0,"Ghosts in Mansions","Ghost Stories","Epic",9781626174290,19.95,null,133.1,2017,1,24,"3.3","L",340,78,"Lisa Owings",null,null,0,null,0]
[null,0,"Ghosts in Palaces","Ghost Stories","Epic",9781626174306,19.95,null,133.1,2017,1,24,"3.2","L",340,78,"Lisa Owings",null,null,0,null,0]
[null,0,"Ghosts in Prisons","Ghost Stories","Epic",9781626174313,19.95,null,133.1,2017,1,24,"3.3","L",350,78,"Lisa Owings",null,null,0,null,0]
[null,0,"Ghosts in the White House","Ghost Stories","Epic",9781626174320,19.95,null,133.1,2017,1,24,"3.3","L",480,78,"Lisa Owings",null,null,0,null,0]
[null,0,"Extreme Sports Set (10)","Extreme Sports","Epic",null,199.5,null,null,null,10,null,null,null,null,78,null,null,null,0,null,0]
[null,0,"Big Air Skateboarding","Extreme Sports","Epic",9781626172722,19.95,null,796.22,2016,1,24,"3.2","M",540,78,"Thomas K. Adamson",null,null,0,null,0]
[null,0,"Big Air Snowboarding","Extreme Sports","Epic",9781626173514,19.95,null,796.93899999999996,2016,1,24,"3.2","M",610,78,"Thomas K. Adamson",null,null,0,null,0]
[null,{"$f":"A1051*G1051","v":0},"BMX Freestyle","Extreme Sports","Epic",9781626172739,19.95,null,796.6,2016,1,24,"3.0","M",570,78,"Thomas K. Adamson",null,null,0,null,0]
[null,0,"BMX Racing","Extreme Sports","Epic",9781626172746,19.95,null,796.62199999999996,2016,1,24,"2.9","L",490,78,"Thomas K. Adamson",null,null,0,null,0]
[null,0,"Motocross Freestyle","Extreme Sports","Epic",9781626172753,19.95,null,796.7,2016,1,24,"3.1","M",600,78,"Thomas K. Adamson",null,null,0,null,0]
[null,0,"Motocross Racing","Extreme Sports","Epic",9781626172760,19.95,null,796.7,2016,1,24,"3.1","M",540,78,"Thomas K. Adamson",null,null,0,null,0]
[null,0,"Rally Car Racing","Extreme Sports","Epic",9781626173521,19.95,null,796.7,2016,1,24,"3.1","L",580,78,"Chris Bowman",null,null,0,null,0]
[null,0,"Skateboarding Street Style","Extreme Sports","Epic",9781626172777,19.95,null,796.22,2016,1,24,"3.1","M",540,78,"Thomas K. Adamson",null,null,0,null,0]
[null,0,"Snowboarding Slopestyle","Extreme Sports","Epic",9781626173538,19.95,null,796.93899999999996,2016,1,24,"3.1","M",620,78,"Thomas K. Adamson",null,null,0,null,0]
[null,0,"Vert Skateboarding","Extreme Sports","Epic",9781626173545,19.95,null,796.22,2016,1,24,"3.1","L",540,78,"Chris Bowman",null,null,0,null,0]
[null,0,"Unexplained Mysteries Set (13)","Unexplained Mysteries","Epic",null,259.35000000000002,null,null,null,13,null,null,null,null,79,null,null,null,0,null,0]
[null,0,"Alien Abductions","Unexplained Mysteries","Epic",9781626171008,19.95,null,1,2014,1,24,2.8,"O",580,79,"Ray McClellan",null,null,0,null,0]
[null,0,"Area 51","Unexplained Mysteries","Epic",9781626171015,19.95,null,1,2014,1,24,3.1,"N",630,79,"Nadia Higgins",null,null,0,null,0]
[null,0,"Atlantis","Unexplained Mysteries","Epic",9781626172005,19.95,null,398.23,"2015",1,24,"3.0","N",560,79,"Lisa Owings",null,null,0,null,0]
[null,0,"Bigfoot","Unexplained Mysteries","Epic",9781626171039,19.95,null,1,2014,1,24,"3.0","N",590,79,"Ray McClellan",null,null,0,null,0]
[null,0,"ESP","Unexplained Mysteries","Epic",9781626172012,19.95,null,133.80000000000001,"2015",1,24,"3.0","O",500,79,"Lisa Owings",null,null,0,null,0]
[null,0,"Ghost Ships","Unexplained Mysteries","Epic",9781626172029,19.95,null,1.94,"2015",1,24,3.2,"N",530,79,"Lisa Owings",null,null,0,null,0]
[null,0,"Ghosts","Unexplained Mysteries","Epic",9781626171046,19.95,null,1,2014,1,24,"3.0","N",610,79,"Nadia Higgins",null,null,0,null,0]
[null,0,"Haunted Houses","Unexplained Mysteries","Epic",9781626171053,19.95,null,1,2014,1,24,3.1,"N",580,79,"Nadia Higgins",null,null,0,null,0]
[null,0,"Stonehenge","Unexplained Mysteries","Epic",9781626172043,19.95,null,936.2,"2015",1,24,3.1,"O",560,79,"Lisa Owings",null,null,0,null,0]
[null,0,"The Bermuda Triangle","Unexplained Mysteries","Epic",9781626171022,19.95,null,1,2014,1,24,3.4,"N",580,79,"Ray McClellan",null,null,0,null,0]
[null,0,"The Loch Ness Monster","Unexplained Mysteries","Epic",9781626171060,19.95,null,1,2014,1,24,"3.0","N",580,79,"Ray McClellan",null,null,0,null,0]
[null,0,"The Mummy's Curse","Unexplained Mysteries","Epic",9781626172036,19.95,null,393,"2015",1,24,3.3,"N",530,79,"Lisa Owings",null,null,0,null,0]
[null,0,"UFOs","Unexplained Mysteries","Epic",9781626171077,19.95,null,1,2014,1,24,3.4,"N",640,79,"Nadia Higgins",null,null,0,null,0]
[null,0,"Animal Battles Set (18)","Animal Battles","Torque",null,359.1,null,null,null,18,null,null,null,null,"82 & 83",null,null,null,0,null,0]
[null,0,"Anaconda vs. Jaguar","Animal Battles","Torque",9781644871553,19.95,26.95,597.96,2020,1,24,3.7,"P",590,"82 & 83","Thomas K. Adamson",null,null,0,null,0]
[null,0,"Dingo vs. Kangaroo","Animal Battles","Torque",9781644875322,19.95,26.95,599.77,2022,1,24,null,null,null,"82 & 83","Kieran Downs",null,null,0,null,0]
[null,0,"Golden Eagle vs. Great Horned Owl","Animal Battles","Torque",9781644872802,19.95,26.95,598.9,2021,1,24,null,"P",760,"82 & 83","Nathan Sommer",null,null,0,null,0]
[null,0,"Gorilla vs. Leopard","Animal Battles","Torque",9781644871560,19.95,26.95,599.88400000000001,2020,1,24,3.8,"P",610,"82 & 83","Nathan Sommer",null,null,0,null,0]
[null,0,"Great White Shark vs. Killer Whale","Animal Battles","Torque",9781644871577,19.95,26.95,597.29999999999995,2020,1,24,3.5,"P",580,"82 & 83","Thomas K. Adamson",null,null,0,null,0]
[null,0,"Grizzly Bear vs. Wolf Pack","Animal Battles","Torque",9781644871584,19.95,26.95,599.78399999999999,2020,1,24,3.9,"P",700,"82 & 83","Nathan Sommer",null,null,0,null,0]
[null,0,"King Cobra vs. Mongoose","Animal Battles","Torque",9781644875339,19.95,26.95,597.96,2022,1,24,null,null,null,"82 & 83","Kieran Downs",null,null,0,null,0]
[null,0,"Komodo Dragon vs. Orangutan","Animal Battles","Torque",9781644872819,19.95,26.95,597.95000000000005,2021,1,24,null,"P",730,"82 & 83","Nathan Sommer",null,null,0,null,0]
[null,0,"Lion vs. Cape Buffalo","Animal Battles","Torque",9781644874608,19.95,26.95,599.75699999999995,2021,1,24,3.3,"P",560,"82 & 83","Kieran Downs",null,null,0,null,0]
[null,0,"Lion vs. Hyena Clan","Animal Battles","Torque",9781644871591,19.95,26.95,599.75699999999995,2020,1,24,3.7,"P",730,"82 & 83","Nathan Sommer",null,null,0,null,0]
[null,0,"Mountain Lion vs. Coyote","Animal Battles","Torque",9781644874615,19.95,26.95,599.75,2021,1,24,3.4,"P",580,"82 & 83","Thomas K. Adamson",null,null,0,null,0]
[null,0,"Nile Crocodile vs. Hippopotamus","Animal Battles","Torque",9781644875346,19.95,26.95,597.98,2022,1,24,null,null,null,"82 & 83","Kieran Downs",null,null,0,null,0]
[null,0,"Polar Bear vs. Walrus","Animal Battles","Torque",9781644875353,19.95,26.95,599.78599999999994,2022,1,24,null,null,null,"82 & 83","Kieran Downs",null,null,0,null,0]
[null,0,"Rhinoceros vs. African Elephant","Animal Battles","Torque",9781644871607,19.95,26.95,599.66,2020,1,24,3.6,"P",590,"82 & 83","Thomas K. Adamson",null,null,0,null,0]
[null,0,"Scorpion vs. Tarantula","Animal Battles","Torque",9781644874622,19.95,26.95,595.4,2021,1,24,3.6,"P",550,"82 & 83","Thomas K. Adamson",null,null,0,null,0]
[null,0,"Siberian Tiger vs. Brown Bear","Animal Battles","Torque",9781644872826,19.95,26.95,599.75599999999997,2021,1,24,null,"P",630,"82 & 83","Nathan Sommer",null,null,0,null,0]
[null,0,"Wolf Pack vs. Moose","Animal Battles","Torque",9781644872833,19.95,26.95,599.77300000000002,2021,1,24,null,"P",710,"82 & 83","Nathan Sommer",null,null,0,null,0]
[null,0,"Wolverine vs. Honey Badger","Animal Battles","Torque",9781644874639,19.95,26.95,599.76,2021,1,24,3.5,"P",590,"82 & 83","Kieran Downs",null,null,0,null,0]
[null,0,"Mythical Creatures Set (12)","Mythical Creatures","Torque",null,239.4,null,null,null,12,null,null,null,null,84,null,null,null,0,null,0]
[null,0,"Centaurs","Mythical Creatures","Torque",9781644872727,19.95,null,398,2021,1,24,4.0999999999999996,"S",630,84,"Thomas Kingsley Troupe",null,null,0,null,0]
[null,0,"Dragons","Mythical Creatures","Torque",9781644872734,19.95,null,398,2021,1,24,3.9,"S",720,84,"Lisa Owings",null,null,0,null,0]
[null,0,"Fairies","Mythical Creatures","Torque",9781644874646,19.95,null,398.21,2021,1,24,3.4,"S",610,84,"Thomas Kingsley Troupe",null,null,0,null,0]
[null,0,"Giants","Mythical Creatures","Torque",9781644872741,19.95,null,398,2021,1,24,3.9,"R",650,84,"Thomas Kingsley Troupe",null,null,0,null,0]
[null,0,"Kraken","Mythical Creatures","Torque",9781644874653,19.95,null,594,2021,1,24,3.9,"S",700,84,"Thomas Kingsley Troupe",null,null,0,null,0]
[null,0,"Mermaids","Mythical Creatures","Torque",9781644872758,19.95,null,398,2021,1,24,3.9,"S",660,84,"Lisa Owings",null,null,0,null,0]
[null,0,"Phoenixes","Mythical Creatures","Torque",9781644872765,19.95,null,398,2021,1,24,4,"S",680,84,"Thomas Kingsley Troupe",null,null,0,null,0]
[null,0,"Sea Serpents","Mythical Creatures","Torque",9781644874660,19.95,null,"*001.944",2021,1,24,3.9,"S",690,84,"Thomas Kingsley Troupe",null,null,0,null,0]
[null,0,"Sphinxes","Mythical Creatures","Torque",9781644874677,19.95,null,398.21,2021,1,24,4,"S",670,84,"Thomas Kingsley Troupe",null,null,0,null,0]
[null,0,"Trolls","Mythical Creatures","Torque",9781644872772,19.95,null,398,2021,1,24,3.9,"S",620,84,"Thomas Kingsley Troupe",null,null,0,null,0]
[null,0,"Unicorns","Mythical Creatures","Torque",9781644872789,19.95,null,398,2021,1,24,3.9,"S",640,84,"Lisa Owings",null,null,0,null,0]
[null,0,"Werewolves","Mythical Creatures","Torque",9781644872796,19.95,null,398,2021,1,24,4,"T",620,84,"Thomas Kingsley Troupe",null,null,0,null,0]
[null,0,"Deadly Disasters Set (6)","Deadly Disasters","Torque",null,119.7,null,null,null,6,null,null,null,null,85,null,null,null,{"$f":"IF(A1105>0,1,0)","v":0},null,{"$f":"A1105*K1105","v":0}]
[null,0,"The Coronavirus Pandemic","Deadly Disasters","Torque",9781644875261,19.95,null,614.5,2022,1,24,null,null,null,85,"Nathan Sommer",null,null,0,null,0]
[null,0,"The Eruption of Mount St. Helens","Deadly Disasters","Torque",9781644875278,19.95,null,363.34950980000002,2022,1,24,null,null,null,85,"Thomas K. Adamson",null,null,0,null,0]
[null,0,"The Haiti Earthquake","Deadly Disasters","Torque",9781644875285,19.95,null,363.34,2022,1,24,null,null,null,85,"Nathan Sommer",null,null,0,null,0]
[null,0,"Hurricane Katrina","Deadly Disasters","Torque",9781644875292,19.95,null,363.34,2022,1,24,null,null,null,85,"Thomas K. Adamson",null,null,0,null,0]
[null,0,"The Indian Ocean Tsunami","Deadly Disasters","Torque",9781644875308,19.95,null,363.34,2022,1,24,null,null,null,85,"Thomas K. Adamson",null,null,0,null,0]
[null,0,"The Joplin Tornadoes","Deadly Disasters","Torque",9781644875315,19.95,null,363.34,2022,1,24,null,null,null,85,"Nathan Sommer",null,null,0,null,0]
[null,0,"Ready, Set, Game! Set (6)","Ready, Set, Game!","Torque",null,119.7,null,null,null,6,null,null,null,null,85,null,null,null,0,null,0]
[null,0,"Arcade Gaming","Ready, Set, Game!","Torque",9781644874547,19.95,null,794.8,2021,1,24,3.9,"R",640,85,"Betsy Rathburn",null,null,0,null,0]
[null,0,"Computer Gaming","Ready, Set, Game!","Torque",9781644874554,19.95,null,794.8,2021,1,24,3.7,"R",650,85,"Betsy Rathburn",null,null,0,null,0]
[null,{"$f":"A1115*G1115","v":0},"Console Gaming","Ready, Set, Game!","Torque",9781644874561,19.95,null,794.8,2021,1,24,3.9,"R",660,85,"Betsy Rathburn",null,null,0,null,0]
[null,0,"Handheld Gaming","Ready, Set, Game!","Torque",9781644874578,19.95,null,794.8,2021,1,24,3.9,"R",690,85,"Betsy Rathburn",null,null,0,null,0]
[null,0,"Online Gaming","Ready, Set, Game!","Torque",9781644874585,19.95,null,794.8,2021,1,24,3.9,"R",670,85,"Betsy Rathburn",null,null,0,null,0]
[null,0,"Virtual Reality Gaming","Ready, Set, Game!","Torque",9781644874592,19.95,null,794.8,2021,1,24,4,"R",710,85,"Betsy Rathburn",null,null,0,null,0]
[null,0,"Sports Championships Set (6)","Sports Championships","Torque",null,119.7,null,null,null,6,null,null,null,null,86,null,null,null,0,null,0]
[null,0,"Final Four, The","Sports Championships","Torque",9781626178632,19.95,null,796.32299999999998,2019,1,24,3.8,"N",680,86,"Allan Morey",null,null,0,null,0]
[null,0,"NBA Finals, The","Sports Championships","Torque",9781626178649,19.95,null,796.32299999999998,2019,1,24,3.8,"N",720,86,"Allan Morey",null,null,0,null,0]
[null,0,"Stanley Cup Finals, The","Sports Championships","Torque",9781626178656,19.95,null,796.96199999999999,2019,1,24,3.9,"N",740,86,"Allan Morey",null,null,0,null,0]
[null,0,"Super Bowl, The","Sports Championships","Torque",9781626178663,19.95,null,796.33199999999999,2019,1,24,3.9,"N",740,86,"Allan Morey",null,null,0,null,0]
[null,0,"World Cup, The","Sports Championships","Torque",9781626178670,19.95,null,796.33399999999995,2019,1,24,3.7,"N",590,86,"Allan Morey",null,null,0,null,0]
[null,0,"World Series, The","Sports Championships","Torque",9781626178687,19.95,null,796.35699999999997,2019,1,24,3.9,"N",740,86,"Allan Morey",null,null,0,null,0]
[null,0,"Digging Up the Past Set (6)","Digging Up the Past","Torque",null,119.7,null,null,null,6,null,null,null,null,86,null,null,null,0,null,0]
[null,0,"Cave of Altamira, The","Digging Up the Past","Torque","9781644870662",19.95,null,936.6,2020,1,24,"4.0","P",700,86,"Emily Rose Oachs",null,null,0,null,0]
[null,0,"King Tut's Tomb","Digging Up the Past","Torque","9781644870679",19.95,null,932,2020,1,24,3.9,"P",610,86,"Emily Rose Oachs",null,null,0,null,0]
[null,0,"The Palace of Knossos","Digging Up the Past","Torque","9781644870686",19.95,null,939,2020,1,24,"4.0","P",660,86,"Emily Rose Oachs",null,null,0,null,0]
[null,0,"Pompeii","Digging Up the Past","Torque","9781644870693",19.95,null,937,2020,1,24,"4.0","P",690,86,"Emily Rose Oachs",null,null,0,null,0]
[null,0,"Terra-Cotta Army, The","Digging Up the Past","Torque","9781644870709",19.95,null,931,2020,1,24,"4.0","P",670,86,"Emily Rose Oachs",null,null,0,null,0]
[null,0,"Titanic, The","Digging Up the Past","Torque","9781644870716",19.95,null,910.91629999999998,2020,1,24,"4.0","P",610,86,"Emily Rose Oachs",null,null,0,null,0]
[null,0,"Abandoned Places Set (10)","Abandoned Places","Torque",null,199.5,null,null,null,10,null,null,null,null,87,null,null,null,0,null,0]
[null,0,"Battleship Island: The Deserted Island","Abandoned Places","Torque",9781626176935,19.95,null,952,2018,1,24,3.6,"Q",640,87,"Lisa Owings",null,null,0,null,0]
[null,0,"Bodie: The Gold-mining Ghost Town","Abandoned Places","Torque",9781626176942,19.95,null,979.4,2018,1,24,3.9,"Q",730,87,"Kari Schuetz",null,null,0,null,0]
[null,0,"Craco: The Medieval Ghost Town","Abandoned Places","Torque",9781626176959,19.95,null,945,2018,1,24,3.7,"Q",650,87,"Lisa Owings",null,null,0,null,0]
[null,0,"Kolmanskop: The Diamond Mine Ghost Town","Abandoned Places","Torque","9781644871614",19.95,null,916.88099999999997,2020,1,24,3.8,"Q",720,87,"Christina Leaf",null,null,0,null,0]
[null,0,"Machu Picchu: The Lost Civilization","Abandoned Places","Torque",9781626176966,19.95,null,985,2018,1,24,4,"Q",690,87,"Christina Leaf",null,null,0,null,0]
[null,0,"Pripyat: The Chernobyl Ghost Town","Abandoned Places","Torque",9781626176973,19.95,null,363.47,2018,1,24,3.9,"Q",640,87,"Lisa Owings",null,null,0,null,0]
[null,0,"Roanoke: The Lost Colony","Abandoned Places","Torque",9781626176980,19.95,null,975.6,2018,1,24,3.8,"Q",740,87,"Kari Schuetz",null,null,0,null,0]
[null,0,"Salton Riviera: The Deserted Resort Community","Abandoned Places","Torque","9781644871638",19.95,null,979.4,2020,1,24,3.9,"R",700,87,"Lisa Owings",null,null,0,null,0]
[null,0,"Six Flags New Orleans: The Ruined Theme Park","Abandoned Places","Torque","9781644871621",19.95,null,791.06,2020,1,24,3.9,"Q",720,87,"Christina Leaf",null,null,0,null,0]
[null,0,"Skara Brae: The Lost Neolithic Village","Abandoned Places","Torque","9781644871645",19.95,null,936.1,2020,1,24,3.9,"R",730,87,"Lisa Owings",null,null,0,null,0]
[null,0,"Survival Zone Set (12)","Survival Zone","Torque",null,239.4,null,null,null,12,null,null,null,null,88,null,null,null,0,null,0]
[null,0,"Survive a Blizzard","Survival Zone","Torque",9781626174412,19.95,null,613.6,"2017",1,24,"3.4","N",728,88,"Chris Bowman",null,null,0,null,0]
[null,0,"Survive a Fire","Survival Zone","Torque","9781626175815",19.95,null,613.69000000000005,2017,1,24,3.7,"O",670,88,"Patrick Perish",null,null,0,null,0]
[null,0,"Survive a Flood","Survival Zone","Torque",9781626174429,19.95,null,613.6,"2017",1,24,"3.7","N",703,88,"Patrick Perish",null,null,0,null,0]
[null,0,"Survive a Hurricane","Survival Zone","Torque",9781626174436,19.95,null,613.6,"2017",1,24,"3.8","N",669,88,"Patrick Perish",null,null,0,null,0]
[null,0,"Survive a Plane Crash","Survival Zone","Torque","9781626175822",19.95,null,613.69000000000005,2017,1,24,4,"N",720,88,"Patrick Perish",null,null,0,null,0]
[null,0,"Survive a Tornado","Survival Zone","Torque",9781626174443,19.95,null,613.6,"2017",1,24,"3.8","N",642,88,"Chris Bowman",null,null,0,null,0]
[null,0,"Survive a Tsunami","Survival Zone","Torque",9781626174450,19.95,null,613.6,"2017",1,24,"3.9","O",740,88,"Patrick Perish",null,null,0,null,0]
[null,0,"Survive an Avalanche","Survival Zone","Torque","9781626175839",19.95,null,613.69000000000005,2017,1,24,4,"O",700,88,"Patrick Perish",null,null,0,null,0]
[null,0,"Survive an Earthquake","Survival Zone","Torque","9781626175846",19.95,null,613.69000000000005,2017,1,24,3.8,"O",710,88,"Patrick Perish",null,null,0,null,0]
[null,0,"Survive in the Mountains","Survival Zone","Torque",9781626174467,19.95,null,619.6,"2017",1,24,"3.7","N",721,88,"Chris Bowman",null,null,0,null,0]
[null,0,"Survive in the Woods","Survival Zone","Torque",9781626174474,19.95,null,619.6,"2017",1,24,"3.4","N",695,88,"Chris Bowman",null,null,0,null,0]
[null,0,"Survive on a Desert Island","Survival Zone","Torque",9781626174481,19.95,null,619.6,"2017",1,24,"3.6","N",701,88,"Patrick Perish",null,null,0,null,0]
[null,0,"Tough Trucks Set (6)","Tough Trucks","Torque",null,119.7,null,null,null,6,null,null,null,null,88,null,null,null,0,null,0]
[null,0,"Chevrolet Silverado","Tough Trucks","Torque",9781626178915,19.95,null,629.22299999999996,2019,1,24,4,"N",710,88,"Larry Mack",null,null,0,null,0]
[null,0,"Ford F-150","Tough Trucks","Torque",9781626178922,19.95,null,629.22299999999996,2019,1,24,3.9,"N",660,88,"Larry Mack",null,null,0,null,0]
[null,0,"Honda Ridgeline","Tough Trucks","Torque",9781626178939,19.95,null,629.22299999999996,2019,1,24,4,"N",720,88,"Larry Mack",null,null,0,null,0]
[null,0,"Nissan Frontier","Tough Trucks","Torque",9781626178946,19.95,null,629.22299999999996,2019,1,24,4.0999999999999996,"N",710,88,"Larry Mack",null,null,0,null,0]
[null,0,"Ram 1500","Tough Trucks","Torque",9781626178953,19.95,null,629.22299999999996,2019,1,24,3.9,"N",720,88,"Larry Mack",null,null,0,null,0]
[null,0,"Toyota Tacoma","Tough Trucks","Torque",9781626178960,19.95,null,629.22299999999996,2019,1,24,4.2,"N",760,88,"Larry Mack",null,null,0,null,0]
[null,0,"Space Science Set (16)","Space Science","Torque",null,319.2,null,null,null,16,null,null,null,null,89,null,null,null,0,null,0]
[null,0,"Asteroids","Space Science","Torque",9781626178571,19.95,null,523.44000000000005,2019,1,24,3.8,"P",660,89,"Betsy Rathburn",null,null,0,null,0]
[null,0,"Comets","Space Science","Torque",9781626178588,19.95,null,523.6,2019,1,24,3.6,"P",700,89,"Betsy Rathburn",null,null,0,null,0]
[null,0,"Earth","Space Science","Torque",9781626179714,19.95,null,525,2019,1,24,3.8,"P","720",89,"Betsy Rathburn",null,null,0,null,0]
[null,0,"Galaxies","Space Science","Torque",9781626178595,19.95,null,523.1,2019,1,24,3.9,"P",670,89,"Betsy Rathburn",null,null,0,null,0]
[null,0,"Jupiter","Space Science","Torque",9781626179721,19.95,null,523.45000000000005,2019,1,24,3.9,"Q","690",89,"Betsy Rathburn",null,null,{"$f":"IF(A1169>0,1,0)","v":0},null,{"$f":"A1169*K1169","v":0}]
[null,0,"Mars","Space Science","Torque",9781626179738,19.95,null,523.42999999999995,2019,1,24,3.7,"Q","730",89,"Nathan Sommer",null,null,0,null,0]
[null,0,"Mercury","Space Science","Torque",9781626179745,19.95,null,523.41,2019,1,24,3.9,"Q","710",89,"Nathan Sommer",null,null,0,null,0]
[null,0,"Moons","Space Science","Torque",9781626178601,19.95,null,523.9,2019,1,24,3.6,"P",680,89,"Betsy Rathburn",null,null,0,null,0]
[null,0,"Neptune","Space Science","Torque",9781626179769,19.95,null,523.48,2019,1,24,3.9,"Q","610",89,"Nathan Sommer",null,null,0,null,0]
[null,0,"Planets","Space Science","Torque",9781626178618,19.95,null,523.4,2019,1,24,3.7,"P",660,89,"Betsy Rathburn",null,null,0,null,0]
[null,0,"Pluto & the Dwarf Planets","Space Science","Torque",9781626179776,19.95,null,523.49,2019,1,24,3.9,"Q","740",89,"Nathan Sommer",null,null,0,null,0]
[null,0,"Saturn","Space Science","Torque",9781626179783,19.95,null,523.46,2019,1,24,3.6,"Q","700",89,"Betsy Rathburn",null,null,0,null,0]
[null,0,"Sun, The","Space Science","Torque",9781626178625,19.95,null,523.70000000000005,2019,1,24,3.7,"P",690,89,"Betsy Rathburn",null,null,0,null,0]
[null,0,"The Moon","Space Science","Torque",9781626179752,19.95,null,523.29999999999995,2019,1,24,3.7,"P","710",89,"Nathan Sommer",null,null,0,null,0]
[null,{"$f":"A1179*G1179","v":0},"Uranus","Space Science","Torque",9781626179790,19.95,null,523.47,2019,1,24,3.7,"Q","740",89,"Nathan Sommer",null,null,0,null,0]
[null,0,"Venus","Space Science","Torque",9781626179806,19.95,null,523.41999999999996,2019,1,24,3.9,"Q","690",89,"Betsy Rathburn",null,null,0,null,0]
[null,0,"Cool Careers Set (6)","Cool Careers","Torque",null,119.7,null,null,null,6,null,null,null,null,90,null,null,null,0,null,0]
[null,0,"Astronaut","Cool Careers","Torque","9781644870600",19.95,null,629.45002299999999,2020,1,24,4.0999999999999996,"Q",700,90,"Amy Rechner",null,null,0,null,0]
[null,0,"Baseball Player","Cool Careers","Torque","9781644870617",19.95,null,796.35699999999997,2020,1,24,4.0999999999999996,"O",640,90,"Amy Rechner",null,null,0,null,0]
[null,0,"Fighter Pilot","Cool Careers","Torque","9781644870624",19.95,null,358.4,2020,1,24,4.2,"Q",710,90,"Amy Rechner",null,null,0,null,0]
[null,0,"Movie Director","Cool Careers","Torque","9781644870631",19.95,null,791.43020000000001,2020,1,24,4.2,"P",660,90,"Amy Rechner",null,null,0,null,0]
[null,0,"Race Car Driver","Cool Careers","Torque","9781644870648",19.95,null,796.72,2020,1,24,3.9,"P",740,90,"Amy Rechner",null,null,0,null,0]
[null,0,"Stunt Performer","Cool Careers","Torque","9781644870655",19.95,null,791.43020000000001,2020,1,24,4.0999999999999996,"P",580,90,"Amy Rechner",null,null,0,null,0]
[null,0,"It's the End of the World Set (8)","It's the End of the World","Torque",null,159.6,null,null,null,8,null,null,null,null,90,null,null,null,0,null,0]
[null,0,"Alien Invasion","It's the End of the World","Torque","9781644870785",19.95,null,1.9419999999999999,2020,1,24,3.9,"P",610,90,"Allan Morey",null,null,0,null,0]
[null,0,"Asteroid Impact","It's the End of the World","Torque","9781644870792",19.95,null,523.44000000000005,2020,1,24,"4.0","Q",660,90,"Lisa Owings",null,null,0,null,0]
[null,0,"Climate Change","It's the End of the World","Torque","9781644870808",19.95,null,363.738,2020,1,24,"4.0","Q",660,90,"Lisa Owings",null,null,0,null,0]
[null,0,"Global Pandemic","It's the End of the World","Torque","9781644870815",19.95,null,614,2020,1,24,4.0999999999999996,"Q",590,90,"Allan Morey",null,null,0,null,0]
[null,0,"Nuclear War","It's the End of the World","Torque","9781644870822",19.95,null,355.02,2020,1,24,3.9,"Q",630,90,"Allan Morey",null,null,0,null,0]
[null,0,"Robot Uprising","It's the End of the World","Torque","9781644870839",19.95,null,629.79999999999995,2020,1,24,"4.0","P",640,90,"Lisa Owings",null,null,0,null,0]
[null,0,"Solar Storm","It's the End of the World","Torque","9781644870846",19.95,null,523.70000000000005,2020,1,24,3.7,"Q",620,90,"Allan Morey",null,null,0,null,0]
[null,0,"Supervolcano Eruption","It's the End of the World","Torque","9781644870853",19.95,null,551.21,2020,1,24,3.8,"Q",650,90,"Allan Morey",null,null,0,null,0]
[null,0,"Car Crazy Set (22)","Car Crazy","Torque",null,438.9,null,null,null,22,null,null,null,null,91,null,null,null,0,null,0]
[null,0,"Aston Martin DB9","Car Crazy","Torque","9781626175754",19.95,null,629.22199999999998,2017,1,24,4,"Q",770,91,"Emily Rose Oachs",null,null,0,null,0]
[null,0,"Audi R8 Spyder","Car Crazy","Torque","9781644870082",19.95,26.95,629.22199999999998,2020,1,24,"4.0","R",790,91,"Nathan Sommer",null,null,0,null,0]
[null,0,"Bentley Continental GT","Car Crazy","Torque",9781626172784,19.95,null,629.22199999999998,"2016",1,24,"4.1","O",720,91,"Calvin Cruz",null,null,0,null,0]
[null,0,"BMW M4","Car Crazy","Torque","9781644870099",19.95,26.95,629.22199999999998,2020,1,24,4.0999999999999996,"R",760,91,"Nathan Sommer",null,null,0,null,0]
[null,0,"Bugatti Chiron","Car Crazy","Torque",9781626177772,19.95,null,381,2018,1,24,3.9,"Q",810,91,"Emily Rose Oachs",null,null,0,null,0]
[null,0,"Bugatti Veyron","Car Crazy","Torque",9781626172791,19.95,null,629.22199999999998,"2016",1,24,"3.8","P",660,91,"Calvin Cruz",null,null,0,null,0]
[null,0,"Chevrolet Camaro Z28","Car Crazy","Torque","9781626175761",19.95,null,629.22199999999998,2017,1,24,4.2,"Q",800,91,"Emily Rose Oachs",null,null,0,null,0]
[null,0,"Chevrolet Corvette Z06","Car Crazy","Torque",9781626172807,19.95,null,629.22199999999998,"2016",1,24,"4.1","O",750,91,"Calvin Cruz",null,null,0,null,0]
[null,0,"Dodge Challenger SRT Hellcat","Car Crazy","Torque","9781626175778",19.95,null,629.22199999999998,2017,1,24,4.2,"Q",760,91,"Emily Rose Oachs",null,null,0,null,0]
[null,0,"Dodge Charger R/T","Car Crazy","Torque","9781626175785",19.95,null,629.22199999999998,2017,1,24,4.3,"Q",810,91,"Emily Rose Oachs",null,null,0,null,0]
[null,0,"Dodge Viper SRT","Car Crazy","Torque",9781626172814,19.95,null,629.22199999999998,"2016",1,24,"4.0","O",730,91,"Calvin Cruz",null,null,0,null,0]
[null,0,"Ferrari 458 Italia","Car Crazy","Torque",9781626172821,19.95,null,629.22199999999998,"2016",1,24,"4.0","O",720,91,"Calvin Cruz",null,null,0,null,0]
[null,0,"Ford Mustang Shelby GT350","Car Crazy","Torque","9781626175792",19.95,null,629.22199999999998,2017,1,24,4.0999999999999996,"Q",740,91,"Emily Rose Oachs",null,null,0,null,0]
[null,0,"Jaguar F-Type","Car Crazy","Torque","9781644870105",19.95,26.95,629.22199999999998,2020,1,24,4.0999999999999996,"R",770,91,"Nathan Sommer",null,null,0,null,0]
[null,0,"Lamborghini Aventador","Car Crazy","Torque",9781626172838,19.95,null,629.22199999999998,"2016",1,24,"3.8","P",690,91,"Calvin Cruz",null,null,0,null,0]
[null,0,"Lykan HyperSport","Car Crazy","Torque","9781626175808",19.95,null,629.22199999999998,2017,1,24,4.0999999999999996,"Q",760,91,"Emily Rose Oachs",null,null,0,null,0]
[null,0,"Maserati GranTurismo","Car Crazy","Torque",9781626177789,19.95,null,338.4,2018,1,24,3.9,"Q",790,91,"Emily Rose Oachs",null,null,0,null,0]
[null,0,"McLaren 12C","Car Crazy","Torque",9781626172845,19.95,null,629.22199999999998,"2016",1,24,"3.8","O",670,91,"Calvin Cruz",null,null,0,null,0]
[null,0,"Nissan GT-R","Car Crazy","Torque","9781644870112",19.95,26.95,629.22199999999998,2020,1,24,4.2,"R",760,91,"Nathan Sommer",null,null,0,null,0]
[null,0,"Porsche 911 Carrera","Car Crazy","Torque",9781626177796,19.95,null,338.4,2018,1,24,3.8,"Q",740,91,"Emily Rose Oachs",null,null,0,null,0]
[null,0,"Porsche 918 Spyder","Car Crazy","Torque",9781626172852,19.95,null,629.22199999999998,"2016",1,24,"4.1","O",760,91,"Calvin Cruz",null,null,0,null,0]
[null,0,"Tesla Model S","Car Crazy","Torque",9781626177802,19.95,null,791.45,2018,1,24,3.9,"Q",760,91,"Emily Rose Oachs",null,null,0,null,0]
[null,0,"NFL Teams Set (32)","NFL Teams","Torque",null,638.4,null,null,null,32,null,null,null,null,"92 & 93",null,null,null,0,null,0]
[null,0,"The Arizona Cardinals Story","NFL Teams","Torque",9781626173552,19.95,null,796.33199999999999,2017,1,32,"4.2","O",740,"92 & 93","Thomas K. Adamson",null,null,0,null,0]
[null,0,"The Atlanta Falcons Story","NFL Teams","Torque",9781626173569,19.95,null,796.33199999999999,2017,1,32,"4.2","N",660,"92 & 93","Larry Mack ",null,null,0,null,0]
[null,0,"The Baltimore Ravens Story ","NFL Teams","Torque",9781626173576,19.95,null,796.33199999999999,2017,1,32,"4.2","O",680,"92 & 93","Allan Morey",null,null,0,null,0]
[null,0,"The Buffalo Bills Story","NFL Teams","Torque",9781626173583,19.95,null,796.33199999999999,2017,1,32,"4.3","N",730,"92 & 93","Thomas K. Adamson",null,null,0,null,0]
[null,0,"The Carolina Panthers Story","NFL Teams","Torque",9781626173590,19.95,null,796.33199999999999,2017,1,32,"4.2","N",670,"92 & 93","Larry Mack ",null,null,0,null,0]
[null,0,"The Chicago Bears Story","NFL Teams","Torque",9781626173606,19.95,null,796.33199999999999,2017,1,32,"4.0","O",660,"92 & 93","Allan Morey",null,null,0,null,0]
[null,0,"The Cincinnati Bengals Story","NFL Teams","Torque",9781626173613,19.95,null,796.33199999999999,2017,1,32,"4.2","N",620,"92 & 93","Allan Morey",null,null,0,null,0]
[null,0,"The Cleveland Browns Story","NFL Teams","Torque",9781626173620,19.95,null,796.33199999999999,2017,1,32,"3.8","O",560,"92 & 93","Allan Morey",null,null,0,null,0]
[null,0,"The Dallas Cowboys Story","NFL Teams","Torque",9781626173637,19.95,null,796.33199999999999,2017,1,32,"4.1","N",670,"92 & 93","Larry Mack ",null,null,0,null,0]
[null,0,"The Denver Broncos Story","NFL Teams","Torque",9781626173644,19.95,null,796.33199999999999,2017,1,32,"4.2","N",690,"92 & 93","Allan Morey",null,null,0,null,0]
[null,0,"The Detroit Lions Story","NFL Teams","Torque",9781626173651,19.95,null,796.33199999999999,2017,1,32,"4.2","O",670,"92 & 93","Allan Morey",null,null,0,null,0]
[null,0,"The Green Bay Packers Story","NFL Teams","Torque",9781626173668,19.95,null,796.33199999999999,2017,1,32,"4.0","O",660,"92 & 93","Allan Morey",null,null,0,null,0]
[null,0,"The Houston Texans Story","NFL Teams","Torque",9781626173675,19.95,null,796.33199999999999,2017,1,32,"4.2","N",680,"92 & 93","Thomas K. Adamson",null,null,{"$f":"IF(A1233>0,1,0)","v":0},null,{"$f":"A1233*K1233","v":0}]
[null,0,"The Indianapolis Colts Story","NFL Teams","Torque",9781626173682,19.95,null,796.33199999999999,2017,1,32,"4.2","N",680,"92 & 93","Thomas K. Adamson",null,null,0,null,0]
[null,0,"The Jacksonville Jaguars Story","NFL Teams","Torque",9781626173699,19.95,null,796.33199999999999,2017,1,32,"4.3","N",720,"92 & 93","Thomas K. Adamson",null,null,0,null,0]
[null,0,"The Kansas City Chiefs Story","NFL Teams","Torque",9781626173705,19.95,null,796.33199999999999,2017,1,32,"4.3","O",720,"92 & 93","Allan Morey",null,null,0,null,0]
[null,0,"The Los Angeles Rams Story","NFL Teams","Torque",9781626173835,19.95,null,796.33199999999999,2017,1,32,"4.2","O",700,"92 & 93","Allan Morey",null,null,0,null,0]
[null,0,"The Miami Dolphins Story","NFL Teams","Torque",9781626173712,19.95,null,796.33199999999999,2017,1,32,"4.2","N",710,"92 & 93","Thomas K. Adamson",null,null,0,null,0]
[null,0,"The Minnesota Vikings Story","NFL Teams","Torque",9781626173729,19.95,null,796.33199999999999,2017,1,32,"4.2","N",710,"92 & 93","Thomas K. Adamson",null,null,0,null,0]
[null,0,"The New England Patriots Story","NFL Teams","Torque",9781626173736,19.95,null,796.33199999999999,2017,1,32,"4.3","N",730,"92 & 93","Thomas K. Adamson",null,null,0,null,0]
[null,0,"The New Orleans Saints Story","NFL Teams","Torque",9781626173743,19.95,null,796.33199999999999,2017,1,32,"4.3","N",680,"92 & 93","Larry Mack ",null,null,0,null,0]
[null,0,"The New York Giants Story","NFL Teams","Torque",9781626173750,19.95,null,796.33199999999999,2017,1,32,"4.2","O",730,"92 & 93","Larry Mack ",null,null,0,null,0]
[null,{"$f":"A1243*G1243","v":0},"The New York Jets Story","NFL Teams","Torque",9781626173767,19.95,null,796.33199999999999,2017,1,32,"4.3","N",740,"92 & 93","Thomas K. Adamson",null,null,0,null,0]
[null,0,"The Oakland Raiders Story","NFL Teams","Torque",9781626173774,19.95,null,796.33199999999999,2017,1,32,"4.3","O",690,"92 & 93","Allan Morey",null,null,0,null,0]
[null,0,"The Philadelphia Eagles Story","NFL Teams","Torque",9781626173781,19.95,null,796.33199999999999,2017,1,32,"4.3","N",720,"92 & 93","Larry Mack ",null,null,0,null,0]
[null,0,"The Pittsburgh Steelers Story","NFL Teams","Torque",9781626173798,19.95,null,796.33199999999999,2017,1,32,"4.2","N",660,"92 & 93","Allan Morey",null,null,0,null,0]
[null,0,"The San Diego Chargers Story","NFL Teams","Torque",9781626173804,19.95,null,796.33199999999999,2017,1,32,"4.2","N",660,"92 & 93","Allan Morey",null,null,0,null,0]
[null,0,"The San Francisco 49ers Story","NFL Teams","Torque",9781626173811,19.95,null,796.33199999999999,2017,1,32,"4.2","O",690,"92 & 93","Thomas K. Adamson",null,null,0,null,0]
[null,0,"The Seattle Seahawks Story","NFL Teams","Torque",9781626173828,19.95,null,796.33199999999999,2017,1,32,"4.3","N",710,"92 & 93","Thomas K. Adamson",null,null,0,null,0]
[null,0,"The Tampa Bay Buccaneers Story","NFL Teams","Torque",9781626173842,19.95,null,796.33199999999999,2017,1,32,"4.1","N",700,"92 & 93","Larry Mack ",null,null,0,null,0]
[null,0,"The Tennessee Titans Story","NFL Teams","Torque",9781626173859,19.95,null,796.33199999999999,2017,1,32,"4.3","N",720,"92 & 93","Thomas K. Adamson",null,null,0,null,0]
[null,0,"The Washington Redskins Story","NFL Teams","Torque",9781626173866,19.95,null,796.33199999999999,2017,1,32,"4.2","N",650,"92 & 93","Larry Mack ",null,null,0,null,0]
[null,0,"Pirate Tales Set (6)","Pirate Tales","Black Sheep",null,131.69999999999999,null,null,null,6,null,null,null,null,96,null,null,null,0,null,0]
[null,0,"Anne Bonny: Pirate Queen of the Caribbean","Pirate Tales","Black Sheep",9781644873007,21.95,null,910.4,2021,1,24,null,"T",570,96,"Christina Leaf",null,null,0,null,0]
[null,0,"Blackbeard: Captain of the Queen Anne's Revenge","Pirate Tales","Black Sheep",9781644873014,21.95,null,910.4,2021,1,24,null,"T",720,96,"Blake Hoena",null,null,0,null,0]
[null,0,"Ching Shih: The World's Most Successful Pirate","Pirate Tales","Black Sheep",9781644873021,21.95,null,910.4,2021,1,24,null,"T",690,96,"Christina Leaf",null,null,0,null,0]
[null,0,"Henry Morgan: Feared Buccaneer of the New World","Pirate Tales","Black Sheep",9781644873038,21.95,null,972.92,2021,1,24,null,"T",670,96,"Blake Hoena",null,null,0,null,0]
[null,0,"Mary Read: Pirate in Disguise","Pirate Tales","Black Sheep",9781644873045,21.95,null,910.4,2021,1,24,null,"T",500,96,"Christina Leaf",null,null,0,null,0]
[null,0,"Sir Francis Drake and the Trip Around the World","Pirate Tales","Black Sheep",9781644873052,21.95,null,910.4,2021,1,24,null,"T",690,96,"Blake Hoena",null,null,0,null,0]
[null,0,"True Survival Stories Set (6)","True Survival Stories","Black Sheep",null,131.69999999999999,null,null,null,6,null,null,null,null,97,null,null,null,0,null,0]
[0,0,"Escaping the Nazis: Jan Baalsrud","True Survival Stories","Black Sheep",9781644875469,21.95,null,940.54,2022,1,24,null,null,null,97,"Betsy Rathburn",null,null,0,null,0]
[0,0,"Inside the Volcano: Michael Benson","True Survival Stories","Black Sheep",9781644875476,21.95,null,null,2022,1,24,null,null,null,97,"Blake Hoena",null,null,0,null,0]
[0,0,"Lost in the Amazon: Juliane Koepcke","True Survival Stories","Black Sheep",9781644875483,21.95,null,363.12,2022,1,24,null,null,null,97,"Betsy Rathburn",null,null,0,null,0]
[0,0,"Shark Attack!: Bethany Hamilton","True Survival Stories","Black Sheep",9781644875490,21.95,null,797.3,2022,1,24,null,null,null,97,"Blake Hoena",null,null,0,null,0]
[0,0,"Stranded at Sea: Steve Callahan","True Survival Stories","Black Sheep",9781644875506,21.95,null,null,2022,1,24,null,null,null,97,"Betsy Rathburn",null,null,0,null,0]
[0,0,"Trapped in Antarctica: Shackleton and the Endurance","True Survival Stories","Black Sheep",9781644875513,21.95,null,null,2022,1,24,null,null,null,97,"Blake Hoena",null,null,0,null,0]
[null,0,"Extraordinary Explorers Set (6)","Extraordinary Explorers","Black Sheep",null,131.69999999999999,null,null,null,6,null,null,null,null,98,null,null,null,0,null,0]
[null,0,"Amelia Earhart Flies Across the Atlantic","Extraordinary Explorers","Black Sheep",9781626172906,21.95,null,629.13091999999995,2016,1,24,4,"Q","GN700",98,"Nel Yomtov",null,null,0,null,0]
[null,0,"Edmund Hillary Reaches the Top of Everest","Extraordinary Explorers","Black Sheep",9781626172913,21.95,null,796.52209549600002,2016,1,24,3.8,"Q","GN620",98,"Nel Yomtov",null,null,0,null,0]
[null,0,"Ferdinand Magellan Sails Around the World","Extraordinary Explorers","Black Sheep",9781626172920,21.95,null,910.4,2016,1,24,4.4000000000000004,"R","GN670",98,"Nel Yomtov",null,null,0,null,0]
[null,0,"Lewis and Clark Map the American West","Extraordinary Explorers","Black Sheep",9781626172937,21.95,null,917.80399999999997,2016,1,24,4.3,"R","GN620",98,"Nel Yomtov",null,null,0,null,0]
[null,0,"Neil Armstrong Walks on the Moon","Extraordinary Explorers","Black Sheep",9781626172944,21.95,null,629.45000000000005,2016,1,24,4.2,"Q","GN690",98,"Nel Yomtov",null,null,0,null,0]
[null,0,"Roald Amundsen Explores the South Pole","Extraordinary Explorers","Black Sheep",9781626172951,21.95,null,919.89,2016,1,24,4.0999999999999996,"Q","GN660",98,"Nel Yomtov",null,null,0,null,0]
[null,0,"Disaster Stories Set (6)","Disaster Stories","Black Sheep",null,131.69999999999999,null,null,null,6,null,null,null,null,98,null,null,null,0,null,0]
[null,0,"The Apollo 13 Mission","Disaster Stories","Black Sheep",9781626171497,21.95,null,629.45000000000005,2015,1,24,3.7,"Q","GN520",98,"Adam Stone",null,null,0,null,0]
[null,0,"The Attack on Pearl Harbor","Disaster Stories","Black Sheep",9781626171503,21.95,null,940.54,2015,1,24,3.8,"R","GN510",98,"Chris Bowman",null,null,0,null,0]
[null,0,"The Challenger Explosion","Disaster Stories","Black Sheep",9781626171510,21.95,null,363.12,2015,1,24,4,"Q","GN630",98,"Adam Stone",null,null,0,null,0]
[null,0,"The Deepwater Horizon Oil Spill","Disaster Stories","Black Sheep",9781626171527,21.95,null,363.738,2015,1,24,3.6,"Q","GN590",98,"Adam Stone",null,null,0,null,0]
[null,0,"The Hindenburg Disaster","Disaster Stories","Black Sheep",9781626171534,21.95,null,363.12,2015,1,24,3.3,"R","GN420",98,"Chris Bowman",null,null,0,null,0]
[null,0,"The Titanic Disaster","Disaster Stories","Black Sheep",9781626171541,21.95,null,910.91629999999998,2015,1,24,3,"Q","GN430",98,"Adam Stone",null,null,0,null,0]
[null,0,"Paranormal Mysteries Set (6)","Paranormal Mysteries","Black Sheep",null,131.69999999999999,null,null,null,6,null,null,null,null,99,null,null,null,0,null,0]
[null,0,"Bell Witch Haunting, The","Paranormal Mysteries","Black Sheep","9781644870921",21.95,null,133.1,2020,1,24,3.3,"Q",580,99,"Blake Hoena",null,null,0,null,0]
[null,0,"Betty & Barney Hill Alien Abduction, The","Paranormal Mysteries","Black Sheep","9781644870938",21.95,null,1.9419999999999999,2020,1,24,3.6,"Q",610,99,"Chris Bowman",null,null,0,null,0]
[null,0,"Flight 19: Lost in the Bermuda Triangle","Paranormal Mysteries","Black Sheep","9781644870945",21.95,null,1.94,2020,1,24,4.2,"Q",700,99,"Chris Bowman",null,null,0,null,0]
[null,0,"Mothman Sightings, The","Paranormal Mysteries","Black Sheep","9781644870952",21.95,null,1.944,2020,1,24,3.7,"Q",620,99,"Chris Bowman",null,null,0,null,0]
[null,0,"Mummy's Curse, The: Discovering King Tut's Tomb","Paranormal Mysteries","Black Sheep","9781644870969",21.95,null,741.5,2020,1,24,4.2,"Q",660,99,"Blake Hoena",null,null,0,null,0]
[null,0,"Roswell UFO Incident, The","Paranormal Mysteries","Black Sheep","9781644870976",21.95,null,1.9420978900000001,2020,1,24,"4.0","Q",590,99,"Blake Hoena",null,null,0,null,0]
[null,0,"Orgami Fun Set (14)","Origami Fun","Express!",null,279.3,null,null,null,14,null,null,null,null,102,null,null,null,0,null,0]
[null,0,"Origami Fun: Aircraft","Origami Fun","Express!",9781626177079,19.95,null,736,2018,1,24,null,"O","540",102,"Robyn Hardyman",null,null,0,null,0]
[null,0,"Origami Fun: Birds","Origami Fun","Express!",9781626177086,19.95,null,736,2018,1,24,null,"O","550",102,"Robyn Hardyman",null,null,0,null,0]
[0,0,"Origami Fun: Buildings","Origami Fun","Express!",9781644872949,19.95,null,736,2021,1,24,null,"S",690,102,"Christina Leaf",null,null,0,null,0]
[null,0,"Origami Fun: Dinosaurs","Origami Fun","Express!",9781626177093,19.95,null,736,2018,1,24,null,"O","580",102,"Robyn Hardyman",null,null,0,null,0]
[null,0,"Origami Fun: Farm Animals","Origami Fun","Express!",9781626177109,19.95,null,736,2018,1,24,null,"O","540",102,"Robyn Hardyman",null,null,0,null,0]
[null,0,"Origami Fun: Holidays","Origami Fun","Express!",9781626177116,19.95,null,736,2018,1,24,null,"O","550",102,"Robyn Hardyman",null,null,0,null,0]
[0,0,"Origami Fun: Insects","Origami Fun","Express!",9781644872956,19.95,null,736,2021,1,24,null,"S",590,102,"Elizabeth Neuenfeldt",null,null,0,null,0]
[null,0,"Origami Fun: Jungle Animals","Origami Fun","Express!",9781626177123,19.95,null,736,2018,1,24,null,"O","540",102,"Robyn Hardyman",null,null,0,null,0]
[0,0,"Origami Fun: Mythical Creatures","Origami Fun","Express!",9781644872963,19.95,null,736,2021,1,24,null,"S",630,102,"Elizabeth Neuenfeldt",null,null,{"$f":"IF(A1297>0,1,0)","v":0},null,{"$f":"A1297*K1297","v":0}]
[null,0,"Origami Fun: Ocean Animals","Origami Fun","Express!",9781626177130,19.95,null,736,2018,1,24,null,"O","550",102,"Robyn Hardyman",null,null,0,null,0]
[null,0,"Origami Fun: Pets","Origami Fun","Express!",9781626177147,19.95,null,736,2018,1,24,null,"O","550",102,"Robyn Hardyman",null,null,0,null,0]
[0,0,"Origami Fun: Plants","Origami Fun","Express!",9781644872970,19.95,null,736,2021,1,24,null,"S",660,102,"Elizabeth Neuenfeldt",null,null,0,null,0]
[0,0,"Origami Fun: Robots","Origami Fun","Express!",9781644872987,19.95,null,736,2021,1,24,null,"S",560,102,"Elizabeth Neuenfeldt",null,null,0,null,0]
[0,0,"Origami Fun: Vehicles","Origami Fun","Express!",9781644872994,19.95,null,736,2021,1,24,null,"S",570,102,"Christina Leaf",null,null,0,null,0]
[null,0,"Take Flight! Set (6)","Take Flight!","Express!",null,119.7,null,null,null,6,null,null,null,null,103,null,null,null,0,null,0]
[null,0,"Novice Level Paper Airplanes","Take Flight!","Express!",9781644875520,19.95,26.95,745.59199999999998,2022,1,24,null,null,null,103,"Jennifer Sanderson",null,null,0,null,0]
[null,0,"Beginner Level Paper Airplanes","Take Flight!","Express!",9781644875537,19.95,26.95,745.59199999999998,2022,1,24,null,null,null,103,"Jennifer Sanderson",null,null,0,null,0]
[null,0,"Intermediate Level Paper Airplanes","Take Flight!","Express!",9781644875544,19.95,26.95,745.59199999999998,2022,1,24,null,null,null,103,"Jennifer Sanderson",null,null,0,null,0]
[null,{"$f":"A1307*G1307","v":0},"Advanced Level Paper Airplanes","Take Flight!","Express!",9781644875551,19.95,26.95,745.59199999999998,2022,1,24,null,null,null,103,"Jennifer Sanderson",null,null,0,null,0]
[null,0,"Expert Level Paper Airplanes","Take Flight!","Express!",9781644875568,19.95,26.95,745.59199999999998,2022,1,24,null,null,null,103,"Jennifer Sanderson",null,null,0,null,0]
[null,0,"Master Level Paper Airplanes","Take Flight!","Express!",9781644875575,19.95,26.95,745.59199999999998,2022,1,24,null,null,null,103,"Jennifer Sanderson",null,null,0,null,0]
[null,0,"You Can Draw It! Set (14 titles)","You Can Draw It!","Express!",null,279.3,null,null,null,14,null,null,null,null,104,null,null,null,0,null,0]
[null,0,"Aircraft","You Can Draw It!","Express!",9781600148088,19.95,null,743,2013,1,24,5,"O",930,104,"Jon Eppard",null,null,0,null,0]
[null,0,"Aliens","You Can Draw It!","Express!",9781600148989,19.95,null,743.6,2013,1,24,4.4000000000000004,"P",820,104,"Jon Eppard",null,null,0,null,0]
[null,0,"Big Cats","You Can Draw It!","Express!",9781600148095,19.95,null,743.6,2013,1,24,4.5999999999999996,"O",830,104,"Jon Eppard",null,null,0,null,0]
[null,0,"Birds of Prey","You Can Draw It!","Express!",9781626170964,19.95,null,743.6,2014,1,24,4.5999999999999996,"P",820,104,"Jon Eppard",null,null,0,null,0]
[null,0,"Dinosaurs","You Can Draw It!","Express!",9781600148996,19.95,null,741.5,2013,1,24,4.7,"P",810,104,"Jon Eppard",null,null,0,null,0]
[null,0,"Dogs","You Can Draw It!","Express!",9781600148101,19.95,null,743,2013,1,24,4.9000000000000004,"P",850,104,"Jon Eppard",null,null,0,null,0]
[null,0,"Fairies","You Can Draw It!","Express!",9781626170971,19.95,null,743,2014,1,24,4.8,"P",840,104,"Maggie Rosier",null,null,0,null,0]
[null,0,"Horses","You Can Draw It!","Express!",9781600148118,19.95,null,743.6,2013,1,24,4.5999999999999996,"P",790,104,"Maggie Rosier",null,null,0,null,0]
[null,0,"Manga","You Can Draw It!","Express!",9781600148125,19.95,null,743,2013,1,24,4.9000000000000004,"P",850,104,"Maggie Rosier",null,null,0,null,0]
[null,0,"Monsters","You Can Draw It!","Express!",9781600148132,19.95,null,743.6,2013,1,24,4.2,"P",820,104,"Maggie Rosier",null,null,0,null,0]
[null,0,"Mythical Beasts","You Can Draw It!","Express!",9781626170988,19.95,null,743,2014,1,24,4.0999999999999996,"R",780,104,"Jon Eppard",null,null,0,null,0]
[null,0,"Robots","You Can Draw It!","Express!",9781600149009,19.95,null,743,2013,1,24,4.0999999999999996,"Q",780,104,"Steve Porter",null,null,0,null,0]
[null,0,"Sharks","You Can Draw It!","Express!",9781600149016,19.95,null,743,2013,1,24,4.3,"R",820,104,"Steve Porter",null,null,0,null,0]
[null,0,"Sports Cars","You Can Draw It!","Express!",9781626170995,19.95,null,743,2014,1,24,4.7,"R",810,104,"Steve Porter",null,null,0,null,0]
[null,0,"Crafting with Nature Set (6)","Crafting with Nature","Express!",null,119.7,null,null,null,6,null,null,null,null,105,null,null,null,0,null,0]
[0,0,"Flower Crafts","Crafting with Nature","Express!","9781644871874",19.95,null,745.92,2020,1,24,null,"R",740,105,"Rebecca Sabelko",null,null,0,null,0]
[0,0,"Leaf Crafts","Crafting with Nature","Express!","9781644871881",19.95,null,746.41,2020,1,24,null,"S",720,105,"Rebecca Sabelko",null,null,0,null,0]
[0,0,"Rock Crafts","Crafting with Nature","Express!","9781644871898",19.95,null,745.5,2020,1,24,null,"R",660,105,"Betsy Rathburn",null,null,0,null,0]
[0,0,"Sand Crafts","Crafting with Nature","Express!","9781644871904",19.95,null,745.5,2020,1,24,null,"S",730,105,"Rebecca Sabelko",null,null,0,null,0]
[0,0,"Seed Crafts","Crafting with Nature","Express!","9781644871911",19.95,null,745.5,2020,1,24,null,"R",750,105,"Betsy Rathburn",null,null,0,null,0]
[0,0,"Stick Crafts","Crafting with Nature","Express!","9781644871928",19.95,null,551.57000000000005,2020,1,24,null,"R",620,105,"Betsy Rathburn",null,null,0,null,0]
[1,null,null,null,null,null,null,null,null,null,null,null,null,null,null,null,null,null,null,{"$f":"IF(A1332>0,1,0)","v":1}]
[1,null,null,"PROMOS",null,null,null,null,null,null,null,null,null,null,null,null,null,null,null,1]
[1,"ORDER\nTOTAL:",{"$f":"SUM(B16:B1331)","v":0},"Buy Print, Get Ebook FREE",null,"($500 min.)",null,null,null,null,null,null,null,null,null,null,null,null,null,1]
[1,"TOTAL\nUNITS:",{"$f":"SUM(V16:V1331)","v":0},"Free Shipping",null,null,null,null,null,null,null,null,null,null,null,null,null,null,null,1]
[1,null,null,"Free Processing",null,null,null,null,null,null,null,null,null,null,null,null,null,null,null,1]
[]
[null,"NOTES:"]

{"sheet":"Ebook Offer","index":1,"n_rows":1333,"n_cols":7,"rows_kept":1333,"cut":false,"hidden":false,"merged":[]}
[]
[]
[]
[null,"Date ",null,"Phone# "]
[null,"PO# ",null,"Fax# "]
[null,"Sales Rep ",null,"Email "]
[null,"Quote Preparer "]
[null,null," "]
[null,"Bill To: ",null,"Ship To: "]
[null,"School/Library ",null,"Attn"]
[null,"Address ",null,"Address"]
[]
[]
[null,null,"FREE EBOOKS"]
[]
["Qty","Price","Title","Series","Imprint"]
[{"$f":"IF('Order Form'!A16>0, \"1\", \"0\")","v":"0"},0,"Animals in My Yard Set (14)","Animals in My Yard","Blastoff! Beginners",null,{"$f":"A17","v":"0"}]
[{"$f":"IF('Order Form'!A17>0, \"1\", \"0\")","v":"0"},0,"Armadillos","Animals in My Yard","Blastoff! Beginners",null,"0"]
[{"$f":"IF('Order Form'!A18>0, \"1\", \"0\")","v":"0"},0,"Bats","Animals in My Yard","Blastoff! Beginners",null,"0"]
[{"$f":"IF('Order Form'!A19>0, \"1\", \"0\")","v":"0"},0,"Bears","Animals in My Yard","Blastoff! Beginners",null,"0"]
[{"$f":"IF('Order Form'!A20>0, \"1\", \"0\")","v":"0"},0,"Chipmunks","Animals in My Yard","Blastoff! Beginners",null,"0"]
[{"$f":"IF('Order Form'!A21>0, \"1\", \"0\")","v":"0"},0,"Coyotes","Animals in My Yard","Blastoff! Beginners",null,"0"]
[{"$f":"IF('Order Form'!A22>0, \"1\", \"0\")","v":"0"},0,"Deer","Animals in My Yard","Blastoff! Beginners",null,"0"]
[{"$f":"IF('Order Form'!A23>0, \"1\", \"0\")","v":"0"},0,"Foxes","Animals in My Yard","Blastoff! Beginners",null,"0"]
[{"$f":"IF('Order Form'!A24>0, \"1\", \"0\")","v":"0"},0,"Owls","Animals in My Yard","Blastoff! Beginners",null,"0"]
[{"$f":"IF('Order Form'!A25>0, \"1\", \"0\")","v":"0"},0,"Porcupines","Animals in My Yard","Blastoff! Beginners",null,"0"]
[{"$f":"IF('Order Form'!A26>0, \"1\", \"0\")","v":"0"},0,"Rabbits","Animals in My Yard","Blastoff! Beginners",null,"0"]
[{"$f":"IF('Order Form'!A27>0, \"1\", \"0\")","v":"0"},0,"Raccoons","Animals in My Yard","Blastoff! Beginners",null,"0"]
[{"$f":"IF('Order Form'!A28>0, \"1\", \"0\")","v":"0"},0,"Skunks","Animals in My Yard","Blastoff! Beginners",null,"0"]
[{"$f":"IF('Order Form'!A29>0, \"1\", \"0\")","v":"0"},0,"Snakes","Animals in My Yard","Blastoff! Beginners",null,"0"]
[{"$f":"IF('Order Form'!A30>0, \"1\", \"0\")","v":"0"},0,"Squirrels","Animals in My Yard","Blastoff! Beginners",null,"0"]
[{"$f":"IF('Order Form'!A31>0, \"1\", \"0\")","v":"0"},0,"Too Cute! Set (6)","Too Cute!","Blastoff! Beginners",null,"0"]
[{"$f":"IF('Order Form'!A32>0, \"1\", \"0\")","v":"0"},0,"Baby Bears","Too Cute!","Blastoff! Beginners",null,"0"]
[{"$f":"IF('Order Form'!A33>0, \"1\", \"0\")","v":"0"},0,"Baby Cats","Too Cute!","Blastoff! Beginners",null,"0"]
[{"$f":"IF('Order Form'!A34>0, \"1\", \"0\")","v":"0"},0,"Baby Dogs","Too Cute!","Blastoff! Beginners",null,"0"]
[{"$f":"IF('Order Form'!A35>0, \"1\", \"0\")","v":"0"},0,"Baby Horses","Too Cute!","Blastoff! Beginners",null,"0"]
[{"$f":"IF('Order Form'!A36>0, \"1\", \"0\")","v":"0"},0,"Baby Penguins","Too Cute!","Blastoff! Beginners",null,"0"]
[{"$f":"IF('Order Form'!A37>0, \"1\", \"0\")","v":"0"},0,"Baby Rabbits","Too Cute!","Blastoff! Beginners",null,"0"]
[{"$f":"IF('Order Form'!A38>0, \"1\", \"0\")","v":"0"},0,"Favorite Pets  Set (10)","Favorite Pets","Blastoff! Beginners",null,"0"]
[{"$f":"IF('Order Form'!A39>0, \"1\", \"0\")","v":"0"},0,"Birds","Favorite Pets","Blastoff! Beginners",null,"0"]
[{"$f":"IF('Order Form'!A40>0, \"1\", \"0\")","v":"0"},0,"Cats","Favorite Pets","Blastoff! Beginners",null,"0"]
[{"$f":"IF('Order Form'!A41>0, \"1\", \"0\")","v":"0"},0,"Dogs","Favorite Pets","Blastoff! Beginners",null,"0"]
[{"$f":"IF('Order Form'!A42>0, \"1\", \"0\")","v":"0"},0,"Fish","Favorite Pets","Blastoff! Beginners",null,"0"]
[{"$f":"IF('Order Form'!A43>0, \"1\", \"0\")","v":"0"},0,"Guinea Pigs","Favorite Pets","Blastoff! Beginners",null,"0"]
[{"$f":"IF('Order Form'!A44>0, \"1\", \"0\")","v":"0"},0,"Hamsters","Favorite Pets","Blastoff! Beginners",null,"0"]
[{"$f":"IF('Order Form'!A45>0, \"1\", \"0\")","v":"0"},0,"Hermit Crabs","Favorite Pets","Blastoff! Beginners",null,"0"]
[{"$f":"IF('Order Form'!A46>0, \"1\", \"0\")","v":"0"},0,"Lizards","Favorite Pets","Blastoff! Beginners",null,"0"]
[{"$f":"IF('Order Form'!A47>0, \"1\", \"0\")","v":"0"},0,"Rabbits","Favorite Pets","Blastoff! Beginners",null,"0"]
[{"$f":"IF('Order Form'!A48>0, \"1\", \"0\")","v":"0"},0,"Turtles","Favorite Pets","Blastoff! Beginners",null,"0"]
[{"$f":"IF('Order Form'!A49>0, \"1\", \"0\")","v":"0"},0,"Oceans Animals Set (14)","Ocean Animals","Blastoff! Beginners",null,"0"]
[{"$f":"IF('Order Form'!A50>0, \"1\", \"0\")","v":"0"},0,"Crabs","Ocean Animals","Blastoff! Beginners",null,"0"]
[{"$f":"IF('Order Form'!A51>0, \"1\", \"0\")","v":"0"},0,"Dolphins","Ocean Animals","Blastoff! Beginners",null,"0"]
[{"$f":"IF('Order Form'!A52>0, \"1\", \"0\")","v":"0"},0,"Eels","Ocean Animals","Blastoff! Beginners",null,"0"]
[{"$f":"IF('Order Form'!A53>0, \"1\", \"0\")","v":"0"},0,"Jellyfish","Ocean Animals","Blastoff! Beginners",null,"0"]
[{"$f":"IF('Order Form'!A54>0, \"1\", \"0\")","v":"0"},0,"Octopuses","Ocean Animals","Blastoff! Beginners",null,"0"]
[{"$f":"IF('Order Form'!A55>0, \"1\", \"0\")","v":"0"},0,"Orcas","Ocean Animals","Blastoff! Beginners",null,"0"]
[{"$f":"IF('Order Form'!A56>0, \"1\", \"0\")","v":"0"},0,"Penguins","Ocean Animals","Blastoff! Beginners",null,"0"]
[{"$f":"IF('Order Form'!A57>0, \"1\", \"0\")","v":"0"},0,"Sea Horses","Ocean Animals","Blastoff! Beginners",null,"0"]
[{"$f":"IF('Order Form'!A58>0, \"1\", \"0\")","v":"0"},0,"Sea Stars","Ocean Animals","Blastoff! Beginners",null,"0"]
[{"$f":"IF('Order Form'!A59>0, \"1\", \"0\")","v":"0"},0,"Sea Turtles","Ocean Animals","Blastoff! Beginners",null,"0"]
[{"$f":"IF('Order Form'!A60>0, \"1\", \"0\")","v":"0"},0,"Sharks","Ocean Animals","Blastoff! Beginners",null,"0"]
[{"$f":"IF('Order Form'!A61>0, \"1\", \"0\")","v":"0"},0,"Stingrays","Ocean Animals","Blastoff! Beginners",null,"0"]
[{"$f":"IF('Order Form'!A62>0, \"1\", \"0\")","v":"0"},0,"Walruses","Ocean Animals","Blastoff! Beginners",null,"0"]
[{"$f":"IF('Order Form'!A63>0, \"1\", \"0\")","v":"0"},0,"Whales","Ocean Animals","Blastoff! Beginners",null,"0"]
[{"$f":"IF('Order Form'!A64>0, \"1\", \"0\")","v":"0"},0,"Machines with Power! Set (14)","Machines with Power!","Blastoff! Beginners",null,"0"]
[{"$f":"IF('Order Form'!A65>0, \"1\", \"0\")","v":"0"},0,"Airplanes","Machines with Power!","Blastoff! Beginners",null,"0"]
[{"$f":"IF('Order Form'!A66>0, \"1\", \"0\")","v":"0"},0,"Backhoes","Machines with Power!","Blastoff! Beginners",null,"0"]
[{"$f":"IF('Order Form'!A67>0, \"1\", \"0\")","v":"0"},0,"Bulldozers","Machines with Power!","Blastoff! Beginners",null,"0"]
[{"$f":"IF('Order Form'!A68>0, \"1\", \"0\")","v":"0"},0,"Cranes","Machines with Power!","Blastoff! Beginners",null,"0"]
[{"$f":"IF('Order Form'!A69>0, \"1\", \"0\")","v":"0"},0,"Dump Trucks","Machines with Power!","Blastoff! Beginners",null,"0"]
[{"$f":"IF('Order Form'!A70>0, \"1\", \"0\")","v":"0"},0,"Fire Trucks","Machines with Power!","Blastoff! Beginners",null,"0"]
[{"$f":"IF('Order Form'!A71>0, \"1\", \"0\")","v":"0"},0,"Garbage Trucks","Machines with Power!","Blastoff! Beginners",null,"0"]
[{"$f":"IF('Order Form'!A72>0, \"1\", \"0\")","v":"0"},0,"Helicopters","Machines with Power!","Blastoff! Beginners",null,"0"]
[{"$f":"IF('Order Form'!A73>0, \"1\", \"0\")","v":"0"},0,"Monster Trucks","Machines with Power!","Blastoff! Beginners",null,"0"]
[{"$f":"IF('Order Form'!A74>0, \"1\", \"0\")","v":"0"},0,"Police Cars","Machines with Power!","Blastoff! Beginners",null,"0"]
[{"$f":"IF('Order Form'!A75>0, \"1\", \"0\")","v":"0"},0,"Race Cars","Machines with Power!","Blastoff! Beginners",null,"0"]
[{"$f":"IF('Order Form'!A76>0, \"1\", \"0\")","v":"0"},0,"Ships","Machines with Power!","Blastoff! Beginners",null,"0"]
[{"$f":"IF('Order Form'!A77>0, \"1\", \"0\")","v":"0"},0,"Tractors","Machines with Power!","Blastoff! Beginners",null,"0"]
[{"$f":"IF('Order Form'!A78>0, \"1\", \"0\")","v":"0"},0,"Trains","Machines with Power!","Blastoff! Beginners",null,"0"]
[{"$f":"IF('Order Form'!A79>0, \"1\", \"0\")","v":"0"},0,"Spotting Differences Set (16)","Spotting Differences","Blastoff! Readers",null,"0"]
[{"$f":"IF('Order Form'!A80>0, \"1\", \"0\")","v":"0"},0,"Alligator or Crocodile?","Spotting Differences","Blastoff! Readers",null,{"$f":"A81","v":"0"}]
[{"$f":"IF('Order Form'!A81>0, \"1\", \"0\")","v":"0"},0,"Beaver or Muskrat?","Spotting Differences","Blastoff! Readers",null,"0"]
[{"$f":"IF('Order Form'!A82>0, \"1\", \"0\")","v":"0"},0,"Bee or Wasp?","Spotting Differences","Blastoff! Readers",null,"0"]
[{"$f":"IF('Order Form'!A83>0, \"1\", \"0\")","v":"0"},0,"Butterfly or Moth?","Spotting Differences","Blastoff! Readers",null,"0"]
[{"$f":"IF('Order Form'!A84>0, \"1\", \"0\")","v":"0"},0,"Cheetah or Leopard?","Spotting Differences","Blastoff! Readers",null,"0"]
[{"$f":"IF('Order Form'!A85>0, \"1\", \"0\")","v":"0"},0,"Emu or Ostrich?","Spotting Differences","Blastoff! Readers",null,"0"]
[{"$f":"IF('Order Form'!A86>0, \"1\", \"0\")","v":"0"},0,"Frog or Toad?","Spotting Differences","Blastoff! Readers",null,"0"]
[{"$f":"IF('Order Form'!A87>0, \"1\", \"0\")","v":"0"},0,"Hedgehog or Porcupine?","Spotting Differences","Blastoff! Readers",null,"0"]
[{"$f":"IF('Order Form'!A88>0, \"1\", \"0\")","v":"0"},0,"Llama or Alpaca?","Spotting Differences","Blastoff! Readers",null,"0"]
[{"$f":"IF('Order Form'!A89>0, \"1\", \"0\")","v":"0"},0,"Moose or Elk?","Spotting Differences","Blastoff! Readers",null,"0"]
[{"$f":"IF('Order Form'!A90>0, \"1\", \"0\")","v":"0"},0,"Octopus or Squid?","Spotting Differences","Blastoff! Readers",null,"0"]
[{"$f":"IF('Order Form'!A91>0, \"1\", \"0\")","v":"0"},0,"Rabbit or Hare?","Spotting Differences","Blastoff! Readers",null,"0"]
[{"$f":"IF('Order Form'!A92>0, \"1\", \"0\")","v":"0"},0,"Seal or Sea Lion?","Spotting Differences","Blastoff! Readers",null,"0"]
[{"$f":"IF('Order Form'!A93>0, \"1\", \"0\")","v":"0"},0,"Swan or Goose?","Spotting Differences","Blastoff! Readers",null,"0"]
[{"$f":"IF('Order Form'!A94>0, \"1\", \"0\")","v":"0"},0,"Turtle or Tortoise?","Spotting Differences","Blastoff! Readers",null,"0"]
[{"$f":"IF('Order Form'!A95>0, \"1\", \"0\")","v":"0"},0,"Wolf or Coyote?","Spotting Differences","Blastoff! Readers",null,"0"]
[{"$f":"IF('Order Form'!A96>0, \"1\", \"0\")","v":"0"},0,"Backyard Birds Set (6)","Backyard Birds","Blastoff! Readers",null,"0"]
[{"$f":"IF('Order Form'!A97>0, \"1\", \"0\")","v":"0"},0,"Blue Jays","Backyard Birds","Blastoff! Readers",null,"0"]
[{"$f":"IF('Order Form'!A98>0, \"1\", \"0\")","v":"0"},0,"Cardinals","Backyard Birds","Blastoff! Readers",null,"0"]
[{"$f":"IF('Order Form'!A99>0, \"1\", \"0\")","v":"0"},0,"Chickadees","Backyard Birds","Blastoff! Readers",null,"0"]
[{"$f":"IF('Order Form'!A100>0, \"1\", \"0\")","v":"0"},0,"Goldfinches","Backyard Birds","Blastoff! Readers",null,"0"]
[{"$f":"IF('Order Form'!A101>0, \"1\", \"0\")","v":"0"},0,"Orioles","Backyard Birds","Blastoff! Readers",null,"0"]
[{"$f":"IF('Order Form'!A102>0, \"1\", \"0\")","v":"0"},0,"Robins","Backyard Birds","Blastoff! Readers",null,"0"]
[{"$f":"IF('Order Form'!A103>0, \"1\", \"0\")","v":"0"},0,"Our Government Set (6)","Our Government","Blastoff! Readers",null,"0"]
[{"$f":"IF('Order Form'!A104>0, \"1\", \"0\")","v":"0"},0,"Governor","Our Government","Blastoff! Readers",null,"0"]
[{"$f":"IF('Order Form'!A105>0, \"1\", \"0\")","v":"0"},0,"House of Representatives, The","Our Government","Blastoff! Readers",null,"0"]
[{"$f":"IF('Order Form'!A106>0, \"1\", \"0\")","v":"0"},0,"President","Our Government","Blastoff! Readers",null,"0"]
[{"$f":"IF('Order Form'!A107>0, \"1\", \"0\")","v":"0"},0,"Senate, The","Our Government","Blastoff! Readers",null,"0"]
[{"$f":"IF('Order Form'!A108>0, \"1\", \"0\")","v":"0"},0,"Supreme Court, The","Our Government","Blastoff! Readers",null,"0"]
[{"$f":"IF('Order Form'!A109>0, \"1\", \"0\")","v":"0"},0,"Vice President","Our Government","Blastoff! Readers",null,"0"]
[{"$f":"IF('Order Form'!A110>0, \"1\", \"0\")","v":"0"},0,"Character Education Set (10)","Character Education","Blastoff! Readers",null,"0"]
[{"$f":"IF('Order Form'!A111>0, \"1\", \"0\")","v":"0"},0,"I Am a Good Citizen","Character Education","Blastoff! Readers",null,"0"]
[{"$f":"IF('Order Form'!A112>0, \"1\", \"0\")","v":"0"},0,"I Am Generous","Character Education","Blastoff! Readers",null,"0"]
[{"$f":"IF('Order Form'!A113>0, \"1\", \"0\")","v":"0"},0,"I Am Helpful","Character Education","Blastoff! Readers",null,"0"]
[{"$f":"IF('Order Form'!A114>0, \"1\", \"0\")","v":"0"},0,"I Am Honest","Character Education","Blastoff! Readers",null,"0"]
[{"$f":"IF('Order Form'!A115>0, \"1\", \"0\")","v":"0"},0,"I Am Humble","Character Education","Blastoff! Readers",null,"0"]
[{"$f":"IF('Order Form'!A116>0, \"1\", \"0\")","v":"0"},0,"I Am Kind","Character Education","Blastoff! Readers",null,"0"]
[{"$f":"IF('Order Form'!A117>0, \"1\", \"0\")","v":"0"},0,"I Am Resourceful","Character Education","Blastoff! Readers",null,"0"]
[{"$f":"IF('Order Form'!A118>0, \"1\", \"0\")","v":"0"},0,"I Am Respectful","Character Education","Blastoff! Readers",null,"0"]
[{"$f":"IF('Order Form'!A119>0, \"1\", \"0\")","v":"0"},0,"I Am Responsible","Character Education","Blastoff! Readers",null,"0"]
[{"$f":"IF('Order Form'!A120>0, \"1\", \"0\")","v":"0"},0,"I Am Tolerant","Character Education","Blastoff! Readers",null,"0"]
[{"$f":"IF('Order Form'!A121>0, \"1\", \"0\")","v":"0"},0,"Animal Colors Set (6)","Animal Colors","Blastoff! Readers",null,"0"]
[{"$f":"IF('Order Form'!A122>0, \"1\", \"0\")","v":"0"},0,"Blue Animals","Animal Colors","Blastoff! Readers ",null,"0"]
[{"$f":"IF('Order Form'!A123>0, \"1\", \"0\")","v":"0"},0,"Green Animals","Animal Colors","Blastoff! Readers ",null,"0"]
[{"$f":"IF('Order Form'!A124>0, \"1\", \"0\")","v":"0"},0,"Orange Animals","Animal Colors","Blastoff! Readers ",null,"0"]
[{"$f":"IF('Order Form'!A125>0, \"1\", \"0\")","v":"0"},0,"Red Animals","Animal Colors","Blastoff! Readers ",null,"0"]
[{"$f":"IF('Order Form'!A126>0, \"1\", \"0\")","v":"0"},0,"White Animals","Animal Colors","Blastoff! Readers ",null,"0"]
[{"$f":"IF('Order Form'!A127>0, \"1\", \"0\")","v":"0"},0,"Yellow Animals","Animal Colors","Blastoff! Readers ",null,"0"]
[{"$f":"IF('Order Form'!A128>0, \"1\", \"0\")","v":"0"},0,"Responsible Citizenship Set (6)","Responsible Citizenship","Blastoff! Readers",null,"0"]
[{"$f":"IF('Order Form'!A129>0, \"1\", \"0\")","v":"0"},0,"Caring for the Environment","Responsible Citizenship","Blastoff! Readers",null,"0"]
[{"$f":"IF('Order Form'!A130>0, \"1\", \"0\")","v":"0"},0,"Jury Duty","Responsible Citizenship","Blastoff! Readers",null,"0"]
[{"$f":"IF('Order Form'!A131>0, \"1\", \"0\")","v":"0"},0,"Military Service","Responsible Citizenship","Blastoff! Readers",null,"0"]
[{"$f":"IF('Order Form'!A132>0, \"1\", \"0\")","v":"0"},0,"Obeying Laws","Responsible Citizenship","Blastoff! Readers",null,"0"]
[{"$f":"IF('Order Form'!A133>0, \"1\", \"0\")","v":"0"},0,"Volunteering","Responsible Citizenship","Blastoff! Readers",null,"0"]
[{"$f":"IF('Order Form'!A134>0, \"1\", \"0\")","v":"0"},0,"Voting","Responsible Citizenship","Blastoff! Readers",null,"0"]
[{"$f":"IF('Order Form'!A135>0, \"1\", \"0\")","v":"0"},0,"Amazing Trains Set (6)","Amazing Trains","Blastoff! Readers",null,"0"]
[{"$f":"IF('Order Form'!A136>0, \"1\", \"0\")","v":"0"},0,"City Trains","Amazing Trains","Blastoff! Readers",null,"0"]
[{"$f":"IF('Order Form'!A137>0, \"1\", \"0\")","v":"0"},0,"Freight Trains","Amazing Trains","Blastoff! Readers",null,"0"]
[{"$f":"IF('Order Form'!A138>0, \"1\", \"0\")","v":"0"},0,"High-Speed Trains","Amazing Trains","Blastoff! Readers",null,"0"]
[{"$f":"IF('Order Form'!A139>0, \"1\", \"0\")","v":"0"},0,"Monorails","Amazing Trains","Blastoff! Readers",null,"0"]
[{"$f":"IF('Order Form'!A140>0, \"1\", \"0\")","v":"0"},0,"Passenger Trains","Amazing Trains","Blastoff! Readers",null,"0"]
[{"$f":"IF('Order Form'!A141>0, \"1\", \"0\")","v":"0"},0,"Subway Trains","Amazing Trains","Blastoff! Readers",null,"0"]
[{"$f":"IF('Order Form'!A142>0, \"1\", \"0\")","v":"0"},0,"Community Helpers Set (32)","Community Helpers","Blastoff! Readers",null,"0"]
[{"$f":"IF('Order Form'!A143>0, \"1\", \"0\")","v":"0"},0,"Bakers","Community Helpers","Blastoff! Readers",null,"0"]
[{"$f":"IF('Order Form'!A144>0, \"1\", \"0\")","v":"0"},0,"Bus Drivers","Community Helpers","Blastoff! Readers",null,{"$f":"A145","v":"0"}]
[{"$f":"IF('Order Form'!A145>0, \"1\", \"0\")","v":"0"},0,"Carpenters","Community Helpers","Blastoff! Readers",null,"0"]
[{"$f":"IF('Order Form'!A146>0, \"1\", \"0\")","v":"0"},0,"Cashiers","Community Helpers","Blastoff! Readers",null,"0"]
[{"$f":"IF('Order Form'!A147>0, \"1\", \"0\")","v":"0"},0,"Chefs","Community Helpers","Blastoff! Readers",null,"0"]
[{"$f":"IF('Order Form'!A148>0, \"1\", \"0\")","v":"0"},0,"Construction Workers","Community Helpers","Blastoff! Readers",null,"0"]
[{"$f":"IF('Order Form'!A149>0, \"1\", \"0\")","v":"0"},0,"Counselors","Community Helpers","Blastoff! Readers",null,"0"]
[{"$f":"IF('Order Form'!A150>0, \"1\", \"0\")","v":"0"},0,"Custodians","Community Helpers","Blastoff! Readers",null,"0"]
[{"$f":"IF('Order Form'!A151>0, \"1\", \"0\")","v":"0"},0,"Delivery Drivers","Community Helpers","Blastoff! Readers",null,"0"]
[{"$f":"IF('Order Form'!A152>0, \"1\", \"0\")","v":"0"},0,"Dentists","Community Helpers","Blastoff! Readers",null,"0"]
[{"$f":"IF('Order Form'!A153>0, \"1\", \"0\")","v":"0"},0,"Doctors","Community Helpers","Blastoff! Readers",null,"0"]
[{"$f":"IF('Order Form'!A154>0, \"1\", \"0\")","v":"0"},0,"Electricians","Community Helpers","Blastoff! Readers",null,"0"]
[{"$f":"IF('Order Form'!A155>0, \"1\", \"0\")","v":"0"},0,"EMTs","Community Helpers","Blastoff! Readers",null,"0"]
[{"$f":"IF('Order Form'!A156>0, \"1\", \"0\")","v":"0"},0,"Farmers","Community Helpers","Blastoff! Readers",null,"0"]
[{"$f":"IF('Order Form'!A157>0, \"1\", \"0\")","v":"0"},0,"Firefighters","Community Helpers","Blastoff! Readers",null,"0"]
[{"$f":"IF('Order Form'!A158>0, \"1\", \"0\")","v":"0"},0,"Flight Attendants","Community Helpers","Blastoff! Readers",null,"0"]
[{"$f":"IF('Order Form'!A159>0, \"1\", \"0\")","v":"0"},0,"Garbage Collectors","Community Helpers","Blastoff! Readers",null,"0"]
[{"$f":"IF('Order Form'!A160>0, \"1\", \"0\")","v":"0"},0,"Hairstylists","Community Helpers","Blastoff! Readers",null,"0"]
[{"$f":"IF('Order Form'!A161>0, \"1\", \"0\")","v":"0"},0,"Judges","Community Helpers","Blastoff! Readers",null,"0"]
[{"$f":"IF('Order Form'!A162>0, \"1\", \"0\")","v":"0"},0,"Librarians","Community Helpers","Blastoff! Readers",null,"0"]
[{"$f":"IF('Order Form'!A163>0, \"1\", \"0\")","v":"0"},0,"Mail Carriers","Community Helpers","Blastoff! Readers",null,"0"]
[{"$f":"IF('Order Form'!A164>0, \"1\", \"0\")","v":"0"},0,"Mechanics","Community Helpers","Blastoff! Readers",null,"0"]
[{"$f":"IF('Order Form'!A165>0, \"1\", \"0\")","v":"0"},0,"Nurses","Community Helpers","Blastoff! Readers",null,"0"]
[{"$f":"IF('Order Form'!A166>0, \"1\", \"0\")","v":"0"},0,"Pilots","Community Helpers","Blastoff! Readers",null,"0"]
[{"$f":"IF('Order Form'!A167>0, \"1\", \"0\")","v":"0"},0,"Plumbers","Community Helpers","Blastoff! Readers",null,"0"]
[{"$f":"IF('Order Form'!A168>0, \"1\", \"0\")","v":"0"},0,"Police Officers","Community Helpers","Blastoff! Readers",null,"0"]
[{"$f":"IF('Order Form'!A169>0, \"1\", \"0\")","v":"0"},0,"Reporters","Community Helpers","Blastoff! Readers",null,"0"]
[{"$f":"IF('Order Form'!A170>0, \"1\", \"0\")","v":"0"},0,"Servers","Community Helpers","Blastoff! Readers",null,"0"]
[{"$f":"IF('Order Form'!A171>0, \"1\", \"0\")","v":"0"},0,"Teachers","Community Helpers","Blastoff! Readers",null,"0"]
[{"$f":"IF('Order Form'!A172>0, \"1\", \"0\")","v":"0"},0,"Truck Drivers","Community Helpers","Blastoff! Readers",null,"0"]
[{"$f":"IF('Order Form'!A173>0, \"1\", \"0\")","v":"0"},0,"Veterinarians","Community Helpers","Blastoff! Readers",null,"0"]
[{"$f":"IF('Order Form'!A174>0, \"1\", \"0\")","v":"0"},0,"Welders","Community Helpers","Blastoff! Readers",null,"0"]
[{"$f":"IF('Order Form'!A175>0, \"1\", \"0\")","v":"0"},0,"Insects Up Close Set (20)","Insects Up Close","Blastoff! Readers",null,"0"]
[{"$f":"IF('Order Form'!A176>0, \"1\", \"0\")","v":"0"},0,"Ants","Insects Up Close","Blastoff! Readers",null,"0"]
[{"$f":"IF('Order Form'!A177>0, \"1\", \"0\")","v":"0"},0,"Aphids","Insects Up Close","Blastoff! Readers",null,"0"]
[{"$f":"IF('Order Form'!A178>0, \"1\", \"0\")","v":"0"},0,"Bumblebees","Insects Up Close","Blastoff! Readers",null,"0"]
[{"$f":"IF('Order Form'!A179>0, \"1\", \"0\")","v":"0"},0,"Butterflies","Insects Up Close","Blastoff! Readers",null,"0"]
[{"$f":"IF('Order Form'!A180>0, \"1\", \"0\")","v":"0"},0,"Cicadas","Insects Up Close","Blastoff! Readers",null,"0"]
[{"$f":"IF('Order Form'!A181>0, \"1\", \"0\")","v":"0"},0,"Cockroaches","Insects Up Close","Blastoff! Readers",null,"0"]
[{"$f":"IF('Order Form'!A182>0, \"1\", \"0\")","v":"0"},0,"Crickets","Insects Up Close","Blastoff! Readers",null,"0"]
[{"$f":"IF('Order Form'!A183>0, \"1\", \"0\")","v":"0"},0,"Damselflies","Insects Up Close","Blastoff! Readers",null,"0"]
[{"$f":"IF('Order Form'!A184>0, \"1\", \"0\")","v":"0"},0,"Dragonflies","Insects Up Close","Blastoff! Readers",null,"0"]
[{"$f":"IF('Order Form'!A185>0, \"1\", \"0\")","v":"0"},0,"Earwigs","Insects Up Close","Blastoff! Readers",null,"0"]
[{"$f":"IF('Order Form'!A186>0, \"1\", \"0\")","v":"0"},0,"Fireflies","Insects Up Close","Blastoff! Readers",null,"0"]
[{"$f":"IF('Order Form'!A187>0, \"1\", \"0\")","v":"0"},0,"Grasshoppers","Insects Up Close","Blastoff! Readers",null,"0"]
[{"$f":"IF('Order Form'!A188>0, \"1\", \"0\")","v":"0"},0,"Honeybees","Insects Up Close","Blastoff! Readers",null,"0"]
[{"$f":"IF('Order Form'!A189>0, \"1\", \"0\")","v":"0"},0,"Ladybugs","Insects Up Close","Blastoff! Readers",null,"0"]
[{"$f":"IF('Order Form'!A190>0, \"1\", \"0\")","v":"0"},0,"Milkweed Bugs","Insects Up Close","Blastoff! Readers",null,"0"]
[{"$f":"IF('Order Form'!A191>0, \"1\", \"0\")","v":"0"},0,"Mosquitoes","Insects Up Close","Blastoff! Readers",null,"0"]
[{"$f":"IF('Order Form'!A192>0, \"1\", \"0\")","v":"0"},0,"Moths","Insects Up Close","Blastoff! Readers",null,"0"]
[{"$f":"IF('Order Form'!A193>0, \"1\", \"0\")","v":"0"},0,"Termites","Insects Up Close","Blastoff! Readers",null,"0"]
[{"$f":"IF('Order Form'!A194>0, \"1\", \"0\")","v":"0"},0,"Walkingsticks","Insects Up Close","Blastoff! Readers",null,"0"]
[{"$f":"IF('Order Form'!A195>0, \"1\", \"0\")","v":"0"},0,"Wasps","Insects Up Close","Blastoff! Readers",null,"0"]
[{"$f":"IF('Order Form'!A196>0, \"1\", \"0\")","v":"0"},0,"Symbols of American Freedom Set (12)","Symbols of American Freedom","Blastoff! Readers",null,"0"]
[{"$f":"IF('Order Form'!A197>0, \"1\", \"0\")","v":"0"},0,"Bald Eagle, The","Symbols of American Freedom","Blastoff! Readers",null,"0"]
[{"$f":"IF('Order Form'!A198>0, \"1\", \"0\")","v":"0"},0,"Bill of Rights, The","Symbols of American Freedom","Blastoff! Readers",null,"0"]
[{"$f":"IF('Order Form'!A199>0, \"1\", \"0\")","v":"0"},0,"Liberty Bell, The","Symbols of American Freedom","Blastoff! Readers",null,"0"]
[{"$f":"IF('Order Form'!A200>0, \"1\", \"0\")","v":"0"},0,"Lincoln Memorial, The","Symbols of American Freedom","Blastoff! Readers",null,"0"]
[{"$f":"IF('Order Form'!A201>0, \"1\", \"0\")","v":"0"},0,"Mount Rushmore","Symbols of American Freedom","Blastoff! Readers",null,"0"]
[{"$f":"IF('Order Form'!A202>0, \"1\", \"0\")","v":"0"},0,"Pledge of Allegiance, The","Symbols of American Freedom","Blastoff! Readers",null,"0"]
[{"$f":"IF('Order Form'!A203>0, \"1\", \"0\")","v":"0"},0,"Star-Spangled Banner, The","Symbols of American Freedom","Blastoff! Readers",null,"0"]
[{"$f":"IF('Order Form'!A204>0, \"1\", \"0\")","v":"0"},0,"Statue of Liberty, The","Symbols of American Freedom","Blastoff! Readers",null,"0"]
[{"$f":"IF('Order Form'!A205>0, \"1\", \"0\")","v":"0"},0,"United States Constitution, The","Symbols of American Freedom","Blastoff! Readers",null,"0"]
[{"$f":"IF('Order Form'!A206>0, \"1\", \"0\")","v":"0"},0,"United States Flag, The","Symbols of American Freedom","Blastoff! Readers",null,"0"]
[{"$f":"IF('Order Form'!A207>0, \"1\", \"0\")","v":"0"},0,"Washington Monument, The","Symbols of American Freedom","Blastoff! Readers",null,"0"]
[{"$f":"IF('Order Form'!A208>0, \"1\", \"0\")","v":"0"},0,"White House, The","Symbols of American Freedom","Blastoff! Readers",null,{"$f":"A209","v":"0"}]
[{"$f":"IF('Order Form'!A209>0, \"1\", \"0\")","v":"0"},0,"Animals on the Farm Set (8)","Animals on the Farm","Blastoff! Readers",null,"0"]
[{"$f":"IF('Order Form'!A210>0, \"1\", \"0\")","v":"0"},0,"Chickens","Animals on the Farm","Blastoff! Readers",null,"0"]
[{"$f":"IF('Order Form'!A211>0, \"1\", \"0\")","v":"0"},0,"Cows","Animals on the Farm","Blastoff! Readers",null,"0"]
[{"$f":"IF('Order Form'!A212>0, \"1\", \"0\")","v":"0"},0,"Ducks","Animals on the Farm","Blastoff! Readers",null,"0"]
[{"$f":"IF('Order Form'!A213>0, \"1\", \"0\")","v":"0"},0,"Goats","Animals on the Farm","Blastoff! Readers",null,"0"]
[{"$f":"IF('Order Form'!A214>0, \"1\", \"0\")","v":"0"},0,"Horses","Animals on the Farm","Blastoff! Readers",null,"0"]
[{"$f":"IF('Order Form'!A215>0, \"1\", \"0\")","v":"0"},0,"Pigs","Animals on the Farm","Blastoff! Readers",null,"0"]
[{"$f":"IF('Order Form'!A216>0, \"1\", \"0\")","v":"0"},0,"Sheep","Animals on the Farm","Blastoff! Readers",null,"0"]
[{"$f":"IF('Order Form'!A217>0, \"1\", \"0\")","v":"0"},0,"Turkeys","Animals on the Farm","Blastoff! Readers",null,"0"]
[{"$f":"IF('Order Form'!A218>0, \"1\", \"0\")","v":"0"},0,"Super Cute! Set (39)","Super Cute!","Blastoff! Readers",null,"0"]
[{"$f":"IF('Order Form'!A219>0, \"1\", \"0\")","v":"0"},0,"Baby Bears","Super Cute!","Blastoff! Readers",null,"0"]
[{"$f":"IF('Order Form'!A220>0, \"1\", \"0\")","v":"0"},0,"Baby Camels","Super Cute!","Blastoff! Readers",null,"0"]
[{"$f":"IF('Order Form'!A221>0, \"1\", \"0\")","v":"0"},0,"Baby Cats","Super Cute!","Blastoff! Readers",null,"0"]
[{"$f":"IF('Order Form'!A222>0, \"1\", \"0\")","v":"0"},0,"Baby Cheetahs","Super Cute!","Blastoff! Readers",null,"0"]
[{"$f":"IF('Order Form'!A223>0, \"1\", \"0\")","v":"0"},0,"Baby Chickens","Super Cute!","Blastoff! Readers",null,"0"]
[{"$f":"IF('Order Form'!A224>0, \"1\", \"0\")","v":"0"},0,"Baby Cows","Super Cute!","Blastoff! Readers",null,"0"]
[{"$f":"IF('Order Form'!A225>0, \"1\", \"0\")","v":"0"},0,"Baby Deer","Super Cute!","Blastoff! Readers",null,"0"]
[{"$f":"IF('Order Form'!A226>0, \"1\", \"0\")","v":"0"},0,"Baby Dogs","Super Cute!","Blastoff! Readers",null,"0"]
[{"$f":"IF('Order Form'!A227>0, \"1\", \"0\")","v":"0"},0,"Baby Ducks","Super Cute!","Blastoff! Readers",null,"0"]
[{"$f":"IF('Order Form'!A228>0, \"1\", \"0\")","v":"0"},0,"Baby Elephants","Super Cute!","Blastoff! Readers",null,"0"]
[{"$f":"IF('Order Form'!A229>0, \"1\", \"0\")","v":"0"},0,"Baby Foxes","Super Cute!","Blastoff! Readers",null,"0"]
[{"$f":"IF('Order Form'!A230>0, \"1\", \"0\")","v":"0"},0,"Baby Giraffes","Super Cute!","Blastoff! Readers",null,"0"]
[{"$f":"IF('Order Form'!A231>0, \"1\", \"0\")","v":"0"},0,"Baby Goats","Super Cute!","Blastoff! Readers",null,"0"]
[{"$f":"IF('Order Form'!A232>0, \"1\", \"0\")","v":"0"},0,"Baby Gorillas","Super Cute!","Blastoff! Readers",null,"0"]
[{"$f":"IF('Order Form'!A233>0, \"1\", \"0\")","v":"0"},0,"Baby Hedgehogs","Super Cute!","Blastoff! Readers",null,"0"]
[{"$f":"IF('Order Form'!A234>0, \"1\", \"0\")","v":"0"},0,"Baby Hippos","Super Cute!","Blastoff! Readers",null,"0"]
[{"$f":"IF('Order Form'!A235>0, \"1\", \"0\")","v":"0"},0,"Baby Horses","Super Cute!","Blastoff! Readers",null,"0"]
[{"$f":"IF('Order Form'!A236>0, \"1\", \"0\")","v":"0"},0,"Baby Kangaroos","Super Cute!","Blastoff! Readers",null,"0"]
[{"$f":"IF('Order Form'!A237>0, \"1\", \"0\")","v":"0"},0,"Baby Koalas","Super Cute!","Blastoff! Readers",null,"0"]
[{"$f":"IF('Order Form'!A238>0, \"1\", \"0\")","v":"0"},0,"Baby Lions","Super Cute!","Blastoff! Readers",null,"0"]
[{"$f":"IF('Order Form'!A239>0, \"1\", \"0\")","v":"0"},0,"Baby Monkeys","Super Cute!","Blastoff! Readers",null,"0"]
[{"$f":"IF('Order Form'!A240>0, \"1\", \"0\")","v":"0"},0,"Baby Orangutans","Super Cute!","Blastoff! Readers",null,"0"]
[{"$f":"IF('Order Form'!A241>0, \"1\", \"0\")","v":"0"},0,"Baby Owls","Super Cute!","Blastoff! Readers",null,"0"]
[{"$f":"IF('Order Form'!A242>0, \"1\", \"0\")","v":"0"},0,"Baby Pandas","Super Cute!","Blastoff! Readers",null,"0"]
[{"$f":"IF('Order Form'!A243>0, \"1\", \"0\")","v":"0"},0,"Baby Penguins","Super Cute!","Blastoff! Readers",null,"0"]
[{"$f":"IF('Order Form'!A244>0, \"1\", \"0\")","v":"0"},0,"Baby Pigs","Super Cute!","Blastoff! Readers",null,"0"]
[{"$f":"IF('Order Form'!A245>0, \"1\", \"0\")","v":"0"},0,"Baby Rabbits","Super Cute!","Blastoff! Readers",null,"0"]
[{"$f":"IF('Order Form'!A246>0, \"1\", \"0\")","v":"0"},0,"Baby Raccoons","Super Cute!","Blastoff! Readers",null,"0"]
[{"$f":"IF('Order Form'!A247>0, \"1\", \"0\")","v":"0"},0,"Baby Rhinos","Super Cute!","Blastoff! Readers",null,"0"]
[{"$f":"IF('Order Form'!A248>0, \"1\", \"0\")","v":"0"},0,"Baby Sea Otters","Super Cute!","Blastoff! Readers",null,"0"]
[{"$f":"IF('Order Form'!A249>0, \"1\", \"0\")","v":"0"},0,"Baby Seals","Super Cute!","Blastoff! Readers",null,"0"]
[{"$f":"IF('Order Form'!A250>0, \"1\", \"0\")","v":"0"},0,"Baby Sheep","Super Cute!","Blastoff! Readers",null,"0"]
[{"$f":"IF('Order Form'!A251>0, \"1\", \"0\")","v":"0"},0,"Baby Skunks","Super Cute!","Blastoff! Readers",null,"0"]
[{"$f":"IF('Order Form'!A252>0, \"1\", \"0\")","v":"0"},0,"Baby Sloths","Super Cute!","Blastoff! Readers",null,"0"]
[{"$f":"IF('Order Form'!A253>0, \"1\", \"0\")","v":"0"},0,"Baby Squirrels","Super Cute!","Blastoff! Readers",null,"0"]
[{"$f":"IF('Order Form'!A254>0, \"1\", \"0\")","v":"0"},0,"Baby Tigers","Super Cute!","Blastoff! Readers",null,"0"]
[{"$f":"IF('Order Form'!A255>0, \"1\", \"0\")","v":"0"},0,"Baby Turtles","Super Cute!","Blastoff! Readers",null,"0"]
[{"$f":"IF('Order Form'!A256>0, \"1\", \"0\")","v":"0"},0,"Baby Wolves","Super Cute!","Blastoff! Readers",null,"0"]
[{"$f":"IF('Order Form'!A257>0, \"1\", \"0\")","v":"0"},0,"Baby Zebras","Super Cute!","Blastoff! Readers",null,"0"]
[{"$f":"IF('Order Form'!A258>0, \"1\", \"0\")","v":"0"},0,"Saddle Up! Set (10)","Saddle Up!","Blastoff! Readers",null,"0"]
[{"$f":"IF('Order Form'!A259>0, \"1\", \"0\")","v":"0"},0,"American Paint Horses","Saddle Up!","Blastoff! Readers",null,"0"]
[{"$f":"IF('Order Form'!A260>0, \"1\", \"0\")","v":"0"},0,"American Quarter Horses","Saddle Up!","Blastoff! Readers",null,"0"]
[{"$f":"IF('Order Form'!A261>0, \"1\", \"0\")","v":"0"},0,"Appaloosa Horses","Saddle Up!","Blastoff! Readers",null,"0"]
[{"$f":"IF('Order Form'!A262>0, \"1\", \"0\")","v":"0"},0,"Arabian Horses","Saddle Up!","Blastoff! Readers",null,"0"]
[{"$f":"IF('Order Form'!A263>0, \"1\", \"0\")","v":"0"},0,"Belgian Horses","Saddle Up!","Blastoff! Readers",null,"0"]
[{"$f":"IF('Order Form'!A264>0, \"1\", \"0\")","v":"0"},0,"Clydesdale Horses","Saddle Up!","Blastoff! Readers",null,"0"]
[{"$f":"IF('Order Form'!A265>0, \"1\", \"0\")","v":"0"},0,"Morgan Horses","Saddle Up!","Blastoff! Readers",null,"0"]
[{"$f":"IF('Order Form'!A266>0, \"1\", \"0\")","v":"0"},0,"Shetland Ponies","Saddle Up!","Blastoff! Readers",null,"0"]
[{"$f":"IF('Order Form'!A267>0, \"1\", \"0\")","v":"0"},0,"Spanish Mustangs","Saddle Up!","Blastoff! Readers",null,"0"]
[{"$f":"IF('Order Form'!A268>0, \"1\", \"0\")","v":"0"},0,"Thoroughbred Horses","Saddle Up!","Blastoff! Readers",null,"0"]
[{"$f":"IF('Order Form'!A269>0, \"1\", \"0\")","v":"0"},0,"American Presidents Set (10)","American Presidents","Blastoff! Readers",null,"0"]
[{"$f":"IF('Order Form'!A270>0, \"1\", \"0\")","v":"0"},0,"Abraham Lincoln","American Presidents","Blastoff! Readers",null,"0"]
[{"$f":"IF('Order Form'!A271>0, \"1\", \"0\")","v":"0"},0,"Barack Obama","American Presidents","Blastoff! Readers",null,"0"]
[{"$f":"IF('Order Form'!A272>0, \"1\", \"0\")","v":"0"},0,"Bill Clinton","American Presidents","Blastoff! Readers",null,{"$f":"A273","v":"0"}]
[{"$f":"IF('Order Form'!A273>0, \"1\", \"0\")","v":"0"},0,"Donald Trump","American Presidents","Blastoff! Readers",null,"0"]
[{"$f":"IF('Order Form'!A274>0, \"1\", \"0\")","v":"0"},0,"George W. Bush","American Presidents","Blastoff! Readers",null,"0"]
[{"$f":"IF('Order Form'!A275>0, \"1\", \"0\")","v":"0"},0,"George Washington","American Presidents","Blastoff! Readers",null,"0"]
[{"$f":"IF('Order Form'!A276>0, \"1\", \"0\")","v":"0"},0,"Joe Biden","American Presidents","Blastoff! Readers",null,"0"]
[{"$f":"IF('Order Form'!A277>0, \"1\", \"0\")","v":"0"},0,"John F. Kennedy","American Presidents","Blastoff! Readers",null,"0"]
[{"$f":"IF('Order Form'!A278>0, \"1\", \"0\")","v":"0"},0,"Ronald Reagan","American Presidents","Blastoff! Readers",null,"0"]
[{"$f":"IF('Order Form'!A279>0, \"1\", \"0\")","v":"0"},0,"Thomas Jefferson","American Presidents","Blastoff! Readers",null,"0"]
[{"$f":"IF('Order Form'!A280>0, \"1\", \"0\")","v":"0"},0,"Let's Play Sports Set (16)","Let's Play Sports","Blastoff! Readers",null,"0"]
[{"$f":"IF('Order Form'!A281>0, \"1\", \"0\")","v":"0"},0,"Archery","Let's Play Sports","Blastoff! Readers",null,"0"]
[{"$f":"IF('Order Form'!A282>0, \"1\", \"0\")","v":"0"},0,"Baseball","Let's Play Sports","Blastoff! Readers",null,"0"]
[{"$f":"IF('Order Form'!A283>0, \"1\", \"0\")","v":"0"},0,"Basketball","Let's Play Sports","Blastoff! Readers",null,"0"]
[{"$f":"IF('Order Form'!A284>0, \"1\", \"0\")","v":"0"},0,"Cheerleading","Let's Play Sports","Blastoff! Readers",null,"0"]
[{"$f":"IF('Order Form'!A285>0, \"1\", \"0\")","v":"0"},0,"Fishing","Let's Play Sports","Blastoff! Readers",null,"0"]
[{"$f":"IF('Order Form'!A286>0, \"1\", \"0\")","v":"0"},0,"Football","Let's Play Sports","Blastoff! Readers",null,"0"]
[{"$f":"IF('Order Form'!A287>0, \"1\", \"0\")","v":"0"},0,"Gymnastics","Let's Play Sports","Blastoff! Readers",null,"0"]
[{"$f":"IF('Order Form'!A288>0, \"1\", \"0\")","v":"0"},0,"Hockey","Let's Play Sports","Blastoff! Readers",null,"0"]
[{"$f":"IF('Order Form'!A289>0, \"1\", \"0\")","v":"0"},0,"Karate","Let's Play Sports","Blastoff! Readers",null,"0"]
[{"$f":"IF('Order Form'!A290>0, \"1\", \"0\")","v":"0"},0,"Lacrosse","Let's Play Sports","Blastoff! Readers",null,"0"]
[{"$f":"IF('Order Form'!A291>0, \"1\", \"0\")","v":"0"},0,"Soccer","Let's Play Sports","Blastoff! Readers",null,"0"]
[{"$f":"IF('Order Form'!A292>0, \"1\", \"0\")","v":"0"},0,"Softball","Let's Play Sports","Blastoff! Readers",null,"0"]
[{"$f":"IF('Order Form'!A293>0, \"1\", \"0\")","v":"0"},0,"Swimming","Let's Play Sports","Blastoff! Readers",null,"0"]
[{"$f":"IF('Order Form'!A294>0, \"1\", \"0\")","v":"0"},0,"Tennis","Let's Play Sports","Blastoff! Readers",null,"0"]
[{"$f":"IF('Order Form'!A295>0, \"1\", \"0\")","v":"0"},0,"Volleyball","Let's Play Sports","Blastoff! Readers",null,"0"]
[{"$f":"IF('Order Form'!A296>0, \"1\", \"0\")","v":"0"},0,"Wrestling","Let's Play Sports","Blastoff! Readers",null,"0"]
[{"$f":"IF('Order Form'!A297>0, \"1\", \"0\")","v":"0"},0,"Animal Life Cycles Set (6)","Animal Life Cycles","Blastoff! Readers",null,"0"]
[{"$f":"IF('Order Form'!A298>0, \"1\", \"0\")","v":"0"},0,"Animal Life Cycles: Bee","Animal Life Cycles","Blastoff! Readers",null,"0"]
[{"$f":"IF('Order Form'!A299>0, \"1\", \"0\")","v":"0"},0,"Animal Life Cycles: Butterfly","Animal Life Cycles","Blastoff! Readers",null,"0"]
[{"$f":"IF('Order Form'!A300>0, \"1\", \"0\")","v":"0"},0,"Animal Life Cycles: Frog","Animal Life Cycles","Blastoff! Readers",null,"0"]
[{"$f":"IF('Order Form'!A301>0, \"1\", \"0\")","v":"0"},0,"Animal Life Cycles: Ladybug","Animal Life Cycles","Blastoff! Readers",null,"0"]
[{"$f":"IF('Order Form'!A302>0, \"1\", \"0\")","v":"0"},0,"Animal Life Cycles: Penguin","Animal Life Cycles","Blastoff! Readers",null,"0"]
[{"$f":"IF('Order Form'!A303>0, \"1\", \"0\")","v":"0"},0,"Animal Life Cycles: Sea Horse","Animal Life Cycles","Blastoff! Readers",null,"0"]
[{"$f":"IF('Order Form'!A304>0, \"1\", \"0\")","v":"0"},0,"Everyday Engineering Set (6)","Everyday Engineering","Blastoff! Readers",null,"0"]
[{"$f":"IF('Order Form'!A305>0, \"1\", \"0\")","v":"0"},0,"Bridges","Everyday Engineering","Blastoff! Readers ",null,"0"]
[{"$f":"IF('Order Form'!A306>0, \"1\", \"0\")","v":"0"},0,"Dams","Everyday Engineering","Blastoff! Readers ",null,"0"]
[{"$f":"IF('Order Form'!A307>0, \"1\", \"0\")","v":"0"},0,"Highways","Everyday Engineering","Blastoff! Readers ",null,"0"]
[{"$f":"IF('Order Form'!A308>0, \"1\", \"0\")","v":"0"},0,"Roller Coasters","Everyday Engineering","Blastoff! Readers ",null,"0"]
[{"$f":"IF('Order Form'!A309>0, \"1\", \"0\")","v":"0"},0,"Skyscrapers","Everyday Engineering","Blastoff! Readers ",null,"0"]
[{"$f":"IF('Order Form'!A310>0, \"1\", \"0\")","v":"0"},0,"Stadiums","Everyday Engineering","Blastoff! Readers ",null,"0"]
[{"$f":"IF('Order Form'!A311>0, \"1\", \"0\")","v":"0"},0,"Animals of the Desert Set (10)","Animals of the Desert","Blastoff! Readers",null,"0"]
[{"$f":"IF('Order Form'!A312>0, \"1\", \"0\")","v":"0"},0,"Antelope Jackrabbits","Animals of the Desert","Blastoff! Readers",null,"0"]
[{"$f":"IF('Order Form'!A313>0, \"1\", \"0\")","v":"0"},0,"Bark Scorpions","Animals of the Desert","Blastoff! Readers",null,"0"]
[{"$f":"IF('Order Form'!A314>0, \"1\", \"0\")","v":"0"},0,"Bighorn Sheep","Animals of the Desert","Blastoff! Readers",null,"0"]
[{"$f":"IF('Order Form'!A315>0, \"1\", \"0\")","v":"0"},0,"Collared Lizards","Animals of the Desert","Blastoff! Readers",null,"0"]
[{"$f":"IF('Order Form'!A316>0, \"1\", \"0\")","v":"0"},0,"Desert Tortoises","Animals of the Desert","Blastoff! Readers",null,"0"]
[{"$f":"IF('Order Form'!A317>0, \"1\", \"0\")","v":"0"},0,"Fennec Foxes","Animals of the Desert","Blastoff! Readers",null,"0"]
[{"$f":"IF('Order Form'!A318>0, \"1\", \"0\")","v":"0"},0,"Roadrunners","Animals of the Desert","Blastoff! Readers",null,"0"]
[{"$f":"IF('Order Form'!A319>0, \"1\", \"0\")","v":"0"},0,"Sand Cats","Animals of the Desert","Blastoff! Readers",null,"0"]
[{"$f":"IF('Order Form'!A320>0, \"1\", \"0\")","v":"0"},0,"Sidewinders","Animals of the Desert","Blastoff! Readers",null,"0"]
[{"$f":"IF('Order Form'!A321>0, \"1\", \"0\")","v":"0"},0,"Thorny Devils","Animals of the Desert","Blastoff! Readers",null,"0"]
[{"$f":"IF('Order Form'!A322>0, \"1\", \"0\")","v":"0"},0,"Animals of the Arctic Set (10)","Animals of the Arctic","Blastoff! Readers",null,"0"]
[{"$f":"IF('Order Form'!A323>0, \"1\", \"0\")","v":"0"},0,"Arctic Foxes","Animals of the Arctic","Blastoff! Readers",null,"0"]
[{"$f":"IF('Order Form'!A324>0, \"1\", \"0\")","v":"0"},0,"Arctic Hares","Animals of the Arctic","Blastoff! Readers",null,"0"]
[{"$f":"IF('Order Form'!A325>0, \"1\", \"0\")","v":"0"},0,"Arctic Wolves","Animals of the Arctic","Blastoff! Readers",null,"0"]
[{"$f":"IF('Order Form'!A326>0, \"1\", \"0\")","v":"0"},0,"Beluga Whales","Animals of the Arctic","Blastoff! Readers",null,"0"]
[{"$f":"IF('Order Form'!A327>0, \"1\", \"0\")","v":"0"},0,"Collared Lemmings","Animals of the Arctic","Blastoff! Readers",null,"0"]
[{"$f":"IF('Order Form'!A328>0, \"1\", \"0\")","v":"0"},0,"Harp Seals","Animals of the Arctic","Blastoff! Readers",null,"0"]
[{"$f":"IF('Order Form'!A329>0, \"1\", \"0\")","v":"0"},0,"Narwhals","Animals of the Arctic","Blastoff! Readers",null,"0"]
[{"$f":"IF('Order Form'!A330>0, \"1\", \"0\")","v":"0"},0,"Polar Bears","Animals of the Arctic","Blastoff! Readers",null,"0"]
[{"$f":"IF('Order Form'!A331>0, \"1\", \"0\")","v":"0"},0,"Reindeer","Animals of the Arctic","Blastoff! Readers",null,"0"]
[{"$f":"IF('Order Form'!A332>0, \"1\", \"0\")","v":"0"},0,"Snowy Owls","Animals of the Arctic","Blastoff! Readers",null,"0"]
[{"$f":"IF('Order Form'!A333>0, \"1\", \"0\")","v":"0"},0,"Animals of the Mountains Set (10)","Animals of the Mountains","Blastoff! Readers",null,"0"]
[{"$f":"IF('Order Form'!A334>0, \"1\", \"0\")","v":"0"},0,"Alpine Ibex","Animals of the Mountains","Blastoff! Readers",null,"0"]
[{"$f":"IF('Order Form'!A335>0, \"1\", \"0\")","v":"0"},0,"Bearded Vultures","Animals of the Mountains","Blastoff! Readers",null,"0"]
[{"$f":"IF('Order Form'!A336>0, \"1\", \"0\")","v":"0"},0,"Brown Bears","Animals of the Mountains","Blastoff! Readers",null,{"$f":"A337","v":"0"}]
[{"$f":"IF('Order Form'!A337>0, \"1\", \"0\")","v":"0"},0,"Mountain Goats","Animals of the Mountains","Blastoff! Readers",null,"0"]
[{"$f":"IF('Order Form'!A338>0, \"1\", \"0\")","v":"0"},0,"Mountain Gorillas","Animals of the Mountains","Blastoff! Readers",null,"0"]
[{"$f":"IF('Order Form'!A339>0, \"1\", \"0\")","v":"0"},0,"Mountain Lions","Animals of the Mountains","Blastoff! Readers",null,"0"]
[{"$f":"IF('Order Form'!A340>0, \"1\", \"0\")","v":"0"},0,"Pikas","Animals of the Mountains","Blastoff! Readers",null,"0"]
[{"$f":"IF('Order Form'!A341>0, \"1\", \"0\")","v":"0"},0,"Red Pandas","Animals of the Mountains","Blastoff! Readers",null,"0"]
[{"$f":"IF('Order Form'!A342>0, \"1\", \"0\")","v":"0"},0,"Snow Leopards","Animals of the Mountains","Blastoff! Readers",null,"0"]
[{"$f":"IF('Order Form'!A343>0, \"1\", \"0\")","v":"0"},0,"Wild Yaks","Animals of the Mountains","Blastoff! Readers",null,"0"]
[{"$f":"IF('Order Form'!A344>0, \"1\", \"0\")","v":"0"},0,"Animals of the Coral Reef Set (10)","Animals of the Coral Reef","Blastoff! Readers",null,"0"]
[{"$f":"IF('Order Form'!A345>0, \"1\", \"0\")","v":"0"},0,"Angelfish","Animals of the Coral Reef","Blastoff! Readers",null,"0"]
[{"$f":"IF('Order Form'!A346>0, \"1\", \"0\")","v":"0"},0,"Clownfish","Animals of the Coral Reef","Blastoff! Readers",null,"0"]
[{"$f":"IF('Order Form'!A347>0, \"1\", \"0\")","v":"0"},0,"Giant Clams","Animals of the Coral Reef","Blastoff! Readers",null,"0"]
[{"$f":"IF('Order Form'!A348>0, \"1\", \"0\")","v":"0"},0,"Moray Eels","Animals of the Coral Reef","Blastoff! Readers",null,"0"]
[{"$f":"IF('Order Form'!A349>0, \"1\", \"0\")","v":"0"},0,"Octopuses","Animals of the Coral Reef","Blastoff! Readers",null,"0"]
[{"$f":"IF('Order Form'!A350>0, \"1\", \"0\")","v":"0"},0,"Parrotfish","Animals of the Coral Reef","Blastoff! Readers",null,"0"]
[{"$f":"IF('Order Form'!A351>0, \"1\", \"0\")","v":"0"},0,"Sea Horses","Animals of the Coral Reef","Blastoff! Readers",null,"0"]
[{"$f":"IF('Order Form'!A352>0, \"1\", \"0\")","v":"0"},0,"Sea Snakes","Animals of the Coral Reef","Blastoff! Readers",null,"0"]
[{"$f":"IF('Order Form'!A353>0, \"1\", \"0\")","v":"0"},0,"Spiny Lobsters","Animals of the Coral Reef","Blastoff! Readers",null,"0"]
[{"$f":"IF('Order Form'!A354>0, \"1\", \"0\")","v":"0"},0,"Whitetip Reef Sharks","Animals of the Coral Reef","Blastoff! Readers",null,"0"]
[{"$f":"IF('Order Form'!A355>0, \"1\", \"0\")","v":"0"},0,"Animals of the Wetlands Set (10)","Animals of the Wetlands","Blastoff! Readers",null,"0"]
[{"$f":"IF('Order Form'!A356>0, \"1\", \"0\")","v":"0"},0,"Alligators","Animals of the Wetlands","Blastoff! Readers",null,"0"]
[{"$f":"IF('Order Form'!A357>0, \"1\", \"0\")","v":"0"},0,"Beavers","Animals of the Wetlands","Blastoff! Readers",null,"0"]
[{"$f":"IF('Order Form'!A358>0, \"1\", \"0\")","v":"0"},0,"Crocodiles","Animals of the Wetlands","Blastoff! Readers",null,"0"]
[{"$f":"IF('Order Form'!A359>0, \"1\", \"0\")","v":"0"},0,"Fishing Cats","Animals of the Wetlands","Blastoff! Readers",null,"0"]
[{"$f":"IF('Order Form'!A360>0, \"1\", \"0\")","v":"0"},0,"Flamingos","Animals of the Wetlands","Blastoff! Readers",null,"0"]
[{"$f":"IF('Order Form'!A361>0, \"1\", \"0\")","v":"0"},0,"Herons","Animals of the Wetlands","Blastoff! Readers",null,"0"]
[{"$f":"IF('Order Form'!A362>0, \"1\", \"0\")","v":"0"},0,"Hippopotamuses","Animals of the Wetlands","Blastoff! Readers",null,"0"]
[{"$f":"IF('Order Form'!A363>0, \"1\", \"0\")","v":"0"},0,"Platypuses","Animals of the Wetlands","Blastoff! Readers",null,"0"]
[{"$f":"IF('Order Form'!A364>0, \"1\", \"0\")","v":"0"},0,"River Otters","Animals of the Wetlands","Blastoff! Readers",null,"0"]
[{"$f":"IF('Order Form'!A365>0, \"1\", \"0\")","v":"0"},0,"Wood Ducks","Animals of the Wetlands","Blastoff! Readers",null,"0"]
[{"$f":"IF('Order Form'!A366>0, \"1\", \"0\")","v":"0"},0,"Animals of the Rain Forest Set (10)","Animals of the Rain Forest","Blastoff! Readers",null,"0"]
[{"$f":"IF('Order Form'!A367>0, \"1\", \"0\")","v":"0"},0,"Anacondas","Animals of the Rain Forest","Blastoff! Readers",null,"0"]
[{"$f":"IF('Order Form'!A368>0, \"1\", \"0\")","v":"0"},0,"Capybaras","Animals of the Rain Forest","Blastoff! Readers",null,"0"]
[{"$f":"IF('Order Form'!A369>0, \"1\", \"0\")","v":"0"},0,"Chimpanzees","Animals of the Rain Forest","Blastoff! Readers",null,"0"]
[{"$f":"IF('Order Form'!A370>0, \"1\", \"0\")","v":"0"},0,"Harpy Eagles","Animals of the Rain Forest","Blastoff! Readers",null,"0"]
[{"$f":"IF('Order Form'!A371>0, \"1\", \"0\")","v":"0"},0,"Howler Monkeys","Animals of the Rain Forest","Blastoff! Readers",null,"0"]
[{"$f":"IF('Order Form'!A372>0, \"1\", \"0\")","v":"0"},0,"Jaguars","Animals of the Rain Forest","Blastoff! Readers",null,"0"]
[{"$f":"IF('Order Form'!A373>0, \"1\", \"0\")","v":"0"},0,"Macaws","Animals of the Rain Forest","Blastoff! Readers",null,"0"]
[{"$f":"IF('Order Form'!A374>0, \"1\", \"0\")","v":"0"},0,"Poison Dart Frogs","Animals of the Rain Forest","Blastoff! Readers",null,"0"]
[{"$f":"IF('Order Form'!A375>0, \"1\", \"0\")","v":"0"},0,"Sloths","Animals of the Rain Forest","Blastoff! Readers",null,"0"]
[{"$f":"IF('Order Form'!A376>0, \"1\", \"0\")","v":"0"},0,"Toucans","Animals of the Rain Forest","Blastoff! Readers",null,"0"]
[{"$f":"IF('Order Form'!A377>0, \"1\", \"0\")","v":"0"},0,"Animals of the Forest Set (10)","Animals of the Forest","Blastoff! Readers",null,"0"]
[{"$f":"IF('Order Form'!A378>0, \"1\", \"0\")","v":"0"},0,"Black Bears","Animals of the Forest","Blastoff! Readers",null,"0"]
[{"$f":"IF('Order Form'!A379>0, \"1\", \"0\")","v":"0"},0,"Brown Bats","Animals of the Forest","Blastoff! Readers",null,"0"]
[{"$f":"IF('Order Form'!A380>0, \"1\", \"0\")","v":"0"},0,"Gray Wolves","Animals of the Forest","Blastoff! Readers",null,"0"]
[{"$f":"IF('Order Form'!A381>0, \"1\", \"0\")","v":"0"},0,"Great Gray Owls","Animals of the Forest","Blastoff! Readers",null,"0"]
[{"$f":"IF('Order Form'!A382>0, \"1\", \"0\")","v":"0"},0,"Lynx","Animals of the Forest","Blastoff! Readers",null,"0"]
[{"$f":"IF('Order Form'!A383>0, \"1\", \"0\")","v":"0"},0,"Moose","Animals of the Forest","Blastoff! Readers",null,"0"]
[{"$f":"IF('Order Form'!A384>0, \"1\", \"0\")","v":"0"},0,"Raccoons","Animals of the Forest","Blastoff! Readers",null,"0"]
[{"$f":"IF('Order Form'!A385>0, \"1\", \"0\")","v":"0"},0,"Red Foxes","Animals of the Forest","Blastoff! Readers",null,"0"]
[{"$f":"IF('Order Form'!A386>0, \"1\", \"0\")","v":"0"},0,"White-tailed Deer","Animals of the Forest","Blastoff! Readers",null,"0"]
[{"$f":"IF('Order Form'!A387>0, \"1\", \"0\")","v":"0"},0,"Woodpeckers","Animals of the Forest","Blastoff! Readers",null,"0"]
[{"$f":"IF('Order Form'!A388>0, \"1\", \"0\")","v":"0"},0,"Animals of the Grasslands Set (10)","Animals of the Grasslands","Blastoff! Readers",null,"0"]
[{"$f":"IF('Order Form'!A389>0, \"1\", \"0\")","v":"0"},0,"African Elephants","Animals of the Grasslands","Blastoff! Readers",null,"0"]
[{"$f":"IF('Order Form'!A390>0, \"1\", \"0\")","v":"0"},0,"African Lions","Animals of the Grasslands","Blastoff! Readers",null,"0"]
[{"$f":"IF('Order Form'!A391>0, \"1\", \"0\")","v":"0"},0,"Bison","Animals of the Grasslands","Blastoff! Readers",null,"0"]
[{"$f":"IF('Order Form'!A392>0, \"1\", \"0\")","v":"0"},0,"Giraffes","Animals of the Grasslands","Blastoff! Readers",null,"0"]
[{"$f":"IF('Order Form'!A393>0, \"1\", \"0\")","v":"0"},0,"Hyenas","Animals of the Grasslands","Blastoff! Readers",null,"0"]
[{"$f":"IF('Order Form'!A394>0, \"1\", \"0\")","v":"0"},0,"Kangaroos","Animals of the Grasslands","Blastoff! Readers",null,"0"]
[{"$f":"IF('Order Form'!A395>0, \"1\", \"0\")","v":"0"},0,"Prairie Dogs","Animals of the Grasslands","Blastoff! Readers",null,"0"]
[{"$f":"IF('Order Form'!A396>0, \"1\", \"0\")","v":"0"},0,"Pronghorn","Animals of the Grasslands","Blastoff! Readers",null,"0"]
[{"$f":"IF('Order Form'!A397>0, \"1\", \"0\")","v":"0"},0,"Rhinoceroses","Animals of the Grasslands","Blastoff! Readers",null,"0"]
[{"$f":"IF('Order Form'!A398>0, \"1\", \"0\")","v":"0"},0,"Zebras","Animals of the Grasslands","Blastoff! Readers",null,"0"]
[{"$f":"IF('Order Form'!A399>0, \"1\", \"0\")","v":"0"},0,"Coding is Everywhere Set (6)","Coding is Everywhere","Blastoff! Readers",null,"0"]
[{"$f":"IF('Order Form'!A400>0, \"1\", \"0\")","v":"0"},0,"Coding in Computers","Coding is Everywhere","Blastoff! Readers",null,{"$f":"A401","v":"0"}]
[{"$f":"IF('Order Form'!A401>0, \"1\", \"0\")","v":"0"},0,"Coding in the Internet","Coding is Everywhere","Blastoff! Readers",null,"0"]
[{"$f":"IF('Order Form'!A402>0, \"1\", \"0\")","v":"0"},0,"Coding in Transportation","Coding is Everywhere","Blastoff! Readers",null,"0"]
[{"$f":"IF('Order Form'!A403>0, \"1\", \"0\")","v":"0"},0,"Coding in Video Games","Coding is Everywhere","Blastoff! Readers",null,"0"]
[{"$f":"IF('Order Form'!A404>0, \"1\", \"0\")","v":"0"},0,"Coding in Your Home","Coding is Everywhere","Blastoff! Readers",null,"0"]
[{"$f":"IF('Order Form'!A405>0, \"1\", \"0\")","v":"0"},0,"Coding in Your School","Coding is Everywhere","Blastoff! Readers",null,"0"]
[{"$f":"IF('Order Form'!A406>0, \"1\", \"0\")","v":"0"},0,"Simple Machines Fun! (6)","Simple Machines Fun!","Blastoff! Readers",null,"0"]
[{"$f":"IF('Order Form'!A407>0, \"1\", \"0\")","v":"0"},0,"Inclined Planes","Simple Machines Fun!","Blastoff! Readers",null,"0"]
[{"$f":"IF('Order Form'!A408>0, \"1\", \"0\")","v":"0"},0,"Levers","Simple Machines Fun!","Blastoff! Readers",null,"0"]
[{"$f":"IF('Order Form'!A409>0, \"1\", \"0\")","v":"0"},0,"Pulleys","Simple Machines Fun!","Blastoff! Readers",null,"0"]
[{"$f":"IF('Order Form'!A410>0, \"1\", \"0\")","v":"0"},0,"Screws","Simple Machines Fun!","Blastoff! Readers",null,"0"]
[{"$f":"IF('Order Form'!A411>0, \"1\", \"0\")","v":"0"},0,"Wedges","Simple Machines Fun!","Blastoff! Readers",null,"0"]
[{"$f":"IF('Order Form'!A412>0, \"1\", \"0\")","v":"0"},0,"Wheels and Axles","Simple Machines Fun!","Blastoff! Readers",null,"0"]
[{"$f":"IF('Order Form'!A413>0, \"1\", \"0\")","v":"0"},0,"Beginning to End Set (10)","Beginning to End","Blastoff! Readers",null,"0"]
[{"$f":"IF('Order Form'!A414>0, \"1\", \"0\")","v":"0"},0,"Acorn to Oak Tree","Beginning to End","Blastoff! Readers",null,"0"]
[{"$f":"IF('Order Form'!A415>0, \"1\", \"0\")","v":"0"},0,"Bulb to Tulip","Beginning to End","Blastoff! Readers",null,"0"]
[{"$f":"IF('Order Form'!A416>0, \"1\", \"0\")","v":"0"},0,"Cocoa Bean to Chocolate","Beginning to End","Blastoff! Readers",null,"0"]
[{"$f":"IF('Order Form'!A417>0, \"1\", \"0\")","v":"0"},0,"Cotton to T-shirt","Beginning to End","Blastoff! Readers",null,"0"]
[{"$f":"IF('Order Form'!A418>0, \"1\", \"0\")","v":"0"},0,"Grass to Milk","Beginning to End","Blastoff! Readers",null,"0"]
[{"$f":"IF('Order Form'!A419>0, \"1\", \"0\")","v":"0"},0,"Milk to Ice Cream","Beginning to End","Blastoff! Readers",null,"0"]
[{"$f":"IF('Order Form'!A420>0, \"1\", \"0\")","v":"0"},0,"Paper to Book","Beginning to End","Blastoff! Readers",null,"0"]
[{"$f":"IF('Order Form'!A421>0, \"1\", \"0\")","v":"0"},0,"Potato to French Fry","Beginning to End","Blastoff! Readers",null,"0"]
[{"$f":"IF('Order Form'!A422>0, \"1\", \"0\")","v":"0"},0,"Pumpkin Seed to Pie","Beginning to End","Blastoff! Readers",null,"0"]
[{"$f":"IF('Order Form'!A423>0, \"1\", \"0\")","v":"0"},0,"Tree to Paper","Beginning to End","Blastoff! Readers",null,"0"]
[{"$f":"IF('Order Form'!A424>0, \"1\", \"0\")","v":"0"},0,"Seasons of the Year Set (4)","Seasons of the Year","Blastoff! Readers",null,"0"]
[{"$f":"IF('Order Form'!A425>0, \"1\", \"0\")","v":"0"},0,"Fall","Seasons of the Year","Blastoff! Readers",null,"0"]
[{"$f":"IF('Order Form'!A426>0, \"1\", \"0\")","v":"0"},0,"Spring","Seasons of the Year","Blastoff! Readers",null,"0"]
[{"$f":"IF('Order Form'!A427>0, \"1\", \"0\")","v":"0"},0,"Summer","Seasons of the Year","Blastoff! Readers",null,"0"]
[{"$f":"IF('Order Form'!A428>0, \"1\", \"0\")","v":"0"},0,"Winter","Seasons of the Year","Blastoff! Readers",null,"0"]
[{"$f":"IF('Order Form'!A429>0, \"1\", \"0\")","v":"0"},0,"Understanding Weather Set (6)","Understanding Weather","Blastoff! Readers",null,"0"]
[{"$f":"IF('Order Form'!A430>0, \"1\", \"0\")","v":"0"},0,"Cloud Cover","Understanding Weather","Blastoff! Readers",null,"0"]
[{"$f":"IF('Order Form'!A431>0, \"1\", \"0\")","v":"0"},0,"Forecasts","Understanding Weather","Blastoff! Readers",null,"0"]
[{"$f":"IF('Order Form'!A432>0, \"1\", \"0\")","v":"0"},0,"Humidity","Understanding Weather","Blastoff! Readers",null,"0"]
[{"$f":"IF('Order Form'!A433>0, \"1\", \"0\")","v":"0"},0,"Precipitation","Understanding Weather","Blastoff! Readers",null,"0"]
[{"$f":"IF('Order Form'!A434>0, \"1\", \"0\")","v":"0"},0,"Severe Weather","Understanding Weather","Blastoff! Readers",null,"0"]
[{"$f":"IF('Order Form'!A435>0, \"1\", \"0\")","v":"0"},0,"Temperature","Understanding Weather","Blastoff! Readers",null,"0"]
[{"$f":"IF('Order Form'!A436>0, \"1\", \"0\")","v":"0"},0,"Cool Cats Set (26)","Cool Cats","Blastoff! Readers",null,"0"]
[{"$f":"IF('Order Form'!A437>0, \"1\", \"0\")","v":"0"},0,"Abyssinians","Cool Cats","Blastoff! Readers",null,"0"]
[{"$f":"IF('Order Form'!A438>0, \"1\", \"0\")","v":"0"},0,"American Curls","Cool Cats","Blastoff! Readers",null,"0"]
[{"$f":"IF('Order Form'!A439>0, \"1\", \"0\")","v":"0"},0,"American Shorthairs","Cool Cats","Blastoff! Readers",null,"0"]
[{"$f":"IF('Order Form'!A440>0, \"1\", \"0\")","v":"0"},0,"Balinese","Cool Cats","Blastoff! Readers",null,"0"]
[{"$f":"IF('Order Form'!A441>0, \"1\", \"0\")","v":"0"},0,"Birmans","Cool Cats","Blastoff! Readers",null,"0"]
[{"$f":"IF('Order Form'!A442>0, \"1\", \"0\")","v":"0"},0,"British Shorthairs","Cool Cats","Blastoff! Readers",null,"0"]
[{"$f":"IF('Order Form'!A443>0, \"1\", \"0\")","v":"0"},0,"Burmese","Cool Cats","Blastoff! Readers",null,"0"]
[{"$f":"IF('Order Form'!A444>0, \"1\", \"0\")","v":"0"},0,"Cornish Rexes","Cool Cats","Blastoff! Readers",null,"0"]
[{"$f":"IF('Order Form'!A445>0, \"1\", \"0\")","v":"0"},0,"Devon Rexes","Cool Cats","Blastoff! Readers",null,"0"]
[{"$f":"IF('Order Form'!A446>0, \"1\", \"0\")","v":"0"},0,"Egyptian Maus","Cool Cats","Blastoff! Readers",null,"0"]
[{"$f":"IF('Order Form'!A447>0, \"1\", \"0\")","v":"0"},0,"Exotics","Cool Cats","Blastoff! Readers",null,"0"]
[{"$f":"IF('Order Form'!A448>0, \"1\", \"0\")","v":"0"},0,"Japanese Bobtails","Cool Cats","Blastoff! Readers",null,"0"]
[{"$f":"IF('Order Form'!A449>0, \"1\", \"0\")","v":"0"},0,"Maine Coons","Cool Cats","Blastoff! Readers",null,"0"]
[{"$f":"IF('Order Form'!A450>0, \"1\", \"0\")","v":"0"},0,"Manx","Cool Cats","Blastoff! Readers",null,"0"]
[{"$f":"IF('Order Form'!A451>0, \"1\", \"0\")","v":"0"},0,"Norwegian Forest Cats","Cool Cats","Blastoff! Readers",null,"0"]
[{"$f":"IF('Order Form'!A452>0, \"1\", \"0\")","v":"0"},0,"Ocicats","Cool Cats","Blastoff! Readers",null,"0"]
[{"$f":"IF('Order Form'!A453>0, \"1\", \"0\")","v":"0"},0,"Orientals","Cool Cats","Blastoff! Readers",null,"0"]
[{"$f":"IF('Order Form'!A454>0, \"1\", \"0\")","v":"0"},0,"Persians","Cool Cats","Blastoff! Readers",null,"0"]
[{"$f":"IF('Order Form'!A455>0, \"1\", \"0\")","v":"0"},0,"RagaMuffins","Cool Cats","Blastoff! Readers",null,"0"]
[{"$f":"IF('Order Form'!A456>0, \"1\", \"0\")","v":"0"},0,"Ragdolls","Cool Cats","Blastoff! Readers",null,"0"]
[{"$f":"IF('Order Form'!A457>0, \"1\", \"0\")","v":"0"},0,"Russian Blues","Cool Cats","Blastoff! Readers",null,"0"]
[{"$f":"IF('Order Form'!A458>0, \"1\", \"0\")","v":"0"},0,"Scottish Folds","Cool Cats","Blastoff! Readers",null,"0"]
[{"$f":"IF('Order Form'!A459>0, \"1\", \"0\")","v":"0"},0,"Selkirk Rexes","Cool Cats","Blastoff! Readers",null,"0"]
[{"$f":"IF('Order Form'!A460>0, \"1\", \"0\")","v":"0"},0,"Siamese","Cool Cats","Blastoff! Readers",null,"0"]
[{"$f":"IF('Order Form'!A461>0, \"1\", \"0\")","v":"0"},0,"Siberians","Cool Cats","Blastoff! Readers",null,"0"]
[{"$f":"IF('Order Form'!A462>0, \"1\", \"0\")","v":"0"},0,"Sphynx","Cool Cats","Blastoff! Readers",null,"0"]
[{"$f":"IF('Order Form'!A463>0, \"1\", \"0\")","v":"0"},0,"Women Leading the Way Set (22)","Women Leading the Way","Blastoff! Readers",null,"0"]
[{"$f":"IF('Order Form'!A464>0, \"1\", \"0\")","v":"0"},0,"Angela Merkel: Chancellor of Germany","Women Leading the Way","Blastoff! Readers",null,{"$f":"A465","v":"0"}]
[{"$f":"IF('Order Form'!A465>0, \"1\", \"0\")","v":"0"},0,"Ann Bancroft: Explorer","Women Leading the Way","Blastoff! Readers",null,"0"]
[{"$f":"IF('Order Form'!A466>0, \"1\", \"0\")","v":"0"},0,"Ava DuVernay: Movie Director","Women Leading the Way","Blastoff! Readers",null,"0"]
[{"$f":"IF('Order Form'!A467>0, \"1\", \"0\")","v":"0"},0,"Carla Hayden: Librarian of Congress","Women Leading the Way","Blastoff! Readers",null,"0"]
[{"$f":"IF('Order Form'!A468>0, \"1\", \"0\")","v":"0"},0,"Dolly Parton: Country Music Star","Women Leading the Way","Blastoff! Readers",null,"0"]
[{"$f":"IF('Order Form'!A469>0, \"1\", \"0\")","v":"0"},0,"Dolores Huerta: Labor Activist","Women Leading the Way","Blastoff! Readers",null,"0"]
[{"$f":"IF('Order Form'!A470>0, \"1\", \"0\")","v":"0"},0,"Emma Watson: Women's Rights Activist","Women Leading the Way","Blastoff! Readers",null,"0"]
[{"$f":"IF('Order Form'!A471>0, \"1\", \"0\")","v":"0"},0,"Indra Nooyi: CEO of PepsiCo","Women Leading the Way","Blastoff! Readers",null,"0"]
[{"$f":"IF('Order Form'!A472>0, \"1\", \"0\")","v":"0"},0,"Kathleen Kennedy: Movie Producer","Women Leading the Way","Blastoff! Readers",null,"0"]
[{"$f":"IF('Order Form'!A473>0, \"1\", \"0\")","v":"0"},0,"Malala Yousafzai: Education Activist","Women Leading the Way","Blastoff! Readers",null,"0"]
[{"$f":"IF('Order Form'!A474>0, \"1\", \"0\")","v":"0"},0,"Maria Tallchief: Prima Ballerina","Women Leading the Way","Blastoff! Readers",null,"0"]
[{"$f":"IF('Order Form'!A475>0, \"1\", \"0\")","v":"0"},0,"Melinda Gates: Philanthropist","Women Leading the Way","Blastoff! Readers",null,"0"]
[{"$f":"IF('Order Form'!A476>0, \"1\", \"0\")","v":"0"},0,"Michelle Howard: Four-star Admiral","Women Leading the Way","Blastoff! Readers",null,"0"]
[{"$f":"IF('Order Form'!A477>0, \"1\", \"0\")","v":"0"},0,"Michelle Obama: Health Advocate","Women Leading the Way","Blastoff! Readers",null,"0"]
[{"$f":"IF('Order Form'!A478>0, \"1\", \"0\")","v":"0"},0,"Rachel Carson: Environmentalist","Women Leading the Way","Blastoff! Readers",null,"0"]
[{"$f":"IF('Order Form'!A479>0, \"1\", \"0\")","v":"0"},0,"Sara Seager: Planetary Scientist","Women Leading the Way","Blastoff! Readers",null,"0"]
[{"$f":"IF('Order Form'!A480>0, \"1\", \"0\")","v":"0"},0,"Serena Williams: Tennis Star","Women Leading the Way","Blastoff! Readers",null,"0"]
[{"$f":"IF('Order Form'!A481>0, \"1\", \"0\")","v":"0"},0,"Simone Biles: Olympic Gymnast","Women Leading the Way","Blastoff! Readers",null,"0"]
[{"$f":"IF('Order Form'!A482>0, \"1\", \"0\")","v":"0"},0,"Sonia Sotomayor: Supreme Court Justice","Women Leading the Way","Blastoff! Readers",null,"0"]
[{"$f":"IF('Order Form'!A483>0, \"1\", \"0\")","v":"0"},0,"Susan Wojcicki: CEO of YouTube","Women Leading the Way","Blastoff! Readers",null,"0"]
[{"$f":"IF('Order Form'!A484>0, \"1\", \"0\")","v":"0"},0,"Vera Wang: Fashion Designer","Women Leading the Way","Blastoff! Readers",null,"0"]
[{"$f":"IF('Order Form'!A485>0, \"1\", \"0\")","v":"0"},0,"Zaha Hadid: Architect","Women Leading the Way","Blastoff! Readers",null,"0"]
[{"$f":"IF('Order Form'!A486>0, \"1\", \"0\")","v":"0"},0,"Celebrating Holidays Set (24)","Celebrating Holidays","Blastoff! Readers",null,"0"]
[{"$f":"IF('Order Form'!A487>0, \"1\", \"0\")","v":"0"},0,"Chinese New Year","Celebrating Holidays","Blastoff! Readers",null,"0"]
[{"$f":"IF('Order Form'!A488>0, \"1\", \"0\")","v":"0"},0,"Christmas","Celebrating Holidays","Blastoff! Readers",null,"0"]
[{"$f":"IF('Order Form'!A489>0, \"1\", \"0\")","v":"0"},0,"Diwali","Celebrating Holidays","Blastoff! Readers",null,"0"]
[{"$f":"IF('Order Form'!A490>0, \"1\", \"0\")","v":"0"},0,"Easter","Celebrating Holidays","Blastoff! Readers",null,"0"]
[{"$f":"IF('Order Form'!A491>0, \"1\", \"0\")","v":"0"},0,"Hanukkah","Celebrating Holidays","Blastoff! Readers",null,"0"]
[{"$f":"IF('Order Form'!A492>0, \"1\", \"0\")","v":"0"},0,"Kwanzaa","Celebrating Holidays","Blastoff! Readers",null,"0"]
[{"$f":"IF('Order Form'!A493>0, \"1\", \"0\")","v":"0"},0,"Ramadan","Celebrating Holidays","Blastoff! Readers",null,"0"]
[{"$f":"IF('Order Form'!A494>0, \"1\", \"0\")","v":"0"},0,"Thanksgiving","Celebrating Holidays","Blastoff! Readers",null,"0"]
[{"$f":"IF('Order Form'!A495>0, \"1\", \"0\")","v":"0"},0,"Cinco de Mayo","Celebrating Holidays","Blastoff! Readers",null,"0"]
[{"$f":"IF('Order Form'!A496>0, \"1\", \"0\")","v":"0"},0,"Day of the Dead","Celebrating Holidays","Blastoff! Readers",null,"0"]
[{"$f":"IF('Order Form'!A497>0, \"1\", \"0\")","v":"0"},0,"Earth Day","Celebrating Holidays","Blastoff! Readers",null,"0"]
[{"$f":"IF('Order Form'!A498>0, \"1\", \"0\")","v":"0"},0,"Groundhog Day","Celebrating Holidays","Blastoff! Readers",null,"0"]
[{"$f":"IF('Order Form'!A499>0, \"1\", \"0\")","v":"0"},0,"Halloween","Celebrating Holidays","Blastoff! Readers",null,"0"]
[{"$f":"IF('Order Form'!A500>0, \"1\", \"0\")","v":"0"},0,"Independence Day","Celebrating Holidays","Blastoff! Readers",null,"0"]
[{"$f":"IF('Order Form'!A501>0, \"1\", \"0\")","v":"0"},0,"Saint Patrick's Day","Celebrating Holidays","Blastoff! Readers",null,"0"]
[{"$f":"IF('Order Form'!A502>0, \"1\", \"0\")","v":"0"},0,"Veterans Day","Celebrating Holidays","Blastoff! Readers",null,"0"]
[{"$f":"IF('Order Form'!A503>0, \"1\", \"0\")","v":"0"},0,"Martin Luther King, Jr. Day","Celebrating Holidays","Blastoff! Readers",null,"0"]
[{"$f":"IF('Order Form'!A504>0, \"1\", \"0\")","v":"0"},0,"Memorial Day","Celebrating Holidays","Blastoff! Readers",null,"0"]
[{"$f":"IF('Order Form'!A505>0, \"1\", \"0\")","v":"0"},0,"Presidents' Day","Celebrating Holidays","Blastoff! Readers",null,"0"]
[{"$f":"IF('Order Form'!A506>0, \"1\", \"0\")","v":"0"},0,"Valentine's Day","Celebrating Holidays","Blastoff! Readers",null,"0"]
[{"$f":"IF('Order Form'!A507>0, \"1\", \"0\")","v":"0"},0,"Holi","Celebrating Holidays","Blastoff! Readers",null,"0"]
[{"$f":"IF('Order Form'!A508>0, \"1\", \"0\")","v":"0"},0,"Juneteenth","Celebrating Holidays","Blastoff! Readers",null,"0"]
[{"$f":"IF('Order Form'!A509>0, \"1\", \"0\")","v":"0"},0,"Labor Day","Celebrating Holidays","Blastoff! Readers",null,"0"]
[{"$f":"IF('Order Form'!A510>0, \"1\", \"0\")","v":"0"},0,"Passover","Celebrating Holidays","Blastoff! Readers",null,"0"]
[{"$f":"IF('Order Form'!A511>0, \"1\", \"0\")","v":"0"},0,"Mighty Machines in Action Set (22)","Mighty Machines in Action","Blastoff! Readers",null,"0"]
[{"$f":"IF('Order Form'!A512>0, \"1\", \"0\")","v":"0"},0,"Airplanes","Mighty Machines in Action","Blastoff! Readers",null,"0"]
[{"$f":"IF('Order Form'!A513>0, \"1\", \"0\")","v":"0"},0,"Backhoes","Mighty Machines in Action","Blastoff! Readers",null,"0"]
[{"$f":"IF('Order Form'!A514>0, \"1\", \"0\")","v":"0"},0,"Bulldozers","Mighty Machines in Action","Blastoff! Readers",null,"0"]
[{"$f":"IF('Order Form'!A515>0, \"1\", \"0\")","v":"0"},0,"Cranes","Mighty Machines in Action","Blastoff! Readers",null,"0"]
[{"$f":"IF('Order Form'!A516>0, \"1\", \"0\")","v":"0"},0,"Dump Trucks","Mighty Machines in Action","Blastoff! Readers",null,"0"]
[{"$f":"IF('Order Form'!A517>0, \"1\", \"0\")","v":"0"},0,"Fire Trucks","Mighty Machines in Action","Blastoff! Readers",null,"0"]
[{"$f":"IF('Order Form'!A518>0, \"1\", \"0\")","v":"0"},0,"Garbage Trucks","Mighty Machines in Action","Blastoff! Readers",null,"0"]
[{"$f":"IF('Order Form'!A519>0, \"1\", \"0\")","v":"0"},0,"Monster Trucks","Mighty Machines in Action","Blastoff! Readers",null,"0"]
[{"$f":"IF('Order Form'!A520>0, \"1\", \"0\")","v":"0"},0,"Police Cars","Mighty Machines in Action","Blastoff! Readers",null,"0"]
[{"$f":"IF('Order Form'!A521>0, \"1\", \"0\")","v":"0"},0,"Ships","Mighty Machines in Action","Blastoff! Readers",null,"0"]
[{"$f":"IF('Order Form'!A522>0, \"1\", \"0\")","v":"0"},0,"Tractors","Mighty Machines in Action","Blastoff! Readers",null,"0"]
[{"$f":"IF('Order Form'!A523>0, \"1\", \"0\")","v":"0"},0,"Trains","Mighty Machines in Action","Blastoff! Readers",null,"0"]
[{"$f":"IF('Order Form'!A524>0, \"1\", \"0\")","v":"0"},0,"Big Rigs","Mighty Machines in Action","Blastoff! Readers",null,"0"]
[{"$f":"IF('Order Form'!A525>0, \"1\", \"0\")","v":"0"},0,"Concrete Mixers","Mighty Machines in Action","Blastoff! Readers",null,"0"]
[{"$f":"IF('Order Form'!A526>0, \"1\", \"0\")","v":"0"},0,"Earth Movers","Mighty Machines in Action","Blastoff! Readers",null,"0"]
[{"$f":"IF('Order Form'!A527>0, \"1\", \"0\")","v":"0"},0,"Helicopters","Mighty Machines in Action","Blastoff! Readers",null,"0"]
[{"$f":"IF('Order Form'!A528>0, \"1\", \"0\")","v":"0"},0,"Snowplows","Mighty Machines in Action","Blastoff! Readers",null,{"$f":"A529","v":"0"}]
[{"$f":"IF('Order Form'!A529>0, \"1\", \"0\")","v":"0"},0,"Zamboni Ice Resurfacers","Mighty Machines in Action","Blastoff! Readers",null,"0"]
[{"$f":"IF('Order Form'!A530>0, \"1\", \"0\")","v":"0"},0,"Ambulances","Mighty Machines in Action","Blastoff! Readers",null,"0"]
[{"$f":"IF('Order Form'!A531>0, \"1\", \"0\")","v":"0"},0,"Motorcycles","Mighty Machines in Action","Blastoff! Readers",null,"0"]
[{"$f":"IF('Order Form'!A532>0, \"1\", \"0\")","v":"0"},0,"Pickup Trucks","Mighty Machines in Action","Blastoff! Readers",null,"0"]
[{"$f":"IF('Order Form'!A533>0, \"1\", \"0\")","v":"0"},0,"Race Cars","Mighty Machines in Action","Blastoff! Readers",null,"0"]
[{"$f":"IF('Order Form'!A534>0, \"1\", \"0\")","v":"0"},0,"Awesome Dogs Set (48 titles)","Awesome Dogs","Blastoff! Readers",null,"0"]
[{"$f":"IF('Order Form'!A535>0, \"1\", \"0\")","v":"0"},0,"Akitas","Awesome Dogs","Blastoff! Readers",null,"0"]
[{"$f":"IF('Order Form'!A536>0, \"1\", \"0\")","v":"0"},0,"Alaskan Malamutes","Awesome Dogs","Blastoff! Readers",null,"0"]
[{"$f":"IF('Order Form'!A537>0, \"1\", \"0\")","v":"0"},0,"Australian Cattle Dogs","Awesome Dogs","Blastoff! Readers",null,"0"]
[{"$f":"IF('Order Form'!A538>0, \"1\", \"0\")","v":"0"},0,"Australian Shepherds","Awesome Dogs","Blastoff! Readers",null,"0"]
[{"$f":"IF('Order Form'!A539>0, \"1\", \"0\")","v":"0"},0,"Basset Hounds","Awesome Dogs","Blastoff! Readers",null,"0"]
[{"$f":"IF('Order Form'!A540>0, \"1\", \"0\")","v":"0"},0,"Beagles","Awesome Dogs","Blastoff! Readers",null,"0"]
[{"$f":"IF('Order Form'!A541>0, \"1\", \"0\")","v":"0"},0,"Bernese Mountain Dogs","Awesome Dogs","Blastoff! Readers",null,"0"]
[{"$f":"IF('Order Form'!A542>0, \"1\", \"0\")","v":"0"},0,"Bichons Frises","Awesome Dogs","Blastoff! Readers",null,"0"]
[{"$f":"IF('Order Form'!A543>0, \"1\", \"0\")","v":"0"},0,"Bloodhounds","Awesome Dogs","Blastoff! Readers",null,"0"]
[{"$f":"IF('Order Form'!A544>0, \"1\", \"0\")","v":"0"},0,"Border Collies","Awesome Dogs","Blastoff! Readers",null,"0"]
[{"$f":"IF('Order Form'!A545>0, \"1\", \"0\")","v":"0"},0,"Boston Terriers","Awesome Dogs","Blastoff! Readers",null,"0"]
[{"$f":"IF('Order Form'!A546>0, \"1\", \"0\")","v":"0"},0,"Boxers","Awesome Dogs","Blastoff! Readers",null,"0"]
[{"$f":"IF('Order Form'!A547>0, \"1\", \"0\")","v":"0"},0,"Brittanys","Awesome Dogs","Blastoff! Readers",null,"0"]
[{"$f":"IF('Order Form'!A548>0, \"1\", \"0\")","v":"0"},0,"Bulldogs","Awesome Dogs","Blastoff! Readers",null,"0"]
[{"$f":"IF('Order Form'!A549>0, \"1\", \"0\")","v":"0"},0,"Cavalier King Charles Spaniels","Awesome Dogs","Blastoff! Readers",null,"0"]
[{"$f":"IF('Order Form'!A550>0, \"1\", \"0\")","v":"0"},0,"Chihuahuas","Awesome Dogs","Blastoff! Readers",null,"0"]
[{"$f":"IF('Order Form'!A551>0, \"1\", \"0\")","v":"0"},0,"Chinese Shar-pei","Awesome Dogs","Blastoff! Readers",null,"0"]
[{"$f":"IF('Order Form'!A552>0, \"1\", \"0\")","v":"0"},0,"Cocker Spaniels","Awesome Dogs","Blastoff! Readers",null,"0"]
[{"$f":"IF('Order Form'!A553>0, \"1\", \"0\")","v":"0"},0,"Collies","Awesome Dogs","Blastoff! Readers",null,"0"]
[{"$f":"IF('Order Form'!A554>0, \"1\", \"0\")","v":"0"},0,"Dachshunds","Awesome Dogs","Blastoff! Readers",null,"0"]
[{"$f":"IF('Order Form'!A555>0, \"1\", \"0\")","v":"0"},0,"Dalmatians","Awesome Dogs","Blastoff! Readers",null,"0"]
[{"$f":"IF('Order Form'!A556>0, \"1\", \"0\")","v":"0"},0,"Doberman Pinschers","Awesome Dogs","Blastoff! Readers",null,"0"]
[{"$f":"IF('Order Form'!A557>0, \"1\", \"0\")","v":"0"},0,"French Bulldogs","Awesome Dogs","Blastoff! Readers",null,"0"]
[{"$f":"IF('Order Form'!A558>0, \"1\", \"0\")","v":"0"},0,"German Shepherds","Awesome Dogs","Blastoff! Readers",null,"0"]
[{"$f":"IF('Order Form'!A559>0, \"1\", \"0\")","v":"0"},0,"German Shorthaired Pointers","Awesome Dogs","Blastoff! Readers",null,"0"]
[{"$f":"IF('Order Form'!A560>0, \"1\", \"0\")","v":"0"},0,"Golden Retrievers","Awesome Dogs","Blastoff! Readers",null,"0"]
[{"$f":"IF('Order Form'!A561>0, \"1\", \"0\")","v":"0"},0,"Great Danes","Awesome Dogs","Blastoff! Readers",null,"0"]
[{"$f":"IF('Order Form'!A562>0, \"1\", \"0\")","v":"0"},0,"Greyhounds","Awesome Dogs","Blastoff! Readers",null,"0"]
[{"$f":"IF('Order Form'!A563>0, \"1\", \"0\")","v":"0"},0,"Irish Wolfhounds","Awesome Dogs","Blastoff! Readers",null,"0"]
[{"$f":"IF('Order Form'!A564>0, \"1\", \"0\")","v":"0"},0,"Labrador Retrievers","Awesome Dogs","Blastoff! Readers",null,"0"]
[{"$f":"IF('Order Form'!A565>0, \"1\", \"0\")","v":"0"},0,"Maltese","Awesome Dogs","Blastoff! Readers",null,"0"]
[{"$f":"IF('Order Form'!A566>0, \"1\", \"0\")","v":"0"},0,"Mastiffs","Awesome Dogs","Blastoff! Readers",null,"0"]
[{"$f":"IF('Order Form'!A567>0, \"1\", \"0\")","v":"0"},0,"Miniature Schnauzers","Awesome Dogs","Blastoff! Readers",null,"0"]
[{"$f":"IF('Order Form'!A568>0, \"1\", \"0\")","v":"0"},0,"Newfoundlands","Awesome Dogs","Blastoff! Readers",null,"0"]
[{"$f":"IF('Order Form'!A569>0, \"1\", \"0\")","v":"0"},0,"Pembroke Welsh Corgis","Awesome Dogs","Blastoff! Readers",null,"0"]
[{"$f":"IF('Order Form'!A570>0, \"1\", \"0\")","v":"0"},0,"Pomeranians","Awesome Dogs","Blastoff! Readers",null,"0"]
[{"$f":"IF('Order Form'!A571>0, \"1\", \"0\")","v":"0"},0,"Poodles","Awesome Dogs","Blastoff! Readers",null,"0"]
[{"$f":"IF('Order Form'!A572>0, \"1\", \"0\")","v":"0"},0,"Pugs","Awesome Dogs","Blastoff! Readers",null,"0"]
[{"$f":"IF('Order Form'!A573>0, \"1\", \"0\")","v":"0"},0,"Rottweilers","Awesome Dogs","Blastoff! Readers",null,"0"]
[{"$f":"IF('Order Form'!A574>0, \"1\", \"0\")","v":"0"},0,"Saint Bernards","Awesome Dogs","Blastoff! Readers",null,"0"]
[{"$f":"IF('Order Form'!A575>0, \"1\", \"0\")","v":"0"},0,"Scottish Terriers","Awesome Dogs","Blastoff! Readers",null,"0"]
[{"$f":"IF('Order Form'!A576>0, \"1\", \"0\")","v":"0"},0,"Shetland Sheepdogs","Awesome Dogs","Blastoff! Readers",null,"0"]
[{"$f":"IF('Order Form'!A577>0, \"1\", \"0\")","v":"0"},0,"Shiba Inus","Awesome Dogs","Blastoff! Readers",null,"0"]
[{"$f":"IF('Order Form'!A578>0, \"1\", \"0\")","v":"0"},0,"Shih Tzus","Awesome Dogs","Blastoff! Readers",null,"0"]
[{"$f":"IF('Order Form'!A579>0, \"1\", \"0\")","v":"0"},0,"Siberian Huskies","Awesome Dogs","Blastoff! Readers",null,"0"]
[{"$f":"IF('Order Form'!A580>0, \"1\", \"0\")","v":"0"},0,"Vizslas","Awesome Dogs","Blastoff! Readers",null,"0"]
[{"$f":"IF('Order Form'!A581>0, \"1\", \"0\")","v":"0"},0,"West Highland White Terriers","Awesome Dogs","Blastoff! Readers",null,"0"]
[{"$f":"IF('Order Form'!A582>0, \"1\", \"0\")","v":"0"},0,"Yorkshire Terriers","Awesome Dogs","Blastoff! Readers",null,"0"]
[{"$f":"IF('Order Form'!A583>0, \"1\", \"0\")","v":"0"},0,"Shark Frenzy Set (12)","Shark Frenzy","Blastoff! Readers",null,"0"]
[{"$f":"IF('Order Form'!A584>0, \"1\", \"0\")","v":"0"},0,"Angel Sharks","Shark Frenzy","Blastoff! Readers",null,"0"]
[{"$f":"IF('Order Form'!A585>0, \"1\", \"0\")","v":"0"},0,"Basking Sharks","Shark Frenzy","Blastoff! Readers",null,"0"]
[{"$f":"IF('Order Form'!A586>0, \"1\", \"0\")","v":"0"},0,"Blue Sharks","Shark Frenzy","Blastoff! Readers",null,"0"]
[{"$f":"IF('Order Form'!A587>0, \"1\", \"0\")","v":"0"},0,"Bull Sharks","Shark Frenzy","Blastoff! Readers",null,"0"]
[{"$f":"IF('Order Form'!A588>0, \"1\", \"0\")","v":"0"},0,"Great White Sharks","Shark Frenzy","Blastoff! Readers",null,"0"]
[{"$f":"IF('Order Form'!A589>0, \"1\", \"0\")","v":"0"},0,"Hammerhead Sharks","Shark Frenzy","Blastoff! Readers",null,"0"]
[{"$f":"IF('Order Form'!A590>0, \"1\", \"0\")","v":"0"},0,"Lemon Sharks","Shark Frenzy","Blastoff! Readers",null,"0"]
[{"$f":"IF('Order Form'!A591>0, \"1\", \"0\")","v":"0"},0,"Mako Sharks","Shark Frenzy","Blastoff! Readers",null,"0"]
[{"$f":"IF('Order Form'!A592>0, \"1\", \"0\")","v":"0"},0,"Nurse Sharks","Shark Frenzy","Blastoff! Readers",null,{"$f":"A593","v":"0"}]
[{"$f":"IF('Order Form'!A593>0, \"1\", \"0\")","v":"0"},0,"Oceanic Whitetip Sharks","Shark Frenzy","Blastoff! Readers",null,"0"]
[{"$f":"IF('Order Form'!A594>0, \"1\", \"0\")","v":"0"},0,"Sand Tiger Sharks","Shark Frenzy","Blastoff! Readers",null,"0"]
[{"$f":"IF('Order Form'!A595>0, \"1\", \"0\")","v":"0"},0,"Whale Sharks","Shark Frenzy","Blastoff! Readers",null,"0"]
[{"$f":"IF('Order Form'!A596>0, \"1\", \"0\")","v":"0"},0,"Our Planet Earth Set (6)","Our Planet Earth","Blastoff! Readers",null,"0"]
[{"$f":"IF('Order Form'!A597>0, \"1\", \"0\")","v":"0"},0,"Caves","Our Planet Earth","Blastoff! Readers",null,"0"]
[{"$f":"IF('Order Form'!A598>0, \"1\", \"0\")","v":"0"},0,"Deserts","Our Planet Earth","Blastoff! Readers",null,"0"]
[{"$f":"IF('Order Form'!A599>0, \"1\", \"0\")","v":"0"},0,"Oceans","Our Planet Earth","Blastoff! Readers",null,"0"]
[{"$f":"IF('Order Form'!A600>0, \"1\", \"0\")","v":"0"},0,"Prairies","Our Planet Earth","Blastoff! Readers",null,"0"]
[{"$f":"IF('Order Form'!A601>0, \"1\", \"0\")","v":"0"},0,"Rain Forests","Our Planet Earth","Blastoff! Readers",null,"0"]
[{"$f":"IF('Order Form'!A602>0, \"1\", \"0\")","v":"0"},0,"Rivers","Our Planet Earth","Blastoff! Readers",null,"0"]
[{"$f":"IF('Order Form'!A603>0, \"1\", \"0\")","v":"0"},0,"Natural Disasters Set (12)","Natural Disasters","Blastoff! Readers",null,"0"]
[{"$f":"IF('Order Form'!A604>0, \"1\", \"0\")","v":"0"},0,"Blizzards","Natural Disasters","Blastoff! Readers",null,"0"]
[{"$f":"IF('Order Form'!A605>0, \"1\", \"0\")","v":"0"},0,"Earthquakes","Natural Disasters","Blastoff! Readers",null,"0"]
[{"$f":"IF('Order Form'!A606>0, \"1\", \"0\")","v":"0"},0,"Hurricanes","Natural Disasters","Blastoff! Readers",null,"0"]
[{"$f":"IF('Order Form'!A607>0, \"1\", \"0\")","v":"0"},0,"Tornadoes","Natural Disasters","Blastoff! Readers",null,"0"]
[{"$f":"IF('Order Form'!A608>0, \"1\", \"0\")","v":"0"},0,"Tsunamis","Natural Disasters","Blastoff! Readers",null,"0"]
[{"$f":"IF('Order Form'!A609>0, \"1\", \"0\")","v":"0"},0,"Volcanoes","Natural Disasters","Blastoff! Readers",null,"0"]
[{"$f":"IF('Order Form'!A610>0, \"1\", \"0\")","v":"0"},0,"Avalanches","Natural Disasters","Blastoff! Readers",null,"0"]
[{"$f":"IF('Order Form'!A611>0, \"1\", \"0\")","v":"0"},0,"Droughts","Natural Disasters","Blastoff! Readers",null,"0"]
[{"$f":"IF('Order Form'!A612>0, \"1\", \"0\")","v":"0"},0,"Floods","Natural Disasters","Blastoff! Readers",null,"0"]
[{"$f":"IF('Order Form'!A613>0, \"1\", \"0\")","v":"0"},0,"Ice Storms","Natural Disasters","Blastoff! Readers",null,"0"]
[{"$f":"IF('Order Form'!A614>0, \"1\", \"0\")","v":"0"},0,"Sinkholes","Natural Disasters","Blastoff! Readers",null,"0"]
[{"$f":"IF('Order Form'!A615>0, \"1\", \"0\")","v":"0"},0,"Wildfires","Natural Disasters","Blastoff! Readers",null,"0"]
[{"$f":"IF('Order Form'!A616>0, \"1\", \"0\")","v":"0"},0,"Our Favorite Foods Set (10)","Our Favorite Foods","Blastoff! Readers",null,"0"]
[{"$f":"IF('Order Form'!A617>0, \"1\", \"0\")","v":"0"},0,"Chocolate Chip Cookies","Our Favorite Foods","Blastoff! Readers",null,"0"]
[{"$f":"IF('Order Form'!A618>0, \"1\", \"0\")","v":"0"},0,"Doughnuts","Our Favorite Foods","Blastoff! Readers",null,"0"]
[{"$f":"IF('Order Form'!A619>0, \"1\", \"0\")","v":"0"},0,"French Fries","Our Favorite Foods","Blastoff! Readers",null,"0"]
[{"$f":"IF('Order Form'!A620>0, \"1\", \"0\")","v":"0"},0,"Grilled Cheese Sandwiches","Our Favorite Foods","Blastoff! Readers",null,"0"]
[{"$f":"IF('Order Form'!A621>0, \"1\", \"0\")","v":"0"},0,"Hamburgers","Our Favorite Foods","Blastoff! Readers",null,"0"]
[{"$f":"IF('Order Form'!A622>0, \"1\", \"0\")","v":"0"},0,"Ice Cream","Our Favorite Foods","Blastoff! Readers",null,"0"]
[{"$f":"IF('Order Form'!A623>0, \"1\", \"0\")","v":"0"},0,"Macaroni & Cheese","Our Favorite Foods","Blastoff! Readers",null,"0"]
[{"$f":"IF('Order Form'!A624>0, \"1\", \"0\")","v":"0"},0,"Pizza","Our Favorite Foods","Blastoff! Readers",null,"0"]
[{"$f":"IF('Order Form'!A625>0, \"1\", \"0\")","v":"0"},0,"Popcorn","Our Favorite Foods","Blastoff! Readers",null,"0"]
[{"$f":"IF('Order Form'!A626>0, \"1\", \"0\")","v":"0"},0,"Tacos","Our Favorite Foods","Blastoff! Readers",null,"0"]
[{"$f":"IF('Order Form'!A627>0, \"1\", \"0\")","v":"0"},0,"Animals on the Move Set (8)","Animals on the Move","Blastoff! Readers",null,"0"]
[{"$f":"IF('Order Form'!A628>0, \"1\", \"0\")","v":"0"},0,"Arctic Tern Migration","Animals on the Move","Blastoff! Readers",null,"0"]
[{"$f":"IF('Order Form'!A629>0, \"1\", \"0\")","v":"0"},0,"Caribou Migration","Animals on the Move","Blastoff! Readers",null,"0"]
[{"$f":"IF('Order Form'!A630>0, \"1\", \"0\")","v":"0"},0,"Christmas Island Red Crab Migration","Animals on the Move","Blastoff! Readers",null,"0"]
[{"$f":"IF('Order Form'!A631>0, \"1\", \"0\")","v":"0"},0,"Humpback Whale Migration","Animals on the Move","Blastoff! Readers",null,"0"]
[{"$f":"IF('Order Form'!A632>0, \"1\", \"0\")","v":"0"},0,"Leatherback Sea Turtle Migration","Animals on the Move","Blastoff! Readers",null,"0"]
[{"$f":"IF('Order Form'!A633>0, \"1\", \"0\")","v":"0"},0,"Monarch Butterfly Migration","Animals on the Move","Blastoff! Readers",null,"0"]
[{"$f":"IF('Order Form'!A634>0, \"1\", \"0\")","v":"0"},0,"Salmon Migration","Animals on the Move","Blastoff! Readers",null,"0"]
[{"$f":"IF('Order Form'!A635>0, \"1\", \"0\")","v":"0"},0,"Wildebeest Migration","Animals on the Move","Blastoff! Readers",null,"0"]
[{"$f":"IF('Order Form'!A636>0, \"1\", \"0\")","v":"0"},0,"Animal Tag Teams Set (6)","Animal Tag Teams","Blastoff! Readers",null,"0"]
[{"$f":"IF('Order Form'!A637>0, \"1\", \"0\")","v":"0"},0,"Cape Buffalo and Oxpeckers","Animal Tag Teams","Blastoff! Readers",null,"0"]
[{"$f":"IF('Order Form'!A638>0, \"1\", \"0\")","v":"0"},0,"Clownfish and Sea Anemones","Animal Tag Teams","Blastoff! Readers",null,"0"]
[{"$f":"IF('Order Form'!A639>0, \"1\", \"0\")","v":"0"},0,"Goby Fish and Snapping Shrimp","Animal Tag Teams","Blastoff! Readers",null,"0"]
[{"$f":"IF('Order Form'!A640>0, \"1\", \"0\")","v":"0"},0,"Nile Crocodiles and Egyptian Plovers","Animal Tag Teams","Blastoff! Readers",null,"0"]
[{"$f":"IF('Order Form'!A641>0, \"1\", \"0\")","v":"0"},0,"Oceanic Whitetip Sharks and Pilot Fish","Animal Tag Teams","Blastoff! Readers",null,"0"]
[{"$f":"IF('Order Form'!A642>0, \"1\", \"0\")","v":"0"},0,"Warthogs and Banded Mongooses","Animal Tag Teams","Blastoff! Readers",null,"0"]
[{"$f":"IF('Order Form'!A643>0, \"1\", \"0\")","v":"0"},0,"The World's Smartest Animals Set (6)","The World's Smartest Animals","Blastoff! Readers",null,"0"]
[{"$f":"IF('Order Form'!A644>0, \"1\", \"0\")","v":"0"},0,"Chimpanzees","The World's Smartest Animals","Blastoff! Readers",null,"0"]
[{"$f":"IF('Order Form'!A645>0, \"1\", \"0\")","v":"0"},0,"Crows","The World's Smartest Animals","Blastoff! Readers",null,"0"]
[{"$f":"IF('Order Form'!A646>0, \"1\", \"0\")","v":"0"},0,"Dogs","The World's Smartest Animals","Blastoff! Readers",null,"0"]
[{"$f":"IF('Order Form'!A647>0, \"1\", \"0\")","v":"0"},0,"Dolphins","The World's Smartest Animals","Blastoff! Readers",null,"0"]
[{"$f":"IF('Order Form'!A648>0, \"1\", \"0\")","v":"0"},0,"Octopuses","The World's Smartest Animals","Blastoff! Readers",null,"0"]
[{"$f":"IF('Order Form'!A649>0, \"1\", \"0\")","v":"0"},0,"Rats","The World's Smartest Animals","Blastoff! Readers",null,"0"]
[{"$f":"IF('Order Form'!A650>0, \"1\", \"0\")","v":"0"},0,"Your Body Systems Set (6)","Your Body Systems","Blastoff! Readers",null,"0"]
[{"$f":"IF('Order Form'!A651>0, \"1\", \"0\")","v":"0"},0,"Circulatory System, The","Your Body Systems","Blastoff! Readers",null,"0"]
[{"$f":"IF('Order Form'!A652>0, \"1\", \"0\")","v":"0"},0,"Digestive System, The","Your Body Systems","Blastoff! Readers",null,"0"]
[{"$f":"IF('Order Form'!A653>0, \"1\", \"0\")","v":"0"},0,"Muscular System, The","Your Body Systems","Blastoff! Readers",null,"0"]
[{"$f":"IF('Order Form'!A654>0, \"1\", \"0\")","v":"0"},0,"Nervous System, The","Your Body Systems","Blastoff! Readers",null,"0"]
[{"$f":"IF('Order Form'!A655>0, \"1\", \"0\")","v":"0"},0,"Respiratory System, The","Your Body Systems","Blastoff! Readers",null,"0"]
[{"$f":"IF('Order Form'!A656>0, \"1\", \"0\")","v":"0"},0,"Skeletal System, The","Your Body Systems","Blastoff! Readers",null,{"$f":"A657","v":"0"}]
[{"$f":"IF('Order Form'!A657>0, \"1\", \"0\")","v":"0"},0,"Discover the Continents Set (7)","Discover the Continents","Blastoff! Readers",null,"0"]
[{"$f":"IF('Order Form'!A658>0, \"1\", \"0\")","v":"0"},0,"Africa","Discover the Continents","Blastoff! Readers",null,"0"]
[{"$f":"IF('Order Form'!A659>0, \"1\", \"0\")","v":"0"},0,"Antarctica","Discover the Continents","Blastoff! Readers",null,"0"]
[{"$f":"IF('Order Form'!A660>0, \"1\", \"0\")","v":"0"},0,"Asia","Discover the Continents","Blastoff! Readers",null,"0"]
[{"$f":"IF('Order Form'!A661>0, \"1\", \"0\")","v":"0"},0,"Australia","Discover the Continents","Blastoff! Readers",null,"0"]
[{"$f":"IF('Order Form'!A662>0, \"1\", \"0\")","v":"0"},0,"Europe","Discover the Continents","Blastoff! Readers",null,"0"]
[{"$f":"IF('Order Form'!A663>0, \"1\", \"0\")","v":"0"},0,"North America","Discover the Continents","Blastoff! Readers",null,"0"]
[{"$f":"IF('Order Form'!A664>0, \"1\", \"0\")","v":"0"},0,"South America","Discover the Continents","Blastoff! Readers",null,"0"]
[{"$f":"IF('Order Form'!A665>0, \"1\", \"0\")","v":"0"},0,"Discover the Oceans Set (5)","Discover the Oceans","Blastoff! Readers",null,"0"]
[{"$f":"IF('Order Form'!A666>0, \"1\", \"0\")","v":"0"},0,"Arctic Ocean","Discover the Oceans","Blastoff! Readers",null,"0"]
[{"$f":"IF('Order Form'!A667>0, \"1\", \"0\")","v":"0"},0,"Atlantic Ocean","Discover the Oceans","Blastoff! Readers",null,"0"]
[{"$f":"IF('Order Form'!A668>0, \"1\", \"0\")","v":"0"},0,"Indian Ocean","Discover the Oceans","Blastoff! Readers",null,"0"]
[{"$f":"IF('Order Form'!A669>0, \"1\", \"0\")","v":"0"},0,"Pacific Ocean","Discover the Oceans","Blastoff! Readers",null,"0"]
[{"$f":"IF('Order Form'!A670>0, \"1\", \"0\")","v":"0"},0,"Southern Ocean","Discover the Oceans","Blastoff! Readers",null,"0"]
[{"$f":"IF('Order Form'!A671>0, \"1\", \"0\")","v":"0"},0,"Science Starters Set (8)","Science Starters","Blastoff! Readers",null,"0"]
[{"$f":"IF('Order Form'!A672>0, \"1\", \"0\")","v":"0"},0,"Electricity","Science Starters","Blastoff! Readers",null,"0"]
[{"$f":"IF('Order Form'!A673>0, \"1\", \"0\")","v":"0"},0,"Energy","Science Starters","Blastoff! Readers",null,"0"]
[{"$f":"IF('Order Form'!A674>0, \"1\", \"0\")","v":"0"},0,"Gravity","Science Starters","Blastoff! Readers",null,"0"]
[{"$f":"IF('Order Form'!A675>0, \"1\", \"0\")","v":"0"},0,"Light","Science Starters","Blastoff! Readers",null,"0"]
[{"$f":"IF('Order Form'!A676>0, \"1\", \"0\")","v":"0"},0,"Magnetism","Science Starters","Blastoff! Readers",null,"0"]
[{"$f":"IF('Order Form'!A677>0, \"1\", \"0\")","v":"0"},0,"Matter","Science Starters","Blastoff! Readers",null,"0"]
[{"$f":"IF('Order Form'!A678>0, \"1\", \"0\")","v":"0"},0,"Sound","Science Starters","Blastoff! Readers",null,"0"]
[{"$f":"IF('Order Form'!A679>0, \"1\", \"0\")","v":"0"},0,"Temperature","Science Starters","Blastoff! Readers",null,"0"]
[{"$f":"IF('Order Form'!A680>0, \"1\", \"0\")","v":"0"},0,"The Five Senses Set (5)","The Five Senses","Blastoff! Readers",null,"0"]
[{"$f":"IF('Order Form'!A681>0, \"1\", \"0\")","v":"0"},0,"Hearing","The Five Senses","Blastoff! Readers",null,"0"]
[{"$f":"IF('Order Form'!A682>0, \"1\", \"0\")","v":"0"},0,"Seeing","The Five Senses","Blastoff! Readers",null,"0"]
[{"$f":"IF('Order Form'!A683>0, \"1\", \"0\")","v":"0"},0,"Smelling","The Five Senses","Blastoff! Readers",null,"0"]
[{"$f":"IF('Order Form'!A684>0, \"1\", \"0\")","v":"0"},0,"Tasting","The Five Senses","Blastoff! Readers",null,"0"]
[{"$f":"IF('Order Form'!A685>0, \"1\", \"0\")","v":"0"},0,"Touching","The Five Senses","Blastoff! Readers",null,"0"]
[{"$f":"IF('Order Form'!A686>0, \"1\", \"0\")","v":"0"},0,"North American Animals Set (58)","North American Animals","Blastoff! Readers",null,"0"]
[{"$f":"IF('Order Form'!A687>0, \"1\", \"0\")","v":"0"},0,"American Alligators","North American Animals","Blastoff! Readers",null,"0"]
[{"$f":"IF('Order Form'!A688>0, \"1\", \"0\")","v":"0"},0,"American Badgers","North American Animals","Blastoff! Readers",null,"0"]
[{"$f":"IF('Order Form'!A689>0, \"1\", \"0\")","v":"0"},0,"American Beavers","North American Animals","Blastoff! Readers",null,"0"]
[{"$f":"IF('Order Form'!A690>0, \"1\", \"0\")","v":"0"},0,"American Bison","North American Animals","Blastoff! Readers",null,"0"]
[{"$f":"IF('Order Form'!A691>0, \"1\", \"0\")","v":"0"},0,"American Bullfrogs","North American Animals","Blastoff! Readers",null,"0"]
[{"$f":"IF('Order Form'!A692>0, \"1\", \"0\")","v":"0"},0,"American Crows","North American Animals","Blastoff! Readers",null,"0"]
[{"$f":"IF('Order Form'!A693>0, \"1\", \"0\")","v":"0"},0,"American Robins","North American Animals","Blastoff! Readers",null,"0"]
[{"$f":"IF('Order Form'!A694>0, \"1\", \"0\")","v":"0"},0,"Bald Eagles","North American Animals","Blastoff! Readers",null,"0"]
[{"$f":"IF('Order Form'!A695>0, \"1\", \"0\")","v":"0"},0,"Bighorn Sheep","North American Animals","Blastoff! Readers",null,"0"]
[{"$f":"IF('Order Form'!A696>0, \"1\", \"0\")","v":"0"},0,"Black Bears","North American Animals","Blastoff! Readers",null,"0"]
[{"$f":"IF('Order Form'!A697>0, \"1\", \"0\")","v":"0"},0,"Blue Jays","North American Animals","Blastoff! Readers",null,"0"]
[{"$f":"IF('Order Form'!A698>0, \"1\", \"0\")","v":"0"},0,"Bobcats","North American Animals","Blastoff! Readers",null,"0"]
[{"$f":"IF('Order Form'!A699>0, \"1\", \"0\")","v":"0"},0,"Brown Bats","North American Animals","Blastoff! Readers",null,"0"]
[{"$f":"IF('Order Form'!A700>0, \"1\", \"0\")","v":"0"},0,"California Condors","North American Animals","Blastoff! Readers",null,"0"]
[{"$f":"IF('Order Form'!A701>0, \"1\", \"0\")","v":"0"},0,"Canada Geese","North American Animals","Blastoff! Readers",null,"0"]
[{"$f":"IF('Order Form'!A702>0, \"1\", \"0\")","v":"0"},0,"Canada Lynx","North American Animals","Blastoff! Readers",null,"0"]
[{"$f":"IF('Order Form'!A703>0, \"1\", \"0\")","v":"0"},0,"Caribou","North American Animals","Blastoff! Readers",null,"0"]
[{"$f":"IF('Order Form'!A704>0, \"1\", \"0\")","v":"0"},0,"Common Box Turtles","North American Animals","Blastoff! Readers",null,"0"]
[{"$f":"IF('Order Form'!A705>0, \"1\", \"0\")","v":"0"},0,"Common Garter Snakes","North American Animals","Blastoff! Readers",null,"0"]
[{"$f":"IF('Order Form'!A706>0, \"1\", \"0\")","v":"0"},0,"Common Snapping Turtles","North American Animals","Blastoff! Readers",null,"0"]
[{"$f":"IF('Order Form'!A707>0, \"1\", \"0\")","v":"0"},0,"Cottonmouths","North American Animals","Blastoff! Readers",null,"0"]
[{"$f":"IF('Order Form'!A708>0, \"1\", \"0\")","v":"0"},0,"Cottontail Rabbits","North American Animals","Blastoff! Readers",null,"0"]
[{"$f":"IF('Order Form'!A709>0, \"1\", \"0\")","v":"0"},0,"Coyotes","North American Animals","Blastoff! Readers",null,"0"]
[{"$f":"IF('Order Form'!A710>0, \"1\", \"0\")","v":"0"},0,"Diamondback Rattlesnakes","North American Animals","Blastoff! Readers",null,"0"]
[{"$f":"IF('Order Form'!A711>0, \"1\", \"0\")","v":"0"},0,"Eastern Chipmunks","North American Animals","Blastoff! Readers",null,"0"]
[{"$f":"IF('Order Form'!A712>0, \"1\", \"0\")","v":"0"},0,"Gila Monsters","North American Animals","Blastoff! Readers",null,"0"]
[{"$f":"IF('Order Form'!A713>0, \"1\", \"0\")","v":"0"},0,"Golden Eagles","North American Animals","Blastoff! Readers",null,"0"]
[{"$f":"IF('Order Form'!A714>0, \"1\", \"0\")","v":"0"},0,"Gray Foxes","North American Animals","Blastoff! Readers",null,"0"]
[{"$f":"IF('Order Form'!A715>0, \"1\", \"0\")","v":"0"},0,"Gray Squirrels","North American Animals","Blastoff! Readers",null,"0"]
[{"$f":"IF('Order Form'!A716>0, \"1\", \"0\")","v":"0"},0,"Gray Wolves","North American Animals","Blastoff! Readers",null,"0"]
[{"$f":"IF('Order Form'!A717>0, \"1\", \"0\")","v":"0"},0,"Great Horned Owls","North American Animals","Blastoff! Readers",null,"0"]
[{"$f":"IF('Order Form'!A718>0, \"1\", \"0\")","v":"0"},0,"Grizzly Bears","North American Animals","Blastoff! Readers",null,"0"]
[{"$f":"IF('Order Form'!A719>0, \"1\", \"0\")","v":"0"},0,"Jackrabbits","North American Animals","Blastoff! Readers",null,"0"]
[{"$f":"IF('Order Form'!A720>0, \"1\", \"0\")","v":"0"},0,"Long-tailed Weasels","North American Animals","Blastoff! Readers",null,{"$f":"A721","v":"0"}]
[{"$f":"IF('Order Form'!A721>0, \"1\", \"0\")","v":"0"},0,"Moose","North American Animals","Blastoff! Readers",null,"0"]
[{"$f":"IF('Order Form'!A722>0, \"1\", \"0\")","v":"0"},0,"Mountain Goats","North American Animals","Blastoff! Readers",null,"0"]
[{"$f":"IF('Order Form'!A723>0, \"1\", \"0\")","v":"0"},0,"Mountain Lions","North American Animals","Blastoff! Readers",null,"0"]
[{"$f":"IF('Order Form'!A724>0, \"1\", \"0\")","v":"0"},0,"Muskrats","North American Animals","Blastoff! Readers",null,"0"]
[{"$f":"IF('Order Form'!A725>0, \"1\", \"0\")","v":"0"},0,"Nine-banded Armadillos","North American Animals","Blastoff! Readers",null,"0"]
[{"$f":"IF('Order Form'!A726>0, \"1\", \"0\")","v":"0"},0,"Northern Cardinals","North American Animals","Blastoff! Readers",null,"0"]
[{"$f":"IF('Order Form'!A727>0, \"1\", \"0\")","v":"0"},0,"Northern Leopard Frogs","North American Animals","Blastoff! Readers",null,"0"]
[{"$f":"IF('Order Form'!A728>0, \"1\", \"0\")","v":"0"},0,"Opossums","North American Animals","Blastoff! Readers",null,"0"]
[{"$f":"IF('Order Form'!A729>0, \"1\", \"0\")","v":"0"},0,"Pileated Woodpeckers","North American Animals","Blastoff! Readers",null,"0"]
[{"$f":"IF('Order Form'!A730>0, \"1\", \"0\")","v":"0"},0,"Porcupines","North American Animals","Blastoff! Readers",null,"0"]
[{"$f":"IF('Order Form'!A731>0, \"1\", \"0\")","v":"0"},0,"Prairie Dogs","North American Animals","Blastoff! Readers",null,"0"]
[{"$f":"IF('Order Form'!A732>0, \"1\", \"0\")","v":"0"},0,"Pronghorn","North American Animals","Blastoff! Readers",null,"0"]
[{"$f":"IF('Order Form'!A733>0, \"1\", \"0\")","v":"0"},0,"Raccoons","North American Animals","Blastoff! Readers",null,"0"]
[{"$f":"IF('Order Form'!A734>0, \"1\", \"0\")","v":"0"},0,"Red Foxes","North American Animals","Blastoff! Readers",null,"0"]
[{"$f":"IF('Order Form'!A735>0, \"1\", \"0\")","v":"0"},0,"Red Squirrels","North American Animals","Blastoff! Readers",null,"0"]
[{"$f":"IF('Order Form'!A736>0, \"1\", \"0\")","v":"0"},0,"Red-tailed Hawks","North American Animals","Blastoff! Readers",null,"0"]
[{"$f":"IF('Order Form'!A737>0, \"1\", \"0\")","v":"0"},0,"River Otters","North American Animals","Blastoff! Readers",null,"0"]
[{"$f":"IF('Order Form'!A738>0, \"1\", \"0\")","v":"0"},0,"Roadrunners","North American Animals","Blastoff! Readers",null,"0"]
[{"$f":"IF('Order Form'!A739>0, \"1\", \"0\")","v":"0"},0,"Rocky Mountain Elk","North American Animals","Blastoff! Readers",null,"0"]
[{"$f":"IF('Order Form'!A740>0, \"1\", \"0\")","v":"0"},0,"Ruby-throated Hummingbirds","North American Animals","Blastoff! Readers",null,"0"]
[{"$f":"IF('Order Form'!A741>0, \"1\", \"0\")","v":"0"},0,"Striped Skunks","North American Animals","Blastoff! Readers",null,"0"]
[{"$f":"IF('Order Form'!A742>0, \"1\", \"0\")","v":"0"},0,"White-tailed Deer","North American Animals","Blastoff! Readers",null,"0"]
[{"$f":"IF('Order Form'!A743>0, \"1\", \"0\")","v":"0"},0,"Wild Turkeys","North American Animals","Blastoff! Readers",null,"0"]
[{"$f":"IF('Order Form'!A744>0, \"1\", \"0\")","v":"0"},0,"Wolverines","North American Animals","Blastoff! Readers",null,"0"]
[{"$f":"IF('Order Form'!A745>0, \"1\", \"0\")","v":"0"},0,"Ocean Life Up Close Set (28)","Ocean Life Up Close","Blastoff! Readers",null,"0"]
[{"$f":"IF('Order Form'!A746>0, \"1\", \"0\")","v":"0"},0,"Angelfish","Ocean Life Up Close","Blastoff! Readers",null,"0"]
[{"$f":"IF('Order Form'!A747>0, \"1\", \"0\")","v":"0"},0,"Bottlenose Dolphins","Ocean Life Up Close","Blastoff! Readers",null,"0"]
[{"$f":"IF('Order Form'!A748>0, \"1\", \"0\")","v":"0"},0,"Clownfish","Ocean Life Up Close","Blastoff! Readers",null,"0"]
[{"$f":"IF('Order Form'!A749>0, \"1\", \"0\")","v":"0"},0,"Corals","Ocean Life Up Close","Blastoff! Readers",null,"0"]
[{"$f":"IF('Order Form'!A750>0, \"1\", \"0\")","v":"0"},0,"Crabs","Ocean Life Up Close","Blastoff! Readers",null,"0"]
[{"$f":"IF('Order Form'!A751>0, \"1\", \"0\")","v":"0"},0,"Eels","Ocean Life Up Close","Blastoff! Readers",null,"0"]
[{"$f":"IF('Order Form'!A752>0, \"1\", \"0\")","v":"0"},0,"Emperor Penguins","Ocean Life Up Close","Blastoff! Readers",null,"0"]
[{"$f":"IF('Order Form'!A753>0, \"1\", \"0\")","v":"0"},0,"Great White Sharks","Ocean Life Up Close","Blastoff! Readers",null,"0"]
[{"$f":"IF('Order Form'!A754>0, \"1\", \"0\")","v":"0"},0,"Humpback Whales","Ocean Life Up Close","Blastoff! Readers",null,"0"]
[{"$f":"IF('Order Form'!A755>0, \"1\", \"0\")","v":"0"},0,"Jellyfish","Ocean Life Up Close","Blastoff! Readers",null,"0"]
[{"$f":"IF('Order Form'!A756>0, \"1\", \"0\")","v":"0"},0,"Lobsters","Ocean Life Up Close","Blastoff! Readers",null,"0"]
[{"$f":"IF('Order Form'!A757>0, \"1\", \"0\")","v":"0"},0,"Manatees","Ocean Life Up Close","Blastoff! Readers",null,"0"]
[{"$f":"IF('Order Form'!A758>0, \"1\", \"0\")","v":"0"},0,"Octopuses","Ocean Life Up Close","Blastoff! Readers",null,"0"]
[{"$f":"IF('Order Form'!A759>0, \"1\", \"0\")","v":"0"},0,"Orcas","Ocean Life Up Close","Blastoff! Readers",null,"0"]
[{"$f":"IF('Order Form'!A760>0, \"1\", \"0\")","v":"0"},0,"Parrotfish","Ocean Life Up Close","Blastoff! Readers",null,"0"]
[{"$f":"IF('Order Form'!A761>0, \"1\", \"0\")","v":"0"},0,"Puffer Fish","Ocean Life Up Close","Blastoff! Readers",null,"0"]
[{"$f":"IF('Order Form'!A762>0, \"1\", \"0\")","v":"0"},0,"Sea Anemones","Ocean Life Up Close","Blastoff! Readers",null,"0"]
[{"$f":"IF('Order Form'!A763>0, \"1\", \"0\")","v":"0"},0,"Sea Dragons","Ocean Life Up Close","Blastoff! Readers",null,"0"]
[{"$f":"IF('Order Form'!A764>0, \"1\", \"0\")","v":"0"},0,"Sea Horses","Ocean Life Up Close","Blastoff! Readers",null,"0"]
[{"$f":"IF('Order Form'!A765>0, \"1\", \"0\")","v":"0"},0,"Sea Lions","Ocean Life Up Close","Blastoff! Readers",null,"0"]
[{"$f":"IF('Order Form'!A766>0, \"1\", \"0\")","v":"0"},0,"Sea Otters","Ocean Life Up Close","Blastoff! Readers",null,"0"]
[{"$f":"IF('Order Form'!A767>0, \"1\", \"0\")","v":"0"},0,"Sea Stars","Ocean Life Up Close","Blastoff! Readers",null,"0"]
[{"$f":"IF('Order Form'!A768>0, \"1\", \"0\")","v":"0"},0,"Sea Turtles","Ocean Life Up Close","Blastoff! Readers",null,"0"]
[{"$f":"IF('Order Form'!A769>0, \"1\", \"0\")","v":"0"},0,"Sea Urchins","Ocean Life Up Close","Blastoff! Readers",null,"0"]
[{"$f":"IF('Order Form'!A770>0, \"1\", \"0\")","v":"0"},0,"Seals","Ocean Life Up Close","Blastoff! Readers",null,"0"]
[{"$f":"IF('Order Form'!A771>0, \"1\", \"0\")","v":"0"},0,"Squids","Ocean Life Up Close","Blastoff! Readers",null,"0"]
[{"$f":"IF('Order Form'!A772>0, \"1\", \"0\")","v":"0"},0,"Stingrays","Ocean Life Up Close","Blastoff! Readers",null,"0"]
[{"$f":"IF('Order Form'!A773>0, \"1\", \"0\")","v":"0"},0,"Walruses","Ocean Life Up Close","Blastoff! Readers",null,"0"]
[{"$f":"IF('Order Form'!A774>0, \"1\", \"0\")","v":"0"},0,"State Profiles Set (52)","State Profiles","Blastoff! Discovery",null,"0"]
[{"$f":"IF('Order Form'!A775>0, \"1\", \"0\")","v":"0"},0,"Alabama","State Profiles","Blastoff! Discovery",null,"0"]
[{"$f":"IF('Order Form'!A776>0, \"1\", \"0\")","v":"0"},0,"Alaska","State Profiles","Blastoff! Discovery",null,"0"]
[{"$f":"IF('Order Form'!A777>0, \"1\", \"0\")","v":"0"},0,"Arizona","State Profiles","Blastoff! Discovery",null,"0"]
[{"$f":"IF('Order Form'!A778>0, \"1\", \"0\")","v":"0"},0,"Arkansas","State Profiles","Blastoff! Discovery",null,"0"]
[{"$f":"IF('Order Form'!A779>0, \"1\", \"0\")","v":"0"},0,"California","State Profiles","Blastoff! Discovery",null,"0"]
[{"$f":"IF('Order Form'!A780>0, \"1\", \"0\")","v":"0"},0,"Colorado","State Profiles","Blastoff! Discovery",null,"0"]
[{"$f":"IF('Order Form'!A781>0, \"1\", \"0\")","v":"0"},0,"Connecticut","State Profiles","Blastoff! Discovery",null,"0"]
[{"$f":"IF('Order Form'!A782>0, \"1\", \"0\")","v":"0"},0,"Delaware","State Profiles","Blastoff! Discovery",null,"0"]
[{"$f":"IF('Order Form'!A783>0, \"1\", \"0\")","v":"0"},0,"Florida","State Profiles","Blastoff! Discovery",null,"0"]
[{"$f":"IF('Order Form'!A784>0, \"1\", \"0\")","v":"0"},0,"Georgia","State Profiles","Blastoff! Discovery",null,{"$f":"A785","v":"0"}]
[{"$f":"IF('Order Form'!A785>0, \"1\", \"0\")","v":"0"},0,"Hawaii","State Profiles","Blastoff! Discovery",null,"0"]
[{"$f":"IF('Order Form'!A786>0, \"1\", \"0\")","v":"0"},0,"Idaho","State Profiles","Blastoff! Discovery",null,"0"]
[{"$f":"IF('Order Form'!A787>0, \"1\", \"0\")","v":"0"},0,"Illinois","State Profiles","Blastoff! Discovery",null,"0"]
[{"$f":"IF('Order Form'!A788>0, \"1\", \"0\")","v":"0"},0,"Indiana","State Profiles","Blastoff! Discovery",null,"0"]
[{"$f":"IF('Order Form'!A789>0, \"1\", \"0\")","v":"0"},0,"Iowa","State Profiles","Blastoff! Discovery",null,"0"]
[{"$f":"IF('Order Form'!A790>0, \"1\", \"0\")","v":"0"},0,"Kansas","State Profiles","Blastoff! Discovery",null,"0"]
[{"$f":"IF('Order Form'!A791>0, \"1\", \"0\")","v":"0"},0,"Kentucky","State Profiles","Blastoff! Discovery",null,"0"]
[{"$f":"IF('Order Form'!A792>0, \"1\", \"0\")","v":"0"},0,"Louisiana","State Profiles","Blastoff! Discovery",null,"0"]
[{"$f":"IF('Order Form'!A793>0, \"1\", \"0\")","v":"0"},0,"Maine","State Profiles","Blastoff! Discovery",null,"0"]
[{"$f":"IF('Order Form'!A794>0, \"1\", \"0\")","v":"0"},0,"Maryland","State Profiles","Blastoff! Discovery",null,"0"]
[{"$f":"IF('Order Form'!A795>0, \"1\", \"0\")","v":"0"},0,"Massachusetts","State Profiles","Blastoff! Discovery",null,"0"]
[{"$f":"IF('Order Form'!A796>0, \"1\", \"0\")","v":"0"},0,"Michigan","State Profiles","Blastoff! Discovery",null,"0"]
[{"$f":"IF('Order Form'!A797>0, \"1\", \"0\")","v":"0"},0,"Minnesota","State Profiles","Blastoff! Discovery",null,"0"]
[{"$f":"IF('Order Form'!A798>0, \"1\", \"0\")","v":"0"},0,"Mississippi","State Profiles","Blastoff! Discovery",null,"0"]
[{"$f":"IF('Order Form'!A799>0, \"1\", \"0\")","v":"0"},0,"Missouri","State Profiles","Blastoff! Discovery",null,"0"]
[{"$f":"IF('Order Form'!A800>0, \"1\", \"0\")","v":"0"},0,"Montana","State Profiles","Blastoff! Discovery",null,"0"]
[{"$f":"IF('Order Form'!A801>0, \"1\", \"0\")","v":"0"},0,"Nebraska","State Profiles","Blastoff! Discovery",null,"0"]
[{"$f":"IF('Order Form'!A802>0, \"1\", \"0\")","v":"0"},0,"Nevada","State Profiles","Blastoff! Discovery",null,"0"]
[{"$f":"IF('Order Form'!A803>0, \"1\", \"0\")","v":"0"},0,"New Hampshire","State Profiles","Blastoff! Discovery",null,"0"]
[{"$f":"IF('Order Form'!A804>0, \"1\", \"0\")","v":"0"},0,"New Jersey","State Profiles","Blastoff! Discovery",null,"0"]
[{"$f":"IF('Order Form'!A805>0, \"1\", \"0\")","v":"0"},0,"New Mexico","State Profiles","Blastoff! Discovery",null,"0"]
[{"$f":"IF('Order Form'!A806>0, \"1\", \"0\")","v":"0"},0,"New York","State Profiles","Blastoff! Discovery",null,"0"]
[{"$f":"IF('Order Form'!A807>0, \"1\", \"0\")","v":"0"},0,"North Carolina","State Profiles","Blastoff! Discovery",null,"0"]
[{"$f":"IF('Order Form'!A808>0, \"1\", \"0\")","v":"0"},0,"North Dakota","State Profiles","Blastoff! Discovery",null,"0"]
[{"$f":"IF('Order Form'!A809>0, \"1\", \"0\")","v":"0"},0,"Ohio","State Profiles","Blastoff! Discovery",null,"0"]
[{"$f":"IF('Order Form'!A810>0, \"1\", \"0\")","v":"0"},0,"Oklahoma","State Profiles","Blastoff! Discovery",null,"0"]
[{"$f":"IF('Order Form'!A811>0, \"1\", \"0\")","v":"0"},0,"Oregon","State Profiles","Blastoff! Discovery",null,"0"]
[{"$f":"IF('Order Form'!A812>0, \"1\", \"0\")","v":"0"},0,"Pennsylvania","State Profiles","Blastoff! Discovery",null,"0"]
[{"$f":"IF('Order Form'!A813>0, \"1\", \"0\")","v":"0"},0,"Puerto Rico","State Profiles","Blastoff! Discovery",null,"0"]
[{"$f":"IF('Order Form'!A814>0, \"1\", \"0\")","v":"0"},0,"Rhode Island","State Profiles","Blastoff! Discovery",null,"0"]
[{"$f":"IF('Order Form'!A815>0, \"1\", \"0\")","v":"0"},0,"South Carolina","State Profiles","Blastoff! Discovery",null,"0"]
[{"$f":"IF('Order Form'!A816>0, \"1\", \"0\")","v":"0"},0,"South Dakota","State Profiles","Blastoff! Discovery",null,"0"]
[{"$f":"IF('Order Form'!A817>0, \"1\", \"0\")","v":"0"},0,"Tennessee","State Profiles","Blastoff! Discovery",null,"0"]
[{"$f":"IF('Order Form'!A818>0, \"1\", \"0\")","v":"0"},0,"Texas","State Profiles","Blastoff! Discovery",null,"0"]
[{"$f":"IF('Order Form'!A819>0, \"1\", \"0\")","v":"0"},0,"Utah","State Profiles","Blastoff! Discovery",null,"0"]
[{"$f":"IF('Order Form'!A820>0, \"1\", \"0\")","v":"0"},0,"Vermont","State Profiles","Blastoff! Discovery",null,"0"]
[{"$f":"IF('Order Form'!A821>0, \"1\", \"0\")","v":"0"},0,"Virginia","State Profiles","Blastoff! Discovery",null,"0"]
[{"$f":"IF('Order Form'!A822>0, \"1\", \"0\")","v":"0"},0,"Washington","State Profiles","Blastoff! Discovery",null,"0"]
[{"$f":"IF('Order Form'!A823>0, \"1\", \"0\")","v":"0"},0,"Washington, D.C.","State Profiles","Blastoff! Discovery",null,"0"]
[{"$f":"IF('Order Form'!A824>0, \"1\", \"0\")","v":"0"},0,"West Virginia","State Profiles","Blastoff! Discovery",null,"0"]
[{"$f":"IF('Order Form'!A825>0, \"1\", \"0\")","v":"0"},0,"Wisconsin","State Profiles","Blastoff! Discovery",null,"0"]
[{"$f":"IF('Order Form'!A826>0, \"1\", \"0\")","v":"0"},0,"Wyoming","State Profiles","Blastoff! Discovery",null,"0"]
[{"$f":"IF('Order Form'!A827>0, \"1\", \"0\")","v":"0"},0,"The 7 Wonders of the Modern World Set (7)","The 7 Wonders of the Modern World","Blastoff! Discovery",null,"0"]
[{"$f":"IF('Order Form'!A828>0, \"1\", \"0\")","v":"0"},0,"Chichén Itzá","The 7 Wonders of the Modern World","Blastoff! Discovery",null,"0"]
[{"$f":"IF('Order Form'!A829>0, \"1\", \"0\")","v":"0"},0,"Christ the Redeemer","The 7 Wonders of the Modern World","Blastoff! Discovery",null,"0"]
[{"$f":"IF('Order Form'!A830>0, \"1\", \"0\")","v":"0"},0,"The Colosseum","The 7 Wonders of the Modern World","Blastoff! Discovery",null,"0"]
[{"$f":"IF('Order Form'!A831>0, \"1\", \"0\")","v":"0"},0,"The Great Wall of China","The 7 Wonders of the Modern World","Blastoff! Discovery",null,"0"]
[{"$f":"IF('Order Form'!A832>0, \"1\", \"0\")","v":"0"},0,"Machu Picchu","The 7 Wonders of the Modern World","Blastoff! Discovery",null,"0"]
[{"$f":"IF('Order Form'!A833>0, \"1\", \"0\")","v":"0"},0,"Petra","The 7 Wonders of the Modern World","Blastoff! Discovery",null,"0"]
[{"$f":"IF('Order Form'!A834>0, \"1\", \"0\")","v":"0"},0,"Taj Mahal, The","The 7 Wonders of the Modern World","Blastoff! Discovery",null,"0"]
[{"$f":"IF('Order Form'!A835>0, \"1\", \"0\")","v":"0"},0,"Ancient Civilizations Set (8)","Ancient Civilizations","Blastoff! Discovery",null,"0"]
[{"$f":"IF('Order Form'!A836>0, \"1\", \"0\")","v":"0"},0,"Ancient Aztecs","Ancient Civilizations","Blastoff! Discovery",null,"0"]
[{"$f":"IF('Order Form'!A837>0, \"1\", \"0\")","v":"0"},0,"Ancient China","Ancient Civilizations","Blastoff! Discovery",null,"0"]
[{"$f":"IF('Order Form'!A838>0, \"1\", \"0\")","v":"0"},0,"Ancient Egypt","Ancient Civilizations","Blastoff! Discovery",null,"0"]
[{"$f":"IF('Order Form'!A839>0, \"1\", \"0\")","v":"0"},0,"Ancient Greece","Ancient Civilizations","Blastoff! Discovery",null,"0"]
[{"$f":"IF('Order Form'!A840>0, \"1\", \"0\")","v":"0"},0,"Ancient India","Ancient Civilizations","Blastoff! Discovery",null,"0"]
[{"$f":"IF('Order Form'!A841>0, \"1\", \"0\")","v":"0"},0,"Ancient Maya","Ancient Civilizations","Blastoff! Discovery",null,"0"]
[{"$f":"IF('Order Form'!A842>0, \"1\", \"0\")","v":"0"},0,"Ancient Mesopotamia","Ancient Civilizations","Blastoff! Discovery",null,"0"]
[{"$f":"IF('Order Form'!A843>0, \"1\", \"0\")","v":"0"},0,"Ancient Rome","Ancient Civilizations","Blastoff! Discovery",null,"0"]
[{"$f":"IF('Order Form'!A844>0, \"1\", \"0\")","v":"0"},0,"Dog Groups Set (7)","Dog Groups","Blastoff! Discovery",null,"0"]
[{"$f":"IF('Order Form'!A845>0, \"1\", \"0\")","v":"0"},0,"Herding Dogs","Dog Groups","Blastoff! Discovery",null,"0"]
[{"$f":"IF('Order Form'!A846>0, \"1\", \"0\")","v":"0"},0,"Hounds","Dog Groups","Blastoff! Discovery",null,"0"]
[{"$f":"IF('Order Form'!A847>0, \"1\", \"0\")","v":"0"},0,"Non-sporting Dogs","Dog Groups","Blastoff! Discovery",null,"0"]
[{"$f":"IF('Order Form'!A848>0, \"1\", \"0\")","v":"0"},0,"Sporting Dogs","Dog Groups","Blastoff! Discovery",null,{"$f":"A849","v":"0"}]
[{"$f":"IF('Order Form'!A849>0, \"1\", \"0\")","v":"0"},0,"Terriers","Dog Groups","Blastoff! Discovery",null,"0"]
[{"$f":"IF('Order Form'!A850>0, \"1\", \"0\")","v":"0"},0,"Toy Dogs","Dog Groups","Blastoff! Discovery",null,"0"]
[{"$f":"IF('Order Form'!A851>0, \"1\", \"0\")","v":"0"},0,"Working Dogs","Dog Groups","Blastoff! Discovery",null,"0"]
[{"$f":"IF('Order Form'!A852>0, \"1\", \"0\")","v":"0"},0,"Superhero Science Set (6)","Super Hero Science","Blastoff! Discovery",null,"0"]
[{"$f":"IF('Order Form'!A853>0, \"1\", \"0\")","v":"0"},0,"Flight","Super Hero Science","Blastoff! Discovery",null,"0"]
[{"$f":"IF('Order Form'!A854>0, \"1\", \"0\")","v":"0"},0,"Invisibility","Super Hero Science","Blastoff! Discovery",null,"0"]
[{"$f":"IF('Order Form'!A855>0, \"1\", \"0\")","v":"0"},0,"Super Senses","Super Hero Science","Blastoff! Discovery",null,"0"]
[{"$f":"IF('Order Form'!A856>0, \"1\", \"0\")","v":"0"},0,"Super Speed","Super Hero Science","Blastoff! Discovery",null,"0"]
[{"$f":"IF('Order Form'!A857>0, \"1\", \"0\")","v":"0"},0,"Super Strength","Super Hero Science","Blastoff! Discovery",null,"0"]
[{"$f":"IF('Order Form'!A858>0, \"1\", \"0\")","v":"0"},0,"Teleportation","Super Hero Science","Blastoff! Discovery",null,"0"]
[{"$f":"IF('Order Form'!A859>0, \"1\", \"0\")","v":"0"},0,"Movie Magic Set (10)","Movie Magic","Blastoff! Discovery",null,"0"]
[{"$f":"IF('Order Form'!A860>0, \"1\", \"0\")","v":"0"},0,"Animal Performers","Movie Magic","Blastoff! Discovery",null,"0"]
[{"$f":"IF('Order Form'!A861>0, \"1\", \"0\")","v":"0"},0,"Animation","Movie Magic","Blastoff! Discovery",null,"0"]
[{"$f":"IF('Order Form'!A862>0, \"1\", \"0\")","v":"0"},0,"Camera Tricks","Movie Magic","Blastoff! Discovery",null,"0"]
[{"$f":"IF('Order Form'!A863>0, \"1\", \"0\")","v":"0"},0,"Costumes and Props","Movie Magic","Blastoff! Discovery",null,"0"]
[{"$f":"IF('Order Form'!A864>0, \"1\", \"0\")","v":"0"},0,"Makeup","Movie Magic","Blastoff! Discovery",null,"0"]
[{"$f":"IF('Order Form'!A865>0, \"1\", \"0\")","v":"0"},0,"Motion Capture","Movie Magic","Blastoff! Discovery",null,"0"]
[{"$f":"IF('Order Form'!A866>0, \"1\", \"0\")","v":"0"},0,"On-screen Vehicles","Movie Magic","Blastoff! Discovery",null,"0"]
[{"$f":"IF('Order Form'!A867>0, \"1\", \"0\")","v":"0"},0,"Special Effects","Movie Magic","Blastoff! Discovery",null,"0"]
[{"$f":"IF('Order Form'!A868>0, \"1\", \"0\")","v":"0"},0,"Stunts","Movie Magic","Blastoff! Discovery",null,"0"]
[{"$f":"IF('Order Form'!A869>0, \"1\", \"0\")","v":"0"},0,"Visual Effects","Movie Magic","Blastoff! Discovery",null,"0"]
[{"$f":"IF('Order Form'!A870>0, \"1\", \"0\")","v":"0"},0,"Investigating the Unexplained Set (10)","Investigating the Unexplained","Blastoff! Discovery",null,"0"]
[{"$f":"IF('Order Form'!A871>0, \"1\", \"0\")","v":"0"},0,"Alien Abductions","Investigating the Unexplained","Blastoff! Discovery",null,"0"]
[{"$f":"IF('Order Form'!A872>0, \"1\", \"0\")","v":"0"},0,"Atlantis","Investigating the Unexplained","Blastoff! Discovery",null,"0"]
[{"$f":"IF('Order Form'!A873>0, \"1\", \"0\")","v":"0"},0,"Bigfoot","Investigating the Unexplained","Blastoff! Discovery",null,"0"]
[{"$f":"IF('Order Form'!A874>0, \"1\", \"0\")","v":"0"},0,"ESP","Investigating the Unexplained","Blastoff! Discovery",null,"0"]
[{"$f":"IF('Order Form'!A875>0, \"1\", \"0\")","v":"0"},0,"Ghost Ships","Investigating the Unexplained","Blastoff! Discovery",null,"0"]
[{"$f":"IF('Order Form'!A876>0, \"1\", \"0\")","v":"0"},0,"Ghosts","Investigating the Unexplained","Blastoff! Discovery",null,"0"]
[{"$f":"IF('Order Form'!A877>0, \"1\", \"0\")","v":"0"},0,"Haunted Houses","Investigating the Unexplained","Blastoff! Discovery",null,"0"]
[{"$f":"IF('Order Form'!A878>0, \"1\", \"0\")","v":"0"},0,"Loch Ness Monster, The","Investigating the Unexplained","Blastoff! Discovery",null,"0"]
[{"$f":"IF('Order Form'!A879>0, \"1\", \"0\")","v":"0"},0,"The Bermuda Triangle","Investigating the Unexplained","Blastoff! Discovery",null,"0"]
[{"$f":"IF('Order Form'!A880>0, \"1\", \"0\")","v":"0"},0,"UFOs","Investigating the Unexplained","Blastoff! Discovery",null,"0"]
[{"$f":"IF('Order Form'!A881>0, \"1\", \"0\")","v":"0"},0,"Incredible Sports Records Set (6)","Incredible Sports Records","Blastoff! Discovery",null,"0"]
[{"$f":"IF('Order Form'!A882>0, \"1\", \"0\")","v":"0"},0,"Baseball Records","Incredible Sports Records","Blastoff! Discovery",null,"0"]
[{"$f":"IF('Order Form'!A883>0, \"1\", \"0\")","v":"0"},0,"Basketball Records","Incredible Sports Records","Blastoff! Discovery",null,"0"]
[{"$f":"IF('Order Form'!A884>0, \"1\", \"0\")","v":"0"},0,"Football Records","Incredible Sports Records","Blastoff! Discovery",null,"0"]
[{"$f":"IF('Order Form'!A885>0, \"1\", \"0\")","v":"0"},0,"Hockey Records","Incredible Sports Records","Blastoff! Discovery",null,"0"]
[{"$f":"IF('Order Form'!A886>0, \"1\", \"0\")","v":"0"},0,"Olympic Records","Incredible Sports Records","Blastoff! Discovery",null,"0"]
[{"$f":"IF('Order Form'!A887>0, \"1\", \"0\")","v":"0"},0,"Soccer Records","Incredible Sports Records","Blastoff! Discovery",null,"0"]
[{"$f":"IF('Order Form'!A888>0, \"1\", \"0\")","v":"0"},0,"World of Robots Set (6)","World of Robots","Blastoff! Discovery",null,"0"]
[{"$f":"IF('Order Form'!A889>0, \"1\", \"0\")","v":"0"},0,"Factory Robots","World of Robots","Blastoff! Discovery",null,"0"]
[{"$f":"IF('Order Form'!A890>0, \"1\", \"0\")","v":"0"},0,"Flying Robots","World of Robots","Blastoff! Discovery",null,"0"]
[{"$f":"IF('Order Form'!A891>0, \"1\", \"0\")","v":"0"},0,"Medical Robots","World of Robots","Blastoff! Discovery",null,"0"]
[{"$f":"IF('Order Form'!A892>0, \"1\", \"0\")","v":"0"},0,"Military Robots","World of Robots","Blastoff! Discovery",null,"0"]
[{"$f":"IF('Order Form'!A893>0, \"1\", \"0\")","v":"0"},0,"Police Robots","World of Robots","Blastoff! Discovery",null,"0"]
[{"$f":"IF('Order Form'!A894>0, \"1\", \"0\")","v":"0"},0,"Space Robots","World of Robots","Blastoff! Discovery",null,"0"]
[{"$f":"IF('Order Form'!A895>0, \"1\", \"0\")","v":"0"},0,"Rocks & Minerals Set (6)","Rocks & Minerals","Blastoff! Discovery",null,"0"]
[{"$f":"IF('Order Form'!A896>0, \"1\", \"0\")","v":"0"},0,"Crystals","Rocks & Minerals","Blastoff! Discovery",null,"0"]
[{"$f":"IF('Order Form'!A897>0, \"1\", \"0\")","v":"0"},0,"Fossils","Rocks & Minerals","Blastoff! Discovery",null,"0"]
[{"$f":"IF('Order Form'!A898>0, \"1\", \"0\")","v":"0"},0,"Gemstones","Rocks & Minerals","Blastoff! Discovery",null,"0"]
[{"$f":"IF('Order Form'!A899>0, \"1\", \"0\")","v":"0"},0,"Igneous Rocks","Rocks & Minerals","Blastoff! Discovery",null,"0"]
[{"$f":"IF('Order Form'!A900>0, \"1\", \"0\")","v":"0"},0,"Metamorphic Rocks","Rocks & Minerals","Blastoff! Discovery",null,"0"]
[{"$f":"IF('Order Form'!A901>0, \"1\", \"0\")","v":"0"},0,"Sedimentary Rocks","Rocks & Minerals","Blastoff! Discovery",null,"0"]
[{"$f":"IF('Order Form'!A902>0, \"1\", \"0\")","v":"0"},0,"Inventions that Changed the World Set (6)","Inventions that Changed the World","Blastoff! Discovery",null,"0"]
[{"$f":"IF('Order Form'!A903>0, \"1\", \"0\")","v":"0"},0,"Airplane, The","Inventions that Changed the World","Blastoff! Discovery",null,"0"]
[{"$f":"IF('Order Form'!A904>0, \"1\", \"0\")","v":"0"},0,"Automobile, The","Inventions that Changed the World","Blastoff! Discovery",null,"0"]
[{"$f":"IF('Order Form'!A905>0, \"1\", \"0\")","v":"0"},0,"Camera, The","Inventions that Changed the World","Blastoff! Discovery",null,"0"]
[{"$f":"IF('Order Form'!A906>0, \"1\", \"0\")","v":"0"},0,"Light Bulb, The","Inventions that Changed the World","Blastoff! Discovery",null,"0"]
[{"$f":"IF('Order Form'!A907>0, \"1\", \"0\")","v":"0"},0,"Personal Computer, The","Inventions that Changed the World","Blastoff! Discovery",null,"0"]
[{"$f":"IF('Order Form'!A908>0, \"1\", \"0\")","v":"0"},0,"Printing Press, The","Inventions that Changed the World","Blastoff! Discovery",null,"0"]
[{"$f":"IF('Order Form'!A909>0, \"1\", \"0\")","v":"0"},0,"Country Profiles Set (60)","Country Profiles","Blastoff! Discovery",null,"0"]
[{"$f":"IF('Order Form'!A910>0, \"1\", \"0\")","v":"0"},0,"Afghanistan","Country Profiles","Blastoff! Discovery",null,"0"]
[{"$f":"IF('Order Form'!A911>0, \"1\", \"0\")","v":"0"},0,"Argentina","Country Profiles","Blastoff! Discovery",null,"0"]
[{"$f":"IF('Order Form'!A912>0, \"1\", \"0\")","v":"0"},0,"Australia","Country Profiles","Blastoff! Discovery",null,{"$f":"A913","v":"0"}]
[{"$f":"IF('Order Form'!A913>0, \"1\", \"0\")","v":"0"},0,"Belgium","Country Profiles","Blastoff! Discovery",null,"0"]
[{"$f":"IF('Order Form'!A914>0, \"1\", \"0\")","v":"0"},0,"Brazil","Country Profiles","Blastoff! Discovery",null,"0"]
[{"$f":"IF('Order Form'!A915>0, \"1\", \"0\")","v":"0"},0,"Cambodia","Country Profiles","Blastoff! Discovery",null,"0"]
[{"$f":"IF('Order Form'!A916>0, \"1\", \"0\")","v":"0"},0,"Canada","Country Profiles","Blastoff! Discovery",null,"0"]
[{"$f":"IF('Order Form'!A917>0, \"1\", \"0\")","v":"0"},0,"Chile","Country Profiles","Blastoff! Discovery",null,"0"]
[{"$f":"IF('Order Form'!A918>0, \"1\", \"0\")","v":"0"},0,"China","Country Profiles","Blastoff! Discovery",null,"0"]
[{"$f":"IF('Order Form'!A919>0, \"1\", \"0\")","v":"0"},0,"Colombia","Country Profiles","Blastoff! Discovery",null,"0"]
[{"$f":"IF('Order Form'!A920>0, \"1\", \"0\")","v":"0"},0,"Costa Rica","Country Profiles","Blastoff! Discovery",null,"0"]
[{"$f":"IF('Order Form'!A921>0, \"1\", \"0\")","v":"0"},0,"Cuba","Country Profiles","Blastoff! Discovery",null,"0"]
[{"$f":"IF('Order Form'!A922>0, \"1\", \"0\")","v":"0"},0,"Czech Republic, The","Country Profiles","Blastoff! Discovery",null,"0"]
[{"$f":"IF('Order Form'!A923>0, \"1\", \"0\")","v":"0"},0,"Denmark","Country Profiles","Blastoff! Discovery",null,"0"]
[{"$f":"IF('Order Form'!A924>0, \"1\", \"0\")","v":"0"},0,"Dominican Republic, The","Country Profiles","Blastoff! Discovery",null,"0"]
[{"$f":"IF('Order Form'!A925>0, \"1\", \"0\")","v":"0"},0,"Egypt","Country Profiles","Blastoff! Discovery",null,"0"]
[{"$f":"IF('Order Form'!A926>0, \"1\", \"0\")","v":"0"},0,"El Salvador","Country Profiles","Blastoff! Discovery",null,"0"]
[{"$f":"IF('Order Form'!A927>0, \"1\", \"0\")","v":"0"},0,"England","Country Profiles","Blastoff! Discovery",null,"0"]
[{"$f":"IF('Order Form'!A928>0, \"1\", \"0\")","v":"0"},0,"France","Country Profiles","Blastoff! Discovery",null,"0"]
[{"$f":"IF('Order Form'!A929>0, \"1\", \"0\")","v":"0"},0,"Germany","Country Profiles","Blastoff! Discovery",null,"0"]
[{"$f":"IF('Order Form'!A930>0, \"1\", \"0\")","v":"0"},0,"Greece","Country Profiles","Blastoff! Discovery",null,"0"]
[{"$f":"IF('Order Form'!A931>0, \"1\", \"0\")","v":"0"},0,"Guatemala","Country Profiles","Blastoff! Discovery",null,"0"]
[{"$f":"IF('Order Form'!A932>0, \"1\", \"0\")","v":"0"},0,"Haiti","Country Profiles","Blastoff! Discovery",null,"0"]
[{"$f":"IF('Order Form'!A933>0, \"1\", \"0\")","v":"0"},0,"Honduras","Country Profiles","Blastoff! Discovery",null,"0"]
[{"$f":"IF('Order Form'!A934>0, \"1\", \"0\")","v":"0"},0,"Iceland","Country Profiles","Blastoff! Discovery",null,"0"]
[{"$f":"IF('Order Form'!A935>0, \"1\", \"0\")","v":"0"},0,"India","Country Profiles","Blastoff! Discovery",null,"0"]
[{"$f":"IF('Order Form'!A936>0, \"1\", \"0\")","v":"0"},0,"Indonesia","Country Profiles","Blastoff! Discovery",null,"0"]
[{"$f":"IF('Order Form'!A937>0, \"1\", \"0\")","v":"0"},0,"Iran","Country Profiles","Blastoff! Discovery",null,"0"]
[{"$f":"IF('Order Form'!A938>0, \"1\", \"0\")","v":"0"},0,"Iraq","Country Profiles","Blastoff! Discovery",null,"0"]
[{"$f":"IF('Order Form'!A939>0, \"1\", \"0\")","v":"0"},0,"Ireland","Country Profiles","Blastoff! Discovery",null,"0"]
[{"$f":"IF('Order Form'!A940>0, \"1\", \"0\")","v":"0"},0,"Israel","Country Profiles","Blastoff! Discovery",null,"0"]
[{"$f":"IF('Order Form'!A941>0, \"1\", \"0\")","v":"0"},0,"Italy","Country Profiles","Blastoff! Discovery",null,"0"]
[{"$f":"IF('Order Form'!A942>0, \"1\", \"0\")","v":"0"},0,"Japan","Country Profiles","Blastoff! Discovery",null,"0"]
[{"$f":"IF('Order Form'!A943>0, \"1\", \"0\")","v":"0"},0,"Jordan","Country Profiles","Blastoff! Discovery",null,"0"]
[{"$f":"IF('Order Form'!A944>0, \"1\", \"0\")","v":"0"},0,"Kenya","Country Profiles","Blastoff! Discovery",null,"0"]
[{"$f":"IF('Order Form'!A945>0, \"1\", \"0\")","v":"0"},0,"Madagascar","Country Profiles","Blastoff! Discovery",null,"0"]
[{"$f":"IF('Order Form'!A946>0, \"1\", \"0\")","v":"0"},0,"Mexico","Country Profiles","Blastoff! Discovery",null,"0"]
[{"$f":"IF('Order Form'!A947>0, \"1\", \"0\")","v":"0"},0,"Morocco","Country Profiles","Blastoff! Discovery",null,"0"]
[{"$f":"IF('Order Form'!A948>0, \"1\", \"0\")","v":"0"},0,"Nepal","Country Profiles","Blastoff! Discovery",null,"0"]
[{"$f":"IF('Order Form'!A949>0, \"1\", \"0\")","v":"0"},0,"New Zealand","Country Profiles","Blastoff! Discovery",null,"0"]
[{"$f":"IF('Order Form'!A950>0, \"1\", \"0\")","v":"0"},0,"Nigeria","Country Profiles","Blastoff! Discovery",null,"0"]
[{"$f":"IF('Order Form'!A951>0, \"1\", \"0\")","v":"0"},0,"Norway","Country Profiles","Blastoff! Discovery",null,"0"]
[{"$f":"IF('Order Form'!A952>0, \"1\", \"0\")","v":"0"},0,"Pakistan","Country Profiles","Blastoff! Discovery",null,"0"]
[{"$f":"IF('Order Form'!A953>0, \"1\", \"0\")","v":"0"},0,"Peru","Country Profiles","Blastoff! Discovery",null,"0"]
[{"$f":"IF('Order Form'!A954>0, \"1\", \"0\")","v":"0"},0,"Philippines, The","Country Profiles","Blastoff! Discovery",null,"0"]
[{"$f":"IF('Order Form'!A955>0, \"1\", \"0\")","v":"0"},0,"Portugal","Country Profiles","Blastoff! Discovery",null,"0"]
[{"$f":"IF('Order Form'!A956>0, \"1\", \"0\")","v":"0"},0,"Russia","Country Profiles","Blastoff! Discovery",null,"0"]
[{"$f":"IF('Order Form'!A957>0, \"1\", \"0\")","v":"0"},0,"Saudi Arabia","Country Profiles","Blastoff! Discovery",null,"0"]
[{"$f":"IF('Order Form'!A958>0, \"1\", \"0\")","v":"0"},0,"Scotland","Country Profiles","Blastoff! Discovery",null,"0"]
[{"$f":"IF('Order Form'!A959>0, \"1\", \"0\")","v":"0"},0,"South Africa","Country Profiles","Blastoff! Discovery",null,"0"]
[{"$f":"IF('Order Form'!A960>0, \"1\", \"0\")","v":"0"},0,"South Korea","Country Profiles","Blastoff! Discovery",null,"0"]
[{"$f":"IF('Order Form'!A961>0, \"1\", \"0\")","v":"0"},0,"South Sudan","Country Profiles","Blastoff! Discovery",null,"0"]
[{"$f":"IF('Order Form'!A962>0, \"1\", \"0\")","v":"0"},0,"Spain","Country Profiles","Blastoff! Discovery",null,"0"]
[{"$f":"IF('Order Form'!A963>0, \"1\", \"0\")","v":"0"},0,"Sweden","Country Profiles","Blastoff! Discovery",null,"0"]
[{"$f":"IF('Order Form'!A964>0, \"1\", \"0\")","v":"0"},0,"Switzerland","Country Profiles","Blastoff! Discovery",null,"0"]
[{"$f":"IF('Order Form'!A965>0, \"1\", \"0\")","v":"0"},0,"Thailand","Country Profiles","Blastoff! Discovery",null,"0"]
[{"$f":"IF('Order Form'!A966>0, \"1\", \"0\")","v":"0"},0,"The Netherlands","Country Profiles","Blastoff! Discovery",null,"0"]
[{"$f":"IF('Order Form'!A967>0, \"1\", \"0\")","v":"0"},0,"Turkey","Country Profiles","Blastoff! Discovery",null,"0"]
[{"$f":"IF('Order Form'!A968>0, \"1\", \"0\")","v":"0"},0,"Ukraine","Country Profiles","Blastoff! Discovery",null,"0"]
[{"$f":"IF('Order Form'!A969>0, \"1\", \"0\")","v":"0"},0,"Vietnam","Country Profiles","Blastoff! Discovery",null,"0"]
[{"$f":"IF('Order Form'!A970>0, \"1\", \"0\")","v":"0"},0,"The World of Dinosaurs Set (18 titles)","The World of Dinosaurs","Epic",null,"0"]
[{"$f":"IF('Order Form'!A971>0, \"1\", \"0\")","v":"0"},0,"Allosaurus","The World of Dinosaurs","Epic",null,"0"]
[{"$f":"IF('Order Form'!A972>0, \"1\", \"0\")","v":"0"},0,"Ankylosaurus","The World of Dinosaurs","Epic",null,"0"]
[{"$f":"IF('Order Form'!A973>0, \"1\", \"0\")","v":"0"},0,"Apatosaurus","The World of Dinosaurs","Epic",null,"0"]
[{"$f":"IF('Order Form'!A974>0, \"1\", \"0\")","v":"0"},0,"Archaeopteryx","The World of Dinosaurs","Epic",null,"0"]
[{"$f":"IF('Order Form'!A975>0, \"1\", \"0\")","v":"0"},0,"Argentinosaurus","The World of Dinosaurs","Epic",null,"0"]
[{"$f":"IF('Order Form'!A976>0, \"1\", \"0\")","v":"0"},0,"Brachiosaurus","The World of Dinosaurs","Epic",null,{"$f":"A977","v":"0"}]
[{"$f":"IF('Order Form'!A977>0, \"1\", \"0\")","v":"0"},0,"Diplodocus","The World of Dinosaurs","Epic",null,"0"]
[{"$f":"IF('Order Form'!A978>0, \"1\", \"0\")","v":"0"},0,"Giganotosaurus","The World of Dinosaurs","Epic",null,"0"]
[{"$f":"IF('Order Form'!A979>0, \"1\", \"0\")","v":"0"},0,"Iguanodon","The World of Dinosaurs","Epic",null,"0"]
[{"$f":"IF('Order Form'!A980>0, \"1\", \"0\")","v":"0"},0,"Nasutoceratops","The World of Dinosaurs","Epic",null,"0"]
[{"$f":"IF('Order Form'!A981>0, \"1\", \"0\")","v":"0"},0,"Oviraptor","The World of Dinosaurs","Epic",null,"0"]
[{"$f":"IF('Order Form'!A982>0, \"1\", \"0\")","v":"0"},0,"Parasaurolophus","The World of Dinosaurs","Epic",null,"0"]
[{"$f":"IF('Order Form'!A983>0, \"1\", \"0\")","v":"0"},0,"Spinosaurus","The World of Dinosaurs","Epic",null,"0"]
[{"$f":"IF('Order Form'!A984>0, \"1\", \"0\")","v":"0"},0,"Stegosaurus","The World of Dinosaurs","Epic",null,"0"]
[{"$f":"IF('Order Form'!A985>0, \"1\", \"0\")","v":"0"},0,"Triceratops","The World of Dinosaurs","Epic",null,"0"]
[{"$f":"IF('Order Form'!A986>0, \"1\", \"0\")","v":"0"},0,"Tyrannosaurus Rex","The World of Dinosaurs","Epic",null,"0"]
[{"$f":"IF('Order Form'!A987>0, \"1\", \"0\")","v":"0"},0,"Utahraptor","The World of Dinosaurs","Epic",null,"0"]
[{"$f":"IF('Order Form'!A988>0, \"1\", \"0\")","v":"0"},0,"Velociraptor","The World of Dinosaurs","Epic",null,"0"]
[{"$f":"IF('Order Form'!A989>0, \"1\", \"0\")","v":"0"},0,"Cutting-edge Technology Set (6)","Cutting-edge Technology","Epic",null,"0"]
[{"$f":"IF('Order Form'!A990>0, \"1\", \"0\")","v":"0"},0,"Artificial Intelligence","Cutting-edge Technology","Epic",null,"0"]
[{"$f":"IF('Order Form'!A991>0, \"1\", \"0\")","v":"0"},0,"Bionic Pets","Cutting-edge Technology","Epic",null,"0"]
[{"$f":"IF('Order Form'!A992>0, \"1\", \"0\")","v":"0"},0,"Drones","Cutting-edge Technology","Epic",null,"0"]
[{"$f":"IF('Order Form'!A993>0, \"1\", \"0\")","v":"0"},0,"Nanotechnology","Cutting-edge Technology","Epic",null,"0"]
[{"$f":"IF('Order Form'!A994>0, \"1\", \"0\")","v":"0"},0,"Self-Driving Cars","Cutting-edge Technology","Epic",null,"0"]
[{"$f":"IF('Order Form'!A995>0, \"1\", \"0\")","v":"0"},0,"Virtual Reality","Cutting-edge Technology","Epic",null,"0"]
[{"$f":"IF('Order Form'!A996>0, \"1\", \"0\")","v":"0"},0,"A Pet What?! Set (6)","A Pet What?!","Epic",null,"0"]
[{"$f":"IF('Order Form'!A997>0, \"1\", \"0\")","v":"0"},0,"My Pet Ferret","A Pet What?!","Epic",null,"0"]
[{"$f":"IF('Order Form'!A998>0, \"1\", \"0\")","v":"0"},0,"My Pet Hedgehog","A Pet What?!","Epic",null,"0"]
[{"$f":"IF('Order Form'!A999>0, \"1\", \"0\")","v":"0"},0,"My Pet Mini Horse","A Pet What?!","Epic",null,"0"]
[{"$f":"IF('Order Form'!A1000>0, \"1\", \"0\")","v":"0"},0,"My Pet Mini Pig","A Pet What?!","Epic",null,"0"]
[{"$f":"IF('Order Form'!A1001>0, \"1\", \"0\")","v":"0"},0,"My Pet Rat","A Pet What?!","Epic",null,"0"]
[{"$f":"IF('Order Form'!A1002>0, \"1\", \"0\")","v":"0"},0,"My Pet Sugar Glider","A Pet What?!","Epic",null,"0"]
[{"$f":"IF('Order Form'!A1003>0, \"1\", \"0\")","v":"0"},0,"Global Ghost Stories Set (6)","Global Ghost Stories","Epic",null,"0"]
[{"$f":"IF('Order Form'!A1004>0, \"1\", \"0\")","v":"0"},0,"Ghosts in Africa","Global Ghost Stories","Epic",null,"0"]
[{"$f":"IF('Order Form'!A1005>0, \"1\", \"0\")","v":"0"},0,"Ghosts in Asia","Global Ghost Stories","Epic",null,"0"]
[{"$f":"IF('Order Form'!A1006>0, \"1\", \"0\")","v":"0"},0,"Ghosts in Australia","Global Ghost Stories","Epic",null,"0"]
[{"$f":"IF('Order Form'!A1007>0, \"1\", \"0\")","v":"0"},0,"Ghosts in Europe","Global Ghost Stories","Epic",null,"0"]
[{"$f":"IF('Order Form'!A1008>0, \"1\", \"0\")","v":"0"},0,"Ghosts in North America","Global Ghost Stories","Epic",null,"0"]
[{"$f":"IF('Order Form'!A1009>0, \"1\", \"0\")","v":"0"},0,"Ghosts in South America","Global Ghost Stories","Epic",null,"0"]
[{"$f":"IF('Order Form'!A1010>0, \"1\", \"0\")","v":"0"},0,"Birds of Prey Set (6)","Birds of Prey","Epic",null,"0"]
[{"$f":"IF('Order Form'!A1011>0, \"1\", \"0\")","v":"0"},0,"Eagles","Birds of Prey","Epic",null,"0"]
[{"$f":"IF('Order Form'!A1012>0, \"1\", \"0\")","v":"0"},0,"Falcons","Birds of Prey","Epic",null,"0"]
[{"$f":"IF('Order Form'!A1013>0, \"1\", \"0\")","v":"0"},0,"Hawks","Birds of Prey","Epic",null,"0"]
[{"$f":"IF('Order Form'!A1014>0, \"1\", \"0\")","v":"0"},0,"Kites","Birds of Prey","Epic",null,"0"]
[{"$f":"IF('Order Form'!A1015>0, \"1\", \"0\")","v":"0"},0,"Owls","Birds of Prey","Epic",null,"0"]
[{"$f":"IF('Order Form'!A1016>0, \"1\", \"0\")","v":"0"},0,"Vultures","Birds of Prey","Epic",null,"0"]
[{"$f":"IF('Order Form'!A1017>0, \"1\", \"0\")","v":"0"},0,"Space Tech Set (8)","Space Tech","Epic",null,"0"]
[{"$f":"IF('Order Form'!A1018>0, \"1\", \"0\")","v":"0"},0,"Earth Satellites","Space Tech","Epic",null,"0"]
[{"$f":"IF('Order Form'!A1019>0, \"1\", \"0\")","v":"0"},0,"Hubble Space Telescope, The","Space Tech","Epic",null,"0"]
[{"$f":"IF('Order Form'!A1020>0, \"1\", \"0\")","v":"0"},0,"International Space Station, The","Space Tech","Epic",null,"0"]
[{"$f":"IF('Order Form'!A1021>0, \"1\", \"0\")","v":"0"},0,"Lunar Probes","Space Tech","Epic",null,"0"]
[{"$f":"IF('Order Form'!A1022>0, \"1\", \"0\")","v":"0"},0,"Mars Rovers","Space Tech","Epic",null,"0"]
[{"$f":"IF('Order Form'!A1023>0, \"1\", \"0\")","v":"0"},0,"Robonauts","Space Tech","Epic",null,"0"]
[{"$f":"IF('Order Form'!A1024>0, \"1\", \"0\")","v":"0"},0,"Rockets","Space Tech","Epic",null,"0"]
[{"$f":"IF('Order Form'!A1025>0, \"1\", \"0\")","v":"0"},0,"Space Shuttles","Space Tech","Epic",null,"0"]
[{"$f":"IF('Order Form'!A1026>0, \"1\", \"0\")","v":"0"},0,"Full Throttle Set (12)","Full Throttle","Epic",null,"0"]
[{"$f":"IF('Order Form'!A1027>0, \"1\", \"0\")","v":"0"},0,"4x4 Trucks","Full Throttle","Epic",null,"0"]
[{"$f":"IF('Order Form'!A1028>0, \"1\", \"0\")","v":"0"},0,"ATVs","Full Throttle","Epic",null,"0"]
[{"$f":"IF('Order Form'!A1029>0, \"1\", \"0\")","v":"0"},0,"Dirt Bikes","Full Throttle","Epic",null,"0"]
[{"$f":"IF('Order Form'!A1030>0, \"1\", \"0\")","v":"0"},0,"Dragsters","Full Throttle","Epic",null,"0"]
[{"$f":"IF('Order Form'!A1031>0, \"1\", \"0\")","v":"0"},0,"Hot Rods","Full Throttle","Epic",null,"0"]
[{"$f":"IF('Order Form'!A1032>0, \"1\", \"0\")","v":"0"},0,"Indy Cars","Full Throttle","Epic",null,"0"]
[{"$f":"IF('Order Form'!A1033>0, \"1\", \"0\")","v":"0"},0,"Karts","Full Throttle","Epic",null,"0"]
[{"$f":"IF('Order Form'!A1034>0, \"1\", \"0\")","v":"0"},0,"Lowriders","Full Throttle","Epic",null,"0"]
[{"$f":"IF('Order Form'!A1035>0, \"1\", \"0\")","v":"0"},0,"Monster Trucks","Full Throttle","Epic",null,"0"]
[{"$f":"IF('Order Form'!A1036>0, \"1\", \"0\")","v":"0"},0,"Motocross Cycles","Full Throttle","Epic",null,"0"]
[{"$f":"IF('Order Form'!A1037>0, \"1\", \"0\")","v":"0"},0,"Sports Cars","Full Throttle","Epic",null,"0"]
[{"$f":"IF('Order Form'!A1038>0, \"1\", \"0\")","v":"0"},0,"Stock Cars","Full Throttle","Epic",null,"0"]
[{"$f":"IF('Order Form'!A1039>0, \"1\", \"0\")","v":"0"},0,"Ghost Stories Set (8)","Ghost Stories","Epic",null,"0"]
[{"$f":"IF('Order Form'!A1040>0, \"1\", \"0\")","v":"0"},0,"Ghosts at Sea","Ghost Stories","Epic",null,{"$f":"A1041","v":"0"}]
[{"$f":"IF('Order Form'!A1041>0, \"1\", \"0\")","v":"0"},0,"Ghosts in Battlefields","Ghost Stories","Epic",null,"0"]
[{"$f":"IF('Order Form'!A1042>0, \"1\", \"0\")","v":"0"},0,"Ghosts in Cemeteries","Ghost Stories","Epic",null,"0"]
[{"$f":"IF('Order Form'!A1043>0, \"1\", \"0\")","v":"0"},0,"Ghosts in Hotels","Ghost Stories","Epic",null,"0"]
[{"$f":"IF('Order Form'!A1044>0, \"1\", \"0\")","v":"0"},0,"Ghosts in Mansions","Ghost Stories","Epic",null,"0"]
[{"$f":"IF('Order Form'!A1045>0, \"1\", \"0\")","v":"0"},0,"Ghosts in Palaces","Ghost Stories","Epic",null,"0"]
[{"$f":"IF('Order Form'!A1046>0, \"1\", \"0\")","v":"0"},0,"Ghosts in Prisons","Ghost Stories","Epic",null,"0"]
[{"$f":"IF('Order Form'!A1047>0, \"1\", \"0\")","v":"0"},0,"Ghosts in the White House","Ghost Stories","Epic",null,"0"]
[{"$f":"IF('Order Form'!A1048>0, \"1\", \"0\")","v":"0"},0,"Extreme Sports Set (10)","Extreme Sports","Epic",null,"0"]
[{"$f":"IF('Order Form'!A1049>0, \"1\", \"0\")","v":"0"},0,"Big Air Skateboarding","Extreme Sports","Epic",null,"0"]
[{"$f":"IF('Order Form'!A1050>0, \"1\", \"0\")","v":"0"},0,"Big Air Snowboarding","Extreme Sports","Epic",null,"0"]
[{"$f":"IF('Order Form'!A1051>0, \"1\", \"0\")","v":"0"},0,"BMX Freestyle","Extreme Sports","Epic",null,"0"]
[{"$f":"IF('Order Form'!A1052>0, \"1\", \"0\")","v":"0"},0,"BMX Racing","Extreme Sports","Epic",null,"0"]
[{"$f":"IF('Order Form'!A1053>0, \"1\", \"0\")","v":"0"},0,"Motocross Freestyle","Extreme Sports","Epic",null,"0"]
[{"$f":"IF('Order Form'!A1054>0, \"1\", \"0\")","v":"0"},0,"Motocross Racing","Extreme Sports","Epic",null,"0"]
[{"$f":"IF('Order Form'!A1055>0, \"1\", \"0\")","v":"0"},0,"Rally Car Racing","Extreme Sports","Epic",null,"0"]
[{"$f":"IF('Order Form'!A1056>0, \"1\", \"0\")","v":"0"},0,"Skateboarding Street Style","Extreme Sports","Epic",null,"0"]
[{"$f":"IF('Order Form'!A1057>0, \"1\", \"0\")","v":"0"},0,"Snowboarding Slopestyle","Extreme Sports","Epic",null,"0"]
[{"$f":"IF('Order Form'!A1058>0, \"1\", \"0\")","v":"0"},0,"Vert Skateboarding","Extreme Sports","Epic",null,"0"]
[{"$f":"IF('Order Form'!A1059>0, \"1\", \"0\")","v":"0"},0,"Unexplained Mysteries Set (13)","Unexplained Mysteries","Epic",null,"0"]
[{"$f":"IF('Order Form'!A1060>0, \"1\", \"0\")","v":"0"},0,"Alien Abductions","Unexplained Mysteries","Epic",null,"0"]
[{"$f":"IF('Order Form'!A1061>0, \"1\", \"0\")","v":"0"},0,"Area 51","Unexplained Mysteries","Epic",null,"0"]
[{"$f":"IF('Order Form'!A1062>0, \"1\", \"0\")","v":"0"},0,"Atlantis","Unexplained Mysteries","Epic",null,"0"]
[{"$f":"IF('Order Form'!A1063>0, \"1\", \"0\")","v":"0"},0,"Bigfoot","Unexplained Mysteries","Epic",null,"0"]
[{"$f":"IF('Order Form'!A1064>0, \"1\", \"0\")","v":"0"},0,"ESP","Unexplained Mysteries","Epic",null,"0"]
[{"$f":"IF('Order Form'!A1065>0, \"1\", \"0\")","v":"0"},0,"Ghost Ships","Unexplained Mysteries","Epic",null,"0"]
[{"$f":"IF('Order Form'!A1066>0, \"1\", \"0\")","v":"0"},0,"Ghosts","Unexplained Mysteries","Epic",null,"0"]
[{"$f":"IF('Order Form'!A1067>0, \"1\", \"0\")","v":"0"},0,"Haunted Houses","Unexplained Mysteries","Epic",null,"0"]
[{"$f":"IF('Order Form'!A1068>0, \"1\", \"0\")","v":"0"},0,"Stonehenge","Unexplained Mysteries","Epic",null,"0"]
[{"$f":"IF('Order Form'!A1069>0, \"1\", \"0\")","v":"0"},0,"The Bermuda Triangle","Unexplained Mysteries","Epic",null,"0"]
[{"$f":"IF('Order Form'!A1070>0, \"1\", \"0\")","v":"0"},0,"The Loch Ness Monster","Unexplained Mysteries","Epic",null,"0"]
[{"$f":"IF('Order Form'!A1071>0, \"1\", \"0\")","v":"0"},0,"The Mummy's Curse","Unexplained Mysteries","Epic",null,"0"]
[{"$f":"IF('Order Form'!A1072>0, \"1\", \"0\")","v":"0"},0,"UFOs","Unexplained Mysteries","Epic",null,"0"]
[{"$f":"IF('Order Form'!A1073>0, \"1\", \"0\")","v":"0"},0,"Animal Battles Set (18)","Animal Battles","Torque",null,"0"]
[{"$f":"IF('Order Form'!A1074>0, \"1\", \"0\")","v":"0"},0,"Anaconda vs. Jaguar","Animal Battles","Torque",null,"0"]
[{"$f":"IF('Order Form'!A1075>0, \"1\", \"0\")","v":"0"},0,"Dingo vs. Kangaroo","Animal Battles","Torque",null,"0"]
[{"$f":"IF('Order Form'!A1076>0, \"1\", \"0\")","v":"0"},0,"Golden Eagle vs. Great Horned Owl","Animal Battles","Torque",null,"0"]
[{"$f":"IF('Order Form'!A1077>0, \"1\", \"0\")","v":"0"},0,"Gorilla vs. Leopard","Animal Battles","Torque",null,"0"]
[{"$f":"IF('Order Form'!A1078>0, \"1\", \"0\")","v":"0"},0,"Great White Shark vs. Killer Whale","Animal Battles","Torque",null,"0"]
[{"$f":"IF('Order Form'!A1079>0, \"1\", \"0\")","v":"0"},0,"Grizzly Bear vs. Wolf Pack","Animal Battles","Torque",null,"0"]
[{"$f":"IF('Order Form'!A1080>0, \"1\", \"0\")","v":"0"},0,"King Cobra vs. Mongoose","Animal Battles","Torque",null,"0"]
[{"$f":"IF('Order Form'!A1081>0, \"1\", \"0\")","v":"0"},0,"Komodo Dragon vs. Orangutan","Animal Battles","Torque",null,"0"]
[{"$f":"IF('Order Form'!A1082>0, \"1\", \"0\")","v":"0"},0,"Lion vs. Cape Buffalo","Animal Battles","Torque",null,"0"]
[{"$f":"IF('Order Form'!A1083>0, \"1\", \"0\")","v":"0"},0,"Lion vs. Hyena Clan","Animal Battles","Torque",null,"0"]
[{"$f":"IF('Order Form'!A1084>0, \"1\", \"0\")","v":"0"},0,"Mountain Lion vs. Coyote","Animal Battles","Torque",null,"0"]
[{"$f":"IF('Order Form'!A1085>0, \"1\", \"0\")","v":"0"},0,"Nile Crocodile vs. Hippopotamus","Animal Battles","Torque",null,"0"]
[{"$f":"IF('Order Form'!A1086>0, \"1\", \"0\")","v":"0"},0,"Polar Bear vs. Walrus","Animal Battles","Torque",null,"0"]
[{"$f":"IF('Order Form'!A1087>0, \"1\", \"0\")","v":"0"},0,"Rhinoceros vs. African Elephant","Animal Battles","Torque",null,"0"]
[{"$f":"IF('Order Form'!A1088>0, \"1\", \"0\")","v":"0"},0,"Scorpion vs. Tarantula","Animal Battles","Torque",null,"0"]
[{"$f":"IF('Order Form'!A1089>0, \"1\", \"0\")","v":"0"},0,"Siberian Tiger vs. Brown Bear","Animal Battles","Torque",null,"0"]
[{"$f":"IF('Order Form'!A1090>0, \"1\", \"0\")","v":"0"},0,"Wolf Pack vs. Moose","Animal Battles","Torque",null,"0"]
[{"$f":"IF('Order Form'!A1091>0, \"1\", \"0\")","v":"0"},0,"Wolverine vs. Honey Badger","Animal Battles","Torque",null,"0"]
[{"$f":"IF('Order Form'!A1092>0, \"1\", \"0\")","v":"0"},0,"Mythical Creatures Set (12)","Mythical Creatures","Torque",null,"0"]
[{"$f":"IF('Order Form'!A1093>0, \"1\", \"0\")","v":"0"},0,"Centaurs","Mythical Creatures","Torque",null,"0"]
[{"$f":"IF('Order Form'!A1094>0, \"1\", \"0\")","v":"0"},0,"Dragons","Mythical Creatures","Torque",null,"0"]
[{"$f":"IF('Order Form'!A1095>0, \"1\", \"0\")","v":"0"},0,"Fairies","Mythical Creatures","Torque",null,"0"]
[{"$f":"IF('Order Form'!A1096>0, \"1\", \"0\")","v":"0"},0,"Giants","Mythical Creatures","Torque",null,"0"]
[{"$f":"IF('Order Form'!A1097>0, \"1\", \"0\")","v":"0"},0,"Kraken","Mythical Creatures","Torque",null,"0"]
[{"$f":"IF('Order Form'!A1098>0, \"1\", \"0\")","v":"0"},0,"Mermaids","Mythical Creatures","Torque",null,"0"]
[{"$f":"IF('Order Form'!A1099>0, \"1\", \"0\")","v":"0"},0,"Phoenixes","Mythical Creatures","Torque",null,"0"]
[{"$f":"IF('Order Form'!A1100>0, \"1\", \"0\")","v":"0"},0,"Sea Serpents","Mythical Creatures","Torque",null,"0"]
[{"$f":"IF('Order Form'!A1101>0, \"1\", \"0\")","v":"0"},0,"Sphinxes","Mythical Creatures","Torque",null,"0"]
[{"$f":"IF('Order Form'!A1102>0, \"1\", \"0\")","v":"0"},0,"Trolls","Mythical Creatures","Torque",null,"0"]
[{"$f":"IF('Order Form'!A1103>0, \"1\", \"0\")","v":"0"},0,"Unicorns","Mythical Creatures","Torque",null,"0"]
[{"$f":"IF('Order Form'!A1104>0, \"1\", \"0\")","v":"0"},0,"Werewolves","Mythical Creatures","Torque",null,{"$f":"A1105","v":"0"}]
[{"$f":"IF('Order Form'!A1105>0, \"1\", \"0\")","v":"0"},0,"Deadly Disasters Set (6)","Deadly Disasters","Torque",null,"0"]
[{"$f":"IF('Order Form'!A1106>0, \"1\", \"0\")","v":"0"},0,"The Coronavirus Pandemic","Deadly Disasters","Torque",null,"0"]
[{"$f":"IF('Order Form'!A1107>0, \"1\", \"0\")","v":"0"},0,"The Eruption of Mount St. Helens","Deadly Disasters","Torque",null,"0"]
[{"$f":"IF('Order Form'!A1108>0, \"1\", \"0\")","v":"0"},0,"The Haiti Earthquake","Deadly Disasters","Torque",null,"0"]
[{"$f":"IF('Order Form'!A1109>0, \"1\", \"0\")","v":"0"},0,"Hurricane Katrina","Deadly Disasters","Torque",null,"0"]
[{"$f":"IF('Order Form'!A1110>0, \"1\", \"0\")","v":"0"},0,"The Indian Ocean Tsunami","Deadly Disasters","Torque",null,"0"]
[{"$f":"IF('Order Form'!A1111>0, \"1\", \"0\")","v":"0"},0,"The Joplin Tornadoes","Deadly Disasters","Torque",null,"0"]
[{"$f":"IF('Order Form'!A1112>0, \"1\", \"0\")","v":"0"},0,"Ready, Set, Game! Set (6)","Ready, Set, Game!","Torque",null,"0"]
[{"$f":"IF('Order Form'!A1113>0, \"1\", \"0\")","v":"0"},0,"Arcade Gaming","Ready, Set, Game!","Torque",null,"0"]
[{"$f":"IF('Order Form'!A1114>0, \"1\", \"0\")","v":"0"},0,"Computer Gaming","Ready, Set, Game!","Torque",null,"0"]
[{"$f":"IF('Order Form'!A1115>0, \"1\", \"0\")","v":"0"},0,"Console Gaming","Ready, Set, Game!","Torque",null,"0"]
[{"$f":"IF('Order Form'!A1116>0, \"1\", \"0\")","v":"0"},0,"Handheld Gaming","Ready, Set, Game!","Torque",null,"0"]
[{"$f":"IF('Order Form'!A1117>0, \"1\", \"0\")","v":"0"},0,"Online Gaming","Ready, Set, Game!","Torque",null,"0"]
[{"$f":"IF('Order Form'!A1118>0, \"1\", \"0\")","v":"0"},0,"Virtual Reality Gaming","Ready, Set, Game!","Torque",null,"0"]
[{"$f":"IF('Order Form'!A1119>0, \"1\", \"0\")","v":"0"},0,"Sports Championships Set (6)","Sports Championships","Torque",null,"0"]
[{"$f":"IF('Order Form'!A1120>0, \"1\", \"0\")","v":"0"},0,"Final Four, The","Sports Championships","Torque",null,"0"]
[{"$f":"IF('Order Form'!A1121>0, \"1\", \"0\")","v":"0"},0,"NBA Finals, The","Sports Championships","Torque",null,"0"]
[{"$f":"IF('Order Form'!A1122>0, \"1\", \"0\")","v":"0"},0,"Stanley Cup Finals, The","Sports Championships","Torque",null,"0"]
[{"$f":"IF('Order Form'!A1123>0, \"1\", \"0\")","v":"0"},0,"Super Bowl, The","Sports Championships","Torque",null,"0"]
[{"$f":"IF('Order Form'!A1124>0, \"1\", \"0\")","v":"0"},0,"World Cup, The","Sports Championships","Torque",null,"0"]
[{"$f":"IF('Order Form'!A1125>0, \"1\", \"0\")","v":"0"},0,"World Series, The","Sports Championships","Torque",null,"0"]
[{"$f":"IF('Order Form'!A1126>0, \"1\", \"0\")","v":"0"},0,"Digging Up the Past Set (6)","Digging Up the Past","Torque",null,"0"]
[{"$f":"IF('Order Form'!A1127>0, \"1\", \"0\")","v":"0"},0,"Cave of Altamira, The","Digging Up the Past","Torque",null,"0"]
[{"$f":"IF('Order Form'!A1128>0, \"1\", \"0\")","v":"0"},0,"King Tut's Tomb","Digging Up the Past","Torque",null,"0"]
[{"$f":"IF('Order Form'!A1129>0, \"1\", \"0\")","v":"0"},0,"The Palace of Knossos","Digging Up the Past","Torque",null,"0"]
[{"$f":"IF('Order Form'!A1130>0, \"1\", \"0\")","v":"0"},0,"Pompeii","Digging Up the Past","Torque",null,"0"]
[{"$f":"IF('Order Form'!A1131>0, \"1\", \"0\")","v":"0"},0,"Terra-Cotta Army, The","Digging Up the Past","Torque",null,"0"]
[{"$f":"IF('Order Form'!A1132>0, \"1\", \"0\")","v":"0"},0,"Titanic, The","Digging Up the Past","Torque",null,"0"]
[{"$f":"IF('Order Form'!A1133>0, \"1\", \"0\")","v":"0"},0,"Abandoned Places Set (10)","Abandoned Places","Torque",null,"0"]
[{"$f":"IF('Order Form'!A1134>0, \"1\", \"0\")","v":"0"},0,"Battleship Island: The Deserted Island","Abandoned Places","Torque",null,"0"]
[{"$f":"IF('Order Form'!A1135>0, \"1\", \"0\")","v":"0"},0,"Bodie: The Gold-mining Ghost Town","Abandoned Places","Torque",null,"0"]
[{"$f":"IF('Order Form'!A1136>0, \"1\", \"0\")","v":"0"},0,"Craco: The Medieval Ghost Town","Abandoned Places","Torque",null,"0"]
[{"$f":"IF('Order Form'!A1137>0, \"1\", \"0\")","v":"0"},0,"Kolmanskop: The Diamond Mine Ghost Town","Abandoned Places","Torque",null,"0"]
[{"$f":"IF('Order Form'!A1138>0, \"1\", \"0\")","v":"0"},0,"Machu Picchu: The Lost Civilization","Abandoned Places","Torque",null,"0"]
[{"$f":"IF('Order Form'!A1139>0, \"1\", \"0\")","v":"0"},0,"Pripyat: The Chernobyl Ghost Town","Abandoned Places","Torque",null,"0"]
[{"$f":"IF('Order Form'!A1140>0, \"1\", \"0\")","v":"0"},0,"Roanoke: The Lost Colony","Abandoned Places","Torque",null,"0"]
[{"$f":"IF('Order Form'!A1141>0, \"1\", \"0\")","v":"0"},0,"Salton Riviera: The Deserted Resort Community","Abandoned Places","Torque",null,"0"]
[{"$f":"IF('Order Form'!A1142>0, \"1\", \"0\")","v":"0"},0,"Six Flags New Orleans: The Ruined Theme Park","Abandoned Places","Torque",null,"0"]
[{"$f":"IF('Order Form'!A1143>0, \"1\", \"0\")","v":"0"},0,"Skara Brae: The Lost Neolithic Village","Abandoned Places","Torque",null,"0"]
[{"$f":"IF('Order Form'!A1144>0, \"1\", \"0\")","v":"0"},0,"Survival Zone Set (12)","Survival Zone","Torque",null,"0"]
[{"$f":"IF('Order Form'!A1145>0, \"1\", \"0\")","v":"0"},0,"Survive a Blizzard","Survival Zone","Torque",null,"0"]
[{"$f":"IF('Order Form'!A1146>0, \"1\", \"0\")","v":"0"},0,"Survive a Fire","Survival Zone","Torque",null,"0"]
[{"$f":"IF('Order Form'!A1147>0, \"1\", \"0\")","v":"0"},0,"Survive a Flood","Survival Zone","Torque",null,"0"]
[{"$f":"IF('Order Form'!A1148>0, \"1\", \"0\")","v":"0"},0,"Survive a Hurricane","Survival Zone","Torque",null,"0"]
[{"$f":"IF('Order Form'!A1149>0, \"1\", \"0\")","v":"0"},0,"Survive a Plane Crash","Survival Zone","Torque",null,"0"]
[{"$f":"IF('Order Form'!A1150>0, \"1\", \"0\")","v":"0"},0,"Survive a Tornado","Survival Zone","Torque",null,"0"]
[{"$f":"IF('Order Form'!A1151>0, \"1\", \"0\")","v":"0"},0,"Survive a Tsunami","Survival Zone","Torque",null,"0"]
[{"$f":"IF('Order Form'!A1152>0, \"1\", \"0\")","v":"0"},0,"Survive an Avalanche","Survival Zone","Torque",null,"0"]
[{"$f":"IF('Order Form'!A1153>0, \"1\", \"0\")","v":"0"},0,"Survive an Earthquake","Survival Zone","Torque",null,"0"]
[{"$f":"IF('Order Form'!A1154>0, \"1\", \"0\")","v":"0"},0,"Survive in the Mountains","Survival Zone","Torque",null,"0"]
[{"$f":"IF('Order Form'!A1155>0, \"1\", \"0\")","v":"0"},0,"Survive in the Woods","Survival Zone","Torque",null,"0"]
[{"$f":"IF('Order Form'!A1156>0, \"1\", \"0\")","v":"0"},0,"Survive on a Desert Island","Survival Zone","Torque",null,"0"]
[{"$f":"IF('Order Form'!A1157>0, \"1\", \"0\")","v":"0"},0,"Tough Trucks Set (6)","Tough Trucks","Torque",null,"0"]
[{"$f":"IF('Order Form'!A1158>0, \"1\", \"0\")","v":"0"},0,"Chevrolet Silverado","Tough Trucks","Torque",null,"0"]
[{"$f":"IF('Order Form'!A1159>0, \"1\", \"0\")","v":"0"},0,"Ford F-150","Tough Trucks","Torque",null,"0"]
[{"$f":"IF('Order Form'!A1160>0, \"1\", \"0\")","v":"0"},0,"Honda Ridgeline","Tough Trucks","Torque",null,"0"]
[{"$f":"IF('Order Form'!A1161>0, \"1\", \"0\")","v":"0"},0,"Nissan Frontier","Tough Trucks","Torque",null,"0"]
[{"$f":"IF('Order Form'!A1162>0, \"1\", \"0\")","v":"0"},0,"Ram 1500","Tough Trucks","Torque",null,"0"]
[{"$f":"IF('Order Form'!A1163>0, \"1\", \"0\")","v":"0"},0,"Toyota Tacoma","Tough Trucks","Torque",null,"0"]
[{"$f":"IF('Order Form'!A1164>0, \"1\", \"0\")","v":"0"},0,"Space Science Set (16)","Space Science","Torque",null,"0"]
[{"$f":"IF('Order Form'!A1165>0, \"1\", \"0\")","v":"0"},0,"Asteroids","Space Science","Torque",null,"0"]
[{"$f":"IF('Order Form'!A1166>0, \"1\", \"0\")","v":"0"},0,"Comets","Space Science","Torque",null,"0"]
[{"$f":"IF('Order Form'!A1167>0, \"1\", \"0\")","v":"0"},0,"Earth","Space Science","Torque",null,"0"]
[{"$f":"IF('Order Form'!A1168>0, \"1\", \"0\")","v":"0"},0,"Galaxies","Space Science","Torque",null,{"$f":"A1169","v":"0"}]
[{"$f":"IF('Order Form'!A1169>0, \"1\", \"0\")","v":"0"},0,"Jupiter","Space Science","Torque",null,"0"]
[{"$f":"IF('Order Form'!A1170>0, \"1\", \"0\")","v":"0"},0,"Mars","Space Science","Torque",null,"0"]
[{"$f":"IF('Order Form'!A1171>0, \"1\", \"0\")","v":"0"},0,"Mercury","Space Science","Torque",null,"0"]
[{"$f":"IF('Order Form'!A1172>0, \"1\", \"0\")","v":"0"},0,"Moons","Space Science","Torque",null,"0"]
[{"$f":"IF('Order Form'!A1173>0, \"1\", \"0\")","v":"0"},0,"Neptune","Space Science","Torque",null,"0"]
[{"$f":"IF('Order Form'!A1174>0, \"1\", \"0\")","v":"0"},0,"Planets","Space Science","Torque",null,"0"]
[{"$f":"IF('Order Form'!A1175>0, \"1\", \"0\")","v":"0"},0,"Pluto & the Dwarf Planets","Space Science","Torque",null,"0"]
[{"$f":"IF('Order Form'!A1176>0, \"1\", \"0\")","v":"0"},0,"Saturn","Space Science","Torque",null,"0"]
[{"$f":"IF('Order Form'!A1177>0, \"1\", \"0\")","v":"0"},0,"Sun, The","Space Science","Torque",null,"0"]
[{"$f":"IF('Order Form'!A1178>0, \"1\", \"0\")","v":"0"},0,"The Moon","Space Science","Torque",null,"0"]
[{"$f":"IF('Order Form'!A1179>0, \"1\", \"0\")","v":"0"},0,"Uranus","Space Science","Torque",null,"0"]
[{"$f":"IF('Order Form'!A1180>0, \"1\", \"0\")","v":"0"},0,"Venus","Space Science","Torque",null,"0"]
[{"$f":"IF('Order Form'!A1181>0, \"1\", \"0\")","v":"0"},0,"Cool Careers Set (6)","Cool Careers","Torque",null,"0"]
[{"$f":"IF('Order Form'!A1182>0, \"1\", \"0\")","v":"0"},0,"Astronaut","Cool Careers","Torque",null,"0"]
[{"$f":"IF('Order Form'!A1183>0, \"1\", \"0\")","v":"0"},0,"Baseball Player","Cool Careers","Torque",null,"0"]
[{"$f":"IF('Order Form'!A1184>0, \"1\", \"0\")","v":"0"},0,"Fighter Pilot","Cool Careers","Torque",null,"0"]
[{"$f":"IF('Order Form'!A1185>0, \"1\", \"0\")","v":"0"},0,"Movie Director","Cool Careers","Torque",null,"0"]
[{"$f":"IF('Order Form'!A1186>0, \"1\", \"0\")","v":"0"},0,"Race Car Driver","Cool Careers","Torque",null,"0"]
[{"$f":"IF('Order Form'!A1187>0, \"1\", \"0\")","v":"0"},0,"Stunt Performer","Cool Careers","Torque",null,"0"]
[{"$f":"IF('Order Form'!A1188>0, \"1\", \"0\")","v":"0"},0,"It's the End of the World Set (8)","It's the End of the World","Torque",null,"0"]
[{"$f":"IF('Order Form'!A1189>0, \"1\", \"0\")","v":"0"},0,"Alien Invasion","It's the End of the World","Torque",null,"0"]
[{"$f":"IF('Order Form'!A1190>0, \"1\", \"0\")","v":"0"},0,"Asteroid Impact","It's the End of the World","Torque",null,"0"]
[{"$f":"IF('Order Form'!A1191>0, \"1\", \"0\")","v":"0"},0,"Climate Change","It's the End of the World","Torque",null,"0"]
[{"$f":"IF('Order Form'!A1192>0, \"1\", \"0\")","v":"0"},0,"Global Pandemic","It's the End of the World","Torque",null,"0"]
[{"$f":"IF('Order Form'!A1193>0, \"1\", \"0\")","v":"0"},0,"Nuclear War","It's the End of the World","Torque",null,"0"]
[{"$f":"IF('Order Form'!A1194>0, \"1\", \"0\")","v":"0"},0,"Robot Uprising","It's the End of the World","Torque",null,"0"]
[{"$f":"IF('Order Form'!A1195>0, \"1\", \"0\")","v":"0"},0,"Solar Storm","It's the End of the World","Torque",null,"0"]
[{"$f":"IF('Order Form'!A1196>0, \"1\", \"0\")","v":"0"},0,"Supervolcano Eruption","It's the End of the World","Torque",null,"0"]
[{"$f":"IF('Order Form'!A1197>0, \"1\", \"0\")","v":"0"},0,"Car Crazy Set (22)","Car Crazy","Torque",null,"0"]
[{"$f":"IF('Order Form'!A1198>0, \"1\", \"0\")","v":"0"},0,"Aston Martin DB9","Car Crazy","Torque",null,"0"]
[{"$f":"IF('Order Form'!A1199>0, \"1\", \"0\")","v":"0"},0,"Audi R8 Spyder","Car Crazy","Torque",null,"0"]
[{"$f":"IF('Order Form'!A1200>0, \"1\", \"0\")","v":"0"},0,"Bentley Continental GT","Car Crazy","Torque",null,"0"]
[{"$f":"IF('Order Form'!A1201>0, \"1\", \"0\")","v":"0"},0,"BMW M4","Car Crazy","Torque",null,"0"]
[{"$f":"IF('Order Form'!A1202>0, \"1\", \"0\")","v":"0"},0,"Bugatti Chiron","Car Crazy","Torque",null,"0"]
[{"$f":"IF('Order Form'!A1203>0, \"1\", \"0\")","v":"0"},0,"Bugatti Veyron","Car Crazy","Torque",null,"0"]
[{"$f":"IF('Order Form'!A1204>0, \"1\", \"0\")","v":"0"},0,"Chevrolet Camaro Z28","Car Crazy","Torque",null,"0"]
[{"$f":"IF('Order Form'!A1205>0, \"1\", \"0\")","v":"0"},0,"Chevrolet Corvette Z06","Car Crazy","Torque",null,"0"]
[{"$f":"IF('Order Form'!A1206>0, \"1\", \"0\")","v":"0"},0,"Dodge Challenger SRT Hellcat","Car Crazy","Torque",null,"0"]
[{"$f":"IF('Order Form'!A1207>0, \"1\", \"0\")","v":"0"},0,"Dodge Charger R/T","Car Crazy","Torque",null,"0"]
[{"$f":"IF('Order Form'!A1208>0, \"1\", \"0\")","v":"0"},0,"Dodge Viper SRT","Car Crazy","Torque",null,"0"]
[{"$f":"IF('Order Form'!A1209>0, \"1\", \"0\")","v":"0"},0,"Ferrari 458 Italia","Car Crazy","Torque",null,"0"]
[{"$f":"IF('Order Form'!A1210>0, \"1\", \"0\")","v":"0"},0,"Ford Mustang Shelby GT350","Car Crazy","Torque",null,"0"]
[{"$f":"IF('Order Form'!A1211>0, \"1\", \"0\")","v":"0"},0,"Jaguar F-Type","Car Crazy","Torque",null,"0"]
[{"$f":"IF('Order Form'!A1212>0, \"1\", \"0\")","v":"0"},0,"Lamborghini Aventador","Car Crazy","Torque",null,"0"]
[{"$f":"IF('Order Form'!A1213>0, \"1\", \"0\")","v":"0"},0,"Lykan HyperSport","Car Crazy","Torque",null,"0"]
[{"$f":"IF('Order Form'!A1214>0, \"1\", \"0\")","v":"0"},0,"Maserati GranTurismo","Car Crazy","Torque",null,"0"]
[{"$f":"IF('Order Form'!A1215>0, \"1\", \"0\")","v":"0"},0,"McLaren 12C","Car Crazy","Torque",null,"0"]
[{"$f":"IF('Order Form'!A1216>0, \"1\", \"0\")","v":"0"},0,"Nissan GT-R","Car Crazy","Torque",null,"0"]
[{"$f":"IF('Order Form'!A1217>0, \"1\", \"0\")","v":"0"},0,"Porsche 911 Carrera","Car Crazy","Torque",null,"0"]
[{"$f":"IF('Order Form'!A1218>0, \"1\", \"0\")","v":"0"},0,"Porsche 918 Spyder","Car Crazy","Torque",null,"0"]
[{"$f":"IF('Order Form'!A1219>0, \"1\", \"0\")","v":"0"},0,"Tesla Model S","Car Crazy","Torque",null,"0"]
[{"$f":"IF('Order Form'!A1220>0, \"1\", \"0\")","v":"0"},0,"NFL Teams Set (32)","NFL Teams","Torque",null,"0"]
[{"$f":"IF('Order Form'!A1221>0, \"1\", \"0\")","v":"0"},0,"The Arizona Cardinals Story","NFL Teams","Torque",null,"0"]
[{"$f":"IF('Order Form'!A1222>0, \"1\", \"0\")","v":"0"},0,"The Atlanta Falcons Story","NFL Teams","Torque",null,"0"]
[{"$f":"IF('Order Form'!A1223>0, \"1\", \"0\")","v":"0"},0,"The Baltimore Ravens Story ","NFL Teams","Torque",null,"0"]
[{"$f":"IF('Order Form'!A1224>0, \"1\", \"0\")","v":"0"},0,"The Buffalo Bills Story","NFL Teams","Torque",null,"0"]
[{"$f":"IF('Order Form'!A1225>0, \"1\", \"0\")","v":"0"},0,"The Carolina Panthers Story","NFL Teams","Torque",null,"0"]
[{"$f":"IF('Order Form'!A1226>0, \"1\", \"0\")","v":"0"},0,"The Chicago Bears Story","NFL Teams","Torque",null,"0"]
[{"$f":"IF('Order Form'!A1227>0, \"1\", \"0\")","v":"0"},0,"The Cincinnati Bengals Story","NFL Teams","Torque",null,"0"]
[{"$f":"IF('Order Form'!A1228>0, \"1\", \"0\")","v":"0"},0,"The Cleveland Browns Story","NFL Teams","Torque",null,"0"]
[{"$f":"IF('Order Form'!A1229>0, \"1\", \"0\")","v":"0"},0,"The Dallas Cowboys Story","NFL Teams","Torque",null,"0"]
[{"$f":"IF('Order Form'!A1230>0, \"1\", \"0\")","v":"0"},0,"The Denver Broncos Story","NFL Teams","Torque",null,"0"]
[{"$f":"IF('Order Form'!A1231>0, \"1\", \"0\")","v":"0"},0,"The Detroit Lions Story","NFL Teams","Torque",null,"0"]
[{"$f":"IF('Order Form'!A1232>0, \"1\", \"0\")","v":"0"},0,"The Green Bay Packers Story","NFL Teams","Torque",null,{"$f":"A1233","v":"0"}]
[{"$f":"IF('Order Form'!A1233>0, \"1\", \"0\")","v":"0"},0,"The Houston Texans Story","NFL Teams","Torque",null,"0"]
[{"$f":"IF('Order Form'!A1234>0, \"1\", \"0\")","v":"0"},0,"The Indianapolis Colts Story","NFL Teams","Torque",null,"0"]
[{"$f":"IF('Order Form'!A1235>0, \"1\", \"0\")","v":"0"},0,"The Jacksonville Jaguars Story","NFL Teams","Torque",null,"0"]
[{"$f":"IF('Order Form'!A1236>0, \"1\", \"0\")","v":"0"},0,"The Kansas City Chiefs Story","NFL Teams","Torque",null,"0"]
[{"$f":"IF('Order Form'!A1237>0, \"1\", \"0\")","v":"0"},0,"The Los Angeles Rams Story","NFL Teams","Torque",null,"0"]
[{"$f":"IF('Order Form'!A1238>0, \"1\", \"0\")","v":"0"},0,"The Miami Dolphins Story","NFL Teams","Torque",null,"0"]
[{"$f":"IF('Order Form'!A1239>0, \"1\", \"0\")","v":"0"},0,"The Minnesota Vikings Story","NFL Teams","Torque",null,"0"]
[{"$f":"IF('Order Form'!A1240>0, \"1\", \"0\")","v":"0"},0,"The New England Patriots Story","NFL Teams","Torque",null,"0"]
[{"$f":"IF('Order Form'!A1241>0, \"1\", \"0\")","v":"0"},0,"The New Orleans Saints Story","NFL Teams","Torque",null,"0"]
[{"$f":"IF('Order Form'!A1242>0, \"1\", \"0\")","v":"0"},0,"The New York Giants Story","NFL Teams","Torque",null,"0"]
[{"$f":"IF('Order Form'!A1243>0, \"1\", \"0\")","v":"0"},0,"The New York Jets Story","NFL Teams","Torque",null,"0"]
[{"$f":"IF('Order Form'!A1244>0, \"1\", \"0\")","v":"0"},0,"The Oakland Raiders Story","NFL Teams","Torque",null,"0"]
[{"$f":"IF('Order Form'!A1245>0, \"1\", \"0\")","v":"0"},0,"The Philadelphia Eagles Story","NFL Teams","Torque",null,"0"]
[{"$f":"IF('Order Form'!A1246>0, \"1\", \"0\")","v":"0"},0,"The Pittsburgh Steelers Story","NFL Teams","Torque",null,"0"]
[{"$f":"IF('Order Form'!A1247>0, \"1\", \"0\")","v":"0"},0,"The San Diego Chargers Story","NFL Teams","Torque",null,"0"]
[{"$f":"IF('Order Form'!A1248>0, \"1\", \"0\")","v":"0"},0,"The San Francisco 49ers Story","NFL Teams","Torque",null,"0"]
[{"$f":"IF('Order Form'!A1249>0, \"1\", \"0\")","v":"0"},0,"The Seattle Seahawks Story","NFL Teams","Torque",null,"0"]
[{"$f":"IF('Order Form'!A1250>0, \"1\", \"0\")","v":"0"},0,"The Tampa Bay Buccaneers Story","NFL Teams","Torque",null,"0"]
[{"$f":"IF('Order Form'!A1251>0, \"1\", \"0\")","v":"0"},0,"The Tennessee Titans Story","NFL Teams","Torque",null,"0"]
[{"$f":"IF('Order Form'!A1252>0, \"1\", \"0\")","v":"0"},0,"The Washington Redskins Story","NFL Teams","Torque",null,"0"]
[{"$f":"IF('Order Form'!A1253>0, \"1\", \"0\")","v":"0"},0,"Pirate Tales Set (6)","Pirate Tales","Black Sheep",null,"0"]
[{"$f":"IF('Order Form'!A1254>0, \"1\", \"0\")","v":"0"},0,"Anne Bonny: Pirate Queen of the Caribbean","Pirate Tales","Black Sheep",null,"0"]
[{"$f":"IF('Order Form'!A1255>0, \"1\", \"0\")","v":"0"},0,"Blackbeard: Captain of the Queen Anne's Revenge","Pirate Tales","Black Sheep",null,"0"]
[{"$f":"IF('Order Form'!A1256>0, \"1\", \"0\")","v":"0"},0,"Ching Shih: The World's Most Successful Pirate","Pirate Tales","Black Sheep",null,"0"]
[{"$f":"IF('Order Form'!A1257>0, \"1\", \"0\")","v":"0"},0,"Henry Morgan: Feared Buccaneer of the New World","Pirate Tales","Black Sheep",null,"0"]
[{"$f":"IF('Order Form'!A1258>0, \"1\", \"0\")","v":"0"},0,"Mary Read: Pirate in Disguise","Pirate Tales","Black Sheep",null,"0"]
[{"$f":"IF('Order Form'!A1259>0, \"1\", \"0\")","v":"0"},0,"Sir Francis Drake and the Trip Around the World","Pirate Tales","Black Sheep",null,"0"]
[{"$f":"IF('Order Form'!A1260>0, \"1\", \"0\")","v":"0"},0,"True Survival Stories Set (6)","True Survival Stories","Black Sheep",null,"0"]
[{"$f":"IF('Order Form'!A1261>0, \"1\", \"0\")","v":"0"},0,"Escaping the Nazis: Jan Baalsrud","True Survival Stories","Black Sheep",null,"0"]
[{"$f":"IF('Order Form'!A1262>0, \"1\", \"0\")","v":"0"},0,"Inside the Volcano: Michael Benson","True Survival Stories","Black Sheep",null,"0"]
[{"$f":"IF('Order Form'!A1263>0, \"1\", \"0\")","v":"0"},0,"Lost in the Amazon: Juliane Koepcke","True Survival Stories","Black Sheep",null,"0"]
[{"$f":"IF('Order Form'!A1264>0, \"1\", \"0\")","v":"0"},0,"Shark Attack!: Bethany Hamilton","True Survival Stories","Black Sheep",null,"0"]
[{"$f":"IF('Order Form'!A1265>0, \"1\", \"0\")","v":"0"},0,"Stranded at Sea: Steve Callahan","True Survival Stories","Black Sheep",null,"0"]
[{"$f":"IF('Order Form'!A1266>0, \"1\", \"0\")","v":"0"},0,"Trapped in Antarctica: Shackleton and the Endurance","True Survival Stories","Black Sheep",null,"0"]
[{"$f":"IF('Order Form'!A1267>0, \"1\", \"0\")","v":"0"},0,"Extraordinary Explorers Set (6)","Extraordinary Explorers","Black Sheep",null,"0"]
[{"$f":"IF('Order Form'!A1268>0, \"1\", \"0\")","v":"0"},0,"Amelia Earhart Flies Across the Atlantic","Extraordinary Explorers","Black Sheep",null,"0"]
[{"$f":"IF('Order Form'!A1269>0, \"1\", \"0\")","v":"0"},0,"Edmund Hillary Reaches the Top of Everest","Extraordinary Explorers","Black Sheep",null,"0"]
[{"$f":"IF('Order Form'!A1270>0, \"1\", \"0\")","v":"0"},0,"Ferdinand Magellan Sails Around the World","Extraordinary Explorers","Black Sheep",null,"0"]
[{"$f":"IF('Order Form'!A1271>0, \"1\", \"0\")","v":"0"},0,"Lewis and Clark Map the American West","Extraordinary Explorers","Black Sheep",null,"0"]
[{"$f":"IF('Order Form'!A1272>0, \"1\", \"0\")","v":"0"},0,"Neil Armstrong Walks on the Moon","Extraordinary Explorers","Black Sheep",null,"0"]
[{"$f":"IF('Order Form'!A1273>0, \"1\", \"0\")","v":"0"},0,"Roald Amundsen Explores the South Pole","Extraordinary Explorers","Black Sheep",null,"0"]
[{"$f":"IF('Order Form'!A1274>0, \"1\", \"0\")","v":"0"},0,"Disaster Stories Set (6)","Disaster Stories","Black Sheep",null,"0"]
[{"$f":"IF('Order Form'!A1275>0, \"1\", \"0\")","v":"0"},0,"The Apollo 13 Mission","Disaster Stories","Black Sheep",null,"0"]
[{"$f":"IF('Order Form'!A1276>0, \"1\", \"0\")","v":"0"},0,"The Attack on Pearl Harbor","Disaster Stories","Black Sheep",null,"0"]
[{"$f":"IF('Order Form'!A1277>0, \"1\", \"0\")","v":"0"},0,"The Challenger Explosion","Disaster Stories","Black Sheep",null,"0"]
[{"$f":"IF('Order Form'!A1278>0, \"1\", \"0\")","v":"0"},0,"The Deepwater Horizon Oil Spill","Disaster Stories","Black Sheep",null,"0"]
[{"$f":"IF('Order Form'!A1279>0, \"1\", \"0\")","v":"0"},0,"The Hindenburg Disaster","Disaster Stories","Black Sheep",null,"0"]
[{"$f":"IF('Order Form'!A1280>0, \"1\", \"0\")","v":"0"},0,"The Titanic Disaster","Disaster Stories","Black Sheep",null,"0"]
[{"$f":"IF('Order Form'!A1281>0, \"1\", \"0\")","v":"0"},0,"Paranormal Mysteries Set (6)","Paranormal Mysteries","Black Sheep",null,"0"]
[{"$f":"IF('Order Form'!A1282>0, \"1\", \"0\")","v":"0"},0,"Bell Witch Haunting, The","Paranormal Mysteries","Black Sheep",null,"0"]
[{"$f":"IF('Order Form'!A1283>0, \"1\", \"0\")","v":"0"},0,"Betty & Barney Hill Alien Abduction, The","Paranormal Mysteries","Black Sheep",null,"0"]
[{"$f":"IF('Order Form'!A1284>0, \"1\", \"0\")","v":"0"},0,"Flight 19: Lost in the Bermuda Triangle","Paranormal Mysteries","Black Sheep",null,"0"]
[{"$f":"IF('Order Form'!A1285>0, \"1\", \"0\")","v":"0"},0,"Mothman Sightings, The","Paranormal Mysteries","Black Sheep",null,"0"]
[{"$f":"IF('Order Form'!A1286>0, \"1\", \"0\")","v":"0"},0,"Mummy's Curse, The: Discovering King Tut's Tomb","Paranormal Mysteries","Black Sheep",null,"0"]
[{"$f":"IF('Order Form'!A1287>0, \"1\", \"0\")","v":"0"},0,"Roswell UFO Incident, The","Paranormal Mysteries","Black Sheep",null,"0"]
[{"$f":"IF('Order Form'!A1288>0, \"1\", \"0\")","v":"0"},0,"Orgami Fun Set (14)","Origami Fun","Express!",null,"0"]
[{"$f":"IF('Order Form'!A1289>0, \"1\", \"0\")","v":"0"},0,"Origami Fun: Aircraft","Origami Fun","Express!",null,"0"]
[{"$f":"IF('Order Form'!A1290>0, \"1\", \"0\")","v":"0"},0,"Origami Fun: Birds","Origami Fun","Express!",null,"0"]
[{"$f":"IF('Order Form'!A1291>0, \"1\", \"0\")","v":"0"},0,"Origami Fun: Buildings","Origami Fun","Express!",null,"0"]
[{"$f":"IF('Order Form'!A1292>0, \"1\", \"0\")","v":"0"},0,"Origami Fun: Dinosaurs","Origami Fun","Express!",null,"0"]
[{"$f":"IF('Order Form'!A1293>0, \"1\", \"0\")","v":"0"},0,"Origami Fun: Farm Animals","Origami Fun","Express!",null,"0"]
[{"$f":"IF('Order Form'!A1294>0, \"1\", \"0\")","v":"0"},0,"Origami Fun: Holidays","Origami Fun","Express!",null,"0"]
[{"$f":"IF('Order Form'!A1295>0, \"1\", \"0\")","v":"0"},0,"Origami Fun: Insects","Origami Fun","Express!",null,"0"]
[{"$f":"IF('Order Form'!A1296>0, \"1\", \"0\")","v":"0"},0,"Origami Fun: Jungle Animals","Origami Fun","Express!",null,{"$f":"A1297","v":"0"}]
[{"$f":"IF('Order Form'!A1297>0, \"1\", \"0\")","v":"0"},0,"Origami Fun: Mythical Creatures","Origami Fun","Express!",null,"0"]
[{"$f":"IF('Order Form'!A1298>0, \"1\", \"0\")","v":"0"},0,"Origami Fun: Ocean Animals","Origami Fun","Express!",null,"0"]
[{"$f":"IF('Order Form'!A1299>0, \"1\", \"0\")","v":"0"},0,"Origami Fun: Pets","Origami Fun","Express!",null,"0"]
[{"$f":"IF('Order Form'!A1300>0, \"1\", \"0\")","v":"0"},0,"Origami Fun: Plants","Origami Fun","Express!",null,"0"]
[{"$f":"IF('Order Form'!A1301>0, \"1\", \"0\")","v":"0"},0,"Origami Fun: Robots","Origami Fun","Express!",null,"0"]
[{"$f":"IF('Order Form'!A1302>0, \"1\", \"0\")","v":"0"},0,"Origami Fun: Vehicles","Origami Fun","Express!",null,"0"]
[{"$f":"IF('Order Form'!A1303>0, \"1\", \"0\")","v":"0"},0,"Take Flight! Set (6)","Take Flight!","Express!",null,"0"]
[{"$f":"IF('Order Form'!A1304>0, \"1\", \"0\")","v":"0"},0,"Novice Level Paper Airplanes","Take Flight!","Express!",null,"0"]
[{"$f":"IF('Order Form'!A1305>0, \"1\", \"0\")","v":"0"},0,"Beginner Level Paper Airplanes","Take Flight!","Express!",null,"0"]
[{"$f":"IF('Order Form'!A1306>0, \"1\", \"0\")","v":"0"},0,"Intermediate Level Paper Airplanes","Take Flight!","Express!",null,"0"]
[{"$f":"IF('Order Form'!A1307>0, \"1\", \"0\")","v":"0"},0,"Advanced Level Paper Airplanes","Take Flight!","Express!",null,"0"]
[{"$f":"IF('Order Form'!A1308>0, \"1\", \"0\")","v":"0"},0,"Expert Level Paper Airplanes","Take Flight!","Express!",null,"0"]
[{"$f":"IF('Order Form'!A1309>0, \"1\", \"0\")","v":"0"},0,"Master Level Paper Airplanes","Take Flight!","Express!",null,"0"]
[{"$f":"IF('Order Form'!A1310>0, \"1\", \"0\")","v":"0"},0,"You Can Draw It! Set (14 titles)","You Can Draw It!","Express!",null,"0"]
[{"$f":"IF('Order Form'!A1311>0, \"1\", \"0\")","v":"0"},0,"Aircraft","You Can Draw It!","Express!",null,"0"]
[{"$f":"IF('Order Form'!A1312>0, \"1\", \"0\")","v":"0"},0,"Aliens","You Can Draw It!","Express!",null,"0"]
[{"$f":"IF('Order Form'!A1313>0, \"1\", \"0\")","v":"0"},0,"Big Cats","You Can Draw It!","Express!",null,"0"]
[{"$f":"IF('Order Form'!A1314>0, \"1\", \"0\")","v":"0"},0,"Birds of Prey","You Can Draw It!","Express!",null,"0"]
[{"$f":"IF('Order Form'!A1315>0, \"1\", \"0\")","v":"0"},0,"Dinosaurs","You Can Draw It!","Express!",null,"0"]
[{"$f":"IF('Order Form'!A1316>0, \"1\", \"0\")","v":"0"},0,"Dogs","You Can Draw It!","Express!",null,"0"]
[{"$f":"IF('Order Form'!A1317>0, \"1\", \"0\")","v":"0"},0,"Fairies","You Can Draw It!","Express!",null,"0"]
[{"$f":"IF('Order Form'!A1318>0, \"1\", \"0\")","v":"0"},0,"Horses","You Can Draw It!","Express!",null,"0"]
[{"$f":"IF('Order Form'!A1319>0, \"1\", \"0\")","v":"0"},0,"Manga","You Can Draw It!","Express!",null,"0"]
[{"$f":"IF('Order Form'!A1320>0, \"1\", \"0\")","v":"0"},0,"Monsters","You Can Draw It!","Express!",null,"0"]
[{"$f":"IF('Order Form'!A1321>0, \"1\", \"0\")","v":"0"},0,"Mythical Beasts","You Can Draw It!","Express!",null,"0"]
[{"$f":"IF('Order Form'!A1322>0, \"1\", \"0\")","v":"0"},0,"Robots","You Can Draw It!","Express!",null,"0"]
[{"$f":"IF('Order Form'!A1323>0, \"1\", \"0\")","v":"0"},0,"Sharks","You Can Draw It!","Express!",null,"0"]
[{"$f":"IF('Order Form'!A1324>0, \"1\", \"0\")","v":"0"},0,"Sports Cars","You Can Draw It!","Express!",null,"0"]
[{"$f":"IF('Order Form'!A1325>0, \"1\", \"0\")","v":"0"},0,"Crafting with Nature Set (6)","Crafting with Nature","Express!",null,"0"]
[{"$f":"IF('Order Form'!A1326>0, \"1\", \"0\")","v":"0"},0,"Flower Crafts","Crafting with Nature","Express!",null,"0"]
[{"$f":"IF('Order Form'!A1327>0, \"1\", \"0\")","v":"0"},0,"Leaf Crafts","Crafting with Nature","Express!",null,"0"]
[{"$f":"IF('Order Form'!A1328>0, \"1\", \"0\")","v":"0"},0,"Rock Crafts","Crafting with Nature","Express!",null,"0"]
[{"$f":"IF('Order Form'!A1329>0, \"1\", \"0\")","v":"0"},0,"Sand Crafts","Crafting with Nature","Express!",null,"0"]
[{"$f":"IF('Order Form'!A1330>0, \"1\", \"0\")","v":"0"},0,"Seed Crafts","Crafting with Nature","Express!",null,"0"]
[{"$f":"IF('Order Form'!A1331>0, \"1\", \"0\")","v":"0"},0,"Stick Crafts","Crafting with Nature","Express!",null,"0"]
[1]