{"text_format":"1","workbook":"xlsx","n_sheets":3,"sheets":["Instructions","Sheet1","Sheet2"],"not_rendered":{"charts":0,"images":1,"macros":1,"external_links":1,"defined_names":8,"comments":2,"pivot_tables":0},"unopened":[],"bounds":{"document_bytes":16777216,"sheet_cells":100000,"rows_first":2000,"rows_last":500,"rows_between":2000,"halvings":0,"cell_chars":16384,"cell_head_chars":4096},"cells_cut":0,"cells_raw":0,"read":"whole","date_system":"1900"}

{"sheet":"Instructions","index":0,"n_rows":16,"n_cols":1,"rows_kept":16,"cut":false,"hidden":false,"merged":[]}
["Simple instructions on how to use the excel OF:"]
["Notes"]
["~ Enter the ship to and bill to information for the customer that you're creating the list for "]
["~ Enter the qty of LB books/LB sets/ebooks/etc that your customer wants in the \"QTY\" column (column A)"]
["~ You'll notice that in the fields next to the bill to area, you'll find the \"Summary\" box - here is where you'll see (at a glance) a quick summary of the products ordered - these fields are dynamically updated as new qtys are added to the overall file"]
["~ Under the summary box, you'll find a manilla colored box where you can enter any notes, instructions, etc that you see fit"]
["~ When done entering your qtys, please go up to the top of the excel file and click the \"Order Summary\" button"]
["~ The file will automatically remove all NON-SELECTED titles and only list the titles with a QTY chosen (you can always go back and add more titles by clicking \"Clear Summary\" at the top above the Bill to, and it'll bring back all titles)"]
["~ Once completed, click the \"Finalize Order\" button above the Bill to box and wait about 5-10 seconds, and you'll see \"Sheet2\" will open up a printer-friendly version of the order will appear. This version is ready to be sent as a final order/proposal to customers/customer service"]
["~ Please make sure to adjust the print area for this form so that it only prints the pages you want printed"]
["~ You can click on the top row of the notes box on this page - click and hold - and then you can drag this box to the bottom of your title listing - thus enabling the notes to also print out"]
[]
["A few quick tips on this excel OF:"]
["~ The titles are listed here as they appear on the 2020 catalog"]
["~ Row 22 is the header row - you can use this row to sort or filter out specific types of data, to make this OF easier to navigate. For instance, if you want to ONLY DISPLAY the library bound books, go to cell G22, click on the box in the bottom right portion of the cell, and deselect \"Select All\" and then select \"Library Bound Book\" and close out of the menu - now your excel file will only display the print books. This function/capability is available for any column in Row 22."]
["~ If you find any issues or have any ideas on how we can make this more user friendly, please be sure to let us know"]

{"sheet":"Sheet1","index":1,"n_rows":5099,"n_cols":32,"rows_kept":2250,"cut":true,"hidden":false,"merged":[[13,9,13,17],[14,9,14,17],[15,9,15,17],[16,9,16,17],[6,8,6,17],[7,9,7,17],[8,9,8,17],[9,9,9,17],[10,9,10,17],[16,5,16,6],[17,5,17,6],[14,5,14,6],[15,5,15,6],[19,5,19,6],[17,9,17,17],[13,5,13,6],[10,5,10,6],[11,5,11,6],[8,5,8,6],[9,5,9,6],[14,21,14,25],[7,24,7,25],[8,24,8,25],[9,24,9,25],[7,22,7,23],[8,22,8,23],[14,26,14,27],[14,28,14,29],[10,26,10,27],[10,28,10,29],[11,26,11,27],[11,28,11,29],[12,26,12,27],[12,28,12,29],[6,21,6,29],[10,21,10,25],[11,21,11,25],[12,21,12,25],[6,4,6,6],[7,5,7,6],[12,5,12,6],[11,9,11,17],[12,9,12,17],[13,21,13,25],[7,26,7,27],[7,28,7,29],[13,26,13,27],[13,28,13,29],[8,26,8,27],[8,28,8,29],[9,26,9,27],[9,28,9,29],[9,22,9,23]],"bounds":{"rows_first":1000,"rows_last":250,"rows_between":1000,"halvings":1}}
[]
[]
[]
[]
[]
[]
[null,null,null,null,"Ship to",null,null,null,"Bill to",null,null,null,null,null,null,null,null,null,null,null,null,"Summary"]
[null,null,null,null,"School/Library:",null,null,null,"School/Library:",null,null,null,null,null,null,null,null,null,null,null,null,null,"Print",null,"Online Resource(s)",null," eBooks",null,"Interactive eBooks"]
[null,null,null,null,"Attention:",null,null,null,"Attention:",null,null,null,null,null,null,null,null,null,null,null,null,"# of Books",{"$f":"SUMPRODUCT(((Table1[Type]=\"Library Bound Book\")\n+(Table1[Type]=\"Library Set\")\n+(Table1[Type]=\"Fiction/Nonfiction Pair Set\")\n+(Table1[Type]=\"Fiction/Nonfiction Pair\")\n+(Table1[Type]=\"Single Copy Set\"))*(Table1[Subtotal QTY]))","v":0},null,{"$f":"SUMPRODUCT(((Table1[Type]=\"Online Resource\")+(Table1[Type]=\"Online Resource Set\"))*(Table1[Subtotal QTY]))","v":0},null,{"$f":"SUMPRODUCT((Table1[Type]=\"eBook\")*(Table1[Subtotal QTY]))","v":0},null,{"$f":"SUMPRODUCT(((Table1[Type]=\"Interactive eBook\")+(Table1[Type]=\"Interactive eBook Set\"))*(Table1[Subtotal QTY]))","v":0}]
[null,null,null,null,"Title:",null,null,null,"Title:",null,null,null,null,null,null,null,null,null,null,null,null,"Subtotal",{"$f":"SUMPRODUCT(((Table1[Type]=\"Library Bound Book\")\n+(Table1[Type]=\"Library Set\")\n+(Table1[Type]=\"Fiction/Nonfiction Pair Set\")\n+(Table1[Type]=\"Fiction/Nonfiction Pair\")\n+(Table1[Type]=\"Single Copy Set\"))*(Table1[Subtotal]))","v":0},null,{"$f":"SUMPRODUCT(((Table1[Type]=\"Online Resource\")+(Table1[Type]=\"Online Resource Set\"))*(Table1[Subtotal]))","v":0},null,{"$f":"SUMPRODUCT((Table1[Type]=\"eBook\")*(Table1[Subtotal]))","v":0},null,{"$f":"SUMPRODUCT(((Table1[Type]=\"Interactive eBook\")+(Table1[Type]=\"Interactive eBook Set\"))*(Table1[Subtotal]))","v":0}]
[null,null,null,null,"Street Address:",null,null,null,"Street Address:",null,null,null,null,null,null,null,null,null,null,null,null,null,null,null,null,null,"Book Subtotal",null,{"$f":"W10+Y10+AA10+AC10","v":0}]
[null,null,null,null,"City:",null,null,null,"City:",null,null,null,null,null,null,null,null,null,null,null,null,"$1.00/book (if applicable)",null,null,null,null,"Library Processing"]
[null,null,null,null,"State:",null,null,null,"State:",null,null,null,null,null,null,null,null,null,null,null,null,"9% S&H (FREE on all orders over $500)",null,null,null,null,"Shipping & Handling",null,{"$f":"IF(AC11<500,(AC11*0.09),(\"0.00\"))","v":0}]
[null,null,null,null,"Zip:",null,null,null,"Zip:",null,null,null,null,null,null,null,null,null,null,null,null,"(where applicable)",null,null,null,null,"Tax"]
[null,null,null,null,"Contact Name:",null,null,null,"Contact Name:",null,null,null,null,null,null,null,null,null,null,null,null,null,null,null,null,null,"GRAND TOTAL",null,{"$f":"AC11+AC12+AC13+AC14","v":0}]
[null,null,null,null,"Phone:",null,null,null,"Phone:"]
[null,null,null,null,"Fax:",null,null,null,"Fax:",null,null,null,null,null,null,null,null,null,null,null,null,null,"Notes"]
[null,null,null,null,"email:",null,null,null,"email:"]
[null,null,"**TITLES HIGHLIGHTED YELLOW ARE COMING 2021**"]
[null,null,null,null,"PO# (if needed)",null,null,null,"Rep Name","mikewhite@booklookindiana.com"]
[]
["QTY","Fall 2020 Page #","Full 2020 Page #","Series","# Books","Title","Type","IEB HTML5/Flash","ISBN","Weblink","© Date","Season","Binding","Trim Size","Contributor type(s)","Contributor(s)","ATOS","Points","DRA","EIL","GRL","Lexile","Reading Level","Interest Level","Description","Language","List Price","S&L Price","Dewey One","Page Count","Subtotal QTY","Subtotal"]
[null,5,null,"Time to Compare!",6,"Time to Compare! Coming 2021","Library Set",null,"978-1-5382-5970-2",null,2021,"January 2021","Library","7.000 X 7.000","","",null,null,null,null,null,null,"Grade K","Grade Pre-K - 1","Learning to observe, compare, and evaluate are essential skills in the classroom and in life. This valuable and accessible set focuses on important categories of comparison, including weight, height, quantity, and volume, allowing early readers to expand their understanding of basic math and science concepts. They'll be engaged by the brightly written narratives and colorful photographs of familiar and fun objects like toys and animals. Features include: Simple, at-level texts for beginning readers. Supportive photographs aid in vocabulary acquisition. Covered topics appear in state and national math curricula.","English",135.6,101.7,null,"24 pp.",{"$f":"Table1[[#This Row],[QTY]]*Table1[[#This Row],['# Books]]","v":0},{"$f":"Table1[[#This Row],[QTY]]*Table1[[#This Row],[S&L Price]]","v":0}]
[null,5,null,"Time to Compare!",1,"Which Has More? Coming 2021","Library Bound Book",null,"978-1-5382-5508-7",null,2021,"January 2021","Library","7.000 X 7.000","Author","Jagger Youssef",null,null,null,null,"B",null,"Grade K","Grade Pre-K - 1","Counting is a fundamental math skill. Being able to compare amounts takes this skill to the next level. This beneficial book guides readers in acquiring aptitude in comparison of quantities using at-level text and bright photographs of recognizable objects. A final assessment activity allows budding mathematicians to show off their math prowess.","English",22.6,16.95,"530.8--dc23","24 pp.",{"$f":"Table1[[#This Row],[QTY]]*Table1[[#This Row],['# Books]]","v":0},{"$f":"Table1[[#This Row],[QTY]]*Table1[[#This Row],[S&L Price]]","v":0}]
[null,5,null,"Time to Compare!",1,"Which Has More? Coming 2021","eBook",null,"978-1-5382-5509-4",null,2021,"January 2021",null,null,"Author","Jagger Youssef",null,null,null,null,"B",null,"Grade K","Grade Pre-K - 1","Counting is a fundamental math skill. Being able to compare amounts takes this skill to the next level. This beneficial book guides readers in acquiring aptitude in comparison of quantities using at-level text and bright photographs of recognizable objects. A final assessment activity allows budding mathematicians to show off their math prowess.","English",22.6,16.95,"530.8--dc23","24 pp.",{"$f":"Table1[[#This Row],[QTY]]*Table1[[#This Row],['# Books]]","v":0},{"$f":"Table1[[#This Row],[QTY]]*Table1[[#This Row],[S&L Price]]","v":0}]
[null,5,null,"Time to Compare!",1,"Which Holds More? Coming 2021","Library Bound Book",null,"978-1-5382-5520-9",null,2021,"January 2021","Library","7.000 X 7.000","Author","Jagger Youssef",null,null,null,null,"B",null,"Grade K","Grade Pre-K - 1","Volume might seem like a tricky concept, but it's just another measurement of size. In the bright pages of this valuable book, budding scientists and mathematicians will observe differing volumes of liquids in familiar containers. They'll learn how to conclude which container holds more, which is a stepping stone to more advanced concepts. Readers will exercise their volume-determining skills by answering a closing question.","English",22.6,16.95,"530.8--dc23","24 pp.",{"$f":"Table1[[#This Row],[QTY]]*Table1[[#This Row],['# Books]]","v":0},{"$f":"Table1[[#This Row],[QTY]]*Table1[[#This Row],[S&L Price]]","v":0}]
[null,5,null,"Time to Compare!",1,"Which Holds More? Coming 2021","eBook",null,"978-1-5382-5521-6",null,2021,"January 2021",null,null,"Author","Jagger Youssef",null,null,null,null,"B",null,"Grade K","Grade Pre-K - 1","Volume might seem like a tricky concept, but it's just another measurement of size. In the bright pages of this valuable book, budding scientists and mathematicians will observe differing volumes of liquids in familiar containers. They'll learn how to conclude which container holds more, which is a stepping stone to more advanced concepts. Readers will exercise their volume-determining skills by answering a closing question.","English",22.6,16.95,"530.8--dc23","24 pp.",{"$f":"Table1[[#This Row],[QTY]]*Table1[[#This Row],['# Books]]","v":0},{"$f":"Table1[[#This Row],[QTY]]*Table1[[#This Row],[S&L Price]]","v":0}]
[null,5,null,"Time to Compare!",1,"Which Is Different? Coming 2021","Library Bound Book",null,"978-1-5382-5512-4",null,2021,"January 2021","Library","7.000 X 7.000","Author","Jagger Youssef",null,null,null,null,"B",null,"Grade K","Grade Pre-K - 1","Puzzle lovers enjoy spotting similarities and differences among groups of objects. This engaging book will seem like a game to riveted readers, as they learn to spot items that belong in certain categories and those that don't. They'll examine colors, shapes, and other attributes of high-interest objects. At-level text encourages readers to add new vocabulary words to their collection, while colorful photographs further enhance this reading experience.","English",22.6,16.95,"153.7--dc23","24 pp.",{"$f":"Table1[[#This Row],[QTY]]*Table1[[#This Row],['# Books]]","v":0},{"$f":"Table1[[#This Row],[QTY]]*Table1[[#This Row],[S&L Price]]","v":0}]
[null,5,null,"Time to Compare!",1,"Which Is Different? Coming 2021","eBook",null,"978-1-5382-5513-1",null,2021,"January 2021",null,null,"Author","Jagger Youssef",null,null,null,null,"B",null,"Grade K","Grade Pre-K - 1","Puzzle lovers enjoy spotting similarities and differences among groups of objects. This engaging book will seem like a game to riveted readers, as they learn to spot items that belong in certain categories and those that don't. They'll examine colors, shapes, and other attributes of high-interest objects. At-level text encourages readers to add new vocabulary words to their collection, while colorful photographs further enhance this reading experience.","English",22.6,16.95,"153.7--dc23","24 pp.",{"$f":"Table1[[#This Row],[QTY]]*Table1[[#This Row],['# Books]]","v":0},{"$f":"Table1[[#This Row],[QTY]]*Table1[[#This Row],[S&L Price]]","v":0}]
[null,5,null,"Time to Compare!",1,"Which Is Heavier? Coming 2021","Library Bound Book",null,"978-1-5382-5496-7",null,2021,"January 2021","Library","7.000 X 7.000","Author","Jagger Youssef",null,null,null,null,"B",null,"Grade K","Grade Pre-K - 1","Understanding properties of matter is key for future scientists. With this bright and beneficial book, readers are invited to use their sense of sight to compare the weight of objects. A concluding question allows them to determine which object is heavier and display their understanding of this valuable concept.","English",22.6,16.95,"530.8--dc23","24 pp.",{"$f":"Table1[[#This Row],[QTY]]*Table1[[#This Row],['# Books]]","v":0},{"$f":"Table1[[#This Row],[QTY]]*Table1[[#This Row],[S&L Price]]","v":0}]
[null,5,null,"Time to Compare!",1,"Which Is Heavier? Coming 2021","eBook",null,"978-1-5382-5497-4",null,2021,"January 2021",null,null,"Author","Jagger Youssef",null,null,null,null,"B",null,"Grade K","Grade Pre-K - 1","Understanding properties of matter is key for future scientists. With this bright and beneficial book, readers are invited to use their sense of sight to compare the weight of objects. A concluding question allows them to determine which object is heavier and display their understanding of this valuable concept.","English",22.6,16.95,"530.8--dc23","24 pp.",{"$f":"Table1[[#This Row],[QTY]]*Table1[[#This Row],['# Books]]","v":0},{"$f":"Table1[[#This Row],[QTY]]*Table1[[#This Row],[S&L Price]]","v":0}]
[null,5,null,"Time to Compare!",1,"Which Is Longer? Coming 2021","Library Bound Book",null,"978-1-5382-5516-2",null,2021,"January 2021","Library","7.000 X 7.000","Author","Jagger Youssef",null,null,null,null,"B",null,"Grade K","Grade Pre-K - 1","Understanding measurable attributes such as length is an imperative skill for future mathematicians. This skill is also handy in daily life. This valuable volume provides practical examples to readers, asking them to compare the lengths of familiar objects on the colorful pages. Accessible text encourages vocabulary acquisition and allows beginning readers to build confidence in their emerging literacy.","English",22.6,16.95,"530.8--dc23","24 pp.",{"$f":"Table1[[#This Row],[QTY]]*Table1[[#This Row],['# Books]]","v":0},{"$f":"Table1[[#This Row],[QTY]]*Table1[[#This Row],[S&L Price]]","v":0}]
[null,5,null,"Time to Compare!",1,"Which Is Longer? Coming 2021","eBook",null,"978-1-5382-5517-9",null,2021,"January 2021",null,null,"Author","Jagger Youssef",null,null,null,null,"B",null,"Grade K","Grade Pre-K - 1","Understanding measurable attributes such as length is an imperative skill for future mathematicians. This skill is also handy in daily life. This valuable volume provides practical examples to readers, asking them to compare the lengths of familiar objects on the colorful pages. Accessible text encourages vocabulary acquisition and allows beginning readers to build confidence in their emerging literacy.","English",22.6,16.95,"530.8--dc23","24 pp.",{"$f":"Table1[[#This Row],[QTY]]*Table1[[#This Row],['# Books]]","v":0},{"$f":"Table1[[#This Row],[QTY]]*Table1[[#This Row],[S&L Price]]","v":0}]
[null,5,null,"Time to Compare!",1,"Which Is Taller? Coming 2021","Library Bound Book",null,"978-1-5382-5500-1",null,2021,"January 2021","Library","7.000 X 7.000","Author","Jagger Youssef",null,null,null,null,"B",null,"Grade K","Grade Pre-K - 1","Comparing heights of objects is a standard of elementary math classrooms, so conquering this essential skill puts young mathematicians ahead of the game! Beginning readers will be delighted by this colorful book, which guides them in comparing objects and determining which is taller.","English",22.6,16.95,"530.8--dc23","24 pp.",{"$f":"Table1[[#This Row],[QTY]]*Table1[[#This Row],['# Books]]","v":0},{"$f":"Table1[[#This Row],[QTY]]*Table1[[#This Row],[S&L Price]]","v":0}]
[null,5,null,"Time to Compare!",1,"Which Is Taller? Coming 2021","eBook",null,"978-1-5382-5501-8",null,2021,"January 2021",null,null,"Author","Jagger Youssef",null,null,null,null,"B",null,"Grade K","Grade Pre-K - 1","Comparing heights of objects is a standard of elementary math classrooms, so conquering this essential skill puts young mathematicians ahead of the game! Beginning readers will be delighted by this colorful book, which guides them in comparing objects and determining which is taller.","English",22.6,16.95,"530.8--dc23","24 pp.",{"$f":"Table1[[#This Row],[QTY]]*Table1[[#This Row],['# Books]]","v":0},{"$f":"Table1[[#This Row],[QTY]]*Table1[[#This Row],[S&L Price]]","v":0}]
[null,6,null,"Let's Learn Textures!",6,"Let's Learn Textures!","Library Set",null,"978-1-5382-4526-2",{"$f":"HYPERLINK(\"https://www.garethstevens.com/\"&Table1[[#This Row],[ISBN]],\"Weblink\")","v":"Weblink"},2020,"January 2020","Library","7.000 X 7.000","","",null,null,null,null,null,null,"Grade K","Grade Pre-K - 1","The youngest learners can be the most observant scientists. This beneficial set guides budding scientists in learning how to observe and describe the texture of familiar objects. They'll understand how to distinguish between bumpy and smooth, soft and hard, and wet and dry. These essential concepts are presented with simple text especially crafted for the beginning reader. Colorful photographs support the achievable text and further engage readers. Features include: Provides many opportunities to practice foundational reading skills of the English Language Arts Common Core. Discerning and defining textures is a key concept in lower elementary classrooms. The bright photographs are carefully chosen to appeal to young readers.","English",135.6,101.7,null,"24 pp.",{"$f":"Table1[[#This Row],[QTY]]*Table1[[#This Row],['# Books]]","v":0},{"$f":"Table1[[#This Row],[QTY]]*Table1[[#This Row],[S&L Price]]","v":0}]
[null,6,null,"Let's Learn Textures!",1,"What Is Bumpy?","Library Bound Book",null,"978-1-5382-4431-9",{"$f":"HYPERLINK(\"https://www.garethstevens.com/\"&Table1[[#This Row],[ISBN]],\"Weblink\")","v":"Weblink"},2020,"January 2020","Library","7.000 X 7.000","Author","Emmett Martin",null,null,null,null,"B",null,"Grade K","Grade Pre-K - 1","Many objects could be described as bumpy: roads, footballs, and even a toad's skin. Learning to describe objects and discern how they're different from or like other objects is an important part of the early elementary curriculum. This carefully written, at-level narrative demonstrates the use of the adjective bumpy, aided by colorful pictures to aid readers' comprehension of each accessible sentence.","English",22.6,16.95,"620.1/1292--dc23","24 pp.",{"$f":"Table1[[#This Row],[QTY]]*Table1[[#This Row],['# Books]]","v":0},{"$f":"Table1[[#This Row],[QTY]]*Table1[[#This Row],[S&L Price]]","v":0}]
[null,6,null,"Let's Learn Textures!",1,"What Is Bumpy?","eBook",null,"978-1-5382-4432-6",{"$f":"HYPERLINK(\"https://www.garethstevens.com/\"&Table1[[#This Row],[ISBN]],\"Weblink\")","v":"Weblink"},2020,"January 2020",null,null,"Author","Emmett Martin",null,null,null,null,"B",null,"Grade K","Grade Pre-K - 1","Many objects could be described as bumpy: roads, footballs, and even a toad's skin. Learning to describe objects and discern how they're different from or like other objects is an important part of the early elementary curriculum. This carefully written, at-level narrative demonstrates the use of the adjective bumpy, aided by colorful pictures to aid readers' comprehension of each accessible sentence.","English",22.6,16.95,"620.1/1292--dc23","24 pp.",{"$f":"Table1[[#This Row],[QTY]]*Table1[[#This Row],['# Books]]","v":0},{"$f":"Table1[[#This Row],[QTY]]*Table1[[#This Row],[S&L Price]]","v":0}]
[null,6,null,"Let's Learn Textures!",1,"What Is Dry?","Library Bound Book",null,"978-1-5382-4435-7",{"$f":"HYPERLINK(\"https://www.garethstevens.com/\"&Table1[[#This Row],[ISBN]],\"Weblink\")","v":"Weblink"},2020,"January 2020","Library","7.000 X 7.000","Author","Emmett Martin",null,null,null,null,"B",null,"Grade K","Grade Pre-K - 1","Anyone who has ever gotten drenched in a rainstorm knows what it is to be dry, but learning to identify objects as dry can be tricky for the youngest learners. This beneficial book teaches readers how to classify familiar objects as wet or dry with short, achievable sentences carefully constructed for vocabulary acquisition. The accessible narrative is accompanied by bright, interesting photographs of the objects.","English",22.6,16.95,"620.1/129--dc23","24 pp.",{"$f":"Table1[[#This Row],[QTY]]*Table1[[#This Row],['# Books]]","v":0},{"$f":"Table1[[#This Row],[QTY]]*Table1[[#This Row],[S&L Price]]","v":0}]
[null,6,null,"Let's Learn Textures!",1,"What Is Dry?","eBook",null,"978-1-5382-4436-4",{"$f":"HYPERLINK(\"https://www.garethstevens.com/\"&Table1[[#This Row],[ISBN]],\"Weblink\")","v":"Weblink"},2020,"January 2020",null,null,"Author","Emmett Martin",null,null,null,null,"B",null,"Grade K","Grade Pre-K - 1","Anyone who has ever gotten drenched in a rainstorm knows what it is to be dry, but learning to identify objects as dry can be tricky for the youngest learners. This beneficial book teaches readers how to classify familiar objects as wet or dry with short, achievable sentences carefully constructed for vocabulary acquisition. The accessible narrative is accompanied by bright, interesting photographs of the objects.","English",22.6,16.95,"620.1/129--dc23","24 pp.",{"$f":"Table1[[#This Row],[QTY]]*Table1[[#This Row],['# Books]]","v":0},{"$f":"Table1[[#This Row],[QTY]]*Table1[[#This Row],[S&L Price]]","v":0}]
[null,6,null,"Let's Learn Textures!",1,"What Is Hard?","Library Bound Book",null,"978-1-5382-4439-5",{"$f":"HYPERLINK(\"https://www.garethstevens.com/\"&Table1[[#This Row],[ISBN]],\"Weblink\")","v":"Weblink"},2020,"January 2020","Library","7.000 X 7.000","Author","Emmett Martin",null,null,null,null,"B",null,"Grade K","Grade Pre-K - 1","It's easier to name hard things, like rocks, than understand what this characteristic really means. This book encourages young scientists to observe the world around them and discern the features of various familiar things. They'll come to learn that anything that can't be easily bent can be described as hard. The achievable text and colorful photographs support readers in acquiring new vocabulary and a new appreciation for their powers of observation.","English",22.6,16.95,"620.1/126--dc23","24 pp.",{"$f":"Table1[[#This Row],[QTY]]*Table1[[#This Row],['# Books]]","v":0},{"$f":"Table1[[#This Row],[QTY]]*Table1[[#This Row],[S&L Price]]","v":0}]
[null,6,null,"Let's Learn Textures!",1,"What Is Hard?","eBook",null,"978-1-5382-4440-1",{"$f":"HYPERLINK(\"https://www.garethstevens.com/\"&Table1[[#This Row],[ISBN]],\"Weblink\")","v":"Weblink"},2020,"January 2020",null,null,"Author","Emmett Martin",null,null,null,null,"B",null,"Grade K","Grade Pre-K - 1","It's easier to name hard things, like rocks, than understand what this characteristic really means. This book encourages young scientists to observe the world around them and discern the features of various familiar things. They'll come to learn that anything that can't be easily bent can be described as hard. The achievable text and colorful photographs support readers in acquiring new vocabulary and a new appreciation for their powers of observation.","English",22.6,16.95,"620.1/126--dc23","24 pp.",{"$f":"Table1[[#This Row],[QTY]]*Table1[[#This Row],['# Books]]","v":0},{"$f":"Table1[[#This Row],[QTY]]*Table1[[#This Row],[S&L Price]]","v":0}]
[null,6,null,"Let's Learn Textures!",1,"What Is Smooth?","Library Bound Book",null,"978-1-5382-4443-2",{"$f":"HYPERLINK(\"https://www.garethstevens.com/\"&Table1[[#This Row],[ISBN]],\"Weblink\")","v":"Weblink"},2020,"January 2020","Library","7.000 X 7.000","Author","Emmett Martin",null,null,null,null,"B",null,"Grade K","Grade Pre-K - 1","Understanding textures is a preliminary step in becoming an attentive observer of nature and the world around us. Comprehending textures, including smooth, is a standard of early elementary curricula. This attractive book explores the quality of smooth through achievable sentences and fun photographs of familiar objects perfectly matched to the text. Readers will be motivated to add \"smooth\" to their growing list of adjectives.","English",22.6,16.95,"620.1/1292--dc23","24 pp.",{"$f":"Table1[[#This Row],[QTY]]*Table1[[#This Row],['# Books]]","v":0},{"$f":"Table1[[#This Row],[QTY]]*Table1[[#This Row],[S&L Price]]","v":0}]
[null,6,null,"Let's Learn Textures!",1,"What Is Smooth?","eBook",null,"978-1-5382-4444-9",{"$f":"HYPERLINK(\"https://www.garethstevens.com/\"&Table1[[#This Row],[ISBN]],\"Weblink\")","v":"Weblink"},2020,"January 2020",null,null,"Author","Emmett Martin",null,null,null,null,"B",null,"Grade K","Grade Pre-K - 1","Understanding textures is a preliminary step in becoming an attentive observer of nature and the world around us. Comprehending textures, including smooth, is a standard of early elementary curricula. This attractive book explores the quality of smooth through achievable sentences and fun photographs of familiar objects perfectly matched to the text. Readers will be motivated to add \"smooth\" to their growing list of adjectives.","English",22.6,16.95,"620.1/1292--dc23","24 pp.",{"$f":"Table1[[#This Row],[QTY]]*Table1[[#This Row],['# Books]]","v":0},{"$f":"Table1[[#This Row],[QTY]]*Table1[[#This Row],[S&L Price]]","v":0}]
[null,6,null,"Let's Learn Textures!",1,"What Is Soft?","Library Bound Book",null,"978-1-5382-4447-0",{"$f":"HYPERLINK(\"https://www.garethstevens.com/\"&Table1[[#This Row],[ISBN]],\"Weblink\")","v":"Weblink"},2020,"January 2020","Library","7.000 X 7.000","Author","Emmett Martin",null,null,null,null,"B",null,"Grade K","Grade Pre-K - 1","When people think of soft things, they immediately conjure up images of furry bunnies and similarly textured animals and objects. This inviting book helps young readers to do the same, as learning about textures is an important tenet of the early elementary curriculum. Carefully selected photographs of soft objects make the concept of texture clear to the reader as well as aid in vocabulary acquisition.","English",22.6,16.95,"620.1/123--dc23","24 pp.",{"$f":"Table1[[#This Row],[QTY]]*Table1[[#This Row],['# Books]]","v":0},{"$f":"Table1[[#This Row],[QTY]]*Table1[[#This Row],[S&L Price]]","v":0}]
[null,6,null,"Let's Learn Textures!",1,"What Is Soft?","eBook",null,"978-1-5382-4448-7",{"$f":"HYPERLINK(\"https://www.garethstevens.com/\"&Table1[[#This Row],[ISBN]],\"Weblink\")","v":"Weblink"},2020,"January 2020",null,null,"Author","Emmett Martin",null,null,null,null,"B",null,"Grade K","Grade Pre-K - 1","When people think of soft things, they immediately conjure up images of furry bunnies and similarly textured animals and objects. This inviting book helps young readers to do the same, as learning about textures is an important tenet of the early elementary curriculum. Carefully selected photographs of soft objects make the concept of texture clear to the reader as well as aid in vocabulary acquisition.","English",22.6,16.95,"620.1/123--dc23","24 pp.",{"$f":"Table1[[#This Row],[QTY]]*Table1[[#This Row],['# Books]]","v":0},{"$f":"Table1[[#This Row],[QTY]]*Table1[[#This Row],[S&L Price]]","v":0}]
[null,6,null,"Let's Learn Textures!",1,"What Is Wet?","Library Bound Book",null,"978-1-5382-4451-7",{"$f":"HYPERLINK(\"https://www.garethstevens.com/\"&Table1[[#This Row],[ISBN]],\"Weblink\")","v":"Weblink"},2020,"January 2020","Library","7.000 X 7.000","Author","Emmett Martin",null,null,null,null,"B",null,"Grade K","Grade Pre-K - 1","Few kids can resist jumping into a big puddle. Getting wet can be fun. Learning to describe objects as wet can be fun, too, as evidenced in the bright, entertaining photographs and simple, engaging text in this motivating book. Readers will love to identify the objects within these pages, selected to appeal to them, and use the objects to comprehend new vocabulary words in corresponding sentences.","English",22.6,16.95,"620.1/1292--dc23","24 pp.",{"$f":"Table1[[#This Row],[QTY]]*Table1[[#This Row],['# Books]]","v":0},{"$f":"Table1[[#This Row],[QTY]]*Table1[[#This Row],[S&L Price]]","v":0}]
[null,6,null,"Let's Learn Textures!",1,"What Is Wet?","eBook",null,"978-1-5382-4452-4",{"$f":"HYPERLINK(\"https://www.garethstevens.com/\"&Table1[[#This Row],[ISBN]],\"Weblink\")","v":"Weblink"},2020,"January 2020",null,null,"Author","Emmett Martin",null,null,null,null,"B",null,"Grade K","Grade Pre-K - 1","Few kids can resist jumping into a big puddle. Getting wet can be fun. Learning to describe objects as wet can be fun, too, as evidenced in the bright, entertaining photographs and simple, engaging text in this motivating book. Readers will love to identify the objects within these pages, selected to appeal to them, and use the objects to comprehend new vocabulary words in corresponding sentences.","English",22.6,16.95,"620.1/1292--dc23","24 pp.",{"$f":"Table1[[#This Row],[QTY]]*Table1[[#This Row],['# Books]]","v":0},{"$f":"Table1[[#This Row],[QTY]]*Table1[[#This Row],[S&L Price]]","v":0}]
[null,7,null,"Animals from Head to Tail",12,"Animals from Head to Tail (Set of 12 Titles)","Library Set",null,"978-1-5382-5971-9",{"$f":"HYPERLINK(\"https://www.garethstevens.com/\"&Table1[[#This Row],[ISBN]],\"Weblink\")","v":"Weblink"},2021,"August 2020","Library","7.625 X 7.125","","",null,null,null,null,null,null,"Grade K - 2","Grade Pre-K - 2","So many young people would love to work in a zoo or become a veterinarian. This delightful set is the first step on that educational journey. Young readers will love this entertaining spotlight on animal adaptations and behaviors, which is a particularly essential concept of the early elementary science classroom. Low-ATOS narratives and vivid photographs explain and demonstrate the body parts that make a variety of animals truly unique, from an alligator's tail to a horse's mane. Features include: Valuable concepts are supported by helpful and appealing images. High-interest animal subjects will engage readers. Introduces and reinforces an understanding of a variety of science vocabulary terms.","English",271.2,203.4,null,"24 pp.",{"$f":"Table1[[#This Row],[QTY]]*Table1[[#This Row],['# Books]]","v":0},{"$f":"Table1[[#This Row],[QTY]]*Table1[[#This Row],[S&L Price]]","v":0}]
[null,7,null,"Animals from Head to Tail",6,"Animals from Head to Tail (Set of 6 NEW Titles)","Library Set",null,"978-1-5382-5626-8",{"$f":"HYPERLINK(\"https://www.garethstevens.com/\"&Table1[[#This Row],[ISBN]],\"Weblink\")","v":"Weblink"},2021,"August 2020","Library","7.625 X 7.125","","",null,null,null,null,null,null,"Grade K - 2","Grade Pre-K - 2","Animals' unique adaptations are often the features that draw animal lovers to them. A pig's curly tail, a bunny's soft fur, and a penguin's silly waddle are some memorable characteristics of these awesome animals. These and other creatures' body parts and behaviors are highlighted in this beautiful set. Budding zoologists will find beneficial information in the low-ATOS narratives while marveling at vibrant photographs of enchanting animals. Features include: Animal subjects including rabbits, horses, and penguins appeal to readers of all levels. Covers important curricular science topics including identification and understanding of animal adaptations. Comprehensible book features offer opportunities to practice foundational reading skills of national and state language arts standards.","English",135.6,101.7,null,"24 pp.",{"$f":"Table1[[#This Row],[QTY]]*Table1[[#This Row],['# Books]]","v":0},{"$f":"Table1[[#This Row],[QTY]]*Table1[[#This Row],[S&L Price]]","v":0}]
[null,7,null,"Animals from Head to Tail",1,"Alligators from Head to Tail","Library Bound Book",null,"978-1-5382-5524-7",{"$f":"HYPERLINK(\"https://www.garethstevens.com/\"&Table1[[#This Row],[ISBN]],\"Weblink\")","v":"Weblink"},2021,"August 2020","Library","7.625 X 7.125","Author","Emmett Martin",null,null,null,null,"C",null,"Grade K - 2","Grade Pre-K - 2","Imagine if we could take home our favorite zoo animals. That would be truly wild if that animal were an alligator! While it's best to leave alligators just where they are, this entertaining volume details interesting facts about these amazing creatures, including information about their adaptations and habitats. Beautiful action photographs accompany and support the enlightening and engaging low-ATOS text.","English",22.6,16.95,"597.98/4--dc23","24 pp.",{"$f":"Table1[[#This Row],[QTY]]*Table1[[#This Row],['# Books]]","v":0},{"$f":"Table1[[#This Row],[QTY]]*Table1[[#This Row],[S&L Price]]","v":0}]
[null,7,null,"Animals from Head to Tail",1,"Alligators from Head to Tail","eBook",null,"978-1-5382-5525-4",{"$f":"HYPERLINK(\"https://www.garethstevens.com/\"&Table1[[#This Row],[ISBN]],\"Weblink\")","v":"Weblink"},2021,"August 2020",null,null,"Author","Emmett Martin",null,null,null,null,"C",null,"Grade K - 2","Grade Pre-K - 2","Imagine if we could take home our favorite zoo animals. That would be truly wild if that animal were an alligator! While it's best to leave alligators just where they are, this entertaining volume details interesting facts about these amazing creatures, including information about their adaptations and habitats. Beautiful action photographs accompany and support the enlightening and engaging low-ATOS text.","English",22.6,16.95,"597.98/4--dc23","24 pp.",{"$f":"Table1[[#This Row],[QTY]]*Table1[[#This Row],['# Books]]","v":0},{"$f":"Table1[[#This Row],[QTY]]*Table1[[#This Row],[S&L Price]]","v":0}]
[null,7,null,"Animals from Head to Tail",1,"Bunnies from Head to Tail","Library Bound Book",null,"978-1-5382-5532-2",{"$f":"HYPERLINK(\"https://www.garethstevens.com/\"&Table1[[#This Row],[ISBN]],\"Weblink\")","v":"Weblink"},2021,"August 2020","Library","7.625 X 7.125","Author","Emmett Martin",null,null,null,null,"C",null,"Grade K - 2","Grade Pre-K - 2","Few can resist petting a rabbit's fur because few creatures in nature are as soft and loveable as this little nose-twitching cutie. As delighted readers will find out, there are many things about rabbits that make them unique in the animal world. Low-ATOS text and colorful photographs reveal awesome adaptations and interesting behaviors.","English",22.6,16.95,"599.32--dc23","24 pp.",{"$f":"Table1[[#This Row],[QTY]]*Table1[[#This Row],['# Books]]","v":0},{"$f":"Table1[[#This Row],[QTY]]*Table1[[#This Row],[S&L Price]]","v":0}]
[null,7,null,"Animals from Head to Tail",1,"Bunnies from Head to Tail","eBook",null,"978-1-5382-5533-9",{"$f":"HYPERLINK(\"https://www.garethstevens.com/\"&Table1[[#This Row],[ISBN]],\"Weblink\")","v":"Weblink"},2021,"August 2020",null,null,"Author","Emmett Martin",null,null,null,null,"C",null,"Grade K - 2","Grade Pre-K - 2","Few can resist petting a rabbit's fur because few creatures in nature are as soft and loveable as this little nose-twitching cutie. As delighted readers will find out, there are many things about rabbits that make them unique in the animal world. Low-ATOS text and colorful photographs reveal awesome adaptations and interesting behaviors.","English",22.6,16.95,"599.32--dc23","24 pp.",{"$f":"Table1[[#This Row],[QTY]]*Table1[[#This Row],['# Books]]","v":0},{"$f":"Table1[[#This Row],[QTY]]*Table1[[#This Row],[S&L Price]]","v":0}]
[null,7,null,"Animals from Head to Tail",1,"Cows from Head to Tail","Library Bound Book",null,"978-1-5382-5544-5",{"$f":"HYPERLINK(\"https://www.garethstevens.com/\"&Table1[[#This Row],[ISBN]],\"Weblink\")","v":"Weblink"},2021,"August 2020","Library","7.625 X 7.125","Author","Emmett Martin",null,null,null,null,"C",null,"Grade K - 2","Grade Pre-K - 2","Cows are so common that we rarely stop to think of how fascinating these animals are. After all, we wouldn't have milk, cheese, or butter without them. Through carefully crafted low-ATOS text and vivid photographs, beginning readers will discover much about these awesome creatures' adaptations and their importance to people around the world.","English",22.6,16.95,"636.2--dc23","24 pp.",{"$f":"Table1[[#This Row],[QTY]]*Table1[[#This Row],['# Books]]","v":0},{"$f":"Table1[[#This Row],[QTY]]*Table1[[#This Row],[S&L Price]]","v":0}]
[null,7,null,"Animals from Head to Tail",1,"Cows from Head to Tail","eBook",null,"978-1-5382-5545-2",{"$f":"HYPERLINK(\"https://www.garethstevens.com/\"&Table1[[#This Row],[ISBN]],\"Weblink\")","v":"Weblink"},2021,"August 2020",null,null,"Author","Emmett Martin",null,null,null,null,"C",null,"Grade K - 2","Grade Pre-K - 2","Cows are so common that we rarely stop to think of how fascinating these animals are. After all, we wouldn't have milk, cheese, or butter without them. Through carefully crafted low-ATOS text and vivid photographs, beginning readers will discover much about these awesome creatures' adaptations and their importance to people around the world.","English",22.6,16.95,"636.2--dc23","24 pp.",{"$f":"Table1[[#This Row],[QTY]]*Table1[[#This Row],['# Books]]","v":0},{"$f":"Table1[[#This Row],[QTY]]*Table1[[#This Row],[S&L Price]]","v":0}]
[null,7,null,"Animals from Head to Tail",1,"Horses from Head to Tail","Library Bound Book",null,"978-1-5382-5536-0",{"$f":"HYPERLINK(\"https://www.garethstevens.com/\"&Table1[[#This Row],[ISBN]],\"Weblink\")","v":"Weblink"},2021,"August 2020","Library","7.625 X 7.125","Author","Emmett Martin",null,null,null,null,"C",null,"Grade K - 2","Grade Pre-K - 2","People have long valued horses to ride, to pull things, and to enjoy as companions. Through carefully crafted, low-ATOS text, horse enthusiasts will love reading about horses' adaptations and behaviors as well as acquiring new vocabulary. They'll especially enjoy the up-close photographs of different beautiful breeds in action.","English",22.6,16.95,"636.1--dc23","24 pp.",{"$f":"Table1[[#This Row],[QTY]]*Table1[[#This Row],['# Books]]","v":0},{"$f":"Table1[[#This Row],[QTY]]*Table1[[#This Row],[S&L Price]]","v":0}]
[null,7,null,"Animals from Head to Tail",1,"Horses from Head to Tail","eBook",null,"978-1-5382-5537-7",{"$f":"HYPERLINK(\"https://www.garethstevens.com/\"&Table1[[#This Row],[ISBN]],\"Weblink\")","v":"Weblink"},2021,"August 2020",null,null,"Author","Emmett Martin",null,null,null,null,"C",null,"Grade K - 2","Grade Pre-K - 2","People have long valued horses to ride, to pull things, and to enjoy as companions. Through carefully crafted, low-ATOS text, horse enthusiasts will love reading about horses' adaptations and behaviors as well as acquiring new vocabulary. They'll especially enjoy the up-close photographs of different beautiful breeds in action.","English",22.6,16.95,"636.1--dc23","24 pp.",{"$f":"Table1[[#This Row],[QTY]]*Table1[[#This Row],['# Books]]","v":0},{"$f":"Table1[[#This Row],[QTY]]*Table1[[#This Row],[S&L Price]]","v":0}]
[null,7,null,"Animals from Head to Tail",1,"Penguins from Head to Tail","Library Bound Book",null,"978-1-5382-5528-5",{"$f":"HYPERLINK(\"https://www.garethstevens.com/\"&Table1[[#This Row],[ISBN]],\"Weblink\")","v":"Weblink"},2021,"August 2020","Library","7.625 X 7.125","Author","Emmett Martin",null,null,null,null,"C",null,"Grade K - 2","Grade Pre-K - 2","Who doesn't wish they could waddle up to an adorable penguin and give it a cuddle? This endearing book gives readers the up-close experience they want! Through understandable, low-ATOS text, they'll learn how penguins' special body parts help them survive in the wild, even in the coldest conditions. Though penguin lovers can't adopt these flightless birds as their own, they'll love studying the lively photographs of the charming creatures in action.","English",22.6,16.95,"598.47--dc23","24 pp.",{"$f":"Table1[[#This Row],[QTY]]*Table1[[#This Row],['# Books]]","v":0},{"$f":"Table1[[#This Row],[QTY]]*Table1[[#This Row],[S&L Price]]","v":0}]
[null,7,null,"Animals from Head to Tail",1,"Penguins from Head to Tail","eBook",null,"978-1-5382-5529-2",{"$f":"HYPERLINK(\"https://www.garethstevens.com/\"&Table1[[#This Row],[ISBN]],\"Weblink\")","v":"Weblink"},2021,"August 2020",null,null,"Author","Emmett Martin",null,null,null,null,"C",null,"Grade K - 2","Grade Pre-K - 2","Who doesn't wish they could waddle up to an adorable penguin and give it a cuddle? This endearing book gives readers the up-close experience they want! Through understandable, low-ATOS text, they'll learn how penguins' special body parts help them survive in the wild, even in the coldest conditions. Though penguin lovers can't adopt these flightless birds as their own, they'll love studying the lively photographs of the charming creatures in action.","English",22.6,16.95,"598.47--dc23","24 pp.",{"$f":"Table1[[#This Row],[QTY]]*Table1[[#This Row],['# Books]]","v":0},{"$f":"Table1[[#This Row],[QTY]]*Table1[[#This Row],[S&L Price]]","v":0}]
[null,7,null,"Animals from Head to Tail",1,"Pigs from Head to Tail","Library Bound Book",null,"978-1-5382-5540-7",{"$f":"HYPERLINK(\"https://www.garethstevens.com/\"&Table1[[#This Row],[ISBN]],\"Weblink\")","v":"Weblink"},2021,"August 2020","Library","7.625 X 7.125","Author","Emmett Martin",null,null,null,null,"C",null,"Grade K - 2","Grade Pre-K - 2","With its cute curly tail and unique sniffing snout, the pig is a favorite farm animal. Your readers will learn about a pig's special body parts and its behaviors through low-ATOS text. Cheerful images of these lively and adorable creatures reflect important concepts and further engage young readers. A picture dictionary and index allows readers to exercise foundational reading skills.","English",22.6,16.95,"636.4--dc23","24 pp.",{"$f":"Table1[[#This Row],[QTY]]*Table1[[#This Row],['# Books]]","v":0},{"$f":"Table1[[#This Row],[QTY]]*Table1[[#This Row],[S&L Price]]","v":0}]
[null,7,null,"Animals from Head to Tail",1,"Pigs from Head to Tail","eBook",null,"978-1-5382-5541-4",{"$f":"HYPERLINK(\"https://www.garethstevens.com/\"&Table1[[#This Row],[ISBN]],\"Weblink\")","v":"Weblink"},2021,"August 2020",null,null,"Author","Emmett Martin",null,null,null,null,"C",null,"Grade K - 2","Grade Pre-K - 2","With its cute curly tail and unique sniffing snout, the pig is a favorite farm animal. Your readers will learn about a pig's special body parts and its behaviors through low-ATOS text. Cheerful images of these lively and adorable creatures reflect important concepts and further engage young readers. A picture dictionary and index allows readers to exercise foundational reading skills.","English",22.6,16.95,"636.4--dc23","24 pp.",{"$f":"Table1[[#This Row],[QTY]]*Table1[[#This Row],['# Books]]","v":0},{"$f":"Table1[[#This Row],[QTY]]*Table1[[#This Row],[S&L Price]]","v":0}]
[null,null,22,"Animals from Head to Tail",6,"Animals from Head to Tail","Library Set",null,"978-1-4824-4516-9",{"$f":"HYPERLINK(\"https://www.garethstevens.com/\"&Table1[[#This Row],[ISBN]],\"Weblink\")","v":"Weblink"},2017,"August 2016","Library","7.625 X 7.125",null,null,null,null,null,null,null,null,"Grade K","Grade K - 2","Animals have body parts just like us, but not every animal looks alike. A cat’s toes look very different than a dog or bird’s. This innovative series tackles those differences using vivid full-color photographs and age-appropriate text to explain how an animal’s body parts make it truly unique. With scientific content exploring how a bird’s wings work and how turtles use their shells to keep safe, this series gives young readers an exciting and fun new way to look at their favorite animals.","English",135.6,101.7,null,"24 pp.",{"$f":"Table1[[#This Row],[QTY]]*Table1[[#This Row],['# Books]]","v":0},{"$f":"Table1[[#This Row],[QTY]]*Table1[[#This Row],[S&L Price]]","v":0}]
[null,7,22,"Animals from Head to Tail",1,"Birds from Head to Tail","Library Bound Book",null,"978-1-4824-4535-0",{"$f":"HYPERLINK(\"https://www.garethstevens.com/\"&Table1[[#This Row],[ISBN]],\"Weblink\")","v":"Weblink"},2017,"August 2016","Library","7.625 X 7.125","Author","Reese Archer","0.9","0.5",null,null,"C",null,"Grade K - 2","Grade Pre-K - 2","Birds are truly remarkable creatures. Though they all have the same basic body parts, there is so much variety between each type of bird. For instance, the feet of a duck are much different than the feet of a robin, and birds’ feathers come in every color of the rainbow! Through accessible language and vibrant photographs, this book introduces beginning readers to some of the similarities and differences of our feathered friends, showing them that although birds share many standard features, each kind is also wonderfully unique!","English",22.6,16.95,"598--dc23","24 pp.",{"$f":"Table1[[#This Row],[QTY]]*Table1[[#This Row],['# Books]]","v":0},{"$f":"Table1[[#This Row],[QTY]]*Table1[[#This Row],[S&L Price]]","v":0}]
[null,7,22,"Animals from Head to Tail",1,"Birds from Head to Tail","eBook",null,"978-1-4824-4529-9",{"$f":"HYPERLINK(\"https://www.garethstevens.com/\"&Table1[[#This Row],[ISBN]],\"Weblink\")","v":"Weblink"},2017,"August 2016",null,null,"Author","Reese Archer","0.9","0.5",null,null,"C",null,"Grade K - 2","Grade Pre-K - 2","Birds are truly remarkable creatures. Though they all have the same basic body parts, there is so much variety between each type of bird. For instance, the feet of a duck are much different than the feet of a robin, and birds’ feathers come in every color of the rainbow! Through accessible language and vibrant photographs, this book introduces beginning readers to some of the similarities and differences of our feathered friends, showing them that although birds share many standard features, each kind is also wonderfully unique!","English",22.6,16.95,"598--dc23","24 pp.",{"$f":"Table1[[#This Row],[QTY]]*Table1[[#This Row],['# Books]]","v":0},{"$f":"Table1[[#This Row],[QTY]]*Table1[[#This Row],[S&L Price]]","v":0}]
[null,7,22,"Animals from Head to Tail",1,"Cats from Head to Tail","Library Bound Book",null,"978-1-4824-4536-7",{"$f":"HYPERLINK(\"https://www.garethstevens.com/\"&Table1[[#This Row],[ISBN]],\"Weblink\")","v":"Weblink"},2017,"August 2016","Library","7.625 X 7.125","Author","Tristan Noe","0.9","0.5",null,null,"C",null,"Grade K - 2","Grade Pre-K - 2","Cats are popular pets all around the world, and no two breeds are exactly the same. Through accessible text accompanied by colorful photographs, this book introduces beginning readers to a cat’s basic body parts, and also explores the many differences between these feline friends that make each kind unique. From long-haired to short-haired and everything in between, young readers will delight in learning about all the amazing attributes of these beloved family pets!","English",22.6,16.95,"636.8--dc23","24 pp.",{"$f":"Table1[[#This Row],[QTY]]*Table1[[#This Row],['# Books]]","v":0},{"$f":"Table1[[#This Row],[QTY]]*Table1[[#This Row],[S&L Price]]","v":0}]
[null,7,22,"Animals from Head to Tail",1,"Cats from Head to Tail","eBook",null,"978-1-4824-4530-5",{"$f":"HYPERLINK(\"https://www.garethstevens.com/\"&Table1[[#This Row],[ISBN]],\"Weblink\")","v":"Weblink"},2017,"August 2016",null,null,"Author","Tristan Noe","0.9","0.5",null,null,"C",null,"Grade K - 2","Grade Pre-K - 2","Cats are popular pets all around the world, and no two breeds are exactly the same. Through accessible text accompanied by colorful photographs, this book introduces beginning readers to a cat’s basic body parts, and also explores the many differences between these feline friends that make each kind unique. From long-haired to short-haired and everything in between, young readers will delight in learning about all the amazing attributes of these beloved family pets!","English",22.6,16.95,"636.8--dc23","24 pp.",{"$f":"Table1[[#This Row],[QTY]]*Table1[[#This Row],['# Books]]","v":0},{"$f":"Table1[[#This Row],[QTY]]*Table1[[#This Row],[S&L Price]]","v":0}]
[null,7,22,"Animals from Head to Tail",1,"Dogs from Head to Tail","Library Bound Book",null,"978-1-4824-4537-4",{"$f":"HYPERLINK(\"https://www.garethstevens.com/\"&Table1[[#This Row],[ISBN]],\"Weblink\")","v":"Weblink"},2017,"August 2016","Library","7.625 X 7.125","Author","Cole Mair","1","0.5",null,null,"C",null,"Grade K - 2","Grade Pre-K - 2","A dog may be man’s best friend, but how much do we know about these loyal animals? There are so many different breeds with different attributes—from a boxer’s distinct colors to a bulldog’s unique nose. This book introduces beginning readers to the world of dogs, using accessible language and adorable photographs to give a close-up look at one of the most popular pets on the planet. Young readers will learn that although dogs all share common features, each kind has its own special charm!","English",22.6,16.95,"636.7--dc23","24 pp.",{"$f":"Table1[[#This Row],[QTY]]*Table1[[#This Row],['# Books]]","v":0},{"$f":"Table1[[#This Row],[QTY]]*Table1[[#This Row],[S&L Price]]","v":0}]
[null,7,22,"Animals from Head to Tail",1,"Dogs from Head to Tail","eBook",null,"978-1-4824-4531-2",{"$f":"HYPERLINK(\"https://www.garethstevens.com/\"&Table1[[#This Row],[ISBN]],\"Weblink\")","v":"Weblink"},2017,"August 2016",null,null,"Author","Cole Mair","1","0.5",null,null,"C",null,"Grade K - 2","Grade Pre-K - 2","A dog may be man’s best friend, but how much do we know about these loyal animals? There are so many different breeds with different attributes—from a boxer’s distinct colors to a bulldog’s unique nose. This book introduces beginning readers to the world of dogs, using accessible language and adorable photographs to give a close-up look at one of the most popular pets on the planet. Young readers will learn that although dogs all share common features, each kind has its own special charm!","English",22.6,16.95,"636.7--dc23","24 pp.",{"$f":"Table1[[#This Row],[QTY]]*Table1[[#This Row],['# Books]]","v":0},{"$f":"Table1[[#This Row],[QTY]]*Table1[[#This Row],[S&L Price]]","v":0}]
[null,7,22,"Animals from Head to Tail",1,"Fish from Head to Tail","Library Bound Book",null,"978-1-4824-4538-1",{"$f":"HYPERLINK(\"https://www.garethstevens.com/\"&Table1[[#This Row],[ISBN]],\"Weblink\")","v":"Weblink"},2017,"August 2016","Library","7.625 X 7.125","Author","Bill Spunter","0.9","0.5",null,null,"C",null,"Grade K - 2","Grade Pre-K - 2","Fish are at home in the water, but that doesn’t mean we can’t get up close and personal with these colorful creatures. From the goldfish we keep as pets to the big fish that live in our oceans, there is plenty of variety to be found among the fins and gills these animals all have. This book for beginning readers explores the watery world of fish both big and small, using accessible language and vivid photographs to show that although fish all share similar features, they are all distinct in amazing ways.","English",22.6,16.95,"597--dc23","24 pp.",{"$f":"Table1[[#This Row],[QTY]]*Table1[[#This Row],['# Books]]","v":0},{"$f":"Table1[[#This Row],[QTY]]*Table1[[#This Row],[S&L Price]]","v":0}]
[null,7,22,"Animals from Head to Tail",1,"Fish from Head to Tail","eBook",null,"978-1-4824-4532-9",{"$f":"HYPERLINK(\"https://www.garethstevens.com/\"&Table1[[#This Row],[ISBN]],\"Weblink\")","v":"Weblink"},2017,"August 2016",null,null,"Author","Bill Spunter","0.9","0.5",null,null,"C",null,"Grade K - 2","Grade Pre-K - 2","Fish are at home in the water, but that doesn’t mean we can’t get up close and personal with these colorful creatures. From the goldfish we keep as pets to the big fish that live in our oceans, there is plenty of variety to be found among the fins and gills these animals all have. This book for beginning readers explores the watery world of fish both big and small, using accessible language and vivid photographs to show that although fish all share similar features, they are all distinct in amazing ways.","English",22.6,16.95,"597--dc23","24 pp.",{"$f":"Table1[[#This Row],[QTY]]*Table1[[#This Row],['# Books]]","v":0},{"$f":"Table1[[#This Row],[QTY]]*Table1[[#This Row],[S&L Price]]","v":0}]
[null,7,22,"Animals from Head to Tail",1,"Hamsters from Head to Tail","Library Bound Book",null,"978-1-4824-4539-8",{"$f":"HYPERLINK(\"https://www.garethstevens.com/\"&Table1[[#This Row],[ISBN]],\"Weblink\")","v":"Weblink"},2017,"August 2016","Library","7.625 X 7.125","Author","Don LeChamp","0.9","0.5",null,null,"C",null,"Grade K - 2","Grade Pre-K - 2","Hamsters are small creatures with lots of variety among their different species. These adorable rodents may be known for nibbling on food or running around a tiny wheel, but there’s much more going on in their little worlds. From golden hamsters living in the wild in Turkey to the hamsters at the pet store, these amazing creatures have lots of variety in color, size, and shape. Through accessible language accompanied by vibrant photographs, this book explores those nuances and shows beginning readers how hamsters use their remarkable body parts both in captivity and in the wild.","English",22.6,16.95,"636.935’6--dc23","24 pp.",{"$f":"Table1[[#This Row],[QTY]]*Table1[[#This Row],['# Books]]","v":0},{"$f":"Table1[[#This Row],[QTY]]*Table1[[#This Row],[S&L Price]]","v":0}]
[null,7,22,"Animals from Head to Tail",1,"Hamsters from Head to Tail","eBook",null,"978-1-4824-4533-6",{"$f":"HYPERLINK(\"https://www.garethstevens.com/\"&Table1[[#This Row],[ISBN]],\"Weblink\")","v":"Weblink"},2017,"August 2016",null,null,"Author","Don LeChamp","0.9","0.5",null,null,"C",null,"Grade K - 2","Grade Pre-K - 2","Hamsters are small creatures with lots of variety among their different species. These adorable rodents may be known for nibbling on food or running around a tiny wheel, but there’s much more going on in their little worlds. From golden hamsters living in the wild in Turkey to the hamsters at the pet store, these amazing creatures have lots of variety in color, size, and shape. Through accessible language accompanied by vibrant photographs, this book explores those nuances and shows beginning readers how hamsters use their remarkable body parts both in captivity and in the wild.","English",22.6,16.95,"636.935’6--dc23","24 pp.",{"$f":"Table1[[#This Row],[QTY]]*Table1[[#This Row],['# Books]]","v":0},{"$f":"Table1[[#This Row],[QTY]]*Table1[[#This Row],[S&L Price]]","v":0}]
[null,7,22,"Animals from Head to Tail",1,"Turtles from Head to Tail","Library Bound Book",null,"978-1-4824-4540-4",{"$f":"HYPERLINK(\"https://www.garethstevens.com/\"&Table1[[#This Row],[ISBN]],\"Weblink\")","v":"Weblink"},2017,"August 2016","Library","7.625 X 7.125","Author","Jen Trifer","0.9","0.5",null,null,"C",null,"Grade K - 2","Grade Pre-K - 2","Some turtles make great pets, but others do not. So how can people tell the difference? Through accessible text paired with colorful photographs, this book allows beginning readers to explore the world of turtles, taking a close look at the physical attributes that make these slow-moving creatures unique. From their hard shells—called carapaces—to their different kinds of feet, turtles are as varied in physical makeup as they are in temperament. Young readers will learn that while a box turtle is a pet-friendly choice, they’ll want to stay far away from the sharp bite of an alligator snapping turtle!","English",22.6,16.95,"597.92--dc23","24 pp.",{"$f":"Table1[[#This Row],[QTY]]*Table1[[#This Row],['# Books]]","v":0},{"$f":"Table1[[#This Row],[QTY]]*Table1[[#This Row],[S&L Price]]","v":0}]
[null,7,22,"Animals from Head to Tail",1,"Turtles from Head to Tail","eBook",null,"978-1-4824-4534-3",{"$f":"HYPERLINK(\"https://www.garethstevens.com/\"&Table1[[#This Row],[ISBN]],\"Weblink\")","v":"Weblink"},2017,"August 2016",null,null,"Author","Jen Trifer","0.9","0.5",null,null,"C",null,"Grade K - 2","Grade Pre-K - 2","Some turtles make great pets, but others do not. So how can people tell the difference? Through accessible text paired with colorful photographs, this book allows beginning readers to explore the world of turtles, taking a close look at the physical attributes that make these slow-moving creatures unique. From their hard shells—called carapaces—to their different kinds of feet, turtles are as varied in physical makeup as they are in temperament. Young readers will learn that while a box turtle is a pet-friendly choice, they’ll want to stay far away from the sharp bite of an alligator snapping turtle!","English",22.6,16.95,"597.92--dc23","24 pp.",{"$f":"Table1[[#This Row],[QTY]]*Table1[[#This Row],['# Books]]","v":0},{"$f":"Table1[[#This Row],[QTY]]*Table1[[#This Row],[S&L Price]]","v":0}]
[null,8,null,"An Animal Family",18,"An Animal Family (Set of 18 Titles)","Library Set",null,"978-1-5382-5983-2",{"$f":"HYPERLINK(\"https://www.garethstevens.com/\"&Table1[[#This Row],[ISBN]],\"Weblink\")","v":"Weblink"},2021,"August 2020","Library","7.625 X 7.125","","",null,null,null,null,null,null,"Grade K","Grade Pre-K - 2","Baby animals are an important part of an animal family. Watching cubs become bears and foals grow into horses is an important science lesson, but it teaches how animals make families too. This early reader collection uses simple but informative text paired with full-color photographs to show different animals caring for their young. Each animal family teaches young readers something new about the world around them. From calves and piglets on a farm to the seals and dolphins that care for their young in the ocean, readers will love exploring how animals of all shapes and sizes live and grow together. Features include: High-interest topic that appeals to developing readers. Introduction to informational-text features such as an index and table of contents. ATOS reading levels below 1.0.","English",406.8,305.10000000000002,null,"24 pp.",{"$f":"Table1[[#This Row],[QTY]]*Table1[[#This Row],['# Books]]","v":0},{"$f":"Table1[[#This Row],[QTY]]*Table1[[#This Row],[S&L Price]]","v":0}]
[null,8,null,"An Animal Family",6,"An Animal Family (Set of 6 NEW Titles)","Library Set",null,"978-1-5382-5982-5",{"$f":"HYPERLINK(\"https://www.garethstevens.com/\"&Table1[[#This Row],[ISBN]],\"Weblink\")","v":"Weblink"},2021,"August 2020","Library","7.625 X 7.125","","",null,null,null,null,null,null,"Grade K","Grade Pre-K - 2","There are few things cuter than animals, but where do they start out? From life on the farm to the big world beyond, this set examines how animals grow from babies to adults. Young readers will discover how a calf grows into a cow and how a pup grows into a shark deep in the ocean, all while learning valuable lessons about science. This early reader set gets young readers excited about learning through full-page photographs and easy-to-understand photo glossaries. The low-ATOS narratives are perfect for any reader ready to discover the how animals make families. Features include: High-interest topic that appeals to developing readers. Introduction to informational-text features such as an index and table of contents. ATOS reading levels below 1.0.","English",135.6,101.7,null,"24 pp.",{"$f":"Table1[[#This Row],[QTY]]*Table1[[#This Row],['# Books]]","v":0},{"$f":"Table1[[#This Row],[QTY]]*Table1[[#This Row],[S&L Price]]","v":0}]
[null,8,null,"An Animal Family",1,"Cows and Calves","Library Bound Book",null,"978-1-5382-5576-6",{"$f":"HYPERLINK(\"https://www.garethstevens.com/\"&Table1[[#This Row],[ISBN]],\"Weblink\")","v":"Weblink"},2021,"August 2020","Library","7.625 X 7.125","Author","Natalie K. Humphrey",null,null,null,null,"C",null,"Grade K","Grade Pre-K - 2","Mother cows never forget their calves and take care of them even when they're all grown up. Farmers say mother cows will often pamper their children in the fields, staying close to their families long into adulthood. This absorbing text explores how cows raise their calves on the farm and how the farmers help them do it. Young readers are encouraged to learn about these friendly farm animals through full-page photographs and easy-to-read language, all designed to teach how fun it is to learn new things.","English",22.6,16.95,"636.2--dc23","24 pp.",{"$f":"Table1[[#This Row],[QTY]]*Table1[[#This Row],['# Books]]","v":0},{"$f":"Table1[[#This Row],[QTY]]*Table1[[#This Row],[S&L Price]]","v":0}]
[null,8,null,"An Animal Family",1,"Cows and Calves","eBook",null,"978-1-5382-5577-3",{"$f":"HYPERLINK(\"https://www.garethstevens.com/\"&Table1[[#This Row],[ISBN]],\"Weblink\")","v":"Weblink"},2021,"August 2020",null,null,"Author","Natalie K. Humphrey",null,null,null,null,"C",null,"Grade K","Grade Pre-K - 2","Mother cows never forget their calves and take care of them even when they're all grown up. Farmers say mother cows will often pamper their children in the fields, staying close to their families long into adulthood. This absorbing text explores how cows raise their calves on the farm and how the farmers help them do it. Young readers are encouraged to learn about these friendly farm animals through full-page photographs and easy-to-read language, all designed to teach how fun it is to learn new things.","English",22.6,16.95,"636.2--dc23","24 pp.",{"$f":"Table1[[#This Row],[QTY]]*Table1[[#This Row],['# Books]]","v":0},{"$f":"Table1[[#This Row],[QTY]]*Table1[[#This Row],[S&L Price]]","v":0}]
[null,8,null,"An Animal Family",1,"Ducks and Ducklings","Library Bound Book",null,"978-1-5382-5588-9",{"$f":"HYPERLINK(\"https://www.garethstevens.com/\"&Table1[[#This Row],[ISBN]],\"Weblink\")","v":"Weblink"},2021,"August 2020","Library","7.625 X 7.125","Author","Natalie K. Humphrey",null,null,null,null,"C",null,"Grade K","Grade Pre-K - 2","Ducks are found in nearly every country around the world, which means most people can recognize these quacking creatures and their ducklings. While ducklings usually learn to swim only a few days after they've hatched, there's still a lot for them to learn from their mothers before they're ready to go out on their own. Through this book's easy-to-read low-ATOS text, young readers will learn how a duckling goes from downy soft to feathered friend. Featuring full-page colored photographs and a photo glossary, this book is perfect for early learners ready to discover new things.","English",22.6,16.95,"598.4/1--dc23","24 pp.",{"$f":"Table1[[#This Row],[QTY]]*Table1[[#This Row],['# Books]]","v":0},{"$f":"Table1[[#This Row],[QTY]]*Table1[[#This Row],[S&L Price]]","v":0}]
[null,8,null,"An Animal Family",1,"Ducks and Ducklings","eBook",null,"978-1-5382-5589-6",{"$f":"HYPERLINK(\"https://www.garethstevens.com/\"&Table1[[#This Row],[ISBN]],\"Weblink\")","v":"Weblink"},2021,"August 2020",null,null,"Author","Natalie K. Humphrey",null,null,null,null,"C",null,"Grade K","Grade Pre-K - 2","Ducks are found in nearly every country around the world, which means most people can recognize these quacking creatures and their ducklings. While ducklings usually learn to swim only a few days after they've hatched, there's still a lot for them to learn from their mothers before they're ready to go out on their own. Through this book's easy-to-read low-ATOS text, young readers will learn how a duckling goes from downy soft to feathered friend. Featuring full-page colored photographs and a photo glossary, this book is perfect for early learners ready to discover new things.","English",22.6,16.95,"598.4/1--dc23","24 pp.",{"$f":"Table1[[#This Row],[QTY]]*Table1[[#This Row],['# Books]]","v":0},{"$f":"Table1[[#This Row],[QTY]]*Table1[[#This Row],[S&L Price]]","v":0}]
[null,8,null,"An Animal Family",1,"Goats and Kids","Library Bound Book",null,"978-1-5382-5572-8",{"$f":"HYPERLINK(\"https://www.garethstevens.com/\"&Table1[[#This Row],[ISBN]],\"Weblink\")","v":"Weblink"},2021,"August 2020","Library","7.625 X 7.125","Author","Natalie K. Humphrey",null,null,null,null,"C",null,"Grade K","Grade Pre-K - 2","Every goat has its own special accent and mother goats use it to pick their babies out of the crowd. It doesn't take long from the moment they're born for these playful creatures to start bounding and causing mischief. Your readers will delve into beautiful full-page photographs of the fun-filled life of a goat, starting from their very first steps to adulthood on a farm and high in the mountains. Low-ATOS text helps young readers learn and explore how goats make their families.","English",22.6,16.95,"636.3/9--dc23","24 pp.",{"$f":"Table1[[#This Row],[QTY]]*Table1[[#This Row],['# Books]]","v":0},{"$f":"Table1[[#This Row],[QTY]]*Table1[[#This Row],[S&L Price]]","v":0}]
[null,8,null,"An Animal Family",1,"Goats and Kids","eBook",null,"978-1-5382-5573-5",{"$f":"HYPERLINK(\"https://www.garethstevens.com/\"&Table1[[#This Row],[ISBN]],\"Weblink\")","v":"Weblink"},2021,"August 2020",null,null,"Author","Natalie K. Humphrey",null,null,null,null,"C",null,"Grade K","Grade Pre-K - 2","Every goat has its own special accent and mother goats use it to pick their babies out of the crowd. It doesn't take long from the moment they're born for these playful creatures to start bounding and causing mischief. Your readers will delve into beautiful full-page photographs of the fun-filled life of a goat, starting from their very first steps to adulthood on a farm and high in the mountains. Low-ATOS text helps young readers learn and explore how goats make their families.","English",22.6,16.95,"636.3/9--dc23","24 pp.",{"$f":"Table1[[#This Row],[QTY]]*Table1[[#This Row],['# Books]]","v":0},{"$f":"Table1[[#This Row],[QTY]]*Table1[[#This Row],[S&L Price]]","v":0}]
[null,8,null,"An Animal Family",1,"Lions and Cubs","Library Bound Book",null,"978-1-5382-5580-3",{"$f":"HYPERLINK(\"https://www.garethstevens.com/\"&Table1[[#This Row],[ISBN]],\"Weblink\")","v":"Weblink"},2021,"August 2020","Library","7.625 X 7.125","Author","Natalie K. Humphrey",null,null,null,null,"C",null,"Grade K","Grade Pre-K - 2","Lions really know how to take care of their cubs. African lion cubs are raised not just by their parents but their whole pride. Lions take down their prey together, teaching their young cubs how to hunt while they do it. Readers explore how these great hunters of the African plains make their own families through achievable text. Featuring full-page photographs, this low-ATOS volume introduces young readers to the family life of these big cats and encourages them to learn more about their habitat and lifestyle.","English",22.6,16.95,"599.75713/92--dc23","24 pp.",{"$f":"Table1[[#This Row],[QTY]]*Table1[[#This Row],['# Books]]","v":0},{"$f":"Table1[[#This Row],[QTY]]*Table1[[#This Row],[S&L Price]]","v":0}]
[null,8,null,"An Animal Family",1,"Lions and Cubs","eBook",null,"978-1-5382-5581-0",{"$f":"HYPERLINK(\"https://www.garethstevens.com/\"&Table1[[#This Row],[ISBN]],\"Weblink\")","v":"Weblink"},2021,"August 2020",null,null,"Author","Natalie K. Humphrey",null,null,null,null,"C",null,"Grade K","Grade Pre-K - 2","Lions really know how to take care of their cubs. African lion cubs are raised not just by their parents but their whole pride. Lions take down their prey together, teaching their young cubs how to hunt while they do it. Readers explore how these great hunters of the African plains make their own families through achievable text. Featuring full-page photographs, this low-ATOS volume introduces young readers to the family life of these big cats and encourages them to learn more about their habitat and lifestyle.","English",22.6,16.95,"599.75713/92--dc23","24 pp.",{"$f":"Table1[[#This Row],[QTY]]*Table1[[#This Row],['# Books]]","v":0},{"$f":"Table1[[#This Row],[QTY]]*Table1[[#This Row],[S&L Price]]","v":0}]
[null,8,null,"An Animal Family",1,"Rabbits and Kits","Library Bound Book",null,"978-1-5382-5584-1",{"$f":"HYPERLINK(\"https://www.garethstevens.com/\"&Table1[[#This Row],[ISBN]],\"Weblink\")","v":"Weblink"},2021,"August 2020","Library","7.625 X 7.125","Author","Natalie K. Humphrey",null,null,null,null,"C",null,"Grade K","Grade Pre-K - 2","More than half of the world's rabbit population is found in North America, and that makes for a lot of kits. This common creature can move its ears independently and uses this skill to hear if a hungry predator is coming from any direction. This low-ATOS book helps readers learn how a fluffy kit grows into a fluffier rabbit that they might keep as a pet or see hopping around outside. With full-page photographs, an accessible photo-based glossary, and easy-to-read narrative, this book will help early readers get excited about learning and reading.","English",22.6,16.95,"599.3213/92--dc23","24 pp.",{"$f":"Table1[[#This Row],[QTY]]*Table1[[#This Row],['# Books]]","v":0},{"$f":"Table1[[#This Row],[QTY]]*Table1[[#This Row],[S&L Price]]","v":0}]
[null,8,null,"An Animal Family",1,"Rabbits and Kits","eBook",null,"978-1-5382-5585-8",{"$f":"HYPERLINK(\"https://www.garethstevens.com/\"&Table1[[#This Row],[ISBN]],\"Weblink\")","v":"Weblink"},2021,"August 2020",null,null,"Author","Natalie K. Humphrey",null,null,null,null,"C",null,"Grade K","Grade Pre-K - 2","More than half of the world's rabbit population is found in North America, and that makes for a lot of kits. This common creature can move its ears independently and uses this skill to hear if a hungry predator is coming from any direction. This low-ATOS book helps readers learn how a fluffy kit grows into a fluffier rabbit that they might keep as a pet or see hopping around outside. With full-page photographs, an accessible photo-based glossary, and easy-to-read narrative, this book will help early readers get excited about learning and reading.","English",22.6,16.95,"599.3213/92--dc23","24 pp.",{"$f":"Table1[[#This Row],[QTY]]*Table1[[#This Row],['# Books]]","v":0},{"$f":"Table1[[#This Row],[QTY]]*Table1[[#This Row],[S&L Price]]","v":0}]
[null,8,null,"An Animal Family",1,"Sharks and Pups","Library Bound Book",null,"978-1-5382-5592-6",{"$f":"HYPERLINK(\"https://www.garethstevens.com/\"&Table1[[#This Row],[ISBN]],\"Weblink\")","v":"Weblink"},2021,"August 2020","Library","7.625 X 7.125","Author","Natalie K. Humphrey",null,null,null,null,"C",null,"Grade K","Grade Pre-K - 2","Your young readers will be surprised to learn that shark parents don't raise their own offspring. Different kinds of sharks all have their own special way they start their journeys through life. With this low-ATOS volume, young readers will learn how a harmless shark pup becomes the great hunter of the deep. Featuring accessible text and full-page images, this book will help familiarize readers with new terms and concepts special to marine biology.","English",22.6,16.95,"597.3/31392--dc23","24 pp.",{"$f":"Table1[[#This Row],[QTY]]*Table1[[#This Row],['# Books]]","v":0},{"$f":"Table1[[#This Row],[QTY]]*Table1[[#This Row],[S&L Price]]","v":0}]
[null,8,null,"An Animal Family",1,"Sharks and Pups","eBook",null,"978-1-5382-5593-3",{"$f":"HYPERLINK(\"https://www.garethstevens.com/\"&Table1[[#This Row],[ISBN]],\"Weblink\")","v":"Weblink"},2021,"August 2020",null,null,"Author","Natalie K. Humphrey",null,null,null,null,"C",null,"Grade K","Grade Pre-K - 2","Your young readers will be surprised to learn that shark parents don't raise their own offspring. Different kinds of sharks all have their own special way they start their journeys through life. With this low-ATOS volume, young readers will learn how a harmless shark pup becomes the great hunter of the deep. Featuring accessible text and full-page images, this book will help familiarize readers with new terms and concepts special to marine biology.","English",22.6,16.95,"597.3/31392--dc23","24 pp.",{"$f":"Table1[[#This Row],[QTY]]*Table1[[#This Row],['# Books]]","v":0},{"$f":"Table1[[#This Row],[QTY]]*Table1[[#This Row],[S&L Price]]","v":0}]
[null,null,20,"An Animal Family",12,"An Animal Family","Library Set",null,"978-1-4824-6490-0",{"$f":"HYPERLINK(\"https://www.garethstevens.com/\"&Table1[[#This Row],[ISBN]],\"Weblink\")","v":"Weblink"},2018,"August 2017","Library","7.625 X 7.125",null,null,null,null,null,null,null,null,"Grade K","Grade Pre-K - 2","Baby animals are an important part of an animal family. Watching cubs become bears and foals grow into horses is an important science lesson, but also a good introduction to how animals make their own families, too! This early reader series uses simple but informative text paired with full-color photographs to show different animals caring for their young. From pigs and piglets on a farm to the seals and dolphins that care for their young in the ocean, readers will love exploring how animals of all shapes and sizes live and grow together.","English",271.2,203.4,null,"24 pp.",{"$f":"Table1[[#This Row],[QTY]]*Table1[[#This Row],['# Books]]","v":0},{"$f":"Table1[[#This Row],[QTY]]*Table1[[#This Row],[S&L Price]]","v":0}]
[null,9,20,"An Animal Family",1,"Apes and Babies","Library Bound Book",null,"978-1-4824-6367-5",{"$f":"HYPERLINK(\"https://www.garethstevens.com/\"&Table1[[#This Row],[ISBN]],\"Weblink\")","v":"Weblink"},2018,"August 2017","Library","7.625 X 7.125","Author","Adelaide Redwood","0.9","0.5",null,null,"C",null,"Grade K","Grade Pre-K - 2","There’s nothing cuter than an animal family, especially a family of adorable apes! This charming book safely puts young learners into the wilds of nature to see how apes take care of their young offspring. Beginning readers will love the full-color photographs of cute baby apes as they learn to play and follow their mothers around. While the adult apes keep them safe, these babies are learning all about the world around them, whether in captivity in a zoo or in the world’s dense jungles.","English",22.6,16.95,"599.8--dc23","24 pp.",{"$f":"Table1[[#This Row],[QTY]]*Table1[[#This Row],['# Books]]","v":0},{"$f":"Table1[[#This Row],[QTY]]*Table1[[#This Row],[S&L Price]]","v":0}]
[null,9,20,"An Animal Family",1,"Apes and Babies","eBook",null,"978-1-4824-6368-2",{"$f":"HYPERLINK(\"https://www.garethstevens.com/\"&Table1[[#This Row],[ISBN]],\"Weblink\")","v":"Weblink"},2018,"August 2017",null,null,"Author","Adelaide Redwood","0.9","0.5",null,null,"C",null,"Grade K","Grade Pre-K - 2","There’s nothing cuter than an animal family, especially a family of adorable apes! This charming book safely puts young learners into the wilds of nature to see how apes take care of their young offspring. Beginning readers will love the full-color photographs of cute baby apes as they learn to play and follow their mothers around. While the adult apes keep them safe, these babies are learning all about the world around them, whether in captivity in a zoo or in the world’s dense jungles.","English",22.6,16.95,"599.8--dc23","24 pp.",{"$f":"Table1[[#This Row],[QTY]]*Table1[[#This Row],['# Books]]","v":0},{"$f":"Table1[[#This Row],[QTY]]*Table1[[#This Row],[S&L Price]]","v":0}]
[null,9,20,"An Animal Family",1,"Bears and Cubs","Library Bound Book",null,"978-1-4824-6371-2",{"$f":"HYPERLINK(\"https://www.garethstevens.com/\"&Table1[[#This Row],[ISBN]],\"Weblink\")","v":"Weblink"},2018,"August 2017","Library","7.625 X 7.125","Author","Polly LeChance","0.9","0.5",null,null,"C",null,"Grade K","Grade Pre-K - 2","Bears are fierce creatures that hunt with their huge claws and jaws, but much of that hunting is for the benefit of their adorable cubs. These fuzzy woodland cubs are as cute as can be, and their mothers are very protective of these babies as they grow and develop into full-grown bears. Full-color photographs and accessible text aid young readers in their understanding of this furry animal family, both at play and working together to survive in the wilds of nature.","English",22.6,16.95,"599.78--dc23","24 pp.",{"$f":"Table1[[#This Row],[QTY]]*Table1[[#This Row],['# Books]]","v":0},{"$f":"Table1[[#This Row],[QTY]]*Table1[[#This Row],[S&L Price]]","v":0}]
[null,9,20,"An Animal Family",1,"Bears and Cubs","eBook",null,"978-1-4824-6372-9",{"$f":"HYPERLINK(\"https://www.garethstevens.com/\"&Table1[[#This Row],[ISBN]],\"Weblink\")","v":"Weblink"},2018,"August 2017",null,null,"Author","Polly LeChance","0.9","0.5",null,null,"C",null,"Grade K","Grade Pre-K - 2","Bears are fierce creatures that hunt with their huge claws and jaws, but much of that hunting is for the benefit of their adorable cubs. These fuzzy woodland cubs are as cute as can be, and their mothers are very protective of these babies as they grow and develop into full-grown bears. Full-color photographs and accessible text aid young readers in their understanding of this furry animal family, both at play and working together to survive in the wilds of nature.","English",22.6,16.95,"599.78--dc23","24 pp.",{"$f":"Table1[[#This Row],[QTY]]*Table1[[#This Row],['# Books]]","v":0},{"$f":"Table1[[#This Row],[QTY]]*Table1[[#This Row],[S&L Price]]","v":0}]
[null,9,20,"An Animal Family",1,"Chickens and Chicks","Library Bound Book",null,"978-1-4824-3773-7",{"$f":"HYPERLINK(\"https://www.garethstevens.com/\"&Table1[[#This Row],[ISBN]],\"Weblink\")","v":"Weblink"},2016,"January 2016","Library","7.625 X 7.125","Author","Emilia Hendrix","0.9","0.5",null,null,"C",null,"Grade K","Grade Pre-K - 2","Chickens can't fly, but they sure know how to raise a family! This exciting book shows how chickens take care of their chicks. From laying eggs to watching them hatch and caring for the newborn chicks, this book takes emerging readers through the life cycle of these interesting animals. Colorful photographs paired with accessible text show how these feathered friends live on farms and how hens take care of their chicks, making sure they grow up to raise a family of their own.","English",22.6,16.95,"636.5--d23","24 pp.",{"$f":"Table1[[#This Row],[QTY]]*Table1[[#This Row],['# Books]]","v":0},{"$f":"Table1[[#This Row],[QTY]]*Table1[[#This Row],[S&L Price]]","v":0}]
[null,9,20,"An Animal Family",1,"Chickens and Chicks","eBook",null,"978-1-4824-3774-4",{"$f":"HYPERLINK(\"https://www.garethstevens.com/\"&Table1[[#This Row],[ISBN]],\"Weblink\")","v":"Weblink"},2016,"January 2016",null,null,"Author","Emilia Hendrix","0.9","0.5",null,null,"C",null,"Grade K","Grade Pre-K - 2","Chickens can't fly, but they sure know how to raise a family! This exciting book shows how chickens take care of their chicks. From laying eggs to watching them hatch and caring for the newborn chicks, this book takes emerging readers through the life cycle of these interesting animals. Colorful photographs paired with accessible text show how these feathered friends live on farms and how hens take care of their chicks, making sure they grow up to raise a family of their own.","English",22.6,16.95,"636.5--d23","24 pp.",{"$f":"Table1[[#This Row],[QTY]]*Table1[[#This Row],['# Books]]","v":0},{"$f":"Table1[[#This Row],[QTY]]*Table1[[#This Row],[S&L Price]]","v":0}]
[null,9,20,"An Animal Family",1,"Deer and Fawns","Library Bound Book",null,"978-1-4824-6375-0",{"$f":"HYPERLINK(\"https://www.garethstevens.com/\"&Table1[[#This Row],[ISBN]],\"Weblink\")","v":"Weblink"},2018,"August 2017","Library","7.625 X 7.125","Author","Shep Fields","0.9","0.5",null,null,"C",null,"Grade K","Grade Pre-K - 2","Fawns may look delicate, but once these frail young creatures grow up, they become strong bucks and does bounding through the forest searching for food. This exciting book tracks that life journey as mother deer care for their young, teaching them how to become majestic forest creatures. Accessible text paired with amazing full-color photographs of these animal families let young readers explore the world of some of nature’s most interesting—and beautiful—animals.","English",22.6,16.95,"599.65--dc23","24 pp.",{"$f":"Table1[[#This Row],[QTY]]*Table1[[#This Row],['# Books]]","v":0},{"$f":"Table1[[#This Row],[QTY]]*Table1[[#This Row],[S&L Price]]","v":0}]
[null,9,20,"An Animal Family",1,"Deer and Fawns","eBook",null,"978-1-4824-6376-7",{"$f":"HYPERLINK(\"https://www.garethstevens.com/\"&Table1[[#This Row],[ISBN]],\"Weblink\")","v":"Weblink"},2018,"August 2017",null,null,"Author","Shep Fields","0.9","0.5",null,null,"C",null,"Grade K","Grade Pre-K - 2","Fawns may look delicate, but once these frail young creatures grow up, they become strong bucks and does bounding through the forest searching for food. This exciting book tracks that life journey as mother deer care for their young, teaching them how to become majestic forest creatures. Accessible text paired with amazing full-color photographs of these animal families let young readers explore the world of some of nature’s most interesting—and beautiful—animals.","English",22.6,16.95,"599.65--dc23","24 pp.",{"$f":"Table1[[#This Row],[QTY]]*Table1[[#This Row],['# Books]]","v":0},{"$f":"Table1[[#This Row],[QTY]]*Table1[[#This Row],[S&L Price]]","v":0}]
[null,9,20,"An Animal Family",1,"Dolphins and Calves","Library Bound Book",null,"978-1-4824-6379-8",{"$f":"HYPERLINK(\"https://www.garethstevens.com/\"&Table1[[#This Row],[ISBN]],\"Weblink\")","v":"Weblink"},2018,"August 2017","Library","7.625 X 7.125","Author","Mike Rodrigo-Gomez","0.9","0.5",null,null,"C",null,"Grade K","Grade Pre-K - 2","Dolphins are very smart animals, and that means they know how to take care of their young. This charming book explores the underwater world of these amazing aquatic mammals, showing how dolphin mothers care for their young, how they eat, and how young calves like to play. Through vibrant full-color photographs paired with accessible text, beginning readers embrace the wonders of nature as they discover important facts about the dolphin’s life cycle.","English",22.6,16.95,"599.53’4--dc23","24 pp.",{"$f":"Table1[[#This Row],[QTY]]*Table1[[#This Row],['# Books]]","v":0},{"$f":"Table1[[#This Row],[QTY]]*Table1[[#This Row],[S&L Price]]","v":0}]
[null,9,20,"An Animal Family",1,"Dolphins and Calves","eBook",null,"978-1-4824-6380-4",{"$f":"HYPERLINK(\"https://www.garethstevens.com/\"&Table1[[#This Row],[ISBN]],\"Weblink\")","v":"Weblink"},2018,"August 2017",null,null,"Author","Mike Rodrigo-Gomez","0.9","0.5",null,null,"C",null,"Grade K","Grade Pre-K - 2","Dolphins are very smart animals, and that means they know how to take care of their young. This charming book explores the underwater world of these amazing aquatic mammals, showing how dolphin mothers care for their young, how they eat, and how young calves like to play. Through vibrant full-color photographs paired with accessible text, beginning readers embrace the wonders of nature as they discover important facts about the dolphin’s life cycle.","English",22.6,16.95,"599.53’4--dc23","24 pp.",{"$f":"Table1[[#This Row],[QTY]]*Table1[[#This Row],['# Books]]","v":0},{"$f":"Table1[[#This Row],[QTY]]*Table1[[#This Row],[S&L Price]]","v":0}]
[null,9,20,"An Animal Family",1,"Foxes and Kits","Library Bound Book",null,"978-1-4824-6383-5",{"$f":"HYPERLINK(\"https://www.garethstevens.com/\"&Table1[[#This Row],[ISBN]],\"Weblink\")","v":"Weblink"},2018,"August 2017","Library","7.625 X 7.125","Author","Jose Ventana","0.9","0.5",null,null,"C",null,"Grade K","Grade Pre-K - 2","Fast forest animals like foxes are often hard to spot, and that's for a good reason. Staying out of sight means staying out of the grasp of fierce predators, and baby foxes are animals that need protecting. Young kits are as cute as they are vulnerable, and they need to stay away from anything that might make it a furry dinner. This book show beginning readers how fox mothers care for their young through accessible text and colorful photographs that show how these animals live their lives on the forest floor.","English",22.6,16.95,"599.775--dc23","24 pp.",{"$f":"Table1[[#This Row],[QTY]]*Table1[[#This Row],['# Books]]","v":0},{"$f":"Table1[[#This Row],[QTY]]*Table1[[#This Row],[S&L Price]]","v":0}]
[null,9,20,"An Animal Family",1,"Foxes and Kits","eBook",null,"978-1-4824-6384-2",{"$f":"HYPERLINK(\"https://www.garethstevens.com/\"&Table1[[#This Row],[ISBN]],\"Weblink\")","v":"Weblink"},2018,"August 2017",null,null,"Author","Jose Ventana","0.9","0.5",null,null,"C",null,"Grade K","Grade Pre-K - 2","Fast forest animals like foxes are often hard to spot, and that's for a good reason. Staying out of sight means staying out of the grasp of fierce predators, and baby foxes are animals that need protecting. Young kits are as cute as they are vulnerable, and they need to stay away from anything that might make it a furry dinner. This book show beginning readers how fox mothers care for their young through accessible text and colorful photographs that show how these animals live their lives on the forest floor.","English",22.6,16.95,"599.775--dc23","24 pp.",{"$f":"Table1[[#This Row],[QTY]]*Table1[[#This Row],['# Books]]","v":0},{"$f":"Table1[[#This Row],[QTY]]*Table1[[#This Row],[S&L Price]]","v":0}]
[null,9,20,"An Animal Family",1,"Horses and Foals","Library Bound Book",null,"978-1-4824-3777-5",{"$f":"HYPERLINK(\"https://www.garethstevens.com/\"&Table1[[#This Row],[ISBN]],\"Weblink\")","v":"Weblink"},2016,"January 2016","Library","7.625 X 7.125","Author","Emilia Hendrix","0.9","0.5",null,null,"C",null,"Grade K","Grade Pre-K - 2","Horses are very fast, majestic creatures that love taking care of their babies. Early readers learn all about these amazing animals and how they live their lives. Accessible text paired with bright photographs show horses running, eating, and raising their foals. Readers learn fun facts, like how most foals are born in spring. Later, readers take in the sight of foals and horses living together as a family as the babies learn to stand and take their first steps!","English",22.6,16.95,"636.1--dc23","24 pp.",{"$f":"Table1[[#This Row],[QTY]]*Table1[[#This Row],['# Books]]","v":0},{"$f":"Table1[[#This Row],[QTY]]*Table1[[#This Row],[S&L Price]]","v":0}]
[null,9,20,"An Animal Family",1,"Horses and Foals","eBook",null,"978-1-4824-3778-2",{"$f":"HYPERLINK(\"https://www.garethstevens.com/\"&Table1[[#This Row],[ISBN]],\"Weblink\")","v":"Weblink"},2016,"January 2016",null,null,"Author","Emilia Hendrix","0.9","0.5",null,null,"C",null,"Grade K","Grade Pre-K - 2","Horses are very fast, majestic creatures that love taking care of their babies. Early readers learn all about these amazing animals and how they live their lives. Accessible text paired with bright photographs show horses running, eating, and raising their foals. Readers learn fun facts, like how most foals are born in spring. Later, readers take in the sight of foals and horses living together as a family as the babies learn to stand and take their first steps!","English",22.6,16.95,"636.1--dc23","24 pp.",{"$f":"Table1[[#This Row],[QTY]]*Table1[[#This Row],['# Books]]","v":0},{"$f":"Table1[[#This Row],[QTY]]*Table1[[#This Row],[S&L Price]]","v":0}]
[null,9,20,"An Animal Family",1,"Koalas and Joeys","Library Bound Book",null,"978-1-4824-3781-2",{"$f":"HYPERLINK(\"https://www.garethstevens.com/\"&Table1[[#This Row],[ISBN]],\"Weblink\")","v":"Weblink"},2016,"January 2016","Library","7.625 X 7.125","Author","Emilia Hendrix","0.9","0.5",null,null,"C",null,"Grade K","Grade Pre-K - 2","Koalas are furry animals that spend lots of time in trees. These cute creatures have one joey at a time, which means mother and baby spend lots of time together while the joey grows. This exciting book takes a look at the lives of mother koalas and their tiny joeys, from their first moments alive and every step along the way as they grow in the pouch of their caring mothers. Accessible text paired with colorful photographs takes beginning readers on a journey to see where these amazing animals live in the wild.","English",22.6,16.95,"599.2'5--dc23","24 pp.",{"$f":"Table1[[#This Row],[QTY]]*Table1[[#This Row],['# Books]]","v":0},{"$f":"Table1[[#This Row],[QTY]]*Table1[[#This Row],[S&L Price]]","v":0}]
[null,9,20,"An Animal Family",1,"Koalas and Joeys","eBook",null,"978-1-4824-3782-9",{"$f":"HYPERLINK(\"https://www.garethstevens.com/\"&Table1[[#This Row],[ISBN]],\"Weblink\")","v":"Weblink"},2016,"January 2016",null,null,"Author","Emilia Hendrix","0.9","0.5",null,null,"C",null,"Grade K","Grade Pre-K - 2","Koalas are furry animals that spend lots of time in trees. These cute creatures have one joey at a time, which means mother and baby spend lots of time together while the joey grows. This exciting book takes a look at the lives of mother koalas and their tiny joeys, from their first moments alive and every step along the way as they grow in the pouch of their caring mothers. Accessible text paired with colorful photographs takes beginning readers on a journey to see where these amazing animals live in the wild.","English",22.6,16.95,"599.2'5--dc23","24 pp.",{"$f":"Table1[[#This Row],[QTY]]*Table1[[#This Row],['# Books]]","v":0},{"$f":"Table1[[#This Row],[QTY]]*Table1[[#This Row],[S&L Price]]","v":0}]
[null,9,20,"An Animal Family",1,"Owls and Owlets","Library Bound Book",null,"978-1-4824-6387-3",{"$f":"HYPERLINK(\"https://www.garethstevens.com/\"&Table1[[#This Row],[ISBN]],\"Weblink\")","v":"Weblink"},2018,"August 2017","Library","7.625 X 7.125","Author","Gustavo Sandoval","0.9","0.5",null,null,"C",null,"Grade K","Grade Pre-K - 2","Owls are amazing animals in their own right, but baby owlets are unbelievably cute! These bright-eyed creatures are great nocturnal hunters, stalking prey with their incredible eyesight. This charming book explores how they live their lives and survive in the trees. With vibrant full-color photographs and accessible text, this book brings young readers into the wild world of these feathered creatures, exploring how owlets become owls in an engaging introduction to the concept of life cycles.","English",22.6,16.95,"598.9’7--dc23","24 pp.",{"$f":"Table1[[#This Row],[QTY]]*Table1[[#This Row],['# Books]]","v":0},{"$f":"Table1[[#This Row],[QTY]]*Table1[[#This Row],[S&L Price]]","v":0}]
[null,9,20,"An Animal Family",1,"Owls and Owlets","eBook",null,"978-1-4824-6388-0",{"$f":"HYPERLINK(\"https://www.garethstevens.com/\"&Table1[[#This Row],[ISBN]],\"Weblink\")","v":"Weblink"},2018,"August 2017",null,null,"Author","Gustavo Sandoval","0.9","0.5",null,null,"C",null,"Grade K","Grade Pre-K - 2","Owls are amazing animals in their own right, but baby owlets are unbelievably cute! These bright-eyed creatures are great nocturnal hunters, stalking prey with their incredible eyesight. This charming book explores how they live their lives and survive in the trees. With vibrant full-color photographs and accessible text, this book brings young readers into the wild world of these feathered creatures, exploring how owlets become owls in an engaging introduction to the concept of life cycles.","English",22.6,16.95,"598.9’7--dc23","24 pp.",{"$f":"Table1[[#This Row],[QTY]]*Table1[[#This Row],['# Books]]","v":0},{"$f":"Table1[[#This Row],[QTY]]*Table1[[#This Row],[S&L Price]]","v":0}]
[null,9,20,"An Animal Family",1,"Pigs and Piglets","Library Bound Book",null,"978-1-4824-3785-0",{"$f":"HYPERLINK(\"https://www.garethstevens.com/\"&Table1[[#This Row],[ISBN]],\"Weblink\")","v":"Weblink"},2016,"January 2016","Library","7.625 X 7.125","Author","Emilia Hendrix","0.9","0.5",null,null,"C",null,"Grade K","Grade Pre-K - 2","Cute baby piglets are quite a sight to see, and this book gives beginning readers a look at their everyday lives. These super smart animals have a great sense of smell, and readers learn all about how they use that sense of smell to find food. Through accessible text and vivid photographs, readers see how pigs roll in mud to keep cool and how mother sows take care of their piglets, learning lots about these amazing animals along the way.","English",22.6,16.95,"636.4'07--dc23","24 pp.",{"$f":"Table1[[#This Row],[QTY]]*Table1[[#This Row],['# Books]]","v":0},{"$f":"Table1[[#This Row],[QTY]]*Table1[[#This Row],[S&L Price]]","v":0}]
[null,9,20,"An Animal Family",1,"Pigs and Piglets","eBook",null,"978-1-4824-3786-7",{"$f":"HYPERLINK(\"https://www.garethstevens.com/\"&Table1[[#This Row],[ISBN]],\"Weblink\")","v":"Weblink"},2016,"January 2016",null,null,"Author","Emilia Hendrix","0.9","0.5",null,null,"C",null,"Grade K","Grade Pre-K - 2","Cute baby piglets are quite a sight to see, and this book gives beginning readers a look at their everyday lives. These super smart animals have a great sense of smell, and readers learn all about how they use that sense of smell to find food. Through accessible text and vivid photographs, readers see how pigs roll in mud to keep cool and how mother sows take care of their piglets, learning lots about these amazing animals along the way.","English",22.6,16.95,"636.4'07--dc23","24 pp.",{"$f":"Table1[[#This Row],[QTY]]*Table1[[#This Row],['# Books]]","v":0},{"$f":"Table1[[#This Row],[QTY]]*Table1[[#This Row],[S&L Price]]","v":0}]
[null,9,20,"An Animal Family",1,"Seals and Pups","Library Bound Book",null,"978-1-4824-3789-8",{"$f":"HYPERLINK(\"https://www.garethstevens.com/\"&Table1[[#This Row],[ISBN]],\"Weblink\")","v":"Weblink"},2016,"January 2016","Library","7.625 X 7.125","Author","Emilia Hendrix","0.9","0.5",null,null,"C",null,"Grade K","Grade Pre-K - 2","Seals live on both land and sea, and these adorable animals take special care with their pups. Early readers will discover how seals love to eat fish, and how mother seals bring food to their newborn pups. These playful pups live as part of a colony, meaning these animals often have one big happy family to live in! Through simple text paired with amazing photographs, readers will love diving into the world of seals, watching them play and live their lives on the water.","English",22.6,16.95,"599.79--dc23","24 pp.",{"$f":"Table1[[#This Row],[QTY]]*Table1[[#This Row],['# Books]]","v":0},{"$f":"Table1[[#This Row],[QTY]]*Table1[[#This Row],[S&L Price]]","v":0}]
[null,9,20,"An Animal Family",1,"Seals and Pups","eBook",null,"978-1-4824-3790-4",{"$f":"HYPERLINK(\"https://www.garethstevens.com/\"&Table1[[#This Row],[ISBN]],\"Weblink\")","v":"Weblink"},2016,"January 2016",null,null,"Author","Emilia Hendrix","0.9","0.5",null,null,"C",null,"Grade K","Grade Pre-K - 2","Seals live on both land and sea, and these adorable animals take special care with their pups. Early readers will discover how seals love to eat fish, and how mother seals bring food to their newborn pups. These playful pups live as part of a colony, meaning these animals often have one big happy family to live in! Through simple text paired with amazing photographs, readers will love diving into the world of seals, watching them play and live their lives on the water.","English",22.6,16.95,"599.79--dc23","24 pp.",{"$f":"Table1[[#This Row],[QTY]]*Table1[[#This Row],['# Books]]","v":0},{"$f":"Table1[[#This Row],[QTY]]*Table1[[#This Row],[S&L Price]]","v":0}]
[null,9,20,"An Animal Family",1,"Tigers and Cubs","Library Bound Book",null,"978-1-4824-3793-5",{"$f":"HYPERLINK(\"https://www.garethstevens.com/\"&Table1[[#This Row],[ISBN]],\"Weblink\")","v":"Weblink"},2016,"January 2016","Library","7.625 X 7.125","Author","Emilia Hendrix","1","0.5",null,null,"C",null,"Grade K","Grade Pre-K - 2","Tiger cubs may be cute, but give them a couple years and they’re just as fierce as their protective mothers! This exciting book gives budding readers a first look at the lives these incredible cats live, searching for food and guarding their territory. Readers learn that mother tigers take care of their cubs, who can’t even see at birth! Colorful photographs also show tigers in zoos, where readers learn that people take care of and study these cubs as they grow older.","English",22.6,16.95,"599.756--dc23","24 pp.",{"$f":"Table1[[#This Row],[QTY]]*Table1[[#This Row],['# Books]]","v":0},{"$f":"Table1[[#This Row],[QTY]]*Table1[[#This Row],[S&L Price]]","v":0}]
[null,9,20,"An Animal Family",1,"Tigers and Cubs","eBook",null,"978-1-4824-3794-2",{"$f":"HYPERLINK(\"https://www.garethstevens.com/\"&Table1[[#This Row],[ISBN]],\"Weblink\")","v":"Weblink"},2016,"January 2016",null,null,"Author","Emilia Hendrix","1","0.5",null,null,"C",null,"Grade K","Grade Pre-K - 2","Tiger cubs may be cute, but give them a couple years and they’re just as fierce as their protective mothers! This exciting book gives budding readers a first look at the lives these incredible cats live, searching for food and guarding their territory. Readers learn that mother tigers take care of their cubs, who can’t even see at birth! Colorful photographs also show tigers in zoos, where readers learn that people take care of and study these cubs as they grow older.","English",22.6,16.95,"599.756--dc23","24 pp.",{"$f":"Table1[[#This Row],[QTY]]*Table1[[#This Row],['# Books]]","v":0},{"$f":"Table1[[#This Row],[QTY]]*Table1[[#This Row],[S&L Price]]","v":0}]
[null,10,null,"Ocean Animals",6,"Ocean Animals","Library Set",null,"978-1-5382-4527-9",{"$f":"HYPERLINK(\"https://www.garethstevens.com/\"&Table1[[#This Row],[ISBN]],\"Weblink\")","v":"Weblink"},2020,"January 2020","Library","7.625 X 7.125","","",null,null,null,null,null,null,"Grade K","Grade Pre-K - 2","A visit under the ocean is just a few turns of the page away! In accessible language and simple sentences, this set takes beginning readers for a trip underwater following their favorite ocean animals through the waves. From friendly dolphins to tiny seahorses, the animals are described using age-appropriate details and vocabulary. The animals' habits, food, families, and more are covered, accompanied by full-color photographs that leave readers eager for more of manatees, walruses, seals, and octopuses. Features include: ATOS level of less than 1.0 for pre-K readers. Up-close photographs give readers unique views of the featured animals. Words to Know sections identify unfamiliar vocabulary.","English",135.6,101.7,null,"24 pp.",{"$f":"Table1[[#This Row],[QTY]]*Table1[[#This Row],['# Books]]","v":0},{"$f":"Table1[[#This Row],[QTY]]*Table1[[#This Row],[S&L Price]]","v":0}]
[null,10,null,"Ocean Animals",1,"Dolphins","Library Bound Book",null,"978-1-5382-4455-5",{"$f":"HYPERLINK(\"https://www.garethstevens.com/\"&Table1[[#This Row],[ISBN]],\"Weblink\")","v":"Weblink"},2020,"January 2020","Library","7.625 X 7.125","Author","Walter LaPlante",null,null,null,null,"C",null,"Grade K","Grade Pre-K - 2","Dolphins are often called friendly animals due to their \"smiling\" faces and their splashing fins and water play. Maybe because of this perception or dolphins' reputation for being very smart, dolphins are a common favorite among young readers. With this colorful volume, beginning readers can see this popular ocean animal up close in beautiful photographs that closely correlate with achievable text. Including information about dolphin pods, babies, and food, this book will captivate readers again and again.","English",22.6,16.95,"599.53--dc23","24 pp.",{"$f":"Table1[[#This Row],[QTY]]*Table1[[#This Row],['# Books]]","v":0},{"$f":"Table1[[#This Row],[QTY]]*Table1[[#This Row],[S&L Price]]","v":0}]
[null,10,null,"Ocean Animals",1,"Dolphins","eBook",null,"978-1-5382-4456-2",{"$f":"HYPERLINK(\"https://www.garethstevens.com/\"&Table1[[#This Row],[ISBN]],\"Weblink\")","v":"Weblink"},2020,"January 2020",null,null,"Author","Walter LaPlante",null,null,null,null,"C",null,"Grade K","Grade Pre-K - 2","Dolphins are often called friendly animals due to their \"smiling\" faces and their splashing fins and water play. Maybe because of this perception or dolphins' reputation for being very smart, dolphins are a common favorite among young readers. With this colorful volume, beginning readers can see this popular ocean animal up close in beautiful photographs that closely correlate with achievable text. Including information about dolphin pods, babies, and food, this book will captivate readers again and again.","English",22.6,16.95,"599.53--dc23","24 pp.",{"$f":"Table1[[#This Row],[QTY]]*Table1[[#This Row],['# Books]]","v":0},{"$f":"Table1[[#This Row],[QTY]]*Table1[[#This Row],[S&L Price]]","v":0}]
[null,10,null,"Ocean Animals",1,"Manatees","Library Bound Book",null,"978-1-5382-4459-3",{"$f":"HYPERLINK(\"https://www.garethstevens.com/\"&Table1[[#This Row],[ISBN]],\"Weblink\")","v":"Weblink"},2020,"January 2020","Library","7.625 X 7.125","Author","Walter LaPlante",null,null,null,null,"C",null,"Grade K","Grade Pre-K - 2","Manatees are often called \"sea cows,\" but that name doesn't do them justice, even though they may weigh as much as a full-grown cow. These enormous ocean animals can cruise along underwater at as fast as 15 miles per hour. They have strong tales that propel them gracefully through the water. Beginning readers learn about where manatees live, what they eat, how they move, and much more, all while enjoying beautiful photographs of manatees with each turn of the page.","English",22.6,16.95,"599.55--dc23","24 pp.",{"$f":"Table1[[#This Row],[QTY]]*Table1[[#This Row],['# Books]]","v":0},{"$f":"Table1[[#This Row],[QTY]]*Table1[[#This Row],[S&L Price]]","v":0}]
[null,10,null,"Ocean Animals",1,"Manatees","eBook",null,"978-1-5382-4460-9",{"$f":"HYPERLINK(\"https://www.garethstevens.com/\"&Table1[[#This Row],[ISBN]],\"Weblink\")","v":"Weblink"},2020,"January 2020",null,null,"Author","Walter LaPlante",null,null,null,null,"C",null,"Grade K","Grade Pre-K - 2","Manatees are often called \"sea cows,\" but that name doesn't do them justice, even though they may weigh as much as a full-grown cow. These enormous ocean animals can cruise along underwater at as fast as 15 miles per hour. They have strong tales that propel them gracefully through the water. Beginning readers learn about where manatees live, what they eat, how they move, and much more, all while enjoying beautiful photographs of manatees with each turn of the page.","English",22.6,16.95,"599.55--dc23","24 pp.",{"$f":"Table1[[#This Row],[QTY]]*Table1[[#This Row],['# Books]]","v":0},{"$f":"Table1[[#This Row],[QTY]]*Table1[[#This Row],[S&L Price]]","v":0}]
[null,10,null,"Ocean Animals",1,"Octopuses","Library Bound Book",null,"978-1-5382-4463-0",{"$f":"HYPERLINK(\"https://www.garethstevens.com/\"&Table1[[#This Row],[ISBN]],\"Weblink\")","v":"Weblink"},2020,"January 2020","Library","7.625 X 7.125","Author","Walter LaPlante",null,null,null,null,"C",null,"Grade K","Grade Pre-K - 2","Octopuses are the escape artists of the sea. With no bones, they're known to squeeze into tiny places and out of their tanks in aquariums. They come in all sizes and colors and feature some interesting body parts readers love to learn more about. In this volume, achievable main text and accompanying up-close photographs aid beginning readers in their quest to read and learn about octopuses. A picture glossary reinforces new vocabulary learned on these colorful pages.","English",22.6,16.95,"594/.56--dc23","24 pp.",{"$f":"Table1[[#This Row],[QTY]]*Table1[[#This Row],['# Books]]","v":0},{"$f":"Table1[[#This Row],[QTY]]*Table1[[#This Row],[S&L Price]]","v":0}]
[null,10,null,"Ocean Animals",1,"Octopuses","eBook",null,"978-1-5382-4464-7",{"$f":"HYPERLINK(\"https://www.garethstevens.com/\"&Table1[[#This Row],[ISBN]],\"Weblink\")","v":"Weblink"},2020,"January 2020",null,null,"Author","Walter LaPlante",null,null,null,null,"C",null,"Grade K","Grade Pre-K - 2","Octopuses are the escape artists of the sea. With no bones, they're known to squeeze into tiny places and out of their tanks in aquariums. They come in all sizes and colors and feature some interesting body parts readers love to learn more about. In this volume, achievable main text and accompanying up-close photographs aid beginning readers in their quest to read and learn about octopuses. A picture glossary reinforces new vocabulary learned on these colorful pages.","English",22.6,16.95,"594/.56--dc23","24 pp.",{"$f":"Table1[[#This Row],[QTY]]*Table1[[#This Row],['# Books]]","v":0},{"$f":"Table1[[#This Row],[QTY]]*Table1[[#This Row],[S&L Price]]","v":0}]
[null,10,null,"Ocean Animals",1,"Seahorses","Library Bound Book",null,"978-1-5382-4467-8",{"$f":"HYPERLINK(\"https://www.garethstevens.com/\"&Table1[[#This Row],[ISBN]],\"Weblink\")","v":"Weblink"},2020,"January 2020","Library","7.625 X 7.125","Author","Benjamin Proudfit",null,null,null,null,"C",null,"Grade K","Grade Pre-K - 2","They may not look like it, but seahorses are a kind of fish. These colorful, tiny ocean residents make their homes mostly in shallow waters and move into deeper areas during the rough seas of winter. They have plenty of other unique and interesting characteristics that readers of all ages can delight in. Achievable text written with beginning readers in mind introduces where seahorses like to live, aspects about their body, what they eat, and other fascinating details. Accompanying photographs take readers underwater to seahorse habitats, up-close and personal.","English",22.6,16.95,"597/.6798--dc23","24 pp.",{"$f":"Table1[[#This Row],[QTY]]*Table1[[#This Row],['# Books]]","v":0},{"$f":"Table1[[#This Row],[QTY]]*Table1[[#This Row],[S&L Price]]","v":0}]
[null,10,null,"Ocean Animals",1,"Seahorses","eBook",null,"978-1-5382-4468-5",{"$f":"HYPERLINK(\"https://www.garethstevens.com/\"&Table1[[#This Row],[ISBN]],\"Weblink\")","v":"Weblink"},2020,"January 2020",null,null,"Author","Benjamin Proudfit",null,null,null,null,"C",null,"Grade K","Grade Pre-K - 2","They may not look like it, but seahorses are a kind of fish. These colorful, tiny ocean residents make their homes mostly in shallow waters and move into deeper areas during the rough seas of winter. They have plenty of other unique and interesting characteristics that readers of all ages can delight in. Achievable text written with beginning readers in mind introduces where seahorses like to live, aspects about their body, what they eat, and other fascinating details. Accompanying photographs take readers underwater to seahorse habitats, up-close and personal.","English",22.6,16.95,"597/.6798--dc23","24 pp.",{"$f":"Table1[[#This Row],[QTY]]*Table1[[#This Row],['# Books]]","v":0},{"$f":"Table1[[#This Row],[QTY]]*Table1[[#This Row],[S&L Price]]","v":0}]
[null,10,null,"Ocean Animals",1,"Seals","Library Bound Book",null,"978-1-5382-4471-5",{"$f":"HYPERLINK(\"https://www.garethstevens.com/\"&Table1[[#This Row],[ISBN]],\"Weblink\")","v":"Weblink"},2020,"January 2020","Library","7.625 X 7.125","Author","Benjamin Proudfit",null,null,null,null,"C",null,"Grade K","Grade Pre-K - 2","Different kinds of seals live all over the world, including in the Arctic and Antarctic. No matter where these coastal-dwellers live, they're always pretty cute. Through text written specially for beginning readers, this volume introduces where seals can be found, what they eat, and how they interact with their ocean environment. Full-color photographs bring readers as close as they can get to seals without visiting an aquarium, and tie-in closely with accompanying text to aid in independent reading comprehension.","English",22.6,16.95,"599.79--dc23","24 pp.",{"$f":"Table1[[#This Row],[QTY]]*Table1[[#This Row],['# Books]]","v":0},{"$f":"Table1[[#This Row],[QTY]]*Table1[[#This Row],[S&L Price]]","v":0}]
[null,10,null,"Ocean Animals",1,"Seals","eBook",null,"978-1-5382-4472-2",{"$f":"HYPERLINK(\"https://www.garethstevens.com/\"&Table1[[#This Row],[ISBN]],\"Weblink\")","v":"Weblink"},2020,"January 2020",null,null,"Author","Benjamin Proudfit",null,null,null,null,"C",null,"Grade K","Grade Pre-K - 2","Different kinds of seals live all over the world, including in the Arctic and Antarctic. No matter where these coastal-dwellers live, they're always pretty cute. Through text written specially for beginning readers, this volume introduces where seals can be found, what they eat, and how they interact with their ocean environment. Full-color photographs bring readers as close as they can get to seals without visiting an aquarium, and tie-in closely with accompanying text to aid in independent reading comprehension.","English",22.6,16.95,"599.79--dc23","24 pp.",{"$f":"Table1[[#This Row],[QTY]]*Table1[[#This Row],['# Books]]","v":0},{"$f":"Table1[[#This Row],[QTY]]*Table1[[#This Row],[S&L Price]]","v":0}]
[null,10,null,"Ocean Animals",1,"Walruses","Library Bound Book",null,"978-1-5382-4475-3",{"$f":"HYPERLINK(\"https://www.garethstevens.com/\"&Table1[[#This Row],[ISBN]],\"Weblink\")","v":"Weblink"},2020,"January 2020","Library","7.625 X 7.125","Author","Benjamin Proudfit",null,null,null,null,"C",null,"Grade K","Grade Pre-K - 2","It's easy to spot a walrus in a crowd. Their massive size, mustaches, and long tusks are difficult to miss. Walruses are found in both the Atlantic and Pacific oceans, though they always live in the Arctic. Even though readers won't come across a walrus in their neighborhood, they are sure to be fascinated by this big ocean animal. This book caters to the beginning reader with specially written text, a picture glossary, and full-color photographs that closely correlate to the narrative.","English",22.6,16.95,"599.79/9--dc23","24 pp.",{"$f":"Table1[[#This Row],[QTY]]*Table1[[#This Row],['# Books]]","v":0},{"$f":"Table1[[#This Row],[QTY]]*Table1[[#This Row],[S&L Price]]","v":0}]
[null,10,null,"Ocean Animals",1,"Walruses","eBook",null,"978-1-5382-4476-0",{"$f":"HYPERLINK(\"https://www.garethstevens.com/\"&Table1[[#This Row],[ISBN]],\"Weblink\")","v":"Weblink"},2020,"January 2020",null,null,"Author","Benjamin Proudfit",null,null,null,null,"C",null,"Grade K","Grade Pre-K - 2","It's easy to spot a walrus in a crowd. Their massive size, mustaches, and long tusks are difficult to miss. Walruses are found in both the Atlantic and Pacific oceans, though they always live in the Arctic. Even though readers won't come across a walrus in their neighborhood, they are sure to be fascinated by this big ocean animal. This book caters to the beginning reader with specially written text, a picture glossary, and full-color photographs that closely correlate to the narrative.","English",22.6,16.95,"599.79/9--dc23","24 pp.",{"$f":"Table1[[#This Row],[QTY]]*Table1[[#This Row],['# Books]]","v":0},{"$f":"Table1[[#This Row],[QTY]]*Table1[[#This Row],[S&L Price]]","v":0}]
[null,11,null,"Tons of Trucks!",6,"Tons of Trucks!","Library Set",null,"978-1-5382-4528-6",{"$f":"HYPERLINK(\"https://www.garethstevens.com/\"&Table1[[#This Row],[ISBN]],\"Weblink\")","v":"Weblink"},2020,"January 2020","Library","7.625 X 7.125","","",null,null,null,null,null,null,"Grade K","Grade Pre-K - 2","Who doesn't get excited when they hear the musical tones of an ice cream truck? Similarly, other kinds of big vehicles often stop young truck enthusiasts in their tracks. This exciting set has the coolest facts about the most impressive trucks, including car carriers, concrete mixers, ice cream trucks, and exciting monster trucks. Colorful photographs of the vehicles in action will thrill young readers, while the accessible, low-ATOS text will delight and inform them. Features include: High-interest topics that attract many levels of readers. Friendly kid narrator who relays relevant and motivating facts about each kind of truck. Provides multiple opportunities to practice literacy skills relating to the English Language Arts Common Core.","English",135.6,101.7,null,"24 pp.",{"$f":"Table1[[#This Row],[QTY]]*Table1[[#This Row],['# Books]]","v":0},{"$f":"Table1[[#This Row],[QTY]]*Table1[[#This Row],[S&L Price]]","v":0}]
[null,11,null,"Tons of Trucks!",1,"Car Carriers","Library Bound Book",null,"978-1-5382-4503-3",{"$f":"HYPERLINK(\"https://www.garethstevens.com/\"&Table1[[#This Row],[ISBN]],\"Weblink\")","v":"Weblink"},2020,"January 2020","Library","7.625 X 7.125","Author","Luke Harasymiw",null,null,null,null,"C",null,"Grade K","Grade Pre-K - 2","It's impossible not to stare at a car carrier cruising down a highway hauling multiple cars. Sometimes the cars seem to dangle off the carrier, but no need to worry. These vehicles are especially equipped to safely bring cars where they need to go. Fascinated readers will love to find out how carriers work and how people use them. Carefully selected photographs support the low-ATOS text and aid readers in deciphering and acquiring new vocabulary.","English",22.6,16.95,"629.224--dc23","24 pp.",{"$f":"Table1[[#This Row],[QTY]]*Table1[[#This Row],['# Books]]","v":0},{"$f":"Table1[[#This Row],[QTY]]*Table1[[#This Row],[S&L Price]]","v":0}]
[null,11,null,"Tons of Trucks!",1,"Car Carriers","eBook",null,"978-1-5382-4504-0",{"$f":"HYPERLINK(\"https://www.garethstevens.com/\"&Table1[[#This Row],[ISBN]],\"Weblink\")","v":"Weblink"},2020,"January 2020",null,null,"Author","Luke Harasymiw",null,null,null,null,"C",null,"Grade K","Grade Pre-K - 2","It's impossible not to stare at a car carrier cruising down a highway hauling multiple cars. Sometimes the cars seem to dangle off the carrier, but no need to worry. These vehicles are especially equipped to safely bring cars where they need to go. Fascinated readers will love to find out how carriers work and how people use them. Carefully selected photographs support the low-ATOS text and aid readers in deciphering and acquiring new vocabulary.","English",22.6,16.95,"629.224--dc23","24 pp.",{"$f":"Table1[[#This Row],[QTY]]*Table1[[#This Row],['# Books]]","v":0},{"$f":"Table1[[#This Row],[QTY]]*Table1[[#This Row],[S&L Price]]","v":0}]
[null,11,null,"Tons of Trucks!",1,"Concrete Mixers","Library Bound Book",null,"978-1-5382-4507-1",{"$f":"HYPERLINK(\"https://www.garethstevens.com/\"&Table1[[#This Row],[ISBN]],\"Weblink\")","v":"Weblink"},2020,"January 2020","Library","7.625 X 7.125","Author","Luke Harasymiw",null,null,null,null,"C",null,"Grade K","Grade Pre-K - 2","Concrete mixers must keep mixing their load or the concrete will harden. These trucks are fascinating to watch as they move forward while the drum they carry turns around and around. Readers will love learning about this hardworking machine and why it's needed on so many construction projects. Low-ATOS text offers comprehensible explanations, and vibrant photographs add to this motivating book's appeal.","English",22.6,16.95,"624.1/834--dc23","24 pp.",{"$f":"Table1[[#This Row],[QTY]]*Table1[[#This Row],['# Books]]","v":0},{"$f":"Table1[[#This Row],[QTY]]*Table1[[#This Row],[S&L Price]]","v":0}]
[null,11,null,"Tons of Trucks!",1,"Concrete Mixers","eBook",null,"978-1-5382-4508-8",{"$f":"HYPERLINK(\"https://www.garethstevens.com/\"&Table1[[#This Row],[ISBN]],\"Weblink\")","v":"Weblink"},2020,"January 2020",null,null,"Author","Luke Harasymiw",null,null,null,null,"C",null,"Grade K","Grade Pre-K - 2","Concrete mixers must keep mixing their load or the concrete will harden. These trucks are fascinating to watch as they move forward while the drum they carry turns around and around. Readers will love learning about this hardworking machine and why it's needed on so many construction projects. Low-ATOS text offers comprehensible explanations, and vibrant photographs add to this motivating book's appeal.","English",22.6,16.95,"624.1/834--dc23","24 pp.",{"$f":"Table1[[#This Row],[QTY]]*Table1[[#This Row],['# Books]]","v":0},{"$f":"Table1[[#This Row],[QTY]]*Table1[[#This Row],[S&L Price]]","v":0}]
[null,11,null,"Tons of Trucks!",1,"Forklifts","Library Bound Book",null,"978-1-5382-4511-8",{"$f":"HYPERLINK(\"https://www.garethstevens.com/\"&Table1[[#This Row],[ISBN]],\"Weblink\")","v":"Weblink"},2020,"January 2020","Library","7.625 X 7.125","Author","Luke Harasymiw",null,null,null,null,"C",null,"Grade K","Grade Pre-K - 2","On a construction site, forklifts are essential machines. They carry tremendously heavy loads that could never be lifted by humans. Readers will love to see different types of these machines at work and how their various parts operate together to get the job done. Forklift photographs and low-ATOS text will answer their questions about these indispensable trucks in an accessible and comprehensible way.","English",22.6,16.95,"621.8/63--dc23","24 pp.",{"$f":"Table1[[#This Row],[QTY]]*Table1[[#This Row],['# Books]]","v":0},{"$f":"Table1[[#This Row],[QTY]]*Table1[[#This Row],[S&L Price]]","v":0}]
[null,11,null,"Tons of Trucks!",1,"Forklifts","eBook",null,"978-1-5382-4512-5",{"$f":"HYPERLINK(\"https://www.garethstevens.com/\"&Table1[[#This Row],[ISBN]],\"Weblink\")","v":"Weblink"},2020,"January 2020",null,null,"Author","Luke Harasymiw",null,null,null,null,"C",null,"Grade K","Grade Pre-K - 2","On a construction site, forklifts are essential machines. They carry tremendously heavy loads that could never be lifted by humans. Readers will love to see different types of these machines at work and how their various parts operate together to get the job done. Forklift photographs and low-ATOS text will answer their questions about these indispensable trucks in an accessible and comprehensible way.","English",22.6,16.95,"621.8/63--dc23","24 pp.",{"$f":"Table1[[#This Row],[QTY]]*Table1[[#This Row],['# Books]]","v":0},{"$f":"Table1[[#This Row],[QTY]]*Table1[[#This Row],[S&L Price]]","v":0}]
[null,11,null,"Tons of Trucks!",1,"Ice Cream Trucks","Library Bound Book",null,"978-1-5382-4515-6",{"$f":"HYPERLINK(\"https://www.garethstevens.com/\"&Table1[[#This Row],[ISBN]],\"Weblink\")","v":"Weblink"},2020,"January 2020","Library","7.625 X 7.125","Author","Luke Harasymiw",null,null,null,null,"C",null,"Grade K","Grade Pre-K - 2","Ice cream trucks are the most popular vehicles among people looking for a cool, tasty treat. While many kids are familiar with what the outside of a truck looks like, they don't know what's on the inside or the many activities of an ice cream truck driver. This high-interest book has the answers, explained through low-ATOS text with supporting photographs of real-life ice cream trucks.","English",22.6,16.95,"381/.41740284--dc23","24 pp.",{"$f":"Table1[[#This Row],[QTY]]*Table1[[#This Row],['# Books]]","v":0},{"$f":"Table1[[#This Row],[QTY]]*Table1[[#This Row],[S&L Price]]","v":0}]
[null,11,null,"Tons of Trucks!",1,"Ice Cream Trucks","eBook",null,"978-1-5382-4516-3",{"$f":"HYPERLINK(\"https://www.garethstevens.com/\"&Table1[[#This Row],[ISBN]],\"Weblink\")","v":"Weblink"},2020,"January 2020",null,null,"Author","Luke Harasymiw",null,null,null,null,"C",null,"Grade K","Grade Pre-K - 2","Ice cream trucks are the most popular vehicles among people looking for a cool, tasty treat. While many kids are familiar with what the outside of a truck looks like, they don't know what's on the inside or the many activities of an ice cream truck driver. This high-interest book has the answers, explained through low-ATOS text with supporting photographs of real-life ice cream trucks.","English",22.6,16.95,"381/.41740284--dc23","24 pp.",{"$f":"Table1[[#This Row],[QTY]]*Table1[[#This Row],['# Books]]","v":0},{"$f":"Table1[[#This Row],[QTY]]*Table1[[#This Row],[S&L Price]]","v":0}]
[null,11,null,"Tons of Trucks!",1,"Monster Trucks","Library Bound Book",null,"978-1-5382-4519-4",{"$f":"HYPERLINK(\"https://www.garethstevens.com/\"&Table1[[#This Row],[ISBN]],\"Weblink\")","v":"Weblink"},2020,"January 2020","Library","7.625 X 7.125","Author","Luke Harasymiw","4.5","0.5",null,null,"C",null,"Grade K","Grade Pre-K - 2","This book explores pickups with larger suspensions and big, big tires. Some monster trucks end up having so much personality that they're given special names. They may even compete for prizes in competitions. This high-interest volume has all the answers for monster-truck lovers, explained through accessible, low-ATOS text. Action photographs of on-the-go monster trucks will especially impress developing readers.","English",22.6,16.95,"629.223/2--dc23","24 pp.",{"$f":"Table1[[#This Row],[QTY]]*Table1[[#This Row],['# Books]]","v":0},{"$f":"Table1[[#This Row],[QTY]]*Table1[[#This Row],[S&L Price]]","v":0}]
[null,11,null,"Tons of Trucks!",1,"Monster Trucks","eBook",null,"978-1-5382-4520-0",{"$f":"HYPERLINK(\"https://www.garethstevens.com/\"&Table1[[#This Row],[ISBN]],\"Weblink\")","v":"Weblink"},2020,"January 2020",null,null,"Author","Luke Harasymiw","4.5","0.5",null,null,"C",null,"Grade K","Grade Pre-K - 2","This book explores pickups with larger suspensions and big, big tires. Some monster trucks end up having so much personality that they're given special names. They may even compete for prizes in competitions. This high-interest volume has all the answers for monster-truck lovers, explained through accessible, low-ATOS text. Action photographs of on-the-go monster trucks will especially impress developing readers.","English",22.6,16.95,"629.223/2--dc23","24 pp.",{"$f":"Table1[[#This Row],[QTY]]*Table1[[#This Row],['# Books]]","v":0},{"$f":"Table1[[#This Row],[QTY]]*Table1[[#This Row],[S&L Price]]","v":0}]
[null,11,null,"Tons of Trucks!",1,"Street Sweepers","Library Bound Book",null,"978-1-5382-4523-1",{"$f":"HYPERLINK(\"https://www.garethstevens.com/\"&Table1[[#This Row],[ISBN]],\"Weblink\")","v":"Weblink"},2020,"January 2020","Library","7.625 X 7.125","Author","Luke Harasymiw",null,null,null,null,"C",null,"Grade K","Grade Pre-K - 2","Thanks to the street sweeper, our streets are swept clean. Watching this terrific truck at work is mesmerizing. Depending on the kind of truck, it may have high-power sprayers, brooms, vacuums, or other devices to scour and clean the streets. Readers will love the action photographs in this high-interest volume as well as the many cool facts about this magnificent machine through accessible, low-ATOS text.","English",22.6,16.95,"628.4'6--dc23","24 pp.",{"$f":"Table1[[#This Row],[QTY]]*Table1[[#This Row],['# Books]]","v":0},{"$f":"Table1[[#This Row],[QTY]]*Table1[[#This Row],[S&L Price]]","v":0}]
[null,11,null,"Tons of Trucks!",1,"Street Sweepers","eBook",null,"978-1-5382-4524-8",{"$f":"HYPERLINK(\"https://www.garethstevens.com/\"&Table1[[#This Row],[ISBN]],\"Weblink\")","v":"Weblink"},2020,"January 2020",null,null,"Author","Luke Harasymiw",null,null,null,null,"C",null,"Grade K","Grade Pre-K - 2","Thanks to the street sweeper, our streets are swept clean. Watching this terrific truck at work is mesmerizing. Depending on the kind of truck, it may have high-power sprayers, brooms, vacuums, or other devices to scour and clean the streets. Readers will love the action photographs in this high-interest volume as well as the many cool facts about this magnificent machine through accessible, low-ATOS text.","English",22.6,16.95,"628.4'6--dc23","24 pp.",{"$f":"Table1[[#This Row],[QTY]]*Table1[[#This Row],['# Books]]","v":0},{"$f":"Table1[[#This Row],[QTY]]*Table1[[#This Row],[S&L Price]]","v":0}]
[null,12,null,"I Can Be Anything!",18,"I Can Be Anything! (Set of 18 Titles)","Library Set",null,"978-1-5382-5989-4",{"$f":"HYPERLINK(\"https://www.garethstevens.com/\"&Table1[[#This Row],[ISBN]],\"Weblink\")","v":"Weblink"},2021,"August 2020","Library","7.625 X 7.125","","",null,null,null,null,null,null,"Grade K","Grade Pre-K - 2","Some children dream about hitting a home run in front of thousands of cheering fans. Others imagine flying a plane over the sea, helping animals, or working in a school. Whatever a young person hopes to be when they grow up, it's important for them to know that with hard work and dedication they can get there. Readers of this engaging collection learn about many diverse occupations. Low-ATOS level narratives encourage beginning readers to explore new and interesting topics while sparking an appreciation for reading. Features include: Picture glossaries that reinforce understanding of key terms. Colorful photographs correlate closely with the narratives, supporting reading comprehension. ATOS reading levels below 1.0.","English",406.8,305.10000000000002,null,"24 pp.",{"$f":"Table1[[#This Row],[QTY]]*Table1[[#This Row],['# Books]]","v":0},{"$f":"Table1[[#This Row],[QTY]]*Table1[[#This Row],[S&L Price]]","v":0}]
[null,12,null,"I Can Be Anything!",6,"I Can Be Anything! (Set of 6 NEW Titles)","Library Set",null,"978-1-5382-5988-7",{"$f":"HYPERLINK(\"https://www.garethstevens.com/\"&Table1[[#This Row],[ISBN]],\"Weblink\")","v":"Weblink"},2021,"August 2020","Library","7.625 X 7.125","","",null,null,null,null,null,null,"Grade K","Grade Pre-K - 2","From medicine to sports, there's no shortage of fields young people can work in when they grow up, and it's never too early to start exploring them. This innovative set has something to offer all readers, whether they dream of being a race car driver, are interested in learning what park rangers do, or just want to see what types of jobs are out there. Simple narratives pair closely with colorful photographs, encouraging a development of strong reading comprehension skills. Features include: Colorful picture glossaries support understanding of key vocabulary. Introduces readers to common book features, such as a table of contents and index. ATOS reading levels below 1.0.","English",135.6,101.7,null,"24 pp.",{"$f":"Table1[[#This Row],[QTY]]*Table1[[#This Row],['# Books]]","v":0},{"$f":"Table1[[#This Row],[QTY]]*Table1[[#This Row],[S&L Price]]","v":0}]
[null,12,null,"I Can Be Anything!",1,"I Can Be a Baseball Player","Library Bound Book",null,"978-1-5382-5560-5",{"$f":"HYPERLINK(\"https://www.garethstevens.com/\"&Table1[[#This Row],[ISBN]],\"Weblink\")","v":"Weblink"},2021,"August 2020","Library","7.625 X 7.125","Author","Nancy Greenwood",null,null,null,null,"C",null,"Grade K","Grade Pre-K - 2","Lots of young athletes aspire to someday play the game they love for a living. For many baseball fans, playing on a professional team is the ultimate dream. This engaging volume shows readers what it's like to play the national pastime in front of thousands of fans. Low-ATOS text and eye-catching photographs support beginning readers and encourage them to take steps toward their goals now, such as by signing up for Little League or tee ball.","English",22.6,16.95,"796.357--dc23","24 pp.",{"$f":"Table1[[#This Row],[QTY]]*Table1[[#This Row],['# Books]]","v":0},{"$f":"Table1[[#This Row],[QTY]]*Table1[[#This Row],[S&L Price]]","v":0}]
[null,12,null,"I Can Be Anything!",1,"I Can Be a Baseball Player","eBook",null,"978-1-5382-5561-2",{"$f":"HYPERLINK(\"https://www.garethstevens.com/\"&Table1[[#This Row],[ISBN]],\"Weblink\")","v":"Weblink"},2021,"August 2020",null,null,"Author","Nancy Greenwood",null,null,null,null,"C",null,"Grade K","Grade Pre-K - 2","Lots of young athletes aspire to someday play the game they love for a living. For many baseball fans, playing on a professional team is the ultimate dream. This engaging volume shows readers what it's like to play the national pastime in front of thousands of fans. Low-ATOS text and eye-catching photographs support beginning readers and encourage them to take steps toward their goals now, such as by signing up for Little League or tee ball.","English",22.6,16.95,"796.357--dc23","24 pp.",{"$f":"Table1[[#This Row],[QTY]]*Table1[[#This Row],['# Books]]","v":0},{"$f":"Table1[[#This Row],[QTY]]*Table1[[#This Row],[S&L Price]]","v":0}]
[null,12,null,"I Can Be Anything!",1,"I Can Be a Dentist","Library Bound Book",null,"978-1-5382-5548-3",{"$f":"HYPERLINK(\"https://www.garethstevens.com/\"&Table1[[#This Row],[ISBN]],\"Weblink\")","v":"Weblink"},2021,"August 2020","Library","7.625 X 7.125","Author","Nancy Greenwood",null,null,null,null,"C",null,"Grade K","Grade Pre-K - 2","Dental hygiene is a key part of staying healthy. With the help of eye-catching photographs and accessible text, readers will learn what it's like to be a dentist. Low-ATOS level text introduces beginning readers to a valuable career path. Readers will also learn why going to the dentist is important and see that visiting one can be a comfortable and pleasant experience.","English",22.6,16.95,"617.6'023--dc23","24 pp.",{"$f":"Table1[[#This Row],[QTY]]*Table1[[#This Row],['# Books]]","v":0},{"$f":"Table1[[#This Row],[QTY]]*Table1[[#This Row],[S&L Price]]","v":0}]
[null,12,null,"I Can Be Anything!",1,"I Can Be a Dentist","eBook",null,"978-1-5382-5549-0",{"$f":"HYPERLINK(\"https://www.garethstevens.com/\"&Table1[[#This Row],[ISBN]],\"Weblink\")","v":"Weblink"},2021,"August 2020",null,null,"Author","Nancy Greenwood",null,null,null,null,"C",null,"Grade K","Grade Pre-K - 2","Dental hygiene is a key part of staying healthy. With the help of eye-catching photographs and accessible text, readers will learn what it's like to be a dentist. Low-ATOS level text introduces beginning readers to a valuable career path. Readers will also learn why going to the dentist is important and see that visiting one can be a comfortable and pleasant experience.","English",22.6,16.95,"617.6'023--dc23","24 pp.",{"$f":"Table1[[#This Row],[QTY]]*Table1[[#This Row],['# Books]]","v":0},{"$f":"Table1[[#This Row],[QTY]]*Table1[[#This Row],[S&L Price]]","v":0}]
[null,12,null,"I Can Be Anything!",1,"I Can Be a Nurse","Library Bound Book",null,"978-1-5382-5552-0",{"$f":"HYPERLINK(\"https://www.garethstevens.com/\"&Table1[[#This Row],[ISBN]],\"Weblink\")","v":"Weblink"},2021,"August 2020","Library","7.625 X 7.125","Author","Nancy Greenwood",null,null,null,null,"C",null,"Grade K","Grade Pre-K - 2","Whether it's a school nurse, an emergency room nurse, or any other type of nurse, these professionals play an important role in their communities. Your young readers will learn what a nurse's job entails and be encouraged to consider such a career for themselves someday. Low-ATOS level text correlates closely with vibrant photographs that help readers develop a deeper understanding of this book's high-interest content. A colorful picture glossary helps readers recognize key terms.","English",22.6,16.95,"610.7306/9--dc23","24 pp.",{"$f":"Table1[[#This Row],[QTY]]*Table1[[#This Row],['# Books]]","v":0},{"$f":"Table1[[#This Row],[QTY]]*Table1[[#This Row],[S&L Price]]","v":0}]
[null,12,null,"I Can Be Anything!",1,"I Can Be a Nurse","eBook",null,"978-1-5382-5553-7",{"$f":"HYPERLINK(\"https://www.garethstevens.com/\"&Table1[[#This Row],[ISBN]],\"Weblink\")","v":"Weblink"},2021,"August 2020",null,null,"Author","Nancy Greenwood",null,null,null,null,"C",null,"Grade K","Grade Pre-K - 2","Whether it's a school nurse, an emergency room nurse, or any other type of nurse, these professionals play an important role in their communities. Your young readers will learn what a nurse's job entails and be encouraged to consider such a career for themselves someday. Low-ATOS level text correlates closely with vibrant photographs that help readers develop a deeper understanding of this book's high-interest content. A colorful picture glossary helps readers recognize key terms.","English",22.6,16.95,"610.7306/9--dc23","24 pp.",{"$f":"Table1[[#This Row],[QTY]]*Table1[[#This Row],['# Books]]","v":0},{"$f":"Table1[[#This Row],[QTY]]*Table1[[#This Row],[S&L Price]]","v":0}]
[null,12,null,"I Can Be Anything!",1,"I Can Be a Park Ranger","Library Bound Book",null,"978-1-5382-5556-8",{"$f":"HYPERLINK(\"https://www.garethstevens.com/\"&Table1[[#This Row],[ISBN]],\"Weblink\")","v":"Weblink"},2021,"August 2020","Library","7.625 X 7.125","Author","Nancy Greenwood",null,null,null,null,"C",null,"Grade K","Grade Pre-K - 2","For those who enjoy being outdoors, being a park ranger might sound like a dream job. Beginning readers will see what it takes to work in this fascinating field. Concise, accessible text allows readers of all ages and levels to explore a unique career path. Vibrant photographs aid readers in comprehending new information while a colorful picture glossary helps them learn new terms.","English",22.6,16.95,"363.68023--dc23","24 pp.",{"$f":"Table1[[#This Row],[QTY]]*Table1[[#This Row],['# Books]]","v":0},{"$f":"Table1[[#This Row],[QTY]]*Table1[[#This Row],[S&L Price]]","v":0}]
[null,12,null,"I Can Be Anything!",1,"I Can Be a Park Ranger","eBook",null,"978-1-5382-5557-5",{"$f":"HYPERLINK(\"https://www.garethstevens.com/\"&Table1[[#This Row],[ISBN]],\"Weblink\")","v":"Weblink"},2021,"August 2020",null,null,"Author","Nancy Greenwood",null,null,null,null,"C",null,"Grade K","Grade Pre-K - 2","For those who enjoy being outdoors, being a park ranger might sound like a dream job. Beginning readers will see what it takes to work in this fascinating field. Concise, accessible text allows readers of all ages and levels to explore a unique career path. Vibrant photographs aid readers in comprehending new information while a colorful picture glossary helps them learn new terms.","English",22.6,16.95,"363.68023--dc23","24 pp.",{"$f":"Table1[[#This Row],[QTY]]*Table1[[#This Row],['# Books]]","v":0},{"$f":"Table1[[#This Row],[QTY]]*Table1[[#This Row],[S&L Price]]","v":0}]
[null,12,null,"I Can Be Anything!",1,"I Can Be a Race Car Driver","Library Bound Book",null,"978-1-5382-5568-1",{"$f":"HYPERLINK(\"https://www.garethstevens.com/\"&Table1[[#This Row],[ISBN]],\"Weblink\")","v":"Weblink"},2021,"August 2020","Library","7.625 X 7.125","Author","Nancy Greenwood",null,null,null,null,"C",null,"Grade K","Grade Pre-K - 2","Speedy car races are fun to watch, but it's even more exciting when you're one of the racers. Sports enthusiasts will take a look at life on the racetrack. Concise, low-ATOS text and eye-catching photographs help beginning readers learn about race car driving, from the fast cars to the fans in the stands.","English",22.6,16.95,"796.72--dc23","24 pp.",{"$f":"Table1[[#This Row],[QTY]]*Table1[[#This Row],['# Books]]","v":0},{"$f":"Table1[[#This Row],[QTY]]*Table1[[#This Row],[S&L Price]]","v":0}]
[null,12,null,"I Can Be Anything!",1,"I Can Be a Race Car Driver","eBook",null,"978-1-5382-5569-8",{"$f":"HYPERLINK(\"https://www.garethstevens.com/\"&Table1[[#This Row],[ISBN]],\"Weblink\")","v":"Weblink"},2021,"August 2020",null,null,"Author","Nancy Greenwood",null,null,null,null,"C",null,"Grade K","Grade Pre-K - 2","Speedy car races are fun to watch, but it's even more exciting when you're one of the racers. Sports enthusiasts will take a look at life on the racetrack. Concise, low-ATOS text and eye-catching photographs help beginning readers learn about race car driving, from the fast cars to the fans in the stands.","English",22.6,16.95,"796.72--dc23","24 pp.",{"$f":"Table1[[#This Row],[QTY]]*Table1[[#This Row],['# Books]]","v":0},{"$f":"Table1[[#This Row],[QTY]]*Table1[[#This Row],[S&L Price]]","v":0}]
[null,12,null,"I Can Be Anything!",1,"I Can Be an Artist","Library Bound Book",null,"978-1-5382-5564-3",{"$f":"HYPERLINK(\"https://www.garethstevens.com/\"&Table1[[#This Row],[ISBN]],\"Weblink\")","v":"Weblink"},2021,"August 2020","Library","7.625 X 7.125","Author","Nancy Greenwood",null,null,null,null,"C",null,"Grade K","Grade Pre-K - 2","Whether it involves painting, drawing, sculpting, or any other art form, being an artist takes talent, determination, and hard work. This high-interest volume shows young readers what life can be like for people who work as artists. Colorful photographs pair closely with achievable, low-ATOS text, making for a book that readers of many ages and levels are able to enjoy. Young artists and those who are simply curious about different creative possibilities will love this engaging book.","English",22.6,16.95,"702.3--dc23","24 pp.",{"$f":"Table1[[#This Row],[QTY]]*Table1[[#This Row],['# Books]]","v":0},{"$f":"Table1[[#This Row],[QTY]]*Table1[[#This Row],[S&L Price]]","v":0}]
[null,12,null,"I Can Be Anything!",1,"I Can Be an Artist","eBook",null,"978-1-5382-5565-0",{"$f":"HYPERLINK(\"https://www.garethstevens.com/\"&Table1[[#This Row],[ISBN]],\"Weblink\")","v":"Weblink"},2021,"August 2020",null,null,"Author","Nancy Greenwood",null,null,null,null,"C",null,"Grade K","Grade Pre-K - 2","Whether it involves painting, drawing, sculpting, or any other art form, being an artist takes talent, determination, and hard work. This high-interest volume shows young readers what life can be like for people who work as artists. Colorful photographs pair closely with achievable, low-ATOS text, making for a book that readers of many ages and levels are able to enjoy. Young artists and those who are simply curious about different creative possibilities will love this engaging book.","English",22.6,16.95,"702.3--dc23","24 pp.",{"$f":"Table1[[#This Row],[QTY]]*Table1[[#This Row],['# Books]]","v":0},{"$f":"Table1[[#This Row],[QTY]]*Table1[[#This Row],[S&L Price]]","v":0}]
[null,null,33,"I Can Be Anything!",12,"I Can Be Anything!","Library Set",null,"978-1-5382-2206-5",{"$f":"HYPERLINK(\"https://www.garethstevens.com/\"&Table1[[#This Row],[ISBN]],\"Weblink\")","v":"Weblink"},2019,"August 2018","Library","7.625 X 7.125",null,null,null,null,null,null,null,null,"Grade K","Grade Pre-K - 2","The world is full of exciting careers for young people to explore and learn about. From writing stories to caring for sick animals, there are so many fun and important jobs to choose from. Each of these inspiring volumes focuses on a particular occupation and gives readers a look into the professional world. Vivid photographs correlate closely with age-appropriate text and help readers understand what each job would be like in real life. This engaging series helps readers decide how their interests might someday turn into a career. Features include: A colorful picture glossary reinforces the understanding of key vocabulary. Each book includes low-ATOS level text (below 1.0). Accessible text and bright photographs engage readers, while simultaneously building their reading comprehension skills.","English",271.2,203.4,null,"24 pp.",{"$f":"Table1[[#This Row],[QTY]]*Table1[[#This Row],['# Books]]","v":0},{"$f":"Table1[[#This Row],[QTY]]*Table1[[#This Row],[S&L Price]]","v":0}]
[null,13,33,"I Can Be Anything!",1,"I Can Be a Chef","Library Bound Book",null,"978-1-5382-1753-5",{"$f":"HYPERLINK(\"https://www.garethstevens.com/\"&Table1[[#This Row],[ISBN]],\"Weblink\")","v":"Weblink"},2019,"August 2018","Library","7.625 X 7.125","Author","Miller Slenzak","0.9","0.5",null,null,"C",null,"Grade K","Grade Pre-K - 2","For many, a love of cooking great cuisine starts early. Some find this passion by helping a parent in the kitchen, others may find it by reading about it. With the help of this fun volume, readers learn what it takes to work in a busy restaurant kitchen. Colorful photographs are paired with engaging, low-ATOS text to support beginning readers. After reading about the tools they use and the responsibilities they have, readers can decide if being a chef is a career they would like to pursue.","English",22.6,16.95,"641.5023--dc23","24 pp.",{"$f":"Table1[[#This Row],[QTY]]*Table1[[#This Row],['# Books]]","v":0},{"$f":"Table1[[#This Row],[QTY]]*Table1[[#This Row],[S&L Price]]","v":0}]
[null,13,33,"I Can Be Anything!",1,"I Can Be a Chef","eBook",null,"978-1-5382-1757-3",{"$f":"HYPERLINK(\"https://www.garethstevens.com/\"&Table1[[#This Row],[ISBN]],\"Weblink\")","v":"Weblink"},2019,"August 2018",null,null,"Author","Miller Slenzak","0.9","0.5",null,null,"C",null,"Grade K","Grade Pre-K - 2","For many, a love of cooking great cuisine starts early. Some find this passion by helping a parent in the kitchen, others may find it by reading about it. With the help of this fun volume, readers learn what it takes to work in a busy restaurant kitchen. Colorful photographs are paired with engaging, low-ATOS text to support beginning readers. After reading about the tools they use and the responsibilities they have, readers can decide if being a chef is a career they would like to pursue.","English",22.6,16.95,"641.5023--dc23","24 pp.",{"$f":"Table1[[#This Row],[QTY]]*Table1[[#This Row],['# Books]]","v":0},{"$f":"Table1[[#This Row],[QTY]]*Table1[[#This Row],[S&L Price]]","v":0}]
[null,13,33,"I Can Be Anything!",1,"I Can Be a Doctor","Library Bound Book",null,"978-1-4824-6319-4",{"$f":"HYPERLINK(\"https://www.garethstevens.com/\"&Table1[[#This Row],[ISBN]],\"Weblink\")","v":"Weblink"},2018,"August 2017","Library","7.625 X 7.125","Author","Audrey Charles","0.9","0.5",null,null,"B",null,"Grade K","Grade Pre-K - 2","Many young people love the idea of becoming a doctor so they can help others. In this entertaining narrative, readers will meet Dr. Jones and learn about the many things she does for her patients. They’ll also find out what happens when they go to checkups and be encouraged to consider a medical career for themselves. Low-ATOS text and bright photographs make this instructive volume an engaging read for doctors-in-training!","English",22.6,16.95,"610.69--dc23","24 pp.",{"$f":"Table1[[#This Row],[QTY]]*Table1[[#This Row],['# Books]]","v":0},{"$f":"Table1[[#This Row],[QTY]]*Table1[[#This Row],[S&L Price]]","v":0}]
[null,13,33,"I Can Be Anything!",1,"I Can Be a Doctor","eBook",null,"978-1-4824-6320-0",{"$f":"HYPERLINK(\"https://www.garethstevens.com/\"&Table1[[#This Row],[ISBN]],\"Weblink\")","v":"Weblink"},2018,"August 2017",null,null,"Author","Audrey Charles","0.9","0.5",null,null,"B",null,"Grade K","Grade Pre-K - 2","Many young people love the idea of becoming a doctor so they can help others. In this entertaining narrative, readers will meet Dr. Jones and learn about the many things she does for her patients. They’ll also find out what happens when they go to checkups and be encouraged to consider a medical career for themselves. Low-ATOS text and bright photographs make this instructive volume an engaging read for doctors-in-training!","English",22.6,16.95,"610.69--dc23","24 pp.",{"$f":"Table1[[#This Row],[QTY]]*Table1[[#This Row],['# Books]]","v":0},{"$f":"Table1[[#This Row],[QTY]]*Table1[[#This Row],[S&L Price]]","v":0}]
[null,13,33,"I Can Be Anything!",1,"I Can Be a Firefighter","Library Bound Book",null,"978-1-4824-6323-1",{"$f":"HYPERLINK(\"https://www.garethstevens.com/\"&Table1[[#This Row],[ISBN]],\"Weblink\")","v":"Weblink"},2018,"August 2017","Library","7.625 X 7.125","Author","Audrey Charles","0.9","0.5",null,null,"C",null,"Grade K","Grade Pre-K - 2","It’s time to get in the fire engine and sound the alarm. In this book, beginning readers head to the station to meet the heroes who help our communities: firefighters. Readers will love this lively look at the many duties and tools of firefighters. Achievable, low-ATOS text and exciting photographs combine to create an accessible volume about this career, one that continues to fascinate many young people.","English",22.6,16.95,"628.9’2--dc23","24 pp.",{"$f":"Table1[[#This Row],[QTY]]*Table1[[#This Row],['# Books]]","v":0},{"$f":"Table1[[#This Row],[QTY]]*Table1[[#This Row],[S&L Price]]","v":0}]
[null,13,33,"I Can Be Anything!",1,"I Can Be a Firefighter","eBook",null,"978-1-4824-6324-8",{"$f":"HYPERLINK(\"https://www.garethstevens.com/\"&Table1[[#This Row],[ISBN]],\"Weblink\")","v":"Weblink"},2018,"August 2017",null,null,"Author","Audrey Charles","0.9","0.5",null,null,"C",null,"Grade K","Grade Pre-K - 2","It’s time to get in the fire engine and sound the alarm. In this book, beginning readers head to the station to meet the heroes who help our communities: firefighters. Readers will love this lively look at the many duties and tools of firefighters. Achievable, low-ATOS text and exciting photographs combine to create an accessible volume about this career, one that continues to fascinate many young people.","English",22.6,16.95,"628.9’2--dc23","24 pp.",{"$f":"Table1[[#This Row],[QTY]]*Table1[[#This Row],['# Books]]","v":0},{"$f":"Table1[[#This Row],[QTY]]*Table1[[#This Row],[S&L Price]]","v":0}]
[null,13,33,"I Can Be Anything!",1,"I Can Be a Librarian","Library Bound Book",null,"978-1-5382-1760-3",{"$f":"HYPERLINK(\"https://www.garethstevens.com/\"&Table1[[#This Row],[ISBN]],\"Weblink\")","v":"Weblink"},2019,"August 2018","Library","7.625 X 7.125","Author","Anthony Ardely","0.9","0.5",null,null,"C",null,"Grade K","Grade Pre-K - 2","For those who love reading, the library is often a favorite place to spend time. For many young readers, working in a library might sound like the perfect job. In addition to learning about the hard work that goes into being a librarian, readers will learn about important concepts, such as borrowing. Bright photographs that are closely related to the text help create an accessible, engaging book for beginning readers. Those who already love libraries will come to respect the hard work their librarians do, while others may be inspired to take a trip to their local library.","English",22.6,16.95,"020.92--dc23","24 pp.",{"$f":"Table1[[#This Row],[QTY]]*Table1[[#This Row],['# Books]]","v":0},{"$f":"Table1[[#This Row],[QTY]]*Table1[[#This Row],[S&L Price]]","v":0}]
[null,13,33,"I Can Be Anything!",1,"I Can Be a Librarian","eBook",null,"978-1-5382-1761-0",{"$f":"HYPERLINK(\"https://www.garethstevens.com/\"&Table1[[#This Row],[ISBN]],\"Weblink\")","v":"Weblink"},2019,"August 2018",null,null,"Author","Anthony Ardely","0.9","0.5",null,null,"C",null,"Grade K","Grade Pre-K - 2","For those who love reading, the library is often a favorite place to spend time. For many young readers, working in a library might sound like the perfect job. In addition to learning about the hard work that goes into being a librarian, readers will learn about important concepts, such as borrowing. Bright photographs that are closely related to the text help create an accessible, engaging book for beginning readers. Those who already love libraries will come to respect the hard work their librarians do, while others may be inspired to take a trip to their local library.","English",22.6,16.95,"020.92--dc23","24 pp.",{"$f":"Table1[[#This Row],[QTY]]*Table1[[#This Row],['# Books]]","v":0},{"$f":"Table1[[#This Row],[QTY]]*Table1[[#This Row],[S&L Price]]","v":0}]
[null,13,33,"I Can Be Anything!",1,"I Can Be a Pilot","Library Bound Book",null,"978-1-5382-1764-1",{"$f":"HYPERLINK(\"https://www.garethstevens.com/\"&Table1[[#This Row],[ISBN]],\"Weblink\")","v":"Weblink"},2019,"August 2018","Library","7.625 X 7.125","Author","Miller Slenzak","0.9","0.5",null,null,"C",null,"Grade K","Grade Pre-K - 2","To many young readers, there are few things that sound more exciting than flying over the sea and around the world. This exciting book explores what the life of a pilot is like and introduces some of the different parts of a plane. Close picture-text correlation help readers understand key concepts and develop important reading comprehension skills. Accessible, low-ATOS text will help young readers learn about this fascinating career, while colorful photographs help readers entertain the idea that someday, they may become a pilot.","English",22.6,16.95,"387.7092--dc23","24 pp.",{"$f":"Table1[[#This Row],[QTY]]*Table1[[#This Row],['# Books]]","v":0},{"$f":"Table1[[#This Row],[QTY]]*Table1[[#This Row],[S&L Price]]","v":0}]
[null,13,33,"I Can Be Anything!",1,"I Can Be a Pilot","eBook",null,"978-1-5382-1765-8",{"$f":"HYPERLINK(\"https://www.garethstevens.com/\"&Table1[[#This Row],[ISBN]],\"Weblink\")","v":"Weblink"},2019,"August 2018",null,null,"Author","Miller Slenzak","0.9","0.5",null,null,"C",null,"Grade K","Grade Pre-K - 2","To many young readers, there are few things that sound more exciting than flying over the sea and around the world. This exciting book explores what the life of a pilot is like and introduces some of the different parts of a plane. Close picture-text correlation help readers understand key concepts and develop important reading comprehension skills. Accessible, low-ATOS text will help young readers learn about this fascinating career, while colorful photographs help readers entertain the idea that someday, they may become a pilot.","English",22.6,16.95,"387.7092--dc23","24 pp.",{"$f":"Table1[[#This Row],[QTY]]*Table1[[#This Row],['# Books]]","v":0},{"$f":"Table1[[#This Row],[QTY]]*Table1[[#This Row],[S&L Price]]","v":0}]
[null,13,33,"I Can Be Anything!",1,"I Can Be a Police Officer","Library Bound Book",null,"978-1-4824-6327-9",{"$f":"HYPERLINK(\"https://www.garethstevens.com/\"&Table1[[#This Row],[ISBN]],\"Weblink\")","v":"Weblink"},2018,"August 2017","Library","7.625 X 7.125","Author","Audrey Charles","0.9","0.5",null,null,"C",null,"Grade K","Grade Pre-K - 2","There's so much more to police officers than what we see on television or in the movies. Police officers are truly community helpers who serve the public in many ways. Readers of this concise and entertaining volume will learn how police officers help children as well as about the cool ways they get around, including on horseback. Accessible vocabulary terms are paired with carefully chosen images to support beginning readers. After learning facts about police officers, readers can decide if they, too, would consider a future career in law enforcement.","English",22.6,16.95,"363.2’3--dc23","24 pp.",{"$f":"Table1[[#This Row],[QTY]]*Table1[[#This Row],['# Books]]","v":0},{"$f":"Table1[[#This Row],[QTY]]*Table1[[#This Row],[S&L Price]]","v":0}]
[null,13,33,"I Can Be Anything!",1,"I Can Be a Police Officer","eBook",null,"978-1-4824-6328-6",{"$f":"HYPERLINK(\"https://www.garethstevens.com/\"&Table1[[#This Row],[ISBN]],\"Weblink\")","v":"Weblink"},2018,"August 2017",null,null,"Author","Audrey Charles","0.9","0.5",null,null,"C",null,"Grade K","Grade Pre-K - 2","There's so much more to police officers than what we see on television or in the movies. Police officers are truly community helpers who serve the public in many ways. Readers of this concise and entertaining volume will learn how police officers help children as well as about the cool ways they get around, including on horseback. Accessible vocabulary terms are paired with carefully chosen images to support beginning readers. After learning facts about police officers, readers can decide if they, too, would consider a future career in law enforcement.","English",22.6,16.95,"363.2’3--dc23","24 pp.",{"$f":"Table1[[#This Row],[QTY]]*Table1[[#This Row],['# Books]]","v":0},{"$f":"Table1[[#This Row],[QTY]]*Table1[[#This Row],[S&L Price]]","v":0}]
[null,13,33,"I Can Be Anything!",1,"I Can Be a Scientist","Library Bound Book",null,"978-1-4824-6331-6",{"$f":"HYPERLINK(\"https://www.garethstevens.com/\"&Table1[[#This Row],[ISBN]],\"Weblink\")","v":"Weblink"},2018,"August 2017","Library","7.625 X 7.125","Author","Michou Franco","0.9","0.5",null,null,"C",null,"Grade K","Grade Pre-K - 2","It can be hard to picture what a scientist does. Some might imagine the archetypal mad scientist mixing explosive chemicals in a lab! While that's an amusing image, it's not reality. In this brainy book, an early introduction to STEM careers, aspiring young scientists will discover the wide-reaching disciplines of science in a comprehensible and fun narrative. They’ll see photographs of scientists at work in many settings and even picture themselves in a profession in the sciences, too.","English",22.6,16.95,"502.3--dc23","24 pp.",{"$f":"Table1[[#This Row],[QTY]]*Table1[[#This Row],['# Books]]","v":0},{"$f":"Table1[[#This Row],[QTY]]*Table1[[#This Row],[S&L Price]]","v":0}]
[null,13,33,"I Can Be Anything!",1,"I Can Be a Scientist","eBook",null,"978-1-4824-6332-3",{"$f":"HYPERLINK(\"https://www.garethstevens.com/\"&Table1[[#This Row],[ISBN]],\"Weblink\")","v":"Weblink"},2018,"August 2017",null,null,"Author","Michou Franco","0.9","0.5",null,null,"C",null,"Grade K","Grade Pre-K - 2","It can be hard to picture what a scientist does. Some might imagine the archetypal mad scientist mixing explosive chemicals in a lab! While that's an amusing image, it's not reality. In this brainy book, an early introduction to STEM careers, aspiring young scientists will discover the wide-reaching disciplines of science in a comprehensible and fun narrative. They’ll see photographs of scientists at work in many settings and even picture themselves in a profession in the sciences, too.","English",22.6,16.95,"502.3--dc23","24 pp.",{"$f":"Table1[[#This Row],[QTY]]*Table1[[#This Row],['# Books]]","v":0},{"$f":"Table1[[#This Row],[QTY]]*Table1[[#This Row],[S&L Price]]","v":0}]
[null,13,33,"I Can Be Anything!",1,"I Can Be a Soccer Player","Library Bound Book",null,"978-1-5382-1768-9",{"$f":"HYPERLINK(\"https://www.garethstevens.com/\"&Table1[[#This Row],[ISBN]],\"Weblink\")","v":"Weblink"},2019,"August 2018","Library","7.625 X 7.125","Author","Miller Slenzak","0.9","0.5",null,null,"C",null,"Grade K","Grade Pre-K - 2","Soccer is one of the most popular sports around the world, so it's no wonder many young people dream of someday playing the game professionally. With the help of this exciting book, readers learn what it takes to play the game as more than just a hobby. Age-appropriate text correlates closely to bright photographs and supports beginning readers. Readers learn the different positions there are in the game, and how playing the sport now could help them become better players down the road.","English",22.6,16.95,"796.334--dc23","24 pp.",{"$f":"Table1[[#This Row],[QTY]]*Table1[[#This Row],['# Books]]","v":0},{"$f":"Table1[[#This Row],[QTY]]*Table1[[#This Row],[S&L Price]]","v":0}]
[null,13,33,"I Can Be Anything!",1,"I Can Be a Soccer Player","eBook",null,"978-1-5382-1769-6",{"$f":"HYPERLINK(\"https://www.garethstevens.com/\"&Table1[[#This Row],[ISBN]],\"Weblink\")","v":"Weblink"},2019,"August 2018",null,null,"Author","Miller Slenzak","0.9","0.5",null,null,"C",null,"Grade K","Grade Pre-K - 2","Soccer is one of the most popular sports around the world, so it's no wonder many young people dream of someday playing the game professionally. With the help of this exciting book, readers learn what it takes to play the game as more than just a hobby. Age-appropriate text correlates closely to bright photographs and supports beginning readers. Readers learn the different positions there are in the game, and how playing the sport now could help them become better players down the road.","English",22.6,16.95,"796.334--dc23","24 pp.",{"$f":"Table1[[#This Row],[QTY]]*Table1[[#This Row],['# Books]]","v":0},{"$f":"Table1[[#This Row],[QTY]]*Table1[[#This Row],[S&L Price]]","v":0}]
[null,13,33,"I Can Be Anything!",1,"I Can Be a Teacher","Library Bound Book",null,"978-1-4824-6335-4",{"$f":"HYPERLINK(\"https://www.garethstevens.com/\"&Table1[[#This Row],[ISBN]],\"Weblink\")","v":"Weblink"},2018,"August 2017","Library","7.625 X 7.125","Author","Michou Franco","0.9","0.5",null,null,"C",null,"Grade K","Grade Pre-K - 2","School's in session! Most teachers not only teach multiple subjects, they often juggle many other responsibilities, including classroom budgets, discipline, grading, and the students' favorite; field trips. This volume uses at-level text and photographs to show teachers in action and open young readers' eyes to the rewarding career of teaching and all it entails. Readers will come to appreciate their teachers' many skills and perhaps even be inspired to become a teacher too.","English",22.6,16.95,"371.102--dc23","24 pp.",{"$f":"Table1[[#This Row],[QTY]]*Table1[[#This Row],['# Books]]","v":0},{"$f":"Table1[[#This Row],[QTY]]*Table1[[#This Row],[S&L Price]]","v":0}]
[null,13,33,"I Can Be Anything!",1,"I Can Be a Teacher","eBook",null,"978-1-4824-6336-1",{"$f":"HYPERLINK(\"https://www.garethstevens.com/\"&Table1[[#This Row],[ISBN]],\"Weblink\")","v":"Weblink"},2018,"August 2017",null,null,"Author","Michou Franco","0.9","0.5",null,null,"C",null,"Grade K","Grade Pre-K - 2","School's in session! Most teachers not only teach multiple subjects, they often juggle many other responsibilities, including classroom budgets, discipline, grading, and the students' favorite; field trips. This volume uses at-level text and photographs to show teachers in action and open young readers' eyes to the rewarding career of teaching and all it entails. Readers will come to appreciate their teachers' many skills and perhaps even be inspired to become a teacher too.","English",22.6,16.95,"371.102--dc23","24 pp.",{"$f":"Table1[[#This Row],[QTY]]*Table1[[#This Row],['# Books]]","v":0},{"$f":"Table1[[#This Row],[QTY]]*Table1[[#This Row],[S&L Price]]","v":0}]
[null,13,33,"I Can Be Anything!",1,"I Can Be a Veterinarian","Library Bound Book",null,"978-1-5382-1772-6",{"$f":"HYPERLINK(\"https://www.garethstevens.com/\"&Table1[[#This Row],[ISBN]],\"Weblink\")","v":"Weblink"},2019,"August 2018","Library","7.625 X 7.125","Author","Anthony Ardely","0.9","0.5",null,null,"C",null,"Grade K","Grade Pre-K - 2","Working with animals would be a dream come true for many young people. This book explores the many different jobs veterinarians perform and shows readers that they, too, can become a veterinarian if they want to. It also teaches readers about the concept of proper pet care, and gives examples of how readers can help care for their own pets. Close picture-to-text correlation makes for engaging content that will inspire young animal lovers and veterinarians-in-training to start learning new skills.","English",22.6,16.95,"636.089--dc23","24 pp.",{"$f":"Table1[[#This Row],[QTY]]*Table1[[#This Row],['# Books]]","v":0},{"$f":"Table1[[#This Row],[QTY]]*Table1[[#This Row],[S&L Price]]","v":0}]
[null,13,33,"I Can Be Anything!",1,"I Can Be a Veterinarian","eBook",null,"978-1-5382-1773-3",{"$f":"HYPERLINK(\"https://www.garethstevens.com/\"&Table1[[#This Row],[ISBN]],\"Weblink\")","v":"Weblink"},2019,"August 2018",null,null,"Author","Anthony Ardely","0.9","0.5",null,null,"C",null,"Grade K","Grade Pre-K - 2","Working with animals would be a dream come true for many young people. This book explores the many different jobs veterinarians perform and shows readers that they, too, can become a veterinarian if they want to. It also teaches readers about the concept of proper pet care, and gives examples of how readers can help care for their own pets. Close picture-to-text correlation makes for engaging content that will inspire young animal lovers and veterinarians-in-training to start learning new skills.","English",22.6,16.95,"636.089--dc23","24 pp.",{"$f":"Table1[[#This Row],[QTY]]*Table1[[#This Row],['# Books]]","v":0},{"$f":"Table1[[#This Row],[QTY]]*Table1[[#This Row],[S&L Price]]","v":0}]
[null,13,33,"I Can Be Anything!",1,"I Can Be a Writer","Library Bound Book",null,"978-1-4824-6339-2",{"$f":"HYPERLINK(\"https://www.garethstevens.com/\"&Table1[[#This Row],[ISBN]],\"Weblink\")","v":"Weblink"},2018,"August 2017","Library","7.625 X 7.125","Author","Michou Franco","1","0.5",null,null,"C",null,"Grade K","Grade Pre-K - 2","No one appreciates a good writer as much as younger readers. They’re honest critics of what makes them laugh, surprised, and happy. Favorite books are also motivation for young people to try their hand at imaginative writing. This low-ATOS career volume introduces aspiring authors to different genres of writing and writers. Photographs provide visual clues for key vocabulary, while brightly written text encourages readers to start writing now!","English",22.6,16.95,"808.02--dc23","24 pp.",{"$f":"Table1[[#This Row],[QTY]]*Table1[[#This Row],['# Books]]","v":0},{"$f":"Table1[[#This Row],[QTY]]*Table1[[#This Row],[S&L Price]]","v":0}]
[null,13,33,"I Can Be Anything!",1,"I Can Be a Writer","eBook",null,"978-1-4824-6340-8",{"$f":"HYPERLINK(\"https://www.garethstevens.com/\"&Table1[[#This Row],[ISBN]],\"Weblink\")","v":"Weblink"},2018,"August 2017",null,null,"Author","Michou Franco","1","0.5",null,null,"C",null,"Grade K","Grade Pre-K - 2","No one appreciates a good writer as much as younger readers. They’re honest critics of what makes them laugh, surprised, and happy. Favorite books are also motivation for young people to try their hand at imaginative writing. This low-ATOS career volume introduces aspiring authors to different genres of writing and writers. Photographs provide visual clues for key vocabulary, while brightly written text encourages readers to start writing now!","English",22.6,16.95,"808.02--dc23","24 pp.",{"$f":"Table1[[#This Row],[QTY]]*Table1[[#This Row],['# Books]]","v":0},{"$f":"Table1[[#This Row],[QTY]]*Table1[[#This Row],[S&L Price]]","v":0}]
[null,13,33,"I Can Be Anything!",1,"I Can Be an Actor","Library Bound Book",null,"978-1-5382-1776-4",{"$f":"HYPERLINK(\"https://www.garethstevens.com/\"&Table1[[#This Row],[ISBN]],\"Weblink\")","v":"Weblink"},2019,"August 2018","Library","7.625 X 7.125","Author","Anthony Ardely","0.9","0.5",null,null,"C",null,"Grade K","Grade Pre-K - 2","When watching a movie, many young people have pictured themselves on the big screen. This exciting book introduces young readers to the many ways people get involved with acting and describes the different jobs an actor has. Accessible vocabulary and vibrant photographs support the development of reading comprehension skills. Those interested in creative careers, or who have ever dreamt of taking the stage or starring in a TV show, will love this entertaining glimpse into the fast-paced world of acting.","English",22.6,16.95,"792.028--dc23","24 pp.",{"$f":"Table1[[#This Row],[QTY]]*Table1[[#This Row],['# Books]]","v":0},{"$f":"Table1[[#This Row],[QTY]]*Table1[[#This Row],[S&L Price]]","v":0}]
[null,13,33,"I Can Be Anything!",1,"I Can Be an Actor","eBook",null,"978-1-5382-1777-1",{"$f":"HYPERLINK(\"https://www.garethstevens.com/\"&Table1[[#This Row],[ISBN]],\"Weblink\")","v":"Weblink"},2019,"August 2018",null,null,"Author","Anthony Ardely","0.9","0.5",null,null,"C",null,"Grade K","Grade Pre-K - 2","When watching a movie, many young people have pictured themselves on the big screen. This exciting book introduces young readers to the many ways people get involved with acting and describes the different jobs an actor has. Accessible vocabulary and vibrant photographs support the development of reading comprehension skills. Those interested in creative careers, or who have ever dreamt of taking the stage or starring in a TV show, will love this entertaining glimpse into the fast-paced world of acting.","English",22.6,16.95,"792.028--dc23","24 pp.",{"$f":"Table1[[#This Row],[QTY]]*Table1[[#This Row],['# Books]]","v":0},{"$f":"Table1[[#This Row],[QTY]]*Table1[[#This Row],[S&L Price]]","v":0}]
[null,14,null,"Go Outside!",6,"Go Outside!","Library Set",null,"978-1-5382-4525-5",{"$f":"HYPERLINK(\"https://www.garethstevens.com/\"&Table1[[#This Row],[ISBN]],\"Weblink\")","v":"Weblink"},2020,"January 2020","Library","7.625 X 7.125","","",null,null,null,null,null,null,"Grade K","Grade Pre-K - 2","\"Go outside!\" Many young people hear this phrase from their parents, but they might not consider the countless fun activities they can do outside. This motivating set has the answers and the inspiration for them. Each volume offers a different outdoor activity and explains what it entails through a friendly narrator and low-ATOS text. Camping, hiking, and hide-and-seek are some of the entertaining ideas that readers will explore. Vivid photographs of the activities in action are sure to make them grab a friend and head outside. Features include: Encourages young readers to “unplug” from digital devices and appreciate their natural surroundings. Picture glossaries support beginning readers in tackling more challenging terms in the achievable text. Knowing and using various text features such as tables of content and indexes to locate facts is a standard of the English Language Arts Common Core.","English",135.6,101.7,null,"24 pp.",{"$f":"Table1[[#This Row],[QTY]]*Table1[[#This Row],['# Books]]","v":0},{"$f":"Table1[[#This Row],[QTY]]*Table1[[#This Row],[S&L Price]]","v":0}]
[null,14,null,"Go Outside!",1,"Go Camping!","Library Bound Book",null,"978-1-5382-4479-1",{"$f":"HYPERLINK(\"https://www.garethstevens.com/\"&Table1[[#This Row],[ISBN]],\"Weblink\")","v":"Weblink"},2020,"January 2020","Library","7.625 X 7.125","Author","Peter Finn",null,null,null,null,"C",null,"Grade K","Grade Pre-K - 2","Kids often love to play camping in their living rooms, but this motivating book shows them what it means to head outside and really live in the great outdoors. A friendly narrator shows them tents, sleeping bags, and other gear that make camping an enjoyable adventure. Inviting photographs support the carefully crafted low-ATOS text, creating an enjoyable and achievable reading experience.","English",22.6,16.95,"796.54--dc23","24 pp.",{"$f":"Table1[[#This Row],[QTY]]*Table1[[#This Row],['# Books]]","v":0},{"$f":"Table1[[#This Row],[QTY]]*Table1[[#This Row],[S&L Price]]","v":0}]
[null,14,null,"Go Outside!",1,"Go Camping!","eBook",null,"978-1-5382-4480-7",{"$f":"HYPERLINK(\"https://www.garethstevens.com/\"&Table1[[#This Row],[ISBN]],\"Weblink\")","v":"Weblink"},2020,"January 2020",null,null,"Author","Peter Finn",null,null,null,null,"C",null,"Grade K","Grade Pre-K - 2","Kids often love to play camping in their living rooms, but this motivating book shows them what it means to head outside and really live in the great outdoors. A friendly narrator shows them tents, sleeping bags, and other gear that make camping an enjoyable adventure. Inviting photographs support the carefully crafted low-ATOS text, creating an enjoyable and achievable reading experience.","English",22.6,16.95,"796.54--dc23","24 pp.",{"$f":"Table1[[#This Row],[QTY]]*Table1[[#This Row],['# Books]]","v":0},{"$f":"Table1[[#This Row],[QTY]]*Table1[[#This Row],[S&L Price]]","v":0}]
[null,14,null,"Go Outside!",1,"Go Fishing!","Library Bound Book",null,"978-1-5382-4483-8",{"$f":"HYPERLINK(\"https://www.garethstevens.com/\"&Table1[[#This Row],[ISBN]],\"Weblink\")","v":"Weblink"},2020,"January 2020","Library","7.625 X 7.125","Author","Peter Finn",null,null,null,null,"C",null,"Grade K","Grade Pre-K - 2","What do you really need to go fishing? Readers will find out in this diverting book, which features low-ATOS text and carefully chosen photographs to aid in vocabulary acquisition. They'll learn about fishing rods, bait, and where people go fishing. They'll be inspired to become anglers and try out this sport for themselves.","English",22.6,16.95,"639.2--dc23","24 pp.",{"$f":"Table1[[#This Row],[QTY]]*Table1[[#This Row],['# Books]]","v":0},{"$f":"Table1[[#This Row],[QTY]]*Table1[[#This Row],[S&L Price]]","v":0}]
[null,14,null,"Go Outside!",1,"Go Fishing!","eBook",null,"978-1-5382-4484-5",{"$f":"HYPERLINK(\"https://www.garethstevens.com/\"&Table1[[#This Row],[ISBN]],\"Weblink\")","v":"Weblink"},2020,"January 2020",null,null,"Author","Peter Finn",null,null,null,null,"C",null,"Grade K","Grade Pre-K - 2","What do you really need to go fishing? Readers will find out in this diverting book, which features low-ATOS text and carefully chosen photographs to aid in vocabulary acquisition. They'll learn about fishing rods, bait, and where people go fishing. They'll be inspired to become anglers and try out this sport for themselves.","English",22.6,16.95,"639.2--dc23","24 pp.",{"$f":"Table1[[#This Row],[QTY]]*Table1[[#This Row],['# Books]]","v":0},{"$f":"Table1[[#This Row],[QTY]]*Table1[[#This Row],[S&L Price]]","v":0}]
[null,14,null,"Go Outside!",1,"Go for a Hike!","Library Bound Book",null,"978-1-5382-4487-6",{"$f":"HYPERLINK(\"https://www.garethstevens.com/\"&Table1[[#This Row],[ISBN]],\"Weblink\")","v":"Weblink"},2020,"January 2020","Library","7.625 X 7.125","Author","Peter Finn",null,null,null,null,"C",null,"Grade K","Grade Pre-K - 2","A hike is an adventure. You never know what interesting noises you'll hear, awesome animals you'll spy, or amazing plants you'll come upon. This delightful volume encourages kids to grab an adult and head outdoors for a walk in the woods. Readers will be motivated by the inviting low-ATOS text and cheerful photographs featured throughout this well-designed book.","English",22.6,16.95,"796.51--dc23","24 pp.",{"$f":"Table1[[#This Row],[QTY]]*Table1[[#This Row],['# Books]]","v":0},{"$f":"Table1[[#This Row],[QTY]]*Table1[[#This Row],[S&L Price]]","v":0}]
[null,14,null,"Go Outside!",1,"Go for a Hike!","eBook",null,"978-1-5382-4488-3",{"$f":"HYPERLINK(\"https://www.garethstevens.com/\"&Table1[[#This Row],[ISBN]],\"Weblink\")","v":"Weblink"},2020,"January 2020",null,null,"Author","Peter Finn",null,null,null,null,"C",null,"Grade K","Grade Pre-K - 2","A hike is an adventure. You never know what interesting noises you'll hear, awesome animals you'll spy, or amazing plants you'll come upon. This delightful volume encourages kids to grab an adult and head outdoors for a walk in the woods. Readers will be motivated by the inviting low-ATOS text and cheerful photographs featured throughout this well-designed book.","English",22.6,16.95,"796.51--dc23","24 pp.",{"$f":"Table1[[#This Row],[QTY]]*Table1[[#This Row],['# Books]]","v":0},{"$f":"Table1[[#This Row],[QTY]]*Table1[[#This Row],[S&L Price]]","v":0}]
[null,14,null,"Go Outside!",1,"Go for a Swim!","Library Bound Book",null,"978-1-5382-4491-3",{"$f":"HYPERLINK(\"https://www.garethstevens.com/\"&Table1[[#This Row],[ISBN]],\"Weblink\")","v":"Weblink"},2020,"January 2020","Library","7.625 X 7.125","Author","Peter Finn",null,null,null,null,"C",null,"Grade K","Grade Pre-K - 2","Splish-splash! Swimming is a highly motivating activity for young people. This likeable book, featuring low-ATOS text, takes readers into the water with a friendly narrator. They'll learn about where they can swim, special swim strokes, and games they can play in the water. Charming, vibrant images demonstrate that swimming is fun and so is reading.","English",22.6,16.95,"797.2/1--dc23","24 pp.",{"$f":"Table1[[#This Row],[QTY]]*Table1[[#This Row],['# Books]]","v":0},{"$f":"Table1[[#This Row],[QTY]]*Table1[[#This Row],[S&L Price]]","v":0}]
[null,14,null,"Go Outside!",1,"Go for a Swim!","eBook",null,"978-1-5382-4492-0",{"$f":"HYPERLINK(\"https://www.garethstevens.com/\"&Table1[[#This Row],[ISBN]],\"Weblink\")","v":"Weblink"},2020,"January 2020",null,null,"Author","Peter Finn",null,null,null,null,"C",null,"Grade K","Grade Pre-K - 2","Splish-splash! Swimming is a highly motivating activity for young people. This likeable book, featuring low-ATOS text, takes readers into the water with a friendly narrator. They'll learn about where they can swim, special swim strokes, and games they can play in the water. Charming, vibrant images demonstrate that swimming is fun and so is reading.","English",22.6,16.95,"797.2/1--dc23","24 pp.",{"$f":"Table1[[#This Row],[QTY]]*Table1[[#This Row],['# Books]]","v":0},{"$f":"Table1[[#This Row],[QTY]]*Table1[[#This Row],[S&L Price]]","v":0}]
[null,14,null,"Go Outside!",1,"Go to the Park!","Library Bound Book",null,"978-1-5382-4495-1",{"$f":"HYPERLINK(\"https://www.garethstevens.com/\"&Table1[[#This Row],[ISBN]],\"Weblink\")","v":"Weblink"},2020,"January 2020","Library","7.625 X 7.125","Author","Peter Finn",null,null,null,null,"C",null,"Grade K","Grade Pre-K - 2","Every park is a different experience. Some have playgrounds, others have hiking trails, and still others have sprawling lawns on which to have a picnic. Readers will love learning about parks and following the friendly narrator on a trip to a neighborhood park. The achievable low-ATOS text will inspire young learners to head to their nearest park and truly explore what it has to offer.","English",22.6,16.95,"363.6/8--dc23","24 pp.",{"$f":"Table1[[#This Row],[QTY]]*Table1[[#This Row],['# Books]]","v":0},{"$f":"Table1[[#This Row],[QTY]]*Table1[[#This Row],[S&L Price]]","v":0}]
[null,14,null,"Go Outside!",1,"Go to the Park!","eBook",null,"978-1-5382-4496-8",{"$f":"HYPERLINK(\"https://www.garethstevens.com/\"&Table1[[#This Row],[ISBN]],\"Weblink\")","v":"Weblink"},2020,"January 2020",null,null,"Author","Peter Finn",null,null,null,null,"C",null,"Grade K","Grade Pre-K - 2","Every park is a different experience. Some have playgrounds, others have hiking trails, and still others have sprawling lawns on which to have a picnic. Readers will love learning about parks and following the friendly narrator on a trip to a neighborhood park. The achievable low-ATOS text will inspire young learners to head to their nearest park and truly explore what it has to offer.","English",22.6,16.95,"363.6/8--dc23","24 pp.",{"$f":"Table1[[#This Row],[QTY]]*Table1[[#This Row],['# Books]]","v":0},{"$f":"Table1[[#This Row],[QTY]]*Table1[[#This Row],[S&L Price]]","v":0}]
[null,14,null,"Go Outside!",1,"Play Hide-and-Seek!","Library Bound Book",null,"978-1-5382-4499-9",{"$f":"HYPERLINK(\"https://www.garethstevens.com/\"&Table1[[#This Row],[ISBN]],\"Weblink\")","v":"Weblink"},2020,"January 2020","Library","7.625 X 7.125","Author","Peter Finn",null,null,null,null,"C",null,"Grade K","Grade Pre-K - 2","\"Ready or not, here I come!\" It's time for hide-and-seek, the game that requires no equipment, just a friend and a sense of fun. Readers of this attention-grabbing volume will love following a game of hide-and-seek between friends. They'll learn new vocabulary through the low-ATOS text and colorful supporting photographs.","English",22.6,16.95,"793.4--dc23","24 pp.",{"$f":"Table1[[#This Row],[QTY]]*Table1[[#This Row],['# Books]]","v":0},{"$f":"Table1[[#This Row],[QTY]]*Table1[[#This Row],[S&L Price]]","v":0}]
[null,14,null,"Go Outside!",1,"Play Hide-and-Seek!","eBook",null,"978-1-5382-4500-2",{"$f":"HYPERLINK(\"https://www.garethstevens.com/\"&Table1[[#This Row],[ISBN]],\"Weblink\")","v":"Weblink"},2020,"January 2020",null,null,"Author","Peter Finn",null,null,null,null,"C",null,"Grade K","Grade Pre-K - 2","\"Ready or not, here I come!\" It's time for hide-and-seek, the game that requires no equipment, just a friend and a sense of fun. Readers of this attention-grabbing volume will love following a game of hide-and-seek between friends. They'll learn new vocabulary through the low-ATOS text and colorful supporting photographs.","English",22.6,16.95,"793.4--dc23","24 pp.",{"$f":"Table1[[#This Row],[QTY]]*Table1[[#This Row],['# Books]]","v":0},{"$f":"Table1[[#This Row],[QTY]]*Table1[[#This Row],[S&L Price]]","v":0}]
[null,15,null,"Animals Without Brains!",6,"Animals Without Brains!","Library Set",null,"978-1-5382-4894-2",{"$f":"HYPERLINK(\"https://www.garethstevens.com/\"&Table1[[#This Row],[ISBN]],\"Weblink\")","v":"Weblink"},2020,"January 2020","Library","7.000 X 7.000","","",null,null,null,null,null,null,"Grade 1 - 2","Grade 1 - 3","What happens to a creature that doesn't have a brain? How does it survive? As it turns out, there are many animals that do without brains! This set tempts young readers with exciting facts about these animals who do things just a bit differently. Focusing on invertebrates from stinging jellyfish to regenerating sea stars, this set examines \"brainless\" animal life cycles and what features each animal has that help it survive. Features include: Awe-inspiring and high-interest facts about these unique animals will engage readers of all levels. Bright, full-color photographs will appeal especially to young readers. At-level language helps readers understand key scientific concepts.","English",135.6,101.7,null,"24 pp.",{"$f":"Table1[[#This Row],[QTY]]*Table1[[#This Row],['# Books]]","v":0},{"$f":"Table1[[#This Row],[QTY]]*Table1[[#This Row],[S&L Price]]","v":0}]
[null,15,null,"Animals Without Brains!",1,"Corals Are Brainless!","Library Bound Book",null,"978-1-5382-4580-4",{"$f":"HYPERLINK(\"https://www.garethstevens.com/\"&Table1[[#This Row],[ISBN]],\"Weblink\")","v":"Weblink"},2020,"January 2020","Library","7.000 X 7.000","Author","Amanda Vink",null,null,null,null,"H",null,"Grade 1 - 2","Grade 1 - 3","Coral reefs are homes to some of the most biologically diverse areas of the world, and they are the spawning place of a vast number of marine creatures. They prevent damage to coastlines and provide nitrogen for many marine food chains. Without brains, corals, the builders of coral reefs, create these lush environments. An entertaining narrative and beautiful full-color images help readers explore the life cycle and interesting features of these invertebrates.","English",22.6,16.95,"593.6--dc23","24 pp.",{"$f":"Table1[[#This Row],[QTY]]*Table1[[#This Row],['# Books]]","v":0},{"$f":"Table1[[#This Row],[QTY]]*Table1[[#This Row],[S&L Price]]","v":0}]
[null,15,null,"Animals Without Brains!",1,"Corals Are Brainless!","eBook",null,"978-1-5382-4581-1",{"$f":"HYPERLINK(\"https://www.garethstevens.com/\"&Table1[[#This Row],[ISBN]],\"Weblink\")","v":"Weblink"},2020,"January 2020",null,null,"Author","Amanda Vink",null,null,null,null,"H",null,"Grade 1 - 2","Grade 1 - 3","Coral reefs are homes to some of the most biologically diverse areas of the world, and they are the spawning place of a vast number of marine creatures. They prevent damage to coastlines and provide nitrogen for many marine food chains. Without brains, corals, the builders of coral reefs, create these lush environments. An entertaining narrative and beautiful full-color images help readers explore the life cycle and interesting features of these invertebrates.","English",22.6,16.95,"593.6--dc23","24 pp.",{"$f":"Table1[[#This Row],[QTY]]*Table1[[#This Row],['# Books]]","v":0},{"$f":"Table1[[#This Row],[QTY]]*Table1[[#This Row],[S&L Price]]","v":0}]
[null,15,null,"Animals Without Brains!",1,"Jellyfish Are Brainless!","Library Bound Book",null,"978-1-5382-4584-2",{"$f":"HYPERLINK(\"https://www.garethstevens.com/\"&Table1[[#This Row],[ISBN]],\"Weblink\")","v":"Weblink"},2020,"January 2020","Library","7.000 X 7.000","Author","Amanda Vink",null,null,null,null,"H",null,"Grade 1 - 2","Grade 1 - 3","Jellyfish are the often transparent, graceful creatures that float beautifully across the sea. Readers can try, but they're not going to find a brain in any jellyfish. They don't have spinal cords or bones either. This book explores how jellyfish survive and the parts they have that have allowed them to spread to oceans all over the world. With full-color pictures and amusing language, this book will engage the budding marine enthusiast and avid beach-goer.","English",22.6,16.95,"593.5/3--dc23","24 pp.",{"$f":"Table1[[#This Row],[QTY]]*Table1[[#This Row],['# Books]]","v":0},{"$f":"Table1[[#This Row],[QTY]]*Table1[[#This Row],[S&L Price]]","v":0}]
[null,15,null,"Animals Without Brains!",1,"Jellyfish Are Brainless!","eBook",null,"978-1-5382-4585-9",{"$f":"HYPERLINK(\"https://www.garethstevens.com/\"&Table1[[#This Row],[ISBN]],\"Weblink\")","v":"Weblink"},2020,"January 2020",null,null,"Author","Amanda Vink",null,null,null,null,"H",null,"Grade 1 - 2","Grade 1 - 3","Jellyfish are the often transparent, graceful creatures that float beautifully across the sea. Readers can try, but they're not going to find a brain in any jellyfish. They don't have spinal cords or bones either. This book explores how jellyfish survive and the parts they have that have allowed them to spread to oceans all over the world. With full-color pictures and amusing language, this book will engage the budding marine enthusiast and avid beach-goer.","English",22.6,16.95,"593.5/3--dc23","24 pp.",{"$f":"Table1[[#This Row],[QTY]]*Table1[[#This Row],['# Books]]","v":0},{"$f":"Table1[[#This Row],[QTY]]*Table1[[#This Row],[S&L Price]]","v":0}]
[null,15,null,"Animals Without Brains!",1,"Sea Anemones Are Brainless!","Library Bound Book",null,"978-1-5382-4588-0",{"$f":"HYPERLINK(\"https://www.garethstevens.com/\"&Table1[[#This Row],[ISBN]],\"Weblink\")","v":"Weblink"},2020,"January 2020","Library","7.000 X 7.000","Author","Amanda Vink",null,null,null,null,"H",null,"Grade 1 - 2","Grade 1 - 3","Over 1,000 species of sea anemone live at different depths of the world's oceans, and readers will be surprised to learn they all function without brains. Like other invertebrates, sea anemones use a simple nervous system to navigate the waters around them. This book examines this invertebrate's life cycle as well as some of the characteristics that make sea anemones so unique, for example their symbiotic relationship with clownfish. This is the perfect books for kids who are fascinated by nature's wonders.","English",22.6,16.95,"593.6--dc23","24 pp.",{"$f":"Table1[[#This Row],[QTY]]*Table1[[#This Row],['# Books]]","v":0},{"$f":"Table1[[#This Row],[QTY]]*Table1[[#This Row],[S&L Price]]","v":0}]
[null,15,null,"Animals Without Brains!",1,"Sea Anemones Are Brainless!","eBook",null,"978-1-5382-4589-7",{"$f":"HYPERLINK(\"https://www.garethstevens.com/\"&Table1[[#This Row],[ISBN]],\"Weblink\")","v":"Weblink"},2020,"January 2020",null,null,"Author","Amanda Vink",null,null,null,null,"H",null,"Grade 1 - 2","Grade 1 - 3","Over 1,000 species of sea anemone live at different depths of the world's oceans, and readers will be surprised to learn they all function without brains. Like other invertebrates, sea anemones use a simple nervous system to navigate the waters around them. This book examines this invertebrate's life cycle as well as some of the characteristics that make sea anemones so unique, for example their symbiotic relationship with clownfish. This is the perfect books for kids who are fascinated by nature's wonders.","English",22.6,16.95,"593.6--dc23","24 pp.",{"$f":"Table1[[#This Row],[QTY]]*Table1[[#This Row],['# Books]]","v":0},{"$f":"Table1[[#This Row],[QTY]]*Table1[[#This Row],[S&L Price]]","v":0}]
[null,15,null,"Animals Without Brains!",1,"Sea Cucumbers Are Brainless!","Library Bound Book",null,"978-1-5382-4592-7",{"$f":"HYPERLINK(\"https://www.garethstevens.com/\"&Table1[[#This Row],[ISBN]],\"Weblink\")","v":"Weblink"},2020,"January 2020","Library","7.000 X 7.000","Author","Amanda Vink",null,null,null,null,"H",null,"Grade 1 - 2","Grade 1 - 3","The body of a sea cucumber doesn't have many parts. Yet sea cucumbers help to clean the world's ocean floors and even help to reduce the effects of global warming. They do all of this without a brain. Exploring the life cycle of this invertebrate, this book covers some of the odd qualities of a sea cucumber, including the ability to expel part of its own intestine in order to escape predators. Sea cucumber abilities will boggle your readers' minds.","English",22.6,16.95,"593.9/6--dc23","24 pp.",{"$f":"Table1[[#This Row],[QTY]]*Table1[[#This Row],['# Books]]","v":0},{"$f":"Table1[[#This Row],[QTY]]*Table1[[#This Row],[S&L Price]]","v":0}]
[null,15,null,"Animals Without Brains!",1,"Sea Cucumbers Are Brainless!","eBook",null,"978-1-5382-4593-4",{"$f":"HYPERLINK(\"https://www.garethstevens.com/\"&Table1[[#This Row],[ISBN]],\"Weblink\")","v":"Weblink"},2020,"January 2020",null,null,"Author","Amanda Vink",null,null,null,null,"H",null,"Grade 1 - 2","Grade 1 - 3","The body of a sea cucumber doesn't have many parts. Yet sea cucumbers help to clean the world's ocean floors and even help to reduce the effects of global warming. They do all of this without a brain. Exploring the life cycle of this invertebrate, this book covers some of the odd qualities of a sea cucumber, including the ability to expel part of its own intestine in order to escape predators. Sea cucumber abilities will boggle your readers' minds.","English",22.6,16.95,"593.9/6--dc23","24 pp.",{"$f":"Table1[[#This Row],[QTY]]*Table1[[#This Row],['# Books]]","v":0},{"$f":"Table1[[#This Row],[QTY]]*Table1[[#This Row],[S&L Price]]","v":0}]
[null,15,null,"Animals Without Brains!",1,"Sea Stars Are Brainless!","Library Bound Book",null,"978-1-5382-4596-5",{"$f":"HYPERLINK(\"https://www.garethstevens.com/\"&Table1[[#This Row],[ISBN]],\"Weblink\")","v":"Weblink"},2020,"January 2020","Library","7.000 X 7.000","Author","Amanda Vink",null,null,null,null,"H",null,"Grade 1 - 2","Grade 1 - 3","Sea stars are well known for their ability to regenerate their arms. What's less apparent is that they accomplish this task without a brain. This book focuses on the sea star's simple nervous system, and it explores some of the interesting things a sea star does without a brain. Readers will be enthralled to learn that a sea star pushes its stomach outside of its body in order to consume its prey. It's a no-brainer that young scientists will be fascinated with this learning experience.","English",22.6,16.95,"593.9/3--dc23","24 pp.",{"$f":"Table1[[#This Row],[QTY]]*Table1[[#This Row],['# Books]]","v":0},{"$f":"Table1[[#This Row],[QTY]]*Table1[[#This Row],[S&L Price]]","v":0}]
[null,15,null,"Animals Without Brains!",1,"Sea Stars Are Brainless!","eBook",null,"978-1-5382-4597-2",{"$f":"HYPERLINK(\"https://www.garethstevens.com/\"&Table1[[#This Row],[ISBN]],\"Weblink\")","v":"Weblink"},2020,"January 2020",null,null,"Author","Amanda Vink",null,null,null,null,"H",null,"Grade 1 - 2","Grade 1 - 3","Sea stars are well known for their ability to regenerate their arms. What's less apparent is that they accomplish this task without a brain. This book focuses on the sea star's simple nervous system, and it explores some of the interesting things a sea star does without a brain. Readers will be enthralled to learn that a sea star pushes its stomach outside of its body in order to consume its prey. It's a no-brainer that young scientists will be fascinated with this learning experience.","English",22.6,16.95,"593.9/3--dc23","24 pp.",{"$f":"Table1[[#This Row],[QTY]]*Table1[[#This Row],['# Books]]","v":0},{"$f":"Table1[[#This Row],[QTY]]*Table1[[#This Row],[S&L Price]]","v":0}]
[null,15,null,"Animals Without Brains!",1,"Sea Urchins Are Brainless!","Library Bound Book",null,"978-1-5382-4600-9",{"$f":"HYPERLINK(\"https://www.garethstevens.com/\"&Table1[[#This Row],[ISBN]],\"Weblink\")","v":"Weblink"},2020,"January 2020","Library","7.000 X 7.000","Author","Amanda Vink",null,null,null,null,"H",null,"Grade 1 - 2","Grade 1 - 3","Sea urchins don't have brains, and yet sea urchin bodies are well-developed to detect the environment. This book explores body parts sea urchins use instead, including an interior water pump that allows the creatures to move about and hold on to food. Fun and bizarre facts are spread throughout the narrative, like how a sea urchin turns itself inside out upon growing into its adult stage. Young readers will be delighted by these ocean creatures.","English",22.6,16.95,"593.9/5--dc23","24 pp.",{"$f":"Table1[[#This Row],[QTY]]*Table1[[#This Row],['# Books]]","v":0},{"$f":"Table1[[#This Row],[QTY]]*Table1[[#This Row],[S&L Price]]","v":0}]
[null,15,null,"Animals Without Brains!",1,"Sea Urchins Are Brainless!","eBook",null,"978-1-5382-4601-6",{"$f":"HYPERLINK(\"https://www.garethstevens.com/\"&Table1[[#This Row],[ISBN]],\"Weblink\")","v":"Weblink"},2020,"January 2020",null,null,"Author","Amanda Vink",null,null,null,null,"H",null,"Grade 1 - 2","Grade 1 - 3","Sea urchins don't have brains, and yet sea urchin bodies are well-developed to detect the environment. This book explores body parts sea urchins use instead, including an interior water pump that allows the creatures to move about and hold on to food. Fun and bizarre facts are spread throughout the narrative, like how a sea urchin turns itself inside out upon growing into its adult stage. Young readers will be delighted by these ocean creatures.","English",22.6,16.95,"593.9/5--dc23","24 pp.",{"$f":"Table1[[#This Row],[QTY]]*Table1[[#This Row],['# Books]]","v":0},{"$f":"Table1[[#This Row],[QTY]]*Table1[[#This Row],[S&L Price]]","v":0}]
[null,16,null,"Cooking with Math!",6,"Cooking with Math!","Library Set",null,"978-1-5382-4895-9",{"$f":"HYPERLINK(\"https://www.garethstevens.com/\"&Table1[[#This Row],[ISBN]],\"Weblink\")","v":"Weblink"},2020,"January 2020","Library","7.000 X 7.000","","",null,null,null,null,null,null,"Grade 1 - 2","Grade 1 - 3","Cooking doesn't just make dinner or a delicious treat; it makes us use math. From measuring ingredients to figuring out how to double a recipe, all kinds of simple math can be used in the kitchen. Readers are asked to use different math concepts from the early elementary curriculum while following recipes they can actually make at home. Word problems using addition, measuring, subtraction, simple multiplication, and simple division support the math curriculum and encourage verbal reasoning skills. Dessert, pasta, pizza, salad, snacks, and soup recipes cover the culinary spectrum. Features include: Four fun recipes in each book. The work of each word problem is displayed for readers to follow along. Encourages young readers to try new foods.","English",135.6,101.7,null,"24 pp.",{"$f":"Table1[[#This Row],[QTY]]*Table1[[#This Row],['# Books]]","v":0},{"$f":"Table1[[#This Row],[QTY]]*Table1[[#This Row],[S&L Price]]","v":0}]
[null,16,null,"Cooking with Math!",1,"Making Desserts with Math!","Library Bound Book",null,"978-1-5382-4555-2",{"$f":"HYPERLINK(\"https://www.garethstevens.com/\"&Table1[[#This Row],[ISBN]],\"Weblink\")","v":"Weblink"},2020,"January 2020","Library","7.000 X 7.000","Author","Santana Hunt",null,null,null,null,"I",null,"Grade 1 - 2","Grade 1 - 3","How much flour does a cookie recipe need? What if you double the recipe? With this book, simple word problems encourage readers to consider the many ways math is used in the kitchen to make delicious desserts. They'll use math strategies and knowledge acquired in the classroom to solve each problem and check their work against a concluding answer key. Including four recipes that readers can make themselves or with just a little help from an adult, this volume will be a hit with the culinarily curious and mathematically minded alike.","English",22.6,16.95,"510--dc23","24 pp.",{"$f":"Table1[[#This Row],[QTY]]*Table1[[#This Row],['# Books]]","v":0},{"$f":"Table1[[#This Row],[QTY]]*Table1[[#This Row],[S&L Price]]","v":0}]
[null,16,null,"Cooking with Math!",1,"Making Desserts with Math!","eBook",null,"978-1-5382-4556-9",{"$f":"HYPERLINK(\"https://www.garethstevens.com/\"&Table1[[#This Row],[ISBN]],\"Weblink\")","v":"Weblink"},2020,"January 2020",null,null,"Author","Santana Hunt",null,null,null,null,"I",null,"Grade 1 - 2","Grade 1 - 3","How much flour does a cookie recipe need? What if you double the recipe? With this book, simple word problems encourage readers to consider the many ways math is used in the kitchen to make delicious desserts. They'll use math strategies and knowledge acquired in the classroom to solve each problem and check their work against a concluding answer key. Including four recipes that readers can make themselves or with just a little help from an adult, this volume will be a hit with the culinarily curious and mathematically minded alike.","English",22.6,16.95,"510--dc23","24 pp.",{"$f":"Table1[[#This Row],[QTY]]*Table1[[#This Row],['# Books]]","v":0},{"$f":"Table1[[#This Row],[QTY]]*Table1[[#This Row],[S&L Price]]","v":0}]
[null,16,null,"Cooking with Math!",1,"Making Pasta with Math!","Library Bound Book",null,"978-1-5382-4559-0",{"$f":"HYPERLINK(\"https://www.garethstevens.com/\"&Table1[[#This Row],[ISBN]],\"Weblink\")","v":"Weblink"},2020,"January 2020","Library","7.000 X 7.000","Author","Santana Hunt",null,null,null,null,"I",null,"Grade 1 - 2","Grade 1 - 3","Whether you prefer pasta hot or cold, with red sauce or butter, this book has a recipe for everyone. It also incorporates achievable math content straight from math curricula in the form of word problems that ask readers to take their skills in the classroom and bring them into the kitchen. With four recipes young chefs and mathematicians can try with minimal help from an adult, this book brings STEM into the real world, supporting the notion that math is fun and all around us.\n","English",22.6,16.95,"510--dc23","24 pp.",{"$f":"Table1[[#This Row],[QTY]]*Table1[[#This Row],['# Books]]","v":0},{"$f":"Table1[[#This Row],[QTY]]*Table1[[#This Row],[S&L Price]]","v":0}]
[null,16,null,"Cooking with Math!",1,"Making Pasta with Math!","eBook",null,"978-1-5382-4560-6",{"$f":"HYPERLINK(\"https://www.garethstevens.com/\"&Table1[[#This Row],[ISBN]],\"Weblink\")","v":"Weblink"},2020,"January 2020",null,null,"Author","Santana Hunt",null,null,null,null,"I",null,"Grade 1 - 2","Grade 1 - 3","Whether you prefer pasta hot or cold, with red sauce or butter, this book has a recipe for everyone. It also incorporates achievable math content straight from math curricula in the form of word problems that ask readers to take their skills in the classroom and bring them into the kitchen. With four recipes young chefs and mathematicians can try with minimal help from an adult, this book brings STEM into the real world, supporting the notion that math is fun and all around us.\n","English",22.6,16.95,"510--dc23","24 pp.",{"$f":"Table1[[#This Row],[QTY]]*Table1[[#This Row],['# Books]]","v":0},{"$f":"Table1[[#This Row],[QTY]]*Table1[[#This Row],[S&L Price]]","v":0}]
[null,16,null,"Cooking with Math!",1,"Making Pizza with Math!","Library Bound Book",null,"978-1-5382-4564-4",{"$f":"HYPERLINK(\"https://www.garethstevens.com/\"&Table1[[#This Row],[ISBN]],\"Weblink\")","v":"Weblink"},2020,"January 2020","Library","7.000 X 7.000","Author","Santana Hunt",null,null,null,null,"I",null,"Grade 1 - 2","Grade 1 - 3","There are few people who don't love some combination of toppings on pizza. From pepperoni to pineapple, the options are endless and fun to test out together. Readers find four recipes for pizza they can make with minimal help from an adult alongside word problems based on the recipes. Including math topics covered in the math curriculum, each problem asks readers to apply their math skills to the real world of the kitchen. A concluding answer key lets readers check their work, though a taste test will work just as well.","English",22.6,16.95,"510--dc23","24 pp.",{"$f":"Table1[[#This Row],[QTY]]*Table1[[#This Row],['# Books]]","v":0},{"$f":"Table1[[#This Row],[QTY]]*Table1[[#This Row],[S&L Price]]","v":0}]
[null,16,null,"Cooking with Math!",1,"Making Pizza with Math!","eBook",null,"978-1-5382-4565-1",{"$f":"HYPERLINK(\"https://www.garethstevens.com/\"&Table1[[#This Row],[ISBN]],\"Weblink\")","v":"Weblink"},2020,"January 2020",null,null,"Author","Santana Hunt",null,null,null,null,"I",null,"Grade 1 - 2","Grade 1 - 3","There are few people who don't love some combination of toppings on pizza. From pepperoni to pineapple, the options are endless and fun to test out together. Readers find four recipes for pizza they can make with minimal help from an adult alongside word problems based on the recipes. Including math topics covered in the math curriculum, each problem asks readers to apply their math skills to the real world of the kitchen. A concluding answer key lets readers check their work, though a taste test will work just as well.","English",22.6,16.95,"510--dc23","24 pp.",{"$f":"Table1[[#This Row],[QTY]]*Table1[[#This Row],['# Books]]","v":0},{"$f":"Table1[[#This Row],[QTY]]*Table1[[#This Row],[S&L Price]]","v":0}]
[null,16,null,"Cooking with Math!",1,"Making Salads with Math!","Library Bound Book",null,"978-1-5382-4572-9",{"$f":"HYPERLINK(\"https://www.garethstevens.com/\"&Table1[[#This Row],[ISBN]],\"Weblink\")","v":"Weblink"},2020,"January 2020","Library","7.000 X 7.000","Author","Santana Hunt",null,null,null,null,"I",null,"Grade 1 - 2","Grade 1 - 3","What makes a salad, a salad? Does it have to have lettuce? Could it have a bean or corn base? This book broadens readers' understanding of just what this healthy staple can be made of while using the four recipes as a jumping off point to practice math skills. Word problems based on each recipe ask readers to use topics from the classroom and bring them to the kitchen, including measuring, addition, subtraction, and more. Readers can check their work using a concluding answer key, and try out their new recipes on friends and family.","English",22.6,16.95,"510--dc23","24 pp.",{"$f":"Table1[[#This Row],[QTY]]*Table1[[#This Row],['# Books]]","v":0},{"$f":"Table1[[#This Row],[QTY]]*Table1[[#This Row],[S&L Price]]","v":0}]
[null,16,null,"Cooking with Math!",1,"Making Salads with Math!","eBook",null,"978-1-5382-4573-6",{"$f":"HYPERLINK(\"https://www.garethstevens.com/\"&Table1[[#This Row],[ISBN]],\"Weblink\")","v":"Weblink"},2020,"January 2020",null,null,"Author","Santana Hunt",null,null,null,null,"I",null,"Grade 1 - 2","Grade 1 - 3","What makes a salad, a salad? Does it have to have lettuce? Could it have a bean or corn base? This book broadens readers' understanding of just what this healthy staple can be made of while using the four recipes as a jumping off point to practice math skills. Word problems based on each recipe ask readers to use topics from the classroom and bring them to the kitchen, including measuring, addition, subtraction, and more. Readers can check their work using a concluding answer key, and try out their new recipes on friends and family.","English",22.6,16.95,"510--dc23","24 pp.",{"$f":"Table1[[#This Row],[QTY]]*Table1[[#This Row],['# Books]]","v":0},{"$f":"Table1[[#This Row],[QTY]]*Table1[[#This Row],[S&L Price]]","v":0}]
[null,16,null,"Cooking with Math!",1,"Making Snacks with Math!","Library Bound Book",null,"978-1-5382-4576-7",{"$f":"HYPERLINK(\"https://www.garethstevens.com/\"&Table1[[#This Row],[ISBN]],\"Weblink\")","v":"Weblink"},2020,"January 2020","Library","7.000 X 7.000","Author","Santana Hunt",null,null,null,null,"I",null,"Grade 1 - 2","Grade 1 - 3","Snacks can be as simple as a cheese stick or as complicated as ants on a log or chocolate chip cookies. Readers can try out four different snack recipes using this book and a little help from an adult as well as hone their math skills in the real world of their kitchen. Each recipe is paired with a word problem using measuring, addition, subtraction, and more. Written especially for young readers, each problem contains clue words and other achievable language to help readers solve it.","English",22.6,16.95,"510--dc23","24 pp.",{"$f":"Table1[[#This Row],[QTY]]*Table1[[#This Row],['# Books]]","v":0},{"$f":"Table1[[#This Row],[QTY]]*Table1[[#This Row],[S&L Price]]","v":0}]
[null,16,null,"Cooking with Math!",1,"Making Snacks with Math!","eBook",null,"978-1-5382-4577-4",{"$f":"HYPERLINK(\"https://www.garethstevens.com/\"&Table1[[#This Row],[ISBN]],\"Weblink\")","v":"Weblink"},2020,"January 2020",null,null,"Author","Santana Hunt",null,null,null,null,"I",null,"Grade 1 - 2","Grade 1 - 3","Snacks can be as simple as a cheese stick or as complicated as ants on a log or chocolate chip cookies. Readers can try out four different snack recipes using this book and a little help from an adult as well as hone their math skills in the real world of their kitchen. Each recipe is paired with a word problem using measuring, addition, subtraction, and more. Written especially for young readers, each problem contains clue words and other achievable language to help readers solve it.","English",22.6,16.95,"510--dc23","24 pp.",{"$f":"Table1[[#This Row],[QTY]]*Table1[[#This Row],['# Books]]","v":0},{"$f":"Table1[[#This Row],[QTY]]*Table1[[#This Row],[S&L Price]]","v":0}]
[null,16,null,"Cooking with Math!",1,"Making Soups with Math!","Library Bound Book",null,"978-1-5382-4568-2",{"$f":"HYPERLINK(\"https://www.garethstevens.com/\"&Table1[[#This Row],[ISBN]],\"Weblink\")","v":"Weblink"},2020,"January 2020","Library","7.000 X 7.000","Author","Santana Hunt",null,null,null,null,"I",null,"Grade 1 - 2","Grade 1 - 3","Soups often contain meat and vegetables, but readers will be surprised to learn that soups can have fruit too. Readers expand their expectations of soup with four great, different recipes they can make with limited assistance from an adult. Each fosters independence in the kitchen and culinary curiosity, as well as helps readers apply math to the real world. Each recipe is accompanied by a word problem that uses skills from the math curriculum, including addition, subtraction, measuring, and more. A concluding answer key allows readers to check their solutions.","English",22.6,16.95,"510--dc23","24 pp.",{"$f":"Table1[[#This Row],[QTY]]*Table1[[#This Row],['# Books]]","v":0},{"$f":"Table1[[#This Row],[QTY]]*Table1[[#This Row],[S&L Price]]","v":0}]
[null,16,null,"Cooking with Math!",1,"Making Soups with Math!","eBook",null,"978-1-5382-4569-9",{"$f":"HYPERLINK(\"https://www.garethstevens.com/\"&Table1[[#This Row],[ISBN]],\"Weblink\")","v":"Weblink"},2020,"January 2020",null,null,"Author","Santana Hunt",null,null,null,null,"I",null,"Grade 1 - 2","Grade 1 - 3","Soups often contain meat and vegetables, but readers will be surprised to learn that soups can have fruit too. Readers expand their expectations of soup with four great, different recipes they can make with limited assistance from an adult. Each fosters independence in the kitchen and culinary curiosity, as well as helps readers apply math to the real world. Each recipe is accompanied by a word problem that uses skills from the math curriculum, including addition, subtraction, measuring, and more. A concluding answer key allows readers to check their solutions.","English",22.6,16.95,"510--dc23","24 pp.",{"$f":"Table1[[#This Row],[QTY]]*Table1[[#This Row],['# Books]]","v":0},{"$f":"Table1[[#This Row],[QTY]]*Table1[[#This Row],[S&L Price]]","v":0}]
[null,17,null,"Animal Rhyme Time!",6,"Animal Rhyme Time!","Library Set",null,"978-1-5382-5974-0",{"$f":"HYPERLINK(\"https://www.garethstevens.com/\"&Table1[[#This Row],[ISBN]],\"Weblink\")","v":"Weblink"},2021,"August 2020","Library","7.000 X 7.000","","",null,null,null,null,null,null,"Grade 1 - 2","Grade 1 - 3","From huge elephants to tiny bees, there's so much to learn about the animals that share the planet with us. Each volume of this delightful set uses rhyming text to teach readers fun facts about an animal. Being able to recognize certain sounds and parts of speech is an important step in mastering the English language. The use of rhyme makes it easier for young learners to remember the information, which supports core concepts from elementary science curricula. Features include: Helps readers recognize rhyming words, which is part of the ELA curriculum. Reinforces key ideas and lessons about animals. High-interest topics to keep developing readers engaged.","English",135.6,101.7,null,"24 pp.",{"$f":"Table1[[#This Row],[QTY]]*Table1[[#This Row],['# Books]]","v":0},{"$f":"Table1[[#This Row],[QTY]]*Table1[[#This Row],[S&L Price]]","v":0}]
[null,17,null,"Animal Rhyme Time!",1,"Rhyme Time with Bees!","Library Bound Book",null,"978-1-5382-5608-4",{"$f":"HYPERLINK(\"https://www.garethstevens.com/\"&Table1[[#This Row],[ISBN]],\"Weblink\")","v":"Weblink"},2021,"August 2020","Library","7.000 X 7.000","Author","Jonas Edwards",null,null,null,null,"K",null,"Grade 1 - 2","Grade 1 - 3","Some people are scared of bees, but these creatures play a significant part in our world. With the use of captivating poems, this innovative book features many key facts about these interesting insects and explains why they are important to the wellbeing of many other organisms. Curious readers will love learning amusing rhymes that help them remember specific information and easily share fun facts with friends and family. Eye-catching photographs help hold readers' attention. Simple sentence structures introduce rhyming and verse writing.","English",22.6,16.95,"595.79/9--dc23","24 pp.",{"$f":"Table1[[#This Row],[QTY]]*Table1[[#This Row],['# Books]]","v":0},{"$f":"Table1[[#This Row],[QTY]]*Table1[[#This Row],[S&L Price]]","v":0}]
[null,17,null,"Animal Rhyme Time!",1,"Rhyme Time with Bees!","eBook",null,"978-1-5382-5609-1",{"$f":"HYPERLINK(\"https://www.garethstevens.com/\"&Table1[[#This Row],[ISBN]],\"Weblink\")","v":"Weblink"},2021,"August 2020",null,null,"Author","Jonas Edwards",null,null,null,null,"K",null,"Grade 1 - 2","Grade 1 - 3","Some people are scared of bees, but these creatures play a significant part in our world. With the use of captivating poems, this innovative book features many key facts about these interesting insects and explains why they are important to the wellbeing of many other organisms. Curious readers will love learning amusing rhymes that help them remember specific information and easily share fun facts with friends and family. Eye-catching photographs help hold readers' attention. Simple sentence structures introduce rhyming and verse writing.","English",22.6,16.95,"595.79/9--dc23","24 pp.",{"$f":"Table1[[#This Row],[QTY]]*Table1[[#This Row],['# Books]]","v":0},{"$f":"Table1[[#This Row],[QTY]]*Table1[[#This Row],[S&L Price]]","v":0}]
[null,17,null,"Animal Rhyme Time!",1,"Rhyme Time with Elephants!","Library Bound Book",null,"978-1-5382-5604-6",{"$f":"HYPERLINK(\"https://www.garethstevens.com/\"&Table1[[#This Row],[ISBN]],\"Weblink\")","v":"Weblink"},2021,"August 2020","Library","7.000 X 7.000","Author","Jonas Edwards",null,null,null,null,"K",null,"Grade 1 - 2","Grade 1 - 3","As the largest land animals alive, elephants are magnificent creatures. Readers will learn about these awesome animals through fun and informative poems. An excellent introduction to rhyming and verse, this captivating book also reinforces key life science lessons. The rhymes make it easy for young readers to remember key facts and figures. Vibrant photographs help engage developing and struggling readers.","English",22.6,16.95,"599.67--dc23","24 pp.",{"$f":"Table1[[#This Row],[QTY]]*Table1[[#This Row],['# Books]]","v":0},{"$f":"Table1[[#This Row],[QTY]]*Table1[[#This Row],[S&L Price]]","v":0}]
[null,17,null,"Animal Rhyme Time!",1,"Rhyme Time with Elephants!","eBook",null,"978-1-5382-5605-3",{"$f":"HYPERLINK(\"https://www.garethstevens.com/\"&Table1[[#This Row],[ISBN]],\"Weblink\")","v":"Weblink"},2021,"August 2020",null,null,"Author","Jonas Edwards",null,null,null,null,"K",null,"Grade 1 - 2","Grade 1 - 3","As the largest land animals alive, elephants are magnificent creatures. Readers will learn about these awesome animals through fun and informative poems. An excellent introduction to rhyming and verse, this captivating book also reinforces key life science lessons. The rhymes make it easy for young readers to remember key facts and figures. Vibrant photographs help engage developing and struggling readers.","English",22.6,16.95,"599.67--dc23","24 pp.",{"$f":"Table1[[#This Row],[QTY]]*Table1[[#This Row],['# Books]]","v":0},{"$f":"Table1[[#This Row],[QTY]]*Table1[[#This Row],[S&L Price]]","v":0}]
[null,17,null,"Animal Rhyme Time!",1,"Rhyme Time with Monkeys!","Library Bound Book",null,"978-1-5382-5596-4",{"$f":"HYPERLINK(\"https://www.garethstevens.com/\"&Table1[[#This Row],[ISBN]],\"Weblink\")","v":"Weblink"},2021,"August 2020","Library","7.000 X 7.000","Author","Jonas Edwards",null,null,null,null,"K",null,"Grade 1 - 2","Grade 1 - 3","This fun book proves that monkeys, poetry, and learning can go together quite naturally. From howler monkeys to squirrel monkeys, readers will learn about the tropical rain forests that are filled with a variety of marvelous primates. Engaging poems and colorful images reinforce important life science lessons. Whether your readers love poetry or monkeys, this book will become a favorite.","English",22.6,16.95,"599.8--dc23","24 pp.",{"$f":"Table1[[#This Row],[QTY]]*Table1[[#This Row],['# Books]]","v":0},{"$f":"Table1[[#This Row],[QTY]]*Table1[[#This Row],[S&L Price]]","v":0}]
[null,17,null,"Animal Rhyme Time!",1,"Rhyme Time with Monkeys!","eBook",null,"978-1-5382-5597-1",{"$f":"HYPERLINK(\"https://www.garethstevens.com/\"&Table1[[#This Row],[ISBN]],\"Weblink\")","v":"Weblink"},2021,"August 2020",null,null,"Author","Jonas Edwards",null,null,null,null,"K",null,"Grade 1 - 2","Grade 1 - 3","This fun book proves that monkeys, poetry, and learning can go together quite naturally. From howler monkeys to squirrel monkeys, readers will learn about the tropical rain forests that are filled with a variety of marvelous primates. Engaging poems and colorful images reinforce important life science lessons. Whether your readers love poetry or monkeys, this book will become a favorite.","English",22.6,16.95,"599.8--dc23","24 pp.",{"$f":"Table1[[#This Row],[QTY]]*Table1[[#This Row],['# Books]]","v":0},{"$f":"Table1[[#This Row],[QTY]]*Table1[[#This Row],[S&L Price]]","v":0}]
[null,17,null,"Animal Rhyme Time!",1,"Rhyme Time with Parrots!","Library Bound Book",null,"978-1-5382-5600-8",{"$f":"HYPERLINK(\"https://www.garethstevens.com/\"&Table1[[#This Row],[ISBN]],\"Weblink\")","v":"Weblink"},2021,"August 2020","Library","7.000 X 7.000","Author","Jonas Edwards",null,null,null,null,"K",null,"Grade 1 - 2","Grade 1 - 3","Parrots are known for their ability to repeat things that people say, but there's much more to learn about these beautiful birds. Readers will learn amazing details about parrots, from where they live to what they eat. Rhyming text is paired with colorful images, supporting readers of many ages and levels. Fun poems help impart key facts about these amazing animals in a way that will make readers want to parrot back what they've learned.","English",22.6,16.95,"598.7'1--dc23","24 pp.",{"$f":"Table1[[#This Row],[QTY]]*Table1[[#This Row],['# Books]]","v":0},{"$f":"Table1[[#This Row],[QTY]]*Table1[[#This Row],[S&L Price]]","v":0}]
[null,17,null,"Animal Rhyme Time!",1,"Rhyme Time with Parrots!","eBook",null,"978-1-5382-5601-5",{"$f":"HYPERLINK(\"https://www.garethstevens.com/\"&Table1[[#This Row],[ISBN]],\"Weblink\")","v":"Weblink"},2021,"August 2020",null,null,"Author","Jonas Edwards",null,null,null,null,"K",null,"Grade 1 - 2","Grade 1 - 3","Parrots are known for their ability to repeat things that people say, but there's much more to learn about these beautiful birds. Readers will learn amazing details about parrots, from where they live to what they eat. Rhyming text is paired with colorful images, supporting readers of many ages and levels. Fun poems help impart key facts about these amazing animals in a way that will make readers want to parrot back what they've learned.","English",22.6,16.95,"598.7'1--dc23","24 pp.",{"$f":"Table1[[#This Row],[QTY]]*Table1[[#This Row],['# Books]]","v":0},{"$f":"Table1[[#This Row],[QTY]]*Table1[[#This Row],[S&L Price]]","v":0}]
[null,17,null,"Animal Rhyme Time!",1,"Rhyme Time with Sharks!","Library Bound Book",null,"978-1-5382-5616-9",{"$f":"HYPERLINK(\"https://www.garethstevens.com/\"&Table1[[#This Row],[ISBN]],\"Weblink\")","v":"Weblink"},2021,"August 2020","Library","7.000 X 7.000","Author","Jonas Edwards",null,null,null,null,"K",null,"Grade 1 - 2","Grade 1 - 3","Anyone of sound mind would not want to dive into waters full of sharks, but diving into shark poetry is a whole other story! Eye-catching images pair closely with captivating, rhyming text that offers fun facts about these fierce fish. Delightful poems provide compelling content supporting life science curricula, making it easy for readers to remember key facts. This engaging volume encourages an understanding and recognition of rhyming words, which is part of the ELA curriculum.","English",22.6,16.95,"597.3--dc23","24 pp.",{"$f":"Table1[[#This Row],[QTY]]*Table1[[#This Row],['# Books]]","v":0},{"$f":"Table1[[#This Row],[QTY]]*Table1[[#This Row],[S&L Price]]","v":0}]
[null,17,null,"Animal Rhyme Time!",1,"Rhyme Time with Sharks!","eBook",null,"978-1-5382-5617-6",{"$f":"HYPERLINK(\"https://www.garethstevens.com/\"&Table1[[#This Row],[ISBN]],\"Weblink\")","v":"Weblink"},2021,"August 2020",null,null,"Author","Jonas Edwards",null,null,null,null,"K",null,"Grade 1 - 2","Grade 1 - 3","Anyone of sound mind would not want to dive into waters full of sharks, but diving into shark poetry is a whole other story! Eye-catching images pair closely with captivating, rhyming text that offers fun facts about these fierce fish. Delightful poems provide compelling content supporting life science curricula, making it easy for readers to remember key facts. This engaging volume encourages an understanding and recognition of rhyming words, which is part of the ELA curriculum.","English",22.6,16.95,"597.3--dc23","24 pp.",{"$f":"Table1[[#This Row],[QTY]]*Table1[[#This Row],['# Books]]","v":0},{"$f":"Table1[[#This Row],[QTY]]*Table1[[#This Row],[S&L Price]]","v":0}]
[null,17,null,"Animal Rhyme Time!",1,"Rhyme Time with Snakes!","Library Bound Book",null,"978-1-5382-5612-1",{"$f":"HYPERLINK(\"https://www.garethstevens.com/\"&Table1[[#This Row],[ISBN]],\"Weblink\")","v":"Weblink"},2021,"August 2020","Library","7.000 X 7.000","Author","Jonas Edwards",null,null,null,null,"K",null,"Grade 1 - 2","Grade 1 - 3","There are thousands of different species of snakes in the world, from the most venomous vipers to harmless garden snakes. This delightful volume uses poetry to teach readers about all sorts of snakes. Rhyming verses touch on key life science lessons, ensuring that specific details are easy for readers to remember and repeat to others. These informative poems introduce readers to a fun style of writing and colorful images hold the attention of developing readers.","English",22.6,16.95,"597.96--dc23","24 pp.",{"$f":"Table1[[#This Row],[QTY]]*Table1[[#This Row],['# Books]]","v":0},{"$f":"Table1[[#This Row],[QTY]]*Table1[[#This Row],[S&L Price]]","v":0}]
[null,17,null,"Animal Rhyme Time!",1,"Rhyme Time with Snakes!","eBook",null,"978-1-5382-5613-8",{"$f":"HYPERLINK(\"https://www.garethstevens.com/\"&Table1[[#This Row],[ISBN]],\"Weblink\")","v":"Weblink"},2021,"August 2020",null,null,"Author","Jonas Edwards",null,null,null,null,"K",null,"Grade 1 - 2","Grade 1 - 3","There are thousands of different species of snakes in the world, from the most venomous vipers to harmless garden snakes. This delightful volume uses poetry to teach readers about all sorts of snakes. Rhyming verses touch on key life science lessons, ensuring that specific details are easy for readers to remember and repeat to others. These informative poems introduce readers to a fun style of writing and colorful images hold the attention of developing readers.","English",22.6,16.95,"597.96--dc23","24 pp.",{"$f":"Table1[[#This Row],[QTY]]*Table1[[#This Row],['# Books]]","v":0},{"$f":"Table1[[#This Row],[QTY]]*Table1[[#This Row],[S&L Price]]","v":0}]
[null,18,null,"Everyday Mysteries",18,"Everyday Mysteries (Set of 18 Titles)","Library Set",null,"978-1-5382-5765-4",{"$f":"HYPERLINK(\"https://www.garethstevens.com/\"&Table1[[#This Row],[ISBN]],\"Weblink\")","v":"Weblink"},2021,"August 2020","Library","7.000 X 7.000","","",null,null,null,null,null,null,"Grade 1 - 2","Grade 1 - 3","Why does that happen? Where does that come from? What happens next? These are the must-know questions of promising scientists and inquisitive investigators. This inspiring collection allows them to find the answers they seek about the world around them. Whether they're curious about nature, engineering, or the inner workings of their community, they'll come to understand the everyday processes happening around them. From where the recycling goes to how a rainbow appears, this appealing set engages readers with achievable narratives full of fascinating facts. Features include: A concluding, step-by-step diagram summarizes information in each book. Addresses both science and social studies topics. Each book's text is carefully crafted so that readers will make connections to their daily lives.","English",412.8,309.60000000000002,null,"24 pp.",{"$f":"Table1[[#This Row],[QTY]]*Table1[[#This Row],['# Books]]","v":0},{"$f":"Table1[[#This Row],[QTY]]*Table1[[#This Row],[S&L Price]]","v":0}]
[null,18,null,"Everyday Mysteries",6,"Everyday Mysteries (Set of 6 NEW Titles)","Library Set",null,"978-1-5382-5764-7",{"$f":"HYPERLINK(\"https://www.garethstevens.com/\"&Table1[[#This Row],[ISBN]],\"Weblink\")","v":"Weblink"},2021,"August 2020","Library","7.000 X 7.000","","",null,null,null,null,null,null,"Grade 1 - 2","Grade 1 - 3","One of the most charming characteristics of young scientists is their ability to see the amazing in what others view as common. They don't look past the familiar. Rather, they constantly question why things are the way they are. These investigative volumes are perfect for inquiring minds! They'll learn how rocks and rainbows form, why the moon seems to change shape, and many other things through carefully researched, accessible narratives and helpful, illustrative photographs. Features include: Topics relate to elementary curricular content, including Next Gen Science Standards. Each volume concludes with a diagram to synopsize important information. Comprehensible texts help readers understand the relevance of science concepts in their everyday lives.","English",135.6,101.7,null,"24 pp.",{"$f":"Table1[[#This Row],[QTY]]*Table1[[#This Row],['# Books]]","v":0},{"$f":"Table1[[#This Row],[QTY]]*Table1[[#This Row],[S&L Price]]","v":0}]
[null,18,null,"Everyday Mysteries",1,"How Do Rocks Form?","Library Bound Book",null,"978-1-5382-5661-9",{"$f":"HYPERLINK(\"https://www.garethstevens.com/\"&Table1[[#This Row],[ISBN]],\"Weblink\")","v":"Weblink"},2021,"August 2020","Library","7.000 X 7.000","Author","John O'Mara",null,null,null,null,"K",null,"Grade 1 - 2","Grade 1 - 3","Rocks are everywhere. How they formed in the first place is a question we may have never asked, but it's something we all should learn. With this engaging volume, budding geologists will come to appreciate Earth's remarkable rock cycle and marvel at the processes that create, destroy, and reshape the landforms we know. Essential vocabulary terms, accessible explanations, and helpful diagrams make this a valuable book for every earth science collection.","English",22.6,16.95,"552--dc23","24 pp.",{"$f":"Table1[[#This Row],[QTY]]*Table1[[#This Row],['# Books]]","v":0},{"$f":"Table1[[#This Row],[QTY]]*Table1[[#This Row],[S&L Price]]","v":0}]
[null,18,null,"Everyday Mysteries",1,"How Do Rocks Form?","eBook",null,"978-1-5382-5662-6",{"$f":"HYPERLINK(\"https://www.garethstevens.com/\"&Table1[[#This Row],[ISBN]],\"Weblink\")","v":"Weblink"},2021,"August 2020",null,null,"Author","John O'Mara",null,null,null,null,"K",null,"Grade 1 - 2","Grade 1 - 3","Rocks are everywhere. How they formed in the first place is a question we may have never asked, but it's something we all should learn. With this engaging volume, budding geologists will come to appreciate Earth's remarkable rock cycle and marvel at the processes that create, destroy, and reshape the landforms we know. Essential vocabulary terms, accessible explanations, and helpful diagrams make this a valuable book for every earth science collection.","English",22.6,16.95,"552--dc23","24 pp.",{"$f":"Table1[[#This Row],[QTY]]*Table1[[#This Row],['# Books]]","v":0},{"$f":"Table1[[#This Row],[QTY]]*Table1[[#This Row],[S&L Price]]","v":0}]
[null,18,null,"Everyday Mysteries",1,"How Does a Thermometer Work?","Library Bound Book",null,"978-1-5382-5665-7",{"$f":"HYPERLINK(\"https://www.garethstevens.com/\"&Table1[[#This Row],[ISBN]],\"Weblink\")","v":"Weblink"},2021,"August 2020","Library","7.000 X 7.000","Author","John O'Mara",null,null,null,null,"K",null,"Grade 1 - 2","Grade 1 - 3","When we're checking thermometers to see what the temperature is outside, inside, or our own body temperature, we rarely think about what makes the thermometer function. This amazing, reliable invention is attributed to Galileo. Readers will learn about the first mercury thermometers and how they work and they'll review the digital models they may be more familiar with today. Many important science concepts are presented along with beneficial photographs and images to support reading comprehension.","English",22.6,16.95,"681'.2--dc23","24 pp.",{"$f":"Table1[[#This Row],[QTY]]*Table1[[#This Row],['# Books]]","v":0},{"$f":"Table1[[#This Row],[QTY]]*Table1[[#This Row],[S&L Price]]","v":0}]
[null,18,null,"Everyday Mysteries",1,"How Does a Thermometer Work?","eBook",null,"978-1-5382-5666-4",{"$f":"HYPERLINK(\"https://www.garethstevens.com/\"&Table1[[#This Row],[ISBN]],\"Weblink\")","v":"Weblink"},2021,"August 2020",null,null,"Author","John O'Mara",null,null,null,null,"K",null,"Grade 1 - 2","Grade 1 - 3","When we're checking thermometers to see what the temperature is outside, inside, or our own body temperature, we rarely think about what makes the thermometer function. This amazing, reliable invention is attributed to Galileo. Readers will learn about the first mercury thermometers and how they work and they'll review the digital models they may be more familiar with today. Many important science concepts are presented along with beneficial photographs and images to support reading comprehension.","English",22.6,16.95,"681'.2--dc23","24 pp.",{"$f":"Table1[[#This Row],[QTY]]*Table1[[#This Row],['# Books]]","v":0},{"$f":"Table1[[#This Row],[QTY]]*Table1[[#This Row],[S&L Price]]","v":0}]
[null,18,null,"Everyday Mysteries",1,"What Makes a Rainbow Appear?","Library Bound Book",null,"978-1-5382-5657-2",{"$f":"HYPERLINK(\"https://www.garethstevens.com/\"&Table1[[#This Row],[ISBN]],\"Weblink\")","v":"Weblink"},2021,"August 2020","Library","7.000 X 7.000","Author","John O'Mara",null,null,null,null,"K",null,"Grade 1 - 2","Grade 1 - 3","Rainbows are those rare phenomena that make people stop and appreciate the beauty of nature. Why and how they appear are the high-interest topics of this accessible book. While readers will be captivated by beautiful color photographs of rainbows, they'll also be intrigued by the properties of light that make such a display possible. A concluding diagram reinforces comprehension of the key concepts, which relate closely to elementary science curricula.","English",22.6,16.95,"551.567--dc23","24 pp.",{"$f":"Table1[[#This Row],[QTY]]*Table1[[#This Row],['# Books]]","v":0},{"$f":"Table1[[#This Row],[QTY]]*Table1[[#This Row],[S&L Price]]","v":0}]
[null,18,null,"Everyday Mysteries",1,"What Makes a Rainbow Appear?","eBook",null,"978-1-5382-5658-9",{"$f":"HYPERLINK(\"https://www.garethstevens.com/\"&Table1[[#This Row],[ISBN]],\"Weblink\")","v":"Weblink"},2021,"August 2020",null,null,"Author","John O'Mara",null,null,null,null,"K",null,"Grade 1 - 2","Grade 1 - 3","Rainbows are those rare phenomena that make people stop and appreciate the beauty of nature. Why and how they appear are the high-interest topics of this accessible book. While readers will be captivated by beautiful color photographs of rainbows, they'll also be intrigued by the properties of light that make such a display possible. A concluding diagram reinforces comprehension of the key concepts, which relate closely to elementary science curricula.","English",22.6,16.95,"551.567--dc23","24 pp.",{"$f":"Table1[[#This Row],[QTY]]*Table1[[#This Row],['# Books]]","v":0},{"$f":"Table1[[#This Row],[QTY]]*Table1[[#This Row],[S&L Price]]","v":0}]
[null,18,null,"Everyday Mysteries",1,"What Makes Lightning and Thunder?","Library Bound Book",null,"978-1-5382-5649-7",{"$f":"HYPERLINK(\"https://www.garethstevens.com/\"&Table1[[#This Row],[ISBN]],\"Weblink\")","v":"Weblink"},2021,"August 2020","Library","7.000 X 7.000","Author","Marie Roesser",null,null,null,null,"K",null,"Grade 1 - 2","Grade 1 - 3","Storm watchers enjoy the thrill of viewing Nature's pyrotechnics. It's at once engrossing and sometimes quite scary. Young meteorologists will love learning what's going on behind the flashes and booms of storms through the inviting pages of this lively volume. At-level text provides comprehensible explanations while supportive photographs and diagrams help readers remember need-to-know facts.","English",22.6,16.95,"551.56'32--dc23","24 pp.",{"$f":"Table1[[#This Row],[QTY]]*Table1[[#This Row],['# Books]]","v":0},{"$f":"Table1[[#This Row],[QTY]]*Table1[[#This Row],[S&L Price]]","v":0}]
[null,18,null,"Everyday Mysteries",1,"What Makes Lightning and Thunder?","eBook",null,"978-1-5382-5650-3",{"$f":"HYPERLINK(\"https://www.garethstevens.com/\"&Table1[[#This Row],[ISBN]],\"Weblink\")","v":"Weblink"},2021,"August 2020",null,null,"Author","Marie Roesser",null,null,null,null,"K",null,"Grade 1 - 2","Grade 1 - 3","Storm watchers enjoy the thrill of viewing Nature's pyrotechnics. It's at once engrossing and sometimes quite scary. Young meteorologists will love learning what's going on behind the flashes and booms of storms through the inviting pages of this lively volume. At-level text provides comprehensible explanations while supportive photographs and diagrams help readers remember need-to-know facts.","English",22.6,16.95,"551.56'32--dc23","24 pp.",{"$f":"Table1[[#This Row],[QTY]]*Table1[[#This Row],['# Books]]","v":0},{"$f":"Table1[[#This Row],[QTY]]*Table1[[#This Row],[S&L Price]]","v":0}]
[null,18,null,"Everyday Mysteries",1,"Why Do Leaves Change Colors?","Library Bound Book",null,"978-1-5382-5653-4",{"$f":"HYPERLINK(\"https://www.garethstevens.com/\"&Table1[[#This Row],[ISBN]],\"Weblink\")","v":"Weblink"},2021,"August 2020","Library","7.000 X 7.000","Author","Marie Roesser",null,null,null,null,"K",null,"Grade 1 - 2","Grade 1 - 3","Yes, the changing colors of leaves signal the coming of fall, but why do they change? Is it the cold, the amount of sunlight...young naturalists need to know! This engaging book reveals the science behind the colorful leaves we see falling to the ground each year. Scientific vocabulary and spectacular photographs support up-and-coming scientists' understanding as they learn about the natural processes at work, not just in autumn, but all year round.","English",22.6,16.95,"581.4'8--dc23","24 pp.",{"$f":"Table1[[#This Row],[QTY]]*Table1[[#This Row],['# Books]]","v":0},{"$f":"Table1[[#This Row],[QTY]]*Table1[[#This Row],[S&L Price]]","v":0}]
[null,18,null,"Everyday Mysteries",1,"Why Do Leaves Change Colors?","eBook",null,"978-1-5382-5654-1",{"$f":"HYPERLINK(\"https://www.garethstevens.com/\"&Table1[[#This Row],[ISBN]],\"Weblink\")","v":"Weblink"},2021,"August 2020",null,null,"Author","Marie Roesser",null,null,null,null,"K",null,"Grade 1 - 2","Grade 1 - 3","Yes, the changing colors of leaves signal the coming of fall, but why do they change? Is it the cold, the amount of sunlight...young naturalists need to know! This engaging book reveals the science behind the colorful leaves we see falling to the ground each year. Scientific vocabulary and spectacular photographs support up-and-coming scientists' understanding as they learn about the natural processes at work, not just in autumn, but all year round.","English",22.6,16.95,"581.4'8--dc23","24 pp.",{"$f":"Table1[[#This Row],[QTY]]*Table1[[#This Row],['# Books]]","v":0},{"$f":"Table1[[#This Row],[QTY]]*Table1[[#This Row],[S&L Price]]","v":0}]
[null,18,null,"Everyday Mysteries",1,"Why Does the Moon Change Shape?","Library Bound Book",null,"978-1-5382-5669-5",{"$f":"HYPERLINK(\"https://www.garethstevens.com/\"&Table1[[#This Row],[ISBN]],\"Weblink\")","v":"Weblink"},2021,"August 2020","Library","7.000 X 7.000","Author","Marie Roesser",null,null,null,null,"K",null,"Grade 1 - 2","Grade 1 - 3","As the moon makes it way across the sky, it certainly appears to change its shape over time and successive nights. What's actually happening when we see transformations in the moon's form is explained clearly in this appealing book. Terms such as full moon, new moon, and many others are woven into the accessible narrative. Cool diagrams and vivid photographs enhance this valuable space science information about our bella Luna.","English",22.6,16.95,"523.3/2--dc23","24 pp.",{"$f":"Table1[[#This Row],[QTY]]*Table1[[#This Row],['# Books]]","v":0},{"$f":"Table1[[#This Row],[QTY]]*Table1[[#This Row],[S&L Price]]","v":0}]
[null,18,null,"Everyday Mysteries",1,"Why Does the Moon Change Shape?","eBook",null,"978-1-5382-5670-1",{"$f":"HYPERLINK(\"https://www.garethstevens.com/\"&Table1[[#This Row],[ISBN]],\"Weblink\")","v":"Weblink"},2021,"August 2020",null,null,"Author","Marie Roesser",null,null,null,null,"K",null,"Grade 1 - 2","Grade 1 - 3","As the moon makes it way across the sky, it certainly appears to change its shape over time and successive nights. What's actually happening when we see transformations in the moon's form is explained clearly in this appealing book. Terms such as full moon, new moon, and many others are woven into the accessible narrative. Cool diagrams and vivid photographs enhance this valuable space science information about our bella Luna.","English",22.6,16.95,"523.3/2--dc23","24 pp.",{"$f":"Table1[[#This Row],[QTY]]*Table1[[#This Row],['# Books]]","v":0},{"$f":"Table1[[#This Row],[QTY]]*Table1[[#This Row],[S&L Price]]","v":0}]
[null,null,60,"Everyday Mysteries",12,"Everyday Mysteries","Library Set",null,"978-1-4824-4305-9",{"$f":"HYPERLINK(\"https://www.garethstevens.com/\"&Table1[[#This Row],[ISBN]],\"Weblink\")","v":"Weblink"},2016,"January 2016","Library","7.000 X 7.000",null,null,null,null,null,null,null,null,"Grade 1 - 2","Grade 1 - 3","When the mail carrier picks up a stack of letters from the mailbox, they seem to disappear into a bag and then are driven away in a mail truck. What happens next? Questions like this one are answered in this 12-book set written especially for readers curious about the everyday processes happening around them. From where food comes from to why it might go bad, these books engage readers with age-appropriate language and content about questions they may have never thought to ask—but still want to know the answers to! \r\n•Shows each process in a concluding, step-by-step diagram\r\n•Addresses recycling, food and water waste, and saving electricity when appropriate \r\n•Relates each topic to readers’ daily lives through common examples","English",277.2,207.9,null,"24 pp.",{"$f":"Table1[[#This Row],[QTY]]*Table1[[#This Row],['# Books]]","v":0},{"$f":"Table1[[#This Row],[QTY]]*Table1[[#This Row],[S&L Price]]","v":0}]
[null,19,60,"Everyday Mysteries",1,"How Does a Light Bulb Work?","Library Bound Book",null,"978-1-4824-3819-2",{"$f":"HYPERLINK(\"https://www.garethstevens.com/\"&Table1[[#This Row],[ISBN]],\"Weblink\")","v":"Weblink"},2016,"January 2016","Library","7.000 X 7.000","Author","Demi Jackson","3.2","0.5",null,null,"I","NC","Grade 1 - 2","Grade 1 - 3","In the past few decades, light bulb technology has gotten better. Not only have compact fluorescent light bulbs become available and affordable, but federal guidelines have caused incandescent light bulbs to become more efficient, too. Readers learn about both kinds of light bulbs, how they work, and their differences. They’ll find an introduction to important science curriculum concepts such as circuits and environmental impact. The main content traces electricity’s path from the power plant all the way to the lamp in a house, and a colorful diagram illustrates this process as well.","English",22.6,16.95,"621.32'6--dc23","24 pp.",{"$f":"Table1[[#This Row],[QTY]]*Table1[[#This Row],['# Books]]","v":0},{"$f":"Table1[[#This Row],[QTY]]*Table1[[#This Row],[S&L Price]]","v":0}]
[null,19,60,"Everyday Mysteries",1,"How Does a Light Bulb Work?","eBook",null,"978-1-4824-3820-8",{"$f":"HYPERLINK(\"https://www.garethstevens.com/\"&Table1[[#This Row],[ISBN]],\"Weblink\")","v":"Weblink"},2016,"January 2016",null,null,"Author","Demi Jackson","3.2","0.5",null,null,"I","NC","Grade 1 - 2","Grade 1 - 3","In the past few decades, light bulb technology has gotten better. Not only have compact fluorescent light bulbs become available and affordable, but federal guidelines have caused incandescent light bulbs to become more efficient, too. Readers learn about both kinds of light bulbs, how they work, and their differences. They’ll find an introduction to important science curriculum concepts such as circuits and environmental impact. The main content traces electricity’s path from the power plant all the way to the lamp in a house, and a colorful diagram illustrates this process as well.","English",22.6,16.95,"621.32'6--dc23","24 pp.",{"$f":"Table1[[#This Row],[QTY]]*Table1[[#This Row],['# Books]]","v":0},{"$f":"Table1[[#This Row],[QTY]]*Table1[[#This Row],[S&L Price]]","v":0}]
[null,19,60,"Everyday Mysteries",1,"How Is Paper Made?","Library Bound Book",null,"978-1-4824-3823-9",{"$f":"HYPERLINK(\"https://www.garethstevens.com/\"&Table1[[#This Row],[ISBN]],\"Weblink\")","v":"Weblink"},2016,"January 2016","Library","7.000 X 7.000","Author","Demi Jackson","3.1","0.5",null,null,"H","NC","Grade 1 - 2","Grade 1 - 3","The ancient Chinese began making paper about 2,000 years ago. The basic process they created has been used throughout history. However, paper companies today use machines and can make a lot of paper at once instead of just one sheet at a time. Readers track papermaking from cutting down trees and making pulp with the wood to the final product we can use for writing. Full-color photographs show the papermaking process step by step, and an illustrated diagram simplifies it further for readers to review after reading the main content.","English",22.6,16.95,"676--dc23","24 pp.",{"$f":"Table1[[#This Row],[QTY]]*Table1[[#This Row],['# Books]]","v":0},{"$f":"Table1[[#This Row],[QTY]]*Table1[[#This Row],[S&L Price]]","v":0}]
[null,19,60,"Everyday Mysteries",1,"How Is Paper Made?","eBook",null,"978-1-4824-3824-6",{"$f":"HYPERLINK(\"https://www.garethstevens.com/\"&Table1[[#This Row],[ISBN]],\"Weblink\")","v":"Weblink"},2016,"January 2016",null,null,"Author","Demi Jackson","3.1","0.5",null,null,"H","NC","Grade 1 - 2","Grade 1 - 3","The ancient Chinese began making paper about 2,000 years ago. The basic process they created has been used throughout history. However, paper companies today use machines and can make a lot of paper at once instead of just one sheet at a time. Readers track papermaking from cutting down trees and making pulp with the wood to the final product we can use for writing. Full-color photographs show the papermaking process step by step, and an illustrated diagram simplifies it further for readers to review after reading the main content.","English",22.6,16.95,"676--dc23","24 pp.",{"$f":"Table1[[#This Row],[QTY]]*Table1[[#This Row],['# Books]]","v":0},{"$f":"Table1[[#This Row],[QTY]]*Table1[[#This Row],[S&L Price]]","v":0}]
[null,19,60,"Everyday Mysteries",1,"What Happens When I Flush the Toilet?","Library Bound Book",null,"978-1-4824-3827-7",{"$f":"HYPERLINK(\"https://www.garethstevens.com/\"&Table1[[#This Row],[ISBN]],\"Weblink\")","v":"Weblink"},2016,"January 2016","Library","7.000 X 7.000","Author","Walter LaPlante","3.5","0.5",null,null,"I",null,"Grade 1 - 2","Grade 1 - 3","One person uses more than 20,000 sheets of toilet paper each year. That means a family of four uses more than 80,000 sheets. What happens to all that used tissue? Readers follow this and other waste through the toilet to discover this very answer. Full-color photographs and a simple graphic organizer aid readers’ understanding of this everyday process, including an accessible description of common waste management. Including a brief history of the toilet, the main content is written in accessible language for curious readers.","English",22.6,16.95,"644'.6--dc23","24 pp.",{"$f":"Table1[[#This Row],[QTY]]*Table1[[#This Row],['# Books]]","v":0},{"$f":"Table1[[#This Row],[QTY]]*Table1[[#This Row],[S&L Price]]","v":0}]
[null,19,60,"Everyday Mysteries",1,"What Happens When I Flush the Toilet?","eBook",null,"978-1-4824-3828-4",{"$f":"HYPERLINK(\"https://www.garethstevens.com/\"&Table1[[#This Row],[ISBN]],\"Weblink\")","v":"Weblink"},2016,"January 2016",null,null,"Author","Walter LaPlante","3.5","0.5",null,null,"I",null,"Grade 1 - 2","Grade 1 - 3","One person uses more than 20,000 sheets of toilet paper each year. That means a family of four uses more than 80,000 sheets. What happens to all that used tissue? Readers follow this and other waste through the toilet to discover this very answer. Full-color photographs and a simple graphic organizer aid readers’ understanding of this everyday process, including an accessible description of common waste management. Including a brief history of the toilet, the main content is written in accessible language for curious readers.","English",22.6,16.95,"644'.6--dc23","24 pp.",{"$f":"Table1[[#This Row],[QTY]]*Table1[[#This Row],['# Books]]","v":0},{"$f":"Table1[[#This Row],[QTY]]*Table1[[#This Row],[S&L Price]]","v":0}]
[null,19,60,"Everyday Mysteries",1,"What Makes Fire Burn?","Library Bound Book",null,"978-1-4824-3846-8",{"$f":"HYPERLINK(\"https://www.garethstevens.com/\"&Table1[[#This Row],[ISBN]],\"Weblink\")","v":"Weblink"},2016,"January 2016","Library","7.000 X 7.000","Author","Walter LaPlante","2.9","0.5",null,null,"J",null,"Grade 1 - 2","Grade 1 - 3","There are a lot of ways to start a fire: flint and steel, matches, a magnifying glass and sunlight. However it starts, all fire needs oxygen, fuel, and heat. To some, it may almost seem like magic, but there’s a complicated chemical reaction taking place when a fire is lit! Readers learn what makes fire burn simply through age-appropriate language and content. Full-color photographs complement the main content and are followed by an illustrated graphic organizer that shows the process step-by-step.","English",22.6,16.95,"541.361--dc23","24 pp.",{"$f":"Table1[[#This Row],[QTY]]*Table1[[#This Row],['# Books]]","v":0},{"$f":"Table1[[#This Row],[QTY]]*Table1[[#This Row],[S&L Price]]","v":0}]
[null,19,60,"Everyday Mysteries",1,"What Makes Fire Burn?","eBook",null,"978-1-4824-3847-5",{"$f":"HYPERLINK(\"https://www.garethstevens.com/\"&Table1[[#This Row],[ISBN]],\"Weblink\")","v":"Weblink"},2016,"January 2016",null,null,"Author","Walter LaPlante","2.9","0.5",null,null,"J",null,"Grade 1 - 2","Grade 1 - 3","There are a lot of ways to start a fire: flint and steel, matches, a magnifying glass and sunlight. However it starts, all fire needs oxygen, fuel, and heat. To some, it may almost seem like magic, but there’s a complicated chemical reaction taking place when a fire is lit! Readers learn what makes fire burn simply through age-appropriate language and content. Full-color photographs complement the main content and are followed by an illustrated graphic organizer that shows the process step-by-step.","English",22.6,16.95,"541.361--dc23","24 pp.",{"$f":"Table1[[#This Row],[QTY]]*Table1[[#This Row],['# Books]]","v":0},{"$f":"Table1[[#This Row],[QTY]]*Table1[[#This Row],[S&L Price]]","v":0}]
[null,19,60,"Everyday Mysteries",1,"Where Does Electricity Come From?","Library Bound Book",null,"978-1-4339-6313-1",{"$f":"HYPERLINK(\"https://www.garethstevens.com/\"&Table1[[#This Row],[ISBN]],\"Weblink\")","v":"Weblink"},2012,"January 2012","Library","7.000 X 7.000","Author","Angelo Gangemi","3","0.5","18","20","J",null,"Grade 1 - 2","Grade 1 - 3","Electricity powers our televisions and computers. Refrigerators need it to keep our food cold, and toasters need it to make toast. Inside this volume, readers will discover where this important source of energy comes from and more. Accessible text, illustrative photographs, and a detailed diagram help readers learn all about this everyday mystery.","English",23.6,17.7,"537","24 pp.",{"$f":"Table1[[#This Row],[QTY]]*Table1[[#This Row],['# Books]]","v":0},{"$f":"Table1[[#This Row],[QTY]]*Table1[[#This Row],[S&L Price]]","v":0}]
[null,19,60,"Everyday Mysteries",1,"Where Does Electricity Come From?","eBook",null,"978-1-4339-6314-8",{"$f":"HYPERLINK(\"https://www.garethstevens.com/\"&Table1[[#This Row],[ISBN]],\"Weblink\")","v":"Weblink"},2012,"January 2012",null,null,"Author","Angelo Gangemi","3","0.5","18","20","J",null,"Grade 1 - 2","Grade 1 - 3","Electricity powers our televisions and computers. Refrigerators need it to keep our food cold, and toasters need it to make toast. Inside this volume, readers will discover where this important source of energy comes from and more. Accessible text, illustrative photographs, and a detailed diagram help readers learn all about this everyday mystery.","English",23.6,17.7,"537","24 pp.",{"$f":"Table1[[#This Row],[QTY]]*Table1[[#This Row],['# Books]]","v":0},{"$f":"Table1[[#This Row],[QTY]]*Table1[[#This Row],[S&L Price]]","v":0}]
[null,19,60,"Everyday Mysteries",1,"Where Does Our Food Come From?","Library Bound Book",null,"978-1-4339-6317-9",{"$f":"HYPERLINK(\"https://www.garethstevens.com/\"&Table1[[#This Row],[ISBN]],\"Weblink\")","v":"Weblink"},2012,"January 2012","Library","7.000 X 7.000","Author","Debra Stilwell","2.8","0.5","18","20","I","NC","Grade 1 - 2","Grade 1 - 3","Most of the time we buy food from stores, but stores get the food from somewhere too. With the help of easy-to-follow text and detailed diagrams, readers will visit farms and follow food on its journey to farmers markets, factories, and stores. Readers learn how fresh foods are sold in markets and are also used to make the processed foods we buy in stores. Vibrant photographs make this book a visual feast.","English",23.6,17.7,"641.3","24 pp.",{"$f":"Table1[[#This Row],[QTY]]*Table1[[#This Row],['# Books]]","v":0},{"$f":"Table1[[#This Row],[QTY]]*Table1[[#This Row],[S&L Price]]","v":0}]
[null,19,60,"Everyday Mysteries",1,"Where Does Our Food Come From?","eBook",null,"978-1-4339-6318-6",{"$f":"HYPERLINK(\"https://www.garethstevens.com/\"&Table1[[#This Row],[ISBN]],\"Weblink\")","v":"Weblink"},2012,"January 2012",null,null,"Author","Debra Stilwell","2.8","0.5","18","20","I","NC","Grade 1 - 2","Grade 1 - 3","Most of the time we buy food from stores, but stores get the food from somewhere too. With the help of easy-to-follow text and detailed diagrams, readers will visit farms and follow food on its journey to farmers markets, factories, and stores. Readers learn how fresh foods are sold in markets and are also used to make the processed foods we buy in stores. Vibrant photographs make this book a visual feast.","English",23.6,17.7,"641.3","24 pp.",{"$f":"Table1[[#This Row],[QTY]]*Table1[[#This Row],['# Books]]","v":0},{"$f":"Table1[[#This Row],[QTY]]*Table1[[#This Row],[S&L Price]]","v":0}]
[null,19,60,"Everyday Mysteries",1,"Where Does the Bathwater Go?","Library Bound Book",null,"978-1-4339-6321-6",{"$f":"HYPERLINK(\"https://www.garethstevens.com/\"&Table1[[#This Row],[ISBN]],\"Weblink\")","v":"Weblink"},2012,"January 2012","Library","7.000 X 7.000","Author","Daisy Allyn","3","0.5","18","20","J",null,"Grade 1 - 2","Grade 1 - 3","Running water is something many people take for granted. Readers will learn where our clean water comes from, where the bathwater goes, and more with the help of this valuable resource. Colorful photographs and clarifying diagrams take readers where they never thought they’d ever go—down the drain and beneath the neighborhood.","English",23.6,17.7,"628.3","24 pp.",{"$f":"Table1[[#This Row],[QTY]]*Table1[[#This Row],['# Books]]","v":0},{"$f":"Table1[[#This Row],[QTY]]*Table1[[#This Row],[S&L Price]]","v":0}]
[null,19,60,"Everyday Mysteries",1,"Where Does the Bathwater Go?","eBook",null,"978-1-4339-6322-3",{"$f":"HYPERLINK(\"https://www.garethstevens.com/\"&Table1[[#This Row],[ISBN]],\"Weblink\")","v":"Weblink"},2012,"January 2012",null,null,"Author","Daisy Allyn","3","0.5","18","20","J",null,"Grade 1 - 2","Grade 1 - 3","Running water is something many people take for granted. Readers will learn where our clean water comes from, where the bathwater goes, and more with the help of this valuable resource. Colorful photographs and clarifying diagrams take readers where they never thought they’d ever go—down the drain and beneath the neighborhood.","English",23.6,17.7,"628.3","24 pp.",{"$f":"Table1[[#This Row],[QTY]]*Table1[[#This Row],['# Books]]","v":0},{"$f":"Table1[[#This Row],[QTY]]*Table1[[#This Row],[S&L Price]]","v":0}]
[null,19,60,"Everyday Mysteries",1,"Where Does the Garbage Go?","Library Bound Book",null,"978-1-4339-6325-4",{"$f":"HYPERLINK(\"https://www.garethstevens.com/\"&Table1[[#This Row],[ISBN]],\"Weblink\")","v":"Weblink"},2012,"January 2012","Library","7.000 X 7.000","Author","Lincoln James","3.2","0.5","18","20","I","NC","Grade 1 - 2","Grade 1 - 3","Banana peels, apple cores, candy wrappers, and dirty diapers—it’s all garbage. No one wants garbage piling up around their homes, so we put it at the curb for the garbage truck. The answers to where that garbage ends up might surprise readers. Informative photographs and a summarizing diagram show readers where our garbage goes. The text also offers ideas on how to help protect the planet by reducing the amount of garbage we throw away.","English",23.6,17.7,"363.72","24 pp.",{"$f":"Table1[[#This Row],[QTY]]*Table1[[#This Row],['# Books]]","v":0},{"$f":"Table1[[#This Row],[QTY]]*Table1[[#This Row],[S&L Price]]","v":0}]
[null,19,60,"Everyday Mysteries",1,"Where Does the Garbage Go?","eBook",null,"978-1-4339-6326-1",{"$f":"HYPERLINK(\"https://www.garethstevens.com/\"&Table1[[#This Row],[ISBN]],\"Weblink\")","v":"Weblink"},2012,"January 2012",null,null,"Author","Lincoln James","3.2","0.5","18","20","I","NC","Grade 1 - 2","Grade 1 - 3","Banana peels, apple cores, candy wrappers, and dirty diapers—it’s all garbage. No one wants garbage piling up around their homes, so we put it at the curb for the garbage truck. The answers to where that garbage ends up might surprise readers. Informative photographs and a summarizing diagram show readers where our garbage goes. The text also offers ideas on how to help protect the planet by reducing the amount of garbage we throw away.","English",23.6,17.7,"363.72","24 pp.",{"$f":"Table1[[#This Row],[QTY]]*Table1[[#This Row],['# Books]]","v":0},{"$f":"Table1[[#This Row],[QTY]]*Table1[[#This Row],[S&L Price]]","v":0}]
[null,19,60,"Everyday Mysteries",1,"Where Does the Mail Go?","Library Bound Book",null,"978-1-4339-6329-2",{"$f":"HYPERLINK(\"https://www.garethstevens.com/\"&Table1[[#This Row],[ISBN]],\"Weblink\")","v":"Weblink"},2012,"January 2012","Library","7.000 X 7.000","Author","Koston Meyer","3.1","0.5","18","20","I","NC","Grade 1 - 2","Grade 1 - 3","Readers will follow the mail as it goes through the post office and processing plant, where it’s prepared for the rest of its journey. The informative text and accompanying photographs in this book bring readers along for the incredible trip. A concluding diagram helps readers summarize what they’ve read using fun and colorful images.","English",23.6,17.7,"383","24 pp.",{"$f":"Table1[[#This Row],[QTY]]*Table1[[#This Row],['# Books]]","v":0},{"$f":"Table1[[#This Row],[QTY]]*Table1[[#This Row],[S&L Price]]","v":0}]
[null,19,60,"Everyday Mysteries",1,"Where Does the Mail Go?","eBook",null,"978-1-4339-6330-8",{"$f":"HYPERLINK(\"https://www.garethstevens.com/\"&Table1[[#This Row],[ISBN]],\"Weblink\")","v":"Weblink"},2012,"January 2012",null,null,"Author","Koston Meyer","3.1","0.5","18","20","I","NC","Grade 1 - 2","Grade 1 - 3","Readers will follow the mail as it goes through the post office and processing plant, where it’s prepared for the rest of its journey. The informative text and accompanying photographs in this book bring readers along for the incredible trip. A concluding diagram helps readers summarize what they’ve read using fun and colorful images.","English",23.6,17.7,"383","24 pp.",{"$f":"Table1[[#This Row],[QTY]]*Table1[[#This Row],['# Books]]","v":0},{"$f":"Table1[[#This Row],[QTY]]*Table1[[#This Row],[S&L Price]]","v":0}]
[null,19,60,"Everyday Mysteries",1,"Where Does the Recycling Go?","Library Bound Book",null,"978-1-4339-6333-9",{"$f":"HYPERLINK(\"https://www.garethstevens.com/\"&Table1[[#This Row],[ISBN]],\"Weblink\")","v":"Weblink"},2012,"January 2012","Library","7.000 X 7.000","Author","John M. Shea","3.5","0.5","18","20","J",null,"Grade 1 - 2","Grade 1 - 3","Recycling is a great way to help take care of the planet. Many people recycle glass, paper, metal, and plastic instead of throwing it into the garbage. Inside this informative volume, readers will see up-close how recyclable garbage is transformed into new products. A fast-fact chart helps readers understand the importance of recycling.","English",23.6,17.7,"628.4","24 pp.",{"$f":"Table1[[#This Row],[QTY]]*Table1[[#This Row],['# Books]]","v":0},{"$f":"Table1[[#This Row],[QTY]]*Table1[[#This Row],[S&L Price]]","v":0}]
[null,19,60,"Everyday Mysteries",1,"Where Does the Recycling Go?","eBook",null,"978-1-4339-6334-6",{"$f":"HYPERLINK(\"https://www.garethstevens.com/\"&Table1[[#This Row],[ISBN]],\"Weblink\")","v":"Weblink"},2012,"January 2012",null,null,"Author","John M. Shea","3.5","0.5","18","20","J",null,"Grade 1 - 2","Grade 1 - 3","Recycling is a great way to help take care of the planet. Many people recycle glass, paper, metal, and plastic instead of throwing it into the garbage. Inside this informative volume, readers will see up-close how recyclable garbage is transformed into new products. A fast-fact chart helps readers understand the importance of recycling.","English",23.6,17.7,"628.4","24 pp.",{"$f":"Table1[[#This Row],[QTY]]*Table1[[#This Row],['# Books]]","v":0},{"$f":"Table1[[#This Row],[QTY]]*Table1[[#This Row],[S&L Price]]","v":0}]
[null,19,60,"Everyday Mysteries",1,"Why Do Ice Cubes Float?","Library Bound Book",null,"978-1-4824-3854-3",{"$f":"HYPERLINK(\"https://www.garethstevens.com/\"&Table1[[#This Row],[ISBN]],\"Weblink\")","v":"Weblink"},2016,"January 2016","Library","7.000 X 7.000","Author","Benjamin Proudfit","3","0.5",null,null,"I",null,"Grade 1 - 2","Grade 1 - 3","Water is a big part of everyday life. People wash with it, drink it, and run inside when it falls as rain. It also seems to defy the basics of physical science by floating in liquid when frozen as ice. Readers learn exactly why that is through accessible and age-appropriate language, as well as how liquid water becomes ice. Full-color photographs complement the main content, and an illustrated graphic organizer shows this common process step-by-step to help readers truly understand this science concept.","English",22.6,16.95,"532.25--dc23","24 pp.",{"$f":"Table1[[#This Row],[QTY]]*Table1[[#This Row],['# Books]]","v":0},{"$f":"Table1[[#This Row],[QTY]]*Table1[[#This Row],[S&L Price]]","v":0}]
[null,19,60,"Everyday Mysteries",1,"Why Do Ice Cubes Float?","eBook",null,"978-1-4824-3855-0",{"$f":"HYPERLINK(\"https://www.garethstevens.com/\"&Table1[[#This Row],[ISBN]],\"Weblink\")","v":"Weblink"},2016,"January 2016",null,null,"Author","Benjamin Proudfit","3","0.5",null,null,"I",null,"Grade 1 - 2","Grade 1 - 3","Water is a big part of everyday life. People wash with it, drink it, and run inside when it falls as rain. It also seems to defy the basics of physical science by floating in liquid when frozen as ice. Readers learn exactly why that is through accessible and age-appropriate language, as well as how liquid water becomes ice. Full-color photographs complement the main content, and an illustrated graphic organizer shows this common process step-by-step to help readers truly understand this science concept.","English",22.6,16.95,"532.25--dc23","24 pp.",{"$f":"Table1[[#This Row],[QTY]]*Table1[[#This Row],['# Books]]","v":0},{"$f":"Table1[[#This Row],[QTY]]*Table1[[#This Row],[S&L Price]]","v":0}]
[null,19,60,"Everyday Mysteries",1,"Why Does Food Go Bad?","Library Bound Book",null,"978-1-4824-3850-5",{"$f":"HYPERLINK(\"https://www.garethstevens.com/\"&Table1[[#This Row],[ISBN]],\"Weblink\")","v":"Weblink"},2016,"January 2016","Library","7.000 X 7.000","Author","Benjamin Proudfit","3.4","0.5",null,null,"I",null,"Grade 1 - 2","Grade 1 - 3","It's disappointing to open a container of strawberries only to see green fuzz covering them. Even worse is pulling out moldy cheese for a sandwich! Fruits and vegetables actually begin breaking down the minute they're picked. With more packaged food, like meat, cheese, and bread, this begins right when the seal is broken, or before if it's been on the shelf too long! Bacteria are the main culprits of food going bad, as readers learn in this book. Up-close photographs and an illustrated diagram of the process help readers further understand an everyday problem and the science behind it.","English",22.6,16.95,"664.001'579--dc23","24 pp.",{"$f":"Table1[[#This Row],[QTY]]*Table1[[#This Row],['# Books]]","v":0},{"$f":"Table1[[#This Row],[QTY]]*Table1[[#This Row],[S&L Price]]","v":0}]
[null,19,60,"Everyday Mysteries",1,"Why Does Food Go Bad?","eBook",null,"978-1-4824-3851-2",{"$f":"HYPERLINK(\"https://www.garethstevens.com/\"&Table1[[#This Row],[ISBN]],\"Weblink\")","v":"Weblink"},2016,"January 2016",null,null,"Author","Benjamin Proudfit","3.4","0.5",null,null,"I",null,"Grade 1 - 2","Grade 1 - 3","It's disappointing to open a container of strawberries only to see green fuzz covering them. Even worse is pulling out moldy cheese for a sandwich! Fruits and vegetables actually begin breaking down the minute they're picked. With more packaged food, like meat, cheese, and bread, this begins right when the seal is broken, or before if it's been on the shelf too long! Bacteria are the main culprits of food going bad, as readers learn in this book. Up-close photographs and an illustrated diagram of the process help readers further understand an everyday problem and the science behind it.","English",22.6,16.95,"664.001'579--dc23","24 pp.",{"$f":"Table1[[#This Row],[QTY]]*Table1[[#This Row],['# Books]]","v":0},{"$f":"Table1[[#This Row],[QTY]]*Table1[[#This Row],[S&L Price]]","v":0}]
[null,20,null,"We've Got Character!",6,"We've Got Character! Coming 2021","Library Set",null,"978-1-5382-5980-1",null,2021,"January 2021","Library","7.000 X 7.000","","",null,null,null,null,null,null,"Grade 1 - 2","Grade 1 - 3","Showing good sportsmanship, taking turns, and following the rules are all important parts of being on a team or part of a community. But how does one learn how to be fair or when to say \"I'm sorry\" and offer a real apology? This set takes readers through common, relatable scenarios such as facing a bully on the soccer field, encountering a problem with a classmate, and experiencing conflict with a sibling. Written in age-appropriate language perfect for young readers, each book \"shows\" instead of \"tells\" the audience ways they can do the right thing in school, at home, and in their community. Features include: Fosters working well with others, kindness, and patience. Glossary terms further aid understanding intangible concepts such as fairness. Photographs closely correlate with the nonfiction narratives.","English",135.6,101.7,null,"24 pp.",{"$f":"Table1[[#This Row],[QTY]]*Table1[[#This Row],['# Books]]","v":0},{"$f":"Table1[[#This Row],[QTY]]*Table1[[#This Row],[S&L Price]]","v":0}]
[null,20,null,"We've Got Character!",1,"I Am Fair Coming 2021","Library Bound Book",null,"978-1-5382-5637-4",null,2021,"January 2021","Library","7.000 X 7.000","Author","Charlotte Taylor",null,null,null,null,"K",null,"Grade 1 - 2","Grade 1 - 3","Children often assume that being fair means that everyone gets the same number of cookies, but at the heart of fairness is consideration, respect, and caring for others. Your readers will encounter real-life situations in which young people figure out how to act fairly. They'll meet Ben and Jane who are playing on the swings at recess while other children wait to use the swings. What is the fair thing to do? Each spread consists of one of these relatable scenarios along with a full-color photograph. Fun, accessible text encourages readers to consider how they treat others as they discover what it means to be fair.","English",22.6,16.95,"179/.9--dc23","24 pp.",{"$f":"Table1[[#This Row],[QTY]]*Table1[[#This Row],['# Books]]","v":0},{"$f":"Table1[[#This Row],[QTY]]*Table1[[#This Row],[S&L Price]]","v":0}]
[null,20,null,"We've Got Character!",1,"I Am Fair Coming 2021","eBook",null,"978-1-5382-5638-1",null,2021,"January 2021",null,null,"Author","Charlotte Taylor",null,null,null,null,"K",null,"Grade 1 - 2","Grade 1 - 3","Children often assume that being fair means that everyone gets the same number of cookies, but at the heart of fairness is consideration, respect, and caring for others. Your readers will encounter real-life situations in which young people figure out how to act fairly. They'll meet Ben and Jane who are playing on the swings at recess while other children wait to use the swings. What is the fair thing to do? Each spread consists of one of these relatable scenarios along with a full-color photograph. Fun, accessible text encourages readers to consider how they treat others as they discover what it means to be fair.","English",22.6,16.95,"179/.9--dc23","24 pp.",{"$f":"Table1[[#This Row],[QTY]]*Table1[[#This Row],['# Books]]","v":0},{"$f":"Table1[[#This Row],[QTY]]*Table1[[#This Row],[S&L Price]]","v":0}]
[null,20,null,"We've Got Character!",1,"I Follow the Rules Coming 2021","Library Bound Book",null,"978-1-5382-5645-9",null,2021,"January 2021","Library","7.000 X 7.000","Author","Charlotte Taylor",null,null,null,null,"K",null,"Grade 1 - 2","Grade 1 - 3","Everywhere we go in life, there are rules on how to behave that we need to observe. For young children this can be difficult to pick up, especially on the playground where you're supposed to let loose and have fun. This book helps readers navigate some common rule-following scenarios by depicting young people in relatable, real-life situations. They meet kids like Marco, who is in the middle of an intense video game when he realizes his computer time is up for the day. What does he do? Each spread includes a brief, high-interest story along with a colorful photograph, ensuring that readers will see themselves in the pages as they learn the fundamentals of following the rules.","English",22.6,16.95,"179/.9--dc23","24 pp.",{"$f":"Table1[[#This Row],[QTY]]*Table1[[#This Row],['# Books]]","v":0},{"$f":"Table1[[#This Row],[QTY]]*Table1[[#This Row],[S&L Price]]","v":0}]
[null,20,null,"We've Got Character!",1,"I Follow the Rules Coming 2021","eBook",null,"978-1-5382-5646-6",null,2021,"January 2021",null,null,"Author","Charlotte Taylor",null,null,null,null,"K",null,"Grade 1 - 2","Grade 1 - 3","Everywhere we go in life, there are rules on how to behave that we need to observe. For young children this can be difficult to pick up, especially on the playground where you're supposed to let loose and have fun. This book helps readers navigate some common rule-following scenarios by depicting young people in relatable, real-life situations. They meet kids like Marco, who is in the middle of an intense video game when he realizes his computer time is up for the day. What does he do? Each spread includes a brief, high-interest story along with a colorful photograph, ensuring that readers will see themselves in the pages as they learn the fundamentals of following the rules.","English",22.6,16.95,"179/.9--dc23","24 pp.",{"$f":"Table1[[#This Row],[QTY]]*Table1[[#This Row],['# Books]]","v":0},{"$f":"Table1[[#This Row],[QTY]]*Table1[[#This Row],[S&L Price]]","v":0}]
[null,20,null,"We've Got Character!",1,"I Say I'm Sorry Coming 2021","Library Bound Book",null,"978-1-5382-5641-1",null,2021,"January 2021","Library","7.000 X 7.000","Author","Charlotte Taylor",null,null,null,null,"K",null,"Grade 1 - 2","Grade 1 - 3","Knowing when to say we're sorry means knowing when we've hurt someone, whether it was intentional or not. This is not always easy to do, especially for children. This book presents readers with a variety of relatable scenarios in which young people recognize the need for an apology. Readers follow Louis as he shares an embarrassing secret about Aaron with his other classmates, who make fun of Aaron. Louis feels bad for sharing Aaron's secret. What can he do? Each colorful spread presents a different real-life situation that will instill in readers the importance of knowing when to say, \"I'm sorry.\"","English",22.6,16.95,"395--dc23","24 pp.",{"$f":"Table1[[#This Row],[QTY]]*Table1[[#This Row],['# Books]]","v":0},{"$f":"Table1[[#This Row],[QTY]]*Table1[[#This Row],[S&L Price]]","v":0}]
[null,20,null,"We've Got Character!",1,"I Say I'm Sorry Coming 2021","eBook",null,"978-1-5382-5642-8",null,2021,"January 2021",null,null,"Author","Charlotte Taylor",null,null,null,null,"K",null,"Grade 1 - 2","Grade 1 - 3","Knowing when to say we're sorry means knowing when we've hurt someone, whether it was intentional or not. This is not always easy to do, especially for children. This book presents readers with a variety of relatable scenarios in which young people recognize the need for an apology. Readers follow Louis as he shares an embarrassing secret about Aaron with his other classmates, who make fun of Aaron. Louis feels bad for sharing Aaron's secret. What can he do? Each colorful spread presents a different real-life situation that will instill in readers the importance of knowing when to say, \"I'm sorry.\"","English",22.6,16.95,"395--dc23","24 pp.",{"$f":"Table1[[#This Row],[QTY]]*Table1[[#This Row],['# Books]]","v":0},{"$f":"Table1[[#This Row],[QTY]]*Table1[[#This Row],[S&L Price]]","v":0}]
[null,20,null,"We've Got Character!",1,"I Show Good Sportsmanship Coming 2021","Library Bound Book",null,"978-1-5382-5620-6",null,2021,"January 2021","Library","7.000 X 7.000","Author","Charlotte Taylor",null,null,null,null,"K",null,"Grade 1 - 2","Grade 1 - 3","Being a good sport goes way beyond sports. The lessons we learn on the playing field extend to the classroom, the playground, and our home. How can we be a good sport? Readers are introduced to a variety of places and situations that call for good sportsmanship, such as working with classmates on a science project, winning the big soccer game, or helping Dad clean out the garage. With a unique, real-life scenario in every spread, readers learn what it takes to be a good sport wherever they go.","English",22.6,16.95,"175--dc23","24 pp.",{"$f":"Table1[[#This Row],[QTY]]*Table1[[#This Row],['# Books]]","v":0},{"$f":"Table1[[#This Row],[QTY]]*Table1[[#This Row],[S&L Price]]","v":0}]
[null,20,null,"We've Got Character!",1,"I Show Good Sportsmanship Coming 2021","eBook",null,"978-1-5382-5621-3",null,2021,"January 2021",null,null,"Author","Charlotte Taylor",null,null,null,null,"K",null,"Grade 1 - 2","Grade 1 - 3","Being a good sport goes way beyond sports. The lessons we learn on the playing field extend to the classroom, the playground, and our home. How can we be a good sport? Readers are introduced to a variety of places and situations that call for good sportsmanship, such as working with classmates on a science project, winning the big soccer game, or helping Dad clean out the garage. With a unique, real-life scenario in every spread, readers learn what it takes to be a good sport wherever they go.","English",22.6,16.95,"175--dc23","24 pp.",{"$f":"Table1[[#This Row],[QTY]]*Table1[[#This Row],['# Books]]","v":0},{"$f":"Table1[[#This Row],[QTY]]*Table1[[#This Row],[S&L Price]]","v":0}]
[null,20,null,"We've Got Character!",1,"I Take Turns Coming 2021","Library Bound Book",null,"978-1-5382-5629-9",null,2021,"January 2021","Library","7.000 X 7.000","Author","Charlotte Taylor",null,null,null,null,"K",null,"Grade 1 - 2","Grade 1 - 3","Having patience is challenging when there's something you really want to do, but you have to wait for it. You want to do it now! Thinking of others and waiting for your turn is an essential element of good character. Readers are encouraged to think about why and when we take turns. Each colorful spread presents a different real-life situation, like when Juan is hot and thirsty after playing soccer. He needs and wants a drink of water immediately, but his friends are thirsty too. Everyone takes turns at the fountain. Through relatable scenarios like this one, readers learn how to show consideration for others by taking turns.","English",22.6,16.95,"179/.9--dc23","24 pp.",{"$f":"Table1[[#This Row],[QTY]]*Table1[[#This Row],['# Books]]","v":0},{"$f":"Table1[[#This Row],[QTY]]*Table1[[#This Row],[S&L Price]]","v":0}]
[null,20,null,"We've Got Character!",1,"I Take Turns Coming 2021","eBook",null,"978-1-5382-5630-5",null,2021,"January 2021",null,null,"Author","Charlotte Taylor",null,null,null,null,"K",null,"Grade 1 - 2","Grade 1 - 3","Having patience is challenging when there's something you really want to do, but you have to wait for it. You want to do it now! Thinking of others and waiting for your turn is an essential element of good character. Readers are encouraged to think about why and when we take turns. Each colorful spread presents a different real-life situation, like when Juan is hot and thirsty after playing soccer. He needs and wants a drink of water immediately, but his friends are thirsty too. Everyone takes turns at the fountain. Through relatable scenarios like this one, readers learn how to show consideration for others by taking turns.","English",22.6,16.95,"179/.9--dc23","24 pp.",{"$f":"Table1[[#This Row],[QTY]]*Table1[[#This Row],['# Books]]","v":0},{"$f":"Table1[[#This Row],[QTY]]*Table1[[#This Row],[S&L Price]]","v":0}]
[null,20,null,"We've Got Character!",1,"We Work as a Team Coming 2021","Library Bound Book",null,"978-1-5382-5633-6",null,2021,"January 2021","Library","7.000 X 7.000","Author","Charlotte Taylor",null,null,null,null,"K",null,"Grade 1 - 2","Grade 1 - 3","Each player has his or her own job in soccer and baseball. They each do their part to contribute to the team. Teamwork is also important outside of sports. We use teamwork in our classroom, in our community, and at home with our family. Readers are presented with different scenarios in which young people use teamwork to achieve a certain goal, like when Nicole's neighbor becomes ill, everyone in the neighborhood takes on a job with the goal of helping the sick neighbor. Each spread contains a color photograph that imparts the importance and rewards of working as a team.","English",22.6,16.95,"158.2--dc23","24 pp.",{"$f":"Table1[[#This Row],[QTY]]*Table1[[#This Row],['# Books]]","v":0},{"$f":"Table1[[#This Row],[QTY]]*Table1[[#This Row],[S&L Price]]","v":0}]
[null,20,null,"We've Got Character!",1,"We Work as a Team Coming 2021","eBook",null,"978-1-5382-5634-3",null,2021,"January 2021",null,null,"Author","Charlotte Taylor",null,null,null,null,"K",null,"Grade 1 - 2","Grade 1 - 3","Each player has his or her own job in soccer and baseball. They each do their part to contribute to the team. Teamwork is also important outside of sports. We use teamwork in our classroom, in our community, and at home with our family. Readers are presented with different scenarios in which young people use teamwork to achieve a certain goal, like when Nicole's neighbor becomes ill, everyone in the neighborhood takes on a job with the goal of helping the sick neighbor. Each spread contains a color photograph that imparts the importance and rewards of working as a team.","English",22.6,16.95,"158.2--dc23","24 pp.",{"$f":"Table1[[#This Row],[QTY]]*Table1[[#This Row],['# Books]]","v":0},{"$f":"Table1[[#This Row],[QTY]]*Table1[[#This Row],[S&L Price]]","v":0}]
[null,21,null,"What Do They Do?",6,"What Do They Do? Coming 2021","Library Set",null,"978-1-5382-5981-8",null,2021,"January 2021","Library","7.000 X 7.000","","",null,null,null,null,null,null,"Grade 1 - 2","Grade 1 - 3","Everyone knows that teachers greet their students in the morning and impart wisdom to them during class. Firefighters bravely go out to save homes and businesses from destructive fires. But what do community helpers like bus drivers, dentists, and farmers do with their whole day? With this fun set, readers get a behind-the-scenes look at the daily tasks each professional does, from learning bus routes to driving to and from construction sites. The accessible narratives invite young readers to imagine taking part in these careers and helping the community. Features include: Full-color photographs that directly correlate with narratives to aid comprehension. Community helpers tie in to early elementary social studies curricula. Career focus encourages readers to investigate familiar professions.","English",135.6,101.7,null,"24 pp.",{"$f":"Table1[[#This Row],[QTY]]*Table1[[#This Row],['# Books]]","v":0},{"$f":"Table1[[#This Row],[QTY]]*Table1[[#This Row],[S&L Price]]","v":0}]
[null,21,null,"What Do They Do?",1,"What Do Bus Drivers Do All Day? Coming 2021","Library Bound Book",null,"978-1-5382-5693-0",null,2021,"January 2021","Library","7.000 X 7.000","Author","Emily Mahoney",null,null,null,null,"K",null,"Grade 1 - 2","Grade 1 - 3","Kids might not know it, but there is much more to the job of a bus driver than just picking people up and dropping them off. From inspections to learning routes, this book explores the duties of a bus driver in an interesting and fun way. Colorful pictures and easy-to-read text encourages developing readers to learn about this important job that helps many members of a community.","English",22.6,16.95,"388.3/22023--dc23","24 pp.",{"$f":"Table1[[#This Row],[QTY]]*Table1[[#This Row],['# Books]]","v":0},{"$f":"Table1[[#This Row],[QTY]]*Table1[[#This Row],[S&L Price]]","v":0}]
[null,21,null,"What Do They Do?",1,"What Do Bus Drivers Do All Day? Coming 2021","eBook",null,"978-1-5382-5694-7",null,2021,"January 2021",null,null,"Author","Emily Mahoney",null,null,null,null,"K",null,"Grade 1 - 2","Grade 1 - 3","Kids might not know it, but there is much more to the job of a bus driver than just picking people up and dropping them off. From inspections to learning routes, this book explores the duties of a bus driver in an interesting and fun way. Colorful pictures and easy-to-read text encourages developing readers to learn about this important job that helps many members of a community.","English",22.6,16.95,"388.3/22023--dc23","24 pp.",{"$f":"Table1[[#This Row],[QTY]]*Table1[[#This Row],['# Books]]","v":0},{"$f":"Table1[[#This Row],[QTY]]*Table1[[#This Row],[S&L Price]]","v":0}]
[null,21,null,"What Do They Do?",1,"What Do Construction Workers Do All Day? Coming 2021","Library Bound Book",null,"978-1-5382-5685-5",null,2021,"January 2021","Library","7.000 X 7.000","Author","Emily Mahoney",null,null,null,null,"K",null,"Grade 1 - 2","Grade 1 - 3","Construction workers have very physically demanding jobs, and their days can be very different depending on the project they're working on at the time. Excited readers will explore the world of demolition, building, designing, and creating with this engaging book about construction. Defined vocabulary words help make this narrative easily accessible for all readers. Detailed photographs convey what it's really like to work in construction.","English",22.6,16.95,"624.023--dc23","24 pp.",{"$f":"Table1[[#This Row],[QTY]]*Table1[[#This Row],['# Books]]","v":0},{"$f":"Table1[[#This Row],[QTY]]*Table1[[#This Row],[S&L Price]]","v":0}]
[null,21,null,"What Do They Do?",1,"What Do Construction Workers Do All Day? Coming 2021","eBook",null,"978-1-5382-5686-2",null,2021,"January 2021",null,null,"Author","Emily Mahoney",null,null,null,null,"K",null,"Grade 1 - 2","Grade 1 - 3","Construction workers have very physically demanding jobs, and their days can be very different depending on the project they're working on at the time. Excited readers will explore the world of demolition, building, designing, and creating with this engaging book about construction. Defined vocabulary words help make this narrative easily accessible for all readers. Detailed photographs convey what it's really like to work in construction.","English",22.6,16.95,"624.023--dc23","24 pp.",{"$f":"Table1[[#This Row],[QTY]]*Table1[[#This Row],['# Books]]","v":0},{"$f":"Table1[[#This Row],[QTY]]*Table1[[#This Row],[S&L Price]]","v":0}]
[null,21,null,"What Do They Do?",1,"What Do Farmers Do All Day? Coming 2021","Library Bound Book",null,"978-1-5382-5689-3",null,2021,"January 2021","Library","7.000 X 7.000","Author","Emily Mahoney",null,null,null,null,"K",null,"Grade 1 - 2","Grade 1 - 3","Farming is one of the most important jobs in our society, but what does a farmer really do all day? This book explores both agricultural and livestock farming in detail and describes the special skills and equipment that a farmer needs in order to ensure that the farm runs smoothly. Other aspects of working with animals and crops are explored, such as selling livestock and vegetables to people or businesses. Engaging visuals and interesting facts make this a great read for developing readers.","English",22.6,16.95,"630.23--dc23","24 pp.",{"$f":"Table1[[#This Row],[QTY]]*Table1[[#This Row],['# Books]]","v":0},{"$f":"Table1[[#This Row],[QTY]]*Table1[[#This Row],[S&L Price]]","v":0}]
[null,21,null,"What Do They Do?",1,"What Do Farmers Do All Day? Coming 2021","eBook",null,"978-1-5382-5690-9",null,2021,"January 2021",null,null,"Author","Emily Mahoney",null,null,null,null,"K",null,"Grade 1 - 2","Grade 1 - 3","Farming is one of the most important jobs in our society, but what does a farmer really do all day? This book explores both agricultural and livestock farming in detail and describes the special skills and equipment that a farmer needs in order to ensure that the farm runs smoothly. Other aspects of working with animals and crops are explored, such as selling livestock and vegetables to people or businesses. Engaging visuals and interesting facts make this a great read for developing readers.","English",22.6,16.95,"630.23--dc23","24 pp.",{"$f":"Table1[[#This Row],[QTY]]*Table1[[#This Row],['# Books]]","v":0},{"$f":"Table1[[#This Row],[QTY]]*Table1[[#This Row],[S&L Price]]","v":0}]
[null,21,null,"What Do They Do?",1,"What Do Firefighters Do All Day? Coming 2021","Library Bound Book",null,"978-1-5382-5673-2",null,2021,"January 2021","Library","7.000 X 7.000","Author","Emily Mahoney",null,null,null,null,"K",null,"Grade 1 - 2","Grade 1 - 3","The blaring siren and zooming emergency truck gives us a glimpse into a firefighter's life, but what do they do all day? This book explores what it is really like to fight fires. Aspects of the job such as equipment management, first aid, and training are covered so that readers get a comprehensive look at this dangerous and heroic job. Eye-catching graphics and defined vocabulary words will engage every reader about the lives of these important community members.","English",22.6,16.95,"628.9/2023--dc23","24 pp.",{"$f":"Table1[[#This Row],[QTY]]*Table1[[#This Row],['# Books]]","v":0},{"$f":"Table1[[#This Row],[QTY]]*Table1[[#This Row],[S&L Price]]","v":0}]
[null,21,null,"What Do They Do?",1,"What Do Firefighters Do All Day? Coming 2021","eBook",null,"978-1-5382-5674-9",null,2021,"January 2021",null,null,"Author","Emily Mahoney",null,null,null,null,"K",null,"Grade 1 - 2","Grade 1 - 3","The blaring siren and zooming emergency truck gives us a glimpse into a firefighter's life, but what do they do all day? This book explores what it is really like to fight fires. Aspects of the job such as equipment management, first aid, and training are covered so that readers get a comprehensive look at this dangerous and heroic job. Eye-catching graphics and defined vocabulary words will engage every reader about the lives of these important community members.","English",22.6,16.95,"628.9/2023--dc23","24 pp.",{"$f":"Table1[[#This Row],[QTY]]*Table1[[#This Row],['# Books]]","v":0},{"$f":"Table1[[#This Row],[QTY]]*Table1[[#This Row],[S&L Price]]","v":0}]
[null,21,null,"What Do They Do?",1,"What Do Teachers Do All Day? Coming 2021","Library Bound Book",null,"978-1-5382-5677-0",null,2021,"January 2021","Library","7.000 X 7.000","Author","Emily Mahoney",null,null,null,null,"K",null,"Grade 1 - 2","Grade 1 - 3","Kids become very familiar with the roles of teachers, but they don't often learn about all of the behind-the-scenes work. This book explores the responsibilities of a teacher while they are teaching students, and looks at lesson planning, curriculum development, parent-teacher conferences, and professional development. Bright and colorful graphics and interesting facts will engage students help them to learn more about a career that they might be considering in the future.","English",22.6,16.95,"371.102--dc23","24 pp.",{"$f":"Table1[[#This Row],[QTY]]*Table1[[#This Row],['# Books]]","v":0},{"$f":"Table1[[#This Row],[QTY]]*Table1[[#This Row],[S&L Price]]","v":0}]
[null,21,null,"What Do They Do?",1,"What Do Teachers Do All Day? Coming 2021","eBook",null,"978-1-5382-5678-7",null,2021,"January 2021",null,null,"Author","Emily Mahoney",null,null,null,null,"K",null,"Grade 1 - 2","Grade 1 - 3","Kids become very familiar with the roles of teachers, but they don't often learn about all of the behind-the-scenes work. This book explores the responsibilities of a teacher while they are teaching students, and looks at lesson planning, curriculum development, parent-teacher conferences, and professional development. Bright and colorful graphics and interesting facts will engage students help them to learn more about a career that they might be considering in the future.","English",22.6,16.95,"371.102--dc23","24 pp.",{"$f":"Table1[[#This Row],[QTY]]*Table1[[#This Row],['# Books]]","v":0},{"$f":"Table1[[#This Row],[QTY]]*Table1[[#This Row],[S&L Price]]","v":0}]
[null,21,null,"What Do They Do?",1,"What Does the Mayor Do All Day? Coming 2021","Library Bound Book",null,"978-1-5382-5681-7",null,2021,"January 2021","Library","7.000 X 7.000","Author","Emily Mahoney",null,null,null,null,"K",null,"Grade 1 - 2","Grade 1 - 3","This book helps young readers learn about the day-to-day responsibilities of the mayor of a city or town. With detailed information about meetings, ceremonies, giving speeches, planning projects, and getting elected to be mayor, this text contains interesting and engaging information about one of the leaders of a community. Photographs and vocabulary terms help make this narrative a must-read for anyone wanting a realistic look at the life of a mayor.","English",22.6,16.95,"352.23/2160973--dc23","24 pp.",{"$f":"Table1[[#This Row],[QTY]]*Table1[[#This Row],['# Books]]","v":0},{"$f":"Table1[[#This Row],[QTY]]*Table1[[#This Row],[S&L Price]]","v":0}]
[null,21,null,"What Do They Do?",1,"What Does the Mayor Do All Day? Coming 2021","eBook",null,"978-1-5382-5682-4",null,2021,"January 2021",null,null,"Author","Emily Mahoney",null,null,null,null,"K",null,"Grade 1 - 2","Grade 1 - 3","This book helps young readers learn about the day-to-day responsibilities of the mayor of a city or town. With detailed information about meetings, ceremonies, giving speeches, planning projects, and getting elected to be mayor, this text contains interesting and engaging information about one of the leaders of a community. Photographs and vocabulary terms help make this narrative a must-read for anyone wanting a realistic look at the life of a mayor.","English",22.6,16.95,"352.23/2160973--dc23","24 pp.",{"$f":"Table1[[#This Row],[QTY]]*Table1[[#This Row],['# Books]]","v":0},{"$f":"Table1[[#This Row],[QTY]]*Table1[[#This Row],[S&L Price]]","v":0}]
[null,22,null,"All Our Communities",6,"All Our Communities","Library Set",null,"978-1-5382-4561-3",{"$f":"HYPERLINK(\"https://www.garethstevens.com/\"&Table1[[#This Row],[ISBN]],\"Weblink\")","v":"Weblink"},2020,"January 2020","Library","7.000 X 7.000","","",null,null,null,null,null,null,"Grade 1 - 2","Grade 1 - 3","There is no doubt about it, people need each other. We form different communities so we can meet each other's various needs, such as education, safety, and friendship. So what does it mean to be a part of these diverse communities? Readers will find out through these accessible volumes written especially to benefit the early elementary classroom in relation to the social studies curricula. Friendly, at-level text and bright photographs of different communities allow readers to recognize themselves and their roles in their own unique communities. Features include: Vocabulary terms that highlight important concepts about communities. Encourages readers to consider what it means to be a good member of the communities in which they live. Supports numerous standards of the English Language Arts Common Core, including becoming proficient with the use of nonfiction text features.","English",135.6,101.7,null,"24 pp.",{"$f":"Table1[[#This Row],[QTY]]*Table1[[#This Row],['# Books]]","v":0},{"$f":"Table1[[#This Row],[QTY]]*Table1[[#This Row],[S&L Price]]","v":0}]
[null,22,null,"All Our Communities",1,"You're Part of a Family Community!","Library Bound Book",null,"978-1-5382-4531-6",{"$f":"HYPERLINK(\"https://www.garethstevens.com/\"&Table1[[#This Row],[ISBN]],\"Weblink\")","v":"Weblink"},2020,"January 2020","Library","7.000 X 7.000","Author","Theresa Emminizer",null,null,null,null,"I",null,"Grade 1 - 2","Grade 1 - 3","A community is a group of people living or working together, and a family is a group of people who take care of each other. Through this relatable and informative book, readers will understand what it means to be part of a family community. The age-appropriate language imparts the principles of community while engaging readers by providing accessible real-world examples of how children can participate and contribute to their family community.","English",22.6,16.95,"307--dc23","24 pp.",{"$f":"Table1[[#This Row],[QTY]]*Table1[[#This Row],['# Books]]","v":0},{"$f":"Table1[[#This Row],[QTY]]*Table1[[#This Row],[S&L Price]]","v":0}]
[null,22,null,"All Our Communities",1,"You're Part of a Family Community!","eBook",null,"978-1-5382-4532-3",{"$f":"HYPERLINK(\"https://www.garethstevens.com/\"&Table1[[#This Row],[ISBN]],\"Weblink\")","v":"Weblink"},2020,"January 2020",null,null,"Author","Theresa Emminizer",null,null,null,null,"I",null,"Grade 1 - 2","Grade 1 - 3","A community is a group of people living or working together, and a family is a group of people who take care of each other. Through this relatable and informative book, readers will understand what it means to be part of a family community. The age-appropriate language imparts the principles of community while engaging readers by providing accessible real-world examples of how children can participate and contribute to their family community.","English",22.6,16.95,"307--dc23","24 pp.",{"$f":"Table1[[#This Row],[QTY]]*Table1[[#This Row],['# Books]]","v":0},{"$f":"Table1[[#This Row],[QTY]]*Table1[[#This Row],[S&L Price]]","v":0}]
[null,22,null,"All Our Communities",1,"You're Part of a National Community!","Library Bound Book",null,"978-1-5382-4535-4",{"$f":"HYPERLINK(\"https://www.garethstevens.com/\"&Table1[[#This Row],[ISBN]],\"Weblink\")","v":"Weblink"},2020,"January 2020","Library","7.000 X 7.000","Author","Theresa Emminizer",null,null,null,null,"J",null,"Grade 1 - 2","Grade 1 - 3","What does it mean to be a part of a national community? This eye-opening and informative book is designed to help children learn about the values of democracy and community through an age-appropriate lens. Drawing on the fundamental principles of diversity, equality, civic participation, and working together for the common good, the narrative communicates abstract concepts in a relatable way. Readers will gain a feeling of empowerment to take action and let their voices be heard within their national community.","English",22.6,16.95,"323.6--dc23","24 pp.",{"$f":"Table1[[#This Row],[QTY]]*Table1[[#This Row],['# Books]]","v":0},{"$f":"Table1[[#This Row],[QTY]]*Table1[[#This Row],[S&L Price]]","v":0}]
[null,22,null,"All Our Communities",1,"You're Part of a National Community!","eBook",null,"978-1-5382-4536-1",{"$f":"HYPERLINK(\"https://www.garethstevens.com/\"&Table1[[#This Row],[ISBN]],\"Weblink\")","v":"Weblink"},2020,"January 2020",null,null,"Author","Theresa Emminizer",null,null,null,null,"J",null,"Grade 1 - 2","Grade 1 - 3","What does it mean to be a part of a national community? This eye-opening and informative book is designed to help children learn about the values of democracy and community through an age-appropriate lens. Drawing on the fundamental principles of diversity, equality, civic participation, and working together for the common good, the narrative communicates abstract concepts in a relatable way. Readers will gain a feeling of empowerment to take action and let their voices be heard within their national community.","English",22.6,16.95,"323.6--dc23","24 pp.",{"$f":"Table1[[#This Row],[QTY]]*Table1[[#This Row],['# Books]]","v":0},{"$f":"Table1[[#This Row],[QTY]]*Table1[[#This Row],[S&L Price]]","v":0}]
[null,22,null,"All Our Communities",1,"You're Part of a Neighborhood Community!","Library Bound Book",null,"978-1-5382-4539-2",{"$f":"HYPERLINK(\"https://www.garethstevens.com/\"&Table1[[#This Row],[ISBN]],\"Weblink\")","v":"Weblink"},2020,"January 2020","Library","7.000 X 7.000","Author","Theresa Emminizer",null,null,null,null,"I",null,"Grade 1 - 2","Grade 1 - 3","A neighborhood is more than a group of people living in the same area; it is a living, breathing community. What does it mean to be part of a neighborhood community? This book will help young readers learn the answer to this question and more. Using age-appropriate language and relatable, real-life examples of active citizenship, this educational text is designed to foster democratic values and skills and encourage children to develop a voice within their community.","English",22.6,16.95,"307--dc23","24 pp.",{"$f":"Table1[[#This Row],[QTY]]*Table1[[#This Row],['# Books]]","v":0},{"$f":"Table1[[#This Row],[QTY]]*Table1[[#This Row],[S&L Price]]","v":0}]
[null,22,null,"All Our Communities",1,"You're Part of a Neighborhood Community!","eBook",null,"978-1-5382-4540-8",{"$f":"HYPERLINK(\"https://www.garethstevens.com/\"&Table1[[#This Row],[ISBN]],\"Weblink\")","v":"Weblink"},2020,"January 2020",null,null,"Author","Theresa Emminizer",null,null,null,null,"I",null,"Grade 1 - 2","Grade 1 - 3","A neighborhood is more than a group of people living in the same area; it is a living, breathing community. What does it mean to be part of a neighborhood community? This book will help young readers learn the answer to this question and more. Using age-appropriate language and relatable, real-life examples of active citizenship, this educational text is designed to foster democratic values and skills and encourage children to develop a voice within their community.","English",22.6,16.95,"307--dc23","24 pp.",{"$f":"Table1[[#This Row],[QTY]]*Table1[[#This Row],['# Books]]","v":0},{"$f":"Table1[[#This Row],[QTY]]*Table1[[#This Row],[S&L Price]]","v":0}]
[null,22,null,"All Our Communities",1,"You're Part of a School Community!","Library Bound Book",null,"978-1-5382-4543-9",{"$f":"HYPERLINK(\"https://www.garethstevens.com/\"&Table1[[#This Row],[ISBN]],\"Weblink\")","v":"Weblink"},2020,"January 2020","Library","7.000 X 7.000","Author","Theresa Emminizer",null,null,null,null,"I",null,"Grade 1 - 2","Grade 1 - 3","School administrators, teachers, staff members are all part of a school community. So are students, parents, school boards, and city officials. Through this relatable and informative book, readers will discover how their school community is at work everyday. They'll learn about the importance of active engagement and working together to achieve common goals. With relevant, real-life examples to guide them, readers will be empowered by the knowledge that they have something unique to contribute to their communities.","English",22.6,16.95,"371--dc23","24 pp.",{"$f":"Table1[[#This Row],[QTY]]*Table1[[#This Row],['# Books]]","v":0},{"$f":"Table1[[#This Row],[QTY]]*Table1[[#This Row],[S&L Price]]","v":0}]
[null,22,null,"All Our Communities",1,"You're Part of a School Community!","eBook",null,"978-1-5382-4544-6",{"$f":"HYPERLINK(\"https://www.garethstevens.com/\"&Table1[[#This Row],[ISBN]],\"Weblink\")","v":"Weblink"},2020,"January 2020",null,null,"Author","Theresa Emminizer",null,null,null,null,"I",null,"Grade 1 - 2","Grade 1 - 3","School administrators, teachers, staff members are all part of a school community. So are students, parents, school boards, and city officials. Through this relatable and informative book, readers will discover how their school community is at work everyday. They'll learn about the importance of active engagement and working together to achieve common goals. With relevant, real-life examples to guide them, readers will be empowered by the knowledge that they have something unique to contribute to their communities.","English",22.6,16.95,"371--dc23","24 pp.",{"$f":"Table1[[#This Row],[QTY]]*Table1[[#This Row],['# Books]]","v":0},{"$f":"Table1[[#This Row],[QTY]]*Table1[[#This Row],[S&L Price]]","v":0}]
[null,22,null,"All Our Communities",1,"You're Part of a State Community!","Library Bound Book",null,"978-1-5382-4547-7",{"$f":"HYPERLINK(\"https://www.garethstevens.com/\"&Table1[[#This Row],[ISBN]],\"Weblink\")","v":"Weblink"},2020,"January 2020","Library","7.000 X 7.000","Author","Theresa Emminizer",null,null,null,null,"J",null,"Grade 1 - 2","Grade 1 - 3","Whether you're way up north in Alaska, in sunny southern Florida, or in the western Hawaiian Islands, you are part of a state community. With colorful photographs and accessible language, this engaging and educational book is designed to teach young readers about what it means to be part of a state community. Through real-life examples of active citizenship and cooperative efforts to achieve common goals, children will understand how they each have unique contributions to make as community members.","English",22.6,16.95,"320.473--dc23","24 pp.",{"$f":"Table1[[#This Row],[QTY]]*Table1[[#This Row],['# Books]]","v":0},{"$f":"Table1[[#This Row],[QTY]]*Table1[[#This Row],[S&L Price]]","v":0}]
[null,22,null,"All Our Communities",1,"You're Part of a State Community!","eBook",null,"978-1-5382-4548-4",{"$f":"HYPERLINK(\"https://www.garethstevens.com/\"&Table1[[#This Row],[ISBN]],\"Weblink\")","v":"Weblink"},2020,"January 2020",null,null,"Author","Theresa Emminizer",null,null,null,null,"J",null,"Grade 1 - 2","Grade 1 - 3","Whether you're way up north in Alaska, in sunny southern Florida, or in the western Hawaiian Islands, you are part of a state community. With colorful photographs and accessible language, this engaging and educational book is designed to teach young readers about what it means to be part of a state community. Through real-life examples of active citizenship and cooperative efforts to achieve common goals, children will understand how they each have unique contributions to make as community members.","English",22.6,16.95,"320.473--dc23","24 pp.",{"$f":"Table1[[#This Row],[QTY]]*Table1[[#This Row],['# Books]]","v":0},{"$f":"Table1[[#This Row],[QTY]]*Table1[[#This Row],[S&L Price]]","v":0}]
[null,22,null,"All Our Communities",1,"You're Part of the World Community!","Library Bound Book",null,"978-1-5382-4551-4",{"$f":"HYPERLINK(\"https://www.garethstevens.com/\"&Table1[[#This Row],[ISBN]],\"Weblink\")","v":"Weblink"},2020,"January 2020","Library","7.000 X 7.000","Author","Theresa Emminizer",null,null,null,null,"J",null,"Grade 1 - 2","Grade 1 - 3","Encompassing vast oceans, seven continents, and 195 countries, the world is a very big place. It is also a community! With this interesting and educational book, readers will learn how every person on Earth is part of the world community and what that means. Using age-appropriate language to communicate complex concepts and relatable, real-life examples of active citizenship, this book is designed to motivate children to embrace their role as members of the world community.","English",22.6,16.95,"305.8--dc23","24 pp.",{"$f":"Table1[[#This Row],[QTY]]*Table1[[#This Row],['# Books]]","v":0},{"$f":"Table1[[#This Row],[QTY]]*Table1[[#This Row],[S&L Price]]","v":0}]
[null,22,null,"All Our Communities",1,"You're Part of the World Community!","eBook",null,"978-1-5382-4552-1",{"$f":"HYPERLINK(\"https://www.garethstevens.com/\"&Table1[[#This Row],[ISBN]],\"Weblink\")","v":"Weblink"},2020,"January 2020",null,null,"Author","Theresa Emminizer",null,null,null,null,"J",null,"Grade 1 - 2","Grade 1 - 3","Encompassing vast oceans, seven continents, and 195 countries, the world is a very big place. It is also a community! With this interesting and educational book, readers will learn how every person on Earth is part of the world community and what that means. Using age-appropriate language to communicate complex concepts and relatable, real-life examples of active citizenship, this book is designed to motivate children to embrace their role as members of the world community.","English",22.6,16.95,"305.8--dc23","24 pp.",{"$f":"Table1[[#This Row],[QTY]]*Table1[[#This Row],['# Books]]","v":0},{"$f":"Table1[[#This Row],[QTY]]*Table1[[#This Row],[S&L Price]]","v":0}]
[null,23,null,"A Look at Space Science",6,"A Look at Space Science","Library Set",null,"978-1-5382-5972-6",{"$f":"HYPERLINK(\"https://www.garethstevens.com/\"&Table1[[#This Row],[ISBN]],\"Weblink\")","v":"Weblink"},2021,"August 2020","Library","6.500 X 9.125","","",null,null,null,null,null,null,"Grade 2","Grade 5 - 8","While humans have always wondered about the stars and planets above, we're just beginning to understand what's going on outside Earth's atmosphere, and it's amazing. Budding astrophysicists will love learning about black holes, asteroids, and the sun in the accessible explanations of this carefully researched set. Spectacular images and the most fascinating facts will satisfy the most inquisitive future scientists. Features include: Supports understanding of space systems, which is a Next Generation Science standard. Achievable narratives make challenging science topics comprehensible to developing readers. Diagrams and illustrations illuminate essential concepts.","English",159.6,119.7,null,"32 pp.",{"$f":"Table1[[#This Row],[QTY]]*Table1[[#This Row],['# Books]]","v":0},{"$f":"Table1[[#This Row],[QTY]]*Table1[[#This Row],[S&L Price]]","v":0}]
[null,23,null,"A Look at Space Science",1,"Black Holes","Library Bound Book",null,"978-1-5382-5944-3",{"$f":"HYPERLINK(\"https://www.garethstevens.com/\"&Table1[[#This Row],[ISBN]],\"Weblink\")","v":"Weblink"},2021,"August 2020","Library","6.500 X 9.125","Author","Bert Wilberforce",null,null,null,null,"K",null,"Grade 2","Grade 5 - 8","Black holes are neither holes nor black. They're invisible and packed with matter! Future astronomers will find out many more fascinating facts about these space phenomena with this intriguing book. Carefully crafted text encapsulates the most important information about black holes, such as how scientists locate them and their significance in a star's life cycle. Amazing photographs support critical concepts and inspire a true appreciation of the spectacles of space.","English",26.6,19.95,"523.8/875--dc23","32 pp.",{"$f":"Table1[[#This Row],[QTY]]*Table1[[#This Row],['# Books]]","v":0},{"$f":"Table1[[#This Row],[QTY]]*Table1[[#This Row],[S&L Price]]","v":0}]
[null,23,null,"A Look at Space Science",1,"Black Holes","eBook",null,"978-1-5382-5945-0",{"$f":"HYPERLINK(\"https://www.garethstevens.com/\"&Table1[[#This Row],[ISBN]],\"Weblink\")","v":"Weblink"},2021,"August 2020",null,null,"Author","Bert Wilberforce",null,null,null,null,"K",null,"Grade 2","Grade 5 - 8","Black holes are neither holes nor black. They're invisible and packed with matter! Future astronomers will find out many more fascinating facts about these space phenomena with this intriguing book. Carefully crafted text encapsulates the most important information about black holes, such as how scientists locate them and their significance in a star's life cycle. Amazing photographs support critical concepts and inspire a true appreciation of the spectacles of space.","English",26.6,19.95,"523.8/875--dc23","32 pp.",{"$f":"Table1[[#This Row],[QTY]]*Table1[[#This Row],['# Books]]","v":0},{"$f":"Table1[[#This Row],[QTY]]*Table1[[#This Row],[S&L Price]]","v":0}]
[null,23,null,"A Look at Space Science",1,"Comets, Asteroids, and Meteoroids","Library Bound Book",null,"978-1-5382-5932-0",{"$f":"HYPERLINK(\"https://www.garethstevens.com/\"&Table1[[#This Row],[ISBN]],\"Weblink\")","v":"Weblink"},2021,"August 2020","Library","6.500 X 9.125","Author","Bert Wilberforce",null,null,null,null,"K",null,"Grade 2","Grade 5 - 8","Planets aren't the only objects beyond Earth's atmosphere. This valuable volume explains the difference between comets, asteroids, and meteoroids, their origins, and their significance to us on Earth. Readers will find out about famous comets, the dangers of asteroids, and what a meteoroid has to do with a falling star. A complement to space science curricula, there's plenty of astronomy vocabulary and eye-catching images to capture the interest of stargazers.","English",26.6,19.95,"523.5--dc23","32 pp.",{"$f":"Table1[[#This Row],[QTY]]*Table1[[#This Row],['# Books]]","v":0},{"$f":"Table1[[#This Row],[QTY]]*Table1[[#This Row],[S&L Price]]","v":0}]
[null,23,null,"A Look at Space Science",1,"Comets, Asteroids, and Meteoroids","eBook",null,"978-1-5382-5933-7",{"$f":"HYPERLINK(\"https://www.garethstevens.com/\"&Table1[[#This Row],[ISBN]],\"Weblink\")","v":"Weblink"},2021,"August 2020",null,null,"Author","Bert Wilberforce",null,null,null,null,"K",null,"Grade 2","Grade 5 - 8","Planets aren't the only objects beyond Earth's atmosphere. This valuable volume explains the difference between comets, asteroids, and meteoroids, their origins, and their significance to us on Earth. Readers will find out about famous comets, the dangers of asteroids, and what a meteoroid has to do with a falling star. A complement to space science curricula, there's plenty of astronomy vocabulary and eye-catching images to capture the interest of stargazers.","English",26.6,19.95,"523.5--dc23","32 pp.",{"$f":"Table1[[#This Row],[QTY]]*Table1[[#This Row],['# Books]]","v":0},{"$f":"Table1[[#This Row],[QTY]]*Table1[[#This Row],[S&L Price]]","v":0}]
[null,23,null,"A Look at Space Science",1,"Galaxies","Library Bound Book",null,"978-1-5382-5936-8",{"$f":"HYPERLINK(\"https://www.garethstevens.com/\"&Table1[[#This Row],[ISBN]],\"Weblink\")","v":"Weblink"},2021,"August 2020","Library","6.500 X 9.125","Author","Bert Wilberforce",null,null,null,null,"K",null,"Grade 2","Grade 5 - 8","Most young astronomers know that Earth is located in the Milky Way galaxy, but they might not know what that means or what lies beyond. Understanding our galaxy and others will help them comprehend more about how the universe works. Your readers will discover many amazing and memorable facts about galaxies, including their differing shapes, numbers of stars, and constant movement. They'll especially love the mind-boggling images of the depths of space.","English",26.6,19.95,"523.1/12--dc23","32 pp.",{"$f":"Table1[[#This Row],[QTY]]*Table1[[#This Row],['# Books]]","v":0},{"$f":"Table1[[#This Row],[QTY]]*Table1[[#This Row],[S&L Price]]","v":0}]
[null,23,null,"A Look at Space Science",1,"Galaxies","eBook",null,"978-1-5382-5937-5",{"$f":"HYPERLINK(\"https://www.garethstevens.com/\"&Table1[[#This Row],[ISBN]],\"Weblink\")","v":"Weblink"},2021,"August 2020",null,null,"Author","Bert Wilberforce",null,null,null,null,"K",null,"Grade 2","Grade 5 - 8","Most young astronomers know that Earth is located in the Milky Way galaxy, but they might not know what that means or what lies beyond. Understanding our galaxy and others will help them comprehend more about how the universe works. Your readers will discover many amazing and memorable facts about galaxies, including their differing shapes, numbers of stars, and constant movement. They'll especially love the mind-boggling images of the depths of space.","English",26.6,19.95,"523.1/12--dc23","32 pp.",{"$f":"Table1[[#This Row],[QTY]]*Table1[[#This Row],['# Books]]","v":0},{"$f":"Table1[[#This Row],[QTY]]*Table1[[#This Row],[S&L Price]]","v":0}]
[null,23,null,"A Look at Space Science",1,"The Moon","Library Bound Book",null,"978-1-5382-5928-3",{"$f":"HYPERLINK(\"https://www.garethstevens.com/\"&Table1[[#This Row],[ISBN]],\"Weblink\")","v":"Weblink"},2021,"August 2020","Library","6.500 X 9.125","Author","Bert Wilberforce",null,null,null,null,"K",null,"Grade 2","Grade 5 - 8","Our moon has long been a source of wonder for people looking up at the night sky. Young space explorers will find all they need to know about Earth's only natural satellite with this vivid volume full of beautiful photographs of the moon in all its phases. They'll learn about the moon's size, its effect on Earth's tides, and what exactly they can expect if they ever touch down on its surface. Accessible text, intriguing fact boxes, and beneficial diagrams throughout this book will engage readers.","English",26.6,19.95,"523.3--dc23","32 pp.",{"$f":"Table1[[#This Row],[QTY]]*Table1[[#This Row],['# Books]]","v":0},{"$f":"Table1[[#This Row],[QTY]]*Table1[[#This Row],[S&L Price]]","v":0}]
[null,23,null,"A Look at Space Science",1,"The Moon","eBook",null,"978-1-5382-5929-0",{"$f":"HYPERLINK(\"https://www.garethstevens.com/\"&Table1[[#This Row],[ISBN]],\"Weblink\")","v":"Weblink"},2021,"August 2020",null,null,"Author","Bert Wilberforce",null,null,null,null,"K",null,"Grade 2","Grade 5 - 8","Our moon has long been a source of wonder for people looking up at the night sky. Young space explorers will find all they need to know about Earth's only natural satellite with this vivid volume full of beautiful photographs of the moon in all its phases. They'll learn about the moon's size, its effect on Earth's tides, and what exactly they can expect if they ever touch down on its surface. Accessible text, intriguing fact boxes, and beneficial diagrams throughout this book will engage readers.","English",26.6,19.95,"523.3--dc23","32 pp.",{"$f":"Table1[[#This Row],[QTY]]*Table1[[#This Row],['# Books]]","v":0},{"$f":"Table1[[#This Row],[QTY]]*Table1[[#This Row],[S&L Price]]","v":0}]
[null,23,null,"A Look at Space Science",1,"The Planets","Library Bound Book",null,"978-1-5382-5920-7",{"$f":"HYPERLINK(\"https://www.garethstevens.com/\"&Table1[[#This Row],[ISBN]],\"Weblink\")","v":"Weblink"},2021,"August 2020","Library","6.500 X 9.125","Author","Bert Wilberforce",null,null,null,null,"K",null,"Grade 2","Grade 5 - 8","For many years, people believed there were nine planets that orbited the sun. Now we say there are eight. What happened to the ninth planet, Pluto? What are the different planets like? What exactly makes a planet a planet? These are the many intriguing questions answered with this high-interest book, crafted to be accessible for readers of all levels. Young astronomers will be especially fascinated by the stunning photographs and the \"Make the Grade\" fact boxes.","English",26.6,19.95,"523.4--dc23","32 pp.",{"$f":"Table1[[#This Row],[QTY]]*Table1[[#This Row],['# Books]]","v":0},{"$f":"Table1[[#This Row],[QTY]]*Table1[[#This Row],[S&L Price]]","v":0}]
[null,23,null,"A Look at Space Science",1,"The Planets","eBook",null,"978-1-5382-5921-4",{"$f":"HYPERLINK(\"https://www.garethstevens.com/\"&Table1[[#This Row],[ISBN]],\"Weblink\")","v":"Weblink"},2021,"August 2020",null,null,"Author","Bert Wilberforce",null,null,null,null,"K",null,"Grade 2","Grade 5 - 8","For many years, people believed there were nine planets that orbited the sun. Now we say there are eight. What happened to the ninth planet, Pluto? What are the different planets like? What exactly makes a planet a planet? These are the many intriguing questions answered with this high-interest book, crafted to be accessible for readers of all levels. Young astronomers will be especially fascinated by the stunning photographs and the \"Make the Grade\" fact boxes.","English",26.6,19.95,"523.4--dc23","32 pp.",{"$f":"Table1[[#This Row],[QTY]]*Table1[[#This Row],['# Books]]","v":0},{"$f":"Table1[[#This Row],[QTY]]*Table1[[#This Row],[S&L Price]]","v":0}]
[null,23,null,"A Look at Space Science",1,"The Sun and Other Stars","Library Bound Book",null,"978-1-5382-5924-5",{"$f":"HYPERLINK(\"https://www.garethstevens.com/\"&Table1[[#This Row],[ISBN]],\"Weblink\")","v":"Weblink"},2021,"August 2020","Library","6.500 X 9.125","Author","Bert Wilberforce",null,null,null,null,"K",null,"Grade 2","Grade 5 - 8","Many young learners are astonished to discover that the sun is a star. As the sole star of our solar system, all life on Earth depends on the sun. The most amazing and engrossing facts about the sun are found in this stellar volume, including its structure, temperature, and age. Readers will learn about the twinkling lights they see in the night sky, which are other stars light-years away. This motivating book with its incredible images and entertaining narrative is a must for every space science collection.","English",26.6,19.95,"523.8--dc23","32 pp.",{"$f":"Table1[[#This Row],[QTY]]*Table1[[#This Row],['# Books]]","v":0},{"$f":"Table1[[#This Row],[QTY]]*Table1[[#This Row],[S&L Price]]","v":0}]
[null,23,null,"A Look at Space Science",1,"The Sun and Other Stars","eBook",null,"978-1-5382-5925-2",{"$f":"HYPERLINK(\"https://www.garethstevens.com/\"&Table1[[#This Row],[ISBN]],\"Weblink\")","v":"Weblink"},2021,"August 2020",null,null,"Author","Bert Wilberforce",null,null,null,null,"K",null,"Grade 2","Grade 5 - 8","Many young learners are astonished to discover that the sun is a star. As the sole star of our solar system, all life on Earth depends on the sun. The most amazing and engrossing facts about the sun are found in this stellar volume, including its structure, temperature, and age. Readers will learn about the twinkling lights they see in the night sky, which are other stars light-years away. This motivating book with its incredible images and entertaining narrative is a must for every space science collection.","English",26.6,19.95,"523.8--dc23","32 pp.",{"$f":"Table1[[#This Row],[QTY]]*Table1[[#This Row],['# Books]]","v":0},{"$f":"Table1[[#This Row],[QTY]]*Table1[[#This Row],[S&L Price]]","v":0}]
[null,24,null,"A Look at U.S. Elections",6,"A Look at U.S. Elections","Library Set",null,"978-1-5382-5973-3",{"$f":"HYPERLINK(\"https://www.garethstevens.com/\"&Table1[[#This Row],[ISBN]],\"Weblink\")","v":"Weblink"},2021,"August 2020","Library","6.500 X 9.125","","",null,null,null,null,null,null,"Grade 2","Grade 5 - 8","Getting voters to the polls starts with educating people on how elections work and why they are important. While readers of these engaging volumes may not be old enough to vote in elections yet, they're never too young to start learning about them. From primaries and general elections to voting laws that changed history and the most famous presidential elections, this set offers a comprehensive guide to the past and present American voting process. Features include: Highlights the importance of civic responsibility, especially voting. Covers important curriculum topics including history and government. Fact boxes and photographs further clarify central concepts.","English",159.6,119.7,null,"32 pp.",{"$f":"Table1[[#This Row],[QTY]]*Table1[[#This Row],['# Books]]","v":0},{"$f":"Table1[[#This Row],[QTY]]*Table1[[#This Row],[S&L Price]]","v":0}]
[null,24,null,"A Look at U.S. Elections",1,"Famous Presidential Elections","Library Bound Book",null,"978-1-5382-5968-9",{"$f":"HYPERLINK(\"https://www.garethstevens.com/\"&Table1[[#This Row],[ISBN]],\"Weblink\")","v":"Weblink"},2021,"August 2020","Library","6.500 X 9.125","Author","Kathryn Wesgate",null,null,null,null,"K",null,"Grade 2","Grade 5 - 8","The first presidential election in the United States was carried out in a very different way than elections as we know them today. Over the years there have been many prominent and memorable elections to decide the president. The history of presidential elections is ripe with terrific stories. Written at a low reading level, this accessible guide uses simple language to reinforce key social studies concepts that are central to upper elementary curricula. Full-color photographs and engaging fact boxes offer further information and support a strong comprehension of the material.","English",26.6,19.95,"324.6'3--dc23","32 pp.",{"$f":"Table1[[#This Row],[QTY]]*Table1[[#This Row],['# Books]]","v":0},{"$f":"Table1[[#This Row],[QTY]]*Table1[[#This Row],[S&L Price]]","v":0}]
[null,24,null,"A Look at U.S. Elections",1,"Famous Presidential Elections","eBook",null,"978-1-5382-5969-6",{"$f":"HYPERLINK(\"https://www.garethstevens.com/\"&Table1[[#This Row],[ISBN]],\"Weblink\")","v":"Weblink"},2021,"August 2020",null,null,"Author","Kathryn Wesgate",null,null,null,null,"K",null,"Grade 2","Grade 5 - 8","The first presidential election in the United States was carried out in a very different way than elections as we know them today. Over the years there have been many prominent and memorable elections to decide the president. The history of presidential elections is ripe with terrific stories. Written at a low reading level, this accessible guide uses simple language to reinforce key social studies concepts that are central to upper elementary curricula. Full-color photographs and engaging fact boxes offer further information and support a strong comprehension of the material.","English",26.6,19.95,"324.6'3--dc23","32 pp.",{"$f":"Table1[[#This Row],[QTY]]*Table1[[#This Row],['# Books]]","v":0},{"$f":"Table1[[#This Row],[QTY]]*Table1[[#This Row],[S&L Price]]","v":0}]
[null,24,null,"A Look at U.S. Elections",1,"How Does Voting Work?","Library Bound Book",null,"978-1-5382-5960-3",{"$f":"HYPERLINK(\"https://www.garethstevens.com/\"&Table1[[#This Row],[ISBN]],\"Weblink\")","v":"Weblink"},2021,"August 2020","Library","6.500 X 9.125","Author","Kathryn Wesgate",null,null,null,null,"K",null,"Grade 2","Grade 5 - 8","Even for adults, elections can be difficult to fully understand. How do you register to vote? What happens at the polls? How do you know whom to vote for? This compelling volume provides the answers to these questions and many more through an accessible narrative, captivating photographs, and attention-grabbing fact boxes. Written at a low reading level, this book offers a simple overview of important curriculum topics for upper elementary struggling readers.","English",26.6,19.95,"324.6/50973--dc23","32 pp.",{"$f":"Table1[[#This Row],[QTY]]*Table1[[#This Row],['# Books]]","v":0},{"$f":"Table1[[#This Row],[QTY]]*Table1[[#This Row],[S&L Price]]","v":0}]
[null,24,null,"A Look at U.S. Elections",1,"How Does Voting Work?","eBook",null,"978-1-5382-5961-0",{"$f":"HYPERLINK(\"https://www.garethstevens.com/\"&Table1[[#This Row],[ISBN]],\"Weblink\")","v":"Weblink"},2021,"August 2020",null,null,"Author","Kathryn Wesgate",null,null,null,null,"K",null,"Grade 2","Grade 5 - 8","Even for adults, elections can be difficult to fully understand. How do you register to vote? What happens at the polls? How do you know whom to vote for? This compelling volume provides the answers to these questions and many more through an accessible narrative, captivating photographs, and attention-grabbing fact boxes. Written at a low reading level, this book offers a simple overview of important curriculum topics for upper elementary struggling readers.","English",26.6,19.95,"324.6/50973--dc23","32 pp.",{"$f":"Table1[[#This Row],[QTY]]*Table1[[#This Row],['# Books]]","v":0},{"$f":"Table1[[#This Row],[QTY]]*Table1[[#This Row],[S&L Price]]","v":0}]
[null,24,null,"A Look at U.S. Elections",1,"Landmark Voting Laws","Library Bound Book",null,"978-1-5382-5964-1",{"$f":"HYPERLINK(\"https://www.garethstevens.com/\"&Table1[[#This Row],[ISBN]],\"Weblink\")","v":"Weblink"},2021,"August 2020","Library","6.500 X 9.125","Author","Kathryn Wesgate",null,null,null,null,"K",null,"Grade 2","Grade 5 - 8","If it weren't for some very significant moments in history, elections would look quite different than they do today. Readers will learn about some of the most important voting laws in the United States, from laws set forth in the Constitution to the key amendments that changed them. Readers learn about landmark legislation that changed history and shaped what the United States has become, such as the Voting Rights Act of 1965. Accessible text supports readers of all levels in understanding this key topic of the upper elementary curriculum.","English",26.6,19.95,"342.73/07--dc23","32 pp.",{"$f":"Table1[[#This Row],[QTY]]*Table1[[#This Row],['# Books]]","v":0},{"$f":"Table1[[#This Row],[QTY]]*Table1[[#This Row],[S&L Price]]","v":0}]
[null,24,null,"A Look at U.S. Elections",1,"Landmark Voting Laws","eBook",null,"978-1-5382-5965-8",{"$f":"HYPERLINK(\"https://www.garethstevens.com/\"&Table1[[#This Row],[ISBN]],\"Weblink\")","v":"Weblink"},2021,"August 2020",null,null,"Author","Kathryn Wesgate",null,null,null,null,"K",null,"Grade 2","Grade 5 - 8","If it weren't for some very significant moments in history, elections would look quite different than they do today. Readers will learn about some of the most important voting laws in the United States, from laws set forth in the Constitution to the key amendments that changed them. Readers learn about landmark legislation that changed history and shaped what the United States has become, such as the Voting Rights Act of 1965. Accessible text supports readers of all levels in understanding this key topic of the upper elementary curriculum.","English",26.6,19.95,"342.73/07--dc23","32 pp.",{"$f":"Table1[[#This Row],[QTY]]*Table1[[#This Row],['# Books]]","v":0},{"$f":"Table1[[#This Row],[QTY]]*Table1[[#This Row],[S&L Price]]","v":0}]
[null,24,null,"A Look at U.S. Elections",1,"Primaries and Caucuses","Library Bound Book",null,"978-1-5382-5956-6",{"$f":"HYPERLINK(\"https://www.garethstevens.com/\"&Table1[[#This Row],[ISBN]],\"Weblink\")","v":"Weblink"},2021,"August 2020","Library","6.500 X 9.125","Author","Kathryn Wesgate",null,null,null,null,"K",null,"Grade 2","Grade 5 - 8","Many voters take part in general elections yet they're largely unaware of how primaries and caucuses work. Your readers will learn about the important processes that help select candidates. Struggling readers are able to utilize accessible text to learn about this key facet of the upper elementary social studies curriculum. Eye-catching photographs and educational fact boxes further illustrate important ideas and encourage readers to learn about politics at an early age.","English",26.6,19.95,"324.273/15--dc23","32 pp.",{"$f":"Table1[[#This Row],[QTY]]*Table1[[#This Row],['# Books]]","v":0},{"$f":"Table1[[#This Row],[QTY]]*Table1[[#This Row],[S&L Price]]","v":0}]
[null,24,null,"A Look at U.S. Elections",1,"Primaries and Caucuses","eBook",null,"978-1-5382-5957-3",{"$f":"HYPERLINK(\"https://www.garethstevens.com/\"&Table1[[#This Row],[ISBN]],\"Weblink\")","v":"Weblink"},2021,"August 2020",null,null,"Author","Kathryn Wesgate",null,null,null,null,"K",null,"Grade 2","Grade 5 - 8","Many voters take part in general elections yet they're largely unaware of how primaries and caucuses work. Your readers will learn about the important processes that help select candidates. Struggling readers are able to utilize accessible text to learn about this key facet of the upper elementary social studies curriculum. Eye-catching photographs and educational fact boxes further illustrate important ideas and encourage readers to learn about politics at an early age.","English",26.6,19.95,"324.273/15--dc23","32 pp.",{"$f":"Table1[[#This Row],[QTY]]*Table1[[#This Row],['# Books]]","v":0},{"$f":"Table1[[#This Row],[QTY]]*Table1[[#This Row],[S&L Price]]","v":0}]
[null,24,null,"A Look at U.S. Elections",1,"The General Election","Library Bound Book",null,"978-1-5382-5952-8",{"$f":"HYPERLINK(\"https://www.garethstevens.com/\"&Table1[[#This Row],[ISBN]],\"Weblink\")","v":"Weblink"},2021,"August 2020","Library","6.500 X 9.125","Author","Kathryn Wesgate",null,null,null,null,"K",null,"Grade 2","Grade 5 - 8","Though many people in the United States have a basic understanding of how the general election works, there's a lot that goes into it that many voters are unfamiliar with. Young readers will get a head start learning the ins and outs of how leaders are elected. Colorful photographs and informative fact boxes expand on the main narrative. Concise text explains challenging topics and prepares readers to someday vote at the polls themselves.","English",26.6,19.95,"324.60973--dc23","32 pp.",{"$f":"Table1[[#This Row],[QTY]]*Table1[[#This Row],['# Books]]","v":0},{"$f":"Table1[[#This Row],[QTY]]*Table1[[#This Row],[S&L Price]]","v":0}]
[null,24,null,"A Look at U.S. Elections",1,"The General Election","eBook",null,"978-1-5382-5953-5",{"$f":"HYPERLINK(\"https://www.garethstevens.com/\"&Table1[[#This Row],[ISBN]],\"Weblink\")","v":"Weblink"},2021,"August 2020",null,null,"Author","Kathryn Wesgate",null,null,null,null,"K",null,"Grade 2","Grade 5 - 8","Though many people in the United States have a basic understanding of how the general election works, there's a lot that goes into it that many voters are unfamiliar with. Young readers will get a head start learning the ins and outs of how leaders are elected. Colorful photographs and informative fact boxes expand on the main narrative. Concise text explains challenging topics and prepares readers to someday vote at the polls themselves.","English",26.6,19.95,"324.60973--dc23","32 pp.",{"$f":"Table1[[#This Row],[QTY]]*Table1[[#This Row],['# Books]]","v":0},{"$f":"Table1[[#This Row],[QTY]]*Table1[[#This Row],[S&L Price]]","v":0}]
[null,24,null,"A Look at U.S. Elections",1,"The History of Political Parties","Library Bound Book",null,"978-1-5382-5948-1",{"$f":"HYPERLINK(\"https://www.garethstevens.com/\"&Table1[[#This Row],[ISBN]],\"Weblink\")","v":"Weblink"},2021,"August 2020","Library","6.500 X 9.125","Author","Kathryn Wesgate",null,null,null,null,"K",null,"Grade 2","Grade 5 - 8","Readers may know that the Democratic and Republican Parties are the two main political parties in the United States now, but that hasn't always been the case. The parties have also changed quite a bit over time. This informative volume helps readers learn about key facts, individuals, and events involved in the history of political parties in the United States. Accessible text helps struggling readers understand this crucial part of the upper elementary social studies curriculum.","English",26.6,19.95,"324.273--dc23","32 pp.",{"$f":"Table1[[#This Row],[QTY]]*Table1[[#This Row],['# Books]]","v":0},{"$f":"Table1[[#This Row],[QTY]]*Table1[[#This Row],[S&L Price]]","v":0}]
[null,24,null,"A Look at U.S. Elections",1,"The History of Political Parties","eBook",null,"978-1-5382-5949-8",{"$f":"HYPERLINK(\"https://www.garethstevens.com/\"&Table1[[#This Row],[ISBN]],\"Weblink\")","v":"Weblink"},2021,"August 2020",null,null,"Author","Kathryn Wesgate",null,null,null,null,"K",null,"Grade 2","Grade 5 - 8","Readers may know that the Democratic and Republican Parties are the two main political parties in the United States now, but that hasn't always been the case. The parties have also changed quite a bit over time. This informative volume helps readers learn about key facts, individuals, and events involved in the history of political parties in the United States. Accessible text helps struggling readers understand this crucial part of the upper elementary social studies curriculum.","English",26.6,19.95,"324.273--dc23","32 pp.",{"$f":"Table1[[#This Row],[QTY]]*Table1[[#This Row],['# Books]]","v":0},{"$f":"Table1[[#This Row],[QTY]]*Table1[[#This Row],[S&L Price]]","v":0}]
[null,25,67,"A Look at Life Science",6,"A Look at Life Science","Library Set",null,"978-1-5382-4900-0",{"$f":"HYPERLINK(\"https://www.garethstevens.com/\"&Table1[[#This Row],[ISBN]],\"Weblink\")","v":"Weblink"},2020,"January 2020","Library","6.500 X 9.125","","",null,null,null,null,null,null,"Grade 2","Grade 5 - 8","Everyone knows what a plant or animal is, but sometimes, what we might call a plant is actually a protist. Or is it a fungus? The six major groups of organisms on Earth are an essential part of life science curricula. Written especially for struggling readers or those in need of review, each book in this set focuses on one group, including its main physical characteristics, ways of making or consuming food, and examples of different kinds within its major grouping. Features include: Expanded glossaries allow readers access to quick explanations of important vocabulary. Fact boxes provide readers more context within the science curriculum or provide further explanation of the main texts. Graphic organizers emphasize important concepts.","English",159.6,119.7,null,"32 pp.",{"$f":"Table1[[#This Row],[QTY]]*Table1[[#This Row],['# Books]]","v":0},{"$f":"Table1[[#This Row],[QTY]]*Table1[[#This Row],[S&L Price]]","v":0}]
[null,25,67,"A Look at Life Science",1,"What Are Animals?","Library Bound Book",null,"978-1-5382-4845-4",{"$f":"HYPERLINK(\"https://www.garethstevens.com/\"&Table1[[#This Row],[ISBN]],\"Weblink\")","v":"Weblink"},2020,"January 2020","Library","6.500 X 9.125","Author","Kate Mikoley",null,null,null,null,"I",null,"Grade 2","Grade 5 - 8","Wildlife plays an important role in the environment. With the help of this engaging volume, readers of many ages and levels will learn all about many of the fascinating animals that inhabit the planet. They will find out what makes an animal an animal. They will also learn fun facts about some of their favorite creatures. Eye-catching photographs correlate closely with concise, accessible text that supports elementary life science curricula. A must-have for animal lovers, this informative book will be a popular addition to your collection.","English",26.6,19.95,"590--dc23","32 pp.",{"$f":"Table1[[#This Row],[QTY]]*Table1[[#This Row],['# Books]]","v":0},{"$f":"Table1[[#This Row],[QTY]]*Table1[[#This Row],[S&L Price]]","v":0}]
[null,25,67,"A Look at Life Science",1,"What Are Animals?","eBook",null,"978-1-5382-4846-1",{"$f":"HYPERLINK(\"https://www.garethstevens.com/\"&Table1[[#This Row],[ISBN]],\"Weblink\")","v":"Weblink"},2020,"January 2020",null,null,"Author","Kate Mikoley",null,null,null,null,"I",null,"Grade 2","Grade 5 - 8","Wildlife plays an important role in the environment. With the help of this engaging volume, readers of many ages and levels will learn all about many of the fascinating animals that inhabit the planet. They will find out what makes an animal an animal. They will also learn fun facts about some of their favorite creatures. Eye-catching photographs correlate closely with concise, accessible text that supports elementary life science curricula. A must-have for animal lovers, this informative book will be a popular addition to your collection.","English",26.6,19.95,"590--dc23","32 pp.",{"$f":"Table1[[#This Row],[QTY]]*Table1[[#This Row],['# Books]]","v":0},{"$f":"Table1[[#This Row],[QTY]]*Table1[[#This Row],[S&L Price]]","v":0}]
[null,25,67,"A Look at Life Science",1,"What Are Archaea?","Library Bound Book",null,"978-1-5382-4849-2",{"$f":"HYPERLINK(\"https://www.garethstevens.com/\"&Table1[[#This Row],[ISBN]],\"Weblink\")","v":"Weblink"},2020,"January 2020","Library","6.500 X 9.125","Author","Kate Mikoley",null,null,null,null,"J",null,"Grade 2","Grade 5 - 8","Archaea are microorganisms often found living in very extreme conditions. They are known to survive in very hot environments, such as hydrothermal vents and hot springs. They can also live in very acidic habitats and even inside of animals. With the help of this engaging book, readers will develop a strong understanding of these fascinating organisms. Accessible, age-appropriate text helps readers of many levels learn important details related to elementary life science curricula. Meanwhile, colorful photographs reinforce key concepts and hold readers' attention.","English",26.6,19.95,"579.3/21--dc23","32 pp.",{"$f":"Table1[[#This Row],[QTY]]*Table1[[#This Row],['# Books]]","v":0},{"$f":"Table1[[#This Row],[QTY]]*Table1[[#This Row],[S&L Price]]","v":0}]
[null,25,67,"A Look at Life Science",1,"What Are Archaea?","eBook",null,"978-1-5382-4850-8",{"$f":"HYPERLINK(\"https://www.garethstevens.com/\"&Table1[[#This Row],[ISBN]],\"Weblink\")","v":"Weblink"},2020,"January 2020",null,null,"Author","Kate Mikoley",null,null,null,null,"J",null,"Grade 2","Grade 5 - 8","Archaea are microorganisms often found living in very extreme conditions. They are known to survive in very hot environments, such as hydrothermal vents and hot springs. They can also live in very acidic habitats and even inside of animals. With the help of this engaging book, readers will develop a strong understanding of these fascinating organisms. Accessible, age-appropriate text helps readers of many levels learn important details related to elementary life science curricula. Meanwhile, colorful photographs reinforce key concepts and hold readers' attention.","English",26.6,19.95,"579.3/21--dc23","32 pp.",{"$f":"Table1[[#This Row],[QTY]]*Table1[[#This Row],['# Books]]","v":0},{"$f":"Table1[[#This Row],[QTY]]*Table1[[#This Row],[S&L Price]]","v":0}]
[null,25,67,"A Look at Life Science",1,"What Are Bacteria?","Library Bound Book",null,"978-1-5382-4853-9",{"$f":"HYPERLINK(\"https://www.garethstevens.com/\"&Table1[[#This Row],[ISBN]],\"Weblink\")","v":"Weblink"},2020,"January 2020","Library","6.500 X 9.125","Author","Kate Mikoley",null,null,null,null,"I",null,"Grade 2","Grade 5 - 8","For many people, the word \"bacteria\" evokes thoughts of harmful germs and illness. While it's true bacteria can often be responsible for getting a person sick, they can also be very helpful. Readers of this innovative book will learn about the good and the bad sides of bacteria, and why humans and other animals would never be able to thrive without them. Key topics are presented using concise text paired with colorful photographs, helping readers of many levels to understand important life science concepts.","English",26.6,19.95,"579.3--dc23","32 pp.",{"$f":"Table1[[#This Row],[QTY]]*Table1[[#This Row],['# Books]]","v":0},{"$f":"Table1[[#This Row],[QTY]]*Table1[[#This Row],[S&L Price]]","v":0}]
[null,25,67,"A Look at Life Science",1,"What Are Bacteria?","eBook",null,"978-1-5382-4854-6",{"$f":"HYPERLINK(\"https://www.garethstevens.com/\"&Table1[[#This Row],[ISBN]],\"Weblink\")","v":"Weblink"},2020,"January 2020",null,null,"Author","Kate Mikoley",null,null,null,null,"I",null,"Grade 2","Grade 5 - 8","For many people, the word \"bacteria\" evokes thoughts of harmful germs and illness. While it's true bacteria can often be responsible for getting a person sick, they can also be very helpful. Readers of this innovative book will learn about the good and the bad sides of bacteria, and why humans and other animals would never be able to thrive without them. Key topics are presented using concise text paired with colorful photographs, helping readers of many levels to understand important life science concepts.","English",26.6,19.95,"579.3--dc23","32 pp.",{"$f":"Table1[[#This Row],[QTY]]*Table1[[#This Row],['# Books]]","v":0},{"$f":"Table1[[#This Row],[QTY]]*Table1[[#This Row],[S&L Price]]","v":0}]
[null,25,67,"A Look at Life Science",1,"What Are Fungi?","Library Bound Book",null,"978-1-5382-4857-7",{"$f":"HYPERLINK(\"https://www.garethstevens.com/\"&Table1[[#This Row],[ISBN]],\"Weblink\")","v":"Weblink"},2020,"January 2020","Library","6.500 X 9.125","Author","Kate Mikoley",null,null,null,null,"J",null,"Grade 2","Grade 5 - 8","It may sound like a gross fact, but the world is full of fungi. These organisms are important life forms. Readers of this innovative book will learn all about fungi and their role in the environment. Short, manageable sections of text relate closely to the colorful photographs, encouraging a deeper understanding of the subject matter. The high-interest topic helps reinforce key concepts in the elementary life science curricula, while accessible content appeals to developing readers.","English",26.6,19.95,"579.5--dc23","32 pp.",{"$f":"Table1[[#This Row],[QTY]]*Table1[[#This Row],['# Books]]","v":0},{"$f":"Table1[[#This Row],[QTY]]*Table1[[#This Row],[S&L Price]]","v":0}]
[null,25,67,"A Look at Life Science",1,"What Are Fungi?","eBook",null,"978-1-5382-4858-4",{"$f":"HYPERLINK(\"https://www.garethstevens.com/\"&Table1[[#This Row],[ISBN]],\"Weblink\")","v":"Weblink"},2020,"January 2020",null,null,"Author","Kate Mikoley",null,null,null,null,"J",null,"Grade 2","Grade 5 - 8","It may sound like a gross fact, but the world is full of fungi. These organisms are important life forms. Readers of this innovative book will learn all about fungi and their role in the environment. Short, manageable sections of text relate closely to the colorful photographs, encouraging a deeper understanding of the subject matter. The high-interest topic helps reinforce key concepts in the elementary life science curricula, while accessible content appeals to developing readers.","English",26.6,19.95,"579.5--dc23","32 pp.",{"$f":"Table1[[#This Row],[QTY]]*Table1[[#This Row],['# Books]]","v":0},{"$f":"Table1[[#This Row],[QTY]]*Table1[[#This Row],[S&L Price]]","v":0}]
[null,25,67,"A Look at Life Science",1,"What Are Plants?","Library Bound Book",null,"978-1-5382-4861-4",{"$f":"HYPERLINK(\"https://www.garethstevens.com/\"&Table1[[#This Row],[ISBN]],\"Weblink\")","v":"Weblink"},2020,"January 2020","Library","6.500 X 9.125","Author","Kate Mikoley",null,null,null,null,"I",null,"Grade 2","Grade 5 - 8","Besides animals, plants are commonly the most well-known living things. Readers of this captivating volume will learn all about plants, from the basics of what constitutes a plant to how they are able to survive in different kinds of environments. A dynamic page layout features simple and accessible text paired closely with eye-catching photographs. Thought-provoking content helps readers develop a strong grasp of important life science concepts. Developing readers will be excited to pick up this informative volume.","English",26.6,19.95,"580--dc23","32 pp.",{"$f":"Table1[[#This Row],[QTY]]*Table1[[#This Row],['# Books]]","v":0},{"$f":"Table1[[#This Row],[QTY]]*Table1[[#This Row],[S&L Price]]","v":0}]
[null,25,67,"A Look at Life Science",1,"What Are Plants?","eBook",null,"978-1-5382-4862-1",{"$f":"HYPERLINK(\"https://www.garethstevens.com/\"&Table1[[#This Row],[ISBN]],\"Weblink\")","v":"Weblink"},2020,"January 2020",null,null,"Author","Kate Mikoley",null,null,null,null,"I",null,"Grade 2","Grade 5 - 8","Besides animals, plants are commonly the most well-known living things. Readers of this captivating volume will learn all about plants, from the basics of what constitutes a plant to how they are able to survive in different kinds of environments. A dynamic page layout features simple and accessible text paired closely with eye-catching photographs. Thought-provoking content helps readers develop a strong grasp of important life science concepts. Developing readers will be excited to pick up this informative volume.","English",26.6,19.95,"580--dc23","32 pp.",{"$f":"Table1[[#This Row],[QTY]]*Table1[[#This Row],['# Books]]","v":0},{"$f":"Table1[[#This Row],[QTY]]*Table1[[#This Row],[S&L Price]]","v":0}]
[null,25,67,"A Look at Life Science",1,"What Are Protists?","Library Bound Book",null,"978-1-5382-4865-2",{"$f":"HYPERLINK(\"https://www.garethstevens.com/\"&Table1[[#This Row],[ISBN]],\"Weblink\")","v":"Weblink"},2020,"January 2020","Library","6.500 X 9.125","Author","Kate Mikoley",null,null,null,null,"J",null,"Grade 2","Grade 5 - 8","When people think of life forms, they often think of animals and plants. Not all organisms fit into these two groups. Protists are a hugely diverse group of organisms. They are usually tiny and made up of just a single cell. This valuable resource features colorful photographs that correlate very closely to details of the narrative, encouraging readers to develop a deeper understanding of the book's material as well as key concepts related to elementary life science curricula.","English",26.6,19.95,"579--dc23","32 pp.",{"$f":"Table1[[#This Row],[QTY]]*Table1[[#This Row],['# Books]]","v":0},{"$f":"Table1[[#This Row],[QTY]]*Table1[[#This Row],[S&L Price]]","v":0}]
[null,25,67,"A Look at Life Science",1,"What Are Protists?","eBook",null,"978-1-5382-4866-9",{"$f":"HYPERLINK(\"https://www.garethstevens.com/\"&Table1[[#This Row],[ISBN]],\"Weblink\")","v":"Weblink"},2020,"January 2020",null,null,"Author","Kate Mikoley",null,null,null,null,"J",null,"Grade 2","Grade 5 - 8","When people think of life forms, they often think of animals and plants. Not all organisms fit into these two groups. Protists are a hugely diverse group of organisms. They are usually tiny and made up of just a single cell. This valuable resource features colorful photographs that correlate very closely to details of the narrative, encouraging readers to develop a deeper understanding of the book's material as well as key concepts related to elementary life science curricula.","English",26.6,19.95,"579--dc23","32 pp.",{"$f":"Table1[[#This Row],[QTY]]*Table1[[#This Row],['# Books]]","v":0},{"$f":"Table1[[#This Row],[QTY]]*Table1[[#This Row],[S&L Price]]","v":0}]
[null,26,72,"A Look at U.S. History",18,"A Look at U.S. History (Set of 18 Titles)","Library Set",null,"978-1-5382-4905-5",{"$f":"HYPERLINK(\"https://www.garethstevens.com/\"&Table1[[#This Row],[ISBN]],\"Weblink\")","v":"Weblink"},2020,"January 2020","Library","6.500 X 9.125","","",null,null,null,null,null,null,"Grade 2","Grade 5 - 8","Understanding U.S. history becomes increasingly important as students proceed through the upper elementary grades and into middle school. However, if their reading skills can't keep up with complex topics, such as the cause and effect of wars, they'll miss out on key points of the curriculum. This essential set offers detailed, but accessible, overviews of the most indispensable topics of the social studies curriculum, including the Constitution, the American Revolution, the civil rights movement, and much more. Each book offers beneficial historical images to support the narrative as well as a concluding timeline for a helpful review of important dates. Features include: Extended glossaries that define central vocabulary terms important to the discussion of American history topics. The most important historical figures, documents, and events are introduced in context within each volume. A solid resource to review fundamental curricular topics, which also supports English Language Arts Common Core standards.","English",478.8,359.1,null,"32 pp.",{"$f":"Table1[[#This Row],[QTY]]*Table1[[#This Row],['# Books]]","v":0},{"$f":"Table1[[#This Row],[QTY]]*Table1[[#This Row],[S&L Price]]","v":0}]
[null,26,72,"A Look at U.S. History",6,"A Look at U.S. History (Set of 6 NEW Titles)","Library Set",null,"978-1-5382-4904-8",{"$f":"HYPERLINK(\"https://www.garethstevens.com/\"&Table1[[#This Row],[ISBN]],\"Weblink\")","v":"Weblink"},2020,"January 2020","Library","6.500 X 9.125","","",null,null,null,null,null,null,"Grade 2","Grade 5 - 8","Certain events in American history had such a tremendous impact on society that their effects are felt decades later in the way the government works, in American economic and social policies, and in people's everyday lives. Such major moments include the Great Depression, the Dust Bowl, and the civil rights movement. Readers will learn about these and other critical events through this extraordinary set, which delivers the essential information young historians need through achievable text. Timelines, maps, and fact boxes further clarify and highlight significant details of these remarkable points in American history. Features include: Allows struggling readers to delve into prominent American history topics. Striking images accompany the narratives, adding to the reader's understanding of key concepts. Volumes encourage all levels of readers to practice Common Core English Language Arts standards relating to comprehension of informational texts.","English",159.6,119.7,null,"32 pp.",{"$f":"Table1[[#This Row],[QTY]]*Table1[[#This Row],['# Books]]","v":0},{"$f":"Table1[[#This Row],[QTY]]*Table1[[#This Row],[S&L Price]]","v":0}]
[null,26,72,"A Look at U.S. History",1,"The Civil Rights Movement","Library Bound Book",null,"978-1-5382-4869-0",{"$f":"HYPERLINK(\"https://www.garethstevens.com/\"&Table1[[#This Row],[ISBN]],\"Weblink\")","v":"Weblink"},2020,"January 2020","Library","6.500 X 9.125","Author","John O'Mara",null,null,null,null,"J",null,"Grade 2","Grade 5 - 8","The rights of a nation's citizens are civil rights. In the 1950s and 1960s, black Americans organized a movement to demand these rights, including equal education, the right to vote, and many other freedoms. This significant and accessible volume takes readers through the key events of the movement, including its victories and disappointments. Central figures such as Martin Luther King, Jr. and Malcolm X are featured, and a timeline helps readers understand the movement's progression.","English",26.6,19.95,"323.1196'073--dc23","32 pp.",{"$f":"Table1[[#This Row],[QTY]]*Table1[[#This Row],['# Books]]","v":0},{"$f":"Table1[[#This Row],[QTY]]*Table1[[#This Row],[S&L Price]]","v":0}]
[null,26,72,"A Look at U.S. History",1,"The Civil Rights Movement","eBook",null,"978-1-5382-4870-6",{"$f":"HYPERLINK(\"https://www.garethstevens.com/\"&Table1[[#This Row],[ISBN]],\"Weblink\")","v":"Weblink"},2020,"January 2020",null,null,"Author","John O'Mara",null,null,null,null,"J",null,"Grade 2","Grade 5 - 8","The rights of a nation's citizens are civil rights. In the 1950s and 1960s, black Americans organized a movement to demand these rights, including equal education, the right to vote, and many other freedoms. This significant and accessible volume takes readers through the key events of the movement, including its victories and disappointments. Central figures such as Martin Luther King, Jr. and Malcolm X are featured, and a timeline helps readers understand the movement's progression.","English",26.6,19.95,"323.1196'073--dc23","32 pp.",{"$f":"Table1[[#This Row],[QTY]]*Table1[[#This Row],['# Books]]","v":0},{"$f":"Table1[[#This Row],[QTY]]*Table1[[#This Row],[S&L Price]]","v":0}]
[null,26,72,"A Look at U.S. History",1,"The Dust Bowl","Library Bound Book",null,"978-1-5382-4873-7",{"$f":"HYPERLINK(\"https://www.garethstevens.com/\"&Table1[[#This Row],[ISBN]],\"Weblink\")","v":"Weblink"},2020,"January 2020","Library","6.500 X 9.125","Author","Marie Roesser",null,null,null,null,"K",null,"Grade 2","Grade 5 - 8","Most people have at least seen a snowstorm on television, but imagine a storm of dust instead of snow. These were called \"black blizzards\" in the Dust Bowl, which was the name for the Great Plains of the United States during the 1930s. Readers will learn what transformed green farmland and lush grassland into a disaster area, forcing thousands to leave, and finally how the land was restored. Stunning photographs reflect the conditions, while Make the Grade fact boxes offer more information about this significant period in American history.","English",26.6,19.95,"978/.032--dc23","32 pp.",{"$f":"Table1[[#This Row],[QTY]]*Table1[[#This Row],['# Books]]","v":0},{"$f":"Table1[[#This Row],[QTY]]*Table1[[#This Row],[S&L Price]]","v":0}]
[null,26,72,"A Look at U.S. History",1,"The Dust Bowl","eBook",null,"978-1-5382-4874-4",{"$f":"HYPERLINK(\"https://www.garethstevens.com/\"&Table1[[#This Row],[ISBN]],\"Weblink\")","v":"Weblink"},2020,"January 2020",null,null,"Author","Marie Roesser",null,null,null,null,"K",null,"Grade 2","Grade 5 - 8","Most people have at least seen a snowstorm on television, but imagine a storm of dust instead of snow. These were called \"black blizzards\" in the Dust Bowl, which was the name for the Great Plains of the United States during the 1930s. Readers will learn what transformed green farmland and lush grassland into a disaster area, forcing thousands to leave, and finally how the land was restored. Stunning photographs reflect the conditions, while Make the Grade fact boxes offer more information about this significant period in American history.","English",26.6,19.95,"978/.032--dc23","32 pp.",{"$f":"Table1[[#This Row],[QTY]]*Table1[[#This Row],['# Books]]","v":0},{"$f":"Table1[[#This Row],[QTY]]*Table1[[#This Row],[S&L Price]]","v":0}]
[null,26,72,"A Look at U.S. History",1,"The Great Depression","Library Bound Book",null,"978-1-5382-4877-5",{"$f":"HYPERLINK(\"https://www.garethstevens.com/\"&Table1[[#This Row],[ISBN]],\"Weblink\")","v":"Weblink"},2020,"January 2020","Library","6.500 X 9.125","Author","John O'Mara",null,null,null,null,"K",null,"Grade 2","Grade 5 - 8","The Great Depression was a terrible time in the United States. Americans had never known such hunger and poverty. This crisis lasted 10 years. What happened to cause this catastrophe, how it finally ended, and the lasting effects it had on the nation are all addressed in this invaluable look at a critical period in American history. Engaging and accessible text is supported by striking historical images and interesting fact boxes. A timeline summarizes and reinforces the most essential concepts.","English",26.6,19.95,"330.973/0916--dc23","32 pp.",{"$f":"Table1[[#This Row],[QTY]]*Table1[[#This Row],['# Books]]","v":0},{"$f":"Table1[[#This Row],[QTY]]*Table1[[#This Row],[S&L Price]]","v":0}]
[null,26,72,"A Look at U.S. History",1,"The Great Depression","eBook",null,"978-1-5382-4878-2",{"$f":"HYPERLINK(\"https://www.garethstevens.com/\"&Table1[[#This Row],[ISBN]],\"Weblink\")","v":"Weblink"},2020,"January 2020",null,null,"Author","John O'Mara",null,null,null,null,"K",null,"Grade 2","Grade 5 - 8","The Great Depression was a terrible time in the United States. Americans had never known such hunger and poverty. This crisis lasted 10 years. What happened to cause this catastrophe, how it finally ended, and the lasting effects it had on the nation are all addressed in this invaluable look at a critical period in American history. Engaging and accessible text is supported by striking historical images and interesting fact boxes. A timeline summarizes and reinforces the most essential concepts.","English",26.6,19.95,"330.973/0916--dc23","32 pp.",{"$f":"Table1[[#This Row],[QTY]]*Table1[[#This Row],['# Books]]","v":0},{"$f":"Table1[[#This Row],[QTY]]*Table1[[#This Row],[S&L Price]]","v":0}]
[null,26,72,"A Look at U.S. History",1,"The Panama Canal","Library Bound Book",null,"978-1-5382-4881-2",{"$f":"HYPERLINK(\"https://www.garethstevens.com/\"&Table1[[#This Row],[ISBN]],\"Weblink\")","v":"Weblink"},2020,"January 2020","Library","6.500 X 9.125","Author","Marie Roesser",null,null,null,null,"K",null,"Grade 2","Grade 5 - 8","The Panama Canal is only about 40 miles long, but this narrow channel connects the Atlantic and Pacific Oceans. It saves ocean vessels from going around South America, which would otherwise be a 9,000-mile journey. Readers will learn about the canal's creation, how the United States became involved, and about the 40,000 people who worked on it over 10 years. They'll especially appreciate the amazing photographs of construction from the early 1900s as well as fact boxes that delve more deeply into the details of how the canal functions.","English",26.6,19.95,"972.87/​5--dc23","32 pp.",{"$f":"Table1[[#This Row],[QTY]]*Table1[[#This Row],['# Books]]","v":0},{"$f":"Table1[[#This Row],[QTY]]*Table1[[#This Row],[S&L Price]]","v":0}]
[null,26,72,"A Look at U.S. History",1,"The Panama Canal","eBook",null,"978-1-5382-4882-9",{"$f":"HYPERLINK(\"https://www.garethstevens.com/\"&Table1[[#This Row],[ISBN]],\"Weblink\")","v":"Weblink"},2020,"January 2020",null,null,"Author","Marie Roesser",null,null,null,null,"K",null,"Grade 2","Grade 5 - 8","The Panama Canal is only about 40 miles long, but this narrow channel connects the Atlantic and Pacific Oceans. It saves ocean vessels from going around South America, which would otherwise be a 9,000-mile journey. Readers will learn about the canal's creation, how the United States became involved, and about the 40,000 people who worked on it over 10 years. They'll especially appreciate the amazing photographs of construction from the early 1900s as well as fact boxes that delve more deeply into the details of how the canal functions.","English",26.6,19.95,"972.87/​5--dc23","32 pp.",{"$f":"Table1[[#This Row],[QTY]]*Table1[[#This Row],['# Books]]","v":0},{"$f":"Table1[[#This Row],[QTY]]*Table1[[#This Row],[S&L Price]]","v":0}]
[null,26,72,"A Look at U.S. History",1,"The Spanish-American War","Library Bound Book",null,"978-1-5382-4885-0",{"$f":"HYPERLINK(\"https://www.garethstevens.com/\"&Table1[[#This Row],[ISBN]],\"Weblink\")","v":"Weblink"},2020,"January 2020","Library","6.500 X 9.125","Author","Marie Roesser",null,null,null,null,"K",null,"Grade 2","Grade 5 - 8","A war between Spain and the United States was waged in 1898 in the Caribbean and in the Philippines. It forced Spain out of Cuba and established the United States as a true world power. Young historians will learn the causes of the war, each side's military maneuvers, and the conflict's aftereffects, all clearly explained in comprehensible text especially for the struggling reader. Remarkable photographs and images of the war will help visual learners connect with the material.","English",26.6,19.95,"973.8'9--dc23","32 pp.",{"$f":"Table1[[#This Row],[QTY]]*Table1[[#This Row],['# Books]]","v":0},{"$f":"Table1[[#This Row],[QTY]]*Table1[[#This Row],[S&L Price]]","v":0}]
[null,26,72,"A Look at U.S. History",1,"The Spanish-American War","eBook",null,"978-1-5382-4886-7",{"$f":"HYPERLINK(\"https://www.garethstevens.com/\"&Table1[[#This Row],[ISBN]],\"Weblink\")","v":"Weblink"},2020,"January 2020",null,null,"Author","Marie Roesser",null,null,null,null,"K",null,"Grade 2","Grade 5 - 8","A war between Spain and the United States was waged in 1898 in the Caribbean and in the Philippines. It forced Spain out of Cuba and established the United States as a true world power. Young historians will learn the causes of the war, each side's military maneuvers, and the conflict's aftereffects, all clearly explained in comprehensible text especially for the struggling reader. Remarkable photographs and images of the war will help visual learners connect with the material.","English",26.6,19.95,"973.8'9--dc23","32 pp.",{"$f":"Table1[[#This Row],[QTY]]*Table1[[#This Row],['# Books]]","v":0},{"$f":"Table1[[#This Row],[QTY]]*Table1[[#This Row],[S&L Price]]","v":0}]
[null,26,72,"A Look at U.S. History",1,"The Transcontinental Railroad","Library Bound Book",null,"978-1-5382-4889-8",{"$f":"HYPERLINK(\"https://www.garethstevens.com/\"&Table1[[#This Row],[ISBN]],\"Weblink\")","v":"Weblink"},2020,"January 2020","Library","6.500 X 9.125","Author","John O'Mara",null,null,null,null,"J",null,"Grade 2","Grade 5 - 8","A transcontinental railroad spanning the United States was once thought to be impossible. After a practical route was found, about 1,800 miles of track were laid from Nebraska to California in just 6 years. This railroad changed the nation, connecting the East and West Coast and making travel and communication easier than ever. Readers will be fascinated by the amazing tale of this railroad and the striking photographs that support this accessible narrative.","English",26.6,19.95,"385.0973--dc23","32 pp.",{"$f":"Table1[[#This Row],[QTY]]*Table1[[#This Row],['# Books]]","v":0},{"$f":"Table1[[#This Row],[QTY]]*Table1[[#This Row],[S&L Price]]","v":0}]
[null,26,72,"A Look at U.S. History",1,"The Transcontinental Railroad","eBook",null,"978-1-5382-4890-4",{"$f":"HYPERLINK(\"https://www.garethstevens.com/\"&Table1[[#This Row],[ISBN]],\"Weblink\")","v":"Weblink"},2020,"January 2020",null,null,"Author","John O'Mara",null,null,null,null,"J",null,"Grade 2","Grade 5 - 8","A transcontinental railroad spanning the United States was once thought to be impossible. After a practical route was found, about 1,800 miles of track were laid from Nebraska to California in just 6 years. This railroad changed the nation, connecting the East and West Coast and making travel and communication easier than ever. Readers will be fascinated by the amazing tale of this railroad and the striking photographs that support this accessible narrative.","English",26.6,19.95,"385.0973--dc23","32 pp.",{"$f":"Table1[[#This Row],[QTY]]*Table1[[#This Row],['# Books]]","v":0},{"$f":"Table1[[#This Row],[QTY]]*Table1[[#This Row],[S&L Price]]","v":0}]
[null,27,72,"A Look at U.S. History",1,"The American Revolution","Library Bound Book",null,"978-1-4824-6025-4",{"$f":"HYPERLINK(\"https://www.garethstevens.com/\"&Table1[[#This Row],[ISBN]],\"Weblink\")","v":"Weblink"},2018,"August 2017","Library","6.500 X 9.125","Author","Peter Castellano",null,null,null,null,"J",null,"Grade 2","Grade 5 - 8","Understanding the events of the American Revolution is key to learning more about the history of the United States. When readers encounter this important topic in social studies classes, they often must be able to explain the causes, main events, and results of the war. Through simple explanations and language, this book gives readers of all levels an overview of these aspects of the Revolutionary War in a format perfect for test review or quick reference. A timeline helps readers keep events in order, and fact boxes explain more difficult terms and subject matter.","English",26.6,19.95,"973.3--dc23","32 pp.",{"$f":"Table1[[#This Row],[QTY]]*Table1[[#This Row],['# Books]]","v":0},{"$f":"Table1[[#This Row],[QTY]]*Table1[[#This Row],[S&L Price]]","v":0}]
[null,27,72,"A Look at U.S. History",1,"The American Revolution","eBook",null,"978-1-4824-6026-1",{"$f":"HYPERLINK(\"https://www.garethstevens.com/\"&Table1[[#This Row],[ISBN]],\"Weblink\")","v":"Weblink"},2018,"August 2017",null,null,"Author","Peter Castellano",null,null,null,null,"J",null,"Grade 2","Grade 5 - 8","Understanding the events of the American Revolution is key to learning more about the history of the United States. When readers encounter this important topic in social studies classes, they often must be able to explain the causes, main events, and results of the war. Through simple explanations and language, this book gives readers of all levels an overview of these aspects of the Revolutionary War in a format perfect for test review or quick reference. A timeline helps readers keep events in order, and fact boxes explain more difficult terms and subject matter.","English",26.6,19.95,"973.3--dc23","32 pp.",{"$f":"Table1[[#This Row],[QTY]]*Table1[[#This Row],['# Books]]","v":0},{"$f":"Table1[[#This Row],[QTY]]*Table1[[#This Row],[S&L Price]]","v":0}]
[null,27,72,"A Look at U.S. History",1,"The Articles of Confederation","Library Bound Book",null,"978-1-4824-6037-7",{"$f":"HYPERLINK(\"https://www.garethstevens.com/\"&Table1[[#This Row],[ISBN]],\"Weblink\")","v":"Weblink"},2018,"August 2017","Library","6.500 X 9.125","","","5.7","0.5",null,null,"J",null,"Grade 2","Grade 5 - 8","It can be confusing to learn that the U.S. Constitution wasn't the first document governing the United States. The Articles of Confederation was a problematic document, and the social studies curriculum commonly asks students to understand why and its effect on the Constitution. This volume summarizes the writing of the Articles as well as its problems for readers unfamiliar with the document or in need of reviewing it. Key definitions and explanations are offered in short fact boxes, ensuring that readers of all levels can understand the Articles of Confederation.","English",26.6,19.95,"342.7302--dc23","32 pp.",{"$f":"Table1[[#This Row],[QTY]]*Table1[[#This Row],['# Books]]","v":0},{"$f":"Table1[[#This Row],[QTY]]*Table1[[#This Row],[S&L Price]]","v":0}]
[null,27,72,"A Look at U.S. History",1,"The Articles of Confederation","eBook",null,"978-1-4824-6038-4",{"$f":"HYPERLINK(\"https://www.garethstevens.com/\"&Table1[[#This Row],[ISBN]],\"Weblink\")","v":"Weblink"},2018,"August 2017",null,null,"","","5.7","0.5",null,null,"J",null,"Grade 2","Grade 5 - 8","It can be confusing to learn that the U.S. Constitution wasn't the first document governing the United States. The Articles of Confederation was a problematic document, and the social studies curriculum commonly asks students to understand why and its effect on the Constitution. This volume summarizes the writing of the Articles as well as its problems for readers unfamiliar with the document or in need of reviewing it. Key definitions and explanations are offered in short fact boxes, ensuring that readers of all levels can understand the Articles of Confederation.","English",26.6,19.95,"342.7302--dc23","32 pp.",{"$f":"Table1[[#This Row],[QTY]]*Table1[[#This Row],['# Books]]","v":0},{"$f":"Table1[[#This Row],[QTY]]*Table1[[#This Row],[S&L Price]]","v":0}]
[null,27,72,"A Look at U.S. History",1,"The Bill of Rights","Library Bound Book",null,"978-1-5382-2115-0",{"$f":"HYPERLINK(\"https://www.garethstevens.com/\"&Table1[[#This Row],[ISBN]],\"Weblink\")","v":"Weblink"},2019,"August 2018","Library","6.500 X 9.125","Author","Seth Lynch","5.6","0.5",null,null,"J",null,"Grade 2","Grade 5 - 8","Though it was written more than 200 years ago, the first 10 amendments included in the Bill of Rights are still being interpreted today. Understanding how these additions to the Constitution came about is a key topic of the social studies curriculum, and it's also essential for understanding the modern political conversation. All readers can benefit from the concise explanation of why the Bill of Rights was written and what each amendment states. Students struggling with reading are better able to grasp knowledge needed in the classroom by using this excellent volume as a review.","English",26.6,19.95,"342.7308'5--dc23","32 pp.",{"$f":"Table1[[#This Row],[QTY]]*Table1[[#This Row],['# Books]]","v":0},{"$f":"Table1[[#This Row],[QTY]]*Table1[[#This Row],[S&L Price]]","v":0}]
[null,27,72,"A Look at U.S. History",1,"The Bill of Rights","eBook",null,"978-1-5382-2116-7",{"$f":"HYPERLINK(\"https://www.garethstevens.com/\"&Table1[[#This Row],[ISBN]],\"Weblink\")","v":"Weblink"},2019,"August 2018",null,null,"Author","Seth Lynch","5.6","0.5",null,null,"J",null,"Grade 2","Grade 5 - 8","Though it was written more than 200 years ago, the first 10 amendments included in the Bill of Rights are still being interpreted today. Understanding how these additions to the Constitution came about is a key topic of the social studies curriculum, and it's also essential for understanding the modern political conversation. All readers can benefit from the concise explanation of why the Bill of Rights was written and what each amendment states. Students struggling with reading are better able to grasp knowledge needed in the classroom by using this excellent volume as a review.","English",26.6,19.95,"342.7308'5--dc23","32 pp.",{"$f":"Table1[[#This Row],[QTY]]*Table1[[#This Row],['# Books]]","v":0},{"$f":"Table1[[#This Row],[QTY]]*Table1[[#This Row],[S&L Price]]","v":0}]
[null,27,72,"A Look at U.S. History",1,"The Civil War","Library Bound Book",null,"978-1-4824-6029-2",{"$f":"HYPERLINK(\"https://www.garethstevens.com/\"&Table1[[#This Row],[ISBN]],\"Weblink\")","v":"Weblink"},2018,"August 2017","Library","6.500 X 9.125","Author","Peter Castellano","5.3","0.5",null,null,"J",null,"Grade 2","Grade 5 - 8","The Civil War is a major part of the social studies curriculum. However, it can be overwhelming to cover the causes of the war, its main events, and the immediate results. This book summarizes the most important points of the Civil War in an accessible way appropriate for many reading levels. Fact boxes explain key terms and add crucial details to the main content. Historical images and a concluding timeline help both new readers and those reviewing the topic to better understand a complex sequence of events easily.","English",26.6,19.95,"973.7--dc23","32 pp.",{"$f":"Table1[[#This Row],[QTY]]*Table1[[#This Row],['# Books]]","v":0},{"$f":"Table1[[#This Row],[QTY]]*Table1[[#This Row],[S&L Price]]","v":0}]
[null,27,72,"A Look at U.S. History",1,"The Civil War","eBook",null,"978-1-4824-6030-8",{"$f":"HYPERLINK(\"https://www.garethstevens.com/\"&Table1[[#This Row],[ISBN]],\"Weblink\")","v":"Weblink"},2018,"August 2017",null,null,"Author","Peter Castellano","5.3","0.5",null,null,"J",null,"Grade 2","Grade 5 - 8","The Civil War is a major part of the social studies curriculum. However, it can be overwhelming to cover the causes of the war, its main events, and the immediate results. This book summarizes the most important points of the Civil War in an accessible way appropriate for many reading levels. Fact boxes explain key terms and add crucial details to the main content. Historical images and a concluding timeline help both new readers and those reviewing the topic to better understand a complex sequence of events easily.","English",26.6,19.95,"973.7--dc23","32 pp.",{"$f":"Table1[[#This Row],[QTY]]*Table1[[#This Row],['# Books]]","v":0},{"$f":"Table1[[#This Row],[QTY]]*Table1[[#This Row],[S&L Price]]","v":0}]
[null,27,72,"A Look at U.S. History",1,"The Declaration of Independence","Library Bound Book",null,"978-1-4824-6033-9",{"$f":"HYPERLINK(\"https://www.garethstevens.com/\"&Table1[[#This Row],[ISBN]],\"Weblink\")","v":"Weblink"},2018,"August 2017","Library","6.500 X 9.125","Author","Peter Castellano","5.5","0.5",null,null,"J",null,"Grade 2","Grade 5 - 8","Not only did the Declaration of Independence help set U.S. history in motion, the document was influential to other revolutions around the world. Therefore, it's crucial to understand the meaning of the Declaration of Independence in order to continue exploring the social studies curriculum. Readers are presented with the most important aspects of the document, including why it was written, the writing process, and its impact on American independence. Written in simple language, this volume will be useful in test review or as an introduction to the history of the Declaration of Independence.","English",26.6,19.95,"973.3'13--dc23","32 pp.",{"$f":"Table1[[#This Row],[QTY]]*Table1[[#This Row],['# Books]]","v":0},{"$f":"Table1[[#This Row],[QTY]]*Table1[[#This Row],[S&L Price]]","v":0}]
[null,27,72,"A Look at U.S. History",1,"The Declaration of Independence","eBook",null,"978-1-4824-6034-6",{"$f":"HYPERLINK(\"https://www.garethstevens.com/\"&Table1[[#This Row],[ISBN]],\"Weblink\")","v":"Weblink"},2018,"August 2017",null,null,"Author","Peter Castellano","5.5","0.5",null,null,"J",null,"Grade 2","Grade 5 - 8","Not only did the Declaration of Independence help set U.S. history in motion, the document was influential to other revolutions around the world. Therefore, it's crucial to understand the meaning of the Declaration of Independence in order to continue exploring the social studies curriculum. Readers are presented with the most important aspects of the document, including why it was written, the writing process, and its impact on American independence. Written in simple language, this volume will be useful in test review or as an introduction to the history of the Declaration of Independence.","English",26.6,19.95,"973.3'13--dc23","32 pp.",{"$f":"Table1[[#This Row],[QTY]]*Table1[[#This Row],['# Books]]","v":0},{"$f":"Table1[[#This Row],[QTY]]*Table1[[#This Row],[S&L Price]]","v":0}]
[null,27,72,"A Look at U.S. History",1,"The Emancipation Proclamation","Library Bound Book",null,"978-1-5382-2119-8",{"$f":"HYPERLINK(\"https://www.garethstevens.com/\"&Table1[[#This Row],[ISBN]],\"Weblink\")","v":"Weblink"},2019,"August 2018","Library","6.500 X 9.125","Author","Seth Lynch","5.8","0.5",null,null,"J",null,"Grade 2","Grade 5 - 8","In 1862, the American Civil War was underway, actively tearing the United States apart. At the start of the war, President Abraham Lincoln's main goal was preserving the Union, but he was now ready to make a stand on slavery. The Emancipation Proclamation was one of the most important documents of its time, but its contents can be confusing. This volume gives readers context for the proclamation, as well as explains what it says and its results, in uncomplicated language appropriate for those reading below level and those looking for a review of this subject.","English",26.6,19.95,"973.7092--dc23","32 pp.",{"$f":"Table1[[#This Row],[QTY]]*Table1[[#This Row],['# Books]]","v":0},{"$f":"Table1[[#This Row],[QTY]]*Table1[[#This Row],[S&L Price]]","v":0}]
[null,27,72,"A Look at U.S. History",1,"The Emancipation Proclamation","eBook",null,"978-1-5382-2120-4",{"$f":"HYPERLINK(\"https://www.garethstevens.com/\"&Table1[[#This Row],[ISBN]],\"Weblink\")","v":"Weblink"},2019,"August 2018",null,null,"Author","Seth Lynch","5.8","0.5",null,null,"J",null,"Grade 2","Grade 5 - 8","In 1862, the American Civil War was underway, actively tearing the United States apart. At the start of the war, President Abraham Lincoln's main goal was preserving the Union, but he was now ready to make a stand on slavery. The Emancipation Proclamation was one of the most important documents of its time, but its contents can be confusing. This volume gives readers context for the proclamation, as well as explains what it says and its results, in uncomplicated language appropriate for those reading below level and those looking for a review of this subject.","English",26.6,19.95,"973.7092--dc23","32 pp.",{"$f":"Table1[[#This Row],[QTY]]*Table1[[#This Row],['# Books]]","v":0},{"$f":"Table1[[#This Row],[QTY]]*Table1[[#This Row],[S&L Price]]","v":0}]
[null,27,72,"A Look at U.S. History",1,"The French and Indian War","Library Bound Book",null,"978-1-5382-2123-5",{"$f":"HYPERLINK(\"https://www.garethstevens.com/\"&Table1[[#This Row],[ISBN]],\"Weblink\")","v":"Weblink"},2019,"August 2018","Library","6.500 X 9.125","Author","Seth Lynch","5.5","0.5",null,null,"J",null,"Grade 2","Grade 5 - 8","The French and Indian War was just one part of a global conflict between France and Great Britain and their allies. However, for U.S. citizens, it marked the beginning of the revolutionary era. As one of the causes of the American Revolution, the French and Indian War is a staple of social studies curriculums. In this volume, its complexities are pared down to the most important facts to give struggling readers a better chance to understand them. A concluding timeline provides all readers a way to review the major points of this history-making war.","English",26.6,19.95,"973.2/6--dc23","32 pp.",{"$f":"Table1[[#This Row],[QTY]]*Table1[[#This Row],['# Books]]","v":0},{"$f":"Table1[[#This Row],[QTY]]*Table1[[#This Row],[S&L Price]]","v":0}]
[null,27,72,"A Look at U.S. History",1,"The French and Indian War","eBook",null,"978-1-5382-2124-2",{"$f":"HYPERLINK(\"https://www.garethstevens.com/\"&Table1[[#This Row],[ISBN]],\"Weblink\")","v":"Weblink"},2019,"August 2018",null,null,"Author","Seth Lynch","5.5","0.5",null,null,"J",null,"Grade 2","Grade 5 - 8","The French and Indian War was just one part of a global conflict between France and Great Britain and their allies. However, for U.S. citizens, it marked the beginning of the revolutionary era. As one of the causes of the American Revolution, the French and Indian War is a staple of social studies curriculums. In this volume, its complexities are pared down to the most important facts to give struggling readers a better chance to understand them. A concluding timeline provides all readers a way to review the major points of this history-making war.","English",26.6,19.95,"973.2/6--dc23","32 pp.",{"$f":"Table1[[#This Row],[QTY]]*Table1[[#This Row],['# Books]]","v":0},{"$f":"Table1[[#This Row],[QTY]]*Table1[[#This Row],[S&L Price]]","v":0}]
[null,27,72,"A Look at U.S. History",1,"The Industrial Revolution","Library Bound Book",null,"978-1-5382-2127-3",{"$f":"HYPERLINK(\"https://www.garethstevens.com/\"&Table1[[#This Row],[ISBN]],\"Weblink\")","v":"Weblink"},2019,"August 2018","Library","6.500 X 9.125","Author","Seth Lynch","4.9","0.5",null,null,"J",null,"Grade 2","Grade 5 - 8","Once the Industrial Revolution made it to the United States, the workforce changed forever. Not only that, family life, childhood, and the economy changed, too. A complex topic with many facets, the Industrial Revolution is covered in accessible language in this book. Written with social studies curricula in mind, the main content includes age-appropriate detail, such as important dates, people, and vocabulary readers will likely need in the classroom. Developing readers and those in need of review need look no further than this volume to enhance or refresh their knowledge of this key time period in American history.","English",26.6,19.95,"330.973'08--dc23","32 pp.",{"$f":"Table1[[#This Row],[QTY]]*Table1[[#This Row],['# Books]]","v":0},{"$f":"Table1[[#This Row],[QTY]]*Table1[[#This Row],[S&L Price]]","v":0}]
[null,27,72,"A Look at U.S. History",1,"The Industrial Revolution","eBook",null,"978-1-5382-2128-0",{"$f":"HYPERLINK(\"https://www.garethstevens.com/\"&Table1[[#This Row],[ISBN]],\"Weblink\")","v":"Weblink"},2019,"August 2018",null,null,"Author","Seth Lynch","4.9","0.5",null,null,"J",null,"Grade 2","Grade 5 - 8","Once the Industrial Revolution made it to the United States, the workforce changed forever. Not only that, family life, childhood, and the economy changed, too. A complex topic with many facets, the Industrial Revolution is covered in accessible language in this book. Written with social studies curricula in mind, the main content includes age-appropriate detail, such as important dates, people, and vocabulary readers will likely need in the classroom. Developing readers and those in need of review need look no further than this volume to enhance or refresh their knowledge of this key time period in American history.","English",26.6,19.95,"330.973'08--dc23","32 pp.",{"$f":"Table1[[#This Row],[QTY]]*Table1[[#This Row],['# Books]]","v":0},{"$f":"Table1[[#This Row],[QTY]]*Table1[[#This Row],[S&L Price]]","v":0}]
[null,27,72,"A Look at U.S. History",1,"The Louisiana Purchase","Library Bound Book",null,"978-1-5382-2131-0",{"$f":"HYPERLINK(\"https://www.garethstevens.com/\"&Table1[[#This Row],[ISBN]],\"Weblink\")","v":"Weblink"},2019,"August 2018","Library","6.500 X 9.125","Author","Seth Lynch","5.2","0.5",null,null,"J",null,"Grade 2","Grade 5 - 8","When the Louisiana Territory was added to the United States in 1803, it about doubled the size of the young nation. It took years to clarify its boundaries and explore every square mile. How this momentous purchase came to be and its implications on the future of the United States are explained in detail in this book. Uncomplicated maps and simple language help developing readers and those in need of review to understand the many changes in this land that started with its purchase in 1803.","English",26.6,19.95,"973.4/6--dc23","32 pp.",{"$f":"Table1[[#This Row],[QTY]]*Table1[[#This Row],['# Books]]","v":0},{"$f":"Table1[[#This Row],[QTY]]*Table1[[#This Row],[S&L Price]]","v":0}]
[null,27,72,"A Look at U.S. History",1,"The Louisiana Purchase","eBook",null,"978-1-5382-2132-7",{"$f":"HYPERLINK(\"https://www.garethstevens.com/\"&Table1[[#This Row],[ISBN]],\"Weblink\")","v":"Weblink"},2019,"August 2018",null,null,"Author","Seth Lynch","5.2","0.5",null,null,"J",null,"Grade 2","Grade 5 - 8","When the Louisiana Territory was added to the United States in 1803, it about doubled the size of the young nation. It took years to clarify its boundaries and explore every square mile. How this momentous purchase came to be and its implications on the future of the United States are explained in detail in this book. Uncomplicated maps and simple language help developing readers and those in need of review to understand the many changes in this land that started with its purchase in 1803.","English",26.6,19.95,"973.4/6--dc23","32 pp.",{"$f":"Table1[[#This Row],[QTY]]*Table1[[#This Row],['# Books]]","v":0},{"$f":"Table1[[#This Row],[QTY]]*Table1[[#This Row],[S&L Price]]","v":0}]
[null,27,72,"A Look at U.S. History",1,"The Thirteen Colonies","Library Bound Book",null,"978-1-4824-6041-4",{"$f":"HYPERLINK(\"https://www.garethstevens.com/\"&Table1[[#This Row],[ISBN]],\"Weblink\")","v":"Weblink"},2018,"August 2017","Library","6.500 X 9.125","Author","Bray Jacobson","5","0.5",null,null,"J",null,"Grade 2","Grade 5 - 8","Students often spend a long time learning about the early European settlements, such as Jamestown, and the founding the 13 British colonies that became the United States. Remembering and digesting so much information can be difficult, especially for struggling readers. Through accessible language and simple sentences, this book allows readers to review the history of the 13 colonies no matter the level at which they read. A concluding timeline helps readers chronologically order main events of the social studies curriculum while fact boxes offer explanations for important terms and more detail when needed.","English",26.6,19.95,"973.2--dc23","32 pp.",{"$f":"Table1[[#This Row],[QTY]]*Table1[[#This Row],['# Books]]","v":0},{"$f":"Table1[[#This Row],[QTY]]*Table1[[#This Row],[S&L Price]]","v":0}]
[null,27,72,"A Look at U.S. History",1,"The Thirteen Colonies","eBook",null,"978-1-4824-6042-1",{"$f":"HYPERLINK(\"https://www.garethstevens.com/\"&Table1[[#This Row],[ISBN]],\"Weblink\")","v":"Weblink"},2018,"August 2017",null,null,"Author","Bray Jacobson","5","0.5",null,null,"J",null,"Grade 2","Grade 5 - 8","Students often spend a long time learning about the early European settlements, such as Jamestown, and the founding the 13 British colonies that became the United States. Remembering and digesting so much information can be difficult, especially for struggling readers. Through accessible language and simple sentences, this book allows readers to review the history of the 13 colonies no matter the level at which they read. A concluding timeline helps readers chronologically order main events of the social studies curriculum while fact boxes offer explanations for important terms and more detail when needed.","English",26.6,19.95,"973.2--dc23","32 pp.",{"$f":"Table1[[#This Row],[QTY]]*Table1[[#This Row],['# Books]]","v":0},{"$f":"Table1[[#This Row],[QTY]]*Table1[[#This Row],[S&L Price]]","v":0}]
[null,27,72,"A Look at U.S. History",1,"The U.S. Constitution","Library Bound Book",null,"978-1-4824-6045-2",{"$f":"HYPERLINK(\"https://www.garethstevens.com/\"&Table1[[#This Row],[ISBN]],\"Weblink\")","v":"Weblink"},2018,"August 2017","Library","6.500 X 9.125","Author","Bray Jacobson","5.5","0.5",null,null,"J",null,"Grade 2","Grade 5 - 8","The highest law in the United States isn't written in modern English. Yet students are expected to know and understand much of what it says, as well as facts about how and why it was written. Readers are presented with the most important points of the history of the Constitution and its contents in this book. The main content gives simple explanations of important social studies curriculum topics, from the compromises needed to write the Constitution to the Bill of Rights. Fact boxes, a concluding timeline, and historical images offer readers even more detail needed for a full overview of the document.","English",26.6,19.95,"342.7302/9--dc23","32 pp.",{"$f":"Table1[[#This Row],[QTY]]*Table1[[#This Row],['# Books]]","v":0},{"$f":"Table1[[#This Row],[QTY]]*Table1[[#This Row],[S&L Price]]","v":0}]
[null,27,72,"A Look at U.S. History",1,"The U.S. Constitution","eBook",null,"978-1-4824-6046-9",{"$f":"HYPERLINK(\"https://www.garethstevens.com/\"&Table1[[#This Row],[ISBN]],\"Weblink\")","v":"Weblink"},2018,"August 2017",null,null,"Author","Bray Jacobson","5.5","0.5",null,null,"J",null,"Grade 2","Grade 5 - 8","The highest law in the United States isn't written in modern English. Yet students are expected to know and understand much of what it says, as well as facts about how and why it was written. Readers are presented with the most important points of the history of the Constitution and its contents in this book. The main content gives simple explanations of important social studies curriculum topics, from the compromises needed to write the Constitution to the Bill of Rights. Fact boxes, a concluding timeline, and historical images offer readers even more detail needed for a full overview of the document.","English",26.6,19.95,"342.7302/9--dc23","32 pp.",{"$f":"Table1[[#This Row],[QTY]]*Table1[[#This Row],['# Books]]","v":0},{"$f":"Table1[[#This Row],[QTY]]*Table1[[#This Row],[S&L Price]]","v":0}]
[null,27,72,"A Look at U.S. History",1,"Women's Suffrage","Library Bound Book",null,"978-1-5382-2135-8",{"$f":"HYPERLINK(\"https://www.garethstevens.com/\"&Table1[[#This Row],[ISBN]],\"Weblink\")","v":"Weblink"},2019,"August 2018","Library","6.500 X 9.125","Author","Seth Lynch","5.2","0.5",null,null,"J",null,"Grade 2","Grade 5 - 8","From the formal beginning of the women's suffrage movement in the United States to the passage of the Nineteenth Amendment, the journey to women's right to vote is endlessly fascinating. Leaders such as Elizabeth Cady Stanton and Alice Paul are part of this volume, which covers important curriculum points, including the Seneca Falls Convention and its Declaration of Sentiments. The main text succinctly introduces important events and groups as well as provides historical context outside of the suffrage movement. A concluding timeline aids readers in need of further review.","English",26.6,19.95,"324.6/230973--dc23","32 pp.",{"$f":"Table1[[#This Row],[QTY]]*Table1[[#This Row],['# Books]]","v":0},{"$f":"Table1[[#This Row],[QTY]]*Table1[[#This Row],[S&L Price]]","v":0}]
[null,27,72,"A Look at U.S. History",1,"Women's Suffrage","eBook",null,"978-1-5382-2136-5",{"$f":"HYPERLINK(\"https://www.garethstevens.com/\"&Table1[[#This Row],[ISBN]],\"Weblink\")","v":"Weblink"},2019,"August 2018",null,null,"Author","Seth Lynch","5.2","0.5",null,null,"J",null,"Grade 2","Grade 5 - 8","From the formal beginning of the women's suffrage movement in the United States to the passage of the Nineteenth Amendment, the journey to women's right to vote is endlessly fascinating. Leaders such as Elizabeth Cady Stanton and Alice Paul are part of this volume, which covers important curriculum points, including the Seneca Falls Convention and its Declaration of Sentiments. The main text succinctly introduces important events and groups as well as provides historical context outside of the suffrage movement. A concluding timeline aids readers in need of further review.","English",26.6,19.95,"324.6/230973--dc23","32 pp.",{"$f":"Table1[[#This Row],[QTY]]*Table1[[#This Row],['# Books]]","v":0},{"$f":"Table1[[#This Row],[QTY]]*Table1[[#This Row],[S&L Price]]","v":0}]
[null,28,null,"Race for Your Life!",6,"Race for Your Life!","Library Set",null,"978-1-5382-5979-5",{"$f":"HYPERLINK(\"https://www.garethstevens.com/\"&Table1[[#This Row],[ISBN]],\"Weblink\")","v":"Weblink"},2021,"August 2020","Library","6.500 X 9.125","","",null,null,null,null,null,null,"Grade 1 - 2","Grade 3 - 6","There's nothing more amazing than hearing stories of people pushing their bodies and skills to the limit. The races in this set, from 24 Hours of Le Mans to the Antarctica Marathon, are true tests of the outer bounds of what humans can endure. Each book profiles a different endurance race, explaining how each is performed, the incredible training individuals and teams must go through before race day, and the challenges of participating in the race. Complete with full-color photographs of each race, this set shows readers how hard work and dedication can pay off with an incredible accomplishment. Features include: Introduces real athletes who have completed each race. High-interest topic that draws in developing readers. Written at a lower reading level to appeal to many readers.","English",159.6,119.7,null,"32 pp.",{"$f":"Table1[[#This Row],[QTY]]*Table1[[#This Row],['# Books]]","v":0},{"$f":"Table1[[#This Row],[QTY]]*Table1[[#This Row],[S&L Price]]","v":0}]
[null,28,null,"Race for Your Life!",1,"24 Hours of Le Mans","Library Bound Book",null,"978-1-5382-5896-5",{"$f":"HYPERLINK(\"https://www.garethstevens.com/\"&Table1[[#This Row],[ISBN]],\"Weblink\")","v":"Weblink"},2021,"August 2020","Library","6.500 X 9.125","Author","Kate Mikoley",null,null,null,null,"J",null,"Grade 1 - 2","Grade 3 - 6","For many automobile races, the winner is the person who drives a set distance the fastest, but for the 24 Hours of Le Mans, it's all about who can travel the farthest in 24 hours. This informative volume presents an exciting overview of what it's like to compete in this intense race. Striking photographs and concise fact boxes support the comprehension of key facts, while low-level text ensures readers of many ages and levels can enjoy this high-interest book.","English",26.6,19.95,"796.720944--dc23","32 pp.",{"$f":"Table1[[#This Row],[QTY]]*Table1[[#This Row],['# Books]]","v":0},{"$f":"Table1[[#This Row],[QTY]]*Table1[[#This Row],[S&L Price]]","v":0}]
[null,28,null,"Race for Your Life!",1,"24 Hours of Le Mans","eBook",null,"978-1-5382-5897-2",{"$f":"HYPERLINK(\"https://www.garethstevens.com/\"&Table1[[#This Row],[ISBN]],\"Weblink\")","v":"Weblink"},2021,"August 2020",null,null,"Author","Kate Mikoley",null,null,null,null,"J",null,"Grade 1 - 2","Grade 3 - 6","For many automobile races, the winner is the person who drives a set distance the fastest, but for the 24 Hours of Le Mans, it's all about who can travel the farthest in 24 hours. This informative volume presents an exciting overview of what it's like to compete in this intense race. Striking photographs and concise fact boxes support the comprehension of key facts, while low-level text ensures readers of many ages and levels can enjoy this high-interest book.","English",26.6,19.95,"796.720944--dc23","32 pp.",{"$f":"Table1[[#This Row],[QTY]]*Table1[[#This Row],['# Books]]","v":0},{"$f":"Table1[[#This Row],[QTY]]*Table1[[#This Row],[S&L Price]]","v":0}]
[null,28,null,"Race for Your Life!",1,"Antarctica Marathon","Library Bound Book",null,"978-1-5382-5916-0",{"$f":"HYPERLINK(\"https://www.garethstevens.com/\"&Table1[[#This Row],[ISBN]],\"Weblink\")","v":"Weblink"},2021,"August 2020","Library","6.500 X 9.125","Author","Kate Mikoley",null,null,null,null,"J",null,"Grade 1 - 2","Grade 3 - 6","Even in the most ideal conditions, running 26.2 miles is tough. Some of the most daring runners choose to take on an even bigger challenge, which is running this distance in a marathon on the coldest and driest continent. Readers will learn what it's like to race in the Antarctica Marathon, from the bitter-cold temperatures to the often muddy, icy, and snowy course. Eye-catching photographs give readers a glimpse of some of the beautiful sights race participants get to see during this race of a lifetime.","English",26.6,19.95,"796.42'52--dc23","32 pp.",{"$f":"Table1[[#This Row],[QTY]]*Table1[[#This Row],['# Books]]","v":0},{"$f":"Table1[[#This Row],[QTY]]*Table1[[#This Row],[S&L Price]]","v":0}]
[null,28,null,"Race for Your Life!",1,"Antarctica Marathon","eBook",null,"978-1-5382-5917-7",{"$f":"HYPERLINK(\"https://www.garethstevens.com/\"&Table1[[#This Row],[ISBN]],\"Weblink\")","v":"Weblink"},2021,"August 2020",null,null,"Author","Kate Mikoley",null,null,null,null,"J",null,"Grade 1 - 2","Grade 3 - 6","Even in the most ideal conditions, running 26.2 miles is tough. Some of the most daring runners choose to take on an even bigger challenge, which is running this distance in a marathon on the coldest and driest continent. Readers will learn what it's like to race in the Antarctica Marathon, from the bitter-cold temperatures to the often muddy, icy, and snowy course. Eye-catching photographs give readers a glimpse of some of the beautiful sights race participants get to see during this race of a lifetime.","English",26.6,19.95,"796.42'52--dc23","32 pp.",{"$f":"Table1[[#This Row],[QTY]]*Table1[[#This Row],['# Books]]","v":0},{"$f":"Table1[[#This Row],[QTY]]*Table1[[#This Row],[S&L Price]]","v":0}]
[null,28,null,"Race for Your Life!",1,"Ironman Triathlon","Library Bound Book",null,"978-1-5382-5900-9",{"$f":"HYPERLINK(\"https://www.garethstevens.com/\"&Table1[[#This Row],[ISBN]],\"Weblink\")","v":"Weblink"},2021,"August 2020","Library","6.500 X 9.125","Author","Kate Mikoley",null,null,null,null,"J",null,"Grade 1 - 2","Grade 3 - 6","Any kind of triathlon takes athleticism, but for elite triathletes looking to push the limits of their endurance, the Ironman Triathlon is the top choice. After swimming 2.4 miles and biking 112 miles, competitors finish the race by running a full marathon. Inspired readers will learn about the training, dedication, and hard work that go into completing one of these remarkable races. Full-color photographs motivate readers, while accessible text makes for a high-interest volume many can appreciate.","English",26.6,19.95,"796.42/57--dc23","32 pp.",{"$f":"Table1[[#This Row],[QTY]]*Table1[[#This Row],['# Books]]","v":0},{"$f":"Table1[[#This Row],[QTY]]*Table1[[#This Row],[S&L Price]]","v":0}]
[null,28,null,"Race for Your Life!",1,"Ironman Triathlon","eBook",null,"978-1-5382-5901-6",{"$f":"HYPERLINK(\"https://www.garethstevens.com/\"&Table1[[#This Row],[ISBN]],\"Weblink\")","v":"Weblink"},2021,"August 2020",null,null,"Author","Kate Mikoley",null,null,null,null,"J",null,"Grade 1 - 2","Grade 3 - 6","Any kind of triathlon takes athleticism, but for elite triathletes looking to push the limits of their endurance, the Ironman Triathlon is the top choice. After swimming 2.4 miles and biking 112 miles, competitors finish the race by running a full marathon. Inspired readers will learn about the training, dedication, and hard work that go into completing one of these remarkable races. Full-color photographs motivate readers, while accessible text makes for a high-interest volume many can appreciate.","English",26.6,19.95,"796.42/57--dc23","32 pp.",{"$f":"Table1[[#This Row],[QTY]]*Table1[[#This Row],['# Books]]","v":0},{"$f":"Table1[[#This Row],[QTY]]*Table1[[#This Row],[S&L Price]]","v":0}]
[null,28,null,"Race for Your Life!",1,"The Iditarod","Library Bound Book",null,"978-1-5382-5904-7",{"$f":"HYPERLINK(\"https://www.garethstevens.com/\"&Table1[[#This Row],[ISBN]],\"Weblink\")","v":"Weblink"},2021,"August 2020","Library","6.500 X 9.125","Author","Kate Mikoley",null,null,null,null,"J",null,"Grade 1 - 2","Grade 3 - 6","Every year, dozens of mushers and even more dogs take part in an icy dogsled race across Alaska, crossing mountain ranges and frozen bodies of water. The Iditarod, often referred to as the \"last great race on Earth,\" is a unique event with a rich history. Readers will learn about this wild race and see how racers overcome incredible obstacles along the way. Low-level text helps struggling readers understand this high-interest event, while colorful photographs give readers an up-close look at the race's harsh course.","English",26.6,19.95,"798.83--dc23","32 pp.",{"$f":"Table1[[#This Row],[QTY]]*Table1[[#This Row],['# Books]]","v":0},{"$f":"Table1[[#This Row],[QTY]]*Table1[[#This Row],[S&L Price]]","v":0}]
[null,28,null,"Race for Your Life!",1,"The Iditarod","eBook",null,"978-1-5382-5905-4",{"$f":"HYPERLINK(\"https://www.garethstevens.com/\"&Table1[[#This Row],[ISBN]],\"Weblink\")","v":"Weblink"},2021,"August 2020",null,null,"Author","Kate Mikoley",null,null,null,null,"J",null,"Grade 1 - 2","Grade 3 - 6","Every year, dozens of mushers and even more dogs take part in an icy dogsled race across Alaska, crossing mountain ranges and frozen bodies of water. The Iditarod, often referred to as the \"last great race on Earth,\" is a unique event with a rich history. Readers will learn about this wild race and see how racers overcome incredible obstacles along the way. Low-level text helps struggling readers understand this high-interest event, while colorful photographs give readers an up-close look at the race's harsh course.","English",26.6,19.95,"798.83--dc23","32 pp.",{"$f":"Table1[[#This Row],[QTY]]*Table1[[#This Row],['# Books]]","v":0},{"$f":"Table1[[#This Row],[QTY]]*Table1[[#This Row],[S&L Price]]","v":0}]
[null,28,null,"Race for Your Life!",1,"The Indianapolis 500","Library Bound Book",null,"978-1-5382-5908-5",{"$f":"HYPERLINK(\"https://www.garethstevens.com/\"&Table1[[#This Row],[ISBN]],\"Weblink\")","v":"Weblink"},2021,"August 2020","Library","6.500 X 9.125","Author","Kate Mikoley",null,null,null,null,"J",null,"Grade 1 - 2","Grade 3 - 6","When it comes to car races, few events come close to being able to offer the excitement and notoriety of the Indianapolis 500. Since 1911, fans and drivers have flocked to Indianapolis Motor Speedway in Indiana for this intense event. Written at a low level, this captivating narrative gives readers an accessible and in-depth look at this popular event. Attention-grabbing photographs, interesting fact boxes, and informative text will satisfy your young race car enthusiasts.","English",26.6,19.95,"796.7206'877252--dc23","32 pp.",{"$f":"Table1[[#This Row],[QTY]]*Table1[[#This Row],['# Books]]","v":0},{"$f":"Table1[[#This Row],[QTY]]*Table1[[#This Row],[S&L Price]]","v":0}]
[null,28,null,"Race for Your Life!",1,"The Indianapolis 500","eBook",null,"978-1-5382-5909-2",{"$f":"HYPERLINK(\"https://www.garethstevens.com/\"&Table1[[#This Row],[ISBN]],\"Weblink\")","v":"Weblink"},2021,"August 2020",null,null,"Author","Kate Mikoley",null,null,null,null,"J",null,"Grade 1 - 2","Grade 3 - 6","When it comes to car races, few events come close to being able to offer the excitement and notoriety of the Indianapolis 500. Since 1911, fans and drivers have flocked to Indianapolis Motor Speedway in Indiana for this intense event. Written at a low level, this captivating narrative gives readers an accessible and in-depth look at this popular event. Attention-grabbing photographs, interesting fact boxes, and informative text will satisfy your young race car enthusiasts.","English",26.6,19.95,"796.7206'877252--dc23","32 pp.",{"$f":"Table1[[#This Row],[QTY]]*Table1[[#This Row],['# Books]]","v":0},{"$f":"Table1[[#This Row],[QTY]]*Table1[[#This Row],[S&L Price]]","v":0}]
[null,28,null,"Race for Your Life!",1,"The Tour de France","Library Bound Book",null,"978-1-5382-5912-2",{"$f":"HYPERLINK(\"https://www.garethstevens.com/\"&Table1[[#This Row],[ISBN]],\"Weblink\")","v":"Weblink"},2021,"August 2020","Library","6.500 X 9.125","Author","Kate Mikoley",null,null,null,null,"J",null,"Grade 1 - 2","Grade 3 - 6","When it comes to bicycle races, the Tour de France is likely the first one to come to mind for many people. Considered the most difficult and the most esteemed bicycle race, it draws the greatest cyclists from around the world. Featuring captivating photographs and compelling text, this high-interest volume will hold the attention of developing and motivated readers alike. Engaging fact boxes and information about well-known athletes will make this resource a favorite amongst your readers.","English",26.6,19.95,"796.6'20944--dc23","32 pp.",{"$f":"Table1[[#This Row],[QTY]]*Table1[[#This Row],['# Books]]","v":0},{"$f":"Table1[[#This Row],[QTY]]*Table1[[#This Row],[S&L Price]]","v":0}]
[null,28,null,"Race for Your Life!",1,"The Tour de France","eBook",null,"978-1-5382-5913-9",{"$f":"HYPERLINK(\"https://www.garethstevens.com/\"&Table1[[#This Row],[ISBN]],\"Weblink\")","v":"Weblink"},2021,"August 2020",null,null,"Author","Kate Mikoley",null,null,null,null,"J",null,"Grade 1 - 2","Grade 3 - 6","When it comes to bicycle races, the Tour de France is likely the first one to come to mind for many people. Considered the most difficult and the most esteemed bicycle race, it draws the greatest cyclists from around the world. Featuring captivating photographs and compelling text, this high-interest volume will hold the attention of developing and motivated readers alike. Engaging fact boxes and information about well-known athletes will make this resource a favorite amongst your readers.","English",26.6,19.95,"796.6'20944--dc23","32 pp.",{"$f":"Table1[[#This Row],[QTY]]*Table1[[#This Row],['# Books]]","v":0},{"$f":"Table1[[#This Row],[QTY]]*Table1[[#This Row],[S&L Price]]","v":0}]
[null,29,null,"The Human Behind the Hero",6,"The Human Behind the Hero","Library Set",null,"978-1-5382-4906-2",{"$f":"HYPERLINK(\"https://www.garethstevens.com/\"&Table1[[#This Row],[ISBN]],\"Weblink\")","v":"Weblink"},2020,"January 2020","Library","6.500 X 9.125","","",null,null,null,null,null,null,"Grade 1 - 2","Grade 3 - 6","Most superheroes have an alter ego. Some, like Superman's Clark Kent, work a day job. Or, like Star-Lord's Peter Quill, they might fly around the galaxy when not saving it. But the superheroes on movie screens are played by talented men and women who work hard to look and sound exactly right to play both the hero and alter ego. This set takes readers behind the scenes of these actors' lives, from their beginnings on screen to the preparation they went through to become our favorite heroes. Full-color images showcase incredible transformations, costumes, and more. Features include: High-interest topic is written at a lower reading level for all readers to enjoy. Fact boxes give readers even more insight into the characters and actors they love. Includes a timeline of each actor's career.","English",159.6,119.7,null,"32 pp.",{"$f":"Table1[[#This Row],[QTY]]*Table1[[#This Row],['# Books]]","v":0},{"$f":"Table1[[#This Row],[QTY]]*Table1[[#This Row],[S&L Price]]","v":0}]
[null,29,null,"The Human Behind the Hero",1,"Brie Larson Is Captain Marvel®","Library Bound Book",null,"978-1-5382-4821-8",{"$f":"HYPERLINK(\"https://www.garethstevens.com/\"&Table1[[#This Row],[ISBN]],\"Weblink\")","v":"Weblink"},2020,"January 2020","Library","6.500 X 9.125","Author","Katie Kawa",null,null,null,null,"J",null,"Grade 1 - 2","Grade 3 - 6","Captain Marvel is one of the newest heroes to join the Marvel Cinematic Universe, but the actress who plays her isn't new to Hollywood. Brie Larson's journey from young actress to Oscar winner to superhero is presented through accessible text that even developing readers can independently enjoy. Additional details about this high-interest topic are found in eye-catching fact boxes, and a helpful timeline summarizes Larson's path to superhero superstardom. Featuring full-color photographs of this famous actress in action, this is a reading experience that superhero fans of all ages are sure to love.","English",26.6,19.95,"791.4302/8092--dc23","32 pp.",{"$f":"Table1[[#This Row],[QTY]]*Table1[[#This Row],['# Books]]","v":0},{"$f":"Table1[[#This Row],[QTY]]*Table1[[#This Row],[S&L Price]]","v":0}]
[null,29,null,"The Human Behind the Hero",1,"Brie Larson Is Captain Marvel®","eBook",null,"978-1-5382-4822-5",{"$f":"HYPERLINK(\"https://www.garethstevens.com/\"&Table1[[#This Row],[ISBN]],\"Weblink\")","v":"Weblink"},2020,"January 2020",null,null,"Author","Katie Kawa",null,null,null,null,"J",null,"Grade 1 - 2","Grade 3 - 6","Captain Marvel is one of the newest heroes to join the Marvel Cinematic Universe, but the actress who plays her isn't new to Hollywood. Brie Larson's journey from young actress to Oscar winner to superhero is presented through accessible text that even developing readers can independently enjoy. Additional details about this high-interest topic are found in eye-catching fact boxes, and a helpful timeline summarizes Larson's path to superhero superstardom. Featuring full-color photographs of this famous actress in action, this is a reading experience that superhero fans of all ages are sure to love.","English",26.6,19.95,"791.4302/8092--dc23","32 pp.",{"$f":"Table1[[#This Row],[QTY]]*Table1[[#This Row],['# Books]]","v":0},{"$f":"Table1[[#This Row],[QTY]]*Table1[[#This Row],[S&L Price]]","v":0}]
[null,29,null,"The Human Behind the Hero",1,"Chadwick Boseman Is Black Panther®","Library Bound Book",null,"978-1-5382-4825-6",{"$f":"HYPERLINK(\"https://www.garethstevens.com/\"&Table1[[#This Row],[ISBN]],\"Weblink\")","v":"Weblink"},2020,"January 2020","Library","6.500 X 9.125","Author","Katie Kawa",null,null,null,null,"J",null,"Grade 1 - 2","Grade 3 - 6","Black Panther is one of the most popular superhero films of all time, and its massive success helped its star become a household name. How did Chadwick Boseman get cast as this groundbreaking hero, and how did he prepare for this role? Readers discover the answers to these questions and more through simple text written at an achievable level for readers at a variety of ages. Full-color photographs of Boseman at work and on the red carpet are presented alongside this engaging narrative, and a helpful timeline and fun fact boxes provide additional information on this high-interest topic.","English",26.6,19.95,"791.4302/8092--dc23","32 pp.",{"$f":"Table1[[#This Row],[QTY]]*Table1[[#This Row],['# Books]]","v":0},{"$f":"Table1[[#This Row],[QTY]]*Table1[[#This Row],[S&L Price]]","v":0}]
[null,29,null,"The Human Behind the Hero",1,"Chadwick Boseman Is Black Panther®","eBook",null,"978-1-5382-4826-3",{"$f":"HYPERLINK(\"https://www.garethstevens.com/\"&Table1[[#This Row],[ISBN]],\"Weblink\")","v":"Weblink"},2020,"January 2020",null,null,"Author","Katie Kawa",null,null,null,null,"J",null,"Grade 1 - 2","Grade 3 - 6","Black Panther is one of the most popular superhero films of all time, and its massive success helped its star become a household name. How did Chadwick Boseman get cast as this groundbreaking hero, and how did he prepare for this role? Readers discover the answers to these questions and more through simple text written at an achievable level for readers at a variety of ages. Full-color photographs of Boseman at work and on the red carpet are presented alongside this engaging narrative, and a helpful timeline and fun fact boxes provide additional information on this high-interest topic.","English",26.6,19.95,"791.4302/8092--dc23","32 pp.",{"$f":"Table1[[#This Row],[QTY]]*Table1[[#This Row],['# Books]]","v":0},{"$f":"Table1[[#This Row],[QTY]]*Table1[[#This Row],[S&L Price]]","v":0}]
[null,29,null,"The Human Behind the Hero",1,"Chris Pratt Is Star-Lord®","Library Bound Book",null,"978-1-5382-4829-4",{"$f":"HYPERLINK(\"https://www.garethstevens.com/\"&Table1[[#This Row],[ISBN]],\"Weblink\")","v":"Weblink"},2020,"January 2020","Library","6.500 X 9.125","Author","Katie Kawa",null,null,null,null,"J",null,"Grade 1 - 2","Grade 3 - 6","It took a lot of hard work for Chris Pratt to transform into Peter Quill, also known as Star-Lord. Readers are sure to be entertained as they trace his path from humble beginnings to Guardian of the Galaxy. Exciting details about his training, his other projects, and his charity work are included in the main narrative and fact boxes. An informative timeline and full-color photographs give readers a behind-the-scenes look at the making of a superhero. Readers at a variety of levels will enjoy the way this high-interest topic is presented, using accessible language that encourages independent reading.","English",26.6,19.95,"791.4302/8092--dc23","32 pp.",{"$f":"Table1[[#This Row],[QTY]]*Table1[[#This Row],['# Books]]","v":0},{"$f":"Table1[[#This Row],[QTY]]*Table1[[#This Row],[S&L Price]]","v":0}]
[null,29,null,"The Human Behind the Hero",1,"Chris Pratt Is Star-Lord®","eBook",null,"978-1-5382-4830-0",{"$f":"HYPERLINK(\"https://www.garethstevens.com/\"&Table1[[#This Row],[ISBN]],\"Weblink\")","v":"Weblink"},2020,"January 2020",null,null,"Author","Katie Kawa",null,null,null,null,"J",null,"Grade 1 - 2","Grade 3 - 6","It took a lot of hard work for Chris Pratt to transform into Peter Quill, also known as Star-Lord. Readers are sure to be entertained as they trace his path from humble beginnings to Guardian of the Galaxy. Exciting details about his training, his other projects, and his charity work are included in the main narrative and fact boxes. An informative timeline and full-color photographs give readers a behind-the-scenes look at the making of a superhero. Readers at a variety of levels will enjoy the way this high-interest topic is presented, using accessible language that encourages independent reading.","English",26.6,19.95,"791.4302/8092--dc23","32 pp.",{"$f":"Table1[[#This Row],[QTY]]*Table1[[#This Row],['# Books]]","v":0},{"$f":"Table1[[#This Row],[QTY]]*Table1[[#This Row],[S&L Price]]","v":0}]
[null,29,null,"The Human Behind the Hero",1,"Gal Gadot Is Wonder Woman®","Library Bound Book",null,"978-1-5382-4833-1",{"$f":"HYPERLINK(\"https://www.garethstevens.com/\"&Table1[[#This Row],[ISBN]],\"Weblink\")","v":"Weblink"},2020,"January 2020","Library","6.500 X 9.125","Author","Katie Kawa",null,null,null,null,"J",null,"Grade 1 - 2","Grade 3 - 6","Wonder Woman was a groundbreaking superhero film that inspired women around the world, and its star has become a role model for many. The story of how Gal Gadot became Wonder Woman and what she has done since first picking up her shield and lasso will excite readers of all ages. Written at a low reading level to appeal to developing readers, this high-interest biography encourages independent reading through its achievable main text. Fun fact boxes, a helpful timeline, and full-color photographs add to this inspiring reading experience.","English",26.6,19.95,"791.4302/8092--dc23","32 pp.",{"$f":"Table1[[#This Row],[QTY]]*Table1[[#This Row],['# Books]]","v":0},{"$f":"Table1[[#This Row],[QTY]]*Table1[[#This Row],[S&L Price]]","v":0}]
[null,29,null,"The Human Behind the Hero",1,"Gal Gadot Is Wonder Woman®","eBook",null,"978-1-5382-4834-8",{"$f":"HYPERLINK(\"https://www.garethstevens.com/\"&Table1[[#This Row],[ISBN]],\"Weblink\")","v":"Weblink"},2020,"January 2020",null,null,"Author","Katie Kawa",null,null,null,null,"J",null,"Grade 1 - 2","Grade 3 - 6","Wonder Woman was a groundbreaking superhero film that inspired women around the world, and its star has become a role model for many. The story of how Gal Gadot became Wonder Woman and what she has done since first picking up her shield and lasso will excite readers of all ages. Written at a low reading level to appeal to developing readers, this high-interest biography encourages independent reading through its achievable main text. Fun fact boxes, a helpful timeline, and full-color photographs add to this inspiring reading experience.","English",26.6,19.95,"791.4302/8092--dc23","32 pp.",{"$f":"Table1[[#This Row],[QTY]]*Table1[[#This Row],['# Books]]","v":0},{"$f":"Table1[[#This Row],[QTY]]*Table1[[#This Row],[S&L Price]]","v":0}]
[null,29,null,"The Human Behind the Hero",1,"Scarlett Johansson Is Black Widow®","Library Bound Book",null,"978-1-5382-4837-9",{"$f":"HYPERLINK(\"https://www.garethstevens.com/\"&Table1[[#This Row],[ISBN]],\"Weblink\")","v":"Weblink"},2020,"January 2020","Library","6.500 X 9.125","Author","Katie Kawa",null,null,null,null,"J",null,"Grade 1 - 2","Grade 3 - 6","The woman who has played Black Widow for more than 10 years has a devoted following of fans. This engaging and accessible biography is written with those fans in mind, as well as readers who are looking for a fun introduction to the world of superheroes. The achievable reading level makes this high-interest topic accessible for a wide variety of readers, and the full-color photographs appeal to readers who are interested in a look behind the scenes of their favorite movies. Additional information about Johansson's life and career are presented through fun facts boxes and a comprehensive timeline.","English",26.6,19.95,"791.4302'8092--dc23","32 pp.",{"$f":"Table1[[#This Row],[QTY]]*Table1[[#This Row],['# Books]]","v":0},{"$f":"Table1[[#This Row],[QTY]]*Table1[[#This Row],[S&L Price]]","v":0}]
[null,29,null,"The Human Behind the Hero",1,"Scarlett Johansson Is Black Widow®","eBook",null,"978-1-5382-4838-6",{"$f":"HYPERLINK(\"https://www.garethstevens.com/\"&Table1[[#This Row],[ISBN]],\"Weblink\")","v":"Weblink"},2020,"January 2020",null,null,"Author","Katie Kawa",null,null,null,null,"J",null,"Grade 1 - 2","Grade 3 - 6","The woman who has played Black Widow for more than 10 years has a devoted following of fans. This engaging and accessible biography is written with those fans in mind, as well as readers who are looking for a fun introduction to the world of superheroes. The achievable reading level makes this high-interest topic accessible for a wide variety of readers, and the full-color photographs appeal to readers who are interested in a look behind the scenes of their favorite movies. Additional information about Johansson's life and career are presented through fun facts boxes and a comprehensive timeline.","English",26.6,19.95,"791.4302'8092--dc23","32 pp.",{"$f":"Table1[[#This Row],[QTY]]*Table1[[#This Row],['# Books]]","v":0},{"$f":"Table1[[#This Row],[QTY]]*Table1[[#This Row],[S&L Price]]","v":0}]
[null,29,null,"The Human Behind the Hero",1,"Tom Holland Is Spider-Man®","Library Bound Book",null,"978-1-5382-4841-6",{"$f":"HYPERLINK(\"https://www.garethstevens.com/\"&Table1[[#This Row],[ISBN]],\"Weblink\")","v":"Weblink"},2020,"January 2020","Library","6.500 X 9.125","Author","Katie Kawa",null,null,null,null,"J",null,"Grade 1 - 2","Grade 3 - 6","Tom Holland is the latest actor to step into Peter Parker's shoes. How was he chosen to play the latest version of Spider-Man, and what kind of training did he do to prepare for this exciting role? As readers discover the answers to these questions, they learn how hard work and a positive attitude can take a young person to the heights of superhero superstardom. The combination of this biography's high-interest topic and achievable reading level will appeal to a wide range of readers. In addition, fact boxes, a timeline, and full-color photographs keep readers entertained as they learn.","English",26.6,19.95,"791.4302'8092--dc23","32 pp.",{"$f":"Table1[[#This Row],[QTY]]*Table1[[#This Row],['# Books]]","v":0},{"$f":"Table1[[#This Row],[QTY]]*Table1[[#This Row],[S&L Price]]","v":0}]
[null,29,null,"The Human Behind the Hero",1,"Tom Holland Is Spider-Man®","eBook",null,"978-1-5382-4842-3",{"$f":"HYPERLINK(\"https://www.garethstevens.com/\"&Table1[[#This Row],[ISBN]],\"Weblink\")","v":"Weblink"},2020,"January 2020",null,null,"Author","Katie Kawa",null,null,null,null,"J",null,"Grade 1 - 2","Grade 3 - 6","Tom Holland is the latest actor to step into Peter Parker's shoes. How was he chosen to play the latest version of Spider-Man, and what kind of training did he do to prepare for this exciting role? As readers discover the answers to these questions, they learn how hard work and a positive attitude can take a young person to the heights of superhero superstardom. The combination of this biography's high-interest topic and achievable reading level will appeal to a wide range of readers. In addition, fact boxes, a timeline, and full-color photographs keep readers entertained as they learn.","English",26.6,19.95,"791.4302'8092--dc23","32 pp.",{"$f":"Table1[[#This Row],[QTY]]*Table1[[#This Row],['# Books]]","v":0},{"$f":"Table1[[#This Row],[QTY]]*Table1[[#This Row],[S&L Price]]","v":0}]
[null,30,null,"Fun Fact File",96,"Fun Fact File: Complete Set","Library Set",null,"978-1-5382-5993-1",{"$f":"HYPERLINK(\"https://www.garethstevens.com/\"&Table1[[#This Row],[ISBN]],\"Weblink\")","v":"Weblink"},2021,"August 2020","Library","8.500 X 8.500","","",null,null,null,null,null,null,"Grade 2 - 3","Grade 2 - 5","From sports and science to history and famous places around the world, the books in this popular collection cover a wide range of topics. Each volume is packed full of captivating facts that inquisitive readers will enjoy learning. They'll want to share details with friends and family. An appealing format keeps developing readers engaged, while vibrant photographs bring unique details into focus. Eye-catching charts, maps, and diagrams reinforce key ideas and introduce more fun facts that curious readers will be thrilled to learn. Features include: Key science and social studies topics are presented in an easy-to-understand format. Full-color photographs make learning about each subject fun and exciting. Graphic organizers help readers develop a stronger understanding of the content.","English",2462.4,1841.64,null,"32 pp.",{"$f":"Table1[[#This Row],[QTY]]*Table1[[#This Row],['# Books]]","v":0},{"$f":"Table1[[#This Row],[QTY]]*Table1[[#This Row],[S&L Price]]","v":0}]
[null,30,null,"Fun Fact File: North American Animals",6,"Fun Fact File: North American Animals","Library Set",null,"978-1-5382-5992-4",{"$f":"HYPERLINK(\"https://www.garethstevens.com/\"&Table1[[#This Row],[ISBN]],\"Weblink\")","v":"Weblink"},2021,"August 2020","Library","8.500 X 8.500","","",null,null,null,null,null,null,"Grade 2 - 3","Grade 2 - 5","North America is home to many fascinating animals, from bald eagles to bullfrogs. These stimulating volumes offer a fun way to learn about some of the many animals living on the world's third largest continent. Readers may know that rattlesnakes are venomous, but they might not know how they get their rattles. This is just one piece of interesting information this enriching set has to offer. Colorful photographs and easy-to-comprehend sections of text will keep readers of many levels turning the pages. Features include: Supports key aspects of the elementary science curriculum. Attention-grabbing photographs provide up-close views of animals. Graphic organizers aid in comprehension of important concepts.","English",155.69999999999999,113.7,null,"32 pp.",{"$f":"Table1[[#This Row],[QTY]]*Table1[[#This Row],['# Books]]","v":0},{"$f":"Table1[[#This Row],[QTY]]*Table1[[#This Row],[S&L Price]]","v":0}]
[null,30,null,"Fun Fact File: North American Animals",1,"20 Fun Facts About Bald Eagles","Library Bound Book",null,"978-1-5382-5745-6",{"$f":"HYPERLINK(\"https://www.garethstevens.com/\"&Table1[[#This Row],[ISBN]],\"Weblink\")","v":"Weblink"},2021,"August 2020","Library","8.500 X 8.500","Author","Shannon H. Harts",null,null,null,null,"N",null,"Grade 2 - 3","Grade 2 - 5","The bald eagle is a familiar symbol of the United States, but these birds boast many other incredible features, including three eyelids and the ability to swoop down and catch prey at speeds of 100 miles per hour. These and other fascinating facts will keep readers engaged as they learn important information about the national bird of the United States. Stunning photographs and intriguing graphic organizers enhance informative text about bald eagle habitats, behaviors, adaptations, and conservation. The science and trivia in this book will make readers feel impressed by these remarkable raptors.","English",25.95,18.95,"598.9/43--dc23","32 pp.",{"$f":"Table1[[#This Row],[QTY]]*Table1[[#This Row],['# Books]]","v":0},{"$f":"Table1[[#This Row],[QTY]]*Table1[[#This Row],[S&L Price]]","v":0}]
[null,30,null,"Fun Fact File: North American Animals",1,"20 Fun Facts About Bald Eagles","eBook",null,"978-1-5382-5746-3",{"$f":"HYPERLINK(\"https://www.garethstevens.com/\"&Table1[[#This Row],[ISBN]],\"Weblink\")","v":"Weblink"},2021,"August 2020",null,null,"Author","Shannon H. Harts",null,null,null,null,"N",null,"Grade 2 - 3","Grade 2 - 5","The bald eagle is a familiar symbol of the United States, but these birds boast many other incredible features, including three eyelids and the ability to swoop down and catch prey at speeds of 100 miles per hour. These and other fascinating facts will keep readers engaged as they learn important information about the national bird of the United States. Stunning photographs and intriguing graphic organizers enhance informative text about bald eagle habitats, behaviors, adaptations, and conservation. The science and trivia in this book will make readers feel impressed by these remarkable raptors.","English",25.95,18.95,"598.9/43--dc23","32 pp.",{"$f":"Table1[[#This Row],[QTY]]*Table1[[#This Row],['# Books]]","v":0},{"$f":"Table1[[#This Row],[QTY]]*Table1[[#This Row],[S&L Price]]","v":0}]
[null,30,null,"Fun Fact File: North American Animals",1,"20 Fun Facts About Beavers","Library Bound Book",null,"978-1-5382-5762-3",{"$f":"HYPERLINK(\"https://www.garethstevens.com/\"&Table1[[#This Row],[ISBN]],\"Weblink\")","v":"Weblink"},2021,"August 2020","Library","8.500 X 8.500","Author","Charlie Light",null,null,null,null,"N",null,"Grade 2 - 3","Grade 2 - 5","Wetlands are home to all kinds of lush wildlife, but who makes this habitat possible? Readers will meet nature's lumberjack and architect. They'll learn about the beaver's habitats, diet, adaptations, and about the vital role that beavers play in wetland ecosystems. This accessible narrative is formatted into 20 fun fact sections accompanied by captivating photographs and graphic organizers. It will encourage a passion for protecting the environment and the creatures who build it, one dam at a time.","English",25.95,18.95,"599.37--dc23","32 pp.",{"$f":"Table1[[#This Row],[QTY]]*Table1[[#This Row],['# Books]]","v":0},{"$f":"Table1[[#This Row],[QTY]]*Table1[[#This Row],[S&L Price]]","v":0}]
[null,30,null,"Fun Fact File: North American Animals",1,"20 Fun Facts About Beavers","eBook",null,"978-1-5382-5763-0",{"$f":"HYPERLINK(\"https://www.garethstevens.com/\"&Table1[[#This Row],[ISBN]],\"Weblink\")","v":"Weblink"},2021,"August 2020",null,null,"Author","Charlie Light",null,null,null,null,"N",null,"Grade 2 - 3","Grade 2 - 5","Wetlands are home to all kinds of lush wildlife, but who makes this habitat possible? Readers will meet nature's lumberjack and architect. They'll learn about the beaver's habitats, diet, adaptations, and about the vital role that beavers play in wetland ecosystems. This accessible narrative is formatted into 20 fun fact sections accompanied by captivating photographs and graphic organizers. It will encourage a passion for protecting the environment and the creatures who build it, one dam at a time.","English",25.95,18.95,"599.37--dc23","32 pp.",{"$f":"Table1[[#This Row],[QTY]]*Table1[[#This Row],['# Books]]","v":0},{"$f":"Table1[[#This Row],[QTY]]*Table1[[#This Row],[S&L Price]]","v":0}]
[null,30,null,"Fun Fact File: North American Animals",1,"20 Fun Facts About Bullfrogs","Library Bound Book",null,"978-1-5382-5758-6",{"$f":"HYPERLINK(\"https://www.garethstevens.com/\"&Table1[[#This Row],[ISBN]],\"Weblink\")","v":"Weblink"},2021,"August 2020","Library","8.500 X 8.500","Author","Therese M. Shea",null,null,null,null,"N",null,"Grade 2 - 3","Grade 2 - 5","If you were a bullfrog, you could have as many as 20,000 siblings, and you wouldn't have a problem eating them! Readers will love learning about these cold-blooded amphibians through the 20 most odd and interesting facts about their adaptations, life cycle, behaviors, and more. Carefully selected photographs support the accessible text and display bullfrogs in their native habitats. Beneficial graphic organizers help summarize the most essential information about bullfrogs for budding herpetologists.","English",25.95,18.95,"597.8/92--dc23","32 pp.",{"$f":"Table1[[#This Row],[QTY]]*Table1[[#This Row],['# Books]]","v":0},{"$f":"Table1[[#This Row],[QTY]]*Table1[[#This Row],[S&L Price]]","v":0}]
[null,30,null,"Fun Fact File: North American Animals",1,"20 Fun Facts About Bullfrogs","eBook",null,"978-1-5382-5759-3",{"$f":"HYPERLINK(\"https://www.garethstevens.com/\"&Table1[[#This Row],[ISBN]],\"Weblink\")","v":"Weblink"},2021,"August 2020",null,null,"Author","Therese M. Shea",null,null,null,null,"N",null,"Grade 2 - 3","Grade 2 - 5","If you were a bullfrog, you could have as many as 20,000 siblings, and you wouldn't have a problem eating them! Readers will love learning about these cold-blooded amphibians through the 20 most odd and interesting facts about their adaptations, life cycle, behaviors, and more. Carefully selected photographs support the accessible text and display bullfrogs in their native habitats. Beneficial graphic organizers help summarize the most essential information about bullfrogs for budding herpetologists.","English",25.95,18.95,"597.8/92--dc23","32 pp.",{"$f":"Table1[[#This Row],[QTY]]*Table1[[#This Row],['# Books]]","v":0},{"$f":"Table1[[#This Row],[QTY]]*Table1[[#This Row],[S&L Price]]","v":0}]
[null,30,null,"Fun Fact File: North American Animals",1,"20 Fun Facts About Coyotes","Library Bound Book",null,"978-1-5382-5750-0",{"$f":"HYPERLINK(\"https://www.garethstevens.com/\"&Table1[[#This Row],[ISBN]],\"Weblink\")","v":"Weblink"},2021,"August 2020","Library","8.500 X 8.500","Author","Charlie Light",null,null,null,null,"N",null,"Grade 2 - 3","Grade 2 - 5","What's that howling in the night? Is it a neighborhood dog, or maybe a wolf? No, it's a coyote! Readers will meet the mysterious coyote, the canine unique to North and South America. They'll learn incredible facts about these clever creatures, such as that they are likely the first animals ever domesticated by humans. They'll review coyote habitats, adaptations, diet, and other key information about this highly intelligent species. Vivid photographs and graphic organizers support this adventurous narrative.","English",25.95,18.95,"599.77/25--dc23","32 pp.",{"$f":"Table1[[#This Row],[QTY]]*Table1[[#This Row],['# Books]]","v":0},{"$f":"Table1[[#This Row],[QTY]]*Table1[[#This Row],[S&L Price]]","v":0}]
[null,30,null,"Fun Fact File: North American Animals",1,"20 Fun Facts About Coyotes","eBook",null,"978-1-5382-5751-7",{"$f":"HYPERLINK(\"https://www.garethstevens.com/\"&Table1[[#This Row],[ISBN]],\"Weblink\")","v":"Weblink"},2021,"August 2020",null,null,"Author","Charlie Light",null,null,null,null,"N",null,"Grade 2 - 3","Grade 2 - 5","What's that howling in the night? Is it a neighborhood dog, or maybe a wolf? No, it's a coyote! Readers will meet the mysterious coyote, the canine unique to North and South America. They'll learn incredible facts about these clever creatures, such as that they are likely the first animals ever domesticated by humans. They'll review coyote habitats, adaptations, diet, and other key information about this highly intelligent species. Vivid photographs and graphic organizers support this adventurous narrative.","English",25.95,18.95,"599.77/25--dc23","32 pp.",{"$f":"Table1[[#This Row],[QTY]]*Table1[[#This Row],['# Books]]","v":0},{"$f":"Table1[[#This Row],[QTY]]*Table1[[#This Row],[S&L Price]]","v":0}]
[null,30,null,"Fun Fact File: North American Animals",1,"20 Fun Facts About Monarch Butterflies","Library Bound Book",null,"978-1-5382-5768-5",{"$f":"HYPERLINK(\"https://www.garethstevens.com/\"&Table1[[#This Row],[ISBN]],\"Weblink\")","v":"Weblink"},2021,"August 2020","Library","8.500 X 8.500","Author","Vanessa Oswald",null,null,null,null,"N",null,"Grade 2 - 3","Grade 2 - 5","Monarch butterflies are among the most recognized butterflies in the world due to their unique coloring. They also go on a migration journey that can be more than 2,000 miles long. Readers will explore the life of the monarch butterfly and learn fun facts. Age-appropriate text is paired with eye-catching photographs that hold readers' attention. Engaging diagrams and a useful glossary present this elementary life science topic in a way that is easy for young readers to understand.","English",25.95,18.95,"595.78/9--dc23","32 pp.",{"$f":"Table1[[#This Row],[QTY]]*Table1[[#This Row],['# Books]]","v":0},{"$f":"Table1[[#This Row],[QTY]]*Table1[[#This Row],[S&L Price]]","v":0}]
[null,30,null,"Fun Fact File: North American Animals",1,"20 Fun Facts About Monarch Butterflies","eBook",null,"978-1-5382-5769-2",{"$f":"HYPERLINK(\"https://www.garethstevens.com/\"&Table1[[#This Row],[ISBN]],\"Weblink\")","v":"Weblink"},2021,"August 2020",null,null,"Author","Vanessa Oswald",null,null,null,null,"N",null,"Grade 2 - 3","Grade 2 - 5","Monarch butterflies are among the most recognized butterflies in the world due to their unique coloring. They also go on a migration journey that can be more than 2,000 miles long. Readers will explore the life of the monarch butterfly and learn fun facts. Age-appropriate text is paired with eye-catching photographs that hold readers' attention. Engaging diagrams and a useful glossary present this elementary life science topic in a way that is easy for young readers to understand.","English",25.95,18.95,"595.78/9--dc23","32 pp.",{"$f":"Table1[[#This Row],[QTY]]*Table1[[#This Row],['# Books]]","v":0},{"$f":"Table1[[#This Row],[QTY]]*Table1[[#This Row],[S&L Price]]","v":0}]
[null,30,null,"Fun Fact File: North American Animals",1,"20 Fun Facts About Rattlesnakes","Library Bound Book",null,"978-1-5382-5754-8",{"$f":"HYPERLINK(\"https://www.garethstevens.com/\"&Table1[[#This Row],[ISBN]],\"Weblink\")","v":"Weblink"},2021,"August 2020","Library","8.500 X 8.500","Author","Natalie Humphrey",null,null,null,null,"N",null,"Grade 2 - 3","Grade 2 - 5","Rattlesnakes are one of the most specialized and evolved snakes in the world and they're found mainly in North America. Your young explorers will discover how the rattlesnake makes its trademark rattle and how different kinds of rattlesnakes around the continent use this sound to stay safe. With photographs of rattlesnakes in the wild paired with specialized text, this high-interest book is perfect for the eager young herpetologist.","English",25.95,18.95,"597.96/38--dc23","32 pp.",{"$f":"Table1[[#This Row],[QTY]]*Table1[[#This Row],['# Books]]","v":0},{"$f":"Table1[[#This Row],[QTY]]*Table1[[#This Row],[S&L Price]]","v":0}]
[null,30,null,"Fun Fact File: North American Animals",1,"20 Fun Facts About Rattlesnakes","eBook",null,"978-1-5382-5755-5",{"$f":"HYPERLINK(\"https://www.garethstevens.com/\"&Table1[[#This Row],[ISBN]],\"Weblink\")","v":"Weblink"},2021,"August 2020",null,null,"Author","Natalie Humphrey",null,null,null,null,"N",null,"Grade 2 - 3","Grade 2 - 5","Rattlesnakes are one of the most specialized and evolved snakes in the world and they're found mainly in North America. Your young explorers will discover how the rattlesnake makes its trademark rattle and how different kinds of rattlesnakes around the continent use this sound to stay safe. With photographs of rattlesnakes in the wild paired with specialized text, this high-interest book is perfect for the eager young herpetologist.","English",25.95,18.95,"597.96/38--dc23","32 pp.",{"$f":"Table1[[#This Row],[QTY]]*Table1[[#This Row],['# Books]]","v":0},{"$f":"Table1[[#This Row],[QTY]]*Table1[[#This Row],[S&L Price]]","v":0}]
[null,31,79,"Fun Fact File: Engineering Marvels",6,"Fun Fact File: Engineering Marvels","Library Set",null,"978-1-5382-4897-3",{"$f":"HYPERLINK(\"https://www.garethstevens.com/\"&Table1[[#This Row],[ISBN]],\"Weblink\")","v":"Weblink"},2020,"January 2020","Library","8.500 X 8.500","","",null,null,null,null,null,null,"Grade 2 - 3","Grade 2 - 5","Some feats of engineering are truly astonishing. Bridges that span the widest rivers, railroads that cross nations, subways that shuttle millions, and canals that connect oceans are just a few of the marvels discussed in this continuation of our ever-popular series. Pertinent historical information and engineering details are revealed through the many fun facts in these fascinating volumes. Helpful graphic organizers and breathtaking photographs reinforce and enhance the accessible texts. Features include: Facts with high-interest appeal. Carefully crafted texts support social studies, history, and STEM subject matter. Supports reading and comprehending informational texts with proficiency, which is a basic standard of the English Language Arts Common Core.","English",155.69999999999999,113.7,null,"32 pp.",{"$f":"Table1[[#This Row],[QTY]]*Table1[[#This Row],['# Books]]","v":0},{"$f":"Table1[[#This Row],[QTY]]*Table1[[#This Row],[S&L Price]]","v":0}]
[null,31,79,"Fun Fact File: Engineering Marvels",1,"20 Fun Facts About Famous Bridges","Library Bound Book",null,"978-1-5382-4652-8",{"$f":"HYPERLINK(\"https://www.garethstevens.com/\"&Table1[[#This Row],[ISBN]],\"Weblink\")","v":"Weblink"},2020,"January 2020","Library","8.500 X 8.500","Author","Caitie McAneney",null,null,null,null,"M",null,"Grade 2 - 3","Grade 2 - 5","Bridges are more than just a way to get from place to place; they are amazing feats of engineering. From the longest bridges to the oldest bridges, sea bridges to landmark bridges, these engineering marvels have helped to shape our world. Brilliant photographs and graphic organizers, paired with exciting fun facts, will entertain and educate readers. Young engineers will learn about the science behind bridges, the obstacles of construction, and successes in bridge technology from ancient times until today.","English",25.95,18.95,"624.2--dc23","32 pp.",{"$f":"Table1[[#This Row],[QTY]]*Table1[[#This Row],['# Books]]","v":0},{"$f":"Table1[[#This Row],[QTY]]*Table1[[#This Row],[S&L Price]]","v":0}]
[null,31,79,"Fun Fact File: Engineering Marvels",1,"20 Fun Facts About Famous Bridges","eBook",null,"978-1-5382-4653-5",{"$f":"HYPERLINK(\"https://www.garethstevens.com/\"&Table1[[#This Row],[ISBN]],\"Weblink\")","v":"Weblink"},2020,"January 2020",null,null,"Author","Caitie McAneney",null,null,null,null,"M",null,"Grade 2 - 3","Grade 2 - 5","Bridges are more than just a way to get from place to place; they are amazing feats of engineering. From the longest bridges to the oldest bridges, sea bridges to landmark bridges, these engineering marvels have helped to shape our world. Brilliant photographs and graphic organizers, paired with exciting fun facts, will entertain and educate readers. Young engineers will learn about the science behind bridges, the obstacles of construction, and successes in bridge technology from ancient times until today.","English",25.95,18.95,"624.2--dc23","32 pp.",{"$f":"Table1[[#This Row],[QTY]]*Table1[[#This Row],['# Books]]","v":0},{"$f":"Table1[[#This Row],[QTY]]*Table1[[#This Row],[S&L Price]]","v":0}]
[null,31,79,"Fun Fact File: Engineering Marvels",1,"20 Fun Facts About Famous Canals and Seaways","Library Bound Book",null,"978-1-5382-4656-6",{"$f":"HYPERLINK(\"https://www.garethstevens.com/\"&Table1[[#This Row],[ISBN]],\"Weblink\")","v":"Weblink"},2020,"January 2020","Library","8.500 X 8.500","Author","Caitie McAneney",null,null,null,null,"M",null,"Grade 2 - 3","Grade 2 - 5","Canals and seaways have opened our world to further travel, trade, and exploration. This book introduces readers to famous canals and seaways around the globe, from the Panama Canal to the Saint Lawrence Seaway. These engineering marvels have reshaped the landscape and the economies of their regions. Eye-catching photographs and fun facts will grab the attention of readers, especially aspiring engineers, as they learn all about the amazing man-made waterways of our world.","English",25.95,18.95,"627/.13--dc23","32 pp.",{"$f":"Table1[[#This Row],[QTY]]*Table1[[#This Row],['# Books]]","v":0},{"$f":"Table1[[#This Row],[QTY]]*Table1[[#This Row],[S&L Price]]","v":0}]
[null,31,79,"Fun Fact File: Engineering Marvels",1,"20 Fun Facts About Famous Canals and Seaways","eBook",null,"978-1-5382-4657-3",{"$f":"HYPERLINK(\"https://www.garethstevens.com/\"&Table1[[#This Row],[ISBN]],\"Weblink\")","v":"Weblink"},2020,"January 2020",null,null,"Author","Caitie McAneney",null,null,null,null,"M",null,"Grade 2 - 3","Grade 2 - 5","Canals and seaways have opened our world to further travel, trade, and exploration. This book introduces readers to famous canals and seaways around the globe, from the Panama Canal to the Saint Lawrence Seaway. These engineering marvels have reshaped the landscape and the economies of their regions. Eye-catching photographs and fun facts will grab the attention of readers, especially aspiring engineers, as they learn all about the amazing man-made waterways of our world.","English",25.95,18.95,"627/.13--dc23","32 pp.",{"$f":"Table1[[#This Row],[QTY]]*Table1[[#This Row],['# Books]]","v":0},{"$f":"Table1[[#This Row],[QTY]]*Table1[[#This Row],[S&L Price]]","v":0}]
[null,31,79,"Fun Fact File: Engineering Marvels",1,"20 Fun Facts About Famous Railroads","Library Bound Book",null,"978-1-5382-4660-3",{"$f":"HYPERLINK(\"https://www.garethstevens.com/\"&Table1[[#This Row],[ISBN]],\"Weblink\")","v":"Weblink"},2020,"January 2020","Library","8.500 X 8.500","Author","Therese M. Shea",null,null,null,null,"M",null,"Grade 2 - 3","Grade 2 - 5","Some railroads are known for their place in history, such as the American transcontinental railroad. Others are known for their arresting scenic views, such as the Ukrainian Tunnel of Love. Still others are famous for their record-breaking length, like Russia's Trans-Siberian Railroad. Readers will gain an appreciation for railroads around the globe in this exciting compilation of facts about famous trains and railways. Attention-grabbing photographs and helpful graphic organizers accompany the interesting and accessible narrative.","English",25.95,18.95,"625.1--dc23","32 pp.",{"$f":"Table1[[#This Row],[QTY]]*Table1[[#This Row],['# Books]]","v":0},{"$f":"Table1[[#This Row],[QTY]]*Table1[[#This Row],[S&L Price]]","v":0}]
[null,31,79,"Fun Fact File: Engineering Marvels",1,"20 Fun Facts About Famous Railroads","eBook",null,"978-1-5382-4661-0",{"$f":"HYPERLINK(\"https://www.garethstevens.com/\"&Table1[[#This Row],[ISBN]],\"Weblink\")","v":"Weblink"},2020,"January 2020",null,null,"Author","Therese M. Shea",null,null,null,null,"M",null,"Grade 2 - 3","Grade 2 - 5","Some railroads are known for their place in history, such as the American transcontinental railroad. Others are known for their arresting scenic views, such as the Ukrainian Tunnel of Love. Still others are famous for their record-breaking length, like Russia's Trans-Siberian Railroad. Readers will gain an appreciation for railroads around the globe in this exciting compilation of facts about famous trains and railways. Attention-grabbing photographs and helpful graphic organizers accompany the interesting and accessible narrative.","English",25.95,18.95,"625.1--dc23","32 pp.",{"$f":"Table1[[#This Row],[QTY]]*Table1[[#This Row],['# Books]]","v":0},{"$f":"Table1[[#This Row],[QTY]]*Table1[[#This Row],[S&L Price]]","v":0}]
[null,31,79,"Fun Fact File: Engineering Marvels",1,"20 Fun Facts About Famous Roads and Highways","Library Bound Book",null,"978-1-5382-4664-1",{"$f":"HYPERLINK(\"https://www.garethstevens.com/\"&Table1[[#This Row],[ISBN]],\"Weblink\")","v":"Weblink"},2020,"January 2020","Library","8.500 X 8.500","Author","Kate Light",null,null,null,null,"L",null,"Grade 2 - 3","Grade 2 - 5","Buckle up for brutal switchbacks, perilous plunges, stupendous speeds, and ludicrous lengths! This ride of a lifetime will transport readers down famous roads and highways all over the globe. They'll explore engineering marvels from the iconic Route 66 to record-breaking roads. They'll learn about the design behind the fastest, longest, and steepest roads, and marvel at the strangest roads ever built. Stunning photographs of these epic roads and highways will captivate and engage readers. Summarized in easily digestible fun facts, this accessible narrative also introduces readers to STEM-related curricula.","English",25.95,18.95,"388.1--dc23","32 pp.",{"$f":"Table1[[#This Row],[QTY]]*Table1[[#This Row],['# Books]]","v":0},{"$f":"Table1[[#This Row],[QTY]]*Table1[[#This Row],[S&L Price]]","v":0}]
[null,31,79,"Fun Fact File: Engineering Marvels",1,"20 Fun Facts About Famous Roads and Highways","eBook",null,"978-1-5382-4665-8",{"$f":"HYPERLINK(\"https://www.garethstevens.com/\"&Table1[[#This Row],[ISBN]],\"Weblink\")","v":"Weblink"},2020,"January 2020",null,null,"Author","Kate Light",null,null,null,null,"L",null,"Grade 2 - 3","Grade 2 - 5","Buckle up for brutal switchbacks, perilous plunges, stupendous speeds, and ludicrous lengths! This ride of a lifetime will transport readers down famous roads and highways all over the globe. They'll explore engineering marvels from the iconic Route 66 to record-breaking roads. They'll learn about the design behind the fastest, longest, and steepest roads, and marvel at the strangest roads ever built. Stunning photographs of these epic roads and highways will captivate and engage readers. Summarized in easily digestible fun facts, this accessible narrative also introduces readers to STEM-related curricula.","English",25.95,18.95,"388.1--dc23","32 pp.",{"$f":"Table1[[#This Row],[QTY]]*Table1[[#This Row],['# Books]]","v":0},{"$f":"Table1[[#This Row],[QTY]]*Table1[[#This Row],[S&L Price]]","v":0}]
[null,31,79,"Fun Fact File: Engineering Marvels",1,"20 Fun Facts About Famous Subways","Library Bound Book",null,"978-1-5382-4668-9",{"$f":"HYPERLINK(\"https://www.garethstevens.com/\"&Table1[[#This Row],[ISBN]],\"Weblink\")","v":"Weblink"},2020,"January 2020","Library","8.500 X 8.500","Author, Author","Jonathan Bard, Mariel Bard",null,null,null,null,"M",null,"Grade 2 - 3","Grade 2 - 5","Deep underground, below the bustling streets of cities big and small all around the world, subway trains shuttle passengers to their destinations. From the world's oldest subway in London, built in 1847, to the extremely busy Tokyo subway with over 200 stations, subways have been and continue to be a huge part of the daily lives of millions of people. This lively volume explores the engineering marvels of subway systems, which have a history as surprising as the twists and turns of a subway's tracks.","English",25.95,18.95,"625.4'2--dc23","32 pp.",{"$f":"Table1[[#This Row],[QTY]]*Table1[[#This Row],['# Books]]","v":0},{"$f":"Table1[[#This Row],[QTY]]*Table1[[#This Row],[S&L Price]]","v":0}]
[null,31,79,"Fun Fact File: Engineering Marvels",1,"20 Fun Facts About Famous Subways","eBook",null,"978-1-5382-4669-6",{"$f":"HYPERLINK(\"https://www.garethstevens.com/\"&Table1[[#This Row],[ISBN]],\"Weblink\")","v":"Weblink"},2020,"January 2020",null,null,"Author, Author","Jonathan Bard, Mariel Bard",null,null,null,null,"M",null,"Grade 2 - 3","Grade 2 - 5","Deep underground, below the bustling streets of cities big and small all around the world, subway trains shuttle passengers to their destinations. From the world's oldest subway in London, built in 1847, to the extremely busy Tokyo subway with over 200 stations, subways have been and continue to be a huge part of the daily lives of millions of people. This lively volume explores the engineering marvels of subway systems, which have a history as surprising as the twists and turns of a subway's tracks.","English",25.95,18.95,"625.4'2--dc23","32 pp.",{"$f":"Table1[[#This Row],[QTY]]*Table1[[#This Row],['# Books]]","v":0},{"$f":"Table1[[#This Row],[QTY]]*Table1[[#This Row],[S&L Price]]","v":0}]
[null,31,79,"Fun Fact File: Engineering Marvels",1,"20 Fun Facts About Famous Tunnels","Library Bound Book",null,"978-1-5382-4672-6",{"$f":"HYPERLINK(\"https://www.garethstevens.com/\"&Table1[[#This Row],[ISBN]],\"Weblink\")","v":"Weblink"},2020,"January 2020","Library","8.500 X 8.500","Author","Kate Light",null,null,null,null,"L",null,"Grade 2 - 3","Grade 2 - 5","Creepy catacombs, ancient aqueducts, unbelievable underwater roadways...get readers ready to explore some of the oldest, longest, deepest, and spookiest tunnels on Earth. Readers will learn engineering concepts while investigating mind-blowing tunnels around the globe. From the terrifying catacombs of Paris to futuristic underground highways, they'll be amazed at these marvelous tunnels. Gorgeous photographs bring this globetrotting journey into splendid focus, while snappy fun facts keep the text accessible. Fun and informative graphic organizers help readers understand important STEM concepts.","English",25.95,18.95,"624.1/93--dc23","32 pp.",{"$f":"Table1[[#This Row],[QTY]]*Table1[[#This Row],['# Books]]","v":0},{"$f":"Table1[[#This Row],[QTY]]*Table1[[#This Row],[S&L Price]]","v":0}]
[null,31,79,"Fun Fact File: Engineering Marvels",1,"20 Fun Facts About Famous Tunnels","eBook",null,"978-1-5382-4673-3",{"$f":"HYPERLINK(\"https://www.garethstevens.com/\"&Table1[[#This Row],[ISBN]],\"Weblink\")","v":"Weblink"},2020,"January 2020",null,null,"Author","Kate Light",null,null,null,null,"L",null,"Grade 2 - 3","Grade 2 - 5","Creepy catacombs, ancient aqueducts, unbelievable underwater roadways...get readers ready to explore some of the oldest, longest, deepest, and spookiest tunnels on Earth. Readers will learn engineering concepts while investigating mind-blowing tunnels around the globe. From the terrifying catacombs of Paris to futuristic underground highways, they'll be amazed at these marvelous tunnels. Gorgeous photographs bring this globetrotting journey into splendid focus, while snappy fun facts keep the text accessible. Fun and informative graphic organizers help readers understand important STEM concepts.","English",25.95,18.95,"624.1/93--dc23","32 pp.",{"$f":"Table1[[#This Row],[QTY]]*Table1[[#This Row],['# Books]]","v":0},{"$f":"Table1[[#This Row],[QTY]]*Table1[[#This Row],[S&L Price]]","v":0}]
[null,32,null,"Heroes of Black History",18,"Heroes of Black History (Set of 18 Titles)","Library Set",null,"978-1-5382-5991-7",{"$f":"HYPERLINK(\"https://www.garethstevens.com/\"&Table1[[#This Row],[ISBN]],\"Weblink\")","v":"Weblink"},2021,"August 2020","Library","8.500 X 11.00","","",null,null,null,null,null,null,"Grade 3 - 4","Grade 3 - 6","Leaders of the black community have emerged during all eras of the United States, from the abolitionists of the 1800s to athletes to modern-day politicians. Through the story of their lives, told in engaging detail in this collection, all readers can learn more about tolerance, hope, and the importance of standing up for what you believe in. Including groundbreaking black heroes like Thurgood Marshall, Shirley Chisholm, and the Buffalo Soldiers, this collection is especially relevant in today's fraught racial climate. Features include: Historical and social context to give readers the facts they need to understand each era. Inclusion of modern heroes shows readers the expanse of black heroes today. Experienced authors approach delicate topics factually and with age-appropriate details.","English",478.8,359.1,null,"32 pp.",{"$f":"Table1[[#This Row],[QTY]]*Table1[[#This Row],['# Books]]","v":0},{"$f":"Table1[[#This Row],[QTY]]*Table1[[#This Row],[S&L Price]]","v":0}]
[null,32,null,"Heroes of Black History",6,"Heroes of Black History (Set of 6 NEW Titles)","Library Set",null,"978-1-5382-5990-0",{"$f":"HYPERLINK(\"https://www.garethstevens.com/\"&Table1[[#This Row],[ISBN]],\"Weblink\")","v":"Weblink"},2021,"August 2020","Library","8.500 X 11.00","","",null,null,null,null,null,null,"Grade 3 - 4","Grade 3 - 6","Whether working in politics, entertainment, or sports, leaders in the black community can make a difference. Muhammad Ali was a great boxer, but he was also a philanthropist. Oprah Winfrey has had hit television shows, but she also champions civil rights and increasing minority representation in entertainment. Readers will explore the lives of these heroes, some of whom are making history today. Their hardships, triumphs, and dedication to their beliefs will inspire readers and encourage them to embrace diverse perspectives. Features include: Concluding timelines of each subject's life. Supports an understanding of civil rights topics. Experienced authors approach delicate topics factually and with age-appropriate detail for young readers.","English",159.6,119.7,null,"32 pp.",{"$f":"Table1[[#This Row],[QTY]]*Table1[[#This Row],['# Books]]","v":0},{"$f":"Table1[[#This Row],[QTY]]*Table1[[#This Row],[S&L Price]]","v":0}]
[null,32,null,"Heroes of Black History",1,"Booker T. Washington","Library Bound Book",null,"978-1-5382-5808-8",{"$f":"HYPERLINK(\"https://www.garethstevens.com/\"&Table1[[#This Row],[ISBN]],\"Weblink\")","v":"Weblink"},2021,"August 2020","Library","8.500 X 11.00","Author","Janey Levy",null,null,null,null,"Q",null,"Grade 3 - 4","Grade 3 - 6","Booker T. Washington has been described as the most famous and influential black man in the United States between 1895 and 1915. Born into slavery, his childhood was marked by poverty and hard labor. This compelling biography traces Washington's life. Readers learn details about his early years, his determined struggle to achieve an education, and his rise as an influential black leader. His sometimes-controversial ideas about how blacks should work to achieve equality in American society are explored. This accessible narrative is complemented by historical photographs, sidebars, and a detailed timeline.","English",26.6,19.95,"370.92--dc23","32 pp.",{"$f":"Table1[[#This Row],[QTY]]*Table1[[#This Row],['# Books]]","v":0},{"$f":"Table1[[#This Row],[QTY]]*Table1[[#This Row],[S&L Price]]","v":0}]
[null,32,null,"Heroes of Black History",1,"Booker T. Washington","eBook",null,"978-1-5382-5809-5",{"$f":"HYPERLINK(\"https://www.garethstevens.com/\"&Table1[[#This Row],[ISBN]],\"Weblink\")","v":"Weblink"},2021,"August 2020",null,null,"Author","Janey Levy",null,null,null,null,"Q",null,"Grade 3 - 4","Grade 3 - 6","Booker T. Washington has been described as the most famous and influential black man in the United States between 1895 and 1915. Born into slavery, his childhood was marked by poverty and hard labor. This compelling biography traces Washington's life. Readers learn details about his early years, his determined struggle to achieve an education, and his rise as an influential black leader. His sometimes-controversial ideas about how blacks should work to achieve equality in American society are explored. This accessible narrative is complemented by historical photographs, sidebars, and a detailed timeline.","English",26.6,19.95,"370.92--dc23","32 pp.",{"$f":"Table1[[#This Row],[QTY]]*Table1[[#This Row],['# Books]]","v":0},{"$f":"Table1[[#This Row],[QTY]]*Table1[[#This Row],[S&L Price]]","v":0}]
[null,32,null,"Heroes of Black History",1,"Harriet Tubman","Library Bound Book",null,"978-1-5382-5816-3",{"$f":"HYPERLINK(\"https://www.garethstevens.com/\"&Table1[[#This Row],[ISBN]],\"Weblink\")","v":"Weblink"},2021,"August 2020","Library","8.500 X 11.00","Author","Janey Levy",null,null,null,null,"Q",null,"Grade 3 - 4","Grade 3 - 6","Harriet Tubman is well known for her work as an abolitionist and a conductor on the Underground Railroad. Her life was one of extraordinary suffering and extraordinary courage. This absorbing biography traces her life from childhood years in slavery, through her escape and subsequent work on the Underground Railroad, ending with her final years. Powerful historical images and age-appropriate text supply solid social studies content. Fact-filled sidebars and a timeline enhance the reading experience.","English",26.6,19.95,"326/.8092--dc23","32 pp.",{"$f":"Table1[[#This Row],[QTY]]*Table1[[#This Row],['# Books]]","v":0},{"$f":"Table1[[#This Row],[QTY]]*Table1[[#This Row],[S&L Price]]","v":0}]
[null,32,null,"Heroes of Black History",1,"Harriet Tubman","eBook",null,"978-1-5382-5817-0",{"$f":"HYPERLINK(\"https://www.garethstevens.com/\"&Table1[[#This Row],[ISBN]],\"Weblink\")","v":"Weblink"},2021,"August 2020",null,null,"Author","Janey Levy",null,null,null,null,"Q",null,"Grade 3 - 4","Grade 3 - 6","Harriet Tubman is well known for her work as an abolitionist and a conductor on the Underground Railroad. Her life was one of extraordinary suffering and extraordinary courage. This absorbing biography traces her life from childhood years in slavery, through her escape and subsequent work on the Underground Railroad, ending with her final years. Powerful historical images and age-appropriate text supply solid social studies content. Fact-filled sidebars and a timeline enhance the reading experience.","English",26.6,19.95,"326/.8092--dc23","32 pp.",{"$f":"Table1[[#This Row],[QTY]]*Table1[[#This Row],['# Books]]","v":0},{"$f":"Table1[[#This Row],[QTY]]*Table1[[#This Row],[S&L Price]]","v":0}]
[null,32,null,"Heroes of Black History",1,"Muhammad Ali","Library Bound Book",null,"978-1-5382-5796-8",{"$f":"HYPERLINK(\"https://www.garethstevens.com/\"&Table1[[#This Row],[ISBN]],\"Weblink\")","v":"Weblink"},2021,"August 2020","Library","8.500 X 11.00","Author","Michael Rajczak",null,null,null,null,"Q",null,"Grade 3 - 4","Grade 3 - 6","Muhammad Ali may have been the greatest athlete of the 20th century. He won two Golden Gloves titles and recorded many victories during his incredible boxing career. In 1960 he won the gold medal for boxing at the Olympics in Rome, Italy. Later, he became and activist and philanthropist, leaving a legacy out of the boxing ring as well as in it. Readers explore the rich life of a great champion who also became a living symbol of hope and peace in this inspiring biography.","English",26.6,19.95,"796.83092--dc23","32 pp.",{"$f":"Table1[[#This Row],[QTY]]*Table1[[#This Row],['# Books]]","v":0},{"$f":"Table1[[#This Row],[QTY]]*Table1[[#This Row],[S&L Price]]","v":0}]
[null,32,null,"Heroes of Black History",1,"Muhammad Ali","eBook",null,"978-1-5382-5797-5",{"$f":"HYPERLINK(\"https://www.garethstevens.com/\"&Table1[[#This Row],[ISBN]],\"Weblink\")","v":"Weblink"},2021,"August 2020",null,null,"Author","Michael Rajczak",null,null,null,null,"Q",null,"Grade 3 - 4","Grade 3 - 6","Muhammad Ali may have been the greatest athlete of the 20th century. He won two Golden Gloves titles and recorded many victories during his incredible boxing career. In 1960 he won the gold medal for boxing at the Olympics in Rome, Italy. Later, he became and activist and philanthropist, leaving a legacy out of the boxing ring as well as in it. Readers explore the rich life of a great champion who also became a living symbol of hope and peace in this inspiring biography.","English",26.6,19.95,"796.83092--dc23","32 pp.",{"$f":"Table1[[#This Row],[QTY]]*Table1[[#This Row],['# Books]]","v":0},{"$f":"Table1[[#This Row],[QTY]]*Table1[[#This Row],[S&L Price]]","v":0}]
[null,32,null,"Heroes of Black History",1,"Oprah Winfrey","Library Bound Book",null,"978-1-5382-5812-5",{"$f":"HYPERLINK(\"https://www.garethstevens.com/\"&Table1[[#This Row],[ISBN]],\"Weblink\")","v":"Weblink"},2021,"August 2020","Library","8.500 X 11.00","Author","Janey Levy",null,null,null,null,"Q",null,"Grade 3 - 4","Grade 3 - 6","Oprah Winfrey is one of the richest and most influential women in the United States. But she began her life in poverty and endured some terrible experiences in childhood before her father helped her turn her life around. This absorbing volume traces Winfrey's life from her difficult childhood to her early success and her rise to fame and fortune. Age-appropriate text covers important social studies content while colorful photographs enliven the reading experience. Sidebars and a detailed timeline support the main text.","English",26.6,19.95,"791.4502/8092--dc23","32 pp.",{"$f":"Table1[[#This Row],[QTY]]*Table1[[#This Row],['# Books]]","v":0},{"$f":"Table1[[#This Row],[QTY]]*Table1[[#This Row],[S&L Price]]","v":0}]
[null,32,null,"Heroes of Black History",1,"Oprah Winfrey","eBook",null,"978-1-5382-5813-2",{"$f":"HYPERLINK(\"https://www.garethstevens.com/\"&Table1[[#This Row],[ISBN]],\"Weblink\")","v":"Weblink"},2021,"August 2020",null,null,"Author","Janey Levy",null,null,null,null,"Q",null,"Grade 3 - 4","Grade 3 - 6","Oprah Winfrey is one of the richest and most influential women in the United States. But she began her life in poverty and endured some terrible experiences in childhood before her father helped her turn her life around. This absorbing volume traces Winfrey's life from her difficult childhood to her early success and her rise to fame and fortune. Age-appropriate text covers important social studies content while colorful photographs enliven the reading experience. Sidebars and a detailed timeline support the main text.","English",26.6,19.95,"791.4502/8092--dc23","32 pp.",{"$f":"Table1[[#This Row],[QTY]]*Table1[[#This Row],['# Books]]","v":0},{"$f":"Table1[[#This Row],[QTY]]*Table1[[#This Row],[S&L Price]]","v":0}]
[null,32,null,"Heroes of Black History",1,"Shirley Chisholm","Library Bound Book",null,"978-1-5382-5800-2",{"$f":"HYPERLINK(\"https://www.garethstevens.com/\"&Table1[[#This Row],[ISBN]],\"Weblink\")","v":"Weblink"},2021,"August 2020","Library","8.500 X 11.00","Author","Janey Levy",null,null,null,null,"Q",null,"Grade 3 - 4","Grade 3 - 6","Shirley Chisholm died in 2005, and her career had largely ended over a decade before that. But the life of this remarkable woman has particular resonance for our world today. The child of immigrants, she was the first African American woman elected to Congress and the first African American to run for the Democratic Party presidential nomination. This compelling volume traces Chisholm's life from her childhood through her career in education and her extraordinary political career. Accessible text provides important social studies content and remarkable photographs bring Chisholm's story into focus.","English",26.6,19.95,"328.73/092--dc23","32 pp.",{"$f":"Table1[[#This Row],[QTY]]*Table1[[#This Row],['# Books]]","v":0},{"$f":"Table1[[#This Row],[QTY]]*Table1[[#This Row],[S&L Price]]","v":0}]
[null,32,null,"Heroes of Black History",1,"Shirley Chisholm","eBook",null,"978-1-5382-5801-9",{"$f":"HYPERLINK(\"https://www.garethstevens.com/\"&Table1[[#This Row],[ISBN]],\"Weblink\")","v":"Weblink"},2021,"August 2020",null,null,"Author","Janey Levy",null,null,null,null,"Q",null,"Grade 3 - 4","Grade 3 - 6","Shirley Chisholm died in 2005, and her career had largely ended over a decade before that. But the life of this remarkable woman has particular resonance for our world today. The child of immigrants, she was the first African American woman elected to Congress and the first African American to run for the Democratic Party presidential nomination. This compelling volume traces Chisholm's life from her childhood through her career in education and her extraordinary political career. Accessible text provides important social studies content and remarkable photographs bring Chisholm's story into focus.","English",26.6,19.95,"328.73/092--dc23","32 pp.",{"$f":"Table1[[#This Row],[QTY]]*Table1[[#This Row],['# Books]]","v":0},{"$f":"Table1[[#This Row],[QTY]]*Table1[[#This Row],[S&L Price]]","v":0}]
[null,32,null,"Heroes of Black History",1,"Toni Morrison","Library Bound Book",null,"978-1-5382-5804-0",{"$f":"HYPERLINK(\"https://www.garethstevens.com/\"&Table1[[#This Row],[ISBN]],\"Weblink\")","v":"Weblink"},2021,"August 2020","Library","8.500 X 11.00","Author","Janey Levy",null,null,null,null,"Q",null,"Grade 3 - 4","Grade 3 - 6","Toni Morrison was one of the most celebrated writers of the 20th and early 21st centuries. She was the first African American woman to win the Nobel Prize in Literature and she received numerous other awards. This fascinating volume traces Morrison's life from her childhood in Lorain, Ohio, through her marriage, academic career, editing career, and writing success. Accessible text provides important social studies material while vivid photographs impart touching and important moments. Sidebars and a detailed timeline enrich the narrative.","English",26.6,19.95,"813/.54--dc23","32 pp.",{"$f":"Table1[[#This Row],[QTY]]*Table1[[#This Row],['# Books]]","v":0},{"$f":"Table1[[#This Row],[QTY]]*Table1[[#This Row],[S&L Price]]","v":0}]
[null,32,null,"Heroes of Black History",1,"Toni Morrison","eBook",null,"978-1-5382-5805-7",{"$f":"HYPERLINK(\"https://www.garethstevens.com/\"&Table1[[#This Row],[ISBN]],\"Weblink\")","v":"Weblink"},2021,"August 2020",null,null,"Author","Janey Levy",null,null,null,null,"Q",null,"Grade 3 - 4","Grade 3 - 6","Toni Morrison was one of the most celebrated writers of the 20th and early 21st centuries. She was the first African American woman to win the Nobel Prize in Literature and she received numerous other awards. This fascinating volume traces Morrison's life from her childhood in Lorain, Ohio, through her marriage, academic career, editing career, and writing success. Accessible text provides important social studies material while vivid photographs impart touching and important moments. Sidebars and a detailed timeline enrich the narrative.","English",26.6,19.95,"813/.54--dc23","32 pp.",{"$f":"Table1[[#This Row],[QTY]]*Table1[[#This Row],['# Books]]","v":0},{"$f":"Table1[[#This Row],[QTY]]*Table1[[#This Row],[S&L Price]]","v":0}]
[null,null,91,"Heroes of Black History",12,"Heroes of Black History (Set of 12 Titles)","Library Set",null,"978-1-5382-3024-4",{"$f":"HYPERLINK(\"https://www.garethstevens.com/\"&Table1[[#This Row],[ISBN]],\"Weblink\")","v":"Weblink"},2019,"January 2019","Library","8.500 X 11.00",null,null,null,null,null,null,null,null,"Grade 3 - 4","Grade 3 - 6","Readers of all ages can find lessons, inspirations, and hope for the future in the lives of the greatest heroes of black history. Each volume of this valuable series contains both biographical and historical information about some of the most important black leaders, reformers, and pioneers. Just a few of the people featured in this essential collection include the Tuskegee Airmen, Nelson Mandela, and Thurgood Marshall. The impact of their actions and ideas on people of all races around the world is a focal point of each text, while historical photographs and illustrations provide a visual understanding of the era. Features include: Sidebars offer additional information and contribute to eye-catching layout. Graphic organizers summarize and stress significant elements. An effective way to address Common Core informational text skills through history and social studies content.","English",319.2,239.4,null,"32 pp.",{"$f":"Table1[[#This Row],[QTY]]*Table1[[#This Row],['# Books]]","v":0},{"$f":"Table1[[#This Row],[QTY]]*Table1[[#This Row],[S&L Price]]","v":0}]
[null,null,91,"Heroes of Black History",6,"Heroes of Black History (Set of 6 Titles - January 2020)","Library Set",null,"978-1-5382-3023-7",{"$f":"HYPERLINK(\"https://www.garethstevens.com/\"&Table1[[#This Row],[ISBN]],\"Weblink\")","v":"Weblink"},2019,"January 2019","Library","8.500 X 11.00",null,null,null,null,null,null,null,null,"Grade 3 - 4","Grade 3 - 6","Leaders of the black community have emerged during all eras of the United States, from the abolitionists of the 1800s to the Civil Rights leaders to writers today. Through the story of their lives, told in engaging detail in this series, all readers can learn more about tolerance, hope, and the importance of standing up for what you believe in. Including groundbreaking black heroes like Thurgood Marshall, Jackie Robinson, and Mae Jemison, this series is especially relevant in today's fraught racial climate. Features include: Includes historical and social context to give readers the facts they need to understand each era. Inclusion of modern heroes reinforces the existence of black heroes today. Experienced authors approach delicate topics factually and with age-appropriate detail for young readers.","English",159.6,119.7,null,"32 pp.",{"$f":"Table1[[#This Row],[QTY]]*Table1[[#This Row],['# Books]]","v":0},{"$f":"Table1[[#This Row],[QTY]]*Table1[[#This Row],[S&L Price]]","v":0}]
[null,33,91,"Heroes of Black History",1,"Buffalo Soldiers","Library Bound Book",null,"978-1-4824-2902-2",{"$f":"HYPERLINK(\"https://www.garethstevens.com/\"&Table1[[#This Row],[ISBN]],\"Weblink\")","v":"Weblink"},2016,"August 2015","Library","8.500 X 11.00","Author","Christine Honders","6.3","0.5","40",null,"Q",null,"Grade 3 - 4","Grade 3 - 6","In the mid-1880s, the first black regiments of the US Army were nicknamed \"buffalo soldiers\" by Native Americans, a name that stuck. In the nearly 85 years of service that followed, buffalo soldiers served on the western frontier as well as in conflicts in Cuba, the Philippines, and Mexico. These courageous men became known for their discipline, among other admirable qualities. Sadly, they continued to face great prejudice in their own country despite stellar military records. Photographs of the soldiers, accounts of their exploits, and a timeline highlighting important moments of service further reveal the bravery of these troops.","English",26.6,19.95,"973.8","32 pp.",{"$f":"Table1[[#This Row],[QTY]]*Table1[[#This Row],['# Books]]","v":0},{"$f":"Table1[[#This Row],[QTY]]*Table1[[#This Row],[S&L Price]]","v":0}]
[null,33,91,"Heroes of Black History",1,"Buffalo Soldiers","eBook",null,"978-1-4824-2903-9",{"$f":"HYPERLINK(\"https://www.garethstevens.com/\"&Table1[[#This Row],[ISBN]],\"Weblink\")","v":"Weblink"},2016,"August 2015",null,null,"Author","Christine Honders","6.3","0.5","40",null,"Q",null,"Grade 3 - 4","Grade 3 - 6","In the mid-1880s, the first black regiments of the US Army were nicknamed \"buffalo soldiers\" by Native Americans, a name that stuck. In the nearly 85 years of service that followed, buffalo soldiers served on the western frontier as well as in conflicts in Cuba, the Philippines, and Mexico. These courageous men became known for their discipline, among other admirable qualities. Sadly, they continued to face great prejudice in their own country despite stellar military records. Photographs of the soldiers, accounts of their exploits, and a timeline highlighting important moments of service further reveal the bravery of these troops.","English",26.6,19.95,"973.8","32 pp.",{"$f":"Table1[[#This Row],[QTY]]*Table1[[#This Row],['# Books]]","v":0},{"$f":"Table1[[#This Row],[QTY]]*Table1[[#This Row],[S&L Price]]","v":0}]
[null,33,91,"Heroes of Black History",1,"Frederick Douglass","Library Bound Book",null,"978-1-5382-3017-6",{"$f":"HYPERLINK(\"https://www.garethstevens.com/\"&Table1[[#This Row],[ISBN]],\"Weblink\")","v":"Weblink"},2019,"January 2019","Library","8.500 X 11.00","Author","Joan Stoltman","6.5","0.5",null,null,"R",null,"Grade 3 - 4","Grade 3 - 6","Frederick Douglass is a familiar name to many students, but the incredible impact he left on U.S. history is sometimes lost amid the other facts and faces in social studies textbooks. By focusing on his powerful story of slavery, freedom, and impassioned abolitionist beliefs, this engaging and educational text gives readers a deeper understanding of why the words he spoke and wrote still carry so much weight today. Fact-filled sidebars, detailed graphic organizers, and historical photographs complement the age-appropriate main text, which presents sensitive material in a thoughtful way.","English",26.6,19.95,"973.8092--dc23","32 pp.",{"$f":"Table1[[#This Row],[QTY]]*Table1[[#This Row],['# Books]]","v":0},{"$f":"Table1[[#This Row],[QTY]]*Table1[[#This Row],[S&L Price]]","v":0}]
[null,33,91,"Heroes of Black History",1,"Frederick Douglass","eBook",null,"978-1-5382-3087-9",{"$f":"HYPERLINK(\"https://www.garethstevens.com/\"&Table1[[#This Row],[ISBN]],\"Weblink\")","v":"Weblink"},2019,"January 2019",null,null,"Author","Joan Stoltman","6.5","0.5",null,null,"R",null,"Grade 3 - 4","Grade 3 - 6","Frederick Douglass is a familiar name to many students, but the incredible impact he left on U.S. history is sometimes lost amid the other facts and faces in social studies textbooks. By focusing on his powerful story of slavery, freedom, and impassioned abolitionist beliefs, this engaging and educational text gives readers a deeper understanding of why the words he spoke and wrote still carry so much weight today. Fact-filled sidebars, detailed graphic organizers, and historical photographs complement the age-appropriate main text, which presents sensitive material in a thoughtful way.","English",26.6,19.95,"973.8092--dc23","32 pp.",{"$f":"Table1[[#This Row],[QTY]]*Table1[[#This Row],['# Books]]","v":0},{"$f":"Table1[[#This Row],[QTY]]*Table1[[#This Row],[S&L Price]]","v":0}]
[null,33,91,"Heroes of Black History",1,"Jackie Robinson","Library Bound Book",null,"978-1-5382-3018-3",{"$f":"HYPERLINK(\"https://www.garethstevens.com/\"&Table1[[#This Row],[ISBN]],\"Weblink\")","v":"Weblink"},2019,"January 2019","Library","8.500 X 11.00","Author","Katie Kawa","6.2","0.5",null,null,"R",null,"Grade 3 - 4","Grade 3 - 6","Jackie Robinson became the first African American Major League Baseball player, and the story of how he broke baseball's color barrier brings the worlds of sports and history together. How was he chosen to break this barrier, and what struggles did he have to face once he joined the Brooklyn Dodgers? These questions and many more are answered through age-appropriate text, including sidebars that provide additional information about this member of the Baseball Hall of Fame. Graphic organizers and photographs enhance the exciting story of a man whose groundbreaking career continues to inspire athletes around the world.","English",26.6,19.95,"796.357092--dc23","32 pp.",{"$f":"Table1[[#This Row],[QTY]]*Table1[[#This Row],['# Books]]","v":0},{"$f":"Table1[[#This Row],[QTY]]*Table1[[#This Row],[S&L Price]]","v":0}]
[null,33,91,"Heroes of Black History",1,"Jackie Robinson","eBook",null,"978-1-5382-3088-6",{"$f":"HYPERLINK(\"https://www.garethstevens.com/\"&Table1[[#This Row],[ISBN]],\"Weblink\")","v":"Weblink"},2019,"January 2019",null,null,"Author","Katie Kawa","6.2","0.5",null,null,"R",null,"Grade 3 - 4","Grade 3 - 6","Jackie Robinson became the first African American Major League Baseball player, and the story of how he broke baseball's color barrier brings the worlds of sports and history together. How was he chosen to break this barrier, and what struggles did he have to face once he joined the Brooklyn Dodgers? These questions and many more are answered through age-appropriate text, including sidebars that provide additional information about this member of the Baseball Hall of Fame. Graphic organizers and photographs enhance the exciting story of a man whose groundbreaking career continues to inspire athletes around the world.","English",26.6,19.95,"796.357092--dc23","32 pp.",{"$f":"Table1[[#This Row],[QTY]]*Table1[[#This Row],['# Books]]","v":0},{"$f":"Table1[[#This Row],[QTY]]*Table1[[#This Row],[S&L Price]]","v":0}]
[null,33,91,"Heroes of Black History",1,"Mae Jemison","Library Bound Book",null,"978-1-5382-3020-6",{"$f":"HYPERLINK(\"https://www.garethstevens.com/\"&Table1[[#This Row],[ISBN]],\"Weblink\")","v":"Weblink"},2019,"January 2019","Library","8.500 X 11.00","Author","Janey Levy","6","0.5",null,null,"R",null,"Grade 3 - 4","Grade 3 - 6","In 1992, Mae Jemison became the first African American woman to travel into space. This alone was a remarkable achievement, but Jemison accomplished so much more. She was a doctor, an engineer, a Peace Corps volunteer, a teacher, and the founder and president of two technology companies. In this lively biography, readers will discover the life of this amazing woman, from childhood through her time at NASA to her accomplishments after leaving the space program. Colorful photographs enliven the text, and sidebars and captions enrich the main text.","English",26.6,19.95,"629.450092--dc23","32 pp.",{"$f":"Table1[[#This Row],[QTY]]*Table1[[#This Row],['# Books]]","v":0},{"$f":"Table1[[#This Row],[QTY]]*Table1[[#This Row],[S&L Price]]","v":0}]
[null,33,91,"Heroes of Black History",1,"Mae Jemison","eBook",null,"978-1-5382-3090-9",{"$f":"HYPERLINK(\"https://www.garethstevens.com/\"&Table1[[#This Row],[ISBN]],\"Weblink\")","v":"Weblink"},2019,"January 2019",null,null,"Author","Janey Levy","6","0.5",null,null,"R",null,"Grade 3 - 4","Grade 3 - 6","In 1992, Mae Jemison became the first African American woman to travel into space. This alone was a remarkable achievement, but Jemison accomplished so much more. She was a doctor, an engineer, a Peace Corps volunteer, a teacher, and the founder and president of two technology companies. In this lively biography, readers will discover the life of this amazing woman, from childhood through her time at NASA to her accomplishments after leaving the space program. Colorful photographs enliven the text, and sidebars and captions enrich the main text.","English",26.6,19.95,"629.450092--dc23","32 pp.",{"$f":"Table1[[#This Row],[QTY]]*Table1[[#This Row],['# Books]]","v":0},{"$f":"Table1[[#This Row],[QTY]]*Table1[[#This Row],[S&L Price]]","v":0}]
[null,33,91,"Heroes of Black History",1,"Malcolm X","Library Bound Book",null,"978-1-5382-3019-0",{"$f":"HYPERLINK(\"https://www.garethstevens.com/\"&Table1[[#This Row],[ISBN]],\"Weblink\")","v":"Weblink"},2019,"January 2019","Library","8.500 X 11.00","Author","Joan Stoltman","6.1","0.5",null,null,"S",null,"Grade 3 - 4","Grade 3 - 6","Malcolm X was a pioneering figure in the black pride movement, and his life story is sure to captivate young readers. Readers learn about his life and legacy, from his childhood to the aftermath of his assassination in 1965, through age-appropriate text and detailed historical photographs. Sidebars provide additional information about this legendary civil rights leader, and graphic organizers clarify essential concepts. Malcolm X lived a life of outspoken activism. As readers discover fascinating details about his life, they also discover the importance of standing up for their beliefs and being proud of who they are.","English",26.6,19.95,"320.54'6092--dc23","32 pp.",{"$f":"Table1[[#This Row],[QTY]]*Table1[[#This Row],['# Books]]","v":0},{"$f":"Table1[[#This Row],[QTY]]*Table1[[#This Row],[S&L Price]]","v":0}]
[null,33,91,"Heroes of Black History",1,"Malcolm X","eBook",null,"978-1-5382-3089-3",{"$f":"HYPERLINK(\"https://www.garethstevens.com/\"&Table1[[#This Row],[ISBN]],\"Weblink\")","v":"Weblink"},2019,"January 2019",null,null,"Author","Joan Stoltman","6.1","0.5",null,null,"S",null,"Grade 3 - 4","Grade 3 - 6","Malcolm X was a pioneering figure in the black pride movement, and his life story is sure to captivate young readers. Readers learn about his life and legacy, from his childhood to the aftermath of his assassination in 1965, through age-appropriate text and detailed historical photographs. Sidebars provide additional information about this legendary civil rights leader, and graphic organizers clarify essential concepts. Malcolm X lived a life of outspoken activism. As readers discover fascinating details about his life, they also discover the importance of standing up for their beliefs and being proud of who they are.","English",26.6,19.95,"320.54'6092--dc23","32 pp.",{"$f":"Table1[[#This Row],[QTY]]*Table1[[#This Row],['# Books]]","v":0},{"$f":"Table1[[#This Row],[QTY]]*Table1[[#This Row],[S&L Price]]","v":0}]
[null,33,91,"Heroes of Black History",1,"Martin Luther King Jr.","Library Bound Book",null,"978-1-4824-2906-0",{"$f":"HYPERLINK(\"https://www.garethstevens.com/\"&Table1[[#This Row],[ISBN]],\"Weblink\")","v":"Weblink"},2016,"August 2015","Library","8.500 X 11.00","Author","Ryan Nagelhout","6.4","0.5","40",null,"Q","NC","Grade 3 - 4","Grade 3 - 6","When Martin Luther King Jr. was assassinated on April 4, 1968, in Memphis, Tennessee, the world mourned. Though just 39, King's work in the civil rights movement had already transformed American and world history. Readers will come to understand the gravity of King's sacrifice as well as discover surprising information, such as an early assassination attempt and an FBI investigation. Historical photographs and interesting sidebars add to the depth of this comprehensive look at one of the greatest heroes of black history.","English",26.6,19.95,"323","32 pp.",{"$f":"Table1[[#This Row],[QTY]]*Table1[[#This Row],['# Books]]","v":0},{"$f":"Table1[[#This Row],[QTY]]*Table1[[#This Row],[S&L Price]]","v":0}]
[null,33,91,"Heroes of Black History",1,"Martin Luther King Jr.","eBook",null,"978-1-4824-2907-7",{"$f":"HYPERLINK(\"https://www.garethstevens.com/\"&Table1[[#This Row],[ISBN]],\"Weblink\")","v":"Weblink"},2016,"August 2015",null,null,"Author","Ryan Nagelhout","6.4","0.5","40",null,"Q","NC","Grade 3 - 4","Grade 3 - 6","When Martin Luther King Jr. was assassinated on April 4, 1968, in Memphis, Tennessee, the world mourned. Though just 39, King's work in the civil rights movement had already transformed American and world history. Readers will come to understand the gravity of King's sacrifice as well as discover surprising information, such as an early assassination attempt and an FBI investigation. Historical photographs and interesting sidebars add to the depth of this comprehensive look at one of the greatest heroes of black history.","English",26.6,19.95,"323","32 pp.",{"$f":"Table1[[#This Row],[QTY]]*Table1[[#This Row],['# Books]]","v":0},{"$f":"Table1[[#This Row],[QTY]]*Table1[[#This Row],[S&L Price]]","v":0}]
[null,33,91,"Heroes of Black History",1,"Maya Angelou","Library Bound Book",null,"978-1-5382-3022-0",{"$f":"HYPERLINK(\"https://www.garethstevens.com/\"&Table1[[#This Row],[ISBN]],\"Weblink\")","v":"Weblink"},2019,"January 2019","Library","8.500 X 11.00","Author","Jill Keppeler","5.9","0.5",null,null,"R",null,"Grade 3 - 4","Grade 3 - 6","From the day she was born in 1928, Maya Angelou, born Marguerite Annie Johnson, lived a life full of trials and triumph, struggle and success, and the magic and the power of words. This book tells the inspiring and powerful story of the girl from rural Arkansas who rose to become one of the most beloved writers in the United States and the world. Through photographs and stories, young readers will learn more about the life and words of this amazing American storyteller.","English",26.6,19.95,"818'.5409--dc23","32 pp.",{"$f":"Table1[[#This Row],[QTY]]*Table1[[#This Row],['# Books]]","v":0},{"$f":"Table1[[#This Row],[QTY]]*Table1[[#This Row],[S&L Price]]","v":0}]
[null,33,91,"Heroes of Black History",1,"Maya Angelou","eBook",null,"978-1-5382-3092-3",{"$f":"HYPERLINK(\"https://www.garethstevens.com/\"&Table1[[#This Row],[ISBN]],\"Weblink\")","v":"Weblink"},2019,"January 2019",null,null,"Author","Jill Keppeler","5.9","0.5",null,null,"R",null,"Grade 3 - 4","Grade 3 - 6","From the day she was born in 1928, Maya Angelou, born Marguerite Annie Johnson, lived a life full of trials and triumph, struggle and success, and the magic and the power of words. This book tells the inspiring and powerful story of the girl from rural Arkansas who rose to become one of the most beloved writers in the United States and the world. Through photographs and stories, young readers will learn more about the life and words of this amazing American storyteller.","English",26.6,19.95,"818'.5409--dc23","32 pp.",{"$f":"Table1[[#This Row],[QTY]]*Table1[[#This Row],['# Books]]","v":0},{"$f":"Table1[[#This Row],[QTY]]*Table1[[#This Row],[S&L Price]]","v":0}]
[null,33,91,"Heroes of Black History",1,"Nelson Mandela","Library Bound Book",null,"978-1-4824-2910-7",{"$f":"HYPERLINK(\"https://www.garethstevens.com/\"&Table1[[#This Row],[ISBN]],\"Weblink\")","v":"Weblink"},2016,"August 2015","Library","8.500 X 11.00","Author","Kristen Rajczak Nelson","6.1","0.5","40",null,"R",null,"Grade 3 - 4","Grade 3 - 6","Nelson Mandela, the late president of South Africa, was a civil rights leader for more than 50 years, and he spent more than 25 of those years in prison for fighting apartheid. This exceptional biography takes readers to a time and place they need to know about. The struggles of the South African black population against racism and discrimination resonate with all races today. Photographs of the era and quotations from Mandela and others will shed light on this important leader's legacy. His example lives on for others to follow.","English",26.6,19.95,"968.06","32 pp.",{"$f":"Table1[[#This Row],[QTY]]*Table1[[#This Row],['# Books]]","v":0},{"$f":"Table1[[#This Row],[QTY]]*Table1[[#This Row],[S&L Price]]","v":0}]
[null,33,91,"Heroes of Black History",1,"Nelson Mandela","eBook",null,"978-1-4824-2911-4",{"$f":"HYPERLINK(\"https://www.garethstevens.com/\"&Table1[[#This Row],[ISBN]],\"Weblink\")","v":"Weblink"},2016,"August 2015",null,null,"Author","Kristen Rajczak Nelson","6.1","0.5","40",null,"R",null,"Grade 3 - 4","Grade 3 - 6","Nelson Mandela, the late president of South Africa, was a civil rights leader for more than 50 years, and he spent more than 25 of those years in prison for fighting apartheid. This exceptional biography takes readers to a time and place they need to know about. The struggles of the South African black population against racism and discrimination resonate with all races today. Photographs of the era and quotations from Mandela and others will shed light on this important leader's legacy. His example lives on for others to follow.","English",26.6,19.95,"968.06","32 pp.",{"$f":"Table1[[#This Row],[QTY]]*Table1[[#This Row],['# Books]]","v":0},{"$f":"Table1[[#This Row],[QTY]]*Table1[[#This Row],[S&L Price]]","v":0}]
[null,33,91,"Heroes of Black History",1,"Sojourner Truth","Library Bound Book",null,"978-1-4824-2914-5",{"$f":"HYPERLINK(\"https://www.garethstevens.com/\"&Table1[[#This Row],[ISBN]],\"Weblink\")","v":"Weblink"},2016,"August 2015","Library","8.500 X 11.00","Author","Heather Moore Niver","5.3","0.5","40",null,"R","NC","Grade 3 - 4","Grade 3 - 6","Sojourner Truth is best known for her famous speech at the Ohio Women's Rights Convention in 1851 in which she asked, \"Ain't I a woman?\"  Born into slavery in 1797, she escaped to freedom with her baby daughter by 1826. But freedom held hardships for Truth, too. Despite all odds, this extraordinary woman fought for rights for both blacks and women as well as other disenfranchised populations. This in-depth account of the fascinating life of the abolitionist is a must-read in any social studies collection.","English",26.6,19.95,"306.3","32 pp.",{"$f":"Table1[[#This Row],[QTY]]*Table1[[#This Row],['# Books]]","v":0},{"$f":"Table1[[#This Row],[QTY]]*Table1[[#This Row],[S&L Price]]","v":0}]
[null,33,91,"Heroes of Black History",1,"Sojourner Truth","eBook",null,"978-1-4824-2915-2",{"$f":"HYPERLINK(\"https://www.garethstevens.com/\"&Table1[[#This Row],[ISBN]],\"Weblink\")","v":"Weblink"},2016,"August 2015",null,null,"Author","Heather Moore Niver","5.3","0.5","40",null,"R","NC","Grade 3 - 4","Grade 3 - 6","Sojourner Truth is best known for her famous speech at the Ohio Women's Rights Convention in 1851 in which she asked, \"Ain't I a woman?\"  Born into slavery in 1797, she escaped to freedom with her baby daughter by 1826. But freedom held hardships for Truth, too. Despite all odds, this extraordinary woman fought for rights for both blacks and women as well as other disenfranchised populations. This in-depth account of the fascinating life of the abolitionist is a must-read in any social studies collection.","English",26.6,19.95,"306.3","32 pp.",{"$f":"Table1[[#This Row],[QTY]]*Table1[[#This Row],['# Books]]","v":0},{"$f":"Table1[[#This Row],[QTY]]*Table1[[#This Row],[S&L Price]]","v":0}]
[null,33,91,"Heroes of Black History",1,"The Tuskegee Airmen","Library Bound Book",null,"978-1-4824-2918-3",{"$f":"HYPERLINK(\"https://www.garethstevens.com/\"&Table1[[#This Row],[ISBN]],\"Weblink\")","v":"Weblink"},2016,"August 2015","Library","8.500 X 11.00","Author","John M. Shea","6.8","0.5","40",null,"Q","NC","Grade 3 - 4","Grade 3 - 6","Tuskegee Airmen, the first African American flying unit in the American military, were some of the most decorated servicemen of the Army Air Forces during World War II. Trained at Tuskegee Army Air Field in Alabama, these courageous men flew more than 1,500 missions. This stirring narrative describes the fight to allow African Americans to serve as pilots, the training the men received, and some of the most exciting missions and sorties the unit faced. Not only did these exceptional soldiers fight the Axis powers, they fought prejudice and discrimination at home.","English",26.6,19.95,"940.54","32 pp.",{"$f":"Table1[[#This Row],[QTY]]*Table1[[#This Row],['# Books]]","v":0},{"$f":"Table1[[#This Row],[QTY]]*Table1[[#This Row],[S&L Price]]","v":0}]
[null,33,91,"Heroes of Black History",1,"The Tuskegee Airmen","eBook",null,"978-1-4824-2919-0",{"$f":"HYPERLINK(\"https://www.garethstevens.com/\"&Table1[[#This Row],[ISBN]],\"Weblink\")","v":"Weblink"},2016,"August 2015",null,null,"Author","John M. Shea","6.8","0.5","40",null,"Q","NC","Grade 3 - 4","Grade 3 - 6","Tuskegee Airmen, the first African American flying unit in the American military, were some of the most decorated servicemen of the Army Air Forces during World War II. Trained at Tuskegee Army Air Field in Alabama, these courageous men flew more than 1,500 missions. This stirring narrative describes the fight to allow African Americans to serve as pilots, the training the men received, and some of the most exciting missions and sorties the unit faced. Not only did these exceptional soldiers fight the Axis powers, they fought prejudice and discrimination at home.","English",26.6,19.95,"940.54","32 pp.",{"$f":"Table1[[#This Row],[QTY]]*Table1[[#This Row],['# Books]]","v":0},{"$f":"Table1[[#This Row],[QTY]]*Table1[[#This Row],[S&L Price]]","v":0}]
[null,33,91,"Heroes of Black History",1,"Thurgood Marshall","Library Bound Book",null,"978-1-5382-3021-3",{"$f":"HYPERLINK(\"https://www.garethstevens.com/\"&Table1[[#This Row],[ISBN]],\"Weblink\")","v":"Weblink"},2019,"January 2019","Library","8.500 X 11.00","Author","Joan Stoltman","6.5","0.5",null,null,"S",null,"Grade 3 - 4","Grade 3 - 6","Thurgood Marshall was a descendant of slaves who became the first African American Supreme Court justice. As readers explore the main events of his inspiring life, they discover his involvement in some of the most important moments in the fight for civil rights. Essential biographical and historical information is presented through accessible text, including detailed sidebars. Photographs and graphic organizers help readers visualize the people, events, and concepts mentioned on each page. There are many ways to fight for equality, and Thurgood Marshall's story will inspire readers to use their talents to make the world a better place.","English",26.6,19.95,"347.73/2634--dc23","32 pp.",{"$f":"Table1[[#This Row],[QTY]]*Table1[[#This Row],['# Books]]","v":0},{"$f":"Table1[[#This Row],[QTY]]*Table1[[#This Row],[S&L Price]]","v":0}]
[null,33,91,"Heroes of Black History",1,"Thurgood Marshall","eBook",null,"978-1-5382-3091-6",{"$f":"HYPERLINK(\"https://www.garethstevens.com/\"&Table1[[#This Row],[ISBN]],\"Weblink\")","v":"Weblink"},2019,"January 2019",null,null,"Author","Joan Stoltman","6.5","0.5",null,null,"S",null,"Grade 3 - 4","Grade 3 - 6","Thurgood Marshall was a descendant of slaves who became the first African American Supreme Court justice. As readers explore the main events of his inspiring life, they discover his involvement in some of the most important moments in the fight for civil rights. Essential biographical and historical information is presented through accessible text, including detailed sidebars. Photographs and graphic organizers help readers visualize the people, events, and concepts mentioned on each page. There are many ways to fight for equality, and Thurgood Marshall's story will inspire readers to use their talents to make the world a better place.","English",26.6,19.95,"347.73/2634--dc23","32 pp.",{"$f":"Table1[[#This Row],[QTY]]*Table1[[#This Row],['# Books]]","v":0},{"$f":"Table1[[#This Row],[QTY]]*Table1[[#This Row],[S&L Price]]","v":0}]
[null,33,91,"Heroes of Black History",1,"W. E. B. Du Bois","Library Bound Book",null,"978-1-4824-2922-0",{"$f":"HYPERLINK(\"https://www.garethstevens.com/\"&Table1[[#This Row],[ISBN]],\"Weblink\")","v":"Weblink"},2016,"August 2015","Library","8.500 X 11.00","Author","Hilary Lochte","6.9","0.5","40",null,"R",null,"Grade 3 - 4","Grade 3 - 6","W. E. B. DuBois tackled the great question of the early twentieth century: How could African Americans gain equal footing with whites in the United States? He studied the social conditions of blacks for more than a decade before espousing protest and agitation as vehicles for change. This stand and black nationalist ideas put him at odds with other reformers of the day, such as Booker T. Washington. This outstanding biography of the great leader details his life as well as his roles in the Niagara Movement and the NAACP.","English",26.6,19.95,"323.092--dc23","32 pp.",{"$f":"Table1[[#This Row],[QTY]]*Table1[[#This Row],['# Books]]","v":0},{"$f":"Table1[[#This Row],[QTY]]*Table1[[#This Row],[S&L Price]]","v":0}]
[null,33,91,"Heroes of Black History",1,"W. E. B. Du Bois","eBook",null,"978-1-4824-2923-7",{"$f":"HYPERLINK(\"https://www.garethstevens.com/\"&Table1[[#This Row],[ISBN]],\"Weblink\")","v":"Weblink"},2016,"August 2015",null,null,"Author","Hilary Lochte","6.9","0.5","40",null,"R",null,"Grade 3 - 4","Grade 3 - 6","W. E. B. DuBois tackled the great question of the early twentieth century: How could African Americans gain equal footing with whites in the United States? He studied the social conditions of blacks for more than a decade before espousing protest and agitation as vehicles for change. This stand and black nationalist ideas put him at odds with other reformers of the day, such as Booker T. Washington. This outstanding biography of the great leader details his life as well as his roles in the Niagara Movement and the NAACP.","English",26.6,19.95,"323.092--dc23","32 pp.",{"$f":"Table1[[#This Row],[QTY]]*Table1[[#This Row],['# Books]]","v":0},{"$f":"Table1[[#This Row],[QTY]]*Table1[[#This Row],[S&L Price]]","v":0}]
[null,34,94,"Meet the Greats",18,"Meet the Greats (Set of 18 Titles)","Library Set",null,"978-1-5382-5336-6",{"$f":"HYPERLINK(\"https://www.garethstevens.com/\"&Table1[[#This Row],[ISBN]],\"Weblink\")","v":"Weblink"},2020,"January 2020","Library","7.250 X 9.250","","",null,null,null,null,null,null,"Grade 5","Grade 4 - 6","It is not always possible to meet your heroes, but reading a well-written biography can be the next best thing! This wonderful, carefully researched collection of life stories spotlights some of the most memorable figures of yesterday and today, including Amelia Earhart, Anne Frank, George Washington, Mahatma Gandhi, Malala Yousafzai, and Ruth Bader Ginsburg. Each vibrantly designed volume serves to inform and inspire readers while highlighting admirable character traits and interesting anecdotes. Readers will be drawn in by the colorful cartoons of each figure and immerse themselves in the captivating lives of these \"greats.\" Features include: Quick Facts boxes that offer essential info that readers will remember for years to come. Accessible texts are supported by striking photographs and artwork. Supports both Common Core reading standards and history and social studies curricula.","English",598.86,449.1,null,"48 pp.",{"$f":"Table1[[#This Row],[QTY]]*Table1[[#This Row],['# Books]]","v":0},{"$f":"Table1[[#This Row],[QTY]]*Table1[[#This Row],[S&L Price]]","v":0}]
[null,34,94,"Meet the Greats",6,"Meet the Greats (Set of 6 NEW Titles)","Library Set",null,"978-1-5382-5335-9",{"$f":"HYPERLINK(\"https://www.garethstevens.com/\"&Table1[[#This Row],[ISBN]],\"Weblink\")","v":"Weblink"},2020,"January 2020","Library","7.250 X 9.250","","",null,null,null,null,null,null,"Grade 5","Grade 4 - 6","Some people rise to the top of everyone's must-know list. The fascinating figures in these fun biographies, a continuation of our popular series, are just such individuals. They have had an impact on history or culture, and a few are making waves today. Ruth Bader Ginsberg, Nelson Mandela, Michelle Obama, Geronimo, George Washington, and Kate Middleton are the diverse and intriguing subjects of these absorbing profiles, which are supported by carefully selected photographs and appealing fun fact boxes. Features include: Subjects were chosen for their high-interest and impressive lives. Cartoon caricatures will appeal to developing readers. Provides many opportunities to practice informational text skills related to Common Core English Language Arts standards.","English",199.62,149.69999999999999,null,"48 pp.",{"$f":"Table1[[#This Row],[QTY]]*Table1[[#This Row],['# Books]]","v":0},{"$f":"Table1[[#This Row],[QTY]]*Table1[[#This Row],[S&L Price]]","v":0}]
[null,34,94,"Meet the Greats",1,"George Washington","Library Bound Book",null,"978-1-5382-5238-3",{"$f":"HYPERLINK(\"https://www.garethstevens.com/\"&Table1[[#This Row],[ISBN]],\"Weblink\")","v":"Weblink"},2020,"January 2020","Library","7.250 X 9.250","Author","Tim Cooke",null,null,null,null,"U",null,"Grade 5","Grade 4 - 6","Yes, George Washington was the first U.S. president, but what did he do before that? A whole lot! This attention-grabbing biography has all the answers, including many surprising facts that will have readers wanting to share Washington's story with family and friends. Charming cartoons of Washington intermingle with historical paintings and images, while entertaining, accessible text makes getting to know George an achievable and motivating experience for all levels of readers.","English",33.270000000000003,24.95,"973.4'1092--dc23","48 pp.",{"$f":"Table1[[#This Row],[QTY]]*Table1[[#This Row],['# Books]]","v":0},{"$f":"Table1[[#This Row],[QTY]]*Table1[[#This Row],[S&L Price]]","v":0}]
[null,34,94,"Meet the Greats",1,"George Washington","eBook",null,"978-1-5382-5239-0",{"$f":"HYPERLINK(\"https://www.garethstevens.com/\"&Table1[[#This Row],[ISBN]],\"Weblink\")","v":"Weblink"},2020,"January 2020",null,null,"Author","Tim Cooke",null,null,null,null,"U",null,"Grade 5","Grade 4 - 6","Yes, George Washington was the first U.S. president, but what did he do before that? A whole lot! This attention-grabbing biography has all the answers, including many surprising facts that will have readers wanting to share Washington's story with family and friends. Charming cartoons of Washington intermingle with historical paintings and images, while entertaining, accessible text makes getting to know George an achievable and motivating experience for all levels of readers.","English",33.270000000000003,24.95,"973.4'1092--dc23","48 pp.",{"$f":"Table1[[#This Row],[QTY]]*Table1[[#This Row],['# Books]]","v":0},{"$f":"Table1[[#This Row],[QTY]]*Table1[[#This Row],[S&L Price]]","v":0}]
[null,34,94,"Meet the Greats",1,"Geronimo","Library Bound Book",null,"978-1-5382-5241-3",{"$f":"HYPERLINK(\"https://www.garethstevens.com/\"&Table1[[#This Row],[ISBN]],\"Weblink\")","v":"Weblink"},2020,"January 2020","Library","7.250 X 9.250","Author","Tim Cooke",null,null,null,null,"U",null,"Grade 5","Grade 4 - 6","Apache warrior Geronimo was a survivor. He spent most of his life fighting soldiers who wanted to take his tribe's lands. His bravery and military skills were widely admired, even by his enemies. This respectful and accessible biography of the Native American leader tells readers about Geronimo's motivations and his dreams for his people. The colorful and inviting format, fact boxes, and historical photographs make this an invaluable book for learning about both Native American and U.S. history.","English",33.270000000000003,24.95,"979'.004972--dc23","48 pp.",{"$f":"Table1[[#This Row],[QTY]]*Table1[[#This Row],['# Books]]","v":0},{"$f":"Table1[[#This Row],[QTY]]*Table1[[#This Row],[S&L Price]]","v":0}]
[null,34,94,"Meet the Greats",1,"Geronimo","eBook",null,"978-1-5382-5242-0",{"$f":"HYPERLINK(\"https://www.garethstevens.com/\"&Table1[[#This Row],[ISBN]],\"Weblink\")","v":"Weblink"},2020,"January 2020",null,null,"Author","Tim Cooke",null,null,null,null,"U",null,"Grade 5","Grade 4 - 6","Apache warrior Geronimo was a survivor. He spent most of his life fighting soldiers who wanted to take his tribe's lands. His bravery and military skills were widely admired, even by his enemies. This respectful and accessible biography of the Native American leader tells readers about Geronimo's motivations and his dreams for his people. The colorful and inviting format, fact boxes, and historical photographs make this an invaluable book for learning about both Native American and U.S. history.","English",33.270000000000003,24.95,"979'.004972--dc23","48 pp.",{"$f":"Table1[[#This Row],[QTY]]*Table1[[#This Row],['# Books]]","v":0},{"$f":"Table1[[#This Row],[QTY]]*Table1[[#This Row],[S&L Price]]","v":0}]
[null,34,94,"Meet the Greats",1,"Kate Middleton","Library Bound Book",null,"978-1-5382-5244-4",{"$f":"HYPERLINK(\"https://www.garethstevens.com/\"&Table1[[#This Row],[ISBN]],\"Weblink\")","v":"Weblink"},2020,"January 2020","Library","7.250 X 9.250","Author","Tim Cooke",null,null,null,null,"U",null,"Grade 5","Grade 4 - 6","Anytime Kate Middleton steps out of the house, cameras capture her every move. As the Duchess of Cambridge, she is an intriguing figure to many who wonder what it would be like to be a member of the British royal family, and a future queen. This charming biography, packed with colorful photographs, gives readers a glimpse into Kate's early life, including her athletic prowess in school and her first dates with Prince William. They'll also learn about Kate's life today, including her many charitable interests.","English",33.270000000000003,24.95,"941.086'12092--dc23","48 pp.",{"$f":"Table1[[#This Row],[QTY]]*Table1[[#This Row],['# Books]]","v":0},{"$f":"Table1[[#This Row],[QTY]]*Table1[[#This Row],[S&L Price]]","v":0}]
[null,34,94,"Meet the Greats",1,"Kate Middleton","eBook",null,"978-1-5382-5245-1",{"$f":"HYPERLINK(\"https://www.garethstevens.com/\"&Table1[[#This Row],[ISBN]],\"Weblink\")","v":"Weblink"},2020,"January 2020",null,null,"Author","Tim Cooke",null,null,null,null,"U",null,"Grade 5","Grade 4 - 6","Anytime Kate Middleton steps out of the house, cameras capture her every move. As the Duchess of Cambridge, she is an intriguing figure to many who wonder what it would be like to be a member of the British royal family, and a future queen. This charming biography, packed with colorful photographs, gives readers a glimpse into Kate's early life, including her athletic prowess in school and her first dates with Prince William. They'll also learn about Kate's life today, including her many charitable interests.","English",33.270000000000003,24.95,"941.086'12092--dc23","48 pp.",{"$f":"Table1[[#This Row],[QTY]]*Table1[[#This Row],['# Books]]","v":0},{"$f":"Table1[[#This Row],[QTY]]*Table1[[#This Row],[S&L Price]]","v":0}]
[null,34,94,"Meet the Greats",1,"Michelle Obama","Library Bound Book",null,"978-1-5382-5247-5",{"$f":"HYPERLINK(\"https://www.garethstevens.com/\"&Table1[[#This Row],[ISBN]],\"Weblink\")","v":"Weblink"},2020,"January 2020","Library","7.250 X 9.250","Author","Tim Cooke",null,null,null,null,"U",null,"Grade 5","Grade 4 - 6","Michelle Robinson was a young, ambitious lawyer from Chicago when she met her husband-to-be Barack Obama. Michelle juggled her career and two daughters while supporting her husband's political career, which led him to the White House as the first black president. After Barack left office, Michelle continued to be a global figurehead for advancing women's rights. This accessible biography, which features interesting fact boxes, vivid photographs, and fun cartoon Michelles, has all the information readers want to know about this dynamic woman.","English",33.270000000000003,24.95,"973.932092--dc23","48 pp.",{"$f":"Table1[[#This Row],[QTY]]*Table1[[#This Row],['# Books]]","v":0},{"$f":"Table1[[#This Row],[QTY]]*Table1[[#This Row],[S&L Price]]","v":0}]
[null,34,94,"Meet the Greats",1,"Michelle Obama","eBook",null,"978-1-5382-5248-2",{"$f":"HYPERLINK(\"https://www.garethstevens.com/\"&Table1[[#This Row],[ISBN]],\"Weblink\")","v":"Weblink"},2020,"January 2020",null,null,"Author","Tim Cooke",null,null,null,null,"U",null,"Grade 5","Grade 4 - 6","Michelle Robinson was a young, ambitious lawyer from Chicago when she met her husband-to-be Barack Obama. Michelle juggled her career and two daughters while supporting her husband's political career, which led him to the White House as the first black president. After Barack left office, Michelle continued to be a global figurehead for advancing women's rights. This accessible biography, which features interesting fact boxes, vivid photographs, and fun cartoon Michelles, has all the information readers want to know about this dynamic woman.","English",33.270000000000003,24.95,"973.932092--dc23","48 pp.",{"$f":"Table1[[#This Row],[QTY]]*Table1[[#This Row],['# Books]]","v":0},{"$f":"Table1[[#This Row],[QTY]]*Table1[[#This Row],[S&L Price]]","v":0}]
[null,34,94,"Meet the Greats",1,"Nelson Mandela","Library Bound Book",null,"978-1-5382-5250-5",{"$f":"HYPERLINK(\"https://www.garethstevens.com/\"&Table1[[#This Row],[ISBN]],\"Weblink\")","v":"Weblink"},2020,"January 2020","Library","7.250 X 9.250","Author","Tim Cooke",null,null,null,null,"U",null,"Grade 5","Grade 4 - 6","After spending almost 30 years in prison for fighting against apartheid in South Africa, Nelson Mandela became that nation's first black president. This important biography explains to readers what apartheid is, how Mandela and his supporters battled against it, and how he survived a brutal imprisonment to become a living symbol of civil and democratic rights. Mandela's moving and inspiring life story is told through accessible text, supporting fact boxes, and notable historical photographs.","English",33.270000000000003,24.95,"968.06'5092--dc23","48 pp.",{"$f":"Table1[[#This Row],[QTY]]*Table1[[#This Row],['# Books]]","v":0},{"$f":"Table1[[#This Row],[QTY]]*Table1[[#This Row],[S&L Price]]","v":0}]
[null,34,94,"Meet the Greats",1,"Nelson Mandela","eBook",null,"978-1-5382-5251-2",{"$f":"HYPERLINK(\"https://www.garethstevens.com/\"&Table1[[#This Row],[ISBN]],\"Weblink\")","v":"Weblink"},2020,"January 2020",null,null,"Author","Tim Cooke",null,null,null,null,"U",null,"Grade 5","Grade 4 - 6","After spending almost 30 years in prison for fighting against apartheid in South Africa, Nelson Mandela became that nation's first black president. This important biography explains to readers what apartheid is, how Mandela and his supporters battled against it, and how he survived a brutal imprisonment to become a living symbol of civil and democratic rights. Mandela's moving and inspiring life story is told through accessible text, supporting fact boxes, and notable historical photographs.","English",33.270000000000003,24.95,"968.06'5092--dc23","48 pp.",{"$f":"Table1[[#This Row],[QTY]]*Table1[[#This Row],['# Books]]","v":0},{"$f":"Table1[[#This Row],[QTY]]*Table1[[#This Row],[S&L Price]]","v":0}]
[null,34,94,"Meet the Greats",1,"Ruth Bader Ginsburg","Library Bound Book",null,"978-1-5382-5253-6",{"$f":"HYPERLINK(\"https://www.garethstevens.com/\"&Table1[[#This Row],[ISBN]],\"Weblink\")","v":"Weblink"},2020,"January 2020","Library","7.250 X 9.250","Author","Tim Cooke",null,null,null,null,"U",null,"Grade 5","Grade 4 - 6","Ruth Bader Ginsburg or RBG as she is known to her many admirers, is at the pinnacle of a profession in law as a justice of the Supreme Court of the United States. However, she faced great obstacles in her early career simply because she was a woman. This enlightening profile will inspire readers to not give in to discrimination as they discover more about this remarkable woman. Cartoon figures of Ginsburg and fun fact boxes make this volume even more inviting to all levels of readers, while carefully researched text provides essential detailed biographical information.","English",33.270000000000003,24.95,"347.73'2634--dc23","48 pp.",{"$f":"Table1[[#This Row],[QTY]]*Table1[[#This Row],['# Books]]","v":0},{"$f":"Table1[[#This Row],[QTY]]*Table1[[#This Row],[S&L Price]]","v":0}]
[null,34,94,"Meet the Greats",1,"Ruth Bader Ginsburg","eBook",null,"978-1-5382-5254-3",{"$f":"HYPERLINK(\"https://www.garethstevens.com/\"&Table1[[#This Row],[ISBN]],\"Weblink\")","v":"Weblink"},2020,"January 2020",null,null,"Author","Tim Cooke",null,null,null,null,"U",null,"Grade 5","Grade 4 - 6","Ruth Bader Ginsburg or RBG as she is known to her many admirers, is at the pinnacle of a profession in law as a justice of the Supreme Court of the United States. However, she faced great obstacles in her early career simply because she was a woman. This enlightening profile will inspire readers to not give in to discrimination as they discover more about this remarkable woman. Cartoon figures of Ginsburg and fun fact boxes make this volume even more inviting to all levels of readers, while carefully researched text provides essential detailed biographical information.","English",33.270000000000003,24.95,"347.73'2634--dc23","48 pp.",{"$f":"Table1[[#This Row],[QTY]]*Table1[[#This Row],['# Books]]","v":0},{"$f":"Table1[[#This Row],[QTY]]*Table1[[#This Row],[S&L Price]]","v":0}]
[null,35,94,"Meet the Greats",1,"Amelia Earhart","Library Bound Book",null,"978-1-4824-5946-3",{"$f":"HYPERLINK(\"https://www.garethstevens.com/\"&Table1[[#This Row],[ISBN]],\"Weblink\")","v":"Weblink"},2017,"January 2017","Library","7.250 X 9.250","Author","Tim Cooke","5.9","1",null,null,"U",null,"Grade 5","Grade 4 - 6","Amelia Earhart, the pioneering pilot of the early 20th century, had a remarkable spirit and great tenacity. Her story has something to teach us all about perseverance in the face of adversity. This superb biography takes readers aboard the cockpit with Earhart on a journey through her life, from her first encounter with an airplane to her unsolved disappearance over the Pacific Ocean. Future aviation experts will be especially interested in the current theories about her fate and impressed by historic photographs and details about Earhart’s extraordinary achievements.","English",33.270000000000003,24.95,"629.13092--dc23","48 pp.",{"$f":"Table1[[#This Row],[QTY]]*Table1[[#This Row],['# Books]]","v":0},{"$f":"Table1[[#This Row],[QTY]]*Table1[[#This Row],[S&L Price]]","v":0}]
[null,35,94,"Meet the Greats",1,"Amelia Earhart","eBook",null,"978-1-4824-5947-0",{"$f":"HYPERLINK(\"https://www.garethstevens.com/\"&Table1[[#This Row],[ISBN]],\"Weblink\")","v":"Weblink"},2017,"January 2017",null,null,"Author","Tim Cooke","5.9","1",null,null,"U",null,"Grade 5","Grade 4 - 6","Amelia Earhart, the pioneering pilot of the early 20th century, had a remarkable spirit and great tenacity. Her story has something to teach us all about perseverance in the face of adversity. This superb biography takes readers aboard the cockpit with Earhart on a journey through her life, from her first encounter with an airplane to her unsolved disappearance over the Pacific Ocean. Future aviation experts will be especially interested in the current theories about her fate and impressed by historic photographs and details about Earhart’s extraordinary achievements.","English",33.270000000000003,24.95,"629.13092--dc23","48 pp.",{"$f":"Table1[[#This Row],[QTY]]*Table1[[#This Row],['# Books]]","v":0},{"$f":"Table1[[#This Row],[QTY]]*Table1[[#This Row],[S&L Price]]","v":0}]
[null,35,94,"Meet the Greats",1,"Anne Frank","Library Bound Book",null,"978-1-5382-2569-1",{"$f":"HYPERLINK(\"https://www.garethstevens.com/\"&Table1[[#This Row],[ISBN]],\"Weblink\")","v":"Weblink"},2019,"August 2018","Library","7.250 X 9.250","Author","Tim Cooke","6.1","1",null,null,"U",null,"Grade 5","Grade 4 - 6","In 1942, a young Jewish girl named Anne Frank received a diary from her parents for her thirteenth birthday. Today, millions of people have read the compelling, heartfelt diary entries Frank recorded while living in hiding to escape Nazi persecution. Her work is an invaluable account of the Holocaust, an iconic classic of war literature, and a testament to her own hopeful and unbreakable spirit. This biography introduces readers to Frank's life and the legacy she left behind, complete with photographs and fact boxes. Readers will be inspired by Frank's incredible story and her essential contribution to recorded history.","English",33.270000000000003,24.95,"940.5318092--dc23","48 pp.",{"$f":"Table1[[#This Row],[QTY]]*Table1[[#This Row],['# Books]]","v":0},{"$f":"Table1[[#This Row],[QTY]]*Table1[[#This Row],[S&L Price]]","v":0}]
[null,35,94,"Meet the Greats",1,"Anne Frank","eBook",null,"978-1-5382-2571-4",{"$f":"HYPERLINK(\"https://www.garethstevens.com/\"&Table1[[#This Row],[ISBN]],\"Weblink\")","v":"Weblink"},2019,"August 2018",null,null,"Author","Tim Cooke","6.1","1",null,null,"U",null,"Grade 5","Grade 4 - 6","In 1942, a young Jewish girl named Anne Frank received a diary from her parents for her thirteenth birthday. Today, millions of people have read the compelling, heartfelt diary entries Frank recorded while living in hiding to escape Nazi persecution. Her work is an invaluable account of the Holocaust, an iconic classic of war literature, and a testament to her own hopeful and unbreakable spirit. This biography introduces readers to Frank's life and the legacy she left behind, complete with photographs and fact boxes. Readers will be inspired by Frank's incredible story and her essential contribution to recorded history.","English",33.270000000000003,24.95,"940.5318092--dc23","48 pp.",{"$f":"Table1[[#This Row],[QTY]]*Table1[[#This Row],['# Books]]","v":0},{"$f":"Table1[[#This Row],[QTY]]*Table1[[#This Row],[S&L Price]]","v":0}]
[null,35,94,"Meet the Greats",1,"Barack Obama","Library Bound Book",null,"978-1-5382-2572-1",{"$f":"HYPERLINK(\"https://www.garethstevens.com/\"&Table1[[#This Row],[ISBN]],\"Weblink\")","v":"Weblink"},2019,"August 2018","Library","7.250 X 9.250","Author","Tim Cooke","6.3","1","14",null,"U",null,"Grade 5","Grade 4 - 6","Even though Barack Obama is recognizable to young readers, do they know his life story and all that he's accomplished? This volume bridges the gap between news reports of his presidency and what elementary readers really want to know about the first black president. Pictures on each page and inspirational quotes lead readers effortlessly through the meticulously uncomplicated and age-appropriate language. This highly requested biography is sure to be a quick hit in any collection.","English",33.270000000000003,24.95,"973.932092--dc23","48 pp.",{"$f":"Table1[[#This Row],[QTY]]*Table1[[#This Row],['# Books]]","v":0},{"$f":"Table1[[#This Row],[QTY]]*Table1[[#This Row],[S&L Price]]","v":0}]
[null,35,94,"Meet the Greats",1,"Barack Obama","eBook",null,"978-1-5382-2574-5",{"$f":"HYPERLINK(\"https://www.garethstevens.com/\"&Table1[[#This Row],[ISBN]],\"Weblink\")","v":"Weblink"},2019,"August 2018",null,null,"Author","Tim Cooke","6.3","1","14",null,"U",null,"Grade 5","Grade 4 - 6","Even though Barack Obama is recognizable to young readers, do they know his life story and all that he's accomplished? This volume bridges the gap between news reports of his presidency and what elementary readers really want to know about the first black president. Pictures on each page and inspirational quotes lead readers effortlessly through the meticulously uncomplicated and age-appropriate language. This highly requested biography is sure to be a quick hit in any collection.","English",33.270000000000003,24.95,"973.932092--dc23","48 pp.",{"$f":"Table1[[#This Row],[QTY]]*Table1[[#This Row],['# Books]]","v":0},{"$f":"Table1[[#This Row],[QTY]]*Table1[[#This Row],[S&L Price]]","v":0}]
[null,35,94,"Meet the Greats",1,"Florence Nightingale","Library Bound Book",null,"978-1-4824-5950-0",{"$f":"HYPERLINK(\"https://www.garethstevens.com/\"&Table1[[#This Row],[ISBN]],\"Weblink\")","v":"Weblink"},2017,"January 2017","Library","7.250 X 9.250","Author","Tim Cooke","5.8","1",null,null,"U",null,"Grade 5","Grade 4 - 6","Florence Nightingale’s name is perhaps more familiar than her reputation as the founder of modern nursing. This notable biography, full of striking photographs and images, explains how this remarkable woman bucked societal pressure to become a nurse—the “Lady with the Lamp.” Nightingale’s work in military hospitals during the Crimean War was the beginning of great reforms in hospitals all over the world. Spellbound readers will be aghast to learn of the appalling conditions of hospitals of the 19th century and grateful for Nightingale’s persistence in improving medical care.","English",33.270000000000003,24.95,"610.73--dc23","48 pp.",{"$f":"Table1[[#This Row],[QTY]]*Table1[[#This Row],['# Books]]","v":0},{"$f":"Table1[[#This Row],[QTY]]*Table1[[#This Row],[S&L Price]]","v":0}]
[null,35,94,"Meet the Greats",1,"Florence Nightingale","eBook",null,"978-1-4824-5951-7",{"$f":"HYPERLINK(\"https://www.garethstevens.com/\"&Table1[[#This Row],[ISBN]],\"Weblink\")","v":"Weblink"},2017,"January 2017",null,null,"Author","Tim Cooke","5.8","1",null,null,"U",null,"Grade 5","Grade 4 - 6","Florence Nightingale’s name is perhaps more familiar than her reputation as the founder of modern nursing. This notable biography, full of striking photographs and images, explains how this remarkable woman bucked societal pressure to become a nurse—the “Lady with the Lamp.” Nightingale’s work in military hospitals during the Crimean War was the beginning of great reforms in hospitals all over the world. Spellbound readers will be aghast to learn of the appalling conditions of hospitals of the 19th century and grateful for Nightingale’s persistence in improving medical care.","English",33.270000000000003,24.95,"610.73--dc23","48 pp.",{"$f":"Table1[[#This Row],[QTY]]*Table1[[#This Row],['# Books]]","v":0},{"$f":"Table1[[#This Row],[QTY]]*Table1[[#This Row],[S&L Price]]","v":0}]
[null,35,94,"Meet the Greats",1,"Mahatma Gandhi","Library Bound Book",null,"978-1-5382-2584-4",{"$f":"HYPERLINK(\"https://www.garethstevens.com/\"&Table1[[#This Row],[ISBN]],\"Weblink\")","v":"Weblink"},2019,"August 2018","Library","7.250 X 9.250","Author","Tim Cooke","6.2","1",null,null,"U",null,"Grade 5","Grade 4 - 6","One of the most well-known activists in human history, Mahatma Gandhi's life story is a fascinating one. An iconic leader of peaceful protests, Gandhi led acts of civil disobedience in the fight for India's independence from Britain. Readers of this biography will learn all about Gandhi's life, from his childhood to his incredible achievements in politics and activism. Stunning photographs and images illustrate the story of Gandhi's life, while fun fact boxes capture important information. This peaceful leader's life story is sure to inspire readers and encourage a passion for activism.","English",33.270000000000003,24.95,"954.03'5092--dc23","48 pp.",{"$f":"Table1[[#This Row],[QTY]]*Table1[[#This Row],['# Books]]","v":0},{"$f":"Table1[[#This Row],[QTY]]*Table1[[#This Row],[S&L Price]]","v":0}]
[null,35,94,"Meet the Greats",1,"Mahatma Gandhi","eBook",null,"978-1-5382-2586-8",{"$f":"HYPERLINK(\"https://www.garethstevens.com/\"&Table1[[#This Row],[ISBN]],\"Weblink\")","v":"Weblink"},2019,"August 2018",null,null,"Author","Tim Cooke","6.2","1",null,null,"U",null,"Grade 5","Grade 4 - 6","One of the most well-known activists in human history, Mahatma Gandhi's life story is a fascinating one. An iconic leader of peaceful protests, Gandhi led acts of civil disobedience in the fight for India's independence from Britain. Readers of this biography will learn all about Gandhi's life, from his childhood to his incredible achievements in politics and activism. Stunning photographs and images illustrate the story of Gandhi's life, while fun fact boxes capture important information. This peaceful leader's life story is sure to inspire readers and encourage a passion for activism.","English",33.270000000000003,24.95,"954.03'5092--dc23","48 pp.",{"$f":"Table1[[#This Row],[QTY]]*Table1[[#This Row],['# Books]]","v":0},{"$f":"Table1[[#This Row],[QTY]]*Table1[[#This Row],[S&L Price]]","v":0}]
[null,35,94,"Meet the Greats",1,"Malala Yousafzai","Library Bound Book",null,"978-1-5382-2578-3",{"$f":"HYPERLINK(\"https://www.garethstevens.com/\"&Table1[[#This Row],[ISBN]],\"Weblink\")","v":"Weblink"},2019,"August 2018","Library","7.250 X 9.250","Author","Tim Cooke","5.9","1",null,null,"U",null,"Grade 5","Grade 4 - 6","Approximately 130 million school-aged girls around the world are not receiving an education. One of the most powerful figures in the fight for education equality is Malala Yousafzai, a Pakistani teen who has inspired the world with her fearless activism and public speaking. When she was 11 years old, Yousafzai gave her first speech against the Taliban's prohibition of education for girls. At only 15 years old, Yousafzai survived an assassination attempt from the Taliban. This biography introduces readers to Yousafzai's incredible life. Stunning photographs and images illustrate her heroic story, while fact boxes highlight important information. Readers will be inspired by Yousafzai's fearless spirit and amazing accomplishments.","English",33.270000000000003,24.95,"371.822095491--dc23","48 pp.",{"$f":"Table1[[#This Row],[QTY]]*Table1[[#This Row],['# Books]]","v":0},{"$f":"Table1[[#This Row],[QTY]]*Table1[[#This Row],[S&L Price]]","v":0}]
[null,35,94,"Meet the Greats",1,"Malala Yousafzai","eBook",null,"978-1-5382-2580-6",{"$f":"HYPERLINK(\"https://www.garethstevens.com/\"&Table1[[#This Row],[ISBN]],\"Weblink\")","v":"Weblink"},2019,"August 2018",null,null,"Author","Tim Cooke","5.9","1",null,null,"U",null,"Grade 5","Grade 4 - 6","Approximately 130 million school-aged girls around the world are not receiving an education. One of the most powerful figures in the fight for education equality is Malala Yousafzai, a Pakistani teen who has inspired the world with her fearless activism and public speaking. When she was 11 years old, Yousafzai gave her first speech against the Taliban's prohibition of education for girls. At only 15 years old, Yousafzai survived an assassination attempt from the Taliban. This biography introduces readers to Yousafzai's incredible life. Stunning photographs and images illustrate her heroic story, while fact boxes highlight important information. Readers will be inspired by Yousafzai's fearless spirit and amazing accomplishments.","English",33.270000000000003,24.95,"371.822095491--dc23","48 pp.",{"$f":"Table1[[#This Row],[QTY]]*Table1[[#This Row],['# Books]]","v":0},{"$f":"Table1[[#This Row],[QTY]]*Table1[[#This Row],[S&L Price]]","v":0}]
[null,35,94,"Meet the Greats",1,"Martin Luther King Jr.","Library Bound Book",null,"978-1-4824-5954-8",{"$f":"HYPERLINK(\"https://www.garethstevens.com/\"&Table1[[#This Row],[ISBN]],\"Weblink\")","v":"Weblink"},2017,"January 2017","Library","7.250 X 9.250","Author","Tim Cooke","6.1","1",null,null,"T",null,"Grade 5","Grade 4 - 6","Martin Luther King Jr., the iconic civil rights leader, was born into a world where he did not enjoy the same rights or opportunities as white Americans. Yet, he prompted great societal change through remarkable, peaceful means. This compelling and comprehensive biography takes readers on the journey of King’s life from young Georgia pastor to the iconic trailblazer who met a tragic end. A timeline provides a summary of significant moments in King’s life. His key speeches and books are noted as well, so readers can continue to experience this extraordinary man’s powerful words, still relevant today.","English",33.270000000000003,24.95,"323.092--dc23","48 pp.",{"$f":"Table1[[#This Row],[QTY]]*Table1[[#This Row],['# Books]]","v":0},{"$f":"Table1[[#This Row],[QTY]]*Table1[[#This Row],[S&L Price]]","v":0}]
[null,35,94,"Meet the Greats",1,"Martin Luther King Jr.","eBook",null,"978-1-4824-5955-5",{"$f":"HYPERLINK(\"https://www.garethstevens.com/\"&Table1[[#This Row],[ISBN]],\"Weblink\")","v":"Weblink"},2017,"January 2017",null,null,"Author","Tim Cooke","6.1","1",null,null,"T",null,"Grade 5","Grade 4 - 6","Martin Luther King Jr., the iconic civil rights leader, was born into a world where he did not enjoy the same rights or opportunities as white Americans. Yet, he prompted great societal change through remarkable, peaceful means. This compelling and comprehensive biography takes readers on the journey of King’s life from young Georgia pastor to the iconic trailblazer who met a tragic end. A timeline provides a summary of significant moments in King’s life. His key speeches and books are noted as well, so readers can continue to experience this extraordinary man’s powerful words, still relevant today.","English",33.270000000000003,24.95,"323.092--dc23","48 pp.",{"$f":"Table1[[#This Row],[QTY]]*Table1[[#This Row],['# Books]]","v":0},{"$f":"Table1[[#This Row],[QTY]]*Table1[[#This Row],[S&L Price]]","v":0}]
[null,35,94,"Meet the Greats",1,"Mozart","Library Bound Book",null,"978-1-4824-5958-6",{"$f":"HYPERLINK(\"https://www.garethstevens.com/\"&Table1[[#This Row],[ISBN]],\"Weblink\")","v":"Weblink"},2017,"January 2017","Library","7.250 X 9.250","Author","Tim Cooke","5.7","1",null,null,"U",null,"Grade 5","Grade 4 - 6","Mozart’s short life produced a truly impressive collection of masterworks recognizable even to those who don’t know much about classical music. This biography of the maestro, from child prodigy to his mysterious death at the age of 35, will fascinate readers, who will come to appreciate Mozart’s lasting contribution to music. Colorful illustrations and “Quick Facts” boxes are inviting elements, while carefully chosen images provide understanding about the culture of that time period in Europe.","English",33.270000000000003,24.95,"780’.92--dc23","48 pp.",{"$f":"Table1[[#This Row],[QTY]]*Table1[[#This Row],['# Books]]","v":0},{"$f":"Table1[[#This Row],[QTY]]*Table1[[#This Row],[S&L Price]]","v":0}]
[null,35,94,"Meet the Greats",1,"Mozart","eBook",null,"978-1-4824-5959-3",{"$f":"HYPERLINK(\"https://www.garethstevens.com/\"&Table1[[#This Row],[ISBN]],\"Weblink\")","v":"Weblink"},2017,"January 2017",null,null,"Author","Tim Cooke","5.7","1",null,null,"U",null,"Grade 5","Grade 4 - 6","Mozart’s short life produced a truly impressive collection of masterworks recognizable even to those who don’t know much about classical music. This biography of the maestro, from child prodigy to his mysterious death at the age of 35, will fascinate readers, who will come to appreciate Mozart’s lasting contribution to music. Colorful illustrations and “Quick Facts” boxes are inviting elements, while carefully chosen images provide understanding about the culture of that time period in Europe.","English",33.270000000000003,24.95,"780’.92--dc23","48 pp.",{"$f":"Table1[[#This Row],[QTY]]*Table1[[#This Row],['# Books]]","v":0},{"$f":"Table1[[#This Row],[QTY]]*Table1[[#This Row],[S&L Price]]","v":0}]
[null,35,94,"Meet the Greats",1,"Pope Francis","Library Bound Book",null,"978-1-5382-2575-2",{"$f":"HYPERLINK(\"https://www.garethstevens.com/\"&Table1[[#This Row],[ISBN]],\"Weblink\")","v":"Weblink"},2019,"August 2018","Library","7.250 X 9.250","Author","Tim Cooke","6.3","1",null,null,"U",null,"Grade 5","Grade 4 - 6","Pope Francis has many \"firsts\" to his name. When he became the 266th pope of the Roman Catholic Church in 2013, he also became the first pope from the Western Hemisphere, the first from South America, and the first from the Jesuit order. During his papacy, Pope Francis has been outspoken about social and environmental issues, supporting the scientific evidence for global warming. This biography of Pope Francis's life shows readers the scope of his interesting life through stunning photographs and images. Fact boxes break important information into fun, bite-sized chunks.","English",33.270000000000003,24.95,"282.092--dc23","48 pp.",{"$f":"Table1[[#This Row],[QTY]]*Table1[[#This Row],['# Books]]","v":0},{"$f":"Table1[[#This Row],[QTY]]*Table1[[#This Row],[S&L Price]]","v":0}]
[null,35,94,"Meet the Greats",1,"Pope Francis","eBook",null,"978-1-5382-2577-6",{"$f":"HYPERLINK(\"https://www.garethstevens.com/\"&Table1[[#This Row],[ISBN]],\"Weblink\")","v":"Weblink"},2019,"August 2018",null,null,"Author","Tim Cooke","6.3","1",null,null,"U",null,"Grade 5","Grade 4 - 6","Pope Francis has many \"firsts\" to his name. When he became the 266th pope of the Roman Catholic Church in 2013, he also became the first pope from the Western Hemisphere, the first from South America, and the first from the Jesuit order. During his papacy, Pope Francis has been outspoken about social and environmental issues, supporting the scientific evidence for global warming. This biography of Pope Francis's life shows readers the scope of his interesting life through stunning photographs and images. Fact boxes break important information into fun, bite-sized chunks.","English",33.270000000000003,24.95,"282.092--dc23","48 pp.",{"$f":"Table1[[#This Row],[QTY]]*Table1[[#This Row],['# Books]]","v":0},{"$f":"Table1[[#This Row],[QTY]]*Table1[[#This Row],[S&L Price]]","v":0}]
[null,35,94,"Meet the Greats",1,"Princess Diana","Library Bound Book",null,"978-1-5382-2581-3",{"$f":"HYPERLINK(\"https://www.garethstevens.com/\"&Table1[[#This Row],[ISBN]],\"Weblink\")","v":"Weblink"},2019,"August 2018","Library","7.250 X 9.250","Author","Tim Cooke","6.1","1",null,null,"U",null,"Grade 5","Grade 4 - 6","The royal family of Britain has always been in the spotlight, but few figures have been as beloved as Princess Diana. When Lady Diana Spencer married Prince Charles in 1981 at St. Paul's Cathedral, there were 600,000 people in the streets of London and a TV audience of 750 million viewers. This beautiful biography shows readers the life and work of Princess Diana, who used her celebrity status to do amazing charitable works. One of her most passionate causes was raising awareness of AIDS and challenging the stigma these patients faced. Full-color photographs and images illustrate Princess Diana's story, while fun fact boxes offer bite-sized bits of information.","English",33.270000000000003,24.95,"941.085092--dc23","48 pp.",{"$f":"Table1[[#This Row],[QTY]]*Table1[[#This Row],['# Books]]","v":0},{"$f":"Table1[[#This Row],[QTY]]*Table1[[#This Row],[S&L Price]]","v":0}]
[null,35,94,"Meet the Greats",1,"Princess Diana","eBook",null,"978-1-5382-2583-7",{"$f":"HYPERLINK(\"https://www.garethstevens.com/\"&Table1[[#This Row],[ISBN]],\"Weblink\")","v":"Weblink"},2019,"August 2018",null,null,"Author","Tim Cooke","6.1","1",null,null,"U",null,"Grade 5","Grade 4 - 6","The royal family of Britain has always been in the spotlight, but few figures have been as beloved as Princess Diana. When Lady Diana Spencer married Prince Charles in 1981 at St. Paul's Cathedral, there were 600,000 people in the streets of London and a TV audience of 750 million viewers. This beautiful biography shows readers the life and work of Princess Diana, who used her celebrity status to do amazing charitable works. One of her most passionate causes was raising awareness of AIDS and challenging the stigma these patients faced. Full-color photographs and images illustrate Princess Diana's story, while fun fact boxes offer bite-sized bits of information.","English",33.270000000000003,24.95,"941.085092--dc23","48 pp.",{"$f":"Table1[[#This Row],[QTY]]*Table1[[#This Row],['# Books]]","v":0},{"$f":"Table1[[#This Row],[QTY]]*Table1[[#This Row],[S&L Price]]","v":0}]
[null,35,94,"Meet the Greats",1,"Sacagawea","Library Bound Book",null,"978-1-4824-5962-3",{"$f":"HYPERLINK(\"https://www.garethstevens.com/\"&Table1[[#This Row],[ISBN]],\"Weblink\")","v":"Weblink"},2017,"January 2017","Library","7.250 X 9.250","Author","Tim Cooke","5.9","1",null,null,"U",null,"Grade 5","Grade 4 - 6","Sacagawea’s critical role in the Lewis and Clark Expedition of 1804 to 1806 is irrefutable. Without her, the Corps of Discovery’s exploration of the newly acquired western territory might not have been successful. However, her life before that celebrated journey is just as absorbing. This volume, with a colorful design, fun fact boxes, and historical artwork, tells the intriguing story of this Shoshone woman, including such life-changing events as her kidnapping at a young age and marriage to a French fur trapper. Readers will undoubtedly admire this woman as they learn of her courageous acts and of the Native American cultures to which she belonged.","English",33.270000000000003,24.95,"978.0049745740092--dc23","48 pp.",{"$f":"Table1[[#This Row],[QTY]]*Table1[[#This Row],['# Books]]","v":0},{"$f":"Table1[[#This Row],[QTY]]*Table1[[#This Row],[S&L Price]]","v":0}]
[null,35,94,"Meet the Greats",1,"Sacagawea","eBook",null,"978-1-4824-5963-0",{"$f":"HYPERLINK(\"https://www.garethstevens.com/\"&Table1[[#This Row],[ISBN]],\"Weblink\")","v":"Weblink"},2017,"January 2017",null,null,"Author","Tim Cooke","5.9","1",null,null,"U",null,"Grade 5","Grade 4 - 6","Sacagawea’s critical role in the Lewis and Clark Expedition of 1804 to 1806 is irrefutable. Without her, the Corps of Discovery’s exploration of the newly acquired western territory might not have been successful. However, her life before that celebrated journey is just as absorbing. This volume, with a colorful design, fun fact boxes, and historical artwork, tells the intriguing story of this Shoshone woman, including such life-changing events as her kidnapping at a young age and marriage to a French fur trapper. Readers will undoubtedly admire this woman as they learn of her courageous acts and of the Native American cultures to which she belonged.","English",33.270000000000003,24.95,"978.0049745740092--dc23","48 pp.",{"$f":"Table1[[#This Row],[QTY]]*Table1[[#This Row],['# Books]]","v":0},{"$f":"Table1[[#This Row],[QTY]]*Table1[[#This Row],[S&L Price]]","v":0}]
[null,35,94,"Meet the Greats",1,"William Shakespeare","Library Bound Book",null,"978-1-4824-5966-1",{"$f":"HYPERLINK(\"https://www.garethstevens.com/\"&Table1[[#This Row],[ISBN]],\"Weblink\")","v":"Weblink"},2017,"January 2017","Library","7.250 X 9.250","Author","Tim Cooke","5.7","1",null,null,"U",null,"Grade 5","Grade 4 - 6","William Shakespeare’s influence on drama and literature—and even the English language itself—is unprecedented. Surprisingly, the renowned playwright’s life is full of mystery. This biography presents what is known about Shakespeare as well as the current theories about the unknown, even touching on the controversies about the authorship of some of his plays. Readers will also become familiar with 16th-century England, the monarchs Shakespeare entertained, and what being an actor was like at that time. Doubtless, the introduction to his masterpieces will inspire young thespians to read or attend one of the dramatist’s great works.","English",33.270000000000003,24.95,"822.3’3--dc23","48 pp.",{"$f":"Table1[[#This Row],[QTY]]*Table1[[#This Row],['# Books]]","v":0},{"$f":"Table1[[#This Row],[QTY]]*Table1[[#This Row],[S&L Price]]","v":0}]
[null,35,94,"Meet the Greats",1,"William Shakespeare","eBook",null,"978-1-4824-5967-8",{"$f":"HYPERLINK(\"https://www.garethstevens.com/\"&Table1[[#This Row],[ISBN]],\"Weblink\")","v":"Weblink"},2017,"January 2017",null,null,"Author","Tim Cooke","5.7","1",null,null,"U",null,"Grade 5","Grade 4 - 6","William Shakespeare’s influence on drama and literature—and even the English language itself—is unprecedented. Surprisingly, the renowned playwright’s life is full of mystery. This biography presents what is known about Shakespeare as well as the current theories about the unknown, even touching on the controversies about the authorship of some of his plays. Readers will also become familiar with 16th-century England, the monarchs Shakespeare entertained, and what being an actor was like at that time. Doubtless, the introduction to his masterpieces will inspire young thespians to read or attend one of the dramatist’s great works.","English",33.270000000000003,24.95,"822.3’3--dc23","48 pp.",{"$f":"Table1[[#This Row],[QTY]]*Table1[[#This Row],['# Books]]","v":0},{"$f":"Table1[[#This Row],[QTY]]*Table1[[#This Row],[S&L Price]]","v":0}]
[null,36,null,"Greatest of All Time: Sports Stars",6,"Greatest of All Time: Sports Stars","Library Set",null,"978-1-5382-4891-1",{"$f":"HYPERLINK(\"https://www.garethstevens.com/\"&Table1[[#This Row],[ISBN]],\"Weblink\")","v":"Weblink"},2020,"January 2020","Library","8.500 X 11.00","","",null,null,null,null,null,null,"Grade 3 - 4","Grade 3 - 6","The acronym G.O.A.T. is splashed across sports magazines, fan websites, and stadium bleachers. Sports fans love to debate which athletes are the Greatest Of All Time. They'll love to compare their opinions with the athletes featured in this energetic set, which covers wrestling, baseball, basketball, hockey, football, and track. Along with incredible feats and jaw-dropping records, readers will learn biographical information about famous and not so famous athletes. Vivid photographs of competitors in action will thrill sports enthusiasts of all ages. Features include: Tons of sports stats to satisfy the most voracious fans. High-interest topic that will appeal to all levels of readers. Supports understanding how an author uses reasons and evidence to support points in a text, which is a standard of the English Language Arts Common Core.","English",159.6,119.7,null,"32 pp.",{"$f":"Table1[[#This Row],[QTY]]*Table1[[#This Row],['# Books]]","v":0},{"$f":"Table1[[#This Row],[QTY]]*Table1[[#This Row],[S&L Price]]","v":0}]
[null,36,null,"Greatest of All Time: Sports Stars",1,"The Greatest Baseball Players of All Time","Library Bound Book",null,"978-1-5382-4773-0",{"$f":"HYPERLINK(\"https://www.garethstevens.com/\"&Table1[[#This Row],[ISBN]],\"Weblink\")","v":"Weblink"},2020,"January 2020","Library","8.500 X 11.00","Author","Michael Rajczak",null,null,null,null,"O",null,"Grade 3 - 4","Grade 3 - 6","What makes a baseball player one of the greatest of all time? Some say a player should be a member of the Baseball Hall of Fame. Others think it has something to do with home runs or strikeouts. Nearly 20,000 people have played Major League Baseball since the first official game in 1871. In this fan-pleasing volume, readers discover amazing facts about great hitters like Babe Ruth and Hank Aaron. Was old-timer Horus Wagner or recently retired Derek Jeter the best shortstop? Readers will decide. Position by position, this fascinating book, replete with action-packed photographs, highlights the best of the best.","English",26.6,19.95,"796.3570922--dc23","32 pp.",{"$f":"Table1[[#This Row],[QTY]]*Table1[[#This Row],['# Books]]","v":0},{"$f":"Table1[[#This Row],[QTY]]*Table1[[#This Row],[S&L Price]]","v":0}]
[null,36,null,"Greatest of All Time: Sports Stars",1,"The Greatest Baseball Players of All Time","eBook",null,"978-1-5382-4774-7",{"$f":"HYPERLINK(\"https://www.garethstevens.com/\"&Table1[[#This Row],[ISBN]],\"Weblink\")","v":"Weblink"},2020,"January 2020",null,null,"Author","Michael Rajczak",null,null,null,null,"O",null,"Grade 3 - 4","Grade 3 - 6","What makes a baseball player one of the greatest of all time? Some say a player should be a member of the Baseball Hall of Fame. Others think it has something to do with home runs or strikeouts. Nearly 20,000 people have played Major League Baseball since the first official game in 1871. In this fan-pleasing volume, readers discover amazing facts about great hitters like Babe Ruth and Hank Aaron. Was old-timer Horus Wagner or recently retired Derek Jeter the best shortstop? Readers will decide. Position by position, this fascinating book, replete with action-packed photographs, highlights the best of the best.","English",26.6,19.95,"796.3570922--dc23","32 pp.",{"$f":"Table1[[#This Row],[QTY]]*Table1[[#This Row],['# Books]]","v":0},{"$f":"Table1[[#This Row],[QTY]]*Table1[[#This Row],[S&L Price]]","v":0}]
[null,36,null,"Greatest of All Time: Sports Stars",1,"The Greatest Basketball Players of All Time","Library Bound Book",null,"978-1-5382-4777-8",{"$f":"HYPERLINK(\"https://www.garethstevens.com/\"&Table1[[#This Row],[ISBN]],\"Weblink\")","v":"Weblink"},2020,"January 2020","Library","8.500 X 11.00","Author","Matt Jankowski",null,null,null,null,"O",null,"Grade 3 - 4","Grade 3 - 6","From the inception of the NBA in 1946 to the athletes of the league today, this entertaining volume serves as an introduction to the greatest superstars to play the game. The thrilling text is accessible to those who have never played basketball before and includes information on positions, how the game works, and which stats make the difference. Also featured is a section on the WNBA and how women are redefining what it means to excel. Readers will come for the action photographs and stay for the astonishing statistics as they imagine themselves watching the greatest to ever compete.","English",26.6,19.95,"796.323--dc23","32 pp.",{"$f":"Table1[[#This Row],[QTY]]*Table1[[#This Row],['# Books]]","v":0},{"$f":"Table1[[#This Row],[QTY]]*Table1[[#This Row],[S&L Price]]","v":0}]
[null,36,null,"Greatest of All Time: Sports Stars",1,"The Greatest Basketball Players of All Time","eBook",null,"978-1-5382-4778-5",{"$f":"HYPERLINK(\"https://www.garethstevens.com/\"&Table1[[#This Row],[ISBN]],\"Weblink\")","v":"Weblink"},2020,"January 2020",null,null,"Author","Matt Jankowski",null,null,null,null,"O",null,"Grade 3 - 4","Grade 3 - 6","From the inception of the NBA in 1946 to the athletes of the league today, this entertaining volume serves as an introduction to the greatest superstars to play the game. The thrilling text is accessible to those who have never played basketball before and includes information on positions, how the game works, and which stats make the difference. Also featured is a section on the WNBA and how women are redefining what it means to excel. Readers will come for the action photographs and stay for the astonishing statistics as they imagine themselves watching the greatest to ever compete.","English",26.6,19.95,"796.323--dc23","32 pp.",{"$f":"Table1[[#This Row],[QTY]]*Table1[[#This Row],['# Books]]","v":0},{"$f":"Table1[[#This Row],[QTY]]*Table1[[#This Row],[S&L Price]]","v":0}]
[null,36,null,"Greatest of All Time: Sports Stars",1,"The Greatest Football Players of All Time","Library Bound Book",null,"978-1-5382-4781-5",{"$f":"HYPERLINK(\"https://www.garethstevens.com/\"&Table1[[#This Row],[ISBN]],\"Weblink\")","v":"Weblink"},2020,"January 2020","Library","8.500 X 11.00","Author","Matt Jankowski",null,null,null,null,"O",null,"Grade 3 - 4","Grade 3 - 6","\"Hut, Hut, Hike!\" This engaging volume serves as an introduction to some of the greatest athletes to grace the gridiron. Readers will discover the players who dominated their respective eras and see where their current favorites rank among the best of the best. The compelling text is organized by position so that any aspiring player can find an athlete to admire and strive to emulate. With gritty, star-studded photographs and flashy statistics tables, developing readers will go deep into this exciting text, learning as they imagine what it was like to play against the greatest of all time.","English",26.6,19.95,"796.3320922--dc23","32 pp.",{"$f":"Table1[[#This Row],[QTY]]*Table1[[#This Row],['# Books]]","v":0},{"$f":"Table1[[#This Row],[QTY]]*Table1[[#This Row],[S&L Price]]","v":0}]
[null,36,null,"Greatest of All Time: Sports Stars",1,"The Greatest Football Players of All Time","eBook",null,"978-1-5382-4782-2",{"$f":"HYPERLINK(\"https://www.garethstevens.com/\"&Table1[[#This Row],[ISBN]],\"Weblink\")","v":"Weblink"},2020,"January 2020",null,null,"Author","Matt Jankowski",null,null,null,null,"O",null,"Grade 3 - 4","Grade 3 - 6","\"Hut, Hut, Hike!\" This engaging volume serves as an introduction to some of the greatest athletes to grace the gridiron. Readers will discover the players who dominated their respective eras and see where their current favorites rank among the best of the best. The compelling text is organized by position so that any aspiring player can find an athlete to admire and strive to emulate. With gritty, star-studded photographs and flashy statistics tables, developing readers will go deep into this exciting text, learning as they imagine what it was like to play against the greatest of all time.","English",26.6,19.95,"796.3320922--dc23","32 pp.",{"$f":"Table1[[#This Row],[QTY]]*Table1[[#This Row],['# Books]]","v":0},{"$f":"Table1[[#This Row],[QTY]]*Table1[[#This Row],[S&L Price]]","v":0}]
[null,36,null,"Greatest of All Time: Sports Stars",1,"The Greatest Hockey Players of All Time","Library Bound Book",null,"978-1-5382-4785-3",{"$f":"HYPERLINK(\"https://www.garethstevens.com/\"&Table1[[#This Row],[ISBN]],\"Weblink\")","v":"Weblink"},2020,"January 2020","Library","8.500 X 11.00","Author","Eric Keppeler",null,null,null,null,"P",null,"Grade 3 - 4","Grade 3 - 6","Pucks and ice, sticks and nets, cheers and boos, ice hockey is one of the most popular sports in the world. Since the game was created in the 1800s in Canada, there have been many talented players who have risen to the top of the ranks. In this high-interest book, readers will learn about some of the greatest athletes ever to wield a hockey stick. Full-color photographs of the sport's greats will grab fans' attention. Stimulating facts about hockey, from its role in the Winter Olympics to the long history of the National Hockey League, will thoroughly appeal to all levels of readers.","English",26.6,19.95,"796.9620922--dc23","32 pp.",{"$f":"Table1[[#This Row],[QTY]]*Table1[[#This Row],['# Books]]","v":0},{"$f":"Table1[[#This Row],[QTY]]*Table1[[#This Row],[S&L Price]]","v":0}]
[null,36,null,"Greatest of All Time: Sports Stars",1,"The Greatest Hockey Players of All Time","eBook",null,"978-1-5382-4786-0",{"$f":"HYPERLINK(\"https://www.garethstevens.com/\"&Table1[[#This Row],[ISBN]],\"Weblink\")","v":"Weblink"},2020,"January 2020",null,null,"Author","Eric Keppeler",null,null,null,null,"P",null,"Grade 3 - 4","Grade 3 - 6","Pucks and ice, sticks and nets, cheers and boos, ice hockey is one of the most popular sports in the world. Since the game was created in the 1800s in Canada, there have been many talented players who have risen to the top of the ranks. In this high-interest book, readers will learn about some of the greatest athletes ever to wield a hockey stick. Full-color photographs of the sport's greats will grab fans' attention. Stimulating facts about hockey, from its role in the Winter Olympics to the long history of the National Hockey League, will thoroughly appeal to all levels of readers.","English",26.6,19.95,"796.9620922--dc23","32 pp.",{"$f":"Table1[[#This Row],[QTY]]*Table1[[#This Row],['# Books]]","v":0},{"$f":"Table1[[#This Row],[QTY]]*Table1[[#This Row],[S&L Price]]","v":0}]
[null,36,null,"Greatest of All Time: Sports Stars",1,"The Greatest Track Stars of All Time","Library Bound Book",null,"978-1-5382-4789-1",{"$f":"HYPERLINK(\"https://www.garethstevens.com/\"&Table1[[#This Row],[ISBN]],\"Weblink\")","v":"Weblink"},2020,"January 2020","Library","8.500 X 11.00","Author","Matt Jankowski",null,null,null,null,"P",null,"Grade 3 - 4","Grade 3 - 6","\"On your mark, get set, go!\" Readers will see if they can keep up as they race to read more about the fastest sprinters, longest jumpers, and strongest throwers of track and field. The inspiring text informs on each aspect of track and field, so every aspiring athlete can find a role model for their event. Readers will find stories of strength, resolve, and endurance among the featured athletes. Thrilling photographs and exciting graphics help readers envision themselves on the track alongside their favorite competitors.","English",26.6,19.95,"796.420922--dc23","32 pp.",{"$f":"Table1[[#This Row],[QTY]]*Table1[[#This Row],['# Books]]","v":0},{"$f":"Table1[[#This Row],[QTY]]*Table1[[#This Row],[S&L Price]]","v":0}]
[null,36,null,"Greatest of All Time: Sports Stars",1,"The Greatest Track Stars of All Time","eBook",null,"978-1-5382-4790-7",{"$f":"HYPERLINK(\"https://www.garethstevens.com/\"&Table1[[#This Row],[ISBN]],\"Weblink\")","v":"Weblink"},2020,"January 2020",null,null,"Author","Matt Jankowski",null,null,null,null,"P",null,"Grade 3 - 4","Grade 3 - 6","\"On your mark, get set, go!\" Readers will see if they can keep up as they race to read more about the fastest sprinters, longest jumpers, and strongest throwers of track and field. The inspiring text informs on each aspect of track and field, so every aspiring athlete can find a role model for their event. Readers will find stories of strength, resolve, and endurance among the featured athletes. Thrilling photographs and exciting graphics help readers envision themselves on the track alongside their favorite competitors.","English",26.6,19.95,"796.420922--dc23","32 pp.",{"$f":"Table1[[#This Row],[QTY]]*Table1[[#This Row],['# Books]]","v":0},{"$f":"Table1[[#This Row],[QTY]]*Table1[[#This Row],[S&L Price]]","v":0}]
[null,36,null,"Greatest of All Time: Sports Stars",1,"The Greatest Wrestlers of All Time","Library Bound Book",null,"978-1-5382-4793-8",{"$f":"HYPERLINK(\"https://www.garethstevens.com/\"&Table1[[#This Row],[ISBN]],\"Weblink\")","v":"Weblink"},2020,"January 2020","Library","8.500 X 11.00","Author","Kristen Nelson",null,null,null,null,"P",null,"Grade 3 - 4","Grade 3 - 6","What makes a great wrestler? Some might say it's technique. Others might look at strength. For those who love pro wrestling, the ultimate decider might be charisma! Both amateur wrestlers and professional wrestlers are incredible athletes that have accomplished great things in their sports. Often, wrestlers are great in both the amateur world and the professional ring. This book includes both, from Olympic medalists to WWE champions, as well as highlights the accomplishments of women in theses arenas. Detailed accounts of these stars' careers are accompanied by stats, full-color photographs, and plenty of inspiring content.","English",26.6,19.95,"796.8120922--dc23","32 pp.",{"$f":"Table1[[#This Row],[QTY]]*Table1[[#This Row],['# Books]]","v":0},{"$f":"Table1[[#This Row],[QTY]]*Table1[[#This Row],[S&L Price]]","v":0}]
[null,36,null,"Greatest of All Time: Sports Stars",1,"The Greatest Wrestlers of All Time","eBook",null,"978-1-5382-4794-5",{"$f":"HYPERLINK(\"https://www.garethstevens.com/\"&Table1[[#This Row],[ISBN]],\"Weblink\")","v":"Weblink"},2020,"January 2020",null,null,"Author","Kristen Nelson",null,null,null,null,"P",null,"Grade 3 - 4","Grade 3 - 6","What makes a great wrestler? Some might say it's technique. Others might look at strength. For those who love pro wrestling, the ultimate decider might be charisma! Both amateur wrestlers and professional wrestlers are incredible athletes that have accomplished great things in their sports. Often, wrestlers are great in both the amateur world and the professional ring. This book includes both, from Olympic medalists to WWE champions, as well as highlights the accomplishments of women in theses arenas. Detailed accounts of these stars' careers are accompanied by stats, full-color photographs, and plenty of inspiring content.","English",26.6,19.95,"796.8120922--dc23","32 pp.",{"$f":"Table1[[#This Row],[QTY]]*Table1[[#This Row],['# Books]]","v":0},{"$f":"Table1[[#This Row],[QTY]]*Table1[[#This Row],[S&L Price]]","v":0}]
[null,37,null,"Digital Insiders",6,"Digital Insiders","Library Set",null,"978-1-5382-4896-6",{"$f":"HYPERLINK(\"https://www.garethstevens.com/\"&Table1[[#This Row],[ISBN]],\"Weblink\")","v":"Weblink"},2020,"January 2020","Library","8.500 X 11.00","","",null,null,null,null,null,null,"Grade 3 - 4","Grade 3 - 6","Podcasts, vlogs, and blogs are made for all ages today. Despite age restrictions on some sites, kids are engaging with social media at younger ages. Many have their own YouTube channels and Twitch streams. With this set, readers learn more about what's happening behind the scenes with some of their favorite online innovators, from how content is created to how money is made as an online-only journalist or social media influencer. Each book includes history, major players and platforms, and how one can become successful in the new media landscape, all written with young readers in mind. Features include: Addresses online safety concerns for both content creators and users. Discusses ways elementary school readers can become part of these communities. Supports STEM curricula.","English",159.6,119.7,null,"32 pp.",{"$f":"Table1[[#This Row],[QTY]]*Table1[[#This Row],['# Books]]","v":0},{"$f":"Table1[[#This Row],[QTY]]*Table1[[#This Row],[S&L Price]]","v":0}]
[null,37,null,"Digital Insiders",1,"Bloggers","Library Bound Book",null,"978-1-5382-4749-5",{"$f":"HYPERLINK(\"https://www.garethstevens.com/\"&Table1[[#This Row],[ISBN]],\"Weblink\")","v":"Weblink"},2020,"January 2020","Library","8.500 X 11.00","Author","Abby Badach Doyle",null,null,null,null,"P",null,"Grade 3 - 4","Grade 3 - 6","Some bloggers write just for fun. Others turn their blogs into a full-time business. Did you ever wonder how they do it? In the enlightening pages of this volume, readers go behind the scenes of the blogosphere, the online community of bloggers and their readers. They get tips and tricks that bloggers use to build a fan base and learn how bloggers get their posts noticed on social media and search engines like Google. They'll also discover how a blog makes money through ads, sponsorships, and more. From food to fashion, gaming to gardening, there's a blog for every hobby.","English",26.6,19.95,"006.7/52--dc23","32 pp.",{"$f":"Table1[[#This Row],[QTY]]*Table1[[#This Row],['# Books]]","v":0},{"$f":"Table1[[#This Row],[QTY]]*Table1[[#This Row],[S&L Price]]","v":0}]
[null,37,null,"Digital Insiders",1,"Bloggers","eBook",null,"978-1-5382-4750-1",{"$f":"HYPERLINK(\"https://www.garethstevens.com/\"&Table1[[#This Row],[ISBN]],\"Weblink\")","v":"Weblink"},2020,"January 2020",null,null,"Author","Abby Badach Doyle",null,null,null,null,"P",null,"Grade 3 - 4","Grade 3 - 6","Some bloggers write just for fun. Others turn their blogs into a full-time business. Did you ever wonder how they do it? In the enlightening pages of this volume, readers go behind the scenes of the blogosphere, the online community of bloggers and their readers. They get tips and tricks that bloggers use to build a fan base and learn how bloggers get their posts noticed on social media and search engines like Google. They'll also discover how a blog makes money through ads, sponsorships, and more. From food to fashion, gaming to gardening, there's a blog for every hobby.","English",26.6,19.95,"006.7/52--dc23","32 pp.",{"$f":"Table1[[#This Row],[QTY]]*Table1[[#This Row],['# Books]]","v":0},{"$f":"Table1[[#This Row],[QTY]]*Table1[[#This Row],[S&L Price]]","v":0}]
[null,37,null,"Digital Insiders",1,"Gamers and Streamers","Library Bound Book",null,"978-1-5382-4753-2",{"$f":"HYPERLINK(\"https://www.garethstevens.com/\"&Table1[[#This Row],[ISBN]],\"Weblink\")","v":"Weblink"},2020,"January 2020","Library","8.500 X 11.00","Author, Author","Jonathan Bard, Mariel Bard",null,null,null,null,"P",null,"Grade 3 - 4","Grade 3 - 6","No longer are sports played only on a field or in an arena. Professional gaming leagues are gaining worldwide recognition for their exciting competitions and star players, most of whom rose to fame through online streaming. From the first video game tournament held in 1972 to today, gaming has come a long way. Major sports organizations, like the NBA and MLS, are sponsoring their own eSports leagues. This attention-grabbing volume dives into the rise of online games, the gamers who play them, and how gamers make a living as full-time streamers. Also discussed are online privacy best practices.","English",26.6,19.95,"794.8--dc23","32 pp.",{"$f":"Table1[[#This Row],[QTY]]*Table1[[#This Row],['# Books]]","v":0},{"$f":"Table1[[#This Row],[QTY]]*Table1[[#This Row],[S&L Price]]","v":0}]
[null,37,null,"Digital Insiders",1,"Gamers and Streamers","eBook",null,"978-1-5382-4754-9",{"$f":"HYPERLINK(\"https://www.garethstevens.com/\"&Table1[[#This Row],[ISBN]],\"Weblink\")","v":"Weblink"},2020,"January 2020",null,null,"Author, Author","Jonathan Bard, Mariel Bard",null,null,null,null,"P",null,"Grade 3 - 4","Grade 3 - 6","No longer are sports played only on a field or in an arena. Professional gaming leagues are gaining worldwide recognition for their exciting competitions and star players, most of whom rose to fame through online streaming. From the first video game tournament held in 1972 to today, gaming has come a long way. Major sports organizations, like the NBA and MLS, are sponsoring their own eSports leagues. This attention-grabbing volume dives into the rise of online games, the gamers who play them, and how gamers make a living as full-time streamers. Also discussed are online privacy best practices.","English",26.6,19.95,"794.8--dc23","32 pp.",{"$f":"Table1[[#This Row],[QTY]]*Table1[[#This Row],['# Books]]","v":0},{"$f":"Table1[[#This Row],[QTY]]*Table1[[#This Row],[S&L Price]]","v":0}]
[null,37,null,"Digital Insiders",1,"Online Journalists","Library Bound Book",null,"978-1-5382-4757-0",{"$f":"HYPERLINK(\"https://www.garethstevens.com/\"&Table1[[#This Row],[ISBN]],\"Weblink\")","v":"Weblink"},2020,"January 2020","Library","8.500 X 11.00","Author","Jill Keppeler",null,null,null,null,"Q",null,"Grade 3 - 4","Grade 3 - 6","Journalism has been a profession for a long time, but as news sources move online, it's changing into a field that makes increasing use of social media and other tools. This informative volume will show would-be writers and reporters how online journalists use these tools to investigate and deliver news, and how they can learn how to do this themselves. History and examples of online journalism will pull readers in, and tips for recognizing good sources and following journalism ethics codes will point budding journalists in the right direction.","English",26.6,19.95,"808'.06607--dc23","32 pp.",{"$f":"Table1[[#This Row],[QTY]]*Table1[[#This Row],['# Books]]","v":0},{"$f":"Table1[[#This Row],[QTY]]*Table1[[#This Row],[S&L Price]]","v":0}]
[null,37,null,"Digital Insiders",1,"Online Journalists","eBook",null,"978-1-5382-4758-7",{"$f":"HYPERLINK(\"https://www.garethstevens.com/\"&Table1[[#This Row],[ISBN]],\"Weblink\")","v":"Weblink"},2020,"January 2020",null,null,"Author","Jill Keppeler",null,null,null,null,"Q",null,"Grade 3 - 4","Grade 3 - 6","Journalism has been a profession for a long time, but as news sources move online, it's changing into a field that makes increasing use of social media and other tools. This informative volume will show would-be writers and reporters how online journalists use these tools to investigate and deliver news, and how they can learn how to do this themselves. History and examples of online journalism will pull readers in, and tips for recognizing good sources and following journalism ethics codes will point budding journalists in the right direction.","English",26.6,19.95,"808'.06607--dc23","32 pp.",{"$f":"Table1[[#This Row],[QTY]]*Table1[[#This Row],['# Books]]","v":0},{"$f":"Table1[[#This Row],[QTY]]*Table1[[#This Row],[S&L Price]]","v":0}]
[null,37,null,"Digital Insiders",1,"Podcasters","Library Bound Book",null,"978-1-5382-4761-7",{"$f":"HYPERLINK(\"https://www.garethstevens.com/\"&Table1[[#This Row],[ISBN]],\"Weblink\")","v":"Weblink"},2020,"January 2020","Library","8.500 X 11.00","Author","Abby Badach Doyle",null,null,null,null,"Q",null,"Grade 3 - 4","Grade 3 - 6","In the digital age, it's never been easier to broadcast your voice to the world. With podcasts, all you need is a microphone, a computer, some time, and a story to tell. Your readers will meet the radio and podcast pioneers who started this trend. Tech-savvy readers will love this behind-the-scenes look of how a podcast is made, and perhaps inspire them to start their own. This contemporary, high-interest volume makes the business side of podcasting relevant and relatable to young readers. Interesting facts about microphones, sound waves, and audio engineering add some science and physics fun.","English",26.6,19.95,"006.7'876--dc23","32 pp.",{"$f":"Table1[[#This Row],[QTY]]*Table1[[#This Row],['# Books]]","v":0},{"$f":"Table1[[#This Row],[QTY]]*Table1[[#This Row],[S&L Price]]","v":0}]
[null,37,null,"Digital Insiders",1,"Podcasters","eBook",null,"978-1-5382-4762-4",{"$f":"HYPERLINK(\"https://www.garethstevens.com/\"&Table1[[#This Row],[ISBN]],\"Weblink\")","v":"Weblink"},2020,"January 2020",null,null,"Author","Abby Badach Doyle",null,null,null,null,"Q",null,"Grade 3 - 4","Grade 3 - 6","In the digital age, it's never been easier to broadcast your voice to the world. With podcasts, all you need is a microphone, a computer, some time, and a story to tell. Your readers will meet the radio and podcast pioneers who started this trend. Tech-savvy readers will love this behind-the-scenes look of how a podcast is made, and perhaps inspire them to start their own. This contemporary, high-interest volume makes the business side of podcasting relevant and relatable to young readers. Interesting facts about microphones, sound waves, and audio engineering add some science and physics fun.","English",26.6,19.95,"006.7'876--dc23","32 pp.",{"$f":"Table1[[#This Row],[QTY]]*Table1[[#This Row],['# Books]]","v":0},{"$f":"Table1[[#This Row],[QTY]]*Table1[[#This Row],[S&L Price]]","v":0}]
[null,37,null,"Digital Insiders",1,"Social Media Influencers","Library Bound Book",null,"978-1-5382-4765-5",{"$f":"HYPERLINK(\"https://www.garethstevens.com/\"&Table1[[#This Row],[ISBN]],\"Weblink\")","v":"Weblink"},2020,"January 2020","Library","8.500 X 11.00","Author","Abby Badach Doyle",null,null,null,null,"P",null,"Grade 3 - 4","Grade 3 - 6","It seems crazy, but you really can make hundreds of thousands of dollars just by posting pictures online. \"Social media influencer\" is a real job for many people, and even some pets. This on-trend volume is filled with relatable examples similar to the posts young readers may see in feeds every day. Better yet, this book is a clever way to teach critical thinking skills, like how to spot an advertisement and why it matters if your favorite Instagrammer was paid to review a product. Developing readers will be hooked by this fun and educational look behind the scenes.","English",26.6,19.95,"302.23'1--dc23","32 pp.",{"$f":"Table1[[#This Row],[QTY]]*Table1[[#This Row],['# Books]]","v":0},{"$f":"Table1[[#This Row],[QTY]]*Table1[[#This Row],[S&L Price]]","v":0}]
[null,37,null,"Digital Insiders",1,"Social Media Influencers","eBook",null,"978-1-5382-4766-2",{"$f":"HYPERLINK(\"https://www.garethstevens.com/\"&Table1[[#This Row],[ISBN]],\"Weblink\")","v":"Weblink"},2020,"January 2020",null,null,"Author","Abby Badach Doyle",null,null,null,null,"P",null,"Grade 3 - 4","Grade 3 - 6","It seems crazy, but you really can make hundreds of thousands of dollars just by posting pictures online. \"Social media influencer\" is a real job for many people, and even some pets. This on-trend volume is filled with relatable examples similar to the posts young readers may see in feeds every day. Better yet, this book is a clever way to teach critical thinking skills, like how to spot an advertisement and why it matters if your favorite Instagrammer was paid to review a product. Developing readers will be hooked by this fun and educational look behind the scenes.","English",26.6,19.95,"302.23'1--dc23","32 pp.",{"$f":"Table1[[#This Row],[QTY]]*Table1[[#This Row],['# Books]]","v":0},{"$f":"Table1[[#This Row],[QTY]]*Table1[[#This Row],[S&L Price]]","v":0}]
[null,37,null,"Digital Insiders",1,"Vloggers","Library Bound Book",null,"978-1-5382-4769-3",{"$f":"HYPERLINK(\"https://www.garethstevens.com/\"&Table1[[#This Row],[ISBN]],\"Weblink\")","v":"Weblink"},2020,"January 2020","Library","8.500 X 11.00","Author","Benjamin Mark Schaefer",null,null,null,null,"P",null,"Grade 3 - 4","Grade 3 - 6","Vloggers are people who are passionate about something and decided to create videos about it. This engaging book has something for every aspiring vlogger. It discusses the ways people make a living off their videos, gives biographical information about some of the most admired vloggers today, and touches on the history of YouTube, which is the most popular site that hosts vloggers. There is a great deal to learn about the motivating world of vlogging through the fascinating narrative and colorful photographs of this high-interest volume.","English",26.6,19.95,"302.23'14--dc23","32 pp.",{"$f":"Table1[[#This Row],[QTY]]*Table1[[#This Row],['# Books]]","v":0},{"$f":"Table1[[#This Row],[QTY]]*Table1[[#This Row],[S&L Price]]","v":0}]
[null,37,null,"Digital Insiders",1,"Vloggers","eBook",null,"978-1-5382-4770-9",{"$f":"HYPERLINK(\"https://www.garethstevens.com/\"&Table1[[#This Row],[ISBN]],\"Weblink\")","v":"Weblink"},2020,"January 2020",null,null,"Author","Benjamin Mark Schaefer",null,null,null,null,"P",null,"Grade 3 - 4","Grade 3 - 6","Vloggers are people who are passionate about something and decided to create videos about it. This engaging book has something for every aspiring vlogger. It discusses the ways people make a living off their videos, gives biographical information about some of the most admired vloggers today, and touches on the history of YouTube, which is the most popular site that hosts vloggers. There is a great deal to learn about the motivating world of vlogging through the fascinating narrative and colorful photographs of this high-interest volume.","English",26.6,19.95,"302.23'14--dc23","32 pp.",{"$f":"Table1[[#This Row],[QTY]]*Table1[[#This Row],['# Books]]","v":0},{"$f":"Table1[[#This Row],[QTY]]*Table1[[#This Row],[S&L Price]]","v":0}]
[null,38,null,"The Museum of Phobias",4,"The Museum of Phobias","Library Set",null,"978-1-5382-6010-4",{"$f":"HYPERLINK(\"https://www.garethstevens.com/\"&Table1[[#This Row],[ISBN]],\"Weblink\")","v":"Weblink"},2021,"August 2020","Library","8.500 X 11.00","","",null,null,null,null,null,null,"Grade 3 - 4","Grade 3 - 6","Phobias extend beyond the fear of things many people say they're afraid of, like spiders or snakes. Some suffer from hippophobia, which is the fear of horses. Or they may have an intense fear of beards, or pogonophobia. Whatever phobia you can imagine, it's found in this sometimes creepy, unbelievable, and true-to-life set. Curious readers learn how these phobias may develop and manifest in daily life. Combined with scientific explanations for the reactions of fear, this set will engage both the fearful and the fearless. Features include: Ten phobias are explained in each book. Science content including discussion of the nervous system complements science curricula. Sidebars and fact boxes supply historical and pop culture context.","English",106.4,79.8,null,"32 pp.",{"$f":"Table1[[#This Row],[QTY]]*Table1[[#This Row],['# Books]]","v":0},{"$f":"Table1[[#This Row],[QTY]]*Table1[[#This Row],[S&L Price]]","v":0}]
[null,38,null,"The Museum of Phobias",1,"The Alarming Animal Collection","Library Bound Book",null,"978-1-5382-5996-2",{"$f":"HYPERLINK(\"https://www.garethstevens.com/\"&Table1[[#This Row],[ISBN]],\"Weblink\")","v":"Weblink"},2021,"August 2020","Library","8.500 X 11.00","Author, Designed by","John Wood, Danielle Jones",null,null,null,null,"P",null,"Grade 3 - 4","Grade 3 - 6","It's common to be afraid of something you can't see but you know is there, like a mouse or rat hiding in your house. Having a phobia takes these fears a step further; they start to interfere with daily life. Set to the backdrop of a museum collection, this book takes readers into the minds of those terrified of snakes, sharks, and even animal skin and fur. Including names and descriptions of many kinds of animal phobias as well as the physiological responses those suffering from phobias may experience, this narrative is high-interest, incredibly interesting, and sometimes a bit creepy.","English",26.6,19.95,"616.85'225--dc23","32 pp.",{"$f":"Table1[[#This Row],[QTY]]*Table1[[#This Row],['# Books]]","v":0},{"$f":"Table1[[#This Row],[QTY]]*Table1[[#This Row],[S&L Price]]","v":0}]
[null,38,null,"The Museum of Phobias",1,"The Alarming Animal Collection","eBook",null,"978-1-5382-5997-9",{"$f":"HYPERLINK(\"https://www.garethstevens.com/\"&Table1[[#This Row],[ISBN]],\"Weblink\")","v":"Weblink"},2021,"August 2020",null,null,"Author, Designed by","John Wood, Danielle Jones",null,null,null,null,"P",null,"Grade 3 - 4","Grade 3 - 6","It's common to be afraid of something you can't see but you know is there, like a mouse or rat hiding in your house. Having a phobia takes these fears a step further; they start to interfere with daily life. Set to the backdrop of a museum collection, this book takes readers into the minds of those terrified of snakes, sharks, and even animal skin and fur. Including names and descriptions of many kinds of animal phobias as well as the physiological responses those suffering from phobias may experience, this narrative is high-interest, incredibly interesting, and sometimes a bit creepy.","English",26.6,19.95,"616.85'225--dc23","32 pp.",{"$f":"Table1[[#This Row],[QTY]]*Table1[[#This Row],['# Books]]","v":0},{"$f":"Table1[[#This Row],[QTY]]*Table1[[#This Row],[S&L Price]]","v":0}]
[null,38,null,"The Museum of Phobias",1,"The Harrowing Human Gallery","Library Bound Book",null,"978-1-5382-6000-5",{"$f":"HYPERLINK(\"https://www.garethstevens.com/\"&Table1[[#This Row],[ISBN]],\"Weblink\")","v":"Weblink"},2021,"August 2020","Library","8.500 X 11.00","Author, Designed by","John Wood, Danielle Jones",null,null,null,null,"P",null,"Grade 3 - 4","Grade 3 - 6","Try to conjure up an idea of the most horrifying Halloween witch and then imagine that she's real. For those with wiccaphobia, which is a fear of witches, this horror goes a step further by lasting all year long. From genuphobia, or the fear of knees, to odontophobia, or the fear of dentists and teeth, the phobias in this book run the gamut of fears having to do with people. Vibrant photographs and graphics engagingly display each vivid description like a museum exhibit. Including the nervous system's response to fear and other strangely scientific information, this book is more than interesting...it's unbelievable!","English",26.6,19.95,"616.85'225--dc23","32 pp.",{"$f":"Table1[[#This Row],[QTY]]*Table1[[#This Row],['# Books]]","v":0},{"$f":"Table1[[#This Row],[QTY]]*Table1[[#This Row],[S&L Price]]","v":0}]
[null,38,null,"The Museum of Phobias",1,"The Harrowing Human Gallery","eBook",null,"978-1-5382-6001-2",{"$f":"HYPERLINK(\"https://www.garethstevens.com/\"&Table1[[#This Row],[ISBN]],\"Weblink\")","v":"Weblink"},2021,"August 2020",null,null,"Author, Designed by","John Wood, Danielle Jones",null,null,null,null,"P",null,"Grade 3 - 4","Grade 3 - 6","Try to conjure up an idea of the most horrifying Halloween witch and then imagine that she's real. For those with wiccaphobia, which is a fear of witches, this horror goes a step further by lasting all year long. From genuphobia, or the fear of knees, to odontophobia, or the fear of dentists and teeth, the phobias in this book run the gamut of fears having to do with people. Vibrant photographs and graphics engagingly display each vivid description like a museum exhibit. Including the nervous system's response to fear and other strangely scientific information, this book is more than interesting...it's unbelievable!","English",26.6,19.95,"616.85'225--dc23","32 pp.",{"$f":"Table1[[#This Row],[QTY]]*Table1[[#This Row],['# Books]]","v":0},{"$f":"Table1[[#This Row],[QTY]]*Table1[[#This Row],[S&L Price]]","v":0}]
[null,38,null,"The Museum of Phobias",1,"The Hideous House Exhibit","Library Bound Book",null,"978-1-5382-6004-3",{"$f":"HYPERLINK(\"https://www.garethstevens.com/\"&Table1[[#This Row],[ISBN]],\"Weblink\")","v":"Weblink"},2021,"August 2020","Library","8.500 X 11.00","Author, Designed by","John Wood, Danielle Jones",null,null,null,null,"P",null,"Grade 3 - 4","Grade 3 - 6","Many people know that claustrophobia is the fear of small or confined spaces, but how about hypnophobia? That's the fear of sleep. Your curious readers will discover 10 different kinds of phobias, which are fears so great that they affect one's daily life and cause racing hearts, sweat, and other extreme responses. The brain's role in this response is detailed with age-appropriate language among the unbelievable, vivid descriptions of what dealing with these phobias is like. Anyone suffering from bibliophobia will quickly overcome it with this intriguing and entertaining narrative.","English",26.6,19.95,"616.85'225--dc23","32 pp.",{"$f":"Table1[[#This Row],[QTY]]*Table1[[#This Row],['# Books]]","v":0},{"$f":"Table1[[#This Row],[QTY]]*Table1[[#This Row],[S&L Price]]","v":0}]
[null,38,null,"The Museum of Phobias",1,"The Hideous House Exhibit","eBook",null,"978-1-5382-6005-0",{"$f":"HYPERLINK(\"https://www.garethstevens.com/\"&Table1[[#This Row],[ISBN]],\"Weblink\")","v":"Weblink"},2021,"August 2020",null,null,"Author, Designed by","John Wood, Danielle Jones",null,null,null,null,"P",null,"Grade 3 - 4","Grade 3 - 6","Many people know that claustrophobia is the fear of small or confined spaces, but how about hypnophobia? That's the fear of sleep. Your curious readers will discover 10 different kinds of phobias, which are fears so great that they affect one's daily life and cause racing hearts, sweat, and other extreme responses. The brain's role in this response is detailed with age-appropriate language among the unbelievable, vivid descriptions of what dealing with these phobias is like. Anyone suffering from bibliophobia will quickly overcome it with this intriguing and entertaining narrative.","English",26.6,19.95,"616.85'225--dc23","32 pp.",{"$f":"Table1[[#This Row],[QTY]]*Table1[[#This Row],['# Books]]","v":0},{"$f":"Table1[[#This Row],[QTY]]*Table1[[#This Row],[S&L Price]]","v":0}]
[null,38,null,"The Museum of Phobias",1,"The Nightmare Nature Tour","Library Bound Book",null,"978-1-5382-6008-1",{"$f":"HYPERLINK(\"https://www.garethstevens.com/\"&Table1[[#This Row],[ISBN]],\"Weblink\")","v":"Weblink"},2021,"August 2020","Library","8.500 X 11.00","Author, Designed by","John Wood, Danielle Jones",null,null,null,null,"P",null,"Grade 3 - 4","Grade 3 - 6","Nature presents us with some awesome, powerful, earth-shaking events. Many people suffer with phobias related to Earth's wonders, such as astraphobia, which is the fear of thunder and lightning. While being scared of thunderous sounds is natural, phobias tip the scale because now your heart is pounding, your body is shaking, and you're so overwhelmed by your feelings that it is extreme or irrational. This book takes a voyage through the phobias we encounter in nature. Through vivid descriptions of what a person goes through when they fear waves, bright light, shadows, and other natural phenomena, inquisitive readers investigate how fear has evolved over time. Sidebars and vibrant photographs highlight each phobia.","English",26.6,19.95,"616.85'225--dc23","32 pp.",{"$f":"Table1[[#This Row],[QTY]]*Table1[[#This Row],['# Books]]","v":0},{"$f":"Table1[[#This Row],[QTY]]*Table1[[#This Row],[S&L Price]]","v":0}]
[null,38,null,"The Museum of Phobias",1,"The Nightmare Nature Tour","eBook",null,"978-1-5382-6009-8",{"$f":"HYPERLINK(\"https://www.garethstevens.com/\"&Table1[[#This Row],[ISBN]],\"Weblink\")","v":"Weblink"},2021,"August 2020",null,null,"Author, Designed by","John Wood, Danielle Jones",null,null,null,null,"P",null,"Grade 3 - 4","Grade 3 - 6","Nature presents us with some awesome, powerful, earth-shaking events. Many people suffer with phobias related to Earth's wonders, such as astraphobia, which is the fear of thunder and lightning. While being scared of thunderous sounds is natural, phobias tip the scale because now your heart is pounding, your body is shaking, and you're so overwhelmed by your feelings that it is extreme or irrational. This book takes a voyage through the phobias we encounter in nature. Through vivid descriptions of what a person goes through when they fear waves, bright light, shadows, and other natural phenomena, inquisitive readers investigate how fear has evolved over time. Sidebars and vibrant photographs highlight each phobia.","English",26.6,19.95,"616.85'225--dc23","32 pp.",{"$f":"Table1[[#This Row],[QTY]]*Table1[[#This Row],['# Books]]","v":0},{"$f":"Table1[[#This Row],[QTY]]*Table1[[#This Row],[S&L Price]]","v":0}]
[null,39,null,"Supernatural Science",4,"Supernatural Science","Library Set",null,"978-1-5382-5341-0",{"$f":"HYPERLINK(\"https://www.garethstevens.com/\"&Table1[[#This Row],[ISBN]],\"Weblink\")","v":"Weblink"},2020,"January 2020","Library","8.500 X 11.00","","",null,null,null,null,null,null,"Grade 4 - 5","Grade 4 - 6","People's fascination with the supernatural is as strong as ever, even with the great advances in science and technology in the past few centuries. This stimulating set demonstrates to young paranormal investigators that their interest in UFOs, ghosts, vampires, and zombies doesn't necessarily clash with a belief in science. They can apply essential scientific principles to their own intrepid investigations of the paranormal, and learn more about both in the process. Transfixing texts, eerie images, and spellbinding step-by-step experiments encourage readers to hone their inner scientist and have fun with science. Features include: High-interest themes that attract readers of all levels. Multiple opportunities to practice informational text skills as outlined in curriculum standards. Texts feature subject matter and vocabulary that support the elementary science curriculum.","English",106.4,79.8,null,"32 pp.",{"$f":"Table1[[#This Row],[QTY]]*Table1[[#This Row],['# Books]]","v":0},{"$f":"Table1[[#This Row],[QTY]]*Table1[[#This Row],[S&L Price]]","v":0}]
[null,39,null,"Supernatural Science",1,"Ghost Investigators","Library Bound Book",null,"978-1-5382-5304-5",{"$f":"HYPERLINK(\"https://www.garethstevens.com/\"&Table1[[#This Row],[ISBN]],\"Weblink\")","v":"Weblink"},2020,"January 2020","Library","8.500 X 11.00","Author","Madeline Tyler",null,null,null,null,"S",null,"Grade 4 - 5","Grade 4 - 6","It's time to gather ghosts, find phantoms, and assemble apparitions using the soundest methods of science. This mission isn't for the faint-hearted, though. It's perfect for the budding scientist willing to gather evidence of cold spots, disembodied voices, or paranormal orbs, and then analyze the results of their intrepid investigations. This attention-grabbing book offers an opportunity to collect actual scientific proof of paranormal phenomenon, while introducing and reinforcing key ideas of scientific experiments that can be applied in both a haunted house and a science lab.","English",26.6,19.95,"133.1--dc23","32 pp.",{"$f":"Table1[[#This Row],[QTY]]*Table1[[#This Row],['# Books]]","v":0},{"$f":"Table1[[#This Row],[QTY]]*Table1[[#This Row],[S&L Price]]","v":0}]
[null,39,null,"Supernatural Science",1,"Ghost Investigators","eBook",null,"978-1-5382-5305-2",{"$f":"HYPERLINK(\"https://www.garethstevens.com/\"&Table1[[#This Row],[ISBN]],\"Weblink\")","v":"Weblink"},2020,"January 2020",null,null,"Author","Madeline Tyler",null,null,null,null,"S",null,"Grade 4 - 5","Grade 4 - 6","It's time to gather ghosts, find phantoms, and assemble apparitions using the soundest methods of science. This mission isn't for the faint-hearted, though. It's perfect for the budding scientist willing to gather evidence of cold spots, disembodied voices, or paranormal orbs, and then analyze the results of their intrepid investigations. This attention-grabbing book offers an opportunity to collect actual scientific proof of paranormal phenomenon, while introducing and reinforcing key ideas of scientific experiments that can be applied in both a haunted house and a science lab.","English",26.6,19.95,"133.1--dc23","32 pp.",{"$f":"Table1[[#This Row],[QTY]]*Table1[[#This Row],['# Books]]","v":0},{"$f":"Table1[[#This Row],[QTY]]*Table1[[#This Row],[S&L Price]]","v":0}]
[null,39,null,"Supernatural Science",1,"UFO Investigators","Library Bound Book",null,"978-1-5382-5307-6",{"$f":"HYPERLINK(\"https://www.garethstevens.com/\"&Table1[[#This Row],[ISBN]],\"Weblink\")","v":"Weblink"},2020,"January 2020","Library","8.500 X 11.00","Author","Madeline Tyler",null,null,null,null,"S",null,"Grade 4 - 5","Grade 4 - 6","Our knowledge of space has increased spectacularly with the advent of space satellites, telescopes, and probes. Yet, sightings of UFOs continue to be quite high. Clearly, a skilled investigator is needed to discover the unsettling truth behind these alarming objects. This thrilling guide to the extraterrestrial, which includes information about Area 51, crop circles, and Roswell, New Mexico, presents heroic readers with need-to-know scientific knowledge, vocabulary, and experiments they can use to discover the truth about alien life.","English",26.6,19.95,"001.942--dc23","32 pp.",{"$f":"Table1[[#This Row],[QTY]]*Table1[[#This Row],['# Books]]","v":0},{"$f":"Table1[[#This Row],[QTY]]*Table1[[#This Row],[S&L Price]]","v":0}]
[null,39,null,"Supernatural Science",1,"UFO Investigators","eBook",null,"978-1-5382-5308-3",{"$f":"HYPERLINK(\"https://www.garethstevens.com/\"&Table1[[#This Row],[ISBN]],\"Weblink\")","v":"Weblink"},2020,"January 2020",null,null,"Author","Madeline Tyler",null,null,null,null,"S",null,"Grade 4 - 5","Grade 4 - 6","Our knowledge of space has increased spectacularly with the advent of space satellites, telescopes, and probes. Yet, sightings of UFOs continue to be quite high. Clearly, a skilled investigator is needed to discover the unsettling truth behind these alarming objects. This thrilling guide to the extraterrestrial, which includes information about Area 51, crop circles, and Roswell, New Mexico, presents heroic readers with need-to-know scientific knowledge, vocabulary, and experiments they can use to discover the truth about alien life.","English",26.6,19.95,"001.942--dc23","32 pp.",{"$f":"Table1[[#This Row],[QTY]]*Table1[[#This Row],['# Books]]","v":0},{"$f":"Table1[[#This Row],[QTY]]*Table1[[#This Row],[S&L Price]]","v":0}]
[null,39,null,"Supernatural Science",1,"Vampire Investigators","Library Bound Book",null,"978-1-5382-5310-6",{"$f":"HYPERLINK(\"https://www.garethstevens.com/\"&Table1[[#This Row],[ISBN]],\"Weblink\")","v":"Weblink"},2020,"January 2020","Library","8.500 X 11.00","Author","Madeline Tyler",null,null,null,null,"S",null,"Grade 4 - 5","Grade 4 - 6","Vampires, besides being bloodthirsty, are said to be extremely intelligent, perhaps so intelligent that they've tricked people into believing they don't exist. In this spine-tingling text, valiant readers are given the chilling challenge of gathering scientific evidence about an intriguing monster. They're introduced to the methods real-life scientists use to perform experiments and presented with accessible step-by-step instructions to gather essential information about the undead. They'll even test the popular theory that vampires can be warded off by garlic.","English",26.6,19.95,"398'.45--dc23","32 pp.",{"$f":"Table1[[#This Row],[QTY]]*Table1[[#This Row],['# Books]]","v":0},{"$f":"Table1[[#This Row],[QTY]]*Table1[[#This Row],[S&L Price]]","v":0}]
[null,39,null,"Supernatural Science",1,"Vampire Investigators","eBook",null,"978-1-5382-5311-3",{"$f":"HYPERLINK(\"https://www.garethstevens.com/\"&Table1[[#This Row],[ISBN]],\"Weblink\")","v":"Weblink"},2020,"January 2020",null,null,"Author","Madeline Tyler",null,null,null,null,"S",null,"Grade 4 - 5","Grade 4 - 6","Vampires, besides being bloodthirsty, are said to be extremely intelligent, perhaps so intelligent that they've tricked people into believing they don't exist. In this spine-tingling text, valiant readers are given the chilling challenge of gathering scientific evidence about an intriguing monster. They're introduced to the methods real-life scientists use to perform experiments and presented with accessible step-by-step instructions to gather essential information about the undead. They'll even test the popular theory that vampires can be warded off by garlic.","English",26.6,19.95,"398'.45--dc23","32 pp.",{"$f":"Table1[[#This Row],[QTY]]*Table1[[#This Row],['# Books]]","v":0},{"$f":"Table1[[#This Row],[QTY]]*Table1[[#This Row],[S&L Price]]","v":0}]
[null,39,null,"Supernatural Science",1,"Zombie Investigators","Library Bound Book",null,"978-1-5382-5313-7",{"$f":"HYPERLINK(\"https://www.garethstevens.com/\"&Table1[[#This Row],[ISBN]],\"Weblink\")","v":"Weblink"},2020,"January 2020","Library","8.500 X 11.00","Author","Madeline Tyler",null,null,null,null,"S",null,"Grade 4 - 5","Grade 4 - 6","It might be a matter of life and death whether the stink coming from a sibling's bedroom is smelly socks or the odor of the undead, as in zombies! So, the real-life scientific methods and vocabulary in this entertaining and enlightening volume could save a life. Readers will be riveted as they're carefully trained to become paranormal investigators. They'll learn to make predictions, identify variables, analyze outcomes, and possibly avert a zombie apocalypse. They'll also delve into intriguing information about the mythology of zombies as well as bizarre zombie-like behaviors found in nature.","English",26.6,19.95,"398.21--dc23","32 pp.",{"$f":"Table1[[#This Row],[QTY]]*Table1[[#This Row],['# Books]]","v":0},{"$f":"Table1[[#This Row],[QTY]]*Table1[[#This Row],[S&L Price]]","v":0}]
[null,39,null,"Supernatural Science",1,"Zombie Investigators","eBook",null,"978-1-5382-5314-4",{"$f":"HYPERLINK(\"https://www.garethstevens.com/\"&Table1[[#This Row],[ISBN]],\"Weblink\")","v":"Weblink"},2020,"January 2020",null,null,"Author","Madeline Tyler",null,null,null,null,"S",null,"Grade 4 - 5","Grade 4 - 6","It might be a matter of life and death whether the stink coming from a sibling's bedroom is smelly socks or the odor of the undead, as in zombies! So, the real-life scientific methods and vocabulary in this entertaining and enlightening volume could save a life. Readers will be riveted as they're carefully trained to become paranormal investigators. They'll learn to make predictions, identify variables, analyze outcomes, and possibly avert a zombie apocalypse. They'll also delve into intriguing information about the mythology of zombies as well as bizarre zombie-like behaviors found in nature.","English",26.6,19.95,"398.21--dc23","32 pp.",{"$f":"Table1[[#This Row],[QTY]]*Table1[[#This Row],['# Books]]","v":0},{"$f":"Table1[[#This Row],[QTY]]*Table1[[#This Row],[S&L Price]]","v":0}]
[null,40,null,"Grammar Magic!",6,"Grammar Magic!","Library Set",null,"978-1-5382-4901-7",{"$f":"HYPERLINK(\"https://www.garethstevens.com/\"&Table1[[#This Row],[ISBN]],\"Weblink\")","v":"Weblink"},2021,"August 2020","Library","8.500 X 8.500","","",null,null,null,null,null,null,"Grade 2 - 3","Grade 2 - 5","While important skills to master, the rules of grammar can be quite dry. They also can be pretty confusing. What letters do apostrophes replace in contractions? What nouns aren't made plural by using the letter S? Lucky for young readers, they find help with these questions through this magical set. Written by a literacy specialist and reading teacher, rules of grammar are presented through interaction with magical beings like mermaids, elves, and wizards. Including examples and explanations of grammar rules commonly part of the language arts curriculum, this set makes compound sentences, verb tenses, and collective nouns enchanting and magical. Features include: Unique illustrations that correlate directly to the narratives. Topics directly tie in to the Language Arts curriculum, first through third grade. Fact boxes give each magical being more context in history and pop culture. Written by a literacy specialist and reading teacher.","English",135.6,101.7,null,"24 pp.",{"$f":"Table1[[#This Row],[QTY]]*Table1[[#This Row],['# Books]]","v":0},{"$f":"Table1[[#This Row],[QTY]]*Table1[[#This Row],[S&L Price]]","v":0}]
[null,40,null,"Grammar Magic!",1,"Learn Apostrophes with Fairies","Library Bound Book",null,"978-1-5382-4725-9",{"$f":"HYPERLINK(\"https://www.garethstevens.com/\"&Table1[[#This Row],[ISBN]],\"Weblink\")","v":"Weblink"},2021,"August 2020","Library","8.500 X 8.500","Author","Emily Mahoney",null,null,null,null,"L",null,"Grade 2 - 3","Grade 2 - 5","Apostrophes can be tricky, but the fun fairies in this book will help readers learn how to use them correctly. Grammar rules about apostrophes are simplified for learners in this beautifully illustrated guidebook that makes learning about apostrophes entertaining. Magical Facts boxes present interesting and unique facts about fairies to interest all levels of readers. Grammar truly becomes motivating with the help of these apostrophe-loving fairies.","English",22.6,16.95,"421--dc23","24 pp.",{"$f":"Table1[[#This Row],[QTY]]*Table1[[#This Row],['# Books]]","v":0},{"$f":"Table1[[#This Row],[QTY]]*Table1[[#This Row],[S&L Price]]","v":0}]
[null,40,null,"Grammar Magic!",1,"Learn Apostrophes with Fairies","eBook",null,"978-1-5382-4726-6",{"$f":"HYPERLINK(\"https://www.garethstevens.com/\"&Table1[[#This Row],[ISBN]],\"Weblink\")","v":"Weblink"},2021,"August 2020",null,null,"Author","Emily Mahoney",null,null,null,null,"L",null,"Grade 2 - 3","Grade 2 - 5","Apostrophes can be tricky, but the fun fairies in this book will help readers learn how to use them correctly. Grammar rules about apostrophes are simplified for learners in this beautifully illustrated guidebook that makes learning about apostrophes entertaining. Magical Facts boxes present interesting and unique facts about fairies to interest all levels of readers. Grammar truly becomes motivating with the help of these apostrophe-loving fairies.","English",22.6,16.95,"421--dc23","24 pp.",{"$f":"Table1[[#This Row],[QTY]]*Table1[[#This Row],['# Books]]","v":0},{"$f":"Table1[[#This Row],[QTY]]*Table1[[#This Row],[S&L Price]]","v":0}]
[null,40,null,"Grammar Magic!",1,"Learn Capitalization with Wizards","Library Bound Book",null,"978-1-5382-4729-7",{"$f":"HYPERLINK(\"https://www.garethstevens.com/\"&Table1[[#This Row],[ISBN]],\"Weblink\")","v":"Weblink"},2021,"August 2020","Library","8.500 X 8.500","Author","Emily Mahoney",null,null,null,null,"K",null,"Grade 2 - 3","Grade 2 - 5","Wizards have magical powers, and they also know a lot about capitalization rules! This entertaining book combines grammar rules about when to capitalize words, with unique and engaging facts about wizards, making learning about capitalization magical. Vivid illustrations, fun fact boxes, and an enticing design add to this volume's considerable appeal.","English",22.6,16.95,"421--dc23","24 pp.",{"$f":"Table1[[#This Row],[QTY]]*Table1[[#This Row],['# Books]]","v":0},{"$f":"Table1[[#This Row],[QTY]]*Table1[[#This Row],[S&L Price]]","v":0}]
[null,40,null,"Grammar Magic!",1,"Learn Capitalization with Wizards","eBook",null,"978-1-5382-4730-3",{"$f":"HYPERLINK(\"https://www.garethstevens.com/\"&Table1[[#This Row],[ISBN]],\"Weblink\")","v":"Weblink"},2021,"August 2020",null,null,"Author","Emily Mahoney",null,null,null,null,"K",null,"Grade 2 - 3","Grade 2 - 5","Wizards have magical powers, and they also know a lot about capitalization rules! This entertaining book combines grammar rules about when to capitalize words, with unique and engaging facts about wizards, making learning about capitalization magical. Vivid illustrations, fun fact boxes, and an enticing design add to this volume's considerable appeal.","English",22.6,16.95,"421--dc23","24 pp.",{"$f":"Table1[[#This Row],[QTY]]*Table1[[#This Row],['# Books]]","v":0},{"$f":"Table1[[#This Row],[QTY]]*Table1[[#This Row],[S&L Price]]","v":0}]
[null,40,null,"Grammar Magic!",1,"Learn Collective Nouns with Mermaids","Library Bound Book",null,"978-1-5382-4733-4",{"$f":"HYPERLINK(\"https://www.garethstevens.com/\"&Table1[[#This Row],[ISBN]],\"Weblink\")","v":"Weblink"},2021,"August 2020","Library","8.500 X 8.500","Author","Emily Mahoney",null,null,null,null,"K",null,"Grade 2 - 3","Grade 2 - 5","Collective nouns may not seem all that interesting to young readers, but this volume, which features facts about mermaids, makes collective nouns extremely engaging. Let the mythical mermaids take readers on a journey of learning about different and sometimes amusing collective nouns. Even developing learners will chuckle while reading about a gaggle of geese or an army of caterpillars. Beautiful illustrations add to the wonder of this book, while Magical Fact boxes provide information about mysterious mermaid legends.","English",22.6,16.95,"425/.54--dc23","24 pp.",{"$f":"Table1[[#This Row],[QTY]]*Table1[[#This Row],['# Books]]","v":0},{"$f":"Table1[[#This Row],[QTY]]*Table1[[#This Row],[S&L Price]]","v":0}]
[null,40,null,"Grammar Magic!",1,"Learn Collective Nouns with Mermaids","eBook",null,"978-1-5382-4734-1",{"$f":"HYPERLINK(\"https://www.garethstevens.com/\"&Table1[[#This Row],[ISBN]],\"Weblink\")","v":"Weblink"},2021,"August 2020",null,null,"Author","Emily Mahoney",null,null,null,null,"K",null,"Grade 2 - 3","Grade 2 - 5","Collective nouns may not seem all that interesting to young readers, but this volume, which features facts about mermaids, makes collective nouns extremely engaging. Let the mythical mermaids take readers on a journey of learning about different and sometimes amusing collective nouns. Even developing learners will chuckle while reading about a gaggle of geese or an army of caterpillars. Beautiful illustrations add to the wonder of this book, while Magical Fact boxes provide information about mysterious mermaid legends.","English",22.6,16.95,"425/.54--dc23","24 pp.",{"$f":"Table1[[#This Row],[QTY]]*Table1[[#This Row],['# Books]]","v":0},{"$f":"Table1[[#This Row],[QTY]]*Table1[[#This Row],[S&L Price]]","v":0}]
[null,40,null,"Grammar Magic!",1,"Learn Compound Sentences with Unicorns","Library Bound Book",null,"978-1-5382-4741-9",{"$f":"HYPERLINK(\"https://www.garethstevens.com/\"&Table1[[#This Row],[ISBN]],\"Weblink\")","v":"Weblink"},2021,"August 2020","Library","8.500 X 8.500","Author","Emily Mahoney",null,null,null,null,"K",null,"Grade 2 - 3","Grade 2 - 5","Unicorns have healing powers, but your readers will learn that they are also great at writing compound sentences. Presented here is a magical journey featuring unicorns that help students learn about joining sentences together. Engaging fact boxes provide interesting information about this mythical one-horned creature, while vivid illustrations draw young readers into the narrative. Learning about grammar has never been this fun and magical, and readers will be fascinated by all this journey has to offer.","English",22.6,16.95,"425--dc23","24 pp.",{"$f":"Table1[[#This Row],[QTY]]*Table1[[#This Row],['# Books]]","v":0},{"$f":"Table1[[#This Row],[QTY]]*Table1[[#This Row],[S&L Price]]","v":0}]
[null,40,null,"Grammar Magic!",1,"Learn Compound Sentences with Unicorns","eBook",null,"978-1-5382-4742-6",{"$f":"HYPERLINK(\"https://www.garethstevens.com/\"&Table1[[#This Row],[ISBN]],\"Weblink\")","v":"Weblink"},2021,"August 2020",null,null,"Author","Emily Mahoney",null,null,null,null,"K",null,"Grade 2 - 3","Grade 2 - 5","Unicorns have healing powers, but your readers will learn that they are also great at writing compound sentences. Presented here is a magical journey featuring unicorns that help students learn about joining sentences together. Engaging fact boxes provide interesting information about this mythical one-horned creature, while vivid illustrations draw young readers into the narrative. Learning about grammar has never been this fun and magical, and readers will be fascinated by all this journey has to offer.","English",22.6,16.95,"425--dc23","24 pp.",{"$f":"Table1[[#This Row],[QTY]]*Table1[[#This Row],['# Books]]","v":0},{"$f":"Table1[[#This Row],[QTY]]*Table1[[#This Row],[S&L Price]]","v":0}]
[null,40,null,"Grammar Magic!",1,"Learn Irregular Plural Nouns with Elves","Library Bound Book",null,"978-1-5382-4737-2",{"$f":"HYPERLINK(\"https://www.garethstevens.com/\"&Table1[[#This Row],[ISBN]],\"Weblink\")","v":"Weblink"},2021,"August 2020","Library","8.500 X 8.500","Author","Emily Mahoney",null,null,null,null,"L",null,"Grade 2 - 3","Grade 2 - 5","There are many rules for irregular plural nouns, but let the magical elves in this vibrant volume make learning those rules easy! Some might think that elves just make toys in Santa's workshop, but they are also experts on irregular plural nouns. Young readers will learn general rules as well as exceptions, in addition to facts about elves in the Magical Facts boxes. Engaging illustrations help this grammar concept become easily accessible for authentic learning.","English",22.6,16.95,"425/.54--dc23","24 pp.",{"$f":"Table1[[#This Row],[QTY]]*Table1[[#This Row],['# Books]]","v":0},{"$f":"Table1[[#This Row],[QTY]]*Table1[[#This Row],[S&L Price]]","v":0}]
[null,40,null,"Grammar Magic!",1,"Learn Irregular Plural Nouns with Elves","eBook",null,"978-1-5382-4738-9",{"$f":"HYPERLINK(\"https://www.garethstevens.com/\"&Table1[[#This Row],[ISBN]],\"Weblink\")","v":"Weblink"},2021,"August 2020",null,null,"Author","Emily Mahoney",null,null,null,null,"L",null,"Grade 2 - 3","Grade 2 - 5","There are many rules for irregular plural nouns, but let the magical elves in this vibrant volume make learning those rules easy! Some might think that elves just make toys in Santa's workshop, but they are also experts on irregular plural nouns. Young readers will learn general rules as well as exceptions, in addition to facts about elves in the Magical Facts boxes. Engaging illustrations help this grammar concept become easily accessible for authentic learning.","English",22.6,16.95,"425/.54--dc23","24 pp.",{"$f":"Table1[[#This Row],[QTY]]*Table1[[#This Row],['# Books]]","v":0},{"$f":"Table1[[#This Row],[QTY]]*Table1[[#This Row],[S&L Price]]","v":0}]
[null,40,null,"Grammar Magic!",1,"Learn Verb Tenses with Dragons","Library Bound Book",null,"978-1-5382-4745-7",{"$f":"HYPERLINK(\"https://www.garethstevens.com/\"&Table1[[#This Row],[ISBN]],\"Weblink\")","v":"Weblink"},2021,"August 2020","Library","8.500 X 8.500","Author","Emily Mahoney",null,null,null,null,"L",null,"Grade 2 - 3","Grade 2 - 5","Fire-breathing dragons are often portrayed as intimidating mythical beasts, however, there is no fire coming from the mouths of dragons in this book. Instead these mythical beasts are sharing information about different verb tenses, and when and how to use them. Fun fact boxes present information about these interesting creatures, while beautiful and bright illustrations draw young readers in to learn more about verb tenses and dragons. This book makes learning grammar rules amusing and entertaining.","English",22.6,16.95,"425/.6--dc23","24 pp.",{"$f":"Table1[[#This Row],[QTY]]*Table1[[#This Row],['# Books]]","v":0},{"$f":"Table1[[#This Row],[QTY]]*Table1[[#This Row],[S&L Price]]","v":0}]
[null,40,null,"Grammar Magic!",1,"Learn Verb Tenses with Dragons","eBook",null,"978-1-5382-4746-4",{"$f":"HYPERLINK(\"https://www.garethstevens.com/\"&Table1[[#This Row],[ISBN]],\"Weblink\")","v":"Weblink"},2021,"August 2020",null,null,"Author","Emily Mahoney",null,null,null,null,"L",null,"Grade 2 - 3","Grade 2 - 5","Fire-breathing dragons are often portrayed as intimidating mythical beasts, however, there is no fire coming from the mouths of dragons in this book. Instead these mythical beasts are sharing information about different verb tenses, and when and how to use them. Fun fact boxes present information about these interesting creatures, while beautiful and bright illustrations draw young readers in to learn more about verb tenses and dragons. This book makes learning grammar rules amusing and entertaining.","English",22.6,16.95,"425/.6--dc23","24 pp.",{"$f":"Table1[[#This Row],[QTY]]*Table1[[#This Row],['# Books]]","v":0},{"$f":"Table1[[#This Row],[QTY]]*Table1[[#This Row],[S&L Price]]","v":0}]
[null,41,null,"Monsters Do Math!",12,"Monsters Do Math! (Set of 12 Titles)","Library Set",null,"978-1-5382-5987-0",{"$f":"HYPERLINK(\"https://www.garethstevens.com/\"&Table1[[#This Row],[ISBN]],\"Weblink\")","v":"Weblink"},2021,"August 2020","Library","8.500 X 8.500","","",null,null,null,null,null,null,"Grade 2 - 3","Grade 2 - 5","Most people use math all the time, from adding dollar bills to pay for a movie to dividing up a cake into slices, but what do monsters think of math? This engaging, fun approach to the math curriculum reinforces the addition, subtraction, and word problem skills that readers learn in class. Colorful zombies, banshees, ogres, and werewolves offer readers math tips throughout the books. Fact boxes full of engaging and sometimes scary monster information make this set a must-have for monster aficionados as well as future mathematicians. Features include: Hand-drawn, original illustrations. High-interest approach that attracts struggling learners and readers. Math questions within the texts allow readers to apply what they've learned and check their work with answer keys.","English",271.2,203.4,null,"24 pp.",{"$f":"Table1[[#This Row],[QTY]]*Table1[[#This Row],['# Books]]","v":0},{"$f":"Table1[[#This Row],[QTY]]*Table1[[#This Row],[S&L Price]]","v":0}]
[null,41,null,"Monsters Do Math!",6,"Monsters Do Math! (Set of 6 NEW Titles)","Library Set",null,"978-1-5382-5986-3",{"$f":"HYPERLINK(\"https://www.garethstevens.com/\"&Table1[[#This Row],[ISBN]],\"Weblink\")","v":"Weblink"},2021,"August 2020","Library","8.500 X 8.500","","",null,null,null,null,null,null,"Grade 2 - 3","Grade 2 - 5","Nothing makes math more fun than monsters helping learners through the rules of fractions, place value, measurements, shapes, graphs, and telling time. This continuation of our popular series engages struggling readers and math students with colorful illustrations and well-explained math problems. Each book contains math questions throughout the narrative, and includes an answer key for readers to check their work. Monster-sized facts about dragons, banshees, and more spark the imagination and foster cross-disciplinary connections and ideas. Features include: Directly supports early elementary math curriculums. Fun illustrations that aid comprehension. Connects readers with monster stories from other cultures.","English",135.6,101.7,null,"24 pp.",{"$f":"Table1[[#This Row],[QTY]]*Table1[[#This Row],['# Books]]","v":0},{"$f":"Table1[[#This Row],[QTY]]*Table1[[#This Row],[S&L Price]]","v":0}]
[null,41,null,"Monsters Do Math!",1,"Banshees Play with Shapes!","Library Bound Book",null,"978-1-5382-5737-1",{"$f":"HYPERLINK(\"https://www.garethstevens.com/\"&Table1[[#This Row],[ISBN]],\"Weblink\")","v":"Weblink"},2021,"August 2020","Library","8.500 X 8.500","Author","Therese M. Shea",null,null,null,null,"L",null,"Grade 2 - 3","Grade 2 - 5","The terrible yowling of the supernatural spirit called the banshee is calling young mathematicians to learn more about shapes. Readers will love the delightful illustrations of banshees that aid them as they're learning about attributes of two-dimensional and three-dimensional shapes such as their angles, faces, and sides. Fact boxes provide information about creepy stories of banshees passed down through the years. Questions throughout this highly motivating narrative allow readers to assess their understanding of the geometry concepts.","English",22.6,16.95,"516'.15--dc23","24 pp.",{"$f":"Table1[[#This Row],[QTY]]*Table1[[#This Row],['# Books]]","v":0},{"$f":"Table1[[#This Row],[QTY]]*Table1[[#This Row],[S&L Price]]","v":0}]
[null,41,null,"Monsters Do Math!",1,"Banshees Play with Shapes!","eBook",null,"978-1-5382-5738-8",{"$f":"HYPERLINK(\"https://www.garethstevens.com/\"&Table1[[#This Row],[ISBN]],\"Weblink\")","v":"Weblink"},2021,"August 2020",null,null,"Author","Therese M. Shea",null,null,null,null,"L",null,"Grade 2 - 3","Grade 2 - 5","The terrible yowling of the supernatural spirit called the banshee is calling young mathematicians to learn more about shapes. Readers will love the delightful illustrations of banshees that aid them as they're learning about attributes of two-dimensional and three-dimensional shapes such as their angles, faces, and sides. Fact boxes provide information about creepy stories of banshees passed down through the years. Questions throughout this highly motivating narrative allow readers to assess their understanding of the geometry concepts.","English",22.6,16.95,"516'.15--dc23","24 pp.",{"$f":"Table1[[#This Row],[QTY]]*Table1[[#This Row],['# Books]]","v":0},{"$f":"Table1[[#This Row],[QTY]]*Table1[[#This Row],[S&L Price]]","v":0}]
[null,41,null,"Monsters Do Math!",1,"Bigfoot Finds Fractions!","Library Bound Book",null,"978-1-5382-5721-0",{"$f":"HYPERLINK(\"https://www.garethstevens.com/\"&Table1[[#This Row],[ISBN]],\"Weblink\")","v":"Weblink"},2021,"August 2020","Library","8.500 X 8.500","Author","Therese M. Shea",null,null,null,null,"L",null,"Grade 2 - 3","Grade 2 - 5","People might not be good at finding hard evidence of Bigfoot, but Bigfoot is really good at discovering fractions all around! This delightful book combines an essential math topic with fascinating folklore and will engage readers and mathematicians of all levels. Entertaining illustrations of Bigfoot support both the math material and assessment quiz questions throughout the narrative. Fun fact boxes supply information that inquisitive Bigfoot hunters want to know.","English",22.6,16.95,"513.2'6--dc23","24 pp.",{"$f":"Table1[[#This Row],[QTY]]*Table1[[#This Row],['# Books]]","v":0},{"$f":"Table1[[#This Row],[QTY]]*Table1[[#This Row],[S&L Price]]","v":0}]
[null,41,null,"Monsters Do Math!",1,"Bigfoot Finds Fractions!","eBook",null,"978-1-5382-5722-7",{"$f":"HYPERLINK(\"https://www.garethstevens.com/\"&Table1[[#This Row],[ISBN]],\"Weblink\")","v":"Weblink"},2021,"August 2020",null,null,"Author","Therese M. Shea",null,null,null,null,"L",null,"Grade 2 - 3","Grade 2 - 5","People might not be good at finding hard evidence of Bigfoot, but Bigfoot is really good at discovering fractions all around! This delightful book combines an essential math topic with fascinating folklore and will engage readers and mathematicians of all levels. Entertaining illustrations of Bigfoot support both the math material and assessment quiz questions throughout the narrative. Fun fact boxes supply information that inquisitive Bigfoot hunters want to know.","English",22.6,16.95,"513.2'6--dc23","24 pp.",{"$f":"Table1[[#This Row],[QTY]]*Table1[[#This Row],['# Books]]","v":0},{"$f":"Table1[[#This Row],[QTY]]*Table1[[#This Row],[S&L Price]]","v":0}]
[null,41,null,"Monsters Do Math!",1,"Dragons Dig for Data!","Library Bound Book",null,"978-1-5382-5725-8",{"$f":"HYPERLINK(\"https://www.garethstevens.com/\"&Table1[[#This Row],[ISBN]],\"Weblink\")","v":"Weblink"},2021,"August 2020","Library","8.500 X 8.500","Author","Therese M. Shea",null,null,null,null,"L",null,"Grade 2 - 3","Grade 2 - 5","Math is all about data. It's essential to understand the questions it can answer for you and how to gather it. Readers will be especially interested to learn what a dragon does with data in the entertaining pages of this unique book. The narrative engagingly instructs on building math skills while sharing details about the mythology of these dreaded beasts. Stellar illustrations capture the imagination. Readers will be able to assess their understanding of the math concepts through word problems and other questions throughout the text.","English",22.6,16.95,"507.2'1--dc23","24 pp.",{"$f":"Table1[[#This Row],[QTY]]*Table1[[#This Row],['# Books]]","v":0},{"$f":"Table1[[#This Row],[QTY]]*Table1[[#This Row],[S&L Price]]","v":0}]
[null,41,null,"Monsters Do Math!",1,"Dragons Dig for Data!","eBook",null,"978-1-5382-5726-5",{"$f":"HYPERLINK(\"https://www.garethstevens.com/\"&Table1[[#This Row],[ISBN]],\"Weblink\")","v":"Weblink"},2021,"August 2020",null,null,"Author","Therese M. Shea",null,null,null,null,"L",null,"Grade 2 - 3","Grade 2 - 5","Math is all about data. It's essential to understand the questions it can answer for you and how to gather it. Readers will be especially interested to learn what a dragon does with data in the entertaining pages of this unique book. The narrative engagingly instructs on building math skills while sharing details about the mythology of these dreaded beasts. Stellar illustrations capture the imagination. Readers will be able to assess their understanding of the math concepts through word problems and other questions throughout the text.","English",22.6,16.95,"507.2'1--dc23","24 pp.",{"$f":"Table1[[#This Row],[QTY]]*Table1[[#This Row],['# Books]]","v":0},{"$f":"Table1[[#This Row],[QTY]]*Table1[[#This Row],[S&L Price]]","v":0}]
[null,41,null,"Monsters Do Math!",1,"Goblins Tell Time!","Library Bound Book",null,"978-1-5382-5741-8",{"$f":"HYPERLINK(\"https://www.garethstevens.com/\"&Table1[[#This Row],[ISBN]],\"Weblink\")","v":"Weblink"},2021,"August 2020","Library","8.500 X 8.500","Author","Therese M. Shea",null,null,null,null,"L",null,"Grade 2 - 3","Grade 2 - 5","In an increasingly digital world, many young people struggle to read analog clocks, but these goblins have arrived just in time. This amusing yet educational book, full of amazing illustrations of these mischievous creatures, introduces many time-reading skills to riveted readers. They'll learn folklore about goblins and discover that clocks are a great way to learn other elementary math concepts.","English",22.6,16.95,"529--dc23","24 pp.",{"$f":"Table1[[#This Row],[QTY]]*Table1[[#This Row],['# Books]]","v":0},{"$f":"Table1[[#This Row],[QTY]]*Table1[[#This Row],[S&L Price]]","v":0}]
[null,41,null,"Monsters Do Math!",1,"Goblins Tell Time!","eBook",null,"978-1-5382-5742-5",{"$f":"HYPERLINK(\"https://www.garethstevens.com/\"&Table1[[#This Row],[ISBN]],\"Weblink\")","v":"Weblink"},2021,"August 2020",null,null,"Author","Therese M. Shea",null,null,null,null,"L",null,"Grade 2 - 3","Grade 2 - 5","In an increasingly digital world, many young people struggle to read analog clocks, but these goblins have arrived just in time. This amusing yet educational book, full of amazing illustrations of these mischievous creatures, introduces many time-reading skills to riveted readers. They'll learn folklore about goblins and discover that clocks are a great way to learn other elementary math concepts.","English",22.6,16.95,"529--dc23","24 pp.",{"$f":"Table1[[#This Row],[QTY]]*Table1[[#This Row],['# Books]]","v":0},{"$f":"Table1[[#This Row],[QTY]]*Table1[[#This Row],[S&L Price]]","v":0}]
[null,41,null,"Monsters Do Math!",1,"Ogres Understand Place Value!","Library Bound Book",null,"978-1-5382-5729-6",{"$f":"HYPERLINK(\"https://www.garethstevens.com/\"&Table1[[#This Row],[ISBN]],\"Weblink\")","v":"Weblink"},2021,"August 2020","Library","8.500 X 8.500","Author","Therese M. Shea",null,null,null,null,"L",null,"Grade 2 - 3","Grade 2 - 5","Understanding place value is the key to comprehending large numbers and to learning strategies to easily add and subtract such numbers. Readers will practice place value skills presented by the monsters called ogres. Delightful illustrations and intriguing folklore fact boxes accompany the achievable text. Readers will answer math problems throughout this motivating volume, allowing them to assess their understanding of the critical concepts.","English",22.6,16.95,"513--dc23","24 pp.",{"$f":"Table1[[#This Row],[QTY]]*Table1[[#This Row],['# Books]]","v":0},{"$f":"Table1[[#This Row],[QTY]]*Table1[[#This Row],[S&L Price]]","v":0}]
[null,41,null,"Monsters Do Math!",1,"Ogres Understand Place Value!","eBook",null,"978-1-5382-5730-2",{"$f":"HYPERLINK(\"https://www.garethstevens.com/\"&Table1[[#This Row],[ISBN]],\"Weblink\")","v":"Weblink"},2021,"August 2020",null,null,"Author","Therese M. Shea",null,null,null,null,"L",null,"Grade 2 - 3","Grade 2 - 5","Understanding place value is the key to comprehending large numbers and to learning strategies to easily add and subtract such numbers. Readers will practice place value skills presented by the monsters called ogres. Delightful illustrations and intriguing folklore fact boxes accompany the achievable text. Readers will answer math problems throughout this motivating volume, allowing them to assess their understanding of the critical concepts.","English",22.6,16.95,"513--dc23","24 pp.",{"$f":"Table1[[#This Row],[QTY]]*Table1[[#This Row],['# Books]]","v":0},{"$f":"Table1[[#This Row],[QTY]]*Table1[[#This Row],[S&L Price]]","v":0}]
[null,41,null,"Monsters Do Math!",1,"The Loch Ness Monster Loves to Measure!","Library Bound Book",null,"978-1-5382-5733-3",{"$f":"HYPERLINK(\"https://www.garethstevens.com/\"&Table1[[#This Row],[ISBN]],\"Weblink\")","v":"Weblink"},2021,"August 2020","Library","8.500 X 8.500","Author","Therese M. Shea",null,null,null,null,"L",null,"Grade 2 - 3","Grade 2 - 5","Learning to measure using different units as well as different measuring tools is essential for budding mathematicians and scientists. Vital measurement concepts are introduced in this vibrant volume featuring the elusive Loch Ness monster. Yes, \"Nessie\" has come to the surface to guide readers in learning tips and tricks to become measurement experts. Amusement and education collide on these bright pages, which provide loads of math information, quiz questions, and fascinating lore about the Loch Ness monster.","English",22.6,16.95,"530.8--dc23","24 pp.",{"$f":"Table1[[#This Row],[QTY]]*Table1[[#This Row],['# Books]]","v":0},{"$f":"Table1[[#This Row],[QTY]]*Table1[[#This Row],[S&L Price]]","v":0}]
[null,41,null,"Monsters Do Math!",1,"The Loch Ness Monster Loves to Measure!","eBook",null,"978-1-5382-5734-0",{"$f":"HYPERLINK(\"https://www.garethstevens.com/\"&Table1[[#This Row],[ISBN]],\"Weblink\")","v":"Weblink"},2021,"August 2020",null,null,"Author","Therese M. Shea",null,null,null,null,"L",null,"Grade 2 - 3","Grade 2 - 5","Learning to measure using different units as well as different measuring tools is essential for budding mathematicians and scientists. Vital measurement concepts are introduced in this vibrant volume featuring the elusive Loch Ness monster. Yes, \"Nessie\" has come to the surface to guide readers in learning tips and tricks to become measurement experts. Amusement and education collide on these bright pages, which provide loads of math information, quiz questions, and fascinating lore about the Loch Ness monster.","English",22.6,16.95,"530.8--dc23","24 pp.",{"$f":"Table1[[#This Row],[QTY]]*Table1[[#This Row],['# Books]]","v":0},{"$f":"Table1[[#This Row],[QTY]]*Table1[[#This Row],[S&L Price]]","v":0}]
[null,null,104,"Monsters Do Math!",6,"Monsters Do Math!","Library Set",null,"978-1-5382-2964-4",{"$f":"HYPERLINK(\"https://www.garethstevens.com/\"&Table1[[#This Row],[ISBN]],\"Weblink\")","v":"Weblink"},2019,"January 2019","Library","8.500 X 8.500",null,null,null,null,null,null,null,null,"Grade 2 - 3","Grade 2 - 5","Most people use math all the time, from adding dollar bills to pay for a movie to dividing up a cake into slices, but what do monsters think of math? This engaging, fun approach to the math curriculum reinforces the addition, subtraction, and word problem skills readers learn in class. Colorful zombies, mummies, and werewolves offer readers math tips throughout the books. Fact boxes full of engaging and sometimes scary monster information make this series a must-have for monster aficionados as well as future mathematicians. Features include: Hand-drawn, original illustrations of the monsters. High-interest approach attracts reluctant learners and readers. Math questions within the texts allow readers to apply what they've learned and check their work with answer keys.","English",135.6,101.7,null,"24 pp.",{"$f":"Table1[[#This Row],[QTY]]*Table1[[#This Row],['# Books]]","v":0},{"$f":"Table1[[#This Row],[QTY]]*Table1[[#This Row],[S&L Price]]","v":0}]
[null,41,104,"Monsters Do Math!",1,"Ghosts Subtract!","Library Bound Book",null,"978-1-5382-2933-0",{"$f":"HYPERLINK(\"https://www.garethstevens.com/\"&Table1[[#This Row],[ISBN]],\"Weblink\")","v":"Weblink"},2019,"January 2019","Library","8.500 X 8.500","Author","Therese M. Shea",null,null,null,null,"K",null,"Grade 2 - 3","Grade 2 - 5","Everyone knows some ghosts are helpful spirits, they may even help with math! In this high-interest volume, a unique mix of eerie info and math exercises, young mathematicians can practice their subtraction skills using illustrated ghost models as well as hone their mental math strategies. The comprehensible text provides valuable hints that readers can apply to all kinds of subtraction equations they may encounter. Fact boxes about ghosts and eerie images will attract even reluctant readers, and an answer key provides opportunities for self-assessment. Subtraction has never been spookier, or more fun.","English",22.6,16.95,"513.2'12--dc23","24 pp.",{"$f":"Table1[[#This Row],[QTY]]*Table1[[#This Row],['# Books]]","v":0},{"$f":"Table1[[#This Row],[QTY]]*Table1[[#This Row],[S&L Price]]","v":0}]
[null,41,104,"Monsters Do Math!",1,"Ghosts Subtract!","eBook",null,"978-1-5382-3074-9",{"$f":"HYPERLINK(\"https://www.garethstevens.com/\"&Table1[[#This Row],[ISBN]],\"Weblink\")","v":"Weblink"},2019,"January 2019",null,null,"Author","Therese M. Shea",null,null,null,null,"K",null,"Grade 2 - 3","Grade 2 - 5","Everyone knows some ghosts are helpful spirits, they may even help with math! In this high-interest volume, a unique mix of eerie info and math exercises, young mathematicians can practice their subtraction skills using illustrated ghost models as well as hone their mental math strategies. The comprehensible text provides valuable hints that readers can apply to all kinds of subtraction equations they may encounter. Fact boxes about ghosts and eerie images will attract even reluctant readers, and an answer key provides opportunities for self-assessment. Subtraction has never been spookier, or more fun.","English",22.6,16.95,"513.2'12--dc23","24 pp.",{"$f":"Table1[[#This Row],[QTY]]*Table1[[#This Row],['# Books]]","v":0},{"$f":"Table1[[#This Row],[QTY]]*Table1[[#This Row],[S&L Price]]","v":0}]
[null,41,104,"Monsters Do Math!",1,"Mummies Multiply!","Library Bound Book",null,"978-1-5382-2934-7",{"$f":"HYPERLINK(\"https://www.garethstevens.com/\"&Table1[[#This Row],[ISBN]],\"Weblink\")","v":"Weblink"},2019,"January 2019","Library","8.500 X 8.500","Author","Therese M. Shea",null,null,null,null,"L",null,"Grade 2 - 3","Grade 2 - 5","Archaeologists have discovered an ancient tomb. They pry open a passage and out comes a mummy. But it is not just a mummy, it's a multiplying mummy! This entertaining yet educational volume uses beautifully illustrated mummies to teach young mathematicians about the fundamentals of multiplication, including skills highlighted in the Common Core. They'll also learn fun facts about mummies of ancient Egypt and other cultures. History and math collide in this \"must have\" for every elementary library collection or classroom.","English",22.6,16.95,"513.2'13--dc23","24 pp.",{"$f":"Table1[[#This Row],[QTY]]*Table1[[#This Row],['# Books]]","v":0},{"$f":"Table1[[#This Row],[QTY]]*Table1[[#This Row],[S&L Price]]","v":0}]
[null,41,104,"Monsters Do Math!",1,"Mummies Multiply!","eBook",null,"978-1-5382-3075-6",{"$f":"HYPERLINK(\"https://www.garethstevens.com/\"&Table1[[#This Row],[ISBN]],\"Weblink\")","v":"Weblink"},2019,"January 2019",null,null,"Author","Therese M. Shea",null,null,null,null,"L",null,"Grade 2 - 3","Grade 2 - 5","Archaeologists have discovered an ancient tomb. They pry open a passage and out comes a mummy. But it is not just a mummy, it's a multiplying mummy! This entertaining yet educational volume uses beautifully illustrated mummies to teach young mathematicians about the fundamentals of multiplication, including skills highlighted in the Common Core. They'll also learn fun facts about mummies of ancient Egypt and other cultures. History and math collide in this \"must have\" for every elementary library collection or classroom.","English",22.6,16.95,"513.2'13--dc23","24 pp.",{"$f":"Table1[[#This Row],[QTY]]*Table1[[#This Row],['# Books]]","v":0},{"$f":"Table1[[#This Row],[QTY]]*Table1[[#This Row],[S&L Price]]","v":0}]
[null,41,104,"Monsters Do Math!",1,"Vampires Divide!","Library Bound Book",null,"978-1-5382-2935-4",{"$f":"HYPERLINK(\"https://www.garethstevens.com/\"&Table1[[#This Row],[ISBN]],\"Weblink\")","v":"Weblink"},2019,"January 2019","Library","8.500 X 8.500","Author","Therese M. Shea",null,null,null,null,"L",null,"Grade 2 - 3","Grade 2 - 5","Division can seem like a complicated concept without the right tools to understand what it means in the real world, or the fantasy world. In this amusing and beneficial book, vampires are the math teachers, instructing readers about strategies to help them decipher and solve division problems. Equations are accompanied by striking illustrations, and an answer key offers opportunities for self-assessment. Fun fact boxes about vampires add further interest to this must-have math book.","English",22.6,16.95,"513.2/14--dc23","24 pp.",{"$f":"Table1[[#This Row],[QTY]]*Table1[[#This Row],['# Books]]","v":0},{"$f":"Table1[[#This Row],[QTY]]*Table1[[#This Row],[S&L Price]]","v":0}]
[null,41,104,"Monsters Do Math!",1,"Vampires Divide!","eBook",null,"978-1-5382-3076-3",{"$f":"HYPERLINK(\"https://www.garethstevens.com/\"&Table1[[#This Row],[ISBN]],\"Weblink\")","v":"Weblink"},2019,"January 2019",null,null,"Author","Therese M. Shea",null,null,null,null,"L",null,"Grade 2 - 3","Grade 2 - 5","Division can seem like a complicated concept without the right tools to understand what it means in the real world, or the fantasy world. In this amusing and beneficial book, vampires are the math teachers, instructing readers about strategies to help them decipher and solve division problems. Equations are accompanied by striking illustrations, and an answer key offers opportunities for self-assessment. Fun fact boxes about vampires add further interest to this must-have math book.","English",22.6,16.95,"513.2/14--dc23","24 pp.",{"$f":"Table1[[#This Row],[QTY]]*Table1[[#This Row],['# Books]]","v":0},{"$f":"Table1[[#This Row],[QTY]]*Table1[[#This Row],[S&L Price]]","v":0}]
[null,41,104,"Monsters Do Math!",1,"Werewolves Do Word Problems!","Library Bound Book",null,"978-1-5382-2936-1",{"$f":"HYPERLINK(\"https://www.garethstevens.com/\"&Table1[[#This Row],[ISBN]],\"Weblink\")","v":"Weblink"},2019,"January 2019","Library","8.500 X 8.500","Author","Therese M. Shea",null,null,null,null,"K",null,"Grade 2 - 3","Grade 2 - 5","It's a full moon. Watch out for werewolves, and word problems?! In this fun take on traditional math books, werewolves are the instructors as well as models to help readers learn about one- and two-step word problems, an important standard of the Common Core. Delightful illustrations help young mathematicians master how to set up and solve equations, while fascinating fact boxes supply information about the famous fantasy creatures in this fun, high-interest volume.","English",22.6,16.95,"510.76--dc23","24 pp.",{"$f":"Table1[[#This Row],[QTY]]*Table1[[#This Row],['# Books]]","v":0},{"$f":"Table1[[#This Row],[QTY]]*Table1[[#This Row],[S&L Price]]","v":0}]
[null,41,104,"Monsters Do Math!",1,"Werewolves Do Word Problems!","eBook",null,"978-1-5382-3077-0",{"$f":"HYPERLINK(\"https://www.garethstevens.com/\"&Table1[[#This Row],[ISBN]],\"Weblink\")","v":"Weblink"},2019,"January 2019",null,null,"Author","Therese M. Shea",null,null,null,null,"K",null,"Grade 2 - 3","Grade 2 - 5","It's a full moon. Watch out for werewolves, and word problems?! In this fun take on traditional math books, werewolves are the instructors as well as models to help readers learn about one- and two-step word problems, an important standard of the Common Core. Delightful illustrations help young mathematicians master how to set up and solve equations, while fascinating fact boxes supply information about the famous fantasy creatures in this fun, high-interest volume.","English",22.6,16.95,"510.76--dc23","24 pp.",{"$f":"Table1[[#This Row],[QTY]]*Table1[[#This Row],['# Books]]","v":0},{"$f":"Table1[[#This Row],[QTY]]*Table1[[#This Row],[S&L Price]]","v":0}]
[null,41,104,"Monsters Do Math!",1,"Witches Add!","Library Bound Book",null,"978-1-5382-2937-8",{"$f":"HYPERLINK(\"https://www.garethstevens.com/\"&Table1[[#This Row],[ISBN]],\"Weblink\")","v":"Weblink"},2019,"January 2019","Library","8.500 X 8.500","Author","Therese M. Shea",null,null,null,null,"K",null,"Grade 2 - 3","Grade 2 - 5","\"Double, double, boil, and trouble!\" Addition will be no trouble at all for young mathematicians with the help of the charmingly illustrated witches in this high-interest book, which features elementary addition skills supporting the Common Core. There's no magic involved, but readers will discover efficient adding strategies that will aid them in the classroom and in life. Fact boxes supply interesting info about the mythology of witches throughout history, while an answer key allows readers to assess their addition proficiency.","English",22.6,16.95,"513.2/11--dc23","24 pp.",{"$f":"Table1[[#This Row],[QTY]]*Table1[[#This Row],['# Books]]","v":0},{"$f":"Table1[[#This Row],[QTY]]*Table1[[#This Row],[S&L Price]]","v":0}]
[null,41,104,"Monsters Do Math!",1,"Witches Add!","eBook",null,"978-1-5382-3078-7",{"$f":"HYPERLINK(\"https://www.garethstevens.com/\"&Table1[[#This Row],[ISBN]],\"Weblink\")","v":"Weblink"},2019,"January 2019",null,null,"Author","Therese M. Shea",null,null,null,null,"K",null,"Grade 2 - 3","Grade 2 - 5","\"Double, double, boil, and trouble!\" Addition will be no trouble at all for young mathematicians with the help of the charmingly illustrated witches in this high-interest book, which features elementary addition skills supporting the Common Core. There's no magic involved, but readers will discover efficient adding strategies that will aid them in the classroom and in life. Fact boxes supply interesting info about the mythology of witches throughout history, while an answer key allows readers to assess their addition proficiency.","English",22.6,16.95,"513.2/11--dc23","24 pp.",{"$f":"Table1[[#This Row],[QTY]]*Table1[[#This Row],['# Books]]","v":0},{"$f":"Table1[[#This Row],[QTY]]*Table1[[#This Row],[S&L Price]]","v":0}]
[null,41,104,"Monsters Do Math!",1,"Zombies Read Graphs!","Library Bound Book",null,"978-1-5382-2938-5",{"$f":"HYPERLINK(\"https://www.garethstevens.com/\"&Table1[[#This Row],[ISBN]],\"Weblink\")","v":"Weblink"},2019,"January 2019","Library","8.500 X 8.500","Author","Therese M. Shea",null,null,null,null,"K",null,"Grade 2 - 3","Grade 2 - 5","Zombies are truly terrifying monsters, but they've never been described as helpful before! This high-interest book shows readers and zombie hunters alike how the walking dead can help interpret data in different kinds of graphs, including picture graphs and bar graphs. Young mathematicians will love the creepy illustrations as well as the fun fact boxes detailing more information about the origins and legends concerning these scary creatures.","English",22.6,16.95,"511/.5--dc23","24 pp.",{"$f":"Table1[[#This Row],[QTY]]*Table1[[#This Row],['# Books]]","v":0},{"$f":"Table1[[#This Row],[QTY]]*Table1[[#This Row],[S&L Price]]","v":0}]
[null,41,104,"Monsters Do Math!",1,"Zombies Read Graphs!","eBook",null,"978-1-5382-3079-4",{"$f":"HYPERLINK(\"https://www.garethstevens.com/\"&Table1[[#This Row],[ISBN]],\"Weblink\")","v":"Weblink"},2019,"January 2019",null,null,"Author","Therese M. Shea",null,null,null,null,"K",null,"Grade 2 - 3","Grade 2 - 5","Zombies are truly terrifying monsters, but they've never been described as helpful before! This high-interest book shows readers and zombie hunters alike how the walking dead can help interpret data in different kinds of graphs, including picture graphs and bar graphs. Young mathematicians will love the creepy illustrations as well as the fun fact boxes detailing more information about the origins and legends concerning these scary creatures.","English",22.6,16.95,"511/.5--dc23","24 pp.",{"$f":"Table1[[#This Row],[QTY]]*Table1[[#This Row],['# Books]]","v":0},{"$f":"Table1[[#This Row],[QTY]]*Table1[[#This Row],[S&L Price]]","v":0}]
[null,42,null,"Math Adventure Stories",4,"Math Adventure Stories","Library Set",null,"978-1-5382-5338-0",{"$f":"HYPERLINK(\"https://www.garethstevens.com/\"&Table1[[#This Row],[ISBN]],\"Weblink\")","v":"Weblink"},2021,"August 2020","Library","8.500 X 11.00","","",null,null,null,null,null,null,"Grade 3 - 4","Grade 3 - 6","Real-world connections are essential to keep young mathematicians interested and invested in math concepts. However, placing those math concepts in a fun fictional story will make them even more inspired to learn. This dynamic set will appeal to fans of superheroes, space adventures, and fantasy worlds. Math puzzles are cleverly woven into the entertaining plots and will motivate readers to become math heroes by solving the problems and saving the day. Features include: Compelling, accessible adventure stories, complemented by inviting illustrations. Appeals to readers of all levels. At-level math problems throughout the texts allow for assessment. Fosters understanding and fluency in a variety of skills and operations that correlate with math standards of the Common Core.","English",106.4,79.8,null,"32 pp.",{"$f":"Table1[[#This Row],[QTY]]*Table1[[#This Row],['# Books]]","v":0},{"$f":"Table1[[#This Row],[QTY]]*Table1[[#This Row],[S&L Price]]","v":0}]
[null,42,null,"Math Adventure Stories",1,"Haley Comet and the Calculon Crisis","Library Bound Book",null,"978-1-5382-5271-0",{"$f":"HYPERLINK(\"https://www.garethstevens.com/\"&Table1[[#This Row],[ISBN]],\"Weblink\")","v":"Weblink"},2021,"August 2020","Library","8.500 X 11.00","Author, Illustrated by","William Potter, Rayanne Vieira",null,null,null,null,"O",null,"Grade 3 - 4","Grade 3 - 6","Captain Haley Comet is looking for a few good \"mathstronauts\" to help her maintain peace in the galaxy. They'll need a special set of skills to deal with the calculating aliens of the planet Calculus. Thrilled readers will want to immerse themselves in this diverting storyline and use their knowledge of fractions, symbols, operations, and more math concepts to avoid an interstellar war. Bright illustrations add excitement to the sci-fi story, while math problems are an integral part of the imaginative plot.","English",26.6,19.95,"793.74--dc23","32 pp.",{"$f":"Table1[[#This Row],[QTY]]*Table1[[#This Row],['# Books]]","v":0},{"$f":"Table1[[#This Row],[QTY]]*Table1[[#This Row],[S&L Price]]","v":0}]
[null,42,null,"Math Adventure Stories",1,"Haley Comet and the Calculon Crisis","eBook",null,"978-1-5382-5272-7",{"$f":"HYPERLINK(\"https://www.garethstevens.com/\"&Table1[[#This Row],[ISBN]],\"Weblink\")","v":"Weblink"},2021,"August 2020",null,null,"Author, Illustrated by","William Potter, Rayanne Vieira",null,null,null,null,"O",null,"Grade 3 - 4","Grade 3 - 6","Captain Haley Comet is looking for a few good \"mathstronauts\" to help her maintain peace in the galaxy. They'll need a special set of skills to deal with the calculating aliens of the planet Calculus. Thrilled readers will want to immerse themselves in this diverting storyline and use their knowledge of fractions, symbols, operations, and more math concepts to avoid an interstellar war. Bright illustrations add excitement to the sci-fi story, while math problems are an integral part of the imaginative plot.","English",26.6,19.95,"793.74--dc23","32 pp.",{"$f":"Table1[[#This Row],[QTY]]*Table1[[#This Row],['# Books]]","v":0},{"$f":"Table1[[#This Row],[QTY]]*Table1[[#This Row],[S&L Price]]","v":0}]
[null,42,null,"Math Adventure Stories",1,"Infinity Squad to the Rescue","Library Bound Book",null,"978-1-5382-5274-1",{"$f":"HYPERLINK(\"https://www.garethstevens.com/\"&Table1[[#This Row],[ISBN]],\"Weblink\")","v":"Weblink"},2021,"August 2020","Library","8.500 X 11.00","Author, Illustrated by","William Potter, Rayanne Vieira",null,null,null,null,"O",null,"Grade 3 - 4","Grade 3 - 6","Brush off those superpowers, it's time to team up with the Infinity Squad to save the city from certain destruction! Just like any team of superheroes, each member of this courageous group has a unique skill set, in this case a knack for math. Readers will be up to the challenge of helping the intrepid Infinity Squad solve a variety of problems as they endeavor to foil the evil plans of Doc Zero. At-level math problems are woven cleverly into the gripping narrative, which is accompanied by colorful illustrations of the heroes in action.","English",26.6,19.95,"793.74--dc23","32 pp.",{"$f":"Table1[[#This Row],[QTY]]*Table1[[#This Row],['# Books]]","v":0},{"$f":"Table1[[#This Row],[QTY]]*Table1[[#This Row],[S&L Price]]","v":0}]
[null,42,null,"Math Adventure Stories",1,"Infinity Squad to the Rescue","eBook",null,"978-1-5382-5275-8",{"$f":"HYPERLINK(\"https://www.garethstevens.com/\"&Table1[[#This Row],[ISBN]],\"Weblink\")","v":"Weblink"},2021,"August 2020",null,null,"Author, Illustrated by","William Potter, Rayanne Vieira",null,null,null,null,"O",null,"Grade 3 - 4","Grade 3 - 6","Brush off those superpowers, it's time to team up with the Infinity Squad to save the city from certain destruction! Just like any team of superheroes, each member of this courageous group has a unique skill set, in this case a knack for math. Readers will be up to the challenge of helping the intrepid Infinity Squad solve a variety of problems as they endeavor to foil the evil plans of Doc Zero. At-level math problems are woven cleverly into the gripping narrative, which is accompanied by colorful illustrations of the heroes in action.","English",26.6,19.95,"793.74--dc23","32 pp.",{"$f":"Table1[[#This Row],[QTY]]*Table1[[#This Row],['# Books]]","v":0},{"$f":"Table1[[#This Row],[QTY]]*Table1[[#This Row],[S&L Price]]","v":0}]
[null,42,null,"Math Adventure Stories",1,"The Mysterious City of El Numero","Library Bound Book",null,"978-1-5382-5277-2",{"$f":"HYPERLINK(\"https://www.garethstevens.com/\"&Table1[[#This Row],[ISBN]],\"Weblink\")","v":"Weblink"},2021,"August 2020","Library","8.500 X 11.00","Author, Illustrated by","William Potter, Rayanne Vieira",null,null,null,null,"O",null,"Grade 3 - 4","Grade 3 - 6","Daisy and Dale's father, adventurer Darren Deed, has gone missing during a mission to South America. After the kids receive a mysterious package in the mail, clues unravel that might lead to his whereabouts. He's possibly in the mysterious city of El Numero. Daisy and Dale need readers' help, and math skills, as they attempt to rescue their father. This clever volume seamlessly combines an exciting adventure story with need-to-know math concepts and is packed with appealing illustrations. After solving problems in this fantasy world, readers will find themselves making more math connections in their own lives.","English",26.6,19.95,"793.74--dc23","32 pp.",{"$f":"Table1[[#This Row],[QTY]]*Table1[[#This Row],['# Books]]","v":0},{"$f":"Table1[[#This Row],[QTY]]*Table1[[#This Row],[S&L Price]]","v":0}]
[null,42,null,"Math Adventure Stories",1,"The Mysterious City of El Numero","eBook",null,"978-1-5382-5278-9",{"$f":"HYPERLINK(\"https://www.garethstevens.com/\"&Table1[[#This Row],[ISBN]],\"Weblink\")","v":"Weblink"},2021,"August 2020",null,null,"Author, Illustrated by","William Potter, Rayanne Vieira",null,null,null,null,"O",null,"Grade 3 - 4","Grade 3 - 6","Daisy and Dale's father, adventurer Darren Deed, has gone missing during a mission to South America. After the kids receive a mysterious package in the mail, clues unravel that might lead to his whereabouts. He's possibly in the mysterious city of El Numero. Daisy and Dale need readers' help, and math skills, as they attempt to rescue their father. This clever volume seamlessly combines an exciting adventure story with need-to-know math concepts and is packed with appealing illustrations. After solving problems in this fantasy world, readers will find themselves making more math connections in their own lives.","English",26.6,19.95,"793.74--dc23","32 pp.",{"$f":"Table1[[#This Row],[QTY]]*Table1[[#This Row],['# Books]]","v":0},{"$f":"Table1[[#This Row],[QTY]]*Table1[[#This Row],[S&L Price]]","v":0}]
[null,42,null,"Math Adventure Stories",1,"The Mystery of the Division Dragon","Library Bound Book",null,"978-1-5382-5268-0",{"$f":"HYPERLINK(\"https://www.garethstevens.com/\"&Table1[[#This Row],[ISBN]],\"Weblink\")","v":"Weblink"},2021,"August 2020","Library","8.500 X 11.00","Author, Illustrated by","William Potter, Rayanne Vieira",null,null,null,null,"O",null,"Grade 3 - 4","Grade 3 - 6","Wizard detective Anna Kadabra needs help. Jewels have disappeared within the mind-boggling wings of the Mathmagical Museum. While attempting to solve the mystery and locate the jewels, she encounters an assortment of math problems, and a cunning dragon! She'll need the help of readers with an aptitude for math to aid this magical expedition. Young mathematicians will love wielding their math skills in this unique world of fantasy. Bright illustrations light up the fun design, while inviting math problems allow readers to assess their understanding of at-level math concepts.","English",26.6,19.95,"793.74--dc23","32 pp.",{"$f":"Table1[[#This Row],[QTY]]*Table1[[#This Row],['# Books]]","v":0},{"$f":"Table1[[#This Row],[QTY]]*Table1[[#This Row],[S&L Price]]","v":0}]
[null,42,null,"Math Adventure Stories",1,"The Mystery of the Division Dragon","eBook",null,"978-1-5382-5269-7",{"$f":"HYPERLINK(\"https://www.garethstevens.com/\"&Table1[[#This Row],[ISBN]],\"Weblink\")","v":"Weblink"},2021,"August 2020",null,null,"Author, Illustrated by","William Potter, Rayanne Vieira",null,null,null,null,"O",null,"Grade 3 - 4","Grade 3 - 6","Wizard detective Anna Kadabra needs help. Jewels have disappeared within the mind-boggling wings of the Mathmagical Museum. While attempting to solve the mystery and locate the jewels, she encounters an assortment of math problems, and a cunning dragon! She'll need the help of readers with an aptitude for math to aid this magical expedition. Young mathematicians will love wielding their math skills in this unique world of fantasy. Bright illustrations light up the fun design, while inviting math problems allow readers to assess their understanding of at-level math concepts.","English",26.6,19.95,"793.74--dc23","32 pp.",{"$f":"Table1[[#This Row],[QTY]]*Table1[[#This Row],['# Books]]","v":0},{"$f":"Table1[[#This Row],[QTY]]*Table1[[#This Row],[S&L Price]]","v":0}]
[null,43,null,"Deadly Biters",6,"Deadly Biters","Library Set",null,"978-1-5382-5976-4",{"$f":"HYPERLINK(\"https://www.garethstevens.com/\"&Table1[[#This Row],[ISBN]],\"Weblink\")","v":"Weblink"},2021,"August 2020","Library","8.500 X 8.500","","",null,null,null,null,null,null,"Grade 2 - 3","Grade 2 - 5","CHOMP! From bull sharks to hyenas, animals around the world have some scary, deadly bites. Some animals' bites are strong, exerting lots of pressure when they bite down. Others have sharp or jagged teeth that can cause a lot of damage. Still more may have venom that's released when they bite. Readers learn about each animal with a focus on their incredible bite and how and why it's used. Labeled photographs show readers the exact anatomy that makes each animal's bite so fierce. Features include: Up-close photographs bring readers closer to deadly animals than they could get at the zoo. High-interest topic entices developing readers. Content that supports life science curriculums.","English",135.6,101.7,null,"24 pp.",{"$f":"Table1[[#This Row],[QTY]]*Table1[[#This Row],['# Books]]","v":0},{"$f":"Table1[[#This Row],[QTY]]*Table1[[#This Row],[S&L Price]]","v":0}]
[null,43,null,"Deadly Biters",1,"Bull Sharks Bite!","Library Bound Book",null,"978-1-5382-5792-0",{"$f":"HYPERLINK(\"https://www.garethstevens.com/\"&Table1[[#This Row],[ISBN]],\"Weblink\")","v":"Weblink"},2021,"August 2020","Library","8.500 X 8.500","Author","Janey Levy",null,null,null,null,"M",null,"Grade 2 - 3","Grade 2 - 5","If you saw the movie Jaws, you probably formed the opinion that great white sharks are to be feared above all others. Surprise! It turns out bull sharks were probably responsible for the attacks that inspired the book and movie. Many experts consider bull sharks to be the most dangerous of all sharks. Young readers will be thrilled by what they discover about this impressive animal that can thrive in both salt and fresh water environments. Striking, detailed photographs take readers right next to these sharks while an accessible narrative shares important life science concepts. A graphic organizer and fact boxes support the learning experience.","English",22.6,16.95,"597.3/4--dc23","24 pp.",{"$f":"Table1[[#This Row],[QTY]]*Table1[[#This Row],['# Books]]","v":0},{"$f":"Table1[[#This Row],[QTY]]*Table1[[#This Row],[S&L Price]]","v":0}]
[null,43,null,"Deadly Biters",1,"Bull Sharks Bite!","eBook",null,"978-1-5382-5793-7",{"$f":"HYPERLINK(\"https://www.garethstevens.com/\"&Table1[[#This Row],[ISBN]],\"Weblink\")","v":"Weblink"},2021,"August 2020",null,null,"Author","Janey Levy",null,null,null,null,"M",null,"Grade 2 - 3","Grade 2 - 5","If you saw the movie Jaws, you probably formed the opinion that great white sharks are to be feared above all others. Surprise! It turns out bull sharks were probably responsible for the attacks that inspired the book and movie. Many experts consider bull sharks to be the most dangerous of all sharks. Young readers will be thrilled by what they discover about this impressive animal that can thrive in both salt and fresh water environments. Striking, detailed photographs take readers right next to these sharks while an accessible narrative shares important life science concepts. A graphic organizer and fact boxes support the learning experience.","English",22.6,16.95,"597.3/4--dc23","24 pp.",{"$f":"Table1[[#This Row],[QTY]]*Table1[[#This Row],['# Books]]","v":0},{"$f":"Table1[[#This Row],[QTY]]*Table1[[#This Row],[S&L Price]]","v":0}]
[null,43,null,"Deadly Biters",1,"Grizzly Bears Bite!","Library Bound Book",null,"978-1-5382-5772-2",{"$f":"HYPERLINK(\"https://www.garethstevens.com/\"&Table1[[#This Row],[ISBN]],\"Weblink\")","v":"Weblink"},2021,"August 2020","Library","8.500 X 8.500","Author","Janey Levy",null,null,null,null,"M",null,"Grade 2 - 3","Grade 2 - 5","Grizzly bears are a powerful, intimidating subspecies of brown bear. Just how threatening humans find them is revealed by the final part of their scientific name: Ursus arctos horribilis. Though much of their diet consists of fruit and nuts, make no mistake, these animals are apex predators. They have the teeth and bite to prove it. Young readers will be delighted with what they learn about these formidable animals and their bite. Spectacular, detailed photographs bring grizzlies up-close and personal while an accessible narrative shares important life science concepts. This reading and learning experience is enhanced by fact boxes, a graphic organizer, and glossary.","English",22.6,16.95,"599.784--dc23","24 pp.",{"$f":"Table1[[#This Row],[QTY]]*Table1[[#This Row],['# Books]]","v":0},{"$f":"Table1[[#This Row],[QTY]]*Table1[[#This Row],[S&L Price]]","v":0}]
[null,43,null,"Deadly Biters",1,"Grizzly Bears Bite!","eBook",null,"978-1-5382-5773-9",{"$f":"HYPERLINK(\"https://www.garethstevens.com/\"&Table1[[#This Row],[ISBN]],\"Weblink\")","v":"Weblink"},2021,"August 2020",null,null,"Author","Janey Levy",null,null,null,null,"M",null,"Grade 2 - 3","Grade 2 - 5","Grizzly bears are a powerful, intimidating subspecies of brown bear. Just how threatening humans find them is revealed by the final part of their scientific name: Ursus arctos horribilis. Though much of their diet consists of fruit and nuts, make no mistake, these animals are apex predators. They have the teeth and bite to prove it. Young readers will be delighted with what they learn about these formidable animals and their bite. Spectacular, detailed photographs bring grizzlies up-close and personal while an accessible narrative shares important life science concepts. This reading and learning experience is enhanced by fact boxes, a graphic organizer, and glossary.","English",22.6,16.95,"599.784--dc23","24 pp.",{"$f":"Table1[[#This Row],[QTY]]*Table1[[#This Row],['# Books]]","v":0},{"$f":"Table1[[#This Row],[QTY]]*Table1[[#This Row],[S&L Price]]","v":0}]
[null,43,null,"Deadly Biters",1,"Hippos Bite!","Library Bound Book",null,"978-1-5382-5776-0",{"$f":"HYPERLINK(\"https://www.garethstevens.com/\"&Table1[[#This Row],[ISBN]],\"Weblink\")","v":"Weblink"},2021,"August 2020","Library","8.500 X 8.500","Author","Janey Levy",null,null,null,null,"M",null,"Grade 2 - 3","Grade 2 - 5","Hippos are perhaps the most surprising animals in this set about voracious biters. They are, after all, herbivores, not carnivores or even omnivores. Their huge body and short, fat legs make them look slow moving rather than pouncing and powerful. Yet these enormous animals are surprisingly speedy, aggressive, and equipped with an immensely powerful bite. Young readers will be enthralled with what they discover about this popular animal. An accessible narrative and fact boxes address important science concepts. A graphic organizer and bold photographs enhance this wildlife learning experience.","English",22.6,16.95,"599.63/5--dc23","24 pp.",{"$f":"Table1[[#This Row],[QTY]]*Table1[[#This Row],['# Books]]","v":0},{"$f":"Table1[[#This Row],[QTY]]*Table1[[#This Row],[S&L Price]]","v":0}]
[null,43,null,"Deadly Biters",1,"Hippos Bite!","eBook",null,"978-1-5382-5777-7",{"$f":"HYPERLINK(\"https://www.garethstevens.com/\"&Table1[[#This Row],[ISBN]],\"Weblink\")","v":"Weblink"},2021,"August 2020",null,null,"Author","Janey Levy",null,null,null,null,"M",null,"Grade 2 - 3","Grade 2 - 5","Hippos are perhaps the most surprising animals in this set about voracious biters. They are, after all, herbivores, not carnivores or even omnivores. Their huge body and short, fat legs make them look slow moving rather than pouncing and powerful. Yet these enormous animals are surprisingly speedy, aggressive, and equipped with an immensely powerful bite. Young readers will be enthralled with what they discover about this popular animal. An accessible narrative and fact boxes address important science concepts. A graphic organizer and bold photographs enhance this wildlife learning experience.","English",22.6,16.95,"599.63/5--dc23","24 pp.",{"$f":"Table1[[#This Row],[QTY]]*Table1[[#This Row],['# Books]]","v":0},{"$f":"Table1[[#This Row],[QTY]]*Table1[[#This Row],[S&L Price]]","v":0}]
[null,43,null,"Deadly Biters",1,"Hyenas Bite!","Library Bound Book",null,"978-1-5382-5788-3",{"$f":"HYPERLINK(\"https://www.garethstevens.com/\"&Table1[[#This Row],[ISBN]],\"Weblink\")","v":"Weblink"},2021,"August 2020","Library","8.500 X 8.500","Author","Janey Levy",null,null,null,null,"M",null,"Grade 2 - 3","Grade 2 - 5","Hyenas have a bad reputation as cowardly scavengers. In movies such as The Lion King, they're portrayed as villains, but hyenas are actually Africa's most successful predators. Young readers will discover fascinating facts about these intriguing, intelligent animals. Special attention is paid to their bite, how it works, and the role it plays in their diet. Fact boxes and a graphic organizer supplement the age-appropriate narrative that addresses important science concepts. Striking photographs will make readers feel like they're on a hyena wildlife safari.","English",22.6,16.95,"599.74'3--dc23","24 pp.",{"$f":"Table1[[#This Row],[QTY]]*Table1[[#This Row],['# Books]]","v":0},{"$f":"Table1[[#This Row],[QTY]]*Table1[[#This Row],[S&L Price]]","v":0}]
[null,43,null,"Deadly Biters",1,"Hyenas Bite!","eBook",null,"978-1-5382-5789-0",{"$f":"HYPERLINK(\"https://www.garethstevens.com/\"&Table1[[#This Row],[ISBN]],\"Weblink\")","v":"Weblink"},2021,"August 2020",null,null,"Author","Janey Levy",null,null,null,null,"M",null,"Grade 2 - 3","Grade 2 - 5","Hyenas have a bad reputation as cowardly scavengers. In movies such as The Lion King, they're portrayed as villains, but hyenas are actually Africa's most successful predators. Young readers will discover fascinating facts about these intriguing, intelligent animals. Special attention is paid to their bite, how it works, and the role it plays in their diet. Fact boxes and a graphic organizer supplement the age-appropriate narrative that addresses important science concepts. Striking photographs will make readers feel like they're on a hyena wildlife safari.","English",22.6,16.95,"599.74'3--dc23","24 pp.",{"$f":"Table1[[#This Row],[QTY]]*Table1[[#This Row],['# Books]]","v":0},{"$f":"Table1[[#This Row],[QTY]]*Table1[[#This Row],[S&L Price]]","v":0}]
[null,43,null,"Deadly Biters",1,"Nile Crocodiles Bite!","Library Bound Book",null,"978-1-5382-5780-7",{"$f":"HYPERLINK(\"https://www.garethstevens.com/\"&Table1[[#This Row],[ISBN]],\"Weblink\")","v":"Weblink"},2021,"August 2020","Library","8.500 X 8.500","Author","Janey Levy",null,null,null,null,"M",null,"Grade 2 - 3","Grade 2 - 5","American crocodiles and American alligators are formidable, but neither holds a candle to the fearsome Nile crocodile. Nile crocodiles have the strongest bite in the world at 5,000 pounds per square inch. With this fascinating volume, young readers discover intriguing facts about these animals and their lives. Special attention is given to their bite, how it works, and why and when they bite. Accessible text addresses important science concepts while colorful photographs display remarkable images. Fact boxes and a graphic organizer enrich this learning experience.","English",22.6,16.95,"597.98'2--dc23","24 pp.",{"$f":"Table1[[#This Row],[QTY]]*Table1[[#This Row],['# Books]]","v":0},{"$f":"Table1[[#This Row],[QTY]]*Table1[[#This Row],[S&L Price]]","v":0}]
[null,43,null,"Deadly Biters",1,"Nile Crocodiles Bite!","eBook",null,"978-1-5382-5781-4",{"$f":"HYPERLINK(\"https://www.garethstevens.com/\"&Table1[[#This Row],[ISBN]],\"Weblink\")","v":"Weblink"},2021,"August 2020",null,null,"Author","Janey Levy",null,null,null,null,"M",null,"Grade 2 - 3","Grade 2 - 5","American crocodiles and American alligators are formidable, but neither holds a candle to the fearsome Nile crocodile. Nile crocodiles have the strongest bite in the world at 5,000 pounds per square inch. With this fascinating volume, young readers discover intriguing facts about these animals and their lives. Special attention is given to their bite, how it works, and why and when they bite. Accessible text addresses important science concepts while colorful photographs display remarkable images. Fact boxes and a graphic organizer enrich this learning experience.","English",22.6,16.95,"597.98'2--dc23","24 pp.",{"$f":"Table1[[#This Row],[QTY]]*Table1[[#This Row],['# Books]]","v":0},{"$f":"Table1[[#This Row],[QTY]]*Table1[[#This Row],[S&L Price]]","v":0}]
[null,43,null,"Deadly Biters",1,"Piranhas Bite!","Library Bound Book",null,"978-1-5382-5784-5",{"$f":"HYPERLINK(\"https://www.garethstevens.com/\"&Table1[[#This Row],[ISBN]],\"Weblink\")","v":"Weblink"},2021,"August 2020","Library","8.500 X 8.500","Author","Janey Levy",null,null,null,null,"M",null,"Grade 2 - 3","Grade 2 - 5","Piranhas are small fish with sharp teeth and a ferocious reputation. They're reputedly such fierce, terrifying predators that horror movies have been made about them. But do they really warrant their reputation? This absorbing volume dives into the world of piranhas to discover the truth about these South American freshwater fish. Special attention is paid to the most infamous and dangerous species, which is the red-bellied piranha. Age-appropriate text addresses important science concepts while vivid photographs support this thrilling narrative. Fact boxes and a graphic organizer enhance the reading experience.","English",22.6,16.95,"597/.48--dc23","24 pp.",{"$f":"Table1[[#This Row],[QTY]]*Table1[[#This Row],['# Books]]","v":0},{"$f":"Table1[[#This Row],[QTY]]*Table1[[#This Row],[S&L Price]]","v":0}]
[null,43,null,"Deadly Biters",1,"Piranhas Bite!","eBook",null,"978-1-5382-5785-2",{"$f":"HYPERLINK(\"https://www.garethstevens.com/\"&Table1[[#This Row],[ISBN]],\"Weblink\")","v":"Weblink"},2021,"August 2020",null,null,"Author","Janey Levy",null,null,null,null,"M",null,"Grade 2 - 3","Grade 2 - 5","Piranhas are small fish with sharp teeth and a ferocious reputation. They're reputedly such fierce, terrifying predators that horror movies have been made about them. But do they really warrant their reputation? This absorbing volume dives into the world of piranhas to discover the truth about these South American freshwater fish. Special attention is paid to the most infamous and dangerous species, which is the red-bellied piranha. Age-appropriate text addresses important science concepts while vivid photographs support this thrilling narrative. Fact boxes and a graphic organizer enhance the reading experience.","English",22.6,16.95,"597/.48--dc23","24 pp.",{"$f":"Table1[[#This Row],[QTY]]*Table1[[#This Row],['# Books]]","v":0},{"$f":"Table1[[#This Row],[QTY]]*Table1[[#This Row],[S&L Price]]","v":0}]
[null,44,null,"Nature's Freak Show: Ugly Beasts",6,"Nature's Freak Show: Ugly Beasts","Library Set",null,"978-1-5382-4898-0",{"$f":"HYPERLINK(\"https://www.garethstevens.com/\"&Table1[[#This Row],[ISBN]],\"Weblink\")","v":"Weblink"},2020,"January 2020","Library","8.500 X 8.500","","",null,null,null,null,null,null,"Grade 2 - 3","Grade 2 - 5","Yikes! The male elephant seal has an inflatable snout that may not be pretty to us, but it serves an important purpose in elephant seal communication. This set includes many examples of animals that look frightful to humans, but have evolved in just the right way for their kind and their survival. Including fascinating facts about where these freaky animals live, what they eat, and how they interact with one another, this set is sure to be a page turner for those curious about parts of the animal kingdom that are not considered cuddly or cute. Features include: Encourages conservation conversations, even about animals that don't photograph well. Supports life science curricula with discussion of animal life cycles and predator-prey relationships. Introduces readers to lesser known animals.","English",135.6,101.7,null,"24 pp.",{"$f":"Table1[[#This Row],[QTY]]*Table1[[#This Row],['# Books]]","v":0},{"$f":"Table1[[#This Row],[QTY]]*Table1[[#This Row],[S&L Price]]","v":0}]
[null,44,null,"Nature's Freak Show: Ugly Beasts",1,"The Beastly Elephant Seal","Library Bound Book",null,"978-1-5382-4604-7",{"$f":"HYPERLINK(\"https://www.garethstevens.com/\"&Table1[[#This Row],[ISBN]],\"Weblink\")","v":"Weblink"},2020,"January 2020","Library","8.500 X 8.500","Author","Janey Levy",null,null,null,null,"L",null,"Grade 2 - 3","Grade 2 - 5","Many of the seals and sea lions that people are familiar with are appealing, cute animals, but no one is likely to use those words to describe male elephant seals. These enormous \"elephants of the sea\" have an inflatable trunk-like proboscis they use to produce booming noises that can be heard miles away. Engaged readers will learn this and more about the lives of these remarkable animals. Accessible text addresses important science concepts, while lively images dazzle the eyes. Fact boxes and a graphic organizer enhance the narrative.","English",22.6,16.95,"599.79/4--dc23","24 pp.",{"$f":"Table1[[#This Row],[QTY]]*Table1[[#This Row],['# Books]]","v":0},{"$f":"Table1[[#This Row],[QTY]]*Table1[[#This Row],[S&L Price]]","v":0}]
[null,44,null,"Nature's Freak Show: Ugly Beasts",1,"The Beastly Elephant Seal","eBook",null,"978-1-5382-4605-4",{"$f":"HYPERLINK(\"https://www.garethstevens.com/\"&Table1[[#This Row],[ISBN]],\"Weblink\")","v":"Weblink"},2020,"January 2020",null,null,"Author","Janey Levy",null,null,null,null,"L",null,"Grade 2 - 3","Grade 2 - 5","Many of the seals and sea lions that people are familiar with are appealing, cute animals, but no one is likely to use those words to describe male elephant seals. These enormous \"elephants of the sea\" have an inflatable trunk-like proboscis they use to produce booming noises that can be heard miles away. Engaged readers will learn this and more about the lives of these remarkable animals. Accessible text addresses important science concepts, while lively images dazzle the eyes. Fact boxes and a graphic organizer enhance the narrative.","English",22.6,16.95,"599.79/4--dc23","24 pp.",{"$f":"Table1[[#This Row],[QTY]]*Table1[[#This Row],['# Books]]","v":0},{"$f":"Table1[[#This Row],[QTY]]*Table1[[#This Row],[S&L Price]]","v":0}]
[null,44,null,"Nature's Freak Show: Ugly Beasts",1,"The Bizarre California Condor","Library Bound Book",null,"978-1-5382-4608-5",{"$f":"HYPERLINK(\"https://www.garethstevens.com/\"&Table1[[#This Row],[ISBN]],\"Weblink\")","v":"Weblink"},2020,"January 2020","Library","8.500 X 8.500","Author","Janey Levy",null,null,null,null,"M",null,"Grade 2 - 3","Grade 2 - 5","Many people enjoy feeding colorful wild birds or even keeping birds as pets, but some wild birds are strange-looking. Some people might even consider them ugly. The California condor, with its bald head and glaring eyes, is one of these birds. This engaging volume introduces readers to intriguing facts about these birds, including why their head is bald, how the skin on their head expresses emotions, and their attention to cleanliness. Accessible text addresses important elementary science concepts, while vibrant images bring these bizarre birds into sharp focus.","English",22.6,16.95,"598.9/2--dc23","24 pp.",{"$f":"Table1[[#This Row],[QTY]]*Table1[[#This Row],['# Books]]","v":0},{"$f":"Table1[[#This Row],[QTY]]*Table1[[#This Row],[S&L Price]]","v":0}]
[null,44,null,"Nature's Freak Show: Ugly Beasts",1,"The Bizarre California Condor","eBook",null,"978-1-5382-4609-2",{"$f":"HYPERLINK(\"https://www.garethstevens.com/\"&Table1[[#This Row],[ISBN]],\"Weblink\")","v":"Weblink"},2020,"January 2020",null,null,"Author","Janey Levy",null,null,null,null,"M",null,"Grade 2 - 3","Grade 2 - 5","Many people enjoy feeding colorful wild birds or even keeping birds as pets, but some wild birds are strange-looking. Some people might even consider them ugly. The California condor, with its bald head and glaring eyes, is one of these birds. This engaging volume introduces readers to intriguing facts about these birds, including why their head is bald, how the skin on their head expresses emotions, and their attention to cleanliness. Accessible text addresses important elementary science concepts, while vibrant images bring these bizarre birds into sharp focus.","English",22.6,16.95,"598.9/2--dc23","24 pp.",{"$f":"Table1[[#This Row],[QTY]]*Table1[[#This Row],['# Books]]","v":0},{"$f":"Table1[[#This Row],[QTY]]*Table1[[#This Row],[S&L Price]]","v":0}]
[null,44,null,"Nature's Freak Show: Ugly Beasts",1,"The Frightful Proboscis Monkey","Library Bound Book",null,"978-1-5382-4612-2",{"$f":"HYPERLINK(\"https://www.garethstevens.com/\"&Table1[[#This Row],[ISBN]],\"Weblink\")","v":"Weblink"},2020,"January 2020","Library","8.500 X 8.500","Author","Janey Levy",null,null,null,null,"L",null,"Grade 2 - 3","Grade 2 - 5","Like humans, monkeys are primates and are often lively, engaging, and entertaining creatures. In their faces, we may often see some reflection of our own face. But the male proboscis monkey has a face that sets it apart. It's distinguished by its long, fleshy, pendulous nose. Readers of this fascinating volume will learn intriguing facts about these odd-looking animals, who are excellent swimmers with webbed fingers and toes. Age-appropriate text highlights important elementary science concepts, while vivid images, fact boxes, and a graphic organizer support the narrative.","English",22.6,16.95,"599.8/62--dc23","24 pp.",{"$f":"Table1[[#This Row],[QTY]]*Table1[[#This Row],['# Books]]","v":0},{"$f":"Table1[[#This Row],[QTY]]*Table1[[#This Row],[S&L Price]]","v":0}]
[null,44,null,"Nature's Freak Show: Ugly Beasts",1,"The Frightful Proboscis Monkey","eBook",null,"978-1-5382-4613-9",{"$f":"HYPERLINK(\"https://www.garethstevens.com/\"&Table1[[#This Row],[ISBN]],\"Weblink\")","v":"Weblink"},2020,"January 2020",null,null,"Author","Janey Levy",null,null,null,null,"L",null,"Grade 2 - 3","Grade 2 - 5","Like humans, monkeys are primates and are often lively, engaging, and entertaining creatures. In their faces, we may often see some reflection of our own face. But the male proboscis monkey has a face that sets it apart. It's distinguished by its long, fleshy, pendulous nose. Readers of this fascinating volume will learn intriguing facts about these odd-looking animals, who are excellent swimmers with webbed fingers and toes. Age-appropriate text highlights important elementary science concepts, while vivid images, fact boxes, and a graphic organizer support the narrative.","English",22.6,16.95,"599.8/62--dc23","24 pp.",{"$f":"Table1[[#This Row],[QTY]]*Table1[[#This Row],['# Books]]","v":0},{"$f":"Table1[[#This Row],[QTY]]*Table1[[#This Row],[S&L Price]]","v":0}]
[null,44,null,"Nature's Freak Show: Ugly Beasts",1,"The Monstrous Warthog","Library Bound Book",null,"978-1-5382-4616-0",{"$f":"HYPERLINK(\"https://www.garethstevens.com/\"&Table1[[#This Row],[ISBN]],\"Weblink\")","v":"Weblink"},2020,"January 2020","Library","8.500 X 8.500","Author","Janey Levy",null,null,null,null,"M",null,"Grade 2 - 3","Grade 2 - 5","Even the warthog's name suggests that it isn't one of the world's most beautiful creatures, and it's true. They have large flat heads covered with warts, and sharp ominous tusks. Readers will learn intriguing facts about these weird-looking animals, who may not be beautiful, but are strong and intelligent. They'll be surprised to learn that even though warthogs look really scary, they prefer staying out of danger. Accessible text addresses important elementary science concepts and vibrant images and fact boxes enliven the narrative.","English",22.6,16.95,"599.63/3--dc23","24 pp.",{"$f":"Table1[[#This Row],[QTY]]*Table1[[#This Row],['# Books]]","v":0},{"$f":"Table1[[#This Row],[QTY]]*Table1[[#This Row],[S&L Price]]","v":0}]
[null,44,null,"Nature's Freak Show: Ugly Beasts",1,"The Monstrous Warthog","eBook",null,"978-1-5382-4617-7",{"$f":"HYPERLINK(\"https://www.garethstevens.com/\"&Table1[[#This Row],[ISBN]],\"Weblink\")","v":"Weblink"},2020,"January 2020",null,null,"Author","Janey Levy",null,null,null,null,"M",null,"Grade 2 - 3","Grade 2 - 5","Even the warthog's name suggests that it isn't one of the world's most beautiful creatures, and it's true. They have large flat heads covered with warts, and sharp ominous tusks. Readers will learn intriguing facts about these weird-looking animals, who may not be beautiful, but are strong and intelligent. They'll be surprised to learn that even though warthogs look really scary, they prefer staying out of danger. Accessible text addresses important elementary science concepts and vibrant images and fact boxes enliven the narrative.","English",22.6,16.95,"599.63/3--dc23","24 pp.",{"$f":"Table1[[#This Row],[QTY]]*Table1[[#This Row],['# Books]]","v":0},{"$f":"Table1[[#This Row],[QTY]]*Table1[[#This Row],[S&L Price]]","v":0}]
[null,44,null,"Nature's Freak Show: Ugly Beasts",1,"The Repulsive Naked Mole Rat","Library Bound Book",null,"978-1-5382-4620-7",{"$f":"HYPERLINK(\"https://www.garethstevens.com/\"&Table1[[#This Row],[ISBN]],\"Weblink\")","v":"Weblink"},2020,"January 2020","Library","8.500 X 8.500","Author","Janey Levy",null,null,null,null,"M",null,"Grade 2 - 3","Grade 2 - 5","The animal world includes many beautiful, colorful, and majestic creatures, but some of nature's creatures are strange-looking, even ugly to human eyes. The naked mole rat belongs to this group of animals. Readers of this absorbing volume will discover fascinating facts about these creepy animals, who live in colonies organized like those of bees and ants, and aren't actually moles or rats! Age-appropriate text highlights important elementary science concepts, and colorful photographs will delight readers. Captions, fact boxes, and a graphic organizer enrich the main narrative.","English",22.6,16.95,"599.35--dc23","24 pp.",{"$f":"Table1[[#This Row],[QTY]]*Table1[[#This Row],['# Books]]","v":0},{"$f":"Table1[[#This Row],[QTY]]*Table1[[#This Row],[S&L Price]]","v":0}]
[null,44,null,"Nature's Freak Show: Ugly Beasts",1,"The Repulsive Naked Mole Rat","eBook",null,"978-1-5382-4621-4",{"$f":"HYPERLINK(\"https://www.garethstevens.com/\"&Table1[[#This Row],[ISBN]],\"Weblink\")","v":"Weblink"},2020,"January 2020",null,null,"Author","Janey Levy",null,null,null,null,"M",null,"Grade 2 - 3","Grade 2 - 5","The animal world includes many beautiful, colorful, and majestic creatures, but some of nature's creatures are strange-looking, even ugly to human eyes. The naked mole rat belongs to this group of animals. Readers of this absorbing volume will discover fascinating facts about these creepy animals, who live in colonies organized like those of bees and ants, and aren't actually moles or rats! Age-appropriate text highlights important elementary science concepts, and colorful photographs will delight readers. Captions, fact boxes, and a graphic organizer enrich the main narrative.","English",22.6,16.95,"599.35--dc23","24 pp.",{"$f":"Table1[[#This Row],[QTY]]*Table1[[#This Row],['# Books]]","v":0},{"$f":"Table1[[#This Row],[QTY]]*Table1[[#This Row],[S&L Price]]","v":0}]
[null,44,null,"Nature's Freak Show: Ugly Beasts",1,"The Unsightly Aye-Aye","Library Bound Book",null,"978-1-5382-4624-5",{"$f":"HYPERLINK(\"https://www.garethstevens.com/\"&Table1[[#This Row],[ISBN]],\"Weblink\")","v":"Weblink"},2020,"January 2020","Library","8.500 X 8.500","Author","Janey Levy",null,null,null,null,"M",null,"Grade 2 - 3","Grade 2 - 5","Aye-ayes belong to the animal group known as primates, which includes not only humans, but apes and monkeys. Aye-ayes lack the majesty of a gorilla or the cuteness of a monkey. Aye-ayes are so strange looking they were originally classified as rodents. Readers of this absorbing volume will discover fascinating facts about these odd animals, who have big eyes, enormous ears, and elongated fingers, and who use echolocation to find food. Accessible text addresses elementary science concepts, while colorful images dazzle the eyes. Fact boxes and a graphic organizer enrich the narrative.","English",22.6,16.95,"599.8'3--dc23","24 pp.",{"$f":"Table1[[#This Row],[QTY]]*Table1[[#This Row],['# Books]]","v":0},{"$f":"Table1[[#This Row],[QTY]]*Table1[[#This Row],[S&L Price]]","v":0}]
[null,44,null,"Nature's Freak Show: Ugly Beasts",1,"The Unsightly Aye-Aye","eBook",null,"978-1-5382-4625-2",{"$f":"HYPERLINK(\"https://www.garethstevens.com/\"&Table1[[#This Row],[ISBN]],\"Weblink\")","v":"Weblink"},2020,"January 2020",null,null,"Author","Janey Levy",null,null,null,null,"M",null,"Grade 2 - 3","Grade 2 - 5","Aye-ayes belong to the animal group known as primates, which includes not only humans, but apes and monkeys. Aye-ayes lack the majesty of a gorilla or the cuteness of a monkey. Aye-ayes are so strange looking they were originally classified as rodents. Readers of this absorbing volume will discover fascinating facts about these odd animals, who have big eyes, enormous ears, and elongated fingers, and who use echolocation to find food. Accessible text addresses elementary science concepts, while colorful images dazzle the eyes. Fact boxes and a graphic organizer enrich the narrative.","English",22.6,16.95,"599.8'3--dc23","24 pp.",{"$f":"Table1[[#This Row],[QTY]]*Table1[[#This Row],['# Books]]","v":0},{"$f":"Table1[[#This Row],[QTY]]*Table1[[#This Row],[S&L Price]]","v":0}]
[null,45,null,"Earth Under Construction!",6,"Earth Under Construction!","Library Set",null,"978-1-5382-5977-1",{"$f":"HYPERLINK(\"https://www.garethstevens.com/\"&Table1[[#This Row],[ISBN]],\"Weblink\")","v":"Weblink"},2021,"August 2020","Library","8.500 X 11.00","","",null,null,null,null,null,null,"Grade 3 - 4","Grade 3 - 6","Earth is constantly changing, sometimes in ways that can be hard to observe as they are happening. This compelling set acquaints readers with some of the processes and events that reshape the planet, whether the results happen little by little or all at once. Each stimulating volume reinforces important concepts of the elementary science curriculum while keeping readers engaged with eye-catching photographs and fun sidebars. Age-appropriate narratives help readers understand how certain processes or events such as erosion and earthquakes change the structure of the earth and help create familiar landforms. Features include: Topics support elementary science curricula including Next Gen Science Standards. Helpful sidebars provide further explanation of key concepts. Colorful photographs appeal to readers of many ages and levels.","English",159.6,119.7,null,"32 pp.",{"$f":"Table1[[#This Row],[QTY]]*Table1[[#This Row],['# Books]]","v":0},{"$f":"Table1[[#This Row],[QTY]]*Table1[[#This Row],[S&L Price]]","v":0}]
[null,45,null,"Earth Under Construction!",1,"Biogeology Reshapes Earth!","Library Bound Book",null,"978-1-5382-5820-0",{"$f":"HYPERLINK(\"https://www.garethstevens.com/\"&Table1[[#This Row],[ISBN]],\"Weblink\")","v":"Weblink"},2021,"August 2020","Library","8.500 X 11.00","Author","Abby Badach Doyle",null,null,null,null,"R",null,"Grade 3 - 4","Grade 3 - 6","Everything is connected on Earth, even if we can't see it right away. Biogeology is the study of the important and sometimes weird relationships between living things and the Earth itself. Young readers might know how beavers dam rivers to make ponds, but they probably don't know about the hungry bacteria that eat rocks to make sparkly minerals like pyrite. This fun, fact-filled volume reinforces essential science concepts with surprising examples and eye-catching art. Young scientists are also introduced to the causes and effects of climate change.","English",26.6,19.95,"551--dc23","32 pp.",{"$f":"Table1[[#This Row],[QTY]]*Table1[[#This Row],['# Books]]","v":0},{"$f":"Table1[[#This Row],[QTY]]*Table1[[#This Row],[S&L Price]]","v":0}]
[null,45,null,"Earth Under Construction!",1,"Biogeology Reshapes Earth!","eBook",null,"978-1-5382-5821-7",{"$f":"HYPERLINK(\"https://www.garethstevens.com/\"&Table1[[#This Row],[ISBN]],\"Weblink\")","v":"Weblink"},2021,"August 2020",null,null,"Author","Abby Badach Doyle",null,null,null,null,"R",null,"Grade 3 - 4","Grade 3 - 6","Everything is connected on Earth, even if we can't see it right away. Biogeology is the study of the important and sometimes weird relationships between living things and the Earth itself. Young readers might know how beavers dam rivers to make ponds, but they probably don't know about the hungry bacteria that eat rocks to make sparkly minerals like pyrite. This fun, fact-filled volume reinforces essential science concepts with surprising examples and eye-catching art. Young scientists are also introduced to the causes and effects of climate change.","English",26.6,19.95,"551--dc23","32 pp.",{"$f":"Table1[[#This Row],[QTY]]*Table1[[#This Row],['# Books]]","v":0},{"$f":"Table1[[#This Row],[QTY]]*Table1[[#This Row],[S&L Price]]","v":0}]
[null,45,null,"Earth Under Construction!",1,"Earthquakes Reshape Earth!","Library Bound Book",null,"978-1-5382-5840-8",{"$f":"HYPERLINK(\"https://www.garethstevens.com/\"&Table1[[#This Row],[ISBN]],\"Weblink\")","v":"Weblink"},2021,"August 2020","Library","8.500 X 11.00","Author","Charlie Light",null,null,null,null,"R",null,"Grade 3 - 4","Grade 3 - 6","Earthquakes are among the heaviest hitters in the world of natural phenomena that shape our planet. Not only can they cause massive amounts of damage on their own, they can also cause other disasters, such as tsunamis and avalanches. Daring readers will learn how and why earthquakes occur. They'll encounter key science concepts such as the tectonic plates theory and the Richter scale. Graphic organizers and interesting sidebars summarize difficult concepts into easy-to-comprehend sections while vivid photographs capture readers' attention.","English",26.6,19.95,"551.22--dc23","32 pp.",{"$f":"Table1[[#This Row],[QTY]]*Table1[[#This Row],['# Books]]","v":0},{"$f":"Table1[[#This Row],[QTY]]*Table1[[#This Row],[S&L Price]]","v":0}]
[null,45,null,"Earth Under Construction!",1,"Earthquakes Reshape Earth!","eBook",null,"978-1-5382-5841-5",{"$f":"HYPERLINK(\"https://www.garethstevens.com/\"&Table1[[#This Row],[ISBN]],\"Weblink\")","v":"Weblink"},2021,"August 2020",null,null,"Author","Charlie Light",null,null,null,null,"R",null,"Grade 3 - 4","Grade 3 - 6","Earthquakes are among the heaviest hitters in the world of natural phenomena that shape our planet. Not only can they cause massive amounts of damage on their own, they can also cause other disasters, such as tsunamis and avalanches. Daring readers will learn how and why earthquakes occur. They'll encounter key science concepts such as the tectonic plates theory and the Richter scale. Graphic organizers and interesting sidebars summarize difficult concepts into easy-to-comprehend sections while vivid photographs capture readers' attention.","English",26.6,19.95,"551.22--dc23","32 pp.",{"$f":"Table1[[#This Row],[QTY]]*Table1[[#This Row],['# Books]]","v":0},{"$f":"Table1[[#This Row],[QTY]]*Table1[[#This Row],[S&L Price]]","v":0}]
[null,45,null,"Earth Under Construction!",1,"Erosion and Weathering Reshape Earth!","Library Bound Book",null,"978-1-5382-5828-6",{"$f":"HYPERLINK(\"https://www.garethstevens.com/\"&Table1[[#This Row],[ISBN]],\"Weblink\")","v":"Weblink"},2021,"August 2020","Library","8.500 X 11.00","Author","Dan Donato",null,null,null,null,"R",null,"Grade 3 - 4","Grade 3 - 6","Weathering and erosion have helped shaped many of Earth's most famous landforms, from the Grand Canyon to the Cliffs of Moher. Readers will get an in-depth look at how these fascinating processes are able to transform the surfaces of the world. Eye-catching photographs and stimulating sidebars help readers develop a deeper understanding of the informative narrative. Explanatory graphic organizers reinforce key concepts and support important aspects of elementary science curricula, including the Next Generation Science Standards.","English",26.6,19.95,"551.3'02--dc23","32 pp.",{"$f":"Table1[[#This Row],[QTY]]*Table1[[#This Row],['# Books]]","v":0},{"$f":"Table1[[#This Row],[QTY]]*Table1[[#This Row],[S&L Price]]","v":0}]
[null,45,null,"Earth Under Construction!",1,"Erosion and Weathering Reshape Earth!","eBook",null,"978-1-5382-5829-3",{"$f":"HYPERLINK(\"https://www.garethstevens.com/\"&Table1[[#This Row],[ISBN]],\"Weblink\")","v":"Weblink"},2021,"August 2020",null,null,"Author","Dan Donato",null,null,null,null,"R",null,"Grade 3 - 4","Grade 3 - 6","Weathering and erosion have helped shaped many of Earth's most famous landforms, from the Grand Canyon to the Cliffs of Moher. Readers will get an in-depth look at how these fascinating processes are able to transform the surfaces of the world. Eye-catching photographs and stimulating sidebars help readers develop a deeper understanding of the informative narrative. Explanatory graphic organizers reinforce key concepts and support important aspects of elementary science curricula, including the Next Generation Science Standards.","English",26.6,19.95,"551.3'02--dc23","32 pp.",{"$f":"Table1[[#This Row],[QTY]]*Table1[[#This Row],['# Books]]","v":0},{"$f":"Table1[[#This Row],[QTY]]*Table1[[#This Row],[S&L Price]]","v":0}]
[null,45,null,"Earth Under Construction!",1,"Landslides and Mudslides Reshape Earth!","Library Bound Book",null,"978-1-5382-5832-3",{"$f":"HYPERLINK(\"https://www.garethstevens.com/\"&Table1[[#This Row],[ISBN]],\"Weblink\")","v":"Weblink"},2021,"August 2020","Library","8.500 X 11.00","Author","Abby Badach Doyle",null,null,null,null,"R",null,"Grade 3 - 4","Grade 3 - 6","Look out below! Landslides and mudslides are some of the most dangerous forces in nature. In seconds, these roaring rivers of earth and rocks can uproot trees, flip cars, and destroy whole neighborhoods. Readers of this action-packed book will learn many earth-shattering facts, such as that a mudslide can move at speeds up to 50 miles per hour. Diagrams explain how and why these natural disasters happen. Amazing archival photographs and sidebars give an up-close look at historic landslides and mudslides from the past.","English",26.6,19.95,"551.307--dc23","32 pp.",{"$f":"Table1[[#This Row],[QTY]]*Table1[[#This Row],['# Books]]","v":0},{"$f":"Table1[[#This Row],[QTY]]*Table1[[#This Row],[S&L Price]]","v":0}]
[null,45,null,"Earth Under Construction!",1,"Landslides and Mudslides Reshape Earth!","eBook",null,"978-1-5382-5833-0",{"$f":"HYPERLINK(\"https://www.garethstevens.com/\"&Table1[[#This Row],[ISBN]],\"Weblink\")","v":"Weblink"},2021,"August 2020",null,null,"Author","Abby Badach Doyle",null,null,null,null,"R",null,"Grade 3 - 4","Grade 3 - 6","Look out below! Landslides and mudslides are some of the most dangerous forces in nature. In seconds, these roaring rivers of earth and rocks can uproot trees, flip cars, and destroy whole neighborhoods. Readers of this action-packed book will learn many earth-shattering facts, such as that a mudslide can move at speeds up to 50 miles per hour. Diagrams explain how and why these natural disasters happen. Amazing archival photographs and sidebars give an up-close look at historic landslides and mudslides from the past.","English",26.6,19.95,"551.307--dc23","32 pp.",{"$f":"Table1[[#This Row],[QTY]]*Table1[[#This Row],['# Books]]","v":0},{"$f":"Table1[[#This Row],[QTY]]*Table1[[#This Row],[S&L Price]]","v":0}]
[null,45,null,"Earth Under Construction!",1,"Plate Tectonics Reshape Earth!","Library Bound Book",null,"978-1-5382-5824-8",{"$f":"HYPERLINK(\"https://www.garethstevens.com/\"&Table1[[#This Row],[ISBN]],\"Weblink\")","v":"Weblink"},2021,"August 2020","Library","8.500 X 11.00","Author","Abby Badach Doyle",null,null,null,null,"R",null,"Grade 3 - 4","Grade 3 - 6","Have you ever noticed how some continents seem like they could fit together like puzzle pieces? That's because millions of years ago they did. This exciting book dives deep to explain the action-packed science of tectonic plates. Colorful maps point out where to find the Earth's major and minor tectonic plates. Dramatic photographs and vivid diagrams show what happens when they collide. Curious readers will love this high-interest take on geology because even when standing still, the ground beneath our feet is slowly on the move.","English",26.6,19.95,"551.1'36--dc23","32 pp.",{"$f":"Table1[[#This Row],[QTY]]*Table1[[#This Row],['# Books]]","v":0},{"$f":"Table1[[#This Row],[QTY]]*Table1[[#This Row],[S&L Price]]","v":0}]
[null,45,null,"Earth Under Construction!",1,"Plate Tectonics Reshape Earth!","eBook",null,"978-1-5382-5825-5",{"$f":"HYPERLINK(\"https://www.garethstevens.com/\"&Table1[[#This Row],[ISBN]],\"Weblink\")","v":"Weblink"},2021,"August 2020",null,null,"Author","Abby Badach Doyle",null,null,null,null,"R",null,"Grade 3 - 4","Grade 3 - 6","Have you ever noticed how some continents seem like they could fit together like puzzle pieces? That's because millions of years ago they did. This exciting book dives deep to explain the action-packed science of tectonic plates. Colorful maps point out where to find the Earth's major and minor tectonic plates. Dramatic photographs and vivid diagrams show what happens when they collide. Curious readers will love this high-interest take on geology because even when standing still, the ground beneath our feet is slowly on the move.","English",26.6,19.95,"551.1'36--dc23","32 pp.",{"$f":"Table1[[#This Row],[QTY]]*Table1[[#This Row],['# Books]]","v":0},{"$f":"Table1[[#This Row],[QTY]]*Table1[[#This Row],[S&L Price]]","v":0}]
[null,45,null,"Earth Under Construction!",1,"Volcanoes Reshape Earth!","Library Bound Book",null,"978-1-5382-5836-1",{"$f":"HYPERLINK(\"https://www.garethstevens.com/\"&Table1[[#This Row],[ISBN]],\"Weblink\")","v":"Weblink"},2021,"August 2020","Library","8.500 X 11.00","Author","Charlie Light",null,null,null,null,"R",null,"Grade 3 - 4","Grade 3 - 6","Earth's landscape is constantly changing, but some geological events have more explosive effects than others. This daring book introduces readers to the power of volcanoes, one of nature's most mesmerizing and disruptive features. Readers will discover how volcanoes form and why they erupt so dramatically. They'll learn about the most infamous volcanoes that have shaped Earth, from Mount Vesuvius's destruction of Pompeii in 79 CE to the disastrous 1980 eruption of Mount Saint Helens. Vivid photographs and graphic organizers expand upon key science concepts introduced in this accessible text. Interesting sidebars provide easy-to-understand sections of information, engaging developing readers with fascinating facts.","English",26.6,19.95,"551.21--dc23","32 pp.",{"$f":"Table1[[#This Row],[QTY]]*Table1[[#This Row],['# Books]]","v":0},{"$f":"Table1[[#This Row],[QTY]]*Table1[[#This Row],[S&L Price]]","v":0}]
[null,45,null,"Earth Under Construction!",1,"Volcanoes Reshape Earth!","eBook",null,"978-1-5382-5837-8",{"$f":"HYPERLINK(\"https://www.garethstevens.com/\"&Table1[[#This Row],[ISBN]],\"Weblink\")","v":"Weblink"},2021,"August 2020",null,null,"Author","Charlie Light",null,null,null,null,"R",null,"Grade 3 - 4","Grade 3 - 6","Earth's landscape is constantly changing, but some geological events have more explosive effects than others. This daring book introduces readers to the power of volcanoes, one of nature's most mesmerizing and disruptive features. Readers will discover how volcanoes form and why they erupt so dramatically. They'll learn about the most infamous volcanoes that have shaped Earth, from Mount Vesuvius's destruction of Pompeii in 79 CE to the disastrous 1980 eruption of Mount Saint Helens. Vivid photographs and graphic organizers expand upon key science concepts introduced in this accessible text. Interesting sidebars provide easy-to-understand sections of information, engaging developing readers with fascinating facts.","English",26.6,19.95,"551.21--dc23","32 pp.",{"$f":"Table1[[#This Row],[QTY]]*Table1[[#This Row],['# Books]]","v":0},{"$f":"Table1[[#This Row],[QTY]]*Table1[[#This Row],[S&L Price]]","v":0}]
[null,46,null,"Liftoff! Space Exploration",6,"Liftoff! Space Exploration","Library Set",null,"978-1-5382-5978-8",{"$f":"HYPERLINK(\"https://www.garethstevens.com/\"&Table1[[#This Row],[ISBN]],\"Weblink\")","v":"Weblink"},2021,"August 2020","Library","6.500 X 9.125","","",null,null,null,null,null,null,"Grade 4 - 5","Grade 4 - 6","To many, there's nothing more amazing than exploring what's beyond Earth. Humans have found ways to discover much about stars, planets, the sun, and even space far from our galaxy. From the Apollo program going to the moon to Voyager 1 and 2 exploring the outer parts of the solar system, this set launches readers into the history of space exploration. The main narratives, sidebars, and fact boxes offer historical context, technology, and science information to inspire starry-eyed readers to look up and dream of what space exploration will bring next. Features include: Incredible full-color and historical photographs taken from spacecrafts. Encourages cross-disciplinary study. High-interest topic draws in developing readers.","English",159.6,119.7,null,"32 pp.",{"$f":"Table1[[#This Row],[QTY]]*Table1[[#This Row],['# Books]]","v":0},{"$f":"Table1[[#This Row],[QTY]]*Table1[[#This Row],[S&L Price]]","v":0}]
[null,46,null,"Liftoff! Space Exploration",1,"Destination Mars","Library Bound Book",null,"978-1-5382-5872-9",{"$f":"HYPERLINK(\"https://www.garethstevens.com/\"&Table1[[#This Row],[ISBN]],\"Weblink\")","v":"Weblink"},2021,"August 2020","Library","6.500 X 9.125","Author","Nathan Miloszewski",null,null,null,null,"U",null,"Grade 4 - 5","Grade 4 - 6","Is there life on Mars? Could humankind eventually colonize the red planet? NASA and other space agencies have been working to answer these questions for decades. From high-powered telescopes to the Mars rovers, the tools used to explore Mars are incredible pieces of technology. What they've discovered about Mars is even more amazing. Your readers will travel through the history of study of the fourth planet from the sun, including the missions to Mars so far and what modern scientists are doing to learn more.","English",26.6,19.95,"559.9/23--dc23","32 pp.",{"$f":"Table1[[#This Row],[QTY]]*Table1[[#This Row],['# Books]]","v":0},{"$f":"Table1[[#This Row],[QTY]]*Table1[[#This Row],[S&L Price]]","v":0}]
[null,46,null,"Liftoff! Space Exploration",1,"Destination Mars","eBook",null,"978-1-5382-5873-6",{"$f":"HYPERLINK(\"https://www.garethstevens.com/\"&Table1[[#This Row],[ISBN]],\"Weblink\")","v":"Weblink"},2021,"August 2020",null,null,"Author","Nathan Miloszewski",null,null,null,null,"U",null,"Grade 4 - 5","Grade 4 - 6","Is there life on Mars? Could humankind eventually colonize the red planet? NASA and other space agencies have been working to answer these questions for decades. From high-powered telescopes to the Mars rovers, the tools used to explore Mars are incredible pieces of technology. What they've discovered about Mars is even more amazing. Your readers will travel through the history of study of the fourth planet from the sun, including the missions to Mars so far and what modern scientists are doing to learn more.","English",26.6,19.95,"559.9/23--dc23","32 pp.",{"$f":"Table1[[#This Row],[QTY]]*Table1[[#This Row],['# Books]]","v":0},{"$f":"Table1[[#This Row],[QTY]]*Table1[[#This Row],[S&L Price]]","v":0}]
[null,46,null,"Liftoff! Space Exploration",1,"Great Ball of Fire: Studying the Sun","Library Bound Book",null,"978-1-5382-5888-0",{"$f":"HYPERLINK(\"https://www.garethstevens.com/\"&Table1[[#This Row],[ISBN]],\"Weblink\")","v":"Weblink"},2021,"August 2020","Library","6.500 X 9.125","Author, Author","Jonathan Bard, Mariel Bard",null,null,null,null,"U",null,"Grade 4 - 5","Grade 4 - 6","Our solar system would fall apart without the sun. Its gravity is what keeps planets and other celestial bodies moving in orbit. The sun also plays a big role in Earth's weather, climate, and seasons. We wouldn't know of this if we hadn't spent a lot of time over hundreds of years studying the sun. Your young explorers will head to the yellow dwarf star that is our sun with satellites, probes, and through high-powered telescopes. They'll discover what the amazing information missions to and around the sun have taught NASA and space scientists around the world.","English",26.6,19.95,"523.7--dc23","32 pp.",{"$f":"Table1[[#This Row],[QTY]]*Table1[[#This Row],['# Books]]","v":0},{"$f":"Table1[[#This Row],[QTY]]*Table1[[#This Row],[S&L Price]]","v":0}]
[null,46,null,"Liftoff! Space Exploration",1,"Great Ball of Fire: Studying the Sun","eBook",null,"978-1-5382-5889-7",{"$f":"HYPERLINK(\"https://www.garethstevens.com/\"&Table1[[#This Row],[ISBN]],\"Weblink\")","v":"Weblink"},2021,"August 2020",null,null,"Author, Author","Jonathan Bard, Mariel Bard",null,null,null,null,"U",null,"Grade 4 - 5","Grade 4 - 6","Our solar system would fall apart without the sun. Its gravity is what keeps planets and other celestial bodies moving in orbit. The sun also plays a big role in Earth's weather, climate, and seasons. We wouldn't know of this if we hadn't spent a lot of time over hundreds of years studying the sun. Your young explorers will head to the yellow dwarf star that is our sun with satellites, probes, and through high-powered telescopes. They'll discover what the amazing information missions to and around the sun have taught NASA and space scientists around the world.","English",26.6,19.95,"523.7--dc23","32 pp.",{"$f":"Table1[[#This Row],[QTY]]*Table1[[#This Row],['# Books]]","v":0},{"$f":"Table1[[#This Row],[QTY]]*Table1[[#This Row],[S&L Price]]","v":0}]
[null,46,null,"Liftoff! Space Exploration",1,"Observing Earth: Investigating Earth's Atmosphere","Library Bound Book",null,"978-1-5382-5892-7",{"$f":"HYPERLINK(\"https://www.garethstevens.com/\"&Table1[[#This Row],[ISBN]],\"Weblink\")","v":"Weblink"},2021,"August 2020","Library","6.500 X 9.125","Author","Charlie Light",null,null,null,null,"U",null,"Grade 4 - 5","Grade 4 - 6","Onward and, more importantly, upward! This informative book takes readers on a journey up through the layers of Earth's atmosphere, detailing the unique scientific features of each layer and the history of humans exploring these great heights. Fun fact boxes and gorgeous photographs will dazzle developing readers. With graphic organizers and sidebars to illustrate complex concepts, this volume clearly connects key scientific principles about our planet's atmosphere to significant moments in the history of space exploration.","English",26.6,19.95,"551.51--dc23","32 pp.",{"$f":"Table1[[#This Row],[QTY]]*Table1[[#This Row],['# Books]]","v":0},{"$f":"Table1[[#This Row],[QTY]]*Table1[[#This Row],[S&L Price]]","v":0}]
[null,46,null,"Liftoff! Space Exploration",1,"Observing Earth: Investigating Earth's Atmosphere","eBook",null,"978-1-5382-5893-4",{"$f":"HYPERLINK(\"https://www.garethstevens.com/\"&Table1[[#This Row],[ISBN]],\"Weblink\")","v":"Weblink"},2021,"August 2020",null,null,"Author","Charlie Light",null,null,null,null,"U",null,"Grade 4 - 5","Grade 4 - 6","Onward and, more importantly, upward! This informative book takes readers on a journey up through the layers of Earth's atmosphere, detailing the unique scientific features of each layer and the history of humans exploring these great heights. Fun fact boxes and gorgeous photographs will dazzle developing readers. With graphic organizers and sidebars to illustrate complex concepts, this volume clearly connects key scientific principles about our planet's atmosphere to significant moments in the history of space exploration.","English",26.6,19.95,"551.51--dc23","32 pp.",{"$f":"Table1[[#This Row],[QTY]]*Table1[[#This Row],['# Books]]","v":0},{"$f":"Table1[[#This Row],[QTY]]*Table1[[#This Row],[S&L Price]]","v":0}]
[null,46,null,"Liftoff! Space Exploration",1,"Out of This World Missions Around the Solar System","Library Bound Book",null,"978-1-5382-5880-4",{"$f":"HYPERLINK(\"https://www.garethstevens.com/\"&Table1[[#This Row],[ISBN]],\"Weblink\")","v":"Weblink"},2021,"August 2020","Library","6.500 X 9.125","Author","Eric Keppeler",null,null,null,null,"U",null,"Grade 4 - 5","Grade 4 - 6","For thousands of years, mankind has looked up at the starry skies and dreamed about slipping the bonds of Earth. Today, humans have traveled into and lived in space, but we're still learning more about this solar system we call home, with its sun, planets, and many moons, asteroids, and comets. This book will intrigue young readers with fascinating details about the history of space travel in our solar system, from the earliest experiments and flights to plans for the future.","English",26.6,19.95,"629.4--dc23","32 pp.",{"$f":"Table1[[#This Row],[QTY]]*Table1[[#This Row],['# Books]]","v":0},{"$f":"Table1[[#This Row],[QTY]]*Table1[[#This Row],[S&L Price]]","v":0}]
[null,46,null,"Liftoff! Space Exploration",1,"Out of This World Missions Around the Solar System","eBook",null,"978-1-5382-5881-1",{"$f":"HYPERLINK(\"https://www.garethstevens.com/\"&Table1[[#This Row],[ISBN]],\"Weblink\")","v":"Weblink"},2021,"August 2020",null,null,"Author","Eric Keppeler",null,null,null,null,"U",null,"Grade 4 - 5","Grade 4 - 6","For thousands of years, mankind has looked up at the starry skies and dreamed about slipping the bonds of Earth. Today, humans have traveled into and lived in space, but we're still learning more about this solar system we call home, with its sun, planets, and many moons, asteroids, and comets. This book will intrigue young readers with fascinating details about the history of space travel in our solar system, from the earliest experiments and flights to plans for the future.","English",26.6,19.95,"629.4--dc23","32 pp.",{"$f":"Table1[[#This Row],[QTY]]*Table1[[#This Row],['# Books]]","v":0},{"$f":"Table1[[#This Row],[QTY]]*Table1[[#This Row],[S&L Price]]","v":0}]
[null,46,null,"Liftoff! Space Exploration",1,"Reaching the Moon","Library Bound Book",null,"978-1-5382-5876-7",{"$f":"HYPERLINK(\"https://www.garethstevens.com/\"&Table1[[#This Row],[ISBN]],\"Weblink\")","v":"Weblink"},2021,"August 2020","Library","6.500 X 9.125","Author","Michael Rajczak",null,null,null,null,"U",null,"Grade 4 - 5","Grade 4 - 6","Alan Shepard Jr. became the first American in space in 1961. His fifteen-minute mission showed that humans could survive a wild ride atop a rocket. In a speech to Congress just 20 days later, President John F. Kennedy declared \"I believe that this nation should commit itself to achieving the goal, before this decade is out, of landing a man on the moon and returning him safely to the Earth.\" This volume takes readers on the journey through the amazing successes and heartbreaking tragedies of astronauts trying to reach the moon, complete with NASA and historical photographs correlating with the stellar narrative.","English",26.6,19.95,"629.45'4--dc23","32 pp.",{"$f":"Table1[[#This Row],[QTY]]*Table1[[#This Row],['# Books]]","v":0},{"$f":"Table1[[#This Row],[QTY]]*Table1[[#This Row],[S&L Price]]","v":0}]
[null,46,null,"Liftoff! Space Exploration",1,"Reaching the Moon","eBook",null,"978-1-5382-5877-4",{"$f":"HYPERLINK(\"https://www.garethstevens.com/\"&Table1[[#This Row],[ISBN]],\"Weblink\")","v":"Weblink"},2021,"August 2020",null,null,"Author","Michael Rajczak",null,null,null,null,"U",null,"Grade 4 - 5","Grade 4 - 6","Alan Shepard Jr. became the first American in space in 1961. His fifteen-minute mission showed that humans could survive a wild ride atop a rocket. In a speech to Congress just 20 days later, President John F. Kennedy declared \"I believe that this nation should commit itself to achieving the goal, before this decade is out, of landing a man on the moon and returning him safely to the Earth.\" This volume takes readers on the journey through the amazing successes and heartbreaking tragedies of astronauts trying to reach the moon, complete with NASA and historical photographs correlating with the stellar narrative.","English",26.6,19.95,"629.45'4--dc23","32 pp.",{"$f":"Table1[[#This Row],[QTY]]*Table1[[#This Row],['# Books]]","v":0},{"$f":"Table1[[#This Row],[QTY]]*Table1[[#This Row],[S&L Price]]","v":0}]
[null,46,null,"Liftoff! Space Exploration",1,"To The Milky Way and Beyond: Exploration Outside the Solar System","Library Bound Book",null,"978-1-5382-5884-2",{"$f":"HYPERLINK(\"https://www.garethstevens.com/\"&Table1[[#This Row],[ISBN]],\"Weblink\")","v":"Weblink"},2021,"August 2020","Library","6.500 X 9.125","Author","Charlie Light",null,null,null,null,"U",null,"Grade 4 - 5","Grade 4 - 6","The first artificial satellite launched on October 5, 1957, forever changing humanity's relationship with the mysterious galaxy we call home. Since then, we have ventured farther into the Milky Way, making incredible scientific discoveries. This fascinating, interdisciplinary volume takes readers through the history of space exploration and into the final frontier of human travel. They'll learn key scientific concepts about the universe, such as the different types of galaxies and how we measure space travel. Vivid photographs and graphic organizers provide captivating visuals. Fun fact boxes and informative sidebars provide smaller, understandable chunks of amazing data.","English",26.6,19.95,"523.1/12--dc23","32 pp.",{"$f":"Table1[[#This Row],[QTY]]*Table1[[#This Row],['# Books]]","v":0},{"$f":"Table1[[#This Row],[QTY]]*Table1[[#This Row],[S&L Price]]","v":0}]
[null,46,null,"Liftoff! Space Exploration",1,"To The Milky Way and Beyond: Exploration Outside the Solar System","eBook",null,"978-1-5382-5885-9",{"$f":"HYPERLINK(\"https://www.garethstevens.com/\"&Table1[[#This Row],[ISBN]],\"Weblink\")","v":"Weblink"},2021,"August 2020",null,null,"Author","Charlie Light",null,null,null,null,"U",null,"Grade 4 - 5","Grade 4 - 6","The first artificial satellite launched on October 5, 1957, forever changing humanity's relationship with the mysterious galaxy we call home. Since then, we have ventured farther into the Milky Way, making incredible scientific discoveries. This fascinating, interdisciplinary volume takes readers through the history of space exploration and into the final frontier of human travel. They'll learn key scientific concepts about the universe, such as the different types of galaxies and how we measure space travel. Vivid photographs and graphic organizers provide captivating visuals. Fun fact boxes and informative sidebars provide smaller, understandable chunks of amazing data.","English",26.6,19.95,"523.1/12--dc23","32 pp.",{"$f":"Table1[[#This Row],[QTY]]*Table1[[#This Row],['# Books]]","v":0},{"$f":"Table1[[#This Row],[QTY]]*Table1[[#This Row],[S&L Price]]","v":0}]
[null,47,null,"Polluted Planet",4,"Polluted Planet","Library Set",null,"978-1-5382-5340-3",{"$f":"HYPERLINK(\"https://www.garethstevens.com/\"&Table1[[#This Row],[ISBN]],\"Weblink\")","v":"Weblink"},2020,"January 2020","Library","8.500 X 11.00","","",null,null,null,null,null,null,"Grade 4 - 5","Grade 4 - 6","We often hear warnings about the future of the planet if our current rates of pollution do not change. It's difficult to imagine what an Earth irreversibly ravaged by pollution would look and feel like...until now. Part science fiction, part science fact, this collection presents the scary consequences. Each captivating volume is a fictional narrative packed with facts about a particular pollution dilemma, including the overuse or misuse of fossil fuels, plastics, toxins, and nuclear energy. The clever design looks like a young narrator's journal, complete with carefully chosen action photographs that support the scientific concepts found within. Features include: Accessible texts are made even more inviting by a relatable young narrator. Readers learn about actions that can be taken today to slow or prevent damage to our planet. Supports the elementary Earth science curriculum as well as key standards in the English Language Arts Common Core.","English",106.4,79.8,null,"32 pp.",{"$f":"Table1[[#This Row],[QTY]]*Table1[[#This Row],['# Books]]","v":0},{"$f":"Table1[[#This Row],[QTY]]*Table1[[#This Row],[S&L Price]]","v":0}]
[null,47,null,"Polluted Planet",1,"Fossil Fuel Frenzy!","Library Bound Book",null,"978-1-5382-5292-5",{"$f":"HYPERLINK(\"https://www.garethstevens.com/\"&Table1[[#This Row],[ISBN]],\"Weblink\")","v":"Weblink"},2020,"January 2020","Library","8.500 X 11.00","Author","Robin Twiddy",null,null,null,null,"Q",null,"Grade 4 - 5","Grade 4 - 6","Fossil fuels form over hundreds of millions of years. Yet, we're quickly consuming Earth's fossil fuel supplies, despite the air pollution they cause and the evidence that burning them increases atmospheric temperatures and contributes to climate change. This enthralling look at a future Earth devastated by the overuse of fossil fuels, presented as a fictional tale from a space station, offers readers insights into the disadvantages of using fossil fuels to power our world as well as some alternatives to nonrenewable resources that may yet save our planet.","English",26.6,19.95,"553.2--dc23","32 pp.",{"$f":"Table1[[#This Row],[QTY]]*Table1[[#This Row],['# Books]]","v":0},{"$f":"Table1[[#This Row],[QTY]]*Table1[[#This Row],[S&L Price]]","v":0}]
[null,47,null,"Polluted Planet",1,"Fossil Fuel Frenzy!","eBook",null,"978-1-5382-5293-2",{"$f":"HYPERLINK(\"https://www.garethstevens.com/\"&Table1[[#This Row],[ISBN]],\"Weblink\")","v":"Weblink"},2020,"January 2020",null,null,"Author","Robin Twiddy",null,null,null,null,"Q",null,"Grade 4 - 5","Grade 4 - 6","Fossil fuels form over hundreds of millions of years. Yet, we're quickly consuming Earth's fossil fuel supplies, despite the air pollution they cause and the evidence that burning them increases atmospheric temperatures and contributes to climate change. This enthralling look at a future Earth devastated by the overuse of fossil fuels, presented as a fictional tale from a space station, offers readers insights into the disadvantages of using fossil fuels to power our world as well as some alternatives to nonrenewable resources that may yet save our planet.","English",26.6,19.95,"553.2--dc23","32 pp.",{"$f":"Table1[[#This Row],[QTY]]*Table1[[#This Row],['# Books]]","v":0},{"$f":"Table1[[#This Row],[QTY]]*Table1[[#This Row],[S&L Price]]","v":0}]
[null,47,null,"Polluted Planet",1,"Nuclear Nightmare!","Library Bound Book",null,"978-1-5382-5295-6",{"$f":"HYPERLINK(\"https://www.garethstevens.com/\"&Table1[[#This Row],[ISBN]],\"Weblink\")","v":"Weblink"},2020,"January 2020","Library","8.500 X 11.00","Author","Robin Twiddy",null,null,null,null,"Q",null,"Grade 4 - 5","Grade 4 - 6","Nuclear power provides almost 15 percent of the world's electricity, but this energy doesn't come without a cost. Past nuclear accidents have had disastrous effects on the environment and future accidents could cause an even larger catastrophe. Looming large-scale are the devastating effects of nuclear warfare. With this arresting book, which is a clever mix of fact and fiction, readers join young Shona as she leaves a bunker she was born in for the first time. Through Shona's journal and photographs, they discover a possible dreadful future and how such a disaster could be avoided in real life.","English",26.6,19.95,"333.792'4--dc23","32 pp.",{"$f":"Table1[[#This Row],[QTY]]*Table1[[#This Row],['# Books]]","v":0},{"$f":"Table1[[#This Row],[QTY]]*Table1[[#This Row],[S&L Price]]","v":0}]
[null,47,null,"Polluted Planet",1,"Nuclear Nightmare!","eBook",null,"978-1-5382-5296-3",{"$f":"HYPERLINK(\"https://www.garethstevens.com/\"&Table1[[#This Row],[ISBN]],\"Weblink\")","v":"Weblink"},2020,"January 2020",null,null,"Author","Robin Twiddy",null,null,null,null,"Q",null,"Grade 4 - 5","Grade 4 - 6","Nuclear power provides almost 15 percent of the world's electricity, but this energy doesn't come without a cost. Past nuclear accidents have had disastrous effects on the environment and future accidents could cause an even larger catastrophe. Looming large-scale are the devastating effects of nuclear warfare. With this arresting book, which is a clever mix of fact and fiction, readers join young Shona as she leaves a bunker she was born in for the first time. Through Shona's journal and photographs, they discover a possible dreadful future and how such a disaster could be avoided in real life.","English",26.6,19.95,"333.792'4--dc23","32 pp.",{"$f":"Table1[[#This Row],[QTY]]*Table1[[#This Row],['# Books]]","v":0},{"$f":"Table1[[#This Row],[QTY]]*Table1[[#This Row],[S&L Price]]","v":0}]
[null,47,null,"Polluted Planet",1,"Plastic Panic!","Library Bound Book",null,"978-1-5382-5298-7",{"$f":"HYPERLINK(\"https://www.garethstevens.com/\"&Table1[[#This Row],[ISBN]],\"Weblink\")","v":"Weblink"},2020,"January 2020","Library","8.500 X 11.00","Author","Robin Twiddy",null,null,null,null,"Q",null,"Grade 4 - 5","Grade 4 - 6","How big of a problem is plastic pollution? Essential answers are found in this inventive volume which tells the tale of Terry, who received a message from the future from a man claiming to be the last surviving human in a world ravaged by plastic pollution. Young Terry learns why plastic waste became such a serious issue and how to stop such a bleak future from coming true. This lively narrative includes essential concepts from the elementary science curriculum as well as vivid, action-packed supporting photographs.","English",26.6,19.95,"363.72'88--dc23","32 pp.",{"$f":"Table1[[#This Row],[QTY]]*Table1[[#This Row],['# Books]]","v":0},{"$f":"Table1[[#This Row],[QTY]]*Table1[[#This Row],[S&L Price]]","v":0}]
[null,47,null,"Polluted Planet",1,"Plastic Panic!","eBook",null,"978-1-5382-5299-4",{"$f":"HYPERLINK(\"https://www.garethstevens.com/\"&Table1[[#This Row],[ISBN]],\"Weblink\")","v":"Weblink"},2020,"January 2020",null,null,"Author","Robin Twiddy",null,null,null,null,"Q",null,"Grade 4 - 5","Grade 4 - 6","How big of a problem is plastic pollution? Essential answers are found in this inventive volume which tells the tale of Terry, who received a message from the future from a man claiming to be the last surviving human in a world ravaged by plastic pollution. Young Terry learns why plastic waste became such a serious issue and how to stop such a bleak future from coming true. This lively narrative includes essential concepts from the elementary science curriculum as well as vivid, action-packed supporting photographs.","English",26.6,19.95,"363.72'88--dc23","32 pp.",{"$f":"Table1[[#This Row],[QTY]]*Table1[[#This Row],['# Books]]","v":0},{"$f":"Table1[[#This Row],[QTY]]*Table1[[#This Row],[S&L Price]]","v":0}]
[null,47,null,"Polluted Planet",1,"Toxic Terror!","Library Bound Book",null,"978-1-5382-5301-4",{"$f":"HYPERLINK(\"https://www.garethstevens.com/\"&Table1[[#This Row],[ISBN]],\"Weblink\")","v":"Weblink"},2020,"January 2020","Library","8.500 X 11.00","Author","Robin Twiddy",null,null,null,null,"Q",null,"Grade 4 - 5","Grade 4 - 6","Angelina Butterworth couldn't understand why people kept polluting our planet until the day she discovered it was the diabolical plan of aliens bent on destroying Earth! In this entertaining and instructive narrative, readers will be on the edge of their seats as they find out if Angelina can escape the slimy tentacles of the evil Toxlings while learning what people can do in real life to stop our world from becoming an actual toxic wasteland. This valuable volume shows that science fiction can teach us important facts, and even help save our planet.","English",26.6,19.95,"363.17--dc23","32 pp.",{"$f":"Table1[[#This Row],[QTY]]*Table1[[#This Row],['# Books]]","v":0},{"$f":"Table1[[#This Row],[QTY]]*Table1[[#This Row],[S&L Price]]","v":0}]
[null,47,null,"Polluted Planet",1,"Toxic Terror!","eBook",null,"978-1-5382-5302-1",{"$f":"HYPERLINK(\"https://www.garethstevens.com/\"&Table1[[#This Row],[ISBN]],\"Weblink\")","v":"Weblink"},2020,"January 2020",null,null,"Author","Robin Twiddy",null,null,null,null,"Q",null,"Grade 4 - 5","Grade 4 - 6","Angelina Butterworth couldn't understand why people kept polluting our planet until the day she discovered it was the diabolical plan of aliens bent on destroying Earth! In this entertaining and instructive narrative, readers will be on the edge of their seats as they find out if Angelina can escape the slimy tentacles of the evil Toxlings while learning what people can do in real life to stop our world from becoming an actual toxic wasteland. This valuable volume shows that science fiction can teach us important facts, and even help save our planet.","English",26.6,19.95,"363.17--dc23","32 pp.",{"$f":"Table1[[#This Row],[QTY]]*Table1[[#This Row],['# Books]]","v":0},{"$f":"Table1[[#This Row],[QTY]]*Table1[[#This Row],[S&L Price]]","v":0}]
[null,48,112,"Flowchart Smart",24,"Flowchart Smart (Set of 24 Titles)","Library Set",null,"978-1-5382-5334-2",{"$f":"HYPERLINK(\"https://www.garethstevens.com/\"&Table1[[#This Row],[ISBN]],\"Weblink\")","v":"Weblink"},2020,"January 2020","Library","7.250 X 9.250","","",null,null,null,null,null,null,"Grade 4 - 5","Grade 4 - 6","Some science subjects are hard to grasp without real-life examples to guide the way to comprehension. This admired continuing series helps readers connect with the important curricular science topics they need to know, including physics, ecosystems, and human body systems. Eye-catching, accessible flowcharts help them review the most vital concepts so they can absorb the information and make it their own. Future scientists will be inspired by the bright design and helpful photographs featured throughout each must-have book. Features include: Flowcharts that encourage information retention and are especially helpful for visual learners. The animals and plants are chosen for their significance and high-interest appeal. Provides a valuable collection for tackling both STEM concepts and Common Core informational text skills.","English",766.8,574.79999999999995,null,"48 pp.",{"$f":"Table1[[#This Row],[QTY]]*Table1[[#This Row],['# Books]]","v":0},{"$f":"Table1[[#This Row],[QTY]]*Table1[[#This Row],[S&L Price]]","v":0}]
[null,48,112,"Flowchart Smart",6,"Flowchart Smart (Set of 6 NEW Titles)","Library Set",null,"978-1-5382-5333-5",{"$f":"HYPERLINK(\"https://www.garethstevens.com/\"&Table1[[#This Row],[ISBN]],\"Weblink\")","v":"Weblink"},2020,"January 2020","Library","7.250 X 9.250","","",null,null,null,null,null,null,"Grade 4 - 5","Grade 4 - 6","The organisms in an ecosystem are interdependent; they are linked. The most effective way to demonstrate the connections between life forms is visual, with the graphic organizers called flowcharts. This beneficial set, a boon to any life science collection, examines critical ecosystems including deserts, rain forests, and oceans, and the interactions of their inhabitants, both plant and animal. Flowcharts highlight important concepts in each chapter, such as the formation of deltas and the life cycle of a frog. Colorful photographs will make readers excited about many aspects of environmental science. Features include: Multiple STEM topics are covered throughout the volumes. Each book concludes with a report about the future of the ecosystem, touching on conservation and climate change. Supports interpreting information presented visually, which is an informational text standard of the Common Core.","English",191.7,143.69999999999999,null,"48 pp.",{"$f":"Table1[[#This Row],[QTY]]*Table1[[#This Row],['# Books]]","v":0},{"$f":"Table1[[#This Row],[QTY]]*Table1[[#This Row],[S&L Price]]","v":0}]
[null,48,112,"Flowchart Smart",1,"The Science of Deserts","Library Bound Book",null,"978-1-5382-5219-2",{"$f":"HYPERLINK(\"https://www.garethstevens.com/\"&Table1[[#This Row],[ISBN]],\"Weblink\")","v":"Weblink"},2020,"January 2020","Library","7.250 X 9.250","Author","Louise Spilsbury",null,null,null,null,"T",null,"Grade 4 - 5","Grade 4 - 6","There are many kinds of deserts, and not all are hot and sandy. In fact, there's a desert in Antarctica! This eye-opening book takes readers into various deserts around the world where they'll learn about the incredible adaptations that make desert life possible. They'll also discover much about desert food webs and the interactions that plants and animals depend on to survive in this ecosystem. Flowcharts help crystalize new concepts, such as how carrion beetles are the cleaning machines of the desert. There's plenty of similar lively facts and vivid photographs of wildlife in action to keep readers captivated by this fascinating habitat.","English",31.95,23.95,"551.41'5--dc23","48 pp.",{"$f":"Table1[[#This Row],[QTY]]*Table1[[#This Row],['# Books]]","v":0},{"$f":"Table1[[#This Row],[QTY]]*Table1[[#This Row],[S&L Price]]","v":0}]
[null,48,112,"Flowchart Smart",1,"The Science of Deserts","eBook",null,"978-1-5382-5220-8",{"$f":"HYPERLINK(\"https://www.garethstevens.com/\"&Table1[[#This Row],[ISBN]],\"Weblink\")","v":"Weblink"},2020,"January 2020",null,null,"Author","Louise Spilsbury",null,null,null,null,"T",null,"Grade 4 - 5","Grade 4 - 6","There are many kinds of deserts, and not all are hot and sandy. In fact, there's a desert in Antarctica! This eye-opening book takes readers into various deserts around the world where they'll learn about the incredible adaptations that make desert life possible. They'll also discover much about desert food webs and the interactions that plants and animals depend on to survive in this ecosystem. Flowcharts help crystalize new concepts, such as how carrion beetles are the cleaning machines of the desert. There's plenty of similar lively facts and vivid photographs of wildlife in action to keep readers captivated by this fascinating habitat.","English",31.95,23.95,"551.41'5--dc23","48 pp.",{"$f":"Table1[[#This Row],[QTY]]*Table1[[#This Row],['# Books]]","v":0},{"$f":"Table1[[#This Row],[QTY]]*Table1[[#This Row],[S&L Price]]","v":0}]
[null,48,112,"Flowchart Smart",1,"The Science of Grasslands","Library Bound Book",null,"978-1-5382-5223-9",{"$f":"HYPERLINK(\"https://www.garethstevens.com/\"&Table1[[#This Row],[ISBN]],\"Weblink\")","v":"Weblink"},2020,"January 2020","Library","7.250 X 9.250","Author","Louise Spilsbury",null,null,null,null,"T",null,"Grade 4 - 5","Grade 4 - 6","There's much more to grasslands than grass. This fascinating book introduces readers to the intriguing plant and animal life that call grasslands home. They'll learn about the weird adaptations of the baobab tree, clever animal camouflage, and the many other plants and animals of grasslands that rely on each other for their very survival. Accessible flowcharts further explain essential and surprising concepts such as why wildfires can actually be helpful for grasslands. This visually appealing book and its vivid photographs offer the most important information about this vital ecosystem in connection with the elementary science curriculum.","English",31.95,23.95,"551.45'3--dc23","48 pp.",{"$f":"Table1[[#This Row],[QTY]]*Table1[[#This Row],['# Books]]","v":0},{"$f":"Table1[[#This Row],[QTY]]*Table1[[#This Row],[S&L Price]]","v":0}]
[null,48,112,"Flowchart Smart",1,"The Science of Grasslands","eBook",null,"978-1-5382-5224-6",{"$f":"HYPERLINK(\"https://www.garethstevens.com/\"&Table1[[#This Row],[ISBN]],\"Weblink\")","v":"Weblink"},2020,"January 2020",null,null,"Author","Louise Spilsbury",null,null,null,null,"T",null,"Grade 4 - 5","Grade 4 - 6","There's much more to grasslands than grass. This fascinating book introduces readers to the intriguing plant and animal life that call grasslands home. They'll learn about the weird adaptations of the baobab tree, clever animal camouflage, and the many other plants and animals of grasslands that rely on each other for their very survival. Accessible flowcharts further explain essential and surprising concepts such as why wildfires can actually be helpful for grasslands. This visually appealing book and its vivid photographs offer the most important information about this vital ecosystem in connection with the elementary science curriculum.","English",31.95,23.95,"551.45'3--dc23","48 pp.",{"$f":"Table1[[#This Row],[QTY]]*Table1[[#This Row],['# Books]]","v":0},{"$f":"Table1[[#This Row],[QTY]]*Table1[[#This Row],[S&L Price]]","v":0}]
[null,48,112,"Flowchart Smart",1,"The Science of Mountains","Library Bound Book",null,"978-1-5382-5225-3",{"$f":"HYPERLINK(\"https://www.garethstevens.com/\"&Table1[[#This Row],[ISBN]],\"Weblink\")","v":"Weblink"},2020,"January 2020","Library","7.250 X 9.250","Author","Louise Spilsbury",null,null,null,null,"T",null,"Grade 4 - 5","Grade 4 - 6","For all those young scientists who aren't mountain climbers, this lively look at high-altitude ecosystems takes us to the highest peaks to learn about the amazing interactions between plants and animals of the mountains. From high-flying bees that pollinate the flowers to lumbering bears who spread seeds for plant growth, mountain organisms need each other in a multitude of ways. Flowcharts throughout this brightly designed book elucidate important concepts such as mountain food chains and the effects of climate change on mountain ecosystems.","English",31.95,23.95,"551.43'2--dc23","48 pp.",{"$f":"Table1[[#This Row],[QTY]]*Table1[[#This Row],['# Books]]","v":0},{"$f":"Table1[[#This Row],[QTY]]*Table1[[#This Row],[S&L Price]]","v":0}]
[null,48,112,"Flowchart Smart",1,"The Science of Mountains","eBook",null,"978-1-5382-5227-7",{"$f":"HYPERLINK(\"https://www.garethstevens.com/\"&Table1[[#This Row],[ISBN]],\"Weblink\")","v":"Weblink"},2020,"January 2020",null,null,"Author","Louise Spilsbury",null,null,null,null,"T",null,"Grade 4 - 5","Grade 4 - 6","For all those young scientists who aren't mountain climbers, this lively look at high-altitude ecosystems takes us to the highest peaks to learn about the amazing interactions between plants and animals of the mountains. From high-flying bees that pollinate the flowers to lumbering bears who spread seeds for plant growth, mountain organisms need each other in a multitude of ways. Flowcharts throughout this brightly designed book elucidate important concepts such as mountain food chains and the effects of climate change on mountain ecosystems.","English",31.95,23.95,"551.43'2--dc23","48 pp.",{"$f":"Table1[[#This Row],[QTY]]*Table1[[#This Row],['# Books]]","v":0},{"$f":"Table1[[#This Row],[QTY]]*Table1[[#This Row],[S&L Price]]","v":0}]
[null,48,112,"Flowchart Smart",1,"The Science of Oceans","Library Bound Book",null,"978-1-5382-5229-1",{"$f":"HYPERLINK(\"https://www.garethstevens.com/\"&Table1[[#This Row],[ISBN]],\"Weblink\")","v":"Weblink"},2020,"January 2020","Library","7.250 X 9.250","Author","Louise Spilsbury",null,null,null,null,"T",null,"Grade 4 - 5","Grade 4 - 6","Let's dive into the abyss of our planet's least explored ecosystems, we're headed into the oceans! With this appealing book, packed with remarkable images, future marine biologists will learn about the countless organisms that depend on each other in Earth's oceans as well as the extraordinary environments in which they live. Comprehensible flowcharts underline the importance of ocean organisms, such as the algae that provide most of the oxygen we breathe, as well as remarkable marine adaptations, such as echolocation. Motivated readers will also discover why our oceans need to be protected into the future.","English",31.95,23.95,"551.46--dc23","48 pp.",{"$f":"Table1[[#This Row],[QTY]]*Table1[[#This Row],['# Books]]","v":0},{"$f":"Table1[[#This Row],[QTY]]*Table1[[#This Row],[S&L Price]]","v":0}]
[null,48,112,"Flowchart Smart",1,"The Science of Oceans","eBook",null,"978-1-5382-5230-7",{"$f":"HYPERLINK(\"https://www.garethstevens.com/\"&Table1[[#This Row],[ISBN]],\"Weblink\")","v":"Weblink"},2020,"January 2020",null,null,"Author","Louise Spilsbury",null,null,null,null,"T",null,"Grade 4 - 5","Grade 4 - 6","Let's dive into the abyss of our planet's least explored ecosystems, we're headed into the oceans! With this appealing book, packed with remarkable images, future marine biologists will learn about the countless organisms that depend on each other in Earth's oceans as well as the extraordinary environments in which they live. Comprehensible flowcharts underline the importance of ocean organisms, such as the algae that provide most of the oxygen we breathe, as well as remarkable marine adaptations, such as echolocation. Motivated readers will also discover why our oceans need to be protected into the future.","English",31.95,23.95,"551.46--dc23","48 pp.",{"$f":"Table1[[#This Row],[QTY]]*Table1[[#This Row],['# Books]]","v":0},{"$f":"Table1[[#This Row],[QTY]]*Table1[[#This Row],[S&L Price]]","v":0}]
[null,48,112,"Flowchart Smart",1,"The Science of Rain Forests","Library Bound Book",null,"978-1-5382-5232-1",{"$f":"HYPERLINK(\"https://www.garethstevens.com/\"&Table1[[#This Row],[ISBN]],\"Weblink\")","v":"Weblink"},2020,"January 2020","Library","7.250 X 9.250","Author","Louise Spilsbury",null,null,null,null,"T",null,"Grade 4 - 5","Grade 4 - 6","It's time to go deep, deep into the jungle, and no raincoat is needed! This motivating volume provides all the facts that rain forest explorers need, including comprehensive explanations about the interconnectedness of this habitat's high-interest plants and animals. Colorful flowcharts will aid in retention of such important concepts as a rain forest's distinctive water cycle and its many food chains. Vibrant photographs pop off the page, while the accessible STEM-related text will inspire budding environmental scientists.","English",31.95,23.95,"577.34--dc23","48 pp.",{"$f":"Table1[[#This Row],[QTY]]*Table1[[#This Row],['# Books]]","v":0},{"$f":"Table1[[#This Row],[QTY]]*Table1[[#This Row],[S&L Price]]","v":0}]
[null,48,112,"Flowchart Smart",1,"The Science of Rain Forests","eBook",null,"978-1-5382-5233-8",{"$f":"HYPERLINK(\"https://www.garethstevens.com/\"&Table1[[#This Row],[ISBN]],\"Weblink\")","v":"Weblink"},2020,"January 2020",null,null,"Author","Louise Spilsbury",null,null,null,null,"T",null,"Grade 4 - 5","Grade 4 - 6","It's time to go deep, deep into the jungle, and no raincoat is needed! This motivating volume provides all the facts that rain forest explorers need, including comprehensive explanations about the interconnectedness of this habitat's high-interest plants and animals. Colorful flowcharts will aid in retention of such important concepts as a rain forest's distinctive water cycle and its many food chains. Vibrant photographs pop off the page, while the accessible STEM-related text will inspire budding environmental scientists.","English",31.95,23.95,"577.34--dc23","48 pp.",{"$f":"Table1[[#This Row],[QTY]]*Table1[[#This Row],['# Books]]","v":0},{"$f":"Table1[[#This Row],[QTY]]*Table1[[#This Row],[S&L Price]]","v":0}]
[null,48,112,"Flowchart Smart",1,"The Science of Wetlands","Library Bound Book",null,"978-1-5382-5235-2",{"$f":"HYPERLINK(\"https://www.garethstevens.com/\"&Table1[[#This Row],[ISBN]],\"Weblink\")","v":"Weblink"},2020,"January 2020","Library","7.250 X 9.250","Author","Louise Spilsbury",null,null,null,null,"T",null,"Grade 4 - 5","Grade 4 - 6","Wetlands are complex ecosystems necessary for the health of our planet. In recent years, governments and environmental organizations have worked to protect these habitats and the organisms that can only thrive within their unique ecosystems. This enlightening volume takes readers into marshy wetlands, introducing them to high-interest animals and plants such as hulking hippos and the carnivorous Venus flytrap. Each stimulating chapter contains a flowchart that highlights key earth science concepts, including life cycles and food chains. Breathtaking photographs of wildlife and an accessible narrative make this book a memorable journey into a critical ecosystem.","English",31.95,23.95,"333.91'8--dc23","48 pp.",{"$f":"Table1[[#This Row],[QTY]]*Table1[[#This Row],['# Books]]","v":0},{"$f":"Table1[[#This Row],[QTY]]*Table1[[#This Row],[S&L Price]]","v":0}]
[null,48,112,"Flowchart Smart",1,"The Science of Wetlands","eBook",null,"978-1-5382-5236-9",{"$f":"HYPERLINK(\"https://www.garethstevens.com/\"&Table1[[#This Row],[ISBN]],\"Weblink\")","v":"Weblink"},2020,"January 2020",null,null,"Author","Louise Spilsbury",null,null,null,null,"T",null,"Grade 4 - 5","Grade 4 - 6","Wetlands are complex ecosystems necessary for the health of our planet. In recent years, governments and environmental organizations have worked to protect these habitats and the organisms that can only thrive within their unique ecosystems. This enlightening volume takes readers into marshy wetlands, introducing them to high-interest animals and plants such as hulking hippos and the carnivorous Venus flytrap. Each stimulating chapter contains a flowchart that highlights key earth science concepts, including life cycles and food chains. Breathtaking photographs of wildlife and an accessible narrative make this book a memorable journey into a critical ecosystem.","English",31.95,23.95,"333.91'8--dc23","48 pp.",{"$f":"Table1[[#This Row],[QTY]]*Table1[[#This Row],['# Books]]","v":0},{"$f":"Table1[[#This Row],[QTY]]*Table1[[#This Row],[S&L Price]]","v":0}]
[null,49,112,"Flowchart Smart",1,"Landforms","Library Bound Book",null,"978-1-5382-3486-0",{"$f":"HYPERLINK(\"https://www.garethstevens.com/\"&Table1[[#This Row],[ISBN]],\"Weblink\")","v":"Weblink"},2019,"January 2019","Library","7.250 X 9.250","Author, Author","Richard Spilsbury, Louise Spilsbury",null,null,null,null,"T",null,"Grade 4 - 5","Grade 4 - 6","Can land form where there wasn't any before? What about valleys and canyons? Through accessible language and colorful, fun flowcharts, readers learn the answers to these questions and more in this book. From how the continents arrived where they are today to how volcanoes form islands, the main text is full of incredible, and Earth science curriculum-supporting, knowledge for curious readers to discover. Full-color photographs accompany the text to take readers to the tops of mountains, the ocean coast, and deep into the Grand Canyon.","English",31.95,23.95,"551.41--dc23","48 pp.",{"$f":"Table1[[#This Row],[QTY]]*Table1[[#This Row],['# Books]]","v":0},{"$f":"Table1[[#This Row],[QTY]]*Table1[[#This Row],[S&L Price]]","v":0}]
[null,49,112,"Flowchart Smart",1,"Landforms","eBook",null,"978-1-5382-3487-7",{"$f":"HYPERLINK(\"https://www.garethstevens.com/\"&Table1[[#This Row],[ISBN]],\"Weblink\")","v":"Weblink"},2019,"January 2019",null,null,"Author, Author","Richard Spilsbury, Louise Spilsbury",null,null,null,null,"T",null,"Grade 4 - 5","Grade 4 - 6","Can land form where there wasn't any before? What about valleys and canyons? Through accessible language and colorful, fun flowcharts, readers learn the answers to these questions and more in this book. From how the continents arrived where they are today to how volcanoes form islands, the main text is full of incredible, and Earth science curriculum-supporting, knowledge for curious readers to discover. Full-color photographs accompany the text to take readers to the tops of mountains, the ocean coast, and deep into the Grand Canyon.","English",31.95,23.95,"551.41--dc23","48 pp.",{"$f":"Table1[[#This Row],[QTY]]*Table1[[#This Row],['# Books]]","v":0},{"$f":"Table1[[#This Row],[QTY]]*Table1[[#This Row],[S&L Price]]","v":0}]
[null,49,112,"Flowchart Smart",1,"Natural Resources","Library Bound Book",null,"978-1-5382-3489-1",{"$f":"HYPERLINK(\"https://www.garethstevens.com/\"&Table1[[#This Row],[ISBN]],\"Weblink\")","v":"Weblink"},2019,"January 2019","Library","7.250 X 9.250","Author, Author","Richard Spilsbury, Louise Spilsbury",null,null,null,null,"T",null,"Grade 4 - 5","Grade 4 - 6","Natural resources are anything from nature that people can use. From fossil fuels deep underground used for power to trees used for lumber, natural resources are precious and sometimes nonrenewable. Readers learn both how natural resources are accessed as well as the importance of conserving them in two ways: traditional chapter text on each topic and a colorful flowchart to help them add a layer of understanding to their reading. Including topics supportive of the Earth science curriculum, this book covers renewable energy, mineral mining, water, and much more, as well as full-color photographs which have a strong text correlation.","English",31.95,23.95,"333.7--dc23","48 pp.",{"$f":"Table1[[#This Row],[QTY]]*Table1[[#This Row],['# Books]]","v":0},{"$f":"Table1[[#This Row],[QTY]]*Table1[[#This Row],[S&L Price]]","v":0}]
[null,49,112,"Flowchart Smart",1,"Natural Resources","eBook",null,"978-1-5382-3490-7",{"$f":"HYPERLINK(\"https://www.garethstevens.com/\"&Table1[[#This Row],[ISBN]],\"Weblink\")","v":"Weblink"},2019,"January 2019",null,null,"Author, Author","Richard Spilsbury, Louise Spilsbury",null,null,null,null,"T",null,"Grade 4 - 5","Grade 4 - 6","Natural resources are anything from nature that people can use. From fossil fuels deep underground used for power to trees used for lumber, natural resources are precious and sometimes nonrenewable. Readers learn both how natural resources are accessed as well as the importance of conserving them in two ways: traditional chapter text on each topic and a colorful flowchart to help them add a layer of understanding to their reading. Including topics supportive of the Earth science curriculum, this book covers renewable energy, mineral mining, water, and much more, as well as full-color photographs which have a strong text correlation.","English",31.95,23.95,"333.7--dc23","48 pp.",{"$f":"Table1[[#This Row],[QTY]]*Table1[[#This Row],['# Books]]","v":0},{"$f":"Table1[[#This Row],[QTY]]*Table1[[#This Row],[S&L Price]]","v":0}]
[null,49,112,"Flowchart Smart",1,"Pollution","Library Bound Book",null,"978-1-5382-3492-1",{"$f":"HYPERLINK(\"https://www.garethstevens.com/\"&Table1[[#This Row],[ISBN]],\"Weblink\")","v":"Weblink"},2019,"January 2019","Library","7.250 X 9.250","Author, Author","Richard Spilsbury, Louise Spilsbury",null,null,null,null,"T",null,"Grade 4 - 5","Grade 4 - 6","One of the ways disease spreads in developing countries is through polluted water. This topic is a serious one for young readers to understand. In this book, the issues of pollution are explained in age-appropriate detail, complete with full-color photographs of air, land, and water pollution. In addition, each engaging topic concludes with a helpful flowchart to review how acid rain works, how bacteria enter drinking water, and the ways algal blooms form. This volume is a great resource for both science and social studies students learning to understand the importance of conservation and respect for the world around us.","English",31.95,23.95,"363.73--dc23","48 pp.",{"$f":"Table1[[#This Row],[QTY]]*Table1[[#This Row],['# Books]]","v":0},{"$f":"Table1[[#This Row],[QTY]]*Table1[[#This Row],[S&L Price]]","v":0}]
[null,49,112,"Flowchart Smart",1,"Pollution","eBook",null,"978-1-5382-3493-8",{"$f":"HYPERLINK(\"https://www.garethstevens.com/\"&Table1[[#This Row],[ISBN]],\"Weblink\")","v":"Weblink"},2019,"January 2019",null,null,"Author, Author","Richard Spilsbury, Louise Spilsbury",null,null,null,null,"T",null,"Grade 4 - 5","Grade 4 - 6","One of the ways disease spreads in developing countries is through polluted water. This topic is a serious one for young readers to understand. In this book, the issues of pollution are explained in age-appropriate detail, complete with full-color photographs of air, land, and water pollution. In addition, each engaging topic concludes with a helpful flowchart to review how acid rain works, how bacteria enter drinking water, and the ways algal blooms form. This volume is a great resource for both science and social studies students learning to understand the importance of conservation and respect for the world around us.","English",31.95,23.95,"363.73--dc23","48 pp.",{"$f":"Table1[[#This Row],[QTY]]*Table1[[#This Row],['# Books]]","v":0},{"$f":"Table1[[#This Row],[QTY]]*Table1[[#This Row],[S&L Price]]","v":0}]
[null,49,112,"Flowchart Smart",1,"The Rock Cycle","Library Bound Book",null,"978-1-5382-3477-8",{"$f":"HYPERLINK(\"https://www.garethstevens.com/\"&Table1[[#This Row],[ISBN]],\"Weblink\")","v":"Weblink"},2019,"January 2019","Library","7.250 X 9.250","Author, Author","Richard Spilsbury, Louise Spilsbury",null,null,null,null,"T",null,"Grade 4 - 5","Grade 4 - 6","Within the rock cycle, there are so many other processes! Weather, erosion, and the creation of metamorphic, igneous, and sedimentary rock are all part of the greater process scientists call the rock cycle. In this colorful and engaging volume, readers read about each process in accessible language and then review it in an easy-to-follow flowchart. Full of Earth science content that supports classroom learning, the main content guides readers through important subject areas including what rock is made of, how minerals are used, and metal mining. Full-color photographs correlate to and complement each chapter.","English",31.95,23.95,"552--dc23","48 pp.",{"$f":"Table1[[#This Row],[QTY]]*Table1[[#This Row],['# Books]]","v":0},{"$f":"Table1[[#This Row],[QTY]]*Table1[[#This Row],[S&L Price]]","v":0}]
[null,49,112,"Flowchart Smart",1,"The Rock Cycle","eBook",null,"978-1-5382-3478-5",{"$f":"HYPERLINK(\"https://www.garethstevens.com/\"&Table1[[#This Row],[ISBN]],\"Weblink\")","v":"Weblink"},2019,"January 2019",null,null,"Author, Author","Richard Spilsbury, Louise Spilsbury",null,null,null,null,"T",null,"Grade 4 - 5","Grade 4 - 6","Within the rock cycle, there are so many other processes! Weather, erosion, and the creation of metamorphic, igneous, and sedimentary rock are all part of the greater process scientists call the rock cycle. In this colorful and engaging volume, readers read about each process in accessible language and then review it in an easy-to-follow flowchart. Full of Earth science content that supports classroom learning, the main content guides readers through important subject areas including what rock is made of, how minerals are used, and metal mining. Full-color photographs correlate to and complement each chapter.","English",31.95,23.95,"552--dc23","48 pp.",{"$f":"Table1[[#This Row],[QTY]]*Table1[[#This Row],['# Books]]","v":0},{"$f":"Table1[[#This Row],[QTY]]*Table1[[#This Row],[S&L Price]]","v":0}]
[null,49,113,"Flowchart Smart",1,"The Science of Electricity","Library Bound Book",null,"978-1-4824-4133-8",{"$f":"HYPERLINK(\"https://www.garethstevens.com/\"&Table1[[#This Row],[ISBN]],\"Weblink\")","v":"Weblink"},2016,"January 2016","Library","7.250 X 9.250","Author","Louise Spilsbury",null,null,"50",null,"T","NC","Grade 4 - 5","Grade 4 - 6","Modern living wouldn’t be possible without electricity. The history of electricity is interesting because we are constantly finding new ways to use it and searching for better ways to produce it. This book takes a look at how electricity travels, how it is stored in batteries, and the many different types of power plants that produce the electricity needed to light our homes, schools, and businesses. Bright photographs and fascinating fact boxes are paired together to make flowcharts highlighting how circuits work to move electricity, how different kinds of batteries hold charges, and much more in this fascinating science book.","English",31.95,23.95,"537--dc23","48 pp.",{"$f":"Table1[[#This Row],[QTY]]*Table1[[#This Row],['# Books]]","v":0},{"$f":"Table1[[#This Row],[QTY]]*Table1[[#This Row],[S&L Price]]","v":0}]
[null,49,112,"Flowchart Smart",1,"The Science of Electricity","eBook",null,"978-1-4824-4134-5",{"$f":"HYPERLINK(\"https://www.garethstevens.com/\"&Table1[[#This Row],[ISBN]],\"Weblink\")","v":"Weblink"},2016,"January 2016",null,null,"Author","Louise Spilsbury",null,null,"50",null,"T","NC","Grade 4 - 5","Grade 4 - 6","Modern living wouldn’t be possible without electricity. The history of electricity is interesting because we are constantly finding new ways to use it and searching for better ways to produce it. This book takes a look at how electricity travels, how it is stored in batteries, and the many different types of power plants that produce the electricity needed to light our homes, schools, and businesses. Bright photographs and fascinating fact boxes are paired together to make flowcharts highlighting how circuits work to move electricity, how different kinds of batteries hold charges, and much more in this fascinating science book.","English",31.95,23.95,"537--dc23","48 pp.",{"$f":"Table1[[#This Row],[QTY]]*Table1[[#This Row],['# Books]]","v":0},{"$f":"Table1[[#This Row],[QTY]]*Table1[[#This Row],[S&L Price]]","v":0}]
[null,49,113,"Flowchart Smart",1,"The Science of Forces","Library Bound Book",null,"978-1-4824-4137-6",{"$f":"HYPERLINK(\"https://www.garethstevens.com/\"&Table1[[#This Row],[ISBN]],\"Weblink\")","v":"Weblink"},2016,"January 2016","Library","7.250 X 9.250","Author","Mary Colson",null,null,"50",null,"T","NC","Grade 4 - 5","Grade 4 - 6","Forces move everything around us. That may sound scary and complicated, but this book shows readers that forces like friction and other laws of motion can be fascinating and fun! Innovative flowcharts bring these abstract concepts to life via brilliant photographs matched with fact boxes showing readers how the moon impacts tides on Earth, and how magnetic forces act on matter throughout the universe. From the tectonic plates that move Earth’s crust to the forces rockets must overcome to leave Earth’s atmosphere and reach outer space, there are plenty of fantastic forces to explore in this informative book.","English",31.95,23.95,"531--dc23","48 pp.",{"$f":"Table1[[#This Row],[QTY]]*Table1[[#This Row],['# Books]]","v":0},{"$f":"Table1[[#This Row],[QTY]]*Table1[[#This Row],[S&L Price]]","v":0}]
[null,49,113,"Flowchart Smart",1,"The Science of Forces","eBook",null,"978-1-4824-4138-3",{"$f":"HYPERLINK(\"https://www.garethstevens.com/\"&Table1[[#This Row],[ISBN]],\"Weblink\")","v":"Weblink"},2016,"January 2016",null,null,"Author","Mary Colson",null,null,"50",null,"T","NC","Grade 4 - 5","Grade 4 - 6","Forces move everything around us. That may sound scary and complicated, but this book shows readers that forces like friction and other laws of motion can be fascinating and fun! Innovative flowcharts bring these abstract concepts to life via brilliant photographs matched with fact boxes showing readers how the moon impacts tides on Earth, and how magnetic forces act on matter throughout the universe. From the tectonic plates that move Earth’s crust to the forces rockets must overcome to leave Earth’s atmosphere and reach outer space, there are plenty of fantastic forces to explore in this informative book.","English",31.95,23.95,"531--dc23","48 pp.",{"$f":"Table1[[#This Row],[QTY]]*Table1[[#This Row],['# Books]]","v":0},{"$f":"Table1[[#This Row],[QTY]]*Table1[[#This Row],[S&L Price]]","v":0}]
[null,49,113,"Flowchart Smart",1,"The Science of Heat","Library Bound Book",null,"978-1-4824-4141-3",{"$f":"HYPERLINK(\"https://www.garethstevens.com/\"&Table1[[#This Row],[ISBN]],\"Weblink\")","v":"Weblink"},2016,"January 2016","Library","7.250 X 9.250","Author","Angela Royston",null,null,null,null,"T",null,"Grade 4 - 5","Grade 4 - 6","Heat can do some amazing things, like turn solids into liquids and liquids into gases. But how do these changes happen? This book helps readers understand how heat changes matter, what causes things to burn, and how these changes impact a vast number of objects in our world. Flowcharts filled with vivid photographs and interesting fact boxes visually bring to life the concepts of heat and the changing states of matter, turning readers into eager scientists!","English",31.95,23.95,"536--dc23","48 pp.",{"$f":"Table1[[#This Row],[QTY]]*Table1[[#This Row],['# Books]]","v":0},{"$f":"Table1[[#This Row],[QTY]]*Table1[[#This Row],[S&L Price]]","v":0}]
[null,49,113,"Flowchart Smart",1,"The Science of Heat","eBook",null,"978-1-4824-4142-0",{"$f":"HYPERLINK(\"https://www.garethstevens.com/\"&Table1[[#This Row],[ISBN]],\"Weblink\")","v":"Weblink"},2016,"January 2016",null,null,"Author","Angela Royston",null,null,null,null,"T",null,"Grade 4 - 5","Grade 4 - 6","Heat can do some amazing things, like turn solids into liquids and liquids into gases. But how do these changes happen? This book helps readers understand how heat changes matter, what causes things to burn, and how these changes impact a vast number of objects in our world. Flowcharts filled with vivid photographs and interesting fact boxes visually bring to life the concepts of heat and the changing states of matter, turning readers into eager scientists!","English",31.95,23.95,"536--dc23","48 pp.",{"$f":"Table1[[#This Row],[QTY]]*Table1[[#This Row],['# Books]]","v":0},{"$f":"Table1[[#This Row],[QTY]]*Table1[[#This Row],[S&L Price]]","v":0}]
[null,49,113,"Flowchart Smart",1,"The Science of Light","Library Bound Book",null,"978-1-4824-4145-1",{"$f":"HYPERLINK(\"https://www.garethstevens.com/\"&Table1[[#This Row],[ISBN]],\"Weblink\")","v":"Weblink"},2016,"January 2016","Library","7.250 X 9.250","Author","Mary Colson",null,null,"50",null,"T","NC","Grade 4 - 5","Grade 4 - 6","Light is an amazing thing. It allows us to see, sure, but how is it made? This book takes a look at the science behind the creation, travel, and appearance of light. From how fast light travels to the materials that create it, the science behind illumination is fascinating and essential to understanding human life. Informative flowcharts bring the context to life with bright photographs and fact boxes explaining how the human eye sees and reacts to light and how some animals can even see in the dark!","English",31.95,23.95,"535--dc23","48 pp.",{"$f":"Table1[[#This Row],[QTY]]*Table1[[#This Row],['# Books]]","v":0},{"$f":"Table1[[#This Row],[QTY]]*Table1[[#This Row],[S&L Price]]","v":0}]
[null,49,113,"Flowchart Smart",1,"The Science of Light","eBook",null,"978-1-4824-4146-8",{"$f":"HYPERLINK(\"https://www.garethstevens.com/\"&Table1[[#This Row],[ISBN]],\"Weblink\")","v":"Weblink"},2016,"January 2016",null,null,"Author","Mary Colson",null,null,"50",null,"T","NC","Grade 4 - 5","Grade 4 - 6","Light is an amazing thing. It allows us to see, sure, but how is it made? This book takes a look at the science behind the creation, travel, and appearance of light. From how fast light travels to the materials that create it, the science behind illumination is fascinating and essential to understanding human life. Informative flowcharts bring the context to life with bright photographs and fact boxes explaining how the human eye sees and reacts to light and how some animals can even see in the dark!","English",31.95,23.95,"535--dc23","48 pp.",{"$f":"Table1[[#This Row],[QTY]]*Table1[[#This Row],['# Books]]","v":0},{"$f":"Table1[[#This Row],[QTY]]*Table1[[#This Row],[S&L Price]]","v":0}]
[null,49,113,"Flowchart Smart",1,"The Science of Magnetism","Library Bound Book",null,"978-1-4824-4149-9",{"$f":"HYPERLINK(\"https://www.garethstevens.com/\"&Table1[[#This Row],[ISBN]],\"Weblink\")","v":"Weblink"},2016,"January 2016","Library","7.250 X 9.250","Author","Louise Spilsbury",null,null,null,null,"T","NC","Grade 4 - 5","Grade 4 - 6","Magnets are all around us, but how do they work? This innovate book delves into that question and many more, showing readers how the pushes and pulls of magnetic force impact both our planet and everyday lives. Informative flowcharts bring magnetism concepts to life with bright colors and insightful fact boxes, giving readers extra incentive to learn more about magnetic materials, how magnets are used in motors, and much more.","English",31.95,23.95,"538--dc23","48 pp.",{"$f":"Table1[[#This Row],[QTY]]*Table1[[#This Row],['# Books]]","v":0},{"$f":"Table1[[#This Row],[QTY]]*Table1[[#This Row],[S&L Price]]","v":0}]
[null,49,113,"Flowchart Smart",1,"The Science of Magnetism","eBook",null,"978-1-4824-4154-3",{"$f":"HYPERLINK(\"https://www.garethstevens.com/\"&Table1[[#This Row],[ISBN]],\"Weblink\")","v":"Weblink"},2016,"January 2016",null,null,"Author","Louise Spilsbury",null,null,null,null,"T","NC","Grade 4 - 5","Grade 4 - 6","Magnets are all around us, but how do they work? This innovate book delves into that question and many more, showing readers how the pushes and pulls of magnetic force impact both our planet and everyday lives. Informative flowcharts bring magnetism concepts to life with bright colors and insightful fact boxes, giving readers extra incentive to learn more about magnetic materials, how magnets are used in motors, and much more.","English",31.95,23.95,"538--dc23","48 pp.",{"$f":"Table1[[#This Row],[QTY]]*Table1[[#This Row],['# Books]]","v":0},{"$f":"Table1[[#This Row],[QTY]]*Table1[[#This Row],[S&L Price]]","v":0}]
[null,49,113,"Flowchart Smart",1,"The Science of Sound","Library Bound Book",null,"978-1-4824-4152-9",{"$f":"HYPERLINK(\"https://www.garethstevens.com/\"&Table1[[#This Row],[ISBN]],\"Weblink\")","v":"Weblink"},2016,"January 2016","Library","7.250 X 9.250","Author","Louise Spilsbury",null,null,"50",null,"T","NC","Grade 4 - 5","Grade 4 - 6","Sound produces some of the greatest joys in our lives. From the music we love to the mere sound of laughter, the vibrations our ears pick up play a major role in our life experience. This book shows readers just what sound is, how it travels, and how our ears understand the sounds that surround us all. Innovative flowcharts throughout the book give readers a fun alternative to plain text, showing the science of sound with vibrant colors and interesting fact boxes.","English",31.95,23.95,"534.078--dc23","48 pp.",{"$f":"Table1[[#This Row],[QTY]]*Table1[[#This Row],['# Books]]","v":0},{"$f":"Table1[[#This Row],[QTY]]*Table1[[#This Row],[S&L Price]]","v":0}]
[null,49,113,"Flowchart Smart",1,"The Science of Sound","eBook",null,"978-1-4824-4153-6",{"$f":"HYPERLINK(\"https://www.garethstevens.com/\"&Table1[[#This Row],[ISBN]],\"Weblink\")","v":"Weblink"},2016,"January 2016",null,null,"Author","Louise Spilsbury",null,null,"50",null,"T","NC","Grade 4 - 5","Grade 4 - 6","Sound produces some of the greatest joys in our lives. From the music we love to the mere sound of laughter, the vibrations our ears pick up play a major role in our life experience. This book shows readers just what sound is, how it travels, and how our ears understand the sounds that surround us all. Innovative flowcharts throughout the book give readers a fun alternative to plain text, showing the science of sound with vibrant colors and interesting fact boxes.","English",31.95,23.95,"534.078--dc23","48 pp.",{"$f":"Table1[[#This Row],[QTY]]*Table1[[#This Row],['# Books]]","v":0},{"$f":"Table1[[#This Row],[QTY]]*Table1[[#This Row],[S&L Price]]","v":0}]
[null,49,113,"Flowchart Smart",1,"The Science of the Brain","Library Bound Book",null,"978-1-5382-0698-0",{"$f":"HYPERLINK(\"https://www.garethstevens.com/\"&Table1[[#This Row],[ISBN]],\"Weblink\")","v":"Weblink"},2018,"August 2017","Library","7.250 X 9.250","Author","Louise Spilsbury",null,null,null,null,"T",null,"Grade 4 - 5","Grade 4 - 6","The human mind is more complex and powerful than any technology humanity has ever created. How much do we really know about these incredible organic computers that power our bodies? This engaging book explores the human brain using clean, simple flowcharts to break down difficult concepts into accessible chunks. Each chapter condenses key concepts into flowcharts to help readers retain essential information. Curious readers will love learning about this high-interest topic through fun graphics and clear, easy-to-understand language. This innovative format makes important science curriculum material fun and easy to absorb, making this book an invaluable addition to any library.","English",31.95,23.95,"612.8’2--dc23","48 pp.",{"$f":"Table1[[#This Row],[QTY]]*Table1[[#This Row],['# Books]]","v":0},{"$f":"Table1[[#This Row],[QTY]]*Table1[[#This Row],[S&L Price]]","v":0}]
[null,49,113,"Flowchart Smart",1,"The Science of the Brain","eBook",null,"978-1-5382-0687-4",{"$f":"HYPERLINK(\"https://www.garethstevens.com/\"&Table1[[#This Row],[ISBN]],\"Weblink\")","v":"Weblink"},2018,"August 2017",null,null,"Author","Louise Spilsbury",null,null,null,null,"T",null,"Grade 4 - 5","Grade 4 - 6","The human mind is more complex and powerful than any technology humanity has ever created. How much do we really know about these incredible organic computers that power our bodies? This engaging book explores the human brain using clean, simple flowcharts to break down difficult concepts into accessible chunks. Each chapter condenses key concepts into flowcharts to help readers retain essential information. Curious readers will love learning about this high-interest topic through fun graphics and clear, easy-to-understand language. This innovative format makes important science curriculum material fun and easy to absorb, making this book an invaluable addition to any library.","English",31.95,23.95,"612.8’2--dc23","48 pp.",{"$f":"Table1[[#This Row],[QTY]]*Table1[[#This Row],['# Books]]","v":0},{"$f":"Table1[[#This Row],[QTY]]*Table1[[#This Row],[S&L Price]]","v":0}]
[null,49,113,"Flowchart Smart",1,"The Science of the Digestive System","Library Bound Book",null,"978-1-5382-0697-3",{"$f":"HYPERLINK(\"https://www.garethstevens.com/\"&Table1[[#This Row],[ISBN]],\"Weblink\")","v":"Weblink"},2018,"August 2017","Library","7.250 X 9.250","Author, Author","Louise Spilsbury, Richard Spilsbury",null,null,null,null,"T",null,"Grade 4 - 5","Grade 4 - 6","Every munch and crunch of our lunch makes its way through our digestive systems! How does our body break down food into energy? This innovative book gives readers an inside look at this essential bodily process. Flowcharts reiterate key concepts at the end of each chapter, allowing readers to visualize and retain complex information in a fun way. Colorful graphics and easy-to-understand language ensure this book is both fun and accessible. Even readers who are reluctant to study science will enjoy this visually rich, playful exploration of the human digestive system. This unique approach to science curriculum materials is sure to make this book a favorite in any library.","English",31.95,23.95,"612.3’2--dc23","48 pp.",{"$f":"Table1[[#This Row],[QTY]]*Table1[[#This Row],['# Books]]","v":0},{"$f":"Table1[[#This Row],[QTY]]*Table1[[#This Row],[S&L Price]]","v":0}]
[null,49,113,"Flowchart Smart",1,"The Science of the Digestive System","eBook",null,"978-1-5382-0692-8",{"$f":"HYPERLINK(\"https://www.garethstevens.com/\"&Table1[[#This Row],[ISBN]],\"Weblink\")","v":"Weblink"},2018,"August 2017",null,null,"Author, Author","Louise Spilsbury, Richard Spilsbury",null,null,null,null,"T",null,"Grade 4 - 5","Grade 4 - 6","Every munch and crunch of our lunch makes its way through our digestive systems! How does our body break down food into energy? This innovative book gives readers an inside look at this essential bodily process. Flowcharts reiterate key concepts at the end of each chapter, allowing readers to visualize and retain complex information in a fun way. Colorful graphics and easy-to-understand language ensure this book is both fun and accessible. Even readers who are reluctant to study science will enjoy this visually rich, playful exploration of the human digestive system. This unique approach to science curriculum materials is sure to make this book a favorite in any library.","English",31.95,23.95,"612.3’2--dc23","48 pp.",{"$f":"Table1[[#This Row],[QTY]]*Table1[[#This Row],['# Books]]","v":0},{"$f":"Table1[[#This Row],[QTY]]*Table1[[#This Row],[S&L Price]]","v":0}]
[null,49,113,"Flowchart Smart",1,"The Science of the Heart and Circulatory System","Library Bound Book",null,"978-1-5382-0693-5",{"$f":"HYPERLINK(\"https://www.garethstevens.com/\"&Table1[[#This Row],[ISBN]],\"Weblink\")","v":"Weblink"},2018,"August 2017","Library","7.250 X 9.250","Author, Author","Louise Spilsbury, Richard Spilsbury",null,null,null,null,"T",null,"Grade 4 - 5","Grade 4 - 6","What makes our hearts pump? How does blood circulate throughout our bodies? Curious readers will love this innovative look at the human heart and circulatory system. Clean, simple flowcharts located at the end of each chapter break down complex processes into bite-sized information. This allows readers to visualize and retain essential curriculum materials while having fun. Colorful graphics and clear language further ensure the accessibility of this important information. Even readers who are reluctant to study science will be eager to explore this unique, visually rich book. All libraries will have a place for this engaging look at the human heart and circulatory system.","English",31.95,23.95,"612.1--dc23","48 pp.",{"$f":"Table1[[#This Row],[QTY]]*Table1[[#This Row],['# Books]]","v":0},{"$f":"Table1[[#This Row],[QTY]]*Table1[[#This Row],[S&L Price]]","v":0}]
[null,49,113,"Flowchart Smart",1,"The Science of the Heart and Circulatory System","eBook",null,"978-1-5382-0691-1",{"$f":"HYPERLINK(\"https://www.garethstevens.com/\"&Table1[[#This Row],[ISBN]],\"Weblink\")","v":"Weblink"},2018,"August 2017",null,null,"Author, Author","Louise Spilsbury, Richard Spilsbury",null,null,null,null,"T",null,"Grade 4 - 5","Grade 4 - 6","What makes our hearts pump? How does blood circulate throughout our bodies? Curious readers will love this innovative look at the human heart and circulatory system. Clean, simple flowcharts located at the end of each chapter break down complex processes into bite-sized information. This allows readers to visualize and retain essential curriculum materials while having fun. Colorful graphics and clear language further ensure the accessibility of this important information. Even readers who are reluctant to study science will be eager to explore this unique, visually rich book. All libraries will have a place for this engaging look at the human heart and circulatory system.","English",31.95,23.95,"612.1--dc23","48 pp.",{"$f":"Table1[[#This Row],[QTY]]*Table1[[#This Row],['# Books]]","v":0},{"$f":"Table1[[#This Row],[QTY]]*Table1[[#This Row],[S&L Price]]","v":0}]
[null,49,113,"Flowchart Smart",1,"The Science of the Lungs and Respiratory System","Library Bound Book",null,"978-1-5382-0694-2",{"$f":"HYPERLINK(\"https://www.garethstevens.com/\"&Table1[[#This Row],[ISBN]],\"Weblink\")","v":"Weblink"},2018,"August 2017","Library","7.250 X 9.250","Author, Author","Louise Spilsbury, Richard Spilsbury",null,null,null,null,"T",null,"Grade 4 - 5","Grade 4 - 6","How does oxygen reach our cells? What does our body do with the carbon dioxide it produces? Each breath we take demonstrates the marvel of the human lungs and respiratory system. This accessible book gives inquisitive readers an inside look at this essential bodily function. Engaging graphics and concise language create a reader-friendly experience that will attract even those who are reluctant to study science materials. Fun, easy-to-follow flowcharts summarize key concepts at the end of each chapter, ensuring that readers are able to visualize and retain essential information. This unique, visually rich approach to learning will make this book stand out in any library.","English",31.95,23.95,"612.2--dc23","48 pp.",{"$f":"Table1[[#This Row],[QTY]]*Table1[[#This Row],['# Books]]","v":0},{"$f":"Table1[[#This Row],[QTY]]*Table1[[#This Row],[S&L Price]]","v":0}]
[null,49,113,"Flowchart Smart",1,"The Science of the Lungs and Respiratory System","eBook",null,"978-1-5382-0690-4",{"$f":"HYPERLINK(\"https://www.garethstevens.com/\"&Table1[[#This Row],[ISBN]],\"Weblink\")","v":"Weblink"},2018,"August 2017",null,null,"Author, Author","Louise Spilsbury, Richard Spilsbury",null,null,null,null,"T",null,"Grade 4 - 5","Grade 4 - 6","How does oxygen reach our cells? What does our body do with the carbon dioxide it produces? Each breath we take demonstrates the marvel of the human lungs and respiratory system. This accessible book gives inquisitive readers an inside look at this essential bodily function. Engaging graphics and concise language create a reader-friendly experience that will attract even those who are reluctant to study science materials. Fun, easy-to-follow flowcharts summarize key concepts at the end of each chapter, ensuring that readers are able to visualize and retain essential information. This unique, visually rich approach to learning will make this book stand out in any library.","English",31.95,23.95,"612.2--dc23","48 pp.",{"$f":"Table1[[#This Row],[QTY]]*Table1[[#This Row],['# Books]]","v":0},{"$f":"Table1[[#This Row],[QTY]]*Table1[[#This Row],[S&L Price]]","v":0}]
[null,49,113,"Flowchart Smart",1,"The Science of the Senses","Library Bound Book",null,"978-1-5382-0695-9",{"$f":"HYPERLINK(\"https://www.garethstevens.com/\"&Table1[[#This Row],[ISBN]],\"Weblink\")","v":"Weblink"},2018,"August 2017","Library","7.250 X 9.250","Author, Author","Louise Spilsbury, Richard Spilsbury",null,null,null,null,"T",null,"Grade 4 - 5","Grade 4 - 6","Taste, touch, sight, hearing, and smell: these five senses help us navigate the world, process information about our surroundings, and stimulate responses in our bodies. Readers will learn the science behind our amazing senses in this innovative book. Each chapter recaps essential information through clean, simple flowcharts. This helps readers visualize and retain crucial material while having fun. Even readers who are reluctant to engage with science curriculum will gravitate to this accessible and intriguing look at the human senses. Colorful graphics, clear language, and a unique format ensure this book will be popular in any library.","English",31.95,23.95,"612.8--dc23","48 pp.",{"$f":"Table1[[#This Row],[QTY]]*Table1[[#This Row],['# Books]]","v":0},{"$f":"Table1[[#This Row],[QTY]]*Table1[[#This Row],[S&L Price]]","v":0}]
[null,49,113,"Flowchart Smart",1,"The Science of the Senses","eBook",null,"978-1-5382-0689-8",{"$f":"HYPERLINK(\"https://www.garethstevens.com/\"&Table1[[#This Row],[ISBN]],\"Weblink\")","v":"Weblink"},2018,"August 2017",null,null,"Author, Author","Louise Spilsbury, Richard Spilsbury",null,null,null,null,"T",null,"Grade 4 - 5","Grade 4 - 6","Taste, touch, sight, hearing, and smell: these five senses help us navigate the world, process information about our surroundings, and stimulate responses in our bodies. Readers will learn the science behind our amazing senses in this innovative book. Each chapter recaps essential information through clean, simple flowcharts. This helps readers visualize and retain crucial material while having fun. Even readers who are reluctant to engage with science curriculum will gravitate to this accessible and intriguing look at the human senses. Colorful graphics, clear language, and a unique format ensure this book will be popular in any library.","English",31.95,23.95,"612.8--dc23","48 pp.",{"$f":"Table1[[#This Row],[QTY]]*Table1[[#This Row],['# Books]]","v":0},{"$f":"Table1[[#This Row],[QTY]]*Table1[[#This Row],[S&L Price]]","v":0}]
[null,49,113,"Flowchart Smart",1,"The Science of the Skeleton and Muscles","Library Bound Book",null,"978-1-5382-0696-6",{"$f":"HYPERLINK(\"https://www.garethstevens.com/\"&Table1[[#This Row],[ISBN]],\"Weblink\")","v":"Weblink"},2018,"August 2017","Library","7.250 X 9.250","Author, Author","Louise Spilsbury, Richard Spilsbury",null,null,null,null,"T",null,"Grade 4 - 5","Grade 4 - 6","Skeletons are more than classic Halloween decor; they’re intricate structures inside every human being. In this innovative book, readers will learn how bones and muscles work together to support the human body and enable its many movements. Fun graphics and easy-to-comprehend language makes this important topic accessible to all readers. Concise flowcharts emphasize key concepts at the end of each chapter, helping readers visualize and retain essential science curriculum material. Even readers who are reluctant to engage with science will enjoy this unique, visually based approach to learning. Any library should have a home for this reader-friendly look at the human skeleton and muscles.","English",31.95,23.95,"611--dc23","48 pp.",{"$f":"Table1[[#This Row],[QTY]]*Table1[[#This Row],['# Books]]","v":0},{"$f":"Table1[[#This Row],[QTY]]*Table1[[#This Row],[S&L Price]]","v":0}]
[null,49,113,"Flowchart Smart",1,"The Science of the Skeleton and Muscles","eBook",null,"978-1-5382-0688-1",{"$f":"HYPERLINK(\"https://www.garethstevens.com/\"&Table1[[#This Row],[ISBN]],\"Weblink\")","v":"Weblink"},2018,"August 2017",null,null,"Author, Author","Louise Spilsbury, Richard Spilsbury",null,null,null,null,"T",null,"Grade 4 - 5","Grade 4 - 6","Skeletons are more than classic Halloween decor; they’re intricate structures inside every human being. In this innovative book, readers will learn how bones and muscles work together to support the human body and enable its many movements. Fun graphics and easy-to-comprehend language makes this important topic accessible to all readers. Concise flowcharts emphasize key concepts at the end of each chapter, helping readers visualize and retain essential science curriculum material. Even readers who are reluctant to engage with science will enjoy this unique, visually based approach to learning. Any library should have a home for this reader-friendly look at the human skeleton and muscles.","English",31.95,23.95,"611--dc23","48 pp.",{"$f":"Table1[[#This Row],[QTY]]*Table1[[#This Row],['# Books]]","v":0},{"$f":"Table1[[#This Row],[QTY]]*Table1[[#This Row],[S&L Price]]","v":0}]
[null,49,112,"Flowchart Smart",1,"The Water Cycle","Library Bound Book",null,"978-1-5382-3480-8",{"$f":"HYPERLINK(\"https://www.garethstevens.com/\"&Table1[[#This Row],[ISBN]],\"Weblink\")","v":"Weblink"},2019,"January 2019","Library","7.250 X 9.250","Author, Author","Richard Spilsbury, Louise Spilsbury",null,null,null,null,"T",null,"Grade 4 - 5","Grade 4 - 6","There is only a certain amount of water on Earth at all times, and it's the same water that's been on Earth for millions of years. That's because of the water cycle. This book explains the major parts of the water cycle, including precipitation and how water is stored on Earth, through both clear, concise main text and colorful, helpful flow charts. Including key subjects to supplement the Earth science curriculum, the main text covers water power, the importance of water to life, and how water is recycled today.","English",31.95,23.95,"551.48--dc23","48 pp.",{"$f":"Table1[[#This Row],[QTY]]*Table1[[#This Row],['# Books]]","v":0},{"$f":"Table1[[#This Row],[QTY]]*Table1[[#This Row],[S&L Price]]","v":0}]
[null,49,112,"Flowchart Smart",1,"The Water Cycle","eBook",null,"978-1-5382-3481-5",{"$f":"HYPERLINK(\"https://www.garethstevens.com/\"&Table1[[#This Row],[ISBN]],\"Weblink\")","v":"Weblink"},2019,"January 2019",null,null,"Author, Author","Richard Spilsbury, Louise Spilsbury",null,null,null,null,"T",null,"Grade 4 - 5","Grade 4 - 6","There is only a certain amount of water on Earth at all times, and it's the same water that's been on Earth for millions of years. That's because of the water cycle. This book explains the major parts of the water cycle, including precipitation and how water is stored on Earth, through both clear, concise main text and colorful, helpful flow charts. Including key subjects to supplement the Earth science curriculum, the main text covers water power, the importance of water to life, and how water is recycled today.","English",31.95,23.95,"551.48--dc23","48 pp.",{"$f":"Table1[[#This Row],[QTY]]*Table1[[#This Row],['# Books]]","v":0},{"$f":"Table1[[#This Row],[QTY]]*Table1[[#This Row],[S&L Price]]","v":0}]
[null,49,112,"Flowchart Smart",1,"Weather and Seasons","Library Bound Book",null,"978-1-5382-3483-9",{"$f":"HYPERLINK(\"https://www.garethstevens.com/\"&Table1[[#This Row],[ISBN]],\"Weblink\")","v":"Weblink"},2019,"January 2019","Library","7.250 X 9.250","Author, Author","Richard Spilsbury, Louise Spilsbury",null,null,null,null,"T",null,"Grade 4 - 5","Grade 4 - 6","The \"greenhouse effect\" is a buzz-worthy phrase today, but how it works is often misunderstood. A flowchart is the perfect way to clear the air of how the greenhouse effect keeps Earth warm, sometimes too warm! In this book, readers can find out all about Earth's atmosphere, the seasons, winds, and even extreme weather through engaging chapters on these important Earth science topics. Each colorful flowchart improves readers' understanding, particularly those who learn best using visual aids. Full-color photographs add even more interest as they correlate to the curriculum-supporting main text.","English",31.95,23.95,"551.5--dc23","48 pp.",{"$f":"Table1[[#This Row],[QTY]]*Table1[[#This Row],['# Books]]","v":0},{"$f":"Table1[[#This Row],[QTY]]*Table1[[#This Row],[S&L Price]]","v":0}]
[null,49,112,"Flowchart Smart",1,"Weather and Seasons","eBook",null,"978-1-5382-3484-6",{"$f":"HYPERLINK(\"https://www.garethstevens.com/\"&Table1[[#This Row],[ISBN]],\"Weblink\")","v":"Weblink"},2019,"January 2019",null,null,"Author, Author","Richard Spilsbury, Louise Spilsbury",null,null,null,null,"T",null,"Grade 4 - 5","Grade 4 - 6","The \"greenhouse effect\" is a buzz-worthy phrase today, but how it works is often misunderstood. A flowchart is the perfect way to clear the air of how the greenhouse effect keeps Earth warm, sometimes too warm! In this book, readers can find out all about Earth's atmosphere, the seasons, winds, and even extreme weather through engaging chapters on these important Earth science topics. Each colorful flowchart improves readers' understanding, particularly those who learn best using visual aids. Full-color photographs add even more interest as they correlate to the curriculum-supporting main text.","English",31.95,23.95,"551.5--dc23","48 pp.",{"$f":"Table1[[#This Row],[QTY]]*Table1[[#This Row],['# Books]]","v":0},{"$f":"Table1[[#This Row],[QTY]]*Table1[[#This Row],[S&L Price]]","v":0}]
[null,50,137,"World's Weirdest Plants",12,"World's Weirdest Plants (Set of 12 Titles)","Library Set",null,"978-1-5382-4902-4",{"$f":"HYPERLINK(\"https://www.garethstevens.com/\"&Table1[[#This Row],[ISBN]],\"Weblink\")","v":"Weblink"},2020,"January 2020","Library","8.500 X 8.500","","",null,null,null,null,null,null,"Grade 2 - 3","Grade 2 - 5","The Venus flytrap is famous for luring in and eating bugs and small animals. However, it isn't the only carnivorous plant. The pitcher plant makes sweet nectar that draws insects in to their doom. Readers with a green thumb and an eye for the weird will love learning about the odd members of the plant world, including the ruthless banyan tree, the smelly dragon arum, and underwater forests made of kelp. Each plant's habitat, unique traits, and prey are included in the main content, which is written in accessible language for curious elementary readers. Features include: Engages readers with a new way of looking at plants and their life cycles while also addressing an important part of the science curriculum. Photographs allow readers to view uncommon plants up close in full color and detail. Full-page diagrams of each plant highlight special structures, as well as those common to most plants.","English",271.2,203.4,null,"24 pp.",{"$f":"Table1[[#This Row],[QTY]]*Table1[[#This Row],['# Books]]","v":0},{"$f":"Table1[[#This Row],[QTY]]*Table1[[#This Row],[S&L Price]]","v":0}]
[null,50,137,"World's Weirdest Plants",6,"World's Weirdest Plants (Set of 6 NEW Titles)","Library Set",null,"978-1-5382-4899-7",{"$f":"HYPERLINK(\"https://www.garethstevens.com/\"&Table1[[#This Row],[ISBN]],\"Weblink\")","v":"Weblink"},2020,"January 2020","Library","8.500 X 8.500","","",null,null,null,null,null,null,"Grade 2 - 3","Grade 2 - 5","Banyan trees are often known by another name: strangler figs. They are just one kind of fig tree that grows around the trunk of another tree, competing for resources with their host. They're only one of the bizarre plants readers can learn about in this continuation of our popular series. From trees that put out chemicals for protection to sneaky bladderworts and their vacuum traps, these subjects draw readers into the amazing world of plants through fascinating facts and full-color images. Including full-page diagrams of each plant, each book supports classroom learning about plant parts and plant life cycles. Features include: Photographs that allow readers to view uncommon plants up close in full color. Promotes understanding of different habitats where plants can be found. Draws in developing readers with unique plant characteristics and details.","English",135.6,101.7,null,"24 pp.",{"$f":"Table1[[#This Row],[QTY]]*Table1[[#This Row],['# Books]]","v":0},{"$f":"Table1[[#This Row],[QTY]]*Table1[[#This Row],[S&L Price]]","v":0}]
[null,50,137,"World's Weirdest Plants",1,"African Acacia Trees Protect Themselves!","Library Bound Book",null,"978-1-5382-4628-3",{"$f":"HYPERLINK(\"https://www.garethstevens.com/\"&Table1[[#This Row],[ISBN]],\"Weblink\")","v":"Weblink"},2020,"January 2020","Library","8.500 X 8.500","Author","Janey Levy",null,null,null,null,"M",null,"Grade 2 - 3","Grade 2 - 5","Many animals munch on the leaves of a tree for sustenance. However, the African acacia absolutely objects to being eaten. They've developed several clever ways to protect themselves, including thorns, chemical defenses, and ant guards. Readers of this absorbing volume will discover fascinating facts about this unusual tree, including what kind of chemical defenses it has and how it uses its ant guards. Age-appropriate text highlights important elementary science concepts, while colorful images help readers closely examine a tree they may never see in real life. Fact boxes share fun tidbits and a graphic organizer enriches the main text.","English",22.6,16.95,"583/.633--dc23","24 pp.",{"$f":"Table1[[#This Row],[QTY]]*Table1[[#This Row],['# Books]]","v":0},{"$f":"Table1[[#This Row],[QTY]]*Table1[[#This Row],[S&L Price]]","v":0}]
[null,50,137,"World's Weirdest Plants",1,"African Acacia Trees Protect Themselves!","eBook",null,"978-1-5382-4629-0",{"$f":"HYPERLINK(\"https://www.garethstevens.com/\"&Table1[[#This Row],[ISBN]],\"Weblink\")","v":"Weblink"},2020,"January 2020",null,null,"Author","Janey Levy",null,null,null,null,"M",null,"Grade 2 - 3","Grade 2 - 5","Many animals munch on the leaves of a tree for sustenance. However, the African acacia absolutely objects to being eaten. They've developed several clever ways to protect themselves, including thorns, chemical defenses, and ant guards. Readers of this absorbing volume will discover fascinating facts about this unusual tree, including what kind of chemical defenses it has and how it uses its ant guards. Age-appropriate text highlights important elementary science concepts, while colorful images help readers closely examine a tree they may never see in real life. Fact boxes share fun tidbits and a graphic organizer enriches the main text.","English",22.6,16.95,"583/.633--dc23","24 pp.",{"$f":"Table1[[#This Row],[QTY]]*Table1[[#This Row],['# Books]]","v":0},{"$f":"Table1[[#This Row],[QTY]]*Table1[[#This Row],[S&L Price]]","v":0}]
[null,50,137,"World's Weirdest Plants",1,"Banyan Trees Strangle Their Host!","Library Bound Book",null,"978-1-5382-4632-0",{"$f":"HYPERLINK(\"https://www.garethstevens.com/\"&Table1[[#This Row],[ISBN]],\"Weblink\")","v":"Weblink"},2020,"January 2020","Library","8.500 X 8.500","Author","Janey Levy",null,null,null,null,"M",null,"Grade 2 - 3","Grade 2 - 5","Banyan trees are fig trees that are often known by another name: strangler figs. There's a good reason for that; the seeds land on other trees and sprout there, sending down roots that slowly strangle the host tree. Readers of this absorbing volume will discover fascinating facts about this odd plant, including how it grows and its ecological importance. Age-appropriate text addresses important elementary science concepts, while colorful images enliven the narrative. Fact boxes summarize interesting information and a graphic organizer enriches essential concepts.","English",22.6,16.95,"583/.648--dc23","24 pp.",{"$f":"Table1[[#This Row],[QTY]]*Table1[[#This Row],['# Books]]","v":0},{"$f":"Table1[[#This Row],[QTY]]*Table1[[#This Row],[S&L Price]]","v":0}]
[null,50,137,"World's Weirdest Plants",1,"Banyan Trees Strangle Their Host!","eBook",null,"978-1-5382-4633-7",{"$f":"HYPERLINK(\"https://www.garethstevens.com/\"&Table1[[#This Row],[ISBN]],\"Weblink\")","v":"Weblink"},2020,"January 2020",null,null,"Author","Janey Levy",null,null,null,null,"M",null,"Grade 2 - 3","Grade 2 - 5","Banyan trees are fig trees that are often known by another name: strangler figs. There's a good reason for that; the seeds land on other trees and sprout there, sending down roots that slowly strangle the host tree. Readers of this absorbing volume will discover fascinating facts about this odd plant, including how it grows and its ecological importance. Age-appropriate text addresses important elementary science concepts, while colorful images enliven the narrative. Fact boxes summarize interesting information and a graphic organizer enriches essential concepts.","English",22.6,16.95,"583/.648--dc23","24 pp.",{"$f":"Table1[[#This Row],[QTY]]*Table1[[#This Row],['# Books]]","v":0},{"$f":"Table1[[#This Row],[QTY]]*Table1[[#This Row],[S&L Price]]","v":0}]
[null,50,137,"World's Weirdest Plants",1,"Bladderworts Have a Vacuum Trap!","Library Bound Book",null,"978-1-5382-4636-8",{"$f":"HYPERLINK(\"https://www.garethstevens.com/\"&Table1[[#This Row],[ISBN]],\"Weblink\")","v":"Weblink"},2020,"January 2020","Library","8.500 X 8.500","Author","Janey Levy",null,null,null,null,"M",null,"Grade 2 - 3","Grade 2 - 5","Plants are the starting point in most food chains. Carnivorous plants, however, buck the natural order system. Bladderworts belong to this group of plants, and they have a unique method for capturing prey: a vacuum trap. Readers will discover intriguing facts about this unusual plant, including where it's found, how its trap works, and how fast the trap works. Age-appropriate text addresses important elementary science concepts, while colorful images enliven and support the narrative. Go-to fact boxes share fun tidbits and a graphic organizer helps readers visually digest the new information they're learning about this clever, interesting tree.","English",22.6,16.95,"583/.96--dc23","24 pp.",{"$f":"Table1[[#This Row],[QTY]]*Table1[[#This Row],['# Books]]","v":0},{"$f":"Table1[[#This Row],[QTY]]*Table1[[#This Row],[S&L Price]]","v":0}]
[null,50,137,"World's Weirdest Plants",1,"Bladderworts Have a Vacuum Trap!","eBook",null,"978-1-5382-4637-5",{"$f":"HYPERLINK(\"https://www.garethstevens.com/\"&Table1[[#This Row],[ISBN]],\"Weblink\")","v":"Weblink"},2020,"January 2020",null,null,"Author","Janey Levy",null,null,null,null,"M",null,"Grade 2 - 3","Grade 2 - 5","Plants are the starting point in most food chains. Carnivorous plants, however, buck the natural order system. Bladderworts belong to this group of plants, and they have a unique method for capturing prey: a vacuum trap. Readers will discover intriguing facts about this unusual plant, including where it's found, how its trap works, and how fast the trap works. Age-appropriate text addresses important elementary science concepts, while colorful images enliven and support the narrative. Go-to fact boxes share fun tidbits and a graphic organizer helps readers visually digest the new information they're learning about this clever, interesting tree.","English",22.6,16.95,"583/.96--dc23","24 pp.",{"$f":"Table1[[#This Row],[QTY]]*Table1[[#This Row],['# Books]]","v":0},{"$f":"Table1[[#This Row],[QTY]]*Table1[[#This Row],[S&L Price]]","v":0}]
[null,50,137,"World's Weirdest Plants",1,"Dragon Arum Smells Awful!","Library Bound Book",null,"978-1-5382-4640-5",{"$f":"HYPERLINK(\"https://www.garethstevens.com/\"&Table1[[#This Row],[ISBN]],\"Weblink\")","v":"Weblink"},2020,"January 2020","Library","8.500 X 8.500","Author","Janey Levy",null,null,null,null,"M",null,"Grade 2 - 3","Grade 2 - 5","When we think of flowering plants, we generally imagine those with a pleasant fragrance that draw bees to pollinate them. Introduce your readers to the dragon arum, which is pollinated by flies that prefer the smell of rotting meat to that of sweet nectar. Readers of this absorbing volume will learn fascinating facts about this strange plant, including what it looks like and where it grows, in addition to the reason for its awful odor. Accessible text highlights important elementary science concepts, and vivid images help readers closely examine a plant they may never get to see in real life. Fact boxes provide perfect report-writing data and a graphic organizer enhances the learning experience.","English",22.6,16.95,"584/.442--dc23","24 pp.",{"$f":"Table1[[#This Row],[QTY]]*Table1[[#This Row],['# Books]]","v":0},{"$f":"Table1[[#This Row],[QTY]]*Table1[[#This Row],[S&L Price]]","v":0}]
[null,50,137,"World's Weirdest Plants",1,"Dragon Arum Smells Awful!","eBook",null,"978-1-5382-4641-2",{"$f":"HYPERLINK(\"https://www.garethstevens.com/\"&Table1[[#This Row],[ISBN]],\"Weblink\")","v":"Weblink"},2020,"January 2020",null,null,"Author","Janey Levy",null,null,null,null,"M",null,"Grade 2 - 3","Grade 2 - 5","When we think of flowering plants, we generally imagine those with a pleasant fragrance that draw bees to pollinate them. Introduce your readers to the dragon arum, which is pollinated by flies that prefer the smell of rotting meat to that of sweet nectar. Readers of this absorbing volume will learn fascinating facts about this strange plant, including what it looks like and where it grows, in addition to the reason for its awful odor. Accessible text highlights important elementary science concepts, and vivid images help readers closely examine a plant they may never get to see in real life. Fact boxes provide perfect report-writing data and a graphic organizer enhances the learning experience.","English",22.6,16.95,"584/.442--dc23","24 pp.",{"$f":"Table1[[#This Row],[QTY]]*Table1[[#This Row],['# Books]]","v":0},{"$f":"Table1[[#This Row],[QTY]]*Table1[[#This Row],[S&L Price]]","v":0}]
[null,50,137,"World's Weirdest Plants",1,"Dragon's Blood Trees Bleed!","Library Bound Book",null,"978-1-5382-4644-3",{"$f":"HYPERLINK(\"https://www.garethstevens.com/\"&Table1[[#This Row],[ISBN]],\"Weblink\")","v":"Weblink"},2020,"January 2020","Library","8.500 X 8.500","Author","Janey Levy",null,null,null,null,"M",null,"Grade 2 - 3","Grade 2 - 5","Trees are familiar and lovely signs of life for most people, including fruit trees, evergreens, and colorful maple trees in autumn. Sometimes they're so ubiquitous, we don't even notice them. Entice your readers with one of the world's most unusual, attention-grabbing trees: the dragon's blood tree. Explorers will learn about this strange tree, including the source of its name, where it's found, and its uses. Age-appropriate text covers important science concepts and vivid images take readers up-close to a tree they may never see in real life. Fact boxes and a graphic organizer enhance the narrative.","English",22.6,16.95,"584/.79--dc23","24 pp.",{"$f":"Table1[[#This Row],[QTY]]*Table1[[#This Row],['# Books]]","v":0},{"$f":"Table1[[#This Row],[QTY]]*Table1[[#This Row],[S&L Price]]","v":0}]
[null,50,137,"World's Weirdest Plants",1,"Dragon's Blood Trees Bleed!","eBook",null,"978-1-5382-4645-0",{"$f":"HYPERLINK(\"https://www.garethstevens.com/\"&Table1[[#This Row],[ISBN]],\"Weblink\")","v":"Weblink"},2020,"January 2020",null,null,"Author","Janey Levy",null,null,null,null,"M",null,"Grade 2 - 3","Grade 2 - 5","Trees are familiar and lovely signs of life for most people, including fruit trees, evergreens, and colorful maple trees in autumn. Sometimes they're so ubiquitous, we don't even notice them. Entice your readers with one of the world's most unusual, attention-grabbing trees: the dragon's blood tree. Explorers will learn about this strange tree, including the source of its name, where it's found, and its uses. Age-appropriate text covers important science concepts and vivid images take readers up-close to a tree they may never see in real life. Fact boxes and a graphic organizer enhance the narrative.","English",22.6,16.95,"584/.79--dc23","24 pp.",{"$f":"Table1[[#This Row],[QTY]]*Table1[[#This Row],['# Books]]","v":0},{"$f":"Table1[[#This Row],[QTY]]*Table1[[#This Row],[S&L Price]]","v":0}]
[null,50,137,"World's Weirdest Plants",1,"Mangroves Grow in Salt Water!","Library Bound Book",null,"978-1-5382-4648-1",{"$f":"HYPERLINK(\"https://www.garethstevens.com/\"&Table1[[#This Row],[ISBN]],\"Weblink\")","v":"Weblink"},2020,"January 2020","Library","8.500 X 8.500","Author","Janey Levy",null,null,null,null,"M",null,"Grade 2 - 3","Grade 2 - 5","Few people would think of watering their garden or houseplants with salt water because it would be deadly, but mangroves are extraordinary plants that are able to thrive in salt water. Readers of this absorbing volume will discover fascinating information about this strange tree, including how it's able to grow in salt water, its importance in its ecosystem, and the threats it faces in the world today. Age-appropriate text addresses important elementary science concepts, while vibrant images enliven and support the narrative. A graphic organizer enriches the learning experience and fast fact boxes share additional, interesting information.","English",22.6,16.95,"583/.69--dc23","24 pp.",{"$f":"Table1[[#This Row],[QTY]]*Table1[[#This Row],['# Books]]","v":0},{"$f":"Table1[[#This Row],[QTY]]*Table1[[#This Row],[S&L Price]]","v":0}]
[null,50,137,"World's Weirdest Plants",1,"Mangroves Grow in Salt Water!","eBook",null,"978-1-5382-4649-8",{"$f":"HYPERLINK(\"https://www.garethstevens.com/\"&Table1[[#This Row],[ISBN]],\"Weblink\")","v":"Weblink"},2020,"January 2020",null,null,"Author","Janey Levy",null,null,null,null,"M",null,"Grade 2 - 3","Grade 2 - 5","Few people would think of watering their garden or houseplants with salt water because it would be deadly, but mangroves are extraordinary plants that are able to thrive in salt water. Readers of this absorbing volume will discover fascinating information about this strange tree, including how it's able to grow in salt water, its importance in its ecosystem, and the threats it faces in the world today. Age-appropriate text addresses important elementary science concepts, while vibrant images enliven and support the narrative. A graphic organizer enriches the learning experience and fast fact boxes share additional, interesting information.","English",22.6,16.95,"583/.69--dc23","24 pp.",{"$f":"Table1[[#This Row],[QTY]]*Table1[[#This Row],['# Books]]","v":0},{"$f":"Table1[[#This Row],[QTY]]*Table1[[#This Row],[S&L Price]]","v":0}]
[null,50,137,"World's Weirdest Plants",1,"Bristlecone Pines Are Ancient!","Library Bound Book",null,"978-1-4824-5601-1",{"$f":"HYPERLINK(\"https://www.garethstevens.com/\"&Table1[[#This Row],[ISBN]],\"Weblink\")","v":"Weblink"},2017,"January 2017","Library","8.500 X 8.500","Author","Patricia Fletcher","5.1","0.5",null,null,"L",null,"Grade 2 - 3","Grade 2 - 5","One of the oldest trees on our planet is named Methuselah. It’s almost 5,000 years old—and it’s a bristlecone pine tree. This book draws readers into the ancient world through the life cycle of the bristlecone pine tree. Its main features, habitat, and more are described in intriguing detail, including how it can live such a long time. Full-color photographs and fact boxes augment the main science content with fun facts and beautiful images of the majestic bristlecone pine.","English",22.6,16.95,"585/.2--dc23","24 pp.",{"$f":"Table1[[#This Row],[QTY]]*Table1[[#This Row],['# Books]]","v":0},{"$f":"Table1[[#This Row],[QTY]]*Table1[[#This Row],[S&L Price]]","v":0}]
[null,50,137,"World's Weirdest Plants",1,"Bristlecone Pines Are Ancient!","eBook",null,"978-1-4824-5602-8",{"$f":"HYPERLINK(\"https://www.garethstevens.com/\"&Table1[[#This Row],[ISBN]],\"Weblink\")","v":"Weblink"},2017,"January 2017",null,null,"Author","Patricia Fletcher","5.1","0.5",null,null,"L",null,"Grade 2 - 3","Grade 2 - 5","One of the oldest trees on our planet is named Methuselah. It’s almost 5,000 years old—and it’s a bristlecone pine tree. This book draws readers into the ancient world through the life cycle of the bristlecone pine tree. Its main features, habitat, and more are described in intriguing detail, including how it can live such a long time. Full-color photographs and fact boxes augment the main science content with fun facts and beautiful images of the majestic bristlecone pine.","English",22.6,16.95,"585/.2--dc23","24 pp.",{"$f":"Table1[[#This Row],[QTY]]*Table1[[#This Row],['# Books]]","v":0},{"$f":"Table1[[#This Row],[QTY]]*Table1[[#This Row],[S&L Price]]","v":0}]
[null,50,137,"World's Weirdest Plants",1,"Cacti Barely Need Water!","Library Bound Book",null,"978-1-4824-5605-9",{"$f":"HYPERLINK(\"https://www.garethstevens.com/\"&Table1[[#This Row],[ISBN]],\"Weblink\")","v":"Weblink"},2017,"January 2017","Library","8.500 X 8.500","Author","Tayler Cole","4.8","0.5",null,null,"L",null,"Grade 2 - 3","Grade 2 - 5","Deserts aren’t home to many plants. Those that live in such dry, hot environments need to have special adaptations to thrive. The many kinds of cacti do! Readers explore the ways cacti conserve water, their unique habitats, and the features that make them a weird plant, compared to the tulips in your garden! From spines to flowers, full-color photographs and a plant diagram show readers what many species of cacti look like. The main content covers many topics included in the science curriculum, including plant life cycles and structures.","English",22.6,16.95,"583’.56--dc23","24 pp.",{"$f":"Table1[[#This Row],[QTY]]*Table1[[#This Row],['# Books]]","v":0},{"$f":"Table1[[#This Row],[QTY]]*Table1[[#This Row],[S&L Price]]","v":0}]
[null,50,137,"World's Weirdest Plants",1,"Cacti Barely Need Water!","eBook",null,"978-1-4824-5606-6",{"$f":"HYPERLINK(\"https://www.garethstevens.com/\"&Table1[[#This Row],[ISBN]],\"Weblink\")","v":"Weblink"},2017,"January 2017",null,null,"Author","Tayler Cole","4.8","0.5",null,null,"L",null,"Grade 2 - 3","Grade 2 - 5","Deserts aren’t home to many plants. Those that live in such dry, hot environments need to have special adaptations to thrive. The many kinds of cacti do! Readers explore the ways cacti conserve water, their unique habitats, and the features that make them a weird plant, compared to the tulips in your garden! From spines to flowers, full-color photographs and a plant diagram show readers what many species of cacti look like. The main content covers many topics included in the science curriculum, including plant life cycles and structures.","English",22.6,16.95,"583’.56--dc23","24 pp.",{"$f":"Table1[[#This Row],[QTY]]*Table1[[#This Row],['# Books]]","v":0},{"$f":"Table1[[#This Row],[QTY]]*Table1[[#This Row],[S&L Price]]","v":0}]
[null,50,137,"World's Weirdest Plants",1,"Corpse Flowers Smell Nasty!","Library Bound Book",null,"978-1-4824-5610-3",{"$f":"HYPERLINK(\"https://www.garethstevens.com/\"&Table1[[#This Row],[ISBN]],\"Weblink\")","v":"Weblink"},2017,"January 2017","Library","8.500 X 8.500","Author","Tayler Cole","5.1","0.5",null,null,"L",null,"Grade 2 - 3","Grade 2 - 5","The huge corpse flower rarely blooms. When it does, it gives off a strong smell—the smell of a rotting corpse! The gross smell has a purpose, however. Readers learn that the stink of the corpse flower has everything to do with a main subject of the science curriculum: pollination. Other science topics covered include plant life cycles and structures. Fact boxes add even more intriguing information about this weird plant while full-color photographs offer readers an up-close look at a unique flower.","English",22.6,16.95,"584/.64--dc23","24 pp.",{"$f":"Table1[[#This Row],[QTY]]*Table1[[#This Row],['# Books]]","v":0},{"$f":"Table1[[#This Row],[QTY]]*Table1[[#This Row],[S&L Price]]","v":0}]
[null,50,137,"World's Weirdest Plants",1,"Corpse Flowers Smell Nasty!","eBook",null,"978-1-4824-5611-0",{"$f":"HYPERLINK(\"https://www.garethstevens.com/\"&Table1[[#This Row],[ISBN]],\"Weblink\")","v":"Weblink"},2017,"January 2017",null,null,"Author","Tayler Cole","5.1","0.5",null,null,"L",null,"Grade 2 - 3","Grade 2 - 5","The huge corpse flower rarely blooms. When it does, it gives off a strong smell—the smell of a rotting corpse! The gross smell has a purpose, however. Readers learn that the stink of the corpse flower has everything to do with a main subject of the science curriculum: pollination. Other science topics covered include plant life cycles and structures. Fact boxes add even more intriguing information about this weird plant while full-color photographs offer readers an up-close look at a unique flower.","English",22.6,16.95,"584/.64--dc23","24 pp.",{"$f":"Table1[[#This Row],[QTY]]*Table1[[#This Row],['# Books]]","v":0},{"$f":"Table1[[#This Row],[QTY]]*Table1[[#This Row],[S&L Price]]","v":0}]
[null,50,137,"World's Weirdest Plants",1,"Kelp: The Underwater Forest!","Library Bound Book",null,"978-1-4824-5628-8",{"$f":"HYPERLINK(\"https://www.garethstevens.com/\"&Table1[[#This Row],[ISBN]],\"Weblink\")","v":"Weblink"},2017,"January 2017","Library","8.500 X 8.500","Author","Patricia Fletcher","5.3","0.5",null,null,"L","NC","Grade 2 - 3","Grade 2 - 5","Forests can be found all over the world, including underwater! Giant kelp forests grow in coastal waters where the water is very clear so sunlight can reach the sea floor. Kelp can grow up to 18 inches a day if the conditions are right, meaning kelp forests can spring up quickly! Full-color photographs and accessible language take readers under the sea to discover the kelp forests. Information about photosynthesis, habitats, and plant structures supplement what readers learn about plants in science class. Fun fact boxes give readers even more information about kelp and its role in the ocean biome.","English",22.6,16.95,"577.7'8--dc23","24 pp.",{"$f":"Table1[[#This Row],[QTY]]*Table1[[#This Row],['# Books]]","v":0},{"$f":"Table1[[#This Row],[QTY]]*Table1[[#This Row],[S&L Price]]","v":0}]
[null,50,137,"World's Weirdest Plants",1,"Kelp: The Underwater Forest!","eBook",null,"978-1-4824-5630-1",{"$f":"HYPERLINK(\"https://www.garethstevens.com/\"&Table1[[#This Row],[ISBN]],\"Weblink\")","v":"Weblink"},2017,"January 2017",null,null,"Author","Patricia Fletcher","5.3","0.5",null,null,"L","NC","Grade 2 - 3","Grade 2 - 5","Forests can be found all over the world, including underwater! Giant kelp forests grow in coastal waters where the water is very clear so sunlight can reach the sea floor. Kelp can grow up to 18 inches a day if the conditions are right, meaning kelp forests can spring up quickly! Full-color photographs and accessible language take readers under the sea to discover the kelp forests. Information about photosynthesis, habitats, and plant structures supplement what readers learn about plants in science class. Fun fact boxes give readers even more information about kelp and its role in the ocean biome.","English",22.6,16.95,"577.7’8--dc23","24 pp.",{"$f":"Table1[[#This Row],[QTY]]*Table1[[#This Row],['# Books]]","v":0},{"$f":"Table1[[#This Row],[QTY]]*Table1[[#This Row],[S&L Price]]","v":0}]
[null,50,137,"World's Weirdest Plants",1,"Pitcher Plants Eat Meat!","Library Bound Book",null,"978-1-4824-5636-3",{"$f":"HYPERLINK(\"https://www.garethstevens.com/\"&Table1[[#This Row],[ISBN]],\"Weblink\")","v":"Weblink"},2017,"January 2017","Library","8.500 X 8.500","Author","Barbara M. Linde","4.6","0.5",null,null,"L",null,"Grade 2 - 3","Grade 2 - 5","Plants only make their own food—right? Not pitcher plants! Most pitcher plants draw in insects with their sweet-smelling nectar and slowly digest them. There is one kind of pitcher plant that likes to snack on tree shrews, too. The bizarre eating habits of the pitcher plant are sure to fascinate and delight readers as they learn how this plant’s digestive system works, its habitat, and more. Full-color photographs and a simple diagram allow readers to see clearly the unique structures of this weird plant.","English",22.6,16.95,"581.6--dc23","24 pp.",{"$f":"Table1[[#This Row],[QTY]]*Table1[[#This Row],['# Books]]","v":0},{"$f":"Table1[[#This Row],[QTY]]*Table1[[#This Row],[S&L Price]]","v":0}]
[null,50,137,"World's Weirdest Plants",1,"Pitcher Plants Eat Meat!","eBook",null,"978-1-4824-5638-7",{"$f":"HYPERLINK(\"https://www.garethstevens.com/\"&Table1[[#This Row],[ISBN]],\"Weblink\")","v":"Weblink"},2017,"January 2017",null,null,"Author","Barbara M. Linde","4.6","0.5",null,null,"L",null,"Grade 2 - 3","Grade 2 - 5","Plants only make their own food—right? Not pitcher plants! Most pitcher plants draw in insects with their sweet-smelling nectar and slowly digest them. There is one kind of pitcher plant that likes to snack on tree shrews, too. The bizarre eating habits of the pitcher plant are sure to fascinate and delight readers as they learn how this plant’s digestive system works, its habitat, and more. Full-color photographs and a simple diagram allow readers to see clearly the unique structures of this weird plant.","English",22.6,16.95,"581.6--dc23","24 pp.",{"$f":"Table1[[#This Row],[QTY]]*Table1[[#This Row],['# Books]]","v":0},{"$f":"Table1[[#This Row],[QTY]]*Table1[[#This Row],[S&L Price]]","v":0}]
[null,50,137,"World's Weirdest Plants",1,"Venus Flytraps Eat Bugs!","Library Bound Book",null,"978-1-4824-5643-1",{"$f":"HYPERLINK(\"https://www.garethstevens.com/\"&Table1[[#This Row],[ISBN]],\"Weblink\")","v":"Weblink"},2017,"January 2017","Library","8.500 X 8.500","Author","Barbara M. Linde","4.5","0.5",null,null,"L",null,"Grade 2 - 3","Grade 2 - 5","Triggering a Venus flytrap takes the lightest touch from an insect’s wing or a spider’s legs. Unlike many plants, the Venus flytrap doesn’t only get nutrition from photosynthesis. Readers learn all about how the Venus flytrap draws in bugs to eat, as well as how they’re digested by the plant. The main content includes science curriculum information such as plant structures, habitat facts, and other unique elements of this plant’s life cycle. Fun fact boxes and full-color photographs provide readers with the juicy details of how the trap works and what it looks like in action.","English",22.6,16.95,"597.92’4--dc23","24 pp.",{"$f":"Table1[[#This Row],[QTY]]*Table1[[#This Row],['# Books]]","v":0},{"$f":"Table1[[#This Row],[QTY]]*Table1[[#This Row],[S&L Price]]","v":0}]
[null,50,137,"World's Weirdest Plants",1,"Venus Flytraps Eat Bugs!","eBook",null,"978-1-4824-5644-8",{"$f":"HYPERLINK(\"https://www.garethstevens.com/\"&Table1[[#This Row],[ISBN]],\"Weblink\")","v":"Weblink"},2017,"January 2017",null,null,"Author","Barbara M. Linde","4.5","0.5",null,null,"L",null,"Grade 2 - 3","Grade 2 - 5","Triggering a Venus flytrap takes the lightest touch from an insect’s wing or a spider’s legs. Unlike many plants, the Venus flytrap doesn’t only get nutrition from photosynthesis. Readers learn all about how the Venus flytrap draws in bugs to eat, as well as how they’re digested by the plant. The main content includes science curriculum information such as plant structures, habitat facts, and other unique elements of this plant’s life cycle. Fun fact boxes and full-color photographs provide readers with the juicy details of how the trap works and what it looks like in action.","English",22.6,16.95,"597.92’4--dc23","24 pp.",{"$f":"Table1[[#This Row],[QTY]]*Table1[[#This Row],['# Books]]","v":0},{"$f":"Table1[[#This Row],[QTY]]*Table1[[#This Row],[S&L Price]]","v":0}]
[null,51,null,"Engineering Our World",12,"Engineering Our World (Set of 12 Titles)","Library Set",null,"978-1-5382-4908-6",{"$f":"HYPERLINK(\"https://www.garethstevens.com/\"&Table1[[#This Row],[ISBN]],\"Weblink\")","v":"Weblink"},2021,"August 2020","Library","8.500 X 8.500","","",null,null,null,null,null,null,"Grade 2 - 3","Grade 2 - 5","Nature produces incredible creations, but man-made structures can be truly marvelous. This STEM-related collection guides young engineers through the start-to-finish process of making important and interesting objects such as bridges, computers, satellites, and roller coasters. Along the way, they'll learn key concepts of construction, technology, and science as well as applicable vocabulary. Inspiring photographs will make them consider their own futures as engineers. Features include: Supports STEM concepts as well as introduces readers to STEM careers. Achievable activities for readers to exercise their own engineering skills. Provides opportunities for examining informational text elements, an important facet of the Common Core English Language Arts Standards.\n","English",271.2,203.4,null,"24 pp.",{"$f":"Table1[[#This Row],[QTY]]*Table1[[#This Row],['# Books]]","v":0},{"$f":"Table1[[#This Row],[QTY]]*Table1[[#This Row],[S&L Price]]","v":0}]
[null,51,null,"Engineering Our World",6,"Engineering Our World (Set of 6 NEW Titles)","Library Set",null,"978-1-5382-4907-9",{"$f":"HYPERLINK(\"https://www.garethstevens.com/\"&Table1[[#This Row],[ISBN]],\"Weblink\")","v":"Weblink"},2021,"August 2020","Library","8.500 X 8.500","","",null,null,null,null,null,null,"Grade 2 - 3","Grade 2 - 5","Some things we take for granted are really amazing engineering accomplishments, like the roof over our heads. This inviting set encourages young engineers to consider aspects of engineering that help make certain structures possible, such as a house, an aircraft carrier, a submarine, and a roller coaster. Readers will come to understand the process of construction, from an idea to the finishing touches, through comprehensible text and accompanying images. Fact boxes supply further fascinating information about the high-interest topics. Features include: Concluding, step-by-step projects that readers can complete to better understand key engineering concepts. Supports STEM curricula in combination with appealing subjects. Supports understanding the steps of a technical procedure in a text (an ELA standard).","English",135.6,101.7,null,"24 pp.",{"$f":"Table1[[#This Row],[QTY]]*Table1[[#This Row],['# Books]]","v":0},{"$f":"Table1[[#This Row],[QTY]]*Table1[[#This Row],[S&L Price]]","v":0}]
[null,51,null,"Engineering Our World",1,"How a Dam Is Built","Library Bound Book",null,"978-1-5382-4700-6",{"$f":"HYPERLINK(\"https://www.garethstevens.com/\"&Table1[[#This Row],[ISBN]],\"Weblink\")","v":"Weblink"},2021,"August 2020","Library","8.500 X 8.500","Author","Elizabeth Krajnik",null,null,null,null,"L",null,"Grade 2 - 3","Grade 2 - 5","Dams are important engineering marvels. However, if not built correctly, dams can cause catastrophic damage to our buildings, land developments, and the natural world. With this book, readers will learn about the different types of dams, the materials needed to build them, the steps to preparing the dam site before construction begins, and the designing process. Readers explore the many benefits of dams, such as harnessing the power of water to create electricity and diverting water for irrigation. A step-by-step project helps young engineers conceptualize how much work is involved in building a dam and how important they truly are.","English",22.6,16.95,"627'.8--dc23","24 pp.",{"$f":"Table1[[#This Row],[QTY]]*Table1[[#This Row],['# Books]]","v":0},{"$f":"Table1[[#This Row],[QTY]]*Table1[[#This Row],[S&L Price]]","v":0}]
[null,51,null,"Engineering Our World",1,"How a Dam Is Built","eBook",null,"978-1-5382-4701-3",{"$f":"HYPERLINK(\"https://www.garethstevens.com/\"&Table1[[#This Row],[ISBN]],\"Weblink\")","v":"Weblink"},2021,"August 2020",null,null,"Author","Elizabeth Krajnik",null,null,null,null,"L",null,"Grade 2 - 3","Grade 2 - 5","Dams are important engineering marvels. However, if not built correctly, dams can cause catastrophic damage to our buildings, land developments, and the natural world. With this book, readers will learn about the different types of dams, the materials needed to build them, the steps to preparing the dam site before construction begins, and the designing process. Readers explore the many benefits of dams, such as harnessing the power of water to create electricity and diverting water for irrigation. A step-by-step project helps young engineers conceptualize how much work is involved in building a dam and how important they truly are.","English",22.6,16.95,"627'.8--dc23","24 pp.",{"$f":"Table1[[#This Row],[QTY]]*Table1[[#This Row],['# Books]]","v":0},{"$f":"Table1[[#This Row],[QTY]]*Table1[[#This Row],[S&L Price]]","v":0}]
[null,51,null,"Engineering Our World",1,"How a House Is Built","Library Bound Book",null,"978-1-5382-4705-1",{"$f":"HYPERLINK(\"https://www.garethstevens.com/\"&Table1[[#This Row],[ISBN]],\"Weblink\")","v":"Weblink"},2021,"August 2020","Library","8.500 X 8.500","Author","Theresa Emminizer",null,null,null,null,"L",null,"Grade 2 - 3","Grade 2 - 5","Although they may seem commonplace, in truth houses are amazing feats of engineering. In order to build a house, a large team of specialized workers must labor together seamlessly. Who operates the heavy machinery required for construction? What are the duties and skills of a contractor, carpenter, mason, or electrician? What makes the walls and ceiling stand, and how does the roof keep the rain out? Readers will take an eye-opening look at home construction, learning what houses are made of and who builds them. The process is engagingly summarized in the steps of building a house.","English",22.6,16.95,"690/.837--dc23","24 pp.",{"$f":"Table1[[#This Row],[QTY]]*Table1[[#This Row],['# Books]]","v":0},{"$f":"Table1[[#This Row],[QTY]]*Table1[[#This Row],[S&L Price]]","v":0}]
[null,51,null,"Engineering Our World",1,"How a House Is Built","eBook",null,"978-1-5382-4706-8",{"$f":"HYPERLINK(\"https://www.garethstevens.com/\"&Table1[[#This Row],[ISBN]],\"Weblink\")","v":"Weblink"},2021,"August 2020",null,null,"Author","Theresa Emminizer",null,null,null,null,"L",null,"Grade 2 - 3","Grade 2 - 5","Although they may seem commonplace, in truth houses are amazing feats of engineering. In order to build a house, a large team of specialized workers must labor together seamlessly. Who operates the heavy machinery required for construction? What are the duties and skills of a contractor, carpenter, mason, or electrician? What makes the walls and ceiling stand, and how does the roof keep the rain out? Readers will take an eye-opening look at home construction, learning what houses are made of and who builds them. The process is engagingly summarized in the steps of building a house.","English",22.6,16.95,"690/.837--dc23","24 pp.",{"$f":"Table1[[#This Row],[QTY]]*Table1[[#This Row],['# Books]]","v":0},{"$f":"Table1[[#This Row],[QTY]]*Table1[[#This Row],[S&L Price]]","v":0}]
[null,51,null,"Engineering Our World",1,"How a Roller Coaster Is Built","Library Bound Book",null,"978-1-5382-4709-9",{"$f":"HYPERLINK(\"https://www.garethstevens.com/\"&Table1[[#This Row],[ISBN]],\"Weblink\")","v":"Weblink"},2021,"August 2020","Library","8.500 X 8.500","Author","Kate Mikoley",null,null,null,null,"L",null,"Grade 2 - 3","Grade 2 - 5","Anyone who has visited an amusement park has likely seen the hills and loops of a roller coaster. For those who have felt the thrill of the ride, it's often the excitement of that first drop or the speed that follows that keeps them coming back for more. Before anyone can experience the adventure of a roller coaster, a lot of hard work must go into building it. Readers of this high-interest resource will learn all about the science and mechanics behind the construction of roller coasters. Aspiring engineers and amusement park enthusiasts alike will be captivated by this informative volume.","English",22.6,16.95,"791.06/8028--dc23","24 pp.",{"$f":"Table1[[#This Row],[QTY]]*Table1[[#This Row],['# Books]]","v":0},{"$f":"Table1[[#This Row],[QTY]]*Table1[[#This Row],[S&L Price]]","v":0}]
[null,51,null,"Engineering Our World",1,"How a Roller Coaster Is Built","eBook",null,"978-1-5382-4710-5",{"$f":"HYPERLINK(\"https://www.garethstevens.com/\"&Table1[[#This Row],[ISBN]],\"Weblink\")","v":"Weblink"},2021,"August 2020",null,null,"Author","Kate Mikoley",null,null,null,null,"L",null,"Grade 2 - 3","Grade 2 - 5","Anyone who has visited an amusement park has likely seen the hills and loops of a roller coaster. For those who have felt the thrill of the ride, it's often the excitement of that first drop or the speed that follows that keeps them coming back for more. Before anyone can experience the adventure of a roller coaster, a lot of hard work must go into building it. Readers of this high-interest resource will learn all about the science and mechanics behind the construction of roller coasters. Aspiring engineers and amusement park enthusiasts alike will be captivated by this informative volume.","English",22.6,16.95,"791.06/8028--dc23","24 pp.",{"$f":"Table1[[#This Row],[QTY]]*Table1[[#This Row],['# Books]]","v":0},{"$f":"Table1[[#This Row],[QTY]]*Table1[[#This Row],[S&L Price]]","v":0}]
[null,51,null,"Engineering Our World",1,"How a Satellite is Built","Library Bound Book",null,"978-1-5382-4713-6",{"$f":"HYPERLINK(\"https://www.garethstevens.com/\"&Table1[[#This Row],[ISBN]],\"Weblink\")","v":"Weblink"},2021,"August 2020","Library","8.500 X 8.500","Author, Author","Jonathan Bard, Mariel Bard",null,null,null,null,"M",null,"Grade 2 - 3","Grade 2 - 5","High above our heads, orbiting Earth, are huge technical wonders called satellites. These instruments do so much for us, from helping our cars navigate through GPS to informing meteorologists' predictions of the weather. Making these satellites is no small feat, and they are very expensive. A typical satellite can take several years to build and costs nearly millions of dollars. This STEM-connected volume explores the complex engineering required to build, test, launch, and analyze satellite systems in use today, and includes a look into where this fascinating technology is headed in the future.","English",22.6,16.95,"629.43--dc23","24 pp.",{"$f":"Table1[[#This Row],[QTY]]*Table1[[#This Row],['# Books]]","v":0},{"$f":"Table1[[#This Row],[QTY]]*Table1[[#This Row],[S&L Price]]","v":0}]
[null,51,null,"Engineering Our World",1,"How a Satellite is Built","eBook",null,"978-1-5382-4714-3",{"$f":"HYPERLINK(\"https://www.garethstevens.com/\"&Table1[[#This Row],[ISBN]],\"Weblink\")","v":"Weblink"},2021,"August 2020",null,null,"Author, Author","Jonathan Bard, Mariel Bard",null,null,null,null,"M",null,"Grade 2 - 3","Grade 2 - 5","High above our heads, orbiting Earth, are huge technical wonders called satellites. These instruments do so much for us, from helping our cars navigate through GPS to informing meteorologists' predictions of the weather. Making these satellites is no small feat, and they are very expensive. A typical satellite can take several years to build and costs nearly millions of dollars. This STEM-connected volume explores the complex engineering required to build, test, launch, and analyze satellite systems in use today, and includes a look into where this fascinating technology is headed in the future.","English",22.6,16.95,"629.43--dc23","24 pp.",{"$f":"Table1[[#This Row],[QTY]]*Table1[[#This Row],['# Books]]","v":0},{"$f":"Table1[[#This Row],[QTY]]*Table1[[#This Row],[S&L Price]]","v":0}]
[null,51,null,"Engineering Our World",1,"How a Submarine Is Built","Library Bound Book",null,"978-1-5382-4717-4",{"$f":"HYPERLINK(\"https://www.garethstevens.com/\"&Table1[[#This Row],[ISBN]],\"Weblink\")","v":"Weblink"},2021,"August 2020","Library","8.500 X 8.500","Author","Tanya Dellaccio",null,null,null,null,"M",null,"Grade 2 - 3","Grade 2 - 5","The first submarine was built in the 1600s. Engineering capabilities have advanced immensely since then, making submarines one of the world's most interesting means of transportation. Engrossed readers will learn about the ingenious engineering behind submarines, from construction to the ins-and-outs of how they work. STEM concepts help readers understand the science that makes submarines possible. Accessible text paired with full-color photographs and intriguing fact boxes will draw readers in and aboard this underwater marvel.","English",22.6,16.95,"623.82/05--dc23","24 pp.",{"$f":"Table1[[#This Row],[QTY]]*Table1[[#This Row],['# Books]]","v":0},{"$f":"Table1[[#This Row],[QTY]]*Table1[[#This Row],[S&L Price]]","v":0}]
[null,51,null,"Engineering Our World",1,"How a Submarine Is Built","eBook",null,"978-1-5382-4718-1",{"$f":"HYPERLINK(\"https://www.garethstevens.com/\"&Table1[[#This Row],[ISBN]],\"Weblink\")","v":"Weblink"},2021,"August 2020",null,null,"Author","Tanya Dellaccio",null,null,null,null,"M",null,"Grade 2 - 3","Grade 2 - 5","The first submarine was built in the 1600s. Engineering capabilities have advanced immensely since then, making submarines one of the world's most interesting means of transportation. Engrossed readers will learn about the ingenious engineering behind submarines, from construction to the ins-and-outs of how they work. STEM concepts help readers understand the science that makes submarines possible. Accessible text paired with full-color photographs and intriguing fact boxes will draw readers in and aboard this underwater marvel.","English",22.6,16.95,"623.82/05--dc23","24 pp.",{"$f":"Table1[[#This Row],[QTY]]*Table1[[#This Row],['# Books]]","v":0},{"$f":"Table1[[#This Row],[QTY]]*Table1[[#This Row],[S&L Price]]","v":0}]
[null,51,null,"Engineering Our World",1,"How an Aircraft Carrier Is Built","Library Bound Book",null,"978-1-5382-4721-1",{"$f":"HYPERLINK(\"https://www.garethstevens.com/\"&Table1[[#This Row],[ISBN]],\"Weblink\")","v":"Weblink"},2021,"August 2020","Library","8.500 X 8.500","Author","Michael Rajczak",null,null,null,null,"M",null,"Grade 2 - 3","Grade 2 - 5","Imagine building a floating airport. Aircraft carriers are the crowning achievement of navy ships. Each takes thousands of people several years to build, and can cost over 10 billion dollars. Inside is a miniature city for a crew of 6,000, and on top is a huge flight deck. Powerful catapults are ready to launch jets off the runway when needed. Enthralled readers will explore the creation of these mobile ocean giants in this fascinating volume filled with striking images and essential STEM concepts that support the elementary science curriculum.","English",22.6,16.95,"623.825/5--dc23","24 pp.",{"$f":"Table1[[#This Row],[QTY]]*Table1[[#This Row],['# Books]]","v":0},{"$f":"Table1[[#This Row],[QTY]]*Table1[[#This Row],[S&L Price]]","v":0}]
[null,51,null,"Engineering Our World",1,"How an Aircraft Carrier Is Built","eBook",null,"978-1-5382-4722-8",{"$f":"HYPERLINK(\"https://www.garethstevens.com/\"&Table1[[#This Row],[ISBN]],\"Weblink\")","v":"Weblink"},2021,"August 2020",null,null,"Author","Michael Rajczak",null,null,null,null,"M",null,"Grade 2 - 3","Grade 2 - 5","Imagine building a floating airport. Aircraft carriers are the crowning achievement of navy ships. Each takes thousands of people several years to build, and can cost over 10 billion dollars. Inside is a miniature city for a crew of 6,000, and on top is a huge flight deck. Powerful catapults are ready to launch jets off the runway when needed. Enthralled readers will explore the creation of these mobile ocean giants in this fascinating volume filled with striking images and essential STEM concepts that support the elementary science curriculum.","English",22.6,16.95,"623.825/5--dc23","24 pp.",{"$f":"Table1[[#This Row],[QTY]]*Table1[[#This Row],['# Books]]","v":0},{"$f":"Table1[[#This Row],[QTY]]*Table1[[#This Row],[S&L Price]]","v":0}]
[null,51,179,"Engineering Our World",1,"How a Bridge Is Built","Library Bound Book",null,"978-1-4824-3921-2",{"$f":"HYPERLINK(\"https://www.garethstevens.com/\"&Table1[[#This Row],[ISBN]],\"Weblink\")","v":"Weblink"},2016,"January 2016","Library","8.500 X 8.500","Author","Sam Aloian","4.9","0.5",null,null,"N",null,"Grade 2 - 3","Grade 2 - 5","Bridges are a big part of how people get from place to place. But how do they work and how are they built? In this engaging text, readers will explore these important engineering marvels that link places divided by water. Along the way they’ll learn how to build their own model bridge with a step-by-step guide accompanied by full-color photographs of each step. Accessible text illuminates the science behind every span we drive over, and sometimes under.","English",22.6,16.95,"624.2--dc23","24 pp.",{"$f":"Table1[[#This Row],[QTY]]*Table1[[#This Row],['# Books]]","v":0},{"$f":"Table1[[#This Row],[QTY]]*Table1[[#This Row],[S&L Price]]","v":0}]
[null,51,179,"Engineering Our World",1,"How a Bridge Is Built","eBook",null,"978-1-4824-3922-9",{"$f":"HYPERLINK(\"https://www.garethstevens.com/\"&Table1[[#This Row],[ISBN]],\"Weblink\")","v":"Weblink"},2016,"January 2016",null,null,"Author","Sam Aloian","4.9","0.5",null,null,"N",null,"Grade 2 - 3","Grade 2 - 5","Bridges are a big part of how people get from place to place. But how do they work and how are they built? In this engaging text, readers will explore these important engineering marvels that link places divided by water. Along the way they’ll learn how to build their own model bridge with a step-by-step guide accompanied by full-color photographs of each step. Accessible text illuminates the science behind every span we drive over, and sometimes under.","English",22.6,16.95,"624.2--dc23","24 pp.",{"$f":"Table1[[#This Row],[QTY]]*Table1[[#This Row],['# Books]]","v":0},{"$f":"Table1[[#This Row],[QTY]]*Table1[[#This Row],[S&L Price]]","v":0}]
[null,51,179,"Engineering Our World",1,"How a Car Is Made","Library Bound Book",null,"978-1-4824-3925-0",{"$f":"HYPERLINK(\"https://www.garethstevens.com/\"&Table1[[#This Row],[ISBN]],\"Weblink\")","v":"Weblink"},2016,"January 2016","Library","8.500 X 8.500","Author","Sam Aloian","4.9","0.5",null,null,"N",null,"Grade 2 - 3","Grade 2 - 5","Automobiles are an essential part of life for many, but few really understand how that car arrives in their garage in the first place. This book takes an exciting look at just how interesting that process is, from the design phase in an engineer’s office to the floor of a factory where it is assembled piece by piece by both people and machines. Full-color photographs bring the process to life in vivid detail, and a step-by-step how-to guide explains how readers can even build their very own model car.","English",22.6,16.95,"629.2'3--dc23","24 pp.",{"$f":"Table1[[#This Row],[QTY]]*Table1[[#This Row],['# Books]]","v":0},{"$f":"Table1[[#This Row],[QTY]]*Table1[[#This Row],[S&L Price]]","v":0}]
[null,51,179,"Engineering Our World",1,"How a Car Is Made","eBook",null,"978-1-4824-3926-7",{"$f":"HYPERLINK(\"https://www.garethstevens.com/\"&Table1[[#This Row],[ISBN]],\"Weblink\")","v":"Weblink"},2016,"January 2016",null,null,"Author","Sam Aloian","4.9","0.5",null,null,"N",null,"Grade 2 - 3","Grade 2 - 5","Automobiles are an essential part of life for many, but few really understand how that car arrives in their garage in the first place. This book takes an exciting look at just how interesting that process is, from the design phase in an engineer’s office to the floor of a factory where it is assembled piece by piece by both people and machines. Full-color photographs bring the process to life in vivid detail, and a step-by-step how-to guide explains how readers can even build their very own model car.","English",22.6,16.95,"629.2'3--dc23","24 pp.",{"$f":"Table1[[#This Row],[QTY]]*Table1[[#This Row],['# Books]]","v":0},{"$f":"Table1[[#This Row],[QTY]]*Table1[[#This Row],[S&L Price]]","v":0}]
[null,51,179,"Engineering Our World",1,"How a Computer Is Made","Library Bound Book",null,"978-1-4824-3929-8",{"$f":"HYPERLINK(\"https://www.garethstevens.com/\"&Table1[[#This Row],[ISBN]],\"Weblink\")","v":"Weblink"},2016,"January 2016","Library","8.500 X 8.500","Author","Sam Aloian","5.3","0.5",null,null,"N",null,"Grade 2 - 3","Grade 2 - 5","Today's computers come in all shapes and sizes, but not many people actually know how they're made. The journey from circuits and wires to a ready-to-use computer is a fascinating exploration of science and engineering. Readers get a look inside their laptops, desktops, and even their tablets as they're shown step-by-step how these electronic marvels are assembled. Readers will love knowing what goes on inside their own machines, and color photographs and simple instructions will show them how they can build their own computer.","English",22.6,16.95,"004--dc23","24 pp.",{"$f":"Table1[[#This Row],[QTY]]*Table1[[#This Row],['# Books]]","v":0},{"$f":"Table1[[#This Row],[QTY]]*Table1[[#This Row],[S&L Price]]","v":0}]
[null,51,179,"Engineering Our World",1,"How a Computer Is Made","eBook",null,"978-1-4824-3930-4",{"$f":"HYPERLINK(\"https://www.garethstevens.com/\"&Table1[[#This Row],[ISBN]],\"Weblink\")","v":"Weblink"},2016,"January 2016",null,null,"Author","Sam Aloian","5.3","0.5",null,null,"N",null,"Grade 2 - 3","Grade 2 - 5","Today's computers come in all shapes and sizes, but not many people actually know how they're made. The journey from circuits and wires to a ready-to-use computer is a fascinating exploration of science and engineering. Readers get a look inside their laptops, desktops, and even their tablets as they're shown step-by-step how these electronic marvels are assembled. Readers will love knowing what goes on inside their own machines, and color photographs and simple instructions will show them how they can build their own computer.","English",22.6,16.95,"004--dc23","24 pp.",{"$f":"Table1[[#This Row],[QTY]]*Table1[[#This Row],['# Books]]","v":0},{"$f":"Table1[[#This Row],[QTY]]*Table1[[#This Row],[S&L Price]]","v":0}]
[null,51,179,"Engineering Our World",1,"How a Plane Is Made","Library Bound Book",null,"978-1-4824-3933-5",{"$f":"HYPERLINK(\"https://www.garethstevens.com/\"&Table1[[#This Row],[ISBN]],\"Weblink\")","v":"Weblink"},2016,"January 2016","Library","8.500 X 8.500","Author","Amy Hayes","4.6","0.5",null,null,"N",null,"Grade 2 - 3","Grade 2 - 5","From the largest cargo planes and passenger jets to the smallest of single-engine crafts, airplanes are modern marvels. But just how do people build planes and what keeps them safe in the air? This exciting book takes readers inside the hangars where bolts and metal are turned into winged creations ready to take people all around the world. Amazing photographs show the aircraft construction process step-by-step, while engaging text gives a strong technical explanation of the science at work during every flight in this innovative STEM book.","English",22.6,16.95,"629.134--dc23","24 pp.",{"$f":"Table1[[#This Row],[QTY]]*Table1[[#This Row],['# Books]]","v":0},{"$f":"Table1[[#This Row],[QTY]]*Table1[[#This Row],[S&L Price]]","v":0}]
[null,51,179,"Engineering Our World",1,"How a Plane Is Made","eBook",null,"978-1-4824-3934-2",{"$f":"HYPERLINK(\"https://www.garethstevens.com/\"&Table1[[#This Row],[ISBN]],\"Weblink\")","v":"Weblink"},2016,"January 2016",null,null,"Author","Amy Hayes","4.6","0.5",null,null,"N",null,"Grade 2 - 3","Grade 2 - 5","From the largest cargo planes and passenger jets to the smallest of single-engine crafts, airplanes are modern marvels. But just how do people build planes and what keeps them safe in the air? This exciting book takes readers inside the hangars where bolts and metal are turned into winged creations ready to take people all around the world. Amazing photographs show the aircraft construction process step-by-step, while engaging text gives a strong technical explanation of the science at work during every flight in this innovative STEM book.","English",22.6,16.95,"629.134--dc23","24 pp.",{"$f":"Table1[[#This Row],[QTY]]*Table1[[#This Row],['# Books]]","v":0},{"$f":"Table1[[#This Row],[QTY]]*Table1[[#This Row],[S&L Price]]","v":0}]
[null,51,179,"Engineering Our World",1,"How a Ship Is Built","Library Bound Book",null,"978-1-4824-3917-5",{"$f":"HYPERLINK(\"https://www.garethstevens.com/\"&Table1[[#This Row],[ISBN]],\"Weblink\")","v":"Weblink"},2016,"January 2016","Library","8.500 X 8.500","Author","Sam Aloian","5.1","0.5",null,null,"N",null,"Grade 2 - 3","Grade 2 - 5","There are many different kinds of ships, from gigantic cargo ships carrying goods around the world to the cruise ships that are like floating cities. Even aircraft carriers are gigantic ships with airports on top! But how do we make these amazing boats? This exciting book takes readers behind the scenes and into the process shipbuilders use to make monster vessels that are safe enough to tackle the open ocean. Full-color photographs document every step of the journey from dry dock to castoff, and STEM topics are introduced through engaging text and detailed graphics to make this an unforgettable look at how ships get made.","English",22.6,16.95,"623.82--dc23","24 pp.",{"$f":"Table1[[#This Row],[QTY]]*Table1[[#This Row],['# Books]]","v":0},{"$f":"Table1[[#This Row],[QTY]]*Table1[[#This Row],[S&L Price]]","v":0}]
[null,51,179,"Engineering Our World",1,"How a Ship Is Built","eBook",null,"978-1-4824-3918-2",{"$f":"HYPERLINK(\"https://www.garethstevens.com/\"&Table1[[#This Row],[ISBN]],\"Weblink\")","v":"Weblink"},2016,"January 2016",null,null,"Author","Sam Aloian","5.1","0.5",null,null,"N",null,"Grade 2 - 3","Grade 2 - 5","There are many different kinds of ships, from gigantic cargo ships carrying goods around the world to the cruise ships that are like floating cities. Even aircraft carriers are gigantic ships with airports on top! But how do we make these amazing boats? This exciting book takes readers behind the scenes and into the process shipbuilders use to make monster vessels that are safe enough to tackle the open ocean. Full-color photographs document every step of the journey from dry dock to castoff, and STEM topics are introduced through engaging text and detailed graphics to make this an unforgettable look at how ships get made.","English",22.6,16.95,"623.82--dc23","24 pp.",{"$f":"Table1[[#This Row],[QTY]]*Table1[[#This Row],['# Books]]","v":0},{"$f":"Table1[[#This Row],[QTY]]*Table1[[#This Row],[S&L Price]]","v":0}]
[null,51,179,"Engineering Our World",1,"How a Skyscraper Is Built","Library Bound Book",null,"978-1-4824-3937-3",{"$f":"HYPERLINK(\"https://www.garethstevens.com/\"&Table1[[#This Row],[ISBN]],\"Weblink\")","v":"Weblink"},2016,"January 2016","Library","8.500 X 8.500","Author","Therese M. Shea","5.3","0.5",null,null,"N",null,"Grade 2 - 3","Grade 2 - 5","The towering buildings that fill our cities definitely weren't built in a day. Skyscrapers are huge construction projects full of complicated steps. From drilling anchor holes and erecting steel beams to laying acres and acres of concrete, it takes lots of people and lots of smarts to build a vertical city. Readers will love putting on their hard hats and seeing the construction for themselves through vivid photographs and diagrams of a building on its way from its beginning on an empty lot to a monster skyscraper touching the skies.","English",22.6,16.95,"720.483--dc23","24 pp.",{"$f":"Table1[[#This Row],[QTY]]*Table1[[#This Row],['# Books]]","v":0},{"$f":"Table1[[#This Row],[QTY]]*Table1[[#This Row],[S&L Price]]","v":0}]
[null,51,179,"Engineering Our World",1,"How a Skyscraper Is Built","eBook",null,"978-1-4824-3938-0",{"$f":"HYPERLINK(\"https://www.garethstevens.com/\"&Table1[[#This Row],[ISBN]],\"Weblink\")","v":"Weblink"},2016,"January 2016",null,null,"Author","Therese M. Shea","5.3","0.5",null,null,"N",null,"Grade 2 - 3","Grade 2 - 5","The towering buildings that fill our cities definitely weren't built in a day. Skyscrapers are huge construction projects full of complicated steps. From drilling anchor holes and erecting steel beams to laying acres and acres of concrete, it takes lots of people and lots of smarts to build a vertical city. Readers will love putting on their hard hats and seeing the construction for themselves through vivid photographs and diagrams of a building on its way from its beginning on an empty lot to a monster skyscraper touching the skies.","English",22.6,16.95,"720.483--dc23","24 pp.",{"$f":"Table1[[#This Row],[QTY]]*Table1[[#This Row],['# Books]]","v":0},{"$f":"Table1[[#This Row],[QTY]]*Table1[[#This Row],[S&L Price]]","v":0}]
[null,52,null,"Computing for Kids",4,"Computing for Kids","Library Set",null,"978-1-5382-5337-3",{"$f":"HYPERLINK(\"https://www.garethstevens.com/\"&Table1[[#This Row],[ISBN]],\"Weblink\")","v":"Weblink"},2020,"January 2020","Library","8.500 X 8.500","","",null,null,null,null,null,null,"Grade 3","Grade 3 - 5","As time goes on, technology is becoming more integral to childhood education. From using tablets in the classroom to using computers for homework, it is essential for students to learn how different devices work and how to use them. From the hardware inside a computer to the development of networks, this must-have set delivers key concepts that are crucial for children in today's technological landscape. With easy-to-digest infographics and language, this set is the perfect introduction to the working technological world. Features include: Colorful, eye-catching design. Diagrams that give kids a quick understanding of basic computing functions. Complex ideas are summarized and cleanly simplified for ease of comprehension.","English",106.4,79.8,null,"32 pp.",{"$f":"Table1[[#This Row],[QTY]]*Table1[[#This Row],['# Books]]","v":0},{"$f":"Table1[[#This Row],[QTY]]*Table1[[#This Row],[S&L Price]]","v":0}]
[null,52,null,"Computing for Kids",1,"Computer Programs and Coding","Library Bound Book",null,"978-1-5382-5256-7",{"$f":"HYPERLINK(\"https://www.garethstevens.com/\"&Table1[[#This Row],[ISBN]],\"Weblink\")","v":"Weblink"},2020,"January 2020","Library","8.500 X 8.500","Author","Nancy Dickmann",null,null,null,null,"M",null,"Grade 3","Grade 3 - 5","Computers communicate differently than people. Coders write algorithms in different computer languages that give computers clear instructions on how to work. This book explores the first computer communications and how coding works. Readers will learn about binary, the 0s and 1s that make up the base of all computer programming, as well as how coders find problems and fix mistakes. Perfect for the young coding enthusiast and the beginner, this book uses simple infographics and language to present complex ideas in a captivating manner.","English",26.6,19.95,"005.1--dc23","32 pp.",{"$f":"Table1[[#This Row],[QTY]]*Table1[[#This Row],['# Books]]","v":0},{"$f":"Table1[[#This Row],[QTY]]*Table1[[#This Row],[S&L Price]]","v":0}]
[null,52,null,"Computing for Kids",1,"Computer Programs and Coding","eBook",null,"978-1-5382-5257-4",{"$f":"HYPERLINK(\"https://www.garethstevens.com/\"&Table1[[#This Row],[ISBN]],\"Weblink\")","v":"Weblink"},2020,"January 2020",null,null,"Author","Nancy Dickmann",null,null,null,null,"M",null,"Grade 3","Grade 3 - 5","Computers communicate differently than people. Coders write algorithms in different computer languages that give computers clear instructions on how to work. This book explores the first computer communications and how coding works. Readers will learn about binary, the 0s and 1s that make up the base of all computer programming, as well as how coders find problems and fix mistakes. Perfect for the young coding enthusiast and the beginner, this book uses simple infographics and language to present complex ideas in a captivating manner.","English",26.6,19.95,"005.1--dc23","32 pp.",{"$f":"Table1[[#This Row],[QTY]]*Table1[[#This Row],['# Books]]","v":0},{"$f":"Table1[[#This Row],[QTY]]*Table1[[#This Row],[S&L Price]]","v":0}]
[null,52,null,"Computing for Kids",1,"How Computers Work","Library Bound Book",null,"978-1-5382-5259-8",{"$f":"HYPERLINK(\"https://www.garethstevens.com/\"&Table1[[#This Row],[ISBN]],\"Weblink\")","v":"Weblink"},2020,"January 2020","Library","8.500 X 8.500","Author","Nancy Dickmann",null,null,null,null,"M",null,"Grade 3","Grade 3 - 5","Computers are everywhere. Even a smartphone is a mini computer. With digital technologies so prevalent in today's world, it's important for young learners to know how they work. This book introduces kids to the design and function of the hardware and networks that digitally connect us. Utilizing colorful infographics and simple language, this book discusses the history of the first computers, different types of computers, and the important parts that make a computer run. It makes learning about computers easy for young readers, and it will inspire your budding engineers.","English",26.6,19.95,"004--dc23","32 pp.",{"$f":"Table1[[#This Row],[QTY]]*Table1[[#This Row],['# Books]]","v":0},{"$f":"Table1[[#This Row],[QTY]]*Table1[[#This Row],[S&L Price]]","v":0}]
[null,52,null,"Computing for Kids",1,"How Computers Work","eBook",null,"978-1-5382-5260-4",{"$f":"HYPERLINK(\"https://www.garethstevens.com/\"&Table1[[#This Row],[ISBN]],\"Weblink\")","v":"Weblink"},2020,"January 2020",null,null,"Author","Nancy Dickmann",null,null,null,null,"M",null,"Grade 3","Grade 3 - 5","Computers are everywhere. Even a smartphone is a mini computer. With digital technologies so prevalent in today's world, it's important for young learners to know how they work. This book introduces kids to the design and function of the hardware and networks that digitally connect us. Utilizing colorful infographics and simple language, this book discusses the history of the first computers, different types of computers, and the important parts that make a computer run. It makes learning about computers easy for young readers, and it will inspire your budding engineers.","English",26.6,19.95,"004--dc23","32 pp.",{"$f":"Table1[[#This Row],[QTY]]*Table1[[#This Row],['# Books]]","v":0},{"$f":"Table1[[#This Row],[QTY]]*Table1[[#This Row],[S&L Price]]","v":0}]
[null,52,null,"Computing for Kids",1,"Networks and the Internet","Library Bound Book",null,"978-1-5382-5262-8",{"$f":"HYPERLINK(\"https://www.garethstevens.com/\"&Table1[[#This Row],[ISBN]],\"Weblink\")","v":"Weblink"},2020,"January 2020","Library","8.500 X 8.500","Author","Nancy Dickmann",null,null,null,null,"M",null,"Grade 3","Grade 3 - 5","Many of today's communications travel over networks. Networks connect people all over the world through computers and mobile devices, but how does it work? Young learners will discover how an email works, how computers talk to one another, and how documents and programs are stored in the cloud. Readers will also learn about network safety and how to protect themselves from hackers and viruses. Easy-to-read infographics and simple language make this complex topic fun and easy to understand. Give your budding computer engineers the perfect guide to the matrix of our lives.","English",26.6,19.95,"004.6--dc23","32 pp.",{"$f":"Table1[[#This Row],[QTY]]*Table1[[#This Row],['# Books]]","v":0},{"$f":"Table1[[#This Row],[QTY]]*Table1[[#This Row],[S&L Price]]","v":0}]
[null,52,null,"Computing for Kids",1,"Networks and the Internet","eBook",null,"978-1-5382-5263-5",{"$f":"HYPERLINK(\"https://www.garethstevens.com/\"&Table1[[#This Row],[ISBN]],\"Weblink\")","v":"Weblink"},2020,"January 2020",null,null,"Author","Nancy Dickmann",null,null,null,null,"M",null,"Grade 3","Grade 3 - 5","Many of today's communications travel over networks. Networks connect people all over the world through computers and mobile devices, but how does it work? Young learners will discover how an email works, how computers talk to one another, and how documents and programs are stored in the cloud. Readers will also learn about network safety and how to protect themselves from hackers and viruses. Easy-to-read infographics and simple language make this complex topic fun and easy to understand. Give your budding computer engineers the perfect guide to the matrix of our lives.","English",26.6,19.95,"004.6--dc23","32 pp.",{"$f":"Table1[[#This Row],[QTY]]*Table1[[#This Row],['# Books]]","v":0},{"$f":"Table1[[#This Row],[QTY]]*Table1[[#This Row],[S&L Price]]","v":0}]
[null,52,null,"Computing for Kids",1,"Robots and Artificial Intelligence","Library Bound Book",null,"978-1-5382-5265-9",{"$f":"HYPERLINK(\"https://www.garethstevens.com/\"&Table1[[#This Row],[ISBN]],\"Weblink\")","v":"Weblink"},2020,"January 2020","Library","8.500 X 8.500","Author","Nancy Dickmann",null,null,null,null,"M",null,"Grade 3","Grade 3 - 5","Your readers will discover different tasks robots handle in the world and how robots are put together. This book explores how robots ingest data from their surroundings, and how they function. Budding engineers will also discover some of the intricacies of artificial intelligence, including what it takes to make a machine that can pass as a human. Compelling infographics and simple language make complex mechanics easier to understand. There's a lot to discover about robots, let the journey begin!","English",26.6,19.95,"629.8'924--dc23","32 pp.",{"$f":"Table1[[#This Row],[QTY]]*Table1[[#This Row],['# Books]]","v":0},{"$f":"Table1[[#This Row],[QTY]]*Table1[[#This Row],[S&L Price]]","v":0}]
[null,52,null,"Computing for Kids",1,"Robots and Artificial Intelligence","eBook",null,"978-1-5382-5266-6",{"$f":"HYPERLINK(\"https://www.garethstevens.com/\"&Table1[[#This Row],[ISBN]],\"Weblink\")","v":"Weblink"},2020,"January 2020",null,null,"Author","Nancy Dickmann",null,null,null,null,"M",null,"Grade 3","Grade 3 - 5","Your readers will discover different tasks robots handle in the world and how robots are put together. This book explores how robots ingest data from their surroundings, and how they function. Budding engineers will also discover some of the intricacies of artificial intelligence, including what it takes to make a machine that can pass as a human. Compelling infographics and simple language make complex mechanics easier to understand. There's a lot to discover about robots, let the journey begin!","English",26.6,19.95,"629.8'924--dc23","32 pp.",{"$f":"Table1[[#This Row],[QTY]]*Table1[[#This Row],['# Books]]","v":0},{"$f":"Table1[[#This Row],[QTY]]*Table1[[#This Row],[S&L Price]]","v":0}]
[null,53,null,"Words That Shaped America",6,"Words That Shaped America","Library Set",null,"978-1-5382-4893-5",{"$f":"HYPERLINK(\"https://www.garethstevens.com/\"&Table1[[#This Row],[ISBN]],\"Weblink\")","v":"Weblink"},2020,"January 2020","Library","6.500 X 9.125","","",null,null,null,null,null,null,"Grade 4 - 5","Grade 4 - 6","\"Four score and seven years ago...\" \"I had a dream...\" \"Give me liberty, or give me death!\" Each of these short phrases is so compelling, so evocative that it instantly brings to mind a time, a place, and a powerful idea. This significant set, which focuses on such topics as civil rights, the American dream, and the Civil War, highlights influential spoken and written words from early American history to present-day. The context of the words, their effects, and biographical information about their author are all thoroughly explained in each thought-provoking volume. Features include: Offers an effective lens through which to study significant eras, social movements, and historical figures. Striking design includes historical artwork and photographs that aid readers in understanding time periods. Provides multiple opportunities for readers to practice principal ELA standards relating to social studies texts.","English",159.6,119.7,null,"32 pp.",{"$f":"Table1[[#This Row],[QTY]]*Table1[[#This Row],['# Books]]","v":0},{"$f":"Table1[[#This Row],[QTY]]*Table1[[#This Row],[S&L Price]]","v":0}]
[null,53,null,"Words That Shaped America",1,"The Most Powerful Presidential Words","Library Bound Book",null,"978-1-5382-4797-6",{"$f":"HYPERLINK(\"https://www.garethstevens.com/\"&Table1[[#This Row],[ISBN]],\"Weblink\")","v":"Weblink"},2020,"January 2020","Library","6.500 X 9.125","Author","Katie Kawa",null,null,null,null,"T",null,"Grade 4 - 5","Grade 4 - 6","\"Four score and seven years ago...\" \"The only thing we have to fear is fear itself.\" \"Ask not what your country can do for you, ask what you can do for your country.\" The words of American presidents have comforted and challenged Americans since the country's earliest days, and readers discover the riveting stories behind the most powerful presidential words in this unique look at American history. Filled with memorable quotes, detailed sidebars, graphic organizers, and historical and contemporary images, this reading experience expands on common social studies curriculum topics in creative ways.","English",26.6,19.95,"080.973--dc23","32 pp.",{"$f":"Table1[[#This Row],[QTY]]*Table1[[#This Row],['# Books]]","v":0},{"$f":"Table1[[#This Row],[QTY]]*Table1[[#This Row],[S&L Price]]","v":0}]
[null,53,null,"Words That Shaped America",1,"The Most Powerful Presidential Words","eBook",null,"978-1-5382-4798-3",{"$f":"HYPERLINK(\"https://www.garethstevens.com/\"&Table1[[#This Row],[ISBN]],\"Weblink\")","v":"Weblink"},2020,"January 2020",null,null,"Author","Katie Kawa",null,null,null,null,"T",null,"Grade 4 - 5","Grade 4 - 6","\"Four score and seven years ago...\" \"The only thing we have to fear is fear itself.\" \"Ask not what your country can do for you, ask what you can do for your country.\" The words of American presidents have comforted and challenged Americans since the country's earliest days, and readers discover the riveting stories behind the most powerful presidential words in this unique look at American history. Filled with memorable quotes, detailed sidebars, graphic organizers, and historical and contemporary images, this reading experience expands on common social studies curriculum topics in creative ways.","English",26.6,19.95,"080.973--dc23","32 pp.",{"$f":"Table1[[#This Row],[QTY]]*Table1[[#This Row],['# Books]]","v":0},{"$f":"Table1[[#This Row],[QTY]]*Table1[[#This Row],[S&L Price]]","v":0}]
[null,53,null,"Words That Shaped America",1,"The Most Powerful Words About Civil Rights","Library Bound Book",null,"978-1-5382-4801-0",{"$f":"HYPERLINK(\"https://www.garethstevens.com/\"&Table1[[#This Row],[ISBN]],\"Weblink\")","v":"Weblink"},2020,"January 2020","Library","6.500 X 9.125","Author","Sarah Smykowski",null,null,null,null,"T",null,"Grade 4 - 5","Grade 4 - 6","From Martin Luther King Jr.'s \"I Have a Dream\" speech to today's discourse on social media, Americans have used their words as tools to fight for civil rights. This beneficial book introduces students to words that defined a movement and the notable leaders behind them. Written to support social studies curricula, this volume presents history through the perspectives of the people who were there. Readers learn about the civil rights movement, historical and contemporary leaders, and the impact they have had on society. Primary source images, compelling quotes, and significant sidebars and fact boxes create a comprehensive reading experience.","English",26.6,19.95,"323.1196'073--dc23","32 pp.",{"$f":"Table1[[#This Row],[QTY]]*Table1[[#This Row],['# Books]]","v":0},{"$f":"Table1[[#This Row],[QTY]]*Table1[[#This Row],[S&L Price]]","v":0}]
[null,53,null,"Words That Shaped America",1,"The Most Powerful Words About Civil Rights","eBook",null,"978-1-5382-4802-7",{"$f":"HYPERLINK(\"https://www.garethstevens.com/\"&Table1[[#This Row],[ISBN]],\"Weblink\")","v":"Weblink"},2020,"January 2020",null,null,"Author","Sarah Smykowski",null,null,null,null,"T",null,"Grade 4 - 5","Grade 4 - 6","From Martin Luther King Jr.'s \"I Have a Dream\" speech to today's discourse on social media, Americans have used their words as tools to fight for civil rights. This beneficial book introduces students to words that defined a movement and the notable leaders behind them. Written to support social studies curricula, this volume presents history through the perspectives of the people who were there. Readers learn about the civil rights movement, historical and contemporary leaders, and the impact they have had on society. Primary source images, compelling quotes, and significant sidebars and fact boxes create a comprehensive reading experience.","English",26.6,19.95,"323.1196'073--dc23","32 pp.",{"$f":"Table1[[#This Row],[QTY]]*Table1[[#This Row],['# Books]]","v":0},{"$f":"Table1[[#This Row],[QTY]]*Table1[[#This Row],[S&L Price]]","v":0}]
[null,53,null,"Words That Shaped America",1,"The Most Powerful Words About the American Dream","Library Bound Book",null,"978-1-5382-4805-8",{"$f":"HYPERLINK(\"https://www.garethstevens.com/\"&Table1[[#This Row],[ISBN]],\"Weblink\")","v":"Weblink"},2020,"January 2020","Library","6.500 X 9.125","Author","Caitie McAneney",null,null,null,null,"T",null,"Grade 4 - 5","Grade 4 - 6","For hundreds of years, newcomers to the United States have dreamed the \"American Dream,\" hoping for prosperity and freedom. This valuable volume highlights important quotes about the American Dream, from the past to the present. Readers will learn the significance of each quote, its historical context, and all about its speaker. Engaging historical text and authentic photographs will give readers a dynamic learning experience and open their eyes to the profound hope that lies within the great American Dream.","English",26.6,19.95,"306.0973'0905--dc23","32 pp.",{"$f":"Table1[[#This Row],[QTY]]*Table1[[#This Row],['# Books]]","v":0},{"$f":"Table1[[#This Row],[QTY]]*Table1[[#This Row],[S&L Price]]","v":0}]
[null,53,null,"Words That Shaped America",1,"The Most Powerful Words About the American Dream","eBook",null,"978-1-5382-4806-5",{"$f":"HYPERLINK(\"https://www.garethstevens.com/\"&Table1[[#This Row],[ISBN]],\"Weblink\")","v":"Weblink"},2020,"January 2020",null,null,"Author","Caitie McAneney",null,null,null,null,"T",null,"Grade 4 - 5","Grade 4 - 6","For hundreds of years, newcomers to the United States have dreamed the \"American Dream,\" hoping for prosperity and freedom. This valuable volume highlights important quotes about the American Dream, from the past to the present. Readers will learn the significance of each quote, its historical context, and all about its speaker. Engaging historical text and authentic photographs will give readers a dynamic learning experience and open their eyes to the profound hope that lies within the great American Dream.","English",26.6,19.95,"306.0973'0905--dc23","32 pp.",{"$f":"Table1[[#This Row],[QTY]]*Table1[[#This Row],['# Books]]","v":0},{"$f":"Table1[[#This Row],[QTY]]*Table1[[#This Row],[S&L Price]]","v":0}]
[null,53,null,"Words That Shaped America",1,"The Most Powerful Words About Women's Rights","Library Bound Book",null,"978-1-5382-4809-6",{"$f":"HYPERLINK(\"https://www.garethstevens.com/\"&Table1[[#This Row],[ISBN]],\"Weblink\")","v":"Weblink"},2020,"January 2020","Library","6.500 X 9.125","Author","Janey Levy",null,null,null,null,"S",null,"Grade 4 - 5","Grade 4 - 6","Today, women can have careers in fields such as medicine, engineering, and politics, but it wasn't always that way. Women couldn't even vote when the United States was founded. Readers of this powerful volume will discover the history of women's rights through the words of women who fought for them, including Abigail Adams urging her husband to \"Remember the Ladies,\" Elizabeth Cady Stanton's \"Declaration of Sentiments,\" Betty Friedan's The Feminine Mystique, and the contemporary #MeToo and #TimesUp movements. Vivid images support this empowering narrative, and sidebars, fact boxes, and a graphic organizer enhance the reading experience.","English",26.6,19.95,"305.4209--dc23","32 pp.",{"$f":"Table1[[#This Row],[QTY]]*Table1[[#This Row],['# Books]]","v":0},{"$f":"Table1[[#This Row],[QTY]]*Table1[[#This Row],[S&L Price]]","v":0}]
[null,53,null,"Words That Shaped America",1,"The Most Powerful Words About Women's Rights","eBook",null,"978-1-5382-4810-2",{"$f":"HYPERLINK(\"https://www.garethstevens.com/\"&Table1[[#This Row],[ISBN]],\"Weblink\")","v":"Weblink"},2020,"January 2020",null,null,"Author","Janey Levy",null,null,null,null,"S",null,"Grade 4 - 5","Grade 4 - 6","Today, women can have careers in fields such as medicine, engineering, and politics, but it wasn't always that way. Women couldn't even vote when the United States was founded. Readers of this powerful volume will discover the history of women's rights through the words of women who fought for them, including Abigail Adams urging her husband to \"Remember the Ladies,\" Elizabeth Cady Stanton's \"Declaration of Sentiments,\" Betty Friedan's The Feminine Mystique, and the contemporary #MeToo and #TimesUp movements. Vivid images support this empowering narrative, and sidebars, fact boxes, and a graphic organizer enhance the reading experience.","English",26.6,19.95,"305.4209--dc23","32 pp.",{"$f":"Table1[[#This Row],[QTY]]*Table1[[#This Row],['# Books]]","v":0},{"$f":"Table1[[#This Row],[QTY]]*Table1[[#This Row],[S&L Price]]","v":0}]
[null,53,null,"Words That Shaped America",1,"The Most Powerful Words of the American Revolution","Library Bound Book",null,"978-1-5382-4813-3",{"$f":"HYPERLINK(\"https://www.garethstevens.com/\"&Table1[[#This Row],[ISBN]],\"Weblink\")","v":"Weblink"},2020,"January 2020","Library","6.500 X 9.125","Author","Jeremy Morlock",null,null,null,null,"S",null,"Grade 4 - 5","Grade 4 - 6","From slogans in pamphlets to speeches at the gallows, phrases from the American Revolution still echo throughout our culture. The ideas shared by colonists, soldiers, and spies inspired rebellion and shaped a new nation. Today, they inform our views of America's promise and principles. Young historians will learn about the lives of the people who coined certain famous and influential phrases. This beneficial book, a welcome addition to any social studies collection, will also explore the historical background of certain powerful words and the reasons why they are still so potent today.","English",26.6,19.95,"973.3--dc23","32 pp.",{"$f":"Table1[[#This Row],[QTY]]*Table1[[#This Row],['# Books]]","v":0},{"$f":"Table1[[#This Row],[QTY]]*Table1[[#This Row],[S&L Price]]","v":0}]
[null,53,null,"Words That Shaped America",1,"The Most Powerful Words of the American Revolution","eBook",null,"978-1-5382-4814-0",{"$f":"HYPERLINK(\"https://www.garethstevens.com/\"&Table1[[#This Row],[ISBN]],\"Weblink\")","v":"Weblink"},2020,"January 2020",null,null,"Author","Jeremy Morlock",null,null,null,null,"S",null,"Grade 4 - 5","Grade 4 - 6","From slogans in pamphlets to speeches at the gallows, phrases from the American Revolution still echo throughout our culture. The ideas shared by colonists, soldiers, and spies inspired rebellion and shaped a new nation. Today, they inform our views of America's promise and principles. Young historians will learn about the lives of the people who coined certain famous and influential phrases. This beneficial book, a welcome addition to any social studies collection, will also explore the historical background of certain powerful words and the reasons why they are still so potent today.","English",26.6,19.95,"973.3--dc23","32 pp.",{"$f":"Table1[[#This Row],[QTY]]*Table1[[#This Row],['# Books]]","v":0},{"$f":"Table1[[#This Row],[QTY]]*Table1[[#This Row],[S&L Price]]","v":0}]
[null,53,null,"Words That Shaped America",1,"The Most Powerful Words of the Civil War","Library Bound Book",null,"978-1-5382-4817-1",{"$f":"HYPERLINK(\"https://www.garethstevens.com/\"&Table1[[#This Row],[ISBN]],\"Weblink\")","v":"Weblink"},2020,"January 2020","Library","6.500 X 9.125","Author","Jason Glaser",null,null,null,null,"S",null,"Grade 4 - 5","Grade 4 - 6","The Civil War was one of the darkest times in the history of the United States. From the new nation's very beginning, slavery was a battle between the country's economy and its morality. The \"slavery question\" was argued in courts, in Congress, in homes, in newspapers, and eventually on the battlefield. Through this striking volume, readers will come to understand the powerful statements that drove a country into war. Through simple, accessible text and photographs, young historians will feel themselves moved by those same words that nearly tore apart the United States.","English",26.6,19.95,"973.7--dc23","32 pp.",{"$f":"Table1[[#This Row],[QTY]]*Table1[[#This Row],['# Books]]","v":0},{"$f":"Table1[[#This Row],[QTY]]*Table1[[#This Row],[S&L Price]]","v":0}]
[null,53,null,"Words That Shaped America",1,"The Most Powerful Words of the Civil War","eBook",null,"978-1-5382-4818-8",{"$f":"HYPERLINK(\"https://www.garethstevens.com/\"&Table1[[#This Row],[ISBN]],\"Weblink\")","v":"Weblink"},2020,"January 2020",null,null,"Author","Jason Glaser",null,null,null,null,"S",null,"Grade 4 - 5","Grade 4 - 6","The Civil War was one of the darkest times in the history of the United States. From the new nation's very beginning, slavery was a battle between the country's economy and its morality. The \"slavery question\" was argued in courts, in Congress, in homes, in newspapers, and eventually on the battlefield. Through this striking volume, readers will come to understand the powerful statements that drove a country into war. Through simple, accessible text and photographs, young historians will feel themselves moved by those same words that nearly tore apart the United States.","English",26.6,19.95,"973.7--dc23","32 pp.",{"$f":"Table1[[#This Row],[QTY]]*Table1[[#This Row],['# Books]]","v":0},{"$f":"Table1[[#This Row],[QTY]]*Table1[[#This Row],[S&L Price]]","v":0}]
[null,54,null,"Team Time Machine",12,"Team Time Machine (Set of 12 Titles)","Library Set",null,"978-1-5382-5985-6",{"$f":"HYPERLINK(\"https://www.garethstevens.com/\"&Table1[[#This Row],[ISBN]],\"Weblink\")","v":"Weblink"},2021,"August 2020","Library","8.500 X 8.500","","",null,null,null,null,null,null,"Grade 2 - 3","Grade 2 - 5","Sometimes, history seems so far in the past and so far from our experience that it's difficult to comprehend its significance. This unique collection pairs fictional young characters with factual historical events. With the aid of a mysterious library that can transport people back in time, Team Time Machine meets famous historical characters such as George Washington and Thomas Jefferson and witnesses amazing moments such as the Boston Tea Party and the Constitutional Convention. Though the time travelers' experiences, readers learn that history can be accessible, understandable, and amazingly fun. Features include: Celebrated historical images, enlightening maps, and intriguing fact boxes support the reader-friendly texts. Provides a motivating introduction to the world of historical fiction. Topics were chosen for their relevance to elementary social studies curricula.","English",319.2,239.4,null,"32 pp.",{"$f":"Table1[[#This Row],[QTY]]*Table1[[#This Row],['# Books]]","v":0},{"$f":"Table1[[#This Row],[QTY]]*Table1[[#This Row],[S&L Price]]","v":0}]
[null,54,null,"Team Time Machine: The New Nation",6,"Team Time Machine: The New Nation","Library Set",null,"978-1-5382-5984-9",{"$f":"HYPERLINK(\"https://www.garethstevens.com/\"&Table1[[#This Row],[ISBN]],\"Weblink\")","v":"Weblink"},2021,"August 2020","Library","8.500 X 8.500","","",null,null,null,null,null,null,"Grade 2 - 3","Grade 2 - 5","The time-traveling friends and their marvelous historical library have returned for exciting adventures in the new United States. In this continuation of our delightful series, the team jumps back to the Constitutional Convention, the writing of the Bill of Rights, the Louisiana Purchase, the War of 1812, the Lewis and Clark Expedition, and the historic election of 1800. Each gripping sci-fi quest allows readers to understand just how nation-shaping these extraordinary moments in American history truly were. Features include: Entertaining dialogue and fun fact boxes draw readers into American history. Curricular social studies content is paired with a fictional storyline that appeals to all levels of readers. Illustrated characters and historical images create a unique reading experience.","English",159.6,119.7,null,"32 pp.",{"$f":"Table1[[#This Row],[QTY]]*Table1[[#This Row],['# Books]]","v":0},{"$f":"Table1[[#This Row],[QTY]]*Table1[[#This Row],[S&L Price]]","v":0}]
[null,54,null,"Team Time Machine: The New Nation",1,"Team Time Machine Adds to the Bill of Rights","Library Bound Book",null,"978-1-5382-5701-2",{"$f":"HYPERLINK(\"https://www.garethstevens.com/\"&Table1[[#This Row],[ISBN]],\"Weblink\")","v":"Weblink"},2021,"August 2020","Library","8.500 X 8.500","Author","Therese M. Shea",null,null,null,null,"M",null,"Grade 2 - 3","Grade 2 - 5","Without the promise of a statement of rights, the U.S. Constitution might never have been ratified. And without the aid of this time-traveling trio of kids, the Bill of Rights might not be what it is today, at least that's how this entertaining trip back in time tells it. Gaby, Zoe, and Will are in the thick of the action as Founding Father James Madison helps craft the first 10 amendments to the Constitution. Budding historians will love learning about these rights through the adventures of relatable young characters, fact boxes, historical images, and other beneficial text features.","English",26.6,19.95,"342.7308/5--dc23","32 pp.",{"$f":"Table1[[#This Row],[QTY]]*Table1[[#This Row],['# Books]]","v":0},{"$f":"Table1[[#This Row],[QTY]]*Table1[[#This Row],[S&L Price]]","v":0}]
[null,54,null,"Team Time Machine: The New Nation",1,"Team Time Machine Adds to the Bill of Rights","eBook",null,"978-1-5382-5702-9",{"$f":"HYPERLINK(\"https://www.garethstevens.com/\"&Table1[[#This Row],[ISBN]],\"Weblink\")","v":"Weblink"},2021,"August 2020",null,null,"Author","Therese M. Shea",null,null,null,null,"M",null,"Grade 2 - 3","Grade 2 - 5","Without the promise of a statement of rights, the U.S. Constitution might never have been ratified. And without the aid of this time-traveling trio of kids, the Bill of Rights might not be what it is today, at least that's how this entertaining trip back in time tells it. Gaby, Zoe, and Will are in the thick of the action as Founding Father James Madison helps craft the first 10 amendments to the Constitution. Budding historians will love learning about these rights through the adventures of relatable young characters, fact boxes, historical images, and other beneficial text features.","English",26.6,19.95,"342.7308/5--dc23","32 pp.",{"$f":"Table1[[#This Row],[QTY]]*Table1[[#This Row],['# Books]]","v":0},{"$f":"Table1[[#This Row],[QTY]]*Table1[[#This Row],[S&L Price]]","v":0}]
[null,54,null,"Team Time Machine: The New Nation",1,"Team Time Machine Crashes the Constitutional Convention","Library Bound Book",null,"978-1-5382-5697-8",{"$f":"HYPERLINK(\"https://www.garethstevens.com/\"&Table1[[#This Row],[ISBN]],\"Weblink\")","v":"Weblink"},2021,"August 2020","Library","8.500 X 8.500","Author","Jill Keppeler",null,null,null,null,"M",null,"Grade 2 - 3","Grade 2 - 5","In mid-1787, some famous and important Americans gathered in Philadelphia, Pennsylvania. They meant to amend the Articles of Confederation, but three young time travelers know they'll really be creating a whole new constitution for the United States! Gaby, Zoe, and Will visit the Philadelphia State House, take sides in the great debate over this important document, and witness the signing of the U.S. Constitution. Humor and adventure mix with important historical information. Color photographs and illustrations give readers a further glimpse into the past.","English",26.6,19.95,"342.7302/92--dc23","32 pp.",{"$f":"Table1[[#This Row],[QTY]]*Table1[[#This Row],['# Books]]","v":0},{"$f":"Table1[[#This Row],[QTY]]*Table1[[#This Row],[S&L Price]]","v":0}]
[null,54,null,"Team Time Machine: The New Nation",1,"Team Time Machine Crashes the Constitutional Convention","eBook",null,"978-1-5382-5698-5",{"$f":"HYPERLINK(\"https://www.garethstevens.com/\"&Table1[[#This Row],[ISBN]],\"Weblink\")","v":"Weblink"},2021,"August 2020",null,null,"Author","Jill Keppeler",null,null,null,null,"M",null,"Grade 2 - 3","Grade 2 - 5","In mid-1787, some famous and important Americans gathered in Philadelphia, Pennsylvania. They meant to amend the Articles of Confederation, but three young time travelers know they'll really be creating a whole new constitution for the United States! Gaby, Zoe, and Will visit the Philadelphia State House, take sides in the great debate over this important document, and witness the signing of the U.S. Constitution. Humor and adventure mix with important historical information. Color photographs and illustrations give readers a further glimpse into the past.","English",26.6,19.95,"342.7302/92--dc23","32 pp.",{"$f":"Table1[[#This Row],[QTY]]*Table1[[#This Row],['# Books]]","v":0},{"$f":"Table1[[#This Row],[QTY]]*Table1[[#This Row],[S&L Price]]","v":0}]
[null,54,null,"Team Time Machine: The New Nation",1,"Team Time Machine Picks a President in the Election of 1800","Library Bound Book",null,"978-1-5382-5705-0",{"$f":"HYPERLINK(\"https://www.garethstevens.com/\"&Table1[[#This Row],[ISBN]],\"Weblink\")","v":"Weblink"},2021,"August 2020","Library","8.500 X 8.500","Author","Elizabeth Krajnik",null,null,null,null,"M",null,"Grade 2 - 3","Grade 2 - 5","In the early days of the United States, people voted for the president and vice president on the same ballot. In the presidential election of 1800, Thomas Jefferson and Aaron Burr received the same number of electoral votes. In this fictional blast to the past, Gaby, Zoe, and Will witness the tie-breaking decision that led to the election of the nation's third president. Readers learn more about America's early political beginnings with humor and intrigue, while historical images and fact boxes provide them with the information they need to understand how the election process in the United States has changed since 1800.","English",26.6,19.95,"324.60973--dc23","32 pp.",{"$f":"Table1[[#This Row],[QTY]]*Table1[[#This Row],['# Books]]","v":0},{"$f":"Table1[[#This Row],[QTY]]*Table1[[#This Row],[S&L Price]]","v":0}]
[null,54,null,"Team Time Machine: The New Nation",1,"Team Time Machine Picks a President in the Election of 1800","eBook",null,"978-1-5382-5706-7",{"$f":"HYPERLINK(\"https://www.garethstevens.com/\"&Table1[[#This Row],[ISBN]],\"Weblink\")","v":"Weblink"},2021,"August 2020",null,null,"Author","Elizabeth Krajnik",null,null,null,null,"M",null,"Grade 2 - 3","Grade 2 - 5","In the early days of the United States, people voted for the president and vice president on the same ballot. In the presidential election of 1800, Thomas Jefferson and Aaron Burr received the same number of electoral votes. In this fictional blast to the past, Gaby, Zoe, and Will witness the tie-breaking decision that led to the election of the nation's third president. Readers learn more about America's early political beginnings with humor and intrigue, while historical images and fact boxes provide them with the information they need to understand how the election process in the United States has changed since 1800.","English",26.6,19.95,"324.60973--dc23","32 pp.",{"$f":"Table1[[#This Row],[QTY]]*Table1[[#This Row],['# Books]]","v":0},{"$f":"Table1[[#This Row],[QTY]]*Table1[[#This Row],[S&L Price]]","v":0}]
[null,54,null,"Team Time Machine: The New Nation",1,"Team Time Machine Tags Along with Lewis and Clark","Library Bound Book",null,"978-1-5382-5713-5",{"$f":"HYPERLINK(\"https://www.garethstevens.com/\"&Table1[[#This Row],[ISBN]],\"Weblink\")","v":"Weblink"},2021,"August 2020","Library","8.500 X 8.500","Author","Jill Keppeler",null,null,null,null,"M",null,"Grade 2 - 3","Grade 2 - 5","In 1804, a group of brave explorers set out from Saint Louis, Missouri, to study the Louisiana Purchase and the Pacific Northwest. Three members of Team Time Machine get to tag along. In this adventure, Mia, Ben, and Sam travel with Lewis and Clark and their Corps of Discovery as they set out to map the new U.S. territory and learn about all the plants, animals, and people there. Young readers will learn much about this amazing expedition through humor, adventure, and colorful photographs and illustrations.","English",26.6,19.95,"917.804/2--dc23","32 pp.",{"$f":"Table1[[#This Row],[QTY]]*Table1[[#This Row],['# Books]]","v":0},{"$f":"Table1[[#This Row],[QTY]]*Table1[[#This Row],[S&L Price]]","v":0}]
[null,54,null,"Team Time Machine: The New Nation",1,"Team Time Machine Tags Along with Lewis and Clark","eBook",null,"978-1-5382-5714-2",{"$f":"HYPERLINK(\"https://www.garethstevens.com/\"&Table1[[#This Row],[ISBN]],\"Weblink\")","v":"Weblink"},2021,"August 2020",null,null,"Author","Jill Keppeler",null,null,null,null,"M",null,"Grade 2 - 3","Grade 2 - 5","In 1804, a group of brave explorers set out from Saint Louis, Missouri, to study the Louisiana Purchase and the Pacific Northwest. Three members of Team Time Machine get to tag along. In this adventure, Mia, Ben, and Sam travel with Lewis and Clark and their Corps of Discovery as they set out to map the new U.S. territory and learn about all the plants, animals, and people there. Young readers will learn much about this amazing expedition through humor, adventure, and colorful photographs and illustrations.","English",26.6,19.95,"917.804/2--dc23","32 pp.",{"$f":"Table1[[#This Row],[QTY]]*Table1[[#This Row],['# Books]]","v":0},{"$f":"Table1[[#This Row],[QTY]]*Table1[[#This Row],[S&L Price]]","v":0}]
[null,54,null,"Team Time Machine: The New Nation",1,"Team Time Machine Wins the War of 1812","Library Bound Book",null,"978-1-5382-5717-3",{"$f":"HYPERLINK(\"https://www.garethstevens.com/\"&Table1[[#This Row],[ISBN]],\"Weblink\")","v":"Weblink"},2021,"August 2020","Library","8.500 X 8.500","Author","Shannon H. Harts",null,null,null,null,"M",null,"Grade 2 - 3","Grade 2 - 5","Three young friends from modern times suddenly find themselves face-to-face with sailors and famous warships from the War of 1812 in this exciting time-travel saga. Mia, Ben, and Sam are part of Team Time Machine, which means they can travel through time using books to power a time machine in a special library. When setting out to uncover the story behind the United States' national anthem, the team discovers an unexpected adventure and learns the War of 1812's historical significance. With engaging dialogue, informative fact boxes, and amusing illustrated characters, this book makes learning curricular social studies content fun and memorable.","English",26.6,19.95,"973.5/2--dc23","32 pp.",{"$f":"Table1[[#This Row],[QTY]]*Table1[[#This Row],['# Books]]","v":0},{"$f":"Table1[[#This Row],[QTY]]*Table1[[#This Row],[S&L Price]]","v":0}]
[null,54,null,"Team Time Machine: The New Nation",1,"Team Time Machine Wins the War of 1812","eBook",null,"978-1-5382-5718-0",{"$f":"HYPERLINK(\"https://www.garethstevens.com/\"&Table1[[#This Row],[ISBN]],\"Weblink\")","v":"Weblink"},2021,"August 2020",null,null,"Author","Shannon H. Harts",null,null,null,null,"M",null,"Grade 2 - 3","Grade 2 - 5","Three young friends from modern times suddenly find themselves face-to-face with sailors and famous warships from the War of 1812 in this exciting time-travel saga. Mia, Ben, and Sam are part of Team Time Machine, which means they can travel through time using books to power a time machine in a special library. When setting out to uncover the story behind the United States' national anthem, the team discovers an unexpected adventure and learns the War of 1812's historical significance. With engaging dialogue, informative fact boxes, and amusing illustrated characters, this book makes learning curricular social studies content fun and memorable.","English",26.6,19.95,"973.5/2--dc23","32 pp.",{"$f":"Table1[[#This Row],[QTY]]*Table1[[#This Row],['# Books]]","v":0},{"$f":"Table1[[#This Row],[QTY]]*Table1[[#This Row],[S&L Price]]","v":0}]
[null,54,null,"Team Time Machine: The New Nation",1,"Team Time Machine Witnesses the Louisiana Purchase","Library Bound Book",null,"978-1-5382-5709-8",{"$f":"HYPERLINK(\"https://www.garethstevens.com/\"&Table1[[#This Row],[ISBN]],\"Weblink\")","v":"Weblink"},2021,"August 2020","Library","8.500 X 8.500","Author","Kate Mikoley",null,null,null,null,"M",null,"Grade 2 - 3","Grade 2 - 5","The Louisiana Purchase doubled the size of the United States in 1803 and it increased the wealth and strength of the nation. In addition, it was a great bargain! Readers follow along with three friends named Mia, Ben, and Sam as they use a time machine to travel back to the days of this historic transaction. Engaging dialogue and friendly characters hold the attention of enthusiastic and developing readers alike. Informative content reinforces key social studies concepts, making this an amusing guide that supports important curricular topics.","English",26.6,19.95,"973.4/6--dc23","32 pp.",{"$f":"Table1[[#This Row],[QTY]]*Table1[[#This Row],['# Books]]","v":0},{"$f":"Table1[[#This Row],[QTY]]*Table1[[#This Row],[S&L Price]]","v":0}]
[null,54,null,"Team Time Machine: The New Nation",1,"Team Time Machine Witnesses the Louisiana Purchase","eBook",null,"978-1-5382-5710-4",{"$f":"HYPERLINK(\"https://www.garethstevens.com/\"&Table1[[#This Row],[ISBN]],\"Weblink\")","v":"Weblink"},2021,"August 2020",null,null,"Author","Kate Mikoley",null,null,null,null,"M",null,"Grade 2 - 3","Grade 2 - 5","The Louisiana Purchase doubled the size of the United States in 1803 and it increased the wealth and strength of the nation. In addition, it was a great bargain! Readers follow along with three friends named Mia, Ben, and Sam as they use a time machine to travel back to the days of this historic transaction. Engaging dialogue and friendly characters hold the attention of enthusiastic and developing readers alike. Informative content reinforces key social studies concepts, making this an amusing guide that supports important curricular topics.","English",26.6,19.95,"973.4/6--dc23","32 pp.",{"$f":"Table1[[#This Row],[QTY]]*Table1[[#This Row],['# Books]]","v":0},{"$f":"Table1[[#This Row],[QTY]]*Table1[[#This Row],[S&L Price]]","v":0}]
[null,55,null,"Team Time Machine: American Revolution",6,"Team Time Machine: American Revolution","Library Set",null,"978-1-5382-4892-8",{"$f":"HYPERLINK(\"https://www.garethstevens.com/\"&Table1[[#This Row],[ISBN]],\"Weblink\")","v":"Weblink"},2020,"January 2020","Library","8.500 X 8.500","","",null,null,null,null,null,null,"Grade 2 - 3","Grade 2 - 5","Introducing...Team Time Machine! This likeable squad believes in doing hands-on historical research by going back in time. In this enormously entertaining set, the team is focusing on critical events of the American Revolution, a central part of the elementary social studies curriculum. Readers are invited to tag along on the journey, learning and laughing, as they discover more about the fascinating events that led to the founding of the United States. Features include: Charming and high-interest approach to history engages developing readers. Lively illustrations and dialogue by Team Time Machine add fun and excitement to this time period, while historical images add support to the at-level texts. Supports being able to understand and explain events, procedures, ideas, or concepts in a historical text, which is a standard of the English Language Arts Common Core.","English",159.6,119.7,null,"32 pp.",{"$f":"Table1[[#This Row],[QTY]]*Table1[[#This Row],['# Books]]","v":0},{"$f":"Table1[[#This Row],[QTY]]*Table1[[#This Row],[S&L Price]]","v":0}]
[null,55,null,"Team Time Machine: American Revolution",1,"Team Time Machine Crosses the Delaware","Library Bound Book",null,"978-1-5382-4676-4",{"$f":"HYPERLINK(\"https://www.garethstevens.com/\"&Table1[[#This Row],[ISBN]],\"Weblink\")","v":"Weblink"},2020,"January 2020","Library","8.500 X 8.500","Author","Amanda Vink",null,null,null,null,"M",null,"Grade 2 - 3","Grade 2 - 5","What's better than experiencing history first-hand?! Team Time Machine goes on another adventure in this exciting book. This time, Mia, Ben, and Sam meet General George Washington on the night he prepares his troops to cross the Delaware River. Readers join the team as they find out more about the American Revolution through first-hand accounts and by experiencing personally the icy waters that lead to the Battle of Trenton. An engaging narrative and relatable characters ensure the interest of adventure lovers.","English",26.6,19.95,"973.3--dc23","32 pp.",{"$f":"Table1[[#This Row],[QTY]]*Table1[[#This Row],['# Books]]","v":0},{"$f":"Table1[[#This Row],[QTY]]*Table1[[#This Row],[S&L Price]]","v":0}]
[null,55,null,"Team Time Machine: American Revolution",1,"Team Time Machine Crosses the Delaware","eBook",null,"978-1-5382-4677-1",{"$f":"HYPERLINK(\"https://www.garethstevens.com/\"&Table1[[#This Row],[ISBN]],\"Weblink\")","v":"Weblink"},2020,"January 2020",null,null,"Author","Amanda Vink",null,null,null,null,"M",null,"Grade 2 - 3","Grade 2 - 5","What's better than experiencing history first-hand?! Team Time Machine goes on another adventure in this exciting book. This time, Mia, Ben, and Sam meet General George Washington on the night he prepares his troops to cross the Delaware River. Readers join the team as they find out more about the American Revolution through first-hand accounts and by experiencing personally the icy waters that lead to the Battle of Trenton. An engaging narrative and relatable characters ensure the interest of adventure lovers.","English",26.6,19.95,"973.3--dc23","32 pp.",{"$f":"Table1[[#This Row],[QTY]]*Table1[[#This Row],['# Books]]","v":0},{"$f":"Table1[[#This Row],[QTY]]*Table1[[#This Row],[S&L Price]]","v":0}]
[null,55,null,"Team Time Machine: American Revolution",1,"Team Time Machine Drafts the Declaration of Independence","Library Bound Book",null,"978-1-5382-4680-1",{"$f":"HYPERLINK(\"https://www.garethstevens.com/\"&Table1[[#This Row],[ISBN]],\"Weblink\")","v":"Weblink"},2020,"January 2020","Library","8.500 X 8.500","Author","Jill Keppeler",null,null,null,null,"M",null,"Grade 2 - 3","Grade 2 - 5","It's one of the most famous documents in United States history so it's time for Team Time Machine to get a close look at the drafting of the Declaration of Independence! Sam, Ben, and Mia travel to 1776 Philadelphia to find out more about this key piece of writing and the men who crafted it and what happened after the words met paper. This entertaining, fascinating volume will intrigue young history buffs and capture the attention of developing readers.","English",26.6,19.95,"973.3'13--dc23","32 pp.",{"$f":"Table1[[#This Row],[QTY]]*Table1[[#This Row],['# Books]]","v":0},{"$f":"Table1[[#This Row],[QTY]]*Table1[[#This Row],[S&L Price]]","v":0}]
[null,55,null,"Team Time Machine: American Revolution",1,"Team Time Machine Drafts the Declaration of Independence","eBook",null,"978-1-5382-4681-8",{"$f":"HYPERLINK(\"https://www.garethstevens.com/\"&Table1[[#This Row],[ISBN]],\"Weblink\")","v":"Weblink"},2020,"January 2020",null,null,"Author","Jill Keppeler",null,null,null,null,"M",null,"Grade 2 - 3","Grade 2 - 5","It's one of the most famous documents in United States history so it's time for Team Time Machine to get a close look at the drafting of the Declaration of Independence! Sam, Ben, and Mia travel to 1776 Philadelphia to find out more about this key piece of writing and the men who crafted it and what happened after the words met paper. This entertaining, fascinating volume will intrigue young history buffs and capture the attention of developing readers.","English",26.6,19.95,"973.3'13--dc23","32 pp.",{"$f":"Table1[[#This Row],[QTY]]*Table1[[#This Row],['# Books]]","v":0},{"$f":"Table1[[#This Row],[QTY]]*Table1[[#This Row],[S&L Price]]","v":0}]
[null,55,null,"Team Time Machine: American Revolution",1,"Team Time Machine Joins the Boston Tea Party","Library Bound Book",null,"978-1-5382-4684-9",{"$f":"HYPERLINK(\"https://www.garethstevens.com/\"&Table1[[#This Row],[ISBN]],\"Weblink\")","v":"Weblink"},2020,"January 2020","Library","8.500 X 8.500","Author","Therese M. Shea",null,null,null,null,"L",null,"Grade 2 - 3","Grade 2 - 5","Even the youngest Americans have heard something about the Boston Tea Party, an event before the American Revolution in which patriots dressed as Native Americans and dumped chests of tea into Boston Harbor. Why they did this might not be so clear. In this exciting book, a group of young historians who call themselves Team Time Machine go back to the year 1773 to find out. This high-interest look at an important historical event will motivate all levels of readers to immerse themselves in the past and learn how compelling history can be with a touch of imagination.","English",26.6,19.95,"973.3/115--dc23","32 pp.",{"$f":"Table1[[#This Row],[QTY]]*Table1[[#This Row],['# Books]]","v":0},{"$f":"Table1[[#This Row],[QTY]]*Table1[[#This Row],[S&L Price]]","v":0}]
[null,55,null,"Team Time Machine: American Revolution",1,"Team Time Machine Joins the Boston Tea Party","eBook",null,"978-1-5382-4685-6",{"$f":"HYPERLINK(\"https://www.garethstevens.com/\"&Table1[[#This Row],[ISBN]],\"Weblink\")","v":"Weblink"},2020,"January 2020",null,null,"Author","Therese M. Shea",null,null,null,null,"L",null,"Grade 2 - 3","Grade 2 - 5","Even the youngest Americans have heard something about the Boston Tea Party, an event before the American Revolution in which patriots dressed as Native Americans and dumped chests of tea into Boston Harbor. Why they did this might not be so clear. In this exciting book, a group of young historians who call themselves Team Time Machine go back to the year 1773 to find out. This high-interest look at an important historical event will motivate all levels of readers to immerse themselves in the past and learn how compelling history can be with a touch of imagination.","English",26.6,19.95,"973.3/115--dc23","32 pp.",{"$f":"Table1[[#This Row],[QTY]]*Table1[[#This Row],['# Books]]","v":0},{"$f":"Table1[[#This Row],[QTY]]*Table1[[#This Row],[S&L Price]]","v":0}]
[null,55,null,"Team Time Machine: American Revolution",1,"Team Time Machine Leads the Way at Lexington and Concord","Library Bound Book",null,"978-1-5382-4688-7",{"$f":"HYPERLINK(\"https://www.garethstevens.com/\"&Table1[[#This Row],[ISBN]],\"Weblink\")","v":"Weblink"},2020,"January 2020","Library","8.500 X 8.500","Author","Mark Harasymiw",null,null,null,null,"L",null,"Grade 2 - 3","Grade 2 - 5","The Team Time Machine kids are going back in time to a famous moment in American history when American colonists battled the British forces at Lexington and Concord. As riveted readers tag along, the time-traveling adventurers witness these Revolutionary War battles and the British march back to Boston, setting the stage for the revolution that created the United States. Historical images and fun fact boxes give budding historians an in-depth understanding of these significant events.","English",26.6,19.95,"973.3/311--dc23","32 pp.",{"$f":"Table1[[#This Row],[QTY]]*Table1[[#This Row],['# Books]]","v":0},{"$f":"Table1[[#This Row],[QTY]]*Table1[[#This Row],[S&L Price]]","v":0}]
[null,55,null,"Team Time Machine: American Revolution",1,"Team Time Machine Leads the Way at Lexington and Concord","eBook",null,"978-1-5382-4689-4",{"$f":"HYPERLINK(\"https://www.garethstevens.com/\"&Table1[[#This Row],[ISBN]],\"Weblink\")","v":"Weblink"},2020,"January 2020",null,null,"Author","Mark Harasymiw",null,null,null,null,"L",null,"Grade 2 - 3","Grade 2 - 5","The Team Time Machine kids are going back in time to a famous moment in American history when American colonists battled the British forces at Lexington and Concord. As riveted readers tag along, the time-traveling adventurers witness these Revolutionary War battles and the British march back to Boston, setting the stage for the revolution that created the United States. Historical images and fun fact boxes give budding historians an in-depth understanding of these significant events.","English",26.6,19.95,"973.3/311--dc23","32 pp.",{"$f":"Table1[[#This Row],[QTY]]*Table1[[#This Row],['# Books]]","v":0},{"$f":"Table1[[#This Row],[QTY]]*Table1[[#This Row],[S&L Price]]","v":0}]
[null,55,null,"Team Time Machine: American Revolution",1,"Team Time Machine Rides Along with Paul Revere","Library Bound Book",null,"978-1-5382-4692-4",{"$f":"HYPERLINK(\"https://www.garethstevens.com/\"&Table1[[#This Row],[ISBN]],\"Weblink\")","v":"Weblink"},2020,"January 2020","Library","8.500 X 8.500","Author","Caitie McAneney",null,null,null,null,"L",null,"Grade 2 - 3","Grade 2 - 5","Team Time Machine has another adventure on their hands. They're riding with Paul Revere! Revere famously alerted colonists to approaching British forces at the start of the Revolutionary War. Readers will follow the kids of Team Time Machine and Paul Revere as they ride from Boston to Lexington to save the day. Historical artwork paired with fun facts and an exciting narrative give readers an inside look at one of the greatest moments of the American Revolution.","English",26.6,19.95,"973.3/311092--dc23","32 pp.",{"$f":"Table1[[#This Row],[QTY]]*Table1[[#This Row],['# Books]]","v":0},{"$f":"Table1[[#This Row],[QTY]]*Table1[[#This Row],[S&L Price]]","v":0}]
[null,55,null,"Team Time Machine: American Revolution",1,"Team Time Machine Rides Along with Paul Revere","eBook",null,"978-1-5382-4693-1",{"$f":"HYPERLINK(\"https://www.garethstevens.com/\"&Table1[[#This Row],[ISBN]],\"Weblink\")","v":"Weblink"},2020,"January 2020",null,null,"Author","Caitie McAneney",null,null,null,null,"L",null,"Grade 2 - 3","Grade 2 - 5","Team Time Machine has another adventure on their hands. They're riding with Paul Revere! Revere famously alerted colonists to approaching British forces at the start of the Revolutionary War. Readers will follow the kids of Team Time Machine and Paul Revere as they ride from Boston to Lexington to save the day. Historical artwork paired with fun facts and an exciting narrative give readers an inside look at one of the greatest moments of the American Revolution.","English",26.6,19.95,"973.3/311092--dc23","32 pp.",{"$f":"Table1[[#This Row],[QTY]]*Table1[[#This Row],['# Books]]","v":0},{"$f":"Table1[[#This Row],[QTY]]*Table1[[#This Row],[S&L Price]]","v":0}]
[null,55,null,"Team Time Machine: American Revolution",1,"Team Time Machine Witnesses the Siege at Yorktown","Library Bound Book",null,"978-1-5382-4696-2",{"$f":"HYPERLINK(\"https://www.garethstevens.com/\"&Table1[[#This Row],[ISBN]],\"Weblink\")","v":"Weblink"},2020,"January 2020","Library","8.500 X 8.500","Author","Jill Keppeler",null,null,null,null,"M",null,"Grade 2 - 3","Grade 2 - 5","It's the battle where the world turned upside down and Team Time Machine is on the scene! The squad travels back to 1781 to learn more about the siege of Yorktown, the final major military conflict of the American Revolution. Young readers will be fascinated by the kid's-eye view of these pivotal events, in a topic that's integral to the elementary social studies curriculum. Interesting fact boxes, colorful photographs, and bright artwork pull readers into the stories behind this important historical event.","English",26.6,19.95,"973.3'37--dc23","32 pp.",{"$f":"Table1[[#This Row],[QTY]]*Table1[[#This Row],['# Books]]","v":0},{"$f":"Table1[[#This Row],[QTY]]*Table1[[#This Row],[S&L Price]]","v":0}]
[null,55,null,"Team Time Machine: American Revolution",1,"Team Time Machine Witnesses the Siege at Yorktown","eBook",null,"978-1-5382-4697-9",{"$f":"HYPERLINK(\"https://www.garethstevens.com/\"&Table1[[#This Row],[ISBN]],\"Weblink\")","v":"Weblink"},2020,"January 2020",null,null,"Author","Jill Keppeler",null,null,null,null,"M",null,"Grade 2 - 3","Grade 2 - 5","It's the battle where the world turned upside down and Team Time Machine is on the scene! The squad travels back to 1781 to learn more about the siege of Yorktown, the final major military conflict of the American Revolution. Young readers will be fascinated by the kid's-eye view of these pivotal events, in a topic that's integral to the elementary social studies curriculum. Interesting fact boxes, colorful photographs, and bright artwork pull readers into the stories behind this important historical event.","English",26.6,19.95,"973.3'37--dc23","32 pp.",{"$f":"Table1[[#This Row],[QTY]]*Table1[[#This Row],['# Books]]","v":0},{"$f":"Table1[[#This Row],[QTY]]*Table1[[#This Row],[S&L Price]]","v":0}]
[null,56,null,"The Constitution Explained!",6,"The Constitution Explained!","Library Set",null,"978-1-5382-5975-7",{"$f":"HYPERLINK(\"https://www.garethstevens.com/\"&Table1[[#This Row],[ISBN]],\"Weblink\")","v":"Weblink"},2021,"August 2020","Library","6.500 X 9.125","","",null,null,null,null,null,null,"Grade 4 - 5","Grade 4 - 6","The U.S. Constitution is the backbone of the nation. This written document details how the American government works as well as the powers that each branch wields. The oldest written constitution still in use, the Constitution has only been amended 27 times since 1789, with the Bill of Rights and other amendments that further define the liberties of American citizens. This essential set defines and presents the Constitution in comprehensible parts and connects it to the lives of everyday Americans. A must for every social studies class and library, readers will learn more about the nation's framework and why the Constitution will continue to be its vital foundation. Features include: Complex language of the Constitution is explained in an accessible way. Connections to modern events make the topics relevant to readers' lives. Supports both history and government curricular content in elementary classrooms. Historical images and an appealing design attract young historians.","English",159.6,119.7,null,"32 pp.",{"$f":"Table1[[#This Row],[QTY]]*Table1[[#This Row],['# Books]]","v":0},{"$f":"Table1[[#This Row],[QTY]]*Table1[[#This Row],[S&L Price]]","v":0}]
[null,56,null,"The Constitution Explained!",1,"Article I: Building the Congress","Library Bound Book",null,"978-1-5382-5852-1",{"$f":"HYPERLINK(\"https://www.garethstevens.com/\"&Table1[[#This Row],[ISBN]],\"Weblink\")","v":"Weblink"},2021,"August 2020","Library","6.500 X 9.125","Author","Julia McDonnell",null,null,null,null,"U",null,"Grade 4 - 5","Grade 4 - 6","The U.S. Constitution is an essential part of governing the country. Its articles outline rules, laws, and procedures for our government. With this essential book, readers will learn about the intricacies of Article I and the inner workings of Congress. Through easy-to-understand language, vivid photographs, and interesting facts, readers discover how each part of Congress is elected, their responsibilities and limits, and their obligation to ensure that the U.S. government functions ethically and in the best interest of Americans.","English",26.6,19.95,"342.7302'9--dc23","32 pp.",{"$f":"Table1[[#This Row],[QTY]]*Table1[[#This Row],['# Books]]","v":0},{"$f":"Table1[[#This Row],[QTY]]*Table1[[#This Row],[S&L Price]]","v":0}]
[null,56,null,"The Constitution Explained!",1,"Article I: Building the Congress","eBook",null,"978-1-5382-5853-8",{"$f":"HYPERLINK(\"https://www.garethstevens.com/\"&Table1[[#This Row],[ISBN]],\"Weblink\")","v":"Weblink"},2021,"August 2020",null,null,"Author","Julia McDonnell",null,null,null,null,"U",null,"Grade 4 - 5","Grade 4 - 6","The U.S. Constitution is an essential part of governing the country. Its articles outline rules, laws, and procedures for our government. With this essential book, readers will learn about the intricacies of Article I and the inner workings of Congress. Through easy-to-understand language, vivid photographs, and interesting facts, readers discover how each part of Congress is elected, their responsibilities and limits, and their obligation to ensure that the U.S. government functions ethically and in the best interest of Americans.","English",26.6,19.95,"342.7302'9--dc23","32 pp.",{"$f":"Table1[[#This Row],[QTY]]*Table1[[#This Row],['# Books]]","v":0},{"$f":"Table1[[#This Row],[QTY]]*Table1[[#This Row],[S&L Price]]","v":0}]
[null,56,null,"The Constitution Explained!",1,"Article II: Building the Executive Branch","Library Bound Book",null,"978-1-5382-5856-9",{"$f":"HYPERLINK(\"https://www.garethstevens.com/\"&Table1[[#This Row],[ISBN]],\"Weblink\")","v":"Weblink"},2021,"August 2020","Library","6.500 X 9.125","Author","Katie Kawa",null,null,null,null,"U",null,"Grade 4 - 5","Grade 4 - 6","Americans often have questions about what the president can and can't do. Many of these questions are answered in Article II of the U.S. Constitution. From declaring war to appointing ambassadors and Supreme Court justices, the powers of the presidency are explained in this helpful book. The informative narrative connects the past and present using language from the Constitution that is explained in an accessible way. Current examples of the executive branch in action are presented. Featuring primary sources, graphic organizers, fact boxes, and sidebars, this engaging reading experience helps foster a sense of informed and active citizenship.","English",26.6,19.95,"342.73/06--dc23","32 pp.",{"$f":"Table1[[#This Row],[QTY]]*Table1[[#This Row],['# Books]]","v":0},{"$f":"Table1[[#This Row],[QTY]]*Table1[[#This Row],[S&L Price]]","v":0}]
[null,56,null,"The Constitution Explained!",1,"Article II: Building the Executive Branch","eBook",null,"978-1-5382-5857-6",{"$f":"HYPERLINK(\"https://www.garethstevens.com/\"&Table1[[#This Row],[ISBN]],\"Weblink\")","v":"Weblink"},2021,"August 2020",null,null,"Author","Katie Kawa",null,null,null,null,"U",null,"Grade 4 - 5","Grade 4 - 6","Americans often have questions about what the president can and can't do. Many of these questions are answered in Article II of the U.S. Constitution. From declaring war to appointing ambassadors and Supreme Court justices, the powers of the presidency are explained in this helpful book. The informative narrative connects the past and present using language from the Constitution that is explained in an accessible way. Current examples of the executive branch in action are presented. Featuring primary sources, graphic organizers, fact boxes, and sidebars, this engaging reading experience helps foster a sense of informed and active citizenship.","English",26.6,19.95,"342.73/06--dc23","32 pp.",{"$f":"Table1[[#This Row],[QTY]]*Table1[[#This Row],['# Books]]","v":0},{"$f":"Table1[[#This Row],[QTY]]*Table1[[#This Row],[S&L Price]]","v":0}]
[null,56,null,"The Constitution Explained!",1,"Article III: Building the Court System","Library Bound Book",null,"978-1-5382-5860-6",{"$f":"HYPERLINK(\"https://www.garethstevens.com/\"&Table1[[#This Row],[ISBN]],\"Weblink\")","v":"Weblink"},2021,"August 2020","Library","6.500 X 9.125","Author","Fletcher C. Finch",null,null,null,null,"U",null,"Grade 4 - 5","Grade 4 - 6","The writers of the U.S. Constitution called for federal courts to judge cases according to the Constitution and the laws passed by Congress. Article III empowers the Supreme Court and federal courts to judge controversies between different states and their citizens. In this important and fascinating volume, readers will learn about the ways the American court system helps balance governmental powers and protects the rights of citizens. Modern and historical examples help readers understand the way court decisions have shaped the nation.","English",26.6,19.95,"347.73'2--dc23","32 pp.",{"$f":"Table1[[#This Row],[QTY]]*Table1[[#This Row],['# Books]]","v":0},{"$f":"Table1[[#This Row],[QTY]]*Table1[[#This Row],[S&L Price]]","v":0}]
[null,56,null,"The Constitution Explained!",1,"Article III: Building the Court System","eBook",null,"978-1-5382-5861-3",{"$f":"HYPERLINK(\"https://www.garethstevens.com/\"&Table1[[#This Row],[ISBN]],\"Weblink\")","v":"Weblink"},2021,"August 2020",null,null,"Author","Fletcher C. Finch",null,null,null,null,"U",null,"Grade 4 - 5","Grade 4 - 6","The writers of the U.S. Constitution called for federal courts to judge cases according to the Constitution and the laws passed by Congress. Article III empowers the Supreme Court and federal courts to judge controversies between different states and their citizens. In this important and fascinating volume, readers will learn about the ways the American court system helps balance governmental powers and protects the rights of citizens. Modern and historical examples help readers understand the way court decisions have shaped the nation.","English",26.6,19.95,"347.73'2--dc23","32 pp.",{"$f":"Table1[[#This Row],[QTY]]*Table1[[#This Row],['# Books]]","v":0},{"$f":"Table1[[#This Row],[QTY]]*Table1[[#This Row],[S&L Price]]","v":0}]
[null,56,null,"The Constitution Explained!",1,"The Bill of Rights: Guaranteeing Liberty","Library Bound Book",null,"978-1-5382-5868-2",{"$f":"HYPERLINK(\"https://www.garethstevens.com/\"&Table1[[#This Row],[ISBN]],\"Weblink\")","v":"Weblink"},2021,"August 2020","Library","6.500 X 9.125","Author","Janey Levy",null,null,null,null,"U",null,"Grade 4 - 5","Grade 4 - 6","The Bill of Rights is an exceptionally important part of the Constitution. Not only does the Bill of Rights guarantee individual liberties and place limits on government powers, but without the addition of this section, the Constitution itself might never have been approved. This absorbing volume discusses the Bill of Rights and how it came to be, the language of each amendment, and how amendments have been interpreted. Intriguing controversies surrounding some of the amendments are explained. Sidebars, fact boxes, and graphic organizers enrich the learning experience.","English",26.6,19.95,"342.7303--dc23","32 pp.",{"$f":"Table1[[#This Row],[QTY]]*Table1[[#This Row],['# Books]]","v":0},{"$f":"Table1[[#This Row],[QTY]]*Table1[[#This Row],[S&L Price]]","v":0}]
[null,56,null,"The Constitution Explained!",1,"The Bill of Rights: Guaranteeing Liberty","eBook",null,"978-1-5382-5869-9",{"$f":"HYPERLINK(\"https://www.garethstevens.com/\"&Table1[[#This Row],[ISBN]],\"Weblink\")","v":"Weblink"},2021,"August 2020",null,null,"Author","Janey Levy",null,null,null,null,"U",null,"Grade 4 - 5","Grade 4 - 6","The Bill of Rights is an exceptionally important part of the Constitution. Not only does the Bill of Rights guarantee individual liberties and place limits on government powers, but without the addition of this section, the Constitution itself might never have been approved. This absorbing volume discusses the Bill of Rights and how it came to be, the language of each amendment, and how amendments have been interpreted. Intriguing controversies surrounding some of the amendments are explained. Sidebars, fact boxes, and graphic organizers enrich the learning experience.","English",26.6,19.95,"342.7303--dc23","32 pp.",{"$f":"Table1[[#This Row],[QTY]]*Table1[[#This Row],['# Books]]","v":0},{"$f":"Table1[[#This Row],[QTY]]*Table1[[#This Row],[S&L Price]]","v":0}]
[null,56,null,"The Constitution Explained!",1,"The Constitution's Last Four Articles: From States' Rights to Amendments","Library Bound Book",null,"978-1-5382-5864-4",{"$f":"HYPERLINK(\"https://www.garethstevens.com/\"&Table1[[#This Row],[ISBN]],\"Weblink\")","v":"Weblink"},2021,"August 2020","Library","6.500 X 9.125","Author","Sarah Machajewski",null,null,null,null,"U",null,"Grade 4 - 5","Grade 4 - 6","The U.S. Constitution famously opens with \"We the people.\" What about the rest of it? This valuable volume takes readers on a deep dive into the Constitution and its last four articles. Covering Articles IV to VI, the accessible narrative explains important concepts like states' rights, amendments, laws and treaties, and the process for ratification. Written to support elementary social studies curricula, readers will be at ease with the age-appropriate language, helpful images, and high-impact features such as sidebars, fact boxes, and graphic organizers.","English",26.6,19.95,"342.7302/9--dc23","32 pp.",{"$f":"Table1[[#This Row],[QTY]]*Table1[[#This Row],['# Books]]","v":0},{"$f":"Table1[[#This Row],[QTY]]*Table1[[#This Row],[S&L Price]]","v":0}]
[null,56,null,"The Constitution Explained!",1,"The Constitution's Last Four Articles: From States' Rights to Amendments","eBook",null,"978-1-5382-5865-1",{"$f":"HYPERLINK(\"https://www.garethstevens.com/\"&Table1[[#This Row],[ISBN]],\"Weblink\")","v":"Weblink"},2021,"August 2020",null,null,"Author","Sarah Machajewski",null,null,null,null,"U",null,"Grade 4 - 5","Grade 4 - 6","The U.S. Constitution famously opens with \"We the people.\" What about the rest of it? This valuable volume takes readers on a deep dive into the Constitution and its last four articles. Covering Articles IV to VI, the accessible narrative explains important concepts like states' rights, amendments, laws and treaties, and the process for ratification. Written to support elementary social studies curricula, readers will be at ease with the age-appropriate language, helpful images, and high-impact features such as sidebars, fact boxes, and graphic organizers.","English",26.6,19.95,"342.7302/9--dc23","32 pp.",{"$f":"Table1[[#This Row],[QTY]]*Table1[[#This Row],['# Books]]","v":0},{"$f":"Table1[[#This Row],[QTY]]*Table1[[#This Row],[S&L Price]]","v":0}]
[null,56,null,"The Constitution Explained!",1,"The Constitutional Convention: Creating the Constitution","Library Bound Book",null,"978-1-5382-5848-4",{"$f":"HYPERLINK(\"https://www.garethstevens.com/\"&Table1[[#This Row],[ISBN]],\"Weblink\")","v":"Weblink"},2021,"August 2020","Library","6.500 X 9.125","Author","Jill Keppeler",null,null,null,null,"U",null,"Grade 4 - 5","Grade 4 - 6","The U.S. Constitution is an important and revered part of our nation's history and government, but it wasn't always that way. With this beneficial book, readers learn how the U.S. Constitution came to be, from its predecessor the Articles of Confederation to the final ratified document. Fascinating details about the debates, controversies, and struggles along the way are richly explored. Writings from the Founding Fathers who helped create this important document will show why they made the choices they did. Historical photographs give readers a glimpse into the background of this key piece of American history.","English",26.6,19.95,"342.7302/92--dc23","32 pp.",{"$f":"Table1[[#This Row],[QTY]]*Table1[[#This Row],['# Books]]","v":0},{"$f":"Table1[[#This Row],[QTY]]*Table1[[#This Row],[S&L Price]]","v":0}]
[null,56,null,"The Constitution Explained!",1,"The Constitutional Convention: Creating the Constitution","eBook",null,"978-1-5382-5849-1",{"$f":"HYPERLINK(\"https://www.garethstevens.com/\"&Table1[[#This Row],[ISBN]],\"Weblink\")","v":"Weblink"},2021,"August 2020",null,null,"Author","Jill Keppeler",null,null,null,null,"U",null,"Grade 4 - 5","Grade 4 - 6","The U.S. Constitution is an important and revered part of our nation's history and government, but it wasn't always that way. With this beneficial book, readers learn how the U.S. Constitution came to be, from its predecessor the Articles of Confederation to the final ratified document. Fascinating details about the debates, controversies, and struggles along the way are richly explored. Writings from the Founding Fathers who helped create this important document will show why they made the choices they did. Historical photographs give readers a glimpse into the background of this key piece of American history.","English",26.6,19.95,"342.7302/92--dc23","32 pp.",{"$f":"Table1[[#This Row],[QTY]]*Table1[[#This Row],['# Books]]","v":0},{"$f":"Table1[[#This Row],[QTY]]*Table1[[#This Row],[S&L Price]]","v":0}]
[null,57,null,"The Nasty Past",4,"The Nasty Past","Library Set",null,"978-1-5382-5339-7",{"$f":"HYPERLINK(\"https://www.garethstevens.com/\"&Table1[[#This Row],[ISBN]],\"Weblink\")","v":"Weblink"},2020,"January 2020","Library","8.500 X 11.00","","",null,null,null,null,null,null,"Grade 5","Grade 4 - 6","Many like to think the past was a pleasant place: orderly kingdoms, chivalrous knights, verdant farms, that kind of thing. But the past wasn't picture perfect, far from it. It was filled with horrible wars, dreadful disasters, disgusting diseases, and ghastly crime. In short, it was both hair-raising and fascinating. Enthralled readers will love the intriguing stories in these gripping books, an entertaining aid to the elementary history curriculum. Each detailed volume focuses on high-interest events that young historians should know about, such as the sinking of the Titanic. The past wasn't perfect, but it's perfectly compelling to read about. Features include: Riveting design with historical artwork and photographs that complement the at-level texts. Provides many opportunities to exercise skills relating to informational texts as outlined in the English Language Arts Common Core standards.","English",106.4,79.8,null,"32 pp.",{"$f":"Table1[[#This Row],[QTY]]*Table1[[#This Row],['# Books]]","v":0},{"$f":"Table1[[#This Row],[QTY]]*Table1[[#This Row],[S&L Price]]","v":0}]
[null,57,null,"The Nasty Past",1,"Crime","Library Bound Book",null,"978-1-5382-5280-2",{"$f":"HYPERLINK(\"https://www.garethstevens.com/\"&Table1[[#This Row],[ISBN]],\"Weblink\")","v":"Weblink"},2020,"January 2020","Library","8.500 X 11.00","Author","John Wood",null,null,null,null,"T",null,"Grade 5","Grade 4 - 6","Crimes and criminals of yesteryear are an absorbing way to attract readers to learning about history. Pirates seeking treasure, gunslingers of the Wild West, and clever criminal masterminds are the focus of this high-interest volume. Readers will love learning who was clapped in irons, thrown into dungeons, and sentenced to the gallows. Captivating artwork and photographs complement the accessible narrative, which transports young historians back in time.","English",26.6,19.95,"364.1--dc23","32 pp.",{"$f":"Table1[[#This Row],[QTY]]*Table1[[#This Row],['# Books]]","v":0},{"$f":"Table1[[#This Row],[QTY]]*Table1[[#This Row],[S&L Price]]","v":0}]
[null,57,null,"The Nasty Past",1,"Crime","eBook",null,"978-1-5382-5281-9",{"$f":"HYPERLINK(\"https://www.garethstevens.com/\"&Table1[[#This Row],[ISBN]],\"Weblink\")","v":"Weblink"},2020,"January 2020",null,null,"Author","John Wood",null,null,null,null,"T",null,"Grade 5","Grade 4 - 6","Crimes and criminals of yesteryear are an absorbing way to attract readers to learning about history. Pirates seeking treasure, gunslingers of the Wild West, and clever criminal masterminds are the focus of this high-interest volume. Readers will love learning who was clapped in irons, thrown into dungeons, and sentenced to the gallows. Captivating artwork and photographs complement the accessible narrative, which transports young historians back in time.","English",26.6,19.95,"364.1--dc23","32 pp.",{"$f":"Table1[[#This Row],[QTY]]*Table1[[#This Row],['# Books]]","v":0},{"$f":"Table1[[#This Row],[QTY]]*Table1[[#This Row],[S&L Price]]","v":0}]
[null,57,null,"The Nasty Past",1,"Disaster","Library Bound Book",null,"978-1-5382-5283-3",{"$f":"HYPERLINK(\"https://www.garethstevens.com/\"&Table1[[#This Row],[ISBN]],\"Weblink\")","v":"Weblink"},2020,"January 2020","Library","8.500 X 11.00","Author","John Wood",null,null,null,null,"T",null,"Grade 5","Grade 4 - 6","Certain disasters have left such an indelible mark on history that people never tire of learning about them and wanting to discover more details. That's true of the dreadful disasters in this captivating book, which describes what happened in a sensitive and accessible way. As riveted readers learn about history's biggest catastrophes, they'll feel like they're on the scene, including the deck of the Titanic and at the foot of an explosive volcano. Vivid photographs throughout the exciting design bring the nasty past to the present.","English",26.6,19.95,"363.3409--dc23","32 pp.",{"$f":"Table1[[#This Row],[QTY]]*Table1[[#This Row],['# Books]]","v":0},{"$f":"Table1[[#This Row],[QTY]]*Table1[[#This Row],[S&L Price]]","v":0}]
[null,57,null,"The Nasty Past",1,"Disaster","eBook",null,"978-1-5382-5284-0",{"$f":"HYPERLINK(\"https://www.garethstevens.com/\"&Table1[[#This Row],[ISBN]],\"Weblink\")","v":"Weblink"},2020,"January 2020",null,null,"Author","John Wood",null,null,null,null,"T",null,"Grade 5","Grade 4 - 6","Certain disasters have left such an indelible mark on history that people never tire of learning about them and wanting to discover more details. That's true of the dreadful disasters in this captivating book, which describes what happened in a sensitive and accessible way. As riveted readers learn about history's biggest catastrophes, they'll feel like they're on the scene, including the deck of the Titanic and at the foot of an explosive volcano. Vivid photographs throughout the exciting design bring the nasty past to the present.","English",26.6,19.95,"363.3409--dc23","32 pp.",{"$f":"Table1[[#This Row],[QTY]]*Table1[[#This Row],['# Books]]","v":0},{"$f":"Table1[[#This Row],[QTY]]*Table1[[#This Row],[S&L Price]]","v":0}]
[null,57,null,"The Nasty Past",1,"Disease","Library Bound Book",null,"978-1-5382-5286-4",{"$f":"HYPERLINK(\"https://www.garethstevens.com/\"&Table1[[#This Row],[ISBN]],\"Weblink\")","v":"Weblink"},2020,"January 2020","Library","8.500 X 11.00","Author","John Wood",null,null,null,null,"T",null,"Grade 5","Grade 4 - 6","Modern medicine is such a marvel that it's hard to imagine how deadly it was to live in the past. Sometimes it was hard to stay alive, especially in the care of an ancient doctor. Readers will learn about deadly diseases such as the many plagues that killed off millions in the Middle Ages. They'll discover just how little people knew about the spread of illness and its prevention. Historical artwork supports the intriguing, gruesome details, and will make readers thankful they live in the modern world.","English",26.6,19.95,"616.07'9--dc23","32 pp.",{"$f":"Table1[[#This Row],[QTY]]*Table1[[#This Row],['# Books]]","v":0},{"$f":"Table1[[#This Row],[QTY]]*Table1[[#This Row],[S&L Price]]","v":0}]
[null,57,null,"The Nasty Past",1,"Disease","eBook",null,"978-1-5382-5287-1",{"$f":"HYPERLINK(\"https://www.garethstevens.com/\"&Table1[[#This Row],[ISBN]],\"Weblink\")","v":"Weblink"},2020,"January 2020",null,null,"Author","John Wood",null,null,null,null,"T",null,"Grade 5","Grade 4 - 6","Modern medicine is such a marvel that it's hard to imagine how deadly it was to live in the past. Sometimes it was hard to stay alive, especially in the care of an ancient doctor. Readers will learn about deadly diseases such as the many plagues that killed off millions in the Middle Ages. They'll discover just how little people knew about the spread of illness and its prevention. Historical artwork supports the intriguing, gruesome details, and will make readers thankful they live in the modern world.","English",26.6,19.95,"616.07'9--dc23","32 pp.",{"$f":"Table1[[#This Row],[QTY]]*Table1[[#This Row],['# Books]]","v":0},{"$f":"Table1[[#This Row],[QTY]]*Table1[[#This Row],[S&L Price]]","v":0}]
[null,57,null,"The Nasty Past",1,"War","Library Bound Book",null,"978-1-5382-5289-5",{"$f":"HYPERLINK(\"https://www.garethstevens.com/\"&Table1[[#This Row],[ISBN]],\"Weblink\")","v":"Weblink"},2020,"January 2020","Library","8.500 X 11.00","Author","John Wood",null,null,null,null,"T",null,"Grade 5","Grade 4 - 6","Military history is a source of fascination for many young historians, but war is a truly gruesome part of history. From knights in suits of armor to the flying aces of the world wars, this eye-opening volume offers a comprehensive look at one part of humankind's \"nasty past.\" Readers examine the evolution of warfare. Along with riveting facts about deadly weapons and military maneuvers, readers will learn why certain wars were waged and the events that brought one side victory and the other defeat. Historical artwork and photographs of artifacts are featured throughout this absorbing book.","English",26.6,19.95,"355.0202'02--dc23","32 pp.",{"$f":"Table1[[#This Row],[QTY]]*Table1[[#This Row],['# Books]]","v":0},{"$f":"Table1[[#This Row],[QTY]]*Table1[[#This Row],[S&L Price]]","v":0}]
[null,57,null,"The Nasty Past",1,"War","eBook",null,"978-1-5382-5290-1",{"$f":"HYPERLINK(\"https://www.garethstevens.com/\"&Table1[[#This Row],[ISBN]],\"Weblink\")","v":"Weblink"},2020,"January 2020",null,null,"Author","John Wood",null,null,null,null,"T",null,"Grade 5","Grade 4 - 6","Military history is a source of fascination for many young historians, but war is a truly gruesome part of history. From knights in suits of armor to the flying aces of the world wars, this eye-opening volume offers a comprehensive look at one part of humankind's \"nasty past.\" Readers examine the evolution of warfare. Along with riveting facts about deadly weapons and military maneuvers, readers will learn why certain wars were waged and the events that brought one side victory and the other defeat. Historical artwork and photographs of artifacts are featured throughout this absorbing book.","English",26.6,19.95,"355.0202'02--dc23","32 pp.",{"$f":"Table1[[#This Row],[QTY]]*Table1[[#This Row],['# Books]]","v":0},{"$f":"Table1[[#This Row],[QTY]]*Table1[[#This Row],[S&L Price]]","v":0}]
[null,58,null,"¡Es hora de comparar! (Time To Compare!)",6,"¡Es hora de comparar! (Time To Compare!) Coming 2021","Library Set",null,"978-1-5382-6220-7",null,2021,"January 2021","Library","7.000 X 7.000","","",null,null,null,null,null,null,"Grade K","Grade Pre-K - 1","Learning to observe, compare, and evaluate are essential skills in the classroom and in life. This valuable and accessible set focuses on important categories of comparison, including weight, height, quantity, and volume, allowing early readers to expand their understanding of basic math and science concepts. They'll be engaged by the brightly written narratives and colorful photographs of familiar and fun objects like toys and animals. Features include: Simple, at-level texts for beginning readers. Supportive photographs aid in vocabulary acquisition. Covered topics appear in state and national math curricula.","Spanish",135.6,101.7,null,"24 pp.",{"$f":"Table1[[#This Row],[QTY]]*Table1[[#This Row],['# Books]]","v":0},{"$f":"Table1[[#This Row],[QTY]]*Table1[[#This Row],[S&L Price]]","v":0}]
[null,58,null,"¡Es hora de comparar! (Time To Compare!)",1,"¿Cuál contiene más? (Which Holds More?) Coming 2021","Library Bound Book",null,"978-1-5382-6202-3",null,2021,"January 2021","Library","7.000 X 7.000","Author","Jagger Youssef",null,null,null,null,"B",null,"Grade K","Grade Pre-K - 1","Volume might seem like a tricky concept, but it's just another measurement of size. In the bright pages of this valuable book, budding scientists and mathematicians will observe differing volumes of liquids in familiar containers. They'll learn how to conclude which container holds more, which is a stepping stone to more advanced concepts. Readers will exercise their volume-determining skills by answering a closing question.","Spanish",22.6,16.95,"530.8--dc23","24 pp.",{"$f":"Table1[[#This Row],[QTY]]*Table1[[#This Row],['# Books]]","v":0},{"$f":"Table1[[#This Row],[QTY]]*Table1[[#This Row],[S&L Price]]","v":0}]
[null,58,null,"¡Es hora de comparar! (Time To Compare!)",1,"¿Cuál contiene más? (Which Holds More?) Coming 2021","eBook",null,"978-1-5382-6203-0",null,2021,"January 2021",null,null,"Author","Jagger Youssef",null,null,null,null,"B",null,"Grade K","Grade Pre-K - 1","Volume might seem like a tricky concept, but it's just another measurement of size. In the bright pages of this valuable book, budding scientists and mathematicians will observe differing volumes of liquids in familiar containers. They'll learn how to conclude which container holds more, which is a stepping stone to more advanced concepts. Readers will exercise their volume-determining skills by answering a closing question.","Spanish",22.6,16.95,"530.8--dc23","24 pp.",{"$f":"Table1[[#This Row],[QTY]]*Table1[[#This Row],['# Books]]","v":0},{"$f":"Table1[[#This Row],[QTY]]*Table1[[#This Row],[S&L Price]]","v":0}]
[null,58,null,"¡Es hora de comparar! (Time To Compare!)",1,"¿Cuál es diferente? (Which Is Different?) Coming 2021","Library Bound Book",null,"978-1-5382-6198-9",null,2021,"January 2021","Library","7.000 X 7.000","Author","Jagger Youssef",null,null,null,null,"B",null,"Grade K","Grade Pre-K - 1","Puzzle lovers enjoy spotting similarities and differences among groups of objects. This engaging book will seem like a game to riveted readers, as they learn to spot items that belong in certain categories and those that don't. They'll examine colors, shapes, and other attributes of high-interest objects. At-level text encourages readers to add new vocabulary words to their collection, while colorful photographs further enhance this reading experience.","Spanish",22.6,16.95,"153.7--dc23","24 pp.",{"$f":"Table1[[#This Row],[QTY]]*Table1[[#This Row],['# Books]]","v":0},{"$f":"Table1[[#This Row],[QTY]]*Table1[[#This Row],[S&L Price]]","v":0}]
[null,58,null,"¡Es hora de comparar! (Time To Compare!)",1,"¿Cuál es diferente? (Which Is Different?) Coming 2021","eBook",null,"978-1-5382-6199-6",null,2021,"January 2021",null,null,"Author","Jagger Youssef",null,null,null,null,"B",null,"Grade K","Grade Pre-K - 1","Puzzle lovers enjoy spotting similarities and differences among groups of objects. This engaging book will seem like a game to riveted readers, as they learn to spot items that belong in certain categories and those that don't. They'll examine colors, shapes, and other attributes of high-interest objects. At-level text encourages readers to add new vocabulary words to their collection, while colorful photographs further enhance this reading experience.","Spanish",22.6,16.95,"153.7--dc23","24 pp.",{"$f":"Table1[[#This Row],[QTY]]*Table1[[#This Row],['# Books]]","v":0},{"$f":"Table1[[#This Row],[QTY]]*Table1[[#This Row],[S&L Price]]","v":0}]
[null,58,null,"¡Es hora de comparar! (Time To Compare!)",1,"¿Cuál es más alto? (Which Is Taller?) Coming 2021","Library Bound Book",null,"978-1-5382-6214-6",null,2021,"January 2021","Library","7.000 X 7.000","Author","Jagger Youssef",null,null,null,null,"B",null,"Grade K","Grade Pre-K - 1","Comparing heights of objects is a standard of elementary math classrooms, so conquering this essential skill puts young mathematicians ahead of the game! Beginning readers will be delighted by this colorful book, which guides them in comparing objects and determining which is taller.","Spanish",22.6,16.95,"530.8--dc23","24 pp.",{"$f":"Table1[[#This Row],[QTY]]*Table1[[#This Row],['# Books]]","v":0},{"$f":"Table1[[#This Row],[QTY]]*Table1[[#This Row],[S&L Price]]","v":0}]
[null,58,null,"¡Es hora de comparar! (Time To Compare!)",1,"¿Cuál es más alto? (Which Is Taller?) Coming 2021","eBook",null,"978-1-5382-6215-3",null,2021,"January 2021",null,null,"Author","Jagger Youssef",null,null,null,null,"B",null,"Grade K","Grade Pre-K - 1","Comparing heights of objects is a standard of elementary math classrooms, so conquering this essential skill puts young mathematicians ahead of the game! Beginning readers will be delighted by this colorful book, which guides them in comparing objects and determining which is taller.","Spanish",22.6,16.95,"530.8--dc23","24 pp.",{"$f":"Table1[[#This Row],[QTY]]*Table1[[#This Row],['# Books]]","v":0},{"$f":"Table1[[#This Row],[QTY]]*Table1[[#This Row],[S&L Price]]","v":0}]
[null,58,null,"¡Es hora de comparar! (Time To Compare!)",1,"¿Cuál es más largo? (Which Is Longer?) Coming 2021","Library Bound Book",null,"978-1-5382-6206-1",null,2021,"January 2021","Library","7.000 X 7.000","Author","Jagger Youssef",null,null,null,null,"B",null,"Grade K","Grade Pre-K - 1","Understanding measurable attributes such as length is an imperative skill for future mathematicians. This skill is also handy in daily life. This valuable volume provides practical examples to readers, asking them to compare the lengths of familiar objects on the colorful pages. Accessible text encourages vocabulary acquisition and allows beginning readers to build confidence in their emerging literacy.","Spanish",22.6,16.95,"530.8--dc23","24 pp.",{"$f":"Table1[[#This Row],[QTY]]*Table1[[#This Row],['# Books]]","v":0},{"$f":"Table1[[#This Row],[QTY]]*Table1[[#This Row],[S&L Price]]","v":0}]
[null,58,null,"¡Es hora de comparar! (Time To Compare!)",1,"¿Cuál es más largo? (Which Is Longer?) Coming 2021","eBook",null,"978-1-5382-6207-8",null,2021,"January 2021",null,null,"Author","Jagger Youssef",null,null,null,null,"B",null,"Grade K","Grade Pre-K - 1","Understanding measurable attributes such as length is an imperative skill for future mathematicians. This skill is also handy in daily life. This valuable volume provides practical examples to readers, asking them to compare the lengths of familiar objects on the colorful pages. Accessible text encourages vocabulary acquisition and allows beginning readers to build confidence in their emerging literacy.","Spanish",22.6,16.95,"530.8--dc23","24 pp.",{"$f":"Table1[[#This Row],[QTY]]*Table1[[#This Row],['# Books]]","v":0},{"$f":"Table1[[#This Row],[QTY]]*Table1[[#This Row],[S&L Price]]","v":0}]
[null,58,null,"¡Es hora de comparar! (Time To Compare!)",1,"¿Cuál es más pesado? (Which Is Heavier?) Coming 2021","Library Bound Book",null,"978-1-5382-6218-4",null,2021,"January 2021","Library","7.000 X 7.000","Author","Jagger Youssef",null,null,null,null,"B",null,"Grade K","Grade Pre-K - 1","Understanding properties of matter is key for future scientists. With this bright and beneficial book, readers are invited to use their sense of sight to compare the weight of objects. A concluding question allows them to determine which object is heavier and display their understanding of this valuable concept.","Spanish",22.6,16.95,"530.8--dc23","24 pp.",{"$f":"Table1[[#This Row],[QTY]]*Table1[[#This Row],['# Books]]","v":0},{"$f":"Table1[[#This Row],[QTY]]*Table1[[#This Row],[S&L Price]]","v":0}]
[null,58,null,"¡Es hora de comparar! (Time To Compare!)",1,"¿Cuál es más pesado? (Which Is Heavier?) Coming 2021","eBook",null,"978-1-5382-6219-1",null,2021,"January 2021",null,null,"Author","Jagger Youssef",null,null,null,null,"B",null,"Grade K","Grade Pre-K - 1","Understanding properties of matter is key for future scientists. With this bright and beneficial book, readers are invited to use their sense of sight to compare the weight of objects. A concluding question allows them to determine which object is heavier and display their understanding of this valuable concept.","Spanish",22.6,16.95,"530.8--dc23","24 pp.",{"$f":"Table1[[#This Row],[QTY]]*Table1[[#This Row],['# Books]]","v":0},{"$f":"Table1[[#This Row],[QTY]]*Table1[[#This Row],[S&L Price]]","v":0}]
[null,58,null,"¡Es hora de comparar! (Time To Compare!)",1,"¿Cuál tiene más cantidad? (Which Has More?) Coming 2021","Library Bound Book",null,"978-1-5382-6210-8",null,2021,"January 2021","Library","7.000 X 7.000","Author","Jagger Youssef",null,null,null,null,"B",null,"Grade K","Grade Pre-K - 1","Counting is a fundamental math skill. Being able to compare amounts takes this skill to the next level. This beneficial book guides readers in acquiring aptitude in comparison of quantities using at-level text and bright photographs of recognizable objects. A final assessment activity allows budding mathematicians to show off their math prowess.","Spanish",22.6,16.95,"530.8--dc23","24 pp.",{"$f":"Table1[[#This Row],[QTY]]*Table1[[#This Row],['# Books]]","v":0},{"$f":"Table1[[#This Row],[QTY]]*Table1[[#This Row],[S&L Price]]","v":0}]
[null,58,null,"¡Es hora de comparar! (Time To Compare!)",1,"¿Cuál tiene más cantidad? (Which Has More?) Coming 2021","eBook",null,"978-1-5382-6211-5",null,2021,"January 2021",null,null,"Author","Jagger Youssef",null,null,null,null,"B",null,"Grade K","Grade Pre-K - 1","Counting is a fundamental math skill. Being able to compare amounts takes this skill to the next level. This beneficial book guides readers in acquiring aptitude in comparison of quantities using at-level text and bright photographs of recognizable objects. A final assessment activity allows budding mathematicians to show off their math prowess.","Spanish",22.6,16.95,"530.8--dc23","24 pp.",{"$f":"Table1[[#This Row],[QTY]]*Table1[[#This Row],['# Books]]","v":0},{"$f":"Table1[[#This Row],[QTY]]*Table1[[#This Row],[S&L Price]]","v":0}]
[null,59,null,"Aprendemos sobre texturas (Let's Learn Textures!)",6,"Aprendemos sobre texturas (Let's Learn Textures!)","Library Set",null,"978-1-5382-5086-0",{"$f":"HYPERLINK(\"https://www.garethstevens.com/\"&Table1[[#This Row],[ISBN]],\"Weblink\")","v":"Weblink"},2020,"January 2020","Library","7.000 X 7.000","","",null,null,null,null,null,null,"Grade K","Grade Pre-K - 1","The youngest learners can be the most observant scientists. This beneficial set guides budding scientists in learning how to observe and describe the texture of familiar objects. They'll understand how to distinguish between bumpy and smooth, soft and hard, and wet and dry. These essential concepts are presented with simple text especially crafted for the beginning reader. Colorful photographs support the achievable text and further engage readers. Features include: Provides many opportunities to practice foundational reading skills of the English Language Arts Common Core. Discerning and defining textures is a key concept in lower elementary classrooms. The bright photographs are carefully chosen to appeal to young readers.","Spanish",135.6,101.7,null,"24 pp.",{"$f":"Table1[[#This Row],[QTY]]*Table1[[#This Row],['# Books]]","v":0},{"$f":"Table1[[#This Row],[QTY]]*Table1[[#This Row],[S&L Price]]","v":0}]
[null,59,null,"Aprendemos sobre texturas (Let's Learn Textures!)",1,"¿Es duro? (What Is Hard?)","Library Bound Book",null,"978-1-5382-4980-2",{"$f":"HYPERLINK(\"https://www.garethstevens.com/\"&Table1[[#This Row],[ISBN]],\"Weblink\")","v":"Weblink"},2020,"January 2020","Library","7.000 X 7.000","Author","Emmett Martin",null,null,null,null,"B",null,"Grade K","Grade Pre-K - 1","It's easier to name hard things, like rocks, than understand what this characteristic really means. This book encourages young scientists to observe the world around them and discern the features of various familiar things. They'll come to learn that anything that can't be easily bent can be described as hard. The achievable text and colorful photographs support readers in acquiring new vocabulary and a new appreciation for their powers of observation.","Spanish",22.6,16.95,"620.1/126--dc23","24 pp.",{"$f":"Table1[[#This Row],[QTY]]*Table1[[#This Row],['# Books]]","v":0},{"$f":"Table1[[#This Row],[QTY]]*Table1[[#This Row],[S&L Price]]","v":0}]
[null,59,null,"Aprendemos sobre texturas (Let's Learn Textures!)",1,"¿Es duro? (What Is Hard?)","eBook",null,"978-1-5382-4981-9",{"$f":"HYPERLINK(\"https://www.garethstevens.com/\"&Table1[[#This Row],[ISBN]],\"Weblink\")","v":"Weblink"},2020,"January 2020",null,null,"Author","Emmett Martin",null,null,null,null,"B",null,"Grade K","Grade Pre-K - 1","It's easier to name hard things, like rocks, than understand what this characteristic really means. This book encourages young scientists to observe the world around them and discern the features of various familiar things. They'll come to learn that anything that can't be easily bent can be described as hard. The achievable text and colorful photographs support readers in acquiring new vocabulary and a new appreciation for their powers of observation.","Spanish",22.6,16.95,"620.1/126--dc23","24 pp.",{"$f":"Table1[[#This Row],[QTY]]*Table1[[#This Row],['# Books]]","v":0},{"$f":"Table1[[#This Row],[QTY]]*Table1[[#This Row],[S&L Price]]","v":0}]
[null,59,null,"Aprendemos sobre texturas (Let's Learn Textures!)",1,"¿Es liso? (What Is Smooth?)","Library Bound Book",null,"978-1-5382-4984-0",{"$f":"HYPERLINK(\"https://www.garethstevens.com/\"&Table1[[#This Row],[ISBN]],\"Weblink\")","v":"Weblink"},2020,"January 2020","Library","7.000 X 7.000","Author","Emmett Martin",null,null,null,null,"B",null,"Grade K","Grade Pre-K - 1","Understanding textures is a preliminary step in becoming an attentive observer of nature and the world around us. Comprehending textures, including smooth, is a standard of early elementary curricula. This attractive book explores the quality of smooth through achievable sentences and fun photographs of familiar objects perfectly matched to the text. Readers will be motivated to add \"smooth\" to their growing list of adjectives.","Spanish",22.6,16.95,"620.1/1292--dc23","24 pp.",{"$f":"Table1[[#This Row],[QTY]]*Table1[[#This Row],['# Books]]","v":0},{"$f":"Table1[[#This Row],[QTY]]*Table1[[#This Row],[S&L Price]]","v":0}]
[null,59,null,"Aprendemos sobre texturas (Let's Learn Textures!)",1,"¿Es liso? (What Is Smooth?)","eBook",null,"978-1-5382-4985-7",{"$f":"HYPERLINK(\"https://www.garethstevens.com/\"&Table1[[#This Row],[ISBN]],\"Weblink\")","v":"Weblink"},2020,"January 2020",null,null,"Author","Emmett Martin",null,null,null,null,"B",null,"Grade K","Grade Pre-K - 1","Understanding textures is a preliminary step in becoming an attentive observer of nature and the world around us. Comprehending textures, including smooth, is a standard of early elementary curricula. This attractive book explores the quality of smooth through achievable sentences and fun photographs of familiar objects perfectly matched to the text. Readers will be motivated to add \"smooth\" to their growing list of adjectives.","Spanish",22.6,16.95,"620.1/1292--dc23","24 pp.",{"$f":"Table1[[#This Row],[QTY]]*Table1[[#This Row],['# Books]]","v":0},{"$f":"Table1[[#This Row],[QTY]]*Table1[[#This Row],[S&L Price]]","v":0}]
[null,59,null,"Aprendemos sobre texturas (Let's Learn Textures!)",1,"¿Es rugoso? (What Is Bumpy?)","Library Bound Book",null,"978-1-5382-4976-5",{"$f":"HYPERLINK(\"https://www.garethstevens.com/\"&Table1[[#This Row],[ISBN]],\"Weblink\")","v":"Weblink"},2020,"January 2020","Library","7.000 X 7.000","Author","Emmett Martin",null,null,null,null,"B",null,"Grade K","Grade Pre-K - 1","Many objects could be described as bumpy: roads, footballs, and even a toad's skin. Learning to describe objects and discern how they're different from or like other objects is an important part of the early elementary curriculum. This carefully written, at-level narrative demonstrates the use of the adjective bumpy, aided by colorful pictures to aid readers' comprehension of each accessible sentence.","Spanish",22.6,16.95,"620.1/1292--dc23","24 pp.",{"$f":"Table1[[#This Row],[QTY]]*Table1[[#This Row],['# Books]]","v":0},{"$f":"Table1[[#This Row],[QTY]]*Table1[[#This Row],[S&L Price]]","v":0}]
[null,59,null,"Aprendemos sobre texturas (Let's Learn Textures!)",1,"¿Es rugoso? (What Is Bumpy?)","eBook",null,"978-1-5382-4977-2",{"$f":"HYPERLINK(\"https://www.garethstevens.com/\"&Table1[[#This Row],[ISBN]],\"Weblink\")","v":"Weblink"},2020,"January 2020",null,null,"Author","Emmett Martin",null,null,null,null,"B",null,"Grade K","Grade Pre-K - 1","Many objects could be described as bumpy: roads, footballs, and even a toad's skin. Learning to describe objects and discern how they're different from or like other objects is an important part of the early elementary curriculum. This carefully written, at-level narrative demonstrates the use of the adjective bumpy, aided by colorful pictures to aid readers' comprehension of each accessible sentence.","Spanish",22.6,16.95,"620.1/1292--dc23","24 pp.",{"$f":"Table1[[#This Row],[QTY]]*Table1[[#This Row],['# Books]]","v":0},{"$f":"Table1[[#This Row],[QTY]]*Table1[[#This Row],[S&L Price]]","v":0}]
[null,59,null,"Aprendemos sobre texturas (Let's Learn Textures!)",1,"¿Es suave? (What Is Soft?)","Library Bound Book",null,"978-1-5382-4996-3",{"$f":"HYPERLINK(\"https://www.garethstevens.com/\"&Table1[[#This Row],[ISBN]],\"Weblink\")","v":"Weblink"},2020,"January 2020","Library","7.000 X 7.000","Author","Emmett Martin",null,null,null,null,"B",null,"Grade K","Grade Pre-K - 1","When people think of soft things, they immediately conjure up images of furry bunnies and similarly textured animals and objects. This inviting book helps young readers to do the same, as learning about textures is an important tenet of the early elementary curriculum. Carefully selected photographs of soft objects make the concept of texture clear to the reader as well as aid in vocabulary acquisition.","Spanish",22.6,16.95,"620.1/123--dc23","24 pp.",{"$f":"Table1[[#This Row],[QTY]]*Table1[[#This Row],['# Books]]","v":0},{"$f":"Table1[[#This Row],[QTY]]*Table1[[#This Row],[S&L Price]]","v":0}]
[null,59,null,"Aprendemos sobre texturas (Let's Learn Textures!)",1,"¿Es suave? (What Is Soft?)","eBook",null,"978-1-5382-4997-0",{"$f":"HYPERLINK(\"https://www.garethstevens.com/\"&Table1[[#This Row],[ISBN]],\"Weblink\")","v":"Weblink"},2020,"January 2020",null,null,"Author","Emmett Martin",null,null,null,null,"B",null,"Grade K","Grade Pre-K - 1","When people think of soft things, they immediately conjure up images of furry bunnies and similarly textured animals and objects. This inviting book helps young readers to do the same, as learning about textures is an important tenet of the early elementary curriculum. Carefully selected photographs of soft objects make the concept of texture clear to the reader as well as aid in vocabulary acquisition.","Spanish",22.6,16.95,"620.1/123--dc23","24 pp.",{"$f":"Table1[[#This Row],[QTY]]*Table1[[#This Row],['# Books]]","v":0},{"$f":"Table1[[#This Row],[QTY]]*Table1[[#This Row],[S&L Price]]","v":0}]
[null,59,null,"Aprendemos sobre texturas (Let's Learn Textures!)",1,"¿Está mojado? (What Is Wet?)","Library Bound Book",null,"978-1-5382-4988-8",{"$f":"HYPERLINK(\"https://www.garethstevens.com/\"&Table1[[#This Row],[ISBN]],\"Weblink\")","v":"Weblink"},2020,"January 2020","Library","7.000 X 7.000","Author","Emmett Martin",null,null,null,null,"B",null,"Grade K","Grade Pre-K - 1","Few kids can resist jumping into a big puddle. Getting wet can be fun. Learning to describe objects as wet can be fun, too, as evidenced in the bright, entertaining photographs and simple, engaging text in this motivating book. Readers will love to identify the objects within these pages, selected to appeal to them, and use the objects to comprehend new vocabulary words in corresponding sentences.","Spanish",22.6,16.95,"620.1/1292--dc23","24 pp.",{"$f":"Table1[[#This Row],[QTY]]*Table1[[#This Row],['# Books]]","v":0},{"$f":"Table1[[#This Row],[QTY]]*Table1[[#This Row],[S&L Price]]","v":0}]
[null,59,null,"Aprendemos sobre texturas (Let's Learn Textures!)",1,"¿Está mojado? (What Is Wet?)","eBook",null,"978-1-5382-4989-5",{"$f":"HYPERLINK(\"https://www.garethstevens.com/\"&Table1[[#This Row],[ISBN]],\"Weblink\")","v":"Weblink"},2020,"January 2020",null,null,"Author","Emmett Martin",null,null,null,null,"B",null,"Grade K","Grade Pre-K - 1","Few kids can resist jumping into a big puddle. Getting wet can be fun. Learning to describe objects as wet can be fun, too, as evidenced in the bright, entertaining photographs and simple, engaging text in this motivating book. Readers will love to identify the objects within these pages, selected to appeal to them, and use the objects to comprehend new vocabulary words in corresponding sentences.","Spanish",22.6,16.95,"620.1/1292--dc23","24 pp.",{"$f":"Table1[[#This Row],[QTY]]*Table1[[#This Row],['# Books]]","v":0},{"$f":"Table1[[#This Row],[QTY]]*Table1[[#This Row],[S&L Price]]","v":0}]
[null,59,null,"Aprendemos sobre texturas (Let's Learn Textures!)",1,"¿Está seco? (What Is Dry?)","Library Bound Book",null,"978-1-5382-4992-5",{"$f":"HYPERLINK(\"https://www.garethstevens.com/\"&Table1[[#This Row],[ISBN]],\"Weblink\")","v":"Weblink"},2020,"January 2020","Library","7.000 X 7.000","Author","Emmett Martin",null,null,null,null,"B",null,"Grade K","Grade Pre-K - 1","Anyone who has ever gotten drenched in a rainstorm knows what it is to be dry, but learning to identify objects as dry can be tricky for the youngest learners. This beneficial book teaches readers how to classify familiar objects as wet or dry with short, achievable sentences carefully constructed for vocabulary acquisition. The accessible narrative is accompanied by bright, interesting photographs of the objects.","Spanish",22.6,16.95,"620.1/129--dc23","24 pp.",{"$f":"Table1[[#This Row],[QTY]]*Table1[[#This Row],['# Books]]","v":0},{"$f":"Table1[[#This Row],[QTY]]*Table1[[#This Row],[S&L Price]]","v":0}]
[null,59,null,"Aprendemos sobre texturas (Let's Learn Textures!)",1,"¿Está seco? (What Is Dry?)","eBook",null,"978-1-5382-4993-2",{"$f":"HYPERLINK(\"https://www.garethstevens.com/\"&Table1[[#This Row],[ISBN]],\"Weblink\")","v":"Weblink"},2020,"January 2020",null,null,"Author","Emmett Martin",null,null,null,null,"B",null,"Grade K","Grade Pre-K - 1","Anyone who has ever gotten drenched in a rainstorm knows what it is to be dry, but learning to identify objects as dry can be tricky for the youngest learners. This beneficial book teaches readers how to classify familiar objects as wet or dry with short, achievable sentences carefully constructed for vocabulary acquisition. The accessible narrative is accompanied by bright, interesting photographs of the objects.","Spanish",22.6,16.95,"620.1/129--dc23","24 pp.",{"$f":"Table1[[#This Row],[QTY]]*Table1[[#This Row],['# Books]]","v":0},{"$f":"Table1[[#This Row],[QTY]]*Table1[[#This Row],[S&L Price]]","v":0}]
[null,60,null,"Tenemos carácter (We've Got Character!)",6,"Tenemos carácter (We've Got Character!) Coming 2021","Library Set",null,"978-1-5382-6126-2",null,2021,"January 2021","Library","7.000 X 7.000","","",null,null,null,null,null,null,"Grade 1 - 2","Grade 1 - 3","Showing good sportsmanship, taking turns, and following the rules are all important parts of being on a team or part of a community. But how does one learn how to be fair or when to say \"I'm sorry\" and offer a real apology? This set takes readers through common, relatable scenarios such as facing a bully on the soccer field, encountering a problem with a classmate, and experiencing conflict with a sibling. Written in age-appropriate language perfect for young readers, each book \"shows\" instead of \"tells\" the audience ways they can do the right thing in school, at home, and in their community. Features include: Fosters working well with others, kindness, and patience. Glossary terms further aid understanding intangible concepts such as fairness. Photographs closely correlate with the nonfiction narratives.","Spanish",135.6,101.7,null,"24 pp.",{"$f":"Table1[[#This Row],[QTY]]*Table1[[#This Row],['# Books]]","v":0},{"$f":"Table1[[#This Row],[QTY]]*Table1[[#This Row],[S&L Price]]","v":0}]
[null,60,null,"Tenemos carácter (We've Got Character!)",1,"Trabajamos en equipo (We Work as a Team) Coming 2021","Library Bound Book",null,"978-1-5382-6077-7",null,2021,"January 2021","Library","7.000 X 7.000","Author","Charlotte Taylor",null,null,null,null,"K",null,"Grade 1 - 2","Grade 1 - 3","Each player has his or her own job in soccer and baseball. They each do their part to contribute to the team. Teamwork is also important outside of sports. We use teamwork in our classroom, in our community, and at home with our family. Readers are presented with different scenarios in which young people use teamwork to achieve a certain goal, like when Nicole's neighbor becomes ill, everyone in the neighborhood takes on a job with the goal of helping the sick neighbor. Each spread contains a color photograph that imparts the importance and rewards of working as a team.","Spanish",22.6,16.95,"158.2--dc23","24 pp.",{"$f":"Table1[[#This Row],[QTY]]*Table1[[#This Row],['# Books]]","v":0},{"$f":"Table1[[#This Row],[QTY]]*Table1[[#This Row],[S&L Price]]","v":0}]
[null,60,null,"Tenemos carácter (We've Got Character!)",1,"Trabajamos en equipo (We Work as a Team) Coming 2021","eBook",null,"978-1-5382-6078-4",null,2021,"January 2021",null,null,"Author","Charlotte Taylor",null,null,null,null,"K",null,"Grade 1 - 2","Grade 1 - 3","Each player has his or her own job in soccer and baseball. They each do their part to contribute to the team. Teamwork is also important outside of sports. We use teamwork in our classroom, in our community, and at home with our family. Readers are presented with different scenarios in which young people use teamwork to achieve a certain goal, like when Nicole's neighbor becomes ill, everyone in the neighborhood takes on a job with the goal of helping the sick neighbor. Each spread contains a color photograph that imparts the importance and rewards of working as a team.","Spanish",22.6,16.95,"158.2--dc23","24 pp.",{"$f":"Table1[[#This Row],[QTY]]*Table1[[#This Row],['# Books]]","v":0},{"$f":"Table1[[#This Row],[QTY]]*Table1[[#This Row],[S&L Price]]","v":0}]
[null,60,null,"Tenemos carácter (We've Got Character!)",1,"Yo espero mi turno (I Take Turns) Coming 2021","Library Bound Book",null,"978-1-5382-6085-2",null,2021,"January 2021","Library","7.000 X 7.000","Author","Charlotte Taylor",null,null,null,null,"K",null,"Grade 1 - 2","Grade 1 - 3","Having patience is challenging when there's something you really want to do, but you have to wait for it. You want to do it now! Thinking of others and waiting for your turn is an essential element of good character. Readers are encouraged to think about why and when we take turns. Each colorful spread presents a different real-life situation, like when Juan is hot and thirsty after playing soccer. He needs and wants a drink of water immediately, but his friends are thirsty too. Everyone takes turns at the fountain. Through relatable scenarios like this one, readers learn how to show consideration for others by taking turns.","Spanish",22.6,16.95,"179/.9--dc23","24 pp.",{"$f":"Table1[[#This Row],[QTY]]*Table1[[#This Row],['# Books]]","v":0},{"$f":"Table1[[#This Row],[QTY]]*Table1[[#This Row],[S&L Price]]","v":0}]
[null,60,null,"Tenemos carácter (We've Got Character!)",1,"Yo espero mi turno (I Take Turns) Coming 2021","eBook",null,"978-1-5382-6086-9",null,2021,"January 2021",null,null,"Author","Charlotte Taylor",null,null,null,null,"K",null,"Grade 1 - 2","Grade 1 - 3","Having patience is challenging when there's something you really want to do, but you have to wait for it. You want to do it now! Thinking of others and waiting for your turn is an essential element of good character. Readers are encouraged to think about why and when we take turns. Each colorful spread presents a different real-life situation, like when Juan is hot and thirsty after playing soccer. He needs and wants a drink of water immediately, but his friends are thirsty too. Everyone takes turns at the fountain. Through relatable scenarios like this one, readers learn how to show consideration for others by taking turns.","Spanish",22.6,16.95,"179/.9--dc23","24 pp.",{"$f":"Table1[[#This Row],[QTY]]*Table1[[#This Row],['# Books]]","v":0},{"$f":"Table1[[#This Row],[QTY]]*Table1[[#This Row],[S&L Price]]","v":0}]
[null,60,null,"Tenemos carácter (We've Got Character!)",1,"Yo muestro un buen espíritu deportivo (I Show Good Sportsmanship) Coming 2021","Library Bound Book",null,"978-1-5382-6097-5",null,2021,"January 2021","Library","7.000 X 7.000","Author","Charlotte Taylor",null,null,null,null,"K",null,"Grade 1 - 2","Grade 1 - 3","Being a good sport goes way beyond sports. The lessons we learn on the playing field extend to the classroom, the playground, and our home. How can we be a good sport? Readers are introduced to a variety of places and situations that call for good sportsmanship, such as working with classmates on a science project, winning the big soccer game, or helping Dad clean out the garage. With a unique, real-life scenario in every spread, readers learn what it takes to be a good sport wherever they go.","Spanish",22.6,16.95,"175--dc23","24 pp.",{"$f":"Table1[[#This Row],[QTY]]*Table1[[#This Row],['# Books]]","v":0},{"$f":"Table1[[#This Row],[QTY]]*Table1[[#This Row],[S&L Price]]","v":0}]
[null,60,null,"Tenemos carácter (We've Got Character!)",1,"Yo muestro un buen espíritu deportivo (I Show Good Sportsmanship) Coming 2021","eBook",null,"978-1-5382-6098-2",null,2021,"January 2021",null,null,"Author","Charlotte Taylor",null,null,null,null,"K",null,"Grade 1 - 2","Grade 1 - 3","Being a good sport goes way beyond sports. The lessons we learn on the playing field extend to the classroom, the playground, and our home. How can we be a good sport? Readers are introduced to a variety of places and situations that call for good sportsmanship, such as working with classmates on a science project, winning the big soccer game, or helping Dad clean out the garage. With a unique, real-life scenario in every spread, readers learn what it takes to be a good sport wherever they go.","Spanish",22.6,16.95,"175--dc23","24 pp.",{"$f":"Table1[[#This Row],[QTY]]*Table1[[#This Row],['# Books]]","v":0},{"$f":"Table1[[#This Row],[QTY]]*Table1[[#This Row],[S&L Price]]","v":0}]
[null,60,null,"Tenemos carácter (We've Got Character!)",1,"Yo pido disculpas (I Say I'm Sorry) Coming 2021","Library Bound Book",null,"978-1-5382-6081-4",null,2021,"January 2021","Library","7.000 X 7.000","Author","Charlotte Taylor",null,null,null,null,"K",null,"Grade 1 - 2","Grade 1 - 3","Knowing when to say we're sorry means knowing when we've hurt someone, whether it was intentional or not. This is not always easy to do, especially for children. This book presents readers with a variety of relatable scenarios in which young people recognize the need for an apology. Readers follow Louis as he shares an embarrassing secret about Aaron with his other classmates, who make fun of Aaron. Louis feels bad for sharing Aaron's secret. What can he do? Each colorful spread presents a different real-life situation that will instill in readers the importance of knowing when to say, \"I'm sorry.\"","Spanish",22.6,16.95,"395--dc23","24 pp.",{"$f":"Table1[[#This Row],[QTY]]*Table1[[#This Row],['# Books]]","v":0},{"$f":"Table1[[#This Row],[QTY]]*Table1[[#This Row],[S&L Price]]","v":0}]
[null,60,null,"Tenemos carácter (We've Got Character!)",1,"Yo pido disculpas (I Say I'm Sorry) Coming 2021","eBook",null,"978-1-5382-6082-1",null,2021,"January 2021",null,null,"Author","Charlotte Taylor",null,null,null,null,"K",null,"Grade 1 - 2","Grade 1 - 3","Knowing when to say we're sorry means knowing when we've hurt someone, whether it was intentional or not. This is not always easy to do, especially for children. This book presents readers with a variety of relatable scenarios in which young people recognize the need for an apology. Readers follow Louis as he shares an embarrassing secret about Aaron with his other classmates, who make fun of Aaron. Louis feels bad for sharing Aaron's secret. What can he do? Each colorful spread presents a different real-life situation that will instill in readers the importance of knowing when to say, \"I'm sorry.\"","Spanish",22.6,16.95,"395--dc23","24 pp.",{"$f":"Table1[[#This Row],[QTY]]*Table1[[#This Row],['# Books]]","v":0},{"$f":"Table1[[#This Row],[QTY]]*Table1[[#This Row],[S&L Price]]","v":0}]
[null,60,null,"Tenemos carácter (We've Got Character!)",1,"Yo sigo las reglas (I Follow the Rules) Coming 2021","Library Bound Book",null,"978-1-5382-6093-7",null,2021,"January 2021","Library","7.000 X 7.000","Author","Charlotte Taylor",null,null,null,null,"K",null,"Grade 1 - 2","Grade 1 - 3","Everywhere we go in life, there are rules on how to behave that we need to observe. For young children this can be difficult to pick up, especially on the playground where you're supposed to let loose and have fun. This book helps readers navigate some common rule-following scenarios by depicting young people in relatable, real-life situations. They meet kids like Marco, who is in the middle of an intense video game when he realizes his computer time is up for the day. What does he do? Each spread includes a brief, high-interest story along with a colorful photograph, ensuring that readers will see themselves in the pages as they learn the fundamentals of following the rules.","Spanish",22.6,16.95,"179/.9--dc23","24 pp.",{"$f":"Table1[[#This Row],[QTY]]*Table1[[#This Row],['# Books]]","v":0},{"$f":"Table1[[#This Row],[QTY]]*Table1[[#This Row],[S&L Price]]","v":0}]
[null,60,null,"Tenemos carácter (We've Got Character!)",1,"Yo sigo las reglas (I Follow the Rules) Coming 2021","eBook",null,"978-1-5382-6094-4",null,2021,"January 2021",null,null,"Author","Charlotte Taylor",null,null,null,null,"K",null,"Grade 1 - 2","Grade 1 - 3","Everywhere we go in life, there are rules on how to behave that we need to observe. For young children this can be difficult to pick up, especially on the playground where you're supposed to let loose and have fun. This book helps readers navigate some common rule-following scenarios by depicting young people in relatable, real-life situations. They meet kids like Marco, who is in the middle of an intense video game when he realizes his computer time is up for the day. What does he do? Each spread includes a brief, high-interest story along with a colorful photograph, ensuring that readers will see themselves in the pages as they learn the fundamentals of following the rules.","Spanish",22.6,16.95,"179/.9--dc23","24 pp.",{"$f":"Table1[[#This Row],[QTY]]*Table1[[#This Row],['# Books]]","v":0},{"$f":"Table1[[#This Row],[QTY]]*Table1[[#This Row],[S&L Price]]","v":0}]
[null,60,null,"Tenemos carácter (We've Got Character!)",1,"Yo soy justo (I Am Fair) Coming 2021","Library Bound Book",null,"978-1-5382-6089-0",null,2021,"January 2021","Library","7.000 X 7.000","Author","Charlotte Taylor",null,null,null,null,"K",null,"Grade 1 - 2","Grade 1 - 3","Children often assume that being fair means that everyone gets the same number of cookies, but at the heart of fairness is consideration, respect, and caring for others. Your readers will encounter real-life situations in which young people figure out how to act fairly. They'll meet Ben and Jane who are playing on the swings at recess while other children wait to use the swings. What is the fair thing to do? Each spread consists of one of these relatable scenarios along with a full-color photograph. Fun, accessible text encourages readers to consider how they treat others as they discover what it means to be fair.","Spanish",22.6,16.95,"179/.9--dc23","24 pp.",{"$f":"Table1[[#This Row],[QTY]]*Table1[[#This Row],['# Books]]","v":0},{"$f":"Table1[[#This Row],[QTY]]*Table1[[#This Row],[S&L Price]]","v":0}]
[null,60,null,"Tenemos carácter (We've Got Character!)",1,"Yo soy justo (I Am Fair) Coming 2021","eBook",null,"978-1-5382-6090-6",null,2021,"January 2021",null,null,"Author","Charlotte Taylor",null,null,null,null,"K",null,"Grade 1 - 2","Grade 1 - 3","Children often assume that being fair means that everyone gets the same number of cookies, but at the heart of fairness is consideration, respect, and caring for others. Your readers will encounter real-life situations in which young people figure out how to act fairly. They'll meet Ben and Jane who are playing on the swings at recess while other children wait to use the swings. What is the fair thing to do? Each spread consists of one of these relatable scenarios along with a full-color photograph. Fun, accessible text encourages readers to consider how they treat others as they discover what it means to be fair.","Spanish",22.6,16.95,"179/.9--dc23","24 pp.",{"$f":"Table1[[#This Row],[QTY]]*Table1[[#This Row],['# Books]]","v":0},{"$f":"Table1[[#This Row],[QTY]]*Table1[[#This Row],[S&L Price]]","v":0}]
[null,61,null,"¿A qué se dedican? (What Do They Do?)",6,"¿A qué se dedican? (What Do They Do?) Coming 2021","Library Set",null,"978-1-5382-6127-9",null,2021,"January 2021","Library","7.000 X 7.000","","",null,null,null,null,null,null,"Grade 1 - 2","Grade 1 - 3","Everyone knows that teachers greet their students in the morning and impart wisdom to them during class. Firefighters bravely go out to save homes and businesses from destructive fires. But what do community helpers like bus drivers, dentists, and farmers do with their whole day? With this fun set, readers get a behind-the-scenes look at the daily tasks each professional does, from learning bus routes to driving to and from construction sites. The accessible narratives invite young readers to imagine taking part in these careers and helping the community. Features include: Full-color photographs that directly correlate with narratives to aid comprehension. Community helpers tie in to early elementary social studies curricula. Career focus encourages readers to investigate familiar professions.","Spanish",135.6,101.7,null,"24 pp.",{"$f":"Table1[[#This Row],[QTY]]*Table1[[#This Row],['# Books]]","v":0},{"$f":"Table1[[#This Row],[QTY]]*Table1[[#This Row],[S&L Price]]","v":0}]
[null,61,null,"¿A qué se dedican? (What Do They Do?)",1,"¿Cómo es el día de los bomberos? (What Do Firefighters Do All Day?) Coming 2021","Library Bound Book",null,"978-1-5382-6113-2",null,2021,"January 2021","Library","7.000 X 7.000","Author","Emily Mahoney",null,null,null,null,"K",null,"Grade 1 - 2","Grade 1 - 3","The blaring siren and zooming emergency truck gives us a glimpse into a firefighter's life, but what do they do all day? This book explores what it is really like to fight fires. Aspects of the job such as equipment management, first aid, and training are covered so that readers get a comprehensive look at this dangerous and heroic job. Eye-catching graphics and defined vocabulary words will engage every reader about the lives of these important community members.","Spanish",22.6,16.95,"628.9/2023--dc23","24 pp.",{"$f":"Table1[[#This Row],[QTY]]*Table1[[#This Row],['# Books]]","v":0},{"$f":"Table1[[#This Row],[QTY]]*Table1[[#This Row],[S&L Price]]","v":0}]
[null,61,null,"¿A qué se dedican? (What Do They Do?)",1,"¿Cómo es el día de los bomberos? (What Do Firefighters Do All Day?) Coming 2021","eBook",null,"978-1-5382-6114-9",null,2021,"January 2021",null,null,"Author","Emily Mahoney",null,null,null,null,"K",null,"Grade 1 - 2","Grade 1 - 3","The blaring siren and zooming emergency truck gives us a glimpse into a firefighter's life, but what do they do all day? This book explores what it is really like to fight fires. Aspects of the job such as equipment management, first aid, and training are covered so that readers get a comprehensive look at this dangerous and heroic job. Eye-catching graphics and defined vocabulary words will engage every reader about the lives of these important community members.","Spanish",22.6,16.95,"628.9/2023--dc23","24 pp.",{"$f":"Table1[[#This Row],[QTY]]*Table1[[#This Row],['# Books]]","v":0},{"$f":"Table1[[#This Row],[QTY]]*Table1[[#This Row],[S&L Price]]","v":0}]
[null,61,null,"¿A qué se dedican? (What Do They Do?)",1,"¿Cómo es el día de los conductores de autobuses? (What Do Bus Drivers Do All Day?) Coming 2021","Library Bound Book",null,"978-1-5382-6117-0",null,2021,"January 2021","Library","7.000 X 7.000","Author","Emily Mahoney",null,null,null,null,"K",null,"Grade 1 - 2","Grade 1 - 3","Kids might not know it, but there is much more to the job of a bus driver than just picking people up and dropping them off. From inspections to learning routes, this book explores the duties of a bus driver in an interesting and fun way. Colorful pictures and easy-to-read text encourages developing readers to learn about this important job that helps many members of a community.","Spanish",22.6,16.95,"388.3/22023--dc23","24 pp.",{"$f":"Table1[[#This Row],[QTY]]*Table1[[#This Row],['# Books]]","v":0},{"$f":"Table1[[#This Row],[QTY]]*Table1[[#This Row],[S&L Price]]","v":0}]
[null,61,null,"¿A qué se dedican? (What Do They Do?)",1,"¿Cómo es el día de los conductores de autobuses? (What Do Bus Drivers Do All Day?) Coming 2021","eBook",null,"978-1-5382-6118-7",null,2021,"January 2021",null,null,"Author","Emily Mahoney",null,null,null,null,"K",null,"Grade 1 - 2","Grade 1 - 3","Kids might not know it, but there is much more to the job of a bus driver than just picking people up and dropping them off. From inspections to learning routes, this book explores the duties of a bus driver in an interesting and fun way. Colorful pictures and easy-to-read text encourages developing readers to learn about this important job that helps many members of a community.","Spanish",22.6,16.95,"388.3/22023--dc23","24 pp.",{"$f":"Table1[[#This Row],[QTY]]*Table1[[#This Row],['# Books]]","v":0},{"$f":"Table1[[#This Row],[QTY]]*Table1[[#This Row],[S&L Price]]","v":0}]
[null,61,null,"¿A qué se dedican? (What Do They Do?)",1,"¿Cómo es el día de los granjeros? (What Do Farmers Do All Day?) Coming 2021","Library Bound Book",null,"978-1-5382-6121-7",null,2021,"January 2021","Library","7.000 X 7.000","Author","Emily Mahoney",null,null,null,null,"K",null,"Grade 1 - 2","Grade 1 - 3","Farming is one of the most important jobs in our society, but what does a farmer really do all day? This book explores both agricultural and livestock farming in detail and describes the special skills and equipment that a farmer needs in order to ensure that the farm runs smoothly. Other aspects of working with animals and crops are explored, such as selling livestock and vegetables to people or businesses. Engaging visuals and interesting facts make this a great read for developing readers.","Spanish",22.6,16.95,"630.23--dc23","24 pp.",{"$f":"Table1[[#This Row],[QTY]]*Table1[[#This Row],['# Books]]","v":0},{"$f":"Table1[[#This Row],[QTY]]*Table1[[#This Row],[S&L Price]]","v":0}]
[null,61,null,"¿A qué se dedican? (What Do They Do?)",1,"¿Cómo es el día de los granjeros? (What Do Farmers Do All Day?) Coming 2021","eBook",null,"978-1-5382-6122-4",null,2021,"January 2021",null,null,"Author","Emily Mahoney",null,null,null,null,"K",null,"Grade 1 - 2","Grade 1 - 3","Farming is one of the most important jobs in our society, but what does a farmer really do all day? This book explores both agricultural and livestock farming in detail and describes the special skills and equipment that a farmer needs in order to ensure that the farm runs smoothly. Other aspects of working with animals and crops are explored, such as selling livestock and vegetables to people or businesses. Engaging visuals and interesting facts make this a great read for developing readers.","Spanish",22.6,16.95,"630.23--dc23","24 pp.",{"$f":"Table1[[#This Row],[QTY]]*Table1[[#This Row],['# Books]]","v":0},{"$f":"Table1[[#This Row],[QTY]]*Table1[[#This Row],[S&L Price]]","v":0}]
[null,61,null,"¿A qué se dedican? (What Do They Do?)",1,"¿Cómo es el día de los profesores? (What Do Teachers Do All Day?) Coming 2021","Library Bound Book",null,"978-1-5382-6109-5",null,2021,"January 2021","Library","7.000 X 7.000","Author","Emily Mahoney",null,null,null,null,"K",null,"Grade 1 - 2","Grade 1 - 3","Kids become very familiar with the roles of teachers, but they don't often learn about all of the behind-the-scenes work. This book explores the responsibilities of a teacher while they are teaching students, and looks at lesson planning, curriculum development, parent-teacher conferences, and professional development. Bright and colorful graphics and interesting facts will engage students help them to learn more about a career that they might be considering in the future.","Spanish",22.6,16.95,"371.102--dc23","24 pp.",{"$f":"Table1[[#This Row],[QTY]]*Table1[[#This Row],['# Books]]","v":0},{"$f":"Table1[[#This Row],[QTY]]*Table1[[#This Row],[S&L Price]]","v":0}]
[null,61,null,"¿A qué se dedican? (What Do They Do?)",1,"¿Cómo es el día de los profesores? (What Do Teachers Do All Day?) Coming 2021","eBook",null,"978-1-5382-6110-1",null,2021,"January 2021",null,null,"Author","Emily Mahoney",null,null,null,null,"K",null,"Grade 1 - 2","Grade 1 - 3","Kids become very familiar with the roles of teachers, but they don't often learn about all of the behind-the-scenes work. This book explores the responsibilities of a teacher while they are teaching students, and looks at lesson planning, curriculum development, parent-teacher conferences, and professional development. Bright and colorful graphics and interesting facts will engage students help them to learn more about a career that they might be considering in the future.","Spanish",22.6,16.95,"371.102--dc23","24 pp.",{"$f":"Table1[[#This Row],[QTY]]*Table1[[#This Row],['# Books]]","v":0},{"$f":"Table1[[#This Row],[QTY]]*Table1[[#This Row],[S&L Price]]","v":0}]
[null,61,null,"¿A qué se dedican? (What Do They Do?)",1,"¿Cómo es el día de los trabajadores de la construcción? (What Do Construction Workers Do All Day?) Coming 2021","Library Bound Book",null,"978-1-5382-6105-7",null,2021,"January 2021","Library","7.000 X 7.000","Author","Emily Mahoney",null,null,null,null,"K",null,"Grade 1 - 2","Grade 1 - 3","Construction workers have very physically demanding jobs, and their days can be very different depending on the project they're working on at the time. Excited readers will explore the world of demolition, building, designing, and creating with this engaging book about construction. Defined vocabulary words help make this narrative easily accessible for all readers. Detailed photographs convey what it's really like to work in construction.","Spanish",22.6,16.95,"624.023--dc23","24 pp.",{"$f":"Table1[[#This Row],[QTY]]*Table1[[#This Row],['# Books]]","v":0},{"$f":"Table1[[#This Row],[QTY]]*Table1[[#This Row],[S&L Price]]","v":0}]
[null,61,null,"¿A qué se dedican? (What Do They Do?)",1,"¿Cómo es el día de los trabajadores de la construcción? (What Do Construction Workers Do All Day?) Coming 2021","eBook",null,"978-1-5382-6106-4",null,2021,"January 2021",null,null,"Author","Emily Mahoney",null,null,null,null,"K",null,"Grade 1 - 2","Grade 1 - 3","Construction workers have very physically demanding jobs, and their days can be very different depending on the project they're working on at the time. Excited readers will explore the world of demolition, building, designing, and creating with this engaging book about construction. Defined vocabulary words help make this narrative easily accessible for all readers. Detailed photographs convey what it's really like to work in construction.","Spanish",22.6,16.95,"624.023--dc23","24 pp.",{"$f":"Table1[[#This Row],[QTY]]*Table1[[#This Row],['# Books]]","v":0},{"$f":"Table1[[#This Row],[QTY]]*Table1[[#This Row],[S&L Price]]","v":0}]
[null,61,null,"¿A qué se dedican? (What Do They Do?)",1,"¿Cómo es el día del alcalde? (What Does the Mayor Do All Day?) Coming 2021","Library Bound Book",null,"978-1-5382-6101-9",null,2021,"January 2021","Library","7.000 X 7.000","Author","Emily Mahoney",null,null,null,null,"K",null,"Grade 1 - 2","Grade 1 - 3","This book helps young readers learn about the day-to-day responsibilities of the mayor of a city or town. With detailed information about meetings, ceremonies, giving speeches, planning projects, and getting elected to be mayor, this text contains interesting and engaging information about one of the leaders of a community. Photographs and vocabulary terms help make this narrative a must-read for anyone wanting a realistic look at the life of a mayor.","Spanish",22.6,16.95,"352.23/2160973--dc23","24 pp.",{"$f":"Table1[[#This Row],[QTY]]*Table1[[#This Row],['# Books]]","v":0},{"$f":"Table1[[#This Row],[QTY]]*Table1[[#This Row],[S&L Price]]","v":0}]
[null,61,null,"¿A qué se dedican? (What Do They Do?)",1,"¿Cómo es el día del alcalde? (What Does the Mayor Do All Day?) Coming 2021","eBook",null,"978-1-5382-6102-6",null,2021,"January 2021",null,null,"Author","Emily Mahoney",null,null,null,null,"K",null,"Grade 1 - 2","Grade 1 - 3","This book helps young readers learn about the day-to-day responsibilities of the mayor of a city or town. With detailed information about meetings, ceremonies, giving speeches, planning projects, and getting elected to be mayor, this text contains interesting and engaging information about one of the leaders of a community. Photographs and vocabulary terms help make this narrative a must-read for anyone wanting a realistic look at the life of a mayor.","Spanish",22.6,16.95,"352.23/2160973--dc23","24 pp.",{"$f":"Table1[[#This Row],[QTY]]*Table1[[#This Row],['# Books]]","v":0},{"$f":"Table1[[#This Row],[QTY]]*Table1[[#This Row],[S&L Price]]","v":0}]
[null,62,null,"Nuestras comunidades (All Our Communities)",6,"Nuestras comunidades (All Our Communities)","Library Set",null,"978-1-5382-5214-7",{"$f":"HYPERLINK(\"https://www.garethstevens.com/\"&Table1[[#This Row],[ISBN]],\"Weblink\")","v":"Weblink"},2020,"January 2020","Library","7.000 X 7.000","","",null,null,null,null,null,null,"Grade 1 - 2","Grade 1 - 3","There is no doubt about it, people need each other. We form different communities so we can meet each other's various needs, such as education, safety, and friendship. So what does it mean to be a part of these diverse communities? Readers will find out through these accessible volumes written especially to benefit the early elementary classroom in relation to the social studies curricula. Friendly, at-level text and bright photographs of different communities allow readers to recognize themselves and their roles in their own unique communities. Features include: Vocabulary terms that highlight important concepts about communities. Encourages readers to consider what it means to be a good member of the communities in which they live. Supports numerous standards of the English Language Arts Common Core, including becoming proficient with the use of nonfiction text features.","Spanish",135.6,101.7,null,"24 pp.",{"$f":"Table1[[#This Row],[QTY]]*Table1[[#This Row],['# Books]]","v":0},{"$f":"Table1[[#This Row],[QTY]]*Table1[[#This Row],[S&L Price]]","v":0}]
[null,62,null,"Nuestras comunidades (All Our Communities)",1,"Eres parte de la comunidad mundial (You're Part of the World Community!)","Library Bound Book",null,"978-1-5382-5012-9",{"$f":"HYPERLINK(\"https://www.garethstevens.com/\"&Table1[[#This Row],[ISBN]],\"Weblink\")","v":"Weblink"},2020,"January 2020","Library","7.000 X 7.000","Author","Theresa Emminizer",null,null,null,null,"J",null,"Grade 1 - 2","Grade 1 - 3","Encompassing vast oceans, seven continents, and 195 countries, the world is a very big place. It is also a community! With this interesting and educational book, readers will learn how every person on Earth is part of the world community and what that means. Using age-appropriate language to communicate complex concepts and relatable, real-life examples of active citizenship, this book is designed to motivate children to embrace their role as members of the world community.","Spanish",22.6,16.95,"305.8--dc23","24 pp.",{"$f":"Table1[[#This Row],[QTY]]*Table1[[#This Row],['# Books]]","v":0},{"$f":"Table1[[#This Row],[QTY]]*Table1[[#This Row],[S&L Price]]","v":0}]
[null,62,null,"Nuestras comunidades (All Our Communities)",1,"Eres parte de la comunidad mundial (You're Part of the World Community!)","eBook",null,"978-1-5382-5013-6",{"$f":"HYPERLINK(\"https://www.garethstevens.com/\"&Table1[[#This Row],[ISBN]],\"Weblink\")","v":"Weblink"},2020,"January 2020",null,null,"Author","Theresa Emminizer",null,null,null,null,"J",null,"Grade 1 - 2","Grade 1 - 3","Encompassing vast oceans, seven continents, and 195 countries, the world is a very big place. It is also a community! With this interesting and educational book, readers will learn how every person on Earth is part of the world community and what that means. Using age-appropriate language to communicate complex concepts and relatable, real-life examples of active citizenship, this book is designed to motivate children to embrace their role as members of the world community.","Spanish",22.6,16.95,"305.8--dc23","24 pp.",{"$f":"Table1[[#This Row],[QTY]]*Table1[[#This Row],['# Books]]","v":0},{"$f":"Table1[[#This Row],[QTY]]*Table1[[#This Row],[S&L Price]]","v":0}]
[null,62,null,"Nuestras comunidades (All Our Communities)",1,"Eres parte de una comunidad escolar (You're Part of a School Community!)","Library Bound Book",null,"978-1-5382-5016-7",{"$f":"HYPERLINK(\"https://www.garethstevens.com/\"&Table1[[#This Row],[ISBN]],\"Weblink\")","v":"Weblink"},2020,"January 2020","Library","7.000 X 7.000","Author","Theresa Emminizer",null,null,null,null,"I",null,"Grade 1 - 2","Grade 1 - 3","School administrators, teachers, staff members are all part of a school community. So are students, parents, school boards, and city officials. Through this relatable and informative book, readers will discover how their school community is at work everyday. They'll learn about the importance of active engagement and working together to achieve common goals. With relevant, real-life examples to guide them, readers will be empowered by the knowledge that they have something unique to contribute to their communities.","Spanish",22.6,16.95,"371--dc23","24 pp.",{"$f":"Table1[[#This Row],[QTY]]*Table1[[#This Row],['# Books]]","v":0},{"$f":"Table1[[#This Row],[QTY]]*Table1[[#This Row],[S&L Price]]","v":0}]
[null,62,null,"Nuestras comunidades (All Our Communities)",1,"Eres parte de una comunidad escolar (You're Part of a School Community!)","eBook",null,"978-1-5382-5017-4",{"$f":"HYPERLINK(\"https://www.garethstevens.com/\"&Table1[[#This Row],[ISBN]],\"Weblink\")","v":"Weblink"},2020,"January 2020",null,null,"Author","Theresa Emminizer",null,null,null,null,"I",null,"Grade 1 - 2","Grade 1 - 3","School administrators, teachers, staff members are all part of a school community. So are students, parents, school boards, and city officials. Through this relatable and informative book, readers will discover how their school community is at work everyday. They'll learn about the importance of active engagement and working together to achieve common goals. With relevant, real-life examples to guide them, readers will be empowered by the knowledge that they have something unique to contribute to their communities.","Spanish",22.6,16.95,"371--dc23","24 pp.",{"$f":"Table1[[#This Row],[QTY]]*Table1[[#This Row],['# Books]]","v":0},{"$f":"Table1[[#This Row],[QTY]]*Table1[[#This Row],[S&L Price]]","v":0}]
[null,62,null,"Nuestras comunidades (All Our Communities)",1,"Eres parte de una comunidad estatal (You're Part of a State Community!)","Library Bound Book",null,"978-1-5382-5020-4",{"$f":"HYPERLINK(\"https://www.garethstevens.com/\"&Table1[[#This Row],[ISBN]],\"Weblink\")","v":"Weblink"},2020,"January 2020","Library","7.000 X 7.000","Author","Theresa Emminizer",null,null,null,null,"J",null,"Grade 1 - 2","Grade 1 - 3","Whether you're way up north in Alaska, in sunny southern Florida, or in the western Hawaiian Islands, you are part of a state community. With colorful photographs and accessible language, this engaging and educational book is designed to teach young readers about what it means to be part of a state community. Through real-life examples of active citizenship and cooperative efforts to achieve common goals, children will understand how they each have unique contributions to make as community members.","Spanish",22.6,16.95,"320.473--dc23","24 pp.",{"$f":"Table1[[#This Row],[QTY]]*Table1[[#This Row],['# Books]]","v":0},{"$f":"Table1[[#This Row],[QTY]]*Table1[[#This Row],[S&L Price]]","v":0}]
[null,62,null,"Nuestras comunidades (All Our Communities)",1,"Eres parte de una comunidad estatal (You're Part of a State Community!)","eBook",null,"978-1-5382-5021-1",{"$f":"HYPERLINK(\"https://www.garethstevens.com/\"&Table1[[#This Row],[ISBN]],\"Weblink\")","v":"Weblink"},2020,"January 2020",null,null,"Author","Theresa Emminizer",null,null,null,null,"J",null,"Grade 1 - 2","Grade 1 - 3","Whether you're way up north in Alaska, in sunny southern Florida, or in the western Hawaiian Islands, you are part of a state community. With colorful photographs and accessible language, this engaging and educational book is designed to teach young readers about what it means to be part of a state community. Through real-life examples of active citizenship and cooperative efforts to achieve common goals, children will understand how they each have unique contributions to make as community members.","Spanish",22.6,16.95,"320.473--dc23","24 pp.",{"$f":"Table1[[#This Row],[QTY]]*Table1[[#This Row],['# Books]]","v":0},{"$f":"Table1[[#This Row],[QTY]]*Table1[[#This Row],[S&L Price]]","v":0}]
[null,62,null,"Nuestras comunidades (All Our Communities)",1,"Eres parte de una comunidad familiar (You're Part of a Family Community!)","Library Bound Book",null,"978-1-5382-5024-2",{"$f":"HYPERLINK(\"https://www.garethstevens.com/\"&Table1[[#This Row],[ISBN]],\"Weblink\")","v":"Weblink"},2020,"January 2020","Library","7.000 X 7.000","Author","Theresa Emminizer",null,null,null,null,"I",null,"Grade 1 - 2","Grade 1 - 3","A community is a group of people living or working together, and a family is a group of people who take care of each other. Through this relatable and informative book, readers will understand what it means to be part of a family community. The age-appropriate language imparts the principles of community while engaging readers by providing accessible real-world examples of how children can participate and contribute to their family community.","Spanish",22.6,16.95,"307--dc23","24 pp.",{"$f":"Table1[[#This Row],[QTY]]*Table1[[#This Row],['# Books]]","v":0},{"$f":"Table1[[#This Row],[QTY]]*Table1[[#This Row],[S&L Price]]","v":0}]
[null,62,null,"Nuestras comunidades (All Our Communities)",1,"Eres parte de una comunidad familiar (You're Part of a Family Community!)","eBook",null,"978-1-5382-5025-9",{"$f":"HYPERLINK(\"https://www.garethstevens.com/\"&Table1[[#This Row],[ISBN]],\"Weblink\")","v":"Weblink"},2020,"January 2020",null,null,"Author","Theresa Emminizer",null,null,null,null,"I",null,"Grade 1 - 2","Grade 1 - 3","A community is a group of people living or working together, and a family is a group of people who take care of each other. Through this relatable and informative book, readers will understand what it means to be part of a family community. The age-appropriate language imparts the principles of community while engaging readers by providing accessible real-world examples of how children can participate and contribute to their family community.","Spanish",22.6,16.95,"307--dc23","24 pp.",{"$f":"Table1[[#This Row],[QTY]]*Table1[[#This Row],['# Books]]","v":0},{"$f":"Table1[[#This Row],[QTY]]*Table1[[#This Row],[S&L Price]]","v":0}]
[null,62,null,"Nuestras comunidades (All Our Communities)",1,"Eres parte de una comunidad nacional (You're Part of a National Community!)","Library Bound Book",null,"978-1-5382-5028-0",{"$f":"HYPERLINK(\"https://www.garethstevens.com/\"&Table1[[#This Row],[ISBN]],\"Weblink\")","v":"Weblink"},2020,"January 2020","Library","7.000 X 7.000","Author","Theresa Emminizer",null,null,null,null,"J",null,"Grade 1 - 2","Grade 1 - 3","What does it mean to be a part of a national community? This eye-opening and informative book is designed to help children learn about the values of democracy and community through an age-appropriate lens. Drawing on the fundamental principles of diversity, equality, civic participation, and working together for the common good, the narrative communicates abstract concepts in a relatable way. Readers will gain a feeling of empowerment to take action and let their voices be heard within their national community.","Spanish",22.6,16.95,"323.6--dc23","24 pp.",{"$f":"Table1[[#This Row],[QTY]]*Table1[[#This Row],['# Books]]","v":0},{"$f":"Table1[[#This Row],[QTY]]*Table1[[#This Row],[S&L Price]]","v":0}]
[null,62,null,"Nuestras comunidades (All Our Communities)",1,"Eres parte de una comunidad nacional (You're Part of a National Community!)","eBook",null,"978-1-5382-5029-7",{"$f":"HYPERLINK(\"https://www.garethstevens.com/\"&Table1[[#This Row],[ISBN]],\"Weblink\")","v":"Weblink"},2020,"January 2020",null,null,"Author","Theresa Emminizer",null,null,null,null,"J",null,"Grade 1 - 2","Grade 1 - 3","What does it mean to be a part of a national community? This eye-opening and informative book is designed to help children learn about the values of democracy and community through an age-appropriate lens. Drawing on the fundamental principles of diversity, equality, civic participation, and working together for the common good, the narrative communicates abstract concepts in a relatable way. Readers will gain a feeling of empowerment to take action and let their voices be heard within their national community.","Spanish",22.6,16.95,"323.6--dc23","24 pp.",{"$f":"Table1[[#This Row],[QTY]]*Table1[[#This Row],['# Books]]","v":0},{"$f":"Table1[[#This Row],[QTY]]*Table1[[#This Row],[S&L Price]]","v":0}]
[null,62,null,"Nuestras comunidades (All Our Communities)",1,"Eres parte de una comunidad vecinal (You're Part of a Neighborhood Community!)","Library Bound Book",null,"978-1-5382-5032-7",{"$f":"HYPERLINK(\"https://www.garethstevens.com/\"&Table1[[#This Row],[ISBN]],\"Weblink\")","v":"Weblink"},2020,"January 2020","Library","7.000 X 7.000","Author","Theresa Emminizer",null,null,null,null,"I",null,"Grade 1 - 2","Grade 1 - 3","A neighborhood is more than a group of people living in the same area; it is a living, breathing community. What does it mean to be part of a neighborhood community? This book will help young readers learn the answer to this question and more. Using age-appropriate language and relatable, real-life examples of active citizenship, this educational text is designed to foster democratic values and skills and encourage children to develop a voice within their community.","Spanish",22.6,16.95,"307--dc23","24 pp.",{"$f":"Table1[[#This Row],[QTY]]*Table1[[#This Row],['# Books]]","v":0},{"$f":"Table1[[#This Row],[QTY]]*Table1[[#This Row],[S&L Price]]","v":0}]
[null,62,null,"Nuestras comunidades (All Our Communities)",1,"Eres parte de una comunidad vecinal (You're Part of a Neighborhood Community!)","eBook",null,"978-1-5382-5033-4",{"$f":"HYPERLINK(\"https://www.garethstevens.com/\"&Table1[[#This Row],[ISBN]],\"Weblink\")","v":"Weblink"},2020,"January 2020",null,null,"Author","Theresa Emminizer",null,null,null,null,"I",null,"Grade 1 - 2","Grade 1 - 3","A neighborhood is more than a group of people living in the same area; it is a living, breathing community. What does it mean to be part of a neighborhood community? This book will help young readers learn the answer to this question and more. Using age-appropriate language and relatable, real-life examples of active citizenship, this educational text is designed to foster democratic values and skills and encourage children to develop a voice within their community.","Spanish",22.6,16.95,"307--dc23","24 pp.",{"$f":"Table1[[#This Row],[QTY]]*Table1[[#This Row],['# Books]]","v":0},{"$f":"Table1[[#This Row],[QTY]]*Table1[[#This Row],[S&L Price]]","v":0}]
[null,63,null,"Conoce la ciencia espacial (A Look at Space Science)",6,"Conoce la ciencia espacial (A Look at Space Science)","Library Set",null,"978-1-5382-6124-8",{"$f":"HYPERLINK(\"https://www.garethstevens.com/\"&Table1[[#This Row],[ISBN]],\"Weblink\")","v":"Weblink"},2021,"August 2020","Library","6.500 X 9.125","","",null,null,null,null,null,null,"Grade 2","Grade 5 - 8","While humans have always wondered about the stars and planets above, we're just beginning to understand what's going on outside Earth's atmosphere, and it's amazing. Budding astrophysicists will love learning about black holes, asteroids, and the sun in the accessible explanations of this carefully researched set. Spectacular images and the most fascinating facts will satisfy the most inquisitive future scientists. Features include: Supports understanding of space systems, which is a Next Generation Science standard. Achievable narratives make challenging science topics comprehensible to developing readers. Diagrams and illustrations illuminate essential concepts.","Spanish",159.6,119.7,null,"32 pp.",{"$f":"Table1[[#This Row],[QTY]]*Table1[[#This Row],['# Books]]","v":0},{"$f":"Table1[[#This Row],[QTY]]*Table1[[#This Row],[S&L Price]]","v":0}]
[null,63,null,"Conoce la ciencia espacial (A Look at Space Science)",1,"Agujeros negros (Black Holes)","Library Bound Book",null,"978-1-5382-6029-6",{"$f":"HYPERLINK(\"https://www.garethstevens.com/\"&Table1[[#This Row],[ISBN]],\"Weblink\")","v":"Weblink"},2021,"August 2020","Library","6.500 X 9.125","Author","Bert Wilberforce",null,null,null,null,"K",null,"Grade 2","Grade 5 - 8","Black holes are neither holes nor black. They're invisible and packed with matter! Future astronomers will find out many more fascinating facts about these space phenomena with this intriguing book. Carefully crafted text encapsulates the most important information about black holes, such as how scientists locate them and their significance in a star's life cycle. Amazing photographs support critical concepts and inspire a true appreciation of the spectacles of space.","Spanish",26.6,19.95,"523.8/875--dc23","32 pp.",{"$f":"Table1[[#This Row],[QTY]]*Table1[[#This Row],['# Books]]","v":0},{"$f":"Table1[[#This Row],[QTY]]*Table1[[#This Row],[S&L Price]]","v":0}]
[null,63,null,"Conoce la ciencia espacial (A Look at Space Science)",1,"Agujeros negros (Black Holes)","eBook",null,"978-1-5382-6030-2",{"$f":"HYPERLINK(\"https://www.garethstevens.com/\"&Table1[[#This Row],[ISBN]],\"Weblink\")","v":"Weblink"},2021,"August 2020",null,null,"Author","Bert Wilberforce",null,null,null,null,"K",null,"Grade 2","Grade 5 - 8","Black holes are neither holes nor black. They're invisible and packed with matter! Future astronomers will find out many more fascinating facts about these space phenomena with this intriguing book. Carefully crafted text encapsulates the most important information about black holes, such as how scientists locate them and their significance in a star's life cycle. Amazing photographs support critical concepts and inspire a true appreciation of the spectacles of space.","Spanish",26.6,19.95,"523.8/875--dc23","32 pp.",{"$f":"Table1[[#This Row],[QTY]]*Table1[[#This Row],['# Books]]","v":0},{"$f":"Table1[[#This Row],[QTY]]*Table1[[#This Row],[S&L Price]]","v":0}]
[null,63,null,"Conoce la ciencia espacial (A Look at Space Science)",1,"Cometas, asteroides y meteoritos (Comets, Asteroids, and Meteoroids)","Library Bound Book",null,"978-1-5382-6045-6",{"$f":"HYPERLINK(\"https://www.garethstevens.com/\"&Table1[[#This Row],[ISBN]],\"Weblink\")","v":"Weblink"},2021,"August 2020","Library","6.500 X 9.125","Author","Bert Wilberforce",null,null,null,null,"K",null,"Grade 2","Grade 5 - 8","Planets aren't the only objects beyond Earth's atmosphere. This valuable volume explains the difference between comets, asteroids, and meteoroids, their origins, and their significance to us on Earth. Readers will find out about famous comets, the dangers of asteroids, and what a meteoroid has to do with a falling star. A complement to space science curricula, there's plenty of astronomy vocabulary and eye-catching images to capture the interest of stargazers.","Spanish",26.6,19.95,"523.5--dc23","32 pp.",{"$f":"Table1[[#This Row],[QTY]]*Table1[[#This Row],['# Books]]","v":0},{"$f":"Table1[[#This Row],[QTY]]*Table1[[#This Row],[S&L Price]]","v":0}]
[null,63,null,"Conoce la ciencia espacial (A Look at Space Science)",1,"Cometas, asteroides y meteoritos (Comets, Asteroids, and Meteoroids)","eBook",null,"978-1-5382-6046-3",{"$f":"HYPERLINK(\"https://www.garethstevens.com/\"&Table1[[#This Row],[ISBN]],\"Weblink\")","v":"Weblink"},2021,"August 2020",null,null,"Author","Bert Wilberforce",null,null,null,null,"K",null,"Grade 2","Grade 5 - 8","Planets aren't the only objects beyond Earth's atmosphere. This valuable volume explains the difference between comets, asteroids, and meteoroids, their origins, and their significance to us on Earth. Readers will find out about famous comets, the dangers of asteroids, and what a meteoroid has to do with a falling star. A complement to space science curricula, there's plenty of astronomy vocabulary and eye-catching images to capture the interest of stargazers.","Spanish",26.6,19.95,"523.5--dc23","32 pp.",{"$f":"Table1[[#This Row],[QTY]]*Table1[[#This Row],['# Books]]","v":0},{"$f":"Table1[[#This Row],[QTY]]*Table1[[#This Row],[S&L Price]]","v":0}]
[null,63,null,"Conoce la ciencia espacial (A Look at Space Science)",1,"El Sol y otras estrellas (The Sun and Other Stars)","Library Bound Book",null,"978-1-5382-6037-1",{"$f":"HYPERLINK(\"https://www.garethstevens.com/\"&Table1[[#This Row],[ISBN]],\"Weblink\")","v":"Weblink"},2021,"August 2020","Library","6.500 X 9.125","Author","Bert Wilberforce",null,null,null,null,"K",null,"Grade 2","Grade 5 - 8","Many young learners are astonished to discover that the sun is a star. As the sole star of our solar system, all life on Earth depends on the sun. The most amazing and engrossing facts about the sun are found in this stellar volume, including its structure, temperature, and age. Readers will learn about the twinkling lights they see in the night sky, which are other stars light-years away. This motivating book with its incredible images and entertaining narrative is a must for every space science collection.","Spanish",26.6,19.95,"523.8--dc23","32 pp.",{"$f":"Table1[[#This Row],[QTY]]*Table1[[#This Row],['# Books]]","v":0},{"$f":"Table1[[#This Row],[QTY]]*Table1[[#This Row],[S&L Price]]","v":0}]
[null,63,null,"Conoce la ciencia espacial (A Look at Space Science)",1,"El Sol y otras estrellas (The Sun and Other Stars)","eBook",null,"978-1-5382-6038-8",{"$f":"HYPERLINK(\"https://www.garethstevens.com/\"&Table1[[#This Row],[ISBN]],\"Weblink\")","v":"Weblink"},2021,"August 2020",null,null,"Author","Bert Wilberforce",null,null,null,null,"K",null,"Grade 2","Grade 5 - 8","Many young learners are astonished to discover that the sun is a star. As the sole star of our solar system, all life on Earth depends on the sun. The most amazing and engrossing facts about the sun are found in this stellar volume, including its structure, temperature, and age. Readers will learn about the twinkling lights they see in the night sky, which are other stars light-years away. This motivating book with its incredible images and entertaining narrative is a must for every space science collection.","Spanish",26.6,19.95,"523.8--dc23","32 pp.",{"$f":"Table1[[#This Row],[QTY]]*Table1[[#This Row],['# Books]]","v":0},{"$f":"Table1[[#This Row],[QTY]]*Table1[[#This Row],[S&L Price]]","v":0}]
[null,63,null,"Conoce la ciencia espacial (A Look at Space Science)",1,"La Luna (The Moon)","Library Bound Book",null,"978-1-5382-6025-8",{"$f":"HYPERLINK(\"https://www.garethstevens.com/\"&Table1[[#This Row],[ISBN]],\"Weblink\")","v":"Weblink"},2021,"August 2020","Library","6.500 X 9.125","Author","Bert Wilberforce",null,null,null,null,"K",null,"Grade 2","Grade 5 - 8","Our moon has long been a source of wonder for people looking up at the night sky. Young space explorers will find all they need to know about Earth's only natural satellite with this vivid volume full of beautiful photographs of the moon in all its phases. They'll learn about the moon's size, its effect on Earth's tides, and what exactly they can expect if they ever touch down on its surface. Accessible text, intriguing fact boxes, and beneficial diagrams throughout this book will engage readers.","Spanish",26.6,19.95,"523.3--dc23","32 pp.",{"$f":"Table1[[#This Row],[QTY]]*Table1[[#This Row],['# Books]]","v":0},{"$f":"Table1[[#This Row],[QTY]]*Table1[[#This Row],[S&L Price]]","v":0}]
[null,63,null,"Conoce la ciencia espacial (A Look at Space Science)",1,"La Luna (The Moon)","eBook",null,"978-1-5382-6026-5",{"$f":"HYPERLINK(\"https://www.garethstevens.com/\"&Table1[[#This Row],[ISBN]],\"Weblink\")","v":"Weblink"},2021,"August 2020",null,null,"Author","Bert Wilberforce",null,null,null,null,"K",null,"Grade 2","Grade 5 - 8","Our moon has long been a source of wonder for people looking up at the night sky. Young space explorers will find all they need to know about Earth's only natural satellite with this vivid volume full of beautiful photographs of the moon in all its phases. They'll learn about the moon's size, its effect on Earth's tides, and what exactly they can expect if they ever touch down on its surface. Accessible text, intriguing fact boxes, and beneficial diagrams throughout this book will engage readers.","Spanish",26.6,19.95,"523.3--dc23","32 pp.",{"$f":"Table1[[#This Row],[QTY]]*Table1[[#This Row],['# Books]]","v":0},{"$f":"Table1[[#This Row],[QTY]]*Table1[[#This Row],[S&L Price]]","v":0}]
[null,63,null,"Conoce la ciencia espacial (A Look at Space Science)",1,"Las galaxias (Galaxies)","Library Bound Book",null,"978-1-5382-6033-3",{"$f":"HYPERLINK(\"https://www.garethstevens.com/\"&Table1[[#This Row],[ISBN]],\"Weblink\")","v":"Weblink"},2021,"August 2020","Library","6.500 X 9.125","Author","Bert Wilberforce",null,null,null,null,"K",null,"Grade 2","Grade 5 - 8","Most young astronomers know that Earth is located in the Milky Way galaxy, but they might not know what that means or what lies beyond. Understanding our galaxy and others will help them comprehend more about how the universe works. Your readers will discover many amazing and memorable facts about galaxies, including their differing shapes, numbers of stars, and constant movement. They'll especially love the mind-boggling images of the depths of space.","Spanish",26.6,19.95,"523.1/12--dc23","32 pp.",{"$f":"Table1[[#This Row],[QTY]]*Table1[[#This Row],['# Books]]","v":0},{"$f":"Table1[[#This Row],[QTY]]*Table1[[#This Row],[S&L Price]]","v":0}]
[null,63,null,"Conoce la ciencia espacial (A Look at Space Science)",1,"Las galaxias (Galaxies)","eBook",null,"978-1-5382-6034-0",{"$f":"HYPERLINK(\"https://www.garethstevens.com/\"&Table1[[#This Row],[ISBN]],\"Weblink\")","v":"Weblink"},2021,"August 2020",null,null,"Author","Bert Wilberforce",null,null,null,null,"K",null,"Grade 2","Grade 5 - 8","Most young astronomers know that Earth is located in the Milky Way galaxy, but they might not know what that means or what lies beyond. Understanding our galaxy and others will help them comprehend more about how the universe works. Your readers will discover many amazing and memorable facts about galaxies, including their differing shapes, numbers of stars, and constant movement. They'll especially love the mind-boggling images of the depths of space.","Spanish",26.6,19.95,"523.1/12--dc23","32 pp.",{"$f":"Table1[[#This Row],[QTY]]*Table1[[#This Row],['# Books]]","v":0},{"$f":"Table1[[#This Row],[QTY]]*Table1[[#This Row],[S&L Price]]","v":0}]
[null,63,null,"Conoce la ciencia espacial (A Look at Space Science)",1,"Los planetas (The Planets)","Library Bound Book",null,"978-1-5382-6049-4",{"$f":"HYPERLINK(\"https://www.garethstevens.com/\"&Table1[[#This Row],[ISBN]],\"Weblink\")","v":"Weblink"},2021,"August 2020","Library","6.500 X 9.125","Author","Bert Wilberforce",null,null,null,null,"K",null,"Grade 2","Grade 5 - 8","For many years, people believed there were nine planets that orbited the sun. Now we say there are eight. What happened to the ninth planet, Pluto? What are the different planets like? What exactly makes a planet a planet? These are the many intriguing questions answered with this high-interest book, crafted to be accessible for readers of all levels. Young astronomers will be especially fascinated by the stunning photographs and the \"Make the Grade\" fact boxes.","Spanish",26.6,19.95,"523.4--dc23","32 pp.",{"$f":"Table1[[#This Row],[QTY]]*Table1[[#This Row],['# Books]]","v":0},{"$f":"Table1[[#This Row],[QTY]]*Table1[[#This Row],[S&L Price]]","v":0}]
[null,63,null,"Conoce la ciencia espacial (A Look at Space Science)",1,"Los planetas (The Planets)","eBook",null,"978-1-5382-6050-0",{"$f":"HYPERLINK(\"https://www.garethstevens.com/\"&Table1[[#This Row],[ISBN]],\"Weblink\")","v":"Weblink"},2021,"August 2020",null,null,"Author","Bert Wilberforce",null,null,null,null,"K",null,"Grade 2","Grade 5 - 8","For many years, people believed there were nine planets that orbited the sun. Now we say there are eight. What happened to the ninth planet, Pluto? What are the different planets like? What exactly makes a planet a planet? These are the many intriguing questions answered with this high-interest book, crafted to be accessible for readers of all levels. Young astronomers will be especially fascinated by the stunning photographs and the \"Make the Grade\" fact boxes.","Spanish",26.6,19.95,"523.4--dc23","32 pp.",{"$f":"Table1[[#This Row],[QTY]]*Table1[[#This Row],['# Books]]","v":0},{"$f":"Table1[[#This Row],[QTY]]*Table1[[#This Row],[S&L Price]]","v":0}]
[null,64,null,"Conoce las elecciones de Estados Unidos (A Look At U.S. Elections)",6,"Conoce las elecciones de Estados Unidos (A Look At U.S. Elections)","Library Set",null,"978-1-5382-6125-5",{"$f":"HYPERLINK(\"https://www.garethstevens.com/\"&Table1[[#This Row],[ISBN]],\"Weblink\")","v":"Weblink"},2021,"August 2020","Library","6.500 X 9.125","","",null,null,null,null,null,null,"Grade 2","Grade 5 - 8","Getting voters to the polls starts with educating people on how elections work and why they are important. While readers of these engaging volumes may not be old enough to vote in elections yet, they're never too young to start learning about them. From primaries and general elections to voting laws that changed history and the most famous presidential elections, this set offers a comprehensive guide to the past and present American voting process. Features include: Highlights the importance of civic responsibility, especially voting. Covers important curriculum topics including history and government. Fact boxes and photographs further clarify central concepts.","Spanish",159.6,119.7,null,"32 pp.",{"$f":"Table1[[#This Row],[QTY]]*Table1[[#This Row],['# Books]]","v":0},{"$f":"Table1[[#This Row],[QTY]]*Table1[[#This Row],[S&L Price]]","v":0}]
[null,64,null,"Conoce las elecciones de Estados Unidos (A Look At U.S. Elections)",1,"Cómo funciona el sistema de votación (How Does Voting Work?)","Library Bound Book",null,"978-1-5382-6057-9",{"$f":"HYPERLINK(\"https://www.garethstevens.com/\"&Table1[[#This Row],[ISBN]],\"Weblink\")","v":"Weblink"},2021,"August 2020","Library","6.500 X 9.125","Author","Kathryn Wesgate",null,null,null,null,"K",null,"Grade 2","Grade 5 - 8","Even for adults, elections can be difficult to fully understand. How do you register to vote? What happens at the polls? How do you know whom to vote for? This compelling volume provides the answers to these questions and many more through an accessible narrative, captivating photographs, and attention-grabbing fact boxes. Written at a low reading level, this book offers a simple overview of important curriculum topics for upper elementary struggling readers.","Spanish",26.6,19.95,"324.6/50973--dc23","32 pp.",{"$f":"Table1[[#This Row],[QTY]]*Table1[[#This Row],['# Books]]","v":0},{"$f":"Table1[[#This Row],[QTY]]*Table1[[#This Row],[S&L Price]]","v":0}]
[null,64,null,"Conoce las elecciones de Estados Unidos (A Look At U.S. Elections)",1,"Cómo funciona el sistema de votación (How Does Voting Work?)","eBook",null,"978-1-5382-6058-6",{"$f":"HYPERLINK(\"https://www.garethstevens.com/\"&Table1[[#This Row],[ISBN]],\"Weblink\")","v":"Weblink"},2021,"August 2020",null,null,"Author","Kathryn Wesgate",null,null,null,null,"K",null,"Grade 2","Grade 5 - 8","Even for adults, elections can be difficult to fully understand. How do you register to vote? What happens at the polls? How do you know whom to vote for? This compelling volume provides the answers to these questions and many more through an accessible narrative, captivating photographs, and attention-grabbing fact boxes. Written at a low reading level, this book offers a simple overview of important curriculum topics for upper elementary struggling readers.","Spanish",26.6,19.95,"324.6/50973--dc23","32 pp.",{"$f":"Table1[[#This Row],[QTY]]*Table1[[#This Row],['# Books]]","v":0},{"$f":"Table1[[#This Row],[QTY]]*Table1[[#This Row],[S&L Price]]","v":0}]
[null,64,null,"Conoce las elecciones de Estados Unidos (A Look At U.S. Elections)",1,"Elecciones presidenciales conocidas (Famous Presidential Elections)","Library Bound Book",null,"978-1-5382-6065-4",{"$f":"HYPERLINK(\"https://www.garethstevens.com/\"&Table1[[#This Row],[ISBN]],\"Weblink\")","v":"Weblink"},2021,"August 2020","Library","6.500 X 9.125","Author","Kathryn Wesgate",null,null,null,null,"K",null,"Grade 2","Grade 5 - 8","The first presidential election in the United States was carried out in a very different way than elections as we know them today. Over the years there have been many prominent and memorable elections to decide the president. The history of presidential elections is ripe with terrific stories. Written at a low reading level, this accessible guide uses simple language to reinforce key social studies concepts that are central to upper elementary curricula. Full-color photographs and engaging fact boxes offer further information and support a strong comprehension of the material.","Spanish",26.6,19.95,"324.6'3--dc23","32 pp.",{"$f":"Table1[[#This Row],[QTY]]*Table1[[#This Row],['# Books]]","v":0},{"$f":"Table1[[#This Row],[QTY]]*Table1[[#This Row],[S&L Price]]","v":0}]
[null,64,null,"Conoce las elecciones de Estados Unidos (A Look At U.S. Elections)",1,"Elecciones presidenciales conocidas (Famous Presidential Elections)","eBook",null,"978-1-5382-6066-1",{"$f":"HYPERLINK(\"https://www.garethstevens.com/\"&Table1[[#This Row],[ISBN]],\"Weblink\")","v":"Weblink"},2021,"August 2020",null,null,"Author","Kathryn Wesgate",null,null,null,null,"K",null,"Grade 2","Grade 5 - 8","The first presidential election in the United States was carried out in a very different way than elections as we know them today. Over the years there have been many prominent and memorable elections to decide the president. The history of presidential elections is ripe with terrific stories. Written at a low reading level, this accessible guide uses simple language to reinforce key social studies concepts that are central to upper elementary curricula. Full-color photographs and engaging fact boxes offer further information and support a strong comprehension of the material.","Spanish",26.6,19.95,"324.6'3--dc23","32 pp.",{"$f":"Table1[[#This Row],[QTY]]*Table1[[#This Row],['# Books]]","v":0},{"$f":"Table1[[#This Row],[QTY]]*Table1[[#This Row],[S&L Price]]","v":0}]
[null,64,null,"Conoce las elecciones de Estados Unidos (A Look At U.S. Elections)",1,"Elecciones primarias y asambleas electorales (Primaries and Caucuses)","Library Bound Book",null,"978-1-5382-6069-2",{"$f":"HYPERLINK(\"https://www.garethstevens.com/\"&Table1[[#This Row],[ISBN]],\"Weblink\")","v":"Weblink"},2021,"August 2020","Library","6.500 X 9.125","Author","Kathryn Wesgate",null,null,null,null,"K",null,"Grade 2","Grade 5 - 8","Many voters take part in general elections yet they're largely unaware of how primaries and caucuses work. Your readers will learn about the important processes that help select candidates. Struggling readers are able to utilize accessible text to learn about this key facet of the upper elementary social studies curriculum. Eye-catching photographs and educational fact boxes further illustrate important ideas and encourage readers to learn about politics at an early age.","Spanish",26.6,19.95,"324.273/15--dc23","32 pp.",{"$f":"Table1[[#This Row],[QTY]]*Table1[[#This Row],['# Books]]","v":0},{"$f":"Table1[[#This Row],[QTY]]*Table1[[#This Row],[S&L Price]]","v":0}]
[null,64,null,"Conoce las elecciones de Estados Unidos (A Look At U.S. Elections)",1,"Elecciones primarias y asambleas electorales (Primaries and Caucuses)","eBook",null,"978-1-5382-6070-8",{"$f":"HYPERLINK(\"https://www.garethstevens.com/\"&Table1[[#This Row],[ISBN]],\"Weblink\")","v":"Weblink"},2021,"August 2020",null,null,"Author","Kathryn Wesgate",null,null,null,null,"K",null,"Grade 2","Grade 5 - 8","Many voters take part in general elections yet they're largely unaware of how primaries and caucuses work. Your readers will learn about the important processes that help select candidates. Struggling readers are able to utilize accessible text to learn about this key facet of the upper elementary social studies curriculum. Eye-catching photographs and educational fact boxes further illustrate important ideas and encourage readers to learn about politics at an early age.","Spanish",26.6,19.95,"324.273/15--dc23","32 pp.",{"$f":"Table1[[#This Row],[QTY]]*Table1[[#This Row],['# Books]]","v":0},{"$f":"Table1[[#This Row],[QTY]]*Table1[[#This Row],[S&L Price]]","v":0}]
[null,64,null,"Conoce las elecciones de Estados Unidos (A Look At U.S. Elections)",1,"La historia de los partidos políticos (The History of Political Parties)","Library Bound Book",null,"978-1-5382-6053-1",{"$f":"HYPERLINK(\"https://www.garethstevens.com/\"&Table1[[#This Row],[ISBN]],\"Weblink\")","v":"Weblink"},2021,"August 2020","Library","6.500 X 9.125","Author","Kathryn Wesgate",null,null,null,null,"K",null,"Grade 2","Grade 5 - 8","Readers may know that the Democratic and Republican Parties are the two main political parties in the United States now, but that hasn't always been the case. The parties have also changed quite a bit over time. This informative volume helps readers learn about key facts, individuals, and events involved in the history of political parties in the United States. Accessible text helps struggling readers understand this crucial part of the upper elementary social studies curriculum.","Spanish",26.6,19.95,"324.273--dc23","32 pp.",{"$f":"Table1[[#This Row],[QTY]]*Table1[[#This Row],['# Books]]","v":0},{"$f":"Table1[[#This Row],[QTY]]*Table1[[#This Row],[S&L Price]]","v":0}]
[null,64,null,"Conoce las elecciones de Estados Unidos (A Look At U.S. Elections)",1,"La historia de los partidos políticos (The History of Political Parties)","eBook",null,"978-1-5382-6054-8",{"$f":"HYPERLINK(\"https://www.garethstevens.com/\"&Table1[[#This Row],[ISBN]],\"Weblink\")","v":"Weblink"},2021,"August 2020",null,null,"Author","Kathryn Wesgate",null,null,null,null,"K",null,"Grade 2","Grade 5 - 8","Readers may know that the Democratic and Republican Parties are the two main political parties in the United States now, but that hasn't always been the case. The parties have also changed quite a bit over time. This informative volume helps readers learn about key facts, individuals, and events involved in the history of political parties in the United States. Accessible text helps struggling readers understand this crucial part of the upper elementary social studies curriculum.","Spanish",26.6,19.95,"324.273--dc23","32 pp.",{"$f":"Table1[[#This Row],[QTY]]*Table1[[#This Row],['# Books]]","v":0},{"$f":"Table1[[#This Row],[QTY]]*Table1[[#This Row],[S&L Price]]","v":0}]
[null,64,null,"Conoce las elecciones de Estados Unidos (A Look At U.S. Elections)",1,"Las elecciones generales (The General Election)","Library Bound Book",null,"978-1-5382-6061-6",{"$f":"HYPERLINK(\"https://www.garethstevens.com/\"&Table1[[#This Row],[ISBN]],\"Weblink\")","v":"Weblink"},2021,"August 2020","Library","6.500 X 9.125","Author","Kathryn Wesgate",null,null,null,null,"K",null,"Grade 2","Grade 5 - 8","Though many people in the United States have a basic understanding of how the general election works, there's a lot that goes into it that many voters are unfamiliar with. Young readers will get a head start learning the ins and outs of how leaders are elected. Colorful photographs and informative fact boxes expand on the main narrative. Concise text explains challenging topics and prepares readers to someday vote at the polls themselves.","Spanish",26.6,19.95,"324.60973--dc23","32 pp.",{"$f":"Table1[[#This Row],[QTY]]*Table1[[#This Row],['# Books]]","v":0},{"$f":"Table1[[#This Row],[QTY]]*Table1[[#This Row],[S&L Price]]","v":0}]
[null,64,null,"Conoce las elecciones de Estados Unidos (A Look At U.S. Elections)",1,"Las elecciones generales (The General Election)","eBook",null,"978-1-5382-6062-3",{"$f":"HYPERLINK(\"https://www.garethstevens.com/\"&Table1[[#This Row],[ISBN]],\"Weblink\")","v":"Weblink"},2021,"August 2020",null,null,"Author","Kathryn Wesgate",null,null,null,null,"K",null,"Grade 2","Grade 5 - 8","Though many people in the United States have a basic understanding of how the general election works, there's a lot that goes into it that many voters are unfamiliar with. Young readers will get a head start learning the ins and outs of how leaders are elected. Colorful photographs and informative fact boxes expand on the main narrative. Concise text explains challenging topics and prepares readers to someday vote at the polls themselves.","Spanish",26.6,19.95,"324.60973--dc23","32 pp.",{"$f":"Table1[[#This Row],[QTY]]*Table1[[#This Row],['# Books]]","v":0},{"$f":"Table1[[#This Row],[QTY]]*Table1[[#This Row],[S&L Price]]","v":0}]
[null,64,null,"Conoce las elecciones de Estados Unidos (A Look At U.S. Elections)",1,"Las leyes de derechos de votación (Landmark Voting Laws)","Library Bound Book",null,"978-1-5382-6073-9",{"$f":"HYPERLINK(\"https://www.garethstevens.com/\"&Table1[[#This Row],[ISBN]],\"Weblink\")","v":"Weblink"},2021,"August 2020","Library","6.500 X 9.125","Author","Kathryn Wesgate",null,null,null,null,"K",null,"Grade 2","Grade 5 - 8","If it weren't for some very significant moments in history, elections would look quite different than they do today. Readers will learn about some of the most important voting laws in the United States, from laws set forth in the Constitution to the key amendments that changed them. Readers learn about landmark legislation that changed history and shaped what the United States has become, such as the Voting Rights Act of 1965. Accessible text supports readers of all levels in understanding this key topic of the upper elementary curriculum.","Spanish",26.6,19.95,"342.73/07--dc23","32 pp.",{"$f":"Table1[[#This Row],[QTY]]*Table1[[#This Row],['# Books]]","v":0},{"$f":"Table1[[#This Row],[QTY]]*Table1[[#This Row],[S&L Price]]","v":0}]
[null,64,null,"Conoce las elecciones de Estados Unidos (A Look At U.S. Elections)",1,"Las leyes de derechos de votación (Landmark Voting Laws)","eBook",null,"978-1-5382-6074-6",{"$f":"HYPERLINK(\"https://www.garethstevens.com/\"&Table1[[#This Row],[ISBN]],\"Weblink\")","v":"Weblink"},2021,"August 2020",null,null,"Author","Kathryn Wesgate",null,null,null,null,"K",null,"Grade 2","Grade 5 - 8","If it weren't for some very significant moments in history, elections would look quite different than they do today. Readers will learn about some of the most important voting laws in the United States, from laws set forth in the Constitution to the key amendments that changed them. Readers learn about landmark legislation that changed history and shaped what the United States has become, such as the Voting Rights Act of 1965. Accessible text supports readers of all levels in understanding this key topic of the upper elementary curriculum.","Spanish",26.6,19.95,"342.73/07--dc23","32 pp.",{"$f":"Table1[[#This Row],[QTY]]*Table1[[#This Row],['# Books]]","v":0},{"$f":"Table1[[#This Row],[QTY]]*Table1[[#This Row],[S&L Price]]","v":0}]
[null,65,165,"Conoce las ciencias biológicas (A Look at Life Science)",6,"Conoce las ciencias biológicas (A Look at Life Science)","Library Set",null,"978-1-5382-5088-4",{"$f":"HYPERLINK(\"https://www.garethstevens.com/\"&Table1[[#This Row],[ISBN]],\"Weblink\")","v":"Weblink"},2020,"January 2020","Library","6.500 X 9.125","","",null,null,null,null,null,null,"Grade 2","Grade 5 - 8","Everyone knows what a plant or animal is, but sometimes, what we might call a plant is actually a protist. Or is it a fungus? The six major groups of organisms on Earth are an essential part of life science curricula. Written especially for struggling readers or those in need of review, each book in this set focuses on one group, including its main physical characteristics, ways of making or consuming food, and examples of different kinds within its major grouping. Features include: Expanded glossaries allow readers access to quick explanations of important vocabulary. Fact boxes provide readers more context within the science curriculum or provide further explanation of the main texts. Graphic organizers emphasize important concepts.","Spanish",159.6,119.7,null,"32 pp.",{"$f":"Table1[[#This Row],[QTY]]*Table1[[#This Row],['# Books]]","v":0},{"$f":"Table1[[#This Row],[QTY]]*Table1[[#This Row],[S&L Price]]","v":0}]
[null,65,165,"Conoce las ciencias biológicas (A Look at Life Science)",1,"Las árqueas (What Are Archaea?)","Library Bound Book",null,"978-1-5382-5064-8",{"$f":"HYPERLINK(\"https://www.garethstevens.com/\"&Table1[[#This Row],[ISBN]],\"Weblink\")","v":"Weblink"},2020,"January 2020","Library","6.500 X 9.125","Author","Kate Mikoley",null,null,null,null,"J",null,"Grade 2","Grade 5 - 8","Archaea are microorganisms often found living in very extreme conditions. They are known to survive in very hot environments, such as hydrothermal vents and hot springs. They can also live in very acidic habitats and even inside of animals. With the help of this engaging book, readers will develop a strong understanding of these fascinating organisms. Accessible, age-appropriate text helps readers of many levels learn important details related to elementary life science curricula. Meanwhile, colorful photographs reinforce key concepts and hold readers' attention.","Spanish",26.6,19.95,"579.3/21--dc23","32 pp.",{"$f":"Table1[[#This Row],[QTY]]*Table1[[#This Row],['# Books]]","v":0},{"$f":"Table1[[#This Row],[QTY]]*Table1[[#This Row],[S&L Price]]","v":0}]
[null,65,165,"Conoce las ciencias biológicas (A Look at Life Science)",1,"Las árqueas (What Are Archaea?)","eBook",null,"978-1-5382-5065-5",{"$f":"HYPERLINK(\"https://www.garethstevens.com/\"&Table1[[#This Row],[ISBN]],\"Weblink\")","v":"Weblink"},2020,"January 2020",null,null,"Author","Kate Mikoley",null,null,null,null,"J",null,"Grade 2","Grade 5 - 8","Archaea are microorganisms often found living in very extreme conditions. They are known to survive in very hot environments, such as hydrothermal vents and hot springs. They can also live in very acidic habitats and even inside of animals. With the help of this engaging book, readers will develop a strong understanding of these fascinating organisms. Accessible, age-appropriate text helps readers of many levels learn important details related to elementary life science curricula. Meanwhile, colorful photographs reinforce key concepts and hold readers' attention.","Spanish",26.6,19.95,"579.3/21--dc23","32 pp.",{"$f":"Table1[[#This Row],[QTY]]*Table1[[#This Row],['# Books]]","v":0},{"$f":"Table1[[#This Row],[QTY]]*Table1[[#This Row],[S&L Price]]","v":0}]
[null,65,165,"Conoce las ciencias biológicas (A Look at Life Science)",1,"Las bacterias (What Are Bacteria?)","Library Bound Book",null,"978-1-5382-5068-6",{"$f":"HYPERLINK(\"https://www.garethstevens.com/\"&Table1[[#This Row],[ISBN]],\"Weblink\")","v":"Weblink"},2020,"January 2020","Library","6.500 X 9.125","Author","Kate Mikoley",null,null,null,null,"I",null,"Grade 2","Grade 5 - 8","For many people, the word \"bacteria\" evokes thoughts of harmful germs and illness. While it's true bacteria can often be responsible for getting a person sick, they can also be very helpful. Readers of this innovative book will learn about the good and the bad sides of bacteria, and why humans and other animals would never be able to thrive without them. Key topics are presented using concise text paired with colorful photographs, helping readers of many levels to understand important life science concepts.","Spanish",26.6,19.95,"579.3--dc23","32 pp.",{"$f":"Table1[[#This Row],[QTY]]*Table1[[#This Row],['# Books]]","v":0},{"$f":"Table1[[#This Row],[QTY]]*Table1[[#This Row],[S&L Price]]","v":0}]
[null,65,165,"Conoce las ciencias biológicas (A Look at Life Science)",1,"Las bacterias (What Are Bacteria?)","eBook",null,"978-1-5382-5069-3",{"$f":"HYPERLINK(\"https://www.garethstevens.com/\"&Table1[[#This Row],[ISBN]],\"Weblink\")","v":"Weblink"},2020,"January 2020",null,null,"Author","Kate Mikoley",null,null,null,null,"I",null,"Grade 2","Grade 5 - 8","For many people, the word \"bacteria\" evokes thoughts of harmful germs and illness. While it's true bacteria can often be responsible for getting a person sick, they can also be very helpful. Readers of this innovative book will learn about the good and the bad sides of bacteria, and why humans and other animals would never be able to thrive without them. Key topics are presented using concise text paired with colorful photographs, helping readers of many levels to understand important life science concepts.","Spanish",26.6,19.95,"579.3--dc23","32 pp.",{"$f":"Table1[[#This Row],[QTY]]*Table1[[#This Row],['# Books]]","v":0},{"$f":"Table1[[#This Row],[QTY]]*Table1[[#This Row],[S&L Price]]","v":0}]
[null,65,165,"Conoce las ciencias biológicas (A Look at Life Science)",1,"Las plantas (What Are Plants?)","Library Bound Book",null,"978-1-5382-5076-1",{"$f":"HYPERLINK(\"https://www.garethstevens.com/\"&Table1[[#This Row],[ISBN]],\"Weblink\")","v":"Weblink"},2020,"January 2020","Library","6.500 X 9.125","Author","Kate Mikoley",null,null,null,null,"I",null,"Grade 2","Grade 5 - 8","Besides animals, plants are commonly the most well-known living things. Readers of this captivating volume will learn all about plants, from the basics of what constitutes a plant to how they are able to survive in different kinds of environments. A dynamic page layout features simple and accessible text paired closely with eye-catching photographs. Thought-provoking content helps readers develop a strong grasp of important life science concepts. Developing readers will be excited to pick up this informative volume.","Spanish",26.6,19.95,"580--dc23","32 pp.",{"$f":"Table1[[#This Row],[QTY]]*Table1[[#This Row],['# Books]]","v":0},{"$f":"Table1[[#This Row],[QTY]]*Table1[[#This Row],[S&L Price]]","v":0}]
[null,65,165,"Conoce las ciencias biológicas (A Look at Life Science)",1,"Las plantas (What Are Plants?)","eBook",null,"978-1-5382-5077-8",{"$f":"HYPERLINK(\"https://www.garethstevens.com/\"&Table1[[#This Row],[ISBN]],\"Weblink\")","v":"Weblink"},2020,"January 2020",null,null,"Author","Kate Mikoley",null,null,null,null,"I",null,"Grade 2","Grade 5 - 8","Besides animals, plants are commonly the most well-known living things. Readers of this captivating volume will learn all about plants, from the basics of what constitutes a plant to how they are able to survive in different kinds of environments. A dynamic page layout features simple and accessible text paired closely with eye-catching photographs. Thought-provoking content helps readers develop a strong grasp of important life science concepts. Developing readers will be excited to pick up this informative volume.","Spanish",26.6,19.95,"580--dc23","32 pp.",{"$f":"Table1[[#This Row],[QTY]]*Table1[[#This Row],['# Books]]","v":0},{"$f":"Table1[[#This Row],[QTY]]*Table1[[#This Row],[S&L Price]]","v":0}]
[null,65,165,"Conoce las ciencias biológicas (A Look at Life Science)",1,"Los animales (What Are Animals?)","Library Bound Book",null,"978-1-5382-5060-0",{"$f":"HYPERLINK(\"https://www.garethstevens.com/\"&Table1[[#This Row],[ISBN]],\"Weblink\")","v":"Weblink"},2020,"January 2020","Library","6.500 X 9.125","Author","Kate Mikoley",null,null,null,null,"I",null,"Grade 2","Grade 5 - 8","Wildlife plays an important role in the environment. With the help of this engaging volume, readers of many ages and levels will learn all about many of the fascinating animals that inhabit the planet. They will find out what makes an animal an animal. They will also learn fun facts about some of their favorite creatures. Eye-catching photographs correlate closely with concise, accessible text that supports elementary life science curricula. A must-have for animal lovers, this informative book will be a popular addition to your collection.","Spanish",26.6,19.95,"590--dc23","32 pp.",{"$f":"Table1[[#This Row],[QTY]]*Table1[[#This Row],['# Books]]","v":0},{"$f":"Table1[[#This Row],[QTY]]*Table1[[#This Row],[S&L Price]]","v":0}]
[null,65,165,"Conoce las ciencias biológicas (A Look at Life Science)",1,"Los animales (What Are Animals?)","eBook",null,"978-1-5382-5061-7",{"$f":"HYPERLINK(\"https://www.garethstevens.com/\"&Table1[[#This Row],[ISBN]],\"Weblink\")","v":"Weblink"},2020,"January 2020",null,null,"Author","Kate Mikoley",null,null,null,null,"I",null,"Grade 2","Grade 5 - 8","Wildlife plays an important role in the environment. With the help of this engaging volume, readers of many ages and levels will learn all about many of the fascinating animals that inhabit the planet. They will find out what makes an animal an animal. They will also learn fun facts about some of their favorite creatures. Eye-catching photographs correlate closely with concise, accessible text that supports elementary life science curricula. A must-have for animal lovers, this informative book will be a popular addition to your collection.","Spanish",26.6,19.95,"590--dc23","32 pp.",{"$f":"Table1[[#This Row],[QTY]]*Table1[[#This Row],['# Books]]","v":0},{"$f":"Table1[[#This Row],[QTY]]*Table1[[#This Row],[S&L Price]]","v":0}]
[null,65,165,"Conoce las ciencias biológicas (A Look at Life Science)",1,"Los hongos (What Are Fungi?)","Library Bound Book",null,"978-1-5382-5072-3",{"$f":"HYPERLINK(\"https://www.garethstevens.com/\"&Table1[[#This Row],[ISBN]],\"Weblink\")","v":"Weblink"},2020,"January 2020","Library","6.500 X 9.125","Author","Kate Mikoley",null,null,null,null,"J",null,"Grade 2","Grade 5 - 8","It may sound like a gross fact, but the world is full of fungi. These organisms are important life forms. Readers of this innovative book will learn all about fungi and their role in the environment. Short, manageable sections of text relate closely to the colorful photographs, encouraging a deeper understanding of the subject matter. The high-interest topic helps reinforce key concepts in the elementary life science curricula, while accessible content appeals to developing readers.","Spanish",26.6,19.95,"579.5--dc23","32 pp.",{"$f":"Table1[[#This Row],[QTY]]*Table1[[#This Row],['# Books]]","v":0},{"$f":"Table1[[#This Row],[QTY]]*Table1[[#This Row],[S&L Price]]","v":0}]
[null,65,165,"Conoce las ciencias biológicas (A Look at Life Science)",1,"Los hongos (What Are Fungi?)","eBook",null,"978-1-5382-5073-0",{"$f":"HYPERLINK(\"https://www.garethstevens.com/\"&Table1[[#This Row],[ISBN]],\"Weblink\")","v":"Weblink"},2020,"January 2020",null,null,"Author","Kate Mikoley",null,null,null,null,"J",null,"Grade 2","Grade 5 - 8","It may sound like a gross fact, but the world is full of fungi. These organisms are important life forms. Readers of this innovative book will learn all about fungi and their role in the environment. Short, manageable sections of text relate closely to the colorful photographs, encouraging a deeper understanding of the subject matter. The high-interest topic helps reinforce key concepts in the elementary life science curricula, while accessible content appeals to developing readers.","Spanish",26.6,19.95,"579.5--dc23","32 pp.",{"$f":"Table1[[#This Row],[QTY]]*Table1[[#This Row],['# Books]]","v":0},{"$f":"Table1[[#This Row],[QTY]]*Table1[[#This Row],[S&L Price]]","v":0}]
[null,65,165,"Conoce las ciencias biológicas (A Look at Life Science)",1,"Los protistas (What Are Protists?)","Library Bound Book",null,"978-1-5382-5080-8",{"$f":"HYPERLINK(\"https://www.garethstevens.com/\"&Table1[[#This Row],[ISBN]],\"Weblink\")","v":"Weblink"},2020,"January 2020","Library","6.500 X 9.125","Author","Kate Mikoley",null,null,null,null,"J",null,"Grade 2","Grade 5 - 8","When people think of life forms, they often think of animals and plants. Not all organisms fit into these two groups. Protists are a hugely diverse group of organisms. They are usually tiny and made up of just a single cell. This valuable resource features colorful photographs that correlate very closely to details of the narrative, encouraging readers to develop a deeper understanding of the book's material as well as key concepts related to elementary life science curricula.","Spanish",26.6,19.95,"579--dc23","32 pp.",{"$f":"Table1[[#This Row],[QTY]]*Table1[[#This Row],['# Books]]","v":0},{"$f":"Table1[[#This Row],[QTY]]*Table1[[#This Row],[S&L Price]]","v":0}]
[null,65,165,"Conoce las ciencias biológicas (A Look at Life Science)",1,"Los protistas (What Are Protists?)","eBook",null,"978-1-5382-5081-5",{"$f":"HYPERLINK(\"https://www.garethstevens.com/\"&Table1[[#This Row],[ISBN]],\"Weblink\")","v":"Weblink"},2020,"January 2020",null,null,"Author","Kate Mikoley",null,null,null,null,"J",null,"Grade 2","Grade 5 - 8","When people think of life forms, they often think of animals and plants. Not all organisms fit into these two groups. Protists are a hugely diverse group of organisms. They are usually tiny and made up of just a single cell. This valuable resource features colorful photographs that correlate very closely to details of the narrative, encouraging readers to develop a deeper understanding of the book's material as well as key concepts related to elementary life science curricula.","Spanish",26.6,19.95,"579--dc23","32 pp.",{"$f":"Table1[[#This Row],[QTY]]*Table1[[#This Row],['# Books]]","v":0},{"$f":"Table1[[#This Row],[QTY]]*Table1[[#This Row],[S&L Price]]","v":0}]
[null,66,166,"Conoce la historia de Estados Unidos (A Look at U.S. History)",18,"Conoce la historia de Estados Unidos (A Look at U.S. History) (Set of 18 Titles)","Library Set",null,"978-1-5382-5085-3",{"$f":"HYPERLINK(\"https://www.garethstevens.com/\"&Table1[[#This Row],[ISBN]],\"Weblink\")","v":"Weblink"},2020,"January 2020","Library","6.500 X 9.125","","",null,null,null,null,null,null,"Grade 2","Grade 5 - 8","Understanding U.S. history becomes increasingly important as students proceed through the upper elementary grades and into middle school. However, if their reading skills can't keep up with complex topics, such as the cause and effect of wars, they'll miss out on key points of the curriculum. This essential set offers detailed, but accessible, overviews of the most indispensable topics of the social studies curriculum, including the Constitution, the American Revolution, the civil rights movement, and much more. Each book offers beneficial historical images to support the narrative as well as a concluding timeline for a helpful review of important dates. Features include: Extended glossaries that define central vocabulary terms important to the discussion of American history topics. The most important historical figures, documents, and events are introduced in context within each volume. A solid resource to review fundamental curricular topics, which also supports English Language Arts Common Core standards.","Spanish",478.8,359.1,null,"32 pp.",{"$f":"Table1[[#This Row],[QTY]]*Table1[[#This Row],['# Books]]","v":0},{"$f":"Table1[[#This Row],[QTY]]*Table1[[#This Row],[S&L Price]]","v":0}]
[null,66,166,"Conoce la historia de Estados Unidos (A Look at U.S. History)",6,"Conoce la historia de Estados Unidos (A Look at U.S. History) (Set of 6 NEW Titles)","Library Set",null,"978-1-5382-5084-6",{"$f":"HYPERLINK(\"https://www.garethstevens.com/\"&Table1[[#This Row],[ISBN]],\"Weblink\")","v":"Weblink"},2020,"January 2020","Library","6.500 X 9.125","","",null,null,null,null,null,null,"Grade 2","Grade 5 - 8","Certain events in American history had such a tremendous impact on society that their effects are felt decades later in the way the government works, in American economic and social policies, and in people's everyday lives. Such major moments include the Great Depression, the Dust Bowl, and the civil rights movement. Readers will learn about these and other critical events through this extraordinary set, which delivers the essential information young historians need through achievable text. Timelines, maps, and fact boxes further clarify and highlight significant details of these remarkable points in American history. Features include: Allows struggling readers to delve into prominent American history topics. Striking images accompany the narratives, adding to the reader's understanding of key concepts. Volumes encourage all levels of readers to practice Common Core English Language Arts standards relating to comprehension of informational texts.","Spanish",159.6,119.7,null,"32 pp.",{"$f":"Table1[[#This Row],[QTY]]*Table1[[#This Row],['# Books]]","v":0},{"$f":"Table1[[#This Row],[QTY]]*Table1[[#This Row],[S&L Price]]","v":0}]
[null,66,166,"Conoce la historia de Estados Unidos (A Look at U.S. History)",1,"El Canal de Panamá (The Panama Canal)","Library Bound Book",null,"978-1-5382-5048-8",{"$f":"HYPERLINK(\"https://www.garethstevens.com/\"&Table1[[#This Row],[ISBN]],\"Weblink\")","v":"Weblink"},2020,"January 2020","Library","6.500 X 9.125","Author","Marie Roesser",null,null,null,null,"K",null,"Grade 2","Grade 5 - 8","The Panama Canal is only about 40 miles long, but this narrow channel connects the Atlantic and Pacific Oceans. It saves ocean vessels from going around South America, which would otherwise be a 9,000-mile journey. Readers will learn about the canal's creation, how the United States became involved, and about the 40,000 people who worked on it over 10 years. They'll especially appreciate the amazing photographs of construction from the early 1900s as well as fact boxes that delve more deeply into the details of how the canal functions.","Spanish",26.6,19.95,"972.87/​5--dc23","32 pp.",{"$f":"Table1[[#This Row],[QTY]]*Table1[[#This Row],['# Books]]","v":0},{"$f":"Table1[[#This Row],[QTY]]*Table1[[#This Row],[S&L Price]]","v":0}]
[null,66,166,"Conoce la historia de Estados Unidos (A Look at U.S. History)",1,"El Canal de Panamá (The Panama Canal)","eBook",null,"978-1-5382-5049-5",{"$f":"HYPERLINK(\"https://www.garethstevens.com/\"&Table1[[#This Row],[ISBN]],\"Weblink\")","v":"Weblink"},2020,"January 2020",null,null,"Author","Marie Roesser",null,null,null,null,"K",null,"Grade 2","Grade 5 - 8","The Panama Canal is only about 40 miles long, but this narrow channel connects the Atlantic and Pacific Oceans. It saves ocean vessels from going around South America, which would otherwise be a 9,000-mile journey. Readers will learn about the canal's creation, how the United States became involved, and about the 40,000 people who worked on it over 10 years. They'll especially appreciate the amazing photographs of construction from the early 1900s as well as fact boxes that delve more deeply into the details of how the canal functions.","Spanish",26.6,19.95,"972.87/​5--dc23","32 pp.",{"$f":"Table1[[#This Row],[QTY]]*Table1[[#This Row],['# Books]]","v":0},{"$f":"Table1[[#This Row],[QTY]]*Table1[[#This Row],[S&L Price]]","v":0}]
[null,66,166,"Conoce la historia de Estados Unidos (A Look at U.S. History)",1,"El ferrocarril transcontinental (The Transcontinental Railroad)","Library Bound Book",null,"978-1-5382-5056-3",{"$f":"HYPERLINK(\"https://www.garethstevens.com/\"&Table1[[#This Row],[ISBN]],\"Weblink\")","v":"Weblink"},2020,"January 2020","Library","6.500 X 9.125","Author","John O'Mara",null,null,null,null,"J",null,"Grade 2","Grade 5 - 8","A transcontinental railroad spanning the United States was once thought to be impossible. After a practical route was found, about 1,800 miles of track were laid from Nebraska to California in just 6 years. This railroad changed the nation, connecting the East and West Coast and making travel and communication easier than ever. Readers will be fascinated by the amazing tale of this railroad and the striking photographs that support this accessible narrative.","Spanish",26.6,19.95,"385.0973--dc23","32 pp.",{"$f":"Table1[[#This Row],[QTY]]*Table1[[#This Row],['# Books]]","v":0},{"$f":"Table1[[#This Row],[QTY]]*Table1[[#This Row],[S&L Price]]","v":0}]
[null,66,166,"Conoce la historia de Estados Unidos (A Look at U.S. History)",1,"El ferrocarril transcontinental (The Transcontinental Railroad)","eBook",null,"978-1-5382-5057-0",{"$f":"HYPERLINK(\"https://www.garethstevens.com/\"&Table1[[#This Row],[ISBN]],\"Weblink\")","v":"Weblink"},2020,"January 2020",null,null,"Author","John O'Mara",null,null,null,null,"J",null,"Grade 2","Grade 5 - 8","A transcontinental railroad spanning the United States was once thought to be impossible. After a practical route was found, about 1,800 miles of track were laid from Nebraska to California in just 6 years. This railroad changed the nation, connecting the East and West Coast and making travel and communication easier than ever. Readers will be fascinated by the amazing tale of this railroad and the striking photographs that support this accessible narrative.","Spanish",26.6,19.95,"385.0973--dc23","32 pp.",{"$f":"Table1[[#This Row],[QTY]]*Table1[[#This Row],['# Books]]","v":0},{"$f":"Table1[[#This Row],[QTY]]*Table1[[#This Row],[S&L Price]]","v":0}]
[null,66,166,"Conoce la historia de Estados Unidos (A Look at U.S. History)",1,"El movimiento de Derechos Civiles (The Civil Rights Movement)","Library Bound Book",null,"978-1-5382-5036-5",{"$f":"HYPERLINK(\"https://www.garethstevens.com/\"&Table1[[#This Row],[ISBN]],\"Weblink\")","v":"Weblink"},2020,"January 2020","Library","6.500 X 9.125","Author","John O'Mara",null,null,null,null,"J",null,"Grade 2","Grade 5 - 8","The rights of a nation's citizens are civil rights. In the 1950s and 1960s, black Americans organized a movement to demand these rights, including equal education, the right to vote, and many other freedoms. This significant and accessible volume takes readers through the key events of the movement, including its victories and disappointments. Central figures such as Martin Luther King, Jr. and Malcolm X are featured, and a timeline helps readers understand the movement's progression.","Spanish",26.6,19.95,"323.1196'073--dc23","32 pp.",{"$f":"Table1[[#This Row],[QTY]]*Table1[[#This Row],['# Books]]","v":0},{"$f":"Table1[[#This Row],[QTY]]*Table1[[#This Row],[S&L Price]]","v":0}]
[null,66,166,"Conoce la historia de Estados Unidos (A Look at U.S. History)",1,"El movimiento de Derechos Civiles (The Civil Rights Movement)","eBook",null,"978-1-5382-5037-2",{"$f":"HYPERLINK(\"https://www.garethstevens.com/\"&Table1[[#This Row],[ISBN]],\"Weblink\")","v":"Weblink"},2020,"January 2020",null,null,"Author","John O'Mara",null,null,null,null,"J",null,"Grade 2","Grade 5 - 8","The rights of a nation's citizens are civil rights. In the 1950s and 1960s, black Americans organized a movement to demand these rights, including equal education, the right to vote, and many other freedoms. This significant and accessible volume takes readers through the key events of the movement, including its victories and disappointments. Central figures such as Martin Luther King, Jr. and Malcolm X are featured, and a timeline helps readers understand the movement's progression.","Spanish",26.6,19.95,"323.1196'073--dc23","32 pp.",{"$f":"Table1[[#This Row],[QTY]]*Table1[[#This Row],['# Books]]","v":0},{"$f":"Table1[[#This Row],[QTY]]*Table1[[#This Row],[S&L Price]]","v":0}]
[null,66,166,"Conoce la historia de Estados Unidos (A Look at U.S. History)",1,"La Gran Depresión (The Great Depression)","Library Bound Book",null,"978-1-5382-5044-0",{"$f":"HYPERLINK(\"https://www.garethstevens.com/\"&Table1[[#This Row],[ISBN]],\"Weblink\")","v":"Weblink"},2020,"January 2020","Library","6.500 X 9.125","Author","John O'Mara",null,null,null,null,"K",null,"Grade 2","Grade 5 - 8","The Great Depression was a terrible time in the United States. Americans had never known such hunger and poverty. This crisis lasted 10 years. What happened to cause this catastrophe, how it finally ended, and the lasting effects it had on the nation are all addressed in this invaluable look at a critical period in American history. Engaging and accessible text is supported by striking historical images and interesting fact boxes. A timeline summarizes and reinforces the most essential concepts.","Spanish",26.6,19.95,"330.973/0916--dc23","32 pp.",{"$f":"Table1[[#This Row],[QTY]]*Table1[[#This Row],['# Books]]","v":0},{"$f":"Table1[[#This Row],[QTY]]*Table1[[#This Row],[S&L Price]]","v":0}]
[null,66,166,"Conoce la historia de Estados Unidos (A Look at U.S. History)",1,"La Gran Depresión (The Great Depression)","eBook",null,"978-1-5382-5045-7",{"$f":"HYPERLINK(\"https://www.garethstevens.com/\"&Table1[[#This Row],[ISBN]],\"Weblink\")","v":"Weblink"},2020,"January 2020",null,null,"Author","John O'Mara",null,null,null,null,"K",null,"Grade 2","Grade 5 - 8","The Great Depression was a terrible time in the United States. Americans had never known such hunger and poverty. This crisis lasted 10 years. What happened to cause this catastrophe, how it finally ended, and the lasting effects it had on the nation are all addressed in this invaluable look at a critical period in American history. Engaging and accessible text is supported by striking historical images and interesting fact boxes. A timeline summarizes and reinforces the most essential concepts.","Spanish",26.6,19.95,"330.973/0916--dc23","32 pp.",{"$f":"Table1[[#This Row],[QTY]]*Table1[[#This Row],['# Books]]","v":0},{"$f":"Table1[[#This Row],[QTY]]*Table1[[#This Row],[S&L Price]]","v":0}]
[null,66,166,"Conoce la historia de Estados Unidos (A Look at U.S. History)",1,"La gran sequía de los años 30 (The Dust Bowl)","Library Bound Book",null,"978-1-5382-5040-2",{"$f":"HYPERLINK(\"https://www.garethstevens.com/\"&Table1[[#This Row],[ISBN]],\"Weblink\")","v":"Weblink"},2020,"January 2020","Library","6.500 X 9.125","Author","Marie Roesser",null,null,null,null,"K",null,"Grade 2","Grade 5 - 8","Most people have at least seen a snowstorm on television, but imagine a storm of dust instead of snow. These were called \"black blizzards\" in the Dust Bowl, which was the name for the Great Plains of the United States during the 1930s. Readers will learn what transformed green farmland and lush grassland into a disaster area, forcing thousands to leave, and finally how the land was restored. Stunning photographs reflect the conditions, while Make the Grade fact boxes offer more information about this significant period in American history.","Spanish",26.6,19.95,"978/.032--dc23","32 pp.",{"$f":"Table1[[#This Row],[QTY]]*Table1[[#This Row],['# Books]]","v":0},{"$f":"Table1[[#This Row],[QTY]]*Table1[[#This Row],[S&L Price]]","v":0}]
[null,66,166,"Conoce la historia de Estados Unidos (A Look at U.S. History)",1,"La gran sequía de los años 30 (The Dust Bowl)","eBook",null,"978-1-5382-5041-9",{"$f":"HYPERLINK(\"https://www.garethstevens.com/\"&Table1[[#This Row],[ISBN]],\"Weblink\")","v":"Weblink"},2020,"January 2020",null,null,"Author","Marie Roesser",null,null,null,null,"K",null,"Grade 2","Grade 5 - 8","Most people have at least seen a snowstorm on television, but imagine a storm of dust instead of snow. These were called \"black blizzards\" in the Dust Bowl, which was the name for the Great Plains of the United States during the 1930s. Readers will learn what transformed green farmland and lush grassland into a disaster area, forcing thousands to leave, and finally how the land was restored. Stunning photographs reflect the conditions, while Make the Grade fact boxes offer more information about this significant period in American history.","Spanish",26.6,19.95,"978/.032--dc23","32 pp.",{"$f":"Table1[[#This Row],[QTY]]*Table1[[#This Row],['# Books]]","v":0},{"$f":"Table1[[#This Row],[QTY]]*Table1[[#This Row],[S&L Price]]","v":0}]
[null,66,166,"Conoce la historia de Estados Unidos (A Look at U.S. History)",1,"La guerra hispano-estadounidense (The Spanish-American War)","Library Bound Book",null,"978-1-5382-5052-5",{"$f":"HYPERLINK(\"https://www.garethstevens.com/\"&Table1[[#This Row],[ISBN]],\"Weblink\")","v":"Weblink"},2020,"January 2020","Library","6.500 X 9.125","Author","Marie Roesser",null,null,null,null,"K",null,"Grade 2","Grade 5 - 8","A war between Spain and the United States was waged in 1898 in the Caribbean and in the Philippines. It forced Spain out of Cuba and established the United States as a true world power. Young historians will learn the causes of the war, each side's military maneuvers, and the conflict's aftereffects, all clearly explained in comprehensible text especially for the struggling reader. Remarkable photographs and images of the war will help visual learners connect with the material.","Spanish",26.6,19.95,"973.8'9--dc23","32 pp.",{"$f":"Table1[[#This Row],[QTY]]*Table1[[#This Row],['# Books]]","v":0},{"$f":"Table1[[#This Row],[QTY]]*Table1[[#This Row],[S&L Price]]","v":0}]
[null,66,166,"Conoce la historia de Estados Unidos (A Look at U.S. History)",1,"La guerra hispano-estadounidense (The Spanish-American War)","eBook",null,"978-1-5382-5053-2",{"$f":"HYPERLINK(\"https://www.garethstevens.com/\"&Table1[[#This Row],[ISBN]],\"Weblink\")","v":"Weblink"},2020,"January 2020",null,null,"Author","Marie Roesser",null,null,null,null,"K",null,"Grade 2","Grade 5 - 8","A war between Spain and the United States was waged in 1898 in the Caribbean and in the Philippines. It forced Spain out of Cuba and established the United States as a true world power. Young historians will learn the causes of the war, each side's military maneuvers, and the conflict's aftereffects, all clearly explained in comprehensible text especially for the struggling reader. Remarkable photographs and images of the war will help visual learners connect with the material.","Spanish",26.6,19.95,"973.8'9--dc23","32 pp.",{"$f":"Table1[[#This Row],[QTY]]*Table1[[#This Row],['# Books]]","v":0},{"$f":"Table1[[#This Row],[QTY]]*Table1[[#This Row],[S&L Price]]","v":0}]
[null,67,166,"Conoce la historia de Estados Unidos (A Look at U.S. History)",1,"El sufragio femenino (Women's Suffrage)","Library Bound Book",null,"978-1-5382-4945-1",{"$f":"HYPERLINK(\"https://www.garethstevens.com/\"&Table1[[#This Row],[ISBN]],\"Weblink\")","v":"Weblink"},2020,"August 2019","Library","6.500 X 9.125","Author","Seth Lynch",null,null,null,null,"J",null,"Grade 2","Grade 5 - 8","From the formal beginning of the women's suffrage movement in the United States to the passage of the Nineteenth Amendment, the journey to women's right to vote is endlessly fascinating. Leaders such as Elizabeth Cady Stanton and Alice Paul are part of this volume, which covers important curriculum points, including the Seneca Falls Convention and its Declaration of Sentiments. The main text succinctly introduces important events and groups as well as provides historical context outside of the suffrage movement. A concluding timeline aids readers in need of further review.","Spanish",26.6,19.95,"324.6/230973--dc23","32 pp.",{"$f":"Table1[[#This Row],[QTY]]*Table1[[#This Row],['# Books]]","v":0},{"$f":"Table1[[#This Row],[QTY]]*Table1[[#This Row],[S&L Price]]","v":0}]
[null,67,166,"Conoce la historia de Estados Unidos (A Look at U.S. History)",1,"El sufragio femenino (Women's Suffrage)","eBook",null,"978-1-5382-4946-8",{"$f":"HYPERLINK(\"https://www.garethstevens.com/\"&Table1[[#This Row],[ISBN]],\"Weblink\")","v":"Weblink"},2020,"August 2019",null,null,"Author","Seth Lynch",null,null,null,null,"J",null,"Grade 2","Grade 5 - 8","From the formal beginning of the women's suffrage movement in the United States to the passage of the Nineteenth Amendment, the journey to women's right to vote is endlessly fascinating. Leaders such as Elizabeth Cady Stanton and Alice Paul are part of this volume, which covers important curriculum points, including the Seneca Falls Convention and its Declaration of Sentiments. The main text succinctly introduces important events and groups as well as provides historical context outside of the suffrage movement. A concluding timeline aids readers in need of further review.","Spanish",26.6,19.95,"324.6/230973--dc23","32 pp.",{"$f":"Table1[[#This Row],[QTY]]*Table1[[#This Row],['# Books]]","v":0},{"$f":"Table1[[#This Row],[QTY]]*Table1[[#This Row],[S&L Price]]","v":0}]
[null,67,166,"Conoce la historia de Estados Unidos (A Look at U.S. History)",1,"La Carta de Derechos (The Bill of Rights)","Library Bound Book",null,"978-1-5382-4930-7",{"$f":"HYPERLINK(\"https://www.garethstevens.com/\"&Table1[[#This Row],[ISBN]],\"Weblink\")","v":"Weblink"},2020,"August 2019","Library","6.500 X 9.125","Author","Seth Lynch",null,null,null,null,"J",null,"Grade 2","Grade 5 - 8","Though it was written more than 200 years ago, the first 10 amendments included in the Bill of Rights are still being interpreted today. Understanding how these additions to the Constitution came about is a key topic of the social studies curriculum, and it's also essential for understanding the modern political conversation. All readers can benefit from the concise explanation of why the Bill of Rights was written and what each amendment states. Students struggling with reading are better able to grasp knowledge needed in the classroom by using this excellent volume as a review.","Spanish",26.6,19.95,"342.7308'5--dc23","32 pp.",{"$f":"Table1[[#This Row],[QTY]]*Table1[[#This Row],['# Books]]","v":0},{"$f":"Table1[[#This Row],[QTY]]*Table1[[#This Row],[S&L Price]]","v":0}]
[null,67,166,"Conoce la historia de Estados Unidos (A Look at U.S. History)",1,"La Carta de Derechos (The Bill of Rights)","eBook",null,"978-1-5382-4931-4",{"$f":"HYPERLINK(\"https://www.garethstevens.com/\"&Table1[[#This Row],[ISBN]],\"Weblink\")","v":"Weblink"},2020,"August 2019",null,null,"Author","Seth Lynch",null,null,null,null,"J",null,"Grade 2","Grade 5 - 8","Though it was written more than 200 years ago, the first 10 amendments included in the Bill of Rights are still being interpreted today. Understanding how these additions to the Constitution came about is a key topic of the social studies curriculum, and it's also essential for understanding the modern political conversation. All readers can benefit from the concise explanation of why the Bill of Rights was written and what each amendment states. Students struggling with reading are better able to grasp knowledge needed in the classroom by using this excellent volume as a review.","Spanish",26.6,19.95,"342.7308'5--dc23","32 pp.",{"$f":"Table1[[#This Row],[QTY]]*Table1[[#This Row],['# Books]]","v":0},{"$f":"Table1[[#This Row],[QTY]]*Table1[[#This Row],[S&L Price]]","v":0}]
[null,67,166,"Conoce la historia de Estados Unidos (A Look at U.S. History)",1,"La compra de Luisiana (The Louisiana Purchase)","Library Bound Book",null,"978-1-5382-4942-0",{"$f":"HYPERLINK(\"https://www.garethstevens.com/\"&Table1[[#This Row],[ISBN]],\"Weblink\")","v":"Weblink"},2020,"August 2019","Library","6.500 X 9.125","Author","Seth Lynch",null,null,null,null,"J",null,"Grade 2","Grade 5 - 8","When the Louisiana Territory was added to the United States in 1803, it about doubled the size of the young nation. It took years to clarify its boundaries and explore every square mile. How this momentous purchase came to be and its implications on the future of the United States are explained in detail in this book. Uncomplicated maps and simple language help developing readers and those in need of review to understand the many changes in this land that started with its purchase in 1803.","Spanish",26.6,19.95,"973.4/6--dc23","32 pp.",{"$f":"Table1[[#This Row],[QTY]]*Table1[[#This Row],['# Books]]","v":0},{"$f":"Table1[[#This Row],[QTY]]*Table1[[#This Row],[S&L Price]]","v":0}]
[null,67,166,"Conoce la historia de Estados Unidos (A Look at U.S. History)",1,"La compra de Luisiana (The Louisiana Purchase)","eBook",null,"978-1-5382-4943-7",{"$f":"HYPERLINK(\"https://www.garethstevens.com/\"&Table1[[#This Row],[ISBN]],\"Weblink\")","v":"Weblink"},2020,"August 2019",null,null,"Author","Seth Lynch",null,null,null,null,"J",null,"Grade 2","Grade 5 - 8","When the Louisiana Territory was added to the United States in 1803, it about doubled the size of the young nation. It took years to clarify its boundaries and explore every square mile. How this momentous purchase came to be and its implications on the future of the United States are explained in detail in this book. Uncomplicated maps and simple language help developing readers and those in need of review to understand the many changes in this land that started with its purchase in 1803.","Spanish",26.6,19.95,"973.4/6--dc23","32 pp.",{"$f":"Table1[[#This Row],[QTY]]*Table1[[#This Row],['# Books]]","v":0},{"$f":"Table1[[#This Row],[QTY]]*Table1[[#This Row],[S&L Price]]","v":0}]
[null,67,166,"Conoce la historia de Estados Unidos (A Look at U.S. History)",1,"La Constitución de Estados Unidos (The U.S. Constitution)","Library Bound Book",null,"978-1-5382-4963-5",{"$f":"HYPERLINK(\"https://www.garethstevens.com/\"&Table1[[#This Row],[ISBN]],\"Weblink\")","v":"Weblink"},2020,"August 2019","Library","6.500 X 9.125","Author","Bray Jacobson",null,null,null,null,"J",null,"Grade 2","Grade 5 - 8","The highest law in the United States isn't written in modern English. Yet students are expected to know and understand much of what it says, as well as facts about how and why it was written. Readers are presented with the most important points of the history of the Constitution and its contents in this book. The main content gives simple explanations of important social studies curriculum topics, from the compromises needed to write the Constitution to the Bill of Rights. Fact boxes, a concluding timeline, and historical images offer readers even more detail needed for a full overview of the document.","Spanish",26.6,19.95,"342.7302/9--dc23","32 pp.",{"$f":"Table1[[#This Row],[QTY]]*Table1[[#This Row],['# Books]]","v":0},{"$f":"Table1[[#This Row],[QTY]]*Table1[[#This Row],[S&L Price]]","v":0}]
[null,67,166,"Conoce la historia de Estados Unidos (A Look at U.S. History)",1,"La Constitución de Estados Unidos (The U.S. Constitution)","eBook",null,"978-1-5382-4964-2",{"$f":"HYPERLINK(\"https://www.garethstevens.com/\"&Table1[[#This Row],[ISBN]],\"Weblink\")","v":"Weblink"},2020,"August 2019",null,null,"Author","Bray Jacobson",null,null,null,null,"J",null,"Grade 2","Grade 5 - 8","The highest law in the United States isn't written in modern English. Yet students are expected to know and understand much of what it says, as well as facts about how and why it was written. Readers are presented with the most important points of the history of the Constitution and its contents in this book. The main content gives simple explanations of important social studies curriculum topics, from the compromises needed to write the Constitution to the Bill of Rights. Fact boxes, a concluding timeline, and historical images offer readers even more detail needed for a full overview of the document.","Spanish",26.6,19.95,"342.7302/9--dc23","32 pp.",{"$f":"Table1[[#This Row],[QTY]]*Table1[[#This Row],['# Books]]","v":0},{"$f":"Table1[[#This Row],[QTY]]*Table1[[#This Row],[S&L Price]]","v":0}]
[null,67,166,"Conoce la historia de Estados Unidos (A Look at U.S. History)",1,"La Declaración de Independencia (The Declaration of Independence)","Library Bound Book",null,"978-1-5382-4957-4",{"$f":"HYPERLINK(\"https://www.garethstevens.com/\"&Table1[[#This Row],[ISBN]],\"Weblink\")","v":"Weblink"},2020,"August 2019","Library","6.500 X 9.125","Author","Peter Castellano",null,null,null,null,"J",null,"Grade 2","Grade 5 - 8","Not only did the Declaration of Independence help set U.S. history in motion, the document was influential to other revolutions around the world. Therefore, it's crucial to understand the meaning of the Declaration of Independence in order to continue exploring the social studies curriculum. Readers are presented with the most important aspects of the document, including why it was written, the writing process, and its impact on American independence. Written in simple language, this volume will be useful in test review or as an introduction to the history of the Declaration of Independence.","Spanish",26.6,19.95,"973.3'13--dc23","32 pp.",{"$f":"Table1[[#This Row],[QTY]]*Table1[[#This Row],['# Books]]","v":0},{"$f":"Table1[[#This Row],[QTY]]*Table1[[#This Row],[S&L Price]]","v":0}]
[null,67,166,"Conoce la historia de Estados Unidos (A Look at U.S. History)",1,"La Declaración de Independencia (The Declaration of Independence)","eBook",null,"978-1-5382-4958-1",{"$f":"HYPERLINK(\"https://www.garethstevens.com/\"&Table1[[#This Row],[ISBN]],\"Weblink\")","v":"Weblink"},2020,"August 2019",null,null,"Author","Peter Castellano",null,null,null,null,"J",null,"Grade 2","Grade 5 - 8","Not only did the Declaration of Independence help set U.S. history in motion, the document was influential to other revolutions around the world. Therefore, it's crucial to understand the meaning of the Declaration of Independence in order to continue exploring the social studies curriculum. Readers are presented with the most important aspects of the document, including why it was written, the writing process, and its impact on American independence. Written in simple language, this volume will be useful in test review or as an introduction to the history of the Declaration of Independence.","Spanish",26.6,19.95,"973.3'13--dc23","32 pp.",{"$f":"Table1[[#This Row],[QTY]]*Table1[[#This Row],['# Books]]","v":0},{"$f":"Table1[[#This Row],[QTY]]*Table1[[#This Row],[S&L Price]]","v":0}]
[null,67,166,"Conoce la historia de Estados Unidos (A Look at U.S. History)",1,"La guerra de Independencia (The American Revolution)","Library Bound Book",null,"978-1-5382-4948-2",{"$f":"HYPERLINK(\"https://www.garethstevens.com/\"&Table1[[#This Row],[ISBN]],\"Weblink\")","v":"Weblink"},2020,"August 2019","Library","6.500 X 9.125","Author","Peter Castellano",null,null,null,null,"J",null,"Grade 2","Grade 5 - 8","Understanding the events of the American Revolution is key to learning more about the history of the United States. When readers encounter this important topic in social studies classes, they often must be able to explain the causes, main events, and results of the war. Through simple explanations and language, this book gives readers of all levels an overview of these aspects of the Revolutionary War in a format perfect for test review or quick reference. A timeline helps readers keep events in order, and fact boxes explain more difficult terms and subject matter.","Spanish",26.6,19.95,"973.3--dc23","32 pp.",{"$f":"Table1[[#This Row],[QTY]]*Table1[[#This Row],['# Books]]","v":0},{"$f":"Table1[[#This Row],[QTY]]*Table1[[#This Row],[S&L Price]]","v":0}]
[null,67,166,"Conoce la historia de Estados Unidos (A Look at U.S. History)",1,"La guerra de Independencia (The American Revolution)","eBook",null,"978-1-5382-4949-9",{"$f":"HYPERLINK(\"https://www.garethstevens.com/\"&Table1[[#This Row],[ISBN]],\"Weblink\")","v":"Weblink"},2020,"August 2019",null,null,"Author","Peter Castellano",null,null,null,null,"J",null,"Grade 2","Grade 5 - 8","Understanding the events of the American Revolution is key to learning more about the history of the United States. When readers encounter this important topic in social studies classes, they often must be able to explain the causes, main events, and results of the war. Through simple explanations and language, this book gives readers of all levels an overview of these aspects of the Revolutionary War in a format perfect for test review or quick reference. A timeline helps readers keep events in order, and fact boxes explain more difficult terms and subject matter.","Spanish",26.6,19.95,"973.3--dc23","32 pp.",{"$f":"Table1[[#This Row],[QTY]]*Table1[[#This Row],['# Books]]","v":0},{"$f":"Table1[[#This Row],[QTY]]*Table1[[#This Row],[S&L Price]]","v":0}]
[null,67,167,"Conoce la historia de Estados Unidos (A Look at U.S. History)",1,"La guerra de Secesión (The Civil War)","Library Bound Book",null,"978-1-5382-4954-3",{"$f":"HYPERLINK(\"https://www.garethstevens.com/\"&Table1[[#This Row],[ISBN]],\"Weblink\")","v":"Weblink"},2020,"August 2019","Library","6.500 X 9.125","Author","Peter Castellano",null,null,null,null,"J",null,"Grade 2","Grade 5 - 8","The Civil War is a major part of the social studies curriculum. However, it can be overwhelming to cover the causes of the war, its main events, and the immediate results. This book summarizes the most important points of the Civil War in an accessible way appropriate for many reading levels. Fact boxes explain key terms and add crucial details to the main content. Historical images and a concluding timeline help both new readers and those reviewing the topic to better understand a complex sequence of events easily.","Spanish",26.6,19.95,"973.7--dc23","32 pp.",{"$f":"Table1[[#This Row],[QTY]]*Table1[[#This Row],['# Books]]","v":0},{"$f":"Table1[[#This Row],[QTY]]*Table1[[#This Row],[S&L Price]]","v":0}]
[null,67,167,"Conoce la historia de Estados Unidos (A Look at U.S. History)",1,"La guerra de Secesión (The Civil War)","eBook",null,"978-1-5382-4955-0",{"$f":"HYPERLINK(\"https://www.garethstevens.com/\"&Table1[[#This Row],[ISBN]],\"Weblink\")","v":"Weblink"},2020,"August 2019",null,null,"Author","Peter Castellano",null,null,null,null,"J",null,"Grade 2","Grade 5 - 8","The Civil War is a major part of the social studies curriculum. However, it can be overwhelming to cover the causes of the war, its main events, and the immediate results. This book summarizes the most important points of the Civil War in an accessible way appropriate for many reading levels. Fact boxes explain key terms and add crucial details to the main content. Historical images and a concluding timeline help both new readers and those reviewing the topic to better understand a complex sequence of events easily.","Spanish",26.6,19.95,"973.7--dc23","32 pp.",{"$f":"Table1[[#This Row],[QTY]]*Table1[[#This Row],['# Books]]","v":0},{"$f":"Table1[[#This Row],[QTY]]*Table1[[#This Row],[S&L Price]]","v":0}]
[null,67,167,"Conoce la historia de Estados Unidos (A Look at U.S. History)",1,"La guerra franco-india (The French and Indian War)","Library Bound Book",null,"978-1-5382-4936-9",{"$f":"HYPERLINK(\"https://www.garethstevens.com/\"&Table1[[#This Row],[ISBN]],\"Weblink\")","v":"Weblink"},2020,"August 2019","Library","6.500 X 9.125","Author","Seth Lynch",null,null,null,null,"J",null,"Grade 2","Grade 5 - 8","The French and Indian War was just one part of a global conflict between France and Great Britain and their allies. However, for U.S. citizens, it marked the beginning of the revolutionary era. As one of the causes of the American Revolution, the French and Indian War is a staple of social studies curriculums. In this volume, its complexities are pared down to the most important facts to give struggling readers a better chance to understand them. A concluding timeline provides all readers a way to review the major points of this history-making war.","Spanish",26.6,19.95,"973.2/6--dc23","32 pp.",{"$f":"Table1[[#This Row],[QTY]]*Table1[[#This Row],['# Books]]","v":0},{"$f":"Table1[[#This Row],[QTY]]*Table1[[#This Row],[S&L Price]]","v":0}]
[null,67,167,"Conoce la historia de Estados Unidos (A Look at U.S. History)",1,"La guerra franco-india (The French and Indian War)","eBook",null,"978-1-5382-4937-6",{"$f":"HYPERLINK(\"https://www.garethstevens.com/\"&Table1[[#This Row],[ISBN]],\"Weblink\")","v":"Weblink"},2020,"August 2019",null,null,"Author","Seth Lynch",null,null,null,null,"J",null,"Grade 2","Grade 5 - 8","The French and Indian War was just one part of a global conflict between France and Great Britain and their allies. However, for U.S. citizens, it marked the beginning of the revolutionary era. As one of the causes of the American Revolution, the French and Indian War is a staple of social studies curriculums. In this volume, its complexities are pared down to the most important facts to give struggling readers a better chance to understand them. A concluding timeline provides all readers a way to review the major points of this history-making war.","Spanish",26.6,19.95,"973.2/6--dc23","32 pp.",{"$f":"Table1[[#This Row],[QTY]]*Table1[[#This Row],['# Books]]","v":0},{"$f":"Table1[[#This Row],[QTY]]*Table1[[#This Row],[S&L Price]]","v":0}]
[null,67,167,"Conoce la historia de Estados Unidos (A Look at U.S. History)",1,"La Proclamación de Emancipación (The Emancipation Proclamation)","Library Bound Book",null,"978-1-5382-4933-8",{"$f":"HYPERLINK(\"https://www.garethstevens.com/\"&Table1[[#This Row],[ISBN]],\"Weblink\")","v":"Weblink"},2020,"August 2019","Library","6.500 X 9.125","Author","Seth Lynch",null,null,null,null,"J",null,"Grade 2","Grade 5 - 8","In 1862, the American Civil War was underway, actively tearing the United States apart. At the start of the war, President Abraham Lincoln's main goal was preserving the Union, but he was now ready to make a stand on slavery. The Emancipation Proclamation was one of the most important documents of its time, but its contents can be confusing. This volume gives readers context for the proclamation, as well as explains what it says and its results, in uncomplicated language appropriate for those reading below level and those looking for a review of this subject.","Spanish",26.6,19.95,"973.7092--dc23","32 pp.",{"$f":"Table1[[#This Row],[QTY]]*Table1[[#This Row],['# Books]]","v":0},{"$f":"Table1[[#This Row],[QTY]]*Table1[[#This Row],[S&L Price]]","v":0}]
[null,67,167,"Conoce la historia de Estados Unidos (A Look at U.S. History)",1,"La Proclamación de Emancipación (The Emancipation Proclamation)","eBook",null,"978-1-5382-4934-5",{"$f":"HYPERLINK(\"https://www.garethstevens.com/\"&Table1[[#This Row],[ISBN]],\"Weblink\")","v":"Weblink"},2020,"August 2019",null,null,"Author","Seth Lynch",null,null,null,null,"J",null,"Grade 2","Grade 5 - 8","In 1862, the American Civil War was underway, actively tearing the United States apart. At the start of the war, President Abraham Lincoln's main goal was preserving the Union, but he was now ready to make a stand on slavery. The Emancipation Proclamation was one of the most important documents of its time, but its contents can be confusing. This volume gives readers context for the proclamation, as well as explains what it says and its results, in uncomplicated language appropriate for those reading below level and those looking for a review of this subject.","Spanish",26.6,19.95,"973.7092--dc23","32 pp.",{"$f":"Table1[[#This Row],[QTY]]*Table1[[#This Row],['# Books]]","v":0},{"$f":"Table1[[#This Row],[QTY]]*Table1[[#This Row],[S&L Price]]","v":0}]
[null,67,167,"Conoce la historia de Estados Unidos (A Look at U.S. History)",1,"La Revolución Industrial (The Industrial Revolution)","Library Bound Book",null,"978-1-5382-4939-0",{"$f":"HYPERLINK(\"https://www.garethstevens.com/\"&Table1[[#This Row],[ISBN]],\"Weblink\")","v":"Weblink"},2020,"August 2019","Library","6.500 X 9.125","Author","Seth Lynch",null,null,null,null,"J",null,"Grade 2","Grade 5 - 8","Once the Industrial Revolution made it to the United States, the workforce changed forever. Not only that, family life, childhood, and the economy changed, too. A complex topic with many facets, the Industrial Revolution is covered in accessible language in this book. Written with social studies curricula in mind, the main content includes age-appropriate detail, such as important dates, people, and vocabulary readers will likely need in the classroom. Developing readers and those in need of review need look no further than this volume to enhance or refresh their knowledge of this key time period in American history.","Spanish",26.6,19.95,"330.973'08--dc23","32 pp.",{"$f":"Table1[[#This Row],[QTY]]*Table1[[#This Row],['# Books]]","v":0},{"$f":"Table1[[#This Row],[QTY]]*Table1[[#This Row],[S&L Price]]","v":0}]
[null,67,167,"Conoce la historia de Estados Unidos (A Look at U.S. History)",1,"La Revolución Industrial (The Industrial Revolution)","eBook",null,"978-1-5382-4940-6",{"$f":"HYPERLINK(\"https://www.garethstevens.com/\"&Table1[[#This Row],[ISBN]],\"Weblink\")","v":"Weblink"},2020,"August 2019",null,null,"Author","Seth Lynch",null,null,null,null,"J",null,"Grade 2","Grade 5 - 8","Once the Industrial Revolution made it to the United States, the workforce changed forever. Not only that, family life, childhood, and the economy changed, too. A complex topic with many facets, the Industrial Revolution is covered in accessible language in this book. Written with social studies curricula in mind, the main content includes age-appropriate detail, such as important dates, people, and vocabulary readers will likely need in the classroom. Developing readers and those in need of review need look no further than this volume to enhance or refresh their knowledge of this key time period in American history.","Spanish",26.6,19.95,"330.973'08--dc23","32 pp.",{"$f":"Table1[[#This Row],[QTY]]*Table1[[#This Row],['# Books]]","v":0},{"$f":"Table1[[#This Row],[QTY]]*Table1[[#This Row],[S&L Price]]","v":0}]
[null,67,167,"Conoce la historia de Estados Unidos (A Look at U.S. History)",1,"Las trece colonias (The Thirteen Colonies)","Library Bound Book",null,"978-1-5382-4960-4",{"$f":"HYPERLINK(\"https://www.garethstevens.com/\"&Table1[[#This Row],[ISBN]],\"Weblink\")","v":"Weblink"},2020,"August 2019","Library","6.500 X 9.125","Author","Peter Castellano",null,null,null,null,"J",null,"Grade 2","Grade 5 - 8","Students often spend a long time learning about the early European settlements, such as Jamestown, and the founding the 13 British colonies that became the United States. Remembering and digesting so much information can be difficult, especially for struggling readers. Through accessible language and simple sentences, this book allows readers to review the history of the 13 colonies no matter the level at which they read. A concluding timeline helps readers chronologically order main events of the social studies curriculum while fact boxes offer explanations for important terms and more detail when needed.","Spanish",26.6,19.95,"973.3'13--dc23","32 pp.",{"$f":"Table1[[#This Row],[QTY]]*Table1[[#This Row],['# Books]]","v":0},{"$f":"Table1[[#This Row],[QTY]]*Table1[[#This Row],[S&L Price]]","v":0}]
[null,67,167,"Conoce la historia de Estados Unidos (A Look at U.S. History)",1,"Las trece colonias (The Thirteen Colonies)","eBook",null,"978-1-5382-4961-1",{"$f":"HYPERLINK(\"https://www.garethstevens.com/\"&Table1[[#This Row],[ISBN]],\"Weblink\")","v":"Weblink"},2020,"August 2019",null,null,"Author","Peter Castellano",null,null,null,null,"J",null,"Grade 2","Grade 5 - 8","Students often spend a long time learning about the early European settlements, such as Jamestown, and the founding the 13 British colonies that became the United States. Remembering and digesting so much information can be difficult, especially for struggling readers. Through accessible language and simple sentences, this book allows readers to review the history of the 13 colonies no matter the level at which they read. A concluding timeline helps readers chronologically order main events of the social studies curriculum while fact boxes offer explanations for important terms and more detail when needed.","Spanish",26.6,19.95,"973.3'13--dc23","32 pp.",{"$f":"Table1[[#This Row],[QTY]]*Table1[[#This Row],['# Books]]","v":0},{"$f":"Table1[[#This Row],[QTY]]*Table1[[#This Row],[S&L Price]]","v":0}]
[null,67,167,"Conoce la historia de Estados Unidos (A Look at U.S. History)",1,"Los Artículos de la Confederación (The Articles of Confederation)","Library Bound Book",null,"978-1-5382-4951-2",{"$f":"HYPERLINK(\"https://www.garethstevens.com/\"&Table1[[#This Row],[ISBN]],\"Weblink\")","v":"Weblink"},2020,"August 2019","Library","6.500 X 9.125","Author","Bray Jacobson",null,null,null,null,"J",null,"Grade 2","Grade 5 - 8","It can be confusing to learn that the U.S. Constitution wasn't the first document governing the United States. The Articles of Confederation was a problematic document, and the social studies curriculum commonly asks students to understand why and its effect on the Constitution. This volume summarizes the writing of the Articles as well as its problems for readers unfamiliar with the document or in need of reviewing it. Key definitions and explanations are offered in short fact boxes, ensuring that readers of all levels can understand the Articles of Confederation.","Spanish",26.6,19.95,"342.7302--dc23","32 pp.",{"$f":"Table1[[#This Row],[QTY]]*Table1[[#This Row],['# Books]]","v":0},{"$f":"Table1[[#This Row],[QTY]]*Table1[[#This Row],[S&L Price]]","v":0}]
[null,67,167,"Conoce la historia de Estados Unidos (A Look at U.S. History)",1,"Los Artículos de la Confederación (The Articles of Confederation)","eBook",null,"978-1-5382-4952-9",{"$f":"HYPERLINK(\"https://www.garethstevens.com/\"&Table1[[#This Row],[ISBN]],\"Weblink\")","v":"Weblink"},2020,"August 2019",null,null,"Author","Bray Jacobson",null,null,null,null,"J",null,"Grade 2","Grade 5 - 8","It can be confusing to learn that the U.S. Constitution wasn't the first document governing the United States. The Articles of Confederation was a problematic document, and the social studies curriculum commonly asks students to understand why and its effect on the Constitution. This volume summarizes the writing of the Articles as well as its problems for readers unfamiliar with the document or in need of reviewing it. Key definitions and explanations are offered in short fact boxes, ensuring that readers of all levels can understand the Articles of Confederation.","Spanish",26.6,19.95,"342.7302--dc23","32 pp.",{"$f":"Table1[[#This Row],[QTY]]*Table1[[#This Row],['# Books]]","v":0},{"$f":"Table1[[#This Row],[QTY]]*Table1[[#This Row],[S&L Price]]","v":0}]
[null,68,null,"¡Es hora de comparar! / Time to Compare!",6,"¡Es hora de comparar! / Time to Compare! Coming 2021","Library Set",null,"978-1-5382-6123-1",null,2021,"January 2021","Library","7.000 X 7.000","","",null,null,null,null,null,null,"Grade K","Grade Pre-K - 1","Learning to observe, compare, and evaluate are essential skills in the classroom and in life. This valuable and accessible set focuses on important categories of comparison, including weight, height, quantity, and volume, allowing early readers to expand their understanding of basic math and science concepts. They'll be engaged by the brightly written narratives and colorful photographs of familiar and fun objects like toys and animals. Features include: Simple, at-level texts for beginning readers. Supportive photographs aid in vocabulary acquisition. Covered topics appear in state and national math curricula.","English, Spanish",135.6,101.7,null,"24 pp.",{"$f":"Table1[[#This Row],[QTY]]*Table1[[#This Row],['# Books]]","v":0},{"$f":"Table1[[#This Row],[QTY]]*Table1[[#This Row],[S&L Price]]","v":0}]
[null,68,null,"¡Es hora de comparar! / Time to Compare!",1,"¿Cuál contiene más? / Which Holds More? Coming 2021","Library Bound Book",null,"978-1-5382-6013-5",null,2021,"January 2021","Library","7.000 X 7.000","Author","Jagger Youssef",null,null,null,null,"B",null,"Grade K","Grade Pre-K - 1","Volume might seem like a tricky concept, but it's just another measurement of size. In the bright pages of this valuable book, budding scientists and mathematicians will observe differing volumes of liquids in familiar containers. They'll learn how to conclude which container holds more, which is a stepping stone to more advanced concepts. Readers will exercise their volume-determining skills by answering a closing question.","English, Spanish",22.6,16.95,"530.8--dc23","24 pp.",{"$f":"Table1[[#This Row],[QTY]]*Table1[[#This Row],['# Books]]","v":0},{"$f":"Table1[[#This Row],[QTY]]*Table1[[#This Row],[S&L Price]]","v":0}]
[null,68,null,"¡Es hora de comparar! / Time to Compare!",1,"¿Cuál contiene más? / Which Holds More? Coming 2021","eBook",null,"978-1-5382-6014-2",null,2021,"January 2021",null,null,"Author","Jagger Youssef",null,null,null,null,"B",null,"Grade K","Grade Pre-K - 1","Volume might seem like a tricky concept, but it's just another measurement of size. In the bright pages of this valuable book, budding scientists and mathematicians will observe differing volumes of liquids in familiar containers. They'll learn how to conclude which container holds more, which is a stepping stone to more advanced concepts. Readers will exercise their volume-determining skills by answering a closing question.","English, Spanish",22.6,16.95,"530.8--dc23","24 pp.",{"$f":"Table1[[#This Row],[QTY]]*Table1[[#This Row],['# Books]]","v":0},{"$f":"Table1[[#This Row],[QTY]]*Table1[[#This Row],[S&L Price]]","v":0}]
[null,68,null,"¡Es hora de comparar! / Time to Compare!",1,"¿Cuál es diferente? / Which Is Different? Coming 2021","Library Bound Book",null,"978-1-5382-6011-1",null,2021,"January 2021","Library","7.000 X 7.000","Author","Jagger Youssef",null,null,null,null,"B",null,"Grade K","Grade Pre-K - 1","Puzzle lovers enjoy spotting similarities and differences among groups of objects. This engaging book will seem like a game to riveted readers, as they learn to spot items that belong in certain categories and those that don't. They'll examine colors, shapes, and other attributes of high-interest objects. At-level text encourages readers to add new vocabulary words to their collection, while colorful photographs further enhance this reading experience.","English, Spanish",22.6,16.95,"153.7--dc23","24 pp.",{"$f":"Table1[[#This Row],[QTY]]*Table1[[#This Row],['# Books]]","v":0},{"$f":"Table1[[#This Row],[QTY]]*Table1[[#This Row],[S&L Price]]","v":0}]
[null,68,null,"¡Es hora de comparar! / Time to Compare!",1,"¿Cuál es diferente? / Which Is Different? Coming 2021","eBook",null,"978-1-5382-6012-8",null,2021,"January 2021",null,null,"Author","Jagger Youssef",null,null,null,null,"B",null,"Grade K","Grade Pre-K - 1","Puzzle lovers enjoy spotting similarities and differences among groups of objects. This engaging book will seem like a game to riveted readers, as they learn to spot items that belong in certain categories and those that don't. They'll examine colors, shapes, and other attributes of high-interest objects. At-level text encourages readers to add new vocabulary words to their collection, while colorful photographs further enhance this reading experience.","English, Spanish",22.6,16.95,"153.7--dc23","24 pp.",{"$f":"Table1[[#This Row],[QTY]]*Table1[[#This Row],['# Books]]","v":0},{"$f":"Table1[[#This Row],[QTY]]*Table1[[#This Row],[S&L Price]]","v":0}]
[null,68,null,"¡Es hora de comparar! / Time to Compare!",1,"¿Cuál es más alto? / Which Is Taller? Coming 2021","Library Bound Book",null,"978-1-5382-6019-7",null,2021,"January 2021","Library","7.000 X 7.000","Author","Jagger Youssef",null,null,null,null,"B",null,"Grade K","Grade Pre-K - 1","Comparing heights of objects is a standard of elementary math classrooms, so conquering this essential skill puts young mathematicians ahead of the game! Beginning readers will be delighted by this colorful book, which guides them in comparing objects and determining which is taller.","English, Spanish",22.6,16.95,"530.8--dc23","24 pp.",{"$f":"Table1[[#This Row],[QTY]]*Table1[[#This Row],['# Books]]","v":0},{"$f":"Table1[[#This Row],[QTY]]*Table1[[#This Row],[S&L Price]]","v":0}]
[null,68,null,"¡Es hora de comparar! / Time to Compare!",1,"¿Cuál es más alto? / Which Is Taller? Coming 2021","eBook",null,"978-1-5382-6020-3",null,2021,"January 2021",null,null,"Author","Jagger Youssef",null,null,null,null,"B",null,"Grade K","Grade Pre-K - 1","Comparing heights of objects is a standard of elementary math classrooms, so conquering this essential skill puts young mathematicians ahead of the game! Beginning readers will be delighted by this colorful book, which guides them in comparing objects and determining which is taller.","English, Spanish",22.6,16.95,"530.8--dc23","24 pp.",{"$f":"Table1[[#This Row],[QTY]]*Table1[[#This Row],['# Books]]","v":0},{"$f":"Table1[[#This Row],[QTY]]*Table1[[#This Row],[S&L Price]]","v":0}]
[null,68,null,"¡Es hora de comparar! / Time to Compare!",1,"¿Cuál es más largo? / Which Is Longer? Coming 2021","Library Bound Book",null,"978-1-5382-6015-9",null,2021,"January 2021","Library","7.000 X 7.000","Author","Jagger Youssef",null,null,null,null,"B",null,"Grade K","Grade Pre-K - 1","Understanding measurable attributes such as length is an imperative skill for future mathematicians. This skill is also handy in daily life. This valuable volume provides practical examples to readers, asking them to compare the lengths of familiar objects on the colorful pages. Accessible text encourages vocabulary acquisition and allows beginning readers to build confidence in their emerging literacy.","English, Spanish",22.6,16.95,"530.8--dc23","24 pp.",{"$f":"Table1[[#This Row],[QTY]]*Table1[[#This Row],['# Books]]","v":0},{"$f":"Table1[[#This Row],[QTY]]*Table1[[#This Row],[S&L Price]]","v":0}]
[null,68,null,"¡Es hora de comparar! / Time to Compare!",1,"¿Cuál es más largo? / Which Is Longer? Coming 2021","eBook",null,"978-1-5382-6016-6",null,2021,"January 2021",null,null,"Author","Jagger Youssef",null,null,null,null,"B",null,"Grade K","Grade Pre-K - 1","Understanding measurable attributes such as length is an imperative skill for future mathematicians. This skill is also handy in daily life. This valuable volume provides practical examples to readers, asking them to compare the lengths of familiar objects on the colorful pages. Accessible text encourages vocabulary acquisition and allows beginning readers to build confidence in their emerging literacy.","English, Spanish",22.6,16.95,"530.8--dc23","24 pp.",{"$f":"Table1[[#This Row],[QTY]]*Table1[[#This Row],['# Books]]","v":0},{"$f":"Table1[[#This Row],[QTY]]*Table1[[#This Row],[S&L Price]]","v":0}]
[null,68,null,"¡Es hora de comparar! / Time to Compare!",1,"¿Cuál es más pesado? / Which Is Heavier? Coming 2021","Library Bound Book",null,"978-1-5382-6021-0",null,2021,"January 2021","Library","7.000 X 7.000","Author","Jagger Youssef",null,null,null,null,"B",null,"Grade K","Grade Pre-K - 1","Understanding properties of matter is key for future scientists. With this bright and beneficial book, readers are invited to use their sense of sight to compare the weight of objects. A concluding question allows them to determine which object is heavier and display their understanding of this valuable concept.","English, Spanish",22.6,16.95,"530.8--dc23","24 pp.",{"$f":"Table1[[#This Row],[QTY]]*Table1[[#This Row],['# Books]]","v":0},{"$f":"Table1[[#This Row],[QTY]]*Table1[[#This Row],[S&L Price]]","v":0}]
[null,68,null,"¡Es hora de comparar! / Time to Compare!",1,"¿Cuál es más pesado? / Which Is Heavier? Coming 2021","eBook",null,"978-1-5382-6022-7",null,2021,"January 2021",null,null,"Author","Jagger Youssef",null,null,null,null,"B",null,"Grade K","Grade Pre-K - 1","Understanding properties of matter is key for future scientists. With this bright and beneficial book, readers are invited to use their sense of sight to compare the weight of objects. A concluding question allows them to determine which object is heavier and display their understanding of this valuable concept.","English, Spanish",22.6,16.95,"530.8--dc23","24 pp.",{"$f":"Table1[[#This Row],[QTY]]*Table1[[#This Row],['# Books]]","v":0},{"$f":"Table1[[#This Row],[QTY]]*Table1[[#This Row],[S&L Price]]","v":0}]
[null,68,null,"¡Es hora de comparar! / Time to Compare!",1,"¿Cuál tiene más cantidad? / Which Has More? Coming 2021","Library Bound Book",null,"978-1-5382-6017-3",null,2021,"January 2021","Library","7.000 X 7.000","Author","Jagger Youssef",null,null,null,null,"B",null,"Grade K","Grade Pre-K - 1","Counting is a fundamental math skill. Being able to compare amounts takes this skill to the next level. This beneficial book guides readers in acquiring aptitude in comparison of quantities using at-level text and bright photographs of recognizable objects. A final assessment activity allows budding mathematicians to show off their math prowess.","English, Spanish",22.6,16.95,"530.8--dc23","24 pp.",{"$f":"Table1[[#This Row],[QTY]]*Table1[[#This Row],['# Books]]","v":0},{"$f":"Table1[[#This Row],[QTY]]*Table1[[#This Row],[S&L Price]]","v":0}]
[null,68,null,"¡Es hora de comparar! / Time to Compare!",1,"¿Cuál tiene más cantidad? / Which Has More? Coming 2021","eBook",null,"978-1-5382-6018-0",null,2021,"January 2021",null,null,"Author","Jagger Youssef",null,null,null,null,"B",null,"Grade K","Grade Pre-K - 1","Counting is a fundamental math skill. Being able to compare amounts takes this skill to the next level. This beneficial book guides readers in acquiring aptitude in comparison of quantities using at-level text and bright photographs of recognizable objects. A final assessment activity allows budding mathematicians to show off their math prowess.","English, Spanish",22.6,16.95,"530.8--dc23","24 pp.",{"$f":"Table1[[#This Row],[QTY]]*Table1[[#This Row],['# Books]]","v":0},{"$f":"Table1[[#This Row],[QTY]]*Table1[[#This Row],[S&L Price]]","v":0}]
[null,69,null,"Aprendemos sobre texturas / Let's Learn Textures!",6,"Aprendemos sobre texturas / Let's Learn Textures!","Library Set",null,"978-1-5382-5087-7",{"$f":"HYPERLINK(\"https://www.garethstevens.com/\"&Table1[[#This Row],[ISBN]],\"Weblink\")","v":"Weblink"},2020,"January 2020","Library","7.000 X 7.000","","",null,null,null,null,null,null,"Grade K","Grade Pre-K - 1","The youngest learners can be the most observant scientists. This beneficial set guides budding scientists in learning how to observe and describe the texture of familiar objects. They'll understand how to distinguish between bumpy and smooth, soft and hard, and wet and dry. These essential concepts are presented with simple text especially crafted for the beginning reader. Colorful photographs support the achievable text and further engage readers. Features include: Provides many opportunities to practice foundational reading skills of the English Language Arts Common Core. Discerning and defining textures is a key concept in lower elementary classrooms. The bright photographs are carefully chosen to appeal to young readers.","English, Spanish",135.6,101.7,null,"24 pp.",{"$f":"Table1[[#This Row],[QTY]]*Table1[[#This Row],['# Books]]","v":0},{"$f":"Table1[[#This Row],[QTY]]*Table1[[#This Row],[S&L Price]]","v":0}]
[null,69,null,"Aprendemos sobre texturas / Let's Learn Textures!",1,"¿Es duro? / What Is Hard?","Library Bound Book",null,"978-1-5382-5000-6",{"$f":"HYPERLINK(\"https://www.garethstevens.com/\"&Table1[[#This Row],[ISBN]],\"Weblink\")","v":"Weblink"},2020,"January 2020","Library","7.000 X 7.000","Author","Emmett Martin",null,null,null,null,"B",null,"Grade K","Grade Pre-K - 1","It's easier to name hard things, like rocks, than understand what this characteristic really means. This book encourages young scientists to observe the world around them and discern the features of various familiar things. They'll come to learn that anything that can't be easily bent can be described as hard. The achievable text and colorful photographs support readers in acquiring new vocabulary and a new appreciation for their powers of observation.","English, Spanish",22.6,16.95,"620.1/126--dc23","24 pp.",{"$f":"Table1[[#This Row],[QTY]]*Table1[[#This Row],['# Books]]","v":0},{"$f":"Table1[[#This Row],[QTY]]*Table1[[#This Row],[S&L Price]]","v":0}]
[null,69,null,"Aprendemos sobre texturas / Let's Learn Textures!",1,"¿Es rugoso? / What Is Bumpy?","eBook",null,"978-1-5382-4999-4",{"$f":"HYPERLINK(\"https://www.garethstevens.com/\"&Table1[[#This Row],[ISBN]],\"Weblink\")","v":"Weblink"},2020,"January 2020",null,null,"Author","Emmett Martin",null,null,null,null,"B",null,"Grade K","Grade Pre-K - 1","Many objects could be described as bumpy: roads, footballs, and even a toad's skin. Learning to describe objects and discern how they're different from or like other objects is an important part of the early elementary curriculum. This carefully written, at-level narrative demonstrates the use of the adjective bumpy, aided by colorful pictures to aid readers' comprehension of each accessible sentence.","English, Spanish",22.6,16.95,"620.1/1292--dc23","24 pp.",{"$f":"Table1[[#This Row],[QTY]]*Table1[[#This Row],['# Books]]","v":0},{"$f":"Table1[[#This Row],[QTY]]*Table1[[#This Row],[S&L Price]]","v":0}]
[null,69,null,"Aprendemos sobre texturas / Let's Learn Textures!",1,"¿Está seco? / What Is Dry?","Library Bound Book",null,"978-1-5382-5006-8",{"$f":"HYPERLINK(\"https://www.garethstevens.com/\"&Table1[[#This Row],[ISBN]],\"Weblink\")","v":"Weblink"},2020,"January 2020","Library","7.000 X 7.000","Author","Emmett Martin",null,null,null,null,"B",null,"Grade K","Grade Pre-K - 1","Anyone who has ever gotten drenched in a rainstorm knows what it is to be dry, but learning to identify objects as dry can be tricky for the youngest learners. This beneficial book teaches readers how to classify familiar objects as wet or dry with short, achievable sentences carefully constructed for vocabulary acquisition. The accessible narrative is accompanied by bright, interesting photographs of the objects.","English, Spanish",22.6,16.95,"620.1/129--dc23","24 pp.",{"$f":"Table1[[#This Row],[QTY]]*Table1[[#This Row],['# Books]]","v":0},{"$f":"Table1[[#This Row],[QTY]]*Table1[[#This Row],[S&L Price]]","v":0}]
[null,69,null,"Aprendemos sobre texturas / Let's Learn Textures!",1,"¿Está seco? / What Is Dry?","eBook",null,"978-1-5382-5007-5",{"$f":"HYPERLINK(\"https://www.garethstevens.com/\"&Table1[[#This Row],[ISBN]],\"Weblink\")","v":"Weblink"},2020,"January 2020",null,null,"Author","Emmett Martin",null,null,null,null,"B",null,"Grade K","Grade Pre-K - 1","Anyone who has ever gotten drenched in a rainstorm knows what it is to be dry, but learning to identify objects as dry can be tricky for the youngest learners. This beneficial book teaches readers how to classify familiar objects as wet or dry with short, achievable sentences carefully constructed for vocabulary acquisition. The accessible narrative is accompanied by bright, interesting photographs of the objects.","English, Spanish",22.6,16.95,"620.1/129--dc23","24 pp.",{"$f":"Table1[[#This Row],[QTY]]*Table1[[#This Row],['# Books]]","v":0},{"$f":"Table1[[#This Row],[QTY]]*Table1[[#This Row],[S&L Price]]","v":0}]
[null,null,7,"Report Builder",1,"U.S. Symbols and Landmarks Database","Online Resource",null,"978-1-4824-6563-1","Weblink",2018,"August 2017",null," "," ",null,null,null,null,null,null,null,"Grade 1 - 2","Grade K - 4","Grades K–4. Report Builder's interactive question-and-answer approach helps emerging researchers find the information they need to write reports. Curriculum-based topics are concise and supported by eye-catching visuals.","English",99,99,null,"",{"$f":"Table1[[#This Row],[QTY]]*Table1[[#This Row],['# Books]]","v":0},{"$f":"Table1[[#This Row],[QTY]]*Table1[[#This Row],[S&L Price]]","v":0}]
[null,null,7,"Report Builder",1,"U.S. Presidents Database","Online Resource",null,"978-1-4824-6559-4","Weblink",2017,"January 2017",null," "," ",null,null,null,null,null,null,null,"Grade 1 - 2","Grade K - 4","Grades K–4. Report Builder's interactive question-and-answer approach helps emerging researchers find the information they need to write reports. Curriculum-based topics are concise and supported by eye-catching visuals.","English",99,99,null,"",{"$f":"Table1[[#This Row],[QTY]]*Table1[[#This Row],['# Books]]","v":0},{"$f":"Table1[[#This Row],[QTY]]*Table1[[#This Row],[S&L Price]]","v":0}]
[null,null,14,"All About Opposites",1,"Fast or Slow?","Library Bound Book",null,"978-1-5382-3716-8",{"$f":"HYPERLINK(\"https://www.garethstevens.com/\"&Table1[[#This Row],[ISBN]],\"Weblink\")","v":"Weblink"},2020,"August 2019","Library","7.000 X 7.000","Author","Adeline Zubek",null,null,null,null,"B",null,"Grade K","Grade Pre-K - 1","The concepts of fast and slow are a compelling way of examining opposites for young readers. In this brightly designed book, they'll compare high-interest animals and vehicles through accessible text and learn how to apply their knowledge in placing familiar objects in similar categories. Striking photographs offer support for vocabulary acquisition, while an ending activity is an opportunity for assessment.","English",22.6,16.95,"531'.11--dc23","24 pp.",{"$f":"Table1[[#This Row],[QTY]]*Table1[[#This Row],['# Books]]","v":0},{"$f":"Table1[[#This Row],[QTY]]*Table1[[#This Row],[S&L Price]]","v":0}]
[null,null,14,"All About Opposites",1,"Front or Back?","eBook",null,"978-1-5382-3721-2",{"$f":"HYPERLINK(\"https://www.garethstevens.com/\"&Table1[[#This Row],[ISBN]],\"Weblink\")","v":"Weblink"},2020,"August 2019",null,null,"Author","Adeline Zubek",null,null,null,null,"B",null,"Grade K","Grade Pre-K - 1","The concept of opposites is an important building block of early education. This brightly designed book explores opposites through the pairing of front and back. Familiar objects such as toys and animals are used as subjects, and simple sentences allow beginning readers to practice fluency and acquire new vocabulary. A concluding activity offers a chance for readers to assess their understanding of front or back.","English",22.6,16.95,"428.1--dc23","24 pp.",{"$f":"Table1[[#This Row],[QTY]]*Table1[[#This Row],['# Books]]","v":0},{"$f":"Table1[[#This Row],[QTY]]*Table1[[#This Row],[S&L Price]]","v":0}]
[null,null,14,"All About Opposites",1,"Near or Far?","Library Bound Book",null,"978-1-5382-3732-8",{"$f":"HYPERLINK(\"https://www.garethstevens.com/\"&Table1[[#This Row],[ISBN]],\"Weblink\")","v":"Weblink"},2020,"August 2019","Library","7.000 X 7.000","Author","Rory McDonnell",null,null,null,null,"B",null,"Grade K","Grade Pre-K - 1","Near and far are important concepts to understand; who doesn't want to know if a shark is near or far? This colorful volume is an enjoyable exploration of this pair of opposites. It invites beginning readers to practice using these terms in relation to familiar and fun scenarios in the real world. They'll spot near and faraway elephants, birds, boats, and sharks in the lively photographs accompanying the achievable text.","English",22.6,16.95,"153.7'52--dc23","24 pp.",{"$f":"Table1[[#This Row],[QTY]]*Table1[[#This Row],['# Books]]","v":0},{"$f":"Table1[[#This Row],[QTY]]*Table1[[#This Row],[S&L Price]]","v":0}]
[null,null,19,"Zoo Animals",6,"Zoo Animals (Set of 6 NEW Titles)","Library Set",null,"978-1-5382-4167-7",{"$f":"HYPERLINK(\"https://www.garethstevens.com/\"&Table1[[#This Row],[ISBN]],\"Weblink\")","v":"Weblink"},2020,"August 2019","Library","7.625 X 7.125",null,null,null,null,null,null,null,null,"Grade K","Grade Pre-K - 2","This continuation of our popular series takes beginning readers on a field trip not just to the zoo, but inside the habitats of some of the most unique and interesting zoo animals. From information about what these animals eat to when they sleep, the main content is written with the pre-K reader in mind, and directly correlates with the photographs. By the end of each book, readers will be ready for their trip to the zoo, or to begin a career path to zoology. Features include: ATOS reading level below 1.0. Up-close photographs will take readers closer to their favorite animal than a trip to the zoo can. Introduces readers to informational-text features, such as indexes and table of contents.","English",135.6,101.7,null,"24 pp.",{"$f":"Table1[[#This Row],[QTY]]*Table1[[#This Row],['# Books]]","v":0},{"$f":"Table1[[#This Row],[QTY]]*Table1[[#This Row],[S&L Price]]","v":0}]
[null,null,19,"Zoo Animals",1,"Reindeer at the Zoo","Library Bound Book",null,"978-1-5382-3944-5",{"$f":"HYPERLINK(\"https://www.garethstevens.com/\"&Table1[[#This Row],[ISBN]],\"Weblink\")","v":"Weblink"},2020,"August 2019","Library","7.625 X 7.125","Author","Seth Lynch",0.9,0.5,null,null,"C",null,"Grade K","Grade Pre-K - 2","Reindeer have a reputation of living at the North Pole, but they actually live in North America, Europe, and Siberia. Encountering Santa's mode of transport at the zoo can be magical. Learning all about what reindeer eat and how they spend their time in their zoo habitat will make visits to the zoo even better. With language and content perfect for beginning readers, this book enables readers to find out more about their favorite zoo exhibit all on their own.","English",22.6,16.95,"599.65/8--dc23","24 pp.",{"$f":"Table1[[#This Row],[QTY]]*Table1[[#This Row],['# Books]]","v":0},{"$f":"Table1[[#This Row],[QTY]]*Table1[[#This Row],[S&L Price]]","v":0}]
[null,null,19,"Zoo Animals",1,"Reindeer at the Zoo","eBook",null,"978-1-5382-3945-2",{"$f":"HYPERLINK(\"https://www.garethstevens.com/\"&Table1[[#This Row],[ISBN]],\"Weblink\")","v":"Weblink"},2020,"August 2019",null,null,"Author","Seth Lynch",0.9,0.5,null,null,"C",null,"Grade K","Grade Pre-K - 2","Reindeer have a reputation of living at the North Pole, but they actually live in North America, Europe, and Siberia. Encountering Santa's mode of transport at the zoo can be magical. Learning all about what reindeer eat and how they spend their time in their zoo habitat will make visits to the zoo even better. With language and content perfect for beginning readers, this book enables readers to find out more about their favorite zoo exhibit all on their own.","English",22.6,16.95,"599.65/8--dc23","24 pp.",{"$f":"Table1[[#This Row],[QTY]]*Table1[[#This Row],['# Books]]","v":0},{"$f":"Table1[[#This Row],[QTY]]*Table1[[#This Row],[S&L Price]]","v":0}]
[null,null,19,"Zoo Animals",1,"Toucans at the Zoo","Library Bound Book",null,"978-1-5382-3956-8",{"$f":"HYPERLINK(\"https://www.garethstevens.com/\"&Table1[[#This Row],[ISBN]],\"Weblink\")","v":"Weblink"},2020,"August 2019","Library","7.625 X 7.125","Author","Seth Lynch",0.9,0.5,null,null,"C",null,"Grade K","Grade Pre-K - 2","Toucans are easy to spot because of their huge, colorful bill. It can be as much as four times the size of the bird's head. Readers may recognize this bird at the zoo, but this book helps new readers learn more about the iconic toucan. Including what their lives are like at the zoo and what they eat, the main content is written especially for pre-K readers with achievable language. Full-color photographs invite readers into the toucan's habitat and aid comprehension of the text.","English",22.6,16.95,"598.7/2--dc23","24 pp.",{"$f":"Table1[[#This Row],[QTY]]*Table1[[#This Row],['# Books]]","v":0},{"$f":"Table1[[#This Row],[QTY]]*Table1[[#This Row],[S&L Price]]","v":0}]
[null,null,19,"Zoo Animals",1,"Giraffes at the Zoo","eBook",null,"978-1-4824-2596-3",{"$f":"HYPERLINK(\"https://www.garethstevens.com/\"&Table1[[#This Row],[ISBN]],\"Weblink\")","v":"Weblink"},2016,"August 2015",null,null,"Author","Finn Ward",0.9,0.5,null,null,"C",null,"Grade K","Grade K - 2","Giraffes are the tallest land animals on Earth, and these big creatures have a lot to teach readers about zoo life. Through simple text and well-chosen photographs, beginning readers will love learning about a day in the life of a giraffe at the zoo. From their love of munching leaves to raising their young, giraffes are some of young readers’ favorite animals to see at the zoo.","English",22.6,16.95,"599.638","24 pp.",{"$f":"Table1[[#This Row],[QTY]]*Table1[[#This Row],['# Books]]","v":0},{"$f":"Table1[[#This Row],[QTY]]*Table1[[#This Row],[S&L Price]]","v":0}]
[null,null,19,"Zoo Animals",1,"Ostriches at the Zoo","eBook",null,"978-1-4824-2604-5",{"$f":"HYPERLINK(\"https://www.garethstevens.com/\"&Table1[[#This Row],[ISBN]],\"Weblink\")","v":"Weblink"},2016,"August 2015",null,null,"Author","Finn Ward",0.9,0.5,null,null,"C",null,"Grade K","Grade K - 2","Ostriches are the largest birds on Earth, and many of these supersized animals call zoos home. These big birds don’t bury their heads in the sand like many believe, but they do all sorts of amazing things. Running more than 40 miles (64.4 km) per hour and using their wings to steer as they go, these big birds will wow beginning readers with their lives inside their zoo habitats. Through simple text and full-color photography readers will also learn how zookeepers take care of ostriches and make sure they live long, happy lives.","English",22.6,16.95,"598.5","24 pp.",{"$f":"Table1[[#This Row],[QTY]]*Table1[[#This Row],['# Books]]","v":0},{"$f":"Table1[[#This Row],[QTY]]*Table1[[#This Row],[S&L Price]]","v":0}]
[null,null,19,"Zoo Animals",1,"Penguins at the Zoo","Library Bound Book",null,"978-1-4824-2607-6",{"$f":"HYPERLINK(\"https://www.garethstevens.com/\"&Table1[[#This Row],[ISBN]],\"Weblink\")","v":"Weblink"},2016,"August 2015","Library","7.625 X 7.125","Author","Finn Ward",0.9,0.5,null,null,"C",null,"Grade K","Grade K - 2","Penguins are fun animals that love to swim and play. Early readers will love taking a look at penguins’ lives inside the zoo, where the fish are plentiful at mealtime and predators can’t take a bite out of them when they go for a dive. With zookeepers taking care of these amazing waterproof birds, they live long lives entertaining countless zoo patrons with their quick swimming and playful ways inside their zoo habitats. Accessible text paired with supporting photographs offer a glimpse of readers’ favorite zoo friends!","English",22.6,16.95,"598.47","24 pp.",{"$f":"Table1[[#This Row],[QTY]]*Table1[[#This Row],['# Books]]","v":0},{"$f":"Table1[[#This Row],[QTY]]*Table1[[#This Row],[S&L Price]]","v":0}]
[null,null,32,"We Can Be Responsible!",1,"We Get Dressed","Library Bound Book",null,"978-1-5382-3909-4",{"$f":"HYPERLINK(\"https://www.garethstevens.com/\"&Table1[[#This Row],[ISBN]],\"Weblink\")","v":"Weblink"},2020,"August 2019","Library","7.625 X 7.125","Author","Lynda Arnez",0.9,0.5,null,null,"C",null,"Grade K","Grade Pre-K - 2","Responsibility means knowing what you have to get done and doing it. For young kids, these tasks often include getting ready for the day. However, many parents know the battle of getting a child dressed. This book uses age-appropriate language and content perfect for beginning readers to encourage a positive attitude and independent action. Full-color photographs correlate closely with the text to aid readers' comprehension and given them relatable examples of other kids showing how responsible they are and getting dressed.","English",22.6,16.95,"391--dc23","24 pp.",{"$f":"Table1[[#This Row],[QTY]]*Table1[[#This Row],['# Books]]","v":0},{"$f":"Table1[[#This Row],[QTY]]*Table1[[#This Row],[S&L Price]]","v":0}]
[null,null,32,"We Can Be Responsible!",1,"We Make Lunch","eBook",null,"978-1-5382-3918-6",{"$f":"HYPERLINK(\"https://www.garethstevens.com/\"&Table1[[#This Row],[ISBN]],\"Weblink\")","v":"Weblink"},2020,"August 2019",null,null,"Author","Lynda Arnez",0.9,0.5,null,null,"C",null,"Grade K","Grade Pre-K - 2","Inspiring young children to want to cook is great way to discourage picky eating and promote healthy food behaviors. Giving them the responsibility of making lunch for themselves is a great way to get started, and it can be fun. Through relatable examples of simple foods readers can try, this book supports readers' confidence and independence in the kitchen as they explore sandwich making, washing fresh fruit, and more. Close text-image correlation aids readers' comprehension of the age-appropriate language used on each page.","English",22.6,16.95,"642--dc23","24 pp.",{"$f":"Table1[[#This Row],[QTY]]*Table1[[#This Row],['# Books]]","v":0},{"$f":"Table1[[#This Row],[QTY]]*Table1[[#This Row],[S&L Price]]","v":0}]
[null,null,32,"We Can Be Responsible!",1,"We Take Care of Pets","Library Bound Book",null,"978-1-5382-3932-2",{"$f":"HYPERLINK(\"https://www.garethstevens.com/\"&Table1[[#This Row],[ISBN]],\"Weblink\")","v":"Weblink"},2020,"August 2019","Library","7.625 X 7.125","Author","Lynda Arnez",0.9,0.5,null,null,"C",null,"Grade K","Grade Pre-K - 2","All family pets need to be fed, given water, groomed, possibly walked, or simply played with. These can be great jobs for younger kids just starting to be given some responsibilities. Complemented by full-color photographs, the main text describes the ways pre-K readers can take care of different kinds of common pets, from dogs to birds. Age-appropriate, relatable examples inspire readers to offer their help while language written for beginning readers allows them to navigate the content with confidence and increasing reading independence.","English",22.6,16.95,"636.088/7--dc23","24 pp.",{"$f":"Table1[[#This Row],[QTY]]*Table1[[#This Row],['# Books]]","v":0},{"$f":"Table1[[#This Row],[QTY]]*Table1[[#This Row],[S&L Price]]","v":0}]
[null,null,30,"Time to Celebrate!",1,"Let's Go to a Birthday Party!","Library Bound Book",null,"978-1-5382-3884-4",{"$f":"HYPERLINK(\"https://www.garethstevens.com/\"&Table1[[#This Row],[ISBN]],\"Weblink\")","v":"Weblink"},2020,"August 2019","Library","7.625 X 7.125","Author","Benjamin Proudfit",null,null,null,null,"C",null,"Grade K","Grade Pre-K - 2","Cake, presents, games, songs...there's nothing more fun than a birthday party! Young readers might need an extra chance to prepare for one of the first events they may be attending without their parents being present. In this book, they'll learn what to expect from a typical birthday party through relatable examples and full-color photographs. With an encouraging tone and age-appropriate language, this book is the perfect volume for readers to practice reading and learn more about the excitement of a birthday party.","English",22.6,16.95,"793.2/1--dc23","24 pp.",{"$f":"Table1[[#This Row],[QTY]]*Table1[[#This Row],['# Books]]","v":0},{"$f":"Table1[[#This Row],[QTY]]*Table1[[#This Row],[S&L Price]]","v":0}]
[null,null,30,"Time to Celebrate!",1,"Let's Go to a Carnival!","Library Bound Book",null,"978-1-5382-3888-2",{"$f":"HYPERLINK(\"https://www.garethstevens.com/\"&Table1[[#This Row],[ISBN]],\"Weblink\")","v":"Weblink"},2020,"August 2019","Library","7.625 X 7.125","Author","Benjamin Proudfit",null,null,null,null,"C",null,"Grade K","Grade Pre-K - 2","Carnivals are a fantastic way to spend a day. With popcorn, cotton candy, rides, and games, there's something for every person to enjoy. But younger kids might find the crowds, lights, and noise a little overwhelming. This book for beginning readers is the perfect way to prepare a new carnival goer for a super-fun day. Including full-color photographs that closely correlate to the text, it introduces carnival basics in language written especially for new readers working to navigate books for the first time.","English",22.6,16.95,"791/.1--dc23","24 pp.",{"$f":"Table1[[#This Row],[QTY]]*Table1[[#This Row],['# Books]]","v":0},{"$f":"Table1[[#This Row],[QTY]]*Table1[[#This Row],[S&L Price]]","v":0}]
[null,null,30,"Time to Celebrate!",1,"Let's Go to a Halloween Party!","eBook",null,"978-1-5382-3897-4",{"$f":"HYPERLINK(\"https://www.garethstevens.com/\"&Table1[[#This Row],[ISBN]],\"Weblink\")","v":"Weblink"},2020,"August 2019",null,null,"Author","Benjamin Proudfit",null,null,null,null,"C",null,"Grade K","Grade Pre-K - 2","Halloween is very fun, but it can also be a bit scary, especially for younger kids. Readers are invited to a Halloween costume party and shown what to expect in a similar scenario. Achievable language and content allow new readers to navigate the book independently as they explore what it means to go to a Halloween party. A close text-to-picture correlation supports reading comprehension while the full-color photographs show readers relatable examples of scenes at a costume party.","English",22.6,16.95,"394.2646--dc23","24 pp.",{"$f":"Table1[[#This Row],[QTY]]*Table1[[#This Row],['# Books]]","v":0},{"$f":"Table1[[#This Row],[QTY]]*Table1[[#This Row],[S&L Price]]","v":0}]
[null,null,43,"The Scoop on Poop!",6,"The Scoop on Poop!","Library Set",null,"978-1-5382-2958-3",{"$f":"HYPERLINK(\"https://www.garethstevens.com/\"&Table1[[#This Row],[ISBN]],\"Weblink\")","v":"Weblink"},2020,"August 2019","Library","7.000 X 7.000",null,null,null,null,null,null,null,null,"Grade 1 - 2","Grade 1 - 3","Just the word \"poop\" makes most people giggle, but excrement is a fact of life. Actually, it's a fact of all animal life. In this highly entertaining set, readers will be delighted to learn how to spot and identify the scat of animals. While they're on the trail of appealing creatures such as bats and bears, they'll learn more about them, their habitats, and the biological processes that make poop possible. Each attractive volume is full of helpful photographs, science vocabulary, and engaging text. Features include: Encourages an interest in wildlife and natural surroundings. At-level text used to explain essential science concepts. High-interest topic will appeal to emerging readers. Comprehension of science texts is a benchmark of the English Language Arts Common Core.","English",135.6,101.7,null,"24 pp.",{"$f":"Table1[[#This Row],[QTY]]*Table1[[#This Row],['# Books]]","v":0},{"$f":"Table1[[#This Row],[QTY]]*Table1[[#This Row],[S&L Price]]","v":0}]
[null,null,43,"The Scoop on Poop!",1,"Canada Goose Poop or Duck Poop?","Library Bound Book",null,"978-1-5382-2952-1",{"$f":"HYPERLINK(\"https://www.garethstevens.com/\"&Table1[[#This Row],[ISBN]],\"Weblink\")","v":"Weblink"},2020,"August 2019","Library","7.000 X 7.000","Author","Colin Matthews",null,null,null,null,"J",null,"Grade 1 - 2","Grade 1 - 3","It might not be too hard to tell the difference between a Canada goose and a duck, but distinguishing between their feces is a little trickier. Budding animal trackers can use this fun guide to figure out which is which. Through engaging text and striking photographs, they'll also learn some important facts about each animal, including their habitats and behaviors. This winning volume is a must-read for every animal collection.","English",22.6,16.95,"598.4/178--dc23","24 pp.",{"$f":"Table1[[#This Row],[QTY]]*Table1[[#This Row],['# Books]]","v":0},{"$f":"Table1[[#This Row],[QTY]]*Table1[[#This Row],[S&L Price]]","v":0}]
[null,null,43,"The Scoop on Poop!",1,"Deer Poop or Bear Poop?","eBook",null,"978-1-5382-3341-2",{"$f":"HYPERLINK(\"https://www.garethstevens.com/\"&Table1[[#This Row],[ISBN]],\"Weblink\")","v":"Weblink"},2020,"August 2019",null,null,"Author","George Fittleworth",null,null,null,null,"I",null,"Grade 1 - 2","Grade 1 - 3","Attention all hikers: Knowing the difference between deer and bear droppings could be lifesaving! Luckily, this entertaining volume helps young nature enthusiasts identify both kinds of excrement, and presents many appealing facts about these marvelous mammals. The high-interest topic is explained with significant science terms that will aid young readers in further explorations of other kinds of animals.","English",22.6,16.95,"599.65--dc23","24 pp.",{"$f":"Table1[[#This Row],[QTY]]*Table1[[#This Row],['# Books]]","v":0},{"$f":"Table1[[#This Row],[QTY]]*Table1[[#This Row],[S&L Price]]","v":0}]
[null,null,43,"The Scoop on Poop!",1,"Mouse Poop or Bat Poop?","Library Bound Book",null,"978-1-5382-2957-6",{"$f":"HYPERLINK(\"https://www.garethstevens.com/\"&Table1[[#This Row],[ISBN]],\"Weblink\")","v":"Weblink"},2020,"August 2019","Library","7.000 X 7.000","Author","George Fittleworth",null,null,null,null,"I",null,"Grade 1 - 2","Grade 1 - 3","There are mysterious droppings in the attic! Is it mouse poop or bat poop? In this appealing and educational book, readers are the detectives. They'll uncover clues about the identity of the animal in the attic while learning more about mice and bats, including what they eat and some of their behaviors. They'll apply their knowledge to discover the culprit, all while learning some key elementary science concepts.","English",22.6,16.95,"599.35'3--dc23","24 pp.",{"$f":"Table1[[#This Row],[QTY]]*Table1[[#This Row],['# Books]]","v":0},{"$f":"Table1[[#This Row],[QTY]]*Table1[[#This Row],[S&L Price]]","v":0}]
[null,null,42,"Life Without Animals",1,"What If Elephants Disappeared?","Library Bound Book",null,"978-1-5382-3812-7",{"$f":"HYPERLINK(\"https://www.garethstevens.com/\"&Table1[[#This Row],[ISBN]],\"Weblink\")","v":"Weblink"},2020,"August 2019","Library","7.000 X 7.000","Author","Theresa Emminizer",null,null,null,null,"I",null,"Grade 1 - 2","Grade 1 - 3","What would the world be like without elephants? In recent years, the dwindling population of this endangered species has made it necessary to confront this question. Habitat destruction and poaching have jeopardized the survival of this keystone species, leading to widespread consequences. In this informative text, readers learn about the important role that elephants play in their ecosystem, the dangers they face, and what can be done to protect them. Vibrant photographs enrich the curricular content, which engages readers in an age-appropriate dialogue about the interdependence of Earth's species.","English",22.6,16.95,"333.95/967--dc23","24 pp.",{"$f":"Table1[[#This Row],[QTY]]*Table1[[#This Row],['# Books]]","v":0},{"$f":"Table1[[#This Row],[QTY]]*Table1[[#This Row],[S&L Price]]","v":0}]
[null,null,42,"Life Without Animals",1,"What If Mountain Lions Disappeared?","Library Bound Book",null,"978-1-5382-3816-5",{"$f":"HYPERLINK(\"https://www.garethstevens.com/\"&Table1[[#This Row],[ISBN]],\"Weblink\")","v":"Weblink"},2020,"August 2019","Library","7.000 X 7.000","Author","Theresa Emminizer",null,null,null,null,"I",null,"Grade 1 - 2","Grade 1 - 3","Due to common misconceptions about their nature, mountain lions have been targeted both by farmers who consider them a threat to their livestock, and sportsmen who hunt them as a trophy kill. In truth, this majestic cat is necessary to the survival of its entire ecosystem. Complete with full-color photographs that make the information pop, this enlightening text explores key curricular science concepts including interdependence, predator-prey relationships, and the importance of conservation.","English",22.6,16.95,"333.95/416--dc23","24 pp.",{"$f":"Table1[[#This Row],[QTY]]*Table1[[#This Row],['# Books]]","v":0},{"$f":"Table1[[#This Row],[QTY]]*Table1[[#This Row],[S&L Price]]","v":0}]
[null,null,42,"Life Without Animals",1,"What If Sea Otters Disappeared?","eBook",null,"978-1-5382-3825-7",{"$f":"HYPERLINK(\"https://www.garethstevens.com/\"&Table1[[#This Row],[ISBN]],\"Weblink\")","v":"Weblink"},2020,"August 2019",null,null,"Author","Theresa Emminizer",null,null,null,null,"I",null,"Grade 1 - 2","Grade 1 - 3","Sea otters are a keystone species in their environment. If they were to disappear, the ripple effect on the plants and animals in the ecosystem would be profound. Kelp forests absorb carbon dioxide. Sea urchins feed on kelp and can deplete these forests if they are not kept in check. Sea otters prey on sea urchins, helping to maintain healthy kelp forests and thus, a healthy ecosystem. This dynamic text engages readers in an educational dialogue, examining the role of sea otters, the threats they face, and possible solutions to protect this fundamental species.","English",22.6,16.95,"599.769/5--dc23","24 pp.",{"$f":"Table1[[#This Row],[QTY]]*Table1[[#This Row],['# Books]]","v":0},{"$f":"Table1[[#This Row],[QTY]]*Table1[[#This Row],[S&L Price]]","v":0}]
[null,null,64,"The History of Our Holidays",12,"The History of Our Holidays (Set of 12 Titles) ","Library Set",null,"978-1-5382-4154-7",{"$f":"HYPERLINK(\"https://www.garethstevens.com/\"&Table1[[#This Row],[ISBN]],\"Weblink\")","v":"Weblink"},2020,"August 2019","Library","7.000 X 7.000",null,null,null,null,null,null,null,null,"Grade 1 - 2","Grade 1 - 3","Many people celebrate holidays without even thinking about their long history or how the traditions associated with them originated. This engaging collection can help. Each entertaining book explains the background of a celebration as well as the special ways people mark the day. Full-color photographs offer captivating scenes of each holiday, including Hanukkah, Groundhog Day, and Presidents' Day. Readers will be inspired to mark their calendars for the next celebration. Features include: Achievable text and high-interest topics that appeal to all levels of readers. Offers lenses through which to study curricular topics such as history and world cultures. Reading informational texts with proficiency is a standard of the English Language Arts Common Core.","English",271.2,203.4,null,"24 pp.",{"$f":"Table1[[#This Row],[QTY]]*Table1[[#This Row],['# Books]]","v":0},{"$f":"Table1[[#This Row],[QTY]]*Table1[[#This Row],[S&L Price]]","v":0}]
[null,null,64,"The History of Our Holidays",1,"Celebrating Kwanzaa","eBook",null,"978-1-5382-3881-3",{"$f":"HYPERLINK(\"https://www.garethstevens.com/\"&Table1[[#This Row],[ISBN]],\"Weblink\")","v":"Weblink"},2020,"August 2019",null,null,"Author","Barbara Linde",3.1,0.5,null,null,"J",null,"Grade 1 - 2","Grade 1 - 3","Most people will have heard of Kwanzaa. Many people are familiar with the bright colors and fun associated with the holiday, but many don't know why or when it's celebrated. Meant to celebrate the unity between African Americans and their African roots, Kwanzaa began in the 1960s. In this book, readers learn about Kwanzaa's creation and the many ways people celebrate this time after the Christmas season. Full-color photographs draw all readers into the fascinating history and celebration of Kwanzaa, honoring diversity and introducing cultural traditions they may be unfamiliar with.","English",22.6,16.95,"394.2612--dc23","24 pp.",{"$f":"Table1[[#This Row],[QTY]]*Table1[[#This Row],['# Books]]","v":0},{"$f":"Table1[[#This Row],[QTY]]*Table1[[#This Row],[S&L Price]]","v":0}]
[null,null,64,"The History of Our Holidays",1,"Celebrating the Chinese New Year","Library Bound Book",null,"978-1-5382-3864-6",{"$f":"HYPERLINK(\"https://www.garethstevens.com/\"&Table1[[#This Row],[ISBN]],\"Weblink\")","v":"Weblink"},2020,"August 2019","Library","7.000 X 7.000","Author","Barbara Linde",2.8,0.5,null,null,"I",null,"Grade 1 - 2","Grade 1 - 3","Many cultures had their own way of counting the year before the western calendar became accepted around the world. The Chinese New Year, one of the biggest holidays in modern China, is based on an ancient lunar calendar. Readers explore the long history of this celebration as well as find out about the animals associated with particular years, the food, and ways people still celebrate it today. Amazing full-color photographs show off the fun of the Chinese New Year in history and today to correlate with the text for beginning readers.","English",22.6,16.95,"394.261--dc23","24 pp.",{"$f":"Table1[[#This Row],[QTY]]*Table1[[#This Row],['# Books]]","v":0},{"$f":"Table1[[#This Row],[QTY]]*Table1[[#This Row],[S&L Price]]","v":0}]
[null,null,64,"The History of Our Holidays",1,"The History of the Fourth of July","eBook",null,"978-1-5382-3873-8",{"$f":"HYPERLINK(\"https://www.garethstevens.com/\"&Table1[[#This Row],[ISBN]],\"Weblink\")","v":"Weblink"},2020,"August 2019",null,null,"Author","Barbara Linde",3.3,0.5,null,null,"I",null,"Grade 1 - 2","Grade 1 - 3","Going to a fireworks display is a popular way to celebrate the Fourth of July, but why is that? And why do we use July 4 as the day to honor United States independence? These and many other questions about the history of the Fourth of July are answered for curious readers in this fun, patriotic volume. Historical images and full-color photographs correlate closely with the text, showing the Founding Fathers and modern July 4th events. Written especially for beginning readers, the main content provides just the right amount of historical context and supports early elementary social studies curricula.","English",22.6,16.95,"394.2634--dc23","24 pp.",{"$f":"Table1[[#This Row],[QTY]]*Table1[[#This Row],['# Books]]","v":0},{"$f":"Table1[[#This Row],[QTY]]*Table1[[#This Row],[S&L Price]]","v":0}]
[null,null,64,"The History of Our Holidays",1,"April Fools' Day: What a Joke!","eBook",null,"978-1-4824-3885-7",{"$f":"HYPERLINK(\"https://www.garethstevens.com/\"&Table1[[#This Row],[ISBN]],\"Weblink\")","v":"Weblink"},2016,"January 2016",null,null,"Author","Theodore Jones",3,0.5,null,null,"I",null,"Grade 1 - 2","Grade 1 - 3","“April Fools!” For anyone who’s even been the victim of an April Fools’ Day joke or who’s planning to pull the best prank yet, this fun book takes them inside the possible origins of an amusing holiday. Similar holidays have been practiced for centuries by several cultures, including the ancient Romans. Colorful photographs of celebrations around the world as well as snapshots of the funniest pranks will have readers laughing. No fooling!","English",22.6,16.95,"394.262--dc23","24 pp.",{"$f":"Table1[[#This Row],[QTY]]*Table1[[#This Row],['# Books]]","v":0},{"$f":"Table1[[#This Row],[QTY]]*Table1[[#This Row],[S&L Price]]","v":0}]
[null,null,64,"The History of Our Holidays",1,"The History of Juneteenth","Library Bound Book",null,"978-1-4824-3896-3",{"$f":"HYPERLINK(\"https://www.garethstevens.com/\"&Table1[[#This Row],[ISBN]],\"Weblink\")","v":"Weblink"},2016,"January 2016","Library","7.000 X 7.000","Author","Maximilian Smith",3.8,0.5,null,null,"J",null,"Grade 1 - 2","Grade 1 - 3","Juneteenth is usually celebrated on June 19. It honors the day in 1865 when Union troops swept into Galveston, Texas, and told the elated slaves there that they were free. This accessible volume delves into the American Civil War, the Emancipation Proclamation, and the events that led to this special holiday for African Americans and everyone who celebrates the end of slavery in the United States. Carefully chosen photographs reflect this special commemoration, both in the past and today.","English",22.6,16.95,"394.263--dc23","24 pp.",{"$f":"Table1[[#This Row],[QTY]]*Table1[[#This Row],['# Books]]","v":0},{"$f":"Table1[[#This Row],[QTY]]*Table1[[#This Row],[S&L Price]]","v":0}]
[null,null,64,"The History of Our Holidays",1,"The History of Juneteenth","eBook",null,"978-1-4824-3897-0",{"$f":"HYPERLINK(\"https://www.garethstevens.com/\"&Table1[[#This Row],[ISBN]],\"Weblink\")","v":"Weblink"},2016,"January 2016",null,null,"Author","Maximilian Smith",3.8,0.5,null,null,"J",null,"Grade 1 - 2","Grade 1 - 3","Juneteenth is usually celebrated on June 19. It honors the day in 1865 when Union troops swept into Galveston, Texas, and told the elated slaves there that they were free. This accessible volume delves into the American Civil War, the Emancipation Proclamation, and the events that led to this special holiday for African Americans and everyone who celebrates the end of slavery in the United States. Carefully chosen photographs reflect this special commemoration, both in the past and today.","English",22.6,16.95,"394.263--dc23","24 pp.",{"$f":"Table1[[#This Row],[QTY]]*Table1[[#This Row],['# Books]]","v":0},{"$f":"Table1[[#This Row],[QTY]]*Table1[[#This Row],[S&L Price]]","v":0}]
[null,null,62,"Cultures Connect Us!",6,"Cultures Connect Us!","Library Set",null,"978-1-5382-3906-3",{"$f":"HYPERLINK(\"https://www.garethstevens.com/\"&Table1[[#This Row],[ISBN]],\"Weblink\")","v":"Weblink"},2020,"August 2019","Library","7.000 X 7.000",null,null,null,null,null,null,null,null,"Grade 1 - 2","Grade 1 - 3","The folktales, legends, traditions, and festivals of a community reflect the cultures found within it, and recognizing the many characteristics of cultures is an important elementary social studies standard. Each valuable volume of this essential series explains a cultural feature, such as oral traditions and myths, as well as presents appealing examples of each. While delving into these ideas, readers will reflect on the communities in which they live as well as appreciate the richness of their own and other cultures. Features include: Based on key ideas in early elementary social studies curricula. Eye-catching colorful photographs are chosen carefully to support the texts. History and social studies are included in the range of informational texts highlighted in the English Language Arts Common Core.","English",135.6,101.7,null,"24 pp.",{"$f":"Table1[[#This Row],[QTY]]*Table1[[#This Row],['# Books]]","v":0},{"$f":"Table1[[#This Row],[QTY]]*Table1[[#This Row],[S&L Price]]","v":0}]
[null,null,62,"Cultures Connect Us!",1,"Legends","Library Bound Book",null,"978-1-5382-3844-8",{"$f":"HYPERLINK(\"https://www.garethstevens.com/\"&Table1[[#This Row],[ISBN]],\"Weblink\")","v":"Weblink"},2020,"August 2019","Library","7.000 X 7.000","Author","Cyril Bassington",3.3,0.5,null,null,"I",null,"Grade 1 - 2","Grade 1 - 3","What makes a legend a legend? A bit of truth and a bit of entertaining fiction! That's how legends have lasted through generations, and sometimes for thousands of years. Robin Hood, King Arthur, and young George Washington all make an appearance in this informative book, which offers details about legendary stories as well as information about why they're considered legends. Readers will also learn about urban legends and consider if they have legends-in-the-making in their families and communities.","English",22.6,16.95,"398.2--dc23","24 pp.",{"$f":"Table1[[#This Row],[QTY]]*Table1[[#This Row],['# Books]]","v":0},{"$f":"Table1[[#This Row],[QTY]]*Table1[[#This Row],[S&L Price]]","v":0}]
[null,null,62,"Cultures Connect Us!",1,"Oral Histories","eBook",null,"978-1-5382-3853-0",{"$f":"HYPERLINK(\"https://www.garethstevens.com/\"&Table1[[#This Row],[ISBN]],\"Weblink\")","v":"Weblink"},2020,"August 2019",null,null,"Author","Agatha Gregson",3.7,0.5,null,null,"I",null,"Grade 1 - 2","Grade 1 - 3","Thousands of years ago, before systems of writing existed, every civilization passed on knowledge through storytelling. This is called the oral tradition. Some tales were fiction, but some were true history. Today, historians recognize that history books often lack some crucial details about important events, details that can be properly captured through the accounts of people who were actually there. This book, which supports elementary social studies curricula, focuses on oral histories, including what they are, why they're essential to the historical record, and how readers can record them for themselves.","English",22.6,16.95,"907.2--dc23","24 pp.",{"$f":"Table1[[#This Row],[QTY]]*Table1[[#This Row],['# Books]]","v":0},{"$f":"Table1[[#This Row],[QTY]]*Table1[[#This Row],[S&L Price]]","v":0}]
[null,null,62,"Cultures Connect Us!",1,"Traditions","Library Bound Book",null,"978-1-5382-3856-1",{"$f":"HYPERLINK(\"https://www.garethstevens.com/\"&Table1[[#This Row],[ISBN]],\"Weblink\")","v":"Weblink"},2020,"August 2019","Library","7.000 X 7.000","Author","Agatha Gregson",3.7,0.5,null,null,"I",null,"Grade 1 - 2","Grade 1 - 3","Traditions are powerful expressions of a culture. Celebrations, myths and legends, clothing, music, and foods are all traditions. Sometimes their purposes and meanings are clear, but often traditions are so ingrained in daily lives that people rarely think deeply about them. This thoughtful volume encourages readers to reflect on the traditions of their own culture as well as the cultures of others. They'll examine familiar and unfamiliar traditions through this book's accessible text and colorful, inviting photographs.","English",22.6,16.95,"395--dc23","24 pp.",{"$f":"Table1[[#This Row],[QTY]]*Table1[[#This Row],['# Books]]","v":0},{"$f":"Table1[[#This Row],[QTY]]*Table1[[#This Row],[S&L Price]]","v":0}]
[null,null,69,"A Look at World History",1,"The Black Death","eBook",null,"978-1-5382-4129-5",{"$f":"HYPERLINK(\"https://www.garethstevens.com/\"&Table1[[#This Row],[ISBN]],\"Weblink\")","v":"Weblink"},2020,"August 2019",null,null,"Author","Mary Griffin",null,null,null,null,"J",null,"Grade 2","Grade 3 - 6","The Black Death sounds like the name of a creepy movie, but it was an actual historical event. It was the term for the pandemic of plague throughout Europe and Asia in the 14th century. Before it was over, tens of millions of people had died. Readers will be enthralled to learn of the disturbing details of this gruesome disease and how it spread. They'll learn how people coped, how the world changed, and that plague still exists. Historical images and maps help support the engrossing information in this comprehensible look at an important time in history.","English",26.6,19.95,"577/.16--dc23","32 pp.",{"$f":"Table1[[#This Row],[QTY]]*Table1[[#This Row],['# Books]]","v":0},{"$f":"Table1[[#This Row],[QTY]]*Table1[[#This Row],[S&L Price]]","v":0}]
[null,null,69,"A Look at World History",1,"The Middle Ages","Library Bound Book",null,"978-1-5382-4140-0",{"$f":"HYPERLINK(\"https://www.garethstevens.com/\"&Table1[[#This Row],[ISBN]],\"Weblink\")","v":"Weblink"},2020,"August 2019","Library","6.500 X 9.125","Author","Marie Roesser",null,null,null,null,"J",null,"Grade 2","Grade 3 - 6","The Middles Ages aren't just an uninteresting period of history trapped between ancient times and the Renaissance, as the name suggests. It's 1,000 years of fascinating historical events, including the Crusades, the Black Death, and the longest war that has ever been fought. This comprehensible book takes young historians on the journey from the beginning of medieval times to the end. Maps, historical artwork, and a timeline help readers understand the essential moments of the Middle Ages.","English",26.6,19.95,"940.1--dc23","32 pp.",{"$f":"Table1[[#This Row],[QTY]]*Table1[[#This Row],['# Books]]","v":0},{"$f":"Table1[[#This Row],[QTY]]*Table1[[#This Row],[S&L Price]]","v":0}]
[null,null,69,"A Look at World History",1,"The Renaissance","eBook",null,"978-1-5382-4149-3",{"$f":"HYPERLINK(\"https://www.garethstevens.com/\"&Table1[[#This Row],[ISBN]],\"Weblink\")","v":"Weblink"},2020,"August 2019",null,null,"Author","Marie Roesser",null,null,null,null,"K",null,"Grade 2","Grade 3 - 6","\"Renaissance\" means \"rebirth\" in French. The Renaissance period of European history is aptly named because people had a rebirth, or renewed, interest in the ideas of ancient Greeks and Romans. This led to a new age of science and art. Readers will learn about the many aspects of the Renaissance as well as the prominent figures of this era, including Nicolaus Copernicus, Leonardo da Vinci, and others. A timeline helps summarize the crucial dates of the Renaissance while stunning images convey the scope of the period in splendid detail.","English",26.6,19.95,"940.2/1--dc23","32 pp.",{"$f":"Table1[[#This Row],[QTY]]*Table1[[#This Row],['# Books]]","v":0},{"$f":"Table1[[#This Row],[QTY]]*Table1[[#This Row],[S&L Price]]","v":0}]
[null,null,68,"A Look at Nature's Cycles",6,"A Look at Nature's Cycles","Library Set",null,"978-1-5382-4157-8",{"$f":"HYPERLINK(\"https://www.garethstevens.com/\"&Table1[[#This Row],[ISBN]],\"Weblink\")","v":"Weblink"},2020,"August 2019","Library","6.500 X 9.125",null,null,null,null,null,null,null,null,"Grade 2","Grade 3 - 6","In order to explain the many intricate processes on Earth, scientists often create models. Whether it's how water moves through the Earth, its bodies of water, and the atmosphere, or how energy moves throughout an ecosystem, these models help students understand the world around them. This set gives a simple overview of food chains and webs, the carbon cycle, cycles in space, and others, for struggling readers in need of extra help in science class. With helpful diagrams and curriculum-correlated text, this set is a must-have for schools and libraries. Features include: A low reading level makes upper elementary concepts available to struggling readers. Provides a succinct review for test or class preparation. Supports several of the Next Generation Science Standards.","English",159.6,119.7,null,"32 pp.",{"$f":"Table1[[#This Row],[QTY]]*Table1[[#This Row],['# Books]]","v":0},{"$f":"Table1[[#This Row],[QTY]]*Table1[[#This Row],[S&L Price]]","v":0}]
[null,null,68,"A Look at Nature's Cycles",1,"The Carbon Cycle","Library Bound Book",null,"978-1-5382-4112-7",{"$f":"HYPERLINK(\"https://www.garethstevens.com/\"&Table1[[#This Row],[ISBN]],\"Weblink\")","v":"Weblink"},2020,"August 2019","Library","6.500 X 9.125","Author","Bray Jacobson",null,null,null,null,"J",null,"Grade 2","Grade 3 - 6","Life on Earth depends on carbon. In fact, about 18.5 percent of a human body's mass is carbon. How carbon is taking in and given off through animals' breathing, the burning of fossil fuels, and more can be shown in the model known as the carbon cycle. Though this concept can be confusing, all readers have a chance to understand this concept through the text and simple diagrams in this book. Both struggling readers and those looking for review can find the most important components and vocabulary of the carbon cycle in low-level, accessible text.","English",26.6,19.95,"577.144--dc23","32 pp.",{"$f":"Table1[[#This Row],[QTY]]*Table1[[#This Row],['# Books]]","v":0},{"$f":"Table1[[#This Row],[QTY]]*Table1[[#This Row],[S&L Price]]","v":0}]
[null,null,68,"A Look at Nature's Cycles",1,"The Oxygen Cycle","eBook",null,"978-1-5382-4121-9",{"$f":"HYPERLINK(\"https://www.garethstevens.com/\"&Table1[[#This Row],[ISBN]],\"Weblink\")","v":"Weblink"},2020,"August 2019",null,null,"Author","Santana Hunt",null,null,null,null,"J",null,"Grade 2","Grade 3 - 6","The movement of oxygen from product of photosynthesis, through the human system, water, and Earth's atmosphere is a scientific model called the oxygen cycle. And it's essential for life on Earth to continue. Through accessible language and full-color diagrams and photographs, this book explains an important natural cycle to readers of all levels, particularly those struggling to understand a standard text book. Fact boxes and an extended glossary allow for the inclusion of the most important science vocabulary so all readers have the ability to understand, speak, and write about the topic.","English",26.6,19.95,"551.51/12--dc23","32 pp.",{"$f":"Table1[[#This Row],[QTY]]*Table1[[#This Row],['# Books]]","v":0},{"$f":"Table1[[#This Row],[QTY]]*Table1[[#This Row],[S&L Price]]","v":0}]
[null,null,68,"A Look at Nature's Cycles",1,"The Water Cycle","eBook",null,"978-1-5382-4125-7",{"$f":"HYPERLINK(\"https://www.garethstevens.com/\"&Table1[[#This Row],[ISBN]],\"Weblink\")","v":"Weblink"},2020,"August 2019",null,null,"Author","Santana Hunt",null,null,null,null,"J",null,"Grade 2","Grade 3 - 6","Understanding the water cycle provides a solid foundation for comprehending weather and even some climate change topics. It's also a part of many elementary science curricula and important for everyone to understand, even struggling readers. This book aims to bring all learners up to speed on the basics of the water cycle, from precipitation to evaporation, and includes fact boxes to provide more vocabulary and concept context. Diagrams and full-color photographs complement the low-level text and simply stated science information.","English",26.6,19.95,"551.48--dc23","32 pp.",{"$f":"Table1[[#This Row],[QTY]]*Table1[[#This Row],['# Books]]","v":0},{"$f":"Table1[[#This Row],[QTY]]*Table1[[#This Row],[S&L Price]]","v":0}]
[null,null,73,"Motorsports Maniacs",1,"Demolition Derby","eBook",null,"978-1-5382-4081-6",{"$f":"HYPERLINK(\"https://www.garethstevens.com/\"&Table1[[#This Row],[ISBN]],\"Weblink\")","v":"Weblink"},2020,"August 2019",null,null,"Author","Kate Mikoley",4.4000000000000004,0.5,null,null,"J",null,"Grade 1 - 2","Grade 3 - 6","For some, the fair brings to mind images of rickety rides, fried foods, and carnival games. For others, it's all about crashing cars. Readers of this engaging volume learn about demolition derbies. They'll be excited by the crazy competitions in which drivers ram their cars into others until a single vehicle is left running. Accessible text and easy-to-digest fact boxes are paired with closely correlated photographs.","English",26.6,19.95,"796.7--dc23","32 pp.",{"$f":"Table1[[#This Row],[QTY]]*Table1[[#This Row],['# Books]]","v":0},{"$f":"Table1[[#This Row],[QTY]]*Table1[[#This Row],[S&L Price]]","v":0}]
[null,null,73,"Motorsports Maniacs",1,"Monster Trucks","Library Bound Book",null,"978-1-5382-4092-2",{"$f":"HYPERLINK(\"https://www.garethstevens.com/\"&Table1[[#This Row],[ISBN]],\"Weblink\")","v":"Weblink"},2020,"August 2019","Library","6.500 X 9.125","Author","Kate Mikoley",4.5,0.5,null,null,"J",null,"Grade 1 - 2","Grade 3 - 6","What's more exciting than big trucks driving on bumpy terrain and performing jaw-dropping stunts? Not much! Readers of this stimulating book learn about monster trucks, from the big tires to the drivers who compete in monster truck shows. Colorful photographs are paired with engaging and accessible text, holding the attention of readers of all ages and levels. High-interest subject matter and thrilling content combine to make a unique volume, sure to be a hit among young readers.","English",26.6,19.95,"629.223'2--dc23","32 pp.",{"$f":"Table1[[#This Row],[QTY]]*Table1[[#This Row],['# Books]]","v":0},{"$f":"Table1[[#This Row],[QTY]]*Table1[[#This Row],[S&L Price]]","v":0}]
[null,null,73,"Motorsports Maniacs",1,"Truck and Tractor Pulls","eBook",null,"978-1-5382-4101-1",{"$f":"HYPERLINK(\"https://www.garethstevens.com/\"&Table1[[#This Row],[ISBN]],\"Weblink\")","v":"Weblink"},2020,"August 2019",null,null,"Author","Kate Mikoley",4.5,0.5,null,null,"J",null,"Grade 1 - 2","Grade 3 - 6","Trucks and tractors have a lot of practical purposes, but they also have some fun ones. Readers of this thrilling volume will learn all about the exciting events that happen at truck and tractor pulls. Engaging text is simplified into accessible, easy-to-digest sections, while eye-catching photographs help hold the attention of readers of many ages and levels. This high-interest volume is perfect for those looking to learn about an activity that is new to them, as well as those already familiar with this fun motorsport.","English",26.6,19.95,"796.7--dc23","32 pp.",{"$f":"Table1[[#This Row],[QTY]]*Table1[[#This Row],['# Books]]","v":0},{"$f":"Table1[[#This Row],[QTY]]*Table1[[#This Row],[S&L Price]]","v":0}]
[null,null,80,"Fun Fact File: World Wonders!",1,"20 Fun Facts About the Empire State Building","Library Bound Book",null,"978-1-5382-3768-7",{"$f":"HYPERLINK(\"https://www.garethstevens.com/\"&Table1[[#This Row],[ISBN]],\"Weblink\")","v":"Weblink"},2020,"August 2019","Library","8.500 X 8.500","Author","Emily Mahoney",5.3,0.5,null,null,"L",null,"Grade 2 - 3","Grade 2 - 5","Have you ever been to New York City and seen the Empire State Building? This beautiful skyscraper is known as one of the most iconic buildings in the world. Details about its construction, early days, and stories about interesting and unique events that took place here delight and engage, and graphic organizers and eye-catching images draw in emerging readers. Readers will aspire to see this architectural wonder in person after enjoying this book.","English",25.25,18.95,"974.7/1--dc23","32 pp.",{"$f":"Table1[[#This Row],[QTY]]*Table1[[#This Row],['# Books]]","v":0},{"$f":"Table1[[#This Row],[QTY]]*Table1[[#This Row],[S&L Price]]","v":0}]
[null,null,80,"Fun Fact File: World Wonders!",1,"20 Fun Facts About the Empire State Building","eBook",null,"978-1-5382-3769-4",{"$f":"HYPERLINK(\"https://www.garethstevens.com/\"&Table1[[#This Row],[ISBN]],\"Weblink\")","v":"Weblink"},2020,"August 2019",null,null,"Author","Emily Mahoney",5.3,0.5,null,null,"L",null,"Grade 2 - 3","Grade 2 - 5","Have you ever been to New York City and seen the Empire State Building? This beautiful skyscraper is known as one of the most iconic buildings in the world. Details about its construction, early days, and stories about interesting and unique events that took place here delight and engage, and graphic organizers and eye-catching images draw in emerging readers. Readers will aspire to see this architectural wonder in person after enjoying this book.","English",25.25,18.95,"974.7/1--dc23","32 pp.",{"$f":"Table1[[#This Row],[QTY]]*Table1[[#This Row],['# Books]]","v":0},{"$f":"Table1[[#This Row],[QTY]]*Table1[[#This Row],[S&L Price]]","v":0}]
[null,null,80,"Fun Fact File: World Wonders!",1,"20 Fun Facts About the Hanging Gardens of Babylon","eBook",null,"978-1-5382-3781-6",{"$f":"HYPERLINK(\"https://www.garethstevens.com/\"&Table1[[#This Row],[ISBN]],\"Weblink\")","v":"Weblink"},2020,"August 2019",null,null,"Author","Emily Mahoney",5.4,0.5,null,null,"N",null,"Grade 2 - 3","Grade 2 - 5","The Hanging Gardens of Babylon may not actually contain hanging plants, but they do contain mysteries all their own, including speculation that they never even existed. Readers travel back in time to learn about this fascinating world wonder through interesting facts, historical images, and helpful graphic organizers. Accessible text emphasizes the history of this fascinating wonder as well as the civilization that created it. This book's fun fact format appeals to struggling readers as well.","English",25.25,18.95,"935/.5--dc23","32 pp.",{"$f":"Table1[[#This Row],[QTY]]*Table1[[#This Row],['# Books]]","v":0},{"$f":"Table1[[#This Row],[QTY]]*Table1[[#This Row],[S&L Price]]","v":0}]
[null,null,80,"Fun Fact File: World Wonders!",1,"20 Fun Facts About Easter Island","Library Bound Book",null,"978-1-4824-0447-0",{"$f":"HYPERLINK(\"https://www.garethstevens.com/\"&Table1[[#This Row],[ISBN]],\"Weblink\")","v":"Weblink"},2014,"January 2014","Library","8.500 X 8.500","Author","Heather Moore Niver",5,0.5,28,null,"M","900L","Grade 2 - 3","Grade 2 - 5","On an island in the Pacific Ocean more than 1,000 miles from the nearest habitable location, ancient people constructed hundreds of enormous stone heads. No one is sure exactly how they moved the giant statues into place. In fact, no one really knows how people got there in the first place! Readers are sure to enjoy learning about the mystery surrounding Easter Island. Colorful images of the moai, flora, fauna, and more help transport readers to this amazing world wonder.","English",26.25,19.690000000000001,"996.18","32 pp.",{"$f":"Table1[[#This Row],[QTY]]*Table1[[#This Row],['# Books]]","v":0},{"$f":"Table1[[#This Row],[QTY]]*Table1[[#This Row],[S&L Price]]","v":0}]
[null,null,80,"Fun Fact File: World Wonders!",1,"20 Fun Facts About Machu Picchu","Interactive eBook","Flash","978-1-4824-0454-8",{"$f":"HYPERLINK(\"https://www.garethstevens.com/\"&Table1[[#This Row],[ISBN]],\"Weblink\")","v":"Weblink"},2014,"January 2014",null,null,"Author","Janey Levy",null,null,28,null,"M",null,"Grade 2 - 3","Grade 2 - 5","Hundreds of years ago, the Inca of South America created an influential and lasting culture. They constructed miles of highways and bridges. Perhaps most fascinating is the mountain city of Macchu Pichu with its many technological marvels. Even today, experts are still amazed by the builders’ techniques and accomplishments. Inside this volume, educational and engaging text is paired with illustrations and color photographs. Readers will delight in learning about this rare mountain treasure.","English",33.25,24.95,"985.019","32 pp.",{"$f":"Table1[[#This Row],[QTY]]*Table1[[#This Row],['# Books]]","v":0},{"$f":"Table1[[#This Row],[QTY]]*Table1[[#This Row],[S&L Price]]","v":0}]
[null,null,80,"Fun Fact File: World Wonders!",1,"20 Fun Facts About Stonehenge","Library Bound Book",null,"978-1-4824-0457-9",{"$f":"HYPERLINK(\"https://www.garethstevens.com/\"&Table1[[#This Row],[ISBN]],\"Weblink\")","v":"Weblink"},2014,"January 2014","Library","8.500 X 8.500","Author","Michael Sabatino",null,null,30,null,"N","890L","Grade 2 - 3","Grade 2 - 5","The mysterious megaliths of Stonehenge have long intrigued and mystified people. Even today, opinions on the use and building of Stonehenge still differ. Most agree, however, that Stonehenge is one of the world’s greatest ancient wonders. The detailed history and archaeological evidence provided by this book are sure to engage and entertain readers, and carefully chosen photographs reinforce the text. Illustrations and graphic organizers help readers understand this absorbing topic in even more depth.","English",26.25,19.690000000000001,"936.2","32 pp.",{"$f":"Table1[[#This Row],[QTY]]*Table1[[#This Row],['# Books]]","v":0},{"$f":"Table1[[#This Row],[QTY]]*Table1[[#This Row],[S&L Price]]","v":0}]
[null,null,80,"Fun Fact File: World Wonders!",1,"20 Fun Facts About the Colosseum","Interactive eBook","Flash","978-1-4824-0464-7",{"$f":"HYPERLINK(\"https://www.garethstevens.com/\"&Table1[[#This Row],[ISBN]],\"Weblink\")","v":"Weblink"},2014,"January 2014",null,null,"Author","Drew Nelson",null,null,28,null,"M",null,"Grade 2 - 3","Grade 2 - 5","For thousands of years, the Roman Colosseum has been a source of entertainment and awe. Ancient Romans flocked to the amphitheater to see gladiatorial fights, exotic animals, and even naval battles. Although it fell into disuse, today people from around the world come to Rome to see this amazing historic structure in person. The colorful and in-depth photographs take readers around and inside the Colosseum, and illustrations and charts help readers make the most of their reading experience.","English",33.25,24.95,"937.6","32 pp.",{"$f":"Table1[[#This Row],[QTY]]*Table1[[#This Row],['# Books]]","v":0},{"$f":"Table1[[#This Row],[QTY]]*Table1[[#This Row],[S&L Price]]","v":0}]
[null,null,80,"Fun Fact File: World Wonders!",1,"20 Fun Facts About the Great Wall of China","eBook",null,"978-1-4824-0473-9",{"$f":"HYPERLINK(\"https://www.garethstevens.com/\"&Table1[[#This Row],[ISBN]],\"Weblink\")","v":"Weblink"},2014,"January 2014",null,null,"Author","Therese M. Shea",null,null,28,null,"M","880L","Grade 2 - 3","Grade 2 - 5","The Great Wall of China has been an important symbol of Chinese culture for centuries. While it once served as a form of protection from enemies, today the Great Wall is one of the world’s most thrilling ancient tourist attractions. The informative text is paired with vivid photographs of the different sections of the wall, as well as helpful illustrations and graphic organizers.","English",26.25,19.690000000000001,"931","32 pp.",{"$f":"Table1[[#This Row],[QTY]]*Table1[[#This Row],['# Books]]","v":0},{"$f":"Table1[[#This Row],[QTY]]*Table1[[#This Row],[S&L Price]]","v":0}]
[null,null,84,"Amazing Origami",1,"Aliens","eBook",null,"978-1-5382-4172-1",{"$f":"HYPERLINK(\"https://www.garethstevens.com/\"&Table1[[#This Row],[ISBN]],\"Weblink\")","v":"Weblink"},2020,"August 2019",null,null,"Author","Joe Fullman",null,null,null,null,"M",null,"Grade 2 - 3","Grade 2 - 5","Strange lights zip around the sky, and an odd spacecraft touches down. The door opens and out comes an alien! Young origami artists' imaginations will be sparked by the creative paper creatures and crafts in this lively take on the ancient art of paper folding. Each project is rated for difficulty, so there's a project for the beginner as well as the pro. Every reader can become an origami authority thanks to the simple, numbered directions and accompanying how-to photographs.","English",26.6,19.95,"736'.982--dc23","32 pp.",{"$f":"Table1[[#This Row],[QTY]]*Table1[[#This Row],['# Books]]","v":0},{"$f":"Table1[[#This Row],[QTY]]*Table1[[#This Row],[S&L Price]]","v":0}]
[null,null,84,"Amazing Origami",1,"Witches and Wizards","Library Bound Book",null,"978-1-5382-4177-6",{"$f":"HYPERLINK(\"https://www.garethstevens.com/\"&Table1[[#This Row],[ISBN]],\"Weblink\")","v":"Weblink"},2020,"August 2019","Library","8.500 X 11.00","Author","Joe Fullman",null,null,null,null,"M",null,"Grade 2 - 3","Grade 2 - 5","Witches and wizards aren't just for Halloween anymore. They're the stars of books, television shows, and Hollywood movies. Now, through this engaging volume, perfect for the visual learner, wizards and witches are a fascinating focus of art, too. Young artists will love following the step-by-step directions, which are a combination of comprehensible guidelines and full-color photographs. They'll be amazed how a few basic techniques can transform plain paper into an eerie work of art.","English",26.6,19.95,"736'.982--dc23","32 pp.",{"$f":"Table1[[#This Row],[QTY]]*Table1[[#This Row],['# Books]]","v":0},{"$f":"Table1[[#This Row],[QTY]]*Table1[[#This Row],[S&L Price]]","v":0}]
[null,null,84,"Amazing Origami",1,"Zombies and the Undead","Library Bound Book",null,"978-1-5382-4178-3",{"$f":"HYPERLINK(\"https://www.garethstevens.com/\"&Table1[[#This Row],[ISBN]],\"Weblink\")","v":"Weblink"},2020,"August 2019","Library","8.500 X 11.00","Author","Joe Fullman",null,null,null,null,"M",null,"Grade 2 - 3","Grade 2 - 5","Whether it's because of their gross, rotting skin or peculiar hunger for brains, zombies have remained in the spotlight as the favorite creepy creature of popular culture. With just a few colorful pieces of paper and this high-interest book, origami artists can make their own army of the undead with the help of simple directions supported by vivid photographs of timeless techniques. They'll also increase their skill level with each project they complete and be able to employ the methods they learn in future origami undertakings.","English",26.6,19.95,"736'.982--dc23","32 pp.",{"$f":"Table1[[#This Row],[QTY]]*Table1[[#This Row],['# Books]]","v":0},{"$f":"Table1[[#This Row],[QTY]]*Table1[[#This Row],[S&L Price]]","v":0}]
[null,null,84,"Amazing Origami",1,"Meat-Eating Dinosaurs","eBook",null,"978-1-5382-3463-1",{"$f":"HYPERLINK(\"https://www.garethstevens.com/\"&Table1[[#This Row],[ISBN]],\"Weblink\")","v":"Weblink"},2019,"January 2019",null,null,"Author","Joe Fullman",null,null,null,null,"L",null,"Grade 2 - 3","Grade 2 - 5","Dinosaurs are a high-interest topic for readers of all ages, and meat-eating dinosaurs are often considered the most ferocious. This exciting volume teaches readers to make their own versions of these fierce creatures using the art of origami. Along the way, they'll learn some fun facts about each animal. Colorful images paired with easy-to-follow, step-by-step instructions guide readers in crafting their own works of art. Each project is ranked from easy to hard, ensuring readers can easily find the projects that work best for their skill level.","English",26.6,19.95,"736'.982--dc23","32 pp.",{"$f":"Table1[[#This Row],[QTY]]*Table1[[#This Row],['# Books]]","v":0},{"$f":"Table1[[#This Row],[QTY]]*Table1[[#This Row],[S&L Price]]","v":0}]
[null,null,85,"Amazing Origami",1,"Arctic Origami","Library Bound Book",null,"978-1-4824-5922-7",{"$f":"HYPERLINK(\"https://www.garethstevens.com/\"&Table1[[#This Row],[ISBN]],\"Weblink\")","v":"Weblink"},2017,"January 2017","Library","8.500 X 11.00","Author","Joe Fullman",null,null,null,null,"L",null,"Grade 2 - 3","Grade 2 - 5","Making a polar bear out of paper might seem difficult at first. But through the ancient art of origami, readers are able to bring this white-furred bear to life with just one piece of paper! In this book, readers can work step-by-step through creating arctic animals out of paper. An introduction including common terms and origami folds helps readers get started in making an arctic fox, penguin, and narwhal. Projects range from easy to hard, but each contains full-color photographs guiding readers through each step, allowing them to complete the project whether they’re seasoned origamists or new to the craft.","English",26.6,19.95,"736.982--dc23","32 pp.",{"$f":"Table1[[#This Row],[QTY]]*Table1[[#This Row],['# Books]]","v":0},{"$f":"Table1[[#This Row],[QTY]]*Table1[[#This Row],[S&L Price]]","v":0}]
[null,null,85,"Amazing Origami",1,"Arctic Origami","eBook",null,"978-1-4824-5923-4",{"$f":"HYPERLINK(\"https://www.garethstevens.com/\"&Table1[[#This Row],[ISBN]],\"Weblink\")","v":"Weblink"},2017,"January 2017",null,null,"Author","Joe Fullman",null,null,null,null,"L",null,"Grade 2 - 3","Grade 2 - 5","Making a polar bear out of paper might seem difficult at first. But through the ancient art of origami, readers are able to bring this white-furred bear to life with just one piece of paper! In this book, readers can work step-by-step through creating arctic animals out of paper. An introduction including common terms and origami folds helps readers get started in making an arctic fox, penguin, and narwhal. Projects range from easy to hard, but each contains full-color photographs guiding readers through each step, allowing them to complete the project whether they’re seasoned origamists or new to the craft.","English",26.6,19.95,"736.982--dc23","32 pp.",{"$f":"Table1[[#This Row],[QTY]]*Table1[[#This Row],['# Books]]","v":0},{"$f":"Table1[[#This Row],[QTY]]*Table1[[#This Row],[S&L Price]]","v":0}]
[null,null,85,"Amazing Origami",1,"Ocean Origami","Library Bound Book",null,"978-1-4824-5934-0",{"$f":"HYPERLINK(\"https://www.garethstevens.com/\"&Table1[[#This Row],[ISBN]],\"Weblink\")","v":"Weblink"},2017,"January 2017","Library","8.500 X 11.00","Author","Joe Fullman",null,null,null,null,"L",null,"Grade 2 - 3","Grade 2 - 5","Blue whales and squid aren’t usually seen on a trip to the beach. Using the ancient art of paper folding, readers can have these and other ocean animals nearby any time they want! Whether new to origami or an old pro, readers can choose a project appropriate for their skill level. A brief introduction provides the folds readers need to know and each project is ranked easy, medium, or hard to further help them choose the right one to start with. Step-by-step instructions accompanied by full-color photographs guide readers through each craft for hours of crafting fun.","English",26.6,19.95,"736.982--dc23","32 pp.",{"$f":"Table1[[#This Row],[QTY]]*Table1[[#This Row],['# Books]]","v":0},{"$f":"Table1[[#This Row],[QTY]]*Table1[[#This Row],[S&L Price]]","v":0}]
[null,null,85,"Amazing Origami",1,"Woodland Origami","eBook",null,"978-1-4824-5943-2",{"$f":"HYPERLINK(\"https://www.garethstevens.com/\"&Table1[[#This Row],[ISBN]],\"Weblink\")","v":"Weblink"},2017,"January 2017",null,null,"Author","Joe Fullman",null,null,null,null,"L",null,"Grade 2 - 3","Grade 2 - 5","Foxes, squirrels, and raccoons are just some of the animals found in the woodland habitat. Usually fur-covered, these animals are just as cute when made out of paper. Readers are introduced to key terms and common folds in order to complete several origami projects in this book. Full-color photographs accompany simple step-by-step instructions to guide readers as they create paper bats, mice, and other woodland animals. Rated easy, medium, or hard, the crafts are designed to help both new and seasoned origamists enjoy this ancient art.","English",26.6,19.95,"736.982--dc23","32 pp.",{"$f":"Table1[[#This Row],[QTY]]*Table1[[#This Row],['# Books]]","v":0},{"$f":"Table1[[#This Row],[QTY]]*Table1[[#This Row],[S&L Price]]","v":0}]
[null,null,85,"Amazing Origami",1,"Floating Origami","eBook",null,"978-1-4824-4168-0",{"$f":"HYPERLINK(\"https://www.garethstevens.com/\"&Table1[[#This Row],[ISBN]],\"Weblink\")","v":"Weblink"},2016,"January 2016",null,null,"Author","Joe Fullman",null,null,null,null,"L",null,"Grade 2 - 3","Grade 2 - 5","For many, the fun of origami projects is in the folding. However, the crafts in this book provide tons of fun even after they're complete; they float! Use an origami canoe to carry a message to the middle of a lake, or play with a paper duck in the bathtub. Readers follow a series of steps to transform a square of paper into many cool floating origami creations, including a lotus flower. An introductory section highlights the basic folds and terms readers need to know and full-color photographs add further guidance to each step.","English",26.6,19.95,"736'.982--dc23","32 pp.",{"$f":"Table1[[#This Row],[QTY]]*Table1[[#This Row],['# Books]]","v":0},{"$f":"Table1[[#This Row],[QTY]]*Table1[[#This Row],[S&L Price]]","v":0}]
[null,null,85,"Amazing Origami",1,"Flying Origami","Library Bound Book",null,"978-1-4824-4157-4",{"$f":"HYPERLINK(\"https://www.garethstevens.com/\"&Table1[[#This Row],[ISBN]],\"Weblink\")","v":"Weblink"},2016,"January 2016","Library","8.500 X 11.00","Author","Joe Fullman",null,null,null,null,"L",null,"Grade 2 - 3","Grade 2 - 5","Most people have tried to make a paper airplane at one time or another. There are many other flying creations one can make out of paper. From the traditional flapping crane to a high-flying helicopter, the origami crafts in this book will put simple paper airplanes to shame. Step-by-step instructions guide readers through each project and include full-color images of the instructions as well as the finished product. Even experienced origamists will enjoy new ways to fashion an airplane, flying heart, kite, and butterfly.","English",26.6,19.95,"736'.982--dc23","32 pp.",{"$f":"Table1[[#This Row],[QTY]]*Table1[[#This Row],['# Books]]","v":0},{"$f":"Table1[[#This Row],[QTY]]*Table1[[#This Row],[S&L Price]]","v":0}]
[null,null,85,"Amazing Origami",1,"Origami Magic","eBook",null,"978-1-4824-4166-6",{"$f":"HYPERLINK(\"https://www.garethstevens.com/\"&Table1[[#This Row],[ISBN]],\"Weblink\")","v":"Weblink"},2016,"January 2016",null,null,"Author","Joe Fullman",null,null,null,null,"L",null,"Grade 2 - 3","Grade 2 - 5","While the best magicians are said to never reveal their secrets, magic-themed origami is accessible to any reader who wants to amaze friends and family with both sleights of hand and cleverly folded paper. Including an introduction to simple origami folds and terms, this book includes step-by-step instructions for a magic wand, magic cup, water balloon, and more. Full-color photographs accompany each step and showcase the finished product of each project. Each craft is labeled easy, medium, or challenging, making this book a great addition to the library of both new and experienced origamists.","English",26.6,19.95,"736'.982--dc23","32 pp.",{"$f":"Table1[[#This Row],[QTY]]*Table1[[#This Row],['# Books]]","v":0},{"$f":"Table1[[#This Row],[QTY]]*Table1[[#This Row],[S&L Price]]","v":0}]
[null,null,85,"Amazing Origami",1,"Origami Holidays","Library Bound Book",null,"978-1-4824-2200-9",{"$f":"HYPERLINK(\"https://www.garethstevens.com/\"&Table1[[#This Row],[ISBN]],\"Weblink\")","v":"Weblink"},2015,"January 2015","Library","8.500 X 11.00","Author","Catherine Ard",null,null,24,null,"L",null,"Grade 2 - 3","Grade 2 - 5","Holidays are some of the most creative times of the year. Young artists often want to celebrate using their creations. This high-interest book will allow readers and artists alike to start their festivities with the Japanese paper folding art of origami. Cute Easter chicks, spooky Halloween skulls, and clever Christmas stockings are some of the inventive projects they'll want to try. They'll learn the basic folds and techniques of paper folding and build upon their skills until they can complete the most challenging project. Origami is for everyone!","English",26.6,19.95,"736.982","32 pp.",{"$f":"Table1[[#This Row],[QTY]]*Table1[[#This Row],['# Books]]","v":0},{"$f":"Table1[[#This Row],[QTY]]*Table1[[#This Row],[S&L Price]]","v":0}]
[null,null,85,"Amazing Origami",1,"Origami on the Move","eBook",null,"978-1-4824-2272-6",{"$f":"HYPERLINK(\"https://www.garethstevens.com/\"&Table1[[#This Row],[ISBN]],\"Weblink\")","v":"Weblink"},2015,"January 2015",null,null,"Author","Catherine Ard",null,null,24,null,"L",null,"Grade 2 - 3","Grade 2 - 5","Imagine turning a flat piece of paper into a car, bus, boat, or another vehicle. It's not that hard when an origami artist has this easy-to-follow guide at their fingertips. Each activity is presented with introductory text and numbered instructions supported by visual aids. There are even different levels of activities, so readers can choose their challenge. These hands-on projects will attract and motivate all readers and inspire them to explore more about the art of paper folding.","English",26.6,19.95,"736.982","32 pp.",{"$f":"Table1[[#This Row],[QTY]]*Table1[[#This Row],['# Books]]","v":0},{"$f":"Table1[[#This Row],[QTY]]*Table1[[#This Row],[S&L Price]]","v":0}]
[null,null,85,"Amazing Origami",1,"Origami Planes","Library Bound Book",null,"978-1-4824-2203-0",{"$f":"HYPERLINK(\"https://www.garethstevens.com/\"&Table1[[#This Row],[ISBN]],\"Weblink\")","v":"Weblink"},2015,"January 2015","Library","8.500 X 11.00","Author","Catherine Ard",null,null,24,null,"L",null,"Grade 2 - 3","Grade 2 - 5","The angles and curves of aircraft are paramount components in their flight. Airplane enthusiasts will love the action photographs of their favorite planes and then creating their own with some paper and the art of origami. After learning just a few kinds of folds, they can produce their own models, including an orbiter, a stunt plane, and a spy aircraft. Accessible directions accompanied by labeled illustrations make this book a fantastic introduction to the revered Japanese art form.","English",26.6,19.95,"736.982","32 pp.",{"$f":"Table1[[#This Row],[QTY]]*Table1[[#This Row],['# Books]]","v":0},{"$f":"Table1[[#This Row],[QTY]]*Table1[[#This Row],[S&L Price]]","v":0}]
[null,null,85,"Amazing Origami",1,"Origami Birds and Butterflies","eBook",null,"978-1-4339-9647-4",{"$f":"HYPERLINK(\"https://www.garethstevens.com/\"&Table1[[#This Row],[ISBN]],\"Weblink\")","v":"Weblink"},2014,"August 2013",null,null,"Author","Lisa Miles",null,null,24,20,"L",null,"Grade 2 - 3","Grade 2 - 5","Beautiful origami birds and butterflies can be more than just short art projects—they can be lovely decorations, too! Readers will love creating their own art through step-by-step instructions with helpful pictures. An overview to common folds and origami techniques will introduce readers to the art of paper folding before they begin creating swans, doves, and butterflies out of colored paper. Full-color photographs of each delicate creature further draw readers in while they learn about each in accompanying fact boxes.","English",27.6,20.7,"736","32 pp.",{"$f":"Table1[[#This Row],[QTY]]*Table1[[#This Row],['# Books]]","v":0},{"$f":"Table1[[#This Row],[QTY]]*Table1[[#This Row],[S&L Price]]","v":0}]
[null,null,85,"Amazing Origami",1,"Origami Farm Animals","eBook",null,"978-1-4339-9655-9",{"$f":"HYPERLINK(\"https://www.garethstevens.com/\"&Table1[[#This Row],[ISBN]],\"Weblink\")","v":"Weblink"},2014,"August 2013",null,null,"Author","Lisa Miles",null,null,24,20,"L",null,"Grade 2 - 3","Grade 2 - 5","Farm animals are some of the most familiar members of the animal kingdom. They’re also fun to make using the art of origami! Readers will learn basic folding techniques and common bases while creating ducks, pigs, roosters, and more out of paper. Fun tidbits about each animal accompany the step-by-step instructions and colorful photographs of each real animal—and its origami lookalike. Readers will progress from easy to hard folding projects and amaze their friends and family with their self-supporting paper art!","English",27.6,20.7,"736","32 pp.",{"$f":"Table1[[#This Row],[QTY]]*Table1[[#This Row],['# Books]]","v":0},{"$f":"Table1[[#This Row],[QTY]]*Table1[[#This Row],[S&L Price]]","v":0}]
[null,null,85,"Amazing Origami",1,"Origami Wild Animals","Library Bound Book",null,"978-1-4339-9664-1",{"$f":"HYPERLINK(\"https://www.garethstevens.com/\"&Table1[[#This Row],[ISBN]],\"Weblink\")","v":"Weblink"},2014,"August 2013","Library","8.500 X 11.00","Author","Lisa Miles",null,null,24,20,"L",null,"Grade 2 - 3","Grade 2 - 5","Wild animals have some cool physical characteristics. A giraffe’s long neck, a snake’s slithery body, and a panda’s black-and-white coat are all on display when readers create them using the folding techniques of origami! Including an introduction to basic folds and common paper-art bases, step-by-step instructions will guide readers through making origami wild animals. Pictures illustrate each step of the process so readers know just what to do. Ranked from easy to hard, the projects will engage readers with cool facts about each featured animal and amazing full-color photographs.","English",27.6,20.7,"736","32 pp.",{"$f":"Table1[[#This Row],[QTY]]*Table1[[#This Row],['# Books]]","v":0},{"$f":"Table1[[#This Row],[QTY]]*Table1[[#This Row],[S&L Price]]","v":0}]
[null,null,85,"Amazing Origami",1,"Origami Wild Animals","eBook",null,"978-1-4339-9667-2",{"$f":"HYPERLINK(\"https://www.garethstevens.com/\"&Table1[[#This Row],[ISBN]],\"Weblink\")","v":"Weblink"},2014,"August 2013",null,null,"Author","Lisa Miles",null,null,24,20,"L",null,"Grade 2 - 3","Grade 2 - 5","Wild animals have some cool physical characteristics. A giraffe’s long neck, a snake’s slithery body, and a panda’s black-and-white coat are all on display when readers create them using the folding techniques of origami! Including an introduction to basic folds and common paper-art bases, step-by-step instructions will guide readers through making origami wild animals. Pictures illustrate each step of the process so readers know just what to do. Ranked from easy to hard, the projects will engage readers with cool facts about each featured animal and amazing full-color photographs.","English",27.6,20.7,"736","32 pp.",{"$f":"Table1[[#This Row],[QTY]]*Table1[[#This Row],['# Books]]","v":0},{"$f":"Table1[[#This Row],[QTY]]*Table1[[#This Row],[S&L Price]]","v":0}]
[null,null,86,"How to Draw Zentangle® Art",1,"Drawing Zentangle® Nature","Library Bound Book",null,"978-1-5382-4205-6",{"$f":"HYPERLINK(\"https://www.garethstevens.com/\"&Table1[[#This Row],[ISBN]],\"Weblink\")","v":"Weblink"},2020,"August 2019","Library","8.500 X 11.00","Author","Jane Marbaix",null,null,null,null,"M",null,"Grade 3","Grade 3 - 5","The beauty of nature has inspired some of the world's greatest artwork. Now, with the help of Zentangle art, artists of all capabilities can create their own nature-themed masterpieces. This engaging volume uses colorful illustrations and concise step-by-step instructions to introduce readers to Zentangle patterns that combine to make beautiful works of art. Unique projects encourage readers to relax, stay focused, and find their own creativity. An increasingly popular method of drawing paired with the accessibility of these projects make for a high-interest book, sure to fly off the shelves.","English",26.6,19.95,"743'.83--dc23","32 pp.",{"$f":"Table1[[#This Row],[QTY]]*Table1[[#This Row],['# Books]]","v":0},{"$f":"Table1[[#This Row],[QTY]]*Table1[[#This Row],[S&L Price]]","v":0}]
[null,null,86,"How to Draw Zentangle® Art",1,"Drawing Zentangle® Wildlife","eBook",null,"978-1-5382-4225-4",{"$f":"HYPERLINK(\"https://www.garethstevens.com/\"&Table1[[#This Row],[ISBN]],\"Weblink\")","v":"Weblink"},2020,"August 2019",null,null,"Author","Jane Marbaix",null,null,null,null,"M",null,"Grade 3","Grade 3 - 5","Some would say that the most beautiful things are those found in the wild. This stimulating volume teaches young artists to capture that kind of beauty through one-of-a-kind art. Readers learn to use simple lines, dots, and shapes to create intricate Zentangle designs. Through concise step-by-step instructions, it becomes clear that these stunning and detailed designs aren't difficult to draw. Readers who lack confidence in their artistic abilities will be thrilled with the incredible masterpieces they make with the help of this guide.","English",26.6,19.95,"743.6--dc23","32 pp.",{"$f":"Table1[[#This Row],[QTY]]*Table1[[#This Row],['# Books]]","v":0},{"$f":"Table1[[#This Row],[QTY]]*Table1[[#This Row],[S&L Price]]","v":0}]
[null,null,86,"How to Draw Zentangle® Art",1,"Drawing Zentangle® Bugs and Butterflies","Library Bound Book",null,"978-1-5382-0843-4",{"$f":"HYPERLINK(\"https://www.garethstevens.com/\"&Table1[[#This Row],[ISBN]],\"Weblink\")","v":"Weblink"},2018,"August 2017","Library","8.500 X 11.00","Author, Illustrated by","Catherine Ard, Hannah Geddes",null,null,null,null,"M",null,"Grade 3","Grade 3 - 5","Billions of insects buzz, swoop, and crawl all over the world, but we rarely take the time to notice their bizarre beauty. This Zentangle® guide uses the strange shapes of bees, butterflies, stage beetles, and other bugs as the basis for beautiful designs. Step-by-step instructions help readers divide the outlines of these unusual creatures into smaller shapes. Readers learn basic Zentangle® patterns they can mix and match as they fill in their insects. They’ll use essential art techniques, such as shading, to make their creatures pop off the page. This therapeutic art form relaxes readers as they doodle unique creations. They’ll be thrilled as patterns build on each other to create intricate insects.","English",26.6,19.95,"741.201’9--dc23","32 pp.",{"$f":"Table1[[#This Row],[QTY]]*Table1[[#This Row],['# Books]]","v":0},{"$f":"Table1[[#This Row],[QTY]]*Table1[[#This Row],[S&L Price]]","v":0}]
[null,null,86,"How to Draw Zentangle® Art",1,"Drawing Zentangle® Fantasy Worlds","Library Bound Book",null,"978-1-5382-0717-8",{"$f":"HYPERLINK(\"https://www.garethstevens.com/\"&Table1[[#This Row],[ISBN]],\"Weblink\")","v":"Weblink"},2018,"August 2017","Library","8.500 X 11.00","Author, Illustrated by","Catherine Ard, Hannah Geddes",null,null,null,null,"M",null,"Grade 3","Grade 3 - 5","Dragons, fairies, unicorns, and other fantastical beasts come to life with the magic of Zentangle® in this detailed guide. Readers will master basic Zentangle® patterns they can mix and match to create unique mythical beasts. Up-close visuals break down dizzying patterns into simple parts. Step-by-step instructions help readers divide creature outlines into smaller shapes and fill them in with diverse designs. They'll learn how to use contrast and shading to make their fantasies pop off the page. This peaceful pastime results in elaborate works of art readers will cherish.","English",26.6,19.95,"741.201’9--dc23","32 pp.",{"$f":"Table1[[#This Row],[QTY]]*Table1[[#This Row],['# Books]]","v":0},{"$f":"Table1[[#This Row],[QTY]]*Table1[[#This Row],[S&L Price]]","v":0}]
[null,null,86,"How to Draw Zentangle® Art",1,"Drawing Zentangle® Holidays","eBook",null,"978-1-5382-0712-3",{"$f":"HYPERLINK(\"https://www.garethstevens.com/\"&Table1[[#This Row],[ISBN]],\"Weblink\")","v":"Weblink"},2018,"August 2017",null,null,"Author, Illustrated by","Catherine Ard, Hannah Geddes",null,null,null,null,"M",null,"Grade 3","Grade 3 - 5","Every holiday is full of special symbols and decorations, and this Zentangle® guide teaches readers how to bring design into the festivities. Step-by-step instructions help readers divide holiday shapes, such as jack-o-lanterns, Christmas trees, and Easter chicks, into smaller parts. Readers will learn basic Zentangle® designs they can mix and match in unique ways as they doodle each holiday symbol. Up-close visuals help readers master patterns in simple steps. This calming exercise is a perfect way to relax any time of year, and readers will love the elaborate decorative art they are able to create following these engaging instructions.","English",26.6,19.95,"741.201’9--dc23","32 pp.",{"$f":"Table1[[#This Row],[QTY]]*Table1[[#This Row],['# Books]]","v":0},{"$f":"Table1[[#This Row],[QTY]]*Table1[[#This Row],[S&L Price]]","v":0}]
[null,null,92,"Women Who Made History",1,"Activists and Leaders","eBook",null,"978-1-5382-4305-3",{"$f":"HYPERLINK(\"https://www.garethstevens.com/\"&Table1[[#This Row],[ISBN]],\"Weblink\")","v":"Weblink"},2020,"August 2019",null,null,"Author","Julia Adams",null,null,null,null,"U",null,"Grade 5","Grade 4 - 6","Women around the globe have made history through their activism and leadership. Through concise, but detailed biographies, readers of this inspiring volume can learn about some of these world-changing women. Colorful illustrations and captivating text introduce motivational figures readers may not be familiar with, and provide deeper insight on many they likely already know about, such as former presidential candidate Hillary Clinton. Featuring high-interest, historical content, this book is the perfect supplemental resource for any elementary social studies curriculum.","English",31.95,23.95,"920.72--dc23","48 pp.",{"$f":"Table1[[#This Row],[QTY]]*Table1[[#This Row],['# Books]]","v":0},{"$f":"Table1[[#This Row],[QTY]]*Table1[[#This Row],[S&L Price]]","v":0}]
[null,null,92,"Women Who Made History",1,"Writers and Artists","Library Bound Book",null,"978-1-5382-4310-7",{"$f":"HYPERLINK(\"https://www.garethstevens.com/\"&Table1[[#This Row],[ISBN]],\"Weblink\")","v":"Weblink"},2020,"August 2019","Library","6.500 X 9.125","Author","Julia Adams",null,null,null,null,"U",null,"Grade 5","Grade 4 - 6","Throughout history, women have made countless contributions to all forms of art. This informative volume introduces readers to female musicians, writers, painters, and performers from many different countries and cultures. With the help of beautiful illustrations and engaging text, the stories of these women are delivered with fascinating detail. Detailed biographies of artists, such as Mexican painter Frida Kahlo, will captivate readers and perhaps inspire them to become involved in art in their own ways. This stimulating text includes key historical content, making for an excellent resource to be paired with any elementary social studies curriculum.","English",31.95,23.95,"809'.89287--dc23","48 pp.",{"$f":"Table1[[#This Row],[QTY]]*Table1[[#This Row],['# Books]]","v":0},{"$f":"Table1[[#This Row],[QTY]]*Table1[[#This Row],[S&L Price]]","v":0}]
[null,null,92,"Women Who Made History",1,"Writers and Artists","eBook",null,"978-1-5382-4311-4",{"$f":"HYPERLINK(\"https://www.garethstevens.com/\"&Table1[[#This Row],[ISBN]],\"Weblink\")","v":"Weblink"},2020,"August 2019",null,null,"Author","Julia Adams",null,null,null,null,"U",null,"Grade 5","Grade 4 - 6","Throughout history, women have made countless contributions to all forms of art. This informative volume introduces readers to female musicians, writers, painters, and performers from many different countries and cultures. With the help of beautiful illustrations and engaging text, the stories of these women are delivered with fascinating detail. Detailed biographies of artists, such as Mexican painter Frida Kahlo, will captivate readers and perhaps inspire them to become involved in art in their own ways. This stimulating text includes key historical content, making for an excellent resource to be paired with any elementary social studies curriculum.","English",31.95,23.95,"809'.89287--dc23","48 pp.",{"$f":"Table1[[#This Row],[QTY]]*Table1[[#This Row],['# Books]]","v":0},{"$f":"Table1[[#This Row],[QTY]]*Table1[[#This Row],[S&L Price]]","v":0}]
[null,null,98,"Geek Out!",1,"A Modern Nerd's Guide to Conventions","Library Bound Book",null,"978-1-5382-4012-0",{"$f":"HYPERLINK(\"https://www.garethstevens.com/\"&Table1[[#This Row],[ISBN]],\"Weblink\")","v":"Weblink"},2020,"August 2019","Library","8.500 X 11.00","Author","Katie Kawa",null,null,null,null,"O",null,"Grade 3 - 4","Grade 3 - 6","Where can fans meet up, get autographs from their favorite stars, and buy cool merchandise? They can do all these things at conventions. There are many things fans need to know before attending their first \"con,\" and they'll find it all in this age-appropriate guide. The engaging text and eye-catching sidebars, graphic organizers, and colorful photographs highlight many kinds of fan conventions. Whether a young fan dreams of traveling to San Diego for Comic-Con International or plans to attend a smaller con in their city, this guide will make sure they're prepared.","English",26.6,19.95,"741.5--dc23","32 pp.",{"$f":"Table1[[#This Row],[QTY]]*Table1[[#This Row],['# Books]]","v":0},{"$f":"Table1[[#This Row],[QTY]]*Table1[[#This Row],[S&L Price]]","v":0}]
[null,null,98,"Geek Out!",1,"A Modern Nerd's Guide to Miniatures","eBook",null,"978-1-5382-4021-2",{"$f":"HYPERLINK(\"https://www.garethstevens.com/\"&Table1[[#This Row],[ISBN]],\"Weblink\")","v":"Weblink"},2020,"August 2019",null,null,"Author","Amanda Vink",null,null,null,null,"P",null,"Grade 3 - 4","Grade 3 - 6","The world of miniatures is huge! People of all ages enjoy assembling and painting scale models of characters for their favorite tabletop games. From warriors and workers to monsters and other mythological creatures, there are unlimited possibilities. This book explores several different types of miniatures, with a focus on where to find them, how to design them, and where to play with them. Other miniatures, such as dollhouses, fairy gardens, and historical dioramas, are also discussed. Vivid images on each page give readers a chance to see these tiny creations in great detail. Captions and sidebars provide more information about how to get involved with this fascinating and fun hobby.","English",26.6,19.95,"745.5928--dc23","32 pp.",{"$f":"Table1[[#This Row],[QTY]]*Table1[[#This Row],['# Books]]","v":0},{"$f":"Table1[[#This Row],[QTY]]*Table1[[#This Row],[S&L Price]]","v":0}]
[null,null,98,"Geek Out!",1,"A Modern Nerd's Guide to Renaissance Fairs","eBook",null,"978-1-5382-4025-0",{"$f":"HYPERLINK(\"https://www.garethstevens.com/\"&Table1[[#This Row],[ISBN]],\"Weblink\")","v":"Weblink"},2020,"August 2019",null,null,"Author","Jill Keppeler",null,null,null,null,"P",null,"Grade 3 - 4","Grade 3 - 6","Did you know that you can travel through time? You don't need a time machine or magical powers; you just need to visit a Renaissance fair. This book will introduce young readers to the wonderful world of Renaissance fairs and festivals, providing an age-appropriate peek into the history and background of these imaginative events. Through colorful photographs and intriguing graphics, readers will be immersed in these events, learning about exciting festival features such as jousting, music, characters, and artisans. They'll learn about how they can step into the history and magic themselves.","English",26.6,19.95,"394/.60973--dc23","32 pp.",{"$f":"Table1[[#This Row],[QTY]]*Table1[[#This Row],['# Books]]","v":0},{"$f":"Table1[[#This Row],[QTY]]*Table1[[#This Row],[S&L Price]]","v":0}]
[null,null,98,"Geek Out!",1,"The Modern Nerd's Guide to Cosplay","Library Bound Book",null,"978-1-5382-1199-1",{"$f":"HYPERLINK(\"https://www.garethstevens.com/\"&Table1[[#This Row],[ISBN]],\"Weblink\")","v":"Weblink"},2018,"January 2018","Library","8.500 X 11.00","Author","Kristen Rajczak Nelson",null,null,34,null,"O",null,"Grade 3 - 4","Grade 3 - 6","The detailed craft of creating a unique costume, props, and makeup to bring both beloved and reviled characters to life has become a serious art form in the past decade. Today, cosplay is one of the hottest hobbies around, with huge international conventions and competitions making headlines around the world. In this volume, filled with insider info, helpful tips, spectacular color photographs, and dynamic graphics, readers learn not only how to enter the world of cosplay, but how to conquer it.","English",26.6,19.95,"793.93--dc23","32 pp.",{"$f":"Table1[[#This Row],[QTY]]*Table1[[#This Row],['# Books]]","v":0},{"$f":"Table1[[#This Row],[QTY]]*Table1[[#This Row],[S&L Price]]","v":0}]
[null,null,98,"Geek Out!",1,"The Modern Nerd's Guide to Esports","eBook",null,"978-1-5382-1208-0",{"$f":"HYPERLINK(\"https://www.garethstevens.com/\"&Table1[[#This Row],[ISBN]],\"Weblink\")","v":"Weblink"},2018,"January 2018",null,null,"Author","Matthew Jankowski",null,null,null,null,"O",null,"Grade 3 - 4","Grade 3 - 6","Pro-gaming, or e-sports, has an enormous and dedicated following; almost a billion people worldwide. It's even covered on ESPN. It boasts international tournaments, big-name stars, massive prize money, and tons of action and excitement. This book unpacks the world of eSports for readers, encouraging them to enter, compete, and conquer by giving them insider knowledge directly from a real-life eSports journalist. Filled with essential terminology, bold graphic elements, and vivid photographs, this book is sure to be a hot commodity in any collection.","English",26.6,19.95,"794.8--dc23","32 pp.",{"$f":"Table1[[#This Row],[QTY]]*Table1[[#This Row],['# Books]]","v":0},{"$f":"Table1[[#This Row],[QTY]]*Table1[[#This Row],[S&L Price]]","v":0}]
[null,null,98,"Geek Out!",1,"The Modern Nerd's Guide to Tabletop and Card Games","Library Bound Book",null,"978-1-5382-1220-2",{"$f":"HYPERLINK(\"https://www.garethstevens.com/\"&Table1[[#This Row],[ISBN]],\"Weblink\")","v":"Weblink"},2018,"January 2018","Library","8.500 X 11.00","Author","Jill Keppeler",null,null,34,null,"O",null,"Grade 3 - 4","Grade 3 - 6","There's no denying it: board and card games are hot right now. In fact, they're one of the most popular leisure activities around. Kickstarter, the largest funding platform for creative projects in the world, is packed with entrepreneurs developing new, innovative experiences, and the industry has become a multibillion-dollar giant in gaming and collectibles in a short amount of time. Readers no doubt have seen or heard of one or perhaps many of these games, but in this volume, they'll get the inside scoop needed to join, play, and win.","English",26.6,19.95,"794--dc23","32 pp.",{"$f":"Table1[[#This Row],[QTY]]*Table1[[#This Row],['# Books]]","v":0},{"$f":"Table1[[#This Row],[QTY]]*Table1[[#This Row],[S&L Price]]","v":0}]
[null,null,107,"Mother Nature Is Trying to Kill Me!",1,"Deadly Diseases","Library Bound Book",null,"978-1-5382-3964-3",{"$f":"HYPERLINK(\"https://www.garethstevens.com/\"&Table1[[#This Row],[ISBN]],\"Weblink\")","v":"Weblink"},2020,"August 2019","Library","8.500 X 8.500","Author","Janey Levy",5.0999999999999996,0.5,null,null,"M",null,"Grade 2 - 3","Grade 2 - 5","Everyone's had experience with diseases such as the common cold, but some diseases are deadly and they may kill quickly, in terrifying ways. Readers will learn about lethal diseases such as Ebola, cholera, meningitis, plague, and necrotizing fasciitis and the sometimes-gross ways they kill. The accessible and absorbing text supports important elementary science concepts. Eye-catching photographs vividly bring concepts into detailed focus, while fact boxes, captions, and a graphic organizer enrich the main text.","English",22.6,16.95,"616.9--dc23","24 pp.",{"$f":"Table1[[#This Row],[QTY]]*Table1[[#This Row],['# Books]]","v":0},{"$f":"Table1[[#This Row],[QTY]]*Table1[[#This Row],[S&L Price]]","v":0}]
[null,null,107,"Mother Nature Is Trying to Kill Me!",1,"Deadly Diseases","eBook",null,"978-1-5382-3965-0",{"$f":"HYPERLINK(\"https://www.garethstevens.com/\"&Table1[[#This Row],[ISBN]],\"Weblink\")","v":"Weblink"},2020,"August 2019",null,null,"Author","Janey Levy",5.0999999999999996,0.5,null,null,"M",null,"Grade 2 - 3","Grade 2 - 5","Everyone's had experience with diseases such as the common cold, but some diseases are deadly and they may kill quickly, in terrifying ways. Readers will learn about lethal diseases such as Ebola, cholera, meningitis, plague, and necrotizing fasciitis and the sometimes-gross ways they kill. The accessible and absorbing text supports important elementary science concepts. Eye-catching photographs vividly bring concepts into detailed focus, while fact boxes, captions, and a graphic organizer enrich the main text.","English",22.6,16.95,"616.9--dc23","24 pp.",{"$f":"Table1[[#This Row],[QTY]]*Table1[[#This Row],['# Books]]","v":0},{"$f":"Table1[[#This Row],[QTY]]*Table1[[#This Row],[S&L Price]]","v":0}]
[null,null,107,"Mother Nature Is Trying to Kill Me!",1,"Lethal Insects","eBook",null,"978-1-5382-3973-5",{"$f":"HYPERLINK(\"https://www.garethstevens.com/\"&Table1[[#This Row],[ISBN]],\"Weblink\")","v":"Weblink"},2020,"August 2019",null,null,"Author","Janey Levy",4.5999999999999996,0.5,null,null,"M",null,"Grade 2 - 3","Grade 2 - 5","Most of us enjoy watching colorful butterflies flutter about, but the world is full of less beautiful insects, and an alarming number of them are deadly. Readers of this absorbing book learn about some of the world's deadliest insects. They include wasps, hornets, mosquitoes, ants, fleas, Africanized bees, and kissing bugs. Accessible text addresses important science concepts, supported by eye-catching, colorful images. Captions, fact boxes, and a graphic organizer also enrich the main text.","English",22.6,16.95,"595.7--dc23","24 pp.",{"$f":"Table1[[#This Row],[QTY]]*Table1[[#This Row],['# Books]]","v":0},{"$f":"Table1[[#This Row],[QTY]]*Table1[[#This Row],[S&L Price]]","v":0}]
[null,null,108,"Accidental Scientific Discoveries that Changed the World",6,"Accidental Scientific Discoveries that Changed the World","Library Set",null,"978-1-5382-4159-2",{"$f":"HYPERLINK(\"https://www.garethstevens.com/\"&Table1[[#This Row],[ISBN]],\"Weblink\")","v":"Weblink"},2020,"August 2019","Library","8.500 X 11.00",null,null,null,null,null,null,null,null,"Grade 3 - 4","Grade 3 - 6","Sometimes when we hear about famous scientific breakthroughs, we assume that the brilliant scientists behind them knew exactly what they were doing. That isn't always the case. This striking collection demonstrates that sometimes mistakes in the laboratory lead to innovations that change our lives. Pacemakers, penicillin, and microwaves are just some of the incredible developments that came about accidentally. The history and science behind each discovery and its impact on the world are explained. Helpful photographs add to the dynamic book design, and thought-provoking sidebars offer more information about essential topics. Features include: Encourages young scientists to understand that science is a process and even unexpected results can be enlightening and useful. Graphic organizers facilitate readers' retention of key information. Supports concepts in both elementary history and science curricula and offers opportunities to exercise skills of ELA standards.","English",159.6,119.7,null,"32 pp.",{"$f":"Table1[[#This Row],[QTY]]*Table1[[#This Row],['# Books]]","v":0},{"$f":"Table1[[#This Row],[QTY]]*Table1[[#This Row],[S&L Price]]","v":0}]
[null,null,108,"Accidental Scientific Discoveries that Changed the World",1,"Oops! It's Penicillin!","Library Bound Book",null,"978-1-5382-3992-6",{"$f":"HYPERLINK(\"https://www.garethstevens.com/\"&Table1[[#This Row],[ISBN]],\"Weblink\")","v":"Weblink"},2020,"August 2019","Library","8.500 X 11.00","Author, Author","Jonathan Bard, Mariel Bard",null,null,null,null,"Q",null,"Grade 3 - 4","Grade 3 - 6","One of the single greatest leaps forward in human healthcare happened because of an accident in a laboratory. This serendipitous event was the result of a summer vacation in Scotland and an unattended experiment. Dr. Alexander Fleming discovered penicillin, one of the first antibiotics, in 1928 when he noticed that mold had gotten into a petri dish and it had prevented bacteria from growing. This book explores Fleming's accidental discovery, the science behind antibiotics, and the dawn of the era of antibiotics.","English",26.6,19.95,"615.3/295654--dc23","32 pp.",{"$f":"Table1[[#This Row],[QTY]]*Table1[[#This Row],['# Books]]","v":0},{"$f":"Table1[[#This Row],[QTY]]*Table1[[#This Row],[S&L Price]]","v":0}]
[null,null,108,"Accidental Scientific Discoveries that Changed the World",1,"Oops! It's Penicillin!","eBook",null,"978-1-5382-3993-3",{"$f":"HYPERLINK(\"https://www.garethstevens.com/\"&Table1[[#This Row],[ISBN]],\"Weblink\")","v":"Weblink"},2020,"August 2019",null,null,"Author, Author","Jonathan Bard, Mariel Bard",null,null,null,null,"Q",null,"Grade 3 - 4","Grade 3 - 6","One of the single greatest leaps forward in human healthcare happened because of an accident in a laboratory. This serendipitous event was the result of a summer vacation in Scotland and an unattended experiment. Dr. Alexander Fleming discovered penicillin, one of the first antibiotics, in 1928 when he noticed that mold had gotten into a petri dish and it had prevented bacteria from growing. This book explores Fleming's accidental discovery, the science behind antibiotics, and the dawn of the era of antibiotics.","English",26.6,19.95,"615.3/295654--dc23","32 pp.",{"$f":"Table1[[#This Row],[QTY]]*Table1[[#This Row],['# Books]]","v":0},{"$f":"Table1[[#This Row],[QTY]]*Table1[[#This Row],[S&L Price]]","v":0}]
[null,null,108,"Accidental Scientific Discoveries that Changed the World",1,"Oops! They're X-Rays!","Library Bound Book",null,"978-1-5382-4004-5",{"$f":"HYPERLINK(\"https://www.garethstevens.com/\"&Table1[[#This Row],[ISBN]],\"Weblink\")","v":"Weblink"},2020,"August 2019","Library","8.500 X 11.00","Author","Nick Wojtan",null,null,null,null,"R",null,"Grade 3 - 4","Grade 3 - 6","The foundation of the human body is our bones. Whether it's in regard to health or even a skeleton costume on Halloween, the discovery of the X-ray machine has greatly improved our understanding of the human body and its bones. The technology for X-rays dated back to the late nineteenth century but was in plain sight for years until their true potential was discovered by accident. This volume introduces readers to the story of their discovery and how they've changed medicine for the better ever since.","English",26.6,19.95,"539.7/222--dc23","32 pp.",{"$f":"Table1[[#This Row],[QTY]]*Table1[[#This Row],['# Books]]","v":0},{"$f":"Table1[[#This Row],[QTY]]*Table1[[#This Row],[S&L Price]]","v":0}]
[null,null,114,"The Science of Optical Illusions",1,"Movers and Shakers\t","Library Bound Book",null,"978-1-5382-4186-8",{"$f":"HYPERLINK(\"https://www.garethstevens.com/\"&Table1[[#This Row],[ISBN]],\"Weblink\")","v":"Weblink"},2020,"August 2019","Library","8.500 X 11.00","Author","Anna Claybourne",null,null,null,null,"T",null,"Grade 4 - 5","Grade 4 - 6","Something that's been printed on paper can't possibly be able to move, right? Because of how our brain works, though, it's possible to create images that seem to move or shake. On every page of this book, readers can test out different optical illusions while learning how they work. Facts boxes add mind-boggling details about how the human brain deals with certain kinds of art, images, and see the world around us to create optical illusions. With fun ways to incorporate many aspects of STEAM, this book will leave readers dizzy with delight.","English",26.6,19.95,"152.14'8--dc23","32 pp.",{"$f":"Table1[[#This Row],[QTY]]*Table1[[#This Row],['# Books]]","v":0},{"$f":"Table1[[#This Row],[QTY]]*Table1[[#This Row],[S&L Price]]","v":0}]
[null,null,114,"The Science of Optical Illusions",1,"Seeing Things!","eBook",null,"978-1-5382-4184-4",{"$f":"HYPERLINK(\"https://www.garethstevens.com/\"&Table1[[#This Row],[ISBN]],\"Weblink\")","v":"Weblink"},2020,"August 2019",null,null,"Author","Anna Claybourne",null,null,null,null,"T",null,"Grade 4 - 5","Grade 4 - 6","Salvador Dali is just one artist that employed the use of double images in his art. This historical practice can really puzzle someone looking at Dali's artwork, until they see the second image. This book introduces readers to interesting artistic concepts as well as how the human brain perceives them. Readers draw connections between scientific theory, art, and their own experiences looking at the many optical illusions found in each chapter. This book is a mind-bending adventure.","English",26.6,19.95,"152.14'8--dc23","32 pp.",{"$f":"Table1[[#This Row],[QTY]]*Table1[[#This Row],['# Books]]","v":0},{"$f":"Table1[[#This Row],[QTY]]*Table1[[#This Row],[S&L Price]]","v":0}]
[null,null,109,"Science in Infographics",1,"Forces","eBook",null,"978-1-5382-4301-5",{"$f":"HYPERLINK(\"https://www.garethstevens.com/\"&Table1[[#This Row],[ISBN]],\"Weblink\")","v":"Weblink"},2020,"August 2019",null,null,"Author, Author","Jon Richards, Ed Simkins",null,null,null,null,"S",null,"Grade 4 - 5","Grade 4 - 6","Physical forces affect us in big and little ways every day. To ride a bike, one must push down on the pedals. To cut through paper with scissors, pressure must be applied. Even Earth and all the planets in our solar system move around the sun by the forces of gravity. Through visually pleasing and informative infographics, readers are presented with scientific concepts that are manageable and that make sense in the context of their everyday lives.","English",26.6,19.95,"531'.6--dc23","32 pp.",{"$f":"Table1[[#This Row],[QTY]]*Table1[[#This Row],['# Books]]","v":0},{"$f":"Table1[[#This Row],[QTY]]*Table1[[#This Row],[S&L Price]]","v":0}]
[null,null,109,"Science in Infographics",1,"Habitats","eBook",null,"978-1-5382-4298-8",{"$f":"HYPERLINK(\"https://www.garethstevens.com/\"&Table1[[#This Row],[ISBN]],\"Weblink\")","v":"Weblink"},2020,"August 2019",null,null,"Author, Author","Jon Richards, Ed Simkins",null,null,null,null,"S",null,"Grade 4 - 5","Grade 4 - 6","Natural habitats support all the plants and animals on the earth. However, the home of a camel is very different from the home of an otter. Readers will explore 12 contrasting environments and the geological factors that make each of the habitats so unique, including where they are located and the different animals who call them home. Learning ecological concepts is made easier by colorful and visually pleasing icons, graphic, and pictograms. This is a perfect resource for the student interested in learning a variety of scientific facts.","English",26.6,19.95,"577--dc23","32 pp.",{"$f":"Table1[[#This Row],[QTY]]*Table1[[#This Row],['# Books]]","v":0},{"$f":"Table1[[#This Row],[QTY]]*Table1[[#This Row],[S&L Price]]","v":0}]
[null,null,109,"Science in Infographics",1,"Materials","Library Bound Book",null,"978-1-5382-4285-8",{"$f":"HYPERLINK(\"https://www.garethstevens.com/\"&Table1[[#This Row],[ISBN]],\"Weblink\")","v":"Weblink"},2020,"August 2019","Library","8.000 X 10.00","Author, Author","Jon Richards, Ed Simkins",null,null,null,null,"S",null,"Grade 4 - 5","Grade 4 - 6","Where do the objects in our lives come from? Everything has a source, and that origin might be surprising. Readers will learn about how chemists study the building blocks of our world, and how materials can be changed by applying different chemical and physical reactions. By utilizing colorful pictographs, icons, and graphics, readers will become immersed in the wonderful world of science. Especially helpful for students who struggle with traditional textbooks, this book will change the way readers look at objects they use every day.","English",26.6,19.95,"620--dc23","32 pp.",{"$f":"Table1[[#This Row],[QTY]]*Table1[[#This Row],['# Books]]","v":0},{"$f":"Table1[[#This Row],[QTY]]*Table1[[#This Row],[S&L Price]]","v":0}]
[null,null,110,"Freaky True Science",6,"Freaky True Science (Set of 6 NEW Titles)","Library Set",null,"978-1-5382-4160-8",{"$f":"HYPERLINK(\"https://www.garethstevens.com/\"&Table1[[#This Row],[ISBN]],\"Weblink\")","v":"Weblink"},2020,"August 2019","Library","6.500 X 9.125",null,null,null,null,null,null,null,null,"Grade 4 - 5","Grade 4 - 6","Most events, objects, and organisms in nature that seem bizarre to us can be explained by modern science. This noteworthy set, a continuation of our popular series, will encourage young scientists to be excited about science and how it can unlock the secrets of our weird world. From the extraordinary inner workings of the human body to peculiar phenomena in outer space, there's a volume for readers of all interests. All odd and freaky info is followed by comprehensible explanations of science concepts and accompanied by attention-grabbing photographs. Features include: Carefully chosen topics pair well with curricular science content. Thought-provoking sidebars and fact boxes add more motivating information. Understanding informational texts, including science texts, is a key standard of the English Language Arts Common Core.","English",159.6,119.7,null,"32 pp.",{"$f":"Table1[[#This Row],[QTY]]*Table1[[#This Row],['# Books]]","v":0},{"$f":"Table1[[#This Row],[QTY]]*Table1[[#This Row],[S&L Price]]","v":0}]
[null,null,110,"Freaky True Science",1,"More Freaky Animal Stories","Library Bound Book",null,"978-1-5382-4056-4",{"$f":"HYPERLINK(\"https://www.garethstevens.com/\"&Table1[[#This Row],[ISBN]],\"Weblink\")","v":"Weblink"},2020,"August 2019","Library","6.500 X 9.125","Author","Janey Levy",5.6,1,null,null,"T",null,"Grade 4 - 5","Grade 4 - 6","Animals are a familiar part of most people's lives, from household pets to farm animals to backyard birds, but the animal world holds an enormous number of weird and freaky stories. This fascinating book is the second volume in this popular series to explore such stories. Readers will be thrilled to learn about animal oddities like creatures with night-vision goggles, organisms that are almost invisible, and even the swarm of bees that followed a car for two days to rescue their trapped queen. Absorbing text and vivid images will keep readers engaged. Captions, sidebars, fun facts, and a graphic organizer enrich the narrative.","English",26.6,19.95,"590--dc23","32 pp.",{"$f":"Table1[[#This Row],[QTY]]*Table1[[#This Row],['# Books]]","v":0},{"$f":"Table1[[#This Row],[QTY]]*Table1[[#This Row],[S&L Price]]","v":0}]
[null,null,110,"Freaky True Science",1,"More Freaky Space Stories","eBook",null,"978-1-5382-4065-6",{"$f":"HYPERLINK(\"https://www.garethstevens.com/\"&Table1[[#This Row],[ISBN]],\"Weblink\")","v":"Weblink"},2020,"August 2019",null,null,"Author","Eric Keppeler",5.6,1,null,null,"T",null,"Grade 4 - 5","Grade 4 - 6","Space is infinite. There are never-ending mysteries in its starry reaches, and we're still learning about them. In this detailed, fascinating book, young readers will learn more about freaky stories of space, including weird planets, strange stars, unexplained phenomena, and tales of the brave people who've traveled into this final frontier. Intriguing facts and historic photographs will catch students' interest as they investigate these mysteries and learn more about the universe in which we live and beyond.","English",26.6,19.95,"520--dc23","32 pp.",{"$f":"Table1[[#This Row],[QTY]]*Table1[[#This Row],['# Books]]","v":0},{"$f":"Table1[[#This Row],[QTY]]*Table1[[#This Row],[S&L Price]]","v":0}]
[null,null,110,"Freaky True Science",1,"More Freaky Weather Stories","Library Bound Book",null,"978-1-5382-4076-2",{"$f":"HYPERLINK(\"https://www.garethstevens.com/\"&Table1[[#This Row],[ISBN]],\"Weblink\")","v":"Weblink"},2020,"August 2019","Library","6.500 X 9.125","Author","Grace Vail",5.5,0.5,null,null,"T",null,"Grade 4 - 5","Grade 4 - 6","Weather is one of the most amazing forces on Earth. Sometimes it's mild, sometimes it's wild, and sometimes it's downright freaky! This book explores the weirdest weather on record, including dramatic temperature changes, deadly precipitation, and weather events where and when they shouldn't be. Readers will be captivated by stories of fog tsunamis, never-ending lightning storms, and rainbows created by moonlight. Full-color photographs bring these and other incredible weather phenomena into detailed, thrilling focus. Fact boxes and sidebars provide more information about the freaky true science behind Earth's craziest weather.","English",26.6,19.95,"551.5--dc23","32 pp.",{"$f":"Table1[[#This Row],[QTY]]*Table1[[#This Row],['# Books]]","v":0},{"$f":"Table1[[#This Row],[QTY]]*Table1[[#This Row],[S&L Price]]","v":0}]
[null,null,111,"Freaky True Science",1,"Freaky Stories About Inventions","Library Bound Book",null,"978-1-4824-4829-0",{"$f":"HYPERLINK(\"https://www.garethstevens.com/\"&Table1[[#This Row],[ISBN]],\"Weblink\")","v":"Weblink"},2017,"August 2016","Library","6.500 X 9.125","Author","Michael Canfield",6,1,null,null,"T","1010L","Grade 4 - 5","Grade 4 - 6","Some of the wildest inventions came from clever minds that wanted to change the world. But some of these inventions are truly strange. From crazy early flying machines to wacky mash-ups like a gun that takes pictures, there are many crazy creations that lived short lives. Even practical inventions of the past—like the phonograph—look strange compared to modern inventions such as televisions and MP3 players. This book takes a look at some of the strangest inventors and inventions made throughout time, as well as why these inventions failed or evolved into something we use today.","English",26.6,19.95,"609--dc23","32 pp.",{"$f":"Table1[[#This Row],[QTY]]*Table1[[#This Row],['# Books]]","v":0},{"$f":"Table1[[#This Row],[QTY]]*Table1[[#This Row],[S&L Price]]","v":0}]
[null,null,111,"Freaky True Science",1,"Freaky Stories About Inventions","eBook",null,"978-1-4824-4830-6",{"$f":"HYPERLINK(\"https://www.garethstevens.com/\"&Table1[[#This Row],[ISBN]],\"Weblink\")","v":"Weblink"},2017,"August 2016",null,null,"Author","Michael Canfield",6,1,null,null,"T","1010L","Grade 4 - 5","Grade 4 - 6","Some of the wildest inventions came from clever minds that wanted to change the world. But some of these inventions are truly strange. From crazy early flying machines to wacky mash-ups like a gun that takes pictures, there are many crazy creations that lived short lives. Even practical inventions of the past—like the phonograph—look strange compared to modern inventions such as televisions and MP3 players. This book takes a look at some of the strangest inventors and inventions made throughout time, as well as why these inventions failed or evolved into something we use today.","English",26.6,19.95,"609--dc23","32 pp.",{"$f":"Table1[[#This Row],[QTY]]*Table1[[#This Row],['# Books]]","v":0},{"$f":"Table1[[#This Row],[QTY]]*Table1[[#This Row],[S&L Price]]","v":0}]
[null,null,111,"Freaky True Science",1,"Freaky Stories About the Paranormal","Library Bound Book",null,"978-1-4824-4849-8",{"$f":"HYPERLINK(\"https://www.garethstevens.com/\"&Table1[[#This Row],[ISBN]],\"Weblink\")","v":"Weblink"},2017,"August 2016","Library","6.500 X 9.125","Author","M. H. Seeley",6.4,1,null,null,"T",null,"Grade 4 - 5","Grade 4 - 6","Aliens, ghosts, and cryptids may all fall under the category of “strange” or “unusual,” but all are classified as paranormal. There are plenty of spooky and scary stories throughout history. From Abraham Lincoln’s doppelganger to the mysteries of the Bermuda Triangle and even the feeling of déjà vu, there are many unexplained phenomena. Even some aspects of history itself are still a mystery, like the Antikythera mechanism found in a Greek shipwreck. This book shows readers that there is often a blurry line between fact and the paranormal, and sometimes fact is even stranger than fiction!","English",26.6,19.95,"130--dc23","32 pp.",{"$f":"Table1[[#This Row],[QTY]]*Table1[[#This Row],['# Books]]","v":0},{"$f":"Table1[[#This Row],[QTY]]*Table1[[#This Row],[S&L Price]]","v":0}]
[null,null,111,"Freaky True Science",1,"Freaky Animal Stories","eBook",null,"978-1-4824-2951-0",{"$f":"HYPERLINK(\"https://www.garethstevens.com/\"&Table1[[#This Row],[ISBN]],\"Weblink\")","v":"Weblink"},2016,"August 2015",null,null,"Author","Michael Canfield",null,null,null,null,"T",null,"Grade 4 - 5","Grade 4 - 6","Animals are a wild and wonderful part of our world. However, some animals and their stories are a little wilder than others! This fascinating book explores some of the animal kingdom’s freakiest specimens and strangest scenarios—like the true tale of a two-headed housecat named “Frankenlouie,” and of a chicken named Mike who lived for 18 months after getting his head chopped off! High-interest subject matter and amazingly freaky photographs will captivate readers, and enthralling sidebars and fact boxes present even more unbelievable—but true!—information about some of the most outrageous animals on Earth.","English",26.6,19.95,"590","32 pp.",{"$f":"Table1[[#This Row],[QTY]]*Table1[[#This Row],['# Books]]","v":0},{"$f":"Table1[[#This Row],[QTY]]*Table1[[#This Row],[S&L Price]]","v":0}]
[null,null,111,"Freaky True Science",1,"Freaky Stories About Our Bodies","Library Bound Book",null,"978-1-4824-2962-6",{"$f":"HYPERLINK(\"https://www.garethstevens.com/\"&Table1[[#This Row],[ISBN]],\"Weblink\")","v":"Weblink"},2016,"August 2015","Library","6.500 X 9.125","Author","Kristen Rajczak Nelson",null,null,null,null,"T","980L","Grade 4 - 5","Grade 4 - 6","Today, science offers explanations of things people once found freaky, and the human body is no exception. Everything our body does has a purpose, from our seemingly gross bodily fluids to the weird and wild ways we stay healthy. Readers take a journey through the human body, learning why (almost) every organ has a purpose and how the old adage “What doesn’t kill you makes you stronger” is actually true in some ways. From the bacteria that fills our bodies to babies’ lack of kneecaps when they’re born, no stone is left unturned in this freakish compilation of all things anatomical. Vivid color images and fascinating fun facts and sidebars offer even more bodily knowledge.","English",26.6,19.95,"610.2","32 pp.",{"$f":"Table1[[#This Row],[QTY]]*Table1[[#This Row],['# Books]]","v":0},{"$f":"Table1[[#This Row],[QTY]]*Table1[[#This Row],[S&L Price]]","v":0}]
[null,null,111,"Freaky True Science",1,"Freaky Stories About Our Bodies","eBook",null,"978-1-4824-2963-3",{"$f":"HYPERLINK(\"https://www.garethstevens.com/\"&Table1[[#This Row],[ISBN]],\"Weblink\")","v":"Weblink"},2016,"August 2015",null,null,"Author","Kristen Rajczak Nelson",null,null,null,null,"T","980L","Grade 4 - 5","Grade 4 - 6","Today, science offers explanations of things people once found freaky, and the human body is no exception. Everything our body does has a purpose, from our seemingly gross bodily fluids to the weird and wild ways we stay healthy. Readers take a journey through the human body, learning why (almost) every organ has a purpose and how the old adage “What doesn’t kill you makes you stronger” is actually true in some ways. From the bacteria that fills our bodies to babies’ lack of kneecaps when they’re born, no stone is left unturned in this freakish compilation of all things anatomical. Vivid color images and fascinating fun facts and sidebars offer even more bodily knowledge.","English",26.6,19.95,"610.2","32 pp.",{"$f":"Table1[[#This Row],[QTY]]*Table1[[#This Row],['# Books]]","v":0},{"$f":"Table1[[#This Row],[QTY]]*Table1[[#This Row],[S&L Price]]","v":0}]
[null,null,115,"Beastly Books for the Brave",6,"Beastly Books for the Brave","Library Set",null,"978-1-5382-3399-3",{"$f":"HYPERLINK(\"https://www.garethstevens.com/\"&Table1[[#This Row],[ISBN]],\"Weblink\")","v":"Weblink"},2020,"August 2019","Library","8.500 X 8.500",null,null,null,null,null,null,null,null,"Grade 2 - 3","Grade 2 - 5","From claws and fangs to venom and stingers, some animal characteristics are the stuff of nightmares and horror movies! While they're often used to attack and hunt for food, animals often use their sharp teeth, strong kicks, and other means to defend themselves. This set uses an imaginative design to draw in the bravest readers, and the main content explores many examples of animal attack and defenses, including the idea that many animals are both predator and prey. Eye-catching, full-color images take readers as close to some of the most dangerous parts of nature as they will ever get. Features include: Covers science curriculum information, including predator-prey relationships and how animals interact with ecosystems. Fun fact boxes throughout each book offer more explanation for important science concepts and vocabulary. Unique design and concept attract emerging readers.","English",135.6,101.7,null,"24 pp.",{"$f":"Table1[[#This Row],[QTY]]*Table1[[#This Row],['# Books]]","v":0},{"$f":"Table1[[#This Row],[QTY]]*Table1[[#This Row],[S&L Price]]","v":0}]
[null,null,115,"Beastly Books for the Brave",1,"This Book Charges!","eBook",null,"978-1-5382-3358-0",{"$f":"HYPERLINK(\"https://www.garethstevens.com/\"&Table1[[#This Row],[ISBN]],\"Weblink\")","v":"Weblink"},2020,"August 2019",null,null,"Author","Sarah Machajewski",4.4000000000000004,0.5,null,null,"L",null,"Grade 2 - 3","Grade 2 - 5","When a charging animal is on the move, watch out! Charging is one of the wildest behaviors in the animal kingdom. Readers will love learning about this power-filled phenomenon in which only the strong survive. This high interest book teaches readers the basics of beastly behaviors explaining what charging is and why animals do it. Through age-appropriate science content, fact boxes, and colorful images, this book is a perfect introduction to wild animal behaviors.","English",22.6,16.95,"591.5'7--dc23","24 pp.",{"$f":"Table1[[#This Row],[QTY]]*Table1[[#This Row],['# Books]]","v":0},{"$f":"Table1[[#This Row],[QTY]]*Table1[[#This Row],[S&L Price]]","v":0}]
[null,null,115,"Beastly Books for the Brave",1,"This Book Scratches!","Library Bound Book",null,"978-1-5382-3369-6",{"$f":"HYPERLINK(\"https://www.garethstevens.com/\"&Table1[[#This Row],[ISBN]],\"Weblink\")","v":"Weblink"},2020,"August 2019","Library","8.500 X 8.500","Author","Sarah Machajewski",4.5,0.5,null,null,"L",null,"Grade 2 - 3","Grade 2 - 5","Swipe! Scratch! Watch out for the animals on the attack! This elementary science book introduces readers to animals that scratch. From big cats to beastly bears, readers will delight in learning more about their favorite animals and why they scratch. Through exploring physical characteristics, habitat, environment, and life cycles readers will learn how this behavior is a survival instinct and a unique kind of defense. Fact boxes and impactful images offer opportunities for additional learning.","English",22.6,16.95,"591.47'9--dc23","24 pp.",{"$f":"Table1[[#This Row],[QTY]]*Table1[[#This Row],['# Books]]","v":0},{"$f":"Table1[[#This Row],[QTY]]*Table1[[#This Row],[S&L Price]]","v":0}]
[null,null,115,"Beastly Books for the Brave",1,"This Book Scratches!","eBook",null,"978-1-5382-3370-2",{"$f":"HYPERLINK(\"https://www.garethstevens.com/\"&Table1[[#This Row],[ISBN]],\"Weblink\")","v":"Weblink"},2020,"August 2019",null,null,"Author","Sarah Machajewski",4.5,0.5,null,null,"L",null,"Grade 2 - 3","Grade 2 - 5","Swipe! Scratch! Watch out for the animals on the attack! This elementary science book introduces readers to animals that scratch. From big cats to beastly bears, readers will delight in learning more about their favorite animals and why they scratch. Through exploring physical characteristics, habitat, environment, and life cycles readers will learn how this behavior is a survival instinct and a unique kind of defense. Fact boxes and impactful images offer opportunities for additional learning.","English",22.6,16.95,"591.47'9--dc23","24 pp.",{"$f":"Table1[[#This Row],[QTY]]*Table1[[#This Row],['# Books]]","v":0},{"$f":"Table1[[#This Row],[QTY]]*Table1[[#This Row],[S&L Price]]","v":0}]
[null,null,118,"The Top Secret Life of Plants",1,"How Invasive Species Take Over","eBook",null,"978-1-5382-3378-8",{"$f":"HYPERLINK(\"https://www.garethstevens.com/\"&Table1[[#This Row],[ISBN]],\"Weblink\")","v":"Weblink"},2020,"August 2019",null,null,"Author","Janey Levy",4.8,0.5,null,null,"L",null,"Grade 2 - 3","Grade 2 - 5","Disastrous consequences often follow the introduction of invasive plants species. The invasive species spread, altering habitats, driving out native plants and animals, and reducing biodiversity. But what secret powers do invasive plant species possess that allow them to do this? Readers of this engaging book will learn what invasive species are and discover how they spread across and alter habitats. This intriguing volume is filled with eye-catching photographs, graphics, and facts that support important elementary science concepts.","English",22.6,16.95,"581.6/2--dc23","24 pp.",{"$f":"Table1[[#This Row],[QTY]]*Table1[[#This Row],['# Books]]","v":0},{"$f":"Table1[[#This Row],[QTY]]*Table1[[#This Row],[S&L Price]]","v":0}]
[null,null,118,"The Top Secret Life of Plants",1,"How Plants Survive Wildfires","Library Bound Book",null,"978-1-5382-3389-4",{"$f":"HYPERLINK(\"https://www.garethstevens.com/\"&Table1[[#This Row],[ISBN]],\"Weblink\")","v":"Weblink"},2020,"August 2019","Library","8.500 X 8.500","Author","Kate Mikoley",4.7,0.5,null,null,"L",null,"Grade 2 - 3","Grade 2 - 5","Plants have many amazing abilities that aren't always immediately apparent. Wildfires are known for destroying land, but some plant species are able to withstand them, and often even thrive because of them! In this captivating book, readers explore the extraordinary ways plants can survive the harsh conditions that come with fire. Informative text and eye-catching photographs help readers understand important concepts, such as adaptation. This high-interest volume reinforces key elementary science curricula, making for an excellent addition to any library.","English",22.6,16.95,"581.4--dc23","24 pp.",{"$f":"Table1[[#This Row],[QTY]]*Table1[[#This Row],['# Books]]","v":0},{"$f":"Table1[[#This Row],[QTY]]*Table1[[#This Row],[S&L Price]]","v":0}]
[null,null,118,"The Top Secret Life of Plants",1,"Plants That Grow Without Soil","eBook",null,"978-1-5382-3398-6",{"$f":"HYPERLINK(\"https://www.garethstevens.com/\"&Table1[[#This Row],[ISBN]],\"Weblink\")","v":"Weblink"},2020,"August 2019",null,null,"Author","Janey Levy",4.7,0.5,null,null,"L",null,"Grade 2 - 3","Grade 2 - 5","Plants grow in the ground, and their roots absorb from the soil the water and nutrients the plants need to grow, right? You'd be surprised. Some plants seem to possess secret powers. They don't grow in the ground. They grow on a host plant, but they're not parasites. They get the water and nutrients they need from rain, debris on the host plant, and even the air. These amazing plants are called epiphytes, or air plants. Readers of this fun and engaging book will learn about these fantastic plants and how and where they live. Vivid photographs and facts that support important elementary science concepts fill this fascinating volume.","English",22.6,16.95,"581.6'3--dc23","24 pp.",{"$f":"Table1[[#This Row],[QTY]]*Table1[[#This Row],['# Books]]","v":0},{"$f":"Table1[[#This Row],[QTY]]*Table1[[#This Row],[S&L Price]]","v":0}]
[null,null,140,"Exposed! More Myths About American History",6,"Exposed! More Myths About American History (Set of 6 NEW Titles)","Library Set",null,"978-1-5382-4150-9",{"$f":"HYPERLINK(\"https://www.garethstevens.com/\"&Table1[[#This Row],[ISBN]],\"Weblink\")","v":"Weblink"},2020,"August 2019","Library","8.500 X 8.500",null,null,null,null,null,null,null,null,"Grade 2 - 3","Grade 2 - 5","Not everything people think they know about American history is true. In fact, some decidedly false notions are repeated and passed on again and again until people think they're facts. For example, slavery was found in more areas of the United States than the South during the Civil War, and the Statue of Liberty wasn't created to welcome immigrants. This must-have series, a continuation of our popular collection, highlights significant topics in the elementary social studies curriculum through the lens of shattering some long-believed myths. Readers will love passing on actual historical facts to family and friends. Features include: Graphic organizers, fact boxes, and eye-catching images enhance the attractive design. Comprehending details of historical texts is a standard of the English Language Arts Common Core. Each theme was selected for curricular importance as well as appeal to readers.","English",151.5,113.7,null,"32 pp.",{"$f":"Table1[[#This Row],[QTY]]*Table1[[#This Row],['# Books]]","v":0},{"$f":"Table1[[#This Row],[QTY]]*Table1[[#This Row],[S&L Price]]","v":0}]
[null,null,140,"Exposed! More Myths About American History",1,"Columbus Didn't Discover America: Exposing Myths About Explorers in the Americas","Library Bound Book",null,"978-1-5382-3744-1",{"$f":"HYPERLINK(\"https://www.garethstevens.com/\"&Table1[[#This Row],[ISBN]],\"Weblink\")","v":"Weblink"},2020,"August 2019","Library","8.500 X 8.500","Author","Janey Levy",null,null,null,null,"M",null,"Grade 2 - 3","Grade 2 - 5","It's something many Americans are certain is a solid fact: Columbus discovered America. While he is not with us to prove or disprove this fact, we now know that Columbus just wasn't the guy. First, Columbus never landed on the North American mainland. Second, how can someone \"discover\" a place that's already home to millions of people? In this lively and engaging book, readers will uncover the truth behind many myths about explorers in the Americas. Accessible text addresses important elementary social studies topics. Vivid images enliven the design, while captions, fact boxes, and a graphic organizer enrich the main content.","English",25.25,18.95,"970.01'5092--dc23","32 pp.",{"$f":"Table1[[#This Row],[QTY]]*Table1[[#This Row],['# Books]]","v":0},{"$f":"Table1[[#This Row],[QTY]]*Table1[[#This Row],[S&L Price]]","v":0}]
[null,null,140,"Exposed! More Myths About American History",1,"George Washington Wasn't the First President: Exposing Myths About U.S. Presidents","eBook",null,"978-1-5382-3753-3",{"$f":"HYPERLINK(\"https://www.garethstevens.com/\"&Table1[[#This Row],[ISBN]],\"Weblink\")","v":"Weblink"},2020,"August 2019",null,null,"Author","Kate Mikoley",null,null,null,null,"M",null,"Grade 2 - 3","Grade 2 - 5","American history is full of fascinating facts, but perhaps the most interesting one is that some information people think of as truths aren't really true at all! This high-interest volume reveals the reality behind some false stories about U.S. presidents that have been passed on over time. The dynamic layout pairs engaging, age-appropriate text with colorful photographs to help tell the captivating stories behind the myths. Fun fact boxes further illuminate these entertaining tales. Get your readers talking about history.","English",25.25,18.95,"973.4/1092--dc23","32 pp.",{"$f":"Table1[[#This Row],[QTY]]*Table1[[#This Row],['# Books]]","v":0},{"$f":"Table1[[#This Row],[QTY]]*Table1[[#This Row],[S&L Price]]","v":0}]
[null,null,140,"Exposed! Myths About Early American History",1,"Betsy Ross Didn't Create the American Flag: Exposing Myths About US Symbols","Library Bound Book",null,"978-1-4824-5718-6",{"$f":"HYPERLINK(\"https://www.garethstevens.com/\"&Table1[[#This Row],[ISBN]],\"Weblink\")","v":"Weblink"},2017,"January 2017","Library","8.500 X 8.500","Author","Jill Keppeler",5.2,0.5,null,null,"M","870L","Grade 2 - 3","Grade 2 - 5","Betsy Ross is repeatedly credited with creating the first US flag. Students often learn that when they’re first studying American history. However, most historians agree that she probably didn’t! In fact, Ross’s grandson may have made up the story. After reading about this widespread American myth, readers will be eager to learn others. This valuable volume, full of fun fact boxes and beautiful images, exposes historical myths but also explains the facts behind them, making it an excellent resource for any social studies collection.","English",25.25,18.95,"973--dc23","32 pp.",{"$f":"Table1[[#This Row],[QTY]]*Table1[[#This Row],['# Books]]","v":0},{"$f":"Table1[[#This Row],[QTY]]*Table1[[#This Row],[S&L Price]]","v":0}]
[null,null,140,"Exposed! Myths About Early American History",1,"Betsy Ross Didn't Create the American Flag: Exposing Myths About U.S. Symbols","eBook",null,"978-1-4824-5719-3",{"$f":"HYPERLINK(\"https://www.garethstevens.com/\"&Table1[[#This Row],[ISBN]],\"Weblink\")","v":"Weblink"},2017,"January 2017",null,null,"Author","Jill Keppeler",5.2,0.5,null,null,"M","870L","Grade 2 - 3","Grade 2 - 5","Betsy Ross is repeatedly credited with creating the first US flag. Students often learn that when they’re first studying American history. However, most historians agree that she probably didn’t! In fact, Ross’s grandson may have made up the story. After reading about this widespread American myth, readers will be eager to learn others. This valuable volume, full of fun fact boxes and beautiful images, exposes historical myths but also explains the facts behind them, making it an excellent resource for any social studies collection.","English",25.25,18.95,"973--dc23","32 pp.",{"$f":"Table1[[#This Row],[QTY]]*Table1[[#This Row],['# Books]]","v":0},{"$f":"Table1[[#This Row],[QTY]]*Table1[[#This Row],[S&L Price]]","v":0}]
[null,null,140,"Exposed! Myths About Early American History",1,"The Declaration of Independence Wasn't Signed on July 4th: Exposing Myths About Independence Day","Library Bound Book",null,"978-1-4824-5722-3",{"$f":"HYPERLINK(\"https://www.garethstevens.com/\"&Table1[[#This Row],[ISBN]],\"Weblink\")","v":"Weblink"},2017,"January 2017","Library","8.500 X 8.500","Author","Katie Kawa",5.9,0.5,24,null,"M","1000L","Grade 2 - 3","Grade 2 - 5","There are many events and ideas to commemorate on the Fourth of July, such as our freedom and the signing of the Declaration of Independence...right? Not exactly! Many people are surprised to learn that the Declaration of Independence was signed on July 2, 1776, not July 4. Readers will feel like true historians as they learn the facts behind the sights, sounds, and meaning of the American holiday of Fourth of July. The fun design of this patriotic book includes colorful, carefully selected images and eye-catching, informative fact boxes.","English",25.25,18.95,"973.3’13--dc23","32 pp.",{"$f":"Table1[[#This Row],[QTY]]*Table1[[#This Row],['# Books]]","v":0},{"$f":"Table1[[#This Row],[QTY]]*Table1[[#This Row],[S&L Price]]","v":0}]
[null,null,140,"Exposed! Myths About Early American History",1,"The Pilgrims Didn't Celebrate the First Thanksgiving: Exposing Myths About Colonial History","eBook",null,"978-1-4824-5734-6",{"$f":"HYPERLINK(\"https://www.garethstevens.com/\"&Table1[[#This Row],[ISBN]],\"Weblink\")","v":"Weblink"},2017,"January 2017",null,null,"Author","Julia McDonnell",5.5,0.5,null,null,"N","890L","Grade 2 - 3","Grade 2 - 5","Every student grows up hearing about the first Thanksgiving, celebrated by the Pilgrims and Native Americans in 1621. However, that wasn’t the first Thanksgiving! It wasn’t even the first one celebrated by European settlers! This is just one myth debunked in this valuable look at colonial American history. Readers will feel like real historians unearthing the truth behind the legends. Beautiful images and fun fact boxes will add to their interest.","English",25.25,18.95,"973.2--dc23","32 pp.",{"$f":"Table1[[#This Row],[QTY]]*Table1[[#This Row],['# Books]]","v":0},{"$f":"Table1[[#This Row],[QTY]]*Table1[[#This Row],[S&L Price]]","v":0}]
[null,null,144,"Journey to the Past: Investigating Primary Sources",1,"Diaries and Autobiographies Throughout American History","Library Bound Book",null,"978-1-5382-4036-6",{"$f":"HYPERLINK(\"https://www.garethstevens.com/\"&Table1[[#This Row],[ISBN]],\"Weblink\")","v":"Weblink"},2020,"August 2019","Library","6.500 X 9.125","Author","Abby Badach Doyle",null,null,null,null,"S",null,"Grade 4 - 5","Grade 4 - 6","To many people, a diary is like a trusted friend and somewhere secretive to share their true thoughts and feelings. In this book, readers explore more than 200 years of American history through the eyes of real people who lived through it and chronicled their experience. Readers learn what makes diaries and autobiographies different, why they matter, and how to think critically to read them like a historian. From the American Revolution to the 21st century, we'll get personal with history and notable Americans in their own words.","English",26.6,19.95,"920--dc23","32 pp.",{"$f":"Table1[[#This Row],[QTY]]*Table1[[#This Row],['# Books]]","v":0},{"$f":"Table1[[#This Row],[QTY]]*Table1[[#This Row],[S&L Price]]","v":0}]
[null,null,144,"Journey to the Past: Investigating Primary Sources",1,"Diaries and Autobiographies Throughout American History","eBook",null,"978-1-5382-4037-3",{"$f":"HYPERLINK(\"https://www.garethstevens.com/\"&Table1[[#This Row],[ISBN]],\"Weblink\")","v":"Weblink"},2020,"August 2019",null,null,"Author","Abby Badach Doyle",null,null,null,null,"S",null,"Grade 4 - 5","Grade 4 - 6","To many people, a diary is like a trusted friend and somewhere secretive to share their true thoughts and feelings. In this book, readers explore more than 200 years of American history through the eyes of real people who lived through it and chronicled their experience. Readers learn what makes diaries and autobiographies different, why they matter, and how to think critically to read them like a historian. From the American Revolution to the 21st century, we'll get personal with history and notable Americans in their own words.","English",26.6,19.95,"920--dc23","32 pp.",{"$f":"Table1[[#This Row],[QTY]]*Table1[[#This Row],['# Books]]","v":0},{"$f":"Table1[[#This Row],[QTY]]*Table1[[#This Row],[S&L Price]]","v":0}]
[null,null,144,"Journey to the Past: Investigating Primary Sources",1,"Newspapers Throughout American History","Library Bound Book",null,"978-1-5382-4048-9",{"$f":"HYPERLINK(\"https://www.garethstevens.com/\"&Table1[[#This Row],[ISBN]],\"Weblink\")","v":"Weblink"},2020,"August 2019","Library","6.500 X 9.125","Author","Jill Keppeler",null,null,null,null,"T",null,"Grade 4 - 5","Grade 4 - 6","The United States' Founding Fathers knew how important a free press could be to their great experiment in democracy. It was so important that they protected that freedom in the First Amendment to the U.S. Constitution. Throughout the history of the United States, newspapers have documented the ins and outs and ups and downs of the country. This intriguing volume showcases these primary sources of American history, from the earliest reports on revolutionary feelings in New England to the muckrakers of the Progressive Era to the devastating headlines that followed the September 11, 2001, attacks on New York.","English",26.6,19.95,"070.172--dc23","32 pp.",{"$f":"Table1[[#This Row],[QTY]]*Table1[[#This Row],['# Books]]","v":0},{"$f":"Table1[[#This Row],[QTY]]*Table1[[#This Row],[S&L Price]]","v":0}]
[null,null,142,"History on the High Seas",1,"Aboard HMS Beagle","Library Bound Book",null,"978-1-5382-3788-5",{"$f":"HYPERLINK(\"https://www.garethstevens.com/\"&Table1[[#This Row],[ISBN]],\"Weblink\")","v":"Weblink"},2020,"August 2019","Library","8.500 X 8.500","Author","Tanya Dellaccio",null,null,null,null,"N",null,"Grade 2 - 3","Grade 2 - 5","The voyage of the HMS Beagle from 1831 to 1836 was an invaluable scientific expedition that shed light on the inner workings of the natural world. In this noteworthy volume, fascinated young scientists will learn about the ship and its key passengers, especially Charles Darwin, as well as the momentous discoveries amid the journey. Stunning images and thoughtful fictional narratives from the viewpoint of sailors on the famous ship will help readers dive into what it was really like to be on that celebrated voyage.","English",22.6,16.95,"576.8/2--dc23","24 pp.",{"$f":"Table1[[#This Row],[QTY]]*Table1[[#This Row],['# Books]]","v":0},{"$f":"Table1[[#This Row],[QTY]]*Table1[[#This Row],[S&L Price]]","v":0}]
[null,null,142,"History on the High Seas",1,"Aboard the Mayflower","eBook",null,"978-1-5382-3797-7",{"$f":"HYPERLINK(\"https://www.garethstevens.com/\"&Table1[[#This Row],[ISBN]],\"Weblink\")","v":"Weblink"},2020,"August 2019",null,null,"Author","Theresa Emminizer",null,null,null,null,"M",null,"Grade 2 - 3","Grade 2 - 5","Since it set sail from Plymouth, England, in 1620, the Mayflower has captured the imagination. In this thrilling text, readers will embark on that illustrious voyage across the Atlantic, learning about the vessel, passengers, crew, and provisions, and debunking myths about the famous journey along the way. Each informative chapter is accompanied by engaging historical accounts that make readers feel like they're there. Those brave enough to face sickness, cramped quarters, and rough seas for the adventure of a lifetime are invited to climb aboard.","English",22.6,16.95,"974.4/8202--dc23","24 pp.",{"$f":"Table1[[#This Row],[QTY]]*Table1[[#This Row],['# Books]]","v":0},{"$f":"Table1[[#This Row],[QTY]]*Table1[[#This Row],[S&L Price]]","v":0}]
[null,null,142,"History on the High Seas",1,"Aboard the Santa María","Library Bound Book",null,"978-1-5382-3800-4",{"$f":"HYPERLINK(\"https://www.garethstevens.com/\"&Table1[[#This Row],[ISBN]],\"Weblink\")","v":"Weblink"},2020,"August 2019","Library","8.500 X 8.500","Author","Kate Mikoley",null,null,null,null,"M",null,"Grade 2 - 3","Grade 2 - 5","The Santa Maria may not have been the only ship Christopher Columbus used on his explorations, but it was by far the biggest. Readers of this high-interest volume will learn all about the flagship, from its journey across the sea to its fateful ending off the coast of Haiti. Engaging fictional narratives give readers an idea of what life would have been like for those on board. Colorful photographs and accessible text provide insight into the historical journey of this famous vessel.","English",22.6,16.95,"970.01/5092--dc23","24 pp.",{"$f":"Table1[[#This Row],[QTY]]*Table1[[#This Row],['# Books]]","v":0},{"$f":"Table1[[#This Row],[QTY]]*Table1[[#This Row],[S&L Price]]","v":0}]
[null,null,142,"History on the High Seas",1,"Aboard USS Constitution","Library Bound Book",null,"978-1-5382-3808-0",{"$f":"HYPERLINK(\"https://www.garethstevens.com/\"&Table1[[#This Row],[ISBN]],\"Weblink\")","v":"Weblink"},2020,"August 2019","Library","8.500 X 8.500","Author","Therese M. Shea",null,null,null,null,"M",null,"Grade 2 - 3","Grade 2 - 5","The USS Constitution had a storied history, serving its country nearly a century since it was launched in 1797. Readers will love learning about the adventures American sailors had aboard this vessel, especially its exploits during the War of 1812, during which it earned its nickname Old Ironsides. They'll especially enjoy the fictional narratives included throughout the text, which are based on actual accounts of naval sailors and officers. Historical images supplement the text and will inspire the reader to visit this floating piece of history, now a museum.","English",22.6,16.95,"359.3/220973--dc23","24 pp.",{"$f":"Table1[[#This Row],[QTY]]*Table1[[#This Row],['# Books]]","v":0},{"$f":"Table1[[#This Row],[QTY]]*Table1[[#This Row],[S&L Price]]","v":0}]
[null,null,145,"World's Scariest Places",1,"Creepy UFO Sites","eBook",null,"978-1-5382-4231-5",{"$f":"HYPERLINK(\"https://www.garethstevens.com/\"&Table1[[#This Row],[ISBN]],\"Weblink\")","v":"Weblink"},2020,"August 2019",null,null,"Author","Alix Wood",null,null,null,null,"S",null,"Grade 4 - 5","Grade 4 - 6","On a dark and stormy night the wind rises, blustering through the trees. Dogs bark and whimper as a high-pitched, other-worldly whirring grows louder. The clouds part to reveal an enormous flying object. Could it be a UFO? In this beguiling book, readers will learn about the historic sites that have been visited by creepy UFOs. Striking photographs and sensational sidebars will captivate readers. This fascinating and spine-tingling text will provoke even the most doubtful readers to ask themselves: Are we alone?","English",26.6,19.95,"001.942--dc23","32 pp.",{"$f":"Table1[[#This Row],[QTY]]*Table1[[#This Row],['# Books]]","v":0},{"$f":"Table1[[#This Row],[QTY]]*Table1[[#This Row],[S&L Price]]","v":0}]
[null,null,145,"World's Scariest Places",1,"Haunted Towns","Library Bound Book",null,"978-1-5382-4200-1",{"$f":"HYPERLINK(\"https://www.garethstevens.com/\"&Table1[[#This Row],[ISBN]],\"Weblink\")","v":"Weblink"},2020,"August 2019","Library","6.500 X 9.125","Author","Alix Wood",null,null,null,null,"S",null,"Grade 4 - 5","Grade 4 - 6","Picture a place where tumbleweeds roll across abandoned streets, grey fog hangs heavy beneath an eerie moon, and creaking doors hang open on ramshackle cottages. With this haunting text, readers will tour some of the most haunted towns around the globe. Fearsome stories about spooky specters and paranormal activities are tied into historical context, giving readers insight into key concepts of social studies. Informative sidebars enhance and expand this thrilling text. The brilliant design and frightful photographs will inspire the imaginations of young readers.","English",26.6,19.95,"133.1'22--dc23","32 pp.",{"$f":"Table1[[#This Row],[QTY]]*Table1[[#This Row],['# Books]]","v":0},{"$f":"Table1[[#This Row],[QTY]]*Table1[[#This Row],[S&L Price]]","v":0}]
[null,null,145,"World's Scariest Places",1,"Haunted Towns","eBook",null,"978-1-5382-4230-8",{"$f":"HYPERLINK(\"https://www.garethstevens.com/\"&Table1[[#This Row],[ISBN]],\"Weblink\")","v":"Weblink"},2020,"August 2019",null,null,"Author","Alix Wood",null,null,null,null,"S",null,"Grade 4 - 5","Grade 4 - 6","Picture a place where tumbleweeds roll across abandoned streets, grey fog hangs heavy beneath an eerie moon, and creaking doors hang open on ramshackle cottages. With this haunting text, readers will tour some of the most haunted towns around the globe. Fearsome stories about spooky specters and paranormal activities are tied into historical context, giving readers insight into key concepts of social studies. Informative sidebars enhance and expand this thrilling text. The brilliant design and frightful photographs will inspire the imaginations of young readers.","English",26.6,19.95,"133.1'22--dc23","32 pp.",{"$f":"Table1[[#This Row],[QTY]]*Table1[[#This Row],['# Books]]","v":0},{"$f":"Table1[[#This Row],[QTY]]*Table1[[#This Row],[S&L Price]]","v":0}]
[null,null,145,"World's Scariest Places",1,"Abandoned Hospitals","Library Bound Book",null,"978-1-4824-5899-2",{"$f":"HYPERLINK(\"https://www.garethstevens.com/\"&Table1[[#This Row],[ISBN]],\"Weblink\")","v":"Weblink"},2017,"January 2017","Library","6.500 X 9.125","Author","Alix Wood",null,null,null,null,"S",null,"Grade 4 - 5","Grade 4 - 6","It seems peculiar that hospitals—places where people’s lives are saved—can be downright creepy once they’re abandoned. Leftover medical instruments, stained walls, and mysterious sounds all contribute to the unsettling feeling one gets once inside. Luckily, readers won’t have to travel to deserted hospitals around the world. They can tour them in the pages of this hair-raising volume. They’ll visit the Taunton State Hospital in Massachusetts, Old Changi Hospital in Singapore, and others. Plenty of history is mixed in with the odd anecdotes connected with each, and a chilling design and images add to the eerie ambience.","English",26.6,19.95,"133.1’22--dc23","32 pp.",{"$f":"Table1[[#This Row],[QTY]]*Table1[[#This Row],['# Books]]","v":0},{"$f":"Table1[[#This Row],[QTY]]*Table1[[#This Row],[S&L Price]]","v":0}]
[null,null,145,"World's Scariest Places",1,"Ghostly Prisons","eBook",null,"978-1-4824-5907-4",{"$f":"HYPERLINK(\"https://www.garethstevens.com/\"&Table1[[#This Row],[ISBN]],\"Weblink\")","v":"Weblink"},2017,"January 2017",null,null,"Author","Alix Wood",null,null,null,null,"T","910L","Grade 4 - 5","Grade 4 - 6","They say that violent deaths beget vengeful spirits refusing to rest in peace. Anne Boleyn was beheaded with a single stroke of a sword at the Tower of London in 1536. After that vicious execution, some say she still roams the Tower grounds! Similar disturbing accounts of historical prisons around the world abound in this spine-tingling and highly motivating work. A world map, vivid photographs, and stimulating sidebars further encourage readers to understand more about the history, geography, and culture involved in each prison’s unique story.","English",26.6,19.95,"133.1’22--dc23","32 pp.",{"$f":"Table1[[#This Row],[QTY]]*Table1[[#This Row],['# Books]]","v":0},{"$f":"Table1[[#This Row],[QTY]]*Table1[[#This Row],[S&L Price]]","v":0}]
[null,null,145,"World's Scariest Places",1,"Spooky Hotels","Library Bound Book",null,"978-1-4824-5918-0",{"$f":"HYPERLINK(\"https://www.garethstevens.com/\"&Table1[[#This Row],[ISBN]],\"Weblink\")","v":"Weblink"},2017,"January 2017","Library","6.500 X 9.125","Author","Alix Wood",null,null,null,null,"S","870L","Grade 4 - 5","Grade 4 - 6","Creaking stairs, strange sounds, a child's laugh in an empty room...these are some hallmarks of a haunted hotel. Thrilled readers will become supernatural investigators as they tour the spookiest addresses on the planet. Some of the hotels, far from being abandoned, are occupied by the living as well as perhaps by specters, poltergeists, and other spirits. The Queen Mary Hotel in California and the Ancient Ram Inn in England are two such paranormally populated places. Foreboding facts mingle with history, geography, and a beautiful design in this macabre volume.","English",26.6,19.95,"133.1’22--dc23","32 pp.",{"$f":"Table1[[#This Row],[QTY]]*Table1[[#This Row],['# Books]]","v":0},{"$f":"Table1[[#This Row],[QTY]]*Table1[[#This Row],[S&L Price]]","v":0}]
[null,null,145,"World's Scariest Places",1,"Spooky Hotels","eBook",null,"978-1-4824-5919-7",{"$f":"HYPERLINK(\"https://www.garethstevens.com/\"&Table1[[#This Row],[ISBN]],\"Weblink\")","v":"Weblink"},2017,"January 2017",null,null,"Author","Alix Wood",null,null,null,null,"S","870L","Grade 4 - 5","Grade 4 - 6","Creaking stairs, strange sounds, a child's laugh in an empty room...these are some hallmarks of a haunted hotel. Thrilled readers will become supernatural investigators as they tour the spookiest addresses on the planet. Some of the hotels, far from being abandoned, are occupied by the living as well as perhaps by specters, poltergeists, and other spirits. The Queen Mary Hotel in California and the Ancient Ram Inn in England are two such paranormally populated places. Foreboding facts mingle with history, geography, and a beautiful design in this macabre volume.","English",26.6,19.95,"133.1’22--dc23","32 pp.",{"$f":"Table1[[#This Row],[QTY]]*Table1[[#This Row],['# Books]]","v":0},{"$f":"Table1[[#This Row],[QTY]]*Table1[[#This Row],[S&L Price]]","v":0}]
[null,null,160,"Sports for Supergirls",1,"Combat Sports","Library Bound Book",null,"978-1-5382-4190-5",{"$f":"HYPERLINK(\"https://www.garethstevens.com/\"&Table1[[#This Row],[ISBN]],\"Weblink\")","v":"Weblink"},2020,"August 2019","Library","7.250 X 9.250","Author","Louise Spilsbury",7.5,1,null,null,"T",null,"Grade 4 - 5","Grade 4 - 6","Kaia! Readers of this text will learn about women who have dominated combat sports such as boxing, wrestling, and mixed martial arts. These highly competitive sports are exciting, and readers learn it takes discipline, technique, and a knowledge of the rules to be successful. Utilizing full-color photographs and engaging language, this text is perfect for girls already interested in sports but also for those who are still looking to find a unique sport that \"clicks.\" In addition, this book provides information to readers about getting involved in combat sports.","English",31.95,23.95,"796.8--dc23","48 pp.",{"$f":"Table1[[#This Row],[QTY]]*Table1[[#This Row],['# Books]]","v":0},{"$f":"Table1[[#This Row],[QTY]]*Table1[[#This Row],[S&L Price]]","v":0}]
[null,null,160,"Sports for Supergirls",1,"Snow and Ice Sports","eBook",null,"978-1-5382-4215-5",{"$f":"HYPERLINK(\"https://www.garethstevens.com/\"&Table1[[#This Row],[ISBN]],\"Weblink\")","v":"Weblink"},2020,"August 2019",null,null,"Author","Louise Spilsbury",6.8,1,null,null,"T",null,"Grade 4 - 5","Grade 4 - 6","When it's cold outside, super sports girls get out on the ice and into the snow. Ice climbing, snowboarding, and snowmobiling: these are just a few of the winter sports women have competed in and excelled. Readers learn about the different ways they too can get out during the winter. Stories of competitive women athletes and dramatic images inspire readers to get active, and information about technique and how to get involved in winter sports encourages safe practices.","English",31.95,23.95,"796.9--dc23","48 pp.",{"$f":"Table1[[#This Row],[QTY]]*Table1[[#This Row],['# Books]]","v":0},{"$f":"Table1[[#This Row],[QTY]]*Table1[[#This Row],[S&L Price]]","v":0}]
[null,null,165,"Conoce los ciclos de la naturaleza (A Look at Nature's Cycles)",6,"Conoce los ciclos de la naturaleza (A Look at Nature's Cycles)","Library Set",null,"978-1-5382-4413-5",{"$f":"HYPERLINK(\"https://www.garethstevens.com/\"&Table1[[#This Row],[ISBN]],\"Weblink\")","v":"Weblink"},2020,"August 2019","Library","6.500 X 9.125",null,null,null,null,null,null,null,null,"Grade 2","Grade 3 - 6","In order to explain the many intricate processes on Earth, scientists often create models. Whether it's how water moves through the Earth, its bodies of water, and the atmosphere, or how energy moves throughout an ecosystem, these models help students understand the world around them. This set gives a simple overview of food chains and webs, the carbon cycle, cycles in space, and others, for struggling readers in need of extra help in science class. With helpful diagrams and curriculum-correlated text, this set is a must-have for schools and libraries. Features include: A low reading level makes upper elementary concepts available to struggling readers. Provides a succinct review for test or class preparation. Supports several of the Next Generation Science Standards.","Spanish",159.6,119.7,null,"32 pp.",{"$f":"Table1[[#This Row],[QTY]]*Table1[[#This Row],['# Books]]","v":0},{"$f":"Table1[[#This Row],[QTY]]*Table1[[#This Row],[S&L Price]]","v":0}]
[null,null,165,"Conoce los ciclos de la naturaleza (A Look at Nature's Cycles)",1,"Cadenas y redes alimentarias (Food Chains and Webs)","Library Bound Book",null,"978-1-5382-4373-2",{"$f":"HYPERLINK(\"https://www.garethstevens.com/\"&Table1[[#This Row],[ISBN]],\"Weblink\")","v":"Weblink"},2020,"August 2019","Library","6.500 X 9.125","Author, Translated by","Bray Jacobson, Alberto Jiménez",null,null,null,null,"J",null,"Grade 2","Grade 3 - 6","All organisms in an ecosystem are connected. Some are predator, some are prey, and others are just there to help decomposition. What's more, food chains and food webs are a crucial part of the Earth and life science curricula. Written for struggling upper elementary readers, the main content highlights the most important points, as well as the essential vocabulary relating to food chains and webs. Full-color diagrams aid readers' comprehension.","Spanish",26.6,19.95,"577/.16--dc23","32 pp.",{"$f":"Table1[[#This Row],[QTY]]*Table1[[#This Row],['# Books]]","v":0},{"$f":"Table1[[#This Row],[QTY]]*Table1[[#This Row],[S&L Price]]","v":0}]
[null,null,165,"Conoce los ciclos de la naturaleza (A Look at Nature's Cycles)",1,"El ciclo del agua (The Water Cycle)","eBook",null,"978-1-5382-4378-7",{"$f":"HYPERLINK(\"https://www.garethstevens.com/\"&Table1[[#This Row],[ISBN]],\"Weblink\")","v":"Weblink"},2020,"August 2019",null,null,"Author, Translated by","Santana Hunt, Alberto Jiménez",null,null,null,null,"J",null,"Grade 2","Grade 3 - 6","Understanding the water cycle provides a solid foundation for comprehending weather and even some climate change topics. It's also a part of many elementary science curricula and important for everyone to understand, even struggling readers. This book aims to bring all learners up to speed on the basics of the water cycle, from precipitation to evaporation, and includes fact boxes to provide more vocabulary and concept context. Diagrams and full-color photographs complement the low-level text and simply stated science information.","Spanish",26.6,19.95,"551.48--dc23","32 pp.",{"$f":"Table1[[#This Row],[QTY]]*Table1[[#This Row],['# Books]]","v":0},{"$f":"Table1[[#This Row],[QTY]]*Table1[[#This Row],[S&L Price]]","v":0}]
[null,null,165,"Conoce los ciclos de la naturaleza (A Look at Nature's Cycles)",1,"El ciclo del oxígeno (The Oxygen Cycle)","Library Bound Book",null,"978-1-5382-4389-3",{"$f":"HYPERLINK(\"https://www.garethstevens.com/\"&Table1[[#This Row],[ISBN]],\"Weblink\")","v":"Weblink"},2020,"August 2019","Library","6.500 X 9.125","Author, Translated by","Santana Hunt, Alberto Jiménez",null,null,null,null,"J",null,"Grade 2","Grade 3 - 6","The movement of oxygen from product of photosynthesis, through the human system, water, and Earth's atmosphere is a scientific model called the oxygen cycle. And it's essential for life on Earth to continue. Through accessible language and full-color diagrams and photographs, this book explains an important natural cycle to readers of all levels, particularly those struggling to understand a standard text book. Fact boxes and an extended glossary allow for the inclusion of the most important science vocabulary so all readers have the ability to understand, speak, and write about the topic.","Spanish",26.6,19.95,"551.51/12--dc23","32 pp.",{"$f":"Table1[[#This Row],[QTY]]*Table1[[#This Row],['# Books]]","v":0},{"$f":"Table1[[#This Row],[QTY]]*Table1[[#This Row],[S&L Price]]","v":0}]
[null,null,173,"Animales del zoológico / Zoo Animals",1,"Las nutrias / Otters at the Zoo","Library Bound Book",null,"978-1-5382-4361-9",{"$f":"HYPERLINK(\"https://www.garethstevens.com/\"&Table1[[#This Row],[ISBN]],\"Weblink\")","v":"Weblink"},2020,"August 2019","Library","7.625 X 7.125","Author, Translated by","Seth Lynch, Esther Ortiz",null,null,null,null,"C",null,"Grade K","Grade Pre-K - 2","Otters move so fast in their habitat at the zoo, sometimes it can be difficult to get a good look at them. With this book, beginning readers get much more up-close and personal with adorable otters. Including what otters eat and how they spend their time, the main content and language is age-appropriate for pre-K readers. Full-color photographs correlate to the otter information to further aid new readers as they swim along with otters at the zoo.","Bilingual",22.6,16.95,"599.769--dc23","24 pp.",{"$f":"Table1[[#This Row],[QTY]]*Table1[[#This Row],['# Books]]","v":0},{"$f":"Table1[[#This Row],[QTY]]*Table1[[#This Row],[S&L Price]]","v":0}]
[null,null,173,"Animales del zoológico / Zoo Animals",1,"Las nutrias / Otters at the Zoo","eBook",null,"978-1-5382-4362-6",{"$f":"HYPERLINK(\"https://www.garethstevens.com/\"&Table1[[#This Row],[ISBN]],\"Weblink\")","v":"Weblink"},2020,"August 2019",null,null,"Author, Translated by","Seth Lynch, Esther Ortiz",null,null,null,null,"C",null,"Grade K","Grade Pre-K - 2","Otters move so fast in their habitat at the zoo, sometimes it can be difficult to get a good look at them. With this book, beginning readers get much more up-close and personal with adorable otters. Including what otters eat and how they spend their time, the main content and language is age-appropriate for pre-K readers. Full-color photographs correlate to the otter information to further aid new readers as they swim along with otters at the zoo.","Bilingual",22.6,16.95,"599.769--dc23","24 pp.",{"$f":"Table1[[#This Row],[QTY]]*Table1[[#This Row],['# Books]]","v":0},{"$f":"Table1[[#This Row],[QTY]]*Table1[[#This Row],[S&L Price]]","v":0}]
[null,null,173,"Animales del zoológico / Zoo Animals",1,"Los renos / Reindeer at the Zoo","Library Bound Book",null,"978-1-5382-4364-0",{"$f":"HYPERLINK(\"https://www.garethstevens.com/\"&Table1[[#This Row],[ISBN]],\"Weblink\")","v":"Weblink"},2020,"August 2019","Library","7.625 X 7.125","Author, Translated by","Seth Lynch, Esther Ortiz",null,null,null,null,"C",null,"Grade K","Grade Pre-K - 2","Reindeer have a reputation of living at the North Pole, but they actually live in North America, Europe, and Siberia. Encountering Santa's mode of transport at the zoo can be magical. Learning all about what reindeer eat and how they spend their time in their zoo habitat will make visits to the zoo even better. With language and content perfect for beginning readers, this book enables readers to find out more about their favorite zoo exhibit all on their own.","Bilingual",22.6,16.95,"599.65/8--dc23","24 pp.",{"$f":"Table1[[#This Row],[QTY]]*Table1[[#This Row],['# Books]]","v":0},{"$f":"Table1[[#This Row],[QTY]]*Table1[[#This Row],[S&L Price]]","v":0}]
[null,null,173,"Animales del zoológico / Zoo Animals",1,"Los tucanes / Toucans at the Zoo","eBook",null,"978-1-5382-4368-8",{"$f":"HYPERLINK(\"https://www.garethstevens.com/\"&Table1[[#This Row],[ISBN]],\"Weblink\")","v":"Weblink"},2020,"August 2019",null,null,"Author, Translated by","Seth Lynch, Esther Ortiz",null,null,null,null,"C",null,"Grade K","Grade Pre-K - 2","Toucans are easy to spot because of their huge, colorful bill. It can be as much as four times the size of the bird's head. Readers may recognize this bird at the zoo, but this book helps new readers learn more about the iconic toucan. Including what their lives are like at the zoo and what they eat, the main content is written especially for pre-K readers with achievable language. Full-color photographs invite readers into the toucan's habitat and aid comprehension of the text.","Bilingual",22.6,16.95,"598.7/2--dc23","24 pp.",{"$f":"Table1[[#This Row],[QTY]]*Table1[[#This Row],['# Books]]","v":0},{"$f":"Table1[[#This Row],[QTY]]*Table1[[#This Row],[S&L Price]]","v":0}]
[null,null,173,"Animales del zoológico / Zoo Animals",1,"Gorilas / Gorillas at the Zoo","Library Bound Book",null,"978-1-4824-3231-2",{"$f":"HYPERLINK(\"https://www.garethstevens.com/\"&Table1[[#This Row],[ISBN]],\"Weblink\")","v":"Weblink"},2016,"August 2015","Library","7.625 X 7.125","Author","Finn Ward",null,null,null,null,"C",null,"Grade K","Grade K - 2","A trip to the zoo isn’t complete without visiting the gorillas! These curious animals love climbing trees and playing with their babies. Through accessible text matched with vivid photographs, early readers will love learning all about what these amazing creatures eat and how they spend their days building nests to rest in each night. Gorillas never use the same nest twice, and whether they sleep on the ground or up above depends on each gorilla. Just like humans, each gorilla has its own habits and even uses tools to make the zoo feel more like home.","Bilingual",22.6,16.95,"599.884","24 pp.",{"$f":"Table1[[#This Row],[QTY]]*Table1[[#This Row],['# Books]]","v":0},{"$f":"Table1[[#This Row],[QTY]]*Table1[[#This Row],[S&L Price]]","v":0}]
[null,null,173,"Animales del zoológico / Zoo Animals",1,"Gorilas / Gorillas at the Zoo","eBook",null,"978-1-4824-3232-9",{"$f":"HYPERLINK(\"https://www.garethstevens.com/\"&Table1[[#This Row],[ISBN]],\"Weblink\")","v":"Weblink"},2016,"August 2015",null,null,"Author","Finn Ward",null,null,null,null,"C",null,"Grade K","Grade K - 2","A trip to the zoo isn’t complete without visiting the gorillas! These curious animals love climbing trees and playing with their babies. Through accessible text matched with vivid photographs, early readers will love learning all about what these amazing creatures eat and how they spend their days building nests to rest in each night. Gorillas never use the same nest twice, and whether they sleep on the ground or up above depends on each gorilla. Just like humans, each gorilla has its own habits and even uses tools to make the zoo feel more like home.","Bilingual",22.6,16.95,"599.884","24 pp.",{"$f":"Table1[[#This Row],[QTY]]*Table1[[#This Row],['# Books]]","v":0},{"$f":"Table1[[#This Row],[QTY]]*Table1[[#This Row],[S&L Price]]","v":0}]
[null,null,173,"Animales del zoológico / Zoo Animals",1,"Pingüinos / Penguins at the Zoo","eBook",null,"978-1-4824-3237-4",{"$f":"HYPERLINK(\"https://www.garethstevens.com/\"&Table1[[#This Row],[ISBN]],\"Weblink\")","v":"Weblink"},2016,"August 2015",null,null,"Author","Finn Ward",null,null,null,null,"C",null,"Grade K","Grade K - 2","Penguins are fun animals that love to swim and play. Early readers will love taking a look at penguins’ lives inside the zoo, where the fish are plentiful at mealtime and predators can’t take a bite out of them when they go for a dive. With zookeepers taking care of these amazing waterproof birds, they live long lives entertaining countless zoo patrons with their quick swimming and playful ways inside their zoo habitats. Accessible text paired with supporting photographs offer a glimpse of readers’ favorite zoo friends!","Bilingual",22.6,16.95,"598.47","24 pp.",{"$f":"Table1[[#This Row],[QTY]]*Table1[[#This Row],['# Books]]","v":0},{"$f":"Table1[[#This Row],[QTY]]*Table1[[#This Row],[S&L Price]]","v":0}]
[null,null,66,"A Look at Ancient Civilizations",1,"Ancient China","eBook",null,"978-1-5382-3106-7",{"$f":"HYPERLINK(\"https://www.garethstevens.com/\"&Table1[[#This Row],[ISBN]],\"Weblink\")","v":"Weblink"},2019,"January 2019",null,null,"Author","Daniel R. Faust",null,null,null,null,"J","890L","Grade 2","Grade 3 - 6","China is unique among the four great ancient civilizations in that it has changed very little over the millennia. Unlike India, Egypt, and Mesopotamia, China's impassable mountains and vast deserts protected China from invasion. Free from foreign interference, China's great dynasties, like the Qin and the Han, flourished. Many of the things we associate with modern China, like the Great Wall, expensive silks, and beautiful calligraphy, all date to ancient times. Help your struggling readers better understand ancient history with this accessible text. Full-color photographs, maps, and a timeline of important events provide additional context.","English",26.6,19.95,"931--dc23","32 pp.",{"$f":"Table1[[#This Row],[QTY]]*Table1[[#This Row],['# Books]]","v":0},{"$f":"Table1[[#This Row],[QTY]]*Table1[[#This Row],[S&L Price]]","v":0}]
[null,null,66,"A Look at Ancient Civilizations",1,"Ancient India","Library Bound Book",null,"978-1-5382-3003-9",{"$f":"HYPERLINK(\"https://www.garethstevens.com/\"&Table1[[#This Row],[ISBN]],\"Weblink\")","v":"Weblink"},2019,"January 2019","Library","6.500 X 9.125","Author","Daniel R. Faust",null,null,null,null,"J","890L","Grade 2","Grade 3 - 6","India is considered one of the great ancient civilizations of the Old World. From the earliest settlements along the Indus River to the golden age of the Gupta Empire, the cultural contributions of ancient India are an important component of the human story. Readers will travel back in time and witness how religion, art, and literature helped craft the India we know today. Maps, full-color photographs, and biographies of important historical figures will enhance the reading experience and engage reluctant and struggling readers.","English",26.6,19.95,"934--dc23","32 pp.",{"$f":"Table1[[#This Row],[QTY]]*Table1[[#This Row],['# Books]]","v":0},{"$f":"Table1[[#This Row],[QTY]]*Table1[[#This Row],[S&L Price]]","v":0}]
[null,null,66,"A Look at Ancient Civilizations",1,"Ancient India","eBook",null,"978-1-5382-3105-0",{"$f":"HYPERLINK(\"https://www.garethstevens.com/\"&Table1[[#This Row],[ISBN]],\"Weblink\")","v":"Weblink"},2019,"January 2019",null,null,"Author","Daniel R. Faust",null,null,null,null,"J","890L","Grade 2","Grade 3 - 6","India is considered one of the great ancient civilizations of the Old World. From the earliest settlements along the Indus River to the golden age of the Gupta Empire, the cultural contributions of ancient India are an important component of the human story. Readers will travel back in time and witness how religion, art, and literature helped craft the India we know today. Maps, full-color photographs, and biographies of important historical figures will enhance the reading experience and engage reluctant and struggling readers.","English",26.6,19.95,"934--dc23","32 pp.",{"$f":"Table1[[#This Row],[QTY]]*Table1[[#This Row],['# Books]]","v":0},{"$f":"Table1[[#This Row],[QTY]]*Table1[[#This Row],[S&L Price]]","v":0}]
[null,null,67,"A Look at Chemistry",6,"A Look at Chemistry","Library Set",null,"978-1-5382-3016-9",{"$f":"HYPERLINK(\"https://www.garethstevens.com/\"&Table1[[#This Row],[ISBN]],\"Weblink\")","v":"Weblink"},2019,"January 2019","Library","6.500 X 9.125",null,null,null,null,null,null,null,null,"Grade 2","Grade 3 - 6","Understanding what the world around us is made of is essential to grasping upper-level science principles. However, concepts such as atoms, the pH scale, and states of matter can seem complicated, especially to a struggling reader. This informative set tackles these basic chemistry concepts as well as molecules, elements, and the periodic table to prepare all readers for success in their science studies now and in the future. Diagrams and graphic organizers assist readers as they encounter chemistry topics for the first time or as a review. Features include: An expanded glossary allows for inclusion of vocabulary integral to chemistry topics. Content prepares readers for chemistry concepts found in the Next Generation Science Standards. Fact boxes on each spread further explain difficult topics and expound on main content information.","English",159.6,119.7,null,"32 pp.",{"$f":"Table1[[#This Row],[QTY]]*Table1[[#This Row],['# Books]]","v":0},{"$f":"Table1[[#This Row],[QTY]]*Table1[[#This Row],[S&L Price]]","v":0}]
[null,null,67,"A Look at Chemistry",1,"Molecules","Library Bound Book",null,"978-1-5382-3012-1",{"$f":"HYPERLINK(\"https://www.garethstevens.com/\"&Table1[[#This Row],[ISBN]],\"Weblink\")","v":"Weblink"},2019,"January 2019","Library","6.500 X 9.125","Author","Kennon O'Mara",null,null,null,null,"J","830L","Grade 2","Grade 3 - 6","Molecules may be minuscule, but life wouldn't exist without them. This approachable look at an important chemistry topic takes young scientists on a tour of the world at the atomic level. They'll learn how atoms combine to form molecules and about some familiar and vital molecules, such as carbon dioxide. Thought-provoking fact boxes offer even more interesting information, while useful diagrams help learners visualize the amazing processes of nature.","English",26.6,19.95,"539/.6--dc23","32 pp.",{"$f":"Table1[[#This Row],[QTY]]*Table1[[#This Row],['# Books]]","v":0},{"$f":"Table1[[#This Row],[QTY]]*Table1[[#This Row],[S&L Price]]","v":0}]
[null,null,67,"A Look at Chemistry",1,"States of Matter","eBook",null,"978-1-5382-3102-9",{"$f":"HYPERLINK(\"https://www.garethstevens.com/\"&Table1[[#This Row],[ISBN]],\"Weblink\")","v":"Weblink"},2019,"January 2019",null,null,"Author","Mary Griffin",null,null,null,null,"I","710L","Grade 2","Grade 3 - 6","Many people are familiar with the states of matter called solid, liquid, and gas, but they may not have heard of the other two states, plasmas and Bose-Einstein condensates. In this notable book, readers will learn what all these states are as well as what happens to matter to trigger a change from one form to another. The comprehensible text is supported by helpful images, diagrams, and fact boxes as well as vocabulary that serves to highlight key science terms.","English",26.6,19.95,"530.4--dc23","32 pp.",{"$f":"Table1[[#This Row],[QTY]]*Table1[[#This Row],['# Books]]","v":0},{"$f":"Table1[[#This Row],[QTY]]*Table1[[#This Row],[S&L Price]]","v":0}]
[null,null,67,"A Look at Chemistry",1,"The Periodic Table","eBook",null,"978-1-5382-3103-6",{"$f":"HYPERLINK(\"https://www.garethstevens.com/\"&Table1[[#This Row],[ISBN]],\"Weblink\")","v":"Weblink"},2019,"January 2019",null,null,"Author","Mary Griffin",null,null,null,null,"J","800L","Grade 2","Grade 3 - 6","The periodic table is the way scientists have organized the known elements, but up-and-coming scientists can learn much from the periodic table as well. Your readers will learn how to read the periodic table, including what an element's atomic number means and what the rows and columns signify. They'll gather facts about common and interesting elements and even discover how they can predict how elements might chemically react from their position in the table. Fact boxes and images add additional information to the accessible text.","English",26.6,19.95,"546'.8--dc23","32 pp.",{"$f":"Table1[[#This Row],[QTY]]*Table1[[#This Row],['# Books]]","v":0},{"$f":"Table1[[#This Row],[QTY]]*Table1[[#This Row],[S&L Price]]","v":0}]
[null,null,116,"Blue Ribbon Animals",1,"Showing Chickens at the Fair","eBook",null,"978-1-5382-3068-8",{"$f":"HYPERLINK(\"https://www.garethstevens.com/\"&Table1[[#This Row],[ISBN]],\"Weblink\")","v":"Weblink"},2019,"January 2019",null,null,"Author","Jennifer Wendt",4.2,0.5,null,null,"L",null,"Grade 2 - 3","Grade 2 - 5","You probably think of chicken in terms of the yummy sandwich or dinner staple that Americans love. However, some people think of chicken in a totally different way. These people know the ins and outs of what it takes to show chickens at a fair. Details about how to make these animals look their best engage readers, and pictures and fact boxes wow anyone who is interested in learning more about what it takes to bring home the prize for best chicken at the fair.","English",22.6,16.95,"636.5--dc23","24 pp.",{"$f":"Table1[[#This Row],[QTY]]*Table1[[#This Row],['# Books]]","v":0},{"$f":"Table1[[#This Row],[QTY]]*Table1[[#This Row],[S&L Price]]","v":0}]
[null,null,116,"Blue Ribbon Animals",1,"Showing Pigs at the Fair","Library Bound Book",null,"978-1-5382-2930-9",{"$f":"HYPERLINK(\"https://www.garethstevens.com/\"&Table1[[#This Row],[ISBN]],\"Weblink\")","v":"Weblink"},2019,"January 2019","Library","8.500 X 8.500","Author","Jennifer Wendt",3.9,0.5,null,null,"L",null,"Grade 2 - 3","Grade 2 - 5","Showing pigs at the fair can be a challenging job, since pigs love mud and getting dirty! Readers learn the rules and requirements that must be followed in order to produce and show a blue-ribbon-worthy pig at the fair. Different divisions, age requirements, and how to spruce up your swine for showing are just some of the topics that intrigue readers, while vivid pictures will support the interesting information written by an expert on the subject.","English",22.6,16.95,"636.4--dc23","24 pp.",{"$f":"Table1[[#This Row],[QTY]]*Table1[[#This Row],['# Books]]","v":0},{"$f":"Table1[[#This Row],[QTY]]*Table1[[#This Row],[S&L Price]]","v":0}]
[null,null,116,"Blue Ribbon Animals",1,"Showing Sheep at the Fair","eBook",null,"978-1-5382-3073-2",{"$f":"HYPERLINK(\"https://www.garethstevens.com/\"&Table1[[#This Row],[ISBN]],\"Weblink\")","v":"Weblink"},2019,"January 2019",null,null,"Author","Jennifer Wendt",3.9,0.5,null,null,"L",null,"Grade 2 - 3","Grade 2 - 5","You may think that all sheep are the same, but what sets some sheep above the rest? Readers are treated to information from an expert about shearing, market versus performance sheep, and training sheep to ensure that they put their best hoof forward in the ring. From ewes to rams, details about different competitions are also covered. Colorful photographs of sheep being shown and fun fact boxes delight young readers and perhaps encourage them to want to show some sheep of their own.","English",22.6,16.95,"636.3/1--dc23","24 pp.",{"$f":"Table1[[#This Row],[QTY]]*Table1[[#This Row],['# Books]]","v":0},{"$f":"Table1[[#This Row],[QTY]]*Table1[[#This Row],[S&L Price]]","v":0}]
[null,null,87,"Make a Masterpiece",6,"Make a Masterpiece","Library Set",null,"978-1-5382-3603-1",{"$f":"HYPERLINK(\"https://www.garethstevens.com/\"&Table1[[#This Row],[ISBN]],\"Weblink\")","v":"Weblink"},2019,"January 2019","Library","8.500 X 11.00",null,null,null,null,null,null,null,null,"Grade 3 - 4","Grade 3 - 5","Anyone can make a masterpiece, but getting started can be hard. This informative series gives readers the tools to unleash their inner artist. Each book focuses on the fundamentals of a different art form, such as watercolors, pastels, and charcoal. These accessible guides teach readers the basics of each medium, making this series a perfect tool for any art curriculum. A gorgeous, simple design with full-color photographs makes each book a pleasure to read. Easy-to-comprehend instructions help readers follow along and gain confidence with each project. Features include: Encourages a love for art and creativity. Step-by-step instructions and accompanying images make each lesson simple and accessible. Perfect for introducing readers to new art forms.","English",159.6,119.7,null,"32 pp.",{"$f":"Table1[[#This Row],[QTY]]*Table1[[#This Row],['# Books]]","v":0},{"$f":"Table1[[#This Row],[QTY]]*Table1[[#This Row],[S&L Price]]","v":0}]
[null,null,87,"Make a Masterpiece",1,"Colored Pencils","Library Bound Book",null,"978-1-5382-3594-2",{"$f":"HYPERLINK(\"https://www.garethstevens.com/\"&Table1[[#This Row],[ISBN]],\"Weblink\")","v":"Weblink"},2019,"January 2019","Library","8.500 X 11.00","Author","Alix Wood",null,null,null,null,"O",null,"Grade 3 - 4","Grade 3 - 5","Colored pencils may seem simple, but the artworks they can create are truly spectacular! From photorealistic drawings to colorful abstract pieces to vibrant cartoons, the possibilities are endless. This guide to colored pencils gives young artists the tools they need to begin mastering this versatile art form. They'll make masterpieces as they follow along projects designed to teach the fundamentals of colored pencils. Step-by-step instructions with full-color photographs break each project down into manageable parts. Beautifully designed with accessible text, this volume will be a valuable addition to any library or classroom.","English",26.6,19.95,"741.2'4--dc23","32 pp.",{"$f":"Table1[[#This Row],[QTY]]*Table1[[#This Row],['# Books]]","v":0},{"$f":"Table1[[#This Row],[QTY]]*Table1[[#This Row],[S&L Price]]","v":0}]
[null,null,87,"Make a Masterpiece",1,"Pen and Ink","Library Bound Book",null,"978-1-5382-3592-8",{"$f":"HYPERLINK(\"https://www.garethstevens.com/\"&Table1[[#This Row],[ISBN]],\"Weblink\")","v":"Weblink"},2019,"January 2019","Library","8.500 X 11.00","Author","Alix Wood",null,null,null,null,"O",null,"Grade 3 - 4","Grade 3 - 5","Move aside, Rembrandt! The next generation of masterful pen-and-ink artists are on their way. Working with pen and ink may be tricky, but the results can be amazing. This engaging guide gives young artists the tools they need to begin making pen-and-ink masterpieces of their own. They'll learn the fundamentals of this expressive art form as they complete creative projects. Simple step-by-step instructions with full-color photographs ensure accessibility. With a vivid design and entertaining projects, this introduction to pen and ink is perfect for any art curriculum.","English",26.6,19.95,"741.2'6--dc23","32 pp.",{"$f":"Table1[[#This Row],[QTY]]*Table1[[#This Row],['# Books]]","v":0},{"$f":"Table1[[#This Row],[QTY]]*Table1[[#This Row],[S&L Price]]","v":0}]
[null,null,143,"History Just Before You Were Born",1,37145,"Library Bound Book",null,"978-1-5382-3030-5",{"$f":"HYPERLINK(\"https://www.garethstevens.com/\"&Table1[[#This Row],[ISBN]],\"Weblink\")","v":"Weblink"},2019,"January 2019","Library","6.500 X 9.125","Author","Caroline Kennon",7.2,1,null,null,"S",null,"Grade 4 - 5","Grade 4 - 6","On the morning of September 11, 2001, Muslim extremists hijacked U.S. airplanes and crashed them in New York City, Washington, DC, and rural Pennsylvania. These attacks killed 2,977 people and made Osama bin Laden, al-Qaeda, and terrorism household words. This important book looks at the events leading up to 9/11, the morning of the attacks, the devastating consequences, and the life-altering aftermath. Stunning images and thoughtful sidebars and fact boxes accompany the text, which also highlights how Americans came together to heal after the tragedy.","English",26.6,19.95,"973.931--dc23","32 pp.",{"$f":"Table1[[#This Row],[QTY]]*Table1[[#This Row],['# Books]]","v":0},{"$f":"Table1[[#This Row],[QTY]]*Table1[[#This Row],[S&L Price]]","v":0}]
[null,null,143,"History Just Before You Were Born",1,37145,"eBook",null,"978-1-5382-3093-0",{"$f":"HYPERLINK(\"https://www.garethstevens.com/\"&Table1[[#This Row],[ISBN]],\"Weblink\")","v":"Weblink"},2019,"January 2019",null,null,"Author","Caroline Kennon",7.2,1,null,null,"S",null,"Grade 4 - 5","Grade 4 - 6","On the morning of September 11, 2001, Muslim extremists hijacked U.S. airplanes and crashed them in New York City, Washington, DC, and rural Pennsylvania. These attacks killed 2,977 people and made Osama bin Laden, al-Qaeda, and terrorism household words. This important book looks at the events leading up to 9/11, the morning of the attacks, the devastating consequences, and the life-altering aftermath. Stunning images and thoughtful sidebars and fact boxes accompany the text, which also highlights how Americans came together to heal after the tragedy.","English",26.6,19.95,"973.931--dc23","32 pp.",{"$f":"Table1[[#This Row],[QTY]]*Table1[[#This Row],['# Books]]","v":0},{"$f":"Table1[[#This Row],[QTY]]*Table1[[#This Row],[S&L Price]]","v":0}]
[null,null,143,"History Just Before You Were Born",1,"The End of Apartheid","Library Bound Book",null,"978-1-5382-3026-8",{"$f":"HYPERLINK(\"https://www.garethstevens.com/\"&Table1[[#This Row],[ISBN]],\"Weblink\")","v":"Weblink"},2019,"January 2019","Library","6.500 X 9.125","Author","Jason Glaser",7,1,null,null,"S",null,"Grade 4 - 5","Grade 4 - 6","Few places have felt the weight of colonization and slavery the way South Africa has. The ruling powers of Dutch and British settlers set in place a legal system designed to keep the races separated and unequal. Readers will come to understand these laws, known as apartheid, and the terrible effects they had. They will also learn how the echoes of apartheid still resound in both culture and politics in South Africa. Stark, compelling photographs and intriguing sidebars bring readers face to face with apartheid's harsh reality, while also revealing a nation trying to learn from its difficult past.","English",26.6,19.95,"305.800968--dc23","32 pp.",{"$f":"Table1[[#This Row],[QTY]]*Table1[[#This Row],['# Books]]","v":0},{"$f":"Table1[[#This Row],[QTY]]*Table1[[#This Row],[S&L Price]]","v":0}]
[null,null,143,"History Just Before You Were Born",1,"The Human Genome Project","eBook",null,"978-1-5382-3095-4",{"$f":"HYPERLINK(\"https://www.garethstevens.com/\"&Table1[[#This Row],[ISBN]],\"Weblink\")","v":"Weblink"},2019,"January 2019",null,null,"Author","Janey Levy",7.1,1,null,null,"T",null,"Grade 4 - 5","Grade 4 - 6","The Human Genome Project was a groundbreaking, life-altering development of the late 20th century and a major evolution in science and medicine. Readers of this remarkable volume will follow the scientists of the international, collaborative research program as they map the human genome. They'll learn about the science behind the project as well as the scientific and medical possibilities opened by it. Vivid photographs support the fascinating text, and sidebars, fact boxes, and captions enrich your reader's experience.","English",26.6,19.95,"611/.0181663--dc23","32 pp.",{"$f":"Table1[[#This Row],[QTY]]*Table1[[#This Row],['# Books]]","v":0},{"$f":"Table1[[#This Row],[QTY]]*Table1[[#This Row],[S&L Price]]","v":0}]
[null,null,120,"Ultimate Science Lab",1,"Experiments with Living Things","eBook",null,"978-1-5382-3553-9",{"$f":"HYPERLINK(\"https://www.garethstevens.com/\"&Table1[[#This Row],[ISBN]],\"Weblink\")","v":"Weblink"},2019,"January 2019",null,null,"Author","Anna Claybourne",null,null,null,null,"S",null,"Grade 4 - 5","Grade 4 - 6","Learning about living things is a key part of understanding science. With the help of this innovative book, readers can perform hands-on experiments and find out all about the science behind many different living things. Vibrant illustrations accompany concise, step-by-step instructions that clearly outline each experiment. Exciting activities help reinforce important science curricula, while informative sidebars and fact boxes provide further clarification on how and why different scientific concepts work. These high-interest projects are sure to engage both reluctant readers and science enthusiasts alike.","English",26.6,19.95,"570.72'4--dc23","32 pp.",{"$f":"Table1[[#This Row],[QTY]]*Table1[[#This Row],['# Books]]","v":0},{"$f":"Table1[[#This Row],[QTY]]*Table1[[#This Row],[S&L Price]]","v":0}]
[null,null,120,"Ultimate Science Lab",1,"Experiments with Movement","Library Bound Book",null,"978-1-5382-3544-7",{"$f":"HYPERLINK(\"https://www.garethstevens.com/\"&Table1[[#This Row],[ISBN]],\"Weblink\")","v":"Weblink"},2019,"January 2019","Library","8.500 X 11.00","Author","Anna Claybourne",null,null,null,null,"S",null,"Grade 4 - 5","Grade 4 - 6","Hands-on experiments are an excellent way to get to know how different scientific concepts work. In this engaging book, readers learn all about movement by following along with step-by-step instructions and completing fun, informative activities. Each project is ranked from easy to hard so readers can effortlessly find the project best suited for them. Colorful illustrations supplement each experiment and correlate closely to the text, helping to guide readers through each of the steps. This captivating collection of high-interest projects is sure to be a popular addition to any library or classroom.","English",26.6,19.95,"531'.11078--dc23","32 pp.",{"$f":"Table1[[#This Row],[QTY]]*Table1[[#This Row],['# Books]]","v":0},{"$f":"Table1[[#This Row],[QTY]]*Table1[[#This Row],[S&L Price]]","v":0}]
[null,null,120,"Ultimate Science Lab",1,"Mysterious Experiments","Library Bound Book",null,"978-1-5382-3540-9",{"$f":"HYPERLINK(\"https://www.garethstevens.com/\"&Table1[[#This Row],[ISBN]],\"Weblink\")","v":"Weblink"},2019,"January 2019","Library","8.500 X 11.00","Author","Anna Claybourne",null,null,null,null,"S",null,"Grade 4 - 5","Grade 4 - 6","Some scientific concepts seem like a mystery, but this innovative volume is sure to shed light on even the most puzzling experiments. Simple step-by-step instructions and closely-correlated illustrations make it easy for readers of many ages and levels to follow along with each activity. A simple ranking system also allows readers to choose the experiments that best correspond to their skill level. Attention-grabbing sidebars and fact boxes provide further insight and help reinforce key elementary science curricula.","English",26.6,19.95,"507.8--dc23","32 pp.",{"$f":"Table1[[#This Row],[QTY]]*Table1[[#This Row],['# Books]]","v":0},{"$f":"Table1[[#This Row],[QTY]]*Table1[[#This Row],[S&L Price]]","v":0}]
[null,null,11,"LitLinks Fiction/Nonfiction Paired Sets Grades K–1",1,"Jump Frog Jump / Frogs Paired Set","Fiction/NonFiction Pair",null,"978-1-4824-5347-8",{"$f":"HYPERLINK(\"https://www.garethstevens.com/\"&Table1[[#This Row],[ISBN]],\"Weblink\")","v":"Weblink"},2017,"August 2016",null,null,"Author","VARIOUS VARIOUS",null,null,null,null,null,null,"Grade Pre-K - 1","Grade Pre-K - 1","This paired set, along with a comprehensive learning guide, inspires student inquiry and invites critical thinking with paired fiction and nonfiction texts.","English",53.27,39.950000000000003,null,"",{"$f":"Table1[[#This Row],[QTY]]*Table1[[#This Row],['# Books]]","v":0},{"$f":"Table1[[#This Row],[QTY]]*Table1[[#This Row],[S&L Price]]","v":0}]
[null,null,11,"LitLinks Fiction/Nonfiction Paired Sets Grades K–1",1,"Bread and Jam for Francis / What I Taste Paired Set","Fiction/NonFiction Pair",null,"978-1-4824-5355-3",{"$f":"HYPERLINK(\"https://www.garethstevens.com/\"&Table1[[#This Row],[ISBN]],\"Weblink\")","v":"Weblink"},2017,"August 2016",null,null,"Author","VARIOUS VARIOUS",null,null,null,null,null,null,"Grade Pre-K - 3","Grade Pre-K - 3","This paired set, along with a comprehensive learning guide, inspires student inquiry and invites critical thinking with paired fiction and nonfiction texts.","English",53.27,39.950000000000003,null,"",{"$f":"Table1[[#This Row],[QTY]]*Table1[[#This Row],['# Books]]","v":0},{"$f":"Table1[[#This Row],[QTY]]*Table1[[#This Row],[S&L Price]]","v":0}]
[null,null,11,"LitLinks Fiction/Nonfiction Paired Sets Grades K–1",1,"The Grouchy Ladybug / I See a Ladybug Paired Set","Fiction/NonFiction Pair",null,"978-1-4824-5352-2",{"$f":"HYPERLINK(\"https://www.garethstevens.com/\"&Table1[[#This Row],[ISBN]],\"Weblink\")","v":"Weblink"},2017,"August 2016",null,null,"Author","VARIOUS VARIOUS",null,null,null,null,null,null,"Grade K - 2","Grade K - 2","This paired set, along with a comprehensive learning guide, inspires student inquiry and invites critical thinking with paired fiction and nonfiction texts.","English",53.27,39.950000000000003,null,"",{"$f":"Table1[[#This Row],[QTY]]*Table1[[#This Row],['# Books]]","v":0},{"$f":"Table1[[#This Row],[QTY]]*Table1[[#This Row],[S&L Price]]","v":0}]
[null,null,11,"LitLinks Fiction/Nonfiction Paired Sets Grades K–1",1,"Curious George and the Firefighters / Firefighters Paired Set","Fiction/NonFiction Pair",null,"978-1-4824-2311-2",{"$f":"HYPERLINK(\"https://www.garethstevens.com/\"&Table1[[#This Row],[ISBN]],\"Weblink\")","v":"Weblink"},2015,"August 2014",null,null,"Author","VARIOUS VARIOUS",null,null,null,null,null,null,"Grade K - 1","Grade K - 1","This paired set, along with a comprehensive learning guide, inspires student inquiry and invites critical thinking with paired fiction and nonfiction texts.","English",53.27,39.950000000000003,null,"",{"$f":"Table1[[#This Row],[QTY]]*Table1[[#This Row],['# Books]]","v":0},{"$f":"Table1[[#This Row],[QTY]]*Table1[[#This Row],[S&L Price]]","v":0}]
[null,null,11,"LitLinks Fiction/Nonfiction Paired Sets Grades K–1",1,"Tuesday / Fun Frogs Paired Set","Fiction/NonFiction Pair",null,"978-1-4824-2315-0",{"$f":"HYPERLINK(\"https://www.garethstevens.com/\"&Table1[[#This Row],[ISBN]],\"Weblink\")","v":"Weblink"},2015,"August 2014",null,null,"Author","VARIOUS VARIOUS",null,null,null,null,null,null,"Grade K - 1","Grade K - 1","This paired set, along with a comprehensive learning guide, inspires student inquiry and invites critical thinking with paired fiction and nonfiction texts.","English",53.27,39.950000000000003,null,"",{"$f":"Table1[[#This Row],[QTY]]*Table1[[#This Row],['# Books]]","v":0},{"$f":"Table1[[#This Row],[QTY]]*Table1[[#This Row],[S&L Price]]","v":0}]
[null,null,12,"LitLinks Fiction/Nonfiction Paired Sets Grades 2–3",1,"The Big Wave / Savage Tsunamis Paired Set","Fiction/NonFiction Pair",null,"978-1-4824-5360-7",{"$f":"HYPERLINK(\"https://www.garethstevens.com/\"&Table1[[#This Row],[ISBN]],\"Weblink\")","v":"Weblink"},2017,"August 2016",null,null,"Author","VARIOUS VARIOUS",null,null,null,null,null,null,"Grade Pre-K - 2","Grade Pre-K - 2","This paired set, along with a comprehensive learning guide, inspires student inquiry and invites critical thinking with paired fiction and nonfiction texts.","English",53.27,39.950000000000003,null,"",{"$f":"Table1[[#This Row],[QTY]]*Table1[[#This Row],['# Books]]","v":0},{"$f":"Table1[[#This Row],[QTY]]*Table1[[#This Row],[S&L Price]]","v":0}]
[null,null,12,"LitLinks Fiction/Nonfiction Paired Sets Grades 2–3",1,"White Water / Little Rock Nine and The Fight for Equal Education Paired Set","Fiction/NonFiction Pair",null,"978-1-4824-5362-1",{"$f":"HYPERLINK(\"https://www.garethstevens.com/\"&Table1[[#This Row],[ISBN]],\"Weblink\")","v":"Weblink"},2017,"August 2016",null,null,"Author","VARIOUS VARIOUS",null,null,null,null,null,null,"Grade K - 3","Grade K - 3","This paired set, along with a comprehensive learning guide, inspires student inquiry and invites critical thinking with paired fiction and nonfiction texts.","English",53.27,39.950000000000003,null,"",{"$f":"Table1[[#This Row],[QTY]]*Table1[[#This Row],['# Books]]","v":0},{"$f":"Table1[[#This Row],[QTY]]*Table1[[#This Row],[S&L Price]]","v":0}]
[null,null,12,"LitLinks Fiction/Nonfiction Paired Sets Grades 2–3",1,"Why Mosquitos Buzz in People's Ears / Deadly Mosquitoes Paired Set","Fiction/NonFiction Pair",null,"978-1-4824-5359-1",{"$f":"HYPERLINK(\"https://www.garethstevens.com/\"&Table1[[#This Row],[ISBN]],\"Weblink\")","v":"Weblink"},2017,"August 2016",null,null,"Author","VARIOUS VARIOUS",null,null,null,null,null,null,"Grade K - 2","Grade K - 2","This paired set, along with a comprehensive learning guide, inspires student inquiry and invites critical thinking with paired fiction and nonfiction texts.","English",53.27,39.950000000000003,null,"",{"$f":"Table1[[#This Row],[QTY]]*Table1[[#This Row],['# Books]]","v":0},{"$f":"Table1[[#This Row],[QTY]]*Table1[[#This Row],[S&L Price]]","v":0}]
[null,null,12,"LitLinks Fiction/Nonfiction Paired Sets Grades 2–3",1,"Henry and Mudge: The First Book of Their Adventures / Dogs Paired Set","Fiction/NonFiction Pair",null,"978-1-4824-2326-6",{"$f":"HYPERLINK(\"https://www.garethstevens.com/\"&Table1[[#This Row],[ISBN]],\"Weblink\")","v":"Weblink"},2015,"August 2014",null,null,"Author","VARIOUS VARIOUS",null,null,null,null,null,null,"Grade 2 - 3","Grade 2 - 3","This paired set, along with a comprehensive learning guide, inspires student inquiry and invites critical thinking with paired fiction and nonfiction texts.","English",53.27,39.950000000000003,null,"",{"$f":"Table1[[#This Row],[QTY]]*Table1[[#This Row],['# Books]]","v":0},{"$f":"Table1[[#This Row],[QTY]]*Table1[[#This Row],[S&L Price]]","v":0}]
[null,null,12,"LitLinks Fiction/Nonfiction Paired Sets Grades 2–3",1,"Storm / Hurricanes Paired Set","Fiction/NonFiction Pair",null,"978-1-4824-2320-4",{"$f":"HYPERLINK(\"https://www.garethstevens.com/\"&Table1[[#This Row],[ISBN]],\"Weblink\")","v":"Weblink"},2015,"August 2014",null,null,"Author","VARIOUS VARIOUS",null,null,null,null,null,null,"Grade 2 - 3","Grade 2 - 3","This paired set, along with a comprehensive learning guide, inspires student inquiry and invites critical thinking with paired fiction and nonfiction texts.","English",53.27,39.950000000000003,null,"",{"$f":"Table1[[#This Row],[QTY]]*Table1[[#This Row],['# Books]]","v":0},{"$f":"Table1[[#This Row],[QTY]]*Table1[[#This Row],[S&L Price]]","v":0}]
[null,null,12,"LitLinks Fiction/Nonfiction Paired Sets Grades 2–3",1,"Thunder Cake / Thunderstorms Paired Set","Fiction/NonFiction Pair",null,"978-1-4824-2327-3",{"$f":"HYPERLINK(\"https://www.garethstevens.com/\"&Table1[[#This Row],[ISBN]],\"Weblink\")","v":"Weblink"},2015,"August 2014",null,null,"Author","VARIOUS VARIOUS",null,null,null,null,null,null,"Grade 2 - 3","Grade 2 - 3","This paired set, along with a comprehensive learning guide, inspires student inquiry and invites critical thinking with paired fiction and nonfiction texts.","English",53.27,39.950000000000003,null,"",{"$f":"Table1[[#This Row],[QTY]]*Table1[[#This Row],['# Books]]","v":0},{"$f":"Table1[[#This Row],[QTY]]*Table1[[#This Row],[S&L Price]]","v":0}]
[null,null,13,"LitLinks Fiction/Nonfiction Paired Sets Grades 4–5",1,"Zane and The Hurricane / Destructive Hurricanes Paired Set","Fiction/NonFiction Pair",null,"978-1-4824-5372-0",{"$f":"HYPERLINK(\"https://www.garethstevens.com/\"&Table1[[#This Row],[ISBN]],\"Weblink\")","v":"Weblink"},2017,"August 2016",null,null,"Author","VARIOUS VARIOUS",null,null,null,null,null,null,"Grade 4 - 8","Grade 4 - 8","This paired set, along with a comprehensive learning guide, inspires student inquiry and invites critical thinking with paired fiction and nonfiction texts.","English",61.27,45.95,null,"",{"$f":"Table1[[#This Row],[QTY]]*Table1[[#This Row],['# Books]]","v":0},{"$f":"Table1[[#This Row],[QTY]]*Table1[[#This Row],[S&L Price]]","v":0}]
[null,null,13,"LitLinks Fiction/Nonfiction Paired Sets Grades 4–5",1,"The People Could Fly: American Black Folktales / Frederick Douglass in His Own Words Paired Set","Fiction/NonFiction Pair",null,"978-1-4824-5376-8",{"$f":"HYPERLINK(\"https://www.garethstevens.com/\"&Table1[[#This Row],[ISBN]],\"Weblink\")","v":"Weblink"},2017,"August 2016",null,null,"Author","VARIOUS VARIOUS",null,null,null,null,null,null,"Grade 3 - 5","Grade 3 - 5","This paired set, along with a comprehensive learning guide, inspires student inquiry and invites critical thinking with paired fiction and nonfiction texts.","English",61.27,45.95,null,"",{"$f":"Table1[[#This Row],[QTY]]*Table1[[#This Row],['# Books]]","v":0},{"$f":"Table1[[#This Row],[QTY]]*Table1[[#This Row],[S&L Price]]","v":0}]
[null,null,13,"LitLinks Fiction/Nonfiction Paired Sets Grades 4–5",1,"The Boy Who Saved Baseball / Batter Paired Set","Fiction/NonFiction Pair",null,"978-1-4824-2335-8",{"$f":"HYPERLINK(\"https://www.garethstevens.com/\"&Table1[[#This Row],[ISBN]],\"Weblink\")","v":"Weblink"},2015,"August 2014",null,null,"Author","VARIOUS VARIOUS",null,null,null,null,null,null,"Grade 4 - 5","Grade 4 - 5","This paired set, along with a comprehensive learning guide, inspires student inquiry and invites critical thinking with paired fiction and nonfiction texts.","English",61.27,45.95,null,"",{"$f":"Table1[[#This Row],[QTY]]*Table1[[#This Row],['# Books]]","v":0},{"$f":"Table1[[#This Row],[QTY]]*Table1[[#This Row],[S&L Price]]","v":0}]
[null,null,13,"LitLinks Fiction/Nonfiction Paired Sets Grades 4–5",1,"The Egypt Game / The Ancient Egyptians Paired Set","Fiction/NonFiction Pair",null,"978-1-4824-2336-5",{"$f":"HYPERLINK(\"https://www.garethstevens.com/\"&Table1[[#This Row],[ISBN]],\"Weblink\")","v":"Weblink"},2015,"August 2014",null,null,"Author","VARIOUS VARIOUS",null,null,null,null,null,null,"Grade 4 - 5","Grade 4 - 5","This paired set, along with a comprehensive learning guide, inspires student inquiry and invites critical thinking with paired fiction and nonfiction texts.","English",61.27,45.95,null,"",{"$f":"Table1[[#This Row],[QTY]]*Table1[[#This Row],['# Books]]","v":0},{"$f":"Table1[[#This Row],[QTY]]*Table1[[#This Row],[S&L Price]]","v":0}]
[null,null,13,"LitLinks Fiction/Nonfiction Paired Sets Grades 4–5",1,"The Secret Garden / Plant Life Paired Set","Fiction/NonFiction Pair",null,"978-1-4824-2332-7",{"$f":"HYPERLINK(\"https://www.garethstevens.com/\"&Table1[[#This Row],[ISBN]],\"Weblink\")","v":"Weblink"},2015,"August 2014",null,null,"Author","VARIOUS VARIOUS",null,null,null,null,null,null,"Grade 4 - 5","Grade 4 - 5","This paired set, along with a comprehensive learning guide, inspires student inquiry and invites critical thinking with paired fiction and nonfiction texts.","English",61.27,45.95,null,"",{"$f":"Table1[[#This Row],[QTY]]*Table1[[#This Row],['# Books]]","v":0},{"$f":"Table1[[#This Row],[QTY]]*Table1[[#This Row],[S&L Price]]","v":0}]
[null,null,13,"LitLinks Fiction/Nonfiction Paired Sets Grades 6-8",1,"The Hunger Games / Dictatorship Paired Set","Fiction/NonFiction Pair",null,"978-1-4824-5381-2",{"$f":"HYPERLINK(\"https://www.garethstevens.com/\"&Table1[[#This Row],[ISBN]],\"Weblink\")","v":"Weblink"},2017,"August 2016",null,null,"Author","VARIOUS VARIOUS",null,null,null,null,null,null,"Grade 7 - 9","Grade 7 - 9","This paired set, along with a comprehensive learning guide, inspires student inquiry and invites critical thinking with paired fiction and nonfiction texts.","English",61.27,45.95,null,"",{"$f":"Table1[[#This Row],[QTY]]*Table1[[#This Row],['# Books]]","v":0},{"$f":"Table1[[#This Row],[QTY]]*Table1[[#This Row],[S&L Price]]","v":0}]
[null,null,13,"LitLinks Fiction/Nonfiction Paired Sets Grades 6-8",1,"Huckleberry Finn / Slavery in Early America Paired Set","Fiction/NonFiction Pair",null,"978-1-4824-5380-5",{"$f":"HYPERLINK(\"https://www.garethstevens.com/\"&Table1[[#This Row],[ISBN]],\"Weblink\")","v":"Weblink"},2017,"August 2016",null,null,"Author","VARIOUS VARIOUS",null,null,null,null,null,null,"Grade 7 - 9","Grade 7 - 9","This paired set, along with a comprehensive learning guide, inspires student inquiry and invites critical thinking with paired fiction and nonfiction texts.","English",61.27,45.95,null,"",{"$f":"Table1[[#This Row],[QTY]]*Table1[[#This Row],['# Books]]","v":0},{"$f":"Table1[[#This Row],[QTY]]*Table1[[#This Row],[S&L Price]]","v":0}]
[null,null,13,"LitLinks Fiction/Nonfiction Paired Sets Grades 6-8",1,"Mrs Frisby and the Rats of NIMH / Timeline of the Industrial Revolution Paired Set","Fiction/NonFiction Pair",null,"978-1-4824-5378-2",{"$f":"HYPERLINK(\"https://www.garethstevens.com/\"&Table1[[#This Row],[ISBN]],\"Weblink\")","v":"Weblink"},2017,"August 2016",null,null,"Author","VARIOUS VARIOUS",null,null,null,null,null,null,"Grade 5 - 8","Grade 5 - 8","This paired set, along with a comprehensive learning guide, inspires student inquiry and invites critical thinking with paired fiction and nonfiction texts.","English",61.27,45.95,null,"",{"$f":"Table1[[#This Row],[QTY]]*Table1[[#This Row],['# Books]]","v":0},{"$f":"Table1[[#This Row],[QTY]]*Table1[[#This Row],[S&L Price]]","v":0}]
[null,null,13,"LitLinks Fiction/Nonfiction Paired Sets Grades 6-8",1,"The House of the Scorpion / Science vs. Disease Paired Set","Fiction/NonFiction Pair",null,"978-1-4824-2348-8",{"$f":"HYPERLINK(\"https://www.garethstevens.com/\"&Table1[[#This Row],[ISBN]],\"Weblink\")","v":"Weblink"},2015,"August 2014",null,null,"Author","VARIOUS VARIOUS",null,null,null,null,null,null,"Grade 6 - 7","Grade 6 - 9","This paired set, along with a comprehensive learning guide, inspires student inquiry and invites critical thinking with paired fiction and nonfiction texts.","English",61.27,45.95,null,"24 pp.",{"$f":"Table1[[#This Row],[QTY]]*Table1[[#This Row],['# Books]]","v":0},{"$f":"Table1[[#This Row],[QTY]]*Table1[[#This Row],[S&L Price]]","v":0}]
[null,null,13,"LitLinks Fiction/Nonfiction Paired Sets Grades 6–8",1,"The Lightning Thief / Greek Myths Paired Set","Fiction/NonFiction Pair",null,"978-1-4824-2354-9",{"$f":"HYPERLINK(\"https://www.garethstevens.com/\"&Table1[[#This Row],[ISBN]],\"Weblink\")","v":"Weblink"},2015,"August 2014",null,null,"Author","VARIOUS VARIOUS",null,null,null,null,null,null,"Grade 4 - 5","Grade 4 - 5","This paired set, along with a comprehensive learning guide, inspires student inquiry and invites critical thinking with paired fiction and nonfiction texts.","English",61.27,45.95,null,"24 pp.",{"$f":"Table1[[#This Row],[QTY]]*Table1[[#This Row],['# Books]]","v":0},{"$f":"Table1[[#This Row],[QTY]]*Table1[[#This Row],[S&L Price]]","v":0}]
[null,null,15,"Our Favorite Shapes",6,"Our Favorite Shapes (Set of 6 NEW Titles)","Library Set",null,"978-1-5382-2939-2",{"$f":"HYPERLINK(\"https://www.garethstevens.com/\"&Table1[[#This Row],[ISBN]],\"Weblink\")","v":"Weblink"},2019,"January 2019","Library","7.000 X 7.000",null,null,null,null,null,null,null,null,"Grade K","Grade Pre-K - 1","Understanding the attributes of shapes is a key standard of the early elementary classroom. Though students are often introduced quite young to two-dimensional shapes, three-dimensional figures are just as essential. These colorful books open readers' eyes to the 3-D shapes in the world around them, using beautiful color photographs of recognizable objects. Readers will be able to increase their math vocabulary as well as practice seeing shapes such as cubes, spheres, and cylinders in everyday life. Features include: Featured shapes are highlighted in the Common Core math standards. Accessible text encourages vocabulary development. A concluding activity in each volume asks readers to apply their understanding.","English",135.6,101.7,null,"24 pp.",{"$f":"Table1[[#This Row],[QTY]]*Table1[[#This Row],['# Books]]","v":0},{"$f":"Table1[[#This Row],[QTY]]*Table1[[#This Row],[S&L Price]]","v":0}]
[null,null,15,"Our Favorite Shapes",1,"We Love Cones!","Library Bound Book",null,"978-1-5382-2867-8",{"$f":"HYPERLINK(\"https://www.garethstevens.com/\"&Table1[[#This Row],[ISBN]],\"Weblink\")","v":"Weblink"},2019,"January 2019","Library","7.000 X 7.000","Author","Beatrice Harris",null,null,null,null,"B",null,"Grade K","Grade Pre-K - 1","Cones are a familiar figure to everyone, especially fans of ice cream cones! Cones are also a three-dimensional geometric shape with characteristics that readers will learn about through this helpful book's straightforward text and the beautiful photographs that accompany it. Along with learning about the attributes of cones, young mathematicians will acquire new vocabulary terms and hone their reading comprehension skills, a combination that addresses both Common Core math and language arts standards.","English",22.6,16.95,"516/.156--dc23","24 pp.",{"$f":"Table1[[#This Row],[QTY]]*Table1[[#This Row],['# Books]]","v":0},{"$f":"Table1[[#This Row],[QTY]]*Table1[[#This Row],[S&L Price]]","v":0}]
[null,null,15,"Our Favorite Shapes",1,"We Love Cylinders!","eBook",null,"978-1-5382-2967-5",{"$f":"HYPERLINK(\"https://www.garethstevens.com/\"&Table1[[#This Row],[ISBN]],\"Weblink\")","v":"Weblink"},2019,"January 2019",null,null,"Author","Beatrice Harris",null,null,null,null,"B",null,"Grade K","Grade Pre-K - 1","The term \"cylinder\" might sound a bit complex, but readers of this inviting volume will come to understand that cylinders are a 3-D shape that is incredibly useful in the real world. They'll recognize cans and pipes as cylinders and even that some delicious desserts are cylindrical, such as cakes. They'll acquire valuable vocabulary as well as understanding about an important geometry concept that is noted in the Common Core math standards.","English",22.6,16.95,"516/.154--dc23","24 pp.",{"$f":"Table1[[#This Row],[QTY]]*Table1[[#This Row],['# Books]]","v":0},{"$f":"Table1[[#This Row],[QTY]]*Table1[[#This Row],[S&L Price]]","v":0}]
[null,null,15,"Our Favorite Shapes",1,"We Love Spheres!","Library Bound Book",null,"978-1-5382-2872-2",{"$f":"HYPERLINK(\"https://www.garethstevens.com/\"&Table1[[#This Row],[ISBN]],\"Weblink\")","v":"Weblink"},2019,"January 2019","Library","7.000 X 7.000","Author","Trisha James",null,null,null,null,"B",null,"Grade K","Grade Pre-K - 1","As early as kindergarten, young learners should be able to identify shapes as \"flat\" or \"solid,\" according to the Common Core. That includes the difference between a circle and a sphere. In this valuable book, readers will comprehend that spheres, 3-D geometric figures, are familiar objects. In fact, they may see or even play with spherical items every day. Achievable text encourages them to add to their vocabulary, and a concluding activity allows for assessment.","English",22.6,16.95,"516/.156--dc23","24 pp.",{"$f":"Table1[[#This Row],[QTY]]*Table1[[#This Row],['# Books]]","v":0},{"$f":"Table1[[#This Row],[QTY]]*Table1[[#This Row],[S&L Price]]","v":0}]
[null,null,15,"Our Favorite Shapes",1,"We Love Circles!","eBook",null,"978-1-5382-0988-2",{"$f":"HYPERLINK(\"https://www.garethstevens.com/\"&Table1[[#This Row],[ISBN]],\"Weblink\")","v":"Weblink"},2018,"January 2018",null,null,"Author","Beatrice Harris",null,null,null,null,"B","20L","Grade K","Grade Pre-K - 1","Pizzas, cookies, Frisbees, some of the best things in life are circles. In the bright pages of this volume, readers will recognize circles in their everyday life. Achievable text is accompanied by carefully chosen photographs, which aid in acquisition of new vocabulary and practice in fluency. Readers are also asked to identify a circle in a concluding activity, a fun assessment of what they’ve learned.","English",22.6,16.95,"516'.152--dc23","24 pp.",{"$f":"Table1[[#This Row],[QTY]]*Table1[[#This Row],['# Books]]","v":0},{"$f":"Table1[[#This Row],[QTY]]*Table1[[#This Row],[S&L Price]]","v":0}]
[null,null,15,"Our Favorite Shapes",1,"We Love Diamonds!","eBook",null,"978-1-5382-0992-9",{"$f":"HYPERLINK(\"https://www.garethstevens.com/\"&Table1[[#This Row],[ISBN]],\"Weblink\")","v":"Weblink"},2018,"January 2018",null,null,"Author","Beatrice Harris",null,null,null,null,"B","40L","Grade K","Grade Pre-K - 1","Diamonds are similar to squares, but they look a bit “squashed.\" Readers will recognize this special shape in the many bright photographs of this accessible text, which also encourages them to build new vocabulary. They’ll see diamond-shaped kites, cookies, and signs, and learn to spot diamonds in patterns as well. As they develop their knowledge of this elementary geometry concept, they’ll understand how this aspect of math applies to real life.","English",22.6,16.95,"516'.154--dc23","24 pp.",{"$f":"Table1[[#This Row],[QTY]]*Table1[[#This Row],['# Books]]","v":0},{"$f":"Table1[[#This Row],[QTY]]*Table1[[#This Row],[S&L Price]]","v":0}]
[null,null,15,"Our Favorite Shapes",1,"We Love Squares!","Library Bound Book",null,"978-1-5382-1003-1",{"$f":"HYPERLINK(\"https://www.garethstevens.com/\"&Table1[[#This Row],[ISBN]],\"Weblink\")","v":"Weblink"},2018,"January 2018","Library","7.000 X 7.000","Author","Beatrice Harris",null,null,null,null,"B","0L","Grade K","Grade Pre-K - 1","Square crackers are a tasty snack. A square pillow is a perfect place to rest a head. It might not always occur to us, but our world is full of shapes. This book will hone the skills of recognizing the square.","English",22.6,16.95,"516'.154--dc23","24 pp.",{"$f":"Table1[[#This Row],[QTY]]*Table1[[#This Row],['# Books]]","v":0},{"$f":"Table1[[#This Row],[QTY]]*Table1[[#This Row],[S&L Price]]","v":0}]
[null,null,16,"Dinosaur School",1,"Big and Small","Library Bound Book",null,"978-1-4339-8083-1",{"$f":"HYPERLINK(\"https://www.garethstevens.com/\"&Table1[[#This Row],[ISBN]],\"Weblink\")","v":"Weblink"},2013,"January 2013","Library","7.000 X 7.000","Author","Joyce Jeffries",null,"0",1,1,"A",null,"Grade K","Grade K - 1","Beginning readers will find a fun-filled learning experience through easy-to-follow text and colorful illustrations. Charming illustrations, featuring dinosaurs interacting with a variety of objects and animals, show the difference between things that are big and those that are small—introducing students to the concept of comparing things by size. A concluding graphic organizer reinforces the concept, separating big and small objects through pictures and words in a way that is accessible for beginning readers. This engaging book also helps early learners develop vocabulary skills with its strong picture-text correlation.","English",23.6,17.7,"153.7","24 pp.",{"$f":"Table1[[#This Row],[QTY]]*Table1[[#This Row],['# Books]]","v":0},{"$f":"Table1[[#This Row],[QTY]]*Table1[[#This Row],[S&L Price]]","v":0}]
[null,null,16,"Dinosaur School",1,"Dinosaur Colors","eBook",null,"978-1-4339-7142-6",{"$f":"HYPERLINK(\"https://www.garethstevens.com/\"&Table1[[#This Row],[ISBN]],\"Weblink\")","v":"Weblink"},2013,"August 2012",null,null,"Author","Ava Saviola",null,"0",1,2,"A",null,"Grade K","Grade K - 1","Each of the dinosaur pals explains what color they are, and then they show something else that is the same color, like a purple ball, pink flower, and yellow star. Names of the colors are in large print. A summary page of the dinosaurs labeled by color allows for early readers to review what they've learned.","English",23.6,17.7,null,"24 pp.",{"$f":"Table1[[#This Row],[QTY]]*Table1[[#This Row],['# Books]]","v":0},{"$f":"Table1[[#This Row],[QTY]]*Table1[[#This Row],[S&L Price]]","v":0}]
[null,null,16,"Dinosaur School",1,"Dinosaur Goes to the Dentist","Library Bound Book",null,"978-1-4824-4557-2",{"$f":"HYPERLINK(\"https://www.garethstevens.com/\"&Table1[[#This Row],[ISBN]],\"Weblink\")","v":"Weblink"},2017,"August 2016","Library","7.000 X 7.000","Author","Ken Alside","1.1","0.5",null,null,"B",null,"Grade K","Grade K - 1","Dinosaurs love to go on adventures, even in places readers may not expect. A trip to the dentist may not sound like much fun, but there's a lot to explore once these dinosaurs get inside the dentist's office. From brushing before going to the office, reading in the waiting room, and chatting with the dental hygienist, this book takes beginning readers on a fun journey through a typical visit to the dentist. Perhaps there might be a treat for this little dino for being a good sport while in the dentist's chair, readers will learn if so.","English",22.6,16.95,null,"24 pp.",{"$f":"Table1[[#This Row],[QTY]]*Table1[[#This Row],['# Books]]","v":0},{"$f":"Table1[[#This Row],[QTY]]*Table1[[#This Row],[S&L Price]]","v":0}]
[null,null,16,"Dinosaur School",1,"Dinosaur Goes to the Fire Station","eBook",null,"978-1-4824-4553-4",{"$f":"HYPERLINK(\"https://www.garethstevens.com/\"&Table1[[#This Row],[ISBN]],\"Weblink\")","v":"Weblink"},2017,"August 2016",null,null,"Author","Ken Alside","0.9","0.5",null,null,"B",null,"Grade K","Grade K - 1","The fire station is full of fun in this exciting story. Trying on a fire helmet, sliding down the fire pole, and checking out a big red fire truck are all on tap when this dino visits his fireman brother at the station. Beginning readers will love watching their dinosaur friend try on a fireman's outfit and watching him learn what dinos do at a fire station when they're on the clock. What happens at the station when a call comes in? For these dinos, it's time for action!","English",22.6,16.95,null,"24 pp.",{"$f":"Table1[[#This Row],[QTY]]*Table1[[#This Row],['# Books]]","v":0},{"$f":"Table1[[#This Row],[QTY]]*Table1[[#This Row],[S&L Price]]","v":0}]
[null,null,16,"Dinosaur School",1,"Dinosaur Goes to the Store","eBook",null,"978-1-4824-4555-8",{"$f":"HYPERLINK(\"https://www.garethstevens.com/\"&Table1[[#This Row],[ISBN]],\"Weblink\")","v":"Weblink"},2017,"August 2016",null,null,"Author","Ken Alside","0.8","0.5",null,null,"B",null,"Grade K","Grade K - 1","One little dinosaur is having a birthday, and it's his family's job to get ready for the big party. This book takes beginning readers on a trip to the store the day before the big day, as two dinosaurs grab a shopping cart and make sure they have everything they need to host a great gathering of friends and family. From the ingredients needed to bake a cake to birthday presents and decorations, these dinos are on a mission to make it the best birthday party ever.","English",22.6,16.95,null,"24 pp.",{"$f":"Table1[[#This Row],[QTY]]*Table1[[#This Row],['# Books]]","v":0},{"$f":"Table1[[#This Row],[QTY]]*Table1[[#This Row],[S&L Price]]","v":0}]
[null,null,17,"Dinosaur School",1,"Dinosaur's Five Senses","Library Bound Book",null,"978-1-4339-9049-6",{"$f":"HYPERLINK(\"https://www.garethstevens.com/\"&Table1[[#This Row],[ISBN]],\"Weblink\")","v":"Weblink"},2014,"August 2013","Library","7.000 X 7.000","Author","Alex Appleby",null,null,1,1,"A",null,"Grade K","Grade K - 1","What can we do with our five senses? Young readers discover the answer to this question in this engaging book, which pairs an important early learning concept with charming illustrations of dinosaurs. Each page features a colorful cartoon dinosaur using one of the five senses in a way that makes exploring this topic fun for beginning readers. From tasting ice cream to hearing a drum, examples of the five senses at work are presented through accessible text, allowing beginning readers to learn all on their own.","English",23.6,17.7,"612.8","24 pp.",{"$f":"Table1[[#This Row],[QTY]]*Table1[[#This Row],['# Books]]","v":0},{"$f":"Table1[[#This Row],[QTY]]*Table1[[#This Row],[S&L Price]]","v":0}]
[null,null,17,"Dinosaur School",1,"Dinosaur's Five Senses","eBook",null,"978-1-4339-9052-6",{"$f":"HYPERLINK(\"https://www.garethstevens.com/\"&Table1[[#This Row],[ISBN]],\"Weblink\")","v":"Weblink"},2014,"August 2013",null,null,"Author","Alex Appleby",null,null,1,1,"A",null,"Grade K","Grade K - 1","What can we do with our five senses? Young readers discover the answer to this question in this engaging book, which pairs an important early learning concept with charming illustrations of dinosaurs. Each page features a colorful cartoon dinosaur using one of the five senses in a way that makes exploring this topic fun for beginning readers. From tasting ice cream to hearing a drum, examples of the five senses at work are presented through accessible text, allowing beginning readers to learn all on their own.","English",23.6,17.7,"612.8","24 pp.",{"$f":"Table1[[#This Row],[QTY]]*Table1[[#This Row],['# Books]]","v":0},{"$f":"Table1[[#This Row],[QTY]]*Table1[[#This Row],[S&L Price]]","v":0}]
[null,null,17,"Dinosaur School",1,"Dinosaurs Help Out","Library Bound Book",null,"978-1-4339-9053-3",{"$f":"HYPERLINK(\"https://www.garethstevens.com/\"&Table1[[#This Row],[ISBN]],\"Weblink\")","v":"Weblink"},2014,"August 2013","Library","7.000 X 7.000","Author","Alex Appleby",null,null,1,1,"A","160L","Grade K","Grade K - 1","How can we help people in our families and communities? Young readers explore ways to be good helpers by following along on the adventures of colorful cartoon dinosaurs. From picking up trash to cleaning around the house, young people can do a variety of things to make their world a better place, and they learn about these helpful activities through accessible text. Early learners discover the building blocks of strong character as they improve their vocabulary skills with the help of engaging illustrations that correspond to the simple text on each page.  • Age-appropriate and achievable content • Colorful dinosaur illustrations engage young learners • Accessible, large-type text promotes sight recognition of words • Strong picture-text correlation reinforces basic concepts • Words to Know provides additional reinforcement","English",23.6,17.7,"642.7","24 pp.",{"$f":"Table1[[#This Row],[QTY]]*Table1[[#This Row],['# Books]]","v":0},{"$f":"Table1[[#This Row],[QTY]]*Table1[[#This Row],[S&L Price]]","v":0}]
[null,null,17,"Dinosaur School",1,"Dinosaurs on the Go","eBook",null,"978-1-4339-9064-9",{"$f":"HYPERLINK(\"https://www.garethstevens.com/\"&Table1[[#This Row],[ISBN]],\"Weblink\")","v":"Weblink"},2014,"August 2013",null,null,"Author","Alex Appleby",null,null,1,1,"A","220L","Grade K","Grade K - 1","Beginning readers explore common modes of transportation with the help of colorful cartoon dinosaurs. Charming illustrations of dinosaurs are paired on each page with accessible text, allowing early learners to discover and use new vocabulary words. Boats, cars, and skateboards are just a few of the popular kinds of transportation introduced in this book. A helpful picture glossary guides readers as they build their vocabularies in a way that is both educational and enjoyable.    • Colorful dinosaur illustrations engage young learners • Accessible, large-type text promotes sight recognition of words • Age-appropriate and achievable content • Strong picture-text correlation reinforces basic concepts • Words to Know provides additional reinforcement    ","English",23.6,17.7,"388","24 pp.",{"$f":"Table1[[#This Row],[QTY]]*Table1[[#This Row],['# Books]]","v":0},{"$f":"Table1[[#This Row],[QTY]]*Table1[[#This Row],[S&L Price]]","v":0}]
[null,null,17,"Dinosaur School",1,"Long and Short","Library Bound Book",null,"978-1-4339-8095-4",{"$f":"HYPERLINK(\"https://www.garethstevens.com/\"&Table1[[#This Row],[ISBN]],\"Weblink\")","v":"Weblink"},2013,"January 2013","Library","7.000 X 7.000","Author","Joyce Jeffries",null,"0",1,1,"A","NP","Grade K","Grade K - 1","Beginning readers learn how to distinguish between “long” and “short” with the aid of helpful cartoon dinosaurs. Antonyms are introduced in a way that makes their difference clear for early learners through the use of accessible text and bright illustrations. Emerging readers discover how to compare objects by length in an engaging way as they learn about this essential concept. The strong picture-text correlation on each page helps beginning readers strengthen their vocabulary skills, and a useful graphic organizer is included to aid in the learning process.","English",23.6,17.7,"153.7","24 pp.",{"$f":"Table1[[#This Row],[QTY]]*Table1[[#This Row],['# Books]]","v":0},{"$f":"Table1[[#This Row],[QTY]]*Table1[[#This Row],[S&L Price]]","v":0}]
[null,null,17,"Dinosaur School",1,"Long and Short","eBook",null,"978-1-4339-8098-5",{"$f":"HYPERLINK(\"https://www.garethstevens.com/\"&Table1[[#This Row],[ISBN]],\"Weblink\")","v":"Weblink"},2013,"January 2013",null,null,"Author","Joyce Jeffries",null,"0",1,1,"A",null,"Grade K","Grade K - 1","Beginning readers learn how to distinguish between “long” and “short” with the aid of helpful cartoon dinosaurs. Antonyms are introduced in a way that makes their difference clear for early learners through the use of accessible text and bright illustrations. Emerging readers discover how to compare objects by length in an engaging way as they learn about this essential concept. The strong picture-text correlation on each page helps beginning readers strengthen their vocabulary skills, and a useful graphic organizer is included to aid in the learning process.","English",23.6,17.7,"153.7","24 pp.",{"$f":"Table1[[#This Row],[QTY]]*Table1[[#This Row],['# Books]]","v":0},{"$f":"Table1[[#This Row],[QTY]]*Table1[[#This Row],[S&L Price]]","v":0}]
[null,null,17,"Dinosaur School",1,"Which Is Different?","eBook",null,"978-1-4339-8106-7",{"$f":"HYPERLINK(\"https://www.garethstevens.com/\"&Table1[[#This Row],[ISBN]],\"Weblink\")","v":"Weblink"},2013,"January 2013",null,null,"Author","Joyce Jeffries",null,"0",1,1,"A",null,"Grade K","Grade K - 1","The concepts of “same” and “different” are important for early learners to understand, and they are the focal point of this fun and helpful book. Bright cartoon dinosaurs can be found on each page, alongside easy-to-follow text asking readers to question which dinosaur is different from the others and explaining why. The strong correlation between illustrations and text allows for the development of vocabulary skills. This book presents young readers with a variety of real-world differences—including differences in clothing and differences in food. These are each depicted in a way that allows for independent learning and an enjoyable reading experience.","English",23.6,17.7,"511.3","24 pp.",{"$f":"Table1[[#This Row],[QTY]]*Table1[[#This Row],['# Books]]","v":0},{"$f":"Table1[[#This Row],[QTY]]*Table1[[#This Row],[S&L Price]]","v":0}]
[null,null,17,"Dinosaur School",1,"Dinosaur's First Words","Library Bound Book",null,"978-1-4339-7155-6",{"$f":"HYPERLINK(\"https://www.garethstevens.com/\"&Table1[[#This Row],[ISBN]],\"Weblink\")","v":"Weblink"},2013,"August 2012","Library","7.000 X 7.000","Author","Ava Saviola",null,"0",1,2,"A",null,"Grade K","Grade K - 1","For early learners, the transition between hearing words read to them and reading on their own is one of the most exciting learning experiences. Through bright, fun illustrations of dinosaurs interacting with basic items such as a ball, a bat, a cat, and a dog, the most introductory words are brought to the forefront. Clear labels guide learners to read what they see, laying an important basic foundation for future reading fluency. A final page summarizes each featured word and an accompanying illustration, reinforcing the learning experience.","English",23.6,17.7,"428.1","24 pp.",{"$f":"Table1[[#This Row],[QTY]]*Table1[[#This Row],['# Books]]","v":0},{"$f":"Table1[[#This Row],[QTY]]*Table1[[#This Row],[S&L Price]]","v":0}]
[null,null,17,"Dinosaur School",1,"Dinosaur Visits the Police Station","eBook",null,"978-1-4824-4556-5",{"$f":"HYPERLINK(\"https://www.garethstevens.com/\"&Table1[[#This Row],[ISBN]],\"Weblink\")","v":"Weblink"},2017,"August 2016",null,null,"Author","Ken Alside","0.9","0.5",null,null,"B",null,"Grade K","Grade K - 1","A visit to the police station might not be fun for those in trouble, but for this dino it's a chance to see what dad does during the workday. The police station is full of activity and hardworking dinosaurs keeping everyone safe. There's still time to have a bit of fun, and even meet the police chief. Beginning readers explore the police station along with their dino friend, who gets to check out a police car and even have his fingerprints taken.","English",22.6,16.95,null,"24 pp.",{"$f":"Table1[[#This Row],[QTY]]*Table1[[#This Row],['# Books]]","v":0},{"$f":"Table1[[#This Row],[QTY]]*Table1[[#This Row],[S&L Price]]","v":0}]
[null,null,17,"Dinosaur School",1,"Dinosaurs in the Fall","Library Bound Book",null,"978-1-4824-0710-5",{"$f":"HYPERLINK(\"https://www.garethstevens.com/\"&Table1[[#This Row],[ISBN]],\"Weblink\")","v":"Weblink"},2015,"August 2014","Library","7.000 X 7.000","Author","Joyce Jeffries",null,null,1,null,"A",null,"Grade K","Grade K - 1","When the weather starts to get colder, dinosaurs find new ways to have fun. In this innovative first concepts book, dinosaurs dive into autumn in a variety of ways. Readers will see dinos take walks, watch leaves fall, and pick apples off of trees with the help of colorful illustrations that add picture-text correlation to an engaging look at the changing seasons. With text designed to establish a foundation for future reading success, this book is sure to be a hit with readers year-round.","English",22.6,16.95,"508.2","24 pp.",{"$f":"Table1[[#This Row],[QTY]]*Table1[[#This Row],['# Books]]","v":0},{"$f":"Table1[[#This Row],[QTY]]*Table1[[#This Row],[S&L Price]]","v":0}]
[null,null,17,"Dinosaur School",1,"Dinosaurs in the Summer","eBook",null,"978-1-4824-0716-7",{"$f":"HYPERLINK(\"https://www.garethstevens.com/\"&Table1[[#This Row],[ISBN]],\"Weblink\")","v":"Weblink"},2015,"August 2014",null,null,"Author","Joyce Jeffries",null,null,1,null,"A",null,"Grade K","Grade K - 1","Summer is the best time to go outside and play! The same is true for dinosaurs in this innovative first concepts series. Readers watch dinosaurs play games, take a trip, and even hit the beach with the help of colorful illustrations that provide strong picture-text correlation to aid reading comprehension. From baseball to sand castles and a trip on the Ferris wheel dinos love to have fun in the summer sun. This fun first concepts book is sure to establish early literacy skills in readers to provide a strong foundation for future reading success.","English",22.6,16.95,"508.2","24 pp.",{"$f":"Table1[[#This Row],[QTY]]*Table1[[#This Row],['# Books]]","v":0},{"$f":"Table1[[#This Row],[QTY]]*Table1[[#This Row],[S&L Price]]","v":0}]
[null,null,18,"What I Know",1,"I Know About Telling Time","eBook",null,"978-1-5382-1728-3",{"$f":"HYPERLINK(\"https://www.garethstevens.com/\"&Table1[[#This Row],[ISBN]],\"Weblink\")","v":"Weblink"},2019,"August 2018",null,null,"Author","Richard Little",null,null,null,null,"B",null,"Grade K","Grade Pre-K - 1","\"Is it time yet?\" This useful book helps readers practice answering this question for themselves using analog clocks. They'll learn what each clock hand indicates and how to tell time in hour and half-hour increments. Telling time using an analog clock is an important step for young learners, and an early standard of Common Core math, and this straightforward text and accompanying photographs guide readers in mastery of that fundamental skill. Final questions aid in evaluating what they've learned.","English",22.6,16.95,"529--dc23","24 pp.",{"$f":"Table1[[#This Row],[QTY]]*Table1[[#This Row],['# Books]]","v":0},{"$f":"Table1[[#This Row],[QTY]]*Table1[[#This Row],[S&L Price]]","v":0}]
[null,null,18,"What I Know",1,"I Know Day and Night","eBook",null,"978-1-5382-1731-3",{"$f":"HYPERLINK(\"https://www.garethstevens.com/\"&Table1[[#This Row],[ISBN]],\"Weblink\")","v":"Weblink"},2019,"August 2018",null,null,"Author","Rosie Banks",null,null,null,null,"B",null,"Grade K","Grade Pre-K - 1","Earth turns once each day and gifts us with a period of darkness and daylight. This valuable book is an excellent introduction to this earth science concept. Readers will review objects that may be seen in the sky during the day and night as well as events that usually happen during these times, such as attending school and going to bed. They'll also consider what daily events they enjoy the most and when these happen, aiding them in connecting these actions to time. Colorful photographs correlate perfectly with the accessible text.","English",22.6,16.95,"525'.35--dc23","24 pp.",{"$f":"Table1[[#This Row],[QTY]]*Table1[[#This Row],['# Books]]","v":0},{"$f":"Table1[[#This Row],[QTY]]*Table1[[#This Row],[S&L Price]]","v":0}]
[null,null,18,"What I Know",1,"I Know Halves and Wholes","Library Bound Book",null,"978-1-5382-1738-2",{"$f":"HYPERLINK(\"https://www.garethstevens.com/\"&Table1[[#This Row],[ISBN]],\"Weblink\")","v":"Weblink"},2019,"August 2018","Library","7.000 X 7.000","Author","Richard Little",null,null,null,null,"B",null,"Grade K","Grade Pre-K - 1","Identifying half and whole shapes is a fundamental part of geometry. Young learners may practice first with flat shapes, but seeing this idea applied to foods they know is much more enticing! This charming book, full of bright photographs of favorite foods, is a great review of a crucial concept. Readers will practice vocabulary terms through accessible sentences as well as the application of the words \"half\" and \"whole,\" and a final activity allows them to check their understanding.","English",22.6,16.95,"513.2'6--dc23","24 pp.",{"$f":"Table1[[#This Row],[QTY]]*Table1[[#This Row],['# Books]]","v":0},{"$f":"Table1[[#This Row],[QTY]]*Table1[[#This Row],[S&L Price]]","v":0}]
[null,null,18,"What I Know",1,"I Know Size Words","eBook",null,"978-1-5382-1747-4",{"$f":"HYPERLINK(\"https://www.garethstevens.com/\"&Table1[[#This Row],[ISBN]],\"Weblink\")","v":"Weblink"},2019,"August 2018",null,null,"Author","Rosie Banks",null,null,null,null,"B",null,"Grade K","Grade Pre-K - 1","Size words, such as large, small, short, and long, aren't just an important part of a burgeoning bank of vocabulary words. They're a crucial component of learning the skills of comparison and classification, early standards of Common Core math. The size words in this useful book are paired with colorful photographs that will help readers with comprehension of the accessible sentences. A final activity allows them to review the vocabulary and apply their knowledge, an excellent opportunity for assessment.","English",22.6,16.95,"428.1--dc23","24 pp.",{"$f":"Table1[[#This Row],[QTY]]*Table1[[#This Row],['# Books]]","v":0},{"$f":"Table1[[#This Row],[QTY]]*Table1[[#This Row],[S&L Price]]","v":0}]
[null,null,18,"What I Know",1,"I Know People Around Town","Library Bound Book",null,"978-1-4824-6303-3",{"$f":"HYPERLINK(\"https://www.garethstevens.com/\"&Table1[[#This Row],[ISBN]],\"Weblink\")","v":"Weblink"},2018,"August 2017","Library","7.000 X 7.000","Author","Colin Matthews",null,null,null,null,"B",null,"Grade K","Grade Pre-K - 1","Young people are always interested in those in the community who make it run—especially uniformed heroes such as firefighters and police officers. This fun volume walks readers around town introducing them to community workers, including the mail carrier, dentist, and librarian. Carefully chosen photographs correlate with the achievable vocabulary and illustrate characteristics of each job.","English",22.6,16.95,"331.7--dc23","24 pp.",{"$f":"Table1[[#This Row],[QTY]]*Table1[[#This Row],['# Books]]","v":0},{"$f":"Table1[[#This Row],[QTY]]*Table1[[#This Row],[S&L Price]]","v":0}]
[null,null,18,"What I Know",1,"I Know the Weather","eBook",null,"978-1-4824-6316-3",{"$f":"HYPERLINK(\"https://www.garethstevens.com/\"&Table1[[#This Row],[ISBN]],\"Weblink\")","v":"Weblink"},2018,"August 2017",null,null,"Author","Trisha James",null,null,null,null,"B","100L","Grade K","Grade Pre-K - 1","Weather is an important science concept at the early elementary level. Recognizing and identifying kinds of weather requires observational skills and certain vocabulary terms. This bright volume allows young meteorologists to correlate weather in carefully selected photographs with descriptive weather vocabulary, such as rainy, sunny, and foggy. It’s never too early to tackle this essential STEM theme!","English",22.6,16.95,"551.5--dc23","24 pp.",{"$f":"Table1[[#This Row],[QTY]]*Table1[[#This Row],['# Books]]","v":0},{"$f":"Table1[[#This Row],[QTY]]*Table1[[#This Row],[S&L Price]]","v":0}]
[null,null,18,"What I Know",1,"I Know Things That Go","Library Bound Book",null,"978-1-4824-6311-8",{"$f":"HYPERLINK(\"https://www.garethstevens.com/\"&Table1[[#This Row],[ISBN]],\"Weblink\")","v":"Weblink"},2018,"August 2017","Library","7.000 X 7.000","Author","Trisha James",null,null,null,null,"B",null,"Grade K","Grade Pre-K - 1","There are so many ways to travel, and now on-the-go readers can review the vocabulary of vehicles in this appealing and vibrant volume. Trains, airplanes, and even scooters are some of the fun modes of transportation featured. At-level text is paired with colorful photographs, and both aid readers in deciding which way they would choose to travel to go someplace fun!","English",22.6,16.95,"629.04--dc23","24 pp.",{"$f":"Table1[[#This Row],[QTY]]*Table1[[#This Row],['# Books]]","v":0},{"$f":"Table1[[#This Row],[QTY]]*Table1[[#This Row],[S&L Price]]","v":0}]
[null,null,18,"What I Know",1,"I Know Colors","eBook",null,"978-1-4824-5450-5",{"$f":"HYPERLINK(\"https://www.garethstevens.com/\"&Table1[[#This Row],[ISBN]],\"Weblink\")","v":"Weblink"},2017,"January 2017",null,null,"Author","Mary Rose Osburn",null,null,null,null,"B","150L","Grade K","Grade Pre-K - 1","It’s a vibrant world! The pleasing pages of this bright book invite beginning readers to recognize the colors of the rainbow in familiar and fun objects, such as foods, toys, and animals. Achievable content and a final question about the reader’s favorite color make this a valuable tool for both teaching and reinforcing color concepts.","English",22.6,16.95,"535.6--dc23","24 pp.",{"$f":"Table1[[#This Row],[QTY]]*Table1[[#This Row],['# Books]]","v":0},{"$f":"Table1[[#This Row],[QTY]]*Table1[[#This Row],[S&L Price]]","v":0}]
[null,null,18,"What I Know",1,"I Know the Days of the Week","Library Bound Book",null,"978-1-4824-5458-1",{"$f":"HYPERLINK(\"https://www.garethstevens.com/\"&Table1[[#This Row],[ISBN]],\"Weblink\")","v":"Weblink"},2017,"January 2017","Library","7.000 X 7.000","Author","Mary Rose Osburn",null,null,null,null,"C","230L","Grade K","Grade Pre-K - 1","Time can be an abstract and sometimes confusing topic for young learners. The days of the week become comprehensible in this cheerful, entertaining narrative, which emphasizes the order of days as well as how events may happen on certain days. The inviting text, supported by carefully chosen photographs, concludes with a query about readers’ favorite day.","English",22.6,16.95,"529’.1--dc23","24 pp.",{"$f":"Table1[[#This Row],[QTY]]*Table1[[#This Row],['# Books]]","v":0},{"$f":"Table1[[#This Row],[QTY]]*Table1[[#This Row],[S&L Price]]","v":0}]
[null,null,21,"Great Big Animals",12,"Great Big Animals","Library Set",null,"978-1-5382-1415-2",{"$f":"HYPERLINK(\"https://www.garethstevens.com/\"&Table1[[#This Row],[ISBN]],\"Weblink\")","v":"Weblink"},2018,"January 2018","Library","7.625 X 7.125",null,null,null,null,null,null,null,null,"Grade K","Grade Pre-K - 2","The biggest animals on Earth often live the most exciting lives. Whether exploring the lives of gigantic blue whales or enormous elephants, early readers will be fascinated by the lives of the biggest animals on Earth. Incredibly tall giraffes and great, big grizzly bears highlight early science concepts for beginning readers, while fun facts about enthralling creatures, such as ostriches and hippos, fill every exciting page. Through the use of full-color photographs and easy-to-read text, readers will see how huge animals live their lives in Earth's many biomes.","English",277.2,207.9,null,"24 pp.",{"$f":"Table1[[#This Row],[QTY]]*Table1[[#This Row],['# Books]]","v":0},{"$f":"Table1[[#This Row],[QTY]]*Table1[[#This Row],[S&L Price]]","v":0}]
[null,null,21,"Great Big Animals",1,"Awesome Ostriches","Library Bound Book",null,"978-1-4339-9416-6",{"$f":"HYPERLINK(\"https://www.garethstevens.com/\"&Table1[[#This Row],[ISBN]],\"Weblink\")","v":"Weblink"},2014,"August 2013","Library","7.625 X 7.125","Author","Ryan Nagelhout","0.7","0.5",2,2,"B",null,"Grade K","Grade K - 2","Ostriches are the biggest birds on Earth, and they’re also some of the strangest. Early readers will learn more about a herd of ostrich with the help of full-color photographs and easy-to-read text. What does an ostrich eat? How many toes does it have? Why does it kick other animals? Readers discover what these flightless birds do with their wings and other facts that highlight early life science concepts. Accessible text gives early learners plenty of facts about these big birds, while a picture glossary reinforces vocabulary with colorful imagery.  • High-interest topic engages young readers • Strong picture-text correlation aids in comprehension • Reading level supports beginning readers • Picture glossary helps develop vocabulary skills • Comprehendible index guides readers through each book  ","English",23.6,17.7,"598.524","24 pp.",{"$f":"Table1[[#This Row],[QTY]]*Table1[[#This Row],['# Books]]","v":0},{"$f":"Table1[[#This Row],[QTY]]*Table1[[#This Row],[S&L Price]]","v":0}]
[null,null,21,"Great Big Animals",1,"Enormous Elephants","eBook",null,"978-1-4339-9427-2",{"$f":"HYPERLINK(\"https://www.garethstevens.com/\"&Table1[[#This Row],[ISBN]],\"Weblink\")","v":"Weblink"},2014,"August 2013",null,null,"Author","Ryan Nagelhout","0.9","0.5",3,4,"C",null,"Grade K","Grade K - 2","Why are elephants’ ears so big? Early readers will learn that and more in this exciting first concepts book filled with fun information and full-color photographs. Through easy-to-read text, readers will discover the difference between African and Asian elephants, and what they do with their large trunks. The biggest land animals on Earth will captivate even the most reluctant of readers as they come along on this exciting elephant adventure!    • High-interest topic engages young readers • Strong picture-text correlation aids in comprehension • Reading level supports beginning readers • Picture glossary helps develop vocabulary skills • Comprehendible index guides readers through each book    ","English",23.6,17.7,"599.61","24 pp.",{"$f":"Table1[[#This Row],[QTY]]*Table1[[#This Row],['# Books]]","v":0},{"$f":"Table1[[#This Row],[QTY]]*Table1[[#This Row],[S&L Price]]","v":0}]
[null,null,21,"Great Big Animals",1,"Huge Hippos","Library Bound Book",null,"978-1-4339-9436-4",{"$f":"HYPERLINK(\"https://www.garethstevens.com/\"&Table1[[#This Row],[ISBN]],\"Weblink\")","v":"Weblink"},2014,"August 2013","Library","7.625 X 7.125","Author","Ryan Nagelhout","0.9","0.5",3,4,"C",null,"Grade K","Grade K - 2","Hippos love to lie in the water, and they lounge for hours at a time! Through easy-to-read text and vivid full-color photographs, early readers will learn why these huge animals love to lounge as well as why they hunt at night, and just how much food can fill their big bellies! Accessible text offers facts that highlight early life science concepts for beginning readers, and makes learning about these great big animals fun and educational. A picture glossary reinforces vocabulary with colorful photographs to further enhance reading comprehension.    • High-interest topic engages young readers • Strong picture-text correlation aids in comprehension • Reading level supports beginning readers • Picture glossary helps develop vocabulary skills • Comprehendible index guides readers through each book","English",23.6,17.7,"599.635","24 pp.",{"$f":"Table1[[#This Row],[QTY]]*Table1[[#This Row],['# Books]]","v":0},{"$f":"Table1[[#This Row],[QTY]]*Table1[[#This Row],[S&L Price]]","v":0}]
[null,null,21,"Great Big Animals",1,"Gigantic Whale Sharks","eBook",null,"978-1-5382-0902-8",{"$f":"HYPERLINK(\"https://www.garethstevens.com/\"&Table1[[#This Row],[ISBN]],\"Weblink\")","v":"Weblink"},2018,"January 2018",null,null,"Author","Stephanie Carrington","0.9","0.5",null,null,"C",null,"Grade K","Grade Pre-K - 2","Whale sharks live in an ocean full of amazing creatures, but these massive aquatic beasts stand apart because of their size, and with that comes fascinating features, such as having 3,000 tiny teeth. Through full-color photographs and easy-to-read text, young readers explore the seas through their eyes, seeing for themselves how these astonishingly large animals survive in the wild. These fascinating animals truly are the largest fish in the sea, and readers will explore the habitats and habits of these strange sharks with ease thanks to this innovative book.","English",22.6,16.95,"597.3--dc23","24 pp.",{"$f":"Table1[[#This Row],[QTY]]*Table1[[#This Row],['# Books]]","v":0},{"$f":"Table1[[#This Row],[QTY]]*Table1[[#This Row],[S&L Price]]","v":0}]
[null,null,21,"Great Big Animals",1,"Jumbo Blue Whales","Library Bound Book",null,"978-1-5382-0909-7",{"$f":"HYPERLINK(\"https://www.garethstevens.com/\"&Table1[[#This Row],[ISBN]],\"Weblink\")","v":"Weblink"},2018,"January 2018","Library","7.625 X 7.125","Author","Francis MacIntire","0.9","0.5",null,null,"C",null,"Grade K","Grade Pre-K - 2","Imagine an animal whose tongue can weigh as much as an elephant, and whose heart can weigh as much as a car. Blue whales are amazing animals that we have to weigh in tons, not pounds. This book explores the aquatic lives of the largest animals on Earth, from what they eat to where they live and just how big they really are. Through full-color photographs paired with accessible text, young readers will be amazed to learn that these massive animals survive by eating tiny plankton.","English",22.6,16.95,"599.5'248--dc23","24 pp.",{"$f":"Table1[[#This Row],[QTY]]*Table1[[#This Row],['# Books]]","v":0},{"$f":"Table1[[#This Row],[QTY]]*Table1[[#This Row],[S&L Price]]","v":0}]
[null,null,21,"Great Big Animals",1,"Massive Rhinos","Library Bound Book",null,"978-1-5382-0913-4",{"$f":"HYPERLINK(\"https://www.garethstevens.com/\"&Table1[[#This Row],[ISBN]],\"Weblink\")","v":"Weblink"},2018,"January 2018","Library","7.625 X 7.125","Author","Charles M. Jones","0.9","0.5",null,null,"C",null,"Grade K","Grade Pre-K - 2","Rhinoceroses look powerful and scary, but they need our help to stay alive despite their massive size. This book is all about these great big creatures roaming free in Africa. From their amazing horns to their huge size, rhinos are full of amazing features. Young readers learn about these creatures and why they need to be kept safe to save the species. With amazing full-color photographs paired with accessible text, readers discover the difference between black and white rhinos and what they like to eat.","English",22.6,16.95,"599.66'8--dc23","24 pp.",{"$f":"Table1[[#This Row],[QTY]]*Table1[[#This Row],['# Books]]","v":0},{"$f":"Table1[[#This Row],[QTY]]*Table1[[#This Row],[S&L Price]]","v":0}]
[null,null,22,"That's Not a Pet!",1,"Can I Have a Pet Crocodile?","Library Bound Book",null,"978-1-5382-1780-1",{"$f":"HYPERLINK(\"https://www.garethstevens.com/\"&Table1[[#This Row],[ISBN]],\"Weblink\")","v":"Weblink"},2019,"August 2018","Library","7.625 X 7.125","Author","Michou Franco","0.9","0.5",null,null,"C",null,"Grade K","Grade Pre-K - 2","Choosing the perfect pet is important. Many people look beyond dogs, cats, and hamsters. This entertaining book muses whether a crocodile would make a good addition to the family. Through accessible text, readers will learn facts about these reptiles, and why they're not the best creatures to cuddle. Well-chosen photographs support reading comprehension, while carefully crafted sentences seek to inform about the animal world as well as to amuse readers.","English",22.6,16.95,"639.3/982--dc23","24 pp.",{"$f":"Table1[[#This Row],[QTY]]*Table1[[#This Row],['# Books]]","v":0},{"$f":"Table1[[#This Row],[QTY]]*Table1[[#This Row],[S&L Price]]","v":0}]
[null,null,22,"That's Not a Pet!",1,"Can I Have a Pet Elephant?","eBook",null,"978-1-5382-1789-4",{"$f":"HYPERLINK(\"https://www.garethstevens.com/\"&Table1[[#This Row],[ISBN]],\"Weblink\")","v":"Weblink"},2019,"August 2018",null,null,"Author","Michou Franco","0.9","0.5",null,null,"C",null,"Grade K","Grade Pre-K - 2","There's nothing like coming home and playing in the backyard with your pet...elephant? This funny book will engage readers' imaginations, while teaching them about some of elephants' most interesting characteristics. They'll find out what an elephant does with its trunk, how its ears keep it cool, and where it can be found in the wild. The low-ATOS text meets learners at their reading level, while the lively photographs of elephants in action will delight them.","English",22.6,16.95,"599.67--dc23","24 pp.",{"$f":"Table1[[#This Row],[QTY]]*Table1[[#This Row],['# Books]]","v":0},{"$f":"Table1[[#This Row],[QTY]]*Table1[[#This Row],[S&L Price]]","v":0}]
[null,null,22,"That's Not a Pet!",1,"Can I Have a Pet Giraffe?","Library Bound Book",null,"978-1-5382-1792-4",{"$f":"HYPERLINK(\"https://www.garethstevens.com/\"&Table1[[#This Row],[ISBN]],\"Weblink\")","v":"Weblink"},2019,"August 2018","Library","7.625 X 7.125","Author","Bert Wilberforce","0.9","0.5",null,null,"C",null,"Grade K","Grade Pre-K - 2","The gentle giants called giraffes are so cute at the zoo. Whether they're rubbing necks or snatching leaves off the tops of trees with their long tongue, they're fascinating to watch. Readers will love learning giraffe facts in this low-ATOS book and seeing them in action in the colorful photographs. As they muse, along with the narrator, whether a giraffe would be a good pet, they'll realize that this amazing animal is just too tall to curl up on the couch at home.","English",22.6,16.95,"599.638--dc23","24 pp.",{"$f":"Table1[[#This Row],[QTY]]*Table1[[#This Row],['# Books]]","v":0},{"$f":"Table1[[#This Row],[QTY]]*Table1[[#This Row],[S&L Price]]","v":0}]
[null,null,22,"That's Not a Pet!",1,"Can I Have a Pet Polar Bear?","eBook",null,"978-1-5382-1801-3",{"$f":"HYPERLINK(\"https://www.garethstevens.com/\"&Table1[[#This Row],[ISBN]],\"Weblink\")","v":"Weblink"},2019,"August 2018",null,null,"Author","Bert Wilberforce","0.9","0.5",null,null,"C",null,"Grade K","Grade Pre-K - 2","In pictures, polar bears look almost like teddy bears. With their fluffy fur and chubby body, it's almost possible to believe they'd make a good pet, until they're on the hunt for seals. This amusing and informative book explains simple but important facts about polar bears and why they wouldn't make a good addition to the family. These North Pole-dwelling mammals are just too big and carnivorous to play fetch in the backyard. Beautiful photographs of these bears in the wild aid in reading comprehension of this low-ATOS text.","English",22.6,16.95,"599.786--dc23","24 pp.",{"$f":"Table1[[#This Row],[QTY]]*Table1[[#This Row],['# Books]]","v":0},{"$f":"Table1[[#This Row],[QTY]]*Table1[[#This Row],[S&L Price]]","v":0}]
[null,null,23,"Jungle Animals",1,"Crocodiles","eBook",null,"978-1-4824-1751-7",{"$f":"HYPERLINK(\"https://www.garethstevens.com/\"&Table1[[#This Row],[ISBN]],\"Weblink\")","v":"Weblink"},2015,"January 2015",null,null,"Author","Rob Ryndak","0.9","0.5",null,null,"C",null,"Grade K","Grade K - 2","Crocodiles spend lots of time in the water, which makes them perfect jungle animals. Whether on land or in rivers and streams, these fierce animals love to hunt whatever jungle critters get in their way. With their sharp teeth and strong, long bodies, these crocs are waiting to make a meal out of anything unfortunate enough to get close to their strong jaws. Readers will love diving into the jungle waters and getting a look at crocodiles with the help of detailed photographs that show just how dangerous—and interesting—these jungle animals really are.","English",22.6,16.95,"597.98","24 pp.",{"$f":"Table1[[#This Row],[QTY]]*Table1[[#This Row],['# Books]]","v":0},{"$f":"Table1[[#This Row],[QTY]]*Table1[[#This Row],[S&L Price]]","v":0}]
[null,null,23,"Jungle Animals",1,"Parrots","Library Bound Book",null,"978-1-4824-1756-2",{"$f":"HYPERLINK(\"https://www.garethstevens.com/\"&Table1[[#This Row],[ISBN]],\"Weblink\")","v":"Weblink"},2015,"January 2015","Library","7.625 X 7.125","Author","Rob Ryndak","0.9","0.5",null,null,"C",null,"Grade K","Grade K - 2","Parrots are colorful birds that live an exciting life in the jungle. With more than 350 kinds of parrots on Earth, there’s a lot to learn about these creatures. From their diet of nuts and fruits to a look at the parrots that sing and talk, early readers will love the color photographs and accessible text that will teach them all about these feathered friends.","English",22.6,16.95,"598.7","24 pp.",{"$f":"Table1[[#This Row],[QTY]]*Table1[[#This Row],['# Books]]","v":0},{"$f":"Table1[[#This Row],[QTY]]*Table1[[#This Row],[S&L Price]]","v":0}]
[null,null,23,"Jungle Animals",1,"Sloths","Library Bound Book",null,"978-1-4824-1760-9",{"$f":"HYPERLINK(\"https://www.garethstevens.com/\"&Table1[[#This Row],[ISBN]],\"Weblink\")","v":"Weblink"},2015,"January 2015","Library","7.625 X 7.125","Author","Rob Ryndak","0.9","0.5",null,null,"C",null,"Grade K","Grade K - 2","Long ago, giant sloths taller than humans roamed the Earth. Today’s much smaller sloths are just as interesting—and very cute! Through great photographs and accessible text, beginning readers will love exploring the world of sloths. That means spending lots of time in the jungle’s dense trees because sloths’ legs aren’t very strong! These animals love to hang out and find food for their babies in the trees they call home. Readers will learn that these sleepy creatures do leave trees sometimes: they love to go for a swim!","English",22.6,16.95,"599.3","24 pp.",{"$f":"Table1[[#This Row],[QTY]]*Table1[[#This Row],['# Books]]","v":0},{"$f":"Table1[[#This Row],[QTY]]*Table1[[#This Row],[S&L Price]]","v":0}]
[null,null,23,"Farm Animals",1,"Chickens on the Farm","Library Bound Book",null,"978-1-4339-7344-4",{"$f":"HYPERLINK(\"https://www.garethstevens.com/\"&Table1[[#This Row],[ISBN]],\"Weblink\")","v":"Weblink"},2013,"August 2012","Library","7.625 X 7.125","Author","Rose Carraway","0.9","0.5",3,4,"C",null,"Grade K","Grade K - 2","Chickens are very important animals on a farm. Beginning readers discover what farmers get from chickens and many other fun facts about these birds. Easy-to-follow, accessible text allows young readers to learn where chickens live, how they sleep, and what they eat. A helpful picture glossary aids in the development of vocabulary skills, and bright photographs show what life is like for these fascinating farm animals.","English",23.6,17.7,"636.5","24 pp.",{"$f":"Table1[[#This Row],[QTY]]*Table1[[#This Row],['# Books]]","v":0},{"$f":"Table1[[#This Row],[QTY]]*Table1[[#This Row],[S&L Price]]","v":0}]
[null,null,23,"Farm Animals",1,"Cows on the Farm","Interactive eBook","Flash","978-1-4339-7927-9",{"$f":"HYPERLINK(\"https://www.garethstevens.com/\"&Table1[[#This Row],[ISBN]],\"Weblink\")","v":"Weblink"},2013,"August 2012",null,null,"Author","Rose Carraway","0.9","0.5",3,4,"C",null,"Grade K","Grade K - 2","Beginning readers will discover that the milk we drink comes mainly from cows, as well as other fun facts about these animals. Engaging and accessible text describes what life is like for cows on a farm as well as why cows are important to people. A picture glossary is included to help readers build strong vocabularies. Colorful photographs show a variety of farm cows, including small calves and spotted dairy cows.","English",33.25,24.95,"636.2","24 pp.",{"$f":"Table1[[#This Row],[QTY]]*Table1[[#This Row],['# Books]]","v":0},{"$f":"Table1[[#This Row],[QTY]]*Table1[[#This Row],[S&L Price]]","v":0}]
[null,null,23,"Farm Animals",1,"Horses on the Farm","eBook",null,"978-1-4339-7359-8",{"$f":"HYPERLINK(\"https://www.garethstevens.com/\"&Table1[[#This Row],[ISBN]],\"Weblink\")","v":"Weblink"},2013,"August 2012",null,null,"Author","Rose Carraway","0.9","0.5",3,4,"C","280L","Grade K","Grade K - 2","Readers discover why horses are truly captivating animals. Accessible language guides readers as they explore the world of horses that live and work on a farm, and learn what it is like to ride one of these amazing animals. Fun facts about horses engage readers in a way that is both enjoyable and educational. A picture glossary helps build a strong vocabulary, and colorful photographs show beautiful horses in striking detail.","English",23.6,17.7,"636.1","24 pp.",{"$f":"Table1[[#This Row],[QTY]]*Table1[[#This Row],['# Books]]","v":0},{"$f":"Table1[[#This Row],[QTY]]*Table1[[#This Row],[S&L Price]]","v":0}]
[null,null,23,"Farm Animals",1,"Horses on the Farm","Interactive eBook","Flash","978-1-4339-7931-6",{"$f":"HYPERLINK(\"https://www.garethstevens.com/\"&Table1[[#This Row],[ISBN]],\"Weblink\")","v":"Weblink"},2013,"August 2012",null,null,"Author","Rose Carraway","0.9","0.5",3,4,"C","280L","Grade K","Grade K - 2","Readers discover why horses are truly captivating animals. Accessible language guides readers as they explore the world of horses that live and work on a farm, and learn what it is like to ride one of these amazing animals. Fun facts about horses engage readers in a way that is both enjoyable and educational. A picture glossary helps build a strong vocabulary, and colorful photographs show beautiful horses in striking detail.","English",33.25,24.95,"636.1","24 pp.",{"$f":"Table1[[#This Row],[QTY]]*Table1[[#This Row],['# Books]]","v":0},{"$f":"Table1[[#This Row],[QTY]]*Table1[[#This Row],[S&L Price]]","v":0}]
[null,null,23,"Farm Animals",1,"Sheep on the Farm","eBook",null,"978-1-4339-7367-3",{"$f":"HYPERLINK(\"https://www.garethstevens.com/\"&Table1[[#This Row],[ISBN]],\"Weblink\")","v":"Weblink"},2013,"August 2012",null,null,"Author","Rose Carraway","0.9","0.5",3,4,"C","270L","Grade K","Grade K - 2","Beginning readers get up-close to shy sheep in this engaging and educational book. They discover the important things that farmers get from sheep, such as wool for clothing. They also learn fun facts including what they eat and when their babies are born. Simple, accessible text and a picture glossary help beginning readers build their vocabularies with each turn of the page. Bright photographs make readers feel as if they are on a farm alongside a variety of sheep.","English",23.6,17.7,"636.3","24 pp.",{"$f":"Table1[[#This Row],[QTY]]*Table1[[#This Row],['# Books]]","v":0},{"$f":"Table1[[#This Row],[QTY]]*Table1[[#This Row],[S&L Price]]","v":0}]
[null,null,24,"Underwater World",1,"Clownfish","eBook",null,"978-1-4339-8566-9",{"$f":"HYPERLINK(\"https://www.garethstevens.com/\"&Table1[[#This Row],[ISBN]],\"Weblink\")","v":"Weblink"},2013,"January 2013",null,null,"Author","Ryan Nagelhout","0.9","0.5",3,4,"C","320L","Grade K","Grade K - 2","The bright and colorful clownfish lives an exciting life in the coral reef. Through the use of accessible text, readers take an exciting look at the world clownfish call home. A picture glossary helps beginning readers strengthen their vocabulary skills, and vibrant, full-color photographs shows how these stunning animals survive under the sea.","English",23.6,17.7,"597","24 pp.",{"$f":"Table1[[#This Row],[QTY]]*Table1[[#This Row],['# Books]]","v":0},{"$f":"Table1[[#This Row],[QTY]]*Table1[[#This Row],[S&L Price]]","v":0}]
[null,null,24,"Underwater World",1,"Sharks","Library Bound Book",null,"978-1-4339-8575-1",{"$f":"HYPERLINK(\"https://www.garethstevens.com/\"&Table1[[#This Row],[ISBN]],\"Weblink\")","v":"Weblink"},2013,"January 2013","Library","7.625 X 7.125","Author","Ryan Nagelhout","0.9","0.5",3,4,"C",null,"Grade K","Grade K - 2","Sharks are famous for their bite, but there's plenty of variety in these dangerous creatures. Through the use of accessible text, readers take an exciting look at the wet world these toothy creatures call home. A picture glossary helps beginning readers strengthen their vocabulary skills, and vibrant, full-color photographs show how these stunning animals make a home under the waves.","English",23.6,17.7,"597.3--dc23","24 pp.",{"$f":"Table1[[#This Row],[QTY]]*Table1[[#This Row],['# Books]]","v":0},{"$f":"Table1[[#This Row],[QTY]]*Table1[[#This Row],[S&L Price]]","v":0}]
[null,null,24,"Underwater World",1,"Sharks","eBook",null,"978-1-4339-8847-9",{"$f":"HYPERLINK(\"https://www.garethstevens.com/\"&Table1[[#This Row],[ISBN]],\"Weblink\")","v":"Weblink"},2013,"January 2013",null,null,"Author","Ryan Nagelhout","0.9","0.5",3,4,"C",null,"Grade K","Grade K - 2","Sharks are famous for their bite, but there's plenty of variety in these dangerous creatures. Through the use of accessible text, readers take an exciting look at the wet world these toothy creatures call home. A picture glossary helps beginning readers strengthen their vocabulary skills, and vibrant, full-color photographs show how these stunning animals make a home under the waves.","English",23.6,17.7,"597.3--dc23","24 pp.",{"$f":"Table1[[#This Row],[QTY]]*Table1[[#This Row],['# Books]]","v":0},{"$f":"Table1[[#This Row],[QTY]]*Table1[[#This Row],[S&L Price]]","v":0}]
[null,null,24,"Itty Bitty Animals",6,"Itty Bitty Animals","Library Set",null,"978-1-4339-9904-8",{"$f":"HYPERLINK(\"https://www.garethstevens.com/\"&Table1[[#This Row],[ISBN]],\"Weblink\")","v":"Weblink"},2014,"January 2014","Library","7.125 X 7.625",null,null,null,null,null,null,null,null,"Grade K","Grade K - 2","Small animals aren’t always babies. Some of the most interesting animals on Earth could fit in your hand when they’re fully grown! From bitty but dangerous tree frogs to entire armies of tiny ants and guppies in all colors of the rainbow, this series spotlights some of the world’s smallest—and coolest—animals. Young readers will explore beginning life science concepts through accessible text and crisp full-color photographs of itty bitty animals. A picture glossary reinforces vocabulary.    • Strong picture-text correlation aids in comprehension • Reading level supports beginning readers • Picture glossary helps develop vocabulary skills • Comprehendible index guides readers through each book  ","English",141.6,106.2,null,"24 pp.",{"$f":"Table1[[#This Row],[QTY]]*Table1[[#This Row],['# Books]]","v":0},{"$f":"Table1[[#This Row],[QTY]]*Table1[[#This Row],[S&L Price]]","v":0}]
[null,null,24,"Itty Bitty Animals",1,"Itty Bitty Guppies","Library Bound Book",null,"978-1-4339-9882-9",{"$f":"HYPERLINK(\"https://www.garethstevens.com/\"&Table1[[#This Row],[ISBN]],\"Weblink\")","v":"Weblink"},2014,"January 2014","Library","7.625 X 7.125","Author","Alex Lumpy","1.1","0.5",3,null,"C",null,"Grade K","Grade K - 2","Guppies are tiny little fish, but they have a big story to tell. These colorful creatures were discovered in 1866 and come in many shapes and sizes. Some have even become pets for people all over the world. In this exciting book filled with scientific facts and an awesome picture gallery, learn more about the tiny world of guppies.    • Strong picture-text correlation aids in comprehension • Reading level supports beginning readers • Picture glossary helps develop vocabulary skills • Comprehendible index guides readers through each book  ","English",23.6,17.7,"639.3757","24 pp.",{"$f":"Table1[[#This Row],[QTY]]*Table1[[#This Row],['# Books]]","v":0},{"$f":"Table1[[#This Row],[QTY]]*Table1[[#This Row],[S&L Price]]","v":0}]
[null,null,24,"Itty Bitty Animals",1,"Itty Bitty Mice","eBook",null,"978-1-4339-9891-1",{"$f":"HYPERLINK(\"https://www.garethstevens.com/\"&Table1[[#This Row],[ISBN]],\"Weblink\")","v":"Weblink"},2014,"January 2014",null,null,"Author","Jay Moose","1","0.5",3,null,"C",null,"Grade K","Grade K - 2","Some people are afraid of mice, but these tiny critters are full of interesting facts. Learn how little mice are taken care of and how some of these itty bitty animals are even kept as pets or used to run tests. From tiny pink pups to wild mice invading your home, these animals will help readers learn definitions and early concepts with the use of full-color pictures and a great picture glossary.","English",23.6,17.7,"599.353","24 pp.",{"$f":"Table1[[#This Row],[QTY]]*Table1[[#This Row],['# Books]]","v":0},{"$f":"Table1[[#This Row],[QTY]]*Table1[[#This Row],[S&L Price]]","v":0}]
[null,null,24,"Itty Bitty Animals",1,"Itty Bitty Tree Frogs","Library Bound Book",null,"978-1-4339-9894-2",{"$f":"HYPERLINK(\"https://www.garethstevens.com/\"&Table1[[#This Row],[ISBN]],\"Weblink\")","v":"Weblink"},2014,"January 2014","Library","7.625 X 7.125","Author","Gunner Quick","1.1","0.5",3,null,"C",null,"Grade K","Grade K - 2","Tree frogs are some of the smallest and most dangerous animals in a rain forest. Readers learn about these bright creatures and how they use their long legs to leap all over the place. Toxic poison dart frogs are dangerous, but many of these itty bitty creatures are kept as pets and admired for their sticky feet and ability to change colors. Strong picture-text correlation aids in comprehension. Reading level supports beginning readers. A picture glossary helps develop vocabulary skills.","English",23.6,17.7,"597.878--dc23","24 pp.",{"$f":"Table1[[#This Row],[QTY]]*Table1[[#This Row],['# Books]]","v":0},{"$f":"Table1[[#This Row],[QTY]]*Table1[[#This Row],[S&L Price]]","v":0}]
[null,null,25,"Math Is Everywhere!",1,"Math at the Game","eBook",null,"978-1-4824-5485-7",{"$f":"HYPERLINK(\"https://www.garethstevens.com/\"&Table1[[#This Row],[ISBN]],\"Weblink\")","v":"Weblink"},2017,"January 2017",null,null,"Author","Elizabeth Powell","0.9","0.5",null,null,"C",null,"Grade K","Grade Pre-K - 2","Mathematics is a major part of sports, from scores to spatial relationships. In this fun narrative, readers tag along to a soccer game and are invited to count objects, identify shapes, and compare quantities. Simple text, along with colorful photographs, aid in reading comprehension and help readers focus on the achievable concepts.","English",22.6,16.95,"513--dc23","24 pp.",{"$f":"Table1[[#This Row],[QTY]]*Table1[[#This Row],['# Books]]","v":0},{"$f":"Table1[[#This Row],[QTY]]*Table1[[#This Row],[S&L Price]]","v":0}]
[null,null,25,"Math Is Everywhere!",1,"Math by the Ocean","Library Bound Book",null,"978-1-4824-5510-6",{"$f":"HYPERLINK(\"https://www.garethstevens.com/\"&Table1[[#This Row],[ISBN]],\"Weblink\")","v":"Weblink"},2017,"January 2017","Library","7.625 X 7.125","Author","Keiran Shah","0.9","0.5",null,null,"C",null,"Grade K","Grade Pre-K - 2","It’s time to take math out of the classroom and into the real world. In this charming volume, math concepts are easy to understand as they’re woven into a story about a day at the beach. Readers will see shapes in the sand, add beach balls, and even count and learn about marine creatures. Helpful photographs closely support text and vocabulary comprehension.","English",22.6,16.95,"513--dc23","24 pp.",{"$f":"Table1[[#This Row],[QTY]]*Table1[[#This Row],['# Books]]","v":0},{"$f":"Table1[[#This Row],[QTY]]*Table1[[#This Row],[S&L Price]]","v":0}]
[null,null,25,"Math Is Everywhere!",1,"Math in the Kitchen","eBook",null,"978-1-4824-5452-9",{"$f":"HYPERLINK(\"https://www.garethstevens.com/\"&Table1[[#This Row],[ISBN]],\"Weblink\")","v":"Weblink"},2017,"January 2017",null,null,"Author","Keiran Shah","0.9","0.5",null,null,"C",null,"Grade K","Grade Pre-K - 2","Can math be delicious? It is when math skills are used to make cookies! Bakers are mathematicians when they add eggs and tablespoons of butter, measure flour and sugar, and mix them all together to make delectable treats. Readers will love this volume’s tempting photos and instructive, yet accessible text.","English",22.6,16.95,"513--dc23","24 pp.",{"$f":"Table1[[#This Row],[QTY]]*Table1[[#This Row],['# Books]]","v":0},{"$f":"Table1[[#This Row],[QTY]]*Table1[[#This Row],[S&L Price]]","v":0}]
[null,null,25,"Math Is Everywhere!",1,"Math at the Park","Library Bound Book",null,"978-1-4824-4617-3",{"$f":"HYPERLINK(\"https://www.garethstevens.com/\"&Table1[[#This Row],[ISBN]],\"Weblink\")","v":"Weblink"},2017,"August 2016","Library","7.625 X 7.125","Author","Claire Romaine","0.9","0.5",null,null,"C",null,"Grade K","Grade Pre-K - 2","Every day, we’re faced with mathematical situations, so much so that we don’t even recognize them. This fun volume opens readers’ eyes to the math in their world through a walk in the park. They’ll find shapes, use numbers, compare sizes, and identify the positions of objects with help from a friendly narrator. Carefully selected photographs support the comprehensible text.","English",22.6,16.95,"510--dc23","24 pp.",{"$f":"Table1[[#This Row],[QTY]]*Table1[[#This Row],['# Books]]","v":0},{"$f":"Table1[[#This Row],[QTY]]*Table1[[#This Row],[S&L Price]]","v":0}]
[null,null,25,"Math Is Everywhere!",1,"Math with Pets","eBook",null,"978-1-4824-4613-5",{"$f":"HYPERLINK(\"https://www.garethstevens.com/\"&Table1[[#This Row],[ISBN]],\"Weblink\")","v":"Weblink"},2017,"August 2016",null,null,"Author","Claire Romaine","0.9","0.5",null,null,"C",null,"Grade K","Grade Pre-K - 2","The pet store is a perfect place to exercise math concepts! Readers will be delighted as this fun volume introduces them to parrots, kittens, puppies, and other animals while reviewing important standards of the math curriculum, such as size comparison, sorting, and numbers and counting. The high-interest topic—and the vivid accompanying photographs—is an accessible and enjoyable introduction or review of elementary math skills.","English",22.6,16.95,"510--dc23","24 pp.",{"$f":"Table1[[#This Row],[QTY]]*Table1[[#This Row],['# Books]]","v":0},{"$f":"Table1[[#This Row],[QTY]]*Table1[[#This Row],[S&L Price]]","v":0}]
[null,null,25,"Math Is Everywhere!",1,"Math with Wheels","Library Bound Book",null,"978-1-4824-4622-7",{"$f":"HYPERLINK(\"https://www.garethstevens.com/\"&Table1[[#This Row],[ISBN]],\"Weblink\")","v":"Weblink"},2017,"August 2016","Library","7.625 X 7.125","Author","Rory McDonnell","0.9","0.5",null,null,"C",null,"Grade K","Grade Pre-K - 2","Grab your bike, it's time to ride. That's the fun activity that begins this inviting book. The narrator looks for wheels in a ride around town, adding them as he goes and encouraging readers to do the same. He encounters friends on bikes with training wheels, a unicycle, and even a policeman on a motorcycle. Math is everywhere, even on wheels.","English",22.6,16.95,"510--dc23","24 pp.",{"$f":"Table1[[#This Row],[QTY]]*Table1[[#This Row],['# Books]]","v":0},{"$f":"Table1[[#This Row],[QTY]]*Table1[[#This Row],[S&L Price]]","v":0}]
[null,null,26,"In My Backyard",12,"In My Backyard (Set of 12 Titles)","Library Set",null,"978-1-5382-2942-2",{"$f":"HYPERLINK(\"https://www.garethstevens.com/\"&Table1[[#This Row],[ISBN]],\"Weblink\")","v":"Weblink"},2019,"January 2019","Library","7.625 X 7.125",null,null,null,null,null,null,null,null,"Grade K","Grade Pre-K - 2","Birds, butterflies, ants, and toads are some of the creatures people are lucky enough to spy in their yards and local parks. They're so common that they're often overlooked. However, each animal has fascinating features that help it survive in its habitat. Our appealing popular collection reveals these characteristics to young biologists and is a great introduction to early elementary science concepts, such as the needs of organisms, life cycles, and adaptations. Striking photographs support understanding of the low-ATOS text. Features include: Readers are introduced to key elementary science vocabulary. Close photo-text match aids reading comprehension. Volumes contain tables of contents, picture glossaries, and indexes; features highlighted in the ELA Common Core standards.","English",277.2,207.9,null,"24 pp.",{"$f":"Table1[[#This Row],[QTY]]*Table1[[#This Row],['# Books]]","v":0},{"$f":"Table1[[#This Row],[QTY]]*Table1[[#This Row],[S&L Price]]","v":0}]
[null,null,26,"In My Backyard",1,"I See a Deer","eBook",null,"978-1-5382-2971-2",{"$f":"HYPERLINK(\"https://www.garethstevens.com/\"&Table1[[#This Row],[ISBN]],\"Weblink\")","v":"Weblink"},2019,"January 2019",null,null,"Author","E. T. Weingarten","0.9","0.5",null,null,"C",null,"Grade K","Grade Pre-K - 2","Deer are a common sight in wooded areas, fields, and even backyards that provide lots of tasty plants for these long-legged mammals to eat. Young readers probably don't realize there are many kinds of deer, including the petite pudu and the massive moose. This attractive volume shares some absorbing facts about these creatures relayed through low-ATOS text and stunning photographs of deer in action.","English",22.6,16.95,"599.65--dc23","24 pp.",{"$f":"Table1[[#This Row],[QTY]]*Table1[[#This Row],['# Books]]","v":0},{"$f":"Table1[[#This Row],[QTY]]*Table1[[#This Row],[S&L Price]]","v":0}]
[null,null,26,"In My Backyard",1,"I See a Worm","Library Bound Book",null,"978-1-5382-2876-0",{"$f":"HYPERLINK(\"https://www.garethstevens.com/\"&Table1[[#This Row],[ISBN]],\"Weblink\")","v":"Weblink"},2019,"January 2019","Library","7.625 X 7.125","Author","Agatha Gregson","0.9","0.5",null,null,"C",null,"Grade K","Grade Pre-K - 2","Taking a walk after a rainstorm often brings a familiar sight: pink, wriggly worms on the sidewalk. Readers of this delightful book will find out how earthworms move around without legs, or even bones. Through bright low-ATOS text, they'll learn what earthworms eat and why gardeners and birds love them. They'll marvel at the close-up photographs of these interesting invertebrates and gain an appreciation for an often-overlooked creature in their own backyard.","English",22.6,16.95,"592/.3--dc23","24 pp.",{"$f":"Table1[[#This Row],[QTY]]*Table1[[#This Row],['# Books]]","v":0},{"$f":"Table1[[#This Row],[QTY]]*Table1[[#This Row],[S&L Price]]","v":0}]
[null,null,26,"In My Backyard",1,"I See an Owl","eBook",null,"978-1-5382-2976-7",{"$f":"HYPERLINK(\"https://www.garethstevens.com/\"&Table1[[#This Row],[ISBN]],\"Weblink\")","v":"Weblink"},2019,"January 2019",null,null,"Author","Agatha Gregson","0.9","0.5",null,null,"C",null,"Grade K","Grade Pre-K - 2","Owls may have soft, fluffy feathers, but these birds of prey aren't cuddly. They're serious hunters. Readers will love learning about the owl adaptations that enable these birds to nab their prey, including sharp talons and excellent hearing and eyesight. Straightforward low-ATOS text and a picture glossary help young ornithologists comprehend key concepts, while stunning photographs will awe them, as well as inspire them to bird-watch.","English",22.6,16.95,"598.9/7--dc23","24 pp.",{"$f":"Table1[[#This Row],[QTY]]*Table1[[#This Row],['# Books]]","v":0},{"$f":"Table1[[#This Row],[QTY]]*Table1[[#This Row],[S&L Price]]","v":0}]
[null,null,26,"In My Backyard",1,"I See a Chipmunk","Library Bound Book",null,"978-1-4339-8547-8",{"$f":"HYPERLINK(\"https://www.garethstevens.com/\"&Table1[[#This Row],[ISBN]],\"Weblink\")","v":"Weblink"},2013,"January 2013","Library","7.625 X 7.125","Author","Alex Appleby","0.9","0.5",3,4,"C","240L","Grade K","Grade K - 2","Chipmunks know that winter is always right around the corner, and it’s never too early to start gathering food. Through the use of accessible text, readers take an exciting look at the life of these cheerful animals in their backyard. A picture glossary helps beginning readers strengthen their vocabulary skills, and vibrant, full-color photographs show chipmunks at home and abroad, filling their cheeks with nuts for a long winter of hibernation.","English",23.6,17.7,"599.36","24 pp.",{"$f":"Table1[[#This Row],[QTY]]*Table1[[#This Row],['# Books]]","v":0},{"$f":"Table1[[#This Row],[QTY]]*Table1[[#This Row],[S&L Price]]","v":0}]
[null,null,26,"In My Backyard",1,"I See a Chipmunk","eBook",null,"978-1-4339-8550-8",{"$f":"HYPERLINK(\"https://www.garethstevens.com/\"&Table1[[#This Row],[ISBN]],\"Weblink\")","v":"Weblink"},2013,"January 2013",null,null,"Author","Alex Appleby","0.9","0.5",3,4,"C","240L","Grade K","Grade K - 2","Chipmunks know that winter is always right around the corner, and it’s never too early to start gathering food. Through the use of accessible text, readers take an exciting look at the life of these cheerful animals in their backyard. A picture glossary helps beginning readers strengthen their vocabulary skills, and vibrant, full-color photographs show chipmunks at home and abroad, filling their cheeks with nuts for a long winter of hibernation.","English",23.6,17.7,"599.36","24 pp.",{"$f":"Table1[[#This Row],[QTY]]*Table1[[#This Row],['# Books]]","v":0},{"$f":"Table1[[#This Row],[QTY]]*Table1[[#This Row],[S&L Price]]","v":0}]
[null,null,26,"In My Backyard",1,"I See a Squirrel","eBook",null,"978-1-4339-8562-1",{"$f":"HYPERLINK(\"https://www.garethstevens.com/\"&Table1[[#This Row],[ISBN]],\"Weblink\")","v":"Weblink"},2013,"January 2013",null,null,"Author","Alex Appleby","0.9","0.5",3,4,"C","310L","Grade K","Grade K - 2","Squirrels are some of the more versatile creatures you’ll find in a backyard. Through the use of accessible text, readers take an exciting look at the life of these quick little rodents. A picture glossary helps beginning readers strengthen their vocabulary skills, and vibrant, full-color photographs show the many ways squirrels can live. From flying through trees to nursing their young in dens, this book is sure to educate and excite.","English",23.6,17.7,"599.36","24 pp.",{"$f":"Table1[[#This Row],[QTY]]*Table1[[#This Row],['# Books]]","v":0},{"$f":"Table1[[#This Row],[QTY]]*Table1[[#This Row],[S&L Price]]","v":0}]
[null,null,27,"So Into Science!",1,"Exploring the Aquarium","eBook",null,"978-1-5382-2983-5",{"$f":"HYPERLINK(\"https://www.garethstevens.com/\"&Table1[[#This Row],[ISBN]],\"Weblink\")","v":"Weblink"},2019,"January 2019",null,null,"Author","Marie Roesser","0.9","0.5",null,null,"C",null,"Grade K","Grade Pre-K - 2","For those who've wondered what fish can lay claim to the title \"fastest\" and \"largest,\" this vibrant volume has the answers. A trip to the aquarium is the lens through which the reader becomes acquainted with such water-dwelling animals as alligators, whale sharks, and sea turtles. They'll learn fun facts about each, marvel at the impressive photographs, and most of all, find out that aquariums are perfect places to nurture a love for freshwater and saltwater creatures.","English",22.6,16.95,"639.34--dc23","24 pp.",{"$f":"Table1[[#This Row],[QTY]]*Table1[[#This Row],['# Books]]","v":0},{"$f":"Table1[[#This Row],[QTY]]*Table1[[#This Row],[S&L Price]]","v":0}]
[null,null,27,"So Into Science!",1,"Exploring the Pond","Library Bound Book",null,"978-1-5382-2888-3",{"$f":"HYPERLINK(\"https://www.garethstevens.com/\"&Table1[[#This Row],[ISBN]],\"Weblink\")","v":"Weblink"},2019,"January 2019","Library","7.625 X 7.125","Author","Marie Roesser","0.9","0.5",null,null,"C",null,"Grade K","Grade Pre-K - 2","Even the smallest pond is teeming with plant and animal life. Ponds are essential food sources for so many animals, including miniscule minnows and big bass. Ducks and spiders live hidden in the grasses surrounding ponds, while crayfish swim pond waters in search of a tadpole snack. This accessible volume gives readers an understanding of parts of the intricate ecosystem of a pond and an appreciation for the natural world in general.","English",22.6,16.95,"577.63/6--dc23","24 pp.",{"$f":"Table1[[#This Row],[QTY]]*Table1[[#This Row],['# Books]]","v":0},{"$f":"Table1[[#This Row],[QTY]]*Table1[[#This Row],[S&L Price]]","v":0}]
[null,null,27,"So Into Science!",1,"Exploring the Pond","eBook",null,"978-1-5382-2986-6",{"$f":"HYPERLINK(\"https://www.garethstevens.com/\"&Table1[[#This Row],[ISBN]],\"Weblink\")","v":"Weblink"},2019,"January 2019",null,null,"Author","Marie Roesser","0.9","0.5",null,null,"C",null,"Grade K","Grade Pre-K - 2","Even the smallest pond is teeming with plant and animal life. Ponds are essential food sources for so many animals, including miniscule minnows and big bass. Ducks and spiders live hidden in the grasses surrounding ponds, while crayfish swim pond waters in search of a tadpole snack. This accessible volume gives readers an understanding of parts of the intricate ecosystem of a pond and an appreciation for the natural world in general.","English",22.6,16.95,"577.63/6--dc23","24 pp.",{"$f":"Table1[[#This Row],[QTY]]*Table1[[#This Row],['# Books]]","v":0},{"$f":"Table1[[#This Row],[QTY]]*Table1[[#This Row],[S&L Price]]","v":0}]
[null,null,28,"Fun on the Farm",6,"Fun on the Farm","Library Set",null,"978-1-4824-5540-3",{"$f":"HYPERLINK(\"https://www.garethstevens.com/\"&Table1[[#This Row],[ISBN]],\"Weblink\")","v":"Weblink"},2017,"January 2017","Library","7.125 X 7.625",null,null,null,null,null,null,null,null,"Grade K","Grade Pre-K - 2","Many of the things people need to live in big cities come from farms of all shapes and sizes. From apple orchards to sheep farms and even fisheries, there are lots of different ways farmers grow the food and raise the animals we need to live. Using full-color photographs and accessible text, readers experience the fun sights of farms all over the country, learning more about how cows graze the grasslands on dairy farms and what kind of fish live in a fish farm.","English",135.6,101.7,null,"24 pp.",{"$f":"Table1[[#This Row],[QTY]]*Table1[[#This Row],['# Books]]","v":0},{"$f":"Table1[[#This Row],[QTY]]*Table1[[#This Row],[S&L Price]]","v":0}]
[null,null,28,"Fun on the Farm",1,"At the Fish Farm","Library Bound Book",null,"978-1-4824-5522-9",{"$f":"HYPERLINK(\"https://www.garethstevens.com/\"&Table1[[#This Row],[ISBN]],\"Weblink\")","v":"Weblink"},2017,"January 2017","Library","7.625 X 7.125","Author","George Pendergast","1","0.5",null,null,"C",null,"Grade K","Grade Pre-K - 2","Farmers take care of more than just plants and land animals. Fish farms are a major food source that’s often overlooked. These amazing places are found in the ocean, in big ponds, or even tanks that farmers keep a watchful eye on to make sure fish grow and stay healthy. Through vibrant, full-color photographs and accessible text, budding readers will explore the world of fish farming, the types of fish that live in these farms, and how these amazing animals are fed in their aquatic homes.","English",22.6,16.95,"664’.94--dc23","24 pp.",{"$f":"Table1[[#This Row],[QTY]]*Table1[[#This Row],['# Books]]","v":0},{"$f":"Table1[[#This Row],[QTY]]*Table1[[#This Row],[S&L Price]]","v":0}]
[null,null,28,"Fun on the Farm",1,"At the Orchard","eBook",null,"978-1-4824-5531-1",{"$f":"HYPERLINK(\"https://www.garethstevens.com/\"&Table1[[#This Row],[ISBN]],\"Weblink\")","v":"Weblink"},2017,"January 2017",null,null,"Author","Bruce Esseltine","0.9","0.5",null,null,"C",null,"Grade K","Grade Pre-K - 2","Fruit farmers don’t take care of animals, they take care of trees! These orchards are full of delicious treats like apples, oranges, cherries, and even pears. Early readers learn how farmers plant these trees in rows, then take care of them until the trees bear fruit. Through accessible text paired with full-color photographs, readers learn how different orchards grow different fruits and what farmers do when the fruit gets ripe.","English",22.6,16.95,"634--dc23","24 pp.",{"$f":"Table1[[#This Row],[QTY]]*Table1[[#This Row],['# Books]]","v":0},{"$f":"Table1[[#This Row],[QTY]]*Table1[[#This Row],[S&L Price]]","v":0}]
[null,null,28,"Our Exciting Earth!",6,"Our Exciting Earth!","Library Set",null,"978-1-5382-1285-1",{"$f":"HYPERLINK(\"https://www.garethstevens.com/\"&Table1[[#This Row],[ISBN]],\"Weblink\")","v":"Weblink"},2018,"January 2018","Library","7.625 X 7.125",null,null,null,null,null,null,null,null,"Grade K","Grade Pre-K - 2","Our Earth is an incredibly dynamic planet. It's continually changing, always breathtaking, and often mysterious. Elementary curricula require that learners understand natural features of regions such as mountains, valleys, and deserts. This exciting series will take the mystery out of some of Earth's most recognizable landforms. Readers will not only learn what these places look like, but also gain an understanding of their conditions and the types of organisms that call them home. Young geographers will love this lively exploration of their planet.","English",135.6,101.7,null,"24 pp.",{"$f":"Table1[[#This Row],[QTY]]*Table1[[#This Row],['# Books]]","v":0},{"$f":"Table1[[#This Row],[QTY]]*Table1[[#This Row],[S&L Price]]","v":0}]
[null,null,28,"Our Exciting Earth!",1,"Deserts","eBook",null,"978-1-5382-0964-6",{"$f":"HYPERLINK(\"https://www.garethstevens.com/\"&Table1[[#This Row],[ISBN]],\"Weblink\")","v":"Weblink"},2018,"January 2018",null,null,"Author","Claire Romaine","0.9","0.5",null,null,"C","230L","Grade K","Grade Pre-K - 2","Many people have preconceptions about biomes, especially deserts. They picture only hot, barren wastelands where nothing lives. This valuable volume teaches young Earth explorers some surprising facts about desert habitats. For example, some deserts don’t have sand, and some are quite cold. They’ll also learn how some resilient plants and animals survive in these arid environments. Beautiful images accompany the accessible low-ATOS text.","English",22.6,16.95,"577.54--dc23","24 pp.",{"$f":"Table1[[#This Row],[QTY]]*Table1[[#This Row],['# Books]]","v":0},{"$f":"Table1[[#This Row],[QTY]]*Table1[[#This Row],[S&L Price]]","v":0}]
[null,null,28,"Our Exciting Earth!",1,"Ponds","Library Bound Book",null,"978-1-5382-0975-2",{"$f":"HYPERLINK(\"https://www.garethstevens.com/\"&Table1[[#This Row],[ISBN]],\"Weblink\")","v":"Weblink"},2018,"January 2018","Library","7.625 X 7.125","Author","Jagger Youssef","0.9","0.5",null,null,"C",null,"Grade K","Grade Pre-K - 2","Even the smallest pond is a home for a myriad of plants and animals. This easy-to-follow volume demonstrates that accessible text and dynamic photographs are a perfect combination for introducing young readers to essential science topics. Readers will be delighted to meet the inhabitants of a pond, including frogs, minnows, ducklings, and even algae, which they’ll learn can make a pond turn green. They’ll be able to apply this valuable information to their next journey into the wild.","English",22.6,16.95,"577.63'6--dc23","24 pp.",{"$f":"Table1[[#This Row],[QTY]]*Table1[[#This Row],['# Books]]","v":0},{"$f":"Table1[[#This Row],[QTY]]*Table1[[#This Row],[S&L Price]]","v":0}]
[null,null,28,"Our Exciting Earth!",1,"Rivers","eBook",null,"978-1-5382-0984-4",{"$f":"HYPERLINK(\"https://www.garethstevens.com/\"&Table1[[#This Row],[ISBN]],\"Weblink\")","v":"Weblink"},2018,"January 2018",null,null,"Author","Claire Romaine","0.9","0.5",null,null,"C","270L","Grade K","Grade Pre-K - 2","Rivers are such an essential part of Earth’s geography. They bring freshwater for drinking, for irrigation, and for transportation, and don’t forget fishing. This low-ATOS introduction to this critical water source explains many aspects about rivers and their inhabitants, aided by colorful photographs that will make readers want to explore these indispensable natural resources for themselves.","English",22.6,16.95,"910.916'93--dc23","24 pp.",{"$f":"Table1[[#This Row],[QTY]]*Table1[[#This Row],['# Books]]","v":0},{"$f":"Table1[[#This Row],[QTY]]*Table1[[#This Row],[S&L Price]]","v":0}]
[null,null,29,"Your Amazing Body!",6,"Your Amazing Body!","Library Set",null,"978-1-5382-1846-4",{"$f":"HYPERLINK(\"https://www.garethstevens.com/\"&Table1[[#This Row],[ISBN]],\"Weblink\")","v":"Weblink"},2019,"August 2018","Library","7.625 X 7.125",null,null,null,null,null,null,null,null,"Grade K","Grade Pre-K - 2","The human body can do so many incredible things, many of which people don't even think twice about. These engaging books show readers why their body is extraordinary. Each book focuses on a specific body part and how it helps us function, such as moving one foot in front of the other to run or walk. Accessible text and vivid photographs help reinforce the understanding of key concepts, while stimulating subject matter will hold young readers' attention. Features include: Colorful picture glossaries help readers recognize and understand key terms. Low-ATOS level text (below 1.0) is perfect for developing early readers' literacy skills. Accessible content teaches readers about their own bodies in an engaging and fun way.","English",135.6,101.7,null,"24 pp.",{"$f":"Table1[[#This Row],[QTY]]*Table1[[#This Row],['# Books]]","v":0},{"$f":"Table1[[#This Row],[QTY]]*Table1[[#This Row],[S&L Price]]","v":0}]
[null,null,29,"Your Amazing Body!",1,"Your Feet","Library Bound Book",null,"978-1-5382-1812-9",{"$f":"HYPERLINK(\"https://www.garethstevens.com/\"&Table1[[#This Row],[ISBN]],\"Weblink\")","v":"Weblink"},2019,"August 2018","Library","7.625 X 7.125","Author","Liza Raine","0.9","0.5",null,null,"C",null,"Grade K","Grade Pre-K - 2","Our feet help us run, walk, ride bikes, play, and many other things. This informative book teaches young readers about the different parts of the feet and the different ways they help us move. They'll also learn why we wear socks and shoes on our feet. Bright photographs help readers understand the book's textual content relative to their own bodies. This fun volume is an exciting and engaging way for beginning readers to develop important literacy skills while learning about their own bodies.","English",22.6,16.95,"612.9/8--dc23","24 pp.",{"$f":"Table1[[#This Row],[QTY]]*Table1[[#This Row],['# Books]]","v":0},{"$f":"Table1[[#This Row],[QTY]]*Table1[[#This Row],[S&L Price]]","v":0}]
[null,null,29,"Your Amazing Body!",1,"Your Mouth","eBook",null,"978-1-5382-1821-1",{"$f":"HYPERLINK(\"https://www.garethstevens.com/\"&Table1[[#This Row],[ISBN]],\"Weblink\")","v":"Weblink"},2019,"August 2018",null,null,"Author","Nancy Greenwood","0.9","0.5",null,null,"C",null,"Grade K","Grade Pre-K - 2","People use their mouths every day, but most rarely think about how amazing it is. With the help of this captivating volume, readers will learn about the body part that helps them eat, breathe, and speak. This book uses photographs that are closely related to the low-ATOS text to help beginning readers gain essential literacy and reading comprehension skills. Readers are also taught about the importance of keeping their mouths clean and how doing so will help maintain the health of this key body part.","English",22.6,16.95,"612.3/1--dc23","24 pp.",{"$f":"Table1[[#This Row],[QTY]]*Table1[[#This Row],['# Books]]","v":0},{"$f":"Table1[[#This Row],[QTY]]*Table1[[#This Row],[S&L Price]]","v":0}]
[null,null,29,"My Five Senses",1,"What I Hear","Library Bound Book",null,"978-1-4824-0778-5",{"$f":"HYPERLINK(\"https://www.garethstevens.com/\"&Table1[[#This Row],[ISBN]],\"Weblink\")","v":"Weblink"},2015,"August 2014","Library","7.625 X 7.125","Author","Alex Appleby","0.8","0.5",3,null,"C","230L","Grade K","Grade K - 2","Hearing is an important sense for those just beginning to explore the world. From the chirping of birds to the sound of cars and trucks, a good sense of hearing can teach people a lot about the beauty and dangers of the world around them. In this exciting book, early readers learn how hearing impacts their world. Full-color photographs also provide a strong picture-text correlation, while a picture glossary helps enhance vocabulary skills.","English",22.6,16.95,"612.8","24 pp.",{"$f":"Table1[[#This Row],[QTY]]*Table1[[#This Row],['# Books]]","v":0},{"$f":"Table1[[#This Row],[QTY]]*Table1[[#This Row],[S&L Price]]","v":0}]
[null,null,29,"My Five Senses",1,"What I Hear","eBook",null,"978-1-4824-0777-8",{"$f":"HYPERLINK(\"https://www.garethstevens.com/\"&Table1[[#This Row],[ISBN]],\"Weblink\")","v":"Weblink"},2015,"August 2014",null,null,"Author","Alex Appleby","0.8","0.5",3,null,"C","230L","Grade K","Grade K - 2","Hearing is an important sense for those just beginning to explore the world. From the chirping of birds to the sound of cars and trucks, a good sense of hearing can teach people a lot about the beauty and dangers of the world around them. In this exciting book, early readers learn how hearing impacts their world. Full-color photographs also provide a strong picture-text correlation, while a picture glossary helps enhance vocabulary skills.","English",22.6,16.95,"612.8","24 pp.",{"$f":"Table1[[#This Row],[QTY]]*Table1[[#This Row],['# Books]]","v":0},{"$f":"Table1[[#This Row],[QTY]]*Table1[[#This Row],[S&L Price]]","v":0}]
[null,null,29,"My Five Senses",1,"What I Taste","Library Bound Book",null,"978-1-4824-0818-8",{"$f":"HYPERLINK(\"https://www.garethstevens.com/\"&Table1[[#This Row],[ISBN]],\"Weblink\")","v":"Weblink"},2015,"August 2014","Library","7.625 X 7.125","Author","Alex Appleby","0.8","0.5",3,null,"C","140L","Grade K","Grade K - 2","Who doesn’t love to dive into a good meal? Our sense of taste is important—without it, how would we know what we like to eat? Early readers take a tour of their taste buds and explore worlds of flavor. From a fresh, sweet orange to a yummy slice of pizza, readers will learn all about this savory sense. Strong picture-text correlation enhanced by full-color photographs helps build early reading skills in budding, hungry readers.","English",22.6,16.95,"612.8","24 pp.",{"$f":"Table1[[#This Row],[QTY]]*Table1[[#This Row],['# Books]]","v":0},{"$f":"Table1[[#This Row],[QTY]]*Table1[[#This Row],[S&L Price]]","v":0}]
[null,null,29,"Four Super Seasons",1,"What Happens in Fall?","Library Bound Book",null,"978-1-4824-0607-8",{"$f":"HYPERLINK(\"https://www.garethstevens.com/\"&Table1[[#This Row],[ISBN]],\"Weblink\")","v":"Weblink"},2014,"January 2014","Library","7.625 X 7.125","Author","Alex Appleby","0.9","0.5",3,null,"C","360L","Grade K","Grade K - 2","Why do the leaves fall off trees in autumn? Through the use of accessible text, readers learn the basic science of fall and understand why the weather gets colder as the year goes on. Each season has its unique qualities, and this series explains to young readers what makes fall unique in its own way. The strong picture-to-text correlation aids in comprehension. This volume's reading level supports beginning readers.","English",23.6,17.7,"508.2--dc23","24 pp.",{"$f":"Table1[[#This Row],[QTY]]*Table1[[#This Row],['# Books]]","v":0},{"$f":"Table1[[#This Row],[QTY]]*Table1[[#This Row],[S&L Price]]","v":0}]
[null,null,29,"Four Super Seasons",1,"What Happens in Summer?","eBook",null,"978-1-4824-0111-0",{"$f":"HYPERLINK(\"https://www.garethstevens.com/\"&Table1[[#This Row],[ISBN]],\"Weblink\")","v":"Weblink"},2014,"January 2014",null,null,"Author","Alex Appleby","1","0.5",3,null,"C","320L","Grade K","Grade K - 2","There's a lot to do when the weather is nice in summer. This book explores the warm weather that summer brings, including the activities of nature and fun ways to fill a summer day. Through the use of accessible text and simple science content, readers will learn why summer is unique from the other seasons. The strong picture-to-text correlation aids in comprehension. This volume's reading level supports beginning readers.","English",23.6,17.7,"508.2--dc23","24 pp.",{"$f":"Table1[[#This Row],[QTY]]*Table1[[#This Row],['# Books]]","v":0},{"$f":"Table1[[#This Row],[QTY]]*Table1[[#This Row],[S&L Price]]","v":0}]
[null,null,29,"Four Super Seasons",1,"What Happens in Winter?","Library Bound Book",null,"978-1-4824-0113-4",{"$f":"HYPERLINK(\"https://www.garethstevens.com/\"&Table1[[#This Row],[ISBN]],\"Weblink\")","v":"Weblink"},2014,"January 2014","Library","7.625 X 7.125","Author","Alex Appleby","1","0.5",3,null,"C","300L","Grade K","Grade K - 2","Winter is a special season because the weather can be very different from the others. Whether it's snow or just the cold that comes, it's a very interesting season all over the world. Through the use of accessible text and a great picture glossary, early readers will explore the super season of winter and learn the science behind Mother Nature's coldest season. The strong picture-to-text correlation aids in comprehension. This volume's reading level supports beginning readers.","English",23.6,17.7,"508.2--dc23","24 pp.",{"$f":"Table1[[#This Row],[QTY]]*Table1[[#This Row],['# Books]]","v":0},{"$f":"Table1[[#This Row],[QTY]]*Table1[[#This Row],[S&L Price]]","v":0}]
[null,null,31,"Ways to Play",1,"We Play Cleanup!","eBook",null,"978-1-5382-2977-4",{"$f":"HYPERLINK(\"https://www.garethstevens.com/\"&Table1[[#This Row],[ISBN]],\"Weblink\")","v":"Weblink"},2019,"January 2019",null,null,"Author","Kathleen Connors","0.9","0.5",null,null,"C",null,"Grade K","Grade Pre-K - 2","Taking care of a home takes up a lot of time, unless you have help. This book encourages readers to begin taking responsibility for cleaning up after themselves by making it fun. Accessible language and age-appropriate text is paired with full-color photographs of kids having a great time both playing cleanup and actually tidying up their toys to show readers what they can do to help their family. By highlighting tasks young readers can accomplish on their own, the main text inspires cheerful helpers and future neatness.","English",22.6,16.95,null,"24 pp.",{"$f":"Table1[[#This Row],[QTY]]*Table1[[#This Row],['# Books]]","v":0},{"$f":"Table1[[#This Row],[QTY]]*Table1[[#This Row],[S&L Price]]","v":0}]
[null,null,31,"Ways to Play",1,"We Play Kitchen!","eBook",null,"978-1-5382-2979-8",{"$f":"HYPERLINK(\"https://www.garethstevens.com/\"&Table1[[#This Row],[ISBN]],\"Weblink\")","v":"Weblink"},2019,"January 2019",null,null,"Author","Kathleen Connors","0.8","0.5",null,null,"C",null,"Grade K","Grade Pre-K - 2","Even though we can't actually have pizza for dinner every night, when kids play that they are cooking, anything is possible! From baking a cake to setting up a full-fledged restaurant, the different ways to play kitchen are only limited by readers' imagination. Age-appropriate text encourages kids to use toy kitchen utensils, but also includes ways they can help in the kitchen with older family members. With text that supports new readers, this book may inspire the next great chef, or at least an imaginary one.","English",22.6,16.95,"643/.3--dc23","24 pp.",{"$f":"Table1[[#This Row],[QTY]]*Table1[[#This Row],['# Books]]","v":0},{"$f":"Table1[[#This Row],[QTY]]*Table1[[#This Row],[S&L Price]]","v":0}]
[null,null,31,"Ways to Play",1,"We Play Superheroes!","Library Bound Book",null,"978-1-5382-2884-5",{"$f":"HYPERLINK(\"https://www.garethstevens.com/\"&Table1[[#This Row],[ISBN]],\"Weblink\")","v":"Weblink"},2019,"January 2019","Library","7.625 X 7.125","Author","Kathleen Connors","0.9","0.5",null,null,"C",null,"Grade K","Grade Pre-K - 2","In the world of superheroes, no superpower is impossible. They can fly, run faster than a speeding bullet, stop time, and read others' minds. Who wouldn't want to pretend to be part of these amazing stories? With close text and picture correlation and age-appropriate language, this book caters to the superhero-loving kids learning to read. From dressing up to pretending to save the world, the imaginative text in this book inspires young superheroes to dream big and be whoever they'd like to be.","English",22.6,16.95,null,"24 pp.",{"$f":"Table1[[#This Row],[QTY]]*Table1[[#This Row],['# Books]]","v":0},{"$f":"Table1[[#This Row],[QTY]]*Table1[[#This Row],[S&L Price]]","v":0}]
[null,null,31,"Ways to Play",1,"We Play Superheroes!","eBook",null,"978-1-5382-2982-8",{"$f":"HYPERLINK(\"https://www.garethstevens.com/\"&Table1[[#This Row],[ISBN]],\"Weblink\")","v":"Weblink"},2019,"January 2019",null,null,"Author","Kathleen Connors","0.9","0.5",null,null,"C",null,"Grade K","Grade Pre-K - 2","In the world of superheroes, no superpower is impossible. They can fly, run faster than a speeding bullet, stop time, and read others' minds. Who wouldn't want to pretend to be part of these amazing stories? With close text and picture correlation and age-appropriate language, this book caters to the superhero-loving kids learning to read. From dressing up to pretending to save the world, the imaginative text in this book inspires young superheroes to dream big and be whoever they'd like to be.","English",22.6,16.95,null,"24 pp.",{"$f":"Table1[[#This Row],[QTY]]*Table1[[#This Row],['# Books]]","v":0},{"$f":"Table1[[#This Row],[QTY]]*Table1[[#This Row],[S&L Price]]","v":0}]
[null,null,31,"Ways to Play",1,"We Play Music!","Library Bound Book",null,"978-1-4824-6351-4",{"$f":"HYPERLINK(\"https://www.garethstevens.com/\"&Table1[[#This Row],[ISBN]],\"Weblink\")","v":"Weblink"},2018,"August 2017","Library","7.625 X 7.125","Author","Leonard Atlantic","0.9","0.5",null,null,"C",null,"Grade K","Grade Pre-K - 2","Learning an instrument is a great way to explore the fun and wonder of music. Whether it’s the drums or the piano, learning how to play an instrument is an amazing and empowering creative experience that instills a sense of discipline, even for early learners. It’s also a great way to write unique songs and play inspiring music with friends. From jamming out in a bedroom to learning an instrument at school, beginning readers will love exploring the world of music through full-color photographs and engaging, age-appropriate text.","English",22.6,16.95,"784.19--dc23","24 pp.",{"$f":"Table1[[#This Row],[QTY]]*Table1[[#This Row],['# Books]]","v":0},{"$f":"Table1[[#This Row],[QTY]]*Table1[[#This Row],[S&L Price]]","v":0}]
[null,null,31,"Ways to Play",1,"We Play with Pets!","eBook",null,"978-1-4824-6360-6",{"$f":"HYPERLINK(\"https://www.garethstevens.com/\"&Table1[[#This Row],[ISBN]],\"Weblink\")","v":"Weblink"},2018,"August 2017",null,null,"Author","Leonard Atlantic","0.8","0.5",null,null,"C",null,"Grade K","Grade Pre-K - 2","In this charming book, beginning readers learn there’s always something fun to do with your pets! Taking walks with the family dog or petting the family kitten are important steps in teaching caretaking and responsibility to young learners. Even feeding a pet goldfish is a great way to play with the family pet! This book, which pairs full-color photographs with accessible, age-appropriate text, shows that every interaction with a pet is a new way to help out and have fun!","English",22.6,16.95,"636--dc23","24 pp.",{"$f":"Table1[[#This Row],[QTY]]*Table1[[#This Row],['# Books]]","v":0},{"$f":"Table1[[#This Row],[QTY]]*Table1[[#This Row],[S&L Price]]","v":0}]
[null,null,34,"Ways to Go",1,"Bikes Go!","eBook",null,"978-1-5382-1012-3",{"$f":"HYPERLINK(\"https://www.garethstevens.com/\"&Table1[[#This Row],[ISBN]],\"Weblink\")","v":"Weblink"},2018,"January 2018",null,null,"Author","Sean MacDumont","0.9","0.5",null,null,"C",null,"Grade K","Grade Pre-K - 2","Learning to ride a bike is an important part of growing up. Those first pedals down the sidewalk open up a new world on the wheels of a young reader's bike. This book puts beginning readers behind the handlebars of these machines and all the places they can go. From a trip to the park to a ride to school, bikes are the perfect way to travel the neighborhood. Young readers experience these joys through accessible text paired with vibrant full-color photographs that show off all the places the wheels of a bike can take those willing to do a bit of pedaling.","English",22.6,16.95,"629.227'2--dc23","24 pp.",{"$f":"Table1[[#This Row],[QTY]]*Table1[[#This Row],['# Books]]","v":0},{"$f":"Table1[[#This Row],[QTY]]*Table1[[#This Row],[S&L Price]]","v":0}]
[null,null,34,"Ways to Go",1,"Boats Go!","eBook",null,"978-1-5382-1016-1",{"$f":"HYPERLINK(\"https://www.garethstevens.com/\"&Table1[[#This Row],[ISBN]],\"Weblink\")","v":"Weblink"},2018,"January 2018",null,null,"Author","Sean MacDumont","0.9","0.5",null,null,"C",null,"Grade K","Grade Pre-K - 2","Boats are amazing machines that let us travel from place to play on water. Boats big and small all help us get around, navigating waters we couldn't travel without the aid of these helpful crafts. Young readers learn that boats are an exciting way to go in this book full of full-color photographs paired with accessible text. From visiting islands in the sea to crossing rivers and streams, they'll see how boats of all shapes and sizes are used by people to go from here to there.","English",22.6,16.95,"623.82--dc23","24 pp.",{"$f":"Table1[[#This Row],[QTY]]*Table1[[#This Row],['# Books]]","v":0},{"$f":"Table1[[#This Row],[QTY]]*Table1[[#This Row],[S&L Price]]","v":0}]
[null,null,34,"Ways to Go",1,"Planes Go!","Library Bound Book",null,"978-1-5382-1023-9",{"$f":"HYPERLINK(\"https://www.garethstevens.com/\"&Table1[[#This Row],[ISBN]],\"Weblink\")","v":"Weblink"},2018,"January 2018","Library","7.625 X 7.125","Author","John Matthew Williams","0.9","0.5",null,null,"C",null,"Grade K","Grade Pre-K - 2","Exploring the skies is easy when you have an airport nearby. This book takes an exciting look at the world of plane travel, taking young readers on an exhilarating journey through the air, from the inside of a plane. Whether a small private plane at a local airport or a massive jet taking hundreds of people from city to city, full-color photographs and accessible text explain the rules of the skies to early readers with ease.","English",22.6,16.95,"629.13--dc23","24 pp.",{"$f":"Table1[[#This Row],[QTY]]*Table1[[#This Row],['# Books]]","v":0},{"$f":"Table1[[#This Row],[QTY]]*Table1[[#This Row],[S&L Price]]","v":0}]
[null,null,34,"Ways to Go",1,"Trucks Go!","eBook",null,"978-1-5382-1031-4",{"$f":"HYPERLINK(\"https://www.garethstevens.com/\"&Table1[[#This Row],[ISBN]],\"Weblink\")","v":"Weblink"},2018,"January 2018",null,null,"Author","Sean MacDumont","0.9","0.5",null,null,"C",null,"Grade K","Grade Pre-K - 2","Readers may get scared when enormous trucks zoom by their car on the highway, but these big vehicles are doing an important job. These amazing machines are hauling lots of things from one place to another, bringing food and other goods to homes around the country. Through full-color photographs and accessible text, beginning readers get behind the wheel of these massive moving machines to see what it's like on the road, and learn how important these vehicles are to our everyday life.","English",22.6,16.95,"629.224--dc23","24 pp.",{"$f":"Table1[[#This Row],[QTY]]*Table1[[#This Row],['# Books]]","v":0},{"$f":"Table1[[#This Row],[QTY]]*Table1[[#This Row],[S&L Price]]","v":0}]
[null,null,34,"We Love Spring!",1,"Baby Animals Are Born","eBook",null,"978-1-4824-5472-7",{"$f":"HYPERLINK(\"https://www.garethstevens.com/\"&Table1[[#This Row],[ISBN]],\"Weblink\")","v":"Weblink"},2017,"January 2017",null,null,"Author","Delores Soltaire","1","0.5",null,null,"C",null,"Grade K","Grade Pre-K - 2","Spring is a time of birth and change. Flowers and trees come back to life, and new animals are born. From baby deer spending their first days in the forest to geese taking care of their furry babies, spring is full of brand new baby animals. Amazing full-color photos and accessible text show young readers how baby black bears come out of hibernation and how other animals like seals have springtime babies even in cold climates in this easy-to-read book full of fun animal facts.","English",22.6,16.95,"591.3’9--dc23","24 pp.",{"$f":"Table1[[#This Row],[QTY]]*Table1[[#This Row],['# Books]]","v":0},{"$f":"Table1[[#This Row],[QTY]]*Table1[[#This Row],[S&L Price]]","v":0}]
[null,null,34,"We Love Spring!",1,"Birds in Spring","Library Bound Book",null,"978-1-4824-5487-1",{"$f":"HYPERLINK(\"https://www.garethstevens.com/\"&Table1[[#This Row],[ISBN]],\"Weblink\")","v":"Weblink"},2017,"January 2017","Library","7.625 X 7.125","Author","Lorne Henshaw","0.9","0.5",null,null,"C",null,"Grade K","Grade Pre-K - 2","Baby animals are out and about in spring, including in the sky! Birds of all kinds take flight, finding food for their young and teaching them how to survive in the wild. This exciting book takes early readers into the skies. There, readers learn how these winged wonders enjoy the springtime through using full-color photographs showing these creatures in action, tending to their nests and making a home for their babies soon to hatch from eggs.","English",22.6,16.95,"598--dc23","24 pp.",{"$f":"Table1[[#This Row],[QTY]]*Table1[[#This Row],['# Books]]","v":0},{"$f":"Table1[[#This Row],[QTY]]*Table1[[#This Row],[S&L Price]]","v":0}]
[null,null,34,"We Love Spring!",1,"Let's Look at Leaves","eBook",null,"978-1-4824-5499-4",{"$f":"HYPERLINK(\"https://www.garethstevens.com/\"&Table1[[#This Row],[ISBN]],\"Weblink\")","v":"Weblink"},2017,"January 2017",null,null,"Author","Calvin Harvey","0.8","0.5",null,null,"C",null,"Grade K","Grade Pre-K - 2","A true sign of springtime is the first sight of green. As bare branches and tree limbs come back to life young readers will learn fall isn’t the only time to look at the leaves that fill the trees. When spring has sprung and trees come to life, there are lots of leaves to see. With vivid full-color photographs showing these springtime leaves paired with accessible text explaining the science behind this life process, readers learn how nature takes its course and plants prepare for life in the summer.","English",22.6,16.95,"581.4/8--dc23","24 pp.",{"$f":"Table1[[#This Row],[QTY]]*Table1[[#This Row],['# Books]]","v":0},{"$f":"Table1[[#This Row],[QTY]]*Table1[[#This Row],[S&L Price]]","v":0}]
[null,null,35,"To the Rescue!",1,"Ambulances","eBook",null,"978-1-4824-4653-1",{"$f":"HYPERLINK(\"https://www.garethstevens.com/\"&Table1[[#This Row],[ISBN]],\"Weblink\")","v":"Weblink"},2017,"August 2016",null,null,"Author","Lois Fortuna","0.9","0.5",null,null,"C",null,"Grade K","Grade K - 2","Ambulances are amazing vehicles used to help people in their time of need. When someone is sick or injured, an ambulance is called and paramedics help get that person to the nearest hospital. But these vehicles are different all over the world. While some are bright red in one city, a few states away an ambulance might be neon yellow or even green! This book takes a look at these very fast and high-tech vehicles, giving beginning readers a glimpse of a rescue vehicle they might not ever need, but will always be there just in case.","English",22.6,16.95,"362.18’8--dc23","24 pp.",{"$f":"Table1[[#This Row],[QTY]]*Table1[[#This Row],['# Books]]","v":0},{"$f":"Table1[[#This Row],[QTY]]*Table1[[#This Row],[S&L Price]]","v":0}]
[null,null,35,"To the Rescue!",1,"Fire Trucks","eBook",null,"978-1-4824-4654-8",{"$f":"HYPERLINK(\"https://www.garethstevens.com/\"&Table1[[#This Row],[ISBN]],\"Weblink\")","v":"Weblink"},2017,"August 2016",null,null,"Author","Lois Fortuna","0.9","0.5",null,null,"C",null,"Grade K","Grade K - 2","Fire trucks are fast, loud, and big rescue machines. These vehicles rush to the scene of a fire, bringing firefighters along to help put out a blaze and help rescue people in their time of need. But there are many different kinds of fire trucks. From the ladder trucks firefighters use to reach high floors on buildings to the fire engines used to toss lots of water on a blaze, each fire truck is unique. Beginning readers will love exploring these important vehicles and learning how they help people when fire strikes.","English",22.6,16.95,"628.9’25--dc23","24 pp.",{"$f":"Table1[[#This Row],[QTY]]*Table1[[#This Row],['# Books]]","v":0},{"$f":"Table1[[#This Row],[QTY]]*Table1[[#This Row],[S&L Price]]","v":0}]
[null,null,35,"To the Rescue!",1,"Rescue Boats","Library Bound Book",null,"978-1-4824-4662-3",{"$f":"HYPERLINK(\"https://www.garethstevens.com/\"&Table1[[#This Row],[ISBN]],\"Weblink\")","v":"Weblink"},2017,"August 2016","Library","7.625 X 7.125","Author","Lois Fortuna","0.9","0.5",null,null,"C",null,"Grade K","Grade K - 2","When trouble strikes on the water, rescue boats are there to help. These aquatic vehicles have special tools to help those in need. Whether someone’s lost on the water or a boat is having engine trouble, these quick rescue vehicles can get the job done. This book for beginning readers explores the boats police, fire, and other emergency departments use when people are most in need. Whether inflatable rafts or specialty rescue boats for specific purposes, these amazing watercraft are out there waiting to help lend a helping hand.","English",22.6,16.95,"623.826--dc23","24 pp.",{"$f":"Table1[[#This Row],[QTY]]*Table1[[#This Row],['# Books]]","v":0},{"$f":"Table1[[#This Row],[QTY]]*Table1[[#This Row],[S&L Price]]","v":0}]
[null,null,35,"To the Rescue!",1,"Snowmobiles","eBook",null,"978-1-4824-4658-6",{"$f":"HYPERLINK(\"https://www.garethstevens.com/\"&Table1[[#This Row],[ISBN]],\"Weblink\")","v":"Weblink"},2017,"August 2016",null,null,"Author","Lois Fortuna","0.9","0.5",null,null,"C",null,"Grade K","Grade K - 2","Snowmobiles might not immediately come to mind when thinking of rescue vehicles, but these motorized sleds are important tools for rescue workers when the weather outside gets frightful. When trouble strikes in remote, snowy areas, snowmobiles are there to cut through the powdery stuff and rescue those in need. This book for early readers explores the unique features of snowmobiles and how emergency crews utilize them to get to an accident and transport people back to safety.","English",22.6,16.95,"796.94--dc23","24 pp.",{"$f":"Table1[[#This Row],[QTY]]*Table1[[#This Row],['# Books]]","v":0},{"$f":"Table1[[#This Row],[QTY]]*Table1[[#This Row],[S&L Price]]","v":0}]
[null,null,35,"Inside My World",1,"Meet My Pet","eBook",null,"978-1-4824-1799-9",{"$f":"HYPERLINK(\"https://www.garethstevens.com/\"&Table1[[#This Row],[ISBN]],\"Weblink\")","v":"Weblink"},2015,"January 2015",null,null,"Author","Tina Benjamin","0.8","0.5",null,null,"B",null,"Grade K","Grade K - 2","Having a pet is one of the biggest responsibilities a young child can have. Early readers will love learning about Lucy, the pet parrot that loves to give her owner kisses. With exciting facts about what Lucy eats and what she likes to do, readers will love learning how to take care of and love a pet of their own. They’ll also learn about Jordan’s pet dog, Lucky, with the help of color photographs and engaging, accessible text.","English",22.6,16.95,"636","24 pp.",{"$f":"Table1[[#This Row],[QTY]]*Table1[[#This Row],['# Books]]","v":0},{"$f":"Table1[[#This Row],[QTY]]*Table1[[#This Row],[S&L Price]]","v":0}]
[null,null,35,"Inside My World",1,"My Piggy Bank","Library Bound Book",null,"978-1-4824-1808-8",{"$f":"HYPERLINK(\"https://www.garethstevens.com/\"&Table1[[#This Row],[ISBN]],\"Weblink\")","v":"Weblink"},2015,"January 2015","Library","7.625 X 7.125","Author","Tina Benjamin","0.9","0.5",null,null,"C","220L","Grade K","Grade K - 2","Why are piggy banks shaped like pigs? And more importantly, do they help us save money? Early readers will learn all about piggy banks in this fun book that takes a look at saving money with the help of a tiny pig-shaped friend. From coins like nickels and dimes to larger amounts of money, color photographs and accessible text explore one child’s quest to save for and buy a baseball glove. Readers will learn that sometimes you have to break the bank if you want to buy something new!","English",22.6,16.95,"332.024","24 pp.",{"$f":"Table1[[#This Row],[QTY]]*Table1[[#This Row],['# Books]]","v":0},{"$f":"Table1[[#This Row],[QTY]]*Table1[[#This Row],[S&L Price]]","v":0}]
[null,null,35,"Inside My World",1,"My Piggy Bank","eBook",null,"978-1-4824-1810-1",{"$f":"HYPERLINK(\"https://www.garethstevens.com/\"&Table1[[#This Row],[ISBN]],\"Weblink\")","v":"Weblink"},2015,"January 2015",null,null,"Author","Tina Benjamin","0.9","0.5",null,null,"C","220L","Grade K","Grade K - 2","Why are piggy banks shaped like pigs? And more importantly, do they help us save money? Early readers will learn all about piggy banks in this fun book that takes a look at saving money with the help of a tiny pig-shaped friend. From coins like nickels and dimes to larger amounts of money, color photographs and accessible text explore one child’s quest to save for and buy a baseball glove. Readers will learn that sometimes you have to break the bank if you want to buy something new!","English",22.6,16.95,"332.024","24 pp.",{"$f":"Table1[[#This Row],[QTY]]*Table1[[#This Row],['# Books]]","v":0},{"$f":"Table1[[#This Row],[QTY]]*Table1[[#This Row],[S&L Price]]","v":0}]
[null,null,36,"When I Grow Up",1,"I Can Be a Ballerina","Library Bound Book",null,"978-1-4824-0745-7",{"$f":"HYPERLINK(\"https://www.garethstevens.com/\"&Table1[[#This Row],[ISBN]],\"Weblink\")","v":"Weblink"},2015,"August 2014","Library","7.625 X 7.125","Author","Alex Appleby","0.9","0.5",3,null,"C",null,"Grade K","Grade K - 2","Being a ballerina requires lots of hard work and dedication, but early readers learn that you can be anything you want when you grow up. Full-color photographs of a ballerina’s graceful steps provide strong picture-text correlation, and accessible text helps readers establish early reading skills in this dynamic look at the world of ballet. This title published subject to a trademark license with WIGU Publishing, LLC.","English",22.6,16.95,"792.8","24 pp.",{"$f":"Table1[[#This Row],[QTY]]*Table1[[#This Row],['# Books]]","v":0},{"$f":"Table1[[#This Row],[QTY]]*Table1[[#This Row],[S&L Price]]","v":0}]
[null,null,36,"When I Grow Up",1,"I Can Be a Singer","eBook",null,"978-1-4824-0759-4",{"$f":"HYPERLINK(\"https://www.garethstevens.com/\"&Table1[[#This Row],[ISBN]],\"Weblink\")","v":"Weblink"},2015,"August 2014",null,null,"Author","Alex Appleby","0.8","0.5",3,null,"C",null,"Grade K","Grade K - 2","Many people dream of singing in front of millions of people. In this book, early readers see they can stop singing in their showers and can bring their voice to the stage. With strong picture-text correlation and an innovative approach to learning basic vocabulary and literacy skills, readers learn that they can be anything they want when they grow up. This title published subject to a trademark license with WIGU Publishing, LLC.","English",22.6,16.95,"784","24 pp.",{"$f":"Table1[[#This Row],[QTY]]*Table1[[#This Row],['# Books]]","v":0},{"$f":"Table1[[#This Row],[QTY]]*Table1[[#This Row],[S&L Price]]","v":0}]
[null,null,36,"When I Grow Up",1,"I Can Be the President","Library Bound Book",null,"978-1-4824-1030-3",{"$f":"HYPERLINK(\"https://www.garethstevens.com/\"&Table1[[#This Row],[ISBN]],\"Weblink\")","v":"Weblink"},2015,"August 2014","Library","7.625 X 7.125","Author","Alex Appleby","0.9","0.5",3,null,"C",null,"Grade K","Grade K - 2","Being the president isn’t easy, and neither is getting elected! For young readers hoping for a future in politics, this exciting book takes them on a journey all the way to the White House. Through accessible text and great full-color photographs showing life inside the White House, readers will get a great look at what the president does each day. This title published subject to a trademark license with WIGU Publishing, LLC.","English",22.6,16.95,"352.23","24 pp.",{"$f":"Table1[[#This Row],[QTY]]*Table1[[#This Row],['# Books]]","v":0},{"$f":"Table1[[#This Row],[QTY]]*Table1[[#This Row],[S&L Price]]","v":0}]
[null,null,36,"When I Grow Up",1,"I Can Be the President","eBook",null,"978-1-4824-1033-4",{"$f":"HYPERLINK(\"https://www.garethstevens.com/\"&Table1[[#This Row],[ISBN]],\"Weblink\")","v":"Weblink"},2015,"August 2014",null,null,"Author","Alex Appleby","0.9","0.5",3,null,"C",null,"Grade K","Grade K - 2","Being the president isn’t easy, and neither is getting elected! For young readers hoping for a future in politics, this exciting book takes them on a journey all the way to the White House. Through accessible text and great full-color photographs showing life inside the White House, readers will get a great look at what the president does each day. This title published subject to a trademark license with WIGU Publishing, LLC.","English",22.6,16.95,"352.23","24 pp.",{"$f":"Table1[[#This Row],[QTY]]*Table1[[#This Row],['# Books]]","v":0},{"$f":"Table1[[#This Row],[QTY]]*Table1[[#This Row],[S&L Price]]","v":0}]
[null,null,36,"We Can Do It!",1,"Getting Ready for School","eBook",null,"978-1-4824-3802-4",{"$f":"HYPERLINK(\"https://www.garethstevens.com/\"&Table1[[#This Row],[ISBN]],\"Weblink\")","v":"Weblink"},2016,"January 2016",null,null,"Author","Lois Fortuna","0.9","0.5",null,null,"C",null,"Grade K","Grade K - 2","Whether wearing a uniform or picking out their own clothes, it’s not always easy for children to get up and get ready in the morning. In this book, early readers learn about this essential part of everyday life, learning how they can help their own families get the day started. This glimpse at a typical morning in a house sending its two children off to school is aided by colorful photographs matched with accessible text, showing readers how peers prepare for school by getting dressed and taking care of basic hygiene like brushing their hair.","English",22.6,16.95,"372--dc23","24 pp.",{"$f":"Table1[[#This Row],[QTY]]*Table1[[#This Row],['# Books]]","v":0},{"$f":"Table1[[#This Row],[QTY]]*Table1[[#This Row],[S&L Price]]","v":0}]
[null,null,36,"We Can Do It!",1,"Helping with Dinner","Library Bound Book",null,"978-1-4824-3830-7",{"$f":"HYPERLINK(\"https://www.garethstevens.com/\"&Table1[[#This Row],[ISBN]],\"Weblink\")","v":"Weblink"},2016,"January 2016","Library","7.625 X 7.125","Author","Lois Fortuna","0.9","0.5",null,null,"C","250L","Grade K","Grade K - 2","Everyone loves a good meal. Readers join the fun as friends chop vegetables and prepare a salad. They also get a look at how to make pasta, using a wooden spoon to stir as it cooks. This hands-on look at creating food for the dinner table will inspire readers to get into the kitchen.","English",22.6,16.95,"641.5--dc23","24 pp.",{"$f":"Table1[[#This Row],[QTY]]*Table1[[#This Row],['# Books]]","v":0},{"$f":"Table1[[#This Row],[QTY]]*Table1[[#This Row],[S&L Price]]","v":0}]
[null,null,37,"Winter Fun",1,"Building a Snowman","Library Bound Book",null,"978-1-4824-3749-2",{"$f":"HYPERLINK(\"https://www.garethstevens.com/\"&Table1[[#This Row],[ISBN]],\"Weblink\")","v":"Weblink"},2016,"January 2016","Library","7.625 X 7.125","Author","Jasper Bix","0.8","0.5",null,null,"C",null,"Grade K","Grade K - 2","The best way to cure the winter blues is to go outside and build a snowman! In this book, beginning readers join a happy family on a trip through the snow to find some winter fun. Rolling snowballs is just the start of things for their snowman friend. Early readers are taken through the step-by-step process with colorful photographs and accessible text, watching as a pile of snow transforms into a friendly winter character complete with its own eyes, hat, and even a carrot for a nose!","English",22.6,16.95,"508.2--dc23","24 pp.",{"$f":"Table1[[#This Row],[QTY]]*Table1[[#This Row],['# Books]]","v":0},{"$f":"Table1[[#This Row],[QTY]]*Table1[[#This Row],[S&L Price]]","v":0}]
[null,null,37,"Winter Fun",1,"Dressing for the Cold","eBook",null,"978-1-4824-3754-6",{"$f":"HYPERLINK(\"https://www.garethstevens.com/\"&Table1[[#This Row],[ISBN]],\"Weblink\")","v":"Weblink"},2016,"January 2016",null,null,"Author","Jasper Bix","0.9","0.5",null,null,"C",null,"Grade K","Grade K - 2","Getting ready for a trip outside can take a little extra time in the winter months. This book helps budding readers understand how important dressing warmly is, but also how it can be fun! Hats, scarfs, and gloves all play a part in staying warm in the snow. Through colorful photographs and simple text, beginning readers learn why we bundle up in the cold, staying safe and warm in even the most extreme winter weather.","English",22.6,16.95,"391--dc23","24 pp.",{"$f":"Table1[[#This Row],[QTY]]*Table1[[#This Row],['# Books]]","v":0},{"$f":"Table1[[#This Row],[QTY]]*Table1[[#This Row],[S&L Price]]","v":0}]
[null,null,37,"Winter Fun",1,"Let's Go Ice-Skating!","eBook",null,"978-1-4824-3758-4",{"$f":"HYPERLINK(\"https://www.garethstevens.com/\"&Table1[[#This Row],[ISBN]],\"Weblink\")","v":"Weblink"},2016,"January 2016",null,null,"Author","Jasper Bix","0.9","0.5",null,null,"C",null,"Grade K","Grade K - 2","Even on the coldest winter days it’s easy to have fun outside! Early readers learn all they need is a pair of ice skates and a bit of patience, and they can enjoy the winter weather in style. From lacing up a pair of skates tightly to wearing a helmet for safety, readers learn all the basics needed to get on the ice and give skating a try for themselves! Accessible text presented alongside colorful photographs showing young children skating helps budding readers get motivated to stay active and have fun no matter what the weather outside.","English",22.6,16.95,"796.91--dc23","24 pp.",{"$f":"Table1[[#This Row],[QTY]]*Table1[[#This Row],['# Books]]","v":0},{"$f":"Table1[[#This Row],[QTY]]*Table1[[#This Row],[S&L Price]]","v":0}]
[null,null,37,"Winter Fun",1,"Winter Weather","Library Bound Book",null,"978-1-4824-3769-0",{"$f":"HYPERLINK(\"https://www.garethstevens.com/\"&Table1[[#This Row],[ISBN]],\"Weblink\")","v":"Weblink"},2016,"January 2016","Library","7.625 X 7.125","Author","Jasper Bix","0.9","0.5",null,null,"C",null,"Grade K","Grade K - 2","Winter months feature some of the most interesting—and unpredictable—weather. When the winds grow colder and the lakes and rivers freeze, early readers discover what starts falling from the dark clouds overhead—snow! Accessible text paired with vivid photographs take readers on a journey through a winter’s day and the weather it brings. From snow and wind to icy sleet, budding readers take a bundled-up stroll through the meteorological wonders that come with nature’s coldest season.","English",22.6,16.95,"508.2--dc23","24 pp.",{"$f":"Table1[[#This Row],[QTY]]*Table1[[#This Row],['# Books]]","v":0},{"$f":"Table1[[#This Row],[QTY]]*Table1[[#This Row],[S&L Price]]","v":0}]
[null,null,37,"Let's Go Outdoors!",1,"Let's Go Fishing","Library Bound Book",null,"978-1-4824-2623-6",{"$f":"HYPERLINK(\"https://www.garethstevens.com/\"&Table1[[#This Row],[ISBN]],\"Weblink\")","v":"Weblink"},2016,"August 2015","Library","7.625 X 7.125","Author","Tina Benjamin","0.9","0.5",null,null,"C",null,"Grade K","Grade K - 2","A fishing trip is the perfect way to learn about the great outdoors and enjoy spending time with friends and family. From learning what to use as bait to exploring the different kinds of fishing, there’s nothing like using all your wits to land a big fish. Through accessible text and action-packed photographs, readers will love learning about fishing and the different places fish call home. They may even be motivated to go out and land the big one for themselves!","English",22.6,16.95,"799.1","24 pp.",{"$f":"Table1[[#This Row],[QTY]]*Table1[[#This Row],['# Books]]","v":0},{"$f":"Table1[[#This Row],[QTY]]*Table1[[#This Row],[S&L Price]]","v":0}]
[null,null,37,"Let's Go Outdoors!",1,"Let's Go Fishing","eBook",null,"978-1-4824-2624-3",{"$f":"HYPERLINK(\"https://www.garethstevens.com/\"&Table1[[#This Row],[ISBN]],\"Weblink\")","v":"Weblink"},2016,"August 2015",null,null,"Author","Tina Benjamin","0.9","0.5",null,null,"C",null,"Grade K","Grade K - 2","A fishing trip is the perfect way to learn about the great outdoors and enjoy spending time with friends and family. From learning what to use as bait to exploring the different kinds of fishing, there’s nothing like using all your wits to land a big fish. Through accessible text and action-packed photographs, readers will love learning about fishing and the different places fish call home. They may even be motivated to go out and land the big one for themselves!","English",22.6,16.95,"799.1","24 pp.",{"$f":"Table1[[#This Row],[QTY]]*Table1[[#This Row],['# Books]]","v":0},{"$f":"Table1[[#This Row],[QTY]]*Table1[[#This Row],[S&L Price]]","v":0}]
[null,null,37,"Let's Go Outdoors!",1,"Let's Visit the Beach","Library Bound Book",null,"978-1-4824-2631-1",{"$f":"HYPERLINK(\"https://www.garethstevens.com/\"&Table1[[#This Row],[ISBN]],\"Weblink\")","v":"Weblink"},2016,"August 2015","Library","7.625 X 7.125","Author","Tina Benjamin","0.9","0.5",null,null,"C",null,"Grade K","Grade K - 2","The beach is a great place to get some sun and have some fun! Beginning readers want to grab their swimsuits and flip-flops and hit the sand after this adventurous look at a trip to the beach. From building sand castles to watching the tide rise and fall, there’s plenty to do among the sand and surf. Through accessible text and vibrant photographs, readers discover that if the sun is out and the water is warm, it’s time to dive right in!","English",22.6,16.95,"551.45","24 pp.",{"$f":"Table1[[#This Row],[QTY]]*Table1[[#This Row],['# Books]]","v":0},{"$f":"Table1[[#This Row],[QTY]]*Table1[[#This Row],[S&L Price]]","v":0}]
[null,null,38,"The School Rules",1,"Rules at Lunch","Library Bound Book",null,"978-1-4824-2639-7",{"$f":"HYPERLINK(\"https://www.garethstevens.com/\"&Table1[[#This Row],[ISBN]],\"Weblink\")","v":"Weblink"},2016,"August 2015","Library","7.625 X 7.125","Author","Paul Bloom","0.9","0.5",null,null,"C","230L","Grade K","Grade K - 2","The cafeteria is one of the most fun places at school for young children. Talking and eating with friends is a great way to get to know others and build communication skills in young students. Learning the ropes in the cafeteria is a challenging but important task for readers to grasp. Through simple text and supporting photographs, beginning readers learn the importance of sharing, listening to adults, and cleaning up after themselves.","English",22.6,16.95,"371.7","24 pp.",{"$f":"Table1[[#This Row],[QTY]]*Table1[[#This Row],['# Books]]","v":0},{"$f":"Table1[[#This Row],[QTY]]*Table1[[#This Row],[S&L Price]]","v":0}]
[null,null,38,"The School Rules",1,"Rules in the Gym","Library Bound Book",null,"978-1-4824-2647-2",{"$f":"HYPERLINK(\"https://www.garethstevens.com/\"&Table1[[#This Row],[ISBN]],\"Weblink\")","v":"Weblink"},2016,"August 2015","Library","7.625 X 7.125","Author","Paul Bloom","0.9","0.5",null,null,"C","250L","Grade K","Grade K - 2","For some, gym class is the best time of the day. The games and sports are a great way to get some exercise and play with friends. But it’s important to follow the rules to stay safe and make sure no one gets hurt. Readers will learn that the gym teacher can teach them the right way to play some of their favorite sports, and also help them learn how to respect their classmates and learn good sportsmanship along the way.","English",22.6,16.95,"613.7082","24 pp.",{"$f":"Table1[[#This Row],[QTY]]*Table1[[#This Row],['# Books]]","v":0},{"$f":"Table1[[#This Row],[QTY]]*Table1[[#This Row],[S&L Price]]","v":0}]
[null,null,38,"The School Rules",1,"Rules in the Gym","eBook",null,"978-1-4824-2648-9",{"$f":"HYPERLINK(\"https://www.garethstevens.com/\"&Table1[[#This Row],[ISBN]],\"Weblink\")","v":"Weblink"},2016,"August 2015",null,null,"Author","Paul Bloom","0.9","0.5",null,null,"C","250L","Grade K","Grade K - 2","For some, gym class is the best time of the day. The games and sports are a great way to get some exercise and play with friends. But it’s important to follow the rules to stay safe and make sure no one gets hurt. Readers will learn that the gym teacher can teach them the right way to play some of their favorite sports, and also help them learn how to respect their classmates and learn good sportsmanship along the way.","English",22.6,16.95,"613.7082","24 pp.",{"$f":"Table1[[#This Row],[QTY]]*Table1[[#This Row],['# Books]]","v":0},{"$f":"Table1[[#This Row],[QTY]]*Table1[[#This Row],[S&L Price]]","v":0}]
[null,null,38,"The School Rules",1,"Rules on the Playground","Library Bound Book",null,"978-1-4824-2659-5",{"$f":"HYPERLINK(\"https://www.garethstevens.com/\"&Table1[[#This Row],[ISBN]],\"Weblink\")","v":"Weblink"},2016,"August 2015","Library","7.625 X 7.125","Author","Paul Bloom","0.9","0.5",null,null,"C","200L","Grade K","Grade K - 2","The playground is meant for fun, but it’s also important to follow the rules. There are rules for the games young readers play—like hopscotch or basketball. These rules ensure everyone has fun and there are no arguments. Through accessible text and vibrant photographs early readers learn that playground rules are also meant to keep people safe! This book’s simple yet important message is a must for any early reading collection.","English",22.6,16.95,"796.06","24 pp.",{"$f":"Table1[[#This Row],[QTY]]*Table1[[#This Row],['# Books]]","v":0},{"$f":"Table1[[#This Row],[QTY]]*Table1[[#This Row],[S&L Price]]","v":0}]
[null,null,38,"Going Places",1,"In a Car","Interactive eBook","Flash","978-1-4339-6874-7",{"$f":"HYPERLINK(\"https://www.garethstevens.com/\"&Table1[[#This Row],[ISBN]],\"Weblink\")","v":"Weblink"},2012,"January 2012",null,null,"Author","Robert M. Hamilton ","0.9","0.5",2,3,"C",null,"Grade K","Grade K - 2","Beginning readers learn new facts about cars, including how cars work, the gasoline that makes them run, and the speed limits that help to keep drivers, passengers, and pedestrians safe. Through the use of easy-to-follow text, beginning readers also explore the parts of a car. Colorful photographs show these machines in great detail allowing beginning readers to see a familiar vehicle in a new light.","English",33.25,24.95,"388.3","24 pp.",{"$f":"Table1[[#This Row],[QTY]]*Table1[[#This Row],['# Books]]","v":0},{"$f":"Table1[[#This Row],[QTY]]*Table1[[#This Row],[S&L Price]]","v":0}]
[null,null,38,"Going Places",1,"On a Boat","eBook",null,"978-1-4339-6270-7",{"$f":"HYPERLINK(\"https://www.garethstevens.com/\"&Table1[[#This Row],[ISBN]],\"Weblink\")","v":"Weblink"},2012,"January 2012",null,null,"Author","Robert M. Hamilton ","0.9","0.5",2,3,"C","200L","Grade K","Grade K - 2","There are many kinds of boats that work on the water, and beginning readers are able to see exactly how they work in this fun and informative book. Small sailboats and huge ships are a few that readers discover as they learn how different boats move, look, and help people around the world. Accessible text helps beginning readers uncover fun facts about the parts and purposes of various boats, and vibrant photographs make these facts even more exciting.","English",23.6,17.7,"623.82","24 pp.",{"$f":"Table1[[#This Row],[QTY]]*Table1[[#This Row],['# Books]]","v":0},{"$f":"Table1[[#This Row],[QTY]]*Table1[[#This Row],[S&L Price]]","v":0}]
[null,null,38,"Going Places",1,"On a Boat","Interactive eBook","Flash","978-1-4339-6876-1",{"$f":"HYPERLINK(\"https://www.garethstevens.com/\"&Table1[[#This Row],[ISBN]],\"Weblink\")","v":"Weblink"},2012,"January 2012",null,null,"Author","Robert M. Hamilton ","0.9","0.5",2,3,"C",null,"Grade K","Grade K - 2","There are many kinds of boats that work on the water, and beginning readers are able to see exactly how they work in this fun and informative book. Small sailboats and huge ships are a few that readers discover as they learn how different boats move, look, and help people around the world. Accessible text helps beginning readers uncover fun facts about the parts and purposes of various boats, and vibrant photographs make these facts even more exciting.","English",33.25,24.95,"623.82","24 pp.",{"$f":"Table1[[#This Row],[QTY]]*Table1[[#This Row],['# Books]]","v":0},{"$f":"Table1[[#This Row],[QTY]]*Table1[[#This Row],[S&L Price]]","v":0}]
[null,null,38,"Going Places",1,"On a Plane","eBook",null,"978-1-4339-6278-3",{"$f":"HYPERLINK(\"https://www.garethstevens.com/\"&Table1[[#This Row],[ISBN]],\"Weblink\")","v":"Weblink"},2012,"January 2012",null,null,"Author","Robert M. Hamilton ","0.9","0.5",2,3,"C","340L","Grade K","Grade K - 2","Beginning readers will feel the excitement with the turn of every page as they learn to answer the question of how planes make their way into the sky. Accessible text will help readers explore how planes work—from takeoff to landing. Colorful photographs show readers a variety of planes, including biplanes and seaplanes.","English",23.6,17.7,"387.7","24 pp.",{"$f":"Table1[[#This Row],[QTY]]*Table1[[#This Row],['# Books]]","v":0},{"$f":"Table1[[#This Row],[QTY]]*Table1[[#This Row],[S&L Price]]","v":0}]
[null,null,38,"Going Places",1,"On a Train","Interactive eBook","Flash","978-1-4339-6879-2",{"$f":"HYPERLINK(\"https://www.garethstevens.com/\"&Table1[[#This Row],[ISBN]],\"Weblink\")","v":"Weblink"},2012,"January 2012",null,null,"Author","Robert M. Hamilton ","0.9","0.5",2,3,"C",null,"Grade K","Grade K - 2","Beginning readers discover fun facts about trains—from their history to what makes them work, readers will learn how the first trains moved, which kind of train carries people, what a bullet train is, and more. Through easy-to-follow text, readers will explore for themselves the world of this popular mode of transportation. Detailed photographs give beginning readers an up-close look at a variety of trains in motion.","English",33.25,24.95,"385","24 pp.",{"$f":"Table1[[#This Row],[QTY]]*Table1[[#This Row],['# Books]]","v":0},{"$f":"Table1[[#This Row],[QTY]]*Table1[[#This Row],[S&L Price]]","v":0}]
[null,null,39,"People Around Town",1,"Meet the Farmer","eBook",null,"978-1-4339-9370-1",{"$f":"HYPERLINK(\"https://www.garethstevens.com/\"&Table1[[#This Row],[ISBN]],\"Weblink\")","v":"Weblink"},2014,"August 2013",null,null,"Author","Joyce Jeffries","0.9","0.5",3,4,"C","250L","Grade K","Grade K - 2","Farmers know how to get the most out of the land, whether with crops or big farm animals. Readers learn more about the lives of these important community helpers with the help of full-color photographs and easy-to-read text. Readers discover how big tractors help farmers work quickly, and what kinds of animals call a farm home. Accessible text helps early readers grasp concepts, while a picture glossary pairs vocabulary with colorful photographs to help enhance comprehension.     • High-interest topic engages young readers • Strong picture-text correlation aids in comprehension • Reading level supports beginning readers • Picture glossary helps develop vocabulary skills • Comprehendible index guides readers through each book    ","English",23.6,17.7,"331.7","24 pp.",{"$f":"Table1[[#This Row],[QTY]]*Table1[[#This Row],['# Books]]","v":0},{"$f":"Table1[[#This Row],[QTY]]*Table1[[#This Row],[S&L Price]]","v":0}]
[null,null,39,"People Around Town",1,"Meet the Librarian","Library Bound Book",null,"978-1-4339-9372-5",{"$f":"HYPERLINK(\"https://www.garethstevens.com/\"&Table1[[#This Row],[ISBN]],\"Weblink\")","v":"Weblink"},2014,"August 2013","Library","7.625 X 7.125","Author","Joyce Jeffries","0.9","0.5",3,4,"C","320L","Grade K","Grade K - 2","Librarians love working with books, but people can find all kinds of things at the library. Beginning readers will learn all about life among the stacks in this engaging first concepts book. Readers discover how a library is organized and what kinds of things people can borrow from the library. They’ll also find out where the name \"librarian\" comes from and learn all about lending with the help of full-color photographs and accessible text. A picture glossary helps reinforce concepts and vocabulary with colorful photographs, while strong picture-text correlation aids in reading comprehension.","English",23.6,17.7,"371.425","24 pp.",{"$f":"Table1[[#This Row],[QTY]]*Table1[[#This Row],['# Books]]","v":0},{"$f":"Table1[[#This Row],[QTY]]*Table1[[#This Row],[S&L Price]]","v":0}]
[null,null,39,"People Around Town",1,"Meet the Pilot","eBook",null,"978-1-4339-9385-5",{"$f":"HYPERLINK(\"https://www.garethstevens.com/\"&Table1[[#This Row],[ISBN]],\"Weblink\")","v":"Weblink"},2014,"August 2013",null,null,"Author","Joyce Jeffries","0.9","0.5",3,4,"C","270L","Grade K","Grade K - 2","Not many people know that the first pilots took to the skies in hot air balloons. Today, professional pilots use fast jets and helicopters to get from place to place in style. Through the use of accessible text and colorful photographs, early readers will learn all about the people who soar high above their towns and cities every day, and will have fun exploring the cockpit of the world’s fastest vehicles. A picture glossary helps reinforce essential vocabulary related to these high-flying community helpers. • High-interest topic engages young readers • Strong picture-text correlation aids in comprehension • Reading level supports beginning readers • Picture glossary helps develop vocabulary skills • Comprehendible index guides readers through each book","English",23.6,17.7,"629.13","24 pp.",{"$f":"Table1[[#This Row],[QTY]]*Table1[[#This Row],['# Books]]","v":0},{"$f":"Table1[[#This Row],[QTY]]*Table1[[#This Row],[S&L Price]]","v":0}]
[null,null,39,"People Around Town",1,"Meet the Baker","Interactive eBook","Flash","978-1-4339-7949-1",{"$f":"HYPERLINK(\"https://www.garethstevens.com/\"&Table1[[#This Row],[ISBN]],\"Weblink\")","v":"Weblink"},2013,"August 2012",null,null,"Author","Joyce Jeffries","0.9","0.5",3,4,"C",null,"Grade K","Grade K - 2","How a baker makes the breads, pies, and cakes that we love to eat is revealed though fun, engaging text. Beginning readers get an enjoyable and educational look at the work that bakers do every day—including mixing the batter and slicing the bread. Readers are introduced to the tools bakers need to do their jobs, and a picture glossary helps develop a stronger vocabulary. Bright photographs show bakers hard at work making delicious treats.","English",33.25,24.95,"641.81","24 pp.",{"$f":"Table1[[#This Row],[QTY]]*Table1[[#This Row],['# Books]]","v":0},{"$f":"Table1[[#This Row],[QTY]]*Table1[[#This Row],[S&L Price]]","v":0}]
[null,null,39,"People Around Town",1,"Meet the Fireman","eBook",null,"978-1-4339-7331-4",{"$f":"HYPERLINK(\"https://www.garethstevens.com/\"&Table1[[#This Row],[ISBN]],\"Weblink\")","v":"Weblink"},2013,"August 2012",null,null,"Author","Joyce Jeffries","0.9","0.5",3,4,"C","300L","Grade K","Grade K - 2","A fireman works very hard to keep people safe, and early learners discover for themselves what the life of a firefighter is really like. Through the use of accessible text, readers take an exciting trip through a fire station and are introduced to the equipment firemen use to put out fires and save lives. A picture glossary helps beginning readers strengthen their vocabulary skills, and vibrant photographs show firemen working hard in a variety of thrilling situations.","English",23.6,17.7,"363.37","24 pp.",{"$f":"Table1[[#This Row],[QTY]]*Table1[[#This Row],['# Books]]","v":0},{"$f":"Table1[[#This Row],[QTY]]*Table1[[#This Row],[S&L Price]]","v":0}]
[null,null,39,"People Around Town",1,"Meet the Nurse","Library Bound Book",null,"978-1-4339-7332-1",{"$f":"HYPERLINK(\"https://www.garethstevens.com/\"&Table1[[#This Row],[ISBN]],\"Weblink\")","v":"Weblink"},2013,"August 2012","Library","7.625 X 7.125","Author","Joyce Jeffries","0.9","0.5",3,4,"C","340L","Grade K","Grade K - 2","Beginning readers discover the many ways nurses work to help people stay healthy. Nurses work with doctors and on their own in diverse environments. Achievable content introduces readers to some of the important tools nurses use every day. Easy-to-follow text and a helpful picture glossary aid in the retention of fun facts about nurses and the development of strong vocabulary skills. Colorful photographs provide young readers with a detailed look at nurses and the valuable work they do.","English",23.6,17.7,"610.73","24 pp.",{"$f":"Table1[[#This Row],[QTY]]*Table1[[#This Row],['# Books]]","v":0},{"$f":"Table1[[#This Row],[QTY]]*Table1[[#This Row],[S&L Price]]","v":0}]
[null,null,39,"People Around Town",1,"Meet the Policeman","Library Bound Book",null,"978-1-4339-7336-9",{"$f":"HYPERLINK(\"https://www.garethstevens.com/\"&Table1[[#This Row],[ISBN]],\"Weblink\")","v":"Weblink"},2013,"August 2012","Library","7.625 X 7.125","Author","Joyce Jeffries","0.9","0.5",3,4,"C","310L","Grade K","Grade K - 2","Beginning readers discover what a day at work is like for a policeman. Readers get a detailed look at the way policemen work to keep people safe including the special cars they drive and the special animals they occasionally work with. A detailed picture glossary strengthens vocabulary skills, and bright photographs make this an entertaining and educational reading experience.","English",23.6,17.7,"363.2--dc23","24 pp.",{"$f":"Table1[[#This Row],[QTY]]*Table1[[#This Row],['# Books]]","v":0},{"$f":"Table1[[#This Row],[QTY]]*Table1[[#This Row],[S&L Price]]","v":0}]
[null,null,39,"People Around Town",1,"Meet the Teacher","Interactive eBook","Flash","978-1-4339-7959-0",{"$f":"HYPERLINK(\"https://www.garethstevens.com/\"&Table1[[#This Row],[ISBN]],\"Weblink\")","v":"Weblink"},2013,"August 2012",null,null,"Author","Joyce Jeffries","0.9","0.5",3,4,"C",null,"Grade K","Grade K - 2","A teacher is a familiar figure in the lives of many readers, but readers discover new information about the hard work teachers do every day through achievable content. Beginning readers are introduced to a variety of teachers and the tools they use to help their students learn. Accessible text and a picture glossary allow readers to see for themselves what a teacher’s job is like as they learn fun facts and build a stronger vocabulary with each turn of the page. Colorful photographs show teachers working hard in the classroom.","English",33.25,24.95,"371.1","24 pp.",{"$f":"Table1[[#This Row],[QTY]]*Table1[[#This Row],['# Books]]","v":0},{"$f":"Table1[[#This Row],[QTY]]*Table1[[#This Row],[S&L Price]]","v":0}]
[null,null,40,"My First Adventures",1,"My First Trip to a Baseball Game","Library Bound Book",null,"978-1-4339-7307-9",{"$f":"HYPERLINK(\"https://www.garethstevens.com/\"&Table1[[#This Row],[ISBN]],\"Weblink\")","v":"Weblink"},2013,"August 2012","Library","7.625 X 7.125","Author","Katie Kawa","0.9","0.5",3,4,"C",null,"Grade K","Grade K - 2","Beginning readers follow along as one family experiences the fun and excitement of a trip to the ballpark—from the first bite of a hot dog to the last home run. This fictionalized approach to a common childhood experience helps young readers find enjoyment on each page while strengthening vocabulary skills. Accessible text and a helpful picture glossary are accompanied by bright illustrations that bring the thrill of a great baseball game to all readers.","English",23.6,17.7,"796.357","24 pp.",{"$f":"Table1[[#This Row],[QTY]]*Table1[[#This Row],['# Books]]","v":0},{"$f":"Table1[[#This Row],[QTY]]*Table1[[#This Row],[S&L Price]]","v":0}]
[null,null,40,"My First Adventures",1,"My First Trip to a Baseball Game","eBook",null,"978-1-4339-7306-2",{"$f":"HYPERLINK(\"https://www.garethstevens.com/\"&Table1[[#This Row],[ISBN]],\"Weblink\")","v":"Weblink"},2013,"August 2012",null,null,"Author","Katie Kawa","0.9","0.5",3,4,"C",null,"Grade K","Grade K - 2","Beginning readers follow along as one family experiences the fun and excitement of a trip to the ballpark—from the first bite of a hot dog to the last home run. This fictionalized approach to a common childhood experience helps young readers find enjoyment on each page while strengthening vocabulary skills. Accessible text and a helpful picture glossary are accompanied by bright illustrations that bring the thrill of a great baseball game to all readers.","English",23.6,17.7,"796.357","24 pp.",{"$f":"Table1[[#This Row],[QTY]]*Table1[[#This Row],['# Books]]","v":0},{"$f":"Table1[[#This Row],[QTY]]*Table1[[#This Row],[S&L Price]]","v":0}]
[null,null,40,"My First Adventures",1,"My First Trip to the Beach","Library Bound Book",null,"978-1-4339-7308-6",{"$f":"HYPERLINK(\"https://www.garethstevens.com/\"&Table1[[#This Row],[ISBN]],\"Weblink\")","v":"Weblink"},2013,"August 2012","Library","7.625 X 7.125","Author","Katie Kawa","0.8","0.5",3,4,"C",null,"Grade K","Grade K - 2","Using a fictionalized approach, readers join a family as they explore the sand, sun, and waves at the beach for the first time. Colorful illustrations capture the vibrancy of the beach in a way that is sure to captivate beginning readers. Easy-to-follow, accessible text and a useful picture glossary aid in the development of vocabulary skills and the retention of new facts.","English",23.6,17.7,"551.45","24 pp.",{"$f":"Table1[[#This Row],[QTY]]*Table1[[#This Row],['# Books]]","v":0},{"$f":"Table1[[#This Row],[QTY]]*Table1[[#This Row],[S&L Price]]","v":0}]
[null,null,40,"My First Adventures",1,"My First Trip to the Farm","Library Bound Book",null,"978-1-4339-7312-3",{"$f":"HYPERLINK(\"https://www.garethstevens.com/\"&Table1[[#This Row],[ISBN]],\"Weblink\")","v":"Weblink"},2013,"August 2012","Library","7.625 X 7.125","Author","Katie Kawa","0.8","0.5",3,4,"C",null,"Grade K","Grade K - 2","A farm is a very busy place, and beginning readers discover why with the story of one class’s visit to a working farm. They learn fun facts about the food that we get from farms and the animals that call a farm their home. Using a fictionalized approach, readers discover all that this exciting place has to offer, including a trip to a pumpkin patch and a hayride. Accessible text and a picture glossary allow beginning readers to see for themselves what a trip to a farm is like, and bright illustrations guide them through this charming book.","English",23.6,17.7,"636","24 pp.",{"$f":"Table1[[#This Row],[QTY]]*Table1[[#This Row],['# Books]]","v":0},{"$f":"Table1[[#This Row],[QTY]]*Table1[[#This Row],[S&L Price]]","v":0}]
[null,null,40,"My First Adventures",1,"My First Trip to the Bank","Library Bound Book",null,"978-1-4339-6236-3",{"$f":"HYPERLINK(\"https://www.garethstevens.com/\"&Table1[[#This Row],[ISBN]],\"Weblink\")","v":"Weblink"},2012,"January 2012","Library","7.625 X 7.125","Author, Illustrated by","Katie Kawa, Jessica Livingston","0.9","0.5",3,4,"C",null,"Grade K","Grade K - 2","Beginning readers discover the answer to how money goes from a piggy bank to a bank vault, and many more in this book. Using a fictionalized approach, this book teaches young readers about how a bank works through the story of one child’s visit. Readers see how they can save their own money at the bank with the help of a friendly teller. Featuring easy-to-follow language and colorful illustrations, this book makes an everyday experience exciting for beginning readers.","English",23.6,17.7,"332.1","24 pp.",{"$f":"Table1[[#This Row],[QTY]]*Table1[[#This Row],['# Books]]","v":0},{"$f":"Table1[[#This Row],[QTY]]*Table1[[#This Row],[S&L Price]]","v":0}]
[null,null,40,"My First Adventures",1,"My First Trip to the Bank","eBook",null,"978-1-4339-6237-0",{"$f":"HYPERLINK(\"https://www.garethstevens.com/\"&Table1[[#This Row],[ISBN]],\"Weblink\")","v":"Weblink"},2012,"January 2012",null,null,"Author, Illustrated by","Katie Kawa, Jessica Livingston","0.9","0.5",3,4,"C",null,"Grade K","Grade K - 2","Beginning readers discover the answer to how money goes from a piggy bank to a bank vault, and many more in this book. Using a fictionalized approach, this book teaches young readers about how a bank works through the story of one child’s visit. Readers see how they can save their own money at the bank with the help of a friendly teller. Featuring easy-to-follow language and colorful illustrations, this book makes an everyday experience exciting for beginning readers.","English",23.6,17.7,"332.1","24 pp.",{"$f":"Table1[[#This Row],[QTY]]*Table1[[#This Row],['# Books]]","v":0},{"$f":"Table1[[#This Row],[QTY]]*Table1[[#This Row],[S&L Price]]","v":0}]
[null,null,40,"My First Adventures",1,"My First Trip to the Doctor","Library Bound Book",null,"978-1-4339-6245-5",{"$f":"HYPERLINK(\"https://www.garethstevens.com/\"&Table1[[#This Row],[ISBN]],\"Weblink\")","v":"Weblink"},2012,"January 2012","Library","7.625 X 7.125","Author, Illustrated by","Katie Kawa, Jessica Livingston","0.9","0.5",3,4,"C",null,"Grade K","Grade K - 2","Beginning readers visit the doctor in a fictionalized approach to this common childhood experience. Readers will follow a child through the process of getting an annual checkup, an easily relatable experience for young readers. Easy-to-follow text explains the steps taken by both doctors and nurses to make sure children are growing healthy and strong. Illustrations help beginning readers view a trip to the doctor as a fun and educational experience.","English",23.6,17.7,"618.92","24 pp.",{"$f":"Table1[[#This Row],[QTY]]*Table1[[#This Row],['# Books]]","v":0},{"$f":"Table1[[#This Row],[QTY]]*Table1[[#This Row],[S&L Price]]","v":0}]
[null,null,40,"My First Adventures",1,"My First Trip to the Library","Interactive eBook","Flash","978-1-4339-7852-4",{"$f":"HYPERLINK(\"https://www.garethstevens.com/\"&Table1[[#This Row],[ISBN]],\"Weblink\")","v":"Weblink"},2012,"January 2012",null,null,"Author, Illustrated by","Katie Kawa, Jessica Livingston","0.9","0.5",3,4,"C",null,"Grade K","Grade K - 2","Readers learn how fascinating a trip to the library can be as they read about one child’s exciting visit. This fictionalized approach to a popular childhood experience allows readers to learn important facts about the library in an accessible way. Easy-to-follow text and colorful illustrations keep readers entertained as they learn. Beginning readers will be eager to go to the library to find more books.","English",33.25,24.95,"020","24 pp.",{"$f":"Table1[[#This Row],[QTY]]*Table1[[#This Row],['# Books]]","v":0},{"$f":"Table1[[#This Row],[QTY]]*Table1[[#This Row],[S&L Price]]","v":0}]
[null,null,40,"My First Adventures",1,"My First Trip to the Zoo","eBook",null,"978-1-4339-6258-5",{"$f":"HYPERLINK(\"https://www.garethstevens.com/\"&Table1[[#This Row],[ISBN]],\"Weblink\")","v":"Weblink"},2012,"January 2012",null,null,"Author, Illustrated by","Katie Kawa, Jessica Livingston","0.9","0.5",3,4,"C",null,"Grade K","Grade K - 2","Beginning readers discover the animals that can be seen during a day at the zoo. Using a fictionalized approach, this book takes readers on a journey as they follow one family’s trip to see their favorite animals. This book also provides the answer to how elephants stay cool in the hot sun and more. Vibrant illustrations of popular zoo animals and accessible text help beginning readers discover new facts about zoos and the animals that live in them. ","English",23.6,17.7,"590.73","24 pp.",{"$f":"Table1[[#This Row],[QTY]]*Table1[[#This Row],['# Books]]","v":0},{"$f":"Table1[[#This Row],[QTY]]*Table1[[#This Row],[S&L Price]]","v":0}]
[null,null,40,"My First Adventures",1,"My First Trip to the Zoo","Interactive eBook","Flash","978-1-4339-7854-8",{"$f":"HYPERLINK(\"https://www.garethstevens.com/\"&Table1[[#This Row],[ISBN]],\"Weblink\")","v":"Weblink"},2012,"January 2012",null,null,"Author, Illustrated by","Katie Kawa, Jessica Livingston","0.9","0.5",3,4,"C",null,"Grade K","Grade K - 2","Beginning readers discover the animals that can be seen during a day at the zoo. Using a fictionalized approach, this book takes readers on a journey as they follow one family’s trip to see their favorite animals. This book also provides the answer to how elephants stay cool in the hot sun and more. Vibrant illustrations of popular zoo animals and accessible text help beginning readers discover new facts about zoos and the animals that live in them. ","English",33.25,24.95,"590.73","24 pp.",{"$f":"Table1[[#This Row],[QTY]]*Table1[[#This Row],['# Books]]","v":0},{"$f":"Table1[[#This Row],[QTY]]*Table1[[#This Row],[S&L Price]]","v":0}]
[null,null,41,"Happy Holidays!",1,"Happy Fourth of July!","Library Bound Book",null,"978-1-4824-0207-0",{"$f":"HYPERLINK(\"https://www.garethstevens.com/\"&Table1[[#This Row],[ISBN]],\"Weblink\")","v":"Weblink"},2014,"January 2014","Library","7.625 X 7.125","Author","Alex Appleby","1","0.5",3,null,"C",null,"Grade K","Grade K - 2","The Fourth of July is one of the most important holidays of the year. Readers will learn why we set off fireworks to celebrate America's birthday and what other people do to honor the country on this fun holiday. From sparklers and hot dogs to parades and fun floats, readers will learn why the Fourth of July is a great holiday. Features include: Strong picture-text correlation that aids in comprehension. Reading level supports beginning readers. Picture glossary helps develop vocabulary skills.","English",23.6,17.7,"394.263","24 pp.",{"$f":"Table1[[#This Row],[QTY]]*Table1[[#This Row],['# Books]]","v":0},{"$f":"Table1[[#This Row],[QTY]]*Table1[[#This Row],[S&L Price]]","v":0}]
[null,null,41,"Happy Holidays!",1,"Happy New Year!","eBook",null,"978-1-4339-9944-4",{"$f":"HYPERLINK(\"https://www.garethstevens.com/\"&Table1[[#This Row],[ISBN]],\"Weblink\")","v":"Weblink"},2014,"January 2014",null,null,"Author","Alex Appleby","1","0.5",3,null,"C","250L","Grade K","Grade K - 2","The start of each year is a celebration, but why? In this great book, readers will learn all about the fun parties and gatherings we have to mark the end and beginning of every year. From ball drops to parties and even football games, everyone should learn how to have a happy new year. With accessible text and bright, engaging photographs, readers will learn all about the traditions and fun resolutions that each new year brings.","English",23.6,17.7,"394.2614--dc23","24 pp.",{"$f":"Table1[[#This Row],[QTY]]*Table1[[#This Row],['# Books]]","v":0},{"$f":"Table1[[#This Row],[QTY]]*Table1[[#This Row],[S&L Price]]","v":0}]
[null,null,41,"How Do I Feel?",6,"How Do I Feel?","Library Set",null,"978-1-4339-8191-3",{"$f":"HYPERLINK(\"https://www.garethstevens.com/\"&Table1[[#This Row],[ISBN]],\"Weblink\")","v":"Weblink"},2013,"January 2013","Library","7.625 X 7.125",null,null,null,null,null,null,null,null,"Grade K","Grade K - 2","Young readers experience a variety of strong emotions in their everyday lives. In this charming series, they are introduced to engaging stories about children dealing with their feelings in realistic ways. Using a fictionalized approach, this series explores the ways children express their feelings—from anger and happiness to fear and loneliness—in a relatable manner. With the help of accessible text, beginning readers learn for themselves what can cause them to feel certain emotions and how to best deal with the feelings they experience during common situations, such as a birthday party and the first day of school. Colorful illustrations are sure to captivate young readers, keeping them entertained as they learn.     • Strong picture-text correlation aids in comprehension • High-interest topic appeals to young readers • Reading level supports beginning readers  ","English",141.6,106.2,null,"24 pp.",{"$f":"Table1[[#This Row],[QTY]]*Table1[[#This Row],['# Books]]","v":0},{"$f":"Table1[[#This Row],[QTY]]*Table1[[#This Row],[S&L Price]]","v":0}]
[null,null,41,"How Do I Feel?",1,"I Feel Happy","Library Bound Book",null,"978-1-4339-8107-4",{"$f":"HYPERLINK(\"https://www.garethstevens.com/\"&Table1[[#This Row],[ISBN]],\"Weblink\")","v":"Weblink"},2013,"January 2013","Library","7.625 X 7.125","Author","Katie Kawa","0.9","0.5",3,4,"C",null,"Grade K","Grade K - 2","A child’s birthday party is a very happy occasion, and beginning readers get to experience that happiness for themselves inside this book. This fictional story told through a relatable narrator details the happy events surrounding an exciting birthday party. Accessible text allows young readers to discover for themselves what could cause someone to feel happy—from a day with friends to a fun-filled bike ride. A picture glossary also aids young readers in the development of important vocabulary skills. With its combination of educational and enjoyable text as well as its charming illustrations this book is sure to bring happiness to all readers.","English",23.6,17.7,"152.4","24 pp.",{"$f":"Table1[[#This Row],[QTY]]*Table1[[#This Row],['# Books]]","v":0},{"$f":"Table1[[#This Row],[QTY]]*Table1[[#This Row],[S&L Price]]","v":0}]
[null,null,41,"How Do I Feel?",1,"I Feel Mad","eBook",null,"978-1-4339-8118-0",{"$f":"HYPERLINK(\"https://www.garethstevens.com/\"&Table1[[#This Row],[ISBN]],\"Weblink\")","v":"Weblink"},2013,"January 2013",null,null,"Author","Katie Kawa","0.9","0.5",3,4,"C",null,"Grade K","Grade K - 2","Young readers discover the healthy and unhealthy ways we deal with feeling mad in this educational and engaging book. Using accessible text and fictional approach, this story of a fight between siblings is a relatable situation that teaches young readers about how to handle anger in a healthy way. This approach keeps beginning readers entertained as they learn about powerful emotions. Colorful illustrations and a vocabulary-building picture glossary guide readers through this helpful book.","English",23.6,17.7,"152.4","24 pp.",{"$f":"Table1[[#This Row],[QTY]]*Table1[[#This Row],['# Books]]","v":0},{"$f":"Table1[[#This Row],[QTY]]*Table1[[#This Row],[S&L Price]]","v":0}]
[null,null,41,"How Do I Feel?",1,"I Feel Worried","Library Bound Book",null,"978-1-4339-8127-2",{"$f":"HYPERLINK(\"https://www.garethstevens.com/\"&Table1[[#This Row],[ISBN]],\"Weblink\")","v":"Weblink"},2013,"January 2013","Library","7.625 X 7.125","Author","Katie Kawa","0.9","0.5",3,4,"C",null,"Grade K","Grade K - 2","The first day of school is a situation that often makes children nervous. Beginning readers discover ways to work through those feelings of worry to see that starting school can be a fun experience. Using a fictionalized approach, this book introduces children to common anxieties about school, from meeting the teacher to making friends. Told through the eyes of a relatable young narrator, this story helps beginning readers work through these worries by themselves with the help of accessible text. A picture glossary aids in the development of strong vocabulary skills. Colorful illustrations enhance the learning experience for all young readers.","English",23.6,17.7,"616.85","24 pp.",{"$f":"Table1[[#This Row],[QTY]]*Table1[[#This Row],['# Books]]","v":0},{"$f":"Table1[[#This Row],[QTY]]*Table1[[#This Row],[S&L Price]]","v":0}]
[null,null,41,"My Favorite Sports",1,"I Love Baseball","eBook",null,"978-1-4824-0721-1",{"$f":"HYPERLINK(\"https://www.garethstevens.com/\"&Table1[[#This Row],[ISBN]],\"Weblink\")","v":"Weblink"},2015,"August 2014",null,null,"Author","Ryan Nagelhout","0.8","0.5",3,null,"C",null,"Grade K","Grade K - 2","Baseball is a great sport for young readers to fall in love with. Beginning readers get in the game with this exciting book. Readers learn the basics of the game, like throwing and catching, and about the equipment that athletes use on the diamond every day. With accessible content and great color photographs, readers can dig into the dirt, hear the crack of a bat, and fall in love with America's pastime","English",22.6,16.95,"796.357--dc23","24 pp.",{"$f":"Table1[[#This Row],[QTY]]*Table1[[#This Row],['# Books]]","v":0},{"$f":"Table1[[#This Row],[QTY]]*Table1[[#This Row],[S&L Price]]","v":0}]
[null,null,41,"My Favorite Sports",1,"I Love Basketball","Library Bound Book",null,"978-1-4824-0722-8",{"$f":"HYPERLINK(\"https://www.garethstevens.com/\"&Table1[[#This Row],[ISBN]],\"Weblink\")","v":"Weblink"},2015,"August 2014","Library","7.625 X 7.125","Author","Ryan Nagelhout","0.9","0.5",3,null,"C",null,"Grade K","Grade K - 2","Basketball is the perfect sport for a young sports enthusiast to dive into. The fast-paced game makes for an exciting sport, and early readers will jump right in and experience a big game atmosphere in this exciting book. Readers learn the basics of the game such as dribbling and shooting, readers will experience the joys of sports and establish early ideas about teamwork while establishing literacy skills that will help them develop new skills with every page!","English",22.6,16.95,"796.323","24 pp.",{"$f":"Table1[[#This Row],[QTY]]*Table1[[#This Row],['# Books]]","v":0},{"$f":"Table1[[#This Row],[QTY]]*Table1[[#This Row],[S&L Price]]","v":0}]
[null,null,41,"My Favorite Sports",1,"I Love Gymnastics","eBook",null,"978-1-4824-0729-7",{"$f":"HYPERLINK(\"https://www.garethstevens.com/\"&Table1[[#This Row],[ISBN]],\"Weblink\")","v":"Weblink"},2015,"August 2014",null,null,"Author","Ryan Nagelhout","0.9","0.5",3,null,"C",null,"Grade K","Grade K - 2","Gymnastics are a great way for kids to get active at an early age. The rolling, tumbling, and flipping in a safe environment can one day lead to big moves and exciting Olympic performances. Starting small, though, is a great way to build both reading and gymnastic skills and establish the foundation for future greatness. Early readers get an inside look at the gymnastics studio, building strength and learning new moves while also learning about mat safety. Technical terminology and fun, full-color photographs provide strong picture-text correlation and help readers build a love for gymnastics with every page.","English",22.6,16.95,"796.44","24 pp.",{"$f":"Table1[[#This Row],[QTY]]*Table1[[#This Row],['# Books]]","v":0},{"$f":"Table1[[#This Row],[QTY]]*Table1[[#This Row],[S&L Price]]","v":0}]
[null,null,44,"World's Longest-Living Animals",12,"World's Longest-Living Animals","Library Set",null,"978-1-5382-1723-8",{"$f":"HYPERLINK(\"https://www.garethstevens.com/\"&Table1[[#This Row],[ISBN]],\"Weblink\")","v":"Weblink"},2019,"August 2018","Library","7.000 X 7.000",null,null,null,null,null,null,null,null,"Grade 1 - 2","Grade 1 - 3","This series takes young readers all over the globe, and deep underwater, to learn about some of Earth's most amazing creatures. Age-appropriate content and language relay more complicated science concepts, like habitats, life cycles, ecosystems, and evolution, in an accessible way. Readers are sure to be fascinated by these fun, longest-living animal books, ranging from unfamiliar subjects, such as sponges and tubeworms, to more recognizable animals, such as sharks and flamingoes. Features include: Close-up color photography brings the animal kingdom into sharp focus. Familiarizes children with the wide range of life on Earth. Fosters awe for nature while teaching basic science.","English",271.2,203.4,null,"24 pp.",{"$f":"Table1[[#This Row],[QTY]]*Table1[[#This Row],['# Books]]","v":0},{"$f":"Table1[[#This Row],[QTY]]*Table1[[#This Row],[S&L Price]]","v":0}]
[null,null,44,"World's Longest-Living Animals",1,"250-Year-Old Tube Worms!","Library Bound Book",null,"978-1-5382-1689-7",{"$f":"HYPERLINK(\"https://www.garethstevens.com/\"&Table1[[#This Row],[ISBN]],\"Weblink\")","v":"Weblink"},2019,"August 2018","Library","7.000 X 7.000","Author","Joni Kelly","3.7","0.5",null,null,"I",null,"Grade 1 - 2","Grade 1 - 3","Tube worms are some of the strangest-looking creatures of the deep sea, not to mention they live in some of the most inhospitable places on Earth. Young readers will love discovering just how these freaky animals not only live, but thrive for centuries. Discoveries are happening constantly these days, as new technologies finally allow scientists to explore the deep sea's cold seeps and hydrothermal vents. Any library or classroom will have a home for this dynamic, accessible, age-appropriate volume filled with brilliant color photography of these freaky ocean worms.","English",22.6,16.95,"592/.64--dc23","24 pp.",{"$f":"Table1[[#This Row],[QTY]]*Table1[[#This Row],['# Books]]","v":0},{"$f":"Table1[[#This Row],[QTY]]*Table1[[#This Row],[S&L Price]]","v":0}]
[null,null,44,"World's Longest-Living Animals",1,"250-Year-Old Tube Worms!","eBook",null,"978-1-5382-1688-0",{"$f":"HYPERLINK(\"https://www.garethstevens.com/\"&Table1[[#This Row],[ISBN]],\"Weblink\")","v":"Weblink"},2019,"August 2018",null,null,"Author","Joni Kelly","3.7","0.5",null,null,"I",null,"Grade 1 - 2","Grade 1 - 3","Tube worms are some of the strangest-looking creatures of the deep sea, not to mention they live in some of the most inhospitable places on Earth. Young readers will love discovering just how these freaky animals not only live, but thrive for centuries. Discoveries are happening constantly these days, as new technologies finally allow scientists to explore the deep sea's cold seeps and hydrothermal vents. Any library or classroom will have a home for this dynamic, accessible, age-appropriate volume filled with brilliant color photography of these freaky ocean worms.","English",22.6,16.95,"592/.64--dc23","24 pp.",{"$f":"Table1[[#This Row],[QTY]]*Table1[[#This Row],['# Books]]","v":0},{"$f":"Table1[[#This Row],[QTY]]*Table1[[#This Row],[S&L Price]]","v":0}]
[null,null,44,"World's Longest-Living Animals",1,"80-Year-Old Flamingos!","Library Bound Book",null,"978-1-5382-1678-1",{"$f":"HYPERLINK(\"https://www.garethstevens.com/\"&Table1[[#This Row],[ISBN]],\"Weblink\")","v":"Weblink"},2019,"August 2018","Library","7.000 X 7.000","Author","Joni Kelly","3.5","0.5",null,null,"H",null,"Grade 1 - 2","Grade 1 - 3","Flamingos are a ubiquitous, pink symbol that appears everywhere, clothing, school supplies, logos, lawns, and in zoos across the country. With vibrant, full-color photography and lively but accessible writing, this volume gives young readers a chance to learn about that animal they no doubt recognize. As one of the longest-living birds on Earth, the story of the flamingo provides a firsthand account of how life cycles, ecosystems, and the animal kingdom work. There's no better way to expose young readers to curriculum-specific science topics than to illuminate the life of the world's most recognizable, distinct bird with this fun, age-appropriate book.","English",22.6,16.95,"598.3'5--dc23","24 pp.",{"$f":"Table1[[#This Row],[QTY]]*Table1[[#This Row],['# Books]]","v":0},{"$f":"Table1[[#This Row],[QTY]]*Table1[[#This Row],[S&L Price]]","v":0}]
[null,null,44,"World's Longest-Living Animals",1,"100-Year-Old Tuataras!","eBook",null,"978-1-4824-5629-5",{"$f":"HYPERLINK(\"https://www.garethstevens.com/\"&Table1[[#This Row],[ISBN]],\"Weblink\")","v":"Weblink"},2017,"January 2017",null,null,"Author","Topper Evans","3.7","0.5",null,null,"H",null,"Grade 1 - 2","Grade 1 - 3","Tuataras are special animals because they’re old in many ways. They’re part of an order of reptiles that first appeared more than 200 million years ago! They can also live more than 100 years! Readers fascinated by these odd animals will love learning why they’re only found in New Zealand and how they adapted characteristics of many different kinds of animals, including amphibians, reptiles, and even fish! With full-color photographs showing off these features in great detail, this book is sure to impress young readers.","English",22.6,16.95,"597.9’45--dc23","24 pp.",{"$f":"Table1[[#This Row],[QTY]]*Table1[[#This Row],['# Books]]","v":0},{"$f":"Table1[[#This Row],[QTY]]*Table1[[#This Row],[S&L Price]]","v":0}]
[null,null,44,"World's Longest-Living Animals",1,"200-Year-Old Red Sea Urchins!","eBook",null,"978-1-4824-5598-4",{"$f":"HYPERLINK(\"https://www.garethstevens.com/\"&Table1[[#This Row],[ISBN]],\"Weblink\")","v":"Weblink"},2017,"January 2017",null,null,"Author","Topper Evans","3.7","0.5",null,null,"H",null,"Grade 1 - 2","Grade 1 - 3","The ocean is full of amazing creatures we know little about. Red sea urchins are one of those creatures. Previously thought to only live a few decades, scientists now think they can live up to 200 years! Through colorful photographs showing these bright creatures living in their shallow ocean habitats, readers learn exactly how these animals sustain long lives in the water. They also discover how scientists used atomic bomb testing research to decide these animals can live well over a century.","English",22.6,16.95,"593.9’5--dc23","24 pp.",{"$f":"Table1[[#This Row],[QTY]]*Table1[[#This Row],['# Books]]","v":0},{"$f":"Table1[[#This Row],[QTY]]*Table1[[#This Row],[S&L Price]]","v":0}]
[null,null,44,"World's Longest-Living Animals",1,"80-Year-Old Elephants!","Library Bound Book",null,"978-1-4824-5613-4",{"$f":"HYPERLINK(\"https://www.garethstevens.com/\"&Table1[[#This Row],[ISBN]],\"Weblink\")","v":"Weblink"},2017,"January 2017","Library","7.000 X 7.000","Author","Leonard Atlantic","3.4","0.5",null,null,"H",null,"Grade 1 - 2","Grade 1 - 3","Elephants are smart animals often put in danger because of their large ivory tusks. Left alone, however, these amazing creatures can live for more than 80 years! Through innovative graphics and colorful photographs bringing the lives of these stunning animals into sharp focus, readers explore the differences between Asian and African elephants, their diets, and how they live their lives in different parts of the world.","English",22.6,16.95,"599.67--dc23","24 pp.",{"$f":"Table1[[#This Row],[QTY]]*Table1[[#This Row],['# Books]]","v":0},{"$f":"Table1[[#This Row],[QTY]]*Table1[[#This Row],[S&L Price]]","v":0}]
[null,null,45,"Backyard Biomes",1,"There Are Grasslands in My Backyard!","Library Bound Book",null,"978-1-4824-5553-3",{"$f":"HYPERLINK(\"https://www.garethstevens.com/\"&Table1[[#This Row],[ISBN]],\"Weblink\")","v":"Weblink"},2017,"January 2017","Library","7.000 X 7.000","Author","Walter LaPlante","3.5","0.5",null,null,"H",null,"Grade 1 - 2","Grade 1 - 3","In North America, grasslands are called the “prairie.” In South America, they’re called the “pampas.” Whatever they’re called, grasslands are a vibrant biome! Readers are introduced to grasslands through their unique features, climate, and the plants and animals that live there. With information on both tropical and temperate grasslands, the main content includes themes of conservation and ecosystem balance. Full-color photographs supplement the science content with examples of grasslands from around the world. Accessible language makes this book a perfect supplement to classroom learning about biomes.","English",22.6,16.95,"578.75/54--dc23","24 pp.",{"$f":"Table1[[#This Row],[QTY]]*Table1[[#This Row],['# Books]]","v":0},{"$f":"Table1[[#This Row],[QTY]]*Table1[[#This Row],[S&L Price]]","v":0}]
[null,null,45,"Backyard Biomes",1,"There's a Forest in My Backyard!","eBook",null,"978-1-4824-5562-5",{"$f":"HYPERLINK(\"https://www.garethstevens.com/\"&Table1[[#This Row],[ISBN]],\"Weblink\")","v":"Weblink"},2017,"January 2017",null,null,"Author","Walter LaPlante","3","0.5",null,null,"H",null,"Grade 1 - 2","Grade 1 - 3","Many people around the world live in the forest biome. That’s because temperate forests grow in places where winter isn’t too cold and summer isn’t too hot. Readers learn that we need to care for this biome that’s in so many backyards. Simple, accessible language describes common trees and characteristics of both evergreen and deciduous forests, and full-color photographs highlight their beauty. Animals and their adaptations to this biome are addressed in the main content as well.","English",22.6,16.95,"577.3--dc23","24 pp.",{"$f":"Table1[[#This Row],[QTY]]*Table1[[#This Row],['# Books]]","v":0},{"$f":"Table1[[#This Row],[QTY]]*Table1[[#This Row],[S&L Price]]","v":0}]
[null,null,45,"Backyard Biomes",1,"There's an Ocean in My Backyard!","Library Bound Book",null,"978-1-4824-5569-4",{"$f":"HYPERLINK(\"https://www.garethstevens.com/\"&Table1[[#This Row],[ISBN]],\"Weblink\")","v":"Weblink"},2017,"January 2017","Library","7.000 X 7.000","Author","Seth Lynch","3.3","0.5",null,null,"H",null,"Grade 1 - 2","Grade 1 - 3","The ocean covers about 70 percent of Earth. That makes it the planet’s largest biome! With millions of species of plants and animals living in it, this biome needs special care as climate change affects Earth. Readers learn about the five named oceans and where they are on a simple map. Important concepts from the science curriculum are introduced in age-appropriate language, including food webs, animal adaptations, and conservation. Full-color photographs of ocean life further emphasize the diversity and interconnectedness of the ocean biome.","English",22.6,16.95,"577.7’22--dc23","24 pp.",{"$f":"Table1[[#This Row],[QTY]]*Table1[[#This Row],['# Books]]","v":0},{"$f":"Table1[[#This Row],[QTY]]*Table1[[#This Row],[S&L Price]]","v":0}]
[null,null,45,"Backyard Biomes",1,"There's an Ocean in My Backyard!","eBook",null,"978-1-4824-5570-0",{"$f":"HYPERLINK(\"https://www.garethstevens.com/\"&Table1[[#This Row],[ISBN]],\"Weblink\")","v":"Weblink"},2017,"January 2017",null,null,"Author","Seth Lynch","3.3","0.5",null,null,"H",null,"Grade 1 - 2","Grade 1 - 3","The ocean covers about 70 percent of Earth. That makes it the planet’s largest biome! With millions of species of plants and animals living in it, this biome needs special care as climate change affects Earth. Readers learn about the five named oceans and where they are on a simple map. Important concepts from the science curriculum are introduced in age-appropriate language, including food webs, animal adaptations, and conservation. Full-color photographs of ocean life further emphasize the diversity and interconnectedness of the ocean biome.","English",22.6,16.95,"577.7’22--dc23","24 pp.",{"$f":"Table1[[#This Row],[QTY]]*Table1[[#This Row],['# Books]]","v":0},{"$f":"Table1[[#This Row],[QTY]]*Table1[[#This Row],[S&L Price]]","v":0}]
[null,null,45,"Guess That Animal!",1,"Name That Bug!","Library Bound Book",null,"978-1-4824-4744-6",{"$f":"HYPERLINK(\"https://www.garethstevens.com/\"&Table1[[#This Row],[ISBN]],\"Weblink\")","v":"Weblink"},2017,"August 2016","Library","7.000 X 7.000","Author","Demi Jackson","2.7","0.5",null,null,"H","560L","Grade 1 - 2","Grade 1 - 3","One of the easiest ways to tell what animal group a bug belongs in is to count its legs. However, there are many other interesting bug body parts that give clues as to what kind of living thing it is. Readers learn all about insects and arachnids in a fun format in which they’re shown a close-up photograph and given a few facts about the pictured creature. The answer is revealed on the following pages. Wings, legs, mouths, and exoskeletons are shown in full-color and complemented by science text hinting at what awaits readers when they turn the page!","English",22.6,16.95,"595.7--dc23","24 pp.",{"$f":"Table1[[#This Row],[QTY]]*Table1[[#This Row],['# Books]]","v":0},{"$f":"Table1[[#This Row],[QTY]]*Table1[[#This Row],[S&L Price]]","v":0}]
[null,null,45,"Guess That Animal!",1,"Name That Fish!","eBook",null,"978-1-4824-4731-6",{"$f":"HYPERLINK(\"https://www.garethstevens.com/\"&Table1[[#This Row],[ISBN]],\"Weblink\")","v":"Weblink"},2017,"August 2016",null,null,"Author","Santana Hunt","2.8","0.5",null,null,"H","580L","Grade 1 - 2","Grade 1 - 3","Fish come in all shapes, sizes, and colors. Their fins are uniquely shaped for what kind of swimming they do, and other body parts are adapted to shallow water habitats or life deep in the ocean. Through hints and close-up photographs of one feature of a fish, readers are introduced to many kinds of fish from all over the world. All they need to do is turn the page to find out which fish it is! Full-color photographs highlight the amazing marine environments fish are found in as well as the special parts of each species.","English",22.6,16.95,"597--dc23","24 pp.",{"$f":"Table1[[#This Row],[QTY]]*Table1[[#This Row],['# Books]]","v":0},{"$f":"Table1[[#This Row],[QTY]]*Table1[[#This Row],[S&L Price]]","v":0}]
[null,null,46,"Let's Get a Pet!",6,"Let's Get a Pet!","Library Set",null,"978-1-5382-0200-5",{"$f":"HYPERLINK(\"https://www.garethstevens.com/\"&Table1[[#This Row],[ISBN]],\"Weblink\")","v":"Weblink"},2018,"August 2017","Library","7.000 X 7.000",null,null,null,null,null,null,null,null,"Grade 1 - 2","Grade 1 - 3","Having a pet is an exciting adventure! Young readers can learn about responsibility, science, and nature by having an animal in the home, or even have their curiosity sparked by a pet in a friend or family member’s home! This series will help readers understand and connect to their new little friend, whatever the kind—bird, bunny, cat, dog, fish, or hamster! They’ll also learn the essentials of pet care and the many rewards of pet ownership. Full-color photographs give life to the age-appropriate content for any young pet lover.","English",135.6,101.7,null,"24 pp.",{"$f":"Table1[[#This Row],[QTY]]*Table1[[#This Row],['# Books]]","v":0},{"$f":"Table1[[#This Row],[QTY]]*Table1[[#This Row],[S&L Price]]","v":0}]
[null,null,46,"Let's Get a Pet!",1,"My First Bird","Library Bound Book",null,"978-1-4824-6439-9",{"$f":"HYPERLINK(\"https://www.garethstevens.com/\"&Table1[[#This Row],[ISBN]],\"Weblink\")","v":"Weblink"},2018,"August 2017","Library","7.000 X 7.000","Author","Joan Stoltman","2.9","0.5",null,null,"H",null,"Grade 1 - 2","Grade 1 - 3","Getting a pet for the first time is so much fun, but also means new responsibilities. Birds are a popular pet to choose, especially if parents have prior experience. But how does a young reader learn bird care? With the help of this practical, helpful book! This volume provides everything a new bird owner needs to care for and bond with their new feathered friend! From bathing to whistling and everything in between, all the needs of a bird are communicated to young readers through fun facts, colorful graphic organizers, and concise step-by-step instructions. All that’s missing now is the bird!","English",22.6,16.95,"636.6’8--dc23","24 pp.",{"$f":"Table1[[#This Row],[QTY]]*Table1[[#This Row],['# Books]]","v":0},{"$f":"Table1[[#This Row],[QTY]]*Table1[[#This Row],[S&L Price]]","v":0}]
[null,null,46,"Let's Get a Pet!",1,"My First Cat","eBook",null,"978-1-4824-6448-1",{"$f":"HYPERLINK(\"https://www.garethstevens.com/\"&Table1[[#This Row],[ISBN]],\"Weblink\")","v":"Weblink"},2018,"August 2017",null,null,"Author","Joan Stoltman","2.9","0.5",null,null,"H",null,"Grade 1 - 2","Grade 1 - 3","Cats are commonly one of the first animals young readers will encounter in their lives, often in their own homes! Learning to care for, live with, and understand the needs of a cat requires guidance, and that’s where this essential book comes in! Easily understood, clear instructions and explanations of their food, sleep, play, and other needs are included in this book in practical, age-appropriate language. A full-color guide to popular cat breeds is included, as well as a fun and funny list of popular cat names!","English",22.6,16.95,"636.8--dc23","24 pp.",{"$f":"Table1[[#This Row],[QTY]]*Table1[[#This Row],['# Books]]","v":0},{"$f":"Table1[[#This Row],[QTY]]*Table1[[#This Row],[S&L Price]]","v":0}]
[null,null,46,"Let's Get a Pet!",1,"My First Hamster","Library Bound Book",null,"978-1-4824-6459-7",{"$f":"HYPERLINK(\"https://www.garethstevens.com/\"&Table1[[#This Row],[ISBN]],\"Weblink\")","v":"Weblink"},2018,"August 2017","Library","7.000 X 7.000","Author","Joan Stoltman","2.7","0.5",null,null,"H",null,"Grade 1 - 2","Grade 1 - 3","Having a classroom hamster is one thing, but having one at home as a pet requires young readers to have a more mature understanding of the rodent’s needs. This book provides information perfect to fill that gap. An essential guide for any library, this book gives concise, easy explanations of the needs of a hamster and how readers can meet them. Full-color photographs are paired with understandable, age-appropriate information and instructions on how to care for this new furry friend, including explanations of how it sleeps, eats, plays, and more!","English",22.6,16.95,"636.935--dc23","24 pp.",{"$f":"Table1[[#This Row],[QTY]]*Table1[[#This Row],['# Books]]","v":0},{"$f":"Table1[[#This Row],[QTY]]*Table1[[#This Row],[S&L Price]]","v":0}]
[null,null,46,"A Look at Dinosaurs",1,"Allosaurus","Library Bound Book",null,"978-1-4824-1818-7",{"$f":"HYPERLINK(\"https://www.garethstevens.com/\"&Table1[[#This Row],[ISBN]],\"Weblink\")","v":"Weblink"},2015,"January 2015","Library","7.000 X 7.000","Author","Nina Theresa","3.1","0.5",null,null,"J",null,"Grade 1 - 2","Grade 1 - 3","Allosaurus lived a long time ago, but scientists have learned a lot about how this creature lived and what it looked like. “Allosaurus” means “different lizard,” and this creature’s bones are different than those of other dinosaurs. Unlike some dinosaurs, it also lived all over the world. Readers will love exploring the prehistoric world of dinosaurs and find out just what’s so “different” about Allosaurus in this exciting book with amazing illustrations.","English",22.6,16.95,"567.912","24 pp.",{"$f":"Table1[[#This Row],[QTY]]*Table1[[#This Row],['# Books]]","v":0},{"$f":"Table1[[#This Row],[QTY]]*Table1[[#This Row],[S&L Price]]","v":0}]
[null,null,46,"A Look at Dinosaurs",1,"Diplodocus","Library Bound Book",null,"978-1-4824-1823-1",{"$f":"HYPERLINK(\"https://www.garethstevens.com/\"&Table1[[#This Row],[ISBN]],\"Weblink\")","v":"Weblink"},2015,"January 2015","Library","7.000 X 7.000","Author","Thomas George","3.2","0.5",null,null,"I",null,"Grade 1 - 2","Grade 1 - 3","Diplodocus may have called prehistoric North America home, but there’s not much about his world that’s similar to ours. Diplodocus, which means “double beam,” is named after its bones. It knew how to fight off predators with a tail whip that was moved at 800 miles per hour! These fascinating creatures lived interesting lives long ago, and readers will love learning about them with the help of fantastic illustrations that show us just what these animals looked like.","English",22.6,16.95,"567.913","24 pp.",{"$f":"Table1[[#This Row],[QTY]]*Table1[[#This Row],['# Books]]","v":0},{"$f":"Table1[[#This Row],[QTY]]*Table1[[#This Row],[S&L Price]]","v":0}]
[null,null,46,"A Look at Dinosaurs",1,"Triceratops","eBook",null,"978-1-4824-1832-3",{"$f":"HYPERLINK(\"https://www.garethstevens.com/\"&Table1[[#This Row],[ISBN]],\"Weblink\")","v":"Weblink"},2015,"January 2015",null,null,"Author","Daisy Allyn","3","0.5",null,null,"J",null,"Grade 1 - 2","Grade 1 - 3","Triceratops lived millions of years ago, but its distinctive “three-horned face” has made it a favorite dinosaur for many. Readers will love learning about this creature with the help of colorful illustrations that show how Triceratops lived and what it looked like among the fauna of prehistoric Earth. With a body 30 feet long and weighing as much as three cars, readers will explore the life and times of this fascinating prehistoric creature.","English",22.6,16.95,"567.9158","24 pp.",{"$f":"Table1[[#This Row],[QTY]]*Table1[[#This Row],['# Books]]","v":0},{"$f":"Table1[[#This Row],[QTY]]*Table1[[#This Row],[S&L Price]]","v":0}]
[null,null,47,"Animal Look-Alikes",6,"Animal Look-Alikes","Library Set",null,"978-1-4824-2544-4",{"$f":"HYPERLINK(\"https://www.garethstevens.com/\"&Table1[[#This Row],[ISBN]],\"Weblink\")","v":"Weblink"},2016,"August 2015","Library","7.000 X 7.000",null,null,null,null,null,null,null,null,"Grade 1 - 2","Grade 1 - 3","Lots of animals are easy to spot, but sometimes it can get a bit tricky. Readers will take a close look at similar-looking creatures and learn what makes each unique. Readers will dive into the sea and explore the differences between dolphins and porpoises as well as seals and sea lions. They’ll also explore the depths of the jungle and learn how to tell a jaguar and leopard apart with the help of vibrant photographs that show every detail of these amazing animals.\r\n\r\n•\tAccessible graphics and charts show differences between animals\r\n•\tHigh-interest subjects address topics of the elementary life science curriculum\r\n• \tComprehension of science texts is a benchmark of the Common Core Standards\r\n","English",135.6,101.7,null,"24 pp.",{"$f":"Table1[[#This Row],[QTY]]*Table1[[#This Row],['# Books]]","v":0},{"$f":"Table1[[#This Row],[QTY]]*Table1[[#This Row],[S&L Price]]","v":0}]
[null,null,47,"Animal Look-Alikes",1,"Frog or Toad?","Library Bound Book",null,"978-1-4824-2718-9",{"$f":"HYPERLINK(\"https://www.garethstevens.com/\"&Table1[[#This Row],[ISBN]],\"Weblink\")","v":"Weblink"},2016,"August 2015","Library","7.000 X 7.000","Author","Rob Ryndak","3","0.5",null,null,"I","640L","Grade 1 - 2","Grade 1 - 3","Frogs and toads are some of the most confusing amphibians to classify. From poisonous skin and bulging eyes to their amazing life cycles, readers learn these creatures are as interesting to study as they're difficult to categorize.","English",22.6,16.95,"597.8--dc23","24 pp.",{"$f":"Table1[[#This Row],[QTY]]*Table1[[#This Row],['# Books]]","v":0},{"$f":"Table1[[#This Row],[QTY]]*Table1[[#This Row],[S&L Price]]","v":0}]
[null,null,47,"Animal Look-Alikes",1,"Frog or Toad?","eBook",null,"978-1-4824-2719-6",{"$f":"HYPERLINK(\"https://www.garethstevens.com/\"&Table1[[#This Row],[ISBN]],\"Weblink\")","v":"Weblink"},2016,"August 2015",null,null,"Author","Rob Ryndak","3","0.5",null,null,"I","640L","Grade 1 - 2","Grade 1 - 3","Frogs and toads are some of the most confusing amphibians to classify. From poisonous skin and bulging eyes to their amazing life cycles, readers learn these creatures are as interesting to study as they're difficult to categorize.","English",22.6,16.95,"597.8--dc23","24 pp.",{"$f":"Table1[[#This Row],[QTY]]*Table1[[#This Row],['# Books]]","v":0},{"$f":"Table1[[#This Row],[QTY]]*Table1[[#This Row],[S&L Price]]","v":0}]
[null,null,47,"Animal Look-Alikes",1,"Turtle or Tortoise?","Library Bound Book",null,"978-1-4824-2730-1",{"$f":"HYPERLINK(\"https://www.garethstevens.com/\"&Table1[[#This Row],[ISBN]],\"Weblink\")","v":"Weblink"},2016,"August 2015","Library","7.000 X 7.000","Author","Rob Ryndak","3.2","0.5",null,null,"J","560L","Grade 1 - 2","Grade 1 - 3","Both turtles and tortoises have shells and move pretty slowly. So what makes them different? Where to terrapins fit in? There’s much more going on with these amazing creatures than just carapaces and plastrons. From their family ties and foot size to their habitats, these animals look, live, and even eat differently. Some of these awesome animals can live for centuries. Readers will discover which of these reptiles can survive hundreds of years longer than humans, along with a host of other fun facts. Vivid photographs of turtles and tortoises in their natural habitat add further fascination for readers ready to tackle the differences between these two reptiles.","English",22.6,16.95,"597.92--dc23","24 pp.",{"$f":"Table1[[#This Row],[QTY]]*Table1[[#This Row],['# Books]]","v":0},{"$f":"Table1[[#This Row],[QTY]]*Table1[[#This Row],[S&L Price]]","v":0}]
[null,null,48,"Little Biographies of Big People",1,"Beethoven","Library Bound Book",null,"978-1-5382-2892-0",{"$f":"HYPERLINK(\"https://www.garethstevens.com/\"&Table1[[#This Row],[ISBN]],\"Weblink\")","v":"Weblink"},2019,"January 2019","Library","7.000 X 7.000","Author","Joan Stoltman","3.4","0.5",null,null,"I",null,"Grade 1 - 2","Grade 1 - 3","If you ask people to name an amazing musical composer, chances are Beethoven's name will come up. Widely thought to be the greatest composer in history, Beethoven's work influenced music around the world. This exciting volume teaches readers the fascinating story behind his life, and includes colorful images and engaging text to capture and hold their attention. This high-interest biography is sure to encourage an interest in both music and history, making for an excellent addition to any library.","English",22.6,16.95,"780.92--dc23","24 pp.",{"$f":"Table1[[#This Row],[QTY]]*Table1[[#This Row],['# Books]]","v":0},{"$f":"Table1[[#This Row],[QTY]]*Table1[[#This Row],[S&L Price]]","v":0}]
[null,null,48,"Little Biographies of Big People",1,"Jane Goodall","eBook",null,"978-1-5382-2993-4",{"$f":"HYPERLINK(\"https://www.garethstevens.com/\"&Table1[[#This Row],[ISBN]],\"Weblink\")","v":"Weblink"},2019,"January 2019",null,null,"Author","Joan Stoltman","3.6","0.5",null,null,"I",null,"Grade 1 - 2","Grade 1 - 3","Jane Goodall's work studying chimpanzees changed the way these animals are seen and understood by the world. With the help of this informative book, readers can catch a glimpse into the scientist's extraordinary life and career. The colorful design features photographs and closely correlated, age-appropriate text, ensuring an accurate understanding of the book's key concepts and ideas. Readers of this biography will not only learn about Goodall's incredible life, but about animals, nature, and other aspects of science as a whole.","English",22.6,16.95,"590.92--dc23","24 pp.",{"$f":"Table1[[#This Row],[QTY]]*Table1[[#This Row],['# Books]]","v":0},{"$f":"Table1[[#This Row],[QTY]]*Table1[[#This Row],[S&L Price]]","v":0}]
[null,null,48,"Little Biographies of Big People",1,"Malala Yousafzai","Library Bound Book",null,"978-1-5382-2894-4",{"$f":"HYPERLINK(\"https://www.garethstevens.com/\"&Table1[[#This Row],[ISBN]],\"Weblink\")","v":"Weblink"},2019,"January 2019","Library","7.000 X 7.000","Author","Joan Stoltman","3.7","0.5",null,null,"I",null,"Grade 1 - 2","Grade 1 - 3","Young activist Malala Yousafzai's courageous story has inspired many people around the world. As a teenager, she fought for the education rights of girls, survived an assassination attempt, and was awarded the Nobel Peace Prize. This captivating volume introduces young readers to Yousafzai's amazing journey and work. Vibrant photographs are paired with age-appropriate text, making for an accessible, high-interest book. This fascinating biography will engage readers of many ages and levels, and encourage them to learn more about the world.","English",22.6,16.95,"371.822095491--dc23","24 pp.",{"$f":"Table1[[#This Row],[QTY]]*Table1[[#This Row],['# Books]]","v":0},{"$f":"Table1[[#This Row],[QTY]]*Table1[[#This Row],[S&L Price]]","v":0}]
[null,null,48,"Little Biographies of Big People",1,"Thomas Edison","eBook",null,"978-1-5382-2989-7",{"$f":"HYPERLINK(\"https://www.garethstevens.com/\"&Table1[[#This Row],[ISBN]],\"Weblink\")","v":"Weblink"},2019,"January 2019",null,null,"Author","Joan Stoltman","3.6","0.5",null,null,"I",null,"Grade 1 - 2","Grade 1 - 3","Thomas Edison is considered by many to be one of the greatest inventors of all time. His creations changed the world, but there was more to his life than just his inventions. Readers of this engaging volume will learn all about the man behind the innovations. This fascinating biography introduces important subjects and encourages a further interest in history. Concise and accessible text paired with vibrant photographs is sure to captivate audiences of many ages and levels.","English",22.6,16.95,"621.3'092--dc23","24 pp.",{"$f":"Table1[[#This Row],[QTY]]*Table1[[#This Row],['# Books]]","v":0},{"$f":"Table1[[#This Row],[QTY]]*Table1[[#This Row],[S&L Price]]","v":0}]
[null,null,49,"Little Biographies of Big People",1,"Elizabeth Cady Stanton","Library Bound Book",null,"978-1-5382-1836-5",{"$f":"HYPERLINK(\"https://www.garethstevens.com/\"&Table1[[#This Row],[ISBN]],\"Weblink\")","v":"Weblink"},2019,"August 2018","Library","7.000 X 7.000","Author","Joan Stoltman","3.6","0.5",18,null,"J",null,"Grade 1 - 2","Grade 1 - 3","Elizabeth Cady Stanton was one of the most influential leaders of the women's rights movement of the 19th century. From her work for the women's rights convention of 1848 and friendship with Susan B. Anthony to her connection with the antislavery movement, her life story brings an important social movement and part of world history into detailed focus. Interesting photographs and quotes from her writing and speaking further enhance the reading experience for young readers.","English",22.6,16.95,"305.42092--dc23","24 pp.",{"$f":"Table1[[#This Row],[QTY]]*Table1[[#This Row],['# Books]]","v":0},{"$f":"Table1[[#This Row],[QTY]]*Table1[[#This Row],[S&L Price]]","v":0}]
[null,null,49,"Little Biographies of Big People",1,"Jim Henson","eBook",null,"978-1-5382-1848-8",{"$f":"HYPERLINK(\"https://www.garethstevens.com/\"&Table1[[#This Row],[ISBN]],\"Weblink\")","v":"Weblink"},2019,"August 2018",null,null,"Author","Joan Stoltman","3.2","0.5",14,null,"H",null,"Grade 1 - 2","Grade 1 - 3","Young readers finally have an opportunity to hear the story of the man behind Kermit the Frog, Yoda, Big Bird, and many other timeless, world famous puppet sensations. The life of Jim Henson is the story of a singular, remarkable artist with a vision, drive, and passion to educate. Through captivating photography, quotes from the man himself, and focused, age-appropriate language, readers have the chance to learn this modern television success story and be motivated and inspired to explore their own artistic voice and vision.","English",22.6,16.95,"791.5/3092--dc23","24 pp.",{"$f":"Table1[[#This Row],[QTY]]*Table1[[#This Row],['# Books]]","v":0},{"$f":"Table1[[#This Row],[QTY]]*Table1[[#This Row],[S&L Price]]","v":0}]
[null,null,49,"Little Biographies of Big People",1,"Mohandas Gandhi","Library Bound Book",null,"978-1-5382-1851-8",{"$f":"HYPERLINK(\"https://www.garethstevens.com/\"&Table1[[#This Row],[ISBN]],\"Weblink\")","v":"Weblink"},2019,"August 2018","Library","7.000 X 7.000","Author","Joan Stoltman","3.6","0.5",18,null,"J",null,"Grade 1 - 2","Grade 1 - 3","The story of Mohandas Gandhi is as topical, vital, and necessary a teaching opportunity today as it was when it was an integral part of current events and not a story in history. This volume, dedicated to passing on the story of Gandhi's words, work, and life to young readers, provides educators with an essential tool to teach social justice, human rights, and how to stand up for your convictions through age-appropriate language and explanation of concepts. This inspiring biography follows Gandhi's journey from humble beginnings to becoming one of the most important activists of all time.","English",22.6,16.95,"954.03/5092--dc23","24 pp.",{"$f":"Table1[[#This Row],[QTY]]*Table1[[#This Row],['# Books]]","v":0},{"$f":"Table1[[#This Row],[QTY]]*Table1[[#This Row],[S&L Price]]","v":0}]
[null,null,49,"Little Biographies of Big People",1,"Harriet Tubman","Library Bound Book",null,"978-1-5382-0925-7",{"$f":"HYPERLINK(\"https://www.garethstevens.com/\"&Table1[[#This Row],[ISBN]],\"Weblink\")","v":"Weblink"},2018,"January 2018","Library","7.000 X 7.000","Author","Joan Stoltman","3.5","0.5",null,null,"H",null,"Grade 1 - 2","Grade 1 - 3","Of course, Harriet Tubman is a women whose story every young reader would benefit from learning about, but where are the books that tell her life story in an accessible, captivating way with age-appropriate language for young readers? Finally, here’s a book that explores her childhood, life, cause, and work in a way that gives perspective, introduces weighty topics, and facilitates further exploration of America’s history, all for early elementary readers. This volume captures readers in the story of one inspiring, notable, remarkable life, giving social studies and history curriculums a chance to excite, interest, and motivate readers to initiate a lifelong quest of learning.","English",22.6,16.95,"326/.8092--dc23","24 pp.",{"$f":"Table1[[#This Row],[QTY]]*Table1[[#This Row],['# Books]]","v":0},{"$f":"Table1[[#This Row],[QTY]]*Table1[[#This Row],[S&L Price]]","v":0}]
[null,null,49,"Little Biographies of Big People",1,"Michelle Obama","eBook",null,"978-1-5382-0932-5",{"$f":"HYPERLINK(\"https://www.garethstevens.com/\"&Table1[[#This Row],[ISBN]],\"Weblink\")","v":"Weblink"},2018,"January 2018",null,null,"Author","Joan Stoltman","3.4","0.5",null,null,"H",null,"Grade 1 - 2","Grade 1 - 3","Michelle Obama is easily recognizable to young readers, but has had a life few children have had the chance to learn about. This topical, engaging volume brings the story of an incredibly intelligent, motivated, deeply dedicated person to vivid life. Young readers will easily engage in Michelle Obama’s life through the meticulously uncomplicated, age-appropriate language and explanation of concepts provided throughout this inspiring story. This highly requested biography is sure to be a quick hit in any collection, educating and inspiring readers to achieve their maximum potential.","English",22.6,16.95,"973.932092--dc23","24 pp.",{"$f":"Table1[[#This Row],[QTY]]*Table1[[#This Row],['# Books]]","v":0},{"$f":"Table1[[#This Row],[QTY]]*Table1[[#This Row],[S&L Price]]","v":0}]
[null,null,50,"Sports MVPs",6,"Sports MVPs","Library Set",null,"978-1-4824-4521-3",{"$f":"HYPERLINK(\"https://www.garethstevens.com/\"&Table1[[#This Row],[ISBN]],\"Weblink\")","v":"Weblink"},2017,"August 2016","Library","7.000 X 7.000",null,null,null,null,null,null,null,null,"Grade 1 - 2","Grade 1 - 3","Today’s most exciting athletes dominate their respective fields. Whether taking the court, the field, or hitting the slopes, athletes make the extraordinary seem ordinary when they top the competition. This series takes a look at the lives of today’s greatest athletes from Serena Williams’s dominance of women’s tennis to the amazing goals and great on-ice moments of Sidney Crosby. Chronicling the amazing careers of star athletes, this series takes readers inside their favorite sports.","English",135.6,101.7,null,"24 pp.",{"$f":"Table1[[#This Row],[QTY]]*Table1[[#This Row],['# Books]]","v":0},{"$f":"Table1[[#This Row],[QTY]]*Table1[[#This Row],[S&L Price]]","v":0}]
[null,null,50,"Sports MVPs",1,"Aaron Rodgers","Library Bound Book",null,"978-1-4824-4967-9",{"$f":"HYPERLINK(\"https://www.garethstevens.com/\"&Table1[[#This Row],[ISBN]],\"Weblink\")","v":"Weblink"},2017,"August 2016","Library","7.000 X 7.000","Author","Ryan Nagelhout","3.3","0.5",null,null,"J",null,"Grade 1 - 2","Grade 1 - 3","Aaron Rodgers went from a small college in California to being named most valuable player in the Super Bowl! This quarterback’s amazing rise to become one of the top quarterbacks in the National Football League is one of the most exciting stories in sports. Rodgers excels on the field for the Green Bay Packers, making amazing throws and leading his team to glory while also helping those less fortunate than him. Truly one of the greats of the game, this book shows that Rodgers’ trophy case is as impressive as his abilities on the field.","English",22.6,16.95,"796.332092--dc23","24 pp.",{"$f":"Table1[[#This Row],[QTY]]*Table1[[#This Row],['# Books]]","v":0},{"$f":"Table1[[#This Row],[QTY]]*Table1[[#This Row],[S&L Price]]","v":0}]
[null,null,50,"Sports MVPs",1,"LeBron James","eBook",null,"978-1-4824-4635-7",{"$f":"HYPERLINK(\"https://www.garethstevens.com/\"&Table1[[#This Row],[ISBN]],\"Weblink\")","v":"Weblink"},2017,"August 2016",null,null,"Author","Ryan Nagelhout","3.1","0.5",null,null,"J",null,"Grade 1 - 2","Grade 1 - 3","LeBron James joined the NBA out of high school and was immediately one of the most exciting players in basketball. His fascinating career has been full of titles and individual awards, from the NBA’s most valuable player to Olympic gold medals and even NBA titles. This superstar’s career from Cleveland to Miami and back to his hometown Cavaliers has captivated sports fans, and this book chronicles the latest in King James’ illustrious career. Readers will love learning more about LeBron and what makes him special both on and off the court.","English",22.6,16.95,"796.323092--dc23","24 pp.",{"$f":"Table1[[#This Row],[QTY]]*Table1[[#This Row],['# Books]]","v":0},{"$f":"Table1[[#This Row],[QTY]]*Table1[[#This Row],[S&L Price]]","v":0}]
[null,null,50,"Sports MVPs",1,"Sidney Crosby","Library Bound Book",null,"978-1-4824-4643-2",{"$f":"HYPERLINK(\"https://www.garethstevens.com/\"&Table1[[#This Row],[ISBN]],\"Weblink\")","v":"Weblink"},2017,"August 2016","Library","7.000 X 7.000","Author","Ryan Nagelhout","3.7","0.5",null,null,"J",null,"Grade 1 - 2","Grade 1 - 3","Sidney Crosby is a living hockey legend. A superstar for the Pittsburgh Penguins, Crosby is a Stanley Cup Champion and a Canadian Olympic hero. Sid the Kid’s career has featured big goals, serious injuries, and even bigger moments. This book takes a look at some big events in Crosby’s life, from his time playing junior hockey in Canada to draft day and playoff glory with the Penguins, and gives readers a look inside the trophy case of one of the most exciting athletes on the planet.","English",22.6,16.95,"796.962092--dc23","24 pp.",{"$f":"Table1[[#This Row],[QTY]]*Table1[[#This Row],['# Books]]","v":0},{"$f":"Table1[[#This Row],[QTY]]*Table1[[#This Row],[S&L Price]]","v":0}]
[null,null,50,"Famous Lives",1,"The Life of Clara Barton","eBook",null,"978-1-4824-0376-3",{"$f":"HYPERLINK(\"https://www.garethstevens.com/\"&Table1[[#This Row],[ISBN]],\"Weblink\")","v":"Weblink"},2014,"January 2014",null,null,"Author","Kathleen Connors","3.1","0.5",16,15,"I",null,"Grade 1 - 2","Grade 1 - 4","Clara Barton made a difference in the lives of many wounded soldiers during the American Civil War. She not only cared for them in hospitals, but also helped families identify those who died or went missing during battle. As founder of the American Red Cross, Clara Barton’s life continues to affect the United States for the better. Readers will find her story engaging and inspiring. Historical images enhance accessible social studies content and language, while a timeline aids readers in biographical understanding.","English",23.6,17.7,"361.7634","24 pp.",{"$f":"Table1[[#This Row],[QTY]]*Table1[[#This Row],['# Books]]","v":0},{"$f":"Table1[[#This Row],[QTY]]*Table1[[#This Row],[S&L Price]]","v":0}]
[null,null,50,"Famous Lives",1,"The Life of Clara Barton","Interactive eBook","Flash","978-1-4824-0377-0",{"$f":"HYPERLINK(\"https://www.garethstevens.com/\"&Table1[[#This Row],[ISBN]],\"Weblink\")","v":"Weblink"},2014,"January 2014",null,null,"Author","Kathleen Connors","3.1","0.5",16,15,"I",null,"Grade 1 - 2","Grade 1 - 4","Clara Barton made a difference in the lives of many wounded soldiers during the American Civil War. She not only cared for them in hospitals, but also helped families identify those who died or went missing during battle. As founder of the American Red Cross, Clara Barton’s life continues to affect the United States for the better. Readers will find her story engaging and inspiring. Historical images enhance accessible social studies content and language, while a timeline aids readers in biographical understanding.","English",33.25,24.95,"361.7634","24 pp.",{"$f":"Table1[[#This Row],[QTY]]*Table1[[#This Row],['# Books]]","v":0},{"$f":"Table1[[#This Row],[QTY]]*Table1[[#This Row],[S&L Price]]","v":0}]
[null,null,50,"Famous Lives",1,"The Life of Florence Nightingale","eBook",null,"978-1-4824-0406-7",{"$f":"HYPERLINK(\"https://www.garethstevens.com/\"&Table1[[#This Row],[ISBN]],\"Weblink\")","v":"Weblink"},2014,"January 2014",null,null,"Author","Kathleen Connors","3.5","0.5",16,15,"I",null,"Grade 1 - 2","Grade 1 - 4","Florence Nightingale’s parents believed the nursing profession was beneath her, but she felt a calling to help the sick. By the end of her life, Florence had bettered nurses’ training around the world and elevated nursing to a noble pursuit for women of all social classes. Including social studies information and a helpful timeline, the biography of Florence Nightingale will engage readers in a world very different from their own. Historical images immerse them in Victorian England and the hospital wards so marked by the good work of the “lady with the lamp.”","English",23.6,17.7,"610.73092","24 pp.",{"$f":"Table1[[#This Row],[QTY]]*Table1[[#This Row],['# Books]]","v":0},{"$f":"Table1[[#This Row],[QTY]]*Table1[[#This Row],[S&L Price]]","v":0}]
[null,null,50,"Famous Lives",1,"The Life of Rosa Parks","Library Bound Book",null,"978-1-4824-0419-7",{"$f":"HYPERLINK(\"https://www.garethstevens.com/\"&Table1[[#This Row],[ISBN]],\"Weblink\")","v":"Weblink"},2014,"January 2014","Library","7.000 X 7.000","Author","Kathleen Connors","3.2","0.5",14,15,"I",null,"Grade 1 - 2","Grade 1 - 4","Known as the \"mother of the civil rights movement,\" Rosa Parks took a small stance that made a big impact. Just by sitting in a bus seat, she inspired thousands of black Americans to boycott buses altogether. Readers will be introduced to Rosa Parks and the civil rights movement through the details of her biography and the great change brought about by her actions. Historical photographs engage readers further, transporting them back to one of the most troubling times in American history, and a helpful timeline summarizes important events in Rosa's life.","English",23.6,17.7,"323.092--dc23","24 pp.",{"$f":"Table1[[#This Row],[QTY]]*Table1[[#This Row],['# Books]]","v":0},{"$f":"Table1[[#This Row],[QTY]]*Table1[[#This Row],[S&L Price]]","v":0}]
[null,null,50,"Famous Lives",1,"The Life of Susan B. Anthony","Interactive eBook","Flash","978-1-4824-0427-2",{"$f":"HYPERLINK(\"https://www.garethstevens.com/\"&Table1[[#This Row],[ISBN]],\"Weblink\")","v":"Weblink"},2014,"January 2014",null,null,"Author","Kathleen Connors","3.4","0.5",16,15,"I","740L","Grade 1 - 2","Grade 1 - 4","Perhaps the best-known suffragist in US history, Susan B. Anthony was a great believer in equal rights for all. She grew up in an abolitionist family and carried those teachings throughout her life, advocating for equal labor laws, education, and, of course, women’s right to vote. The details of Susan B. Anthony’s incredible biography will fascinate readers as they also learn about the time period in which she lived. Historical images will immerse them in the world of the late 1800s, when women didn’t yet have a voice in our government.","English",33.25,24.95,"305.42","24 pp.",{"$f":"Table1[[#This Row],[QTY]]*Table1[[#This Row],['# Books]]","v":0},{"$f":"Table1[[#This Row],[QTY]]*Table1[[#This Row],[S&L Price]]","v":0}]
[null,null,50,"Famous Lives",1,"The Life of Abigail Adams","Library Bound Book",null,"978-1-4339-6337-7",{"$f":"HYPERLINK(\"https://www.garethstevens.com/\"&Table1[[#This Row],[ISBN]],\"Weblink\")","v":"Weblink"},2012,"January 2012","Library","7.000 X 7.000","Author","Maria Nelson","2.9","0.5",24,20,"H","580L","Grade 1 - 2","Grade 1 - 4","Inspirational Abigail Adams was married to one of the first American presidents. Her son was also president of the United States. Readers will appreciate this influential woman from early American history. Loaded with historic images, a timeline, and achievable content, this biography will engage those starting to learn about the excitement surrounding the founding of the United States.","English",23.6,17.7,"973.4--dc23","24 pp.",{"$f":"Table1[[#This Row],[QTY]]*Table1[[#This Row],['# Books]]","v":0},{"$f":"Table1[[#This Row],[QTY]]*Table1[[#This Row],[S&L Price]]","v":0}]
[null,null,50,"Famous Lives",1,"The Life of Ben Franklin","eBook",null,"978-1-4339-6346-9",{"$f":"HYPERLINK(\"https://www.garethstevens.com/\"&Table1[[#This Row],[ISBN]],\"Weblink\")","v":"Weblink"},2012,"January 2012",null,null,"Author","Maria Nelson","2.5","0.5",20,20,"H","470L","Grade 1 - 2","Grade 1 - 4","Ben Franklin greatly influenced all Americans with his work as a diplomat, scientist, and inventor. He signed both the Declaration of Independence and the US Constitution. In this book, interesting biographical information written in accessible language will introduce beginning readers to one of the most famous Founding Fathers. Fascinating images of Franklin through his life and a helpful timeline of key events will connect young historians to his life and work.","English",23.6,17.7,"973.3092","24 pp.",{"$f":"Table1[[#This Row],[QTY]]*Table1[[#This Row],['# Books]]","v":0},{"$f":"Table1[[#This Row],[QTY]]*Table1[[#This Row],[S&L Price]]","v":0}]
[null,null,50,"Famous Lives",1,"The Life of Sacagawea","Library Bound Book",null,"978-1-4339-6357-5",{"$f":"HYPERLINK(\"https://www.garethstevens.com/\"&Table1[[#This Row],[ISBN]],\"Weblink\")","v":"Weblink"},2012,"January 2012","Library","7.000 X 7.000","Author","Maria Nelson","2.8","0.5",24,20,"H","690L","Grade 1 - 2","Grade 1 - 4","The gold dollar coin bears the image of one of the most famous Native Americans in U.S. history; Sacagawea. Though much of her life remains a mystery, this book explores the story of this extraordinary woman who helped Lewis and Clark explore the American West. Age-appropriate language and content will help beginning readers understand this fascinating time in American history and introduce them to Sacagawea's captivating story. Exciting photographs help draw readers in, and a timeline of important events will reinforce what they've learned.","English",23.6,17.7,"978.04","24 pp.",{"$f":"Table1[[#This Row],[QTY]]*Table1[[#This Row],['# Books]]","v":0},{"$f":"Table1[[#This Row],[QTY]]*Table1[[#This Row],[S&L Price]]","v":0}]
[null,null,51,"Wonderful World of Words",1,"Let's Learn Adjectives!","eBook",null,"978-1-5382-1880-8",{"$f":"HYPERLINK(\"https://www.garethstevens.com/\"&Table1[[#This Row],[ISBN]],\"Weblink\")","v":"Weblink"},2019,"August 2018",null,null,"Author","Kate Mikoley",null,null,null,null,"I",null,"Grade 1 - 2","Grade 1 - 3","Adjectives can make sentences more fun. They describe nouns and can make the things we say and read seem clearer. Readers of this engaging volume will learn why talking about \"the blue house\" can be more helpful than just talking about \"the house.\" Through the use of helpful exercises, readers will gain skills that support important language arts curricula. Vibrant photographs correlate closely with the book's text and aid in the understanding of key concepts that can be central to a student's success.","English",22.6,16.95,"425/.5--dc23","24 pp.",{"$f":"Table1[[#This Row],[QTY]]*Table1[[#This Row],['# Books]]","v":0},{"$f":"Table1[[#This Row],[QTY]]*Table1[[#This Row],[S&L Price]]","v":0}]
[null,null,51,"Wonderful World of Words",1,"Let's Learn Adverbs!","Library Bound Book",null,"978-1-5382-1883-9",{"$f":"HYPERLINK(\"https://www.garethstevens.com/\"&Table1[[#This Row],[ISBN]],\"Weblink\")","v":"Weblink"},2019,"August 2018","Library","7.000 X 7.000","Author","Kate Mikoley",null,null,null,null,"I",null,"Grade 1 - 2","Grade 1 - 3","Adverbs bring excitement and life to sentences that otherwise may be boring. With the help of this informative book, readers learn why words such as \"quickly\" and \"happily\" can make sentences more exciting, but also more coherent. Readers also learn that some words can be adverbs in one sentence, but adjectives in another. Close picture-text correlation supports the understanding of key language arts concepts. Useful and relatable exercises engage readers and reinforce important topics.","English",22.6,16.95,"428.2'4--dc23","24 pp.",{"$f":"Table1[[#This Row],[QTY]]*Table1[[#This Row],['# Books]]","v":0},{"$f":"Table1[[#This Row],[QTY]]*Table1[[#This Row],[S&L Price]]","v":0}]
[null,null,51,"Wonderful World of Words",1,"Let's Learn Pronouns!","eBook",null,"978-1-5382-1892-1",{"$f":"HYPERLINK(\"https://www.garethstevens.com/\"&Table1[[#This Row],[ISBN]],\"Weblink\")","v":"Weblink"},2019,"August 2018",null,null,"Author","Kate Mikoley",null,null,null,null,"I",null,"Grade 1 - 2","Grade 1 - 3","Most young readers likely already use pronouns every day, but they may not realize it. With the help of this stimulating volume, readers will learn that pronouns are words that take the place of nouns. Clever exercises and questions help them understand why these words are important in their own speech and writing. Accessible text is closely related to colorful photographs and helps support the understanding of age-appropriate elementary curricula. This engaging book brings excitement and fun to key language arts concepts.","English",22.6,16.95,"428.2--dc23","24 pp.",{"$f":"Table1[[#This Row],[QTY]]*Table1[[#This Row],['# Books]]","v":0},{"$f":"Table1[[#This Row],[QTY]]*Table1[[#This Row],[S&L Price]]","v":0}]
[null,null,51,"Learn My Language! Spanish",1,"Spanish Words at School","eBook",null,"978-1-4824-0335-0",{"$f":"HYPERLINK(\"https://www.garethstevens.com/\"&Table1[[#This Row],[ISBN]],\"Weblink\")","v":"Weblink"},2014,"January 2014",null,null,"Author","Sydney Salazar",null,null,14,14,"H",null,"Grade 1 - 2","Grade 1 - 3","It's time for clase. That means \"class\" in Spanish. Readers of this book will find it easy to learn school-oriented Spanish vocabulary in the context of a day at school. Spanish words are introduced in an accessible way amid English text, reinforcing their meaning. A key on each page aids readers in proper pronunciation, and images labeled in Spanish add further support.","English",23.6,17.7,"468","24 pp.",{"$f":"Table1[[#This Row],[QTY]]*Table1[[#This Row],['# Books]]","v":0},{"$f":"Table1[[#This Row],[QTY]]*Table1[[#This Row],[S&L Price]]","v":0}]
[null,null,51,"Learn My Language! Spanish",1,"Spanish Words at the Post Office","Library Bound Book",null,"978-1-4824-0350-3",{"$f":"HYPERLINK(\"https://www.garethstevens.com/\"&Table1[[#This Row],[ISBN]],\"Weblink\")","v":"Weblink"},2014,"January 2014","Library","7.000 X 7.000","Author","Roman Patrick",null,null,14,14,"H",null,"Grade 1 - 2","Grade 1 - 3","Using new vocabulary in everyday situations is a great way to strengthen one's understanding of a language. And a trip to the post office, or oficina de correos, provides just that kind of situation in this book, an introduction to Spanish. Readers will tag along as the narrator takes mail to the post office and teaches various Spanish terms along the way. Pronunciations for each term are provided in a key in each chapter.","English",23.6,17.7,"468","24 pp.",{"$f":"Table1[[#This Row],[QTY]]*Table1[[#This Row],['# Books]]","v":0},{"$f":"Table1[[#This Row],[QTY]]*Table1[[#This Row],[S&L Price]]","v":0}]
[null,null,51,"Learn My Language! Spanish",1,"Spanish Words at the Post Office","Interactive eBook","Flash","978-1-4824-0352-7",{"$f":"HYPERLINK(\"https://www.garethstevens.com/\"&Table1[[#This Row],[ISBN]],\"Weblink\")","v":"Weblink"},2014,"January 2014",null,null,"Author","Roman Patrick",null,null,14,14,"H",null,"Grade 1 - 2","Grade 1 - 3","Using new vocabulary in everyday situations is a great way to strengthen one's understanding of a language. And a trip to the post office, or oficina de correos, provides just that kind of situation in this book, an introduction to Spanish. Readers will tag along as the narrator takes mail to the post office and teaches various Spanish terms along the way. Pronunciations for each term are provided in a key in each chapter.","English",33.25,24.95,"468","24 pp.",{"$f":"Table1[[#This Row],[QTY]]*Table1[[#This Row],['# Books]]","v":0},{"$f":"Table1[[#This Row],[QTY]]*Table1[[#This Row],[S&L Price]]","v":0}]
[null,null,51,"Learn My Language! Spanish",1,"Spanish Words at the Zoo","Interactive eBook","Flash","978-1-4824-0357-2",{"$f":"HYPERLINK(\"https://www.garethstevens.com/\"&Table1[[#This Row],[ISBN]],\"Weblink\")","v":"Weblink"},2014,"January 2014",null,null,"Author","Nora Dee",null,null,14,14,"H",null,"Grade 1 - 2","Grade 1 - 3","A school trip to the zoo is the entertaining setting for learning high-interest Spanish vocabulary in this fun book. Readers will love knowing the Spanish words for their favorite animals, such as the jirafa (giraffe) and oso (bear). Pronunciations and a word key in each chapter further reinforce the terms, as well as carefully chosen, labeled photographs.","English",33.25,24.95,"468","24 pp.",{"$f":"Table1[[#This Row],[QTY]]*Table1[[#This Row],['# Books]]","v":0},{"$f":"Table1[[#This Row],[QTY]]*Table1[[#This Row],[S&L Price]]","v":0}]
[null,null,51,"Learn My Language! Spanish",1,"Spanish Words on the Road","eBook",null,"978-1-4824-0366-4",{"$f":"HYPERLINK(\"https://www.garethstevens.com/\"&Table1[[#This Row],[ISBN]],\"Weblink\")","v":"Weblink"},2014,"January 2014",null,null,"Author","Julia Salazar",null,null,14,14,"H",null,"Grade 1 - 2","Grade 1 - 3","Spanish is especially fun to learn on vacation. Readers are invited to hit the road in this introduction to some key Spanish vocabulary. They'll see a motocicleta (motorcycle), a lago (lake), and a venado (deer) on the way to their destination. Pronunciations, word keys, and labeled photographs add support for the accessible text. Readers will be practicing Spanish whenever they're on the road.","English",23.6,17.7,"468","24 pp.",{"$f":"Table1[[#This Row],[QTY]]*Table1[[#This Row],['# Books]]","v":0},{"$f":"Table1[[#This Row],[QTY]]*Table1[[#This Row],[S&L Price]]","v":0}]
[null,null,52,"Animal Math",1,"Dolphin Doubles","Interactive eBook","HTML5","978-1-4339-9307-7",{"$f":"HYPERLINK(\"https://www.garethstevens.com/\"&Table1[[#This Row],[ISBN]],\"Weblink\")","v":"Weblink"},2014,"August 2013",null,null,"Author","Grace Vail",null,null,10,10,"F",null,"Grade 1 - 2","Grade 1 - 3","Dolphins are cute, friendly, and smart. They're so smart they can help readers learn to add and subtract doubles. This book pairs fun dolphin facts with doubles number sentences. Different kinds of dolphins are featured, including orcas and bottlenose dolphins, and vibrant photographs offer support for math problems. Math, science, and dolphins are the perfect high-interest, educational combination.","English",33.25,24.95,"513.211","24 pp.",{"$f":"Table1[[#This Row],[QTY]]*Table1[[#This Row],['# Books]]","v":0},{"$f":"Table1[[#This Row],[QTY]]*Table1[[#This Row],[S&L Price]]","v":0}]
[null,null,52,"Animal Math",1,"Fractions with Fish","Library Bound Book",null,"978-1-4339-9308-4",{"$f":"HYPERLINK(\"https://www.garethstevens.com/\"&Table1[[#This Row],[ISBN]],\"Weblink\")","v":"Weblink"},2014,"August 2013","Library","7.000 X 7.000","Author","Maeve T. Sisk ",null,null,10,10,"F",null,"Grade 1 - 2","Grade 1 - 3","Fascinating fish are a fun way to teach about fractions. Readers will love learning about their favorite kinds of fish, such as clownfish, and be in awe of some fish they may not know about, including the gigantic whale shark. While learning fishy facts, they'll also learn about fractions and how to identify parts of a whole.","English",23.6,17.7,"513.26","24 pp.",{"$f":"Table1[[#This Row],[QTY]]*Table1[[#This Row],['# Books]]","v":0},{"$f":"Table1[[#This Row],[QTY]]*Table1[[#This Row],[S&L Price]]","v":0}]
[null,null,52,"Animal Math",1,"Graphs with Giraffes","Interactive eBook","HTML5","978-1-4339-9317-6",{"$f":"HYPERLINK(\"https://www.garethstevens.com/\"&Table1[[#This Row],[ISBN]],\"Weblink\")","v":"Weblink"},2014,"August 2013",null,null,"Author","E. T. Weingarten ",null,null,10,10,"F",null,"Grade 1 - 2","Grade 1 - 3","Giraffes are the tallest animals on land. It's easy to see how tall they are by comparing heights on a graph. This book introduces readers to several kinds of graphs, including bar graphs, pie graphs, and tally charts. While learning information about these towering African animals, readers will practice using graphs and charts to answer questions. Animals are an entertaining way to show how math is part of the real world.","English",33.25,24.95,"518.23","24 pp.",{"$f":"Table1[[#This Row],[QTY]]*Table1[[#This Row],['# Books]]","v":0},{"$f":"Table1[[#This Row],[QTY]]*Table1[[#This Row],[S&L Price]]","v":0}]
[null,null,52,"Animal Math",1,"Problem Solving with Pigs","eBook",null,"978-1-4339-9326-8",{"$f":"HYPERLINK(\"https://www.garethstevens.com/\"&Table1[[#This Row],[ISBN]],\"Weblink\")","v":"Weblink"},2014,"August 2013",null,null,"Author","R. P. Harasymiw",null,null,10,10,"F",null,"Grade 1 - 2","Grade 1 - 3","Word problems and problem solving are a crucial component of the elementary math classroom. Engaging readers is imperative in successfully introducing certain concepts. Readers of this book will love learning about cute pigs as they solve pig word problems. They'll find out why pigs get dirty and that they actually like to be clean. Readers can check their answers in the answer key for self-evaluation.","English",23.6,17.7,"513","24 pp.",{"$f":"Table1[[#This Row],[QTY]]*Table1[[#This Row],['# Books]]","v":0},{"$f":"Table1[[#This Row],[QTY]]*Table1[[#This Row],[S&L Price]]","v":0}]
[null,null,52,"Animal Math",1,"Sorting with Snakes","eBook",null,"978-1-4339-9331-2",{"$f":"HYPERLINK(\"https://www.garethstevens.com/\"&Table1[[#This Row],[ISBN]],\"Weblink\")","v":"Weblink"},2014,"August 2013",null,null,"Author","Mary Rose McDonnell",null,null,10,10,"F",null,"Grade 1 - 2","Grade 1 - 3","Snakes, whether fat, skinny, long, or deadly, are always fascinating. In this fact-filled book, as readers practice their sorting math skills, they'll learn about different kinds of snakes. They'll find out that snakes shed their skin. They'll learn that some snakes jump from trees. And as they read, they'll consider which snakes belong in some groups and which belong in others. Sorting is a math skill best practiced while learning about something fun.","English",23.6,17.7,"511.322","24 pp.",{"$f":"Table1[[#This Row],[QTY]]*Table1[[#This Row],['# Books]]","v":0},{"$f":"Table1[[#This Row],[QTY]]*Table1[[#This Row],[S&L Price]]","v":0}]
[null,null,52,"Animal Math",1,"Adding with Apes","Library Bound Book",null,"978-1-4339-5654-6",{"$f":"HYPERLINK(\"https://www.garethstevens.com/\"&Table1[[#This Row],[ISBN]],\"Weblink\")","v":"Weblink"},2012,"August 2011","Library","7.000 X 7.000","Author","Adele James","2","0.5",8,9,"F","430L","Grade 1 - 2","Grade 1 - 3","Gorillas, chimpanzees, orangutans, and other apes are intelligent animals. They share many characteristics with each other, and with us. This similarity, plus the charming expressions and energy of the great apes, is used here to teach readers about addition. Engaging photographs and number sentences guide explorers through the fascinating primate world while helping them seamlessly learn about one of the most necessary math concepts.","English",23.6,17.7,"513.2/11","24 pp.",{"$f":"Table1[[#This Row],[QTY]]*Table1[[#This Row],['# Books]]","v":0},{"$f":"Table1[[#This Row],[QTY]]*Table1[[#This Row],[S&L Price]]","v":0}]
[null,null,52,"Animal Math",1,"Counting Lions","eBook",null,"978-1-4339-5663-8",{"$f":"HYPERLINK(\"https://www.garethstevens.com/\"&Table1[[#This Row],[ISBN]],\"Weblink\")","v":"Weblink"},2012,"August 2011",null,null,"Author","Adeline Zubek","1.2","0.5",8,9,"F",null,"Grade 1 - 2","Grade 1 - 3","Predatory lions prowl the plains of Africa looking for their next meal. People have long been awestruck by these big cats. This book provides a colorful expedition into the lives of these dangerous but beautiful animals while also teaching readers how to count. Students will be able to recite interesting facts about lions while also being able to count, compare, and add whole numbers easily.","English",23.6,17.7,"513.2","24 pp.",{"$f":"Table1[[#This Row],[QTY]]*Table1[[#This Row],['# Books]]","v":0},{"$f":"Table1[[#This Row],[QTY]]*Table1[[#This Row],[S&L Price]]","v":0}]
[null,null,52,"Animal Math",1,"Tell Time with Turtles","Library Bound Book",null,"978-1-4339-5674-4",{"$f":"HYPERLINK(\"https://www.garethstevens.com/\"&Table1[[#This Row],[ISBN]],\"Weblink\")","v":"Weblink"},2012,"August 2011","Library","7.000 X 7.000","Author","Mary Rose McDonnell","1.6","0.5",8,9,"F",null,"Grade 1 - 2","Grade 1 - 3","Learning to tell time using a clock is a basic math skill. Learning what turtles do at certain times of the day makes this math lesson a whole lot more fun! In this book, readers spend a day at the zoo learning about turtles while also practicing how to read a clock. More advanced time concepts such as adding hours and half hours are also integrated into the text. ","English",23.6,17.7,"529","24 pp.",{"$f":"Table1[[#This Row],[QTY]]*Table1[[#This Row],['# Books]]","v":0},{"$f":"Table1[[#This Row],[QTY]]*Table1[[#This Row],[S&L Price]]","v":0}]
[null,null,52,"Animal Math",1,"Odd and Even with Otters","eBook",null,"978-1-5382-0854-0",{"$f":"HYPERLINK(\"https://www.garethstevens.com/\"&Table1[[#This Row],[ISBN]],\"Weblink\")","v":"Weblink"},2018,"January 2018",null,null,"Author","Rory McDonnell","2.5","0.5",null,null,"F",null,"Grade 1 - 2","Grade 1 - 3","Playful otters are some of the most high-interest animals in the zoo and in the wild. Finding out about otters while also learning about odd and even numbers makes math seem like play. The concept of odd and even is an important one in the elementary math curriculum. Readers will be motivated to count the otters in the colorful photographs and figure out if the sums are odd or even. Math questions are paired with an answer key for easy self-assessment.","English",22.6,16.95,"513--dc23","24 pp.",{"$f":"Table1[[#This Row],[QTY]]*Table1[[#This Row],['# Books]]","v":0},{"$f":"Table1[[#This Row],[QTY]]*Table1[[#This Row],[S&L Price]]","v":0}]
[null,null,52,"Animal Math",1,"Shapes with Sheep","Library Bound Book",null,"978-1-5382-0857-1",{"$f":"HYPERLINK(\"https://www.garethstevens.com/\"&Table1[[#This Row],[ISBN]],\"Weblink\")","v":"Weblink"},2018,"January 2018","Library","7.000 X 7.000","Author","Mary Grace Osburn","2.5","0.5",null,null,"F",null,"Grade 1 - 2","Grade 1 - 3","Shapes are an essential part of the elementary mathematics curriculum, a standard upon which students build their knowledge of geometry. It’s important to recognize both two-dimensional and three-dimensional shapes and their attributes. This beneficial and entertaining volume uses a high-interest animal, sheep, to introduce and review shape concepts, with the help of questions and an answer key. It encourages readers to see shapes in the world around them, so they will continuously reinforce what they learn in their everyday lives.","English",22.6,16.95,"516'.15--dc23","24 pp.",{"$f":"Table1[[#This Row],[QTY]]*Table1[[#This Row],['# Books]]","v":0},{"$f":"Table1[[#This Row],[QTY]]*Table1[[#This Row],[S&L Price]]","v":0}]
[null,null,52,"Animal Math",1,"Using Money at the Zoo","eBook",null,"978-1-5382-0867-0",{"$f":"HYPERLINK(\"https://www.garethstevens.com/\"&Table1[[#This Row],[ISBN]],\"Weblink\")","v":"Weblink"},2018,"January 2018",null,null,"Author","Mary Rose Osburn","1.7","0.5",null,null,"G",null,"Grade 1 - 2","Grade 1 - 3","Money and keeping track of spending are vital life skills as well as math standards. This curriculum-based book uses an entertaining setting, a zoo, and an appealing narrative to introduce and strengthen readers’ understanding of money concepts. Readers will be delighted by the many animals featured throughout, as well as the fun facts revealed about them. The cheerful text is accompanied by questions about coin values and addition with money, which can be used in combination with an answer key to assess understanding.","English",22.6,16.95,"332.024--dc23","24 pp.",{"$f":"Table1[[#This Row],[QTY]]*Table1[[#This Row],['# Books]]","v":0},{"$f":"Table1[[#This Row],[QTY]]*Table1[[#This Row],[S&L Price]]","v":0}]
[null,null,53,"Graph It!",1,"Making Bar Graphs","Library Bound Book",null,"978-1-4824-0779-2",{"$f":"HYPERLINK(\"https://www.garethstevens.com/\"&Table1[[#This Row],[ISBN]],\"Weblink\")","v":"Weblink"},2015,"August 2014","Library","7.000 X 7.000","Author","Jagger Youssef",null,null,12,null,"G",null,"Grade 1 - 2","Grade 1 - 3","Bar graphs are an interesting and easy way to show math facts. This accessible book guides readers through the different parts of a bar graph, including its title, labels, and scale. Readers are then invited to make their own graph, mirroring the sample in the book, and encouraged to make bar graphs about many fun subjects. Questions throughout this book and an answer key enable readers to self-evaluate their understanding.","English",22.6,16.95,"510","24 pp.",{"$f":"Table1[[#This Row],[QTY]]*Table1[[#This Row],['# Books]]","v":0},{"$f":"Table1[[#This Row],[QTY]]*Table1[[#This Row],[S&L Price]]","v":0}]
[null,null,53,"Graph It!",1,"Making Line Graphs","eBook",null,"978-1-4824-0837-9",{"$f":"HYPERLINK(\"https://www.garethstevens.com/\"&Table1[[#This Row],[ISBN]],\"Weblink\")","v":"Weblink"},2015,"August 2014",null,null,"Author","Mary Molly Shea",null,null,14,null,"H",null,"Grade 1 - 2","Grade 1 - 3","Line graphs are the perfect way to show how something changes over time. They can display how fast someone is growing, how many books they read each week, or how much money they make or lose over time. This book shows that line graphs are easy to read and fun to make! Questions within the text and an answer key help readers measure their understanding of this important math concept.","English",22.6,16.95,"510","24 pp.",{"$f":"Table1[[#This Row],[QTY]]*Table1[[#This Row],['# Books]]","v":0},{"$f":"Table1[[#This Row],[QTY]]*Table1[[#This Row],[S&L Price]]","v":0}]
[null,null,53,"Graph It!",1,"Making Pictographs","Library Bound Book",null,"978-1-4824-0839-3",{"$f":"HYPERLINK(\"https://www.garethstevens.com/\"&Table1[[#This Row],[ISBN]],\"Weblink\")","v":"Weblink"},2015,"August 2014","Library","7.000 X 7.000","Author","Keiran Shah",null,null,12,null,"G",null,"Grade 1 - 2","Grade 1 - 3","Pictographs may be the most entertaining kind of graph. They use pictures or symbols to represent amounts. In this inviting book, fun pictures and colorful graphics make learning to read and interpret pictographs enjoyable. Readers will especially like learning how to create their own pictograph. This book, a valuable tool to address the Measurement and Data standards of the Common Core, also includes questions and an answer key for self-evaluation.","English",22.6,16.95,"001.4","24 pp.",{"$f":"Table1[[#This Row],[QTY]]*Table1[[#This Row],['# Books]]","v":0},{"$f":"Table1[[#This Row],[QTY]]*Table1[[#This Row],[S&L Price]]","v":0}]
[null,null,53,"Graph It!",1,"Making Venn Diagrams","eBook",null,"978-1-4824-0937-6",{"$f":"HYPERLINK(\"https://www.garethstevens.com/\"&Table1[[#This Row],[ISBN]],\"Weblink\")","v":"Weblink"},2015,"August 2014",null,null,"Author","Therese Harasymiw",null,null,14,null,"H",null,"Grade 1 - 2","Grade 1 - 3","Venn diagrams are a visually effective method of showing how sets of data intersect. Though Venn diagrams are often used as graphic organizers in other classrooms, they are just as important to the math classroom. Readers are introduced to some kinds of Venn diagrams they may encounter and follow step-by-step instructions to make their own. Questions and an answer key help them assess their understanding of this valuable topic.","English",22.6,16.95,"511","24 pp.",{"$f":"Table1[[#This Row],[QTY]]*Table1[[#This Row],['# Books]]","v":0},{"$f":"Table1[[#This Row],[QTY]]*Table1[[#This Row],[S&L Price]]","v":0}]
[null,null,53,"Measure It!",1,"Measuring Height","eBook",null,"978-1-4824-3863-5",{"$f":"HYPERLINK(\"https://www.garethstevens.com/\"&Table1[[#This Row],[ISBN]],\"Weblink\")","v":"Weblink"},2016,"January 2016",null,null,"Author","T. H. Baer ","2.8","0.5",null,null,"H",null,"Grade 1 - 2","Grade 1 - 3","How tall is that tree? Let’s find out! Measuring the height of things is a great way to practice mathematics. This exciting book shows readers what tools are needed to measure and how a basic understanding of length and height can be used to tackle more complex math in the future. From measuring the height of a person to a giant skyscraper, this exciting book is a fun and easy way for young readers to tackle STEM topics with ease.","English",22.6,16.95,"530.8--dc23","24 pp.",{"$f":"Table1[[#This Row],[QTY]]*Table1[[#This Row],['# Books]]","v":0},{"$f":"Table1[[#This Row],[QTY]]*Table1[[#This Row],[S&L Price]]","v":0}]
[null,null,53,"Measure It!",1,"Measuring Volume","Library Bound Book",null,"978-1-4824-3874-1",{"$f":"HYPERLINK(\"https://www.garethstevens.com/\"&Table1[[#This Row],[ISBN]],\"Weblink\")","v":"Weblink"},2016,"January 2016","Library","7.000 X 7.000","Author","T. H. Baer ","3.9","0.5",null,null,"H",null,"Grade 1 - 2","Grade 1 - 3","Volume is the amount of space a liquid takes up in a container. This engaging book takes a look at how to measure volume and why it’s useful. Whether using the displacement method or simple containers marked with measurements, there are many different ways to measure liquids. Readers will learn to measure volume in both U.S. and International measurements to further their learning and ensure they can measure volume no matter what kind of container they use.","English",22.6,16.95,"516.1--dc23","24 pp.",{"$f":"Table1[[#This Row],[QTY]]*Table1[[#This Row],['# Books]]","v":0},{"$f":"Table1[[#This Row],[QTY]]*Table1[[#This Row],[S&L Price]]","v":0}]
[null,null,53,"Measure It!",1,"Measuring Volume","eBook",null,"978-1-4824-3875-8",{"$f":"HYPERLINK(\"https://www.garethstevens.com/\"&Table1[[#This Row],[ISBN]],\"Weblink\")","v":"Weblink"},2016,"January 2016",null,null,"Author","T. H. Baer ","3.9","0.5",null,null,"H",null,"Grade 1 - 2","Grade 1 - 3","Volume is the amount of space a liquid takes up in a container. This engaging book takes a look at how to measure volume and why it’s useful. Whether using the displacement method or simple containers marked with measurements, there are many different ways to measure liquids. Readers will learn to measure volume in both U.S. and International measurements to further their learning and ensure they can measure volume no matter what kind of container they use.","English",22.6,16.95,"516.1--dc23","24 pp.",{"$f":"Table1[[#This Row],[QTY]]*Table1[[#This Row],['# Books]]","v":0},{"$f":"Table1[[#This Row],[QTY]]*Table1[[#This Row],[S&L Price]]","v":0}]
[null,null,54,"I'm Allergic",6,"I'm Allergic (Set of 6 NEW Titles)","Library Set",null,"978-1-5382-2950-7",{"$f":"HYPERLINK(\"https://www.garethstevens.com/\"&Table1[[#This Row],[ISBN]],\"Weblink\")","v":"Weblink"},2019,"January 2019","Library","7.000 X 7.000",null,null,null,null,null,null,null,null,"Grade 1 - 2","Grade 1 - 3","When dealing with an allergy to a common food, such as tree nuts, soy, or eggs, it can be very difficult to eat at a restaurant or at a party. In this series, young readers are introduced to the reasons people suffer from food allergies as well as other common allergies, including dust and grass. Medicines and practical strategies are explained in age-appropriate language perfect for young readers just diagnosed with an allergy or with questions about a classmate's allergies. Features include: Encourages compassion for friends and family members suffering from allergies. Bright photographs highlight important points from each book. Alerts readers to the warning signs of an allergic reaction.","English",135.6,101.7,null,"24 pp.",{"$f":"Table1[[#This Row],[QTY]]*Table1[[#This Row],['# Books]]","v":0},{"$f":"Table1[[#This Row],[QTY]]*Table1[[#This Row],[S&L Price]]","v":0}]
[null,null,54,"I'm Allergic",1,"I'm Allergic to Grass","Library Bound Book",null,"978-1-5382-2905-7",{"$f":"HYPERLINK(\"https://www.garethstevens.com/\"&Table1[[#This Row],[ISBN]],\"Weblink\")","v":"Weblink"},2019,"January 2019","Library","7.000 X 7.000","Author","Walter LaPlante","3.6","0.5",null,null,"J",null,"Grade 1 - 2","Grade 1 - 3","Spring makes many people so happy, but not those with allergies to grass! Itchy eyes, a stuffy nose, and wheezing are just some of the symptoms these allergy sufferers may have. Readers are introduced to the reasons grass does this to some people through accessible language and simple explanations perfect for young readers. Tips for dealing with grass allergies, and getting through the springtime, speak directly to those who deal with grass allergies, helping these readers have a better outdoor experience.","English",22.6,16.95,"618.97/97--dc23","24 pp.",{"$f":"Table1[[#This Row],[QTY]]*Table1[[#This Row],['# Books]]","v":0},{"$f":"Table1[[#This Row],[QTY]]*Table1[[#This Row],[S&L Price]]","v":0}]
[null,null,54,"I'm Allergic",1,"I'm Allergic to Soy","eBook",null,"978-1-5382-3048-0",{"$f":"HYPERLINK(\"https://www.garethstevens.com/\"&Table1[[#This Row],[ISBN]],\"Weblink\")","v":"Weblink"},2019,"January 2019",null,null,"Author","Walter LaPlante","3.8","0.5",null,null,"J",null,"Grade 1 - 2","Grade 1 - 3","Soy allergies often surface as early as infancy with some babies showing signs of an allergy to soy in formula. Most of the time, soy allergies cause hives and itchiness, however sometimes, soy allergies can risk a person's life! Readers learn what causes a soy allergy, what signs to look for if someone is having a reaction, and what to do if a friend or family member needs help. With age-appropriate safety tips and instructions on how to avoid foods with soy, this text is essential for readers dealing with allergies themselves or know someone who does.","English",22.6,16.95,"616.97/5--dc23","24 pp.",{"$f":"Table1[[#This Row],[QTY]]*Table1[[#This Row],['# Books]]","v":0},{"$f":"Table1[[#This Row],[QTY]]*Table1[[#This Row],[S&L Price]]","v":0}]
[null,null,54,"I'm Allergic",1,"I'm Allergic to Tree Nuts","Library Bound Book",null,"978-1-5382-2908-8",{"$f":"HYPERLINK(\"https://www.garethstevens.com/\"&Table1[[#This Row],[ISBN]],\"Weblink\")","v":"Weblink"},2019,"January 2019","Library","7.000 X 7.000","Author","Walter LaPlante","3.3","0.5",null,null,"J",null,"Grade 1 - 2","Grade 1 - 3","What exactly counts as a tree nut? Pine nuts, cashews, pecans, and hazelnuts are just some of the nuts that fall into this category, and are a common allergen. Learning how to tell if a food needs to be avoided is very important to people with tree nut allergies. This book does just that, as well as explaining in age-appropriate language why some people have these allergies. Safety tips and practical advice help readers know what to do if they or a friend have this allergy and are exposed to tree nuts. It isn't as scary if you're prepared.","English",22.6,16.95,"616.97/5--dc23","24 pp.",{"$f":"Table1[[#This Row],[QTY]]*Table1[[#This Row],['# Books]]","v":0},{"$f":"Table1[[#This Row],[QTY]]*Table1[[#This Row],[S&L Price]]","v":0}]
[null,null,54,"I'm Allergic",1,"I'm Allergic to Milk","eBook",null,"978-1-4824-0971-0",{"$f":"HYPERLINK(\"https://www.garethstevens.com/\"&Table1[[#This Row],[ISBN]],\"Weblink\")","v":"Weblink"},2015,"August 2014",null,null,"Author","Maria Nelson",null,null,16,null,"I",null,"Grade 1 - 2","Grade 1 - 3","Milk allergies can develop in babies under a year old. There’s good news: most kids don’t have severe allergic reactions to milk products and many will eventually outgrow it. Readers learn the signs of a milk allergy and what kinds of food to avoid if they have such an allergy. Full-color images help draw readers into age-appropriate explanations and science information about an important subject they’ll likely encounter in their own life or that of a friend.","English",22.6,16.95,"616.97","24 pp.",{"$f":"Table1[[#This Row],[QTY]]*Table1[[#This Row],['# Books]]","v":0},{"$f":"Table1[[#This Row],[QTY]]*Table1[[#This Row],[S&L Price]]","v":0}]
[null,null,54,"I'm Allergic",1,"I'm Allergic to Strawberries","Library Bound Book",null,"978-1-4824-0984-0",{"$f":"HYPERLINK(\"https://www.garethstevens.com/\"&Table1[[#This Row],[ISBN]],\"Weblink\")","v":"Weblink"},2015,"August 2014","Library","7.000 X 7.000","Author","Maria Nelson",null,null,16,null,"I",null,"Grade 1 - 2","Grade 1 - 3","Food allergies can be difficult to deal with, especially when they’re to such a common fruit as the strawberry. While allergic reactions to this fruit are usually mild, severe stomach and respiratory problems may occur. Readers learn the cause of strawberry allergies and the most common symptoms. The concise introduction of reactions helps readers to identify a friend or family member in need or to express their own condition to others. Full-color photographs aid in preparing readers for quick action if an allergic reaction occurs.","English",22.6,16.95,"618.92","24 pp.",{"$f":"Table1[[#This Row],[QTY]]*Table1[[#This Row],['# Books]]","v":0},{"$f":"Table1[[#This Row],[QTY]]*Table1[[#This Row],[S&L Price]]","v":0}]
[null,null,54,"I'm Allergic",1,"I'm Allergic to Wheat","Library Bound Book",null,"978-1-4824-0989-5",{"$f":"HYPERLINK(\"https://www.garethstevens.com/\"&Table1[[#This Row],[ISBN]],\"Weblink\")","v":"Weblink"},2015,"August 2014","Library","7.000 X 7.000","Author","Maria Nelson",null,null,16,null,"I",null,"Grade 1 - 2","Grade 1 - 3","Wheat allergies are some of the most common food allergies in children. They often develop in babies and toddlers, and can cause uncomfortable symptoms. Fortunately, many outgrow the allergy. However, it’s important to know how to identify a possible allergic reaction and what to do. Readers learn this and more, including the causes of wheat allergies and the difference between a wheat allergy and celiac disease. Full-color photographs augment the main content and show food labels wheat-allergic readers should look for.","English",22.6,16.95,"618.92","24 pp.",{"$f":"Table1[[#This Row],[QTY]]*Table1[[#This Row],['# Books]]","v":0},{"$f":"Table1[[#This Row],[QTY]]*Table1[[#This Row],[S&L Price]]","v":0}]
[null,null,55,"Nature's Grossest",1,"Caterpillars Eat Their Skin!","Library Bound Book",null,"978-1-5382-0939-4",{"$f":"HYPERLINK(\"https://www.garethstevens.com/\"&Table1[[#This Row],[ISBN]],\"Weblink\")","v":"Weblink"},2018,"January 2018","Library","7.000 X 7.000","Author","Bert Wilberforce","2.9","0.5",null,null,"J",null,"Grade 1 - 2","Grade 1 - 3","Young naturalists learn early that when butterflies and moths first hatch from an egg, they’re in the form of caterpillars. They probably don’t know that as caterpillars grow, they shed skin, and then eat it. Readers will find this entertaining and accessible look at these ubiquitous larvae exceptionally informative. Carefully chosen photographs support the text and key science vocabulary.","English",22.6,16.95,"595.78'139--dc23","24 pp.",{"$f":"Table1[[#This Row],[QTY]]*Table1[[#This Row],['# Books]]","v":0},{"$f":"Table1[[#This Row],[QTY]]*Table1[[#This Row],[S&L Price]]","v":0}]
[null,null,55,"Nature's Grossest",1,"Hyenas Eat Bones!","eBook",null,"978-1-5382-0948-6",{"$f":"HYPERLINK(\"https://www.garethstevens.com/\"&Table1[[#This Row],[ISBN]],\"Weblink\")","v":"Weblink"},2018,"January 2018",null,null,"Author","Roberto Betances","3.1","0.5",null,null,"I",null,"Grade 1 - 2","Grade 1 - 3","Hyenas are some of nature’s grossest creatures. These vicious creatures will claw and fight each other over a carcass, stripping an animal of its meat in under an hour. They have no problem eating other animals’ leftovers, even if that means eating hair and bones. Readers will love learning these distasteful facts and more about these gross, but intelligent, creatures in this captivating volume, full of vivid photographs that feature hyenas in their native habitats.","English",22.6,16.95,"599.74'3--dc23","24 pp.",{"$f":"Table1[[#This Row],[QTY]]*Table1[[#This Row],['# Books]]","v":0},{"$f":"Table1[[#This Row],[QTY]]*Table1[[#This Row],[S&L Price]]","v":0}]
[null,null,55,"Nature's Grossest",1,"Vampire Bats Drink Blood!","Library Bound Book",null,"978-1-5382-0959-2",{"$f":"HYPERLINK(\"https://www.garethstevens.com/\"&Table1[[#This Row],[ISBN]],\"Weblink\")","v":"Weblink"},2018,"January 2018","Library","7.000 X 7.000","Author","Bert Wilberforce","2.9","0.5",null,null,"J",null,"Grade 1 - 2","Grade 1 - 3","Certain species of bats get their chilling name from a legendary monster, the vampire, and like these revolting fantasy creatures, these bats really do drink the blood of animals. Luckily, vampire bats don’t harm people; they’re much more interested in the blood of livestock and forest animals. Their bites are so small that they’re often undetected by the animals they feed on. Readers will be fascinated by these eerie creatures as well as the awesome photographs of vampire bats in the wild.","English",22.6,16.95,"599.4'5--dc23","24 pp.",{"$f":"Table1[[#This Row],[QTY]]*Table1[[#This Row],['# Books]]","v":0},{"$f":"Table1[[#This Row],[QTY]]*Table1[[#This Row],[S&L Price]]","v":0}]
[null,null,55,"Nature's Grossest",1,"Octopus Ink","eBook",null,"978-1-4824-1848-4",{"$f":"HYPERLINK(\"https://www.garethstevens.com/\"&Table1[[#This Row],[ISBN]],\"Weblink\")","v":"Weblink"},2015,"January 2015",null,null,"Author","Kate Shoemaker","3.3","0.5",16,null,"I","560L","Grade 1 - 2","Grade 1 - 3","The octopus is a perfect animal to demonstrate the extraordinary adaptations that some animals possess to help them survive in their habitats. An octopus's abilities to camouflage itself and squeeze into tight places are great ways to hide from fearsome predators. They even have a few more bizarre talents. They can squirt ink clouds to screen their getaway or even create an inky image of another octopus! Readers will want to learn even more high-interest octopus facts after this colorful look at one of nature's grossest, and coolest, marine creatures.","English",22.6,16.95,"594","24 pp.",{"$f":"Table1[[#This Row],[QTY]]*Table1[[#This Row],['# Books]]","v":0},{"$f":"Table1[[#This Row],[QTY]]*Table1[[#This Row],[S&L Price]]","v":0}]
[null,null,55,"Nature's Grossest",1,"Skunk Stench","Library Bound Book",null,"978-1-4824-1851-4",{"$f":"HYPERLINK(\"https://www.garethstevens.com/\"&Table1[[#This Row],[ISBN]],\"Weblink\")","v":"Weblink"},2015,"January 2015","Library","7.000 X 7.000","Author","Kate Shoemaker","2.9","0.5",16,null,"I","550L","Grade 1 - 2","Grade 1 - 3","Phew! Luckily, a skunk's infamous stench isn't the way it smells all the time. Instead, it's a secret weapon. The black and white mammal can actually aim and squirt its stinky liquid at its enemy or create a cloud of disgusting smell as it runs away. Readers of this amusing and informative peek into one of nature's stinkiest creatures will learn there are several species of skunks and what to do to avoid being sprayed.","English",22.6,16.95,"599.76","24 pp.",{"$f":"Table1[[#This Row],[QTY]]*Table1[[#This Row],['# Books]]","v":0},{"$f":"Table1[[#This Row],[QTY]]*Table1[[#This Row],[S&L Price]]","v":0}]
[null,null,55,"Nature's Grossest",1,"Vulture Vomit","eBook",null,"978-1-4824-1860-6",{"$f":"HYPERLINK(\"https://www.garethstevens.com/\"&Table1[[#This Row],[ISBN]],\"Weblink\")","v":"Weblink"},2015,"January 2015",null,null,"Author","Bert Wilberforce","3.3","0.5",18,null,"J","590L","Grade 1 - 2","Grade 1 - 3","Vultures have some pretty disgusting habits. Their idea of a yummy meal is carrion, or rotting meat. But they have an even grosser idea of how to protect themselves from their predators. They throw up on them! Vultures can make their acidic vomit fly several feet to burn their enemy. This also makes them lighter so they can fly away. Readers may think these adaptations are gross, but they'll keep turning the page to find out even more in this entertaining and brightly designed book.","English",22.6,16.95,"598.9","24 pp.",{"$f":"Table1[[#This Row],[QTY]]*Table1[[#This Row],['# Books]]","v":0},{"$f":"Table1[[#This Row],[QTY]]*Table1[[#This Row],[S&L Price]]","v":0}]
[null,null,56,"Fantastic Farm Machines",1,"Crop Sprayers","eBook",null,"978-1-4824-4575-6",{"$f":"HYPERLINK(\"https://www.garethstevens.com/\"&Table1[[#This Row],[ISBN]],\"Weblink\")","v":"Weblink"},2017,"August 2016",null,null,"Author","S. M. Maimone","3.4","0.5",null,null,"I",null,"Grade 1 - 2","Grade 1 - 3","Big farms need big machines, and crop sprayers are some of the biggest. Farmers use these timesaving devices to spread substances such as fertilizers, pesticides, and herbicides on their crops. While readers learn about the different kinds of crop sprayers, their many parts, and their importance to the farm industry, they’ll be impressed by the colorful photographs of the machines in action—including one in the air! The high-interest topic also touches on key science and technology topics.","English",22.6,16.95,"631.3--dc23","24 pp.",{"$f":"Table1[[#This Row],[QTY]]*Table1[[#This Row],['# Books]]","v":0},{"$f":"Table1[[#This Row],[QTY]]*Table1[[#This Row],[S&L Price]]","v":0}]
[null,null,56,"Fantastic Farm Machines",1,"Harvesters","eBook",null,"978-1-4824-4577-0",{"$f":"HYPERLINK(\"https://www.garethstevens.com/\"&Table1[[#This Row],[ISBN]],\"Weblink\")","v":"Weblink"},2017,"August 2016",null,null,"Author","S. M. Maimone","3.3","0.5",null,null,"K",null,"Grade 1 - 2","Grade 1 - 3","After the crops are grown, it’s harvest time. On large farms, this is a huge job. Luckily, there are some huge machines to help out. Harvesters are devices that pick crops and sometimes even sort the parts of the plant we use from those we don’t. Readers will enjoy learning about these ingenious farm machines almost as much as they’ll love seeing them at work in the field in the bright photos of this fun volume.","English",22.6,16.95,"631.3--dc23","24 pp.",{"$f":"Table1[[#This Row],[QTY]]*Table1[[#This Row],['# Books]]","v":0},{"$f":"Table1[[#This Row],[QTY]]*Table1[[#This Row],[S&L Price]]","v":0}]
[null,null,56,"Fantastic Farm Machines",1,"Hay Balers","Library Bound Book",null,"978-1-4824-4584-8",{"$f":"HYPERLINK(\"https://www.garethstevens.com/\"&Table1[[#This Row],[ISBN]],\"Weblink\")","v":"Weblink"},2017,"August 2016","Library","7.000 X 7.000","Author","E. T. Weingarten ","2.9","0.5",null,null,"J",null,"Grade 1 - 2","Grade 1 - 3","Those neat bundles of hay we see in a farm field are created by a fantastic farm machine called a hay baler. And just one bale of hay can weigh as much as 2,000 pounds (907 kg)! Along with learning how a hay baler does its job, readers will find out what kind of crop hay is and why it’s needed. They’ll also see cool, colorful photographs of these and other big machines at work, including labels to aid in comprehension. Farm work has never looked so fun!","English",22.6,16.95,"631.3--dc23","24 pp.",{"$f":"Table1[[#This Row],[QTY]]*Table1[[#This Row],['# Books]]","v":0},{"$f":"Table1[[#This Row],[QTY]]*Table1[[#This Row],[S&L Price]]","v":0}]
[null,null,56,"Fantastic Farm Machines",1,"Tractors","eBook",null,"978-1-4824-4580-0",{"$f":"HYPERLINK(\"https://www.garethstevens.com/\"&Table1[[#This Row],[ISBN]],\"Weblink\")","v":"Weblink"},2017,"August 2016",null,null,"Author","E. T. Weingarten ","3.2","0.5",null,null,"I",null,"Grade 1 - 2","Grade 1 - 3","Tractors are one of the most useful and utilized machines on a farm. These valuable vehicles are designed to pull heavy loads as well as other machines that help farmers in a variety of ways. Readers will love seeing some impressive tractors at work in this accessible volume. They’ll learn the essential parts of tractors and a few of their important loads and attachments. Colorful photographs and key agricultural ideas help make this book a beneficial resource.","English",22.6,16.95,"631.3/72--dc23","24 pp.",{"$f":"Table1[[#This Row],[QTY]]*Table1[[#This Row],['# Books]]","v":0},{"$f":"Table1[[#This Row],[QTY]]*Table1[[#This Row],[S&L Price]]","v":0}]
[null,null,56,"Super Science Tools",1,"Using a Scale","eBook",null,"978-1-4824-6408-5",{"$f":"HYPERLINK(\"https://www.garethstevens.com/\"&Table1[[#This Row],[ISBN]],\"Weblink\")","v":"Weblink"},2018,"August 2017",null,null,"Author","Nora Roman",null,null,null,null,"I",null,"Grade 1 - 2","Grade 1 - 3","We use scales more than we might notice in our daily lives. We weigh our food at stores, weigh our packages at the post office, and even weigh ourselves. Scientists use scales for important experiments, too. In this essential introduction to this super science tool, future scientists will learn about different kinds of scales. They’ll learn how to use scales to investigate objects in their everyday lives and come to appreciate how this often-used instrument helps us in so many ways.","English",22.6,16.95,"681.2--dc23","24 pp.",{"$f":"Table1[[#This Row],[QTY]]*Table1[[#This Row],['# Books]]","v":0},{"$f":"Table1[[#This Row],[QTY]]*Table1[[#This Row],[S&L Price]]","v":0}]
[null,null,56,"Super Science Tools",1,"Using Magnets","Library Bound Book",null,"978-1-4824-6395-8",{"$f":"HYPERLINK(\"https://www.garethstevens.com/\"&Table1[[#This Row],[ISBN]],\"Weblink\")","v":"Weblink"},2018,"August 2017","Library","7.000 X 7.000","Author","Nora Roman",null,null,18,null,"I",null,"Grade 1 - 2","Grade 1 - 3","Few natural forces seem as much like magic as magnets. Perhaps that’s why magnets are so fun! Young scientists will love learning about amazing magnets, both natural and man-made. They’ll discover how magnetism is harnessed to help us in many ways. This STEM-supportive volume contains comprehensible text and photographs of students and scientists utilizing magnets. It also includes a simple, fun concluding activity to encourage readers to use this super science tool themselves.","English",22.6,16.95,"538--dc23","24 pp.",{"$f":"Table1[[#This Row],[QTY]]*Table1[[#This Row],['# Books]]","v":0},{"$f":"Table1[[#This Row],[QTY]]*Table1[[#This Row],[S&L Price]]","v":0}]
[null,null,56,"Super Science Tools",1,"Using Measuring Cups","eBook",null,"978-1-4824-6400-9",{"$f":"HYPERLINK(\"https://www.garethstevens.com/\"&Table1[[#This Row],[ISBN]],\"Weblink\")","v":"Weblink"},2018,"August 2017",null,null,"Author","Abigail B. Roberts",null,null,null,null,"H",null,"Grade 1 - 2","Grade 1 - 3","Measuring cups are essential in the kitchen, but they’re also crucial in the science lab. Scientists need to be precise in their experiments to test their hypotheses, and science tools such as cylinders for measuring volume aid them in their important research. This appealing book shows that young scientists, too, can use measuring containers for their own science experiments. Important STEM concepts such as volume and units of measurement are explained in a comprehensible manner.","English",22.6,16.95,"681’.2--dc23","24 pp.",{"$f":"Table1[[#This Row],[QTY]]*Table1[[#This Row],['# Books]]","v":0},{"$f":"Table1[[#This Row],[QTY]]*Table1[[#This Row],[S&L Price]]","v":0}]
[null,null,57,"Know Your Body",1,"Your Bones","Library Bound Book",null,"978-1-4824-4435-3",{"$f":"HYPERLINK(\"https://www.garethstevens.com/\"&Table1[[#This Row],[ISBN]],\"Weblink\")","v":"Weblink"},2017,"August 2016","Library","7.000 X 7.000","Author","Cyril Bassington","3","0.5",null,null,"K","630L","Grade 1 - 2","Grade 1 - 3","We don’t often think about it, but we’d be a pile of skin and other organs without our bones. This helpful guide to the human skeleton presents readers with a key body system. They will be acquainted with groups of bones such as the spine and skull and learn what they need to do to keep their bones healthy. Carefully chosen photographs and illustrations support the accessible text, which is a valuable introduction to several key biology concepts.","English",22.6,16.95,"612.7'51--dc23","24 pp.",{"$f":"Table1[[#This Row],[QTY]]*Table1[[#This Row],['# Books]]","v":0},{"$f":"Table1[[#This Row],[QTY]]*Table1[[#This Row],[S&L Price]]","v":0}]
[null,null,57,"Know Your Body",1,"Your Heart","eBook",null,"978-1-4824-4417-9",{"$f":"HYPERLINK(\"https://www.garethstevens.com/\"&Table1[[#This Row],[ISBN]],\"Weblink\")","v":"Weblink"},2017,"August 2016",null,null,"Author","Cyril Bassington","3.1","0.5",null,null,"K","510L","Grade 1 - 2","Grade 1 - 3","The heart carries oxygen-rich blood to our cells every second of our lives, and we don’t even have to do much to keep this muscular organ moving. Incredibly, it only takes about 60 seconds to pump blood to every cell in the entire body. This fun fact and many more are found in this informative volume. Readers will learn about the different chambers of the heart, the path of blood through it, and how it works with blood vessels. Supportive illustrations, vivid photographs, and essential vocabulary make this a must-read introduction to the circulatory system.","English",22.6,16.95,"612.1'7--dc23","24 pp.",{"$f":"Table1[[#This Row],[QTY]]*Table1[[#This Row],['# Books]]","v":0},{"$f":"Table1[[#This Row],[QTY]]*Table1[[#This Row],[S&L Price]]","v":0}]
[null,null,57,"Know Your Body",1,"Your Stomach","Library Bound Book",null,"978-1-4824-4422-3",{"$f":"HYPERLINK(\"https://www.garethstevens.com/\"&Table1[[#This Row],[ISBN]],\"Weblink\")","v":"Weblink"},2017,"August 2016","Library","7.000 X 7.000","Author","George Fittleworth","3.5","0.5",null,null,"J","600L","Grade 1 - 2","Grade 1 - 3","We rarely think about our stomachs until we feel hunger pangs or a stomachache. But every time we put something in our mouth and swallow, our stomach gets to work performing vital tasks to provide our body with the energy and nutrition it needs. This volume is the perfect doorway to the human digestive system. Readers will learn the basic mechanics of digestion as well as other entertaining facts through thoughtful text, colorful diagrams, and supporting photographs.","English",22.6,16.95,"612.3'2--dc23","24 pp.",{"$f":"Table1[[#This Row],[QTY]]*Table1[[#This Row],['# Books]]","v":0},{"$f":"Table1[[#This Row],[QTY]]*Table1[[#This Row],[S&L Price]]","v":0}]
[null,null,57,"Know Your Body",1,"Your Stomach","eBook",null,"978-1-4824-4420-9",{"$f":"HYPERLINK(\"https://www.garethstevens.com/\"&Table1[[#This Row],[ISBN]],\"Weblink\")","v":"Weblink"},2017,"August 2016",null,null,"Author","George Fittleworth","3.5","0.5",null,null,"J","600L","Grade 1 - 2","Grade 1 - 3","We rarely think about our stomachs until we feel hunger pangs or a stomachache. But every time we put something in our mouth and swallow, our stomach gets to work performing vital tasks to provide our body with the energy and nutrition it needs. This volume is the perfect doorway to the human digestive system. Readers will learn the basic mechanics of digestion as well as other entertaining facts through thoughtful text, colorful diagrams, and supporting photographs.","English",22.6,16.95,"612.3'2--dc23","24 pp.",{"$f":"Table1[[#This Row],[QTY]]*Table1[[#This Row],['# Books]]","v":0},{"$f":"Table1[[#This Row],[QTY]]*Table1[[#This Row],[S&L Price]]","v":0}]
[null,null,57,"Your Body at Its Grossest",1,"Pee and Poop!","eBook",null,"978-1-4824-6468-9",{"$f":"HYPERLINK(\"https://www.garethstevens.com/\"&Table1[[#This Row],[ISBN]],\"Weblink\")","v":"Weblink"},2018,"August 2017",null,null,"Author","Sam Crispin","3.3","0.5",null,null,"H",null,"Grade 1 - 2","Grade 1 - 3","It’s true: everyone poops. While urine and feces may be good for gross-out fun, these body functions are an important way we stay healthy. Readers will put toilet humor aside and explore the science of bowel movements in a fun and interesting way, learning about the digestive system, kidneys, and more. Through tasteful images and fun graphics, this title allows readers to look at the science behind the taboos and learn more about how their bodies work.","English",22.6,16.95,"612.4’6--dc23","24 pp.",{"$f":"Table1[[#This Row],[QTY]]*Table1[[#This Row],['# Books]]","v":0},{"$f":"Table1[[#This Row],[QTY]]*Table1[[#This Row],[S&L Price]]","v":0}]
[null,null,57,"Your Body at Its Grossest",1,"Sweat!","Library Bound Book",null,"978-1-4824-6478-8",{"$f":"HYPERLINK(\"https://www.garethstevens.com/\"&Table1[[#This Row],[ISBN]],\"Weblink\")","v":"Weblink"},2018,"August 2017","Library","7.000 X 7.000","Author","Anthony Capicola","3.4","0.5",null,null,"H",null,"Grade 1 - 2","Grade 1 - 3","No matter what the temperature is outside, some people just can’t stop sweating. This book explores the how and why of a natural body process that is entirely normal but is still a bit gross. From the sweat bodies expel when they’re exercising to the sweaty palms caused by nerves, readers explore all the ways the body perspires. Through simple but informative explanations to drive home scientific insight in a fun way, readers will love exploring the gross while learning about important body functions.","English",22.6,16.95,"612.7’93--dc23","24 pp.",{"$f":"Table1[[#This Row],[QTY]]*Table1[[#This Row],['# Books]]","v":0},{"$f":"Table1[[#This Row],[QTY]]*Table1[[#This Row],[S&L Price]]","v":0}]
[null,null,57,"Your Body at Its Grossest",1,"Vomit!","eBook",null,"978-1-4824-6483-2",{"$f":"HYPERLINK(\"https://www.garethstevens.com/\"&Table1[[#This Row],[ISBN]],\"Weblink\")","v":"Weblink"},2018,"August 2017",null,null,"Author","Sam Crispin","3.2","0.5",null,null,"H",null,"Grade 1 - 2","Grade 1 - 3","No one likes vomit. It smells, it gets everywhere, and it means someone definitely isn’t feeling well. But hidden in all that grossness is a human necessity—if a body is throwing up, it needs to get something out, and fast. This book looks at the how and why of vomit, taking readers through the reasons people spew and what to do when it feels like they need to hurl. With full-color photographs and graphics illustrating the science behind the gross, this book is sure to wow readers curious about bodily functions.","English",22.6,16.95,"616.047--dc23","24 pp.",{"$f":"Table1[[#This Row],[QTY]]*Table1[[#This Row],['# Books]]","v":0},{"$f":"Table1[[#This Row],[QTY]]*Table1[[#This Row],[S&L Price]]","v":0}]
[null,null,58,"Confusing Creature Names",1,"Flying Foxes Are Not Foxes!","Library Bound Book",null,"978-1-4824-0783-9",{"$f":"HYPERLINK(\"https://www.garethstevens.com/\"&Table1[[#This Row],[ISBN]],\"Weblink\")","v":"Weblink"},2015,"August 2014","Library","7.000 X 7.000","Author","Jamie Honders","3","0.5",null,null,"I",null,"Grade 1 - 2","Grade 1 - 3","Flying foxes aren’t really foxes—they’re bats. Compared to many kinds of bats, flying foxes can look like giants. Some can have a 6-foot wingspan! Inside this volume, vibrant photographs of these awesome animals allow readers to get up close and personal with flying foxes in the wild. Readers will be delighted to learn about the different kinds of flying foxes, where they live, what they eat, and much more.","English",22.6,16.95,"599.4","24 pp.",{"$f":"Table1[[#This Row],[QTY]]*Table1[[#This Row],['# Books]]","v":0},{"$f":"Table1[[#This Row],[QTY]]*Table1[[#This Row],[S&L Price]]","v":0}]
[null,null,58,"Confusing Creature Names",1,"Guinea Pigs Are Not Pigs!","eBook",null,"978-1-4824-0949-9",{"$f":"HYPERLINK(\"https://www.garethstevens.com/\"&Table1[[#This Row],[ISBN]],\"Weblink\")","v":"Weblink"},2015,"August 2014",null,null,"Author","Evelyn Ryan","3.3","0.5",null,null,"I","560L","Grade 1 - 2","Grade 1 - 3","Guinea pigs look a little like pigs, with their short, round bodies. They even squeal like pigs! However, guinea pigs are not pigs—they’re rodents. Readers are sure to enjoy this fun and enlightening book about one of the world’s most popular pets. The text includes facts about where guinea pigs live, what they eat, how to care for them, and more. Informative text is paired with colorful, close-up photographs of these charming, furry critters.","English",22.6,16.95,"636.935","24 pp.",{"$f":"Table1[[#This Row],[QTY]]*Table1[[#This Row],['# Books]]","v":0},{"$f":"Table1[[#This Row],[QTY]]*Table1[[#This Row],[S&L Price]]","v":0}]
[null,null,58,"Confusing Creature Names",1,"Killer Whales Are Not Whales!","Library Bound Book",null,"978-1-4824-0961-1",{"$f":"HYPERLINK(\"https://www.garethstevens.com/\"&Table1[[#This Row],[ISBN]],\"Weblink\")","v":"Weblink"},2015,"August 2014","Library","7.000 X 7.000","Author","Daisy Allyn","3.3","0.5",null,null,"I",null,"Grade 1 - 2","Grade 1 - 3","With a name like “killer whale,” you might expect these giant marine animals to be mean and nasty. However, they’re some the most playful creatures in the sea—as long as you’re not a seal! Readers will enjoy learning how these amazing dolphins hunt for prey and interact with people. Colorful pictures of killer whales in the wild and in aquariums are sure to engage readers of all ages.","English",22.6,16.95,"599.53","24 pp.",{"$f":"Table1[[#This Row],[QTY]]*Table1[[#This Row],['# Books]]","v":0},{"$f":"Table1[[#This Row],[QTY]]*Table1[[#This Row],[S&L Price]]","v":0}]
[null,null,58,"Cycles in Nature",1,"A Year of Seasons","Library Bound Book",null,"978-1-4824-1654-1",{"$f":"HYPERLINK(\"https://www.garethstevens.com/\"&Table1[[#This Row],[ISBN]],\"Weblink\")","v":"Weblink"},2016,"August 2015","Library","7.000 X 7.000","Author","George Pendergast","3.1","0.5",18,null,"J","680L","Grade 1 - 2","Grade 1 - 3","The cycle of seasons on Earth is as interesting as it is important to the way we all live. From the cold of winter to warm summer days, it’s essential to understand just what’s happening and why we always have the same weather at the same time of the year. Readers will learn what the sun’s rays are doing to different parts of Earth at different times as well as the importance of Earth’s axis, or tilt. With great photographs, diagrams, and detailed explanations of scientific concepts, readers will love learning about our year of seasons in this book.","English",22.6,16.95,"508.2","24 pp.",{"$f":"Table1[[#This Row],[QTY]]*Table1[[#This Row],['# Books]]","v":0},{"$f":"Table1[[#This Row],[QTY]]*Table1[[#This Row],[S&L Price]]","v":0}]
[null,null,58,"Cycles in Nature",1,"A Year of Seasons","eBook",null,"978-1-4824-1657-2",{"$f":"HYPERLINK(\"https://www.garethstevens.com/\"&Table1[[#This Row],[ISBN]],\"Weblink\")","v":"Weblink"},2016,"August 2015",null,null,"Author","George Pendergast","3.1","0.5",18,null,"J","680L","Grade 1 - 2","Grade 1 - 3","The cycle of seasons on Earth is as interesting as it is important to the way we all live. From the cold of winter to warm summer days, it’s essential to understand just what’s happening and why we always have the same weather at the same time of the year. Readers will learn what the sun’s rays are doing to different parts of Earth at different times as well as the importance of Earth’s axis, or tilt. With great photographs, diagrams, and detailed explanations of scientific concepts, readers will love learning about our year of seasons in this book.","English",22.6,16.95,"508.2","24 pp.",{"$f":"Table1[[#This Row],[QTY]]*Table1[[#This Row],['# Books]]","v":0},{"$f":"Table1[[#This Row],[QTY]]*Table1[[#This Row],[S&L Price]]","v":0}]
[null,null,58,"Cycles in Nature",1,"The Rock Cycle at Work","Library Bound Book",null,"978-1-4824-1666-4",{"$f":"HYPERLINK(\"https://www.garethstevens.com/\"&Table1[[#This Row],[ISBN]],\"Weblink\")","v":"Weblink"},2016,"August 2015","Library","7.000 X 7.000","Author","George Pendergast","3.6","0.5",null,null,"J","750L","Grade 1 - 2","Grade 1 - 3","Heat and energy impacts all life on our planet. Energy from the sun helps plants grow and makes it possible for us to live on Earth at all, but the heat from inside Earth impacts us as well. There are many different kinds of rocks that make up Earth’s crust, and scientists now know how Earth’s energy forms and changes these rocks. Readers will learn about the volcanoes and lava that make igneous rocks, and how heating and cooling caused by energy in Earth’s core creates metamorphic rocks. They’ll also learn how water and other elements break down rocks to create sedimentary rocks and various rock formations all over the world.","English",22.6,16.95,"552","24 pp.",{"$f":"Table1[[#This Row],[QTY]]*Table1[[#This Row],['# Books]]","v":0},{"$f":"Table1[[#This Row],[QTY]]*Table1[[#This Row],[S&L Price]]","v":0}]
[null,null,59,"Stories in the Stars",6,"Stories in the Stars","Library Set",null,"978-1-4824-2542-0",{"$f":"HYPERLINK(\"https://www.garethstevens.com/\"&Table1[[#This Row],[ISBN]],\"Weblink\")","v":"Weblink"},2016,"August 2015","Library","7.000 X 7.000",null,null,null,null,null,null,null,null,"Grade 1 - 2","Grade 1 - 3","Stargazing is taken to the next level when the spectator can locate constellations in the night sky and remember the epic heroes and intriguing legends behind each. This illuminating series highlights some of the most celebrated constellations, such as Hercules, the Great Bear, and Cassiopeia. Readers will learn what the constellation looks like and the stories connected to each through accessible text, vivid photos, and intriguing illustrations. Astronomy and mythology intermingle in these fascinating volumes.\r\n\r\r\n•\tIdentifying stars and other celestial objects are an important part of the elementary science curriculum\r\r\n•\tHigh-interest stories and comprehensible text attract readers of all levels\r\r\n• \tProvides opportunities to consider how images contribute to and clarify text, a facet of the Common Core English/Language Arts Standards\r","English",135.6,101.7,null,"24 pp.",{"$f":"Table1[[#This Row],[QTY]]*Table1[[#This Row],['# Books]]","v":0},{"$f":"Table1[[#This Row],[QTY]]*Table1[[#This Row],[S&L Price]]","v":0}]
[null,null,59,"Stories in the Stars",1,"The Story of Leo the Lion","Library Bound Book",null,"978-1-4824-2675-5",{"$f":"HYPERLINK(\"https://www.garethstevens.com/\"&Table1[[#This Row],[ISBN]],\"Weblink\")","v":"Weblink"},2016,"August 2015","Library","7.000 X 7.000","Author","Blanche Roesser","2.8","0.5",16,null,"I",null,"Grade 1 - 2","Grade 1 - 3","The constellation called Leo looks like a lion, and many people recall the story of the Nemean Lion from Greek mythology when they see it. The Nemean Lion was a man-eating beast that no weapon could harm. Only one man could discover a way to kill it: the hero Hercules. This accessible, entertaining volume tells the story of Hercules and his battle with the infamous lion as well as instructs readers about when they can see Leo for themselves in the night sky.","English",22.6,16.95,"292.1","24 pp.",{"$f":"Table1[[#This Row],[QTY]]*Table1[[#This Row],['# Books]]","v":0},{"$f":"Table1[[#This Row],[QTY]]*Table1[[#This Row],[S&L Price]]","v":0}]
[null,null,59,"Stories in the Stars",1,"The Story of Leo the Lion","eBook",null,"978-1-4824-2676-2",{"$f":"HYPERLINK(\"https://www.garethstevens.com/\"&Table1[[#This Row],[ISBN]],\"Weblink\")","v":"Weblink"},2016,"August 2015",null,null,"Author","Blanche Roesser","2.8","0.5",16,null,"I",null,"Grade 1 - 2","Grade 1 - 3","The constellation called Leo looks like a lion, and many people recall the story of the Nemean Lion from Greek mythology when they see it. The Nemean Lion was a man-eating beast that no weapon could harm. Only one man could discover a way to kill it: the hero Hercules. This accessible, entertaining volume tells the story of Hercules and his battle with the infamous lion as well as instructs readers about when they can see Leo for themselves in the night sky.","English",22.6,16.95,"292.1","24 pp.",{"$f":"Table1[[#This Row],[QTY]]*Table1[[#This Row],['# Books]]","v":0},{"$f":"Table1[[#This Row],[QTY]]*Table1[[#This Row],[S&L Price]]","v":0}]
[null,null,59,"Stories in the Stars",1,"The Story of the Great Bear","Library Bound Book",null,"978-1-4824-2667-0",{"$f":"HYPERLINK(\"https://www.garethstevens.com/\"&Table1[[#This Row],[ISBN]],\"Weblink\")","v":"Weblink"},2016,"August 2015","Library","7.000 X 7.000","Author","Ingrid Griffin","2.9","0.5",16,null,"I",null,"Grade 1 - 2","Grade 1 - 3","Ursa Major, also known as the Great Bear, is one of the most famous constellations in the night sky. Ancient cultures thought the star formation looked like a bear, and the ancient Greeks connected the constellation to their myth of Callisto, a lovely woman who was transformed into a bear by the jealous goddess Hera. This exciting book provides an accessible introduction to the world of mythology and stargazing. Readers will also learn how to identify the Big Dipper within the Great Bear.","English",22.6,16.95,"398.20937","24 pp.",{"$f":"Table1[[#This Row],[QTY]]*Table1[[#This Row],['# Books]]","v":0},{"$f":"Table1[[#This Row],[QTY]]*Table1[[#This Row],[S&L Price]]","v":0}]
[null,null,61,"My Body Does Strange Stuff!",1,"How Do Cuts and Bruises Heal?","Interactive eBook","HTML5","978-1-4824-0238-4",{"$f":"HYPERLINK(\"https://www.garethstevens.com/\"&Table1[[#This Row],[ISBN]],\"Weblink\")","v":"Weblink"},2014,"January 2014",null,null,"Author","Gary Frick",null,null,16,15,"I",null,"Grade 1 - 2","Grade 1 - 3","Cuts and bruises are often a daily occurrence for many people, so it’s a good thing our bodies know how to heal them. Readers learn the fascinating science behind how our skin keeps us safe, and how cuts and bruises heal. Clear photographs and illustrations, as well as a helpful graphic organizer, help readers understand scientific vocabulary and concepts.","English",33.25,24.95,"612","24 pp.",{"$f":"Table1[[#This Row],[QTY]]*Table1[[#This Row],['# Books]]","v":0},{"$f":"Table1[[#This Row],[QTY]]*Table1[[#This Row],[S&L Price]]","v":0}]
[null,null,61,"My Body Does Strange Stuff!",1,"What Happens When I Burp?","eBook",null,"978-1-4824-0253-7",{"$f":"HYPERLINK(\"https://www.garethstevens.com/\"&Table1[[#This Row],[ISBN]],\"Weblink\")","v":"Weblink"},2014,"January 2014",null,null,"Author","Jaden Troiano",null,null,18,null,"J",null,"Grade 1 - 2","Grade 1 - 3","An unexpected burp at the dinner table can be embarrassing—although some people love to burp loud and proud! Whatever the case, everyone burps, and this scientific guide explains how and why. The text is paired with illustrative diagrams and colorful photographs to help readers grasp potentially complex topics.","English",23.6,17.7,"612.3","24 pp.",{"$f":"Table1[[#This Row],[QTY]]*Table1[[#This Row],['# Books]]","v":0},{"$f":"Table1[[#This Row],[QTY]]*Table1[[#This Row],[S&L Price]]","v":0}]
[null,null,61,"My Body Does Strange Stuff!",1,"What Happens When I Burp?","Interactive eBook","HTML5","978-1-4824-0254-4",{"$f":"HYPERLINK(\"https://www.garethstevens.com/\"&Table1[[#This Row],[ISBN]],\"Weblink\")","v":"Weblink"},2014,"January 2014",null,null,"Author","Jaden Troiano",null,null,18,null,"J",null,"Grade 1 - 2","Grade 1 - 3","An unexpected burp at the dinner table can be embarrassing—although some people love to burp loud and proud! Whatever the case, everyone burps, and this scientific guide explains how and why. The text is paired with illustrative diagrams and colorful photographs to help readers grasp potentially complex topics.","English",33.25,24.95,"612.3","24 pp.",{"$f":"Table1[[#This Row],[QTY]]*Table1[[#This Row],['# Books]]","v":0},{"$f":"Table1[[#This Row],[QTY]]*Table1[[#This Row],[S&L Price]]","v":0}]
[null,null,61,"My Body Does Strange Stuff!",1,"What Makes Me Stinky?","Library Bound Book",null,"978-1-4824-0301-5",{"$f":"HYPERLINK(\"https://www.garethstevens.com/\"&Table1[[#This Row],[ISBN]],\"Weblink\")","v":"Weblink"},2014,"January 2014","Library","7.000 X 7.000","Author","Wes Flynn",null,null,16,15,"I",null,"Grade 1 - 2","Grade 1 - 3","As people grow up, they become more active and often get involved in physical activities. This can make us sweat, and sweating can make us stink! In this book, readers will discover how exactly sweat can make us stinky. Straightforward images of age-appropriate kids, as well as a helpful graphic organizer, helps make a potentially difficult science topic accessible and fun.","English",23.6,17.7,"613","24 pp.",{"$f":"Table1[[#This Row],[QTY]]*Table1[[#This Row],['# Books]]","v":0},{"$f":"Table1[[#This Row],[QTY]]*Table1[[#This Row],[S&L Price]]","v":0}]
[null,null,61,"My Body Does Strange Stuff!",1,"Why Do My Teeth Fall Out?","Interactive eBook","HTML5","978-1-4824-0298-8",{"$f":"HYPERLINK(\"https://www.garethstevens.com/\"&Table1[[#This Row],[ISBN]],\"Weblink\")","v":"Weblink"},2014,"January 2014",null,null,"Author","Isabella Willebrandt",null,null,18,17,"J",null,"Grade 1 - 2","Grade 1 - 3","Losing baby teeth is an exciting part of growing up, but how exactly does it happen? Readers are sure to enjoy reading this book about their teeth, which includes numerous colorful photographs and illustrations to help make the scientific text easier to grasp. The text also addresses the importance of dental health.","English",33.25,24.95,"611","24 pp.",{"$f":"Table1[[#This Row],[QTY]]*Table1[[#This Row],['# Books]]","v":0},{"$f":"Table1[[#This Row],[QTY]]*Table1[[#This Row],[S&L Price]]","v":0}]
[null,null,61,"My Body Does Strange Stuff!",1,"What Happens When I Hiccup?","eBook",null,"978-1-4339-9341-1",{"$f":"HYPERLINK(\"https://www.garethstevens.com/\"&Table1[[#This Row],[ISBN]],\"Weblink\")","v":"Weblink"},2014,"August 2013",null,null,"Author","Daisy Allyn","3.1","0.5",18,17,"J",null,"Grade 1 - 2","Grade 1 - 3","Everybody knows how annoying hiccups can be. They interrupt us when we’re trying to talk, read, do homework, and even sleep! But what causes hiccups? Readers discover the answer to that question inside this book. They also learn some interesting ways to cure hiccups. Colorful photographs are paired with accessible text to help readers understand this relatable scientific topic.","English",23.6,17.7,"612.74","24 pp.",{"$f":"Table1[[#This Row],[QTY]]*Table1[[#This Row],['# Books]]","v":0},{"$f":"Table1[[#This Row],[QTY]]*Table1[[#This Row],[S&L Price]]","v":0}]
[null,null,61,"My Body Does Strange Stuff!",1,"What Happens When I Hiccup?","Interactive eBook","HTML5","978-1-4339-9727-3",{"$f":"HYPERLINK(\"https://www.garethstevens.com/\"&Table1[[#This Row],[ISBN]],\"Weblink\")","v":"Weblink"},2014,"August 2013",null,null,"Author","Daisy Allyn","3.1","0.5",18,17,"J",null,"Grade 1 - 2","Grade 1 - 3","Everybody knows how annoying hiccups can be. They interrupt us when we’re trying to talk, read, do homework, and even sleep! But what causes hiccups? Readers discover the answer to that question inside this book. They also learn some interesting ways to cure hiccups. Colorful photographs are paired with accessible text to help readers understand this relatable scientific topic.","English",33.25,24.95,"612.74","24 pp.",{"$f":"Table1[[#This Row],[QTY]]*Table1[[#This Row],['# Books]]","v":0},{"$f":"Table1[[#This Row],[QTY]]*Table1[[#This Row],[S&L Price]]","v":0}]
[null,null,61,"My Body Does Strange Stuff!",1,"What Happens When I Sweat?","eBook",null,"978-1-4339-9350-3",{"$f":"HYPERLINK(\"https://www.garethstevens.com/\"&Table1[[#This Row],[ISBN]],\"Weblink\")","v":"Weblink"},2014,"August 2013",null,null,"Author","Lincoln James","3.3","0.5",18,17,"J","610L","Grade 1 - 2","Grade 1 - 3","Sweating sure is gross, but everyone does it. It’s a good thing too, because it’s our body’s way of cooling us down. Readers will discover the reasons why we sweat, and how the body works to produce it. The text presents scientific terms and concepts in an accessible, relatable manner, and colorful photographs and diagrams help readers actually enjoy learning about this important body process.","English",23.6,17.7,"612.7921","24 pp.",{"$f":"Table1[[#This Row],[QTY]]*Table1[[#This Row],['# Books]]","v":0},{"$f":"Table1[[#This Row],[QTY]]*Table1[[#This Row],[S&L Price]]","v":0}]
[null,null,61,"My Body Does Strange Stuff!",1,"What Happens When I Yawn?","Library Bound Book",null,"978-1-4339-9357-2",{"$f":"HYPERLINK(\"https://www.garethstevens.com/\"&Table1[[#This Row],[ISBN]],\"Weblink\")","v":"Weblink"},2014,"August 2013","Library","7.000 X 7.000","Author","Aleaha Schwinn","3.4","0.5",18,17,"J","790L","Grade 1 - 2","Grade 1 - 3","Why do people yawn? Is it because we need oxygen? Or do we yawn to cool off our brain? The answer is, scientists aren’t totally sure just yet, but they have many great theories. The vibrant photographs and diagrams in this book help demonstrate what happens in the body when we yawn. The scientific yet accessible text was designed to both interest and enlighten readers of all ages.","English",23.6,17.7,"612.8","24 pp.",{"$f":"Table1[[#This Row],[QTY]]*Table1[[#This Row],['# Books]]","v":0},{"$f":"Table1[[#This Row],[QTY]]*Table1[[#This Row],[S&L Price]]","v":0}]
[null,null,61,"My Body Does Strange Stuff!",1,"What Happens When I Yawn?","Interactive eBook","HTML5","978-1-4339-9361-9",{"$f":"HYPERLINK(\"https://www.garethstevens.com/\"&Table1[[#This Row],[ISBN]],\"Weblink\")","v":"Weblink"},2014,"August 2013",null,null,"Author","Aleaha Schwinn","3.4","0.5",18,17,"J",null,"Grade 1 - 2","Grade 1 - 3","Why do people yawn? Is it because we need oxygen? Or do we yawn to cool off our brain? The answer is, scientists aren’t totally sure just yet, but they have many great theories. The vibrant photographs and diagrams in this book help demonstrate what happens in the body when we yawn. The scientific yet accessible text was designed to both interest and enlighten readers of all ages.","English",33.25,24.95,"612.8","24 pp.",{"$f":"Table1[[#This Row],[QTY]]*Table1[[#This Row],['# Books]]","v":0},{"$f":"Table1[[#This Row],[QTY]]*Table1[[#This Row],[S&L Price]]","v":0}]
[null,null,63,"Symbols of America",1,"Arlington National Cemetery","Library Bound Book",null,"978-1-5382-2897-5",{"$f":"HYPERLINK(\"https://www.garethstevens.com/\"&Table1[[#This Row],[ISBN]],\"Weblink\")","v":"Weblink"},2019,"January 2019","Library","7.000 X 7.000","Author","Barbara M. Linde","3.9","0.5",null,null,"H",null,"Grade 1 - 2","Grade 1 - 3","The final resting place for many of America's heroes is located only a few miles from our nation's capital. This high-interest text will take readers on a tour of the cemetery and point out the graves of some well-known patriots, including President John F. Kennedy, Jr. A detailed map guides readers as they locate sections and specific grave sites. Descriptions of ceremonies help readers understand how these events show respect for those who gave their lives in the service of their country. Photographs such as the changing of the guard at the Tomb of the Unknowns enhance the text.","English",22.6,16.95,"975.5/295--dc23","24 pp.",{"$f":"Table1[[#This Row],[QTY]]*Table1[[#This Row],['# Books]]","v":0},{"$f":"Table1[[#This Row],[QTY]]*Table1[[#This Row],[S&L Price]]","v":0}]
[null,null,63,"Symbols of America",1,"The Lincoln Memorial","eBook",null,"978-1-5382-3041-1",{"$f":"HYPERLINK(\"https://www.garethstevens.com/\"&Table1[[#This Row],[ISBN]],\"Weblink\")","v":"Weblink"},2019,"January 2019",null,null,"Author","Barbara M. Linde","3.5","0.5",null,null,"H",null,"Grade 1 - 2","Grade 1 - 3","Abraham Lincoln was a giant of a president, so it befits him to have a 19 x 19-feet marble statue enclosed in an enormous building on the mall in Washington, D.C. Each spread in this book is packed with interesting, accessible text and photographs that bring the story of Abraham Lincoln's Memorial into sharp focus. Readers will feel like they are on a virtual tour of the statue, building, and grounds as they learn about Lincoln and the builders of his historic memorial.","English",22.6,16.95,"975.3--dc23","24 pp.",{"$f":"Table1[[#This Row],[QTY]]*Table1[[#This Row],['# Books]]","v":0},{"$f":"Table1[[#This Row],[QTY]]*Table1[[#This Row],[S&L Price]]","v":0}]
[null,null,63,"Symbols of America",1,"Uncle Sam","Library Bound Book",null,"978-1-5382-2902-6",{"$f":"HYPERLINK(\"https://www.garethstevens.com/\"&Table1[[#This Row],[ISBN]],\"Weblink\")","v":"Weblink"},2019,"January 2019","Library","7.000 X 7.000","Author","Barbara M. Linde","3.3","0.5",null,null,"H",null,"Grade 1 - 2","Grade 1 - 3","Was there really an Uncle Sam? Yes! He was Samuel Wilson, who sent barrels of meat marked \"U.S.\" to American soldiers during the War of 1812.The soldiers called it \"Uncle Sam's\" meat, and an icon was born. Cartoonist Thomas Nast drew the familiar portrait of the man in a top hat and striped pants. Uncle Sam's image has appeared in political ads and on postage stamps. Costumed interpreters take on his persona at historic sites, including Mount Vernon. This high-interest text will engage readers and leave them wanting to find out more about one of America's most famous symbols.","English",22.6,16.95,"398.20973/02--dc23","24 pp.",{"$f":"Table1[[#This Row],[QTY]]*Table1[[#This Row],['# Books]]","v":0},{"$f":"Table1[[#This Row],[QTY]]*Table1[[#This Row],[S&L Price]]","v":0}]
[null,null,63,"Symbols of America",1,"The Liberty Bell","eBook",null,"978-1-4824-1872-9",{"$f":"HYPERLINK(\"https://www.garethstevens.com/\"&Table1[[#This Row],[ISBN]],\"Weblink\")","v":"Weblink"},2015,"January 2015",null,null,"Author","Maria Nelson","3.6","0.5",18,null,"J",null,"Grade 1 - 2","Grade 1 - 3","The Liberty Bell hasn’t been properly rung since 1846 when it cracked irreparably. However, its inability to ring doesn’t diminish it as a symbol of freedom in the United States. Readers are introduced to the history of the Liberty Bell from its casting to the present day. Historical images as well as full-color, modern photographs of the bell engage readers with the story of one of the nation’s most recognizable symbols. A timeline offers an additional guide to the interesting, accessible main content.","English",22.6,16.95,"974.8","24 pp.",{"$f":"Table1[[#This Row],[QTY]]*Table1[[#This Row],['# Books]]","v":0},{"$f":"Table1[[#This Row],[QTY]]*Table1[[#This Row],[S&L Price]]","v":0}]
[null,null,63,"Symbols of America",1,"The National Anthem","Library Bound Book",null,"978-1-4824-1874-3",{"$f":"HYPERLINK(\"https://www.garethstevens.com/\"&Table1[[#This Row],[ISBN]],\"Weblink\")","v":"Weblink"},2015,"January 2015","Library","7.000 X 7.000","Author","Maria Nelson","3.9","0.5",18,null,"J",null,"Grade 1 - 2","Grade 1 - 3","Most Americans know the famous words and tune of \"The Star-Spangled Banner.\" This national anthem was born from one man's experience during war and continues to remind us of the perseverance and strength of the United States. The symbolism of the national anthem is palpable in the story of Francis Scott Key's experience at Fort McHenry. Readers learn the story of Key's immortal words through engaging historical content.","English",22.6,16.95,"782.42","24 pp.",{"$f":"Table1[[#This Row],[QTY]]*Table1[[#This Row],['# Books]]","v":0},{"$f":"Table1[[#This Row],[QTY]]*Table1[[#This Row],[S&L Price]]","v":0}]
[null,null,63,"Symbols of America",1,"The U.S. Flag","Library Bound Book",null,"978-1-4824-1883-5",{"$f":"HYPERLINK(\"https://www.garethstevens.com/\"&Table1[[#This Row],[ISBN]],\"Weblink\")","v":"Weblink"},2015,"January 2015","Library","7.000 X 7.000","Author","Walter LaPlante","3.4","0.5",18,null,"J",null,"Grade 1 - 2","Grade 1 - 3","The American flag flies from government buildings, schools, and often from homes. Great care is taken with it, and if anything happens to a U.S. flag, outrage often follows. While readers are likely familiar with saying the Pledge of Allegiance and celebrating Flag Day each June, they may not know why stars were added or what the colors of the flag have meant throughout U.S. history. The main content of this valuable addition to a social studies library covers both the historical and symbolic background of the American flag. Full-color photographs of flags through the years help readers understand its great significance through many eras.","English",22.6,16.95,"929.9","24 pp.",{"$f":"Table1[[#This Row],[QTY]]*Table1[[#This Row],['# Books]]","v":0},{"$f":"Table1[[#This Row],[QTY]]*Table1[[#This Row],[S&L Price]]","v":0}]
[null,null,65,"Adventures in Culture",1,"Communication Around the World","Library Bound Book",null,"978-1-5382-1855-6",{"$f":"HYPERLINK(\"https://www.garethstevens.com/\"&Table1[[#This Row],[ISBN]],\"Weblink\")","v":"Weblink"},2019,"August 2018","Library","7.000 X 7.000","Author","Jeff Sferazza",null,null,18,null,"J",null,"Grade 1 - 2","Grade 1 - 3","Young readers today are exposed to diversity that past generations could never have experienced. This book helps them understand how the simple act of communication happens throughout a wide diversity of cultures. By promoting an early interest in other cultures, these books strengthen young readers' understanding of their place in the global community, conveying the unfamiliar in a familiar way. Discussing diversity with young readers, each page has accessible, fun text and vibrant, full-color photography that pops off each spread to enhance comprehension of the subject matter.","English",22.6,16.95,"302.2--dc23","24 pp.",{"$f":"Table1[[#This Row],[QTY]]*Table1[[#This Row],['# Books]]","v":0},{"$f":"Table1[[#This Row],[QTY]]*Table1[[#This Row],[S&L Price]]","v":0}]
[null,null,65,"Adventures in Culture",1,"Games Around the World","eBook",null,"978-1-5382-1864-8",{"$f":"HYPERLINK(\"https://www.garethstevens.com/\"&Table1[[#This Row],[ISBN]],\"Weblink\")","v":"Weblink"},2019,"August 2018",null,null,"Author","Mary Pat Ehmann",null,null,18,null,"J",null,"Grade 1 - 2","Grade 1 - 3","Did you know that Chutes and Ladders originated thousands of years ago in India? Or that playing cards have been around for centuries? Games have always been a part of many cultures as a way to entertain or pass the time. Young readers finally get a chance through this book to see and learn about popular games in other cultures, learning that we're not all so different, even though the games might be. No library or classroom would be complete without this book.","English",22.6,16.95,"790.1--dc23","24 pp.",{"$f":"Table1[[#This Row],[QTY]]*Table1[[#This Row],['# Books]]","v":0},{"$f":"Table1[[#This Row],[QTY]]*Table1[[#This Row],[S&L Price]]","v":0}]
[null,null,65,"Adventures in Culture",1,"Holidays Around the World","Library Bound Book",null,"978-1-5382-1867-9",{"$f":"HYPERLINK(\"https://www.garethstevens.com/\"&Table1[[#This Row],[ISBN]],\"Weblink\")","v":"Weblink"},2019,"August 2018","Library","7.000 X 7.000","Author","Jeff Sferazza",null,null,18,null,"J",null,"Grade 1 - 2","Grade 1 - 3","Do they celebrate Christmas in Thailand, or New Year's Eve in Iceland? What is Passover like in Israel? It's time to celebrate the holidays with people around the world. Readers are sure to be fascinated by the diverse ways people gather for and celebrate the holidays. Important vocabulary and cultural concepts are stressed in accessible text that's enjoyable for even the most reluctant readers. Striking, full-color photographs on each spread bring the diversity of our world's cultures into splendidly detailed focus.","English",22.6,16.95,"394.26--dc23","24 pp.",{"$f":"Table1[[#This Row],[QTY]]*Table1[[#This Row],['# Books]]","v":0},{"$f":"Table1[[#This Row],[QTY]]*Table1[[#This Row],[S&L Price]]","v":0}]
[null,null,65,"Adventures in Culture",1,"Toys Around the World","eBook",null,"978-1-5382-1876-1",{"$f":"HYPERLINK(\"https://www.garethstevens.com/\"&Table1[[#This Row],[ISBN]],\"Weblink\")","v":"Weblink"},2019,"August 2018",null,null,"Author","Mary Pat Ehmann",null,null,18,null,"J",null,"Grade 1 - 2","Grade 1 - 3","Did you know that dolls have been found to be a toy in nearly every culture on Earth? In childhood, it's hard to imagine that there are even other places in the world, let alone that these places have children with totally different toys. This book shows the rich diversity of playthings children across the globe entertain themselves and learn with. Through easy-to-understand language and vivid full-color photography on every spread, this important work also teaches that we all have the same basic needs as humans. No children's library or classroom should be without this book.","English",22.6,16.95,"649/.55--dc23","24 pp.",{"$f":"Table1[[#This Row],[QTY]]*Table1[[#This Row],['# Books]]","v":0},{"$f":"Table1[[#This Row],[QTY]]*Table1[[#This Row],[S&L Price]]","v":0}]
[null,null,65,"Adventures in Culture",1,"Food Around the World","Library Bound Book",null,"978-1-4824-5584-7",{"$f":"HYPERLINK(\"https://www.garethstevens.com/\"&Table1[[#This Row],[ISBN]],\"Weblink\")","v":"Weblink"},2017,"January 2017","Library","7.000 X 7.000","Author","Charles Murphy",null,null,null,null,"K",null,"Grade 1 - 2","Grade 1 - 3","Tamales, falafel, moussaka, Peking duck...hungry yet? These culinary treasures are traditional dishes in various countries, though they have gained popularity in other regions as well. Readers will be ravenous to find out more about these delicacies and ones less familiar. They’ll discover through appetizing, accessible text and mouth-watering photographs that their sense of taste is a great way to ingest cultural concepts.","English",22.6,16.95,"394.1’2 --dc23","24 pp.",{"$f":"Table1[[#This Row],[QTY]]*Table1[[#This Row],['# Books]]","v":0},{"$f":"Table1[[#This Row],[QTY]]*Table1[[#This Row],[S&L Price]]","v":0}]
[null,null,65,"Adventures in Culture",1,"Schools Around the World","eBook",null,"978-1-4824-5592-2",{"$f":"HYPERLINK(\"https://www.garethstevens.com/\"&Table1[[#This Row],[ISBN]],\"Weblink\")","v":"Weblink"},2017,"January 2017",null,null,"Author","Eleanor O'Connell",null,null,null,null,"J",null,"Grade 1 - 2","Grade 1 - 3","Going to school on a boat or even a moving school bus aren’t the settings for a fictional story, but real-life scenarios for some children around the world. Readers will love learning about different schools and cultures—and picturing what their lives would be like in similar circumstances. This beneficial volume, with its bright, colorful images, is a worthy addition to any social studies collection.","English",22.6,16.95,"371--dc23","24 pp.",{"$f":"Table1[[#This Row],[QTY]]*Table1[[#This Row],['# Books]]","v":0},{"$f":"Table1[[#This Row],[QTY]]*Table1[[#This Row],[S&L Price]]","v":0}]
[null,null,65,"Where on Earth? Mapping Parts of the World",6,"Where on Earth? Mapping Parts of the World","Library Set",null,"978-1-5382-0238-8",{"$f":"HYPERLINK(\"https://www.garethstevens.com/\"&Table1[[#This Row],[ISBN]],\"Weblink\")","v":"Weblink"},2018,"August 2017","Library","7.000 X 7.000",null,null,null,null,null,null,null,null,"Grade 1 - 2","Grade 1 - 3","It's exciting to learn just where you are in the world, literally! Developing an understanding of geography and maps is key to grasping more advanced topics such as cultures, economics, politics, and current events. This series explores the hemispheres, continents, equator, and poles in a unique and exciting way that is perfect for young readers.","English",135.6,101.7,null,"24 pp.",{"$f":"Table1[[#This Row],[QTY]]*Table1[[#This Row],['# Books]]","v":0},{"$f":"Table1[[#This Row],[QTY]]*Table1[[#This Row],[S&L Price]]","v":0}]
[null,null,65,"Where on Earth? Mapping Parts of the World",1,"Earth's Continents","eBook",null,"978-1-4824-6416-0",{"$f":"HYPERLINK(\"https://www.garethstevens.com/\"&Table1[[#This Row],[ISBN]],\"Weblink\")","v":"Weblink"},2018,"August 2017",null,null,"Author","Todd Bluthenthal",null,null,null,null,"H","600L","Grade 1 - 2","Grade 1 - 3","Why do continents matter? From economics to weather science, knowing the characteristics of the continents expands readers' perspectives in every school subject. This fundamental information is a building block of many future lessons and an essential part of elementary education. This book presents a focused, clear, age-appropriate look at Earth's continents that young readers are sure to find both informative and interesting. This volume is also packed with colorful maps that are labeled and explained to foster young readers' comprehension of this important topic.","English",22.6,16.95,"551.41--dc23","24 pp.",{"$f":"Table1[[#This Row],[QTY]]*Table1[[#This Row],['# Books]]","v":0},{"$f":"Table1[[#This Row],[QTY]]*Table1[[#This Row],[S&L Price]]","v":0}]
[null,null,65,"Where on Earth? Mapping Parts of the World",1,"The Equator","Library Bound Book",null,"978-1-4824-6423-8",{"$f":"HYPERLINK(\"https://www.garethstevens.com/\"&Table1[[#This Row],[ISBN]],\"Weblink\")","v":"Weblink"},2018,"August 2017","Library","7.000 X 7.000","Author","Todd Bluthenthal",null,null,null,null,"I","740L","Grade 1 - 2","Grade 1 - 3","“The Earth is wearing a belt” is an age-old visual device teachers have used to explain the equator. In this volume, young readers will expand their comprehension of this important concept. With an understanding of the equator comes a grasping of the rotation of the Earth, climate, weather, and many other age-appropriate science concepts. Clean, accessible art on every spread—including diagrams, maps, and full-color photographs—help readers grasp these curriculum topics. That important main line of latitude we call the equator is made familiar through clean text and graphics in a way that every elementary reader is sure to understand!","English",22.6,16.95,"526’.6--dc23","24 pp.",{"$f":"Table1[[#This Row],[QTY]]*Table1[[#This Row],['# Books]]","v":0},{"$f":"Table1[[#This Row],[QTY]]*Table1[[#This Row],[S&L Price]]","v":0}]
[null,null,65,"Where on Earth? Mapping Parts of the World",1,"The South Pole","eBook",null,"978-1-4824-6436-8",{"$f":"HYPERLINK(\"https://www.garethstevens.com/\"&Table1[[#This Row],[ISBN]],\"Weblink\")","v":"Weblink"},2018,"August 2017",null,null,"Author","Todd Bluthenthal",null,null,null,null,"H","590L","Grade 1 - 2","Grade 1 - 3","The South Pole is cold, but there's more to it than that. This book presents the cartography and earth science of this polar region to young readers in an engaging and informative way. Several spreads are dedicated to the fascinating history of the brave explorers of this icy landscape, a part of history that is sure to impress all elementary readers. The colorful, easily understood maps and vivid photographs of the South Pole will expand each reader's grasp on the concepts of poles, continents, climate, and Earth's rotation.","English",22.6,16.95,"919.89--dc23","24 pp.",{"$f":"Table1[[#This Row],[QTY]]*Table1[[#This Row],['# Books]]","v":0},{"$f":"Table1[[#This Row],[QTY]]*Table1[[#This Row],[S&L Price]]","v":0}]
[null,null,70,"A Look at Earth's Rocks",6,"A Look at Earth's Rocks","Library Set",null,"978-1-4824-6281-4",{"$f":"HYPERLINK(\"https://www.garethstevens.com/\"&Table1[[#This Row],[ISBN]],\"Weblink\")","v":"Weblink"},2018,"August 2017","Library","6.500 X 9.125",null,null,null,null,null,null,null,null,"Grade 2","Grade 3 - 6","One of the central concepts of Earth science is the rock cycle. But in order to understand that, readers need to know all about igneous, metamorphic, and sedimentary rocks—as well as erosion! This series offers exactly the introduction many readers need. The main content is written in clear, accessible language, making each volume an asset to readers in need of help or those looking for a concise overview of the topic. Fact boxes add simple explanations of key terms and ideas.","English",159.6,119.7,null,"32 pp.",{"$f":"Table1[[#This Row],[QTY]]*Table1[[#This Row],['# Books]]","v":0},{"$f":"Table1[[#This Row],[QTY]]*Table1[[#This Row],[S&L Price]]","v":0}]
[null,null,70,"A Look at Earth's Rocks",1,"What Are Minerals?","Library Bound Book",null,"978-1-4824-6244-9",{"$f":"HYPERLINK(\"https://www.garethstevens.com/\"&Table1[[#This Row],[ISBN]],\"Weblink\")","v":"Weblink"},2018,"August 2017","Library","6.500 X 9.125","Author","Kristen Rajczak Nelson",null,null,null,null,"K","870L","Grade 2","Grade 3 - 6","Minerals are an essential part of the Earth science curriculum since silicate minerals make up more than 90 percent of Earth’s crust! In order to understand this fact, though, students need to know the difference between minerals and rocks, how minerals form, and how minerals are structured. This book breaks down these topics and more in simple, clear language ideal for struggling readers or those looking to review an important topic. Fact boxes elaborate on difficult concepts and define scientific terms, complementing the main content’s curriculum focus and full-color photographs of common minerals.","English",26.6,19.95,"549--dc23","32 pp.",{"$f":"Table1[[#This Row],[QTY]]*Table1[[#This Row],['# Books]]","v":0},{"$f":"Table1[[#This Row],[QTY]]*Table1[[#This Row],[S&L Price]]","v":0}]
[null,null,70,"A Look at Earth's Rocks",1,"What Is Erosion?","eBook",null,"978-1-4824-6018-6",{"$f":"HYPERLINK(\"https://www.garethstevens.com/\"&Table1[[#This Row],[ISBN]],\"Weblink\")","v":"Weblink"},2018,"August 2017",null,null,"Author","Frances Nagle",null,null,null,null,"K","870L","Grade 2","Grade 3 - 6","Erosion has shaped the landscape all over the world. It occurs in small ways every day as wind and water move soil, rock, and other materials from place to place. Readers learn the specifics of how erosion happens and its place in the rock cycle. Full-color photographs showcase the amazing results of erosion from around the world, including waterfalls, canyons, and coastlines. Readers of all levels can use this volume to review or better understand a key area of Earth science through accessible language and simple definitions and explanations.","English",26.6,19.95,"551.3/02--dc23","32 pp.",{"$f":"Table1[[#This Row],[QTY]]*Table1[[#This Row],['# Books]]","v":0},{"$f":"Table1[[#This Row],[QTY]]*Table1[[#This Row],[S&L Price]]","v":0}]
[null,null,70,"A Look at Life Cycles",1,"Amphibian Life Cycles","Library Bound Book",null,"978-1-5382-1033-8",{"$f":"HYPERLINK(\"https://www.garethstevens.com/\"&Table1[[#This Row],[ISBN]],\"Weblink\")","v":"Weblink"},2018,"January 2018","Library","6.500 X 9.125","Author","Bray Jacobson","4.3","0.5",null,null,"I","560L","Grade 2","Grade 3 - 6","Amphibians have some of the most interesting life cycles on Earth. The metamorphosis frogs, toads, salamanders, newts, and caecilians go through has many steps that readers need to understand and remember. This book offers a concise overview of the general amphibian life cycle as well as representative examples of the many species within the animal group. Most importantly, the accessible language is paired with diagrams of the steps of the life cycle to augment readers’ understanding of this topic often found in the science curriculum.","English",26.6,19.95,"597.8'9--dc23","32 pp.",{"$f":"Table1[[#This Row],[QTY]]*Table1[[#This Row],['# Books]]","v":0},{"$f":"Table1[[#This Row],[QTY]]*Table1[[#This Row],[S&L Price]]","v":0}]
[null,null,70,"A Look at Life Cycles",1,"Amphibian Life Cycles","eBook",null,"978-1-5382-1034-5",{"$f":"HYPERLINK(\"https://www.garethstevens.com/\"&Table1[[#This Row],[ISBN]],\"Weblink\")","v":"Weblink"},2018,"January 2018",null,null,"Author","Bray Jacobson","4.3","0.5",null,null,"I","560L","Grade 2","Grade 3 - 6","Amphibians have some of the most interesting life cycles on Earth. The metamorphosis frogs, toads, salamanders, newts, and caecilians go through has many steps that readers need to understand and remember. This book offers a concise overview of the general amphibian life cycle as well as representative examples of the many species within the animal group. Most importantly, the accessible language is paired with diagrams of the steps of the life cycle to augment readers’ understanding of this topic often found in the science curriculum.","English",26.6,19.95,"597.8'9--dc23","32 pp.",{"$f":"Table1[[#This Row],[QTY]]*Table1[[#This Row],['# Books]]","v":0},{"$f":"Table1[[#This Row],[QTY]]*Table1[[#This Row],[S&L Price]]","v":0}]
[null,null,70,"A Look at Life Cycles",1,"Insect Life Cycles","Library Bound Book",null,"978-1-5382-1046-8",{"$f":"HYPERLINK(\"https://www.garethstevens.com/\"&Table1[[#This Row],[ISBN]],\"Weblink\")","v":"Weblink"},2018,"January 2018","Library","6.500 X 9.125","Author","Bray Jacobson","4.5","0.5",null,null,"I","820L","Grade 2","Grade 3 - 6","Many insects hatch from eggs and molt several times as they grow bigger. Others, such as butterflies, undergo a complete metamorphosis. A common science curriculum topic, insect life cycles may be confusing because of these differences. However, this book breaks down these cycles into easy-to-understand steps in both accessible language and colorful diagrams readers can turn to for review again and again. The most important vocabulary needed to talk about insect life cycles is further explained in fact boxes and an extended glossary.","English",26.6,19.95,"595.7156--dc23","32 pp.",{"$f":"Table1[[#This Row],[QTY]]*Table1[[#This Row],['# Books]]","v":0},{"$f":"Table1[[#This Row],[QTY]]*Table1[[#This Row],[S&L Price]]","v":0}]
[null,null,70,"A Look at Life Cycles",1,"Reptile Life Cycles","eBook",null,"978-1-5382-1055-0",{"$f":"HYPERLINK(\"https://www.garethstevens.com/\"&Table1[[#This Row],[ISBN]],\"Weblink\")","v":"Weblink"},2018,"January 2018",null,null,"Author","Bray Jacobson","4.3","0.5",null,null,"I","840L","Grade 2","Grade 3 - 6","Some reptiles lay eggs and some give birth to live young. In this book, readers learn about the reptile life cycle beginning in both ways. The main content gives a simple overview of the steps included in the reptile life cycle accompanied by helpful diagrams to aid readers’ understanding of this common science curriculum topic. Written with struggling readers in mind, this volume gives explanations in accessible language, which also makes it an excellent source for any reader to review the topic.","English",26.6,19.95,"597.9'156--dc23","32 pp.",{"$f":"Table1[[#This Row],[QTY]]*Table1[[#This Row],['# Books]]","v":0},{"$f":"Table1[[#This Row],[QTY]]*Table1[[#This Row],[S&L Price]]","v":0}]
[null,null,71,"A Look at Physical Science",1,"Forces and Motion","eBook",null,"978-1-5382-2144-0",{"$f":"HYPERLINK(\"https://www.garethstevens.com/\"&Table1[[#This Row],[ISBN]],\"Weblink\")","v":"Weblink"},2019,"August 2018",null,null,"Author","Kathleen Connors",null,null,null,null,"J",null,"Grade 2","Grade 3 - 6","Newton's laws aren't the easiest science topics to digest. Struggling readers likely find understanding them even harder. This volume breaks down the topics of force and motion to its most basic and understandable parts, perfect to introduce to readers having a hard time or students looking to review for class. Written in succinct language, each chapter contains fact boxes and graphic organizers to aid all readers as they move from speed, to velocity and on.","English",26.6,19.95,"531'.6--dc23","32 pp.",{"$f":"Table1[[#This Row],[QTY]]*Table1[[#This Row],['# Books]]","v":0},{"$f":"Table1[[#This Row],[QTY]]*Table1[[#This Row],[S&L Price]]","v":0}]
[null,null,71,"A Look at Physical Science",1,"Heat","Library Bound Book",null,"978-1-5382-2147-1",{"$f":"HYPERLINK(\"https://www.garethstevens.com/\"&Table1[[#This Row],[ISBN]],\"Weblink\")","v":"Weblink"},2019,"August 2018","Library","6.500 X 9.125","Author","Kathleen Connors",null,null,null,null,"J",null,"Grade 2","Grade 3 - 6","There's so much more to heat than hot and cold! How it moves, keeps us warm in the winter, and helps us cook our food is all part of this key science topic. Inside a colorful layout, the main text is written with struggling readers in mind, giving clear, concise explanations in understandable language to propel these readers to classroom success. Graphic organizers reinforce important topics for visual learners and those using the books as a \"crash course\" review of heat.","English",26.6,19.95,"536--dc23","32 pp.",{"$f":"Table1[[#This Row],[QTY]]*Table1[[#This Row],['# Books]]","v":0},{"$f":"Table1[[#This Row],[QTY]]*Table1[[#This Row],[S&L Price]]","v":0}]
[null,null,71,"A Look at Physical Science",1,"Magnetism","eBook",null,"978-1-5382-2156-3",{"$f":"HYPERLINK(\"https://www.garethstevens.com/\"&Table1[[#This Row],[ISBN]],\"Weblink\")","v":"Weblink"},2019,"August 2018",null,null,"Author","Kathleen Connors",null,null,null,null,"J",null,"Grade 2","Grade 3 - 6","Kids often play with magnets, yet they don't learn how these playthings work for many years. Practical knowledge from their play can help them learn more about magnetism, and so can this book. Specially written for those with reading challenges or readers looking for a review, the main text covers important vocabulary, magnetic fields, and a discussion of why metals and magnets come together. Diagrams and succinct fact boxes offer additional ways to learn each concept and explain some ideas in greater detail.","English",26.6,19.95,"538--dc23","32 pp.",{"$f":"Table1[[#This Row],[QTY]]*Table1[[#This Row],['# Books]]","v":0},{"$f":"Table1[[#This Row],[QTY]]*Table1[[#This Row],[S&L Price]]","v":0}]
[null,null,71,"A Look at Your Government",1,"How Does a Bill Become a Law?","Library Bound Book",null,"978-1-4824-6057-5",{"$f":"HYPERLINK(\"https://www.garethstevens.com/\"&Table1[[#This Row],[ISBN]],\"Weblink\")","v":"Weblink"},2018,"August 2017","Library","6.500 X 9.125","Author","Kathleen Connors","4.7","0.5",null,null,"K","820L","Grade 2","Grade 3 - 6","Our nation’s laws go through a long process before they are enacted. Bills are scrutinized and researched by committees in both the House and Senate and may be rewritten several times before they pass. This book breaks down the complicated process into digestible steps for readers looking to better understand an important component of the social studies curriculum. Fact boxes further clarify how the government works, supply key terms, and give more detail about congressional committees. A concluding flowchart allows readers to review the process even more easily.","English",26.6,19.95,"328.73/077--dc23","32 pp.",{"$f":"Table1[[#This Row],[QTY]]*Table1[[#This Row],['# Books]]","v":0},{"$f":"Table1[[#This Row],[QTY]]*Table1[[#This Row],[S&L Price]]","v":0}]
[null,null,71,"A Look at Your Government",1,"What Does the President Do?","eBook",null,"978-1-4824-6054-4",{"$f":"HYPERLINK(\"https://www.garethstevens.com/\"&Table1[[#This Row],[ISBN]],\"Weblink\")","v":"Weblink"},2018,"August 2017",null,null,"Author","Kathleen Connors","5.2","0.5",null,null,"K","890L","Grade 2","Grade 3 - 6","The US president is the face of the United States to the rest of the world. However, he or she doesn’t have unlimited power within the country. The president has certain powers given by the Constitution, including the ability to make treaties, appoint some important government officials, and veto laws. Readers learn the many duties of the president in simple, clear language appropriate for both younger readers and older readers looking for a succinct review of the topic. Fact boxes supplement the main content with important details about checks and balances, amendments, and more that affect the presidency today.","English",26.6,19.95,"352.23’0973--dc23","32 pp.",{"$f":"Table1[[#This Row],[QTY]]*Table1[[#This Row],['# Books]]","v":0},{"$f":"Table1[[#This Row],[QTY]]*Table1[[#This Row],[S&L Price]]","v":0}]
[null,null,71,"A Look at Your Government",1,"What Does the US Supreme Court Do?","Library Bound Book",null,"978-1-4824-6061-2",{"$f":"HYPERLINK(\"https://www.garethstevens.com/\"&Table1[[#This Row],[ISBN]],\"Weblink\")","v":"Weblink"},2018,"August 2017","Library","6.500 X 9.125","Author","Santana Hunt","4.9","0.5",null,null,"K","850L","Grade 2","Grade 3 - 6","The Supreme Court is the highest court in the United States. While it only hears about 80 cases out of the thousands that petition to be heard, the court’s decisions have a big impact. The most important job of the Supreme Court is to decide the constitutionality of laws and actions. This process is broken down for readers in simple terms that support their understanding of the judicial branch. The main content offers curriculum-based information about the court’s relationship with the Constitution, justice appointments, and how justices write opinions. Fact boxes supply definitions and further explanations of more complicated ideas.","English",26.6,19.95,"347.73/26--dc23","32 pp.",{"$f":"Table1[[#This Row],[QTY]]*Table1[[#This Row],['# Books]]","v":0},{"$f":"Table1[[#This Row],[QTY]]*Table1[[#This Row],[S&L Price]]","v":0}]
[null,null,71,"A Look at Your Government",1,"Why Do We Vote?","eBook",null,"978-1-4824-6070-4",{"$f":"HYPERLINK(\"https://www.garethstevens.com/\"&Table1[[#This Row],[ISBN]],\"Weblink\")","v":"Weblink"},2018,"August 2017",null,null,"Author","Santana Hunt","5.3","0.5",18,null,"K","920L","Grade 2","Grade 3 - 6","Many Americans believe it is their civic duty to vote. However, in most elections, less than half of eligible voters show up at the polls. Readers are introduced to the many reasons why voting is an important, including how voting allows the voice of the people to be heard. The main content tackles a complex idea of citizenship with accessible language and age-appropriate subject matter. Briefly covering social studies curriculum topics such as the Electoral College, disenfranchisement, and the Voting Rights Act of 1965, this book serves as an excellent companion to classroom learning.","English",26.6,19.95,"324.60973--dc23","32 pp.",{"$f":"Table1[[#This Row],[QTY]]*Table1[[#This Row],['# Books]]","v":0},{"$f":"Table1[[#This Row],[QTY]]*Table1[[#This Row],[S&L Price]]","v":0}]
[null,null,74,"Tough Trucks",1,"Ford Trucks","eBook",null,"978-1-5382-3113-5",{"$f":"HYPERLINK(\"https://www.garethstevens.com/\"&Table1[[#This Row],[ISBN]],\"Weblink\")","v":"Weblink"},2019,"January 2019",null,null,"Author","Seth Lynch","4.7","0.5",null,null,"J",null,"Grade 1 - 2","Grade 3 - 6","Ford's F150 is not just a popular truck, it's one of the most popular vehicles in the United States. With its XL model's V6 engine and up to 8,000 pounds of towing capacity, the F150 is a great pickup truck for all kinds of people, from farmers to families. With a more than 100-year history of truck building, Ford is a trusted company, and one that will draw in truck-loving readers to this high-interest book. Written with reluctant readers in mind, the main content covers the history of Ford's trucks as well as some of the coolest they've made.","English",26.6,19.95,"629.223'2--dc23","32 pp.",{"$f":"Table1[[#This Row],[QTY]]*Table1[[#This Row],['# Books]]","v":0},{"$f":"Table1[[#This Row],[QTY]]*Table1[[#This Row],[S&L Price]]","v":0}]
[null,null,74,"Tough Trucks",1,"Ram Trucks","Library Bound Book",null,"978-1-5382-3036-7",{"$f":"HYPERLINK(\"https://www.garethstevens.com/\"&Table1[[#This Row],[ISBN]],\"Weblink\")","v":"Weblink"},2019,"January 2019","Library","6.500 X 9.125","Author","Seth Lynch","4.4","0.5",null,null,"J",null,"Grade 1 - 2","Grade 3 - 6","Ram boasts some of the more powerful trucks on the market today. The Ram 3500 can tow up to more than 12,000 pounds and can exceed 400 horsepower! The specs of this heavy-duty truck and more are part of this concise, high-interest book all about Ram trucks. From the history of the company to the coolest trucks they have on the road, the main content draws in trucks lovers no matter their reading level. Full-color and historical photographs make every page worth revving the engine for.","English",26.6,19.95,"629.224--dc23","32 pp.",{"$f":"Table1[[#This Row],[QTY]]*Table1[[#This Row],['# Books]]","v":0},{"$f":"Table1[[#This Row],[QTY]]*Table1[[#This Row],[S&L Price]]","v":0}]
[null,null,74,"Tough Trucks",1,"Toyota Trucks","Library Bound Book",null,"978-1-5382-3032-9",{"$f":"HYPERLINK(\"https://www.garethstevens.com/\"&Table1[[#This Row],[ISBN]],\"Weblink\")","v":"Weblink"},2019,"January 2019","Library","6.500 X 9.125","Author","Seth Lynch","4.7","0.5",null,null,"J",null,"Grade 1 - 2","Grade 3 - 6","Mid-size pickup Toyota Tacoma is one of the most popular trucks around. With varying models, including one especially for off-roading, people from parents to those in need of hauling capacity are finding Toyota's truck the perfect fit. Readers of all levels can enjoy learning about the history of Toyota and their trucks in this book. Written in accessible language with reluctant readers in mind, the main content covers truck specs, fascinating facts, and the future of Toyota trucks on the road.","English",26.6,19.95,"629.224--dc23","32 pp.",{"$f":"Table1[[#This Row],[QTY]]*Table1[[#This Row],['# Books]]","v":0},{"$f":"Table1[[#This Row],[QTY]]*Table1[[#This Row],[S&L Price]]","v":0}]
[null,null,75,"Daredevil Sports",1,"Barrel Racing","Library Bound Book",null,"978-1-5382-1103-8",{"$f":"HYPERLINK(\"https://www.garethstevens.com/\"&Table1[[#This Row],[ISBN]],\"Weblink\")","v":"Weblink"},2018,"January 2018","Library","6.500 X 9.125","Author","Hal Garrison","4.6","0.5",null,null,"I",null,"Grade 1 - 2","Grade 3 - 6","Experiencing the thrill of rodeo events like bull riding up close and personal is quite the thrill. The fastest rodeo event involves skilled people, talented horses, and barrels. Barrel racing is a fast-paced thrill ride unlike any other. Readers learn that barrel racing success depends on getting as close to the barrel as possible to ensure the fastest time. They learn about the history of the event, the role that women played in its early days, and how riders execute the cloverleaf pattern around the barrels.","English",26.6,19.95,"791.8'4--dc23","32 pp.",{"$f":"Table1[[#This Row],[QTY]]*Table1[[#This Row],['# Books]]","v":0},{"$f":"Table1[[#This Row],[QTY]]*Table1[[#This Row],[S&L Price]]","v":0}]
[null,null,75,"Daredevil Sports",1,"Bull Riding","eBook",null,"978-1-5382-1112-0",{"$f":"HYPERLINK(\"https://www.garethstevens.com/\"&Table1[[#This Row],[ISBN]],\"Weblink\")","v":"Weblink"},2018,"January 2018",null,null,"Author","Hal Garrison","4.4","0.5",null,null,"I",null,"Grade 1 - 2","Grade 3 - 6","Professional bull riding is one of the toughest sports out there. This exciting event pits man against bovine, strapping cowboys onto the backs of thousand-pound animals who don't appreciate the rider on their back. These cowboys travel around the country with bulls ready to buck them off at every turn. Fly off in the wrong spot and the bull might go after a rider. Readers learn how these amazing athletes stay safe while performing for crowds of thousands, and the skills it takes to ride like a pro.","English",26.6,19.95,"791.84--dc23","32 pp.",{"$f":"Table1[[#This Row],[QTY]]*Table1[[#This Row],['# Books]]","v":0},{"$f":"Table1[[#This Row],[QTY]]*Table1[[#This Row],[S&L Price]]","v":0}]
[null,null,75,"Daredevil Sports",1,"Snowkiting","Library Bound Book",null,"978-1-5382-1123-6",{"$f":"HYPERLINK(\"https://www.garethstevens.com/\"&Table1[[#This Row],[ISBN]],\"Weblink\")","v":"Weblink"},2018,"January 2018","Library","6.500 X 9.125","Author","Hal Garrison","4.4","0.5",null,null,"I",null,"Grade 1 - 2","Grade 3 - 6","Skiing and snowboarding are dangerous enough. Bringing the unpredictableness of the wind into it is truly for daredevils. Snowkiting provides an incredible new kind of rush to the snow sports. Catching the wind with a kite gives extreme athletes a chance to take flight for a bit while using a snowboard-like blade to cut through the snow. From learning the basics to watching the pros in action, readers see how dangerous and thrilling snowkiting is, and how they can learn it for themselves, if they dare.","English",26.6,19.95,"797.3--dc23","32 pp.",{"$f":"Table1[[#This Row],[QTY]]*Table1[[#This Row],['# Books]]","v":0},{"$f":"Table1[[#This Row],[QTY]]*Table1[[#This Row],[S&L Price]]","v":0}]
[null,null,75,"Daredevil Sports",1,"Snowkiting","eBook",null,"978-1-5382-1124-3",{"$f":"HYPERLINK(\"https://www.garethstevens.com/\"&Table1[[#This Row],[ISBN]],\"Weblink\")","v":"Weblink"},2018,"January 2018",null,null,"Author","Hal Garrison","4.4","0.5",null,null,"I",null,"Grade 1 - 2","Grade 3 - 6","Skiing and snowboarding are dangerous enough. Bringing the unpredictableness of the wind into it is truly for daredevils. Snowkiting provides an incredible new kind of rush to the snow sports. Catching the wind with a kite gives extreme athletes a chance to take flight for a bit while using a snowboard-like blade to cut through the snow. From learning the basics to watching the pros in action, readers see how dangerous and thrilling snowkiting is, and how they can learn it for themselves, if they dare.","English",26.6,19.95,"797.3--dc23","32 pp.",{"$f":"Table1[[#This Row],[QTY]]*Table1[[#This Row],['# Books]]","v":0},{"$f":"Table1[[#This Row],[QTY]]*Table1[[#This Row],[S&L Price]]","v":0}]
[null,null,75,"Daredevil Sports",1,"Motocross","Library Bound Book",null,"978-1-4824-2985-5",{"$f":"HYPERLINK(\"https://www.garethstevens.com/\"&Table1[[#This Row],[ISBN]],\"Weblink\")","v":"Weblink"},2016,"August 2015","Library","6.500 X 9.125","Author","Peter Castellano","4.7","0.5",16,null,"I","890L","Grade 1","Grade 3 - 6","Likely the most physically difficult motorcycle sport, motocross challenges its riders with rough terrain and high-speed competition. With events taking place on courses 1 to 3 miles long, motocross riders need to have endurance as well as the fearlessness characteristic of daredevil athletes. Readers enter the fast-paced world of motocross through accessible language and exciting information that will appeal to even reluctant readers. A colorful layout and photographs showcase on-course action, while the main content introduces the rules of the sport as well as safety. Full of high-octane fact boxes, this volume is a ride readers can enjoy without a helmet.","English",26.6,19.95,"796.7","32 pp.",{"$f":"Table1[[#This Row],[QTY]]*Table1[[#This Row],['# Books]]","v":0},{"$f":"Table1[[#This Row],[QTY]]*Table1[[#This Row],[S&L Price]]","v":0}]
[null,null,75,"Daredevil Sports",1,"Paintball","eBook",null,"978-1-4824-2990-9",{"$f":"HYPERLINK(\"https://www.garethstevens.com/\"&Table1[[#This Row],[ISBN]],\"Weblink\")","v":"Weblink"},2016,"August 2015",null,null,"Author","Demi Jackson","4.3","0.5",16,null,"I","620L","Grade 1","Grade 3 - 6","Paintball isn’t a sport for the faint of heart. Often used as military and police training, paintball involves stalking and shooting an opposing team—and getting hit can hurt! Readers find out all about rule variation, gear, and different game play before having to hit the field, or get hit by capsules full of paint! Written in accessible language and with a colorful layout, this high-interest topic will appeal to readers of all abilities. Full-color photographs of intense paintball games and fun fact boxes highlight this daredevil sport’s most extreme moments.","English",26.6,19.95,"796.2","32 pp.",{"$f":"Table1[[#This Row],[QTY]]*Table1[[#This Row],['# Books]]","v":0},{"$f":"Table1[[#This Row],[QTY]]*Table1[[#This Row],[S&L Price]]","v":0}]
[null,null,76,"Monsters!",1,"Bigfoot","Library Bound Book",null,"978-1-4824-4857-3",{"$f":"HYPERLINK(\"https://www.garethstevens.com/\"&Table1[[#This Row],[ISBN]],\"Weblink\")","v":"Weblink"},2017,"August 2016","Library","6.500 X 9.125","Author","Frances Nagle","1","0.5",null,null,"I",null,"Grade 1 - 2","Grade 3 - 6","It seems incredible that a huge, hairy human-ape could live in the forests of the Pacific Northwest without anyone knowing it’s there for sure. However, there’s still no real evidence for the existence of Bigfoot! Readers learn about the most famous Bigfoot sighting from 1967, which still hasn’t been proved to be a hoax. Full-color images illustrate how many envision Bigfoot today, as well as similar cryptids found around the world, such as the Yeti. Accessible language paired with fascinating content about a modern monster draws in even unenthusiastic readers.","English",26.6,19.95,"001.944--dc23","32 pp.",{"$f":"Table1[[#This Row],[QTY]]*Table1[[#This Row],['# Books]]","v":0},{"$f":"Table1[[#This Row],[QTY]]*Table1[[#This Row],[S&L Price]]","v":0}]
[null,null,76,"Monsters!",1,"Bigfoot","eBook",null,"978-1-4824-4858-0",{"$f":"HYPERLINK(\"https://www.garethstevens.com/\"&Table1[[#This Row],[ISBN]],\"Weblink\")","v":"Weblink"},2017,"August 2016",null,null,"Author","Frances Nagle","1","0.5",null,null,"I",null,"Grade 1 - 2","Grade 3 - 6","It seems incredible that a huge, hairy human-ape could live in the forests of the Pacific Northwest without anyone knowing it’s there for sure. However, there’s still no real evidence for the existence of Bigfoot! Readers learn about the most famous Bigfoot sighting from 1967, which still hasn’t been proved to be a hoax. Full-color images illustrate how many envision Bigfoot today, as well as similar cryptids found around the world, such as the Yeti. Accessible language paired with fascinating content about a modern monster draws in even unenthusiastic readers.","English",26.6,19.95,"001.944--dc23","32 pp.",{"$f":"Table1[[#This Row],[QTY]]*Table1[[#This Row],['# Books]]","v":0},{"$f":"Table1[[#This Row],[QTY]]*Table1[[#This Row],[S&L Price]]","v":0}]
[null,null,76,"Monsters!",1,"The Loch Ness Monster","Library Bound Book",null,"978-1-4824-4865-8",{"$f":"HYPERLINK(\"https://www.garethstevens.com/\"&Table1[[#This Row],[ISBN]],\"Weblink\")","v":"Weblink"},2017,"August 2016","Library","6.500 X 9.125","Author","Frances Nagle","4.7","0.5",null,null,"I",null,"Grade 1 - 2","Grade 3 - 6","In 1934, a photograph in London’s Daily Mail seemed to prove that a strange animal was living in Scotland’s Loch Ness. But 60 years later, it was said to be a fake! That image created the look of the Loch Ness monster in the minds of people around the world. Without it, is there any proof for a creature in Loch Ness? Readers dive deep into this question, learning about the history of the myth and how it survives today. Full-color illustrations and historical photographs spark readers’ imaginations, while fact boxes encourage critical thinking about a fascinating, high-interest topic.","English",26.6,19.95,"001.944--dc23","32 pp.",{"$f":"Table1[[#This Row],[QTY]]*Table1[[#This Row],['# Books]]","v":0},{"$f":"Table1[[#This Row],[QTY]]*Table1[[#This Row],[S&L Price]]","v":0}]
[null,null,76,"Monsters!",1,"Zombies","eBook",null,"978-1-4824-4883-2",{"$f":"HYPERLINK(\"https://www.garethstevens.com/\"&Table1[[#This Row],[ISBN]],\"Weblink\")","v":"Weblink"},2017,"August 2016",null,null,"Author","Frances Nagle","4.8","0.5",null,null,"I",null,"Grade 1 - 2","Grade 3 - 6","There’s little more terrifying than being chased by a moaning creature that wants to eat your flesh! Though zombies are currently popular on TV and in movies, stories of the undead have been around for centuries. The main content introduces readers to zombie tales from many cultures around the world in grisly detail via accessible language for reluctant readers. Full-color illustrations and photographs help readers imagine these monstrous myths while fun fact boxes debunk common beliefs and offer additional context for each terrifying tale.","English",26.6,19.95,"398’.45--dc23","32 pp.",{"$f":"Table1[[#This Row],[QTY]]*Table1[[#This Row],['# Books]]","v":0},{"$f":"Table1[[#This Row],[QTY]]*Table1[[#This Row],[S&L Price]]","v":0}]
[null,null,76,"Monsters!",1,"Sea Creatures","Library Bound Book",null,"978-1-4824-4093-5",{"$f":"HYPERLINK(\"https://www.garethstevens.com/\"&Table1[[#This Row],[ISBN]],\"Weblink\")","v":"Weblink"},2016,"January 2016","Library","6.500 X 9.125","Author","Peter Castellano","4.8","0.5",null,null,"I",null,"Grade 1 - 2","Grade 3 - 6","It’s easy to imagine something lurking beneath the deep, dark waters of a loch, river, or sea. Since even today we don’t know every animal that lives deep underwater, historical accounts of fearful creatures swimming below the surface seem to have simple explanations. This book explores the many myths and legends about sea creatures, some of which are centuries old! Full-color illustrations, paintings, and more from cultures around the world showcase the extraordinary imaginations behind some of these stories. In addition, fact boxes offer readers a chance to debunk historical accounts and understand why these tales began at all.","English",26.6,19.95,"591.77--dc23","32 pp.",{"$f":"Table1[[#This Row],[QTY]]*Table1[[#This Row],['# Books]]","v":0},{"$f":"Table1[[#This Row],[QTY]]*Table1[[#This Row],[S&L Price]]","v":0}]
[null,null,76,"Monsters!",1,"Sea Creatures","eBook",null,"978-1-4824-4094-2",{"$f":"HYPERLINK(\"https://www.garethstevens.com/\"&Table1[[#This Row],[ISBN]],\"Weblink\")","v":"Weblink"},2016,"January 2016",null,null,"Author","Peter Castellano","4.8","0.5",null,null,"I",null,"Grade 1 - 2","Grade 3 - 6","It’s easy to imagine something lurking beneath the deep, dark waters of a loch, river, or sea. Since even today we don’t know every animal that lives deep underwater, historical accounts of fearful creatures swimming below the surface seem to have simple explanations. This book explores the many myths and legends about sea creatures, some of which are centuries old! Full-color illustrations, paintings, and more from cultures around the world showcase the extraordinary imaginations behind some of these stories. In addition, fact boxes offer readers a chance to debunk historical accounts and understand why these tales began at all.","English",26.6,19.95,"591.77--dc23","32 pp.",{"$f":"Table1[[#This Row],[QTY]]*Table1[[#This Row],['# Books]]","v":0},{"$f":"Table1[[#This Row],[QTY]]*Table1[[#This Row],[S&L Price]]","v":0}]
[null,null,76,"Monsters!",1,"Werewolves","eBook",null,"978-1-4824-4101-7",{"$f":"HYPERLINK(\"https://www.garethstevens.com/\"&Table1[[#This Row],[ISBN]],\"Weblink\")","v":"Weblink"},2016,"January 2016",null,null,"Author","Peter Castellano","4.7","0.5",null,null,"I",null,"Grade 1 - 2","Grade 3 - 6","Some say the legend of the werewolf may have come from a rare condition of abundant hair growth called hypertrichosis. However the stories began, they’ve persisted to present-day pop culture, continuously drawing in new audiences. Written in simple, clear language, all readers can explore the history of the werewolf myth. The main content includes all aspects of this high-interest topic, including how werewolves change from man to beast, why they change, and how one becomes a werewolf. Full-color images and fact boxes add elements of both fantasy and reality to help readers navigate the line between truth and legend.","English",26.6,19.95,"398.24'54--dc23","32 pp.",{"$f":"Table1[[#This Row],[QTY]]*Table1[[#This Row],['# Books]]","v":0},{"$f":"Table1[[#This Row],[QTY]]*Table1[[#This Row],[S&L Price]]","v":0}]
[null,null,77,"Superstars of Wrestling",1,"Bayley","eBook",null,"978-1-5382-2092-4",{"$f":"HYPERLINK(\"https://www.garethstevens.com/\"&Table1[[#This Row],[ISBN]],\"Weblink\")","v":"Weblink"},2019,"August 2018",null,null,"Author","Benjamin Proudfit",null,null,null,null,"I",null,"Grade 1 - 2","Grade 3 - 6","If Bayley could give young readers one piece of advice, it would likely be to dream big! From a young age, Bayley adored wrestling and began pursuing her dream despite what seemed like impossible odds of making it in the WWE. This book gives Bayley fans a closer look at how she grew up to become the sparkly personality she is today, including her training, her time at companies other than the WWE, and her greatest achievements. A high-interest figure, Bayley and her signature side ponytail are sure to draw readers to the bookshelf.","English",26.6,19.95,"796.812092--dc23","32 pp.",{"$f":"Table1[[#This Row],[QTY]]*Table1[[#This Row],['# Books]]","v":0},{"$f":"Table1[[#This Row],[QTY]]*Table1[[#This Row],[S&L Price]]","v":0}]
[null,null,77,"Superstars of Wrestling",1,"Daniel Bryan","Library Bound Book",null,"978-1-5382-2103-7",{"$f":"HYPERLINK(\"https://www.garethstevens.com/\"&Table1[[#This Row],[ISBN]],\"Weblink\")","v":"Weblink"},2019,"August 2018","Library","6.500 X 9.125","Author","Benjamin Proudfit",null,null,null,null,"I",null,"Grade 1 - 2","Grade 3 - 6","When Daniel Bryan, aka Bryan Danielson, won the WWE World Heavyweight Championship at Wrestlemania XXX, his legacy as a fan favorite, talented athlete, and inspiring figure was cemented. A tough injury hasn't lessened his draw, though, with fans cheering his signature \"Yes!\" chant each time he appears. This book covers the life and career of one of the most beloved modern WWE superstars in age-appropriate language perfect for struggling readers. High-octane photographs of Daniel Bryan throughout his career only make the main text more exciting.","English",26.6,19.95,"796.812092--dc23","32 pp.",{"$f":"Table1[[#This Row],[QTY]]*Table1[[#This Row],['# Books]]","v":0},{"$f":"Table1[[#This Row],[QTY]]*Table1[[#This Row],[S&L Price]]","v":0}]
[null,null,77,"Superstars of Wrestling",1,"Daniel Bryan","eBook",null,"978-1-5382-2104-4",{"$f":"HYPERLINK(\"https://www.garethstevens.com/\"&Table1[[#This Row],[ISBN]],\"Weblink\")","v":"Weblink"},2019,"August 2018",null,null,"Author","Benjamin Proudfit",null,null,null,null,"I",null,"Grade 1 - 2","Grade 3 - 6","When Daniel Bryan, aka Bryan Danielson, won the WWE World Heavyweight Championship at Wrestlemania XXX, his legacy as a fan favorite, talented athlete, and inspiring figure was cemented. A tough injury hasn't lessened his draw, though, with fans cheering his signature \"Yes!\" chant each time he appears. This book covers the life and career of one of the most beloved modern WWE superstars in age-appropriate language perfect for struggling readers. High-octane photographs of Daniel Bryan throughout his career only make the main text more exciting.","English",26.6,19.95,"796.812092--dc23","32 pp.",{"$f":"Table1[[#This Row],[QTY]]*Table1[[#This Row],['# Books]]","v":0},{"$f":"Table1[[#This Row],[QTY]]*Table1[[#This Row],[S&L Price]]","v":0}]
[null,null,77,"Superstars of Wrestling",1,"Beth Phoenix","Library Bound Book",null,"978-1-4339-8512-6",{"$f":"HYPERLINK(\"https://www.garethstevens.com/\"&Table1[[#This Row],[ISBN]],\"Weblink\")","v":"Weblink"},2013,"January 2013","Library","6.500 X 9.000","Author","Ryan Nagelhout","2.7","0.5",16,16,"I",null,"Grade 1","Grade 3 - 6","Winning a coloring contest was the spark that got Beth Phoenix into wrestling. Detailing her rise as a WWE Superstar, this book is sure to spark interest in any young reader. With full-color photographs, a detailed timeline of key events in Beth’s life, and easy-to-read chapters detailing her career and charity work, this book will satisfy even the most dedicated of wrestling fans.","English",26.6,19.95,"796.812092","32 pp.",{"$f":"Table1[[#This Row],[QTY]]*Table1[[#This Row],['# Books]]","v":0},{"$f":"Table1[[#This Row],[QTY]]*Table1[[#This Row],[S&L Price]]","v":0}]
[null,null,77,"Superstars of Wrestling",1,"CM Punk","eBook",null,"978-1-4339-8525-6",{"$f":"HYPERLINK(\"https://www.garethstevens.com/\"&Table1[[#This Row],[ISBN]],\"Weblink\")","v":"Weblink"},2013,"January 2013",null,null,"Author","Ryan Nagelhout","2.7","0.5",16,16,"I",null,"Grade 1","Grade 3 - 6","CM Punk started a revolution in the WWE with his unique style and rebel antics. Detailing his rise as a WWE Superstar, this book is sure to spark interest in any young reader. Featuring full-color photographs, a detailed timeline of key events in Punk’s life, and easy-to-read chapters, this book will take you from his early days in Chicago to his rise at the top of the wrestling world. This book will satisfy even the most dedicated of wrestling fans.","English",26.6,19.95,"796.812092","32 pp.",{"$f":"Table1[[#This Row],[QTY]]*Table1[[#This Row],['# Books]]","v":0},{"$f":"Table1[[#This Row],[QTY]]*Table1[[#This Row],[S&L Price]]","v":0}]
[null,null,77,"Superstars of Wrestling",1,"The Big Show","Library Bound Book",null,"978-1-4339-8535-5",{"$f":"HYPERLINK(\"https://www.garethstevens.com/\"&Table1[[#This Row],[ISBN]],\"Weblink\")","v":"Weblink"},2013,"January 2013","Library","6.500 X 9.000","Author","Ryan Nagelhout","2.8","0.5",16,16,"I",null,"Grade 1","Grade 3 - 6","The Big Show is one of the largest athletes on the planet. Detailing his rise as a WWE Superstar, this book is sure to spark interest in any young reader. Featuring full-color photographs, a detailed timeline of key events in Big Show’s career, and easy-to-read chapters, this book will show readers just how Paul Wight became the biggest and strongest grappler on the globe. It’s sure to satisfy even the most dedicated of wrestling fans.","English",26.6,19.95,"796.812092","32 pp.",{"$f":"Table1[[#This Row],[QTY]]*Table1[[#This Row],['# Books]]","v":0},{"$f":"Table1[[#This Row],[QTY]]*Table1[[#This Row],[S&L Price]]","v":0}]
[null,null,78,"US Armed Forces",1,"Join the Air Force","Library Bound Book",null,"978-1-5382-0532-7",{"$f":"HYPERLINK(\"https://www.garethstevens.com/\"&Table1[[#This Row],[ISBN]],\"Weblink\")","v":"Weblink"},2018,"August 2017","Library","6.500 X 9.125","Author","P. P. Mitchell","4.3","0.5",null,null,"I",null,"Grade 1 - 2","Grade 3 - 6","Most readers will at least have a cursory awareness of the air force, the awesome, flying arm of the US military fleet. This book is the next step for readers to learn and understand how to become part of this fighting force. Readers will enter the exciting world of the air force through accessible language and focused information that appeals to even reluctant readers. Full-color photographs—and a bonus diagram of the uniforms—bring the content to life, while fact boxes throughout provide a historical frame of reference.","English",26.6,19.95,"358.40023/73--dc23","32 pp.",{"$f":"Table1[[#This Row],[QTY]]*Table1[[#This Row],['# Books]]","v":0},{"$f":"Table1[[#This Row],[QTY]]*Table1[[#This Row],[S&L Price]]","v":0}]
[null,null,78,"US Armed Forces",1,"Join the Army","Library Bound Book",null,"978-1-5382-0536-5",{"$f":"HYPERLINK(\"https://www.garethstevens.com/\"&Table1[[#This Row],[ISBN]],\"Weblink\")","v":"Weblink"},2018,"August 2017","Library","6.500 X 9.125","Author","P. P. Mitchell","4.8","0.5",null,null,"I",null,"Grade 1 - 2","Grade 3 - 6","Everyone’s heard of the army, but how do you join? What’s it like being in the army? How do the rankings work? Written in accessible language and with a colorful layout, this high-interest book will appeal to readers of all abilities! Full-color photography, and even a diagram explaining the uniform, bring each spread of this book to life, while focused, useful fact boxes develop a deeper understanding of the army by providing historical information.","English",26.6,19.95,"355.0023/73--dc23","32 pp.",{"$f":"Table1[[#This Row],[QTY]]*Table1[[#This Row],['# Books]]","v":0},{"$f":"Table1[[#This Row],[QTY]]*Table1[[#This Row],[S&L Price]]","v":0}]
[null,null,78,"US Armed Forces",1,"Join the Marines","eBook",null,"978-1-5382-0547-1",{"$f":"HYPERLINK(\"https://www.garethstevens.com/\"&Table1[[#This Row],[ISBN]],\"Weblink\")","v":"Weblink"},2018,"August 2017",null,null,"Author","P. P. Mitchell","4.8","0.5",null,null,"I",null,"Grade 1 - 2","Grade 3 - 6","The marines make headlines frequently for their daring missions and bravery. There’s no better time than now to offer this inside look into how one becomes a marine and into the life of these incredible heroes in a way that will appeal to even reluctant readers! Through age-appropriate content about duties, rankings, special ops, and even uniforms, this book fosters a deeper understanding of the men and women who serve our country at an accessible reading level. Fact boxes on each spread expand the experience by providing historical context.","English",26.6,19.95,"359.9/602373--dc23","32 pp.",{"$f":"Table1[[#This Row],[QTY]]*Table1[[#This Row],['# Books]]","v":0},{"$f":"Table1[[#This Row],[QTY]]*Table1[[#This Row],[S&L Price]]","v":0}]
[null,null,78,"Would You Dare?",6,"Would You Dare?","Library Set",null,"978-1-4824-5895-4",{"$f":"HYPERLINK(\"https://www.garethstevens.com/\"&Table1[[#This Row],[ISBN]],\"Weblink\")","v":"Weblink"},2017,"January 2017","Library","6.500 X 9.125",null,null,null,null,null,null,null,null,"Grade 1 - 2","Grade 3 - 6","During this age of the Internet, we can instantly view people doing some of the most jaw-dropping and heart-pounding sports and stunts. In the volumes of this exciting series, readers delve into some action-packed experiences. Their imaginations will soar in a fighter jet, tiptoe across a high-wire over Niagara Falls, and tackle a fierce adversary in the UFC. They’ll ponder whether they’d accept each challenge aided—and perhaps cautioned!—by dynamic photographs.","English",159.6,119.7,null,"32 pp.",{"$f":"Table1[[#This Row],[QTY]]*Table1[[#This Row],['# Books]]","v":0},{"$f":"Table1[[#This Row],[QTY]]*Table1[[#This Row],[S&L Price]]","v":0}]
[null,null,78,"Would You Dare?",1,"Would You Dare Be an MMA Fighter?","Library Bound Book",null,"978-1-4824-5816-9",{"$f":"HYPERLINK(\"https://www.garethstevens.com/\"&Table1[[#This Row],[ISBN]],\"Weblink\")","v":"Weblink"},2017,"January 2017","Library","6.500 X 9.125","Author","Robert Kennedy","4.2","0.5",null,null,"J",null,"Grade 1 - 2","Grade 3 - 6","Mixed martial arts is one of the fastest growing sports, and includes karate, jiu-jitsu, boxing, kickboxing, grappling, wrestling, judo, and other combat sports. MMA fighters, combating opponents in a cage with nowhere to escape, have truly impressive skills! Riveted readers will be on the edge of their seats as they learn what it takes to enter the ring of an MMA bout. Action-packed photographs and fun fact boxes add to the excitement of this electrifying sport.","English",26.6,19.95,"796.8--dc37","32 pp.",{"$f":"Table1[[#This Row],[QTY]]*Table1[[#This Row],['# Books]]","v":0},{"$f":"Table1[[#This Row],[QTY]]*Table1[[#This Row],[S&L Price]]","v":0}]
[null,null,78,"Would You Dare?",1,"Would You Dare Go Skydiving?","eBook",null,"978-1-4824-5821-3",{"$f":"HYPERLINK(\"https://www.garethstevens.com/\"&Table1[[#This Row],[ISBN]],\"Weblink\")","v":"Weblink"},2017,"January 2017",null,null,"Author","Robert Kennedy","4.6","0.5",null,null,"J",null,"Grade 1 - 2","Grade 3 - 6","Skydivers fearlessly perch at a plane's open door. Yes, they have a parachute, but it's a long way down; sometimes they're 8,000 feet above the ground. Readers will muse if they'd dare take the plunge in the pages of this thrilling volume. From packing their parachute rig on the ground to spotting a landing zone from the air, the essentials of skydiving await them in this high-interest, accessible book.","English",26.6,19.95,"797.56--dc23","32 pp.",{"$f":"Table1[[#This Row],[QTY]]*Table1[[#This Row],['# Books]]","v":0},{"$f":"Table1[[#This Row],[QTY]]*Table1[[#This Row],[S&L Price]]","v":0}]
[null,null,78,"Would You Dare?",1,"Would You Dare Walk Across Niagara Falls?","eBook",null,"978-1-4824-5833-6",{"$f":"HYPERLINK(\"https://www.garethstevens.com/\"&Table1[[#This Row],[ISBN]],\"Weblink\")","v":"Weblink"},2017,"January 2017",null,null,"Author","Siobhan Sisk","4.2","0.5",null,null,"J",null,"Grade 1 - 2","Grade 3 - 6","In 2012, Nik Wallenda became the first person to tightrope-walk over Niagara Falls. He braved high winds and spray from the mighty flowing waters while doing so. Many marveled at the feat and wondered how it was possible. Wallenda’s story as well as tales of others who attempted the jaw-dropping deed are included in this high-interest text. Spine-tingling photographs and fun fact boxes are sure to amaze and delight readers.","English",26.6,19.95,"971.3’39--dc23","32 pp.",{"$f":"Table1[[#This Row],[QTY]]*Table1[[#This Row],['# Books]]","v":0},{"$f":"Table1[[#This Row],[QTY]]*Table1[[#This Row],[S&L Price]]","v":0}]
[null,null,79,"Fun Fact File: Body Systems",1,"20 Fun Facts About the Circulatory System","eBook",null,"978-1-5382-3062-6",{"$f":"HYPERLINK(\"https://www.garethstevens.com/\"&Table1[[#This Row],[ISBN]],\"Weblink\")","v":"Weblink"},2019,"January 2019",null,null,"Author","Tayler Cole",null,null,null,null,"M","850L","Grade 2 - 3","Grade 2 - 5","The circulatory system doesn't just move blood around the body. It moves nutrients, oxygen, hormones, and electrolytes to exactly where they need to go, from the brain to the feet. Every body system relies on the network of veins, arteries, and capillaries throughout the body. While important, the circulatory system is also incredible interesting! Readers learn the basics of blood cells and blood vessels in fun, surprising, and even gross facts on each page. Diagrams and full-color photographs aid readers' understanding and provide a close encounter with parts of the body they may never see.","English",25.25,18.95,"612.1--dc23","32 pp.",{"$f":"Table1[[#This Row],[QTY]]*Table1[[#This Row],['# Books]]","v":0},{"$f":"Table1[[#This Row],[QTY]]*Table1[[#This Row],[S&L Price]]","v":0}]
[null,null,79,"Fun Fact File: Body Systems",1,"20 Fun Facts About the Digestive System","Library Bound Book",null,"978-1-5382-2922-4",{"$f":"HYPERLINK(\"https://www.garethstevens.com/\"&Table1[[#This Row],[ISBN]],\"Weblink\")","v":"Weblink"},2019,"January 2019","Library","8.500 X 8.500","Author","Emily Mahoney",null,null,null,null,"M","890L","Grade 2 - 3","Grade 2 - 5","When talking about the digestive system, a few topics must be covered: vomit, the intestines, and poop! All readers can enjoy these and many more topics about the grossest of the body systems in this friendly, fun fact format. From the mouth and esophagus to the small and large intestine, readers take a journey through the human body via the digestive tract, and enjoy learning about processes the digestive system does without us even knowing. The bright images and labeled diagrams encourage body literacy and support science classroom learning.","English",25.25,18.95,"612.3--dc23","32 pp.",{"$f":"Table1[[#This Row],[QTY]]*Table1[[#This Row],['# Books]]","v":0},{"$f":"Table1[[#This Row],[QTY]]*Table1[[#This Row],[S&L Price]]","v":0}]
[null,null,79,"Fun Fact File: Body Systems",1,"20 Fun Facts About the Nervous System","eBook",null,"978-1-5382-3065-7",{"$f":"HYPERLINK(\"https://www.garethstevens.com/\"&Table1[[#This Row],[ISBN]],\"Weblink\")","v":"Weblink"},2019,"January 2019",null,null,"Author","Emily Mahoney",null,null,null,null,"M","890L","Grade 2 - 3","Grade 2 - 5","Have you ever wondered how the brain is able to control so many important things in the human body? Or how the spinal cord is structured? This volume engrosses and engages reader in this fascinating topic in an easy-to-follow format that adds to the accessibility of this text. Graphic organizers, a body system diagram, and full-color photographs reinforce the science curriculum content contained in each fun fact. Even reluctant readers will marvel at all the amazing processes of the nervous system when explained through gross, unbelievable, and amusing tidbits on each page.","English",25.25,18.95,"612.8--dc23","32 pp.",{"$f":"Table1[[#This Row],[QTY]]*Table1[[#This Row],['# Books]]","v":0},{"$f":"Table1[[#This Row],[QTY]]*Table1[[#This Row],[S&L Price]]","v":0}]
[null,null,81,"Fun Fact File: Animal Adaptations",6,"Fun Fact File: Animal Adaptations","Library Set",null,"978-1-4824-4440-7",{"$f":"HYPERLINK(\"https://www.garethstevens.com/\"&Table1[[#This Row],[ISBN]],\"Weblink\")","v":"Weblink"},2017,"August 2016","Library","8.500 X 8.500",null,null,null,null,null,null,null,null,"Grade 2 - 3","Grade 2 - 5","The beak differences between a pelican and a cardinal are very clear. A pelican’s has a pouch on the lower part of the bill that is perfect to hold water when scooping up fish. A cardinal’s beak is short and thick, made for cracking open nuts and seeds. How these beaks evolved over time is an adaptation to the birds’ environment and diet! Many other types of animals—such as mammals, reptiles, and amphibians—also have fascinating adaptations that help them find food, eat, and hide. The main content introduces readers to science curriculum concepts, including why certain adaptations develop and how they differ from other animal species.","English",151.5,113.7,null,"32 pp.",{"$f":"Table1[[#This Row],[QTY]]*Table1[[#This Row],['# Books]]","v":0},{"$f":"Table1[[#This Row],[QTY]]*Table1[[#This Row],[S&L Price]]","v":0}]
[null,null,81,"Fun Fact File: Animal Adaptations",1,"20 Fun Facts About Insect Adaptations","Library Bound Book",null,"978-1-4824-4431-5",{"$f":"HYPERLINK(\"https://www.garethstevens.com/\"&Table1[[#This Row],[ISBN]],\"Weblink\")","v":"Weblink"},2017,"August 2016","Library","8.500 X 8.500","Author","Kristen Rajczak Nelson","5.1","0.5",null,null,"N","910L","Grade 2 - 3","Grade 2 - 5","Insects are often the same color as their surroundings. Their mouthparts developed for exactly the food they like to eat. Grasshoppers have long, strong back legs for hopping over grass, whereas the cockroach’s long, thin legs let them run very quickly. None of this is an accident! Insects have many incredible adaptations that have made them the perfect residents of their environment. Short, easily digestible information draws readers into the insect world and introduces important science concepts. Full-color photographs allow readers to see adaptations and more up close.","English",25.25,18.95,"595.702--dc23","32 pp.",{"$f":"Table1[[#This Row],[QTY]]*Table1[[#This Row],['# Books]]","v":0},{"$f":"Table1[[#This Row],[QTY]]*Table1[[#This Row],[S&L Price]]","v":0}]
[null,null,81,"Fun Fact File: Animal Adaptations",1,"20 Fun Facts About Insect Adaptations","eBook",null,"978-1-4824-4411-7",{"$f":"HYPERLINK(\"https://www.garethstevens.com/\"&Table1[[#This Row],[ISBN]],\"Weblink\")","v":"Weblink"},2017,"August 2016",null,null,"Author","Kristen Rajczak Nelson","5.1","0.5",null,null,"N","910L","Grade 2 - 3","Grade 2 - 5","Insects are often the same color as their surroundings. Their mouthparts developed for exactly the food they like to eat. Grasshoppers have long, strong back legs for hopping over grass, whereas the cockroach’s long, thin legs let them run very quickly. None of this is an accident! Insects have many incredible adaptations that have made them the perfect residents of their environment. Short, easily digestible information draws readers into the insect world and introduces important science concepts. Full-color photographs allow readers to see adaptations and more up close.","English",25.25,18.95,"595.702--dc23","32 pp.",{"$f":"Table1[[#This Row],[QTY]]*Table1[[#This Row],['# Books]]","v":0},{"$f":"Table1[[#This Row],[QTY]]*Table1[[#This Row],[S&L Price]]","v":0}]
[null,null,81,"Fun Fact File: Animal Adaptations",1,"20 Fun Facts About Reptile Adaptations","Library Bound Book",null,"978-1-4824-4434-6",{"$f":"HYPERLINK(\"https://www.garethstevens.com/\"&Table1[[#This Row],[ISBN]],\"Weblink\")","v":"Weblink"},2017,"August 2016","Library","8.500 X 8.500","Author","Barbara M. Linde","4.6","0.5",null,null,"N","820L","Grade 2 - 3","Grade 2 - 5","Reptiles lay their eggs on land and most spend a lot of their time out of the water. While this is a fact today, it wasn't always this way. Living on land is an adaptation reptiles underwent millions of years ago. Even more adaptations, such as how reptiles regulate their body temperature and their scaly skin, are more apparent to those studying crocodiles, turtles, and other reptiles in modern times. Using a unique format of short facts, this book introduces readers to the science concepts of evolution as well as the features that classify an animal as a reptile.","English",25.25,18.95,"597.9--dc23","32 pp.",{"$f":"Table1[[#This Row],[QTY]]*Table1[[#This Row],['# Books]]","v":0},{"$f":"Table1[[#This Row],[QTY]]*Table1[[#This Row],[S&L Price]]","v":0}]
[null,null,81,"Fun Fact File: Earth Science",1,"20 Fun Facts About Astronomy","eBook",null,"978-1-5382-1176-2",{"$f":"HYPERLINK(\"https://www.garethstevens.com/\"&Table1[[#This Row],[ISBN]],\"Weblink\")","v":"Weblink"},2018,"January 2018",null,null,"Author","Jill Keppeler",null,null,null,null,"N","840L","Grade 2 - 3","Grade 2 - 5","From black holes to dark matter, galaxies to supernovas, nothing could be more fascinating than outer space, especially to young readers. Every day, scientists are discovering new, mind-blowing facts about the universe's infinite mysteries. This engaging volume is filled with amazing astronomical science concepts presented at an age-appropriate level via an entertaining fun-fact layout . Brilliant, full-color photography and clear graphic organizers accompany accessible text for a reading experience that's out of this world.","English",25.25,18.95,"520--dc23","32 pp.",{"$f":"Table1[[#This Row],[QTY]]*Table1[[#This Row],['# Books]]","v":0},{"$f":"Table1[[#This Row],[QTY]]*Table1[[#This Row],[S&L Price]]","v":0}]
[null,null,81,"Fun Fact File: Earth Science",1,"20 Fun Facts About Geology","Library Bound Book",null,"978-1-5382-1187-8",{"$f":"HYPERLINK(\"https://www.garethstevens.com/\"&Table1[[#This Row],[ISBN]],\"Weblink\")","v":"Weblink"},2018,"January 2018","Library","8.500 X 8.500","Author","Sarah Machajewski",null,null,null,null,"N","890L","Grade 2 - 3","Grade 2 - 5","Learning how Earth, mountains, oceans, and other fantastic landforms were formed millions of years ago truly expands a young reader's concept of their own life and the world around them. This geology-themed book full of fun, easily digestible facts provides engaging insights into the planet we call home. Essential earth science concepts are explained in accessible language and accompanied by fantastic, full-color photographs and dynamic graphic organizers, making this volume invaluable for visual learners and a value to any library collection.","English",25.25,18.95,"551.02--dc23","32 pp.",{"$f":"Table1[[#This Row],[QTY]]*Table1[[#This Row],['# Books]]","v":0},{"$f":"Table1[[#This Row],[QTY]]*Table1[[#This Row],[S&L Price]]","v":0}]
[null,null,81,"Fun Fact File: Earth Science",1,"20 Fun Facts About Geology","eBook",null,"978-1-5382-1188-5",{"$f":"HYPERLINK(\"https://www.garethstevens.com/\"&Table1[[#This Row],[ISBN]],\"Weblink\")","v":"Weblink"},2018,"January 2018",null,null,"Author","Sarah Machajewski",null,null,null,null,"N","890L","Grade 2 - 3","Grade 2 - 5","Learning how Earth, mountains, oceans, and other fantastic landforms were formed millions of years ago truly expands a young reader's concept of their own life and the world around them. This geology-themed book full of fun, easily digestible facts provides engaging insights into the planet we call home. Essential earth science concepts are explained in accessible language and accompanied by fantastic, full-color photographs and dynamic graphic organizers, making this volume invaluable for visual learners and a value to any library collection.","English",25.25,18.95,"551.02--dc23","32 pp.",{"$f":"Table1[[#This Row],[QTY]]*Table1[[#This Row],['# Books]]","v":0},{"$f":"Table1[[#This Row],[QTY]]*Table1[[#This Row],[S&L Price]]","v":0}]
[null,null,82,"Fun Fact File: Founding Fathers",6,"Fun Fact File: Founding Fathers","Library Set",null,"978-1-5382-0469-6",{"$f":"HYPERLINK(\"https://www.garethstevens.com/\"&Table1[[#This Row],[ISBN]],\"Weblink\")","v":"Weblink"},2018,"August 2017","Library","8.500 X 8.500",null,null,null,null,null,null,null,null,"Grade 2 - 3","Grade 2 - 5","The men responsible for creating the United States were certainly not boring. Some were inventors, lawyers, or owned lots of land. Others, like George Washington, were famous military leaders, and many went on to become the nation’s president. Some—like Alexander Hamilton and Aaron Burr, were bitter rivals! From duels and policy fights to battles for the White House itself, these American icons led exciting lives full of fun facts. Readers will discover just what made these founding fathers so special through colorful images and illustrations paired with unique facts in the latest iteration of this long-running series.","English",151.5,113.7,null,"32 pp.",{"$f":"Table1[[#This Row],[QTY]]*Table1[[#This Row],['# Books]]","v":0},{"$f":"Table1[[#This Row],[QTY]]*Table1[[#This Row],[S&L Price]]","v":0}]
[null,null,82,"Fun Fact File: Founding Fathers",1,"20 Fun Facts About Benjamin Franklin","Library Bound Book",null,"978-1-5382-0283-8",{"$f":"HYPERLINK(\"https://www.garethstevens.com/\"&Table1[[#This Row],[ISBN]],\"Weblink\")","v":"Weblink"},2018,"August 2017","Library","8.500 X 8.500","Author","Theresa Morlock","5.5","0.5",null,null,"N","870L","Grade 2 - 3","Grade 2 - 5","Benjamin Franklin was one of America’s most inventive Founding Fathers. He wrote books, tinkered with machines, and created entire new professions with his work. This book is full of fun facts and tantalizing trivia about his inventions, his ideas, and how he became one of the most influential Founding Fathers involved in the birth of America. The book also explores some of his strange medical beliefs, his printing industry, and some of the friendships he made during his time in America, giving readers a fuller appreciation for one of America’s most famous—and cherished—citizens.","English",25.25,18.95,"973.3092--dc23","32 pp.",{"$f":"Table1[[#This Row],[QTY]]*Table1[[#This Row],['# Books]]","v":0},{"$f":"Table1[[#This Row],[QTY]]*Table1[[#This Row],[S&L Price]]","v":0}]
[null,null,82,"Fun Fact File: Founding Fathers",1,"20 Fun Facts About James Madison","eBook",null,"978-1-5382-0279-1",{"$f":"HYPERLINK(\"https://www.garethstevens.com/\"&Table1[[#This Row],[ISBN]],\"Weblink\")","v":"Weblink"},2018,"August 2017",null,null,"Author","Arthur K. Britton ","5","0.5",null,null,"N","840L","Grade 2 - 3","Grade 2 - 5","James Madison helped to ratify America’s constitution and later served as president. But there are many things readers may not know about this Founding Father. Madison, for example, was a prolific writer—helping Alexander Hamilton and John Jay in writing the Federalist Papers. From Madison’s short stature to his early days in the White House, there are plenty of fun facts and stories about America’s fourth president that readers will love. They’ll also be introduced to Madison’s wife—Dolley—who was very influential during his presidency.","English",25.25,18.95,"973.51092092--dc23","32 pp.",{"$f":"Table1[[#This Row],[QTY]]*Table1[[#This Row],['# Books]]","v":0},{"$f":"Table1[[#This Row],[QTY]]*Table1[[#This Row],[S&L Price]]","v":0}]
[null,null,82,"Fun Fact File: Founding Fathers",1,"20 Fun Facts About Thomas Jefferson","eBook",null,"978-1-5382-0280-7",{"$f":"HYPERLINK(\"https://www.garethstevens.com/\"&Table1[[#This Row],[ISBN]],\"Weblink\")","v":"Weblink"},2018,"August 2017",null,null,"Author","Jill Keppeler","5","0.5",null,null,"N","820L","Grade 2 - 3","Grade 2 - 5","Thomas Jefferson is known as the writer of the Declaration of Independence and a champion of democracy, but there was much more to his life than just his writing. From his early life in Virginia to his later presidency and the Louisiana Purchase, the story of Jefferson’s life is full of fun facts readers will love learning. Whether exploring the details of his time in France or in George Washington’s cabinet as the Founding Fathers created the framework for America, readers will get an in-depth look at Jefferson’s role in the creation of their country in this exciting book.","English",25.25,18.95,"973.4/6092--dc23","32 pp.",{"$f":"Table1[[#This Row],[QTY]]*Table1[[#This Row],['# Books]]","v":0},{"$f":"Table1[[#This Row],[QTY]]*Table1[[#This Row],[S&L Price]]","v":0}]
[null,null,82,"Fun Fact File: US History!",1,"20 Fun Facts About the Declaration of Independence","eBook",null,"978-1-4339-9186-8",{"$f":"HYPERLINK(\"https://www.garethstevens.com/\"&Table1[[#This Row],[ISBN]],\"Weblink\")","v":"Weblink"},2014,"August 2013",null,null,"Author","Heather Moore Niver","5.9","0.5",30,null,"N","870L","Grade 2 - 3","Grade 2 - 5","The Declaration of Independence is one of the most famous letters in human history. Thomas Jefferson and the other Founding Fathers created this important document to announce their freedom from England. It was one of the driving forces that sparked the Revolutionary War and lead to the formation of the United States. But there’s so much more to learn about this historic document that isn't in typical history books. The age-appropriate text in this book is paired with little-known fun facts, fascinating photographs and illustrations, and helpful graphic organizers to show just how interesting this pivotal document really is.","English",26.25,19.690000000000001,"973.3","32 pp.",{"$f":"Table1[[#This Row],[QTY]]*Table1[[#This Row],['# Books]]","v":0},{"$f":"Table1[[#This Row],[QTY]]*Table1[[#This Row],[S&L Price]]","v":0}]
[null,null,82,"Fun Fact File: US History!",1,"20 Fun Facts About the US Constitution","Library Bound Book",null,"978-1-4339-9198-1",{"$f":"HYPERLINK(\"https://www.garethstevens.com/\"&Table1[[#This Row],[ISBN]],\"Weblink\")","v":"Weblink"},2014,"August 2013","Library","8.500 X 8.500","Author","Therese M. Shea","6.2","0.5",30,null,"N","880L","Grade 2 - 3","Grade 2 - 5","The U.S. Constitution is the oldest, shortest, one-document constitution in the world, but this ground-breaking document is much more than that. It proved to be the driving force behind the fight for independence all over the world. Readers are sure to be surprised and entertained by the numerous fun facts featured in this book. The text is accompanied by helpful graphic organizers, historic images, maps, and photographs of the Constitution itself.","English",26.25,19.690000000000001,"342.73","32 pp.",{"$f":"Table1[[#This Row],[QTY]]*Table1[[#This Row],['# Books]]","v":0},{"$f":"Table1[[#This Row],[QTY]]*Table1[[#This Row],[S&L Price]]","v":0}]
[null,null,82,"Fun Fact File: US History!",1,"20 Fun Facts About the US Flag","Interactive eBook","HTML5","978-1-4339-9197-4",{"$f":"HYPERLINK(\"https://www.garethstevens.com/\"&Table1[[#This Row],[ISBN]],\"Weblink\")","v":"Weblink"},"2014","August 2013",null,null,"Author","Maria Nelson","5.6","0.5","28",null,"M",null,"Grade 2 - 3","Grade 2 - 5","The Stars and Stripes, with its iconic colors and patterns, has long been a symbol of freedom in the United States and all over the world. But the US flag we’re familiar with today has only been around since 1959. Before that, the flag took on many different arrangements. Readers will learn about the many versions of the US flag that came before our current version. Colorful, patriotic photographs aid readers in understanding the text, as do informative graphic organizers.","English",33.25,24.95,"352.23","32 pp.",{"$f":"Table1[[#This Row],[QTY]]*Table1[[#This Row],['# Books]]","v":0},{"$f":"Table1[[#This Row],[QTY]]*Table1[[#This Row],[S&L Price]]","v":0}]
[null,null,82,"Fun Fact File: US History!",1,"20 Fun Facts About the White House","Library Bound Book",null,"978-1-4339-9203-2",{"$f":"HYPERLINK(\"https://www.garethstevens.com/\"&Table1[[#This Row],[ISBN]],\"Weblink\")","v":"Weblink"},2014,"August 2013","Library","8.500 X 8.500","Author","Ryan Nagelhout","4.9","0.5",28,null,"M","870L","Grade 2 - 3","Grade 2 - 5","Many US citizens know that the White House has been home to US presidents for over 200 years. But few people know that the \"President’s Mansion\" has experienced two large fires, or that everything but the outer walls was removed and rebuilt in the 1950s. Readers are sure to enjoy exploring the White House like never before. At-level text is paired with helpful graphic organizers and amazing photographs of the White House throughout its history.","English",26.25,19.690000000000001,"975.3","32 pp.",{"$f":"Table1[[#This Row],[QTY]]*Table1[[#This Row],['# Books]]","v":0},{"$f":"Table1[[#This Row],[QTY]]*Table1[[#This Row],[S&L Price]]","v":0}]
[null,null,82,"Fun Fact File: US History!",1,"20 Fun Facts About US Monuments","Interactive eBook","HTML5","978-1-4339-9212-4",{"$f":"HYPERLINK(\"https://www.garethstevens.com/\"&Table1[[#This Row],[ISBN]],\"Weblink\")","v":"Weblink"},"2014","August 2013",null,null,"Author","Heather Moore Niver","6.3","0.5","30",null,"N",null,"Grade 2 - 3","Grade 2 - 5","Countless statutes, sculptures, and structures have been built to celebrate important moments and people in US history. However, some US monuments are structures build before the United States was even a country, and others are landforms produced by natural forces thousands of years ago. The dazzling photographs in this volume are sure to teach and tantalize readers. Age-appropriate text is paired with graphic organizers to help readers get the most from this entertaining guide to US monuments.","English",33.25,24.95,"973","32 pp.",{"$f":"Table1[[#This Row],[QTY]]*Table1[[#This Row],['# Books]]","v":0},{"$f":"Table1[[#This Row],[QTY]]*Table1[[#This Row],[S&L Price]]","v":0}]
[null,null,82,"Fun Fact File: US History!",1,"20 Fun Facts About the 13 Colonies","Library Bound Book",null,"978-1-5382-1905-8",{"$f":"HYPERLINK(\"https://www.garethstevens.com/\"&Table1[[#This Row],[ISBN]],\"Weblink\")","v":"Weblink"},2019,"August 2018","Library","8.500 X 8.500","Author","Joan Stoltman",null,null,30,null,"N","890L","Grade 2 - 3","Grade 2 - 5","If young readers think that the colonies are just a boring part of America's past, this book will surely change their minds. Each spread is packed with weird, funny, or insightful factoids about how the earliest European settlers came to this strange land and made a home. Vivid, full-color illustrations and photographs on every page add to the comprehension of the facts, while their captions pop even more history tidbits into this book. The fun content and accessible language is sure to engage even the most reluctant readers.","English",25.25,18.95,"973.2--dc23","32 pp.",{"$f":"Table1[[#This Row],[QTY]]*Table1[[#This Row],['# Books]]","v":0},{"$f":"Table1[[#This Row],[QTY]]*Table1[[#This Row],[S&L Price]]","v":0}]
[null,null,82,"Fun Fact File: US History!",1,"20 Fun Facts About the Supreme Court","Library Bound Book",null,"978-1-5382-1917-1",{"$f":"HYPERLINK(\"https://www.garethstevens.com/\"&Table1[[#This Row],[ISBN]],\"Weblink\")","v":"Weblink"},2019,"August 2018","Library","8.500 X 8.500","Author","Joan Stoltman",null,null,30,null,"N","1020L","Grade 2 - 3","Grade 2 - 5","Did you know that the Supreme Court only hears about 80 cases out of the thousands that petition every year to be heard? Many of the cases, decisions, and even judges throughout the history of this high court have been fascinating, and some even controversial. This book infuses fun and interest into this common social studies topic through cool factoids and vivid photography on every page. Carefully researched by a trained historian for maximum accuracy, even the most reluctant reader will find this supplement to the curriculum entertaining and engaging.","English",25.25,18.95,"347.73/26--dc23","32 pp.",{"$f":"Table1[[#This Row],[QTY]]*Table1[[#This Row],['# Books]]","v":0},{"$f":"Table1[[#This Row],[QTY]]*Table1[[#This Row],[S&L Price]]","v":0}]
[null,null,82,"Fun Fact File: US History!",1,"20 Fun Facts About the Supreme Court","eBook",null,"978-1-5382-1918-8",{"$f":"HYPERLINK(\"https://www.garethstevens.com/\"&Table1[[#This Row],[ISBN]],\"Weblink\")","v":"Weblink"},2019,"August 2018",null,null,"Author","Joan Stoltman",null,null,30,null,"N","1020L","Grade 2 - 3","Grade 2 - 5","Did you know that the Supreme Court only hears about 80 cases out of the thousands that petition every year to be heard? Many of the cases, decisions, and even judges throughout the history of this high court have been fascinating, and some even controversial. This book infuses fun and interest into this common social studies topic through cool factoids and vivid photography on every page. Carefully researched by a trained historian for maximum accuracy, even the most reluctant reader will find this supplement to the curriculum entertaining and engaging.","English",25.25,18.95,"347.73/26--dc23","32 pp.",{"$f":"Table1[[#This Row],[QTY]]*Table1[[#This Row],['# Books]]","v":0},{"$f":"Table1[[#This Row],[QTY]]*Table1[[#This Row],[S&L Price]]","v":0}]
[null,null,83,"100 Facts You Should Know",1,"Archaeology","eBook",null,"978-1-4824-5126-9",{"$f":"HYPERLINK(\"https://www.garethstevens.com/\"&Table1[[#This Row],[ISBN]],\"Weblink\")","v":"Weblink"},2017,"August 2016",null,null,"Author","John Farndon","6.2","1",null,null,"S","950L","Grade 4 - 5","Grade 4 - 6","Without archaeology, ancient cultures would remain a mystery to us. Ancient weapons, treasures, and even human remains await young archaeologists who crack the pages of this truly captivating book. One hundred facts offer an understanding of the study of archaeology as well as some of the amazing discoveries that archaeologists have unearthed. Activities and quizzes keep the reader engaged, while historical photographs and detailed illustrations enhance each fascinating fact. This volume is a perfect introduction to archaeology and a valuable support to the social studies curriculum.","English",31.95,23.95,"930.1--dc23","48 pp.",{"$f":"Table1[[#This Row],[QTY]]*Table1[[#This Row],['# Books]]","v":0},{"$f":"Table1[[#This Row],[QTY]]*Table1[[#This Row],[S&L Price]]","v":0}]
[null,null,83,"100 Facts You Should Know",1,"Myths and Legends","Library Bound Book",null,"978-1-4824-5135-1",{"$f":"HYPERLINK(\"https://www.garethstevens.com/\"&Table1[[#This Row],[ISBN]],\"Weblink\")","v":"Weblink"},2017,"August 2016","Library","8.500 X 11.00","Author","Fiona Macdonald","6.4","1",null,null,"S",null,"Grade 4 - 5","Grade 4 - 6","Myths and legends reveal much about a culture, including its most prized values and significant beliefs. Fables may feature animal characters, but they offer morals for real life. This fascinating book is bursting with 100 facts about the stories that have been handed down by different cultures around the world as well as accompanying images, quizzes, and activities, including crafts. Not only is each bite-sized topic interesting in itself, but readers will find connections to modern life, such as the origin of Valentine’s Day. These myths and legends offer unique opportunities for a truly entertaining and educational reading experience.","English",31.95,23.95,"398.2--dc23","48 pp.",{"$f":"Table1[[#This Row],[QTY]]*Table1[[#This Row],['# Books]]","v":0},{"$f":"Table1[[#This Row],[QTY]]*Table1[[#This Row],[S&L Price]]","v":0}]
[null,null,83,"100 Facts You Should Know",1,"World Wonders","eBook",null,"978-1-4824-5131-3",{"$f":"HYPERLINK(\"https://www.garethstevens.com/\"&Table1[[#This Row],[ISBN]],\"Weblink\")","v":"Weblink"},2017,"August 2016",null,null,"Author","Adam Hibbert","6.1","1",null,null,"T","990L","Grade 4 - 5","Grade 4 - 6","For landmarks and landforms to be considered “world wonders,” they must be truly astonishing in some way. The remarkable places featured in this spectacular volume will astound and amaze readers as they learn about them through fun fact boxes and carefully chosen photographs and illustrations. The 100 featured facts take readers on a time-traveling tour around the globe to ancient India, the Roman empire, modern-day Australia, Niagara Falls, and many, many more locations and eras. Activities and quizzes help readers to further reflect on each wondrous fact.","English",31.95,23.95,"930--dc23","48 pp.",{"$f":"Table1[[#This Row],[QTY]]*Table1[[#This Row],['# Books]]","v":0},{"$f":"Table1[[#This Row],[QTY]]*Table1[[#This Row],[S&L Price]]","v":0}]
[null,null,83,"100 Facts You Should Know",1,"Bears","Library Bound Book",null,"978-1-4824-3192-6",{"$f":"HYPERLINK(\"https://www.garethstevens.com/\"&Table1[[#This Row],[ISBN]],\"Weblink\")","v":"Weblink"},2016,"August 2015","Library","8.500 X 11.00","Author","Camilla De La Bédoyère",null,null,44,null,"T",null,"Grade 4 - 5","Grade 4 - 6","There are many reasons why bears are among the most popular exhibits in zoos. These powerful mammals can seem simultaneously adorable and dangerous. This fact-filled volume offers much more knowledge than a bear lover could find in a zoo. Besides valuable scientific information about the eight species of bears remaining in the world, their habitats, life cycles, diet, and more, readers will also find out about species that are now extinct such as Arctodus, a towering bear that measured over 10 feet (3 m) in height! Colorful photographs, illustrations, and diagrams supplement this impressive collection of bear facts.","English",31.95,23.95,"599.78","48 pp.",{"$f":"Table1[[#This Row],[QTY]]*Table1[[#This Row],['# Books]]","v":0},{"$f":"Table1[[#This Row],[QTY]]*Table1[[#This Row],[S&L Price]]","v":0}]
[null,null,83,"100 Facts You Should Know",1,"Horses and Ponies","Library Bound Book",null,"978-1-4824-3200-8",{"$f":"HYPERLINK(\"https://www.garethstevens.com/\"&Table1[[#This Row],[ISBN]],\"Weblink\")","v":"Weblink"},2016,"August 2015","Library","8.500 X 11.00","Author","Camilla De La Bédoyère",null,null,44,null,"T","1020L","Grade 4 - 5","Grade 4 - 6","The graceful beauty and energy of horses have long attracted people. In fact, horses have been domesticated for thousands of years. Horse lovers will find everything they want to know in this high-interest book, including the differences between horses and ponies, what horse hooves are made of, and the different gaits of a moving horse. Numerous equine vocabulary words are defined, such as colt, filly, foal, and mare. Readers will also learn about the evolution of horses and ponies, competitions, and grooming and care. A bright design and varied text elements, such as diagrams, activities, and quizzes, augment this informative volume.","English",31.95,23.95,"636.1","48 pp.",{"$f":"Table1[[#This Row],[QTY]]*Table1[[#This Row],['# Books]]","v":0},{"$f":"Table1[[#This Row],[QTY]]*Table1[[#This Row],[S&L Price]]","v":0}]
[null,null,83,"100 Facts You Should Know",1,"Monkeys and Apes","eBook",null,"978-1-4824-3209-1",{"$f":"HYPERLINK(\"https://www.garethstevens.com/\"&Table1[[#This Row],[ISBN]],\"Weblink\")","v":"Weblink"},2016,"August 2015",null,null,"Author","Camilla De La Bédoyère",null,null,40,null,"S",null,"Grade 4 - 5","Grade 4 - 6","We should learn as much as we can about our closest relatives in the animal world: apes, monkeys, and other primates. Throughout this comprehensive book, readers will discover the differences and similarities among different species of primates through 100 facts grouped by topic and their accompanying fun-fact boxes, diagrams, activities, and quizzes. Beautiful photographs of these amazing animals in their native habitats, including big-eyed tarsiers clinging to trees and teeth-baring baboons displaying their aggression, aid readers in visualizing the many important zoological details.","English",31.95,23.95,"599.8","48 pp.",{"$f":"Table1[[#This Row],[QTY]]*Table1[[#This Row],['# Books]]","v":0},{"$f":"Table1[[#This Row],[QTY]]*Table1[[#This Row],[S&L Price]]","v":0}]
[null,null,83,"100 Facts You Should Know",1,"Knights and Castles","Library Bound Book",null,"978-1-4824-2175-0",{"$f":"HYPERLINK(\"https://www.garethstevens.com/\"&Table1[[#This Row],[ISBN]],\"Weblink\")","v":"Weblink"},2015,"January 2015","Library","8.500 X 11.00","Author","Jane Walker",null,null,40,null,"S","950L","Grade 4 - 5","Grade 4 - 6","For those who've always wanted to live in a castle or become a knight, this engaging text presents 100 fun facts about these high-interest topics. Readers will find out what it was like to live in the Middle Ages, what it took to become a knight, and what happened on the battlefield. They'll love learning about the famous knights of fact and fiction as well as discovering the ins and outs of medieval castles, some of which are still standing today. Fun quizzes and colorful illustrations enhance the well-researched text and will inspire readers to find out more about this beguiling time period.","English",31.95,23.95,"940.1","48 pp.",{"$f":"Table1[[#This Row],[QTY]]*Table1[[#This Row],['# Books]]","v":0},{"$f":"Table1[[#This Row],[QTY]]*Table1[[#This Row],[S&L Price]]","v":0}]
[null,null,83,"100 Facts You Should Know",1,"Knights and Castles","eBook",null,"978-1-4824-2176-7",{"$f":"HYPERLINK(\"https://www.garethstevens.com/\"&Table1[[#This Row],[ISBN]],\"Weblink\")","v":"Weblink"},2015,"January 2015",null,null,"Author","Jane Walker",null,null,40,null,"S","950L","Grade 4 - 5","Grade 4 - 6","For those who've always wanted to live in a castle or become a knight, this engaging text presents 100 fun facts about these high-interest topics. Readers will find out what it was like to live in the Middle Ages, what it took to become a knight, and what happened on the battlefield. They'll love learning about the famous knights of fact and fiction as well as discovering the ins and outs of medieval castles, some of which are still standing today. Fun quizzes and colorful illustrations enhance the well-researched text and will inspire readers to find out more about this beguiling time period.","English",31.95,23.95,"940.1","48 pp.",{"$f":"Table1[[#This Row],[QTY]]*Table1[[#This Row],['# Books]]","v":0},{"$f":"Table1[[#This Row],[QTY]]*Table1[[#This Row],[S&L Price]]","v":0}]
[null,null,83,"100 Facts You Should Know",1,"Pyramids","Library Bound Book",null,"978-1-4824-2185-9",{"$f":"HYPERLINK(\"https://www.garethstevens.com/\"&Table1[[#This Row],[ISBN]],\"Weblink\")","v":"Weblink"},2015,"January 2015","Library","8.500 X 11.00","Author","John Malam",null,null,44,null,"T","950L","Grade 4 - 5","Grade 4 - 6","People travel thousands of miles to see the pyramids in Giza, Egypt. Even with the amazing skyscrapers constructed today, these 4,500-year-old wonders remain some of the most astounding structures on Earth. In this well-researched volume, 100 facts about these intriguing buildings and other pyramids will take readers around the world to Egypt, China, Mexico, and even a glass pyramid in Paris, France. Vibrant photographs, interesting activities, and fun quizzes and diagrams will keep readers engaged as they learn about history, culture, architecture, and more.","English",31.95,23.95,"932","48 pp.",{"$f":"Table1[[#This Row],[QTY]]*Table1[[#This Row],['# Books]]","v":0},{"$f":"Table1[[#This Row],[QTY]]*Table1[[#This Row],[S&L Price]]","v":0}]
[null,null,83,"100 Facts You Should Know",1,"Weapons and Armor","eBook",null,"978-1-4824-2196-5",{"$f":"HYPERLINK(\"https://www.garethstevens.com/\"&Table1[[#This Row],[ISBN]],\"Weblink\")","v":"Weblink"},2015,"January 2015",null,null,"Author","Rupert Matthews",null,null,44,null,"T","970L","Grade 4 - 5","Grade 4 - 6","Weapons and armor have been used to hunt and wage war since the first humans walked the planet. The earliest spears date back 400,000 years! As civilizations and technologies advanced, so did weapons and armor. Through this unique lens, readers delve into some exciting periods of history in many different cultures. Egyptian shields, Greek helmets, Roman gladiatorial garb, and more are examined in this wide-ranging book. In addition, Chinese armor, African clubs, Middle Eastern weaponry, and Samurai swords are discussed as well as modern arms. The high-interest text and colorful images are a perfect complement to any social studies and history collection.","English",31.95,23.95,"623.4","48 pp.",{"$f":"Table1[[#This Row],[QTY]]*Table1[[#This Row],['# Books]]","v":0},{"$f":"Table1[[#This Row],[QTY]]*Table1[[#This Row],[S&L Price]]","v":0}]
[null,null,83,"100 Facts You Should Know",1,"Oceans","eBook",null,"978-1-4824-1360-1",{"$f":"HYPERLINK(\"https://www.garethstevens.com/\"&Table1[[#This Row],[ISBN]],\"Weblink\")","v":"Weblink"},2015,"August 2014",null,null,"Author","Clare Oliver",null,null,40,null,"S",null,"Grade 4 - 5","Grade 4 - 6","Whether readers love a dip in the ocean or are fascinated by marine life, the information in this book will entertain, inform, and keep them turning pages. They'll learn that leopard seals sing in their sleep and that the Great Barrier Reef can be seen from space. Great action photographs and colorful illustrations make this extraordinary collection of facts come alive. Penguins, dolphins, whales, clams, sharks, and even pirates are some of the high-interest topics in this fact-filled and fun-filled dive into all things ocean.","English",31.95,23.95,"551.46","48 pp.",{"$f":"Table1[[#This Row],[QTY]]*Table1[[#This Row],['# Books]]","v":0},{"$f":"Table1[[#This Row],[QTY]]*Table1[[#This Row],[S&L Price]]","v":0}]
[null,null,83,"100 Facts You Should Know",1,"Science","Library Bound Book",null,"978-1-4824-1466-0",{"$f":"HYPERLINK(\"https://www.garethstevens.com/\"&Table1[[#This Row],[ISBN]],\"Weblink\")","v":"Weblink"},2015,"August 2014","Library","8.500 X 11.00","Author","Steve Parker",null,null,44,null,"T",null,"Grade 4 - 5","Grade 4 - 6","Science buffs will find the topics that pique their curiosity in this book that spans the science spectrum, including simple machines, elements, computers, and sound, electrical, and light energy. Fun, easy projects demonstrate key concepts, while quizzes test reading comprehension. Bright diagrams, photographs, and illustrations offer support for each fact and contribute to the appeal of this wide-ranging reference.","English",31.95,23.95,"500","48 pp.",{"$f":"Table1[[#This Row],[QTY]]*Table1[[#This Row],['# Books]]","v":0},{"$f":"Table1[[#This Row],[QTY]]*Table1[[#This Row],[S&L Price]]","v":0}]
[null,null,83,"100 Facts You Should Know",1,"Volcanoes","eBook",null,"978-1-4824-1354-0",{"$f":"HYPERLINK(\"https://www.garethstevens.com/\"&Table1[[#This Row],[ISBN]],\"Weblink\")","v":"Weblink"},2015,"August 2014",null,null,"Author","Chris Oxlade",null,null,40,null,"S","960L","Grade 4 - 5","Grade 4 - 6","Few natural events are as formidable and fascinating as an erupting volcano. Volcanoes are reminders of the constant processes taking place below the surface of Earth. While readers may have heard of the eruptions of Mount Vesuvius and Mount St. Helens, they may not know that Yellowstone National Park is due to erupt, too! The mechanics of plate tectonics, the kinds of volcanoes, historical eruptions, and geothermal energy are the diverse topics of these 100 facts. Awe-inspiring photographs and fun quizzes add to the valuable information.  ","English",31.95,23.95,"551.21","48 pp.",{"$f":"Table1[[#This Row],[QTY]]*Table1[[#This Row],['# Books]]","v":0},{"$f":"Table1[[#This Row],[QTY]]*Table1[[#This Row],[S&L Price]]","v":0}]
[null,null,88,"Handmade Holiday Crafts",1,"Handmade Christmas Crafts","eBook",null,"978-1-4824-6140-4",{"$f":"HYPERLINK(\"https://www.garethstevens.com/\"&Table1[[#This Row],[ISBN]],\"Weblink\")","v":"Weblink"},2017,"January 2017",null,null,"Author","Ruth Owen",null,null,null,null,"L",null,"Grade 3","Grade 3 - 6","Christmas can be made even more fun with lovely decorations and homemade gifts. For readers who love crafting, this book of fantastic, easy projects with a Christmas theme is perfect. With just a few basic craft supplies and even recycled materials from around the house, readers can create special crafts such as Christmas tree decorations, a homemade Advent calendar, and even snowmen made from socks. Each project includes detailed step-by-step instructions and lots of opportunities for readers to use their own creativity to make truly unique designs.","English",26.6,19.95,"745.594’12--dc23","32 pp.",{"$f":"Table1[[#This Row],[QTY]]*Table1[[#This Row],['# Books]]","v":0},{"$f":"Table1[[#This Row],[QTY]]*Table1[[#This Row],[S&L Price]]","v":0}]
[null,null,88,"Handmade Holiday Crafts",1,"Handmade St. Patrick's Day Crafts","Library Bound Book",null,"978-1-4824-6158-9",{"$f":"HYPERLINK(\"https://www.garethstevens.com/\"&Table1[[#This Row],[ISBN]],\"Weblink\")","v":"Weblink"},2017,"January 2017","Library","8.500 X 11.00","Author","Ruth Owen",null,null,null,null,"L",null,"Grade 3","Grade 3 - 6","There’s more to making St. Patrick’s Day crafts than the color green! Of course, this craft book with a St. Patrick’s Day theme features plenty of green, but readers are also led through making shamrock necklaces and bracelets, leprechaun hats filled with candy gold coins, and a “reach the rainbow” marble maze game made from Q-tips! Each project includes detailed step-by-step instructions and lots of opportunities for readers to use their own creativity to make designs that are special and individual.","English",26.6,19.95,"745.594’166--dc23","32 pp.",{"$f":"Table1[[#This Row],[QTY]]*Table1[[#This Row],['# Books]]","v":0},{"$f":"Table1[[#This Row],[QTY]]*Table1[[#This Row],[S&L Price]]","v":0}]
[null,null,88,"Handmade Holiday Crafts",1,"Handmade St. Patrick's Day Crafts","eBook",null,"978-1-4824-6138-1",{"$f":"HYPERLINK(\"https://www.garethstevens.com/\"&Table1[[#This Row],[ISBN]],\"Weblink\")","v":"Weblink"},2017,"January 2017",null,null,"Author","Ruth Owen",null,null,null,null,"L",null,"Grade 3","Grade 3 - 6","There’s more to making St. Patrick’s Day crafts than the color green! Of course, this craft book with a St. Patrick’s Day theme features plenty of green, but readers are also led through making shamrock necklaces and bracelets, leprechaun hats filled with candy gold coins, and a “reach the rainbow” marble maze game made from Q-tips! Each project includes detailed step-by-step instructions and lots of opportunities for readers to use their own creativity to make designs that are special and individual.","English",26.6,19.95,"745.594’166--dc23","32 pp.",{"$f":"Table1[[#This Row],[QTY]]*Table1[[#This Row],['# Books]]","v":0},{"$f":"Table1[[#This Row],[QTY]]*Table1[[#This Row],[S&L Price]]","v":0}]
[null,null,88,"Design It!",6,"Design It!","Library Set",null,"978-1-5382-0777-2",{"$f":"HYPERLINK(\"https://www.garethstevens.com/\"&Table1[[#This Row],[ISBN]],\"Weblink\")","v":"Weblink"},2018,"August 2017","Library","8.500 X 11.00",null,null,null,null,null,null,null,null,"Grade 3 - 4","Grade 3 - 5","Nothing instills pride as much as creating a masterpiece! Readers are encouraged to become artists and designers in this inspired and inspiring series. Volumes span a variety of design disciplines, including books, hairstyles, food, clothing, and even fairy gardens! There's something for every interest, and each fun project is made achievable through clearly stated, step-by-step instructions and a colorful photograph of the finished product. Design tips, advice, and techniques lay a foundation for future creative endeavors, and perhaps even a career in design.","English",159.6,119.7,null,"32 pp.",{"$f":"Table1[[#This Row],[QTY]]*Table1[[#This Row],['# Books]]","v":0},{"$f":"Table1[[#This Row],[QTY]]*Table1[[#This Row],[S&L Price]]","v":0}]
[null,null,88,"Design It!",1,"Fashion Design","Library Bound Book",null,"978-1-5382-0793-2",{"$f":"HYPERLINK(\"https://www.garethstevens.com/\"&Table1[[#This Row],[ISBN]],\"Weblink\")","v":"Weblink"},2018,"August 2017","Library","8.500 X 11.00","Author","Alix Wood",null,null,null,null,"O",null,"Grade 3 - 4","Grade 3 - 5","Some are content to simply follow the trends of fashion, but the bold are the designers who start the fads; they are the true fashionistas. This how-to guide presents creative readers with professional fashion designs as inspirations as well as step-by-step projects to make their own clothing and accessories. Each imaginative task utilizes easy-to-find everyday items and is accompanied by full-color photographs as visual aids.","English",26.6,19.95,"746.9'2--dc23","32 pp.",{"$f":"Table1[[#This Row],[QTY]]*Table1[[#This Row],['# Books]]","v":0},{"$f":"Table1[[#This Row],[QTY]]*Table1[[#This Row],[S&L Price]]","v":0}]
[null,null,88,"Design It!",1,"Hair and Makeup Design","Library Bound Book",null,"978-1-5382-0795-6",{"$f":"HYPERLINK(\"https://www.garethstevens.com/\"&Table1[[#This Row],[ISBN]],\"Weblink\")","v":"Weblink"},2018,"August 2017","Library","8.500 X 11.00","Author","Alix Wood",null,null,null,null,"O",null,"Grade 3 - 4","Grade 3 - 5","Yes, hair and makeup designers can make people look beautiful, but they can also make them look like terrifying zombies. Truly, this inspiring book provides an entertaining and hands-on experience for readers of all ages and interests. The many included activities are presented with comprehensible directions paired with photographs that illustrate each concept. Whether young designers want to learn something for their everyday use or acquire career skills for a future career in the movies, there's inspiration in this high-interest guide.","English",26.6,19.95,"646.7'24--dc23","32 pp.",{"$f":"Table1[[#This Row],[QTY]]*Table1[[#This Row],['# Books]]","v":0},{"$f":"Table1[[#This Row],[QTY]]*Table1[[#This Row],[S&L Price]]","v":0}]
[null,null,88,"Design It!",1,"Hair and Makeup Design","eBook",null,"978-1-5382-0786-4",{"$f":"HYPERLINK(\"https://www.garethstevens.com/\"&Table1[[#This Row],[ISBN]],\"Weblink\")","v":"Weblink"},2018,"August 2017",null,null,"Author","Alix Wood",null,null,null,null,"O",null,"Grade 3 - 4","Grade 3 - 5","Yes, hair and makeup designers can make people look beautiful, but they can also make them look like terrifying zombies. Truly, this inspiring book provides an entertaining and hands-on experience for readers of all ages and interests. The many included activities are presented with comprehensible directions paired with photographs that illustrate each concept. Whether young designers want to learn something for their everyday use or acquire career skills for a future career in the movies, there's inspiration in this high-interest guide.","English",26.6,19.95,"646.7'24--dc23","32 pp.",{"$f":"Table1[[#This Row],[QTY]]*Table1[[#This Row],['# Books]]","v":0},{"$f":"Table1[[#This Row],[QTY]]*Table1[[#This Row],[S&L Price]]","v":0}]
[null,null,89,"Get Crafty with Pets!",1,"Awesome Hamster Crafts","eBook",null,"978-1-5382-2633-9",{"$f":"HYPERLINK(\"https://www.garethstevens.com/\"&Table1[[#This Row],[ISBN]],\"Weblink\")","v":"Weblink"},2019,"August 2018",null,null,"Author","Jane Yates",null,null,null,null,"P",null,"Grade 3 - 4","Grade 3 - 6","What could be more fun than watching a cute, fuzzy hamster find its way through a maze? Making the maze yourself! Through this colorful book, readers can do just that, as well as use their creativity to make 10 more awesome, hamster-themed crafts. From a walnut shell toy and climbing wall for a pet hamster to a hamster journal and pom-pom hamster to show one's hamster love, these crafts engage readers through step-by-step instructions and photographs of each step of the craft. Fact boxes give tips for making each craft better and fun information about readers' favorite pet, the hamster.","English",26.6,19.95,"745.59--dc23","32 pp.",{"$f":"Table1[[#This Row],[QTY]]*Table1[[#This Row],['# Books]]","v":0},{"$f":"Table1[[#This Row],[QTY]]*Table1[[#This Row],[S&L Price]]","v":0}]
[null,null,89,"Get Crafty with Pets!",1,"Sensational Bird Crafts","Library Bound Book",null,"978-1-5382-2626-1",{"$f":"HYPERLINK(\"https://www.garethstevens.com/\"&Table1[[#This Row],[ISBN]],\"Weblink\")","v":"Weblink"},2019,"August 2018","Library","8.500 X 11.00","Author","Jane Yates",null,null,null,null,"P",null,"Grade 3 - 4","Grade 3 - 6","Birds are fun animals to watch play. Why not try making toys for a favorite feathered friend at home? Crafts especially for bird lovers fill this colorful volume, including easy instructions for making a stacking toy, a mirror, and more to entertain pet birds. A felt bird, bird journal, and other bird-themed crafts draw in readers who simply enjoy birds but may not own one. Age-appropriate guidance through each fun craft makes this book a great addition to any children's library collection.","English",26.6,19.95,"745.59--dc23","32 pp.",{"$f":"Table1[[#This Row],[QTY]]*Table1[[#This Row],['# Books]]","v":0},{"$f":"Table1[[#This Row],[QTY]]*Table1[[#This Row],[S&L Price]]","v":0}]
[null,null,89,"Get Crafty with Pets!",1,"Terrific Bunny Crafts","eBook",null,"978-1-5382-2625-4",{"$f":"HYPERLINK(\"https://www.garethstevens.com/\"&Table1[[#This Row],[ISBN]],\"Weblink\")","v":"Weblink"},2019,"August 2018",null,null,"Author","Jane Yates",null,null,null,null,"P",null,"Grade 3 - 4","Grade 3 - 6","While many people might not know it, bunny owners will tell you their rabbits love to play. Homemade toys aren't just great to play with, they're fun and easy to make. This volume includes more than 10 fantastic bunny-themed crafts, including a willow ball, rag doll, and hay ring for bunny to enjoy, as well as a treat jar, paper maché bunny, and bunny journal for readers of all ages to delight in. Through simple step-by-step instructions, readers can get crafty with their favorite pet for many happy hours.","English",26.6,19.95,"745.59--dc23","32 pp.",{"$f":"Table1[[#This Row],[QTY]]*Table1[[#This Row],['# Books]]","v":0},{"$f":"Table1[[#This Row],[QTY]]*Table1[[#This Row],[S&L Price]]","v":0}]
[null,null,89,"Holiday Baking Party",6,"Holiday Baking Party","Library Set",null,"978-1-5382-1414-5",{"$f":"HYPERLINK(\"https://www.garethstevens.com/\"&Table1[[#This Row],[ISBN]],\"Weblink\")","v":"Weblink"},2018,"January 2018","Library","8.500 X 11.00",null,null,null,null,null,null,null,null,"Grade 3 - 4","Grade 3 - 6","One of the best parts of the holidays is the fun, decadent foods that families make together. Whether you're having a big party or a small dinner, planning the menu is an important step of the process. With this series of recipe books, kids can join in the holiday baking fun. Themed treats for Christmas, Halloween, St. Patrick's Day, Thanksgiving, Valentine's Day, and the Fourth of July are awaiting your future bakers. This series provides equipment and ingredients lists and easy-to-follow instructions so that readers can try their hand at creating festive foods for the whole family.","English",159.6,119.7,null,"32 pp.",{"$f":"Table1[[#This Row],[QTY]]*Table1[[#This Row],['# Books]]","v":0},{"$f":"Table1[[#This Row],[QTY]]*Table1[[#This Row],[S&L Price]]","v":0}]
[null,null,89,"Holiday Baking Party",1,"Let's Bake Halloween Treats!","eBook",null,"978-1-5382-1335-3",{"$f":"HYPERLINK(\"https://www.garethstevens.com/\"&Table1[[#This Row],[ISBN]],\"Weblink\")","v":"Weblink"},2018,"January 2018",null,null,"Author","Ruth Owen",null,null,null,null,"P",null,"Grade 3 - 4","Grade 3 - 6","Ghosts, witches, pumpkins, and candy are great baking inspiration. This book is chock-full of themed Halloween recipes for young bakers to tackle during the spookiest time of the year. Including baked items for every taste preference, this book breaks down each yummy recipe into an easy-to-follow set of instructions, as well as provides an ingredient and equipment list. Safety tips remind readers to ask for help with sharp or hot baking tools, but recipes have been specially chosen to be appropriate for young bakers of all experience levels.","English",26.6,19.95,"641.5'68--dc23","32 pp.",{"$f":"Table1[[#This Row],[QTY]]*Table1[[#This Row],['# Books]]","v":0},{"$f":"Table1[[#This Row],[QTY]]*Table1[[#This Row],[S&L Price]]","v":0}]
[null,null,89,"Holiday Baking Party",1,"Let's Bake Thanksgiving Treats!","Library Bound Book",null,"978-1-5382-1342-1",{"$f":"HYPERLINK(\"https://www.garethstevens.com/\"&Table1[[#This Row],[ISBN]],\"Weblink\")","v":"Weblink"},2018,"January 2018","Library","8.500 X 11.00","Author","Ruth Owen",null,null,null,null,"P",null,"Grade 3 - 4","Grade 3 - 6","There can never be too many treats on Thanksgiving Day. From pies to pumpkin cookies, readers are sure to be familiar with the wonderful baked goods often served at their family's dinner. With this book in hand, they'll be able to find the inspiration they need to bake up a themed surprise. With simply written ingredients and equipment lists and easy-to-follow instructions, each recipe was specially formatted and chosen for young bakers eager to take on part of the Thanksgiving meal.","English",26.6,19.95,"641.5'68--dc23","32 pp.",{"$f":"Table1[[#This Row],[QTY]]*Table1[[#This Row],['# Books]]","v":0},{"$f":"Table1[[#This Row],[QTY]]*Table1[[#This Row],[S&L Price]]","v":0}]
[null,null,89,"Create It!",1,"Abstract Art","Library Bound Book",null,"978-1-4824-5045-3",{"$f":"HYPERLINK(\"https://www.garethstevens.com/\"&Table1[[#This Row],[ISBN]],\"Weblink\")","v":"Weblink"},2017,"August 2016","Library","8.500 X 11.00","Author","Alix Wood",null,null,null,null,"Q",null,"Grade 4 - 5","Grade 4 - 6","Abstract art might seem hard to define. But, by introducing readers to the major artists of the style, they’ll have a good idea of the general characteristics of an abstract piece. In addition to biographical information about Henri Matisse, Jasper Johns, Paul Klee, and more important abstract artists, readers learn about each master’s most famous pieces and ways they were able to achieve the look of the work. Fun, colorful projects accompany each artist’s spreads, showing readers how they, too, can make cool abstract art!","English",26.6,19.95,"709.04’052--dc23","32 pp.",{"$f":"Table1[[#This Row],[QTY]]*Table1[[#This Row],['# Books]]","v":0},{"$f":"Table1[[#This Row],[QTY]]*Table1[[#This Row],[S&L Price]]","v":0}]
[null,null,89,"Create It!",1,"Abstract Art","eBook",null,"978-1-4824-5046-0",{"$f":"HYPERLINK(\"https://www.garethstevens.com/\"&Table1[[#This Row],[ISBN]],\"Weblink\")","v":"Weblink"},2017,"August 2016",null,null,"Author","Alix Wood",null,null,null,null,"Q",null,"Grade 4 - 5","Grade 4 - 6","Abstract art might seem hard to define. But, by introducing readers to the major artists of the style, they’ll have a good idea of the general characteristics of an abstract piece. In addition to biographical information about Henri Matisse, Jasper Johns, Paul Klee, and more important abstract artists, readers learn about each master’s most famous pieces and ways they were able to achieve the look of the work. Fun, colorful projects accompany each artist’s spreads, showing readers how they, too, can make cool abstract art!","English",26.6,19.95,"709.04’052--dc23","32 pp.",{"$f":"Table1[[#This Row],[QTY]]*Table1[[#This Row],['# Books]]","v":0},{"$f":"Table1[[#This Row],[QTY]]*Table1[[#This Row],[S&L Price]]","v":0}]
[null,null,89,"Create It!",1,"Impressionist Art","Library Bound Book",null,"978-1-4824-5030-9",{"$f":"HYPERLINK(\"https://www.garethstevens.com/\"&Table1[[#This Row],[ISBN]],\"Weblink\")","v":"Weblink"},2017,"August 2016","Library","8.500 X 11.00","Author","Alix Wood",null,null,null,null,"Q",null,"Grade 4 - 5","Grade 4 - 6","Some of the most famous artists of all time were from the impressionist school. Claude Monet, Georges Seurat, and Edgar Degas all created works that have stood the test of time—and they were impressionists! Readers learn about the characteristics of impressionist art and the techniques used to create it. Master impressionists are profiled throughout the book, including information about their beautiful works. Readers can use this new knowledge to follow step-by-step instructions and make several art projects in the impressionist mode. Tips and full-color photographs help readers as they create, teaching them techniques they can use in future projects.","English",26.6,19.95,"759.05’4--dc23","32 pp.",{"$f":"Table1[[#This Row],[QTY]]*Table1[[#This Row],['# Books]]","v":0},{"$f":"Table1[[#This Row],[QTY]]*Table1[[#This Row],[S&L Price]]","v":0}]
[null,null,89,"Create It!",1,"Surrealist Art","eBook",null,"978-1-4824-5024-8",{"$f":"HYPERLINK(\"https://www.garethstevens.com/\"&Table1[[#This Row],[ISBN]],\"Weblink\")","v":"Weblink"},2017,"August 2016",null,null,"Author","Alix Wood",null,null,null,null,"Q",null,"Grade 4 - 5","Grade 4 - 6","It’s fun to draw from your imagination! Surrealist artists, such as Salvador Dali and Max Ernst, created masterpieces of scenes that look real but couldn’t be. Through an introduction to the features of surrealist art and profiles of famous surrealists, readers learn how to spot a painting or other work created in this genre of art. A colorful layout and full-color photographs engage readers with art history and their own creativity as they complete art projects accompanying each artist’s chapter. Including collages, painting, and drawing, each project offers readers clear instructions for the project at hand as well as technique tips they can use in the future.","English",26.6,19.95,"709.04’063--dc23","32 pp.",{"$f":"Table1[[#This Row],[QTY]]*Table1[[#This Row],['# Books]]","v":0},{"$f":"Table1[[#This Row],[QTY]]*Table1[[#This Row],[S&L Price]]","v":0}]
[null,null,90,"Before They Were President",1,"Before Barack Obama Was President","Library Bound Book",null,"978-1-5382-2909-5",{"$f":"HYPERLINK(\"https://www.garethstevens.com/\"&Table1[[#This Row],[ISBN]],\"Weblink\")","v":"Weblink"},2019,"January 2019","Library","8.500 X 8.500","Author","Julia McDonnell","5.2","0.5",null,null,"L",null,"Grade 2 - 3","Grade 2 - 5","American presidents' administrations are thoroughly studied, analyzed, and chronicled. But what about these politicians' lives before being elected to the country's highest office? Barack Obama's unique story and life experiences, both the triumphant and the challenging, will give young readers insight into his road to the White House. They'll follow him from his earliest days in Hawaii to his historic 2008 election, learning interesting tidbits along the way, such as the fact that he had a pet ape named Tata. Details about the events and lessons that shaped him into our 44th president are also shared. Photographs, maps, quotes, and \"fun facts\" supplement the text and engage the reader.","English",22.6,16.95,"973.932092--dc23","24 pp.",{"$f":"Table1[[#This Row],[QTY]]*Table1[[#This Row],['# Books]]","v":0},{"$f":"Table1[[#This Row],[QTY]]*Table1[[#This Row],[S&L Price]]","v":0}]
[null,null,90,"Before They Were President",1,"Before Franklin D. Roosevelt Was President","Library Bound Book",null,"978-1-5382-2910-1",{"$f":"HYPERLINK(\"https://www.garethstevens.com/\"&Table1[[#This Row],[ISBN]],\"Weblink\")","v":"Weblink"},2019,"January 2019","Library","8.500 X 8.500","Author","Michael Rajczak","5.1","0.5",null,null,"L",null,"Grade 2 - 3","Grade 2 - 5","Franklin Delano Roosevelt's deep admiration for distant cousin Theodore Roosevelt guided him into politics. Roosevelt rose quickly in New York political circles. Then, he was stricken with paralysis from the waist down, but this didn't stop his ambitions. This thought-provoking pre-presidential biography, full of fascinating facts like these, describes the remarkable and vivacious man who would guide the nation through World War II. Noteworthy photographs and interesting fact boxes add to the accessible text's appeal.","English",22.6,16.95,"973.917092--dc23","24 pp.",{"$f":"Table1[[#This Row],[QTY]]*Table1[[#This Row],['# Books]]","v":0},{"$f":"Table1[[#This Row],[QTY]]*Table1[[#This Row],[S&L Price]]","v":0}]
[null,null,90,"Before They Were President",1,"Before Ronald Reagan Was President","eBook",null,"978-1-5382-3052-7",{"$f":"HYPERLINK(\"https://www.garethstevens.com/\"&Table1[[#This Row],[ISBN]],\"Weblink\")","v":"Weblink"},2019,"January 2019",null,null,"Author","Therese M. Shea","5.2","0.5",null,null,"M","860L","Grade 2 - 3","Grade 2 - 5","Ronald Reagan, the 40th president of the United States, lived a full and intriguing life before he took the highest office. \"The Great Communicator,\" as he'd later be called, honed his skills and persona as an announcer for the Chicago Cubs, a movie star, and Governor of California. Readers will be amazed at the many careers and interests of Reagan. They'll also learn about his family and his motivations for seeking the presidency. Absorbing photographs and fact boxes add to this inspiring biography.","English",22.6,16.95,"973.92'7092--dc23","24 pp.",{"$f":"Table1[[#This Row],[QTY]]*Table1[[#This Row],['# Books]]","v":0},{"$f":"Table1[[#This Row],[QTY]]*Table1[[#This Row],[S&L Price]]","v":0}]
[null,null,90,"Before They Were President",1,"Before Abraham Lincoln Was President","Library Bound Book",null,"978-1-5382-1058-1",{"$f":"HYPERLINK(\"https://www.garethstevens.com/\"&Table1[[#This Row],[ISBN]],\"Weblink\")","v":"Weblink"},2018,"January 2018","Library","8.500 X 8.500","Author","Theresa Morlock","5.4","0.5",null,null,"L",null,"Grade 2 - 3","Grade 2 - 5","Before he was president Abraham Lincoln, he was a lawyer in a large hat. Following his rise to the presidency offers readers an inside look at how the signer of the Emancipation Proclamation came to run the nation. From Lincoln's birth in a one-room log cabin to his early days practicing law and working in politics, his life is full of triumphs and tragedy. The places he lived and the people he loved are all chronicled in this exciting work, filling in the blanks in the life story that often starts for many when he assumed the role as America's 16th president.","English",22.6,16.95,"973.7092--dc23","24 pp.",{"$f":"Table1[[#This Row],[QTY]]*Table1[[#This Row],['# Books]]","v":0},{"$f":"Table1[[#This Row],[QTY]]*Table1[[#This Row],[S&L Price]]","v":0}]
[null,null,90,"Before They Were President",1,"Before Donald Trump Was President","eBook",null,"978-1-5382-1071-0",{"$f":"HYPERLINK(\"https://www.garethstevens.com/\"&Table1[[#This Row],[ISBN]],\"Weblink\")","v":"Weblink"},2018,"January 2018",null,null,"Author","Ryan Nagelhout","5.9","0.5",null,null,"L",null,"Grade 2 - 3","Grade 2 - 5","Donald Trump's path to the presidency is unlike any other in the nation's history. Before Trump's stunning rise to the presidency, he was a businessman and hotelier. After a million-dollar loan from his father, he got his own business off the ground and invested in casinos, hotels, and other real estate like golf courses. With unique biographical content and a timeline of his life, readers explore Trump's path through the business world, and see the business skills that made millions of Americans think a reality television star was fit to lead the United States of America.","English",22.6,16.95,"973.933092--dc23","24 pp.",{"$f":"Table1[[#This Row],[QTY]]*Table1[[#This Row],['# Books]]","v":0},{"$f":"Table1[[#This Row],[QTY]]*Table1[[#This Row],[S&L Price]]","v":0}]
[null,null,90,"Before They Were President",1,"Before John Adams Was President","Library Bound Book",null,"978-1-5382-1070-3",{"$f":"HYPERLINK(\"https://www.garethstevens.com/\"&Table1[[#This Row],[ISBN]],\"Weblink\")","v":"Weblink"},2018,"January 2018","Library","8.500 X 8.500","Author","M. H. Seeley","5.6","0.5",null,null,"L",null,"Grade 2 - 3","Grade 2 - 5","Readers might think they might have heard everything there is to know about the American Revolution, but each Founding Father has a unique story worth telling. Before John Adams became America's second president, for example, he often skipped school to hunt and fish. This book gives readers an inside look at life before the presidency which, of course, included creating the nation he became president of later. From his early days north of Boston to his time as a lawyer, readers explore the inner life of the man who took office after George Washington and solidified the presidency.","English",22.6,16.95,"973.4'4092--dc23","24 pp.",{"$f":"Table1[[#This Row],[QTY]]*Table1[[#This Row],['# Books]]","v":0},{"$f":"Table1[[#This Row],[QTY]]*Table1[[#This Row],[S&L Price]]","v":0}]
[null,null,90,"Before They Were President",1,"Before Teddy Roosevelt Was President","eBook",null,"978-1-5382-1079-6",{"$f":"HYPERLINK(\"https://www.garethstevens.com/\"&Table1[[#This Row],[ISBN]],\"Weblink\")","v":"Weblink"},2018,"January 2018",null,null,"Author","Therese M. Shea","4.6","0.5",null,null,"L",null,"Grade 2 - 3","Grade 2 - 5","The rugged image of Teddy Roosevelt might not appear to include the bustle of New York City, but there's much people don't know about the 26th president of the United States. Before Roosevelt founded the Bull Moose Party and ran for office, he was a weight lifter and practiced gymnastics. Readers explore the early life of this larger-than-life political figure, exploring his military career, hobbies, and writings in a book full of images and facts about one of America's most fascinating presidents.","English",22.6,16.95,"973.91/1092--dc23","24 pp.",{"$f":"Table1[[#This Row],[QTY]]*Table1[[#This Row],['# Books]]","v":0},{"$f":"Table1[[#This Row],[QTY]]*Table1[[#This Row],[S&L Price]]","v":0}]
[null,null,93,"History's Most Murderous Villains",1,"Attila the Hun: Enemy of Ancient Rome","eBook",null,"978-1-4824-4783-5",{"$f":"HYPERLINK(\"https://www.garethstevens.com/\"&Table1[[#This Row],[ISBN]],\"Weblink\")","v":"Weblink"},2017,"August 2016",null,null,"Author","Arthur K. Britton ","6.8","1",null,null,"T",null,"Grade 4 - 5","Grade 4 - 6","The Romans called Attila the Hun the “Scourge of God,” and he stands out as one of the most brutal barbarians of the ancient world. Though historians know surprisingly little about Attila, what they do know confirms that he was an incredibly successful leader. He united bands of his people to conquer large sections of Europe in the fifth century. The vicious tactics of these nomadic peoples are matched only by the storied biography of their leader. This fascinating account of Attila is supported by ancient primary sources as well as imaginative artwork depicting the ruler and his people.","English",26.6,19.95,"936/.03092--dc23","32 pp.",{"$f":"Table1[[#This Row],[QTY]]*Table1[[#This Row],['# Books]]","v":0},{"$f":"Table1[[#This Row],[QTY]]*Table1[[#This Row],[S&L Price]]","v":0}]
[null,null,93,"History's Most Murderous Villains",1,"Ivan the Terrible: Terrifying Tyrant of Russia","eBook",null,"978-1-4824-4797-2",{"$f":"HYPERLINK(\"https://www.garethstevens.com/\"&Table1[[#This Row],[ISBN]],\"Weblink\")","v":"Weblink"},2017,"August 2016",null,null,"Author","Ryan Nagelhout","6.2","1",null,null,"S",null,"Grade 4 - 5","Grade 4 - 6","Does Ivan Vasilyevich, also known as Ivan the Terrible, deserve his menacing moniker? The grand prince of Moscow built an empire in the 16th century to become the first tsar of Russia in 1547. Though his achievements were considerable during his time in power, his suspicions about the loyalty of his subjects led to thousands of executions, casting a bloody pall over his entire reign. This story of an intriguing—though chilling—ruler will captivate readers as well as give them an understanding of the conflicts in Europe and Asia at this time.","English",26.6,19.95,"947/.043092--dc23","32 pp.",{"$f":"Table1[[#This Row],[QTY]]*Table1[[#This Row],['# Books]]","v":0},{"$f":"Table1[[#This Row],[QTY]]*Table1[[#This Row],[S&L Price]]","v":0}]
[null,null,93,"History's Most Murderous Villains",1,"Nero: Ruthless Roman Emperor","Library Bound Book",null,"978-1-4824-4801-6",{"$f":"HYPERLINK(\"https://www.garethstevens.com/\"&Table1[[#This Row],[ISBN]],\"Weblink\")","v":"Weblink"},2017,"August 2016","Library","6.500 X 9.125","Author","Shalini Saxena","6.1","1",null,null,"S",null,"Grade 4 - 5","Grade 4 - 6","Nero was the ruthless ruler who “fiddled while Rome burned”—or was he? The fifth Roman emperor’s reputation is unsavory at best. However, in this detailed biography, Nero’s reign is thoroughly examined, casting doubt on some of the criticisms of the leader. Readers will be fascinated by the machinations of the royal Roman household that led to the rise and fall of the famous emperor. The carefully selected photographs reveal artwork and artifacts of the time period, while sidebars and fact boxes bring more valuable information about ancient Roman culture to light.","English",26.6,19.95,"937/.07092--dc23","32 pp.",{"$f":"Table1[[#This Row],[QTY]]*Table1[[#This Row],['# Books]]","v":0},{"$f":"Table1[[#This Row],[QTY]]*Table1[[#This Row],[S&L Price]]","v":0}]
[null,null,93,"Superwomen in STEM",1,"Women Scientists in Astronomy and Space","Library Bound Book",null,"978-1-5382-1403-9",{"$f":"HYPERLINK(\"https://www.garethstevens.com/\"&Table1[[#This Row],[ISBN]],\"Weblink\")","v":"Weblink"},2018,"January 2018","Library","7.250 X 9.250","Author","Nancy Dickmann","6.6","1",null,null,"U","980L","Grade 5","Grade 4 - 8","Exploring and studying space are among humanity's greatest accomplishments, but history books have too often neglected the incredible work of women astronomers and scientists. This informative book illuminates the lives and achievements of astronomical geniuses, from Wang Zhenyi of the Qing dynasty, to Sally Ride, the first American woman in space. Mini bio and feature boxes provide fast facts on each featured scientist, and a gallery spread introduces readers to even more crucial women astronomers. Quotes from each scientist and their contemporaries inspire readers to develop their own love of STEM. Beautiful original illustrations and vibrant photographs pull readers into this thoughtful book. A thorough timeline gives readers a view of women's progress in the field of astronomy, and a \"Science Now\" spread shows readers the wonders of modern day astronomy.","English",31.95,23.95,"305.43'5--dc23","48 pp.",{"$f":"Table1[[#This Row],[QTY]]*Table1[[#This Row],['# Books]]","v":0},{"$f":"Table1[[#This Row],[QTY]]*Table1[[#This Row],[S&L Price]]","v":0}]
[null,null,93,"Superwomen in STEM",1,"Women Scientists in Life Science","eBook",null,"978-1-5382-1407-7",{"$f":"HYPERLINK(\"https://www.garethstevens.com/\"&Table1[[#This Row],[ISBN]],\"Weblink\")","v":"Weblink"},2018,"January 2018",null,null,"Author","Nancy Dickmann","6.4","1",null,null,"U","940L","Grade 5","Grade 4 - 8","The phenomenal work of archeologist Mary Anning led to crucial discoveries and theories, such as Darwin's groundbreaking theory of evolution, yet her story is often overshadowed by men scientists whose work she inspired. This enlightening book explores the lives, accomplishments, and obstacles of vital women scientists in life sciences such as Anning. Mini bio and feature boxes give readers fast facts, while quotes from scientists and their contemporaries inspire readers to explore the wonders of STEM for themselves. A gallery spread introduces readers to even more women scientists. Readers will see the accomplishments of women in life sciences in a thorough timeline, while a \"Science Now\" section introduces readers to the where life sciences are at today.","English",31.95,23.95,"305.43'5--dc23","48 pp.",{"$f":"Table1[[#This Row],[QTY]]*Table1[[#This Row],['# Books]]","v":0},{"$f":"Table1[[#This Row],[QTY]]*Table1[[#This Row],[S&L Price]]","v":0}]
[null,null,93,"Superwomen in STEM",1,"Women Scientists in Physics and Engineering","Library Bound Book",null,"978-1-5382-1412-1",{"$f":"HYPERLINK(\"https://www.garethstevens.com/\"&Table1[[#This Row],[ISBN]],\"Weblink\")","v":"Weblink"},2018,"January 2018","Library","7.250 X 9.250","Author","Catherine Brereton","6.9","1",null,null,"U","1060L","Grade 5","Grade 4 - 8","Despite innumerable obstacles, women have been making crucial discoveries and contributions to science throughout history. This illuminating book shines a light on women physicists and engineers, their accomplishments and the hurdles they overcame. Mini bio and feature boxes offer fast and fascinating facts. Quotes from each featured scientist and their contemporaries inspire readers to explore STEM on their own, while charming illustrations and photographs immerse even reluctant readers. An information-rich timeline overviews the progress of women in physics and engineering, and a gallery spread introduces readers to even more ingenious women in STEM. Full of key scientific discoveries and inspiration, this unique combination of history and science will be perfect in any library and classroom.","English",31.95,23.95,"620.0082--dc23","48 pp.",{"$f":"Table1[[#This Row],[QTY]]*Table1[[#This Row],['# Books]]","v":0},{"$f":"Table1[[#This Row],[QTY]]*Table1[[#This Row],[S&L Price]]","v":0}]
[null,null,93,"Superwomen in STEM",1,"Women Scientists in Physics and Engineering","eBook",null,"978-1-5382-1413-8",{"$f":"HYPERLINK(\"https://www.garethstevens.com/\"&Table1[[#This Row],[ISBN]],\"Weblink\")","v":"Weblink"},2018,"January 2018",null,null,"Author","Catherine Brereton","6.9","1",null,null,"U","1060L","Grade 5","Grade 4 - 8","Despite innumerable obstacles, women have been making crucial discoveries and contributions to science throughout history. This illuminating book shines a light on women physicists and engineers, their accomplishments and the hurdles they overcame. Mini bio and feature boxes offer fast and fascinating facts. Quotes from each featured scientist and their contemporaries inspire readers to explore STEM on their own, while charming illustrations and photographs immerse even reluctant readers. An information-rich timeline overviews the progress of women in physics and engineering, and a gallery spread introduces readers to even more ingenious women in STEM. Full of key scientific discoveries and inspiration, this unique combination of history and science will be perfect in any library and classroom.","English",31.95,23.95,"620.0082--dc23","48 pp.",{"$f":"Table1[[#This Row],[QTY]]*Table1[[#This Row],['# Books]]","v":0},{"$f":"Table1[[#This Row],[QTY]]*Table1[[#This Row],[S&L Price]]","v":0}]
[null,null,95,"Be a Scientist!",1,"Be a Computer Scientist","eBook",null,"978-1-5382-3081-7",{"$f":"HYPERLINK(\"https://www.garethstevens.com/\"&Table1[[#This Row],[ISBN]],\"Weblink\")","v":"Weblink"},2019,"January 2019",null,null,"Author","Jonathan E. Bard",null,null,null,null,"R",null,"Grade 3 - 4","Grade 3 - 6","From the fast-paced world of social media and data security, to the cutting-edge research on cancer and other complex diseases, computer scientists are hard at work writing programs to collect, store, protect, and analyze huge amounts of data. Readers will be introduced to the incredibly diverse and in-demand career options available to people with computer science expertise. Projected to be one of the fastest-growing industries over the next 10 years, there's no better time to learning about becoming a computer scientist.","English",26.6,19.95,"004.023--dc23","32 pp.",{"$f":"Table1[[#This Row],[QTY]]*Table1[[#This Row],['# Books]]","v":0},{"$f":"Table1[[#This Row],[QTY]]*Table1[[#This Row],[S&L Price]]","v":0}]
[null,null,95,"Be a Scientist!",1,"Be a Microbiologist","Library Bound Book",null,"978-1-5382-2998-9",{"$f":"HYPERLINK(\"https://www.garethstevens.com/\"&Table1[[#This Row],[ISBN]],\"Weblink\")","v":"Weblink"},2019,"January 2019","Library","8.500 X 11.00","Author","Zelda Salt",null,null,null,null,"R",null,"Grade 3 - 4","Grade 3 - 6","Has anyone ever told you to \"think big?\" Microbiologists do the opposite: think small, so small they can only see it with a microscope. Readers learn that though microbiologists study the smallest organisms on Earth, they ask big questions about life processes, like sickness and health, and everyday questions, such as how bread is made. Including the schooling, training, and daily tasks of these incredible scientists, the main content also covers information readers will encounter in the science classroom, such as how bacteria grow, methods for experiments, and perhaps how to bake a better loaf of bread.","English",26.6,19.95,"579.023--dc23","32 pp.",{"$f":"Table1[[#This Row],[QTY]]*Table1[[#This Row],['# Books]]","v":0},{"$f":"Table1[[#This Row],[QTY]]*Table1[[#This Row],[S&L Price]]","v":0}]
[null,null,95,"Be a Scientist!",1,"Be an Anthropologist","eBook",null,"978-1-5382-3086-2",{"$f":"HYPERLINK(\"https://www.garethstevens.com/\"&Table1[[#This Row],[ISBN]],\"Weblink\")","v":"Weblink"},2019,"January 2019",null,null,"Author","Jill Keppeler",null,null,null,null,"Q",null,"Grade 3 - 4","Grade 3 - 6","Do you ever wonder where we came from? Or how people lived long ago? Anthropology is the science of humanity, and this can mean many different things. In this detail-filled book, young readers will learn more about how history and science combine in this fascinating career. They'll also learn about physical and cultural anthropologists, how they differ, and how they're the same. Through intriguing photographs and many stories and details, readers will travel through time with anthropologists to see how they, too, can be a part of this unique and important field.","English",26.6,19.95,"301/.023--dc23","32 pp.",{"$f":"Table1[[#This Row],[QTY]]*Table1[[#This Row],['# Books]]","v":0},{"$f":"Table1[[#This Row],[QTY]]*Table1[[#This Row],[S&L Price]]","v":0}]
[null,null,95,"Be a Scientist!",1,"Be a Geologist","Library Bound Book",null,"978-1-4824-1440-0",{"$f":"HYPERLINK(\"https://www.garethstevens.com/\"&Table1[[#This Row],[ISBN]],\"Weblink\")","v":"Weblink"},2015,"August 2014","Library","7.750 X 10.00","Author","Ryan Nagelhout",null,null,40,null,"Q",null,"Grade 3 - 4","Grade 3 - 6","While some scientists look to the stars, others look at the ground. Geologists are scientists who study the rocks under our feet, the soil in our gardens, and the many processes that make Earth continuously shape and reshape itself, such as weathering and erosion. This appealing book focuses on the different kinds of geologists and the significant work they do. It also describes the rock cycle, plate tectonics, and some other important earth-science concepts that will inspire readers to consider a career in geology.","English",26.6,19.95,"550","32 pp.",{"$f":"Table1[[#This Row],[QTY]]*Table1[[#This Row],['# Books]]","v":0},{"$f":"Table1[[#This Row],[QTY]]*Table1[[#This Row],[S&L Price]]","v":0}]
[null,null,95,"Be a Scientist!",1,"Be a Paleontologist","eBook",null,"978-1-4824-1408-0",{"$f":"HYPERLINK(\"https://www.garethstevens.com/\"&Table1[[#This Row],[ISBN]],\"Weblink\")","v":"Weblink"},2015,"August 2014",null,null,"Author","Lori Dowell",null,null,40,null,"R",null,"Grade 3 - 4","Grade 3 - 6","Without paleontologists, we'd know very little about dinosaurs and other prehistoric forms of life. These scientists painstakingly locate fossils, remove them from the earth, and study them to find out what they can reveal about life long ago. This fascinating book examines different specialties some paleontologists choose to pursue as well as the skills and interests those interested in this science career should have. Readers will also enjoy learning about some of the most important discoveries paleontologists have unearthed.","English",26.6,19.95,"560","32 pp.",{"$f":"Table1[[#This Row],[QTY]]*Table1[[#This Row],['# Books]]","v":0},{"$f":"Table1[[#This Row],[QTY]]*Table1[[#This Row],[S&L Price]]","v":0}]
[null,null,95,"Be a Scientist!",1,"Be an Astronomer","Library Bound Book",null,"978-1-4824-1444-8",{"$f":"HYPERLINK(\"https://www.garethstevens.com/\"&Table1[[#This Row],[ISBN]],\"Weblink\")","v":"Weblink"},2015,"August 2014","Library","7.750 X 10.00","Author","Nicole Shea",null,null,40,null,"Q",null,"Grade 3 - 4","Grade 3 - 6","Stargazing may not just be a hobby. For some, it's a clue they should pursue a career in astronomy. In this intriguing book, readers will learn what it takes to become an astronomer and about several puzzles of the universe past astronomers have unlocked. Some topics include how we know a black hole is there if we can't see it, the way a star works and what happens when it dies, and the discovery that most stars we see are actually pairs of stars. Enthralling photographs serve as reminders of the beauty and vastness of the universe.","English",26.6,19.95,"520","32 pp.",{"$f":"Table1[[#This Row],[QTY]]*Table1[[#This Row],['# Books]]","v":0},{"$f":"Table1[[#This Row],[QTY]]*Table1[[#This Row],[S&L Price]]","v":0}]
[null,null,96,"Gareth Guides to an Extraordinary Life",1,"Gareth's Guide to Becoming a Deep-Sea Explorer","eBook",null,"978-1-5382-2044-3",{"$f":"HYPERLINK(\"https://www.garethstevens.com/\"&Table1[[#This Row],[ISBN]],\"Weblink\")","v":"Weblink"},2019,"August 2018",null,null,"Author","Barbara M. Linde",null,null,null,null,"S",null,"Grade 4 - 5","Grade 4 - 6","Scientists maintain that we've only explored 5 percent of Earth's oceans. These incredible expanses contain so many resources that many of us take for granted. Readers of this adventurous guide will be eager to find out how they can be explorers of Earth's final frontier. Whether they're seeking treasure in a wreck or searching for yet-unknown sea creatures, they'll learn what they need to do to prepare for a life in the water. Sidebars and fact boxes highlight information about real-life deep-sea explorers, while vivid photographs capture some truly captivating scenes of the undersea world.","English",27.93,20.95,"551.46'023--dc23","32 pp.",{"$f":"Table1[[#This Row],[QTY]]*Table1[[#This Row],['# Books]]","v":0},{"$f":"Table1[[#This Row],[QTY]]*Table1[[#This Row],[S&L Price]]","v":0}]
[null,null,96,"Gareth Guides to an Extraordinary Life",1,"Gareth's Guide to Becoming a World-Renowned Chef","Library Bound Book",null,"978-1-5382-2047-4",{"$f":"HYPERLINK(\"https://www.garethstevens.com/\"&Table1[[#This Row],[ISBN]],\"Weblink\")","v":"Weblink"},2019,"August 2018","Library","6.500 X 9.125","Author","Kate Mikoley",null,null,null,null,"S",null,"Grade 4 - 5","Grade 4 - 6","Interest in the world of cooking has only risen since the advent of television shows and competitions that invite us all to try our hand at the culinary arts. This entertaining volume, which includes several biographies of world-famous chefs, lets readers know how to make the jump from grilled-cheese master to professional cook. Foodies will be delighted to find out they can start on their path today as they learn some tips and tricks in the pages of this guide to all things gourmet.","English",27.93,20.95,"641.5023--dc23","32 pp.",{"$f":"Table1[[#This Row],[QTY]]*Table1[[#This Row],['# Books]]","v":0},{"$f":"Table1[[#This Row],[QTY]]*Table1[[#This Row],[S&L Price]]","v":0}]
[null,null,96,"Gareth Guides to an Extraordinary Life",1,"Gareth's Guide to Building a Skyscraper","eBook",null,"978-1-5382-2056-6",{"$f":"HYPERLINK(\"https://www.garethstevens.com/\"&Table1[[#This Row],[ISBN]],\"Weblink\")","v":"Weblink"},2019,"August 2018",null,null,"Author","Ryan Nagelhout",null,null,null,null,"T",null,"Grade 4 - 5","Grade 4 - 6","If you've ever stood on the observation deck of the Empire State Building or viewed a photograph of the 163-storey-tall Burj Khalifa, you know what an extraordinary feat of engineering a skyscraper is. It isn't an easy task to design or build one. This authoritative volume delves into the career paths involved with constructing the gravity-defying structures called skyscrapers, including engineering and architecture. The valuable text, supported by photographs, sidebars, fact boxes, infographics, and graphic organizers, contains plenty of information on careers as well as STEM-related concepts relevant to the elementary science curriculum.","English",27.93,20.95,"720.483--dc23","32 pp.",{"$f":"Table1[[#This Row],[QTY]]*Table1[[#This Row],['# Books]]","v":0},{"$f":"Table1[[#This Row],[QTY]]*Table1[[#This Row],[S&L Price]]","v":0}]
[null,null,96,"Gareth Guides to an Extraordinary Life",1,"Gareth's Guide to Becoming a Brain Surgeon","Library Bound Book",null,"978-1-5382-0346-0",{"$f":"HYPERLINK(\"https://www.garethstevens.com/\"&Table1[[#This Row],[ISBN]],\"Weblink\")","v":"Weblink"},2018,"August 2017","Library","6.500 X 9.125","Author","Joan Stoltman","6.5","1",null,null,"U",null,"Grade 4 - 5","Grade 4 - 6","The human brain is a powerful organ. There's so much we don't know about how it works; what we do know is astounding. For example, information in your brain can move as fast as 265 miles per hour, which is faster than a racecar! This truly entertaining and informative volume is full of fascinating facts about the human brain for the brain surgeons of tomorrow. They'll learn how we know about the brain, what we’re trying to learn, and even the basics of neurosurgery, preparing them to be the scientists and doctors who will crack the mysteries of the human brain.","English",27.93,20.95,"617.4’810233--dc23","32 pp.",{"$f":"Table1[[#This Row],[QTY]]*Table1[[#This Row],['# Books]]","v":0},{"$f":"Table1[[#This Row],[QTY]]*Table1[[#This Row],[S&L Price]]","v":0}]
[null,null,96,"Gareth Guides to an Extraordinary Life",1,"Gareth's Guide to Becoming a Rock Star Coder","eBook",null,"978-1-5382-0344-6",{"$f":"HYPERLINK(\"https://www.garethstevens.com/\"&Table1[[#This Row],[ISBN]],\"Weblink\")","v":"Weblink"},2018,"August 2017",null,null,"Author","Patricia Harris Ph.D.","6.1","1",null,null,"T",null,"Grade 4 - 5","Grade 4 - 6","Computer literacy is nothing short of imperative, and many educators are advocating for students to understand code and even to become coders themselves. This motivating volume doesn’t just introduce different kinds of coding, it instills readers with an excitement for coding themselves. They’ll learn about special languages and programs that make coding achievable at all levels of proficiency. They’ll be introduced to professional coders and learn how coding requires practical knowledge as well as creativity in solving problems. An appealing design adds interest to this already high-interest topic, which supports STEM curricula.","English",27.93,20.95,"005.1023--dc23","32 pp.",{"$f":"Table1[[#This Row],[QTY]]*Table1[[#This Row],['# Books]]","v":0},{"$f":"Table1[[#This Row],[QTY]]*Table1[[#This Row],[S&L Price]]","v":0}]
[null,null,96,"Gareth Guides to an Extraordinary Life",1,"Gareth's Guide to Becoming a Star Athlete","Library Bound Book",null,"978-1-5382-0357-6",{"$f":"HYPERLINK(\"https://www.garethstevens.com/\"&Table1[[#This Row],[ISBN]],\"Weblink\")","v":"Weblink"},2018,"August 2017","Library","6.500 X 9.125","Author","Ryan Nagelhout","5.7","1",null,null,"S","990L","Grade 4 - 5","Grade 4 - 6","Whether young athletes aspire to be football, basketball, soccer, baseball, or some other kind of sports star, this guide to all things athletic can give them a true picture of the life of a superstar athlete. It’s not all autographs and interviews! Long hours of training and even study take place off the field, often for years. This engaging volume offers plenty of advice—some from renowned athletes themselves—about how to avoid injury, hone your skills, and make a splash in the world of sports.","English",27.93,20.95,"796--dc23","32 pp.",{"$f":"Table1[[#This Row],[QTY]]*Table1[[#This Row],['# Books]]","v":0},{"$f":"Table1[[#This Row],[QTY]]*Table1[[#This Row],[S&L Price]]","v":0}]
[null,null,96,"Gareth Guides to an Extraordinary Life",1,"Gareth's Guide to Unearthing a Dinosaur","eBook",null,"978-1-5382-0345-3",{"$f":"HYPERLINK(\"https://www.garethstevens.com/\"&Table1[[#This Row],[ISBN]],\"Weblink\")","v":"Weblink"},2018,"August 2017",null,null,"Author","Melissa Raé Shofner","6.4","1",null,null,"T",null,"Grade 4 - 5","Grade 4 - 6","Paleontology is one of the most intriguing careers for those who have a passion for prehistoric life—or just dinosaurs! While we get to see the fruits of a successful excavation at museums, it’s extremely challenging to locate fossils, unearth them, and identify the remains. In this remarkable book, future fossil hunters will discover how paleontologists do what they do—and learn about opportunities for getting started early on this awesome profession. Fun infographics, interesting fact boxes, and captivating sidebars abound in this beautifully designed volume, which supports the elementary science curriculum.","English",27.93,20.95,"560--dc23","32 pp.",{"$f":"Table1[[#This Row],[QTY]]*Table1[[#This Row],['# Books]]","v":0},{"$f":"Table1[[#This Row],[QTY]]*Table1[[#This Row],[S&L Price]]","v":0}]
[null,null,96,"Get to Work!",1,"Digging Deep with an Archaeologist","eBook",null,"978-1-5382-1228-8",{"$f":"HYPERLINK(\"https://www.garethstevens.com/\"&Table1[[#This Row],[ISBN]],\"Weblink\")","v":"Weblink"},2019,"August 2018",null,null,"Author","Joan Stoltman","4.6","0.5",null,null,"L",null,"Grade 2 - 3","Grade 2 - 5","The life of an archaeologist is exciting and competitive, as these specialized scientists race to discover, change, and expand what the world knows about its history. With each breakthrough, books are rewritten and the stories of both nature and humans on this planet are illuminated, revealing a never-ending scope of fascinating, astonishing wonder. This volume dives right into the daily work of an archaeologist, explaining concepts and field terminology in an accessible way. Activities throughout the book will engage and inspire. By providing an \"inside scoop\" to young readers interested in this enthralling science, this volume is sure to be a hit.","English",22.6,16.95,"930.1--dc23","24 pp.",{"$f":"Table1[[#This Row],[QTY]]*Table1[[#This Row],['# Books]]","v":0},{"$f":"Table1[[#This Row],[QTY]]*Table1[[#This Row],[S&L Price]]","v":0}]
[null,null,96,"Get to Work!",1,"Looking for Clues with a Detective","eBook",null,"978-1-5382-1236-3",{"$f":"HYPERLINK(\"https://www.garethstevens.com/\"&Table1[[#This Row],[ISBN]],\"Weblink\")","v":"Weblink"},2019,"August 2018",null,null,"Author","Joan Stoltman","5.1","0.5",null,null,"L",null,"Grade 2 - 3","Grade 2 - 5","The classic detective character is an easily recognizable part of storytelling in so many books, television programs, and movies today. Now, young readers get a chance to learn how detective work is done from the inside. By explaining field terminology and investigative techniques in clear, engaging language, readers will get a compelling overview of the world of detective work. Further inspiration to solve a mystery comes from fun, stimulating activities throughout the book, including a larger project at the end. This volume is sure to be in heavy demand in any collection.","English",22.6,16.95,"363.25028'4--dc23","24 pp.",{"$f":"Table1[[#This Row],[QTY]]*Table1[[#This Row],['# Books]]","v":0},{"$f":"Table1[[#This Row],[QTY]]*Table1[[#This Row],[S&L Price]]","v":0}]
[null,null,96,"Get to Work!",1,"Planning to Build with an Architect","Library Bound Book",null,"978-1-5382-1579-1",{"$f":"HYPERLINK(\"https://www.garethstevens.com/\"&Table1[[#This Row],[ISBN]],\"Weblink\")","v":"Weblink"},2019,"August 2018","Library","8.500 X 8.500","Author","Joan Stoltman","4.8","0.5",null,null,"N",null,"Grade 2 - 3","Grade 2 - 5","Finally, there's a book that provides a chance for young readers to really understand and be inspired by the physical structures that surround them every day. In this volume, readers discover that someone meticulously designs all the little details that make each building in their town or city unique. Packed with activities to do at home, the text cultivates interest and exploration into the world of engineering and architecture through bold graphics, full-color photography, age-appropriate language, and hard concepts made tangible.","English",22.6,16.95,"720.92--dc23","24 pp.",{"$f":"Table1[[#This Row],[QTY]]*Table1[[#This Row],['# Books]]","v":0},{"$f":"Table1[[#This Row],[QTY]]*Table1[[#This Row],[S&L Price]]","v":0}]
[null,null,97,"The Unofficial Minecraft® Tool Kit",1,"Forest Fun with Minecraft®","Library Bound Book",null,"978-1-5382-1707-8",{"$f":"HYPERLINK(\"https://www.garethstevens.com/\"&Table1[[#This Row],[ISBN]],\"Weblink\")","v":"Weblink"},2018,"January 2018","Library","8.500 X 11.00","Author(s)","Joey Davey, Jonathan Green",null,null,null,null,"R",null,"Grade 3 - 4","Grade 3 - 6","In a strange new wilderness, what does it take to survive and thrive? This inside guide to the world of Minecraft gives readers tips, tricks, and step-by-step instructions to help them create their own forest fortresses. Fun and accessible, this book is broken down into three projects at different difficulty levels: beginner, intermediate, and master. Readers will gain confidence as they construct a comfy camp, a magnificent mushroom mansion, and a towering treetop lodge. Each project provides a time-to-completion estimate, visuals of each step, and a handy materials list so readers can stock up on all the supplies they'll need. Creative tips encourage readers to unleash their imaginations to make their Minecraft masterpieces unique.","English",22.6,16.95,"794.8--dc23","24 pp.",{"$f":"Table1[[#This Row],[QTY]]*Table1[[#This Row],['# Books]]","v":0},{"$f":"Table1[[#This Row],[QTY]]*Table1[[#This Row],[S&L Price]]","v":0}]
[null,null,99,"Surviving the Impossible",12,"Surviving the Impossible (Set of 12 Titles)","Library Set",null,"978-1-5382-3600-0",{"$f":"HYPERLINK(\"https://www.garethstevens.com/\"&Table1[[#This Row],[ISBN]],\"Weblink\")","v":"Weblink"},2019,"January 2019","Library","8.500 X 11.00",null,null,null,null,null,null,null,null,"Grade 4 - 5","Grade 4 - 6","Killer viruses, monstrous mummies, alien invasions, and nuclear explosions, there are so many horrifying disasters that could wipe out humanity! Is survival even possible? It is for readers of this spine-chilling series. Readers are guided through unforgettable, astonishing apocalypses. These high-interest subjects are compelling to readers of all ages, and the entertaining text is accessible for all reading levels. A deliciously creepy design and spooky, full-color images add to the adventure. The end of the world has never been more fun. Features include: Topics are divided into subsections to ensure accessibility. Readers learn cause-and-effect and problem-and-solution, which are standards of the English Language Arts Common Core.","English",319.2,239.4,null,"32 pp.",{"$f":"Table1[[#This Row],[QTY]]*Table1[[#This Row],['# Books]]","v":0},{"$f":"Table1[[#This Row],[QTY]]*Table1[[#This Row],[S&L Price]]","v":0}]
[null,null,99,"Surviving the Impossible",1,"Surviving a Nuclear War","eBook",null,"978-1-5382-3513-3",{"$f":"HYPERLINK(\"https://www.garethstevens.com/\"&Table1[[#This Row],[ISBN]],\"Weblink\")","v":"Weblink"},2019,"January 2019",null,null,"Author","Michael Tylers",null,null,null,null,"Q",null,"Grade 4 - 5","Grade 4 - 6","Few apocalypses are as scary as nuclear war. What could be more horrifying than doom humans bring upon themselves? Readers of this ultimate survival guide will go on a spine-chilling adventure through a nuclear war. They'll learn tips to survive the extreme destruction. Readers will also learn about cause and effect, and problems and solutions, which are standards of the English Language Arts Common Core. Full-color photographs and a striking design heighten the suspense of this jarring journey.","English",26.6,19.95,"355.02'17--dc23","32 pp.",{"$f":"Table1[[#This Row],[QTY]]*Table1[[#This Row],['# Books]]","v":0},{"$f":"Table1[[#This Row],[QTY]]*Table1[[#This Row],[S&L Price]]","v":0}]
[null,null,99,"Surviving the Impossible",1,"Surviving a Vampire Invasion","eBook",null,"978-1-5382-3517-1",{"$f":"HYPERLINK(\"https://www.garethstevens.com/\"&Table1[[#This Row],[ISBN]],\"Weblink\")","v":"Weblink"},2019,"January 2019",null,null,"Author","Madeline Tyler",null,null,null,null,"Q",null,"Grade 4 - 5","Grade 4 - 6","They're immortal, nocturnal, and out for blood! These undead monsters are creeping out of their coffins, and time's running out. Who will make it out alive with their throat un-bitten? The readers of this ultimate vampire survival guide will. They'll learn survival tips for situations ranging from silly to bone-chillingly scary. Spooky full-color photographs and an eerie design add to the adventure. This high-interest, entertaining topic is sure to draw in even reluctant readers, making it a fun and valuable addition to any library or classroom. Grab this guide and fresh clove of garlic before it's too late.","English",26.6,19.95,"398.21--dc23","32 pp.",{"$f":"Table1[[#This Row],[QTY]]*Table1[[#This Row],['# Books]]","v":0},{"$f":"Table1[[#This Row],[QTY]]*Table1[[#This Row],[S&L Price]]","v":0}]
[null,null,99,"Surviving the Impossible",1,"Surviving in a World Without Water","Library Bound Book",null,"978-1-5382-3524-9",{"$f":"HYPERLINK(\"https://www.garethstevens.com/\"&Table1[[#This Row],[ISBN]],\"Weblink\")","v":"Weblink"},2019,"January 2019","Library","8.500 X 11.00","Author","Madeline Tyler",null,null,null,null,"Q",null,"Grade 4 - 5","Grade 4 - 6","We all need water to survive, so what happens when the world runs out? This bone-dry apocalypse will leave humanity thirsty for survival tips. Luckily, this ultimate guide to surviving in a world without water has all the info readers will need to make it out alive, and hydrated. They'll learn how to handle situations ranging from silly to scary, while full-color photographs and a striking design bring this horrifying adventure into detailed focus. Entertaining and engaging, this high-interest book is sure to quench readers' thirst for apocalypse training.","English",26.6,19.95,"333.91'16--dc23","32 pp.",{"$f":"Table1[[#This Row],[QTY]]*Table1[[#This Row],['# Books]]","v":0},{"$f":"Table1[[#This Row],[QTY]]*Table1[[#This Row],[S&L Price]]","v":0}]
[null,null,99,"Surviving the Impossible",1,"Surviving a Killer Virus","eBook",null,"978-1-5382-1417-6",{"$f":"HYPERLINK(\"https://www.garethstevens.com/\"&Table1[[#This Row],[ISBN]],\"Weblink\")","v":"Weblink"},2018,"January 2018",null,null,"Author","Charlie Ogden",null,null,null,null,"Q",null,"Grade 4 - 5","Grade 4 - 6","Killer viruses are just the focus of movies in the experience of most readers, but they're not out of the realm of possibility. Viruses can spread at unbelievably fast rates and with frightening consequences. After reading this inventive volume, young virologists will picture themselves as the hero of their own story. They'll learn how viruses spread, how to avoid contamination, and the best way to battle and perhaps conquer an invisible killer. Science meets science fiction in this motivating look at what happens when deadly viruses rage out of control.","English",26.6,19.95,"614.5'8--dc23","32 pp.",{"$f":"Table1[[#This Row],[QTY]]*Table1[[#This Row],['# Books]]","v":0},{"$f":"Table1[[#This Row],[QTY]]*Table1[[#This Row],[S&L Price]]","v":0}]
[null,null,99,"Surviving the Impossible",1,"Surviving an Alien Invasion","Library Bound Book",null,"978-1-5382-1418-3",{"$f":"HYPERLINK(\"https://www.garethstevens.com/\"&Table1[[#This Row],[ISBN]],\"Weblink\")","v":"Weblink"},2018,"January 2018","Library","8.500 X 11.00","Author","Charlie Ogden",null,null,null,null,"Q","1010L","Grade 4 - 5","Grade 4 - 6","Why waste time wondering if aliens could invade? It's better to prepare for their arrival, and while it would be nice if they were friendly, it's best to plan for a hostile takeover. It could mean the difference between life and certain doom. Readers will snatch up this high-interest survival guide, whether they're believers in UFOs or not. Its imaginative solutions to all problems an alien conquest might bring will make them confident of their own survival in the most challenging situations. Comprehensible text is coupled with an engaging design notable for its entertaining and vivid images.","English",26.6,19.95,"001.942--dc23","32 pp.",{"$f":"Table1[[#This Row],[QTY]]*Table1[[#This Row],['# Books]]","v":0},{"$f":"Table1[[#This Row],[QTY]]*Table1[[#This Row],[S&L Price]]","v":0}]
[null,null,99,"Surviving the Impossible",1,"Surviving an Alien Invasion","eBook",null,"978-1-5382-1419-0",{"$f":"HYPERLINK(\"https://www.garethstevens.com/\"&Table1[[#This Row],[ISBN]],\"Weblink\")","v":"Weblink"},2018,"January 2018",null,null,"Author","Charlie Ogden",null,null,null,null,"Q","1010L","Grade 4 - 5","Grade 4 - 6","Why waste time wondering if aliens could invade? It's better to prepare for their arrival, and while it would be nice if they were friendly, it's best to plan for a hostile takeover. It could mean the difference between life and certain doom. Readers will snatch up this high-interest survival guide, whether they're believers in UFOs or not. Its imaginative solutions to all problems an alien conquest might bring will make them confident of their own survival in the most challenging situations. Comprehensible text is coupled with an engaging design notable for its entertaining and vivid images.","English",26.6,19.95,"001.942--dc23","32 pp.",{"$f":"Table1[[#This Row],[QTY]]*Table1[[#This Row],['# Books]]","v":0},{"$f":"Table1[[#This Row],[QTY]]*Table1[[#This Row],[S&L Price]]","v":0}]
[null,null,100,"Magic Tricks",6,"Magic Tricks","Library Set",null,"978-1-5382-2723-7",{"$f":"HYPERLINK(\"https://www.garethstevens.com/\"&Table1[[#This Row],[ISBN]],\"Weblink\")","v":"Weblink"},2019,"August 2018","Library","8.500 X 11.00",null,null,null,null,null,null,null,null,"Grade 3 - 4","Grade 3 - 6","It's been said that the best magicians never reveal their tricks, but readers of this innovative series will get a sneak peak into the mysterious world of magic. Along the way, they'll learn about the history of magic and some of the most well-known people in the business, from the old greats, such as Houdini and Adelaide Herrmann, to more modern illusionists, like Penn and Teller. This imaginative series has something for everyone, whether they prefer card tricks and classic magic or mind tricks and illusions. Features include: High-interest topics make for a fun way for readers of many ages to learn about history. Vibrant photographs enhance the reading experience and engage readers. Fact boxes throughout each book provide even more interesting information.","English",159.6,119.7,null,"32 pp.",{"$f":"Table1[[#This Row],[QTY]]*Table1[[#This Row],['# Books]]","v":0},{"$f":"Table1[[#This Row],[QTY]]*Table1[[#This Row],[S&L Price]]","v":0}]
[null,null,100,"Magic Tricks",1,"Coin Magic","Library Bound Book",null,"978-1-5382-2602-5",{"$f":"HYPERLINK(\"https://www.garethstevens.com/\"&Table1[[#This Row],[ISBN]],\"Weblink\")","v":"Weblink"},2019,"August 2018","Library","8.500 X 11.00","Author","John Wood",null,null,null,null,"O",null,"Grade 3 - 4","Grade 3 - 6","Whether in the movies or in person, many people have seen someone perform the classic magic trick of pulling a coin out from behind another person's ear. However, that's not the only trick magicians perform using coins. Readers of this innovative book learn all about coin tricks and their place in the mysterious world of magic. Engaging text is supported with colorful images that hold readers' attention. This exciting volume is a fun way for young readers and aspiring magicians alike to learn about this high-interest topic.","English",26.6,19.95,"793.8--dc23","32 pp.",{"$f":"Table1[[#This Row],[QTY]]*Table1[[#This Row],['# Books]]","v":0},{"$f":"Table1[[#This Row],[QTY]]*Table1[[#This Row],[S&L Price]]","v":0}]
[null,null,100,"Magic Tricks",1,"Illusions","eBook",null,"978-1-5382-2609-4",{"$f":"HYPERLINK(\"https://www.garethstevens.com/\"&Table1[[#This Row],[ISBN]],\"Weblink\")","v":"Weblink"},2019,"August 2018",null,null,"Author","John Wood",null,null,null,null,"O",null,"Grade 3 - 4","Grade 3 - 6","Illusionists are very popular among fans of magic. They often perform crazy tricks that seem impossible, and sometimes even deadly. This fascinating volume teaches readers about these tricks and some of the famous people who have performed them. They also get a taste of the history behind these illusions and even find out how some of the most seemingly impossible tricks are done. Colorful images and engaging text make for an exciting book that's sure to be a popular addition to any library or classroom.","English",26.6,19.95,"793.8--dc23","32 pp.",{"$f":"Table1[[#This Row],[QTY]]*Table1[[#This Row],['# Books]]","v":0},{"$f":"Table1[[#This Row],[QTY]]*Table1[[#This Row],[S&L Price]]","v":0}]
[null,null,100,"Magic Tricks",1,"Magic Stunts","eBook",null,"978-1-5382-2590-5",{"$f":"HYPERLINK(\"https://www.garethstevens.com/\"&Table1[[#This Row],[ISBN]],\"Weblink\")","v":"Weblink"},2019,"August 2018",null,null,"Author","John Wood",null,null,null,null,"O",null,"Grade 3 - 4","Grade 3 - 6","Stunts are amazing feats of strength or skill, but magic stunts are even more interesting because they involve magicians performing feats that seem impossible. With the help of this engaging book, readers can explore the mysterious world of magic stunts and illusions. They'll learn about some of the famous people who perform these stunts and even learn some of the tricks behind them. Colorful photographs and stimulating text make for a captivating volume that imaginative readers of many ages will love.","English",26.6,19.95,"793.8--dc23","32 pp.",{"$f":"Table1[[#This Row],[QTY]]*Table1[[#This Row],['# Books]]","v":0},{"$f":"Table1[[#This Row],[QTY]]*Table1[[#This Row],[S&L Price]]","v":0}]
[null,null,100,"Q & A: Life's Mysteries Solved!",1,"Do Cows Have Two Stomachs?: And Other FAQs About Animals","eBook",null,"978-1-4824-4779-8",{"$f":"HYPERLINK(\"https://www.garethstevens.com/\"&Table1[[#This Row],[ISBN]],\"Weblink\")","v":"Weblink"},2017,"August 2016",null,null,"Author","Therese M. Shea","5","0.5",null,null,"Q","820L","Grade 3 - 4","Grade 3 - 6","Animals have a lot in common with people: they eat, sleep, and have babies. That’s sometimes where the similarities end! Rabbits, for example, eat their own poop so they can digest even more nutrients than they did the first time around. Readers might find this and other facts gross, but they’ll also love to repeat them! Full-color photographs and diagrams complement a fun design full of surprising and interesting information about animal bodies and behavior. Informal language draws readers into science concepts covering simple biology and environmental adaptation.","English",26.6,19.95,"590--dc23","32 pp.",{"$f":"Table1[[#This Row],[QTY]]*Table1[[#This Row],['# Books]]","v":0},{"$f":"Table1[[#This Row],[QTY]]*Table1[[#This Row],[S&L Price]]","v":0}]
[null,null,100,"Q & A: Life's Mysteries Solved!",1,"How Do You Gain Time When You Fly West?: And Other FAQs About Time and Travel","Library Bound Book",null,"978-1-4824-4754-5",{"$f":"HYPERLINK(\"https://www.garethstevens.com/\"&Table1[[#This Row],[ISBN]],\"Weblink\")","v":"Weblink"},2017,"August 2016","Library","8.500 X 11.00","Author","Kristen Rajczak Nelson","5.3","0.5",null,null,"Q","920L","Grade 3 - 4","Grade 3 - 6","It seems impossible that it could be 6 p.m. in one place and 6 a.m. in another. But, because of time zones and other ideas people around the world have adopted, this happens every day! The most interesting time and travel facts can be complicated. In this book, readers have a chance to figure out how these concepts work in the real world through diagrams, colorful photographs, and conversational language they can understand. Surprising facts and an exciting design will engage readers from the start, but their curiosity will keep them reading!","English",26.6,19.95,"529--dc23","32 pp.",{"$f":"Table1[[#This Row],[QTY]]*Table1[[#This Row],['# Books]]","v":0},{"$f":"Table1[[#This Row],[QTY]]*Table1[[#This Row],[S&L Price]]","v":0}]
[null,null,100,"Q & A: Life's Mysteries Solved!",1,"Why Do Cars Need Gas?: And Other FAQs About Machines","eBook",null,"978-1-4824-4776-7",{"$f":"HYPERLINK(\"https://www.garethstevens.com/\"&Table1[[#This Row],[ISBN]],\"Weblink\")","v":"Weblink"},2017,"August 2016",null,null,"Author","Amy Hayes","5.3","0.5",null,null,"Q","890L","Grade 3 - 4","Grade 3 - 6","So much of our days are spent inside cars—but do most people know how they work? After finishing this book, readers will know all about how cars use their fuel and move and much more about other machines! Including descriptions of simple physical science concepts and how some machines were invented, the main content is laid out in a fun, interactive way with lots of fact boxes and diagrams to aid readers’ understanding. Full-color photographs complement each spread, highlighting the information presented.","English",26.6,19.95,"629.04--dc23","32 pp.",{"$f":"Table1[[#This Row],[QTY]]*Table1[[#This Row],['# Books]]","v":0},{"$f":"Table1[[#This Row],[QTY]]*Table1[[#This Row],[S&L Price]]","v":0}]
[null,null,101,"A Cryptozoologist’s Guide to Curious Creatures",6,"A Cryptozoologist’s Guide to Curious Creatures","Library Set",null,"978-1-5382-2726-8",{"$f":"HYPERLINK(\"https://www.garethstevens.com/\"&Table1[[#This Row],[ISBN]],\"Weblink\")","v":"Weblink"},2019,"August 2018","Library","7.125 X 8.500",null,null,null,null,null,null,null,null,"Grade 4 - 5","Grade 4 - 6","People have been passing down captivating legends for generations. Many of the creatures in these legends have become known around the world. Cryptozoologists are people who study and search for these kinds of creatures and animals. Imaginative readers will love learning about the many beasts featured in folklore around the globe. They'll learn that these tales are legends, not fact, but along the way they'll gain knowledge about many of the actual places and people involved in these fascinating stories. Features include: Colorful images correlate closely with engaging text that will help readers be able to recount stories, an important part of the Common Core language arts standards. The stories of well-known legends are interlaced with facts about the people and places surrounding them, supporting the social studies curriculum. Sidebars throughout each book add even more captivating information.","English",159.6,119.7,null,"32 pp.",{"$f":"Table1[[#This Row],[QTY]]*Table1[[#This Row],['# Books]]","v":0},{"$f":"Table1[[#This Row],[QTY]]*Table1[[#This Row],[S&L Price]]","v":0}]
[null,null,101,"A Cryptozoologist’s Guide to Curious Creatures",1,"Bigfoot the Hairy Beast and Other Legendary Creatures of North America","Library Bound Book",null,"978-1-5382-2694-0",{"$f":"HYPERLINK(\"https://www.garethstevens.com/\"&Table1[[#This Row],[ISBN]],\"Weblink\")","v":"Weblink"},2019,"August 2018","Library","7.125 X 8.500","Author","Craig Boutland","5.7","0.5",null,null,"S",null,"Grade 4 - 5","Grade 4 - 6","Bigfoot, also known as Sasquatch, is a tale known by many in North America. Stories vary by account, but when a person mentions the creature, most are able to picture a similar beast; a large, hairy, humanlike creature. Bigfoot isn't the only legend known to North Americans. Readers of this engaging volume will also learn about other legendary beings based on fascinating tales, such as Caddy, Champ, and thunderbirds. Vibrant images and intriguing text make for a book that is sure to be a popular addition to any library or classroom.","English",26.6,19.95,"001.944--dc23","32 pp.",{"$f":"Table1[[#This Row],[QTY]]*Table1[[#This Row],['# Books]]","v":0},{"$f":"Table1[[#This Row],[QTY]]*Table1[[#This Row],[S&L Price]]","v":0}]
[null,null,101,"A Cryptozoologist’s Guide to Curious Creatures",1,"El Chupacabra the Bloodsucker and Other Legendary Creatures of Latin America","Library Bound Book",null,"978-1-5382-2698-8",{"$f":"HYPERLINK(\"https://www.garethstevens.com/\"&Table1[[#This Row],[ISBN]],\"Weblink\")","v":"Weblink"},2019,"August 2018","Library","7.125 X 8.500","Author","Craig Boutland","6.1","0.5",null,null,"S",null,"Grade 4 - 5","Grade 4 - 6","Like any other place where people live in the world, Latin America has its fair share of legendary tales. El Chupacabra, a creature reported to drink the blood of livestock, is just one example of the type of beast believed by some to exist in this part of the globe. Readers of this high-interest volume will learn that others include a giant worm said to burrow in the giant trenches it digs and a giant anaconda some claim to be much bigger than the truly large snakes that exist nearby. Eye-catching images supplement this already engaging text and make for an exciting read.","English",26.6,19.95,"398.2098--dc23","32 pp.",{"$f":"Table1[[#This Row],[QTY]]*Table1[[#This Row],['# Books]]","v":0},{"$f":"Table1[[#This Row],[QTY]]*Table1[[#This Row],[S&L Price]]","v":0}]
[null,null,101,"Sole Survivor",1,"Surviving the Desert","Library Bound Book",null,"978-1-4824-5093-4",{"$f":"HYPERLINK(\"https://www.garethstevens.com/\"&Table1[[#This Row],[ISBN]],\"Weblink\")","v":"Weblink"},2017,"August 2016","Library","7.250 X 9.250","Author","Louise Spilsbury",null,null,null,null,"R","980L","Grade 4 - 5","Grade 4 - 6","Dehydration, freezing night temperatures, scorpions...these are just some of the dangers that await those traveling through the desert. With preparation, anyone can survive, but what if something goes wrong? This book introduces readers to the desert ecosystem in an inventive, fascinating way; through its perils. Real-life tales of those who have survived the hardest parts of desert living encourage readers to be prepared when visiting an area with little water, lots of sun, and quicksand. Full-color photographs accompany each story, while multiple-choice questions help readers assess each scary situation.","English",31.95,23.95,"613.6'9--dc23","48 pp.",{"$f":"Table1[[#This Row],[QTY]]*Table1[[#This Row],['# Books]]","v":0},{"$f":"Table1[[#This Row],[QTY]]*Table1[[#This Row],[S&L Price]]","v":0}]
[null,null,101,"Sole Survivor",1,"Surviving the Desert","eBook",null,"978-1-4824-5094-1",{"$f":"HYPERLINK(\"https://www.garethstevens.com/\"&Table1[[#This Row],[ISBN]],\"Weblink\")","v":"Weblink"},2017,"August 2016",null,null,"Author","Louise Spilsbury",null,null,null,null,"R","980L","Grade 4 - 5","Grade 4 - 6","Dehydration, freezing night temperatures, scorpions...these are just some of the dangers that await those traveling through the desert. With preparation, anyone can survive, but what if something goes wrong? This book introduces readers to the desert ecosystem in an inventive, fascinating way; through its perils. Real-life tales of those who have survived the hardest parts of desert living encourage readers to be prepared when visiting an area with little water, lots of sun, and quicksand. Full-color photographs accompany each story, while multiple-choice questions help readers assess each scary situation.","English",31.95,23.95,"613.6'9--dc23","48 pp.",{"$f":"Table1[[#This Row],[QTY]]*Table1[[#This Row],['# Books]]","v":0},{"$f":"Table1[[#This Row],[QTY]]*Table1[[#This Row],[S&L Price]]","v":0}]
[null,null,101,"Sole Survivor",1,"Surviving the Rainforest","Library Bound Book",null,"978-1-4824-5081-1",{"$f":"HYPERLINK(\"https://www.garethstevens.com/\"&Table1[[#This Row],[ISBN]],\"Weblink\")","v":"Weblink"},2017,"August 2016","Library","7.250 X 9.250","Author","Louise Spilsbury",null,null,null,null,"R","900L","Grade 4 - 5","Grade 4 - 6","Those lost in the rainforest have a lot to be worried about. From sudden rainstorms to disease-carrying insects, there are a lot of dangers that need to be considered. However, readers of this book will be prepared! Through detailed descriptions of how to build shelter, gather food and water, and how to handle the possibility of wild animals, readers learn about the rainforest ecosystem and how to use it well. Survival stories of real people add a captivating element to the main content, and full-color photographs let readers travel deep into the rainforest without getting lost.","English",31.95,23.95,"613.6’9’09152-dc23","48 pp.",{"$f":"Table1[[#This Row],[QTY]]*Table1[[#This Row],['# Books]]","v":0},{"$f":"Table1[[#This Row],[QTY]]*Table1[[#This Row],[S&L Price]]","v":0}]
[null,null,101,"Sole Survivor",1,"Surviving the Sea","eBook",null,"978-1-4824-5074-3",{"$f":"HYPERLINK(\"https://www.garethstevens.com/\"&Table1[[#This Row],[ISBN]],\"Weblink\")","v":"Weblink"},2017,"August 2016",null,null,"Author","Louise Spilsbury",null,null,null,null,"R","950L","Grade 4 - 5","Grade 4 - 6","To reach certain places on Earth, we must cross miles of open water. Whether by plane or boat, there's always a chance of disaster, and the ocean is a dangerous place to be alone without transport. Readers learn what to do should they be left in open water or stranded on an island, including how to get food and water. True stories of those who have survived shipwreck exemplify the courage and resourcefulness needed in scary situations. Readers use their critical-thinking skills to answer multiple-choice questions about similar situations as they learn about the ocean ecosystem, including its hidden dangers.","English",31.95,23.95,"910.4’52--dc23","48 pp.",{"$f":"Table1[[#This Row],[QTY]]*Table1[[#This Row],['# Books]]","v":0},{"$f":"Table1[[#This Row],[QTY]]*Table1[[#This Row],[S&L Price]]","v":0}]
[null,null,102,"What Would You Choose?",1,"Perilous Places","eBook",null,"978-1-4824-6177-0",{"$f":"HYPERLINK(\"https://www.garethstevens.com/\"&Table1[[#This Row],[ISBN]],\"Weblink\")","v":"Weblink"},2017,"January 2017",null,null,"Author","Helen Greathead",null,null,null,null,"R",null,"Grade 4 - 5","Grade 4 - 6","Both the ocean floor and the moon are dangerous places. The water pressure deep underwater is 1,000 times greater than the pressure at sea level. On the moon, humans can’t survive without a spacesuit and provisions. How could you choose between visiting these places? Throughout this book, readers weigh their options of visiting perilous places such as the Mariana Trench and risky events such as running with the bulls. Exciting facts about each option are presented alongside full-color photographs, highlighting the thrill of each. Readers use decision-making skills to choose, only to find another tough choice on the next page.","English",26.6,19.95,"578.4’7--dc23","32 pp.",{"$f":"Table1[[#This Row],[QTY]]*Table1[[#This Row],['# Books]]","v":0},{"$f":"Table1[[#This Row],[QTY]]*Table1[[#This Row],[S&L Price]]","v":0}]
[null,null,102,"What Would You Choose?",1,"Supersports","Library Bound Book",null,"978-1-4824-6178-7",{"$f":"HYPERLINK(\"https://www.garethstevens.com/\"&Table1[[#This Row],[ISBN]],\"Weblink\")","v":"Weblink"},2017,"January 2017","Library","6.500 X 9.125","Author","Helen Greathead",null,null,null,null,"R","960L","Grade 4 - 5","Grade 4 - 6","Running any marathon takes months of training and a bit of courage. Tackling that distance on the Great Wall of China takes the event to another level. Readers encounter incredible sports events, such as the luge and the skeleton, and choose which they would rather try. Facts about each inform the tough questions readers ask themselves in order to make the choice, helping them to exercise their decision-making skills. Full-color photographs and an action-packed design aid readers' choices by illustrating the exciting sports, extreme athletes, and odd sports from around the world.","English",26.6,19.95,"796--dc23","32 pp.",{"$f":"Table1[[#This Row],[QTY]]*Table1[[#This Row],['# Books]]","v":0},{"$f":"Table1[[#This Row],[QTY]]*Table1[[#This Row],[S&L Price]]","v":0}]
[null,null,102,"Mystery Hunters",6,"Mystery Hunters","Library Set",null,"978-1-4824-5857-2",{"$f":"HYPERLINK(\"https://www.garethstevens.com/\"&Table1[[#This Row],[ISBN]],\"Weblink\")","v":"Weblink"},2017,"January 2017","Library","7.250 X 9.250",null,null,null,null,null,null,null,null,"Grade 5","Grade 4 - 6","Some legends won’t die—which might mean they aren’t just legends! Mysteries involving the Bermuda Triangle, Atlantis, UFOs and aliens, and the tomb of King Tutankhamen are just some of the captivating cases in this intriguing series. Each volume presents legendary accounts as well as the science and history involved in each mystery. Readers are encouraged to use significant details as evidence, eventually deciding for themselves if they believe each mystery is plausible. Both imaginative images and real-life photographs add to the thought-provoking text.","English",191.7,143.69999999999999,null,"48 pp.",{"$f":"Table1[[#This Row],[QTY]]*Table1[[#This Row],['# Books]]","v":0},{"$f":"Table1[[#This Row],[QTY]]*Table1[[#This Row],[S&L Price]]","v":0}]
[null,null,102,"Mystery Hunters",1,"Fakes and Hoaxes","Library Bound Book",null,"978-1-4824-6006-3",{"$f":"HYPERLINK(\"https://www.garethstevens.com/\"&Table1[[#This Row],[ISBN]],\"Weblink\")","v":"Weblink"},2017,"January 2017","Library","7.250 X 9.250","Author","Sarah Levete","6.7","1",null,null,"T","1010L","Grade 5","Grade 4 - 6","The best fakes and hoaxes have just enough truth to lure people into the deception. This comprehensive book showcases some infamous hoaxes as well  as supposed-hoaxes that people won’t stop believing—Bigfoot, anyone? There’s so much to explore, from ancient lore of fairies and sea monsters to modern-day hoax baseball players and superhumans! Each high-interest subject is paired with imaginative images and colorful photographs. “Mysterious Facts” boxes list further points of proof. Readers will especially find a chapter on Internet hoaxes and digital forgeries applicable to their lives.","English",31.95,23.95,"001.9’5--dc23","48 pp.",{"$f":"Table1[[#This Row],[QTY]]*Table1[[#This Row],['# Books]]","v":0},{"$f":"Table1[[#This Row],[QTY]]*Table1[[#This Row],[S&L Price]]","v":0}]
[null,null,102,"Mystery Hunters",1,"The Bermuda Triangle and Other Danger Zones","eBook",null,"978-1-4824-6003-2",{"$f":"HYPERLINK(\"https://www.garethstevens.com/\"&Table1[[#This Row],[ISBN]],\"Weblink\")","v":"Weblink"},2017,"January 2017",null,null,"Author","Sarah Levete","6.6","1",null,null,"S",null,"Grade 5","Grade 4 - 6","The Bermuda Triangle is infamous for inexplicably “swallowing” ships and airplanes, never to be seen again. Other areas of the world have similarly ominous reputations, including the aptly named Death Valley and Devil’s Sea. Readers will love the tales in this well-crafted book, which also incorporates impressive information about the geography and climate of these locations. These elements are important to the mysterious events that occur there. With the motivating help of awesome images and photos, readers will critically evaluate the evidence and decide whether they’d dare venture into these “danger zones.”","English",31.95,23.95,"001.94--dc23","48 pp.",{"$f":"Table1[[#This Row],[QTY]]*Table1[[#This Row],['# Books]]","v":0},{"$f":"Table1[[#This Row],[QTY]]*Table1[[#This Row],[S&L Price]]","v":0}]
[null,null,102,"Mystery Hunters",1,"Tombs and Cursed Treasure","Library Bound Book",null,"978-1-4824-6013-1",{"$f":"HYPERLINK(\"https://www.garethstevens.com/\"&Table1[[#This Row],[ISBN]],\"Weblink\")","v":"Weblink"},2017,"January 2017","Library","7.250 X 9.250","Author","Robyn Hardyman","6.7","1",null,null,"S","960L","Grade 5","Grade 4 - 6","Long-told tales of lost tombs and hidden treasure have survived even into today’s atmosphere of skepticism. Some of these artifacts definitely exist—their locations have just been forgotten. Others are truly myths. Readers want to know what is legend and which treasure to pursue. This compelling tome is their guide! There’s plenty of history to explore as they learn about lost Inca gold, cursed Egyptian crypts, poisoned tombs in China, the missing grave of Genghis Khan, and untold amounts of shipwrecked treasure. A beautiful design including historical and fantastical images serves to heighten interest in this must-read volume.","English",31.95,23.95,"930.1--dc23","48 pp.",{"$f":"Table1[[#This Row],[QTY]]*Table1[[#This Row],['# Books]]","v":0},{"$f":"Table1[[#This Row],[QTY]]*Table1[[#This Row],[S&L Price]]","v":0}]
[null,null,103,"Famous Legends",1,"Mermaid Legends","Library Bound Book",null,"978-1-5382-0381-1",{"$f":"HYPERLINK(\"https://www.garethstevens.com/\"&Table1[[#This Row],[ISBN]],\"Weblink\")","v":"Weblink"},2018,"August 2017","Library","8.500 X 8.500","Author","Kate Light","5","0.5",null,null,"O","860L","Grade 2 - 3","Grade 2 - 5","Mermaid sightings pop up again and again in seafarers’ accounts. Could there be some truth to the legends? This captivating book takes readers on a high seas’ search for mermaids. They’ll read some fascinating tales of mermaids, both beautiful and hideous. They’ll learn the true story of Hans Christian Andersen’s “The Little Mermaid,” too. This high-interest volume is packed with legends and lore as well as awesome artwork.","English",25.25,18.95,"398.21--dc23","32 pp.",{"$f":"Table1[[#This Row],[QTY]]*Table1[[#This Row],['# Books]]","v":0},{"$f":"Table1[[#This Row],[QTY]]*Table1[[#This Row],[S&L Price]]","v":0}]
[null,null,103,"Famous Legends",1,"The Legend of Bigfoot","eBook",null,"978-1-5382-0371-2",{"$f":"HYPERLINK(\"https://www.garethstevens.com/\"&Table1[[#This Row],[ISBN]],\"Weblink\")","v":"Weblink"},2018,"August 2017",null,null,"Author","Katie Kawa","5.5","0.5",null,null,"N","1020L","Grade 2 - 3","Grade 2 - 5","No matter how many times sightings of Bigfoot have been discredited, this legend won’t be debunked. Diehard believers in the apelike beast take this as support that something is out there that doesn’t want to be found! Readers are invited along on the journey to track down Bigfoot. They’ll learn about some of the most famous encounters, photographic and video evidence, and recent theories. Armed with facts and lore, they can decide for themselves if they believe in Bigfoot.","English",25.25,18.95,"001.944--dc23","32 pp.",{"$f":"Table1[[#This Row],[QTY]]*Table1[[#This Row],['# Books]]","v":0},{"$f":"Table1[[#This Row],[QTY]]*Table1[[#This Row],[S&L Price]]","v":0}]
[null,null,103,"Famous Legends",1,"The Legend of Johnny Appleseed","eBook",null,"978-1-5382-0375-0",{"$f":"HYPERLINK(\"https://www.garethstevens.com/\"&Table1[[#This Row],[ISBN]],\"Weblink\")","v":"Weblink"},2018,"August 2017",null,null,"Author","Mark J. Harasymiw ","4.8","0.5",null,null,"N",null,"Grade 2 - 3","Grade 2 - 5","Though Johnny Appleseed is a folk hero, he was also a real person—John Chapman. Chapman’s life became legendary as he planted apple trees across the Midwest of the United States in the 1800s. In this entertaining volume, readers will learn about an extraordinary man and his love of nature as well as the parts of the legend that probably aren’t true. Historic images and fun fact boxes add to the appealing content.","English",25.25,18.95,"634.11092--dc23","32 pp.",{"$f":"Table1[[#This Row],[QTY]]*Table1[[#This Row],['# Books]]","v":0},{"$f":"Table1[[#This Row],[QTY]]*Table1[[#This Row],[S&L Price]]","v":0}]
[null,null,103,"Famous Legends",1,"The Legend of Dracula","Library Bound Book",null,"978-1-4824-2734-9",{"$f":"HYPERLINK(\"https://www.garethstevens.com/\"&Table1[[#This Row],[ISBN]],\"Weblink\")","v":"Weblink"},2016,"August 2015","Library","8.500 X 8.500","Author","Michael Sabatino","5.3","0.5",34,null,"O","910L","Grade 2 - 3","Grade 2 - 5","Dracula, the blood-thirsty Transylvanian who terrorized England, was a character in an 1897 horror novel. However, the author, Bram Stoker, based his infamous creature on a real-life prince from the 1400s named Vlad III. Though Vlad wasn't a vampire, he was known for some very gory exploits. Legends of vampires stretch back even further than this. Thrilled readers will devour this legend, its possible sources, and details about its contribution to popular culture. Spooky photographs and illustrations set the mood and enhance the spine-tingling text.","English",25.25,18.95,"823","32 pp.",{"$f":"Table1[[#This Row],[QTY]]*Table1[[#This Row],['# Books]]","v":0},{"$f":"Table1[[#This Row],[QTY]]*Table1[[#This Row],[S&L Price]]","v":0}]
[null,null,103,"Famous Legends",1,"The Legend of Rip Van Winkle","eBook",null,"978-1-4824-2747-9",{"$f":"HYPERLINK(\"https://www.garethstevens.com/\"&Table1[[#This Row],[ISBN]],\"Weblink\")","v":"Weblink"},2016,"August 2015",null,null,"Author","Mark J. Harasymiw ","4.6","0.5",30,null,"N","830L","Grade 2 - 3","Grade 2 - 5","Rip Van Winkle, the incorrigible character from the early American short story, lived in the years before and after the American Revolution. However, he slept through the war, thanks to some mysterious bearded men in the Catskill Mountains! This compelling retelling of the famous legend, first published in 1819, will entertain readers as well as inform them about the life of storyteller Washington Irving. The engaging design and text are supported by colorful photographs and illustrations of Irving's famous creation.","English",25.25,18.95,"818","32 pp.",{"$f":"Table1[[#This Row],[QTY]]*Table1[[#This Row],['# Books]]","v":0},{"$f":"Table1[[#This Row],[QTY]]*Table1[[#This Row],[S&L Price]]","v":0}]
[null,null,103,"Famous Legends",1,"The Legend of the Pied Piper","Library Bound Book",null,"978-1-4824-2742-4",{"$f":"HYPERLINK(\"https://www.garethstevens.com/\"&Table1[[#This Row],[ISBN]],\"Weblink\")","v":"Weblink"},2016,"August 2015","Library","8.500 X 8.500","Author","Katherine Ponka","4.9","0.5",30,null,"N","890L","Grade 2 - 3","Grade 2 - 5","Most of us know something about the legend of the Pied Piper of Hamlin, but few know that it may be based on a true story. This spellbinding account tells the story according to the Brothers Grimm as well as gives details of the historic records that support it. Throughout this high-interest volume, readers will remain engaged with surprising facts such as the possible connections to the plague and the Crusades. Colorful illustrations and photographs of the actual German town will leave readers pondering what's true and what's fiction.","English",25.25,18.95,"809","32 pp.",{"$f":"Table1[[#This Row],[QTY]]*Table1[[#This Row],['# Books]]","v":0},{"$f":"Table1[[#This Row],[QTY]]*Table1[[#This Row],[S&L Price]]","v":0}]
[null,null,105,"Fast Fact Math",1,"Fast Fact Addition","Library Bound Book",null,"978-1-5382-1971-3",{"$f":"HYPERLINK(\"https://www.garethstevens.com/\"&Table1[[#This Row],[ISBN]],\"Weblink\")","v":"Weblink"},2019,"August 2018","Library","8.500 X 8.500","Author","Jagger Youssef",null,null,null,null,"L",null,"Grade 2 - 3","Grade 2 - 5","People add all the time in their heads; it's second nature to them. It turns out math is inescapable, even out of school. In this invaluable volume, young mathematicians will be guided through some \"fast facts\" of addition and learn how they can be applied to real-life situations. They'll find out about the associative, commutative, and distributive properties, as well as about special terms used for numbers in equations. Math Mania! boxes allow them to solve problems themselves and assess their understanding of each concept. They'll love \"adding\" to their math knowledge, thanks to the beneficial, and curricular, information.","English",22.6,16.95,"513.2/11--dc23","24 pp.",{"$f":"Table1[[#This Row],[QTY]]*Table1[[#This Row],['# Books]]","v":0},{"$f":"Table1[[#This Row],[QTY]]*Table1[[#This Row],[S&L Price]]","v":0}]
[null,null,105,"Fast Fact Math",1,"Fast Fact Addition","eBook",null,"978-1-5382-1972-0",{"$f":"HYPERLINK(\"https://www.garethstevens.com/\"&Table1[[#This Row],[ISBN]],\"Weblink\")","v":"Weblink"},2019,"August 2018",null,null,"Author","Jagger Youssef",null,null,null,null,"L",null,"Grade 2 - 3","Grade 2 - 5","People add all the time in their heads; it's second nature to them. It turns out math is inescapable, even out of school. In this invaluable volume, young mathematicians will be guided through some \"fast facts\" of addition and learn how they can be applied to real-life situations. They'll find out about the associative, commutative, and distributive properties, as well as about special terms used for numbers in equations. Math Mania! boxes allow them to solve problems themselves and assess their understanding of each concept. They'll love \"adding\" to their math knowledge, thanks to the beneficial, and curricular, information.","English",22.6,16.95,"513.2/11--dc23","24 pp.",{"$f":"Table1[[#This Row],[QTY]]*Table1[[#This Row],['# Books]]","v":0},{"$f":"Table1[[#This Row],[QTY]]*Table1[[#This Row],[S&L Price]]","v":0}]
[null,null,105,"Fast Fact Math",1,"Fast Fact Measurement","Library Bound Book",null,"978-1-5382-1983-6",{"$f":"HYPERLINK(\"https://www.garethstevens.com/\"&Table1[[#This Row],[ISBN]],\"Weblink\")","v":"Weblink"},2019,"August 2018","Library","8.500 X 8.500","Author","Blanche Roesser",null,null,null,null,"L",null,"Grade 2 - 3","Grade 2 - 5","Measurement is such a crucial aspect of math that learners begin to measure as early as kindergarten. They build on what they learn in each grade after that, mastering not just how to measure but also an understanding of measurement units and techniques. This unique book provides the \"fast facts\" of measurement suitable for readers at this level. They'll review significant skills, and learn some new ones, and utilize them to answer questions and problems in the Math Mania! boxes throughout this brightly designed volume.","English",22.6,16.95,"530.8--dc23","24 pp.",{"$f":"Table1[[#This Row],[QTY]]*Table1[[#This Row],['# Books]]","v":0},{"$f":"Table1[[#This Row],[QTY]]*Table1[[#This Row],[S&L Price]]","v":0}]
[null,null,105,"Fast Fact Math",1,"Fast Fact Subtraction","eBook",null,"978-1-5382-1992-8",{"$f":"HYPERLINK(\"https://www.garethstevens.com/\"&Table1[[#This Row],[ISBN]],\"Weblink\")","v":"Weblink"},2019,"August 2018",null,null,"Author","Blanche Roesser",null,null,null,null,"L",null,"Grade 2 - 3","Grade 2 - 5","Addition and subtraction are foundations of elementary math; continuous practice yields proficiency in both. This valuable volume helps young mathematicians hone their subtraction skills while reviewing important strategies that aid in teaching them how to subtract in their head. They'll also practice using this math operation in one- and two-step word problems, which stress that subtraction is used in everyday life. Math Mania! boxes allow readers to apply what they've learned, and provided answers allow for self-assessment.","English",22.6,16.95,"513.2/12--dc23","24 pp.",{"$f":"Table1[[#This Row],[QTY]]*Table1[[#This Row],['# Books]]","v":0},{"$f":"Table1[[#This Row],[QTY]]*Table1[[#This Row],[S&L Price]]","v":0}]
[null,null,106,"Solve It! Math in Space",1,"Math on Jupiter","Library Bound Book",null,"978-1-4824-4932-7",{"$f":"HYPERLINK(\"https://www.garethstevens.com/\"&Table1[[#This Row],[ISBN]],\"Weblink\")","v":"Weblink"},2017,"August 2016","Library","8.500 X 8.500","Author","Barbara M. Linde","4.2","0.5",null,null,"M",null,"Grade 2 - 3","Grade 2 - 5","Jupiter, named for the mythological king of the gods, demands a lot of respect in the night sky. Young scientists are invited to travel to this gas giant while taking part in “math missions” along their journey. By completing each mission using familiar math operations, they’ll discover fascinating facts about Jupiter, its rings, and its moons. They’ll learn about the storm called the Great Red Spot and the Juno spacecraft’s mission to Jupiter. Science and math are the perfect companions in this exciting volume about the largest planet in the solar system.","English",22.6,16.95,"523.45--dc23","24 pp.",{"$f":"Table1[[#This Row],[QTY]]*Table1[[#This Row],['# Books]]","v":0},{"$f":"Table1[[#This Row],[QTY]]*Table1[[#This Row],[S&L Price]]","v":0}]
[null,null,106,"Solve It! Math in Space",1,"Math on Jupiter","eBook",null,"978-1-4824-4964-8",{"$f":"HYPERLINK(\"https://www.garethstevens.com/\"&Table1[[#This Row],[ISBN]],\"Weblink\")","v":"Weblink"},2017,"August 2016",null,null,"Author","Barbara M. Linde","4.2","0.5",null,null,"M",null,"Grade 2 - 3","Grade 2 - 5","Jupiter, named for the mythological king of the gods, demands a lot of respect in the night sky. Young scientists are invited to travel to this gas giant while taking part in “math missions” along their journey. By completing each mission using familiar math operations, they’ll discover fascinating facts about Jupiter, its rings, and its moons. They’ll learn about the storm called the Great Red Spot and the Juno spacecraft’s mission to Jupiter. Science and math are the perfect companions in this exciting volume about the largest planet in the solar system.","English",22.6,16.95,"523.45--dc23","24 pp.",{"$f":"Table1[[#This Row],[QTY]]*Table1[[#This Row],['# Books]]","v":0},{"$f":"Table1[[#This Row],[QTY]]*Table1[[#This Row],[S&L Price]]","v":0}]
[null,null,106,"Solve It! Math in Space",1,"Math on the Moon","Library Bound Book",null,"978-1-4824-4934-1",{"$f":"HYPERLINK(\"https://www.garethstevens.com/\"&Table1[[#This Row],[ISBN]],\"Weblink\")","v":"Weblink"},2017,"August 2016","Library","8.500 X 8.500","Author","Shalini Saxena","4.5","0.5",null,null,"M",null,"Grade 2 - 3","Grade 2 - 5","The moon is the only celestial body that humans have set foot on. Some of the knowledge we have of the moon involves numbers, including measurements such as diameter and area. Science and math are complementary foci in this engaging volume, full of beautiful photographs, interesting information, and corresponding math problems. Readers will enjoy feeling like astrophysicists as they complete the lunar math missions in this unique volume.","English",22.6,16.95,"523.3--dc23","24 pp.",{"$f":"Table1[[#This Row],[QTY]]*Table1[[#This Row],['# Books]]","v":0},{"$f":"Table1[[#This Row],[QTY]]*Table1[[#This Row],[S&L Price]]","v":0}]
[null,null,106,"Do Math with Sports Stats!",1,"Baseball: Stats, Facts, and Figures","Library Bound Book",null,"978-1-5382-1127-4",{"$f":"HYPERLINK(\"https://www.garethstevens.com/\"&Table1[[#This Row],[ISBN]],\"Weblink\")","v":"Weblink"},2018,"January 2018","Library","8.500 X 11.00","Author","Kate Mikoley",null,null,null,null,"O",null,"Grade 3 - 4","Grade 3 - 6","Math may have its difficult reputation, but with this book you can support curriculum-based mathematics while your students learn about baseball. Baseball is a game filled with numbers. Hitting, pitching, and fielding all come with a mathematical element that's essential to the game. From the numbers attached to the positions on the field to the progress of the game in its fractions of innings, America's pastime is full of math. Readers learn how to do math exclusive to baseball, computing batting averages and learning how the stats in the box score are calculated.","English",26.6,19.95,"796.357--dc23","32 pp.",{"$f":"Table1[[#This Row],[QTY]]*Table1[[#This Row],['# Books]]","v":0},{"$f":"Table1[[#This Row],[QTY]]*Table1[[#This Row],[S&L Price]]","v":0}]
[null,null,106,"Do Math with Sports Stats!",1,"Football: Stats, Facts, and Figures","eBook",null,"978-1-5382-1136-6",{"$f":"HYPERLINK(\"https://www.garethstevens.com/\"&Table1[[#This Row],[ISBN]],\"Weblink\")","v":"Weblink"},2018,"January 2018",null,null,"Author","Kate Mikoley",null,null,null,null,"O",null,"Grade 3 - 4","Grade 3 - 6","Yards and points are the lifeblood of football. As those numbers add up on the scoreboard and in the stat sheet, a whole world of mathematics is there to uncover. From yards passing and receiving to the averages teams have converting third downs, the gridiron's numbers are easy to explore while conveying important math concepts in the process. Readers learn how stars measure themselves against other players with rushing and receiving stats, and how those stats are calculated in the first place.","English",26.6,19.95,"796.332--dc23","32 pp.",{"$f":"Table1[[#This Row],[QTY]]*Table1[[#This Row],['# Books]]","v":0},{"$f":"Table1[[#This Row],[QTY]]*Table1[[#This Row],[S&L Price]]","v":0}]
[null,null,106,"Do Math with Sports Stats!",1,"NASCAR: Stats, Facts, and Figures","Library Bound Book",null,"978-1-5382-1143-4",{"$f":"HYPERLINK(\"https://www.garethstevens.com/\"&Table1[[#This Row],[ISBN]],\"Weblink\")","v":"Weblink"},2018,"January 2018","Library","8.500 X 11.00","Author","Kate Mikoley",null,null,null,null,"O",null,"Grade 3 - 4","Grade 3 - 6","Auto racing is a sport of metal and rubber, but it's also a game of numbers. From lap times around a track to the speed of each car at qualifying, NASCAR's unique brand of racing is an easy place to see math in action. Readers learn that different types of tracks are built in different lengths, and how differences in road courses and superspeedways impact speeds. All of these factors are ways to turn those numbers into innovative tools to learn about mathematics in new and exciting ways.","English",26.6,19.95,"796.720151--dc23","32 pp.",{"$f":"Table1[[#This Row],[QTY]]*Table1[[#This Row],['# Books]]","v":0},{"$f":"Table1[[#This Row],[QTY]]*Table1[[#This Row],[S&L Price]]","v":0}]
[null,null,106,"Do Math with Sports Stats!",1,"Soccer: Stats, Facts, and Figures","Library Bound Book",null,"978-1-5382-1147-2",{"$f":"HYPERLINK(\"https://www.garethstevens.com/\"&Table1[[#This Row],[ISBN]],\"Weblink\")","v":"Weblink"},2018,"January 2018","Library","8.500 X 11.00","Author","Kate Mikoley",null,null,null,null,"O",null,"Grade 3 - 4","Grade 3 - 6","Soccer may be considered a low-scoring sport by some, but learning its intricacies allows readers to see the world of math that is hidden inside what is known as The Beautiful Game. Readers will learn basics like goals and assists as well as higher numbers like caps. They'll even learn how league standings work, and how more complex equations like goal differential can sometimes determine league champions.","English",26.6,19.95,"796.334--dc23","32 pp.",{"$f":"Table1[[#This Row],[QTY]]*Table1[[#This Row],['# Books]]","v":0},{"$f":"Table1[[#This Row],[QTY]]*Table1[[#This Row],[S&L Price]]","v":0}]
[null,null,117,"Totally Toxic",1,"Poisoned Oceans","Library Bound Book",null,"978-1-5382-3495-2",{"$f":"HYPERLINK(\"https://www.garethstevens.com/\"&Table1[[#This Row],[ISBN]],\"Weblink\")","v":"Weblink"},2019,"January 2019","Library","7.250 X 9.250","Author","Honor Head","7.2","1",null,null,"T",null,"Grade 4 - 5","Grade 4 - 6","Imagine a world where the beach is no longer a place to visit, and the ocean a place that is too poisonous to swim in. It may sound like the plot line of a dystopian chapter book, but every day we get closer to it becoming reality. This essential volume digs into the many ways that life depends on our oceans to survive. Bright photographs and astonishing case studies engage the reader in learning the science behind our ocean's health and how it is being compromised. This environmental science book excites and empowers readers to help reverse the toxicity in our oceans before it is too late.","English",31.95,23.95,"363.739'4--dc23","48 pp.",{"$f":"Table1[[#This Row],[QTY]]*Table1[[#This Row],['# Books]]","v":0},{"$f":"Table1[[#This Row],[QTY]]*Table1[[#This Row],[S&L Price]]","v":0}]
[null,null,117,"Totally Toxic",1,"Poisoned Wetlands","eBook",null,"978-1-5382-3499-0",{"$f":"HYPERLINK(\"https://www.garethstevens.com/\"&Table1[[#This Row],[ISBN]],\"Weblink\")","v":"Weblink"},2019,"January 2019",null,null,"Author","Honor Head","7.4","1",null,null,"T",null,"Grade 4 - 5","Grade 4 - 6","Earth's wetlands are crucially important land areas that can easily get overlooked when talking about bodies of water. Wetlands hold some of the most concentrated biodiversity of any ecosystem and act as a filter to help keep our water clean. This book explores the danger facing our wetlands, and what is at stake if we do not reverse the damage. The final spread gives readers the chance to conduct their own environmental investigation with guidelines on how to observe, monitor, and analyze the health of a wetland area. This volume introduces an important part of our ecosystem to the reader's attention and inspires scientists of all levels to take action.","English",31.95,23.95,"577.68--dc23","48 pp.",{"$f":"Table1[[#This Row],[QTY]]*Table1[[#This Row],['# Books]]","v":0},{"$f":"Table1[[#This Row],[QTY]]*Table1[[#This Row],[S&L Price]]","v":0}]
[null,null,119,"What Goes On Inside Your Brain?",6,"What Goes On Inside Your Brain?","Library Set",null,"978-1-5382-3602-4",{"$f":"HYPERLINK(\"https://www.garethstevens.com/\"&Table1[[#This Row],[ISBN]],\"Weblink\")","v":"Weblink"},2019,"January 2019","Library","7.250 X 9.250",null,null,null,null,null,null,null,null,"Grade 4 - 5","Grade 4 - 6","The human brain is the most powerful organ in the entire world! We wouldn't be able to function without it, but what really goes on inside our heads? This series dives into the astonishing world of the human mind and the sophisticated ways it works to keep us living and thriving. Each book gives young readers the chance to investigate the brain's role in functions such as memories, language, and dreams. The human mind is a subject that interests people of all ages, and this series is an easy gateway into the phenomenal world of neuroscience. Features include: High-interest content supports biological concepts important to curricula. Cutting-edge research is featured from the top universities in the world. Full-color photographs complement the stimulating subject matter.","English",191.7,143.69999999999999,null,"48 pp.",{"$f":"Table1[[#This Row],[QTY]]*Table1[[#This Row],['# Books]]","v":0},{"$f":"Table1[[#This Row],[QTY]]*Table1[[#This Row],[S&L Price]]","v":0}]
[null,null,119,"What Goes On Inside Your Brain?",1,"Left Brain vs. Right Brain","Library Bound Book",null,"978-1-5382-3567-6",{"$f":"HYPERLINK(\"https://www.garethstevens.com/\"&Table1[[#This Row],[ISBN]],\"Weblink\")","v":"Weblink"},2019,"January 2019","Library","7.250 X 9.250","Author","James Bow",null,null,null,null,"U",null,"Grade 4 - 5","Grade 4 - 6","The brain is a powerful, complex organism that is responsible for many functions in our day-to-day life. There is a theory that some people are governed more by the left-brain, and others by the right-brain. Some believe that this determines part of our personality, but is it really true? This text explores the theory along with the overall structure of the brain. Readers learn all about the two hemispheres of the brain, and perhaps determine whether this theory is fact or fiction.","English",31.95,23.95,"612.8'25--dc23","48 pp.",{"$f":"Table1[[#This Row],[QTY]]*Table1[[#This Row],['# Books]]","v":0},{"$f":"Table1[[#This Row],[QTY]]*Table1[[#This Row],[S&L Price]]","v":0}]
[null,null,119,"What Goes On Inside Your Brain?",1,"Sleep, Dreams, and Your Brain","eBook",null,"978-1-5382-3556-0",{"$f":"HYPERLINK(\"https://www.garethstevens.com/\"&Table1[[#This Row],[ISBN]],\"Weblink\")","v":"Weblink"},2019,"January 2019",null,null,"Author","Robert Snedden",null,null,null,null,"U",null,"Grade 4 - 5","Grade 4 - 6","The body may not be very active during sleep, but the mind has an important job to do. Sleep is a crucial function for all complex animals, yet there are still many questions to be explored. Why do we sleep? Why might it help our memory? Why do we dream? This fascinating book dives right into the world of sleep, focusing on the brain's functions and role in making sure healthy sleep is achieved. Young readers gain access to complex biology topics with age-appropriate vocabulary. This text teaches young readers that sleep is just as important for the body as it is cool to study.","English",31.95,23.95,"612.8'21083--dc23","48 pp.",{"$f":"Table1[[#This Row],[QTY]]*Table1[[#This Row],['# Books]]","v":0},{"$f":"Table1[[#This Row],[QTY]]*Table1[[#This Row],[S&L Price]]","v":0}]
[null,null,121,"Fairy Tale Fixers: Fixing Fairy Tale Problems with STEM",4,"Fairy Tale Fixers: Fixing Fairy Tale Problems with STEM","Library Set",null,"978-1-5382-0616-4",{"$f":"HYPERLINK(\"https://www.garethstevens.com/\"&Table1[[#This Row],[ISBN]],\"Weblink\")","v":"Weblink"},2018,"August 2017","Library","8.500 X 11.00",null,null,null,null,null,null,null,null,"Grade 3 - 4","Grade 3 - 5","What if Rapunzel let down a zip wire instead of her hair? In this hands-on series, readers will tackle classic fairy tale conundrums with the magic of STEM! Beautiful illustrations immerse the reader in their favorite tales: Rapunzel, The Princess and the Pea, Goldilocks and the Three Bears, and Jack and the Beanstalk. Problem-solving activities allow readers to engage with each story and hone their critical thinking skills. Each book includes several STEM puzzles, such as testing the strength of a strand of hair against cotton thread and calculating the math of a zip line! Even readers who are reluctant to learn science and math will love engineering their way to a happily ever after. This rich, creative series will be a popular addition to any library.","English",106.4,79.8,null,"32 pp.",{"$f":"Table1[[#This Row],[QTY]]*Table1[[#This Row],['# Books]]","v":0},{"$f":"Table1[[#This Row],[QTY]]*Table1[[#This Row],[S&L Price]]","v":0}]
[null,null,121,"Fairy Tale Fixers: Fixing Fairy Tale Problems with STEM",1,"Goldilocks and the Three Bears: Take the Temperature Test and Solve the Porridge Puzzle!","eBook",null,"978-1-5382-0672-0",{"$f":"HYPERLINK(\"https://www.garethstevens.com/\"&Table1[[#This Row],[ISBN]],\"Weblink\")","v":"Weblink"},2018,"August 2017",null,null,"Author","Jasmine Brooke","4.2","0.5",null,null,"O",null,"Grade 3 - 4","Grade 3 - 5","Too hot! Too cold! Goldilocks is one picky eater. In this retelling of Goldilocks’ classic conundrums, readers will use science, technology, engineering, and math to solve problems, such as finding that perfect porridge temperature. This unique story-driven format is \"just right\" for readers who are reluctant to learn STEM materials. They'll love engineering their way to a happily ever after using critical thinking and creativity. Adorable illustrations immerse readers in this beloved fairy tale, while engaging activities allow them to strengthen their STEM skills. Unlike a certain blonde intruder, this versatile combination of literature and STEM will be at home in any library or classroom.","English",26.6,19.95,null,"32 pp.",{"$f":"Table1[[#This Row],[QTY]]*Table1[[#This Row],['# Books]]","v":0},{"$f":"Table1[[#This Row],[QTY]]*Table1[[#This Row],[S&L Price]]","v":0}]
[null,null,121,"Fairy Tale Fixers: Fixing Fairy Tale Problems with STEM",1,"The Princess and the Pea: Pass the Pea Pressure Test!","Library Bound Book",null,"978-1-5382-0675-1",{"$f":"HYPERLINK(\"https://www.garethstevens.com/\"&Table1[[#This Row],[ISBN]],\"Weblink\")","v":"Weblink"},2018,"August 2017","Library","8.500 X 11.00","Author","Jasmine Brooke","4.7","0.5",null,null,"O",null,"Grade 3 - 4","Grade 3 - 5","To prove her royalty, the princess must pass an impossible test: to feel a single pea under layers of mattresses! In this innovative retelling of the classic fairy tale, readers will problem-solve the princess out of her predicament! Fun activities introduce key science, technology, engineering, and mathematics concepts and challenge readers’ critical thinking. Readers will build confidence in their abilities and take interest in STEM material. Original illustrations and hands-on activities give readers an interactive experience. Even readers reluctant to learn STEM materials will love this immersive format, ensuring this book will be a popular addition to any library and classroom.","English",26.6,19.95,null,"32 pp.",{"$f":"Table1[[#This Row],[QTY]]*Table1[[#This Row],['# Books]]","v":0},{"$f":"Table1[[#This Row],[QTY]]*Table1[[#This Row],[S&L Price]]","v":0}]
[null,null,121,"Infographics: How It Works",1,"Machines and Motors","Library Bound Book",null,"978-1-5382-1354-4",{"$f":"HYPERLINK(\"https://www.garethstevens.com/\"&Table1[[#This Row],[ISBN]],\"Weblink\")","v":"Weblink"},2018,"January 2018","Library","8.500 X 11.00","Author(s)","Jon Richards, Ed Simkins",null,null,null,null,"S",null,"Grade 4 - 5","Grade 4 - 6","One of the most revolutionary machines ever created is one of the most familiar, the car. From huge trucks to two-door coupes, every gas-powered car works the same. Through creative infographics, readers can learn about how a car works as well as the intricacies of many other machines and motors. Simple labels and succinct, informative text accompany each infographic to present readers with facts and processes they can easily use in their STEM classes. Activity suggestions throughout the book add another way readers can connect with the main content and use their infographic knowledge.","English",26.6,19.95,"629.04'6--dc23","32 pp.",{"$f":"Table1[[#This Row],[QTY]]*Table1[[#This Row],['# Books]]","v":0},{"$f":"Table1[[#This Row],[QTY]]*Table1[[#This Row],[S&L Price]]","v":0}]
[null,null,121,"Infographics: How It Works",1,"Our Universe","eBook",null,"978-1-5382-1363-6",{"$f":"HYPERLINK(\"https://www.garethstevens.com/\"&Table1[[#This Row],[ISBN]],\"Weblink\")","v":"Weblink"},2018,"January 2018",null,null,"Author(s)","Jon Richards, Ed Simkins",null,null,null,null,"S",null,"Grade 4 - 5","Grade 4 - 6","Launching a rocket, getting into orbit, and then landing on a planet are all complicated, multi-step processes that can be difficult to comprehend. This book uses simple, well-designed infographics to make complicated ideas accessible. Covering a variety of STEM topics, this book presents unique information about the solar system, stars, and sun in a visual manner that can help both engage readers and reinforce their knowledge. Activities and questions throughout the book offer readers opportunities to synthesize what they've read and perhaps find ways to use their infographic knowledge in the future.","English",26.6,19.95,"520--dc23","32 pp.",{"$f":"Table1[[#This Row],[QTY]]*Table1[[#This Row],['# Books]]","v":0},{"$f":"Table1[[#This Row],[QTY]]*Table1[[#This Row],[S&L Price]]","v":0}]
[null,null,121,"Infographics: How It Works",1,"Today's Technology","Library Bound Book",null,"978-1-5382-1364-3",{"$f":"HYPERLINK(\"https://www.garethstevens.com/\"&Table1[[#This Row],[ISBN]],\"Weblink\")","v":"Weblink"},2018,"January 2018","Library","8.500 X 11.00","Author(s)","Jon Richards, Ed Simkins",null,null,null,null,"S","1060L","Grade 4 - 5","Grade 4 - 6","By the time someone turns 21, they'll likely have spent about 200 days of their life playing video games, and even more using a mobile phone. Readers know that technology is a huge part of our lives, but they might not know exactly how some of it works. This book uses labeled infographics accompanied by simple, understandable text to tackle both familiar technology, such as cell phones, and newer technology, like solar panels. Each infographic describes how the technology works, relating to readers' daily lives as well as the STEM curriculum.","English",26.6,19.95,"600--dc23","32 pp.",{"$f":"Table1[[#This Row],[QTY]]*Table1[[#This Row],['# Books]]","v":0},{"$f":"Table1[[#This Row],[QTY]]*Table1[[#This Row],[S&L Price]]","v":0}]
[null,null,122,"Wild and Wacky Inventions",1,"Weird Beauty Inventions","Library Bound Book",null,"978-1-5382-2067-2",{"$f":"HYPERLINK(\"https://www.garethstevens.com/\"&Table1[[#This Row],[ISBN]],\"Weblink\")","v":"Weblink"},2019,"August 2018","Library","6.500 X 9.125","Author","Joan Stoltman",null,null,null,null,"T",null,"Grade 4 - 5","Grade 4 - 6","The world needs inventors to come up with new creations, but some of their ideas are just plain bizarre. Readers of this captivating book will be thrilled to learn about some of the craziest beauty inventions that people have come up with. From strange inventions to help people style their hair to weird makeup inventions, imaginative readers will love learning the stories behind how people came up with these ideas and how the inventions worked, or didn't. This high-interest volume will engage readers, and perhaps leave some wanting to design an invention of their own.","English",26.6,19.95,"646.7'2--dc23","32 pp.",{"$f":"Table1[[#This Row],[QTY]]*Table1[[#This Row],['# Books]]","v":0},{"$f":"Table1[[#This Row],[QTY]]*Table1[[#This Row],[S&L Price]]","v":0}]
[null,null,122,"Wild and Wacky Inventions",1,"Weird Inventions for Your Home","Library Bound Book",null,"978-1-5382-2079-5",{"$f":"HYPERLINK(\"https://www.garethstevens.com/\"&Table1[[#This Row],[ISBN]],\"Weblink\")","v":"Weblink"},2019,"August 2018","Library","6.500 X 9.125","Author","Daniel R. Faust",null,null,null,null,"T",null,"Grade 4 - 5","Grade 4 - 6","In an age of technology and convenience, there seem to be more and more products designed to help people in their homes. However, inventors have been coming up with creations for the home for as long as people have lived in homes. Over the years, many of these inventions have been quite strange. This innovative book takes a look at how these products worked and explains how some of them have even been remodeled over time to create different, more useful inventions.","English",26.6,19.95,"645--dc23","32 pp.",{"$f":"Table1[[#This Row],[QTY]]*Table1[[#This Row],['# Books]]","v":0},{"$f":"Table1[[#This Row],[QTY]]*Table1[[#This Row],[S&L Price]]","v":0}]
[null,null,122,"Wild and Wacky Inventions",1,"Weird Medical Inventions","eBook",null,"978-1-5382-2084-9",{"$f":"HYPERLINK(\"https://www.garethstevens.com/\"&Table1[[#This Row],[ISBN]],\"Weblink\")","v":"Weblink"},2019,"August 2018",null,null,"Author","Joan Stoltman",null,null,null,null,"T",null,"Grade 4 - 5","Grade 4 - 6","Most people probably don't expect to see too many odd inventions at a hospital or doctor's office. However, over the years there have been quite a few offbeat medical products. Readers of this book will learn how and why these creations were invented and why many of them didn't take off. Vibrant photographs aid in the understanding of these wacky inventions, while sidebars and fact boxes add even more factual and high-interest content that will appeal to readers of many abilities, especially those with creative and imaginative minds.","English",26.6,19.95,"610--dc23","32 pp.",{"$f":"Table1[[#This Row],[QTY]]*Table1[[#This Row],['# Books]]","v":0},{"$f":"Table1[[#This Row],[QTY]]*Table1[[#This Row],[S&L Price]]","v":0}]
[null,null,122,"Wild and Wacky Inventions",1,"Weird Transportation Inventions","Library Bound Book",null,"978-1-5382-2087-0",{"$f":"HYPERLINK(\"https://www.garethstevens.com/\"&Table1[[#This Row],[ISBN]],\"Weblink\")","v":"Weblink"},2019,"August 2018","Library","6.500 X 9.125","Author","Kate Light",null,null,null,null,"T",null,"Grade 4 - 5","Grade 4 - 6","People don't often think about how they get from one place to another, but somewhere along the line, someone spent a lot of time coming up with the idea for that car, train, or bus. For all the modes of transportation we see and use every day, there are countless others that are less common or didn't take off. Some of these ideas may be hard to believe, but imaginative readers will get to take a ride on these offbeat inventions that, at least at one point in time, actually existed.","English",26.6,19.95,"388.09--dc23","32 pp.",{"$f":"Table1[[#This Row],[QTY]]*Table1[[#This Row],['# Books]]","v":0},{"$f":"Table1[[#This Row],[QTY]]*Table1[[#This Row],[S&L Price]]","v":0}]
[null,null,122,"Amazing World of Science and Math",1,"Chemistry Is Explosive","Library Bound Book",null,"978-1-4824-4992-1",{"$f":"HYPERLINK(\"https://www.garethstevens.com/\"&Table1[[#This Row],[ISBN]],\"Weblink\")","v":"Weblink"},2017,"August 2016","Library","7.250 X 9.250","Author","Lisa Regan","6.4","1",null,null,"T",null,"Grade 5","Grade 5 - 6","Chemical reactions are happening all around us, and inside our bodies. From a scab forming on a cut to the creation of carbon dioxide as a waste product, there are so many ways chemistry plays a part in how the human body works. Each spread of this colorful book offers readers a fascinating or surprising fact about popcorn, flour, or other familiar items and relates it to chemistry in understandable and age-appropriate language. These real-life examples and explanations of chemistry in our world engage readers with important STEM concepts such as states of matter, atoms, acids, and more.","English",31.95,23.95,"540--dc23","48 pp.",{"$f":"Table1[[#This Row],[QTY]]*Table1[[#This Row],['# Books]]","v":0},{"$f":"Table1[[#This Row],[QTY]]*Table1[[#This Row],[S&L Price]]","v":0}]
[null,null,122,"Amazing World of Science and Math",1,"Physics Is Out of This World","eBook",null,"978-1-4824-4985-3",{"$f":"HYPERLINK(\"https://www.garethstevens.com/\"&Table1[[#This Row],[ISBN]],\"Weblink\")","v":"Weblink"},2017,"August 2016",null,null,"Author","Lisa Regan","6.1","1",null,null,"T",null,"Grade 5","Grade 5 - 6","Some of the coolest science information in our world is out of it—in space! From how the celestial bodies move around our solar system to people’s ability to travel in it, space science is endlessly fascinating. It’s also an incredible vehicle for physics learning! In this book, readers learn about space, light and sound, machines, and forces in an engaging format that introduces each new concept with a real-life, surprising fact. Colorful photographs and understandable language present STEM curriculum topics in a new way, sure to draw readers in with their gravitational pull!","English",31.95,23.95,"530--dc23","48 pp.",{"$f":"Table1[[#This Row],[QTY]]*Table1[[#This Row],['# Books]]","v":0},{"$f":"Table1[[#This Row],[QTY]]*Table1[[#This Row],[S&L Price]]","v":0}]
[null,null,123,"Science in a Flash",1,"Electricity","eBook",null,"978-1-5382-1395-7",{"$f":"HYPERLINK(\"https://www.garethstevens.com/\"&Table1[[#This Row],[ISBN]],\"Weblink\")","v":"Weblink"},2018,"January 2018",null,null,"Author","Georgia Amson-Bradshaw",null,null,null,null,"T","950L","Grade 5","Grade 4 - 6","Because most people use electricity every day, it's important to understand how it works and respect its power. From the basics of current and circuits to how electricity is generated, this book covers many concepts included in the science curriculum using relatable examples, straightforward language, and colorful diagrams. Each chapter simply defines key terms and gives thorough explanations, as well as asks the reader questions and riddles to consider as they learn about renewable energy, electricity and magnetism, static electricity and more.","English",26.6,19.95,"537--dc23","32 pp.",{"$f":"Table1[[#This Row],[QTY]]*Table1[[#This Row],['# Books]]","v":0},{"$f":"Table1[[#This Row],[QTY]]*Table1[[#This Row],[S&L Price]]","v":0}]
[null,null,123,"Science in a Flash",1,"Forces","Library Bound Book",null,"978-1-5382-1396-4",{"$f":"HYPERLINK(\"https://www.garethstevens.com/\"&Table1[[#This Row],[ISBN]],\"Weblink\")","v":"Weblink"},2018,"January 2018","Library","8.500 X 11.00","Author","Georgia Amson-Bradshaw",null,null,null,null,"T",null,"Grade 5","Grade 4 - 6","Anyone who learns about the force of gravity in our lives has probably wondered what it's like to be weightless. In this volume, readers can find out the incredible impact gravity and other forces, such as magnetism, have on their life every day. Each chapter gives an accessible overview of the topic and then invites readers to dive deeper with relatable photographs, diagrams, sidebars, and fun facts. Through riddles, pop quizzes, and simple experiments, the book encourages readers to engage with the information they're learning in order to understand it better for both class and life on Earth.","English",26.6,19.95,"531.6--dc23","32 pp.",{"$f":"Table1[[#This Row],[QTY]]*Table1[[#This Row],['# Books]]","v":0},{"$f":"Table1[[#This Row],[QTY]]*Table1[[#This Row],[S&L Price]]","v":0}]
[null,null,123,"Science in a Flash",1,"Sound","Library Bound Book",null,"978-1-5382-1400-8",{"$f":"HYPERLINK(\"https://www.garethstevens.com/\"&Table1[[#This Row],[ISBN]],\"Weblink\")","v":"Weblink"},2018,"January 2018","Library","8.500 X 11.00","Author","Georgia Amson-Bradshaw",null,null,null,null,"T","990L","Grade 5","Grade 4 - 6","It seems impossible that the tiny parts of the ear allow us to hear birds chirping, music, and someone speaking. Each sound travels through the air and causes the parts of the ear to vibrate. The brain uses this information to tell us what we've heard. That's just the beginning of what this book can teach readers about sound. Detailed, colorful diagrams and simple explanations show readers how echoes work, how sound is recorded, what ultrasounds are, and more. Riddles and pop quiz questions ask readers to consider what they've read, aiding their understanding of these science curriculum topics.","English",26.6,19.95,"534--dc23","32 pp.",{"$f":"Table1[[#This Row],[QTY]]*Table1[[#This Row],['# Books]]","v":0},{"$f":"Table1[[#This Row],[QTY]]*Table1[[#This Row],[S&L Price]]","v":0}]
[null,null,123,"Beyond the Theory: Science of the Future",1,"Are We Alone in the Universe? Theories About Intelligent Life on Other Planets","Library Bound Book",null,"978-1-5382-2673-5",{"$f":"HYPERLINK(\"https://www.garethstevens.com/\"&Table1[[#This Row],[ISBN]],\"Weblink\")","v":"Weblink"},2019,"August 2018","Library","7.250 X 9.250","Author","Tom Jackson","6.7","1",null,null,"V","1010L","Grade 5 - 6","Grade 5 - 8","The premise that alien life exists has had a grip on writers, artists, thinkers, and scientists since possibly the earliest days of civilization. This awesome text explores many of the critical parts of astrobiology from theories about exoplanets and the formation of solar systems to places like the Lowell Observatory and Roswell and people like H. G. Wells and Carl Sagan. Astrobiology, or the search for aliens, has never been so accessible as in this text. With full-color artwork and gripping, accessible main text, sidebars, and fact boxes, readers enjoy indulging in alien theories all the while learning science and history.","English",31.95,23.95,"576.8'39--dc23","48 pp.",{"$f":"Table1[[#This Row],[QTY]]*Table1[[#This Row],['# Books]]","v":0},{"$f":"Table1[[#This Row],[QTY]]*Table1[[#This Row],[S&L Price]]","v":0}]
[null,null,123,"Beyond the Theory: Science of the Future",1,"Is Human Cloning in Our Future? Theories About Genetics","eBook",null,"978-1-5382-2672-8",{"$f":"HYPERLINK(\"https://www.garethstevens.com/\"&Table1[[#This Row],[ISBN]],\"Weblink\")","v":"Weblink"},2019,"August 2018",null,null,"Author","Tom Jackson","7.3","1",null,null,"V","1020L","Grade 5 - 6","Grade 5 - 8","Even the most reluctant readers are likely curious about cloning and the scientific future of human evolution. This book finally makes it possible for them to access the latest information about genetic engineering, stem cells, heredity, and the idea that humans may be able to manipulate the process of reproduction to create the offspring they desire. It even covers hot button issues like eugenics and the genetic modification of plants and animals used for food. With vivid, full-color artwork and fascinating sidebars and fact boxes throughout the uncomplicated, fascinating text, this book will find a perfect home in any collection.","English",31.95,23.95,"572.8'6--dc23","48 pp.",{"$f":"Table1[[#This Row],[QTY]]*Table1[[#This Row],['# Books]]","v":0},{"$f":"Table1[[#This Row],[QTY]]*Table1[[#This Row],[S&L Price]]","v":0}]
[null,null,123,"Beyond the Theory: Science of the Future",1,"Is Time Travel Possible? Theories About Time","Library Bound Book",null,"978-1-5382-2661-2",{"$f":"HYPERLINK(\"https://www.garethstevens.com/\"&Table1[[#This Row],[ISBN]],\"Weblink\")","v":"Weblink"},2019,"August 2018","Library","7.250 X 9.250","Author","Tom Jackson","6.6","1",null,null,"V","970L","Grade 5 - 6","Grade 5 - 8","Even the most reluctant readers will be fascinated to read about how twin astronauts Scott and Mark Kelly are a different age because Scott spent a year living on the International Space Station. This book looks at how time travel has been thought of from ancient times to modern day. It even discusses what humans might do if they could travel in time. From string theory to Einstein's theory of relativity, Heisenberg's uncertainty principle to the grandfather paradox, and wormholes to quantum physics, everything time travel related is discussed here in easy-to-understand language and complimented by vivid artwork on every spread.","English",31.95,23.95,"530.11--dc23","48 pp.",{"$f":"Table1[[#This Row],[QTY]]*Table1[[#This Row],['# Books]]","v":0},{"$f":"Table1[[#This Row],[QTY]]*Table1[[#This Row],[S&L Price]]","v":0}]
[null,null,123,"Beyond the Theory: Science of the Future",1,"Will Robots Ever Be Smarter Than Humans? Theories About Artificial Intelligence","eBook",null,"978-1-5382-2660-5",{"$f":"HYPERLINK(\"https://www.garethstevens.com/\"&Table1[[#This Row],[ISBN]],\"Weblink\")","v":"Weblink"},2019,"August 2018",null,null,"Author","Tom Jackson","6.9","1",null,null,"V",null,"Grade 5 - 6","Grade 5 - 8","It may have been a distant future when The Jetsons aired, but now the reality of autonomous machines with artificial intelligence is real. The ability of machines to \"think\" and \"learn\" fascinates everyone, but now even the most reluctant readers have a chance to engage in learning about the history and future of robotics. This book covers everything from the 18th century French automatons to Elon Musk, Ada Lovelace to Alan Turing, self-driving cars and smart homes to assembly and military robots. Each spread is complimented with vivid artwork that further illuminates the accessible, exciting text.","English",31.95,23.95,"006.3--dc23","48 pp.",{"$f":"Table1[[#This Row],[QTY]]*Table1[[#This Row],['# Books]]","v":0},{"$f":"Table1[[#This Row],[QTY]]*Table1[[#This Row],[S&L Price]]","v":0}]
[null,null,124,"Crime Solvers",1,"Hunting the Cyber Trail: Be a Computer Forensic Scientist","eBook",null,"978-1-5382-0625-6",{"$f":"HYPERLINK(\"https://www.garethstevens.com/\"&Table1[[#This Row],[ISBN]],\"Weblink\")","v":"Weblink"},2018,"August 2017",null,null,"Author","Alix Wood",null,null,null,null,"V","810L","Grade 6","Grade 6 - 8","Forensic science is often associated with dead bodies, but forensics, the use of science to solve crimes, is increasingly needed in the modern world to crack cybercrimes. Computer forensic investigators locate and analyze data that can lead to the arrest of cybercriminals, such as those who plant malicious code and steal personal information. Future forensic scientists will love learning how professionals chase down criminals in the cyber world through a thrilling case in which essential aspects of this career are applied in true-to-life situations. Realistic photographs and images make this volume both gripping and educational.","English",31.95,23.95,"363.25’968--dc23","48 pp.",{"$f":"Table1[[#This Row],[QTY]]*Table1[[#This Row],['# Books]]","v":0},{"$f":"Table1[[#This Row],[QTY]]*Table1[[#This Row],[S&L Price]]","v":0}]
[null,null,124,"Crime Solvers",1,"Killer Evidence: Be a Police Detective","eBook",null,"978-1-5382-0626-3",{"$f":"HYPERLINK(\"https://www.garethstevens.com/\"&Table1[[#This Row],[ISBN]],\"Weblink\")","v":"Weblink"},2018,"August 2017",null,null,"Author","Alix Wood",null,null,null,null,"V","760L","Grade 6","Grade 6 - 8","Police detectives have definitely been glamorized on television, but they truly are crime solvers. What is often not shown in fiction stories is the meticulous work that detectives do in their everyday jobs. To gather evidence in criminal cases, they interview and interrogate, examine documents, and observe suspects. Readers are invited along with the crime-solving team in this valuable volume and are encouraged to think like a detective to nab a criminal. Key vocabulary and essential concepts will make readers appreciate and admire this cool career.","English",31.95,23.95,"363.25028'4--dc23","48 pp.",{"$f":"Table1[[#This Row],[QTY]]*Table1[[#This Row],['# Books]]","v":0},{"$f":"Table1[[#This Row],[QTY]]*Table1[[#This Row],[S&L Price]]","v":0}]
[null,null,124,"Crime Solvers",1,"The Body in the Woods: Be a Crime Scene Investigator","Library Bound Book",null,"978-1-5382-0629-4",{"$f":"HYPERLINK(\"https://www.garethstevens.com/\"&Table1[[#This Row],[ISBN]],\"Weblink\")","v":"Weblink"},2018,"August 2017","Library","7.250 X 9.250","Author","Alix Wood",null,null,null,null,"V","780L","Grade 6","Grade 6 - 8","When crime scene investigators (CSIs) are called to the location of a murder, they document what they see in detail and carefully collect the evidence. Evidence isn't always obvious to the untrained eye. Readers of this remarkable book, which includes dynamic photographs, will become trained to know what to look for at a crime scene as they tag along with scientists on an intriguing case. They'll learn about various kinds of evidence as well as how it's analyzed to provide essential clues about what happened at the scene and how to find the killer.","English",31.95,23.95,"363.25--dc23","48 pp.",{"$f":"Table1[[#This Row],[QTY]]*Table1[[#This Row],['# Books]]","v":0},{"$f":"Table1[[#This Row],[QTY]]*Table1[[#This Row],[S&L Price]]","v":0}]
[null,null,125,"Backyard Bird Watchers",1,"A Bird Watcher's Guide to Hummingbirds","Library Bound Book",null,"978-1-5382-0317-0",{"$f":"HYPERLINK(\"https://www.garethstevens.com/\"&Table1[[#This Row],[ISBN]],\"Weblink\")","v":"Weblink"},2018,"August 2017","Library","8.500 X 8.500","Author","Aife Arnim","3.8","0.5",null,null,"M",null,"Grade 2 - 3","Grade 2 - 5","Hummingbirds may be the most jaw-dropping birds. Their wings flap 80 times per second and they can also hover. Astonishing facts like these abound in this guide to the diminutive bird, in the appealing guise of a young bird watcher's journal. The narrator takes readers under his wing, showing them how they, too, can be bird watchers while addressing important science concepts accompanied by beautiful photographs of hummingbirds in flight.","English",25.25,18.95,"598.7/64--dc23","32 pp.",{"$f":"Table1[[#This Row],[QTY]]*Table1[[#This Row],['# Books]]","v":0},{"$f":"Table1[[#This Row],[QTY]]*Table1[[#This Row],[S&L Price]]","v":0}]
[null,null,125,"Backyard Bird Watchers",1,"A Bird Watcher's Guide to Mourning Doves","eBook",null,"978-1-5382-0326-2",{"$f":"HYPERLINK(\"https://www.garethstevens.com/\"&Table1[[#This Row],[ISBN]],\"Weblink\")","v":"Weblink"},2018,"August 2017",null,null,"Author","Aife Arnim","4","0.5",null,null,"M",null,"Grade 2 - 3","Grade 2 - 5","If you hear a mourning dove’s gentle cooing, don’t look up—look down. These graceful creatures like to forage for seeds on the ground. They’ve been known to gobble up as many as 17,000 seeds in a sitting! Young bird watchers will be fascinated by the hidden life of these birds including migration habits, habitats, mating rituals, and some awesome adaptations for survival. Their guide to all-things-birds is a young bird watcher, encouraging readers to get outside and try this hobby themselves.","English",25.25,18.95,"598.6’5--dc23","32 pp.",{"$f":"Table1[[#This Row],[QTY]]*Table1[[#This Row],['# Books]]","v":0},{"$f":"Table1[[#This Row],[QTY]]*Table1[[#This Row],[S&L Price]]","v":0}]
[null,null,125,"Backyard Bird Watchers",1,"A Bird Watcher's Guide to Wrens","Library Bound Book",null,"978-1-5382-0351-4",{"$f":"HYPERLINK(\"https://www.garethstevens.com/\"&Table1[[#This Row],[ISBN]],\"Weblink\")","v":"Weblink"},2018,"August 2017","Library","8.500 X 8.500","Author","Grace Elora","3.8","0.5",null,null,"L",null,"Grade 2 - 3","Grade 2 - 5","The fat bundle of feathers called the house wren is a cute bird. It often cheerfully trills its sweet songs. However, this little fowl’s mood can turn really foul when another bird has a nesting site it wants! It may peck at larger birds to get them to move—and even push eggs out of a nest. Readers of this absorbing book will find that, with all kinds of wrens, looks can be deceiving. They’ll love the diverting narrative and fun fact boxes and especially the up-close look at wrens in their native habitats.","English",25.25,18.95,"598.072’34--dc23","32 pp.",{"$f":"Table1[[#This Row],[QTY]]*Table1[[#This Row],['# Books]]","v":0},{"$f":"Table1[[#This Row],[QTY]]*Table1[[#This Row],[S&L Price]]","v":0}]
[null,null,125,"Backyard Bird Watchers",1,"A Bird Watcher's Guide to Wrens","eBook",null,"978-1-5382-0352-1",{"$f":"HYPERLINK(\"https://www.garethstevens.com/\"&Table1[[#This Row],[ISBN]],\"Weblink\")","v":"Weblink"},2018,"August 2017",null,null,"Author","Grace Elora","3.8","0.5",null,null,"L",null,"Grade 2 - 3","Grade 2 - 5","The fat bundle of feathers called the house wren is a cute bird. It often cheerfully trills its sweet songs. However, this little fowl’s mood can turn really foul when another bird has a nesting site it wants! It may peck at larger birds to get them to move—and even push eggs out of a nest. Readers of this absorbing book will find that, with all kinds of wrens, looks can be deceiving. They’ll love the diverting narrative and fun fact boxes and especially the up-close look at wrens in their native habitats.","English",25.25,18.95,"598.072’34--dc23","32 pp.",{"$f":"Table1[[#This Row],[QTY]]*Table1[[#This Row],['# Books]]","v":0},{"$f":"Table1[[#This Row],[QTY]]*Table1[[#This Row],[S&L Price]]","v":0}]
[null,null,125,"Backyard Bird Watchers",1,"A Bird Watcher's Guide to Chickadees","eBook",null,"978-1-4824-3902-1",{"$f":"HYPERLINK(\"https://www.garethstevens.com/\"&Table1[[#This Row],[ISBN]],\"Weblink\")","v":"Weblink"},2016,"January 2016",null,null,"Author","Mark J. Harasymiw ","4","0.5",null,null,"L",null,"Grade 2 - 3","Grade 2 - 5","“Chick-a-dee-dee-dee!” That’s the call of the chickadee! This amazing little creature is a favorite of many bird watchers. It can remember thousands of places where it hides its food, and its heart beats about 500 times a minute! These facts and more are presented in the form of a young bird watcher’s journal as he discovers the delights of the natural world in his own backyard. Readers will be entertained and educated by this unique presentation of nonfiction science themes such as life cycles and habitats. Fact boxes and diagrams abound in this valuable volume.","English",25.25,18.95,"598.8'24--dc23","32 pp.",{"$f":"Table1[[#This Row],[QTY]]*Table1[[#This Row],['# Books]]","v":0},{"$f":"Table1[[#This Row],[QTY]]*Table1[[#This Row],[S&L Price]]","v":0}]
[null,null,125,"Backyard Bird Watchers",1,"A Bird Watcher's Guide to Robins","Library Bound Book",null,"978-1-4824-3909-0",{"$f":"HYPERLINK(\"https://www.garethstevens.com/\"&Table1[[#This Row],[ISBN]],\"Weblink\")","v":"Weblink"},2016,"January 2016","Library","8.500 X 8.500","Author","Rebecca Carey Rohan","3.9","0.5",null,null,"M",null,"Grade 2 - 3","Grade 2 - 5","Winter-weary people everywhere rejoice when they finally spy robins, an early sign of spring. These cheery birds can be seen hopping on lawns, tugging worms out of the ground. This delightful account of a young bird watcher’s discoveries about robins will both entertain and educate future ornithologists about the robin’s habitat, nest-making behaviors, migratory habits, and other adaptations. Beautifully designed, this volume enthusiastically promotes the hobby of bird-watching.","English",25.25,18.95,"598.8'42--dc23","32 pp.",{"$f":"Table1[[#This Row],[QTY]]*Table1[[#This Row],['# Books]]","v":0},{"$f":"Table1[[#This Row],[QTY]]*Table1[[#This Row],[S&L Price]]","v":0}]
[null,null,126,"Bizarre Beast Battles",1,"Africanized Honeybee vs. Army Ant","Library Bound Book",null,"978-1-5382-1925-6",{"$f":"HYPERLINK(\"https://www.garethstevens.com/\"&Table1[[#This Row],[ISBN]],\"Weblink\")","v":"Weblink"},2019,"August 2018","Library","8.500 X 8.500","Author","Therese M. Shea","4.2","0.5",null,null,"M",null,"Grade 2 - 3","Grade 2 - 5","Africanized honeybees, also known as killer bees, and army ants are both tiny animals that really strike fear in many people. In this action-packed volume, readers will follow along with a battle of the insects and decide who they think would be the ultimate victor. Readers will learn about factors such as adaptations, size, and sting. They'll use the information to make an educated guess about which insect they think would win if such a battle were to really break out. This imaginative, high-interest book is loaded with eye-catching graphics and facts that support important elementary science concepts.","English",22.6,16.95,"595.79'9--dc23","24 pp.",{"$f":"Table1[[#This Row],[QTY]]*Table1[[#This Row],['# Books]]","v":0},{"$f":"Table1[[#This Row],[QTY]]*Table1[[#This Row],[S&L Price]]","v":0}]
[null,null,126,"Bizarre Beast Battles",1,"Africanized Honeybee vs. Army Ant","eBook",null,"978-1-5382-1926-3",{"$f":"HYPERLINK(\"https://www.garethstevens.com/\"&Table1[[#This Row],[ISBN]],\"Weblink\")","v":"Weblink"},2019,"August 2018",null,null,"Author","Therese M. Shea","4.2","0.5",null,null,"M",null,"Grade 2 - 3","Grade 2 - 5","Africanized honeybees, also known as killer bees, and army ants are both tiny animals that really strike fear in many people. In this action-packed volume, readers will follow along with a battle of the insects and decide who they think would be the ultimate victor. Readers will learn about factors such as adaptations, size, and sting. They'll use the information to make an educated guess about which insect they think would win if such a battle were to really break out. This imaginative, high-interest book is loaded with eye-catching graphics and facts that support important elementary science concepts.","English",22.6,16.95,"595.79'9--dc23","24 pp.",{"$f":"Table1[[#This Row],[QTY]]*Table1[[#This Row],['# Books]]","v":0},{"$f":"Table1[[#This Row],[QTY]]*Table1[[#This Row],[S&L Price]]","v":0}]
[null,null,126,"Bizarre Beast Battles",1,"Red-Tailed Hawk vs. Burmese Python","Library Bound Book",null,"978-1-5382-1935-5",{"$f":"HYPERLINK(\"https://www.garethstevens.com/\"&Table1[[#This Row],[ISBN]],\"Weblink\")","v":"Weblink"},2019,"August 2018","Library","8.500 X 8.500","Author","Theresa Morlock","4.5","0.5",null,null,"M",null,"Grade 2 - 3","Grade 2 - 5","A bird and a snake may not seem like they could have much in common, but the red-tailed hawk and Burmese python are both skilled hunters. In a fight, they'd each bring quite a bit to the table. This thrilling book is packed with information that compares and contrasts these two carnivores. Eye-catching photographs help readers visualize these two animals in a battle. Habitats and adaptations are just a couple of the important science concepts that this exciting book discusses.","English",22.6,16.95,"598.9'44--dc23","24 pp.",{"$f":"Table1[[#This Row],[QTY]]*Table1[[#This Row],['# Books]]","v":0},{"$f":"Table1[[#This Row],[QTY]]*Table1[[#This Row],[S&L Price]]","v":0}]
[null,null,126,"Bizarre Beast Battles",1,"Velociraptor vs. Bull Shark","eBook",null,"978-1-5382-1944-7",{"$f":"HYPERLINK(\"https://www.garethstevens.com/\"&Table1[[#This Row],[ISBN]],\"Weblink\")","v":"Weblink"},2019,"August 2018",null,null,"Author","Caitie McAneney","4.4","0.5",null,null,"M",null,"Grade 2 - 3","Grade 2 - 5","Who would win in a fight between a feathered dinosaur and an aggressive shark? We'll probably never know the true answer, but this high-interest volume helps readers imagine and understand the battle that could ensue if the two creatures were to ever meet. Eye-catching graphics paired with concise facts make for a lively and engaging page layout that helps to reinforce key elementary science concepts. Readers will weigh the information they're given, including factors such as size and speed, and use it to decide who they think would come out on top in this imaginative matchup.","English",22.6,16.95,"567.912--dc23","24 pp.",{"$f":"Table1[[#This Row],[QTY]]*Table1[[#This Row],['# Books]]","v":0},{"$f":"Table1[[#This Row],[QTY]]*Table1[[#This Row],[S&L Price]]","v":0}]
[null,null,126,"Bizarre Beast Battles",1,"Rat vs. Cockroach","Library Bound Book",null,"978-1-4824-2790-5",{"$f":"HYPERLINK(\"https://www.garethstevens.com/\"&Table1[[#This Row],[ISBN]],\"Weblink\")","v":"Weblink"},2016,"August 2015","Library","8.500 X 8.500","Author","Charlotte Herriott","3.9","0.5",28,null,"M","610L","Grade 2 - 3","Grade 2 - 5","Rats and cockroaches are definitely two of the grossest animals around. They spread disease and unfortunately flock to wherever people are living. Readers of this spine-tingling volume with vivid photographs are encouraged to decide what would happen if these two pests did battle. They'll be entertained by facts about how the creatures match up in speed, intelligence, and toughness. For example, a cockroach can move around for weeks without its head! Important science concepts such as adaptations and habitats are discussed on each informative and entertaining page.","English",22.6,16.95,"599.35","24 pp.",{"$f":"Table1[[#This Row],[QTY]]*Table1[[#This Row],['# Books]]","v":0},{"$f":"Table1[[#This Row],[QTY]]*Table1[[#This Row],[S&L Price]]","v":0}]
[null,null,126,"Bizarre Beast Battles",1,"Scorpion vs. Black Widow","eBook",null,"978-1-4824-2795-0",{"$f":"HYPERLINK(\"https://www.garethstevens.com/\"&Table1[[#This Row],[ISBN]],\"Weblink\")","v":"Weblink"},2016,"August 2015",null,null,"Author","Caitie McAneney","4.9","0.5",30,null,"N","890L","Grade 2 - 3","Grade 2 - 5","Scorpions and black widows are both feared arachnids. They carry venom that can be deadly. Black widow venom can turn their prey's insides into mush! Scorpions have their deadly stinger to inject their poison, while black widows use fangs. These two bad beasts occasionally meet in a battle to the death. Through enlightening text and vibrant photographs, readers will discover the weapons each uses to best its opponent and the adaptations that make them both predators you wouldn't want to mess with.","English",22.6,16.95,"595.4","24 pp.",{"$f":"Table1[[#This Row],[QTY]]*Table1[[#This Row],['# Books]]","v":0},{"$f":"Table1[[#This Row],[QTY]]*Table1[[#This Row],[S&L Price]]","v":0}]
[null,null,126,"Bizarre Beast Battles",1,"T. Rex vs. Crocodile","eBook",null,"978-1-4824-2803-2",{"$f":"HYPERLINK(\"https://www.garethstevens.com/\"&Table1[[#This Row],[ISBN]],\"Weblink\")","v":"Weblink"},2016,"August 2015",null,null,"Author","Michael Sabatino","4.8","0.5",28,null,"M","960L","Grade 2 - 3","Grade 2 - 5","Tyrannosaurus rex was one of the largest meat-eating dinosaurs that ever lived. It could chomp up to 500 pounds of meat and bone in a single bite! While crocodiles don't compare in size, they're some of the largest carnivores alive today and one of the most feared man-eaters. This cleverly crafted volume invites readers into the worlds of these predators and asks them to envision what would happen if these beasts went head-to-head in the ultimate beast battle. Color photographs, dynamic illustrations, and imaginative text brings the action to life.","English",22.6,16.95,"567.9--dc23","24 pp.",{"$f":"Table1[[#This Row],[QTY]]*Table1[[#This Row],['# Books]]","v":0},{"$f":"Table1[[#This Row],[QTY]]*Table1[[#This Row],[S&L Price]]","v":0}]
[null,null,127,"Cutest Animals...That Could Kill You!",1,"Deadly Pandas","eBook",null,"978-1-5382-1083-3",{"$f":"HYPERLINK(\"https://www.garethstevens.com/\"&Table1[[#This Row],[ISBN]],\"Weblink\")","v":"Weblink"},2018,"January 2018",null,null,"Author","Mary Molly Shea","4.3","0.5",null,null,"L",null,"Grade 2 - 3","Grade 2 - 5","Pandas are undeniably adorable. Their fluffy fur and big eyes look just like a teddy bear’s, but don’t even think of snuggling with them. They have one of the most powerful bites of any carnivore. Though they usually reserve their teeth for chewing tough pieces of bamboo, they’ve bitten people, too. This compelling volume, full of beautiful photographs and gripping facts, tells readers all about pandas’ life cycle as well as why it’s wise to keep a wary distance from these awesome animals.","English",22.6,16.95,"599.789--dc23","24 pp.",{"$f":"Table1[[#This Row],[QTY]]*Table1[[#This Row],['# Books]]","v":0},{"$f":"Table1[[#This Row],[QTY]]*Table1[[#This Row],[S&L Price]]","v":0}]
[null,null,127,"Cutest Animals...That Could Kill You!",1,"Perilous Pumas","Library Bound Book",null,"978-1-5382-1093-2",{"$f":"HYPERLINK(\"https://www.garethstevens.com/\"&Table1[[#This Row],[ISBN]],\"Weblink\")","v":"Weblink"},2018,"January 2018","Library","8.500 X 8.500","Author","Mary Molly Shea","4.1","0.5",null,null,"L",null,"Grade 2 - 3","Grade 2 - 5","Pumas, mountain lions, cougars, panthers, catamounts, they’re all the same big, breathtaking cat, but don’t even think about petting one. No matter how cute these cats are, they kill. This wild guide tracks down these fascinating felines in their native habitats and reveals to readers their hunting strategies as well as their essential role in their ecosystems. Jaw-dropping fact boxes and a graphic organizer provide further support for the important science concepts in this valuable volume.","English",22.6,16.95,"599.75'24--dc23","24 pp.",{"$f":"Table1[[#This Row],[QTY]]*Table1[[#This Row],['# Books]]","v":0},{"$f":"Table1[[#This Row],[QTY]]*Table1[[#This Row],[S&L Price]]","v":0}]
[null,null,127,"Cutest Animals...That Could Kill You!",1,"Perilous Pumas","eBook",null,"978-1-5382-1094-9",{"$f":"HYPERLINK(\"https://www.garethstevens.com/\"&Table1[[#This Row],[ISBN]],\"Weblink\")","v":"Weblink"},2018,"January 2018",null,null,"Author","Mary Molly Shea","4.1","0.5",null,null,"L",null,"Grade 2 - 3","Grade 2 - 5","Pumas, mountain lions, cougars, panthers, catamounts, they’re all the same big, breathtaking cat, but don’t even think about petting one. No matter how cute these cats are, they kill. This wild guide tracks down these fascinating felines in their native habitats and reveals to readers their hunting strategies as well as their essential role in their ecosystems. Jaw-dropping fact boxes and a graphic organizer provide further support for the important science concepts in this valuable volume.","English",22.6,16.95,"599.75'24--dc23","24 pp.",{"$f":"Table1[[#This Row],[QTY]]*Table1[[#This Row],['# Books]]","v":0},{"$f":"Table1[[#This Row],[QTY]]*Table1[[#This Row],[S&L Price]]","v":0}]
[null,null,127,"Cutest Animals...That Could Kill You!",1,"Alarming Leopard Seals","Library Bound Book",null,"978-1-4824-4909-9",{"$f":"HYPERLINK(\"https://www.garethstevens.com/\"&Table1[[#This Row],[ISBN]],\"Weblink\")","v":"Weblink"},2017,"August 2016","Library","8.500 X 8.500","Author","Eleanor Snyder","4.2","0.5",null,null,"L",null,"Grade 2 - 3","Grade 2 - 5","Leopard seals look so cute, but even their name gives us a clue about their true nature: They’re carnivores with a taste for penguin meat! The marine mammals’ size, sometimes exceeding 12 feet (3.7 m), makes them dangerous—even to people. This absorbing volume combines attention-grabbing text with exciting photographs of leopard seals in their native habitats. Young marine biologists will learn about the sneaky behaviors of these sea creatures as well as about other adaptations that make them such toothy terrors.","English",22.6,16.95,"599.79/6--dc23","24 pp.",{"$f":"Table1[[#This Row],[QTY]]*Table1[[#This Row],['# Books]]","v":0},{"$f":"Table1[[#This Row],[QTY]]*Table1[[#This Row],[S&L Price]]","v":0}]
[null,null,127,"Cutest Animals...That Could Kill You!",1,"Fierce Frogs","Library Bound Book",null,"978-1-4824-4911-2",{"$f":"HYPERLINK(\"https://www.garethstevens.com/\"&Table1[[#This Row],[ISBN]],\"Weblink\")","v":"Weblink"},2017,"August 2016","Library","8.500 X 8.500","Author","Eleanor Snyder","4.9","0.5",null,null,"L",null,"Grade 2 - 3","Grade 2 - 5","Tiny colorful frogs seem like they’d make the cutest pets—until you learn that they’re poisonous! In this riveting volume, readers head into the rainforest to meet tiny amphibians with a most deadly adaptation. They’ll learn where frog poison comes from and how perhaps just 0.0000004 ounce is enough to kill an adult man! They’ll also find out about the newly discovered species of venomous frogs that inject poison using their spiny head. Vivid photographs highlight the beauty of these creatures, while text stresses the need to keep a safe distance from all such fierce frogs.","English",22.6,16.95,"597.8/77--dc23","24 pp.",{"$f":"Table1[[#This Row],[QTY]]*Table1[[#This Row],['# Books]]","v":0},{"$f":"Table1[[#This Row],[QTY]]*Table1[[#This Row],[S&L Price]]","v":0}]
[null,null,127,"Cutest Animals...That Could Kill You!",1,"Massive Moose","eBook",null,"978-1-4824-4907-5",{"$f":"HYPERLINK(\"https://www.garethstevens.com/\"&Table1[[#This Row],[ISBN]],\"Weblink\")","v":"Weblink"},2017,"August 2016",null,null,"Author","Mary Molly Shea","4.2","0.5",null,null,"L",null,"Grade 2 - 3","Grade 2 - 5","Moose are the largest members of the deer family—and they are large! The most massive moose are 7 feet (2 m) tall at the shoulder and weigh 1,300 pounds (600 kg). These herbivores aren’t always gentle. They can use their colossal bodies to defend themselves from black bears, wolves, and other carnivores. Even hunters fear moose because angry moose sometimes can’t be stopped by guns! This informative book, including a graphic organizer and essential science vocabulary, is a fresh look at the magnificent mammal called the moose.","English",22.6,16.95,"599.65/7--dc23","24 pp.",{"$f":"Table1[[#This Row],[QTY]]*Table1[[#This Row],['# Books]]","v":0},{"$f":"Table1[[#This Row],[QTY]]*Table1[[#This Row],[S&L Price]]","v":0}]
[null,null,127,"Cutest Animals...That Could Kill You!",1,"Menacing Chimpanzees","Library Bound Book",null,"978-1-4824-4914-3",{"$f":"HYPERLINK(\"https://www.garethstevens.com/\"&Table1[[#This Row],[ISBN]],\"Weblink\")","v":"Weblink"},2017,"August 2016","Library","8.500 X 8.500","Author","Mary Molly Shea","4.5","0.5",null,null,"M",null,"Grade 2 - 3","Grade 2 - 5","The apes called chimpanzees are closely related to humans. These intelligent primates share many characteristics with their human counterparts, including sympathy, grief, and curiosity. They can solve problems and even use some tools. They also share another feature with us: they can be dangerous. Chimps are known to attack each other, and even people, with deadly results. This book answers why these mostly gentle creatures can turn violent and the dangers they face in their native habitats that have led to their endangered status. Arresting photographs and stunning facts make this high-interest volume especially appealing.","English",22.6,16.95,"599.885--dc23","24 pp.",{"$f":"Table1[[#This Row],[QTY]]*Table1[[#This Row],['# Books]]","v":0},{"$f":"Table1[[#This Row],[QTY]]*Table1[[#This Row],[S&L Price]]","v":0}]
[null,null,128,"Animal Invaders: Destroying Native Habitats",1,"Attack of the Bullfrogs","Library Bound Book",null,"978-1-4824-5666-0",{"$f":"HYPERLINK(\"https://www.garethstevens.com/\"&Table1[[#This Row],[ISBN]],\"Weblink\")","v":"Weblink"},2017,"January 2017","Library","8.500 X 8.500","Author","Therese M. Shea","4.5","0.5",null,null,"M",null,"Grade 2 - 3","Grade 2 - 5","Bullfrogs in the United States started as a way for Californians to eat more frog legs. Now, the bullfrog population grows almost completely unchecked. In many places in the world where bullfrogs have spread, there aren’t predators to eat them! Readers are likely familiar with the bullfrog croak, but in this book, they’ll learn why hearing it is a bad sign! The main content introduces the definition of “invasive species” and explains through the bullfrog’s story the harm these animals cause. Full-color photographs help readers identity bullfrogs, and informative fact boxes add details about conservation, habitats, and food chains.","English",22.6,16.95,"597.8’92--dc23","24 pp.",{"$f":"Table1[[#This Row],[QTY]]*Table1[[#This Row],['# Books]]","v":0},{"$f":"Table1[[#This Row],[QTY]]*Table1[[#This Row],[S&L Price]]","v":0}]
[null,null,128,"Animal Invaders: Destroying Native Habitats",1,"Attack of the Killer Bees","eBook",null,"978-1-4824-5673-8",{"$f":"HYPERLINK(\"https://www.garethstevens.com/\"&Table1[[#This Row],[ISBN]],\"Weblink\")","v":"Weblink"},2017,"January 2017",null,null,"Author","Emily Mahoney","5.3","0.5",null,null,"M",null,"Grade 2 - 3","Grade 2 - 5","Since the mating of certain European and African bees in Brazil during the late 1950s, an aggressive bee has been slowly heading northward. These Africanized honeybees are known as invasive species today as they disrupt the ecosystems they enter. More information about the “killer bee’s” spread draws readers into the interesting scientific topic of invasive species. Fascinating fact boxes and terrifying maps of the bees’ spread highlight how serious a threat invasive species are. With discussions about ecosystem balance, food chains, and conservation, the main content undoubtedly supplements the science curriculum.","English",22.6,16.95,"595.79/9--dc23","24 pp.",{"$f":"Table1[[#This Row],[QTY]]*Table1[[#This Row],['# Books]]","v":0},{"$f":"Table1[[#This Row],[QTY]]*Table1[[#This Row],[S&L Price]]","v":0}]
[null,null,128,"Freaky Fish",6,"Freaky Fish","Library Set",null,"978-1-5382-0468-9",{"$f":"HYPERLINK(\"https://www.garethstevens.com/\"&Table1[[#This Row],[ISBN]],\"Weblink\")","v":"Weblink"},2018,"August 2017","Library","8.500 X 8.500",null,null,null,null,null,null,null,null,"Grade 2 - 3","Grade 2 - 5","The waters of the world are filled with strange, fantastic creatures that readers are sure to enjoy learning about! From the high-voltage electric eel to the poisonous pufferfish, this series has the inside scoop on the bizarre lives, shapes, and habitats of some of the freakiest ocean creatures! Each book is brought to vivid life with vibrant photographs and fact boxes full of wacky tidbits.","English",135.6,101.7,null,"24 pp.",{"$f":"Table1[[#This Row],[QTY]]*Table1[[#This Row],['# Books]]","v":0},{"$f":"Table1[[#This Row],[QTY]]*Table1[[#This Row],[S&L Price]]","v":0}]
[null,null,128,"Freaky Fish",1,"Electric Eels","Library Bound Book",null,"978-1-5382-0257-9",{"$f":"HYPERLINK(\"https://www.garethstevens.com/\"&Table1[[#This Row],[ISBN]],\"Weblink\")","v":"Weblink"},2018,"August 2017","Library","8.500 X 8.500","Author","Theresa Morlock","5","0.5",null,null,"L",null,"Grade 2 - 3","Grade 2 - 5","It’s electrifying! But it’s not lightning, it’s an electric eel! Filled with up-close and full-color photographs, readers of this book will get up close and personal with this freaky, long fish. Even readers who don’t love science class will find electric eels’ air-breathing and unusual breeding behavior (saliva is involved) fascinating! Learning about the electric eel is an engaging introduction to ecosystems, habitats, anatomy, biology, electricity, and so much more! Fact boxes throughout the text point out bizarre tidbits sure to make any reader think twice before swimming in the Amazon and Orinoco river basins of South America!","English",22.6,16.95,"597’.43--dc23","24 pp.",{"$f":"Table1[[#This Row],[QTY]]*Table1[[#This Row],['# Books]]","v":0},{"$f":"Table1[[#This Row],[QTY]]*Table1[[#This Row],[S&L Price]]","v":0}]
[null,null,128,"Freaky Fish",1,"Frogfish","eBook",null,"978-1-5382-0253-1",{"$f":"HYPERLINK(\"https://www.garethstevens.com/\"&Table1[[#This Row],[ISBN]],\"Weblink\")","v":"Weblink"},2018,"August 2017",null,null,"Author","Tanya Dellaccio","4.8","0.5",null,null,"L",null,"Grade 2 - 3","Grade 2 - 5","They can change color. They can strike in as little as 6 milliseconds. They can regenerate parts of their body. They are frogfish! Even reluctant readers are sure to enjoy learning all about these wacky, weird, and wonderful fish. Full-color photographs and exciting, age-appropriate text show just how varied the frogfish can be in shape, size, and color. This book provides a great opportunity to learn about evolution, ecosystems, and so much more. Fact boxes pop exciting, sensationally strange tidbits onto every page, making the readers’ experience both fun and educational.","English",22.6,16.95,"597’.62--dc23","24 pp.",{"$f":"Table1[[#This Row],[QTY]]*Table1[[#This Row],['# Books]]","v":0},{"$f":"Table1[[#This Row],[QTY]]*Table1[[#This Row],[S&L Price]]","v":0}]
[null,null,128,"Freaky Fish",1,"Pufferfish","eBook",null,"978-1-5382-0255-5",{"$f":"HYPERLINK(\"https://www.garethstevens.com/\"&Table1[[#This Row],[ISBN]],\"Weblink\")","v":"Weblink"},2018,"August 2017",null,null,"Author","Therese M. Shea","4.6","0.5",null,null,"L",null,"Grade 2 - 3","Grade 2 - 5","What has 4 teeth, 120 different species, spines all over its body, and is one of the most poisonous animals in the world? The pufferfish! Avid and reluctant readers alike will quickly devour the fascinating facts about the habitat, life cycle, evolution, and more of this strange family of fish. Each spread is filled with lively, full-color photography of this incredibly diverse family of bizarre fish. Fact boxes add to the exciting learning experience by providing quick, wacky tidbits! For instance, pufferfish defend themselves by filling up like a water balloon! Biology does not get any cooler than this!","English",22.6,16.95,"597/.64--dc23","24 pp.",{"$f":"Table1[[#This Row],[QTY]]*Table1[[#This Row],['# Books]]","v":0},{"$f":"Table1[[#This Row],[QTY]]*Table1[[#This Row],[S&L Price]]","v":0}]
[null,null,129,"Insects: Six-Legged Nightmares",1,"Assassin Bugs Kill!","eBook",null,"978-1-5382-1250-9",{"$f":"HYPERLINK(\"https://www.garethstevens.com/\"&Table1[[#This Row],[ISBN]],\"Weblink\")","v":"Weblink"},2018,"January 2018",null,null,"Author","Kristen Rajczak Nelson","5","0.5",null,null,"M",null,"Grade 2 - 3","Grade 2 - 5","Assassin bugs are amazing creatures that use their long mouthparts to kill their prey. These ambushing bugs wait on flowers, where other bugs will land while looking for a meal. Unfortunately for them, however, they become the assassin bug's meal. Assassin bugs snatch their prey and drink their body fluids as if through a straw. With vivid photographs showing these creepy killers in action, readers experience the wild world bugs live in where no potential meal is safe.","English",22.6,16.95,"595--dc23","24 pp.",{"$f":"Table1[[#This Row],[QTY]]*Table1[[#This Row],['# Books]]","v":0},{"$f":"Table1[[#This Row],[QTY]]*Table1[[#This Row],[S&L Price]]","v":0}]
[null,null,129,"Insects: Six-Legged Nightmares",1,"Botflies Terrify!","Library Bound Book",null,"978-1-5382-1253-0",{"$f":"HYPERLINK(\"https://www.garethstevens.com/\"&Table1[[#This Row],[ISBN]],\"Weblink\")","v":"Weblink"},2018,"January 2018","Library","8.500 X 8.500","Author","M. H. Seeley","5.4","0.5",null,null,"M",null,"Grade 2 - 3","Grade 2 - 5","There's no way around it, botflies are super gross. These winged insects start as larvae that need a host to live, and sometimes that host is human. Readers learn how these maggots live their parasitic lives with the help of some hosts that certainly don't appreciate their company. With full-color photographs showing these gross creatures up close and personal, readers will enjoy, or maybe revile, these creatures at work, laying eggs that become the next larvae burrowing into flesh before they become full-grown botflies.","English",22.6,16.95,"595.7--dc23","24 pp.",{"$f":"Table1[[#This Row],[QTY]]*Table1[[#This Row],['# Books]]","v":0},{"$f":"Table1[[#This Row],[QTY]]*Table1[[#This Row],[S&L Price]]","v":0}]
[null,null,129,"Insects: Six-Legged Nightmares",1,"Giant Wetas Shock!","eBook",null,"978-1-5382-1262-2",{"$f":"HYPERLINK(\"https://www.garethstevens.com/\"&Table1[[#This Row],[ISBN]],\"Weblink\")","v":"Weblink"},2018,"January 2018",null,null,"Author","Janey Levy","4.5","0.5",null,null,"M",null,"Grade 2 - 3","Grade 2 - 5","Giant wetas can't jump, which is a good thing because they're gigantic. This ancient animal is the heaviest insect ever found and can weigh as much as a mouse. Its name means 'God of ugly things.' Though these creepy-crawlies are huge and scary-looking, readers learn they aren't dangerous to humans. In fact, these giant insects mostly love carrots. Through colorful photographs of these supersized insects, readers get an up close and personal look at these oversized but harmless bugs.","English",22.6,16.95,"595.7'26--dc23","24 pp.",{"$f":"Table1[[#This Row],[QTY]]*Table1[[#This Row],['# Books]]","v":0},{"$f":"Table1[[#This Row],[QTY]]*Table1[[#This Row],[S&L Price]]","v":0}]
[null,null,129,"Spiders: Eight-Legged Terrors",6,"Spiders: Eight-Legged Terrors","Library Set",null,"978-1-5382-0475-7",{"$f":"HYPERLINK(\"https://www.garethstevens.com/\"&Table1[[#This Row],[ISBN]],\"Weblink\")","v":"Weblink"},2018,"August 2017","Library","8.500 X 8.500",null,null,null,null,null,null,null,null,"Grade 2 - 3","Grade 2 - 5","Spiders are amazing creatures that live unique lives. But some spiders are truly terrifying. These murderous monsters live all over the world, building webs and catching prey. This series puts readers on the hunt with some of the world’s most interesting arthropods. Some of these spiders’ names speak for themselves—bird-eating spiders and funnel web spiders, to name a few. Others, like the black widow and trapdoor spider, just sound plain scary. With colorful photographs showing these eight-legged arachnids up close and personal, readers will love getting an in-depth look at some of the scariest-looking animals on Earth.","English",135.6,101.7,null,"24 pp.",{"$f":"Table1[[#This Row],[QTY]]*Table1[[#This Row],['# Books]]","v":0},{"$f":"Table1[[#This Row],[QTY]]*Table1[[#This Row],[S&L Price]]","v":0}]
[null,null,129,"Spiders: Eight-Legged Terrors",1,"Brown Recluse Spiders","Library Bound Book",null,"978-1-5382-0203-6",{"$f":"HYPERLINK(\"https://www.garethstevens.com/\"&Table1[[#This Row],[ISBN]],\"Weblink\")","v":"Weblink"},2018,"August 2017","Library","8.500 X 8.500","Author","Sarah Machajewski","4.8","0.5",null,null,"M",null,"Grade 2 - 3","Grade 2 - 5","These killer spiders don’t like to be bothered, and most people will gladly keep their distance. When they do get close to humans, however, it can be very dangerous. A brown recluse bite is full of venom and needs immediate medical attention. This book is full of facts about these fierce arachnids, how they live, and what to do if you find yourself face-to-face with the feared brown recluse. Readers will also discover how the changing climate on Earth is harming these animals and what can be done to protect its habitats.","English",22.6,16.95,"595.4’4--dc23","24 pp.",{"$f":"Table1[[#This Row],[QTY]]*Table1[[#This Row],['# Books]]","v":0},{"$f":"Table1[[#This Row],[QTY]]*Table1[[#This Row],[S&L Price]]","v":0}]
[null,null,129,"Spiders: Eight-Legged Terrors",1,"Funnel-Web Spiders","Library Bound Book",null,"978-1-5382-0207-4",{"$f":"HYPERLINK(\"https://www.garethstevens.com/\"&Table1[[#This Row],[ISBN]],\"Weblink\")","v":"Weblink"},2018,"August 2017","Library","8.500 X 8.500","Author","Amy Hayes","5","0.5",null,null,"M",null,"Grade 2 - 3","Grade 2 - 5","The good news is that unless you live in Australia, you likely won’t encounter funnel-web spiders in your backyard. Vacationing there, though, exposes you to more than 40 kinds of funnel-web spiders, and many are extremely poisonous. This book takes a look at many of these amazing creatures, exploring how they build their funnel-shaped burrows and where they like to live. With full-color photographs of these amazing arachnids in their foliage-filled habitats, readers will discover the wild world of these small but dangerous creatures.","English",22.6,16.95,"595.4’4--dc23","24 pp.",{"$f":"Table1[[#This Row],[QTY]]*Table1[[#This Row],['# Books]]","v":0},{"$f":"Table1[[#This Row],[QTY]]*Table1[[#This Row],[S&L Price]]","v":0}]
[null,null,129,"Spiders: Eight-Legged Terrors",1,"Giant Huntsman Spiders","eBook",null,"978-1-5382-0212-8",{"$f":"HYPERLINK(\"https://www.garethstevens.com/\"&Table1[[#This Row],[ISBN]],\"Weblink\")","v":"Weblink"},2018,"August 2017",null,null,"Author","Melissa Raé Shofner","4.8","0.5",null,null,"M",null,"Grade 2 - 3","Grade 2 - 5","If a spider has “giant” in its name, it’s bound to terrorize people of all ages. These large arachnids are the world’s largest spider by leg span. What’s more—they don’t build webs! Instead, they hunt down their prey like so many other predators. Through full-color photographs of these dazzling creatures and engaging text, readers explore the world of the giant huntsman to learn how and where they live, and just how large these monster creatures can grow.","English",22.6,16.95,"595.4’4--dc23","24 pp.",{"$f":"Table1[[#This Row],[QTY]]*Table1[[#This Row],['# Books]]","v":0},{"$f":"Table1[[#This Row],[QTY]]*Table1[[#This Row],[S&L Price]]","v":0}]
[null,null,130,"Living with the Dinosaurs",1,"Crocodiles Lived with the Dinosaurs!","eBook",null,"978-1-4824-5648-6",{"$f":"HYPERLINK(\"https://www.garethstevens.com/\"&Table1[[#This Row],[ISBN]],\"Weblink\")","v":"Weblink"},2017,"January 2017",null,null,"Author","Melissa Raé Shofner","4.9","0.5",null,null,"O","900L","Grade 2 - 3","Grade 2 - 5","It’s incredible to think that crocodiles were contemporaries of the dinosaurs. Not all crocs looked like the creatures we know today, though. Some were real monsters—such as Machimosaurus rex. It was 30 feet (10 m) long! Reptile lovers and dinosaur enthusiasts will love the details and images found in this high-interest book. They’ll also review important science concepts, such as adaptation and extinction, and relish sharing the fascinating facts they absorb with their friends!","English",22.6,16.95,"597.98’2--dc23","24 pp.",{"$f":"Table1[[#This Row],[QTY]]*Table1[[#This Row],['# Books]]","v":0},{"$f":"Table1[[#This Row],[QTY]]*Table1[[#This Row],[S&L Price]]","v":0}]
[null,null,130,"Living with the Dinosaurs",1,"Salamanders Lived with the Dinosaurs!","Library Bound Book",null,"978-1-4824-5663-9",{"$f":"HYPERLINK(\"https://www.garethstevens.com/\"&Table1[[#This Row],[ISBN]],\"Weblink\")","v":"Weblink"},2017,"January 2017","Library","8.500 X 8.500","Author","Heather Moore Niver","5.1","0.5",null,null,"O","860L","Grade 2 - 3","Grade 2 - 5","In 2015, scientists found 200-million-year-old fossil remains of a huge salamander-like amphibian, a “super salamander,” that was a top predator of rivers and lakes. It might have even munched on early dinosaurs! Young paleozoologists will love learning about these remarkable creatures that once lived on Earth as well as seeing imaginative images of what they might have looked like. They’ll be amazed how such beasts change and adapt into the animals we know today.","English",22.6,16.95,"597.8’5--dc23","24 pp.",{"$f":"Table1[[#This Row],[QTY]]*Table1[[#This Row],['# Books]]","v":0},{"$f":"Table1[[#This Row],[QTY]]*Table1[[#This Row],[S&L Price]]","v":0}]
[null,null,130,"Living with the Dinosaurs",1,"Salamanders Lived with the Dinosaurs!","eBook",null,"978-1-4824-5665-3",{"$f":"HYPERLINK(\"https://www.garethstevens.com/\"&Table1[[#This Row],[ISBN]],\"Weblink\")","v":"Weblink"},2017,"January 2017",null,null,"Author","Heather Moore Niver","5.1","0.5",null,null,"O","860L","Grade 2 - 3","Grade 2 - 5","In 2015, scientists found 200-million-year-old fossil remains of a huge salamander-like amphibian, a “super salamander,” that was a top predator of rivers and lakes. It might have even munched on early dinosaurs! Young paleozoologists will love learning about these remarkable creatures that once lived on Earth as well as seeing imaginative images of what they might have looked like. They’ll be amazed how such beasts change and adapt into the animals we know today.","English",22.6,16.95,"597.8’5--dc23","24 pp.",{"$f":"Table1[[#This Row],[QTY]]*Table1[[#This Row],['# Books]]","v":0},{"$f":"Table1[[#This Row],[QTY]]*Table1[[#This Row],[S&L Price]]","v":0}]
[null,null,130,"Massive Animal Migrations",6,"Massive Animal Migrations","Library Set",null,"978-1-5382-1724-5",{"$f":"HYPERLINK(\"https://www.garethstevens.com/\"&Table1[[#This Row],[ISBN]],\"Weblink\")","v":"Weblink"},2019,"August 2018","Library","8.500 X 8.500",null,null,null,null,null,null,null,null,"Grade 2 - 3","Grade 2 - 5","Across the globe, animals walk, fly, or swim hundreds or thousands of miles in search for food, more suitable habitats, or places to breed. This series introduces readers to the exciting lives of several animals, including dragonflies and wildebeests, and takes them through their migration journeys. Readers will learn about why these animals migrate, how far they travel, how they communicate, and the foods they eat. Seeing the majestic beauty of these massive migrations in incredible, full-color photography is sure to bring a sense of awe to any reader. Features include: Maps, charts, and other images that will appeal to visual learners. Combines life science concepts through thrilling narratives, making new information fun to learn.","English",135.6,101.7,null,"24 pp.",{"$f":"Table1[[#This Row],[QTY]]*Table1[[#This Row],['# Books]]","v":0},{"$f":"Table1[[#This Row],[QTY]]*Table1[[#This Row],[S&L Price]]","v":0}]
[null,null,130,"Massive Animal Migrations",1,"Journey of the Caribou","Library Bound Book",null,"978-1-5382-1653-8",{"$f":"HYPERLINK(\"https://www.garethstevens.com/\"&Table1[[#This Row],[ISBN]],\"Weblink\")","v":"Weblink"},2019,"August 2018","Library","8.500 X 8.500","Author","Benjamin O. Samuelson","4.8","0.5",null,null,"N",null,"Grade 2 - 3","Grade 2 - 5","It's hard to imagine a herd 96,000 square miles large, that's nearly half the size of France. It's harder still to imagine that enormous herd of majestic, gigantic creatures traveling 600 miles across the great white north every year. Caribou are one of the world's largest migratory animals, and now their journey is accessible to young readers. This volume details their daunting travel in clear, engaging language complemented by easy-to-understand graphics and vibrant full-color photography. A map is also included to give readers a visual sense of the great lengths these hardy creatures endure to complete their truly massive migration.","English",22.6,16.95,"599.65'8--dc23","24 pp.",{"$f":"Table1[[#This Row],[QTY]]*Table1[[#This Row],['# Books]]","v":0},{"$f":"Table1[[#This Row],[QTY]]*Table1[[#This Row],[S&L Price]]","v":0}]
[null,null,130,"Massive Animal Migrations",1,"Journey of the Hummingbirds","Library Bound Book",null,"978-1-5382-1641-5",{"$f":"HYPERLINK(\"https://www.garethstevens.com/\"&Table1[[#This Row],[ISBN]],\"Weblink\")","v":"Weblink"},2019,"August 2018","Library","8.500 X 8.500","Author","AnneReneé Goyette","4.9","0.5",null,null,"N",null,"Grade 2 - 3","Grade 2 - 5","Not many readers know that hummingbirds double their weight as part of their preparation for yearly migration. That's just one of many incredible facts about their epic travels. Hummingbirds' fascinating journey between Mexico and the southern coastal United States can be thousands of miles long, and yet they weigh about the same as a penny. Through age-appropriate language accompanied by colorful graphics and full-color photographs, young audiences get an inside scoop into this massive migration. A map is also included to show the scope of the hummingbirds' mind-boggling trip.","English",22.6,16.95,"598.7'64--dc23","24 pp.",{"$f":"Table1[[#This Row],[QTY]]*Table1[[#This Row],['# Books]]","v":0},{"$f":"Table1[[#This Row],[QTY]]*Table1[[#This Row],[S&L Price]]","v":0}]
[null,null,130,"Massive Animal Migrations",1,"Journey of the Hummingbirds","eBook",null,"978-1-5382-1640-8",{"$f":"HYPERLINK(\"https://www.garethstevens.com/\"&Table1[[#This Row],[ISBN]],\"Weblink\")","v":"Weblink"},2019,"August 2018",null,null,"Author","AnneReneé Goyette","4.9","0.5",null,null,"N",null,"Grade 2 - 3","Grade 2 - 5","Not many readers know that hummingbirds double their weight as part of their preparation for yearly migration. That's just one of many incredible facts about their epic travels. Hummingbirds' fascinating journey between Mexico and the southern coastal United States can be thousands of miles long, and yet they weigh about the same as a penny. Through age-appropriate language accompanied by colorful graphics and full-color photographs, young audiences get an inside scoop into this massive migration. A map is also included to show the scope of the hummingbirds' mind-boggling trip.","English",22.6,16.95,"598.7'64--dc23","24 pp.",{"$f":"Table1[[#This Row],[QTY]]*Table1[[#This Row],['# Books]]","v":0},{"$f":"Table1[[#This Row],[QTY]]*Table1[[#This Row],[S&L Price]]","v":0}]
[null,null,131,"Animals Are Wild!",1,"Amazing Sharks","eBook",null,"978-1-4824-5191-7",{"$f":"HYPERLINK(\"https://www.garethstevens.com/\"&Table1[[#This Row],[ISBN]],\"Weblink\")","v":"Weblink"},2017,"August 2016",null,null,"Author","Steve Parker","6.8","1",null,null,"N","1140L","Grade 3 - 4","Grade 3 - 5","The great white shark is the biggest predatory fish on Earth. Its formidable teeth and ability to swim up to 37 miles (60 km) per hour make it a deadly enemy. Readers can check out the great white shark up close, as well as 19 other amazing species of shark. Full-color photographs introduce readers to the teeth, fins, and other body adaptations that make sharks some of the coolest animals out there. Fact boxes detail each shark’s behaviors, including hunting practices, and statistics telling their lifespan, size, and range.","English",31.95,23.95,"597.3--dc23","40 pp.",{"$f":"Table1[[#This Row],[QTY]]*Table1[[#This Row],['# Books]]","v":0},{"$f":"Table1[[#This Row],[QTY]]*Table1[[#This Row],[S&L Price]]","v":0}]
[null,null,131,"Animals Are Wild!",1,"Fierce Predators","Library Bound Book",null,"978-1-4824-5008-8",{"$f":"HYPERLINK(\"https://www.garethstevens.com/\"&Table1[[#This Row],[ISBN]],\"Weblink\")","v":"Weblink"},2017,"August 2016","Library","8.500 X 11.00","Author","Steve Parker","7.1","1",null,null,"N","1190L","Grade 3 - 4","Grade 3 - 5","Seeing a wolf stalking its prey would be almost impossible to witness up close. It wouldn’t be safe to be so near such a deadly predator’s jaws when it’s on the hunt! But in this book, readers can see wolves, owls, and many more terrifying predators do what they do best—capture prey. Up-close, full-color photographs highlight the sharp teeth, long claws, and huge paws of some of the world’s deadliest animals. Fact boxes include fascinating information about animal bodies and behavior and statistics about each animal’s size, range, and lifespan.","English",31.95,23.95,"591.5’3--dc23","40 pp.",{"$f":"Table1[[#This Row],[QTY]]*Table1[[#This Row],['# Books]]","v":0},{"$f":"Table1[[#This Row],[QTY]]*Table1[[#This Row],[S&L Price]]","v":0}]
[null,null,131,"Animals Are Wild!",1,"Weird Animals","eBook",null,"978-1-4824-5001-9",{"$f":"HYPERLINK(\"https://www.garethstevens.com/\"&Table1[[#This Row],[ISBN]],\"Weblink\")","v":"Weblink"},2017,"August 2016",null,null,"Author","Steve Parker","6.9","1",null,null,"N","1170L","Grade 3 - 4","Grade 3 - 5","What could a male Jackson’s chameleon need three horns for besides fighting? Actually, this odd-looking animal has horns to scare predators and attract females more than defense! Some animals’ bodies can lead readers to question the purpose of their weird features. This book has the answers they’re looking for! From how the echidna uses its spines to keep predators away to how the hornbill uses its large beak, the main content features some of nature’s most interesting bodies. Colorful, up-close photographs and concise fact boxes introduce readers to many kinds of animal habitats, behaviors, and life cycles.","English",31.95,23.95,"591--dc23","40 pp.",{"$f":"Table1[[#This Row],[QTY]]*Table1[[#This Row],['# Books]]","v":0},{"$f":"Table1[[#This Row],[QTY]]*Table1[[#This Row],[S&L Price]]","v":0}]
[null,null,131,"Ultimate Animal Defenses",6,"Ultimate Animal Defenses","Library Set",null,"978-1-4824-4439-1",{"$f":"HYPERLINK(\"https://www.garethstevens.com/\"&Table1[[#This Row],[ISBN]],\"Weblink\")","v":"Weblink"},2017,"August 2016","Library","8.500 X 8.500",null,null,null,null,null,null,null,null,"Grade 2 - 3","Grade 2 - 5","Without defensive adaptations, many species of animals would never survive in the wild. Prowling predators and harsh habitats would undoubtedly make them the next victims on the food chain. However, nature has provided these creatures with some formidable defense mechanisms, such as camouflage, quills, talons, and speed. These adaptations and other tricks can level the playing field. Readers will be delighted to not only learn about remarkable animals and their astounding defenses but also to see these creatures in action in stunning photographs.","English",135.6,101.7,null,"24 pp.",{"$f":"Table1[[#This Row],[QTY]]*Table1[[#This Row],['# Books]]","v":0},{"$f":"Table1[[#This Row],[QTY]]*Table1[[#This Row],[S&L Price]]","v":0}]
[null,null,131,"Ultimate Animal Defenses",1,"Deadly Animal Poisons","eBook",null,"978-1-4824-4404-9",{"$f":"HYPERLINK(\"https://www.garethstevens.com/\"&Table1[[#This Row],[ISBN]],\"Weblink\")","v":"Weblink"},2017,"August 2016",null,null,"Author","Madeleine Fortescue","4.9","0.5",null,null,"N","900L","Grade 2 - 3","Grade 2 - 5","Many animal species have developed a deadly adaptation to thwart their predators: poison! Some infamous spiders and snakes are feared, and rightly so, for their toxic defenses. However, many other animals are just as deadly. In this fascinating volume, readers will find out the difference between poison and venom. They’ll learn about several creatures and the toxins they use to survive in the wild, such as the pufferfish, the poison dart frog, the cone snail, and the blue-ringed octopus. Beautiful color photographs, a graphic organizer, and fact boxes with stunning information augment this exciting volume.","English",22.6,16.95,"591.6'5--dc23","24 pp.",{"$f":"Table1[[#This Row],[QTY]]*Table1[[#This Row],['# Books]]","v":0},{"$f":"Table1[[#This Row],[QTY]]*Table1[[#This Row],[S&L Price]]","v":0}]
[null,null,131,"Ultimate Animal Defenses",1,"Super Skin: Spines, Quills, and Plates","Library Bound Book",null,"978-1-4824-4425-4",{"$f":"HYPERLINK(\"https://www.garethstevens.com/\"&Table1[[#This Row],[ISBN]],\"Weblink\")","v":"Weblink"},2017,"August 2016","Library","8.500 X 8.500","Author","Madeleine Fortescue","4.6","0.5",null,null,"N",null,"Grade 2 - 3","Grade 2 - 5","Some species of porcupines have 30,000 quills. Sea horses have bony plates to make them less appetizing, and a sea urchin’s spines may be 1 foot (30 cm) long and venomous. These animals are definitely equipped to survive in their native habitats, much to the disappointment of their predators! In this lively volume, young zoologists will learn about various types of body coverings that help creatures, such as the echidna and the pangolin, stay alive. Photographs of animals in action and a graphic organizer further reinforce the importance of adaptations in the wild.","English",22.6,16.95,"591.47'7--dc23","24 pp.",{"$f":"Table1[[#This Row],[QTY]]*Table1[[#This Row],['# Books]]","v":0},{"$f":"Table1[[#This Row],[QTY]]*Table1[[#This Row],[S&L Price]]","v":0}]
[null,null,132,"Odd Adaptations",1,"Why Do Fungi Feed on Dead Plants?: And Other Odd Fungi Adaptations","Library Bound Book",null,"978-1-5382-2019-1",{"$f":"HYPERLINK(\"https://www.garethstevens.com/\"&Table1[[#This Row],[ISBN]],\"Weblink\")","v":"Weblink"},2019,"August 2018","Library","8.500 X 11.00","Author","Janey Levy","6","0.5",null,null,"P",null,"Grade 3 - 4","Grade 3 - 6","Fungi seem mysterious, they're not animals and they're not plants. Some aren't even visible to the human eye. Yet, they're constantly at work breaking down dead organisms. Our world would be cluttered without them. This beneficial book sheds much-needed light on the fungi kingdom, explaining what a fungus is as well as some the weirdest adaptations that have made it a successful survivor in the natural world. Graphic organizers summarize essential points, while vivid photographs display how bright and beautiful these organisms can be.","English",26.6,19.95,"579.5--dc23","32 pp.",{"$f":"Table1[[#This Row],[QTY]]*Table1[[#This Row],['# Books]]","v":0},{"$f":"Table1[[#This Row],[QTY]]*Table1[[#This Row],[S&L Price]]","v":0}]
[null,null,132,"Odd Adaptations",1,"Why Do Fungi Feed on Dead Plants?: And Other Odd Fungi Adaptations","eBook",null,"978-1-5382-2020-7",{"$f":"HYPERLINK(\"https://www.garethstevens.com/\"&Table1[[#This Row],[ISBN]],\"Weblink\")","v":"Weblink"},2019,"August 2018",null,null,"Author","Janey Levy","6","0.5",null,null,"P",null,"Grade 3 - 4","Grade 3 - 6","Fungi seem mysterious, they're not animals and they're not plants. Some aren't even visible to the human eye. Yet, they're constantly at work breaking down dead organisms. Our world would be cluttered without them. This beneficial book sheds much-needed light on the fungi kingdom, explaining what a fungus is as well as some the weirdest adaptations that have made it a successful survivor in the natural world. Graphic organizers summarize essential points, while vivid photographs display how bright and beautiful these organisms can be.","English",26.6,19.95,"579.5--dc23","32 pp.",{"$f":"Table1[[#This Row],[QTY]]*Table1[[#This Row],['# Books]]","v":0},{"$f":"Table1[[#This Row],[QTY]]*Table1[[#This Row],[S&L Price]]","v":0}]
[null,null,132,"Odd Adaptations",1,"Why Do Some Moths Mimic Wasps?: And Other Odd Insect Adaptations","Library Bound Book",null,"978-1-5382-2027-6",{"$f":"HYPERLINK(\"https://www.garethstevens.com/\"&Table1[[#This Row],[ISBN]],\"Weblink\")","v":"Weblink"},2019,"August 2018","Library","8.500 X 11.00","Author","Kate Light","5.2","0.5",null,null,"P",null,"Grade 3 - 4","Grade 3 - 6","Mimicry is an awesome, and sometimes slightly weird, adaptation that many animals have developed. In many instances, it's a lifesaver, encouraging possible predators to stay away. That's the case with some kinds of harmless moths. They really look like stinging insects such as wasps and hornets, and sometimes even sound like them, which is effective for scaring away enemies like birds. Young entomologists will learn so much more about the amazing world of insects in the intriguing text and photographs in this valuable volume, a wonderful addition to any science collection.","English",26.6,19.95,"595.714--dc23","32 pp.",{"$f":"Table1[[#This Row],[QTY]]*Table1[[#This Row],['# Books]]","v":0},{"$f":"Table1[[#This Row],[QTY]]*Table1[[#This Row],[S&L Price]]","v":0}]
[null,null,132,"Odd Adaptations",1,"Why Don’t Jellyfish Have Brains?: And Other Odd Invertebrate Adaptations","eBook",null,"978-1-5382-2040-5",{"$f":"HYPERLINK(\"https://www.garethstevens.com/\"&Table1[[#This Row],[ISBN]],\"Weblink\")","v":"Weblink"},2019,"August 2018",null,null,"Author","Caitie McAneney","5.5","0.5",null,null,"P",null,"Grade 3 - 4","Grade 3 - 6","Jellyfish are some of the creepiest creatures out there. They're about 95 percent water and basically evaporate when they wash up on a beach, and, they don't have brains! This absorbing book details how these animals survive without this important organ and other weird facts about the invertebrate world. Even more fascinating than the freaky facts are the eye-catching images that illustrate each crucial concept. Sidebars and graphic organizers present more valuable information.","English",26.6,19.95,"593.5/3--dc23","32 pp.",{"$f":"Table1[[#This Row],[QTY]]*Table1[[#This Row],['# Books]]","v":0},{"$f":"Table1[[#This Row],[QTY]]*Table1[[#This Row],[S&L Price]]","v":0}]
[null,null,132,"Odd Adaptations",1,"Why Do Mudskippers Walk?: And Other Curious Fish Adaptations","Library Bound Book",null,"978-1-5382-0395-8",{"$f":"HYPERLINK(\"https://www.garethstevens.com/\"&Table1[[#This Row],[ISBN]],\"Weblink\")","v":"Weblink"},2018,"August 2017","Library","8.500 X 11.00","Author","Patricia Fletcher","5.3","0.5",null,null,"P",null,"Grade 3 - 4","Grade 3 - 6","Fish are some of the weirdest animals on Earth. Some can walk as well as swim. Others have body parts that have helped them adapt to the deepest, darkest parts of the ocean. And then there are the many amazing kinds of sharks! This book contains the most bizarre adaptations fish can have—and includes up-close, full-color photographs for readers to ogle. This framework provides a way fun way to introduce why and how adaptations happen, as well as other science curriculum topics such as ecosystems and predator-prey relationships.","English",26.6,19.95,"597.14--dc23","32 pp.",{"$f":"Table1[[#This Row],[QTY]]*Table1[[#This Row],['# Books]]","v":0},{"$f":"Table1[[#This Row],[QTY]]*Table1[[#This Row],[S&L Price]]","v":0}]
[null,null,132,"Odd Adaptations",1,"Why Do People Have Chins?: And Other Curious Human Adaptations","eBook",null,"978-1-5382-0400-9",{"$f":"HYPERLINK(\"https://www.garethstevens.com/\"&Table1[[#This Row],[ISBN]],\"Weblink\")","v":"Weblink"},2018,"August 2017",null,null,"Author","Patricia Fletcher","5.7","0.5",null,null,"P",null,"Grade 3 - 4","Grade 3 - 6","The appendix seems useless. Most people’s baby toes are so small, they seem unimportant. There are so many odd parts of the human body, each page of this volume is able to reveal fascinating adaptations of the body readers didn’t even know they wanted to know! Including up-to-date scientific findings explained in understandable and age-appropriate language, the main content satisfies readers’ curiosity as well as parts of the science curriculum. Full-color photographs, diagrams, and supplementary sidebars help readers understand human body systems, evolution, and even why people have chins!","English",26.6,19.95,"612--dc23","32 pp.",{"$f":"Table1[[#This Row],[QTY]]*Table1[[#This Row],['# Books]]","v":0},{"$f":"Table1[[#This Row],[QTY]]*Table1[[#This Row],[S&L Price]]","v":0}]
[null,null,132,"Odd Adaptations",1,"Why Do Platypuses Lay Eggs?: And Other Curious Mammal Adaptations","eBook",null,"978-1-5382-0404-7",{"$f":"HYPERLINK(\"https://www.garethstevens.com/\"&Table1[[#This Row],[ISBN]],\"Weblink\")","v":"Weblink"},2018,"August 2017",null,null,"Author","Patricia Fletcher","5.5","0.5",null,null,"P",null,"Grade 3 - 4","Grade 3 - 6","The dictionary definition of a mammal says that mammals give birth to live young, but that’s not always true. Echidnas and platypuses, while still technically mammals, lay eggs. Why they do so is one of the strangest adaptations of mammals on Earth. Readers explore this and many other incredible and bizarre adaptations of all kinds of mammals, including the purpose of milk teeth and the hairy truth about camouflage and the coats of many animals. Full-color photographs showcase each adaptation for curious readers as they absorb information about life cycles, predator-prey relationships, and more from the main content.","English",26.6,19.95,"599.2’9--dc23","32 pp.",{"$f":"Table1[[#This Row],[QTY]]*Table1[[#This Row],['# Books]]","v":0},{"$f":"Table1[[#This Row],[QTY]]*Table1[[#This Row],[S&L Price]]","v":0}]
[null,null,133,"Space Mysteries",1,"Could We Live on Other Planets?","eBook",null,"978-1-4339-9216-2",{"$f":"HYPERLINK(\"https://www.garethstevens.com/\"&Table1[[#This Row],[ISBN]],\"Weblink\")","v":"Weblink"},2014,"August 2013",null,null,"Author","Michael Portman",null,null,30,22,"N","900L","Grade 2 - 3","Grade 2 - 5","The Kepler space telescope searches for planets outside of our solar system. So far, it's found more than 100. Scientists have tried to find out whether any of these planets could be habitable, a possible second home for us. Readers of this fascinating topic will find out what we'd need to live on another planet. They'll learn the latest theories about creating another Earthlike world. Imaginative images will help them picture themselves as one of the first settlers of a new home planet.","English",27.6,20.7,"523.4","32 pp.",{"$f":"Table1[[#This Row],[QTY]]*Table1[[#This Row],['# Books]]","v":0},{"$f":"Table1[[#This Row],[QTY]]*Table1[[#This Row],[S&L Price]]","v":0}]
[null,null,133,"Space Mysteries",1,"How Long Will the Sun Last?","Library Bound Book",null,"978-1-4339-9223-0",{"$f":"HYPERLINK(\"https://www.garethstevens.com/\"&Table1[[#This Row],[ISBN]],\"Weblink\")","v":"Weblink"},2014,"August 2013","Library","8.500 X 8.500","Author","Michael Sabatino",null,null,30,22,"N","960L","Grade 2 - 3","Grade 2 - 5","Our sun is our constant companion, giving us a seemingly endless supply of light, heat, and energy. But it will have an end. Like all stars, the sun had a beginning, and it will die, too. This book details how this will happen and the likely effects the sun's end will have on Earth. Readers learn how gravity and nuclear fusion work together in the birth and death of stars. This captivating glimpse into the far, far future will awe enthusiasts of astronomy.","English",27.6,20.7,"523.7","32 pp.",{"$f":"Table1[[#This Row],[QTY]]*Table1[[#This Row],['# Books]]","v":0},{"$f":"Table1[[#This Row],[QTY]]*Table1[[#This Row],[S&L Price]]","v":0}]
[null,null,133,"Space Mysteries",1,"How Long Will the Sun Last?","eBook",null,"978-1-4339-9226-1",{"$f":"HYPERLINK(\"https://www.garethstevens.com/\"&Table1[[#This Row],[ISBN]],\"Weblink\")","v":"Weblink"},2014,"August 2013",null,null,"Author","Michael Sabatino",null,null,30,22,"N","960L","Grade 2 - 3","Grade 2 - 5","Our sun is our constant companion, giving us a seemingly endless supply of light, heat, and energy. But it will have an end. Like all stars, the sun had a beginning, and it will die, too. This book details how this will happen and the likely effects the sun's end will have on Earth. Readers learn how gravity and nuclear fusion work together in the birth and death of stars. This captivating glimpse into the far, far future will awe enthusiasts of astronomy.","English",27.6,20.7,"523.7","32 pp.",{"$f":"Table1[[#This Row],[QTY]]*Table1[[#This Row],['# Books]]","v":0},{"$f":"Table1[[#This Row],[QTY]]*Table1[[#This Row],[S&L Price]]","v":0}]
[null,null,133,"Space Mysteries",1,"What Is an Eclipse?","Library Bound Book",null,"978-1-4339-9233-9",{"$f":"HYPERLINK(\"https://www.garethstevens.com/\"&Table1[[#This Row],[ISBN]],\"Weblink\")","v":"Weblink"},2014,"August 2013","Library","8.500 X 8.500","Author","Michael Portman",null,null,30,22,"N","860L","Grade 2 - 3","Grade 2 - 5","When a solar or lunar eclipse is approaching, people excitedly prepare to watch the enthralling events. They're just small reminders that other celestial bodies are out there. In this book, readers will learn with the help of diagrams and key science vocabulary how eclipses happen, when they can expect them, and the differences between partial and full eclipses. Fun facts sprinkled throughout the text will encourage stargazers to mark their calendars for the next eclipse.","English",27.6,20.7,"523.7","32 pp.",{"$f":"Table1[[#This Row],[QTY]]*Table1[[#This Row],['# Books]]","v":0},{"$f":"Table1[[#This Row],[QTY]]*Table1[[#This Row],[S&L Price]]","v":0}]
[null,null,133,"Space Mysteries",1,"Why Do Astronauts Wear Spacesuits?","Interactive eBook","HTML5","978-1-4339-9242-1",{"$f":"HYPERLINK(\"https://www.garethstevens.com/\"&Table1[[#This Row],[ISBN]],\"Weblink\")","v":"Weblink"},"2014","August 2013",null,null,"Author","Michael Portman",null,null,"30","22","N","920L","Grade 2 - 3","Grade 2 - 5","The image of Neil Armstrong stepping onto the moon in his spacesuit is a familiar one to most people. Few stop to think what an amazing invention the spacesuit is. Without it and similar ones of today, astronauts couldn't have accomplished the breathtaking feats they have. This book explores the many features of spacesuits, no ordinary uniforms. Photographs of astronauts performing spacewalks and other remarkable achievements show off the spacesuit in action.","English",33.25,24.95,"629.45","32 pp.",{"$f":"Table1[[#This Row],[QTY]]*Table1[[#This Row],['# Books]]","v":0},{"$f":"Table1[[#This Row],[QTY]]*Table1[[#This Row],[S&L Price]]","v":0}]
[null,null,133,"Space Mysteries",1,"Are UFOs Real?","Library Bound Book",null,"978-1-4339-8262-0",{"$f":"HYPERLINK(\"https://www.garethstevens.com/\"&Table1[[#This Row],[ISBN]],\"Weblink\")","v":"Weblink"},2013,"January 2013","Library","8.500 X 8.500","Author","Michael Portman",null,"0",30,22,"N","850L","Grade 2 - 3","Grade 2 - 5","Though some people consider UFOs to be purely science fiction, others keep an open mind. Alien visitations, government conspiracies, and optical illusions are just three of the possible explanations for UFOs. Readers of this book will decide which side they are on. They can examine UFO photographs, learn more about famous sightings, and create their own theories. ","English",27.6,20.7,"001.942","32 pp.",{"$f":"Table1[[#This Row],[QTY]]*Table1[[#This Row],['# Books]]","v":0},{"$f":"Table1[[#This Row],[QTY]]*Table1[[#This Row],[S&L Price]]","v":0}]
[null,null,133,"Space Mysteries",1,"Are UFOs Real?","eBook",null,"978-1-4339-8265-1",{"$f":"HYPERLINK(\"https://www.garethstevens.com/\"&Table1[[#This Row],[ISBN]],\"Weblink\")","v":"Weblink"},2013,"January 2013",null,null,"Author","Michael Portman",null,"0",30,22,"N","850L","Grade 2 - 3","Grade 2 - 5","Though some people consider UFOs to be purely science fiction, others keep an open mind. Alien visitations, government conspiracies, and optical illusions are just three of the possible explanations for UFOs. Readers of this book will decide which side they are on. They can examine UFO photographs, learn more about famous sightings, and create their own theories. ","English",27.6,20.7,"001.942","32 pp.",{"$f":"Table1[[#This Row],[QTY]]*Table1[[#This Row],['# Books]]","v":0},{"$f":"Table1[[#This Row],[QTY]]*Table1[[#This Row],[S&L Price]]","v":0}]
[null,null,133,"Space Mysteries",1,"Is There Life on Mars?","Library Bound Book",null,"978-1-4339-8272-9",{"$f":"HYPERLINK(\"https://www.garethstevens.com/\"&Table1[[#This Row],[ISBN]],\"Weblink\")","v":"Weblink"},2013,"January 2013","Library","8.500 X 8.500","Author","Michael Portman",null,"0",30,22,"N","830L","Grade 2 - 3","Grade 2 - 5","Advancements in space exploration over the years have shown us that Mars does not have alien beings living on its surface, as it does in movies and books. Mars is on the edge of the solar system's habitable zone. It has water, one of the necessary conditions for life as we know it, though only in the form of ice. Scientists believe that Mars had liquid water in the past and so they continue to look for signs of life. Readers will find out what life on Mars would be like, see vivid photographs, and learn the details of upcoming NASA missions.","English",27.6,20.7,"523.43","32 pp.",{"$f":"Table1[[#This Row],[QTY]]*Table1[[#This Row],['# Books]]","v":0},{"$f":"Table1[[#This Row],[QTY]]*Table1[[#This Row],[S&L Price]]","v":0}]
[null,null,133,"Space Mysteries",1,"Where Did the Moon Come From?","Interactive eBook","HTML5","978-1-4339-8281-1",{"$f":"HYPERLINK(\"https://www.garethstevens.com/\"&Table1[[#This Row],[ISBN]],\"Weblink\")","v":"Weblink"},"2013","January 2013",null,null,"Author","Michael Portman",null,"0","30","22","N","780L","Grade 2 - 3","Grade 2 - 5","We see the moon waxing and waning every month, and we know it controls the tides. However, we rarely wonder how it got there in the first place and why it continues to accompany Earth around the sun. Readers will learn some fascinating theories about the moon's origin and decide for themselves if they agree with the current accepted explanation.","English",33.25,24.95,"523.3","32 pp.",{"$f":"Table1[[#This Row],[QTY]]*Table1[[#This Row],['# Books]]","v":0},{"$f":"Table1[[#This Row],[QTY]]*Table1[[#This Row],[S&L Price]]","v":0}]
[null,null,133,"Space Mysteries",1,"How Big Is the Universe?","eBook",null,"978-1-5382-1948-5",{"$f":"HYPERLINK(\"https://www.garethstevens.com/\"&Table1[[#This Row],[ISBN]],\"Weblink\")","v":"Weblink"},2019,"August 2018",null,null,"Author","Matt Jankowski","5.1","0.5",30,null,"N",null,"Grade 2 - 3","Grade 2 - 5","Questions about the universe are as popular as they are daunting to answer. Let this book help satiate young readers curiosity about outer space and the universe by answering this important question. Each page is written with accessible, age-appropriate language and paired with visual aids, including tons of photography from NASA. Fact boxes with \"Out of this World!\" tidbits add interest throughout the work, while graphic organizers enhance engagement and comprehension. This book will be right at home in any library or classroom.","English",26.6,19.95,"520--dc23","32 pp.",{"$f":"Table1[[#This Row],[QTY]]*Table1[[#This Row],['# Books]]","v":0},{"$f":"Table1[[#This Row],[QTY]]*Table1[[#This Row],[S&L Price]]","v":0}]
[null,null,133,"Space Mysteries",1,"How Will People Travel to Mars?","Library Bound Book",null,"978-1-5382-1951-5",{"$f":"HYPERLINK(\"https://www.garethstevens.com/\"&Table1[[#This Row],[ISBN]],\"Weblink\")","v":"Weblink"},2019,"August 2018","Library","8.500 X 8.500","Author","Emily Mahoney","5.6","0.5",30,null,"N",null,"Grade 2 - 3","Grade 2 - 5","Advancements in space exploration over the years have shown us that Mars has water, one of the necessary conditions for life as we know it. Does that mean people will be able to travel to Mars soon? This book answers that common question through accessible, fun text written by an educator and vivid photography straight from NASA. Even the most reluctant reader will enjoy how easily this text walks through the current projects and past missions of Mars' history and future.","English",26.6,19.95,"523.43--dc23","32 pp.",{"$f":"Table1[[#This Row],[QTY]]*Table1[[#This Row],['# Books]]","v":0},{"$f":"Table1[[#This Row],[QTY]]*Table1[[#This Row],[S&L Price]]","v":0}]
[null,null,133,"Space Mysteries",1,"What Happens to Space Probes?","eBook",null,"978-1-5382-1960-7",{"$f":"HYPERLINK(\"https://www.garethstevens.com/\"&Table1[[#This Row],[ISBN]],\"Weblink\")","v":"Weblink"},2019,"August 2018",null,null,"Author","Todd Swatling","5.4","0.5",30,null,"N",null,"Grade 2 - 3","Grade 2 - 5","We've come so far in space exploration in just the past 10 years. Young readers know that NASA sends spacecrafts to space regularly. They may even hear in the news about the incredible photographs and information they send back. But do they know how they work once they're released into space? This book makes STEAM studies exciting for even the most reluctant reader by framing science curriculum topics within the awesome field of astronomy, and by using easy-to-understand language and bold graphics.","English",26.6,19.95,"629.43/54--dc23","32 pp.",{"$f":"Table1[[#This Row],[QTY]]*Table1[[#This Row],['# Books]]","v":0},{"$f":"Table1[[#This Row],[QTY]]*Table1[[#This Row],[S&L Price]]","v":0}]
[null,null,133,"Space Mysteries",1,"What Is Space Junk?","eBook",null,"978-1-5382-1968-3",{"$f":"HYPERLINK(\"https://www.garethstevens.com/\"&Table1[[#This Row],[ISBN]],\"Weblink\")","v":"Weblink"},2019,"August 2018",null,null,"Author","Todd Swatling","5.1","0.5",30,null,"N",null,"Grade 2 - 3","Grade 2 - 5","Every generation is filled with the wonder of what's out there beyond our planet, making space travel and exploration one of the most popular science topics of all time. But what happens to all that stuff we send up into outer space? Does it come back down to Earth or stay up there forever? This exciting, high-interest topic attracts even reluctant readers to read about STEAM topics. Fact boxes add extra information that's \"Out of this World!\" throughout the book. Each spread is complemented with vivid NASA photography.","English",26.6,19.95,"363.12/41--dc23","32 pp.",{"$f":"Table1[[#This Row],[QTY]]*Table1[[#This Row],['# Books]]","v":0},{"$f":"Table1[[#This Row],[QTY]]*Table1[[#This Row],[S&L Price]]","v":0}]
[null,null,134,"Where's the Water?",1,"Earth's Oceans","eBook",null,"978-1-4824-4677-7",{"$f":"HYPERLINK(\"https://www.garethstevens.com/\"&Table1[[#This Row],[ISBN]],\"Weblink\")","v":"Weblink"},2017,"August 2016",null,null,"Author","Peter Castellano","5.4","0.5",null,null,"L",null,"Grade 2 - 3","Grade 2 - 5","Many people know that about 70 percent of Earth’s surface is covered by water. But they may not know that the oceans hold nearly 97 percent of the water on Earth! From the Arctic to the Pacific, these huge bodies of water are important to the health of our planet. Readers learn the different boundaries and characteristics of each of Earth’s oceans, complemented by full-color photographs both above and below the surface. The main content and fun fact boxes include both the water cycle and geographic information and emphasize other science and social studies curriculum topics, such as conservation.","English",22.6,16.95,"551.46--dc23","24 pp.",{"$f":"Table1[[#This Row],[QTY]]*Table1[[#This Row],['# Books]]","v":0},{"$f":"Table1[[#This Row],[QTY]]*Table1[[#This Row],[S&L Price]]","v":0}]
[null,null,134,"Where's the Water?",1,"Precipitation","Library Bound Book",null,"978-1-4824-4686-9",{"$f":"HYPERLINK(\"https://www.garethstevens.com/\"&Table1[[#This Row],[ISBN]],\"Weblink\")","v":"Weblink"},2017,"August 2016","Library","8.500 X 8.500","Author","Caitie McAneney","4.4","0.5",null,null,"L","810L","Grade 2 - 3","Grade 2 - 5","Despite its ability to ruin a nice day at the park, precipitation is an essential part of the water cycle on Earth. Readers learn how different kinds of precipitation occur, including snow, rain, and hail. In addition, the consequences of too much and too little precipitation are explained, with a special emphasis on conservation and global climate change. Full-color photographs and graphic organizers help readers understand this important science concept as it relates to their lives and the whole of Earth.","English",22.6,16.95,"551.57’7 --dc23","24 pp.",{"$f":"Table1[[#This Row],[QTY]]*Table1[[#This Row],['# Books]]","v":0},{"$f":"Table1[[#This Row],[QTY]]*Table1[[#This Row],[S&L Price]]","v":0}]
[null,null,134,"Where's the Water?",1,"Water Conservation","eBook",null,"978-1-4824-4695-1",{"$f":"HYPERLINK(\"https://www.garethstevens.com/\"&Table1[[#This Row],[ISBN]],\"Weblink\")","v":"Weblink"},2017,"August 2016",null,null,"Author","Peter Castellano","5.1","0.5",null,null,"M",null,"Grade 2 - 3","Grade 2 - 5","Droughts, acid rain, and pollution are all problems found around the world. Learning about how to conserve and care for the precious water on Earth should be an important part of every person’s science background. This book introduces readers to the fundamental water issues in both first and third world countries. The main content encourages them to think both locally and globally, including real-life examples of conservation efforts complete with full-color photographs to show readers the reality of droughts and pollution. Fact boxes and a graphic organizer help readers understand important science and social studies concepts.","English",22.6,16.95,"333.91/16--dc23","24 pp.",{"$f":"Table1[[#This Row],[QTY]]*Table1[[#This Row],['# Books]]","v":0},{"$f":"Table1[[#This Row],[QTY]]*Table1[[#This Row],[S&L Price]]","v":0}]
[null,null,134,"From the Earth: How Resources Are Made",1,"How Coal Is Formed","eBook",null,"978-1-4824-4708-8",{"$f":"HYPERLINK(\"https://www.garethstevens.com/\"&Table1[[#This Row],[ISBN]],\"Weblink\")","v":"Weblink"},2017,"August 2016",null,null,"Author","Blair Belton","5.8","0.5",null,null,"P",null,"Grade 3 - 4","Grade 3 - 6","Coal is a natural resource millions of years in the making. Since over 40 percent of the world’s electricity comes from burning coal, it remains an important, though sometimes controversial, energy source. The processes that transform organic remains into coal, coal mines, and the carbon cycle are important topics covered in this valuable volume. Readers will learn about the pollution attributed to the burning of coal as well as about coal alternatives. Graphic organizers, instructive photographs, and thoughtful sidebars help present a well-balanced look at this relevant and timely subject.","English",26.6,19.95,"553.2/4--dc23","32 pp.",{"$f":"Table1[[#This Row],[QTY]]*Table1[[#This Row],['# Books]]","v":0},{"$f":"Table1[[#This Row],[QTY]]*Table1[[#This Row],[S&L Price]]","v":0}]
[null,null,134,"From the Earth: How Resources Are Made",1,"How Iron Ore Forms","Library Bound Book",null,"978-1-4824-4715-6",{"$f":"HYPERLINK(\"https://www.garethstevens.com/\"&Table1[[#This Row],[ISBN]],\"Weblink\")","v":"Weblink"},2017,"August 2016","Library","8.500 X 11.00","Author","Caroline Kennon","6","0.5",null,null,"O",null,"Grade 3 - 4","Grade 3 - 6","Without iron ore, we wouldn’t have steel, and without steel, we wouldn’t have the magnificent skyscrapers, bridges, and many other structures that demand building materials of considerable strength. In fact, about 98 percent of all mined iron ore is used in the production of steel. Future architects and engineers will discover how the mineral substance iron ore forms, where it’s found, and how it’s transformed through smelting into a useful industrial metal. Charts, diagrams, and photographs present more beneficial information, while sidebars help readers understand why iron ore is significant to their lives.","English",26.6,19.95,"553.3--dc23","32 pp.",{"$f":"Table1[[#This Row],[QTY]]*Table1[[#This Row],['# Books]]","v":0},{"$f":"Table1[[#This Row],[QTY]]*Table1[[#This Row],[S&L Price]]","v":0}]
[null,null,134,"From the Earth: How Resources Are Made",1,"How Natural Gas Is Formed","Library Bound Book",null,"978-1-4824-4718-7",{"$f":"HYPERLINK(\"https://www.garethstevens.com/\"&Table1[[#This Row],[ISBN]],\"Weblink\")","v":"Weblink"},2017,"August 2016","Library","8.500 X 11.00","Author","Ryan Nagelhout","6.3","0.5",null,null,"P",null,"Grade 3 - 4","Grade 3 - 6","Natural gas may heat our homes and help us cook, but rarely do people consider where it comes from—or even what it’s made of. Incredibly, this gaseous mix of mostly methane and ethane didn’t become a major source of the world’s energy until the 1960s. It was thought to be an inconsequential by-product of oil production. There’s much to learn about natural gas in this beneficial book, which focuses on how the gas is formed as well as examines how it’s mined and used today. The text highlights the most relevant and engrossing information, while graphic organizers help readers identify the most important concepts.","English",26.6,19.95,"553.2’85--dc23","32 pp.",{"$f":"Table1[[#This Row],[QTY]]*Table1[[#This Row],['# Books]]","v":0},{"$f":"Table1[[#This Row],[QTY]]*Table1[[#This Row],[S&L Price]]","v":0}]
[null,null,134,"From the Earth: How Resources Are Made",1,"How Precious Metals Form","eBook",null,"978-1-4824-4732-3",{"$f":"HYPERLINK(\"https://www.garethstevens.com/\"&Table1[[#This Row],[ISBN]],\"Weblink\")","v":"Weblink"},2017,"August 2016",null,null,"Author","Julia McDonnell","5.9","0.5",null,null,"P",null,"Grade 3 - 4","Grade 3 - 6","What makes a metal precious? It’s rare, and it’s useful. When a metal is both these things, like gold, it’s very precious—and expensive. This book takes readers underground where they’ll discover the processes and elements that shape precious metals. They’ll learn about the features of metals that make them desirable, such as luster, ductility, and reactivity, and how certain metals are utilized. While readers may know something about gold and silver, they’ll become acquainted with other important precious metals such as rhodium and palladium. Vivid photographs, helpful graphic organizers, and interesting sidebars make this crucial science topic engaging and accessible.","English",26.6,19.95,"622/.342--dc23","32 pp.",{"$f":"Table1[[#This Row],[QTY]]*Table1[[#This Row],['# Books]]","v":0},{"$f":"Table1[[#This Row],[QTY]]*Table1[[#This Row],[S&L Price]]","v":0}]
[null,null,135,"Science on Patrol",1,"In Space","eBook",null,"978-1-4824-5975-3",{"$f":"HYPERLINK(\"https://www.garethstevens.com/\"&Table1[[#This Row],[ISBN]],\"Weblink\")","v":"Weblink"},2017,"January 2017",null,null,"Author(s)","Richard Spilsbury, Louise Spilsbury","7.3","1",null,null,"T",null,"Grade 4 - 5","Grade 4 - 6","Perhaps no environment is more difficult to do research in than space! However, through amazing technology, scientists have found ways to not just study space, but also Earth from space. The main content in this book covers the solar system and other planets, Earth’s atmosphere, life on the International Space Station, and even more STEM curriculum content. Readers are introduced to the many careers in space science, including details on what astronauts actually do. Incredible full-color photographs illustrate the awesome discoveries scientists have made in space and the latest tools expected to make more discoveries in the future.","English",31.95,23.95,"629.4--dc23","48 pp.",{"$f":"Table1[[#This Row],[QTY]]*Table1[[#This Row],['# Books]]","v":0},{"$f":"Table1[[#This Row],[QTY]]*Table1[[#This Row],[S&L Price]]","v":0}]
[null,null,135,"Science on Patrol",1,"Under the Ground","Library Bound Book",null,"978-1-4824-5986-9",{"$f":"HYPERLINK(\"https://www.garethstevens.com/\"&Table1[[#This Row],[ISBN]],\"Weblink\")","v":"Weblink"},2017,"January 2017","Library","7.250 X 9.250","Author(s)","Louise Spilsbury, Richard Spilsbury","7.3","1",null,null,"T",null,"Grade 4 - 5","Grade 4 - 6","There’s only so far people can go underground. Eventually, heat and pressure become too much, and scientists have to rely on technology to record information for them. Readers learn all about the latest science being done underground, including research on fossils and fossil fuels, volcanoes, soil, and more. From geology to seismology, several different kinds of science are discussed, emphasizing many exciting STEM careers readers might strive for. Full-color photographs show scientists hard at work and explore some of the coolest new technology for mining, fossil digs, and cave research.","English",31.95,23.95,"550--dc23","48 pp.",{"$f":"Table1[[#This Row],[QTY]]*Table1[[#This Row],['# Books]]","v":0},{"$f":"Table1[[#This Row],[QTY]]*Table1[[#This Row],[S&L Price]]","v":0}]
[null,null,135,"Science on Patrol",1,"Under the Ground","eBook",null,"978-1-4824-5987-6",{"$f":"HYPERLINK(\"https://www.garethstevens.com/\"&Table1[[#This Row],[ISBN]],\"Weblink\")","v":"Weblink"},2017,"January 2017",null,null,"Author(s)","Louise Spilsbury, Richard Spilsbury","7.3","1",null,null,"T",null,"Grade 4 - 5","Grade 4 - 6","There’s only so far people can go underground. Eventually, heat and pressure become too much, and scientists have to rely on technology to record information for them. Readers learn all about the latest science being done underground, including research on fossils and fossil fuels, volcanoes, soil, and more. From geology to seismology, several different kinds of science are discussed, emphasizing many exciting STEM careers readers might strive for. Full-color photographs show scientists hard at work and explore some of the coolest new technology for mining, fossil digs, and cave research.","English",31.95,23.95,"550--dc23","48 pp.",{"$f":"Table1[[#This Row],[QTY]]*Table1[[#This Row],['# Books]]","v":0},{"$f":"Table1[[#This Row],[QTY]]*Table1[[#This Row],[S&L Price]]","v":0}]
[null,null,135,"Earth Under Attack!",1,"Earthquake Shatters Country","eBook",null,"978-1-5382-1302-5",{"$f":"HYPERLINK(\"https://www.garethstevens.com/\"&Table1[[#This Row],[ISBN]],\"Weblink\")","v":"Weblink"},2018,"January 2018",null,null,"Author(s)","Louise Spilsbury, Richard Spilsbury","7.3","1",null,null,"T","1120L","Grade 5","Grade 4 - 8","In many parts of the world, earthquakes are a fact of life. From slight tremors to destructive quakes measuring above 5.5 on the Richter scale, earthquakes all start the same way. Readers explore the causes and effects of earthquakes throughout this book, studying recent major earthquakes that have happened around the world along the way. Presented in an exciting news magazine style complete with splashy headlines and eyewitness accounts of devastating quakes, the main content and statistics boxes complement STEM curriculums through detailed earth science information and discussion of the technology used before, during, and after earthquakes.","English",31.95,23.95,"551.22--dc23","48 pp.",{"$f":"Table1[[#This Row],[QTY]]*Table1[[#This Row],['# Books]]","v":0},{"$f":"Table1[[#This Row],[QTY]]*Table1[[#This Row],[S&L Price]]","v":0}]
[null,null,135,"Earth Under Attack!",1,"Hurricane Hits the Coast","Library Bound Book",null,"978-1-5382-1309-4",{"$f":"HYPERLINK(\"https://www.garethstevens.com/\"&Table1[[#This Row],[ISBN]],\"Weblink\")","v":"Weblink"},2018,"January 2018","Library","7.250 X 9.250","Author(s)","Louise Spilsbury, Richard Spilsbury","6.9","1",null,null,"T","1100L","Grade 5","Grade 4 - 8","The Atlantic coast of the United States faces high winds, torrential rain, and more during hurricane season from about August to October. When these huge storms hit land, the streets may flood and buildings can be completely leveled. Seeing devastation like that on the news can leave readers with a lot of questions. This book introduces readers to how hurricanes form, why they can be so strong, and what communities do to prepare for them. Stories of recent hurricanes make these huge storms seem more real to readers and help them understand the consequences of natural disasters.","English",31.95,23.95,"551.55'2--dc23","48 pp.",{"$f":"Table1[[#This Row],[QTY]]*Table1[[#This Row],['# Books]]","v":0},{"$f":"Table1[[#This Row],[QTY]]*Table1[[#This Row],[S&L Price]]","v":0}]
[null,null,135,"Earth Under Attack!",1,"Volcano Melts Village","Library Bound Book",null,"978-1-5382-1321-6",{"$f":"HYPERLINK(\"https://www.garethstevens.com/\"&Table1[[#This Row],[ISBN]],\"Weblink\")","v":"Weblink"},2018,"January 2018","Library","7.250 X 9.250","Author(s)","Louise Spilsbury, Richard Spilsbury","6.8","1",null,null,"T","1050L","Grade 5","Grade 4 - 8","In 1999, about 15,000 people who lived within the range of the Tungurahua volcano in Ecuador were evacuated. They weren't allowed to return home for a year. Since then, the volcanic activity there has been dangerous enough to cause more evacuations, including in 2010 and 2016. Tungurahua is just one recent volcanic eruption included in this book, used as an example of the devastation this natural disaster can cause. The main content, presented in an exciting news magazine style, offers readers a thorough look at how volcanoes form, how scientists use technology to predict eruptions, and terrifying statistics showing volcanoes' aftermath.","English",31.95,23.95,"551.21--dc23","48 pp.",{"$f":"Table1[[#This Row],[QTY]]*Table1[[#This Row],['# Books]]","v":0},{"$f":"Table1[[#This Row],[QTY]]*Table1[[#This Row],[S&L Price]]","v":0}]
[null,null,135,"Earth Under Attack!",1,"Volcano Melts Village","eBook",null,"978-1-5382-1322-3",{"$f":"HYPERLINK(\"https://www.garethstevens.com/\"&Table1[[#This Row],[ISBN]],\"Weblink\")","v":"Weblink"},2018,"January 2018",null,null,"Author(s)","Louise Spilsbury, Richard Spilsbury","6.8","1",null,null,"T","1050L","Grade 5","Grade 4 - 8","In 1999, about 15,000 people who lived within the range of the Tungurahua volcano in Ecuador were evacuated. They weren't allowed to return home for a year. Since then, the volcanic activity there has been dangerous enough to cause more evacuations, including in 2010 and 2016. Tungurahua is just one recent volcanic eruption included in this book, used as an example of the devastation this natural disaster can cause. The main content, presented in an exciting news magazine style, offers readers a thorough look at how volcanoes form, how scientists use technology to predict eruptions, and terrifying statistics showing volcanoes' aftermath.","English",31.95,23.95,"551.21--dc23","48 pp.",{"$f":"Table1[[#This Row],[QTY]]*Table1[[#This Row],['# Books]]","v":0},{"$f":"Table1[[#This Row],[QTY]]*Table1[[#This Row],[S&L Price]]","v":0}]
[null,null,136,"Unnatural Disasters",1,"Hazardous Trash","eBook",null,"978-1-5382-0439-9",{"$f":"HYPERLINK(\"https://www.garethstevens.com/\"&Table1[[#This Row],[ISBN]],\"Weblink\")","v":"Weblink"},2018,"August 2017",null,null,"Author","Melissa Raé Shofner",null,null,null,null,"S",null,"Grade 4 - 5","Grade 4 - 6","People have accumulated a frightening and environmentally devastating amount of garbage—even in outer space! This book rips from the headlines the powerful stories of some of the world’s worst dumps, including Mumbai in India, Dandora in Kenya, and more. Fact boxes chronicle the legal changes made—and not made—in each place with regard to waste management. Statistics presented in sidebars on each spread illuminate the problem for readers using frighteningly true numbers. This book reinforces lessons on recycling, littering, and community activism, and concludes with instructions on how to help with Earth’s garbage problem.","English",26.6,19.95,"363.72/88--dc23","32 pp.",{"$f":"Table1[[#This Row],[QTY]]*Table1[[#This Row],['# Books]]","v":0},{"$f":"Table1[[#This Row],[QTY]]*Table1[[#This Row],[S&L Price]]","v":0}]
[null,null,136,"Unnatural Disasters",1,"Smothered in Smog","Library Bound Book",null,"978-1-5382-0524-2",{"$f":"HYPERLINK(\"https://www.garethstevens.com/\"&Table1[[#This Row],[ISBN]],\"Weblink\")","v":"Weblink"},2018,"August 2017","Library","6.500 X 9.125","Author","Kate Light",null,null,null,null,"S","1020L","Grade 4 - 5","Grade 4 - 6","Smog is in today’s headlines regularly, with vivid photographs of hoards of people wearing masks as they commute. There aren’t many things that acutely threaten the human ecosystem like smog, as the death tolls of the London, Donora, Shanghai, and Meuse Valley disasters show. This is an unfortunately topical book, chronicling several historic episodes, some lasting days, some years, through both focused text and powerful sidebars showing real statistics. Each spread has a fact box discussing what legal changes were made or not made following these events. The final chapter cites specific ways readers can help.","English",26.6,19.95,"363.739’2--dc23","32 pp.",{"$f":"Table1[[#This Row],[QTY]]*Table1[[#This Row],['# Books]]","v":0},{"$f":"Table1[[#This Row],[QTY]]*Table1[[#This Row],[S&L Price]]","v":0}]
[null,null,136,"Mind-Blowing Science Experiments",1,"Awesome Experiments with Living Things","Library Bound Book",null,"978-1-5382-0740-6",{"$f":"HYPERLINK(\"https://www.garethstevens.com/\"&Table1[[#This Row],[ISBN]],\"Weblink\")","v":"Weblink"},2018,"August 2017","Library","8.500 X 11.00","Author, Illustrated by","Thomas Canavan, Adam Linley",null,null,null,null,"T","890L","Grade 4 - 5","Grade 4 - 6","Yeast can burp? Plants can solve mazes? Readers won’t believe the amazing results of these fantastic experiments! This book introduces readers to the science behind plants and other living things through fun hands-on activities. Simple language explains complex concepts, and step-by-step instructions with accompanying photographs make experiments accessible. Nifty tips help readers safely reach the best results. They’ll love trying recommended tweaks and additions to experiments for even cooler outcomes. Real-life examples of the same scientific principles at play in each activity will get readers excited about the science at work in their everyday world.","English",26.6,19.95,"580.78--dc23","32 pp.",{"$f":"Table1[[#This Row],[QTY]]*Table1[[#This Row],['# Books]]","v":0},{"$f":"Table1[[#This Row],[QTY]]*Table1[[#This Row],[S&L Price]]","v":0}]
[null,null,136,"Mind-Blowing Science Experiments",1,"Awesome Experiments with Living Things","eBook",null,"978-1-5382-0739-0",{"$f":"HYPERLINK(\"https://www.garethstevens.com/\"&Table1[[#This Row],[ISBN]],\"Weblink\")","v":"Weblink"},2018,"August 2017",null,null,"Author, Illustrated by","Thomas Canavan, Adam Linley",null,null,null,null,"T",null,"Grade 4 - 5","Grade 4 - 6","Yeast can burp? Plants can solve mazes? Readers won’t believe the amazing results of these fantastic experiments! This book introduces readers to the science behind plants and other living things through fun hands-on activities. Simple language explains complex concepts, and step-by-step instructions with accompanying photographs make experiments accessible. Nifty tips help readers safely reach the best results. They’ll love trying recommended tweaks and additions to experiments for even cooler outcomes. Real-life examples of the same scientific principles at play in each activity will get readers excited about the science at work in their everyday world.","English",26.6,19.95,"580.78--dc23","32 pp.",{"$f":"Table1[[#This Row],[QTY]]*Table1[[#This Row],['# Books]]","v":0},{"$f":"Table1[[#This Row],[QTY]]*Table1[[#This Row],[S&L Price]]","v":0}]
[null,null,136,"Mind-Blowing Science Experiments",1,"Excellent Experiments with Electricity and Magnetism","eBook",null,"978-1-5382-0737-6",{"$f":"HYPERLINK(\"https://www.garethstevens.com/\"&Table1[[#This Row],[ISBN]],\"Weblink\")","v":"Weblink"},2018,"August 2017",null,null,"Author","Thomas Canavan",null,null,null,null,"T",null,"Grade 4 - 5","Grade 4 - 6","Ever wonder how astronauts are able to breathe a continuous supply of oxygen in space? This hands-on approach to electricity and magnetism lets readers conduct experiments to answer this and other fascinating questions! Readers will love learning that the scientific principles they’re applying at home have real-world applications. For example, they’ll rock out on their own “electric drums” while learning about technological advances in professional instruments. Simple step-by-step instructions accompanied by detailed photographs make each activity accessible, while handy tips ensure readers’ safety and fun. Budding scientists will enjoy exploring the recommended twists and additions to experiments.","English",26.6,19.95,"537’.078--dc23","32 pp.",{"$f":"Table1[[#This Row],[QTY]]*Table1[[#This Row],['# Books]]","v":0},{"$f":"Table1[[#This Row],[QTY]]*Table1[[#This Row],[S&L Price]]","v":0}]
[null,null,136,"Mind-Blowing Science Experiments",1,"Super Experiments with Light and Sound","Library Bound Book",null,"978-1-5382-0745-1",{"$f":"HYPERLINK(\"https://www.garethstevens.com/\"&Table1[[#This Row],[ISBN]],\"Weblink\")","v":"Weblink"},2018,"August 2017","Library","8.500 X 11.00","Author, Illustrated by","Thomas Canavan, Adam Linley",null,null,null,null,"T",null,"Grade 4 - 5","Grade 4 - 6","Disappearing coins, balloon megaphones, CD rainbows...the science of light and sound sometimes seems like magic. Readers will learn the amazing facts behind these phenomena that are more fascinating than fiction. Simple language explains the properties of light and sound, while hands-on activities give readers tangible examples to help them retain crucial science information. Helpful tips make experiments easy and safe, and step-by-step instructions with photographs ensure accessibility. Readers will love focusing light to pop balloons, talking to friends over plastic cup telephones, and other whacky adventures in scientific principles. They’ll learn incredible real-life examples of the same concepts they’re exploring at home, such as how laser beams focus light to produce heat!","English",26.6,19.95,"535.078--dc23","32 pp.",{"$f":"Table1[[#This Row],[QTY]]*Table1[[#This Row],['# Books]]","v":0},{"$f":"Table1[[#This Row],[QTY]]*Table1[[#This Row],[S&L Price]]","v":0}]
[null,null,137,"Miracles of Medicine",1,"Antibiotics","Library Bound Book",null,"978-1-4824-6164-0",{"$f":"HYPERLINK(\"https://www.garethstevens.com/\"&Table1[[#This Row],[ISBN]],\"Weblink\")","v":"Weblink"},2017,"January 2017","Library","7.250 X 9.250","Author","Vic Kovacs",null,null,null,null,"U","1090L","Grade 6","Grade 6 - 8","Antibiotics, the potent medicines that fight bacterial infections, can save lives. We take these “miracle” substances for granted, but they’ve truly transformed medicine as this accessible guide relates. The major discoveries of bacteria destroyers, including penicillin, are highlighted as well as their impact. Each impressive chapter explains the most important aspects of antibiotics, including their variety, how they’re given, their side effects, and their limitations. Also addressed, ripped from the headlines, is the current controversy surrounding vaccines. Information about antibiotic resistance, misuse, superbugs, and the future of antibiotics will make readers feel like medical professionals!","English",31.95,23.95,"615.329--dc23","48 pp.",{"$f":"Table1[[#This Row],[QTY]]*Table1[[#This Row],['# Books]]","v":0},{"$f":"Table1[[#This Row],[QTY]]*Table1[[#This Row],[S&L Price]]","v":0}]
[null,null,137,"Miracles of Medicine",1,"Antibiotics","eBook",null,"978-1-4824-6165-7",{"$f":"HYPERLINK(\"https://www.garethstevens.com/\"&Table1[[#This Row],[ISBN]],\"Weblink\")","v":"Weblink"},2017,"January 2017",null,null,"Author","Vic Kovacs",null,null,null,null,"U","1090L","Grade 6","Grade 6 - 8","Antibiotics, the potent medicines that fight bacterial infections, can save lives. We take these “miracle” substances for granted, but they’ve truly transformed medicine as this accessible guide relates. The major discoveries of bacteria destroyers, including penicillin, are highlighted as well as their impact. Each impressive chapter explains the most important aspects of antibiotics, including their variety, how they’re given, their side effects, and their limitations. Also addressed, ripped from the headlines, is the current controversy surrounding vaccines. Information about antibiotic resistance, misuse, superbugs, and the future of antibiotics will make readers feel like medical professionals!","English",31.95,23.95,"615.329--dc23","48 pp.",{"$f":"Table1[[#This Row],[QTY]]*Table1[[#This Row],['# Books]]","v":0},{"$f":"Table1[[#This Row],[QTY]]*Table1[[#This Row],[S&L Price]]","v":0}]
[null,null,137,"Miracles of Medicine",1,"Organ Transplants","Library Bound Book",null,"978-1-4824-6170-1",{"$f":"HYPERLINK(\"https://www.garethstevens.com/\"&Table1[[#This Row],[ISBN]],\"Weblink\")","v":"Weblink"},2017,"January 2017","Library","7.250 X 9.250","Author","Vic Kovacs",null,null,null,null,"U","1070L","Grade 6","Grade 6 - 8","Organ transplantation is a life-altering and life-saving medical breakthrough, one that more than 120,000 people in the United States are currently awaiting. This comprehensive volume is a fascinating guide to organ transplants, beginning with the first animal-to-human transplants and the innovations that led to the successful operations of today. Included is eye-opening information such as the physiological challenges that face those who receive and donate organs. Readers will also come to understand the organ donation process, an important aspect of deciding whether they will be organ donors in the future.","English",31.95,23.95,"617.9’5--dc23","48 pp.",{"$f":"Table1[[#This Row],[QTY]]*Table1[[#This Row],['# Books]]","v":0},{"$f":"Table1[[#This Row],[QTY]]*Table1[[#This Row],[S&L Price]]","v":0}]
[null,null,138,"Technology Takes on Nature",1,"Dams","Library Bound Book",null,"978-1-4824-5765-0",{"$f":"HYPERLINK(\"https://www.garethstevens.com/\"&Table1[[#This Row],[ISBN]],\"Weblink\")","v":"Weblink"},2017,"January 2017","Library","8.500 X 11.00","Author","Ryan Nagelhout","6.3","0.5",null,null,"Q","1080L","Grade 3 - 4","Grade 3 - 6","Human impact on the environment is often difficult to track, but not when it comes to dams. These massive engineering projects create huge changes in our waterways and how we use them. Full-color photographs illustrate how engineers create water reservoirs and create hydroelectric power using a variety of dams. Readers will also see how dams create recreational activities for humans while others directly impact animal habitats and require further human engineering to safely bypass these water barriers.","English",26.6,19.95,"627.8--dc23","32 pp.",{"$f":"Table1[[#This Row],[QTY]]*Table1[[#This Row],['# Books]]","v":0},{"$f":"Table1[[#This Row],[QTY]]*Table1[[#This Row],[S&L Price]]","v":0}]
[null,null,138,"Technology Takes on Nature",1,"Earthquake-Proof Buildings","Library Bound Book",null,"978-1-4824-5769-8",{"$f":"HYPERLINK(\"https://www.garethstevens.com/\"&Table1[[#This Row],[ISBN]],\"Weblink\")","v":"Weblink"},2017,"January 2017","Library","8.500 X 11.00","Author","Melissa Raé Shofner","6.3","0.5",null,null,"Q","1020L","Grade 3 - 4","Grade 3 - 6","There’s no telling when an earthquake can strike, which is why engineers building in earthquake-prone places need to be careful. Earthquake-proofing buildings takes cutting-edge science and lots of testing, but these amazing creations help keep people safe and prevent further chaos in the event of disaster. Full-color photographs that chronicle the construction of simple bunker-like rooms as well as more complex buildings yet to be tested by major geological events will mesmerize readers. They’ll also get a look at how high-rises are built to combat the shaking and swaying that comes with these natural disasters.","English",26.6,19.95,"690--dc23","32 pp.",{"$f":"Table1[[#This Row],[QTY]]*Table1[[#This Row],['# Books]]","v":0},{"$f":"Table1[[#This Row],[QTY]]*Table1[[#This Row],[S&L Price]]","v":0}]
[null,null,138,"Technology Takes on Nature",1,"Earthquake-Proof Buildings","eBook",null,"978-1-4824-5770-4",{"$f":"HYPERLINK(\"https://www.garethstevens.com/\"&Table1[[#This Row],[ISBN]],\"Weblink\")","v":"Weblink"},2017,"January 2017",null,null,"Author","Melissa Raé Shofner","6.3","0.5",null,null,"Q","1020L","Grade 3 - 4","Grade 3 - 6","There’s no telling when an earthquake can strike, which is why engineers building in earthquake-prone places need to be careful. Earthquake-proofing buildings takes cutting-edge science and lots of testing, but these amazing creations help keep people safe and prevent further chaos in the event of disaster. Full-color photographs that chronicle the construction of simple bunker-like rooms as well as more complex buildings yet to be tested by major geological events will mesmerize readers. They’ll also get a look at how high-rises are built to combat the shaking and swaying that comes with these natural disasters.","English",26.6,19.95,"690--dc23","32 pp.",{"$f":"Table1[[#This Row],[QTY]]*Table1[[#This Row],['# Books]]","v":0},{"$f":"Table1[[#This Row],[QTY]]*Table1[[#This Row],[S&L Price]]","v":0}]
[null,null,138,"Technology Takes on Nature",1,"Levees and Seawalls","Library Bound Book",null,"978-1-4824-5777-3",{"$f":"HYPERLINK(\"https://www.garethstevens.com/\"&Table1[[#This Row],[ISBN]],\"Weblink\")","v":"Weblink"},2017,"January 2017","Library","8.500 X 11.00","Author","Erika Edwards","6","0.5",null,null,"Q","1050L","Grade 3 - 4","Grade 3 - 6","People change the way water moves around them in many different ways. Reclaiming land from rising ocean tides requires levees and seawalls, but few of us know how these amazing engineering tasks are actually carried out. This exciting title takes a look at famous levees on rivers and seawalls on oceans around the world, including the series of projects protecting New Orleans, Louisiana. It also explores what happens when these projects fail, and how engineers today are working to make better levees to battle the growing threat of climate change and rising water levels around the globe.","English",26.6,19.95,"627'.42--dc23","32 pp.",{"$f":"Table1[[#This Row],[QTY]]*Table1[[#This Row],['# Books]]","v":0},{"$f":"Table1[[#This Row],[QTY]]*Table1[[#This Row],[S&L Price]]","v":0}]
[null,null,138,"Science Fiction to Science Fact",1,"Faster-Than-Light Space Travel","Library Bound Book",null,"978-1-5382-1382-7",{"$f":"HYPERLINK(\"https://www.garethstevens.com/\"&Table1[[#This Row],[ISBN]],\"Weblink\")","v":"Weblink"},2018,"January 2018","Library","6.500 X 9.125","Author","Holly Duhig","5.2","1",null,null,"S",null,"Grade 4 - 5","Grade 4 - 6","Whether it’s hyperdrive in Star Wars or warp speed in Star Trek, most science-fiction lovers know that in order to travel anywhere in space in a timely manner, you’ve got to go faster than the speed of light. Much of that idea isn’t possible, but space scientists have found many ways to speed up human space travel. Through easily understandable explanations and examples of real, cutting-edge technology, this book’s main content guides readers from the fantasy of science fiction to the incredible reality of today’s science fact.","English",26.6,19.95,"530.11--dc23","32 pp.",{"$f":"Table1[[#This Row],[QTY]]*Table1[[#This Row],['# Books]]","v":0},{"$f":"Table1[[#This Row],[QTY]]*Table1[[#This Row],[S&L Price]]","v":0}]
[null,null,138,"Science Fiction to Science Fact",1,"Replicators","eBook",null,"978-1-5382-1387-2",{"$f":"HYPERLINK(\"https://www.garethstevens.com/\"&Table1[[#This Row],[ISBN]],\"Weblink\")","v":"Weblink"},2018,"January 2018",null,null,"Author","Holly Duhig","6","1",null,null,"S",null,"Grade 4 - 5","Grade 4 - 6","Imagine if scientists had a tool that could make food or a chair seemingly out of thin air. Star Trek fans might recognize this piece of technology as \"replicator,\" a concept that was also used in other science fiction stories. Readers learn that similar technology does exist, and it could eventually be used just like Star Trek replicators. Including STEM content as well as connections to popular culture, each chapter introduces readers to the latest in replicating technology, from 3D printers to lasers, through accessible language and explanations of this fascinating technology.","English",26.6,19.95,"621.9'88--dc23","32 pp.",{"$f":"Table1[[#This Row],[QTY]]*Table1[[#This Row],['# Books]]","v":0},{"$f":"Table1[[#This Row],[QTY]]*Table1[[#This Row],[S&L Price]]","v":0}]
[null,null,138,"Science Fiction to Science Fact",1,"Solar Sails","Library Bound Book",null,"978-1-5382-1388-9",{"$f":"HYPERLINK(\"https://www.garethstevens.com/\"&Table1[[#This Row],[ISBN]],\"Weblink\")","v":"Weblink"},2018,"January 2018","Library","6.500 X 9.125","Author","Holly Duhig","6","1",null,null,"S","960L","Grade 4 - 5","Grade 4 - 6","Solar sails use the sun’s energy to fly spacecraft, or “flight by light.” It sounds like something out of a science fiction novel. In fact, it is, first being mentioned in Jules Verne’s From Earth to the Moon in 1865. It's been used as a way for characters to travel through space in many other books and movies, including Tron in 1985. Today, solar sails are a reality, and readers learn how their technology works as well as how successful trials with solar sail apparatuses have been. Could light energy be the best way to move through space in the future? Readers find out for themselves.","English",26.6,19.95,"629.47'5--dc23","32 pp.",{"$f":"Table1[[#This Row],[QTY]]*Table1[[#This Row],['# Books]]","v":0},{"$f":"Table1[[#This Row],[QTY]]*Table1[[#This Row],[S&L Price]]","v":0}]
[null,null,139,"STEM in Our World",1,"Gaming Technology: Streaming, VR, and More","Library Bound Book",null,"978-1-5382-2638-4",{"$f":"HYPERLINK(\"https://www.garethstevens.com/\"&Table1[[#This Row],[ISBN]],\"Weblink\")","v":"Weblink"},2019,"August 2018","Library","8.500 X 11.00","Author","John Wood","6.4","1",null,null,"U",null,"Grade 4 - 5","Grade 4 - 6","With streaming services on Twitch and YouTube, no matter the time of day, gamers can watch anyone playing their favorite games. Friends half a world apart can play games together. There's no better time to be into gaming technology. From virtual reality to esports, readers can learn so much about how gaming is growing and changing in this high-interest book. A dynamic design and full-color photographs of top-of-the-line tech in action accompanies age-appropriate content perfectly suited to complement classroom STEM learning.","English",26.6,19.95,"794.8--dc23","32 pp.",{"$f":"Table1[[#This Row],[QTY]]*Table1[[#This Row],['# Books]]","v":0},{"$f":"Table1[[#This Row],[QTY]]*Table1[[#This Row],[S&L Price]]","v":0}]
[null,null,139,"STEM in Our World",1,"Moviemaking Technology: 4D, Motion Capture, and More","eBook",null,"978-1-5382-2653-7",{"$f":"HYPERLINK(\"https://www.garethstevens.com/\"&Table1[[#This Row],[ISBN]],\"Weblink\")","v":"Weblink"},2019,"August 2018",null,null,"Author","John Wood","5.6","1",null,null,"U",null,"Grade 4 - 5","Grade 4 - 6","Almost every blockbuster movie is now released in 3D. Add scents, seats that move, and more and suddenly it feels like you're in the movie, that's 4D. Today, moviemakers don't need film to make movies. They don't even need scenery or many practical effects, if they don't want them. Readers may be surprised at the amazing technology that exists to make movies look the way they do today. Action-packed, full-color photographs accompany accessible text describing a variety of the latest, most interesting and future forms of cinema technology. There's something for cinephiles and casual moviegoers to learn on every page.","English",26.6,19.95,"791.43--dc23","32 pp.",{"$f":"Table1[[#This Row],[QTY]]*Table1[[#This Row],['# Books]]","v":0},{"$f":"Table1[[#This Row],[QTY]]*Table1[[#This Row],[S&L Price]]","v":0}]
[null,null,139,"STEM in Our World",1,"Sports Technology: Cryotherapy, LED Courts, and More","eBook",null,"978-1-5382-2637-7",{"$f":"HYPERLINK(\"https://www.garethstevens.com/\"&Table1[[#This Row],[ISBN]],\"Weblink\")","v":"Weblink"},2019,"August 2018",null,null,"Author","John Wood","5.9","1",null,null,"U",null,"Grade 4 - 5","Grade 4 - 6","A professional athlete's number one priority is staying healthy. Technology for injury prevention and recovery, such as cryotherapy and cupping, is in high demand. Those aren't the only amazing technologies being developed for athletes or in sports today. High-tech gear, playing surfaces, and more are explored in this engrossing volume, complete with full-color photographs of the technology in action. Sports fanatics and computer lovers alike can find something fascinating and new to learn in this high-interest take on STEM topics.","English",26.6,19.95,"688.76--dc23","32 pp.",{"$f":"Table1[[#This Row],[QTY]]*Table1[[#This Row],['# Books]]","v":0},{"$f":"Table1[[#This Row],[QTY]]*Table1[[#This Row],[S&L Price]]","v":0}]
[null,null,139,"STEM in Our World",1,"Travel Technology: Maglev Trains, Hovercrafts, and More","Library Bound Book",null,"978-1-5382-2654-4",{"$f":"HYPERLINK(\"https://www.garethstevens.com/\"&Table1[[#This Row],[ISBN]],\"Weblink\")","v":"Weblink"},2019,"August 2018","Library","8.500 X 11.00","Author","John Wood","5.7","1",null,null,"U",null,"Grade 4 - 5","Grade 4 - 6","While Back to the Future's hovering skateboards hasn't become reality yet, hoverboards can certainly help people get around today. From driverless cars to Japan's amazing bullet train, travel technology has advanced by leaps and bounds for both individuals and large groups of people. Readers climb aboard these incredible inventions in this book, discovering the coolest ways technology is improving travel while learning about many STEM curriculum supporting topics along the way. Full-color photographs enhance a dynamic design that draws in readers for a wild ride.","English",26.6,19.95,"629.04--dc23","32 pp.",{"$f":"Table1[[#This Row],[QTY]]*Table1[[#This Row],['# Books]]","v":0},{"$f":"Table1[[#This Row],[QTY]]*Table1[[#This Row],[S&L Price]]","v":0}]
[null,null,139,"Cutting-Edge Technology",1,"Drones","Library Bound Book",null,"978-1-4824-5156-6",{"$f":"HYPERLINK(\"https://www.garethstevens.com/\"&Table1[[#This Row],[ISBN]],\"Weblink\")","v":"Weblink"},2017,"August 2016","Library","7.250 X 9.250","Author(s)","Louise Spilsbury, Richard Spilsbury",null,null,null,null,"W","1150L","Grade 6 - 8","Grade 6 - 8","Is it a bird, a plane, or maybe even a drone flying overhead? This amazing book tackles the history of drone technology and where future development will take these exciting aircraft. Known mostly for its use in the military as surveillance equipment or even in combat, these pilotless flying machines are now used all over the world by ordinary people who love remote controlled vehicles. Today, drones of all shapes and sizes can achieve amazing things, even if it’s just taking photos or some video in someone’s backyard. This book investigates the complicated role drone technology plays in our modern lives, and what future development will mean for our privacy and safety.","English",31.95,23.95,"623.74’69--dc23","48 pp.",{"$f":"Table1[[#This Row],[QTY]]*Table1[[#This Row],['# Books]]","v":0},{"$f":"Table1[[#This Row],[QTY]]*Table1[[#This Row],[S&L Price]]","v":0}]
[null,null,139,"Cutting-Edge Technology",1,"Lasers","eBook",null,"978-1-4824-5152-8",{"$f":"HYPERLINK(\"https://www.garethstevens.com/\"&Table1[[#This Row],[ISBN]],\"Weblink\")","v":"Weblink"},2017,"August 2016",null,null,"Author","James Bow",null,null,null,null,"W","1070L","Grade 6 - 8","Grade 6 - 8","Light is a powerful thing. Light from the sun gives humans life and can be used in a variety of ways using a focused beam of light called a laser. From DVD players to laser pointers, there are many different kinds of lasers. Even fiber optics communication and cutting devices use laser technology to produce great things. This book explores the possibilities of light, bringing amazing facts about lasers to the eyes of enthusiastic readers interested in this cutting-edge technology.","English",31.95,23.95,"621.36’6--dc23","48 pp.",{"$f":"Table1[[#This Row],[QTY]]*Table1[[#This Row],['# Books]]","v":0},{"$f":"Table1[[#This Row],[QTY]]*Table1[[#This Row],[S&L Price]]","v":0}]
[null,null,141,"Map Basics",12,"Map Basics (Set of 12 Titles)","Library Set",null,"978-1-5382-3401-3",{"$f":"HYPERLINK(\"https://www.garethstevens.com/\"&Table1[[#This Row],[ISBN]],\"Weblink\")","v":"Weblink"},2019,"January 2019","Library","8.500 X 8.500",null,null,null,null,null,null,null,null,"Grade 2 - 3","Grade 2 - 5","Even though many cars and cell phones have GPS to help us find our way, it's important to be able to read a map. Understanding how to use latitude and longitude and the compass rose can help someone who's lost. These tools also teach readers how to gather information from the many kinds of maps, including climate maps, physical maps, and political maps. Readers learn important terms, such as latitude and longitude, and the art of reading map keys and scales. Fun fact boxes accompany geography content, and maps and colorful photographs allow readers to use new skills right away. Features include: Offers historic perspective of geographic topics, including prominent figures in the history of mapmaking, exploration, and Earth science. Focuses on applied use of maps, location, direction, and time without high-tech aids to enhance reader's practical knowledge. Provides real-life examples demonstrating the use of maps and mapping skills in daily life and travel.","English",271.2,203.4,null,"24 pp.",{"$f":"Table1[[#This Row],[QTY]]*Table1[[#This Row],['# Books]]","v":0},{"$f":"Table1[[#This Row],[QTY]]*Table1[[#This Row],[S&L Price]]","v":0}]
[null,null,141,"Map Basics",6,"Map Basics (Set of 6 NEW Titles)","Library Set",null,"978-1-5382-2961-3",{"$f":"HYPERLINK(\"https://www.garethstevens.com/\"&Table1[[#This Row],[ISBN]],\"Weblink\")","v":"Weblink"},2019,"January 2019","Library","8.500 X 8.500",null,null,null,null,null,null,null,null,"Grade 2 - 3","Grade 2 - 5","Social studies textbooks are often full of different kinds of maps and most students have a chance to interact with U.S. maps or globes in their classrooms. Often, these maps help them figure out where something is in the world, but maps can share a lot more information than just location! Topographical maps show the contours of the land. Resource maps show where natural resources can be found and how abundant they are. This series gives readers the tools they need to identify, interpret, and use different kinds of maps, including road maps, climate maps, and physical maps. Features include: Fun fact boxes give historical and social context of map usage. An activity in each book engages readers with the geography content they've just learned. Domain-specific vocabulary ensures readers' classroom success.","English",135.6,101.7,null,"24 pp.",{"$f":"Table1[[#This Row],[QTY]]*Table1[[#This Row],['# Books]]","v":0},{"$f":"Table1[[#This Row],[QTY]]*Table1[[#This Row],[S&L Price]]","v":0}]
[null,null,141,"Map Basics",1,"All About Political Maps","Library Bound Book",null,"978-1-5382-2917-0",{"$f":"HYPERLINK(\"https://www.garethstevens.com/\"&Table1[[#This Row],[ISBN]],\"Weblink\")","v":"Weblink"},2019,"January 2019","Library","8.500 X 8.500","Author","Barbara M. Linde",null,null,null,null,"M",null,"Grade 2 - 3","Grade 2 - 5","Which state is south of Maryland and north of North Carolina? How many states border California? How many countries are there in South America? As students read this book, they'll gain a better understanding of the locations of countries of the world. Using a map legend, they'll identify state and country capitals and other cities. They'll see how various landforms create natural borders. After comparing political maps of the United States at different times, students will be able to explain how the country grew. An activity concludes the book to help readers apply what they've learned.","English",22.6,16.95,"912.01'4--dc23","24 pp.",{"$f":"Table1[[#This Row],[QTY]]*Table1[[#This Row],['# Books]]","v":0},{"$f":"Table1[[#This Row],[QTY]]*Table1[[#This Row],[S&L Price]]","v":0}]
[null,null,141,"Map Basics",1,"All About Road Maps and GPS","Library Bound Book",null,"978-1-5382-2919-4",{"$f":"HYPERLINK(\"https://www.garethstevens.com/\"&Table1[[#This Row],[ISBN]],\"Weblink\")","v":"Weblink"},2019,"January 2019","Library","8.500 X 8.500","Author","Barbara M. Linde",null,null,null,null,"M",null,"Grade 2 - 3","Grade 2 - 5","What highways go from Maine to Florida? What's the distance from Los Angeles to San Francisco? How do I get to my friend's house? How does GPS work? As readers enjoy this volume, they will find answers to these questions and more. Readers learn to use the map key to identify different types of roads. They'll plan routes for long and short trips, calculating distances with the scale of miles. After studying diagrams of the GPS, they will give a basic explanation of how it works.","English",22.6,16.95,"912.01'4--dc23","24 pp.",{"$f":"Table1[[#This Row],[QTY]]*Table1[[#This Row],['# Books]]","v":0},{"$f":"Table1[[#This Row],[QTY]]*Table1[[#This Row],[S&L Price]]","v":0}]
[null,null,141,"Map Basics",1,"Latitude and Longitude","eBook",null,"978-1-4824-1081-5",{"$f":"HYPERLINK(\"https://www.garethstevens.com/\"&Table1[[#This Row],[ISBN]],\"Weblink\")","v":"Weblink"},2015,"August 2014",null,null,"Author","Kristen Rajczak Nelson",null,null,20,null,"L","980L","Grade 2 - 3","Grade 2 - 5","Even in such a tech-savvy culture as ours, understanding latitude and longitude coordinates has many uses. Coordinates can help hikers find their way when lost on a difficult trail and geocache enthusiasts locate their treasure. Even more importantly, they can help communicate location no matter what language is being spoken. Readers learn all about the development, use, and accuracy of the grid mapping system of latitude and longitude. Covering the equator, Prime Meridian, and more, the main content complements important topics from the social studies curriculum. Full-color maps aid readers’ understanding as fact boxes clarify key information.","English",22.6,16.95,"526","24 pp.",{"$f":"Table1[[#This Row],[QTY]]*Table1[[#This Row],['# Books]]","v":0},{"$f":"Table1[[#This Row],[QTY]]*Table1[[#This Row],[S&L Price]]","v":0}]
[null,null,141,"Map Basics",1,"Reading Map Keys","Library Bound Book",null,"978-1-4824-1073-0",{"$f":"HYPERLINK(\"https://www.garethstevens.com/\"&Table1[[#This Row],[ISBN]],\"Weblink\")","v":"Weblink"},2015,"August 2014","Library","8.500 X 8.500","Author","Therese M. Shea",null,null,20,null,"K","880L","Grade 2 - 3","Grade 2 - 5","Just as a car can’t be started without the right key, many maps would be indecipherable without their legend, or key. Map keys show what pictures and colors on a map represent and often offer clues as to the kind of map. Readers learn how map keys can illuminate all kinds of maps, from street and political maps to economic and physical maps. Common map key symbols are discussed alongside full-color examples of many kinds of maps and keys to guide readers through the use and importance of each.","English",22.6,16.95,"912.01","24 pp.",{"$f":"Table1[[#This Row],[QTY]]*Table1[[#This Row],['# Books]]","v":0},{"$f":"Table1[[#This Row],[QTY]]*Table1[[#This Row],[S&L Price]]","v":0}]
[null,null,141,"Map Basics",1,"The Compass Rose and Cardinal Directions","eBook",null,"978-1-4824-1086-0",{"$f":"HYPERLINK(\"https://www.garethstevens.com/\"&Table1[[#This Row],[ISBN]],\"Weblink\")","v":"Weblink"},2015,"August 2014",null,null,"Author","Caitie McAneney",null,null,24,null,"L",null,"Grade 2 - 3","Grade 2 - 5","One of the most recognizable map symbols, the compass rose, is also the most useful. It shows the cardinal directions, and, when used with a compass, it can help hikers and orienteers reach their destination. Readers are introduced to the compass rose and the cardinal and intermediate directions it displays. Detailed examples lead readers through using a compass rose on a map. Full-color images accompany important map skills, engaging readers with content consistent with the social studies curriculum.","English",22.6,16.95,"912.01","24 pp.",{"$f":"Table1[[#This Row],[QTY]]*Table1[[#This Row],['# Books]]","v":0},{"$f":"Table1[[#This Row],[QTY]]*Table1[[#This Row],[S&L Price]]","v":0}]
[null,null,146,"Eyewitness to History",24,"Eyewitness to History","Library Set",null,"978-1-5382-1301-8",{"$f":"HYPERLINK(\"https://www.garethstevens.com/\"&Table1[[#This Row],[ISBN]],\"Weblink\")","v":"Weblink"},2018,"January 2018","Library","6.500 X 9.125",null,null,null,null,null,null,null,null,"Grade 4 - 5","Grade 4 - 6","The influential figures who have played large roles in shaping, guiding, and reforming society are given voices once again in this commanding collection of historical books. Readers will not only become familiar with their biographies, but get to know them through their speeches, letters, and other writings. They’ll also come to know the people who propelled social movements, such as the women’s rights movement and the civil rights movement, including such towering personalities as Cesar Chavez, Malcolm X, and Eleanor Roosevelt. A compelling design and carefully selected photographs of events shed further light on historic events.","English",644.4,483.3,null,"32 pp.",{"$f":"Table1[[#This Row],[QTY]]*Table1[[#This Row],['# Books]]","v":0},{"$f":"Table1[[#This Row],[QTY]]*Table1[[#This Row],[S&L Price]]","v":0}]
[null,null,146,"Eyewitness to History",1,"Inside the Environmental Movement","Library Bound Book",null,"978-1-5382-1159-5",{"$f":"HYPERLINK(\"https://www.garethstevens.com/\"&Table1[[#This Row],[ISBN]],\"Weblink\")","v":"Weblink"},2018,"January 2018","Library","6.500 X 9.125","Author","Janey Levy",null,null,null,null,"T","1100L","Grade 4 - 5","Grade 4 - 6","The environmental movement encompasses many issues, including pollution, conservation, climate change, and alternative energy. Environmentalists maintain that people are part of ecosystems and must act to keep those systems balanced and healthy. This compelling guide to the history of the movement, including efforts today, focuses on important environmental crusaders, including Rachel Carson and John Muir, and the organizations that have fought for world-changing legislation. Historical photographs and a timeline help shed light on principal events in this on-going movement.","English",26.6,19.95,"363.700973--dc23","32 pp.",{"$f":"Table1[[#This Row],[QTY]]*Table1[[#This Row],['# Books]]","v":0},{"$f":"Table1[[#This Row],[QTY]]*Table1[[#This Row],[S&L Price]]","v":0}]
[null,null,146,"Eyewitness to History",1,"Inside the Labor Movement","Library Bound Book",null,"978-1-5382-1163-2",{"$f":"HYPERLINK(\"https://www.garethstevens.com/\"&Table1[[#This Row],[ISBN]],\"Weblink\")","v":"Weblink"},2018,"January 2018","Library","6.500 X 9.125","Author","Therese M. Shea",null,null,null,null,"U","1060L","Grade 4 - 5","Grade 4 - 6","It's difficult for many young people to imagine not being able to go to school and instead having to work in a hot, smelly, sometimes dangerous factory for more than 12 hours a day. There was a time in U.S. history when young people had to do just that. Thankfully, many people involved in the labor movement fought against child labor. This was just one of many ways the movement improved rights for working people. This important volume presents a significant slice of American history, using primary sources, first-person narratives, and historical photographs to enlighten readers.","English",26.6,19.95,"331.880973--dc23","32 pp.",{"$f":"Table1[[#This Row],[QTY]]*Table1[[#This Row],['# Books]]","v":0},{"$f":"Table1[[#This Row],[QTY]]*Table1[[#This Row],[S&L Price]]","v":0}]
[null,null,146,"Eyewitness to History",1,"Inside the Native American Rights Movement","eBook",null,"978-1-5382-1152-6",{"$f":"HYPERLINK(\"https://www.garethstevens.com/\"&Table1[[#This Row],[ISBN]],\"Weblink\")","v":"Weblink"},2018,"January 2018",null,null,"Author","Theresa Morlock",null,null,null,null,"U","1120L","Grade 4 - 5","Grade 4 - 6","The history of Native Americans within the United States is a turbulent one, marked by broken promises, confiscated lands, forced acculturation, and the shadowy line between tribal sovereignty and American citizenship. Native Americans and their allies have had to fight for their rights, rights that other Americans were guaranteed under the Constitution. This significant book recounts the past and modern-day battles for Native American civil rights using the eyewitness reports of people on the front lines. Striking photographs, thought-provoking sidebars and fact boxes, and a summarizing timeline are included in the engaging design.","English",26.6,19.95,"323.1197--dc23","32 pp.",{"$f":"Table1[[#This Row],[QTY]]*Table1[[#This Row],['# Books]]","v":0},{"$f":"Table1[[#This Row],[QTY]]*Table1[[#This Row],[S&L Price]]","v":0}]
[null,null,146,"Eyewitness to History",1,"Anne Frank in Her Own Words","Library Bound Book",null,"978-1-4339-9872-0",{"$f":"HYPERLINK(\"https://www.garethstevens.com/\"&Table1[[#This Row],[ISBN]],\"Weblink\")","v":"Weblink"},2014,"January 2014","Library","6.500 X 9.000","Author","Caroline Kennon",null,null,44,28,"T","860L","Grade 4 - 5","Grade 4 - 6","Anne Frank's youthful optimism was a stark contrast to the terrible monstrosities of World War II. While Anne and her family hid from the world in a secret annex, she confided in her diary, nicknamed Kitty, providing the world with an inside view of what it was like to grow up fearing the wrath of Nazi Germany. This biography uses Anne's moving writings to highlight the events of her short life. Her diary is a powerful tool and reminder of the unjust hate that caused the Holocaust. Sidebars and fact boxes offer more information about this time period.","English",27.6,20.7,"940.53","32 pp.",{"$f":"Table1[[#This Row],[QTY]]*Table1[[#This Row],['# Books]]","v":0},{"$f":"Table1[[#This Row],[QTY]]*Table1[[#This Row],[S&L Price]]","v":0}]
[null,null,146,"Eyewitness to History",1,"Eleanor Roosevelt in Her Own Words","eBook",null,"978-1-4824-4065-2",{"$f":"HYPERLINK(\"https://www.garethstevens.com/\"&Table1[[#This Row],[ISBN]],\"Weblink\")","v":"Weblink"},2016,"January 2016",null,null,"Author","John M. Shea ","6","1",null,null,"U","920L","Grade 4 - 5","Grade 4 - 6","Eleanor Roosevelt wasn’t content to be a seldom-seen, never-heard First Lady. Instead, she worked tirelessly for the many causes dear to her heart, including the rights of African Americans, women, and the poor. After Franklin D. Roosevelt’s death, she traveled the world promoting peace in the aftermath of World War II. Roosevelt was so beloved she became known as the “First Lady of the World.” This extraordinary woman’s life and work is presented in this charming biography that utilizes her own words from her prolific writings. Roosevelt’s wit, charm, and intelligence shine in each passage, while carefully chosen photographs reflect important moments in her life.","English",26.6,19.95,"973.917092--dc23","32 pp.",{"$f":"Table1[[#This Row],[QTY]]*Table1[[#This Row],['# Books]]","v":0},{"$f":"Table1[[#This Row],[QTY]]*Table1[[#This Row],[S&L Price]]","v":0}]
[null,null,146,"Eyewitness to History",1,"Elizabeth Cady Stanton in Her Own Words","Library Bound Book",null,"978-1-4824-1478-3",{"$f":"HYPERLINK(\"https://www.garethstevens.com/\"&Table1[[#This Row],[ISBN]],\"Weblink\")","v":"Weblink"},2015,"August 2014","Library","6.500 X 9.000","Author","Nicole Shea",null,null,44,null,"T","990L","Grade 4 - 5","Grade 4 - 6","For over 50 years, Elizabeth Cady Stanton was one of the most influential leaders of the women's rights movement of the 1800s. In this book, abundant with interesting photographs and images, readers are given a glimpse of Stanton's public and personal life through her own writings. Her friendship with Susan B. Anthony, work for the women's rights convention of 1848, and connection with the antislavery movement are especially highlighted. Sidebars and fact boxes offer more about this period in US and world history.","English",26.6,19.95,"324.6","32 pp.",{"$f":"Table1[[#This Row],[QTY]]*Table1[[#This Row],['# Books]]","v":0},{"$f":"Table1[[#This Row],[QTY]]*Table1[[#This Row],[S&L Price]]","v":0}]
[null,null,147,"Eyewitness to History",1,"Laura Ingalls Wilder in Her Own Words","eBook",null,"978-1-4824-4073-7",{"$f":"HYPERLINK(\"https://www.garethstevens.com/\"&Table1[[#This Row],[ISBN]],\"Weblink\")","v":"Weblink"},2016,"January 2016",null,null,"Author","Kristen Rajczak Nelson","5.8","1",null,null,"T","990L","Grade 4 - 5","Grade 4 - 6","As the author of the popular “Little House on the Prairie” books, Laura Ingalls Wilder found fame by sharing her experiences growing up on the American frontier in the late 1800s. Her works became instant classics of children’s literature and a valued teaching tool for comprehending the obstacles facing settlers in that time, including malaria outbreaks, droughts and blizzards, and conflicts with Native Americans. This absorbing biographical account interweaves Wilder’s own words, historical paintings and photographs, and insightful text to reflect an extraordinary time in the United States.","English",26.6,19.95,"813'.52--dc23","32 pp.",{"$f":"Table1[[#This Row],[QTY]]*Table1[[#This Row],['# Books]]","v":0},{"$f":"Table1[[#This Row],[QTY]]*Table1[[#This Row],[S&L Price]]","v":0}]
[null,null,147,"Eyewitness to History",1,"Neil Armstrong in His Own Words","Library Bound Book",null,"978-1-4824-4080-5",{"$f":"HYPERLINK(\"https://www.garethstevens.com/\"&Table1[[#This Row],[ISBN]],\"Weblink\")","v":"Weblink"},2016,"January 2016","Library","6.500 X 9.125","Author","Ryan Nagelhout","6.1","1",null,null,"U","1020L","Grade 4 - 5","Grade 4 - 6","Neil Armstrong, the first person to step on the moon, uttered the legendary statement: “That’s one small step for a man, one giant leap for mankind.” This thrilling book explains how a young boy from Ohio became arguably the most famous astronaut of all time. A pilot by the time he was 16, Armstrong served in the Korean War before joining the US space program. Readers will learn the amazing story of the journey to the moon and gain an understanding of how perilous that mission really was. Armstrong’s interviews, writings, and other insights are interspersed throughout this must-read volume.","English",26.6,19.95,"629.450092--dc23","32 pp.",{"$f":"Table1[[#This Row],[QTY]]*Table1[[#This Row],['# Books]]","v":0},{"$f":"Table1[[#This Row],[QTY]]*Table1[[#This Row],[S&L Price]]","v":0}]
[null,null,147,"Eyewitness to History",1,"Martin Luther King Jr. in His Own Words","Library Bound Book",null,"978-1-4824-0147-9",{"$f":"HYPERLINK(\"https://www.garethstevens.com/\"&Table1[[#This Row],[ISBN]],\"Weblink\")","v":"Weblink"},2014,"January 2014","Library","6.500 X 9.000","Author","Ryan Nagelhout",null,null,44,28,"T","1130L","Grade 4 - 5","Grade 4 - 6","No discussion of the civil rights movement of the 1960s is complete without a close look at Martin Luther King Jr. This book is an invaluable source of biographical information that uses King's own immensely powerful words to tell the story of his life and the fight for equality. The Montgomery bus boycott, the March on Washington, and the Civil Rights Act are just some historic events described. Readers will find that King's words still resonate today, years after his tragic death.","English",27.6,20.7,"323","32 pp.",{"$f":"Table1[[#This Row],[QTY]]*Table1[[#This Row],['# Books]]","v":0},{"$f":"Table1[[#This Row],[QTY]]*Table1[[#This Row],[S&L Price]]","v":0}]
[null,null,147,"Eyewitness to History",1,"Martin Luther King Jr. in His Own Words","eBook",null,"978-1-4824-6509-9",{"$f":"HYPERLINK(\"https://www.garethstevens.com/\"&Table1[[#This Row],[ISBN]],\"Weblink\")","v":"Weblink"},2014,"January 2014",null,null,"Author","Ryan Nagelhout",null,null,44,28,"T","1130L","Grade 4 - 5","Grade 4 - 6","No discussion of the civil rights movement of the 1960s is complete without a close look at Martin Luther King Jr. This book is an invaluable source of biographical information that uses King's own immensely powerful words to tell the story of his life and the fight for equality. The Montgomery bus boycott, the March on Washington, and the Civil Rights Act are just some historic events described. Readers will find that King's words still resonate today, years after his tragic death.","English",27.6,20.7,"323","32 pp.",{"$f":"Table1[[#This Row],[QTY]]*Table1[[#This Row],['# Books]]","v":0},{"$f":"Table1[[#This Row],[QTY]]*Table1[[#This Row],[S&L Price]]","v":0}]
[null,null,147,"Eyewitness to History",1,"Helen Keller in Her Own Words","Library Bound Book",null,"978-1-4824-1479-0",{"$f":"HYPERLINK(\"https://www.garethstevens.com/\"&Table1[[#This Row],[ISBN]],\"Weblink\")","v":"Weblink"},2015,"August 2014","Library","6.500 X 9.000","Author","Caroline Kennon",null,null,44,null,"T","940L","Grade 4 - 5","Grade 4 - 6","Though Helen Keller became deaf and blind after a childhood illness in 1882, she grew up to be a renowned author, activist, and speaker. With the help of her teacher, Anne Sullivan, Keller overcame major obstacles in her life and used them to become an advocate for those experiencing discrimination and hardship. This inspiring biography uses Keller's own words as a primary source, so that readers can better know and understand this amazing woman and leader.","English",26.6,19.95,"362.4","32 pp.",{"$f":"Table1[[#This Row],[QTY]]*Table1[[#This Row],['# Books]]","v":0},{"$f":"Table1[[#This Row],[QTY]]*Table1[[#This Row],[S&L Price]]","v":0}]
[null,null,147,"Eyewitness to History",1,"Malcolm X in His Own Words","eBook",null,"978-1-4824-1402-8",{"$f":"HYPERLINK(\"https://www.garethstevens.com/\"&Table1[[#This Row],[ISBN]],\"Weblink\")","v":"Weblink"},2015,"August 2014",null,null,"Author","Sarah Machajewski",null,null,44,null,"U","1060L","Grade 4 - 5","Grade 4 - 6","Malcolm X, the famous African American activist, remains a figure of controversy years after his assassination in 1965. This book uses the embattled leader's own words to explore his life, from the early death of his father to his own untimely death. It also examines Malcolm's teachings, which at times countered the civil rights movement of Martin Luther King Jr. This biography uses primary sources to reveal a period of great turbulence and social discontent in the United States.","English",26.6,19.95,"320.54","32 pp.",{"$f":"Table1[[#This Row],[QTY]]*Table1[[#This Row],['# Books]]","v":0},{"$f":"Table1[[#This Row],[QTY]]*Table1[[#This Row],[S&L Price]]","v":0}]
[null,null,148,"My Place in History",1,"My Journey Aboard the Mayflower","eBook",null,"978-1-5382-0220-3",{"$f":"HYPERLINK(\"https://www.garethstevens.com/\"&Table1[[#This Row],[ISBN]],\"Weblink\")","v":"Weblink"},2018,"August 2017",null,null,"Author","Max Caswell","4.6","0.5",null,null,"L",null,"Grade 2 - 3","Grade 2 - 5","The journey of the Mayflower, though it was hundreds of years ago, remains as topical as ever as the first American immigration story. This book is a fictional yet tightly researched account of the life of an 8-year-old girl riding across the ocean with her family into the unknown. Fact boxes on every spread provide succinct history lessons that contextualize the events, people, and lifestyle chronicled in each journal entry. Maps and illustrations provide further graphic explanation to engage young readers.","English",22.6,16.95,"973.2--dc23","24 pp.",{"$f":"Table1[[#This Row],[QTY]]*Table1[[#This Row],['# Books]]","v":0},{"$f":"Table1[[#This Row],[QTY]]*Table1[[#This Row],[S&L Price]]","v":0}]
[null,null,148,"My Place in History",1,"My Life as a Chinese Immigrant","Library Bound Book",null,"978-1-5382-0295-1",{"$f":"HYPERLINK(\"https://www.garethstevens.com/\"&Table1[[#This Row],[ISBN]],\"Weblink\")","v":"Weblink"},2018,"August 2017","Library","8.500 X 8.500","Author","Max Caswell","4.9","0.5",null,null,"M",null,"Grade 2 - 3","Grade 2 - 5","The progress of America after the Industrial Revolution came at the cost of many unnamed lives, and there's no story more indicative of this than the plight of the Chinese men who built the Transcontinental Railroad. Young readers will be transported through first-person accounts, and even a Western Union telegram, into the Central Pacific camp, learning how track was laid, how perilous the job was, and how deeply racism affected these men who thanklessly connected the coasts. Black-and-white photography brings historical details into sharp focus, while a table of powerful statistics exposes the incredible reality of the epic project.","English",22.6,16.95,"973/.04951--dc23","24 pp.",{"$f":"Table1[[#This Row],[QTY]]*Table1[[#This Row],['# Books]]","v":0},{"$f":"Table1[[#This Row],[QTY]]*Table1[[#This Row],[S&L Price]]","v":0}]
[null,null,148,"My Place in History",1,"My Life in a Chinook Village","Library Bound Book",null,"978-1-5382-0303-3",{"$f":"HYPERLINK(\"https://www.garethstevens.com/\"&Table1[[#This Row],[ISBN]],\"Weblink\")","v":"Weblink"},2018,"August 2017","Library","8.500 X 8.500","Author","Max Caswell","5.1","0.5",null,null,"L",null,"Grade 2 - 3","Grade 2 - 5","So much of life today is different from life in an 1800s Chinook village. Located in the present-day states of Washington and Oregon, the Chinook are one of North America's native cultures. This book introduces young readers to the lifestyle of the Chinook through a fictional journal chronicling the daily life of an 8-year-old fisherman's son. Fact boxes throughout the text present the historical context for the journal's stories, and an engaging table sums up just how different their life was from young readers' lives today.","English",22.6,16.95,"979.5004/9741--dc23","24 pp.",{"$f":"Table1[[#This Row],[QTY]]*Table1[[#This Row],['# Books]]","v":0},{"$f":"Table1[[#This Row],[QTY]]*Table1[[#This Row],[S&L Price]]","v":0}]
[null,null,148,"My Place in History",1,"My Life on the Trail of Tears","eBook",null,"978-1-5382-0312-5",{"$f":"HYPERLINK(\"https://www.garethstevens.com/\"&Table1[[#This Row],[ISBN]],\"Weblink\")","v":"Weblink"},2018,"August 2017",null,null,"Author","Max Caswell","4.9","0.5",null,null,"M",null,"Grade 2 - 3","Grade 2 - 5","The Trail of Tears was not a one-time event, but actually a 2-decade policy of relocating Native Americans to the West in forced marches. Young readers will learn history through the fictional journal entries of Awenasa, a young Cherokee girl. This book communicates history through powerful emotions, encouraging readers to thoughtfully reflect on the plight of the natives of North America. Fact boxes throughout the text illuminate important historical points. At the end of the book, a table of powerful statistics exposes the incredible reality of these heartbreaking decades in American history.","English",22.6,16.95,"975.004/97557--dc23","24 pp.",{"$f":"Table1[[#This Row],[QTY]]*Table1[[#This Row],['# Books]]","v":0},{"$f":"Table1[[#This Row],[QTY]]*Table1[[#This Row],[S&L Price]]","v":0}]
[null,null,148,"My Place in History",1,"My Life as a Pioneer","Library Bound Book",null,"978-1-4824-3990-8",{"$f":"HYPERLINK(\"https://www.garethstevens.com/\"&Table1[[#This Row],[ISBN]],\"Weblink\")","v":"Weblink"},2016,"January 2016","Library","8.500 X 8.500","Author","Lynda Arnéz","4.5","0.5",null,null,"L","840L","Grade 2 - 3","Grade 2 - 5","Living on a new homestead often meant pioneer families had to start with nothing; no house, no fields, and no neighbors. Pioneer children were expected to work just as hard as their parents. They cooked, gathered firewood, and helped in the fields, as well as going to school part of the year. Readers learn just how different life was for children on the frontier during the second half of the 19th century. Told from the perspective of a young pioneer girl, the main content covers food, clothing, and community, and historical images feature common family scenes.","English",22.6,16.95,"978'.02--dc23","24 pp.",{"$f":"Table1[[#This Row],[QTY]]*Table1[[#This Row],['# Books]]","v":0},{"$f":"Table1[[#This Row],[QTY]]*Table1[[#This Row],[S&L Price]]","v":0}]
[null,null,148,"My Place in History",1,"My Life as a Pioneer","eBook",null,"978-1-4824-3991-5",{"$f":"HYPERLINK(\"https://www.garethstevens.com/\"&Table1[[#This Row],[ISBN]],\"Weblink\")","v":"Weblink"},2016,"January 2016",null,null,"Author","Lynda Arnéz","4.5","0.5",null,null,"L","840L","Grade 2 - 3","Grade 2 - 5","Living on a new homestead often meant pioneer families had to start with nothing; no house, no fields, and no neighbors. Pioneer children were expected to work just as hard as their parents. They cooked, gathered firewood, and helped in the fields, as well as going to school part of the year. Readers learn just how different life was for children on the frontier during the second half of the 19th century. Told from the perspective of a young pioneer girl, the main content covers food, clothing, and community, and historical images feature common family scenes.","English",22.6,16.95,"978'.02--dc23","24 pp.",{"$f":"Table1[[#This Row],[QTY]]*Table1[[#This Row],['# Books]]","v":0},{"$f":"Table1[[#This Row],[QTY]]*Table1[[#This Row],[S&L Price]]","v":0}]
[null,null,148,"My Place in History",1,"My Wagon Train Adventure","Library Bound Book",null,"978-1-4824-4004-1",{"$f":"HYPERLINK(\"https://www.garethstevens.com/\"&Table1[[#This Row],[ISBN]],\"Weblink\")","v":"Weblink"},2016,"January 2016","Library","8.500 X 8.500","Author","Lynda Arnéz","4.5","0.5",null,null,"L","810L","Grade 2 - 3","Grade 2 - 5","Shortly after the birth of the United States, many people headed west to settle the new territory of the frontier. They journeyed by wagon for months on end and faced bad weather, sickness, and fears of hostile Native Americans. Historians know a lot about these wagon train journeys because of the many diaries kept by travelers! Readers meet a young wagon train traveler and, through this first-person account, learn about life on the Oregon Trail. Informational fact boxes add historical context to this narrative while images from the time period enhance the main content.","English",22.6,16.95,"978/.02--dc23","24 pp.",{"$f":"Table1[[#This Row],[QTY]]*Table1[[#This Row],['# Books]]","v":0},{"$f":"Table1[[#This Row],[QTY]]*Table1[[#This Row],[S&L Price]]","v":0}]
[null,null,149,"Weird America",1,"America's Oddest Crimes","Library Bound Book",null,"978-1-4824-5745-2",{"$f":"HYPERLINK(\"https://www.garethstevens.com/\"&Table1[[#This Row],[ISBN]],\"Weblink\")","v":"Weblink"},2017,"January 2017","Library","8.500 X 11.00","Author","Janey Levy","5.3","0.5",null,null,"R",null,"Grade 3 - 4","Grade 3 - 6","Crime and punishment can be a complicated subject, but sometimes it gets downright strange. Robberies gone wrong and attempts to cash billion-dollar checks are just some of the wacky crimes covered in this book. With colorful photographs and graphics bring these crimes to life, readers learn that criminals often have strange motivations for the odd things they do. Some even commit crimes you might never think would be punishable by law—like laughing too loud—or crimes from history that rarely happen today like train robbing.","English",26.6,19.95,"364.152’3--dc23","32 pp.",{"$f":"Table1[[#This Row],[QTY]]*Table1[[#This Row],['# Books]]","v":0},{"$f":"Table1[[#This Row],[QTY]]*Table1[[#This Row],[S&L Price]]","v":0}]
[null,null,149,"Weird America",1,"America's Oddest Historical Moments","Library Bound Book",null,"978-1-4824-5753-7",{"$f":"HYPERLINK(\"https://www.garethstevens.com/\"&Table1[[#This Row],[ISBN]],\"Weblink\")","v":"Weblink"},2017,"January 2017","Library","8.500 X 11.00","Author","M. H. Seeley","6","0.5",null,null,"R","1010L","Grade 3 - 4","Grade 3 - 6","America can be a weird place, but thankfully much of that weirdness is long in the past. From failed assassinations to the long stretch of time a town in New Jersey thought tomatoes were deadly poison, readers will love taking a trip through some of America’s strangest stories of yore. Full-color photographs paired with vivid historical retellings bring these stories to life for modern readers eager to relive some of the past’s funniest and oddest tales.","English",26.6,19.95,"973--dc23","32 pp.",{"$f":"Table1[[#This Row],[QTY]]*Table1[[#This Row],['# Books]]","v":0},{"$f":"Table1[[#This Row],[QTY]]*Table1[[#This Row],[S&L Price]]","v":0}]
[null,null,149,"Weird America",1,"America's Oddest Historical Moments","eBook",null,"978-1-4824-5754-4",{"$f":"HYPERLINK(\"https://www.garethstevens.com/\"&Table1[[#This Row],[ISBN]],\"Weblink\")","v":"Weblink"},2017,"January 2017",null,null,"Author","M. H. Seeley","6","0.5",null,null,"R","1010L","Grade 3 - 4","Grade 3 - 6","America can be a weird place, but thankfully much of that weirdness is long in the past. From failed assassinations to the long stretch of time a town in New Jersey thought tomatoes were deadly poison, readers will love taking a trip through some of America’s strangest stories of yore. Full-color photographs paired with vivid historical retellings bring these stories to life for modern readers eager to relive some of the past’s funniest and oddest tales.","English",26.6,19.95,"973--dc23","32 pp.",{"$f":"Table1[[#This Row],[QTY]]*Table1[[#This Row],['# Books]]","v":0},{"$f":"Table1[[#This Row],[QTY]]*Table1[[#This Row],[S&L Price]]","v":0}]
[null,null,149,"Weird America",1,"America's Oddest Foods","Library Bound Book",null,"978-1-4824-4013-3",{"$f":"HYPERLINK(\"https://www.garethstevens.com/\"&Table1[[#This Row],[ISBN]],\"Weblink\")","v":"Weblink"},2016,"January 2016","Library","8.500 X 11.00","Author","Joe Yerdon","5.7","0.5",null,null,"R",null,"Grade 3 - 4","Grade 3 - 6","From sea to shining sea, America loves to eat. This book takes readers on a journey through America's sometimes-wacky digestive system via its weirdest diners, restaurants, and kitchens. Readers will love diving in to the culinary interests of America's people, from strange meats like squirrel and possum to wild fruit and vegetable mixes like Jell-O salad. High-interest subject matter and amazingly odd photographs give readers a look at all the weird things people deep-fry at county fairs and the crazy concoctions different parts of the nation call \"home cooking.\"","English",26.6,19.95,"641.5973--dc23","32 pp.",{"$f":"Table1[[#This Row],[QTY]]*Table1[[#This Row],['# Books]]","v":0},{"$f":"Table1[[#This Row],[QTY]]*Table1[[#This Row],[S&L Price]]","v":0}]
[null,null,149,"Weird America",1,"America's Oddest Holidays","eBook",null,"978-1-4824-4022-5",{"$f":"HYPERLINK(\"https://www.garethstevens.com/\"&Table1[[#This Row],[ISBN]],\"Weblink\")","v":"Weblink"},2016,"January 2016",null,null,"Author","Erika Edwards","5.7","0.5",null,null,"R",null,"Grade 3 - 4","Grade 3 - 6","Every day is a holiday if someone wants it to be. No, really. America’s calendar is always adding new holidays, and some of them are truly odd. People from all over the world have moved to America, bringing unique traditions with them along the way. Other traditions are just silly and fun, such as September 19th's “Talk Like a Pirate Day.” With its high-interest subject matter and amazing photographs, this book will show readers the many holidays they’ve been missing, and maybe some they’d rather not celebrate at all.","English",26.6,19.95,"394.26--dc23","32 pp.",{"$f":"Table1[[#This Row],[QTY]]*Table1[[#This Row],['# Books]]","v":0},{"$f":"Table1[[#This Row],[QTY]]*Table1[[#This Row],[S&L Price]]","v":0}]
[null,null,149,"Weird America",1,"America's Oddest Legends","Library Bound Book",null,"978-1-4824-4033-1",{"$f":"HYPERLINK(\"https://www.garethstevens.com/\"&Table1[[#This Row],[ISBN]],\"Weblink\")","v":"Weblink"},2016,"January 2016","Library","8.500 X 11.00","Author","Caitie McAneney","5.5","0.5",null,null,"R",null,"Grade 3 - 4","Grade 3 - 6","America isn’t old when compared to other countries, but it has its fair share of odd myths and legends. From the myths of Pecos Bill to the Legend of Sleepy Hollow, our history has quirks and stories spanning all 50 states in the union. Readers explore the dark depths of storytelling in this exciting book filled with high-interest tales of American legends. Full-color photographs and freaky graphics help tell the tales that terrified—or just plain weirded out—American children for generations in certain cities or states.","English",26.6,19.95,"398.20973--dc23","32 pp.",{"$f":"Table1[[#This Row],[QTY]]*Table1[[#This Row],['# Books]]","v":0},{"$f":"Table1[[#This Row],[QTY]]*Table1[[#This Row],[S&L Price]]","v":0}]
[null,null,149,"Weird America",1,"America's Oddest Legends","eBook",null,"978-1-4824-4034-8",{"$f":"HYPERLINK(\"https://www.garethstevens.com/\"&Table1[[#This Row],[ISBN]],\"Weblink\")","v":"Weblink"},2016,"January 2016",null,null,"Author","Caitie McAneney","5.5","0.5",null,null,"R",null,"Grade 3 - 4","Grade 3 - 6","America isn’t old when compared to other countries, but it has its fair share of odd myths and legends. From the myths of Pecos Bill to the Legend of Sleepy Hollow, our history has quirks and stories spanning all 50 states in the union. Readers explore the dark depths of storytelling in this exciting book filled with high-interest tales of American legends. Full-color photographs and freaky graphics help tell the tales that terrified—or just plain weirded out—American children for generations in certain cities or states.","English",26.6,19.95,"398.20973--dc23","32 pp.",{"$f":"Table1[[#This Row],[QTY]]*Table1[[#This Row],['# Books]]","v":0},{"$f":"Table1[[#This Row],[QTY]]*Table1[[#This Row],[S&L Price]]","v":0}]
[null,null,150,"Hidden History",1,"Great Lakes Shipwrecks","eBook",null,"978-1-4824-5801-5",{"$f":"HYPERLINK(\"https://www.garethstevens.com/\"&Table1[[#This Row],[ISBN]],\"Weblink\")","v":"Weblink"},2017,"January 2017",null,null,"Author","Melissa Raé Shofner","6.3","1",null,null,"T","1040L","Grade 4 - 5","Grade 4 - 6","The Great Lakes are the largest group of freshwater lakes on Earth and have always been important channels of shipping and trade. Though they are lakes, their waters have proven to be as challenging as the oceans. That’s why there are more than 6,000 shipwrecks in the Great Lakes! This captivating book relates the stories of some of these wrecks, including the Edmund Fitzgerald, Argo, and Lady Elgin, their survivors, and the not-so-lucky. It also explains how wrecks are found and what happens after their discovery. Amazing photographs and sidebar information will provoke readers’ imaginations about these undersea artifacts.","English",26.6,19.95,"917.704--dc23","32 pp.",{"$f":"Table1[[#This Row],[QTY]]*Table1[[#This Row],['# Books]]","v":0},{"$f":"Table1[[#This Row],[QTY]]*Table1[[#This Row],[S&L Price]]","v":0}]
[null,null,150,"Hidden History",1,"The African Burial Ground","Library Bound Book",null,"978-1-4824-5789-6",{"$f":"HYPERLINK(\"https://www.garethstevens.com/\"&Table1[[#This Row],[ISBN]],\"Weblink\")","v":"Weblink"},2017,"January 2017","Library","6.500 X 9.125","Author","Therese M. Shea","6.5","1",null,null,"S","990L","Grade 4 - 5","Grade 4 - 6","In 1991, preparation for the construction of a new federal office building led to a startling discovery: a skeleton. Further excavation exposed the bones of 420 men, women, and children. This area of New York had been a burial ground set aside for both free and enslaved Africans during the 1600s and 1700s. It’s thought to be one of the most important archaeological discoveries of the 20th century. This noteworthy book—which includes sidebars, fact boxes, a timeline, and maps—fills in the gaps of history books, exposing much about what life was like in colonial New York for Africans.","English",26.6,19.95,"974.7/01--dc23","32 pp.",{"$f":"Table1[[#This Row],[QTY]]*Table1[[#This Row],['# Books]]","v":0},{"$f":"Table1[[#This Row],[QTY]]*Table1[[#This Row],[S&L Price]]","v":0}]
[null,null,151,"Be The Change! Shaping Your Community",6,"Be The Change! Shaping Your Community","Library Set",null,"978-1-5382-2178-5",{"$f":"HYPERLINK(\"https://www.garethstevens.com/\"&Table1[[#This Row],[ISBN]],\"Weblink\")","v":"Weblink"},2019,"August 2018","Library","8.500 X 11.00",null,null,null,null,null,null,null,null,"Grade 3 - 4","Grade 3 - 6","For all those young readers who want to change the world, finally there's a series that actually tells them how. Veteran authors have teamed up with Gareth Stevens to inspire young readers. Each book features a unique layout with two distinct themes: one teaches about the history and people behind these calls to civic action, the other engages readers directly with age-appropriate tools to achieve their goals. Young readers' lives and experiences are directly connected to those in the book through accessible main text and \"Your Turn!\" sidebars. Features include: Suggested reading and websites provide readers with further learning opportunities. First of their kind, with little precedent in elementary publications. Engages readers in age-appropriate ways.","English",159.6,119.7,null,"32 pp.",{"$f":"Table1[[#This Row],[QTY]]*Table1[[#This Row],['# Books]]","v":0},{"$f":"Table1[[#This Row],[QTY]]*Table1[[#This Row],[S&L Price]]","v":0}]
[null,null,151,"Be The Change! Shaping Your Community",1,"Be a Citizen Scientist!","Library Bound Book",null,"978-1-5382-1995-9",{"$f":"HYPERLINK(\"https://www.garethstevens.com/\"&Table1[[#This Row],[ISBN]],\"Weblink\")","v":"Weblink"},2019,"August 2018","Library","8.500 X 11.00","Author","Michael Rajczak",null,null,null,null,"O",null,"Grade 3 - 4","Grade 3 - 6","Citizen science, when scientists need observations from ordinary people to build a database and complete research, is hot right now in many science fields. Climate change, migration patterns, plant growth, population changes, and more require an all-hands-on-deck approach to data gathering that allows even young readers to participate in scientific pursuits. But how? This book, written by a veteran teacher, answers all the questions children have about how, where, and why it's so important to engage in citizen science. Accessible language and web resources throughout the text point young readers in the right direction.","English",26.6,19.95,"500.2072'1--dc23","32 pp.",{"$f":"Table1[[#This Row],[QTY]]*Table1[[#This Row],['# Books]]","v":0},{"$f":"Table1[[#This Row],[QTY]]*Table1[[#This Row],[S&L Price]]","v":0}]
[null,null,151,"Be The Change! Shaping Your Community",1,"Be a Conservationist!","eBook",null,"978-1-5382-2004-7",{"$f":"HYPERLINK(\"https://www.garethstevens.com/\"&Table1[[#This Row],[ISBN]],\"Weblink\")","v":"Weblink"},2019,"August 2018",null,null,"Author","Matt Jankowski",null,null,null,null,"O",null,"Grade 3 - 4","Grade 3 - 6","The planet needs help now more than ever. Habitats are at risk across the globe, and need our help to sustain the plant and animal life that depend on them. So many books for young readers talk about species that need conservation help, but there's little in the way of showing readers how they can actually help at their age. This book will not only inspire, but also direct young readers on how to act, helping the species they care about in their community. Students are called to action with \"Your Turn!\" sidebars throughout the text.","English",26.6,19.95,"363.7092'53--dc23","32 pp.",{"$f":"Table1[[#This Row],[QTY]]*Table1[[#This Row],['# Books]]","v":0},{"$f":"Table1[[#This Row],[QTY]]*Table1[[#This Row],[S&L Price]]","v":0}]
[null,null,151,"Be The Change! Shaping Your Community",1,"Spread Your Message!","Library Bound Book",null,"978-1-5382-2015-3",{"$f":"HYPERLINK(\"https://www.garethstevens.com/\"&Table1[[#This Row],[ISBN]],\"Weblink\")","v":"Weblink"},2019,"August 2018","Library","8.500 X 11.00","Author","Heather Leaderstorf",null,null,null,null,"O",null,"Grade 3 - 4","Grade 3 - 6","Young readers have a lot they're passionate about. This book details everything they need to know about how to go about spreading the word about what they love. The text includes a graphic on the age requirements set for different social media platforms to give them understandable guidelines. The unique layout pairs advice about building public speaking and writing skills with specific calls to civic action that are appropriate for elementary school readers. Examples of children who've spread their messages abound throughout the accessible, fun text, sidebars, and captions.","English",26.6,19.95,"808--dc23","32 pp.",{"$f":"Table1[[#This Row],[QTY]]*Table1[[#This Row],['# Books]]","v":0},{"$f":"Table1[[#This Row],[QTY]]*Table1[[#This Row],[S&L Price]]","v":0}]
[null,null,151,"Our Basic Freedoms",1,"Freedom of Religion","Library Bound Book",null,"978-1-4824-6184-8",{"$f":"HYPERLINK(\"https://www.garethstevens.com/\"&Table1[[#This Row],[ISBN]],\"Weblink\")","v":"Weblink"},2017,"January 2017","Library","7.250 X 9.250","Author","Stephanie Hoover",null,null,null,null,"W","1090L","Grade 6","Grade 6 - 8","The freedom to practice religion without government interference predates the founding of the United States. The Puritans and other religions came to the New World partly so they could openly worship without persecution. While persecution certainly still existed, this idea became a big part of the First Amendment to the Constitution. This detailed volume introduces readers to the right to freedom of religion through historical context, challenges to that right, and Supreme Court rulings on cases dealing with freedom of religion. The main content is unbiased and written in clear language appropriate for readers exploring this important topic.","English",31.95,23.95,"323.44’20973--dc23","48 pp.",{"$f":"Table1[[#This Row],[QTY]]*Table1[[#This Row],['# Books]]","v":0},{"$f":"Table1[[#This Row],[QTY]]*Table1[[#This Row],[S&L Price]]","v":0}]
[null,null,151,"Our Basic Freedoms",1,"Freedom of Speech","Library Bound Book",null,"978-1-4824-6186-2",{"$f":"HYPERLINK(\"https://www.garethstevens.com/\"&Table1[[#This Row],[ISBN]],\"Weblink\")","v":"Weblink"},2017,"January 2017","Library","7.250 X 9.250","Author","Jennifer Mason",null,null,null,null,"W","1110L","Grade 6","Grade 6 - 8","Sometimes, citizens believe having freedom of speech means they can say anything with no consequences. But over time, laws and Supreme Court rulings have limited the full “freedom” of this right to exclude hate speech and other potentially harmful expressions. Through examples, historical context, and clear explanations, readers learn the full extent of their freedom of speech. Modern court cases, particularly those having to do with students, show the relevance of this right in readers’ lives. Fact boxes, sidebars, historical images, and full-color photographs add even more information about the history of the Bill of Rights and the First Amendment.","English",31.95,23.95,"342.7308’53--dc23","48 pp.",{"$f":"Table1[[#This Row],[QTY]]*Table1[[#This Row],['# Books]]","v":0},{"$f":"Table1[[#This Row],[QTY]]*Table1[[#This Row],[S&L Price]]","v":0}]
[null,null,151,"Our Basic Freedoms",1,"Freedom of the Press","eBook",null,"978-1-4824-6189-3",{"$f":"HYPERLINK(\"https://www.garethstevens.com/\"&Table1[[#This Row],[ISBN]],\"Weblink\")","v":"Weblink"},2017,"January 2017",null,null,"Author","Stephanie Hoover",null,null,null,null,"W","1060L","Grade 6","Grade 6 - 8","The press had been called the “fourth estate,” and in history has served as an important check on the US government’s power. As new technology allows who is the “press” to grow and become less certain, the right to freedom of the press is sure to continue being challenged. This book prepares readers to understand future challenges by introducing this important part of the First Amendment. Including detailed historical context on both the right to freedom of the press and the press itself, the unbiased main content supplements the social studies curriculum with clear, relevant information.","English",31.95,23.95,"342.7308’53--dc23","48 pp.",{"$f":"Table1[[#This Row],[QTY]]*Table1[[#This Row],['# Books]]","v":0},{"$f":"Table1[[#This Row],[QTY]]*Table1[[#This Row],[S&L Price]]","v":0}]
[null,null,152,"Road Trip: Famous Routes",6,"Road Trip: Famous Routes","Library Set",null,"978-1-4824-4603-6",{"$f":"HYPERLINK(\"https://www.garethstevens.com/\"&Table1[[#This Row],[ISBN]],\"Weblink\")","v":"Weblink"},2017,"August 2016","Library","8.500 X 8.500",null,null,null,null,null,null,null,null,"Grade 2 - 3","Grade 2 - 5","Many pioneers reached Oregon Country via the Oregon Trail. Before highways, Route 66 gave cars a way to cross a big part of the country. Travel has changed a lot since the United States was born, but old well-known routes are still worth exploring! Readers learn that, even though time has passed, they can hike the Appalachian Trail or walk beside the Erie Canal. The main content includes the history of these routes, as well as the ways modern Americans travel them. Full-color photographs showcase both the past and present of famous American routes and are sure to increase readers’ appetite for travel!","English",135.6,101.7,null,"24 pp.",{"$f":"Table1[[#This Row],[QTY]]*Table1[[#This Row],['# Books]]","v":0},{"$f":"Table1[[#This Row],[QTY]]*Table1[[#This Row],[S&L Price]]","v":0}]
[null,null,152,"Road Trip: Famous Routes",1,"The Erie Canal","Library Bound Book",null,"978-1-4824-4955-6",{"$f":"HYPERLINK(\"https://www.garethstevens.com/\"&Table1[[#This Row],[ISBN]],\"Weblink\")","v":"Weblink"},2017,"August 2016","Library","8.500 X 8.500","Author","Walter LaPlante","5.5","0.5",null,null,"L",null,"Grade 2 - 3","Grade 2 - 5","During the early 1800s, it was difficult and expensive to transport goods from the East Coast to the Great Lakes region. The Erie Canal connected these two areas, causing a population boom in western New York and encouraging settlement around the Great Lakes. Readers learn the history of this important canal through the main content and fun fact boxes, and also discover the many ways travelers can use and enjoy the canal today. Full-color photographs introduce cool destinations near the canal and showcase the locks and other canal structures still in existence.","English",22.6,16.95,"386/.48/09747--dc23","24 pp.",{"$f":"Table1[[#This Row],[QTY]]*Table1[[#This Row],['# Books]]","v":0},{"$f":"Table1[[#This Row],[QTY]]*Table1[[#This Row],[S&L Price]]","v":0}]
[null,null,152,"Road Trip: Famous Routes",1,"The Erie Canal","eBook",null,"978-1-4824-4949-5",{"$f":"HYPERLINK(\"https://www.garethstevens.com/\"&Table1[[#This Row],[ISBN]],\"Weblink\")","v":"Weblink"},2017,"August 2016",null,null,"Author","Walter LaPlante","5.5","0.5",null,null,"L",null,"Grade 2 - 3","Grade 2 - 5","During the early 1800s, it was difficult and expensive to transport goods from the East Coast to the Great Lakes region. The Erie Canal connected these two areas, causing a population boom in western New York and encouraging settlement around the Great Lakes. Readers learn the history of this important canal through the main content and fun fact boxes, and also discover the many ways travelers can use and enjoy the canal today. Full-color photographs introduce cool destinations near the canal and showcase the locks and other canal structures still in existence.","English",22.6,16.95,"386/.48/09747--dc23","24 pp.",{"$f":"Table1[[#This Row],[QTY]]*Table1[[#This Row],['# Books]]","v":0},{"$f":"Table1[[#This Row],[QTY]]*Table1[[#This Row],[S&L Price]]","v":0}]
[null,null,152,"Road Trip: Famous Routes",1,"The Pan-American Highway","Library Bound Book",null,"978-1-4824-4669-2",{"$f":"HYPERLINK(\"https://www.garethstevens.com/\"&Table1[[#This Row],[ISBN]],\"Weblink\")","v":"Weblink"},2017,"August 2016","Library","8.500 X 8.500","Author","Benjamin Proudfit","5.5","0.5",null,null,"L",null,"Grade 2 - 3","Grade 2 - 5","It might seem impossible to drive from Alaska to Argentina, but with a passport handy, that's a road trip people can take. The Pan-American Highway is a system of connected roads and highways that travel roughly north to south through North and South America. Readers learn about the many environments travelers would drive through on such a journey as well as the history of the highway. Full-color photographs illustrate the many cool destinations along the way as fun fact boxes suggest places to see along the route.","English",22.6,16.95,"917.04--dc23","24 pp.",{"$f":"Table1[[#This Row],[QTY]]*Table1[[#This Row],['# Books]]","v":0},{"$f":"Table1[[#This Row],[QTY]]*Table1[[#This Row],[S&L Price]]","v":0}]
[null,null,152,"The Land and the People",1,"China","Library Bound Book",null,"978-1-4824-5113-9",{"$f":"HYPERLINK(\"https://www.garethstevens.com/\"&Table1[[#This Row],[ISBN]],\"Weblink\")","v":"Weblink"},2017,"August 2016","Library","8.500 X 11.00","Author","Anita Ganeri",null,null,null,null,"S",null,"Grade 5","Grade 5 - 6","China is a land of cultural treasures. The Forbidden City, the Great Wall, and the Terracotta Army are all found within its borders. It’s a country of amazing natural resources, including the mighty river called the Yangtze. It’s also a nation of busy cities, delectable foods, and diverse peoples. Rather than hop on a plane, readers can crack this book open to take a tour of the real China, learning about its history, economy, and geography along the way. Vibrant photographs, surprising statistics, and interesting sidebars and fact boxes make this volume an inviting addition to any social studies collection.","English",31.95,23.95,"951--dc23","48 pp.",{"$f":"Table1[[#This Row],[QTY]]*Table1[[#This Row],['# Books]]","v":0},{"$f":"Table1[[#This Row],[QTY]]*Table1[[#This Row],[S&L Price]]","v":0}]
[null,null,152,"The Land and the People",1,"India","eBook",null,"978-1-4824-5110-8",{"$f":"HYPERLINK(\"https://www.garethstevens.com/\"&Table1[[#This Row],[ISBN]],\"Weblink\")","v":"Weblink"},2017,"August 2016",null,null,"Author","Susie Brooks",null,null,40,null,"S","1070L","Grade 5","Grade 5 - 6","Vibrant cities, colorful rainforests, massive mountains, and beautiful beaches all await in the amazing country called India. While India is full of visual wonders, a characteristic featured in this volume’s photographs, it’s also a diverse nation with a fascinating history. Readers will discover all this about India as well as learn about its current thriving economy, multiethnic cultures, and daily lifestyles. Sidebars and statistics throughout the text offer additional interesting information that will help readers understand more about this captivating country.","English",31.95,23.95,"954--dc23","48 pp.",{"$f":"Table1[[#This Row],[QTY]]*Table1[[#This Row],['# Books]]","v":0},{"$f":"Table1[[#This Row],[QTY]]*Table1[[#This Row],[S&L Price]]","v":0}]
[null,null,152,"The Land and the People",1,"Japan","eBook",null,"978-1-4824-5106-1",{"$f":"HYPERLINK(\"https://www.garethstevens.com/\"&Table1[[#This Row],[ISBN]],\"Weblink\")","v":"Weblink"},2017,"August 2016",null,null,"Author","Susie Brooks",null,null,null,null,"S",null,"Grade 5","Grade 5 - 6","Sleek skyscrapers, foreboding volcanoes, high-tech transportation systems, and a world-famous cuisine are all unforgettable aspects of a trip to Japan. If readers can’t get there in person, this book, full of thought-provoking sidebars and fact boxes, is the next best thing. In fact, its comprehensive content delves into Japan’s history, economy, and daily life, too. Beautiful photographs transport readers to the very heart of this unique and visually exciting country.","English",31.95,23.95,"952--dc23","48 pp.",{"$f":"Table1[[#This Row],[QTY]]*Table1[[#This Row],['# Books]]","v":0},{"$f":"Table1[[#This Row],[QTY]]*Table1[[#This Row],[S&L Price]]","v":0}]
[null,null,153,"Myths Across the Map",6,"Myths Across the Map","Library Set",null,"978-1-5382-1432-9",{"$f":"HYPERLINK(\"https://www.garethstevens.com/\"&Table1[[#This Row],[ISBN]],\"Weblink\")","v":"Weblink"},2018,"January 2018","Library","7.250 X 9.250",null,null,null,null,null,null,null,null,"Grade 5 - 6","Grade 4 - 8","The myths and legends that have spread across the globe are pervasive in countless cultures. Folklore about vampires, fairies, mermaids, and zombies may be a large part of popular entertainment today, but this mythology has been around for hundreds of years. There’s something fascinating about them, and perhaps a hint of truth can be found in even the creepiest and most outlandish tales. These high-interest volumes, for lovers of lore and fans of fiction alike, present multiple myths along with factual information that sheds some light on their origins. Dynamic images include real-life locations and historical paintings.","English",191.7,143.69999999999999,null,"48 pp.",{"$f":"Table1[[#This Row],[QTY]]*Table1[[#This Row],['# Books]]","v":0},{"$f":"Table1[[#This Row],[QTY]]*Table1[[#This Row],[S&L Price]]","v":0}]
[null,null,153,"Myths Across the Map",1,"Mermaid Myths","Library Bound Book",null,"978-1-5382-1372-8",{"$f":"HYPERLINK(\"https://www.garethstevens.com/\"&Table1[[#This Row],[ISBN]],\"Weblink\")","v":"Weblink"},2018,"January 2018","Library","7.250 X 9.250","Author","Cynthia O'Brien","5.4","1",null,null,"U",null,"Grade 5 - 6","Grade 4 - 8","Are mermaids compassionate beings waiting to save drowning sailors or vindictive creatures hoping to lure people to their deaths? The answer depends on the lore, which is vast and varied. Through the centuries, people around the world have reported seeing real mermaids on rocks or bobbing in the sea. Even in the 21st century, people are drawn to the mystery of the mermaid. Readers, too, will find the many mermaid stories and hoaxes in this engaging book entertaining as well as educational. Folklore is a unique and entertaining window into studies of world culture.","English",31.95,23.95,"398.21--dc23","48 pp.",{"$f":"Table1[[#This Row],[QTY]]*Table1[[#This Row],['# Books]]","v":0},{"$f":"Table1[[#This Row],[QTY]]*Table1[[#This Row],[S&L Price]]","v":0}]
[null,null,153,"Myths Across the Map",1,"Werewolf Myths","eBook",null,"978-1-5382-1377-3",{"$f":"HYPERLINK(\"https://www.garethstevens.com/\"&Table1[[#This Row],[ISBN]],\"Weblink\")","v":"Weblink"},2018,"January 2018",null,null,"Author","Jennifer Mason","7.2","1",null,null,"U",null,"Grade 5 - 6","Grade 4 - 8","The werewolf, or lycanthrope, is a human that can take an animal form or an animal that can take human form. Shape-shifters are prevalent in the legends of world cultures, including the Greek minotaur, Celtic selkies, Navajo skin-walkers, and more, dating back to the oldest myths from around the globe. Cave paintings from 25,000 years ago depict images of half-human half-animal figures. This thrilling volume is full of grisly tales as well as surprising scientific explanations for some werewolf anecdotes. Remarkable artwork, coupled with spooky fact boxes, aid in producing a truly eerie reading experience.","English",31.95,23.95,"398.24'54--dc23","48 pp.",{"$f":"Table1[[#This Row],[QTY]]*Table1[[#This Row],['# Books]]","v":0},{"$f":"Table1[[#This Row],[QTY]]*Table1[[#This Row],[S&L Price]]","v":0}]
[null,null,153,"Myths Across the Map",1,"Zombie Myths","Library Bound Book",null,"978-1-5382-1378-0",{"$f":"HYPERLINK(\"https://www.garethstevens.com/\"&Table1[[#This Row],[ISBN]],\"Weblink\")","v":"Weblink"},2018,"January 2018","Library","7.250 X 9.250","Author","Jennifer Mason","7.5","1",null,null,"U",null,"Grade 5 - 6","Grade 4 - 8","Today, thanks to movies, video games, comic books, graphic novels, and television series, the world has a pretty distinct idea about what zombies are. Hundreds of years ago, the word \"zombie\" may have been handed down from jumbie, a West Indian term for ghost, or nzambi, meaning \"spirit of the dead,\" in Congo, Africa. Brainless, reanimated corpses have long haunted the myths of many cultures around the world. The most shocking and fascinating zombie origins and lore are compiled in the unnerving pages of this high-interest volume, which also includes intriguing scientific roots of the zombie myth.","English",31.95,23.95,"398.21--dc23","48 pp.",{"$f":"Table1[[#This Row],[QTY]]*Table1[[#This Row],['# Books]]","v":0},{"$f":"Table1[[#This Row],[QTY]]*Table1[[#This Row],[S&L Price]]","v":0}]
[null,null,154,"Native American Cultures",1,"Native American Ceremonies and Celebrations: From Potlatches to Powwows","Library Bound Book",null,"978-1-5382-0890-8",{"$f":"HYPERLINK(\"https://www.garethstevens.com/\"&Table1[[#This Row],[ISBN]],\"Weblink\")","v":"Weblink"},2018,"January 2018","Library","8.500 X 8.500","Author","Kate Mikoley",null,null,null,null,"O","900L","Grade 2 - 3","Grade 2 - 5","Native American celebrations are packed with symbolic gestures and intriguing details. A kind of party called a potlatch, staged by native peoples of the Pacific Northwest, was marked by guests receiving gifts, not giving them, and were sometimes put on to get back at an enemy. This appealing volume about a high-interest aspect of native cultures highlights several celebrations and ceremonies important to Native Americans across North America. Thought-provoking fact boxes, historical images, and modern-day customs will engage readers of all levels.","English",25.25,18.95,"970.004'97--dc23","32 pp.",{"$f":"Table1[[#This Row],[QTY]]*Table1[[#This Row],['# Books]]","v":0},{"$f":"Table1[[#This Row],[QTY]]*Table1[[#This Row],[S&L Price]]","v":0}]
[null,null,154,"Native American Cultures",1,"Native American Food: From Salmon to Succotash","Library Bound Book",null,"978-1-5382-0878-6",{"$f":"HYPERLINK(\"https://www.garethstevens.com/\"&Table1[[#This Row],[ISBN]],\"Weblink\")","v":"Weblink"},2018,"January 2018","Library","8.500 X 8.500","Author","Melissa Raé Shofner",null,null,null,null,"N","970L","Grade 2 - 3","Grade 2 - 5","Native Americans hunted, fished, farmed, gathered, and raised animals for food. Depending on where they lived, this meant one tribe’s diet could be vastly different from another tribe’s. Food is always an attention-grabbing topic, and readers will find this book especially interesting as they learn about the culinary dishes and traditions of a variety of peoples across America. Fact boxes offer additional information and contribute to the eye-catching layout.","English",25.25,18.95,"641.59/297--dc23","32 pp.",{"$f":"Table1[[#This Row],[QTY]]*Table1[[#This Row],['# Books]]","v":0},{"$f":"Table1[[#This Row],[QTY]]*Table1[[#This Row],[S&L Price]]","v":0}]
[null,null,154,"Native American Cultures",1,"Native American Homes: From Longhouses to Wigwams","eBook",null,"978-1-5382-1276-9",{"$f":"HYPERLINK(\"https://www.garethstevens.com/\"&Table1[[#This Row],[ISBN]],\"Weblink\")","v":"Weblink"},2018,"January 2018",null,null,"Author","P. V. Knight",null,null,28,null,"N","870L","Grade 2 - 3","Grade 2 - 5","Most native peoples live in modern homes today, but years ago, they lived in vastly different dwellings. These inventive buildings were constructed of available natural resources, such as wood, grass, and adobe bricks, without the use of machinery we rely on today. Readers will appreciate the vivid photographs that accompany the interesting text and surprising fact boxes in this indispensable volume, beneficial to any elementary social studies classroom.","English",25.25,18.95,"392.3'60899708--dc23","32 pp.",{"$f":"Table1[[#This Row],[QTY]]*Table1[[#This Row],['# Books]]","v":0},{"$f":"Table1[[#This Row],[QTY]]*Table1[[#This Row],[S&L Price]]","v":0}]
[null,null,154,"Native American Cultures",1,"The Apache People","Library Bound Book",null,"978-1-4824-1975-7",{"$f":"HYPERLINK(\"https://www.garethstevens.com/\"&Table1[[#This Row],[ISBN]],\"Weblink\")","v":"Weblink"},2015,"January 2015","Library","8.500 X 8.500","Author","Mark J. Harasymiw ",null,null,30,null,"N","880L","Grade 2 - 3","Grade 2 - 5","From hunting buffalo on the plains to harvesting the bulb of the agave plant in the rocky desert, the Apache have shown great resourcefulness throughout their history. This volume allows readers a glimpse into the rich culture of this native people, including the significant and sometimes tragic events that changed their traditional way of life forever. Famous Apache leaders Cochise and Geronimo are highlighted in the text as well as life on modern Apache reservations. Carefully chosen photographs and graphic organizers emphasize key ideas about Apache customs and history.","English",25.25,18.95,"979.004","32 pp.",{"$f":"Table1[[#This Row],[QTY]]*Table1[[#This Row],['# Books]]","v":0},{"$f":"Table1[[#This Row],[QTY]]*Table1[[#This Row],[S&L Price]]","v":0}]
[null,null,154,"Native American Cultures",1,"The Cheyenne People","eBook",null,"978-1-4824-1984-9",{"$f":"HYPERLINK(\"https://www.garethstevens.com/\"&Table1[[#This Row],[ISBN]],\"Weblink\")","v":"Weblink"},2015,"January 2015",null,null,"Author","Shalini Saxena",null,null,34,null,"O","910L","Grade 2 - 3","Grade 2 - 5","The remarkable Cheyenne have adapted to many changes throughout their history. In the 1700s, they shifted from an agricultural lifestyle to one focusing on hunting buffalo on the Great Plains. They had to adapt again in the 1870s after they were forced onto reservations. Readers will be introduced to the rich culture of the Northern and Southern Cheyenne through fascinating facts about their language, tribal societies, traditional clothing, and life on the reservations then and now. Historic photographs and colorful maps support the valuable insights into this important native people.","English",25.25,18.95,"978.004","32 pp.",{"$f":"Table1[[#This Row],[QTY]]*Table1[[#This Row],['# Books]]","v":0},{"$f":"Table1[[#This Row],[QTY]]*Table1[[#This Row],[S&L Price]]","v":0}]
[null,null,154,"Native American Cultures",1,"The Shoshone People","Library Bound Book",null,"978-1-4824-1995-5",{"$f":"HYPERLINK(\"https://www.garethstevens.com/\"&Table1[[#This Row],[ISBN]],\"Weblink\")","v":"Weblink"},2015,"January 2015","Library","8.500 X 8.500","Author","Kristen Rajczak Nelson",null,null,30,null,"N","860L","Grade 2 - 3","Grade 2 - 5","The Shoshone people's history is forever tied to the period known as westward expansion in the United States. Occupying lands in present-day Idaho, Wyoming, Utah, California, and Nevada, the Shoshone tribe lived in western North America for hundreds of years before white settlers were drawn there by land and gold. In fact, most Shoshone never encountered a white person until the 1800s! Readers are introduced to the Shoshone people through their history and culture. Full-color photographs and historic images highlight their nomadic lifestyle, and fact boxes add interesting detail to curriculum-supporting content.","English",25.25,18.95,"978.004","32 pp.",{"$f":"Table1[[#This Row],[QTY]]*Table1[[#This Row],['# Books]]","v":0},{"$f":"Table1[[#This Row],[QTY]]*Table1[[#This Row],[S&L Price]]","v":0}]
[null,null,155,"Native Peoples of North America",1,"Native Peoples of the Arctic","Library Bound Book",null,"978-1-4824-4807-8",{"$f":"HYPERLINK(\"https://www.garethstevens.com/\"&Table1[[#This Row],[ISBN]],\"Weblink\")","v":"Weblink"},2017,"August 2016","Library","8.500 X 8.500","Author","Lynda Arnéz",null,null,null,null,"M","890L","Grade 2 - 3","Grade 2 - 5","In the Arctic, survival is paramount. Yet, for thousands of years, people have made their home in present-day Canada and Alaska among the snow and ice. They value sharing and working together to make the coldest, toughest times of the year bearable. Through migration, hunting, and fishing, the peoples of the North American Arctic have made the best of their environment. Readers discover how and why people settled so far north as well as how they lived. Historical images and photographs showcase the tools, homes, and clothing of the Arctic peoples, while fact boxes offer more insight into their culture.","English",25.25,18.95,"970.004/9712--dc23","32 pp.",{"$f":"Table1[[#This Row],[QTY]]*Table1[[#This Row],['# Books]]","v":0},{"$f":"Table1[[#This Row],[QTY]]*Table1[[#This Row],[S&L Price]]","v":0}]
[null,null,155,"Native Peoples of North America",1,"Native Peoples of the Arctic","eBook",null,"978-1-4824-4769-9",{"$f":"HYPERLINK(\"https://www.garethstevens.com/\"&Table1[[#This Row],[ISBN]],\"Weblink\")","v":"Weblink"},2017,"August 2016",null,null,"Author","Lynda Arnéz",null,null,null,null,"M","890L","Grade 2 - 3","Grade 2 - 5","In the Arctic, survival is paramount. Yet, for thousands of years, people have made their home in present-day Canada and Alaska among the snow and ice. They value sharing and working together to make the coldest, toughest times of the year bearable. Through migration, hunting, and fishing, the peoples of the North American Arctic have made the best of their environment. Readers discover how and why people settled so far north as well as how they lived. Historical images and photographs showcase the tools, homes, and clothing of the Arctic peoples, while fact boxes offer more insight into their culture.","English",25.25,18.95,"970.004/9712--dc23","32 pp.",{"$f":"Table1[[#This Row],[QTY]]*Table1[[#This Row],['# Books]]","v":0},{"$f":"Table1[[#This Row],[QTY]]*Table1[[#This Row],[S&L Price]]","v":0}]
[null,null,155,"Native Peoples of North America",1,"Native Peoples of the Northeast","eBook",null,"978-1-4824-4786-6",{"$f":"HYPERLINK(\"https://www.garethstevens.com/\"&Table1[[#This Row],[ISBN]],\"Weblink\")","v":"Weblink"},2017,"August 2016",null,null,"Author","Barbara M. Linde",null,null,24,null,"M","890L","Grade 2 - 3","Grade 2 - 5","A lot of what many people know about the native groups in the northeastern part of North America comes from colonial history. The Wampanoag met the Puritans as they made their home at Plymouth. The Powhatan group of the Algonquin people had a large role in the history of the Jamestown Settlement in Virginia. However, the history of the native groups living in modern New York, Massachusetts, Ohio, Pennsylvania, Maine, and northern Virginia began long before European settlement! Readers meet several individual groups of native peoples and explore the distinguishing features of northeastern life, society, and customs. Historical images and full-color photographs help illustrate the lifestyles of these groups.","English",25.25,18.95,"974.004/97--dc23","32 pp.",{"$f":"Table1[[#This Row],[QTY]]*Table1[[#This Row],['# Books]]","v":0},{"$f":"Table1[[#This Row],[QTY]]*Table1[[#This Row],[S&L Price]]","v":0}]
[null,null,155,"Native Peoples of North America",1,"Native Peoples of the Southwest","Library Bound Book",null,"978-1-4824-4820-7",{"$f":"HYPERLINK(\"https://www.garethstevens.com/\"&Table1[[#This Row],[ISBN]],\"Weblink\")","v":"Weblink"},2017,"August 2016","Library","8.500 X 8.500","Author","Amy Hayes",null,null,null,null,"M","900L","Grade 2 - 3","Grade 2 - 5","The Apache, Navajo, and Pueblo peoples are often part of the social studies curriculum. However, they aren’t the only native groups that come from the American southwest! Readers are introduced to some of the largest groups of native peoples in the southwest while learning about the main ways native peoples lived, ate, and dressed in this region. Complemented by full-color photographs, historical images, and fun fact boxes, the main content includes the traditional culture of the groups who lived in parts of the states of Colorado, Utah, Nevada, New Mexico, Texas, and California, in addition to northern Mexico.","English",25.25,18.95,"979.004/97--dc23","32 pp.",{"$f":"Table1[[#This Row],[QTY]]*Table1[[#This Row],['# Books]]","v":0},{"$f":"Table1[[#This Row],[QTY]]*Table1[[#This Row],[S&L Price]]","v":0}]
[null,null,156,"Discovering Ancient Civilizations",1,"The Ancient Egyptians","Library Bound Book",null,"978-1-4824-5069-9",{"$f":"HYPERLINK(\"https://www.garethstevens.com/\"&Table1[[#This Row],[ISBN]],\"Weblink\")","v":"Weblink"},2017,"August 2016","Library","8.500 X 11.00","Author","David West",null,null,null,null,"N",null,"Grade 3","Grade 3 - 5","Fascination with ancient Egypt hasn’t diminished even though 2,000 years have passed since Cleopatra’s tragic concluding reign. The amazing and vibrant Egyptians were intelligent enough to build the pyramids, dedicated to their gods enough to mummify bodies, and skilled enough to leave behind the precious artifacts and artwork that tell us of their legacy. In this striking volume, readers are transported to ancient Egypt through accessible text and gorgeous artwork. Essential topics such as family life, religion, political structure, and economy—in combination with photographs of actual Egyptian artifacts—make this book a must-read for any young historian.","English",26.6,19.95,"932--dc23","32 pp.",{"$f":"Table1[[#This Row],[QTY]]*Table1[[#This Row],['# Books]]","v":0},{"$f":"Table1[[#This Row],[QTY]]*Table1[[#This Row],[S&L Price]]","v":0}]
[null,null,156,"Discovering Ancient Civilizations",1,"The Ancient Egyptians","eBook",null,"978-1-4824-5070-5",{"$f":"HYPERLINK(\"https://www.garethstevens.com/\"&Table1[[#This Row],[ISBN]],\"Weblink\")","v":"Weblink"},2017,"August 2016",null,null,"Author","David West",null,null,null,null,"N",null,"Grade 3","Grade 3 - 5","Fascination with ancient Egypt hasn’t diminished even though 2,000 years have passed since Cleopatra’s tragic concluding reign. The amazing and vibrant Egyptians were intelligent enough to build the pyramids, dedicated to their gods enough to mummify bodies, and skilled enough to leave behind the precious artifacts and artwork that tell us of their legacy. In this striking volume, readers are transported to ancient Egypt through accessible text and gorgeous artwork. Essential topics such as family life, religion, political structure, and economy—in combination with photographs of actual Egyptian artifacts—make this book a must-read for any young historian.","English",26.6,19.95,"932--dc23","32 pp.",{"$f":"Table1[[#This Row],[QTY]]*Table1[[#This Row],['# Books]]","v":0},{"$f":"Table1[[#This Row],[QTY]]*Table1[[#This Row],[S&L Price]]","v":0}]
[null,null,156,"Discovering Ancient Civilizations",1,"The Aztecs","Library Bound Book",null,"978-1-4824-5057-6",{"$f":"HYPERLINK(\"https://www.garethstevens.com/\"&Table1[[#This Row],[ISBN]],\"Weblink\")","v":"Weblink"},2017,"August 2016","Library","8.500 X 11.00","Author","David West",null,null,null,null,"N","970L","Grade 3","Grade 3 - 5","The native people known as the Aztec ruled a large empire in what is now Mexico. They created an amazing capital city called Tenochtitlán, where Mexico City is now located. This advanced civilization amazed Spanish explorers when they arrived in the 1500s, and it continues to captivate people today. This notable volume presents the most essential and intriguing facets of the ancient Aztec culture, including their games, arts, economy, myths—and even rites of human sacrifice! Impressive artwork and artifacts displayed on each page offer scenes of Aztec life, further educating and fascinating readers.","English",26.6,19.95,"972’.018--dc23","32 pp.",{"$f":"Table1[[#This Row],[QTY]]*Table1[[#This Row],['# Books]]","v":0},{"$f":"Table1[[#This Row],[QTY]]*Table1[[#This Row],[S&L Price]]","v":0}]
[null,null,156,"Discovering Ancient Civilizations",1,"The Vikings","eBook",null,"978-1-4824-5050-7",{"$f":"HYPERLINK(\"https://www.garethstevens.com/\"&Table1[[#This Row],[ISBN]],\"Weblink\")","v":"Weblink"},2017,"August 2016",null,null,"Author","David West",null,null,null,null,"N","1060L","Grade 3","Grade 3 - 5","The Vikings had a fierce reputation as warriors and raiders. Yet, they were a trading and farming people as well. This well-researched book lets readers visit the Viking world where they’ll glimpse life in a Viking town as well as on a longship, find out about their festivals and feasts, learn about their religion and mythology, and even attend a funeral! A map of the Viking world, from America to the Mediterranean, and stunning artwork and photographs encourage an immersive and instructive experience about the age of the Vikings.","English",26.6,19.95,"948’.022--dc23","32 pp.",{"$f":"Table1[[#This Row],[QTY]]*Table1[[#This Row],['# Books]]","v":0},{"$f":"Table1[[#This Row],[QTY]]*Table1[[#This Row],[S&L Price]]","v":0}]
[null,null,156,"Crypts, Tombs, and Secret Rooms",1,"Newgrange Burial Chamber","Library Bound Book",null,"978-1-5382-0653-9",{"$f":"HYPERLINK(\"https://www.garethstevens.com/\"&Table1[[#This Row],[ISBN]],\"Weblink\")","v":"Weblink"},2018,"August 2017","Library","7.250 X 9.250","Author","Enzo George",null,null,null,null,"T","1030L","Grade 4 - 5","Grade 4 - 6","The Irish tomb called Newgrange dates back 5,000 years. It’s no ordinary tomb. The impressive mound is surrounded by 97 stones, is decorated with artwork, and seems to have passages built for a purpose. Readers are invited on a tour of this mysterious monument, on which they’ll discover the latest theories about the builders of Newgrange, who was buried there, and what these ancient people believed about the afterlife. Archaeology and history lovers will find plenty to love in the dynamic images and insightful text.","English",31.95,23.95,"936.2--dc23","48 pp.",{"$f":"Table1[[#This Row],[QTY]]*Table1[[#This Row],['# Books]]","v":0},{"$f":"Table1[[#This Row],[QTY]]*Table1[[#This Row],[S&L Price]]","v":0}]
[null,null,156,"Crypts, Tombs, and Secret Rooms",1,"Russia's City of the Dead","eBook",null,"978-1-5382-0650-8",{"$f":"HYPERLINK(\"https://www.garethstevens.com/\"&Table1[[#This Row],[ISBN]],\"Weblink\")","v":"Weblink"},2018,"August 2017",null,null,"Author","Enzo George",null,null,null,null,"T","940L","Grade 4 - 5","Grade 4 - 6","It was once said that anyone who entered the Russian village of Dargavs would never leave...alive. This community, now called the City of Dead, contains about 100 crypts in the form of tiny white houses, some dating back more than 300 years. This noteworthy volume addresses the legends and myths of this mysterious place, including lore that people were sealed into their crypts while still alive. Thoughtful sidebars, carefully selected images, and a thorough timeline are valuable additions to this high-interest text.","English",31.95,23.95,"947.5--dc23","48 pp.",{"$f":"Table1[[#This Row],[QTY]]*Table1[[#This Row],['# Books]]","v":0},{"$f":"Table1[[#This Row],[QTY]]*Table1[[#This Row],[S&L Price]]","v":0}]
[null,null,156,"Crypts, Tombs, and Secret Rooms",1,"The Tomb of China's First Emperor","Library Bound Book",null,"978-1-5382-0657-7",{"$f":"HYPERLINK(\"https://www.garethstevens.com/\"&Table1[[#This Row],[ISBN]],\"Weblink\")","v":"Weblink"},2018,"August 2017","Library","7.250 X 9.250","Author","Enzo George",null,null,null,null,"T",null,"Grade 4 - 5","Grade 4 - 6","The tomb of China’s First Emperor, Qin Shi Huangdi, is guarded by an army of more than 6,000 life-size terracotta warriors. Doubtless many untold treasures and secrets are sealed in the unopened burial chamber—and perhaps a deadly river of mercury, too. Young archaeologists will delight in learning about this famous ruler and his quest for eternal life. They’ll find out how the latest technology is being used to reveal more about the tomb’s contents while preserving its artifacts. Beautifully vivid photographs complement the intriguing text, while a timeline aids in summarizing key historical details.","English",31.95,23.95,"931'.04--dc23","48 pp.",{"$f":"Table1[[#This Row],[QTY]]*Table1[[#This Row],['# Books]]","v":0},{"$f":"Table1[[#This Row],[QTY]]*Table1[[#This Row],[S&L Price]]","v":0}]
[null,null,157,"The Great Race: Fight to the Finish",1,"Building the Transcontinental Railroad: Race of the Railroad Companies","Library Bound Book",null,"978-1-5382-0816-8",{"$f":"HYPERLINK(\"https://www.garethstevens.com/\"&Table1[[#This Row],[ISBN]],\"Weblink\")","v":"Weblink"},2018,"August 2017","Library","7.250 X 9.250","Author","Kelly Wittmann",null,null,null,null,"T","1090L","Grade 4 - 5","Grade 4 - 6","A railroad across the United States was once thought to be nearly impossible. The vast expanse from the Pacific to the Atlantic Oceans had so many obstacles, including towering mountain ranges and broad rivers. However, the 1862 Pacific Railroad Act tasked two railroad companies—the Central Pacific and the Union Pacific—with building a transcontinental railroad to link the coasts. How they managed to meet finally in 1869 is the important account detailed in this well-researched volume. Readers will learn about key characters, such as engineer Theodore Judah and investor Leland Stanford, and the innovations and technologies that made their extraordinary feat a reality.","English",31.95,23.95,"385.0978--dc23","48 pp.",{"$f":"Table1[[#This Row],[QTY]]*Table1[[#This Row],['# Books]]","v":0},{"$f":"Table1[[#This Row],[QTY]]*Table1[[#This Row],[S&L Price]]","v":0}]
[null,null,157,"The Great Race: Fight to the Finish",1,"The Bone Wars: The Race to Dig Up Dinosaurs","eBook",null,"978-1-5382-0814-4",{"$f":"HYPERLINK(\"https://www.garethstevens.com/\"&Table1[[#This Row],[ISBN]],\"Weblink\")","v":"Weblink"},2018,"August 2017",null,null,"Author","Kelly Wittmann",null,null,null,null,"T",null,"Grade 4 - 5","Grade 4 - 6","E. D. Cope and O. C. Marsh were 19th-century paleontologists whose friendship couldn’t withstand their professional rivalry. Their competitive natures led to the frenzied unearthing of hundreds of dinosaur fossils across North America, many of which can still be seen in museums around the world. The captivating tale of these scientists unfolds in this absorbing book, which also includes a timeline, sidebars, and fact boxes offering much information about paleontology, dinosaurs, and excavations as well as photographs and images to further elucidate essential science concepts.","English",31.95,23.95,"560--dc23","48 pp.",{"$f":"Table1[[#This Row],[QTY]]*Table1[[#This Row],['# Books]]","v":0},{"$f":"Table1[[#This Row],[QTY]]*Table1[[#This Row],[S&L Price]]","v":0}]
[null,null,157,"The Great Race: Fight to the Finish",1,"The Nuclear Arms Race","Library Bound Book",null,"978-1-5382-0818-2",{"$f":"HYPERLINK(\"https://www.garethstevens.com/\"&Table1[[#This Row],[ISBN]],\"Weblink\")","v":"Weblink"},2018,"August 2017","Library","7.250 X 9.250","Author","Jennifer Mason",null,null,null,null,"T",null,"Grade 4 - 5","Grade 4 - 6","The nuclear arms race was a competition for supremacy in nuclear weaponry between the United States, the Soviet Union, and their allies during the Cold War. This significant volume outlines how dangerous this race really was, detailing its historical origins as well as the science behind nuclear technology, and stresses the consequences of a nuclear war—reflected in the devastation of Hiroshima and Nagasaki, Japan, at the end of World War II. Though the Soviet Union is no more, readers will find out how nuclear power is still being used—and misused—around the world.","English",31.95,23.95,"355.02’17--dc23","48 pp.",{"$f":"Table1[[#This Row],[QTY]]*Table1[[#This Row],['# Books]]","v":0},{"$f":"Table1[[#This Row],[QTY]]*Table1[[#This Row],[S&L Price]]","v":0}]
[null,null,157,"Rebellions, Revolts, and Uprisings",6,"Rebellions, Revolts, and Uprisings","Library Set",null,"978-1-5382-0837-3",{"$f":"HYPERLINK(\"https://www.garethstevens.com/\"&Table1[[#This Row],[ISBN]],\"Weblink\")","v":"Weblink"},2018,"August 2017","Library","7.250 X 9.250",null,null,null,null,null,null,null,null,"Grade 5","Grade 5 - 6","\"A little rebellion now and then is a good thing, and as necessary in the political world as storms in the physical,\" mused Thomas Jefferson. Rebellions have undeniably played a large part in the evolution of the United States. Many were unsuccessful at the time, but had lasting ramifications that led to great social and political change, such as John Brown's raid on the Harpers Ferry arsenal in 1859. Each comprehensive volume in this must-read series presents the circumstances that led to an uprising, key players involved, essential events that led to its success or failure, and its impact on American history.","English",191.7,143.69999999999999,null,"48 pp.",{"$f":"Table1[[#This Row],[QTY]]*Table1[[#This Row],['# Books]]","v":0},{"$f":"Table1[[#This Row],[QTY]]*Table1[[#This Row],[S&L Price]]","v":0}]
[null,null,157,"Rebellions, Revolts, and Uprisings",1,"Shays' Rebellion","Library Bound Book",null,"978-1-5382-0768-0",{"$f":"HYPERLINK(\"https://www.garethstevens.com/\"&Table1[[#This Row],[ISBN]],\"Weblink\")","v":"Weblink"},2018,"August 2017","Library","7.250 X 9.250","Author","Ellis Roxburgh",null,null,null,null,"T","1020L","Grade 5","Grade 5 - 6","The early years of the United States weren’t wholly tranquil. The new nation was on rocky economic ground. Though paper money was in circulation, it wasn’t worth much. Many people were suffering and didn’t have a voice in government. These conditions gave rise to the rebellion led by former Continental army captain Daniel Shays, beginning in 1786. This volume explains what happened when Shays and more than one thousand followers attempted to capture a Massachusetts arsenal and how this rebellion led to the formation of a new and stronger federal government.","English",31.95,23.95,"974.4'03--dc23","48 pp.",{"$f":"Table1[[#This Row],[QTY]]*Table1[[#This Row],['# Books]]","v":0},{"$f":"Table1[[#This Row],[QTY]]*Table1[[#This Row],[S&L Price]]","v":0}]
[null,null,157,"Rebellions, Revolts, and Uprisings",1,"The Raid on Harpers Ferry","eBook",null,"978-1-5382-0761-1",{"$f":"HYPERLINK(\"https://www.garethstevens.com/\"&Table1[[#This Row],[ISBN]],\"Weblink\")","v":"Weblink"},2018,"August 2017",null,null,"Author","Ellis Roxburgh",null,null,null,null,"T","900L","Grade 5","Grade 5 - 6","No study of the American Civil War is complete without an understanding of the events that unfolded in Harpers Ferry, Virginia, in 1859. Abolitionist John Brown became a martyr to many through his raid on the federal arsenal there, in support of a slave rebellion. But he became a reviled enemy to those opposed to abolition. This in-depth account provides many fascinating details of the planning of the raid, such as Brown’s attempt to recruit Frederick Douglass to the cause. It also explains the aftershocks of the attack in a nation truly on the brink of war.","English",31.95,23.95,"973.7'116--dc23","48 pp.",{"$f":"Table1[[#This Row],[QTY]]*Table1[[#This Row],['# Books]]","v":0},{"$f":"Table1[[#This Row],[QTY]]*Table1[[#This Row],[S&L Price]]","v":0}]
[null,null,157,"Rebellions, Revolts, and Uprisings",1,"The Seminole Wars","Library Bound Book",null,"978-1-5382-0767-3",{"$f":"HYPERLINK(\"https://www.garethstevens.com/\"&Table1[[#This Row],[ISBN]],\"Weblink\")","v":"Weblink"},2018,"August 2017","Library","7.250 X 9.250","Author","Ellis Roxburgh",null,null,null,null,"T","950L","Grade 5","Grade 5 - 6","The Seminole Wars were comprised of three separate clashes between the United States and the Seminole Indians of Florida between 1817 and 1858. The first touched off when the US Army invaded Seminole territory in order to capture fugitive slaves living among the native people. The Seminoles were pushed farther and farther south into Florida. Ultimately, the Seminoles lost their land and Florida became American territory opened up for white settlers. This well-researched narrative provides essential facts about an important chapter in the history of Native Americans in the growing United States.","English",31.95,23.95,"973.5'7--dc23","48 pp.",{"$f":"Table1[[#This Row],[QTY]]*Table1[[#This Row],['# Books]]","v":0},{"$f":"Table1[[#This Row],[QTY]]*Table1[[#This Row],[S&L Price]]","v":0}]
[null,null,158,"Analyze the Ancients",1,"Ancient China","Library Bound Book",null,"978-1-5382-2562-2",{"$f":"HYPERLINK(\"https://www.garethstevens.com/\"&Table1[[#This Row],[ISBN]],\"Weblink\")","v":"Weblink"},2019,"August 2018","Library","7.250 X 9.250","Author","Louise Spilsbury",null,null,null,null,"U",null,"Grade 5 - 6","Grade 4 - 6","Ancient China may have existed thousands of years ago, but its civilization was incredibly rich with culture. This book explores the clues that have been left behind from this fascinating civilization. Specifically looking at artifacts, the main text invites readers to analyze items from Ancient China and draw conclusions following the questions and prompts. From the bamboo staff to oracle bones, these items help young learners learn about a culture that existed so long ago, and get them ready for the challenge of thinking like an archaeologist themselves.","English",31.95,23.95,"931--dc23","48 pp.",{"$f":"Table1[[#This Row],[QTY]]*Table1[[#This Row],['# Books]]","v":0},{"$f":"Table1[[#This Row],[QTY]]*Table1[[#This Row],[S&L Price]]","v":0}]
[null,null,158,"Analyze the Ancients",1,"Ancient Greece","eBook",null,"978-1-5382-2552-3",{"$f":"HYPERLINK(\"https://www.garethstevens.com/\"&Table1[[#This Row],[ISBN]],\"Weblink\")","v":"Weblink"},2019,"August 2018",null,null,"Author","Louise Spilsbury",null,null,null,null,"U",null,"Grade 5 - 6","Grade 4 - 6","Ancient Greece is known for being the place where democracy was born. This civilization was rich with culture, and they valued great thinkers and philosophers highly. Readers learn about the way of life in Ancient Greece, from their gods and temples to the very first Olympic games. This book also challenges readers to think critically, asking them to examine cool artifacts and come to their own conclusions about the civilization. Readers learn about history in a more active way and develop their critical thinking skills while studying the fascinating ancient Greeks.","English",31.95,23.95,"938--dc23","48 pp.",{"$f":"Table1[[#This Row],[QTY]]*Table1[[#This Row],['# Books]]","v":0},{"$f":"Table1[[#This Row],[QTY]]*Table1[[#This Row],[S&L Price]]","v":0}]
[null,null,158,"Analyze the Ancients",1,"The Maya","Library Bound Book",null,"978-1-5382-2556-1",{"$f":"HYPERLINK(\"https://www.garethstevens.com/\"&Table1[[#This Row],[ISBN]],\"Weblink\")","v":"Weblink"},2019,"August 2018","Library","7.250 X 9.250","Author","Louise Spilsbury",null,null,null,null,"U",null,"Grade 5 - 6","Grade 4 - 6","Nestled in the rainforest, the Maya were an incredibly advanced civilization for their time. They created amazing inventions to help them thrive in such an intense environment. This book introduces their amazing culture, teaching readers about topics such as Maya beliefs, their daily life, and even the interesting games they played. Then, readers get the chance to examine artifacts left behind from the civilization and draw their own conclusions based on what they've learned so far. Readers are immersed in Maya culture, as they get to examine this prosperous civilization that existed so long ago.","English",31.95,23.95,"972.81--dc23","48 pp.",{"$f":"Table1[[#This Row],[QTY]]*Table1[[#This Row],['# Books]]","v":0},{"$f":"Table1[[#This Row],[QTY]]*Table1[[#This Row],[S&L Price]]","v":0}]
[null,null,158,"Analyze the Ancients",1,"The Mississippian Culture: The Mound Builders","eBook",null,"978-1-5382-2568-4",{"$f":"HYPERLINK(\"https://www.garethstevens.com/\"&Table1[[#This Row],[ISBN]],\"Weblink\")","v":"Weblink"},2019,"August 2018",null,null,"Author","Louise Spilsbury",null,null,null,null,"U",null,"Grade 5 - 6","Grade 4 - 6","The Mound Builders were some of the most advanced Native peoples to be encountered by European explorers. They made their homes in the part of North America along what is now known as the Mississippi River. Their complex, ancient culture is very impressive: the Mound Builders are credited with being the first group of people to rely on farming as a major source of food. This book features photographs of cool artifacts and critical thinking questions to engage readers as they draw their own conclusions while learning about the Mound Builders.","English",31.95,23.95,"977.3--dc23","48 pp.",{"$f":"Table1[[#This Row],[QTY]]*Table1[[#This Row],['# Books]]","v":0},{"$f":"Table1[[#This Row],[QTY]]*Table1[[#This Row],[S&L Price]]","v":0}]
[null,null,158,"The Bizarre History of Beauty",1,"Baffling Bathing Customs","Library Bound Book",null,"978-1-5382-2691-9",{"$f":"HYPERLINK(\"https://www.garethstevens.com/\"&Table1[[#This Row],[ISBN]],\"Weblink\")","v":"Weblink"},2019,"August 2018","Library","7.250 X 9.250","Author","Anita Croy",null,null,null,null,"V",null,"Grade 5 - 6","Grade 5 - 8","Since ancient times, people have constructed elaborate rituals to keep their bodies clean. There have also been periods when bathing was rare. Baths have even served as social centers and therapy solutions. Whether it's perfume or Palmolive, scrubbing in or sea bathing, body odor or bathing in milk, people have always had opinions about cleanliness. This book illuminates the strange history of the customs and products used through accessible, fun text and vivid full-color artwork sure to draw in even the most reluctant reader.","English",31.95,23.95,"391.6'4--dc23","48 pp.",{"$f":"Table1[[#This Row],[QTY]]*Table1[[#This Row],['# Books]]","v":0},{"$f":"Table1[[#This Row],[QTY]]*Table1[[#This Row],[S&L Price]]","v":0}]
[null,null,158,"The Bizarre History of Beauty",1,"Deadly Diets","eBook",null,"978-1-5382-2681-0",{"$f":"HYPERLINK(\"https://www.garethstevens.com/\"&Table1[[#This Row],[ISBN]],\"Weblink\")","v":"Weblink"},2019,"August 2018",null,null,"Author","Anita Croy",null,null,null,null,"V","970L","Grade 5 - 6","Grade 5 - 8","Did you know that an 18th century Swedish king ate himself to death at a feast? Or that Maria Callas swallowed a tapeworm to try to control her weight? People throughout the ages have turned to bizarre dietary regimes to shape their bodies. This book covers so many interesting moments in food history, from cannibals to fasting, moral diets to extreme weight loss, fad diets to war rationing, and the diagnosis of eating disorders to Elvis. At the same time, readers learn history, science, nutrition, and social studies. Sidebars bring extra fun to the chapters, and incredible full-color art makes each fact pop.","English",31.95,23.95,"641.3009--dc23","48 pp.",{"$f":"Table1[[#This Row],[QTY]]*Table1[[#This Row],['# Books]]","v":0},{"$f":"Table1[[#This Row],[QTY]]*Table1[[#This Row],[S&L Price]]","v":0}]
[null,null,158,"The Bizarre History of Beauty",1,"Terrible and Toxic Makeup","Library Bound Book",null,"978-1-5382-2676-6",{"$f":"HYPERLINK(\"https://www.garethstevens.com/\"&Table1[[#This Row],[ISBN]],\"Weblink\")","v":"Weblink"},2019,"August 2018","Library","7.250 X 9.250","Author","Anita Croy",null,null,null,null,"V","990L","Grade 5 - 6","Grade 5 - 8","Did you know that a Roman woman was executed in the 1600s for selling a poisonous lipstick that women kissed their husbands to death with? Or that women painted their teeth and nails with radium for a special glow? From Cleopatra to Carole Lombard, Madam C.J. Walker to Madame de Pompadour, Elizabeth I to Elizabeth Taylor, and geishas to flappers, the history of makeup has many exciting, and some deadly moments. This fascinating book is sure to attract fans of history and science. The history of entrepreneurship, commerce, and beauty standards give context to some of the most bizarre stories of beauty around.","English",31.95,23.95,"646.7'2--dc23","48 pp.",{"$f":"Table1[[#This Row],[QTY]]*Table1[[#This Row],['# Books]]","v":0},{"$f":"Table1[[#This Row],[QTY]]*Table1[[#This Row],[S&L Price]]","v":0}]
[null,null,158,"The Bizarre History of Beauty",1,"Terrible and Toxic Makeup","eBook",null,"978-1-5382-2678-0",{"$f":"HYPERLINK(\"https://www.garethstevens.com/\"&Table1[[#This Row],[ISBN]],\"Weblink\")","v":"Weblink"},2019,"August 2018",null,null,"Author","Anita Croy",null,null,null,null,"V","990L","Grade 5 - 6","Grade 5 - 8","Did you know that a Roman woman was executed in the 1600s for selling a poisonous lipstick that women kissed their husbands to death with? Or that women painted their teeth and nails with radium for a special glow? From Cleopatra to Carole Lombard, Madam C.J. Walker to Madame de Pompadour, Elizabeth I to Elizabeth Taylor, and geishas to flappers, the history of makeup has many exciting, and some deadly moments. This fascinating book is sure to attract fans of history and science. The history of entrepreneurship, commerce, and beauty standards give context to some of the most bizarre stories of beauty around.","English",31.95,23.95,"646.7'2--dc23","48 pp.",{"$f":"Table1[[#This Row],[QTY]]*Table1[[#This Row],['# Books]]","v":0},{"$f":"Table1[[#This Row],[QTY]]*Table1[[#This Row],[S&L Price]]","v":0}]
[null,null,159,"Why War Happened",1,"What Caused the American Revolution?","eBook",null,"978-1-4824-5174-0",{"$f":"HYPERLINK(\"https://www.garethstevens.com/\"&Table1[[#This Row],[ISBN]],\"Weblink\")","v":"Weblink"},2017,"August 2016",null,null,"Author","Sara Howell",null,null,60,null,"V",null,"Grade 6 - 8","Grade 6 - 8","Some accounts of the American Revolution are oversimplified, painting the Founding Fathers as freedom fighters at odds with the unjust British Empire. However, the causes of the war were many and began years before the first shot rang out in 1775. This book, a must for any social studies collection, presents a comprehensive look at the events before, during, and after the War for Independence. From the founding of the colonies to the ratification of the U.S. Constitution, readers examine the most significant moments of early American history. They'll also consider the effects the revolution had on other struggling nations.","English",31.95,23.95,"973.3--dc23","48 pp.",{"$f":"Table1[[#This Row],[QTY]]*Table1[[#This Row],['# Books]]","v":0},{"$f":"Table1[[#This Row],[QTY]]*Table1[[#This Row],[S&L Price]]","v":0}]
[null,null,159,"Why War Happened",1,"What Caused World War I?","Library Bound Book",null,"978-1-4824-5182-5",{"$f":"HYPERLINK(\"https://www.garethstevens.com/\"&Table1[[#This Row],[ISBN]],\"Weblink\")","v":"Weblink"},2017,"August 2016","Library","7.250 X 9.250","Author","Robyn Hardyman",null,null,50,null,"V","940L","Grade 6 - 8","Grade 6 - 8","For a truly worldwide war to erupt, many conflicts and interests are at work. That’s exactly what happened in the years leading up to World War I, also called the Great War. Conflicts between empires, alliances among nations, fights over boundaries and colonies, and the 1914 assassination of the archduke Franz Ferdinand were among the myriad of causes for this widespread war. This volume, which includes remarkable photographs from the time period, gives a thorough overview of the war and its aftermath, which would pave the way for another terrible world war just two decades later.","English",31.95,23.95,"940.3--dc23","48 pp.",{"$f":"Table1[[#This Row],[QTY]]*Table1[[#This Row],['# Books]]","v":0},{"$f":"Table1[[#This Row],[QTY]]*Table1[[#This Row],[S&L Price]]","v":0}]
[null,null,159,"Why War Happened",1,"What Caused World War II?","eBook",null,"978-1-4824-5177-1",{"$f":"HYPERLINK(\"https://www.garethstevens.com/\"&Table1[[#This Row],[ISBN]],\"Weblink\")","v":"Weblink"},2017,"August 2016",null,null,"Author","Robyn Hardyman",null,null,null,null,"V","960L","Grade 6 - 8","Grade 6 - 8","The major participants of World War II are familiar to most young historians, but less well known are the many causes of this bloody conflict. Among them is the treaty that ended World War I, originally meant to keep Germany from becoming a world power again. This and other surprising facts await readers of this notable volume, which discusses not only the causes of the war, but also the significant battles and eventual conclusion. Carefully selected photographs reflect the terrible toll of this deadly conflict.","English",31.95,23.95,"940.4--dc23","48 pp.",{"$f":"Table1[[#This Row],[QTY]]*Table1[[#This Row],['# Books]]","v":0},{"$f":"Table1[[#This Row],[QTY]]*Table1[[#This Row],[S&L Price]]","v":0}]
[null,null,161,"Benched: Dealing with Sports Injuries",1,"What If I Break a Bone?","Library Bound Book",null,"978-1-4824-4885-6",{"$f":"HYPERLINK(\"https://www.garethstevens.com/\"&Table1[[#This Row],[ISBN]],\"Weblink\")","v":"Weblink"},2017,"August 2016","Library","8.500 X 8.500","Author","Kristen Rajczak Nelson",null,null,null,null,"N",null,"Grade 2 - 3","Grade 2 - 5","No athlete wants to break a bone on the field, but injuries are bound to happen when playing sports. Learning what steps to take and how to recover from serious injuries is an important part of being an athlete. This book teaches readers what to do in case of serious injury, the differences between bone breaks and less serious sprains or bruises, and what to do if they think they’ve suffered a serious injury. With the expert help of doctors and other adults and the knowledge gained from this book, these once-injured young athletes will be back in the lineup and on the field quickly.","English",22.6,16.95,"617.1/027--dc23","24 pp.",{"$f":"Table1[[#This Row],[QTY]]*Table1[[#This Row],['# Books]]","v":0},{"$f":"Table1[[#This Row],[QTY]]*Table1[[#This Row],[S&L Price]]","v":0}]
[null,null,161,"Benched: Dealing with Sports Injuries",1,"What If I Feel Faint?","eBook",null,"978-1-4824-4879-5",{"$f":"HYPERLINK(\"https://www.garethstevens.com/\"&Table1[[#This Row],[ISBN]],\"Weblink\")","v":"Weblink"},2017,"August 2016",null,null,"Author","Amy Hayes",null,null,null,null,"N",null,"Grade 2 - 3","Grade 2 - 5","Passing out or feeling light-headed is no joke when playing sports; it could be a serious sign of an injury or illness. Readers learn what to do if they have problems with fainting or just feeling dizzy. Whether it's a concussion, an illness like the flu, or something as simple as not eating enough, children need to know how to deal with fainting spells when they're on the field. Through scientific information and carefully worded explanations, this book offers the answers and gives readers a chance to learn something new about their bodies in an accessible way.","English",22.6,16.95,"617.1'027--dc23","24 pp.",{"$f":"Table1[[#This Row],[QTY]]*Table1[[#This Row],['# Books]]","v":0},{"$f":"Table1[[#This Row],[QTY]]*Table1[[#This Row],[S&L Price]]","v":0}]
[null,null,161,"Benched: Dealing with Sports Injuries",1,"What If I Need Stitches?","Library Bound Book",null,"978-1-4824-4890-0",{"$f":"HYPERLINK(\"https://www.garethstevens.com/\"&Table1[[#This Row],[ISBN]],\"Weblink\")","v":"Weblink"},2017,"August 2016","Library","8.500 X 8.500","Author","Therese M. Shea",null,null,null,null,"N",null,"Grade 2 - 3","Grade 2 - 5","When a cut is too deep, it often needs stitches to heal properly. How these stitches work and what they do isn't easy to understand. This book dives into the why and how of stitches and the kind of injuries readers may suffer that requires a trip to the emergency room. Sports like soccer, hockey, and lacrosse may lead to cuts and bleeding that might need a few stitches to help heal. Readers also learn what to do when they get a sports injury, how to talk to doctors, and what steps they need to take in order to retake the field when their injuries heal.","English",22.6,16.95,"617.044--dc23","24 pp.",{"$f":"Table1[[#This Row],[QTY]]*Table1[[#This Row],['# Books]]","v":0},{"$f":"Table1[[#This Row],[QTY]]*Table1[[#This Row],[S&L Price]]","v":0}]
[null,null,161,"Let's Talk Sports!",1,"Talk Like a Basketball Player","Library Bound Book",null,"978-1-4824-5698-1",{"$f":"HYPERLINK(\"https://www.garethstevens.com/\"&Table1[[#This Row],[ISBN]],\"Weblink\")","v":"Weblink"},2017,"January 2017","Library","8.500 X 8.500","Author","Ryan Nagelhout","4.4","0.5",null,null,"N",null,"Grade 2 - 3","Grade 2 - 5","Basketball is a game of numbers. Scoring points is one thing, but readers might not know that each position in basketball has a number, too. It's just one of the many fun facts about basketball a reader needs to know to sound like a pro. Full-color photographs and graphic organizers explain concepts like the difference between a small forward and a power forward while introducing new terminology that helps readers get their heads in the game and ready to take the floor.","English",25.25,18.95,"796.323'64--dc23","32 pp.",{"$f":"Table1[[#This Row],[QTY]]*Table1[[#This Row],['# Books]]","v":0},{"$f":"Table1[[#This Row],[QTY]]*Table1[[#This Row],[S&L Price]]","v":0}]
[null,null,161,"Let's Talk Sports!",1,"Talk Like a Basketball Player","eBook",null,"978-1-4824-5699-8",{"$f":"HYPERLINK(\"https://www.garethstevens.com/\"&Table1[[#This Row],[ISBN]],\"Weblink\")","v":"Weblink"},2017,"January 2017",null,null,"Author","Ryan Nagelhout","4.4","0.5",null,null,"N",null,"Grade 2 - 3","Grade 2 - 5","Basketball is a game of numbers. Scoring points is one thing, but readers might not know that each position in basketball has a number, too. It's just one of the many fun facts about basketball a reader needs to know to sound like a pro. Full-color photographs and graphic organizers explain concepts like the difference between a small forward and a power forward while introducing new terminology that helps readers get their heads in the game and ready to take the floor.","English",25.25,18.95,"796.323'64--dc23","32 pp.",{"$f":"Table1[[#This Row],[QTY]]*Table1[[#This Row],['# Books]]","v":0},{"$f":"Table1[[#This Row],[QTY]]*Table1[[#This Row],[S&L Price]]","v":0}]
[null,null,161,"Let's Talk Sports!",1,"Talk Like a Race Car Driver","Library Bound Book",null,"978-1-4824-5710-0",{"$f":"HYPERLINK(\"https://www.garethstevens.com/\"&Table1[[#This Row],[ISBN]],\"Weblink\")","v":"Weblink"},2017,"January 2017","Library","8.500 X 8.500","Author","Ryan Nagelhout","4.6","0.5",null,null,"N",null,"Grade 2 - 3","Grade 2 - 5","There's a lot more to auto racing than just driving around in a circle. From engine maintenance to understanding wind physics while drafting, drivers and their crews are smart people making decisions in the blink of an eye. Making tough calls in an instant is often the difference between taking the checkered flag for the win or settling for a finish in the back of the pack. With vivid graphics and full-color photographs illustrating the fast-paced world of race car drivers, readers learn how spotters help drivers through crashes and some of the technical terms used in the pits to help make racing champions.","English",25.25,18.95,"796.72--dc23","32 pp.",{"$f":"Table1[[#This Row],[QTY]]*Table1[[#This Row],['# Books]]","v":0},{"$f":"Table1[[#This Row],[QTY]]*Table1[[#This Row],[S&L Price]]","v":0}]
[null,null,162,"Sports: What's Your Position?",6,"Sports: What's Your Position?","Library Set",null,"978-1-5382-0476-4",{"$f":"HYPERLINK(\"https://www.garethstevens.com/\"&Table1[[#This Row],[ISBN]],\"Weblink\")","v":"Weblink"},2018,"August 2017","Library","8.500 X 11.00",null,null,null,null,null,null,null,null,"Grade 3 - 4","Grade 3 - 6","Playing sports is a great way to get some exercise with friends. But knowing what to do can often be tough. Learning the proper positions in sports is an important way sports fans and players learn the games they love. From the special techniques goaltenders need to know in sports like soccer, hockey, and lacrosse to the many positions on the football field, there’s lots to know about the unique positions athletes play. Full-color photographs show both professionals and kids playing these roles on a team and show readers how teams work together to win and have fun!","English",159.6,119.7,null,"32 pp.",{"$f":"Table1[[#This Row],[QTY]]*Table1[[#This Row],['# Books]]","v":0},{"$f":"Table1[[#This Row],[QTY]]*Table1[[#This Row],[S&L Price]]","v":0}]
[null,null,162,"Sports: What's Your Position?",1,"Football: Who Does What?","Library Bound Book",null,"978-1-5382-0426-9",{"$f":"HYPERLINK(\"https://www.garethstevens.com/\"&Table1[[#This Row],[ISBN]],\"Weblink\")","v":"Weblink"},2018,"August 2017","Library","8.500 X 11.00","Author","Ryan Nagelhout","5.2","0.5",null,null,"R","920L","Grade 3 - 4","Grade 3 - 6","The game of football has many rules, and each position on the field is different. Whether lining up in the trenches to protect the quarterback or running the ball out of the backfield, the 11 players on each team each have special jobs to do. This book gives readers a look at each position on the gridiron, showing how cornerbacks and safeties cover wide receivers and how linebackers try to sack the quarterback. With a detailed look at each position, readers will be ready to take the field themselves and play America’s most popular game with their friends.","English",26.6,19.95,"796.332--dc23","32 pp.",{"$f":"Table1[[#This Row],[QTY]]*Table1[[#This Row],['# Books]]","v":0},{"$f":"Table1[[#This Row],[QTY]]*Table1[[#This Row],[S&L Price]]","v":0}]
[null,null,162,"Sports: What's Your Position?",1,"Football: Who Does What?","eBook",null,"978-1-5382-0427-6",{"$f":"HYPERLINK(\"https://www.garethstevens.com/\"&Table1[[#This Row],[ISBN]],\"Weblink\")","v":"Weblink"},2018,"August 2017",null,null,"Author","Ryan Nagelhout","5.2","0.5",null,null,"R","920L","Grade 3 - 4","Grade 3 - 6","The game of football has many rules, and each position on the field is different. Whether lining up in the trenches to protect the quarterback or running the ball out of the backfield, the 11 players on each team each have special jobs to do. This book gives readers a look at each position on the gridiron, showing how cornerbacks and safeties cover wide receivers and how linebackers try to sack the quarterback. With a detailed look at each position, readers will be ready to take the field themselves and play America’s most popular game with their friends.","English",26.6,19.95,"796.332--dc23","32 pp.",{"$f":"Table1[[#This Row],[QTY]]*Table1[[#This Row],['# Books]]","v":0},{"$f":"Table1[[#This Row],[QTY]]*Table1[[#This Row],[S&L Price]]","v":0}]
[null,null,162,"Sports: What's Your Position?",1,"Soccer: Who Does What?","Library Bound Book",null,"978-1-5382-0415-3",{"$f":"HYPERLINK(\"https://www.garethstevens.com/\"&Table1[[#This Row],[ISBN]],\"Weblink\")","v":"Weblink"},2018,"August 2017","Library","8.500 X 11.00","Author","Ryan Nagelhout","5.8","0.5",null,null,"R","1010L","Grade 3 - 4","Grade 3 - 6","Taking the soccer pitch can be intimidating if you’re not sure where to go. It’s a big field and each position on the “starting 11” has a big responsibility. Whether exploring all the ways a keeper makes saves or how the defense works in front of them, readers will love experiencing the game of soccer in this exciting title. Filled with golden goals and brilliant passes, readers take a deep dive into “the beautiful game” and learn important ways they can succeed with their friends on the pitch.","English",26.6,19.95,"796.334--dc23","32 pp.",{"$f":"Table1[[#This Row],[QTY]]*Table1[[#This Row],['# Books]]","v":0},{"$f":"Table1[[#This Row],[QTY]]*Table1[[#This Row],[S&L Price]]","v":0}]
[null,null,163,"Mind vs Muscle: The Psychology of Sports",1,"Basketball","Library Bound Book",null,"978-1-5382-2542-4",{"$f":"HYPERLINK(\"https://www.garethstevens.com/\"&Table1[[#This Row],[ISBN]],\"Weblink\")","v":"Weblink"},2019,"August 2018","Library","7.250 X 9.250","Author","Cathleen Small","7.3","1",null,null,"U",null,"Grade 5 - 6","Grade 4 - 6","The top basketball players know that it's more than their physical strength that helps them play a good game. If they aren't focused and aren't using their heads, all the muscle in the world won't help them in the game. This book explores how the mind works together with muscle strength and memory to create basketball players to be reckoned with. Readers are introduced to the basics of the game, learn their favorite players' strategies and tips, and discover the importance of mental toughness. This book is sure to inspire young readers, whether they're currently practicing on the court or not.","English",31.95,23.95,"796.323--dc23","48 pp.",{"$f":"Table1[[#This Row],[QTY]]*Table1[[#This Row],['# Books]]","v":0},{"$f":"Table1[[#This Row],[QTY]]*Table1[[#This Row],[S&L Price]]","v":0}]
[null,null,163,"Mind vs Muscle: The Psychology of Sports",1,"Hockey","eBook",null,"978-1-5382-2549-3",{"$f":"HYPERLINK(\"https://www.garethstevens.com/\"&Table1[[#This Row],[ISBN]],\"Weblink\")","v":"Weblink"},2019,"August 2018",null,null,"Author","Cathleen Small","7.2","1",null,null,"U",null,"Grade 5 - 6","Grade 4 - 6","Hockey is a fast-paced game that requires a lot of stamina and agility from its players. How are hockey players able to keep up, and for such long periods of time? This book teaches readers about the rules and history of hockey, the mental preparation behind the great athletic effort, and the strategies utilized by both offensive and defensive players. Featuring spotlights on some of the best hockey players in the NHL, readers hear from their hockey idols that the sport is about both brains and brawn.","English",31.95,23.95,"796.962--dc23","48 pp.",{"$f":"Table1[[#This Row],[QTY]]*Table1[[#This Row],['# Books]]","v":0},{"$f":"Table1[[#This Row],[QTY]]*Table1[[#This Row],[S&L Price]]","v":0}]
[null,null,163,"Mind vs Muscle: The Psychology of Sports",1,"Lacrosse","Library Bound Book",null,"978-1-5382-2533-2",{"$f":"HYPERLINK(\"https://www.garethstevens.com/\"&Table1[[#This Row],[ISBN]],\"Weblink\")","v":"Weblink"},2019,"August 2018","Library","7.250 X 9.250","Author","Cathleen Small","7.6","1",null,null,"U",null,"Grade 5 - 6","Grade 4 - 6","Lacrosse is a sport that has been around for a long time. Originating with the Native American Indians, this sport is fast paced and men's leagues in particular can be very aggressive. Readers have fun learning the ins and outs of this sport, the culture behind it, and the strategies of both offensive and defensive players. In this colorful book, readers find out that lacrosse is both an art and a science, and the best players are the ones who use their mind to find the balance between both.","English",31.95,23.95,"796.36'2--dc23","48 pp.",{"$f":"Table1[[#This Row],[QTY]]*Table1[[#This Row],['# Books]]","v":0},{"$f":"Table1[[#This Row],[QTY]]*Table1[[#This Row],[S&L Price]]","v":0}]
[null,null,164,"Pequeñas biografías de grandes personajes (Little Biographies of Big People)",12,"Pequeñas biografías de grandes personajes (Little Biographies of Big People) (Set of 12 Titles)","Library Set",null,"978-1-5382-3689-5",{"$f":"HYPERLINK(\"https://www.garethstevens.com/\"&Table1[[#This Row],[ISBN]],\"Weblink\")","v":"Weblink"},2019,"January 2019","Library","7.000 X 7.000",null,null,null,null,null,null,null,null,"Grade 1 - 2","Grade 1 - 3","Even young readers know the names of people in the news and historical figures. This ongoing series is a great answer to the many questions they may have about the people they hear about! From Hillary Clinton and Malala Yousafzai to Walt Disney and Thomas Edison, these biographies introduce important figures from history and today in age-appropriate language and content. Including facts about each person's young life as well as their major achievements, this series is an excellent way to engage curious young readers with history. Features include: Each book includes a famous quote from the subject. Highlights the changemakers of our time and of the past to inspire readers. Includes people of diverse backgrounds to introduce readers to other cultures.","Spanish",271.2,203.4,null,"24 pp.",{"$f":"Table1[[#This Row],[QTY]]*Table1[[#This Row],['# Books]]","v":0},{"$f":"Table1[[#This Row],[QTY]]*Table1[[#This Row],[S&L Price]]","v":0}]
[null,null,164,"Pequeñas biografías de grandes personajes (Little Biographies of Big People)",1,"Dwayne Johnson","eBook",null,"978-1-5382-3649-9",{"$f":"HYPERLINK(\"https://www.garethstevens.com/\"&Table1[[#This Row],[ISBN]],\"Weblink\")","v":"Weblink"},2019,"January 2019",null,null,"Author, Translated by","Joan Stoltman, Ana Maria Garcia",null,null,null,null,"I",null,"Grade 1 - 2","Grade 1 - 3","Today, Dwayne Johnson, also known as The Rock, can be recognized for the many movies and TV shows he's appeared in, but not too long ago he was better known for his wrestling skills. In this captivating volume, readers follow along with the star's journey and see how he successfully transitioned from athlete to actor. This high-interest biography includes colorful photographs paired with age-appropriate text, and is sure to engage readers of all ages.","Spanish",22.6,16.95,"796.812092--dc23","24 pp.",{"$f":"Table1[[#This Row],[QTY]]*Table1[[#This Row],['# Books]]","v":0},{"$f":"Table1[[#This Row],[QTY]]*Table1[[#This Row],[S&L Price]]","v":0}]
[null,null,164,"Pequeñas biografías de grandes personajes (Little Biographies of Big People)",1,"Melania Trump","Library Bound Book",null,"978-1-5382-3660-4",{"$f":"HYPERLINK(\"https://www.garethstevens.com/\"&Table1[[#This Row],[ISBN]],\"Weblink\")","v":"Weblink"},2019,"January 2019","Library","7.000 X 7.000","Author, Translated by","Joan Stoltman, Ana Maria Garcia",null,null,null,null,"I",null,"Grade 1 - 2","Grade 1 - 3","Before she became First Lady of the United States, Melania Trump was known for being a model in the fashion industry. In this engaging volume, readers get to take a look into her life, from her early years in Europe and her emigration to the United States to her move into the White House. Colorful photographs paired with concise text make for a captivating book that is sure to appeal to readers of many ages and levels.","Spanish",22.6,16.95,"973.933092--dc23","24 pp.",{"$f":"Table1[[#This Row],[QTY]]*Table1[[#This Row],['# Books]]","v":0},{"$f":"Table1[[#This Row],[QTY]]*Table1[[#This Row],[S&L Price]]","v":0}]
[null,null,164,"Pequeñas biografías de grandes personajes (Little Biographies of Big People)",1,"Melania Trump","eBook",null,"978-1-5382-3661-1",{"$f":"HYPERLINK(\"https://www.garethstevens.com/\"&Table1[[#This Row],[ISBN]],\"Weblink\")","v":"Weblink"},2019,"January 2019",null,null,"Author, Translated by","Joan Stoltman, Ana Maria Garcia",null,null,null,null,"I",null,"Grade 1 - 2","Grade 1 - 3","Before she became First Lady of the United States, Melania Trump was known for being a model in the fashion industry. In this engaging volume, readers get to take a look into her life, from her early years in Europe and her emigration to the United States to her move into the White House. Colorful photographs paired with concise text make for a captivating book that is sure to appeal to readers of many ages and levels.","Spanish",22.6,16.95,"973.933092--dc23","24 pp.",{"$f":"Table1[[#This Row],[QTY]]*Table1[[#This Row],['# Books]]","v":0},{"$f":"Table1[[#This Row],[QTY]]*Table1[[#This Row],[S&L Price]]","v":0}]
[null,null,164,"Pequeñas biografías de grandes personajes (Little Biographies of Big People)",1,"Harriet Tubman","Library Bound Book",null,"978-1-5382-1532-6",{"$f":"HYPERLINK(\"https://www.garethstevens.com/\"&Table1[[#This Row],[ISBN]],\"Weblink\")","v":"Weblink"},2018,"January 2018","Library","7.000 X 7.000","Author, Translated by","Joan Stoltman, Ana Maria Garcia","3.8","0.5",null,null,"H",null,"Grade 1 - 2","Grade 1 - 3","Of course, Harriet Tubman is a women whose story every young reader would benefit from learning about, but where are the books that tell her life story in an accessible, captivating way with age-appropriate language for young readers? Finally, here’s a book that explores her childhood, life, cause, and work in a way that gives perspective, introduces weighty topics, and facilitates further exploration of America’s history, all for early elementary readers. This volume captures readers in the story of one inspiring, notable, remarkable life, giving social studies and history curriculums a chance to excite, interest, and motivate readers to initiate a lifelong quest of learning.","Spanish",22.6,16.95,"326/.8092--dc23","24 pp.",{"$f":"Table1[[#This Row],[QTY]]*Table1[[#This Row],['# Books]]","v":0},{"$f":"Table1[[#This Row],[QTY]]*Table1[[#This Row],[S&L Price]]","v":0}]
[null,null,164,"Pequeñas biografías de grandes personajes (Little Biographies of Big People)",1,"Michelle Obama","eBook",null,"978-1-5382-1504-3",{"$f":"HYPERLINK(\"https://www.garethstevens.com/\"&Table1[[#This Row],[ISBN]],\"Weblink\")","v":"Weblink"},2018,"January 2018",null,null,"Author, Translated by","Joan Stoltman, Ana Maria Garcia","3.9","0.5",null,null,"H",null,"Grade 1 - 2","Grade 1 - 3","Michelle Obama is easily recognizable to young readers, but has had a life few children have had the chance to learn about. This topical, engaging volume brings the story of an incredibly intelligent, motivated, deeply dedicated person to vivid life. Young readers will easily engage in Michelle Obama’s life through the meticulously uncomplicated, age-appropriate language and explanation of concepts provided throughout this inspiring story. This highly requested biography is sure to be a quick hit in any collection, educating and inspiring readers to achieve their maximum potential.","Spanish",22.6,16.95,"973.932092--dc23","24 pp.",{"$f":"Table1[[#This Row],[QTY]]*Table1[[#This Row],['# Books]]","v":0},{"$f":"Table1[[#This Row],[QTY]]*Table1[[#This Row],[S&L Price]]","v":0}]
[null,null,164,"Pequeñas biografías de grandes personajes (Little Biographies of Big People)",1,"Rosa Parks","eBook",null,"978-1-5382-1505-0",{"$f":"HYPERLINK(\"https://www.garethstevens.com/\"&Table1[[#This Row],[ISBN]],\"Weblink\")","v":"Weblink"},2018,"January 2018",null,null,"Author, Translated by","Joan Stoltman, Ana Maria Garcia","4.5","0.5",null,null,"H",null,"Grade 1 - 2","Grade 1 - 3","Rosa Parks is not just a lady who stayed seated on a bus. Her life is a relevant, important story that was notable, inspirational, and much-needed both in its time and today. This essential volume introduces young readers to a woman of quiet strength and resilience who did not waver in her convictions and beliefs. For younger readers, this is a rare opportunity to read age-appropriate text that incorporates complex issues using accessible, straightforward, engaging language that they can grasp, connect to, and be motivated by.","Spanish",22.6,16.95,"323.092--dc23","24 pp.",{"$f":"Table1[[#This Row],[QTY]]*Table1[[#This Row],['# Books]]","v":0},{"$f":"Table1[[#This Row],[QTY]]*Table1[[#This Row],[S&L Price]]","v":0}]
[null,null,168,"Las antiguas civilizaciones (A Look at Ancient Civilizations)",6,"Las antiguas civilizaciones (A Look at Ancient Civilizations)","Library Set",null,"978-1-5382-3690-1",{"$f":"HYPERLINK(\"https://www.garethstevens.com/\"&Table1[[#This Row],[ISBN]],\"Weblink\")","v":"Weblink"},2019,"January 2019","Library","6.500 X 9.125",null,null,null,null,null,null,null,null,"Grade 2","Grade 3 - 6","When study of ancient world cultures begins, students are expected to have the skills to read independently about and understand Ancient Indian society, Ancient Chinese conquests, and the art of Ancient Greece. Some students may find this challenging as they struggle to read at the level of these curriculum topics. Written with these readers in mind, this series gives an overview of the often-studied civilizations of Mesopotamia, Rome, and Egypt. Important events, people, and dates are highlighted in the main content, as well as major cultural achievements. Historical images further illustrate the civilizations of our world's past. Features include: Expanded glossaries allow for inclusion of vocabulary integral to social studies topics. Fact boxes on each spread further explain difficult topics and expound on main content information. Concluding timelines allow readers an additional way to review what they need to know.","Spanish",159.6,119.7,null,"32 pp.",{"$f":"Table1[[#This Row],[QTY]]*Table1[[#This Row],['# Books]]","v":0},{"$f":"Table1[[#This Row],[QTY]]*Table1[[#This Row],[S&L Price]]","v":0}]
[null,null,168,"Las antiguas civilizaciones (A Look at Ancient Civilizations)",1,"La antigua Grecia (Ancient Greece)","Library Bound Book",null,"978-1-5382-3676-5",{"$f":"HYPERLINK(\"https://www.garethstevens.com/\"&Table1[[#This Row],[ISBN]],\"Weblink\")","v":"Weblink"},2019,"January 2019","Library","6.500 X 9.125","Author, Translated by","Daniel R. Faust, Alberto Jiménez",null,null,null,null,"J",null,"Grade 2","Grade 3 - 6","From art and architecture to politics, philosophy, and mathematics, \"western civilization\" owes a great deal to the achievements of ancient Greece, but what do we really know about this long-gone civilization? How did geography influence the politics of the Greek city-states? What's the difference between an agora and an acropolis? This book takes readers several thousand years into the past, when independent city-states ruled the Mediterranean Sea, to find the answers. Full-color photographs and maps, accompanied by accessible text, introduce readers to the many contributions the ancient Greeks have made to our modern society.","Spanish",26.6,19.95,"938--dc23","32 pp.",{"$f":"Table1[[#This Row],[QTY]]*Table1[[#This Row],['# Books]]","v":0},{"$f":"Table1[[#This Row],[QTY]]*Table1[[#This Row],[S&L Price]]","v":0}]
[null,null,168,"Las antiguas civilizaciones (A Look at Ancient Civilizations)",1,"La antigua Mesopotamia (Ancient Mesopotamia)","eBook",null,"978-1-5382-3681-9",{"$f":"HYPERLINK(\"https://www.garethstevens.com/\"&Table1[[#This Row],[ISBN]],\"Weblink\")","v":"Weblink"},2019,"January 2019",null,null,"Author, Translated by","Daniel R. Faust, Alberto Jiménez",null,null,null,null,"J",null,"Grade 2","Grade 3 - 6","Located between the Tigris and Euphrates Rivers in modern-day Iraq, the region known as Mesopotamia, Greek for \"between two rivers,\" is often called the \"cradle of civilization.\" The region is known for the rise of the first cities, as well as the invention of writing. Readers will discover that the various empires of the region, like Babylon and Sumer, made many important contributions to law, politics, mathematics, and agriculture. Simple text and full-color photographs will engage struggling and reluctant readers alike. Maps and a timeline of key dates provide additional information.","Spanish",26.6,19.95,"935--dc23","32 pp.",{"$f":"Table1[[#This Row],[QTY]]*Table1[[#This Row],['# Books]]","v":0},{"$f":"Table1[[#This Row],[QTY]]*Table1[[#This Row],[S&L Price]]","v":0}]
[null,null,169,"¿Dónde está…? Mapas del mundo (Where on Earth? Mapping Parts of the World)",1,"Cómo hacer mapas (Making Maps)","eBook",null,"978-1-5382-0505-1",{"$f":"HYPERLINK(\"https://www.garethstevens.com/\"&Table1[[#This Row],[ISBN]],\"Weblink\")","v":"Weblink"},2018,"August 2017",null,null,"Author, Translated by","Todd Bluthenthal, Esther Sarfatti",null,null,null,null,"H",null,"Grade 1 - 2","Grade 1 - 3","Is there such a thing as a fun way to develop spatial awareness? Yes, and readers can do so by reading this book. Readers will engage in and expand their understanding of the world around them through a creative, rewarding map-making activity developed with learning and fun in mind. Step-by-step instructions guide them through this rewarding exercise, while a simple history and explanation of cartography allows them to feel a part of something both fascinating and epic.","Spanish",22.6,16.95,"526--dc23","24 pp.",{"$f":"Table1[[#This Row],[QTY]]*Table1[[#This Row],['# Books]]","v":0},{"$f":"Table1[[#This Row],[QTY]]*Table1[[#This Row],[S&L Price]]","v":0}]
[null,null,169,"¿Dónde está…? Mapas del mundo (Where on Earth? Mapping Parts of the World)",1,"Continentes de la Tierra (Earth’s Continents)","Library Bound Book",null,"978-1-5382-0509-9",{"$f":"HYPERLINK(\"https://www.garethstevens.com/\"&Table1[[#This Row],[ISBN]],\"Weblink\")","v":"Weblink"},2018,"August 2017","Library","7.000 X 7.000","Author, Translated by","Todd Bluthenthal, Esther Sarfatti",null,null,null,null,"H",null,"Grade 1 - 2","Grade 1 - 3","Why do continents matter? From economics to weather science, knowing the characteristics of the continents expands readers' perspectives in every school subject. This fundamental information is a building block of many future lessons and an essential part of elementary education. This book presents a focused, clear, age-appropriate look at Earth's continents that young readers are sure to find both informative and interesting. This volume is also packed with colorful maps that are labeled and explained to foster young readers' comprehension of this important topic.","Spanish",22.6,16.95,"551.41--dc23","24 pp.",{"$f":"Table1[[#This Row],[QTY]]*Table1[[#This Row],['# Books]]","v":0},{"$f":"Table1[[#This Row],[QTY]]*Table1[[#This Row],[S&L Price]]","v":0}]
[null,null,169,"¿Dónde está…? Mapas del mundo (Where on Earth? Mapping Parts of the World)",1,"El polo sur (The South Pole)","Library Bound Book",null,"978-1-5382-0508-2",{"$f":"HYPERLINK(\"https://www.garethstevens.com/\"&Table1[[#This Row],[ISBN]],\"Weblink\")","v":"Weblink"},2018,"August 2017","Library","7.000 X 7.000","Author, Translated by","Todd Bluthenthal, Esther Sarfatti",null,null,null,null,"H",null,"Grade 1 - 2","Grade 1 - 3","The South Pole is cold, but there’s more to it than that! This book presents the cartography and earth science of this polar region to young readers in an engaging yet informative way. Several spreads are dedicated to the fascinating history of the brave explorers of this icy landscape, a part of history that is sure to impress all elementary readers! The colorful, easily understood maps and vivid photographs of the South Pole will expand reader’s grasp on the concepts of poles, continents, climate, Earth’s rotation, and so much more!","Spanish",22.6,16.95,"919.89--dc23","24 pp.",{"$f":"Table1[[#This Row],[QTY]]*Table1[[#This Row],['# Books]]","v":0},{"$f":"Table1[[#This Row],[QTY]]*Table1[[#This Row],[S&L Price]]","v":0}]
[null,null,169,"¿Dónde está…? Mapas del mundo (Where on Earth? Mapping Parts of the World)",1,"Hemisferios de la Tierra (Earth's Hemispheres)","eBook",null,"978-1-5382-0504-4",{"$f":"HYPERLINK(\"https://www.garethstevens.com/\"&Table1[[#This Row],[ISBN]],\"Weblink\")","v":"Weblink"},2018,"August 2017",null,null,"Author, Translated by","Todd Bluthenthal, Esther Sarfatti",null,null,null,null,"I",null,"Grade 1 - 2","Grade 1 - 3","The division of the Earth into hemispheres isn't the easiest concept to grasp. It involves geography, spatial awareness, and map-reading abilities. This volume makes it easy for any reader to develop a solid comprehension of this critical social studies lesson. Vivid, full-color maps and photographs are integrated with the accessible main narrative.","Spanish",22.6,16.95,"526'.61--dc23","24 pp.",{"$f":"Table1[[#This Row],[QTY]]*Table1[[#This Row],['# Books]]","v":0},{"$f":"Table1[[#This Row],[QTY]]*Table1[[#This Row],[S&L Price]]","v":0}]
[null,null,169,"Biomas donde yo vivo (Backyard Biomes)",1,"Vivo cerca de un desierto (There's a Desert in My Backyard!)","eBook",null,"978-1-4824-6132-9",{"$f":"HYPERLINK(\"https://www.garethstevens.com/\"&Table1[[#This Row],[ISBN]],\"Weblink\")","v":"Weblink"},2017,"January 2017",null,null,"Author, Translated by","Walter LaPlante, Alberto Jiménez","3.2","0.5",null,null,"H",null,"Grade 1 - 2","Grade 1 - 3","Deserts are the driest places on Earth, but they're full of life! Cacti, kangaroo rats, shrubs, foxes, and more have found ways to adapt to the extreme temperatures and dry conditions of deserts around the world. Readers learn about many of these adaptations as well as the major features of the desert biome. Simple maps highlight some of the biggest deserts, helping readers learn map skills. Full-color photographs reinforce accessible information about the desert ecosystem, including a concluding message of conservation.","Spanish",22.6,16.95,"577.54--dc23","24 pp.",{"$f":"Table1[[#This Row],[QTY]]*Table1[[#This Row],['# Books]]","v":0},{"$f":"Table1[[#This Row],[QTY]]*Table1[[#This Row],[S&L Price]]","v":0}]
[null,null,169,"Biomas donde yo vivo (Backyard Biomes)",1,"Vivo cerca de un lago (There's a Lake in My Backyard!)","Library Bound Book",null,"978-1-4824-6236-4",{"$f":"HYPERLINK(\"https://www.garethstevens.com/\"&Table1[[#This Row],[ISBN]],\"Weblink\")","v":"Weblink"},2017,"January 2017","Library","7.000 X 7.000","Author, Translated by","Seth Lynch, Alberto Jiménez","3.7","0.5",null,null,"H",null,"Grade 1 - 2","Grade 1 - 3","Lakes can be hundreds of miles long and thousands of miles deep. They can be small enough to swim across. It's common for homes and roads to be built near lakes because they offer such beautiful scenery as well as needed resources. Readers are introduced to the lake biome that may be in their backyard through lakes' main features, animals and plants that may live there, and examples of some of the largest lakes on Earth. Full-color photographs and small maps highlight this special biome as the main content simply touches on key science curriculum topics including food webs and water conservation.","Spanish",22.6,16.95,"577.63--dc23","24 pp.",{"$f":"Table1[[#This Row],[QTY]]*Table1[[#This Row],['# Books]]","v":0},{"$f":"Table1[[#This Row],[QTY]]*Table1[[#This Row],[S&L Price]]","v":0}]
[null,null,169,"Biomas donde yo vivo (Backyard Biomes)",1,"Vivo cerca de un pantano (There's a Swamp in My Backyard!)","eBook",null,"978-1-4824-6135-0",{"$f":"HYPERLINK(\"https://www.garethstevens.com/\"&Table1[[#This Row],[ISBN]],\"Weblink\")","v":"Weblink"},2017,"January 2017",null,null,"Author, Translated by","Seth Lynch, Alberto Jiménez","4.3","0.5",null,null,"H",null,"Grade 1 - 2","Grade 1 - 3","Swamps are one kind of wetland biome. Like other wetland biomes, a swamp’s water must be clean in order for the wildlife in it to thrive. Readers learn the main features of both freshwater and saltwater swamps, as well as where some of the biggest swamps are on Earth. Science curriculum topics such as food chains and conservation make the main content a great complement to classroom learning. Full-color photographs and inset maps aid readers in identifying this interesting biome in the world around them.","Spanish",22.6,16.95,"577.68--dc23","24 pp.",{"$f":"Table1[[#This Row],[QTY]]*Table1[[#This Row],['# Books]]","v":0},{"$f":"Table1[[#This Row],[QTY]]*Table1[[#This Row],[S&L Price]]","v":0}]
[null,null,170,"Superherramientas científicas (Super Science Tools)",1,"Cómo utilizar imanes (Using Magnets)","eBook",null,"978-1-5382-0583-9",{"$f":"HYPERLINK(\"https://www.garethstevens.com/\"&Table1[[#This Row],[ISBN]],\"Weblink\")","v":"Weblink"},2018,"August 2017",null,null,"Author, Translated by","Nora Roman, Alberto Jiménez",null,null,null,null,"I",null,"Grade 1 - 2","Grade 1 - 3","Few natural forces seem as much like magic as magnets. Perhaps that’s why magnets are so fun! Young scientists will love learning about amazing magnets, both natural and man-made. They’ll discover how magnetism is harnessed to help us in many ways. This STEM-supportive volume contains comprehensible text and photographs of students and scientists utilizing magnets. It also includes a simple, fun concluding activity to encourage readers to use this super science tool themselves.","Spanish",22.6,16.95,"538--dc23","24 pp.",{"$f":"Table1[[#This Row],[QTY]]*Table1[[#This Row],['# Books]]","v":0},{"$f":"Table1[[#This Row],[QTY]]*Table1[[#This Row],[S&L Price]]","v":0}]
[null,null,170,"Superherramientas científicas (Super Science Tools)",1,"Cómo utilizar una báscula (Using a Scale)","Library Bound Book",null,"978-1-5382-0590-7",{"$f":"HYPERLINK(\"https://www.garethstevens.com/\"&Table1[[#This Row],[ISBN]],\"Weblink\")","v":"Weblink"},2018,"August 2017","Library","7.000 X 7.000","Author, Translated by","Nora Roman, Alberto Jiménez",null,null,null,null,"I",null,"Grade 1 - 2","Grade 1 - 3","We use scales more than we might notice in our daily lives. We weigh our food at stores, weigh our packages at the post office, and even weigh ourselves. Scientists use scales for important experiments, too. In this essential introduction to this super science tool, future scientists will learn about different kinds of scales. They’ll learn how to use scales to investigate objects in their everyday lives and come to appreciate how this often-used instrument helps us in so many ways.","Spanish",22.6,16.95,"681.2--dc23","24 pp.",{"$f":"Table1[[#This Row],[QTY]]*Table1[[#This Row],['# Books]]","v":0},{"$f":"Table1[[#This Row],[QTY]]*Table1[[#This Row],[S&L Price]]","v":0}]
[null,null,170,"Superherramientas científicas (Super Science Tools)",1,"Cómo utilizar una jarra medidora (Using Measuring Cups)","eBook",null,"978-1-5382-0599-0",{"$f":"HYPERLINK(\"https://www.garethstevens.com/\"&Table1[[#This Row],[ISBN]],\"Weblink\")","v":"Weblink"},2018,"August 2017",null,null,"Author, Translated by","Abigail B. Roberts, Alberto Jiménez",null,null,null,null,"H",null,"Grade 1 - 2","Grade 1 - 3","Measuring cups are essential in the kitchen, but they’re also crucial in the science lab. Scientists need to be precise in their experiments to test their hypotheses, and science tools such as cylinders for measuring volume aid them in their important research. This appealing book shows that young scientists, too, can use measuring containers for their own science experiments. Important STEM concepts such as volume and units of measurement are explained in a comprehensible manner.","Spanish",22.6,16.95,"681’.2--dc23","24 pp.",{"$f":"Table1[[#This Row],[QTY]]*Table1[[#This Row],['# Books]]","v":0},{"$f":"Table1[[#This Row],[QTY]]*Table1[[#This Row],[S&L Price]]","v":0}]
[null,null,170,"Superherramientas científicas (Super Science Tools)",1,"Cómo utilizar una regla (Using a Ruler)","eBook",null,"978-1-5382-0587-7",{"$f":"HYPERLINK(\"https://www.garethstevens.com/\"&Table1[[#This Row],[ISBN]],\"Weblink\")","v":"Weblink"},2018,"August 2017",null,null,"Author, Translated by","Nora Roman, Alberto Jiménez",null,null,null,null,"H",null,"Grade 1 - 2","Grade 1 - 3","Rulers seem like such simple tools, but their importance can't be overstated. Without rulers so many inventions and other human-made achievements would fall apart. Readers will review the basics and observe rulers being used in the working world. They’ll even test out their own ruler skills as they find out that rulers rule in science.","Spanish",22.6,16.95,"530.8--dc23","24 pp.",{"$f":"Table1[[#This Row],[QTY]]*Table1[[#This Row],['# Books]]","v":0},{"$f":"Table1[[#This Row],[QTY]]*Table1[[#This Row],[S&L Price]]","v":0}]
[null,null,170,"Conoce las ciencias físicas (A Look at Physical Science)",1,"El magnetismo (Magnetism)","eBook",null,"978-1-5382-2784-8",{"$f":"HYPERLINK(\"https://www.garethstevens.com/\"&Table1[[#This Row],[ISBN]],\"Weblink\")","v":"Weblink"},2019,"August 2018",null,null,"Author, Translated by","Kathleen Connors, Alberto Jiménez",null,null,null,null,"J",null,"Grade 2","Grade 3 - 6","Kids often play with magnets, yet they don't learn how these playthings work for many years. Practical knowledge from their play can help them learn more about magnetism, and so can this book. Specially written for those with reading challenges or readers looking for a review, the main text covers important vocabulary, magnetic fields, and a discussion of why metals and magnets come together. Diagrams and succinct fact boxes offer additional ways to learn each concept and explain some ideas in greater detail.","Spanish",26.6,19.95,"538--dc23","32 pp.",{"$f":"Table1[[#This Row],[QTY]]*Table1[[#This Row],['# Books]]","v":0},{"$f":"Table1[[#This Row],[QTY]]*Table1[[#This Row],[S&L Price]]","v":0}]
[null,null,170,"Conoce las ciencias físicas (A Look at Physical Science)",1,"La fuerza y el movimiento (Forces and Motion)","Library Bound Book",null,"978-1-5382-2769-5",{"$f":"HYPERLINK(\"https://www.garethstevens.com/\"&Table1[[#This Row],[ISBN]],\"Weblink\")","v":"Weblink"},2019,"August 2018","Library","6.500 X 9.125","Author, Translated by","Kathleen Connors, Alberto Jiménez",null,null,null,null,"J",null,"Grade 2","Grade 3 - 6","Newton's laws aren't the easiest science topics to digest. Struggling readers likely find understanding them even harder. This volume breaks down the topics of force and motion to its most basic and understandable parts, perfect to introduce to readers having a hard time or students looking to review for class. Written in succinct language, each chapter contains fact boxes and graphic organizers to aid all readers as they move from speed, to velocity and on.","Spanish",26.6,19.95,"531'.6--dc23","32 pp.",{"$f":"Table1[[#This Row],[QTY]]*Table1[[#This Row],['# Books]]","v":0},{"$f":"Table1[[#This Row],[QTY]]*Table1[[#This Row],[S&L Price]]","v":0}]
[null,null,170,"Conoce las ciencias físicas (A Look at Physical Science)",1,"La fuerza y el movimiento (Forces and Motion)","eBook",null,"978-1-5382-2772-5",{"$f":"HYPERLINK(\"https://www.garethstevens.com/\"&Table1[[#This Row],[ISBN]],\"Weblink\")","v":"Weblink"},2019,"August 2018",null,null,"Author, Translated by","Kathleen Connors, Alberto Jiménez",null,null,null,null,"J",null,"Grade 2","Grade 3 - 6","Newton's laws aren't the easiest science topics to digest. Struggling readers likely find understanding them even harder. This volume breaks down the topics of force and motion to its most basic and understandable parts, perfect to introduce to readers having a hard time or students looking to review for class. Written in succinct language, each chapter contains fact boxes and graphic organizers to aid all readers as they move from speed, to velocity and on.","Spanish",26.6,19.95,"531'.6--dc23","32 pp.",{"$f":"Table1[[#This Row],[QTY]]*Table1[[#This Row],['# Books]]","v":0},{"$f":"Table1[[#This Row],[QTY]]*Table1[[#This Row],[S&L Price]]","v":0}]
[null,null,170,"Conoce tu gobierno (A Look at Your Government)",1,"¿Cómo se convierte un proyecto en ley? (How Does a Bill Become a Law?)","eBook",null,"978-1-4824-6275-3",{"$f":"HYPERLINK(\"https://www.garethstevens.com/\"&Table1[[#This Row],[ISBN]],\"Weblink\")","v":"Weblink"},2018,"August 2017",null,null,"Author, Translated by","Kathleen Connors, Esther Sarfatti","4.9","0.5",null,null,"K",null,"Grade 2","Grade 3 - 6","Our nation’s laws go through a long process before they are enacted. Bills are scrutinized and researched by committees in both the House and Senate and may be rewritten several times before they pass. This book breaks down the complicated process into digestible steps for readers looking to better understand an important component of the social studies curriculum. Fact boxes further clarify how the government works, supply key terms, and give more detail about congressional committees. A concluding flowchart allows readers to review the process even more easily.","Spanish",26.6,19.95,"328.73/077--dc23","32 pp.",{"$f":"Table1[[#This Row],[QTY]]*Table1[[#This Row],['# Books]]","v":0},{"$f":"Table1[[#This Row],[QTY]]*Table1[[#This Row],[S&L Price]]","v":0}]
[null,null,171,"Conoce tu gobierno (A Look at Your Government)",1,"¿Qué es el colegio electoral? (What Is the Electoral College?)","eBook",null,"978-1-4824-6270-8",{"$f":"HYPERLINK(\"https://www.garethstevens.com/\"&Table1[[#This Row],[ISBN]],\"Weblink\")","v":"Weblink"},2018,"August 2017",null,null,"Author, Translated by","Santana Hunt, Esther Sarfatti","5.5","0.5",null,null,"K",null,"Grade 2","Grade 3 - 6","When the Constitution was written, some of the Founding Fathers wanted to include a provision that only those in Congress vote for president. Others felt it was important that the former colonists got to vote directly for their president. The Electoral College was the compromise reached, and it's still how the president and vice president are elected today. This often-confusing topic is simplified, step by step for readers. Simple language and elaborating fact boxes target readers new to understanding the Electoral College system and those looking for a thorough but succinct review.","Spanish",26.6,19.95,"324.6’3--dc23","32 pp.",{"$f":"Table1[[#This Row],[QTY]]*Table1[[#This Row],['# Books]]","v":0},{"$f":"Table1[[#This Row],[QTY]]*Table1[[#This Row],[S&L Price]]","v":0}]
[null,null,171,"Conoce tu gobierno (A Look at Your Government)",1,"¿Qué hace el Tribunal Supremo de Justicia? (What Does the US Supreme Court Do?)","Library Bound Book",null,"978-1-4824-6257-9",{"$f":"HYPERLINK(\"https://www.garethstevens.com/\"&Table1[[#This Row],[ISBN]],\"Weblink\")","v":"Weblink"},2018,"August 2017","Library","6.500 X 9.125","Author, Translated by","Santana Hunt, Esther Sarfatti","5","0.5",null,null,"K",null,"Grade 2","Grade 3 - 6","The Supreme Court is the highest court in the United States. While it only hears about 80 cases out of the thousands that petition to be heard, the court’s decisions have a big impact. The most important job of the Supreme Court is to decide the constitutionality of laws and actions. This process is broken down for readers in simple terms that support their understanding of the judicial branch. The main content offers curriculum-based information about the court’s relationship with the Constitution, justice appointments, and how justices write opinions. Fact boxes supply definitions and further explanations of more complicated ideas.","Spanish",26.6,19.95,"347.73/26--dc23","32 pp.",{"$f":"Table1[[#This Row],[QTY]]*Table1[[#This Row],['# Books]]","v":0},{"$f":"Table1[[#This Row],[QTY]]*Table1[[#This Row],[S&L Price]]","v":0}]
[null,null,171,"Conoce tu gobierno (A Look at Your Government)",1,"¿Qué hace el Tribunal Supremo de Justicia? (What Does the US Supreme Court Do?)","eBook",null,"978-1-4824-6258-6",{"$f":"HYPERLINK(\"https://www.garethstevens.com/\"&Table1[[#This Row],[ISBN]],\"Weblink\")","v":"Weblink"},2018,"August 2017",null,null,"Author, Translated by","Santana Hunt, Esther Sarfatti","5","0.5",null,null,"K",null,"Grade 2","Grade 3 - 6","The Supreme Court is the highest court in the United States. While it only hears about 80 cases out of the thousands that petition to be heard, the court’s decisions have a big impact. The most important job of the Supreme Court is to decide the constitutionality of laws and actions. This process is broken down for readers in simple terms that support their understanding of the judicial branch. The main content offers curriculum-based information about the court’s relationship with the Constitution, justice appointments, and how justices write opinions. Fact boxes supply definitions and further explanations of more complicated ideas.","Spanish",26.6,19.95,"347.73/26--dc23","32 pp.",{"$f":"Table1[[#This Row],[QTY]]*Table1[[#This Row],['# Books]]","v":0},{"$f":"Table1[[#This Row],[QTY]]*Table1[[#This Row],[S&L Price]]","v":0}]
[null,null,171,"Veamos los ciclos de vida (A Look at Life Cycles)",1,"Los ciclos de vida de los anfibios (Amphibian Life Cycles)","eBook",null,"978-1-5382-1520-3",{"$f":"HYPERLINK(\"https://www.garethstevens.com/\"&Table1[[#This Row],[ISBN]],\"Weblink\")","v":"Weblink"},2018,"January 2018",null,null,"Author, Translated by","Bray Jacobson, Alberto Jiménez","3.5","0.5",null,null,"I",null,"Grade 2","Grade 3 - 6","Amphibians have some of the most interesting life cycles on Earth. The metamorphosis frogs, toads, salamanders, newts, and caecilians go through has many steps that readers need to understand and remember. This book offers a concise overview of the general amphibian life cycle as well as representative examples of the many species within the animal group. Most importantly, the accessible language is paired with diagrams of the steps of the life cycle to augment readers’ understanding of this topic often found in the science curriculum.","Spanish",26.6,19.95,"597.8'9--dc23","32 pp.",{"$f":"Table1[[#This Row],[QTY]]*Table1[[#This Row],['# Books]]","v":0},{"$f":"Table1[[#This Row],[QTY]]*Table1[[#This Row],[S&L Price]]","v":0}]
[null,null,171,"Veamos los ciclos de vida (A Look at Life Cycles)",1,"Los ciclos de vida de los peces (Fish Life Cycles)","Library Bound Book",null,"978-1-5382-1522-7",{"$f":"HYPERLINK(\"https://www.garethstevens.com/\"&Table1[[#This Row],[ISBN]],\"Weblink\")","v":"Weblink"},2018,"January 2018","Library","6.500 X 9.125","Author, Translated by","Bray Jacobson, Alberto Jiménez","4.4","0.5",null,null,"I",null,"Grade 2","Grade 3 - 6","From the candiru to the lionfish, there are so many kinds of fish on Earth. While all have different methods of production, the basic life cycle is the same, from egg to spawning swimmers. Readers are introduced to this general cycle as well as the important vocabulary needed to talk about it, such as “fry” and “spawning.” Accessible language and simple diagrams throughout the book provide a way for struggling readers to tackle science curriculum content.","Spanish",26.6,19.95,"597.156--dc23","32 pp.",{"$f":"Table1[[#This Row],[QTY]]*Table1[[#This Row],['# Books]]","v":0},{"$f":"Table1[[#This Row],[QTY]]*Table1[[#This Row],[S&L Price]]","v":0}]
[null,null,172,"¡Resuelve! Matemáticas en el espacio (Solve It! Math in Space)",1,"Matemáticas en el cinturón de asteroides (Math in the Asteroid Belt)","Library Bound Book",null,"978-1-4824-5224-2",{"$f":"HYPERLINK(\"https://www.garethstevens.com/\"&Table1[[#This Row],[ISBN]],\"Weblink\")","v":"Weblink"},2017,"August 2016","Library","8.500 X 8.500","Author, Translated by","Mark J. Harasymiw , Alberto Jiménez","5.2","0.5",null,null,"M",null,"Grade 2 - 3","Grade 2 - 5","The asteroid belt between Mars and Jupiter is an intriguing area of our solar system. Scientists have counted over 670,000 known asteroids there, but there could be millions more not yet found. Readers will discover much more about the asteroid belt in this highinterest book, which blends science and math. They'll read about several topics, such as space missions to the asteroid belt and the difference between an asteroid and a planet, and solve associated math problems-just like actual space scientists do.","Spanish",22.6,16.95,"523.44--dc23","24 pp.",{"$f":"Table1[[#This Row],[QTY]]*Table1[[#This Row],['# Books]]","v":0},{"$f":"Table1[[#This Row],[QTY]]*Table1[[#This Row],[S&L Price]]","v":0}]
[null,null,172,"¡Resuelve! Matemáticas en el espacio (Solve It! Math in Space)",1,"Matemáticas en el cinturón de asteroides (Math in the Asteroid Belt)","eBook",null,"978-1-4824-5223-5",{"$f":"HYPERLINK(\"https://www.garethstevens.com/\"&Table1[[#This Row],[ISBN]],\"Weblink\")","v":"Weblink"},2017,"August 2016",null,null,"Author, Translated by","Mark J. Harasymiw , Alberto Jiménez","5.2","0.5",null,null,"M",null,"Grade 2 - 3","Grade 2 - 5","The asteroid belt between Mars and Jupiter is an intriguing area of our solar system. Scientists have counted over 670,000 known asteroids there, but there could be millions more not yet found. Readers will discover much more about the asteroid belt in this highinterest book, which blends science and math. They'll read about several topics, such as space missions to the asteroid belt and the difference between an asteroid and a planet, and solve associated math problems-just like actual space scientists do.","Spanish",22.6,16.95,"523.44--dc23","24 pp.",{"$f":"Table1[[#This Row],[QTY]]*Table1[[#This Row],['# Books]]","v":0},{"$f":"Table1[[#This Row],[QTY]]*Table1[[#This Row],[S&L Price]]","v":0}]
[null,null,172,"¡Resuelve! Matemáticas en el espacio (Solve It! Math in Space)",1,"Matemáticas en la Luna (Math on the Moon)","Library Bound Book",null,"978-1-4824-5236-5",{"$f":"HYPERLINK(\"https://www.garethstevens.com/\"&Table1[[#This Row],[ISBN]],\"Weblink\")","v":"Weblink"},2017,"August 2016","Library","8.500 X 8.500","Author, Translated by","Mark J. Harasymiw , Alberto Jiménez","4.8","0.5",null,null,"M",null,"Grade 2 - 3","Grade 2 - 5","The moon is the only celestial body that humans have set foot on. Some of the knowledge we have of the moon involves numbers, including measurements such as diameter and area. Science and math are complementary foci in this engaging volume, full of beautiful photographs, interesting information, and corresponding math problems. Readers will enjoy feeling like astrophysicists as they complete the lunar math missions in this unique volume.","Spanish",22.6,16.95,"523.3--dc23","24 pp.",{"$f":"Table1[[#This Row],[QTY]]*Table1[[#This Row],['# Books]]","v":0},{"$f":"Table1[[#This Row],[QTY]]*Table1[[#This Row],[S&L Price]]","v":0}]
[null,null,172,"¡Resuelve! Matemáticas en el espacio (Solve It! Math in Space)",1,"Matemáticas en Saturno (Math on Saturn)","Library Bound Book",null,"978-1-4824-5244-0",{"$f":"HYPERLINK(\"https://www.garethstevens.com/\"&Table1[[#This Row],[ISBN]],\"Weblink\")","v":"Weblink"},2017,"August 2016","Library","8.500 X 8.500","Author, Translated by","Mark J. Harasymiw , Alberto Jiménez","4.5","0.5",null,null,"N",null,"Grade 2 - 3","Grade 2 - 5","The planet Saturn, with its magnificent rings, is one of the most jawdropping sights in our solar system. The striking photographs in this attractive volume invite readers to dive into the essential facts and science vocabulary in the text. They'll also be invited to solve math problems involving Saturn in which they'll learn more data such as about Saturn's 29 1/2 year trip around the sun. Saturn's rings, moons, and atmosphere are some of the topics that future astronomers will be introduced to in this valuable volume about the sixth planet from the sun.\r\n","Spanish",22.6,16.95,"523.46--dc23","24 pp.",{"$f":"Table1[[#This Row],[QTY]]*Table1[[#This Row],['# Books]]","v":0},{"$f":"Table1[[#This Row],[QTY]]*Table1[[#This Row],[S&L Price]]","v":0}]
[null,null,172,"Pueblos indígenas de Norteamérica (Native Peoples of North America)",1,"Pueblos indígenas de la costa Noroeste (Native Peoples of the Northwest Coast)","Library Bound Book",null,"978-1-4824-5252-5",{"$f":"HYPERLINK(\"https://www.garethstevens.com/\"&Table1[[#This Row],[ISBN]],\"Weblink\")","v":"Weblink"},2017,"August 2016","Library","8.500 X 8.500","Author, Translated by","Janey Levy, Esther Sarfatti",null,null,null,null,"M",null,"Grade 2 - 3","Grade 2 - 5","The native peoples of the northwest coast are often known by the totem poles they create. Made from cedar trees, totem poles were painted bright colors and featured both animal and human forms. Why these amazing pieces of art are created is just one of the interesting details readers will learn about the many native peoples who lived in modern-day Alaska, Oregon, Washington, northern California, and British Columbia. The main content features many social studies curriculum topics, including customs, clothing, and spirituality of native peoples. Full-color photographs and historical images enhance each chapter as specific native groups are highlighted throughout the book.","Spanish",25.25,18.95,"978.004/97--dc23","32 pp.",{"$f":"Table1[[#This Row],[QTY]]*Table1[[#This Row],['# Books]]","v":0},{"$f":"Table1[[#This Row],[QTY]]*Table1[[#This Row],[S&L Price]]","v":0}]
[null,null,172,"Pueblos indígenas de Norteamérica (Native Peoples of North America)",1,"Pueblos indígenas de la costa Noroeste (Native Peoples of the Northwest Coast)","eBook",null,"978-1-4824-5253-2",{"$f":"HYPERLINK(\"https://www.garethstevens.com/\"&Table1[[#This Row],[ISBN]],\"Weblink\")","v":"Weblink"},2017,"August 2016",null,null,"Author, Translated by","Janey Levy, Esther Sarfatti",null,null,null,null,"M",null,"Grade 2 - 3","Grade 2 - 5","The native peoples of the northwest coast are often known by the totem poles they create. Made from cedar trees, totem poles were painted bright colors and featured both animal and human forms. Why these amazing pieces of art are created is just one of the interesting details readers will learn about the many native peoples who lived in modern-day Alaska, Oregon, Washington, northern California, and British Columbia. The main content features many social studies curriculum topics, including customs, clothing, and spirituality of native peoples. Full-color photographs and historical images enhance each chapter as specific native groups are highlighted throughout the book.","Spanish",25.25,18.95,"978.004/97--dc23","32 pp.",{"$f":"Table1[[#This Row],[QTY]]*Table1[[#This Row],['# Books]]","v":0},{"$f":"Table1[[#This Row],[QTY]]*Table1[[#This Row],[S&L Price]]","v":0}]
[null,null,172,"Pueblos indígenas de Norteamérica (Native Peoples of North America)",1,"Pueblos indígenas del Noreste (Native Peoples of the Northeast)","Library Bound Book",null,"978-1-4824-5264-8",{"$f":"HYPERLINK(\"https://www.garethstevens.com/\"&Table1[[#This Row],[ISBN]],\"Weblink\")","v":"Weblink"},2017,"August 2016","Library","8.500 X 8.500","Author, Translated by","Barbara M. Linde, Esther Sarfatti",null,null,null,null,"M",null,"Grade 2 - 3","Grade 2 - 5","A lot of what many people know about the native groups in the northeastern part of North America comes from colonial history. The Wampanoag met the Puritans as they made their home at Plymouth. The Powhatan group of the Algonquin people had a large role in the history of the Jamestown Settlement in Virginia. However, the history of the native groups living in modern New York, Massachusetts, Ohio, Pennsylvania, Maine, and northern Virginia began long before European settlement! Readers meet several individual groups of native peoples and explore the distinguishing features of northeastern life, society, and customs. Historical images and full-color photographs help illustrate the lifestyles of these groups.","Spanish",25.25,18.95,"974.004/97--dc23","32 pp.",{"$f":"Table1[[#This Row],[QTY]]*Table1[[#This Row],['# Books]]","v":0},{"$f":"Table1[[#This Row],[QTY]]*Table1[[#This Row],[S&L Price]]","v":0}]
[null,null,172,"Pueblos indígenas de Norteamérica (Native Peoples of North America)",1,"Pueblos indígenas del Sureste (Native Peoples of the Southeast)","eBook",null,"978-1-4824-5269-3",{"$f":"HYPERLINK(\"https://www.garethstevens.com/\"&Table1[[#This Row],[ISBN]],\"Weblink\")","v":"Weblink"},2017,"August 2016",null,null,"Author, Translated by","Amy Hayes, Esther Sarfatti",null,null,null,null,"M",null,"Grade 2 - 3","Grade 2 - 5","The American Southeast stretches from the Atlantic Ocean to the Gulf of Mexico, including the states of Georgia, Florida, Louisiana, and Alabama as well as parts of Virginia and Maryland. But before that region was divided into states, native groups lived there. From how they found food to what their spiritual beliefs were, the book’s main content presents the traditional lifestyles of the Seminole, Choctaw, and Creek peoples, and the other groups that lived in the southeast. Readers learn even more from fun fact boxes and the historical images and full-color photographs that show what native peoples’ lives were like, both before and after European colonization.","Spanish",25.25,18.95,"975.004/97--dc23","32 pp.",{"$f":"Table1[[#This Row],[QTY]]*Table1[[#This Row],['# Books]]","v":0},{"$f":"Table1[[#This Row],[QTY]]*Table1[[#This Row],[S&L Price]]","v":0}]
[null,null,172,"La historia oculta (Hidden History)",1,"El Cementerio Africano (The African Burial Ground)","eBook",null,"978-1-4824-6220-3",{"$f":"HYPERLINK(\"https://www.garethstevens.com/\"&Table1[[#This Row],[ISBN]],\"Weblink\")","v":"Weblink"},2017,"January 2017",null,null,"Author, Translated by","Therese M. Shea, Ana Maria Garcia","7.4","1",null,null,"S",null,"Grade 4 - 5","Grade 4 - 6","In 1991, preparation for the construction of a new federal office building led to a startling discovery: a skeleton. Further excavation exposed the bones of 420 men, women, and children. This area of New York had been a burial ground set aside for both free and enslaved Africans during the 1600s and 1700s. It’s thought to be one of the most important archaeological discoveries of the 20th century. This noteworthy book—which includes sidebars, fact boxes, a timeline, and maps—fills in the gaps of history books, exposing much about what life was like in colonial New York for Africans.","Spanish",26.6,19.95,"974.7/01--dc23","32 pp.",{"$f":"Table1[[#This Row],[QTY]]*Table1[[#This Row],['# Books]]","v":0},{"$f":"Table1[[#This Row],[QTY]]*Table1[[#This Row],[S&L Price]]","v":0}]
[null,null,172,"La historia oculta (Hidden History)",1,"La colonia de Jamestown (Uncovering the Jamestown Colony)","eBook",null,"978-1-4824-6234-0",{"$f":"HYPERLINK(\"https://www.garethstevens.com/\"&Table1[[#This Row],[ISBN]],\"Weblink\")","v":"Weblink"},2017,"January 2017",null,null,"Translated by, Author","Ana Maria Garcia, Caitlin McAneney","6.1","1",null,null,"S",null,"Grade 4 - 5","Grade 4 - 6","Jamestown is celebrated as the first permanent English settlement in North America, but underneath the well-known history is a darker past. In its beginning years, Jamestown was far from successful. In fact, most colonists who came to Jamestown never left; they died shortly after arriving. This fascinating book delves into the challenges of the colony, revealing its successes, tragedies, and even horrors such as cannibalism. Readers will be surprised to learn about the real-life Pocahontas and John Smith, and eager to find out more about what really happened in this Virginia colony's early days.","Spanish",26.6,19.95,"975.5/4251--dc23","32 pp.",{"$f":"Table1[[#This Row],[QTY]]*Table1[[#This Row],['# Books]]","v":0},{"$f":"Table1[[#This Row],[QTY]]*Table1[[#This Row],[S&L Price]]","v":0}]
[null,null,172,"La historia oculta (Hidden History)",1,"Las estaciones del ferrocarril subterráneo (Depots of the Underground Railroad)","Library Bound Book",null,"978-1-4824-6224-1",{"$f":"HYPERLINK(\"https://www.garethstevens.com/\"&Table1[[#This Row],[ISBN]],\"Weblink\")","v":"Weblink"},2017,"January 2017","Library","6.500 X 9.125","Author, Translated by","Caroline Kennon, Ana Maria Garcia","7.4","1",null,null,"S",null,"Grade 4 - 5","Grade 4 - 6","The Underground Railroad was the massive effort by slaves and free people to secretly bring thousands of blacks to freedom in the North during the 19th century. This thought-provoking book will capture readers’ imaginations and fill them with awe for the brave “conductors” and “passengers” on the Railroad. They’ll learn about the many safe havens, called “depots,” that housed fugitives and the secret passages within them that hid slaves from their pursuers. Information about the American Civil War and the Fugitive Slave Act, biographies of figures vital to the Underground Railroad, and stunning photographs and artwork are included in this important work about a terrible time in American history.","Spanish",26.6,19.95,"973.7/115--dc23","32 pp.",{"$f":"Table1[[#This Row],[QTY]]*Table1[[#This Row],['# Books]]","v":0},{"$f":"Table1[[#This Row],[QTY]]*Table1[[#This Row],[S&L Price]]","v":0}]
[null,null,172,"La historia oculta (Hidden History)",1,"Los primeros habitantes de Norteamérica (North America's First People)","eBook",null,"978-1-4824-6238-8",{"$f":"HYPERLINK(\"https://www.garethstevens.com/\"&Table1[[#This Row],[ISBN]],\"Weblink\")","v":"Weblink"},2017,"January 2017",null,null,"Author, Translated by","Janey Levy, Ana Maria Garcia","7","1",null,null,"T",null,"Grade 4 - 5","Grade 4 - 6","Who were the earliest Americans? When, how, and from where did they enter and spread across the continent? What is their relationship to modern Native Americans? Anthropologists develop theories to answer these questions based on the evidence they discover. Their theories, and the discoveries that prove and disprove them, are highlighted in this fascinating volume. It is full of awe-inspiring facts and incredible breakthroughs. Readers will feel like anthropologists and archaeologists themselves as they read about bones and artifacts, and what they reveal about the ancient cultures that roamed North America, more than 13,000 years ago.","Spanish",26.6,19.95,"970.01--dc23","32 pp.",{"$f":"Table1[[#This Row],[QTY]]*Table1[[#This Row],['# Books]]","v":0},{"$f":"Table1[[#This Row],[QTY]]*Table1[[#This Row],[S&L Price]]","v":0}]
[null,null,174,"Nos encantan las ciencias / So into Science!",1,"Exploremos el bosque / Exploring the Forest","eBook",null,"978-1-5382-3637-6",{"$f":"HYPERLINK(\"https://www.garethstevens.com/\"&Table1[[#This Row],[ISBN]],\"Weblink\")","v":"Weblink"},2019,"January 2019",null,null,"Author, Translated by","Marie Roesser, Eida de la Vega","0.9","0.5",null,null,"C",null,"Grade K","Grade Pre-K - 2","Readers head into the forest and learn about just a few of the fascinating life-forms that call it home. Young forest rangers will learn to spot oak and maple seeds, how ants help forests grow, and more cool facts about this remarkable biome. Appealing low-ATOS text is coupled with perfectly chosen photographs to further engage readers. This charming book is a great resource to support the elementary science curriculum.","Bilingual",22.6,16.95,"577.3--dc23","24 pp.",{"$f":"Table1[[#This Row],[QTY]]*Table1[[#This Row],['# Books]]","v":0},{"$f":"Table1[[#This Row],[QTY]]*Table1[[#This Row],[S&L Price]]","v":0}]
[null,null,174,"Nos encantan las ciencias / So into Science!",1,"Exploremos el cielo de noche / Exploring the Night Sky","Library Bound Book",null,"978-1-5382-3628-4",{"$f":"HYPERLINK(\"https://www.garethstevens.com/\"&Table1[[#This Row],[ISBN]],\"Weblink\")","v":"Weblink"},2019,"January 2019","Library","7.625 X 7.125","Author, Translated by","Emmett Martin, Eida de la Vega","0.9","0.5",null,null,"C",null,"Grade K","Grade Pre-K - 2","From identifying a full moon to learning about constellations, there are many essential scientific concepts to discover while gazing up at the night sky. In this appealing volume, inviting low-ATOS text is perfectly paired with striking photographs of celestial objects, while a picture glossary reinforces key vocabulary terms. Young astronomers will love this introduction to the evening sky and be encouraged to grab their telescopes the next time the sun goes down.","Bilingual",22.6,16.95,"520--dc23","24 pp.",{"$f":"Table1[[#This Row],[QTY]]*Table1[[#This Row],['# Books]]","v":0},{"$f":"Table1[[#This Row],[QTY]]*Table1[[#This Row],[S&L Price]]","v":0}]
[null,null,174,"Nos encantan las ciencias / So into Science!",1,"Exploremos el zoológico / Exploring the Zoo","eBook",null,"978-1-5382-3627-7",{"$f":"HYPERLINK(\"https://www.garethstevens.com/\"&Table1[[#This Row],[ISBN]],\"Weblink\")","v":"Weblink"},2019,"January 2019",null,null,"Author, Translated by","Emmett Martin, Eida de la Vega","0.9","0.5",null,null,"C",null,"Grade K","Grade Pre-K - 2","Science isn't just something you learn about in a book or in the classroom. There are plenty of science concepts to discover through a fun trip to the zoo. This exciting scenario is the gateway to some fascinating facts about elephants, lions, and other animals as well as an appreciation for wildlife. The accessible text is supported by colorful photographs of high-interest creatures that will charm readers of all levels.","Bilingual",22.6,16.95,"590.73--dc23","24 pp.",{"$f":"Table1[[#This Row],[QTY]]*Table1[[#This Row],['# Books]]","v":0},{"$f":"Table1[[#This Row],[QTY]]*Table1[[#This Row],[S&L Price]]","v":0}]
[null,null,175,"¡A jugar! / Ways to Play",6,"¡A jugar! / Ways to Play","Library Set",null,"978-1-5382-0237-1",{"$f":"HYPERLINK(\"https://www.garethstevens.com/\"&Table1[[#This Row],[ISBN]],\"Weblink\")","v":"Weblink"},2018,"August 2017","Library","7.625 X 7.125",null,null,null,null,null,null,null,null,"Grade K","Grade Pre-K - 2","This motivating series shows early readers that books are a gateway to fun, while they read about the different ways that young people play every day. Whether that play involves pets, sports, music, or crafts, readers will connect with accessible text and photographs on each page, which will aid them in reviewing sight words as well as deciphering new vocabulary. Each high-interest volume encourages both creative and physical play and will have readers enthusiastically turning the pages.","Bilingual",135.6,101.7,null,"24 pp.",{"$f":"Table1[[#This Row],[QTY]]*Table1[[#This Row],['# Books]]","v":0},{"$f":"Table1[[#This Row],[QTY]]*Table1[[#This Row],[S&L Price]]","v":0}]
[null,null,175,"¡A jugar! / Ways to Play",1,"¡A hacer manualidades! / We Do Crafts!","eBook",null,"978-1-5382-0569-3",{"$f":"HYPERLINK(\"https://www.garethstevens.com/\"&Table1[[#This Row],[ISBN]],\"Weblink\")","v":"Weblink"},2018,"August 2017",null,null,"Author, Translated by","Leonard Atlantic, Eida de la Vega","0.9","0.5",null,null,"C",null,"Grade K","Grade Pre-K - 2","No matter what the weather's like outside, crafts are an easy and fun way to spend an afternoon. Whether painting with friends or making flowers out of paper, crafts can turn the day into an awesome adventure. Using simple craft supplies like paper and drawing tools, even the youngest of children can find engaging ways to play. With the help of accessible text paired with colorful photographs, early readers will experience the creative world of arts and crafts.","Bilingual",22.6,16.95,"745.5--dc23","24 pp.",{"$f":"Table1[[#This Row],[QTY]]*Table1[[#This Row],['# Books]]","v":0},{"$f":"Table1[[#This Row],[QTY]]*Table1[[#This Row],[S&L Price]]","v":0}]
[null,null,175,"¡A jugar! / Ways to Play",1,"¡A hacer música! / We Play Music!","Library Bound Book",null,"978-1-5382-0572-3",{"$f":"HYPERLINK(\"https://www.garethstevens.com/\"&Table1[[#This Row],[ISBN]],\"Weblink\")","v":"Weblink"},2018,"August 2017","Library","7.625 X 7.125","Author, Translated by","Leonard Atlantic, Eida de la Vega","0.9","0.5",null,null,"C",null,"Grade K","Grade Pre-K - 2","Learning an instrument is a great way to explore the fun and wonder of music. Whether it’s the drums or the piano, learning how to play an instrument is an amazing and empowering creative experience that instills a sense of discipline, even for early learners. It’s also a great way to write unique songs and play inspiring music with friends. From jamming out in a bedroom to learning an instrument at school, beginning readers will love exploring the world of music through full-color photographs and engaging, age-appropriate text.","Bilingual",22.6,16.95,"784.19--dc23","24 pp.",{"$f":"Table1[[#This Row],[QTY]]*Table1[[#This Row],['# Books]]","v":0},{"$f":"Table1[[#This Row],[QTY]]*Table1[[#This Row],[S&L Price]]","v":0}]
[null,null,175,"¡A jugar! / Ways to Play",1,"¡A jugar en casa! / We Play with Things Around the House!","eBook",null,"978-1-5382-0579-2",{"$f":"HYPERLINK(\"https://www.garethstevens.com/\"&Table1[[#This Row],[ISBN]],\"Weblink\")","v":"Weblink"},2018,"August 2017",null,null,"Author, Translated by","Leonard Atlantic, Eida de la Vega","0.8","0.5",null,null,"C",null,"Grade K","Grade Pre-K - 2","There’s never a shortage of ways to play when you get creative! Even without fancy sports or craft supplies, letting young readers explore the treasures found at home is a great way to invent a brand-new game. Allowing readers’ imaginations to take over engages them in creative improvisation and builds confidence in their own logic. This book pairs full-color photographs with accessible text to show budding readers just how easy it is to turn ordinary household objects into an endless fountain of fun!","Bilingual",22.6,16.95,"790--dc23","24 pp.",{"$f":"Table1[[#This Row],[QTY]]*Table1[[#This Row],['# Books]]","v":0},{"$f":"Table1[[#This Row],[QTY]]*Table1[[#This Row],[S&L Price]]","v":0}]
[null,null,175,"¡Matemáticas en todas partes! / Math Is Everywhere!",1,"Matemáticas con el tiempo / Math with Weather","eBook",null,"978-1-4824-5213-6",{"$f":"HYPERLINK(\"https://www.garethstevens.com/\"&Table1[[#This Row],[ISBN]],\"Weblink\")","v":"Weblink"},2017,"August 2016",null,null,"Author, Translated by","Rory McDonnell, Eida de la Vega","1.4","0.5",null,null,"B",null,"Grade K","Grade Pre-K - 2","In this entertaining narrative, arithmetic and weather are connected topics. The story opens as the narrator wonders how to dress for a trip to the zoo. The reader reviews weather concepts as well as addition word problems through accessible text and helpful photographs. This valuable volume is a perfect addition to any elementary science and math collection.","Bilingual",22.6,16.95,"510--dc23","24 pp.",{"$f":"Table1[[#This Row],[QTY]]*Table1[[#This Row],['# Books]]","v":0},{"$f":"Table1[[#This Row],[QTY]]*Table1[[#This Row],[S&L Price]]","v":0}]
[null,null,175,"¡Matemáticas en todas partes! / Math Is Everywhere!",1,"Matemáticas con ruedas / Math with Wheels","Library Bound Book",null,"978-1-4824-5218-1",{"$f":"HYPERLINK(\"https://www.garethstevens.com/\"&Table1[[#This Row],[ISBN]],\"Weblink\")","v":"Weblink"},2017,"August 2016","Library","7.625 X 7.125","Author, Translated by","Rory McDonnell, Eida de la Vega","1.4","0.5",null,null,"C",null,"Grade K","Grade Pre-K - 2","Grab your bike, it's time to ride. That's the fun activity that begins this inviting book. The narrator looks for wheels in a ride around town, adding them as he goes and encouraging readers to do the same. He encounters friends on bikes with training wheels, a unicycle, and even a policeman on a motorcycle. Math is everywhere, even on wheels.\r\n","Bilingual",22.6,16.95,"510--dc23","24 pp.",{"$f":"Table1[[#This Row],[QTY]]*Table1[[#This Row],['# Books]]","v":0},{"$f":"Table1[[#This Row],[QTY]]*Table1[[#This Row],[S&L Price]]","v":0}]
[null,null,175,"¡Matemáticas en todas partes! / Math Is Everywhere!",1,"Matemáticas con ruedas / Math with Wheels","eBook",null,"978-1-4824-5219-8",{"$f":"HYPERLINK(\"https://www.garethstevens.com/\"&Table1[[#This Row],[ISBN]],\"Weblink\")","v":"Weblink"},2017,"August 2016",null,null,"Author, Translated by","Rory McDonnell, Eida de la Vega","1.4","0.5",null,null,"C",null,"Grade K","Grade Pre-K - 2","Grab your bike, it's time to ride. That's the fun activity that begins this inviting book. The narrator looks for wheels in a ride around town, adding them as he goes and encouraging readers to do the same. He encounters friends on bikes with training wheels, a unicycle, and even a policeman on a motorcycle. Math is everywhere, even on wheels.\r\n","Bilingual",22.6,16.95,"510--dc23","24 pp.",{"$f":"Table1[[#This Row],[QTY]]*Table1[[#This Row],['# Books]]","v":0},{"$f":"Table1[[#This Row],[QTY]]*Table1[[#This Row],[S&L Price]]","v":0}]
[null,null,176,"¡Nuestra maravillosa Tierra! / Our Exciting Earth!",1,"Bosques tropicales / Rainforests","Library Bound Book",null,"978-1-5382-1538-8",{"$f":"HYPERLINK(\"https://www.garethstevens.com/\"&Table1[[#This Row],[ISBN]],\"Weblink\")","v":"Weblink"},2018,"January 2018","Library","7.625 X 7.125","Author, Translated by","Jagger Youssef, Eida de la Vega","0.9","0.5",null,null,"C",null,"Grade K","Grade Pre-K - 2","There's no need to get wet hiking into a rainforest to find out what lies under the canopy. In the pages of this entertaining, yet accessible, volume, readers will learn about conditions in the rainforest, a habitat that's home to half of all species of animals and plants on Earth. Vivid photographs reveal tropical rainforests as lively and vibrant places, while simple text encourages beginning readers to become explorers of Earth's wonders.","Bilingual",22.6,16.95,"577.34--dc23","24 pp.",{"$f":"Table1[[#This Row],[QTY]]*Table1[[#This Row],['# Books]]","v":0},{"$f":"Table1[[#This Row],[QTY]]*Table1[[#This Row],[S&L Price]]","v":0}]
[null,null,176,"¡Nuestra maravillosa Tierra! / Our Exciting Earth!",1,"Lagunas / Ponds","eBook",null,"978-1-5382-1512-8",{"$f":"HYPERLINK(\"https://www.garethstevens.com/\"&Table1[[#This Row],[ISBN]],\"Weblink\")","v":"Weblink"},2018,"January 2018",null,null,"Author, Translated by","Jagger Youssef, Eida de la Vega","0.9","0.5",null,null,"C",null,"Grade K","Grade Pre-K - 2","Even the smallest pond is a home for a myriad of plants and animals. This easy-to-follow volume demonstrates that accessible text and dynamic photographs are a perfect combination for introducing young readers to essential science topics. Readers will be delighted to meet the inhabitants of a pond, including frogs, minnows, ducklings, and even algae, which they'll learn can make a pond turn green. They'll be able to apply this valuable information to their next journey into the wild.","Bilingual",22.6,16.95,"577.63'6--dc23","24 pp.",{"$f":"Table1[[#This Row],[QTY]]*Table1[[#This Row],['# Books]]","v":0},{"$f":"Table1[[#This Row],[QTY]]*Table1[[#This Row],[S&L Price]]","v":0}]
[null,null,176,"¡Nuestra maravillosa Tierra! / Our Exciting Earth!",1,"Ríos / Rivers","Library Bound Book",null,"978-1-5382-1533-3",{"$f":"HYPERLINK(\"https://www.garethstevens.com/\"&Table1[[#This Row],[ISBN]],\"Weblink\")","v":"Weblink"},2018,"January 2018","Library","7.625 X 7.125","Author, Translated by","Claire Romaine, Eida de la Vega","0.9","0.5",null,null,"C",null,"Grade K","Grade Pre-K - 2","Rivers are such an essential part of Earth's geography. They bring freshwater for drinking, for irrigation, and for transportation, and don't forget fishing. This low-ATOS introduction to this critical water source explains many aspects about rivers and their inhabitants, aided by colorful photographs that will make readers want to explore these indispensable natural resources for themselves.","Bilingual",22.6,16.95,"910.916'93--dc23","24 pp.",{"$f":"Table1[[#This Row],[QTY]]*Table1[[#This Row],['# Books]]","v":0},{"$f":"Table1[[#This Row],[QTY]]*Table1[[#This Row],[S&L Price]]","v":0}]
[null,null,176,"¡Nuestra maravillosa Tierra! / Our Exciting Earth!",1,"Ríos / Rivers","eBook",null,"978-1-5382-1509-8",{"$f":"HYPERLINK(\"https://www.garethstevens.com/\"&Table1[[#This Row],[ISBN]],\"Weblink\")","v":"Weblink"},2018,"January 2018",null,null,"Author, Translated by","Claire Romaine, Eida de la Vega","0.9","0.5",null,null,"C",null,"Grade K","Grade Pre-K - 2","Rivers are such an essential part of Earth's geography. They bring freshwater for drinking, for irrigation, and for transportation, and don't forget fishing. This low-ATOS introduction to this critical water source explains many aspects about rivers and their inhabitants, aided by colorful photographs that will make readers want to explore these indispensable natural resources for themselves.","Bilingual",22.6,16.95,"910.916'93--dc23","24 pp.",{"$f":"Table1[[#This Row],[QTY]]*Table1[[#This Row],['# Books]]","v":0},{"$f":"Table1[[#This Row],[QTY]]*Table1[[#This Row],[S&L Price]]","v":0}]
[null,null,176,"¡Puedo ser lo que quiera! / I Can Be Anything!",1,"Puedo ser bibliotecaria / I Can Be a Librarian","eBook",null,"978-1-5382-2737-4",{"$f":"HYPERLINK(\"https://www.garethstevens.com/\"&Table1[[#This Row],[ISBN]],\"Weblink\")","v":"Weblink"},2019,"August 2018",null,null,"Author, Translated by","Anthony Ardely, Eida de la Vega","1.5","0.5",null,null,"C",null,"Grade K","Grade Pre-K - 2","For those who love reading, the library is often a favorite place to spend time. For many young readers, working in a library might sound like the perfect job. In addition to learning about the hard work that goes into being a librarian, readers will learn about important concepts, such as borrowing. Bright photographs that are closely related to the text help create an accessible, engaging book for beginning readers. Those who already love libraries will come to respect the hard work their librarians do, while others may be inspired to take a trip to their local library.","Bilingual",22.6,16.95,"020.92--dc23","24 pp.",{"$f":"Table1[[#This Row],[QTY]]*Table1[[#This Row],['# Books]]","v":0},{"$f":"Table1[[#This Row],[QTY]]*Table1[[#This Row],[S&L Price]]","v":0}]
[null,null,176,"¡Puedo ser lo que quiera! / I Can Be Anything!",1,"Puedo ser piloto / I Can Be a Pilot","Library Bound Book",null,"978-1-5382-2728-2",{"$f":"HYPERLINK(\"https://www.garethstevens.com/\"&Table1[[#This Row],[ISBN]],\"Weblink\")","v":"Weblink"},2019,"August 2018","Library","7.625 X 7.125","Author, Translated by","Miller Slenzak, Eida de la Vega","1.4","0.5",null,null,"C",null,"Grade K","Grade Pre-K - 2","To many young readers, there are few things that sound more exciting than flying over the sea and around the world. This exciting book explores what the life of a pilot is like and introduces some of the different parts of a plane. Close picture-text correlation help readers understand key concepts and develop important reading comprehension skills. Accessible, low-ATOS text will help young readers learn about this fascinating career, while colorful photographs help readers entertain the idea that someday, they may become a pilot.","Bilingual",22.6,16.95,"387.7092--dc23","24 pp.",{"$f":"Table1[[#This Row],[QTY]]*Table1[[#This Row],['# Books]]","v":0},{"$f":"Table1[[#This Row],[QTY]]*Table1[[#This Row],[S&L Price]]","v":0}]
[null,null,177,"¡Tu increíble cuerpo! / Your Amazing Body!",1,"Tu boca / Your Mouth","Library Bound Book",null,"978-1-5382-2740-4",{"$f":"HYPERLINK(\"https://www.garethstevens.com/\"&Table1[[#This Row],[ISBN]],\"Weblink\")","v":"Weblink"},2019,"August 2018","Library","7.625 X 7.125","Author, Translated by","Nancy Greenwood, Esther Ortiz","1.2","0.5",null,null,"C",null,"Grade K","Grade Pre-K - 2","People use their mouths every day, but most rarely think about how amazing it is. With the help of this captivating volume, readers will learn about the body part that helps them eat, breathe, and speak. This book uses photographs that are closely related to the low-ATOS text to help beginning readers gain essential literacy and reading comprehension skills. Readers are also taught about the importance of keeping their mouths clean and how doing so will help maintain the health of this key body part.","Bilingual",22.6,16.95,"612.3/1--dc23","24 pp.",{"$f":"Table1[[#This Row],[QTY]]*Table1[[#This Row],['# Books]]","v":0},{"$f":"Table1[[#This Row],[QTY]]*Table1[[#This Row],[S&L Price]]","v":0}]
[null,null,177,"¡Tu increíble cuerpo! / Your Amazing Body!",1,"Tu nariz / Your Nose","eBook",null,"978-1-5382-2764-0",{"$f":"HYPERLINK(\"https://www.garethstevens.com/\"&Table1[[#This Row],[ISBN]],\"Weblink\")","v":"Weblink"},2019,"August 2018",null,null,"Author, Translated by","Russell Hamdan, Esther Ortiz","0.9","0.5",null,null,"C",null,"Grade K","Grade Pre-K - 2","The nose is an important body part. It helps with breathing and smelling, but there's also so much more to know about it. This informative book will help readers learn how they use their nose everyday in so many different ways. They'll also learn why smell is an important sense and how the nose helps with it. Low-ATOS text and vibrant photographs make for an accessible and exciting volume about this incredibly useful facial feature.","Bilingual",22.6,16.95,"612.8/6--dc23","24 pp.",{"$f":"Table1[[#This Row],[QTY]]*Table1[[#This Row],['# Books]]","v":0},{"$f":"Table1[[#This Row],[QTY]]*Table1[[#This Row],[S&L Price]]","v":0}]
[null,null,177,"¡Tu increíble cuerpo! / Your Amazing Body!",1,"Tus manos / Your Hands","eBook",null,"978-1-5382-2762-6",{"$f":"HYPERLINK(\"https://www.garethstevens.com/\"&Table1[[#This Row],[ISBN]],\"Weblink\")","v":"Weblink"},2019,"August 2018",null,null,"Author, Translated by","Liza Raine, Esther Ortiz","1.1","0.5",null,null,"C",null,"Grade K","Grade Pre-K - 2","They help us wave so our friends can see us. They help us pick things up. They can even help us paint. Hands are helpful in so many ways. This engaging book teaches readers about the uses of their hands, while also teaching them essential reading skills. Low-ATOS text and photographs that closely correlate to the text help early readers develop excellent reading comprehension skills. After picking up this book, readers might think more about all of the amazing things their hands can do.","Bilingual",22.6,16.95,"612.9/7--dc23","24 pp.",{"$f":"Table1[[#This Row],[QTY]]*Table1[[#This Row],['# Books]]","v":0},{"$f":"Table1[[#This Row],[QTY]]*Table1[[#This Row],[S&L Price]]","v":0}]
[null,null,177,"¡Tu increíble cuerpo! / Your Amazing Body!",1,"Tus pies / Your Feet","Library Bound Book",null,"978-1-5382-2759-6",{"$f":"HYPERLINK(\"https://www.garethstevens.com/\"&Table1[[#This Row],[ISBN]],\"Weblink\")","v":"Weblink"},2019,"August 2018","Library","7.625 X 7.125","Author, Translated by","Liza Raine, Esther Ortiz","1","0.5",null,null,"C",null,"Grade K","Grade Pre-K - 2","Running, walking, riding a bike, without the use of the feet none of these things would be possible. This informative book teaches young readers about the different parts of the feet and the different ways they help us move. They'll also learn why we wear socks and shoes on our feet. Bright photographs help readers understand the book's textual content relative to their own bodies. This fun volume is an exciting and engaging way for beginning readers to develop important literacy skills while learning about their own bodies.","Bilingual",22.6,16.95,"612.9/8--dc23","24 pp.",{"$f":"Table1[[#This Row],[QTY]]*Table1[[#This Row],['# Books]]","v":0},{"$f":"Table1[[#This Row],[QTY]]*Table1[[#This Row],[S&L Price]]","v":0}]
[null,null,177,"Lo que conozco / What I Know",1,"Conozco el tiempo / I Know the Weather","Library Bound Book",null,"978-1-5382-0566-2",{"$f":"HYPERLINK(\"https://www.garethstevens.com/\"&Table1[[#This Row],[ISBN]],\"Weblink\")","v":"Weblink"},2018,"August 2017","Library","7.000 X 7.000","Author, Translated by","Trisha James, Eida de la Vega",null,null,null,null,"B",null,"Grade K","Grade Pre-K - 1","Weather is an important science concept at the early elementary level. Recognizing and identifying kinds of weather requires observational skills and certain vocabulary terms. This bright volume allows young meteorologists to correlate weather in carefully selected photographs with descriptive weather vocabulary, such as rainy, sunny, and foggy. It's never too early to tackle this essential STEM theme!","Bilingual",22.6,16.95,"551.5--dc23","24 pp.",{"$f":"Table1[[#This Row],[QTY]]*Table1[[#This Row],['# Books]]","v":0},{"$f":"Table1[[#This Row],[QTY]]*Table1[[#This Row],[S&L Price]]","v":0}]
[null,null,177,"Lo que conozco / What I Know",1,"Conozco el tiempo / I Know the Weather","eBook",null,"978-1-5382-0567-9",{"$f":"HYPERLINK(\"https://www.garethstevens.com/\"&Table1[[#This Row],[ISBN]],\"Weblink\")","v":"Weblink"},2018,"August 2017",null,null,"Author, Translated by","Trisha James, Eida de la Vega",null,null,null,null,"B",null,"Grade K","Grade Pre-K - 1","Weather is an important science concept at the early elementary level. Recognizing and identifying kinds of weather requires observational skills and certain vocabulary terms. This bright volume allows young meteorologists to correlate weather in carefully selected photographs with descriptive weather vocabulary, such as rainy, sunny, and foggy. It's never too early to tackle this essential STEM theme!","Bilingual",22.6,16.95,"551.5--dc23","24 pp.",{"$f":"Table1[[#This Row],[QTY]]*Table1[[#This Row],['# Books]]","v":0},{"$f":"Table1[[#This Row],[QTY]]*Table1[[#This Row],[S&L Price]]","v":0}]
[null,null,177,"Lo que conozco / What I Know",1,"Conozco los lugares donde vivo / I Know Places Around Town","Library Bound Book",null,"978-1-5382-0562-4",{"$f":"HYPERLINK(\"https://www.garethstevens.com/\"&Table1[[#This Row],[ISBN]],\"Weblink\")","v":"Weblink"},2018,"August 2017","Library","7.000 X 7.000","Author, Translated by","Trisha James, Eida de la Vega",null,null,null,null,"B",null,"Grade K","Grade Pre-K - 1","The zoo, school, town library, and the police station. These are just a few of the places that are visited in this narrative. Readers also view a bakery, the hospital, the playground, and most importantly, the ice cream shop.","Bilingual",22.6,16.95,"307.76--dc23","24 pp.",{"$f":"Table1[[#This Row],[QTY]]*Table1[[#This Row],['# Books]]","v":0},{"$f":"Table1[[#This Row],[QTY]]*Table1[[#This Row],[S&L Price]]","v":0}]
[null,null,177,"Lo que conozco / What I Know",1,"Conozco las estaciones del año / I Know the Seasons","eBook",null,"978-1-4824-6208-1",{"$f":"HYPERLINK(\"https://www.garethstevens.com/\"&Table1[[#This Row],[ISBN]],\"Weblink\")","v":"Weblink"},2017,"January 2017",null,null,"Author, Translated by","Jon Welzen, Fatima Rateb",null,null,null,null,"C",null,"Grade K","Grade Pre-K - 1","Winter, spring, summer, and fall. Each season has its unique identifying features as well as its exciting activities. Readers will become well acquainted with these as they learn about the four seasons from this beneficial book. They'll also decide which is their favorite season. Thoughtfully chosen photographs correlate with the achievable text and illustrate the characteristics of each season.","Bilingual",22.6,16.95,"508.2--dc23","24 pp.",{"$f":"Table1[[#This Row],[QTY]]*Table1[[#This Row],['# Books]]","v":0},{"$f":"Table1[[#This Row],[QTY]]*Table1[[#This Row],[S&L Price]]","v":0}]
[null,null,177,"Lo que conozco / What I Know",1,"Conozco las partes del cuerpo / I Know Body Parts","eBook",null,"978-1-4824-6202-9",{"$f":"HYPERLINK(\"https://www.garethstevens.com/\"&Table1[[#This Row],[ISBN]],\"Weblink\")","v":"Weblink"},2017,"January 2017",null,null,"Author, Translated by","Mary Rose Osburn, Fatima Rateb",null,null,null,null,"B",null,"Grade K","Grade Pre-K - 1","Knowing body parts and accompanying vocabulary are essential topics in both health and science elementary curricula. In this helpful volume, close text and image correlation make fundamental concepts comprehensible. Readers will recognize body parts in each colorful photograph and associate them with their own. They'll consider how they use these body parts in their daily lives.","Bilingual",22.6,16.95,"612--dc23","24 pp.",{"$f":"Table1[[#This Row],[QTY]]*Table1[[#This Row],['# Books]]","v":0},{"$f":"Table1[[#This Row],[QTY]]*Table1[[#This Row],[S&L Price]]","v":0}]
[null,null,177,"Lo que conozco / What I Know",1,"Conozco los colores / I Know Colors","Library Bound Book",null,"978-1-4824-6197-8",{"$f":"HYPERLINK(\"https://www.garethstevens.com/\"&Table1[[#This Row],[ISBN]],\"Weblink\")","v":"Weblink"},2017,"January 2017","Library","7.000 X 7.000","Author, Translated by","Mary Rose Osburn, Fatima Rateb",null,null,null,null,"B",null,"Grade K","Grade Pre-K - 1","It’s a vibrant world! The pleasing pages of this bright book invite beginning readers to recognize the colors of the rainbow in familiar and fun objects, such as foods, toys, and animals. Achievable content and a final question about the reader’s favorite color make this a valuable tool for both teaching and reinforcing color concepts.","Bilingual",22.6,16.95,"535.6--dc23","24 pp.",{"$f":"Table1[[#This Row],[QTY]]*Table1[[#This Row],['# Books]]","v":0},{"$f":"Table1[[#This Row],[QTY]]*Table1[[#This Row],[S&L Price]]","v":0}]
[null,null,177,"Lo que conozco / What I Know",1,"Conozco los números / I Know Numbers","eBook",null,"978-1-4824-6204-3",{"$f":"HYPERLINK(\"https://www.garethstevens.com/\"&Table1[[#This Row],[ISBN]],\"Weblink\")","v":"Weblink"},2017,"January 2017",null,null,"Author, Translated by","Jon Welzen, Fatima Rateb",null,null,null,null,"B",null,"Grade K","Grade Pre-K - 1","Ten toes on our feet, four bases in baseball, two wheels on a bicycle; numbers are all around! This sunny book demonstrates how readers can identify numbers in familiar objects and situations, aided by carefully selected images, and encourages them to practice number recognition in their everyday lives. Number names, quantities, and counting are among the essential skills addressed in this valuable volume.","Bilingual",22.6,16.95,"513.2--dc23","24 pp.",{"$f":"Table1[[#This Row],[QTY]]*Table1[[#This Row],['# Books]]","v":0},{"$f":"Table1[[#This Row],[QTY]]*Table1[[#This Row],[S&L Price]]","v":0}]
[null,null,178,"Our Favorite Colors",1,"We Love Orange!","Library Bound Book",null,"978-1-4824-3733-1",{"$f":"HYPERLINK(\"https://www.garethstevens.com/\"&Table1[[#This Row],[ISBN]],\"Weblink\")","v":"Weblink"},2016,"January 2016","Library","7.000 X 7.000","Author","Emma O'Connell",null,null,null,null,"B",null,"Grade K","Grade K - 1","Crunchy carrots, bouncy basketballs, and flashy fish can all be the color orange. After examining this important color concept in the pages of this accessible volume, readers’ eyes will be opened to the many hues of orange in their world—as well as other colors. They’ll also review vocabulary through the simple sentences that accompany each photograph. A final evaluation completes this bright book.","English",22.6,16.95,"535.6--dc23","24 pp.",{"$f":"Table1[[#This Row],[QTY]]*Table1[[#This Row],['# Books]]","v":0},{"$f":"Table1[[#This Row],[QTY]]*Table1[[#This Row],[S&L Price]]","v":0}]
[null,null,178,"Our Favorite Colors",1,"We Love Red!","eBook",null,"978-1-4824-3742-3",{"$f":"HYPERLINK(\"https://www.garethstevens.com/\"&Table1[[#This Row],[ISBN]],\"Weblink\")","v":"Weblink"},2016,"January 2016",null,null,"Author","Richard Little",null,null,null,null,"B",null,"Grade K","Grade K - 1","The eye-catching color of red tints delicious apples, shiny toy cars, juicy tomatoes, and so much more in the world around us. Readers of this cheerful volume are invited to recognize red in well-known objects in each photograph as well as to review important vocabulary words in at-level sentences. A simple activity at the end of the book allows them to self-evaluate their mastery of this color concept.","English",22.6,16.95,"535.6--dc23","24 pp.",{"$f":"Table1[[#This Row],[QTY]]*Table1[[#This Row],['# Books]]","v":0},{"$f":"Table1[[#This Row],[QTY]]*Table1[[#This Row],[S&L Price]]","v":0}]
[null,null,178,"Our Favorite Colors",1,"We Love Yellow!","Library Bound Book",null,"978-1-4824-3745-4",{"$f":"HYPERLINK(\"https://www.garethstevens.com/\"&Table1[[#This Row],[ISBN]],\"Weblink\")","v":"Weblink"},2016,"January 2016","Library","7.000 X 7.000","Author","Richard Little",null,null,null,null,"B",null,"Grade K","Grade K - 1","Yellow is an important part of our daily lives. Yellow school buses, traffic lights, bananas, butter, and more populate our day, whether we realize it or not. This accessible text will reveal to readers the many shades of yellow all around them. As they turn each page, they’ll recognize objects in the photos, identify them, and practice the accompanying vocabulary. A concluding activity will help them display their understanding of the concept of yellow.","English",22.6,16.95,"535.6--dc23","24 pp.",{"$f":"Table1[[#This Row],[QTY]]*Table1[[#This Row],['# Books]]","v":0},{"$f":"Table1[[#This Row],[QTY]]*Table1[[#This Row],[S&L Price]]","v":0}]
[null,null,178,"Sort It Out!",1,"Sort It by Shape","eBook",null,"978-1-4824-2572-7",{"$f":"HYPERLINK(\"https://www.garethstevens.com/\"&Table1[[#This Row],[ISBN]],\"Weblink\")","v":"Weblink"},2016,"August 2015",null,null,"Author","Emmett Alexander",null,null,4,null,"D","210L","Grade K - 1","Grade K - 2","Our world is made up of shapes. This colorful book will enable beginning readers to visualize that as they examine photographs of objects in their daily lives, such as books, clocks, and sandwiches. They'll also learn how to sort certain shapes from other shapes through clear text and supporting photographs. This valuable book is a beneficial introduction to essential concepts in the early elementary mathematics curriculum.","English",22.6,16.95,"512.2","24 pp.",{"$f":"Table1[[#This Row],[QTY]]*Table1[[#This Row],['# Books]]","v":0},{"$f":"Table1[[#This Row],[QTY]]*Table1[[#This Row],[S&L Price]]","v":0}]
[null,null,178,"Sort It Out!",1,"Sort It by Sound","eBook",null,"978-1-4824-2580-2",{"$f":"HYPERLINK(\"https://www.garethstevens.com/\"&Table1[[#This Row],[ISBN]],\"Weblink\")","v":"Weblink"},2016,"August 2015",null,null,"Author","Nicholas O'Hara",null,null,3,null,"C","230L","Grade K - 1","Grade K - 2","People sort and classify using several kinds of categories, including sound. Readers of this accessible book will consider what's loud and what's quiet in the world around them. They'll discover some things, like music and people, can be loud or quiet. Sorting one from another is perfectly illustrated with carefully chosen photographs throughout this inviting book.","English",22.6,16.95,"534","24 pp.",{"$f":"Table1[[#This Row],[QTY]]*Table1[[#This Row],['# Books]]","v":0},{"$f":"Table1[[#This Row],[QTY]]*Table1[[#This Row],[S&L Price]]","v":0}]
[null,null,178,"Fun Fact File: Sports!",1,"20 Fun Facts About Auto Racing","Library Bound Book",null,"978-1-4824-3971-7",{"$f":"HYPERLINK(\"https://www.garethstevens.com/\"&Table1[[#This Row],[ISBN]],\"Weblink\")","v":"Weblink"},2016,"January 2016","Library","8.500 X 8.500","Author","Ryan Nagelhout",null,null,null,null,"M","1060L","Grade 2 - 3","Grade 2 - 5","From the drivers on the track to the fans packing the grandstands, auto racing is a thrilling sport that gets everyone's adrenaline pumping. This book dives into the amazing facts that make up auto racing's greatest stories. Readers will love discovering the history of races like the Indianapolis 500 and Daytona 500, as well as why NASCAR fans call Richard Petty \"The King.\"  Fun graphics show the different flags used in a NASCAR race and just how Americans managed to win an auto race driving from New York City to Paris in 1908.","English",25.25,18.95,"796.72--dc23","32 pp.",{"$f":"Table1[[#This Row],[QTY]]*Table1[[#This Row],['# Books]]","v":0},{"$f":"Table1[[#This Row],[QTY]]*Table1[[#This Row],[S&L Price]]","v":0}]
[null,null,178,"Fun Fact File: Sports!",1,"20 Fun Facts About Auto Racing","eBook",null,"978-1-4824-3972-4",{"$f":"HYPERLINK(\"https://www.garethstevens.com/\"&Table1[[#This Row],[ISBN]],\"Weblink\")","v":"Weblink"},2016,"January 2016",null,null,"Author","Ryan Nagelhout",null,null,null,null,"M","1060L","Grade 2 - 3","Grade 2 - 5","From the drivers on the track to the fans packing the grandstands, auto racing is a thrilling sport that gets everyone's adrenaline pumping. This book dives into the amazing facts that make up auto racing's greatest stories. Readers will love discovering the history of races like the Indianapolis 500 and Daytona 500, as well as why NASCAR fans call Richard Petty \"The King.\"  Fun graphics show the different flags used in a NASCAR race and just how Americans managed to win an auto race driving from New York City to Paris in 1908.","English",25.25,18.95,"796.72--dc23","32 pp.",{"$f":"Table1[[#This Row],[QTY]]*Table1[[#This Row],['# Books]]","v":0},{"$f":"Table1[[#This Row],[QTY]]*Table1[[#This Row],[S&L Price]]","v":0}]
[null,null,178,"Fun Fact File: Sports!",1,"20 Fun Facts About Football","Library Bound Book",null,"978-1-4824-3976-2",{"$f":"HYPERLINK(\"https://www.garethstevens.com/\"&Table1[[#This Row],[ISBN]],\"Weblink\")","v":"Weblink"},2016,"January 2016","Library","8.500 X 8.500","Author","Ryan Nagelhout",null,null,null,null,"M","1080L","Grade 2 - 3","Grade 2 - 5","The National Football League is America's favorite sports league. Football is fast-paced and full of big hits and even bigger plays from its superstars. These players have set some impressive records over the years. From the amazing seasons running backs have had breaking the 2,000-yard rushing mark, or quarterbacks gunning for the single-season touchdown record, learning about the stats and facts that make up football’s history fun. Graphics and photographs show how the game's rules, equipment, and even its field have changed over the years, letting readers dive into the huddle and explore football at their own pace.","English",25.25,18.95,"796.332'64021--dc23","32 pp.",{"$f":"Table1[[#This Row],[QTY]]*Table1[[#This Row],['# Books]]","v":0},{"$f":"Table1[[#This Row],[QTY]]*Table1[[#This Row],[S&L Price]]","v":0}]
[null,null,178,"Fun Fact File: Sports!",1,"20 Fun Facts About Soccer","eBook",null,"978-1-4824-3983-0",{"$f":"HYPERLINK(\"https://www.garethstevens.com/\"&Table1[[#This Row],[ISBN]],\"Weblink\")","v":"Weblink"},2016,"January 2016",null,null,"Author","Ryan Nagelhout",null,null,null,null,"M","960L","Grade 2 - 3","Grade 2 - 5","Soccer is called \"the beautiful game\" for a reason. It's an amazing sport full of interesting players, teams, and records. This book takes readers onto the pitch with the greatest players ever to lace up their cleats. From the club teams of England to America’s Major League Soccer, there are great games and fascinating teams all over the world. This book covers every aspect of the game, from World Cup to FA Cup, with interesting facts and colorful photographs to reinforce the beauty of the world’s most popular sport.","English",25.25,18.95,"796.334--dc23","32 pp.",{"$f":"Table1[[#This Row],[QTY]]*Table1[[#This Row],['# Books]]","v":0},{"$f":"Table1[[#This Row],[QTY]]*Table1[[#This Row],[S&L Price]]","v":0}]
[null,null,178,"Fun Fact File: Women in History",1,"20 Fun Facts About Native American Women","eBook",null,"978-1-4824-2811-7",{"$f":"HYPERLINK(\"https://www.garethstevens.com/\"&Table1[[#This Row],[ISBN]],\"Weblink\")","v":"Weblink"},2016,"August 2015",null,null,"Author","Caitie McAneney",null,null,30,null,"N","920L","Grade 2 - 3","Grade 2 - 5","Many people know that some Native American tribes are matrilineal. That means that historically, women had power in governance and some control in her home life. For the European patriarchs that came to North America, that was quite a shock! Through short, surprising, and often amusing facts, readers learn the role of Native American women in their tribes. Including tribes from across North America, the main content emphasizes their daily lives, clothing, and marriage customs, and introduces important female figures in history. A colorful layout and full-color photographs showcase the power of the Native American woman, a power that still resonates today.","English",25.25,18.95,"305.48","32 pp.",{"$f":"Table1[[#This Row],[QTY]]*Table1[[#This Row],['# Books]]","v":0},{"$f":"Table1[[#This Row],[QTY]]*Table1[[#This Row],[S&L Price]]","v":0}]
[null,null,178,"Fun Fact File: Women in History",1,"20 Fun Facts About Women in Ancient Egypt","Library Bound Book",null,"978-1-4824-2814-8",{"$f":"HYPERLINK(\"https://www.garethstevens.com/\"&Table1[[#This Row],[ISBN]],\"Weblink\")","v":"Weblink"},2016,"August 2015","Library","8.500 X 8.500","Author","Kristen Rajczak Nelson",null,null,30,null,"N","860L","Grade 2 - 3","Grade 2 - 5","Women in ancient Egypt weren’t that unlike women today. They wore makeup, had their hair done, and even enjoyed near equality with men. In this volume, surprising and amusing facts about the women of ancient Egypt give readers a new perspective on a noteworthy historical era. Full-color photographs include images of ancient Egyptian paintings and other primary sources showing how the Egyptians themselves portrayed women. The main content’s format, along with detailed graphic organizers, engages readers with the social studies curriculum in a fun, high-interest way.","English",25.25,18.95,"305.420932","32 pp.",{"$f":"Table1[[#This Row],[QTY]]*Table1[[#This Row],['# Books]]","v":0},{"$f":"Table1[[#This Row],[QTY]]*Table1[[#This Row],[S&L Price]]","v":0}]
[null,null,178,"Fun Fact File: Women in History",1,"20 Fun Facts About Women in Colonial America","eBook",null,"978-1-4824-2823-0",{"$f":"HYPERLINK(\"https://www.garethstevens.com/\"&Table1[[#This Row],[ISBN]],\"Weblink\")","v":"Weblink"},2016,"August 2015",null,null,"Author","Amy Hayes",null,null,30,null,"N","890L","Grade 2 - 3","Grade 2 - 5","Colonial women often had one goal as they grew up: to get married. They often married young and not commonly for love. Though their lives were full of hardship and hard work, they lived during interesting times! Fun, surprising, and silly facts engage readers in the lives of women during the colonial era. From plantation owners’ wives to indentured servants, the women in the colonies had varied duties and experiences that readers will find fascinating and enjoyable in this format. Colorful photographs and historical images enhance this playful perspective on history and the social studies curriculum.","English",25.25,18.95,"305.4'0973'09032--dc23","32 pp.",{"$f":"Table1[[#This Row],[QTY]]*Table1[[#This Row],['# Books]]","v":0},{"$f":"Table1[[#This Row],[QTY]]*Table1[[#This Row],[S&L Price]]","v":0}]
[null,null,178,"Superheroes of Science",1,"Louis Pasteur: Germ Destroyer","Library Bound Book",null,"978-1-4824-3142-1",{"$f":"HYPERLINK(\"https://www.garethstevens.com/\"&Table1[[#This Row],[ISBN]],\"Weblink\")","v":"Weblink"},2016,"August 2015","Library","7.250 X 9.250","Author","Nancy Dickmann","7.2","1",null,null,"W","1070L","Grade 6","Grade 6 - 8","The number of scientific discoveries by Louis Pasteur is astounding. From his work on fermentation that led to the process of pasteurization to the rabies vaccine, Pasteur made a huge impact on industry, medicine, and scientific theory. Detailed biography takes readers through Pasteur’s life as he makes these incredible discoveries, uncovering the original use for pasteurization—in wine! Interesting sidebars enhance the main content with understandable explanations and surprising details. Full-color photographs and historical images highlight Pasteur’s triumphs as a hardworking, influential scientist.","English",31.95,23.95,"579.092","48 pp.",{"$f":"Table1[[#This Row],[QTY]]*Table1[[#This Row],['# Books]]","v":0},{"$f":"Table1[[#This Row],[QTY]]*Table1[[#This Row],[S&L Price]]","v":0}]
[null,null,178,"Superheroes of Science",1,"Rachel Carson: Environmental Crusader","eBook",null,"978-1-4824-3151-3",{"$f":"HYPERLINK(\"https://www.garethstevens.com/\"&Table1[[#This Row],[ISBN]],\"Weblink\")","v":"Weblink"},2016,"August 2015",null,null,"Author","Nancy Dickmann","7.1","1",null,null,"W","1040L","Grade 6","Grade 6 - 8","Rachel Carson loved nature since childhood. It was only natural for her to become one of the first conservation advocates and environmental scientists in the United States. Through detailed biography, the main content introduces readers to Carson as well as her work, including Silent Spring and its incredible influence on the United States and the pesticide industry. Sidebars complement understandable scientific content by adding interesting and illuminating information about each topic. Full-color photographs of Carson and accounts of work in the field encourage readers to care for the world around them—even if it’s not popular to do so.","English",31.95,23.95,"333.95","48 pp.",{"$f":"Table1[[#This Row],[QTY]]*Table1[[#This Row],['# Books]]","v":0},{"$f":"Table1[[#This Row],[QTY]]*Table1[[#This Row],[S&L Price]]","v":0}]
[null,null,178,"Superheroes of Science",1,"Sir Isaac Newton: Overlord of Gravity","Library Bound Book",null,"978-1-4824-3154-4",{"$f":"HYPERLINK(\"https://www.garethstevens.com/\"&Table1[[#This Row],[ISBN]],\"Weblink\")","v":"Weblink"},2016,"August 2015","Library","7.250 X 9.250","Author","Angela Royston","7.4","1",null,null,"W","1110L","Grade 6","Grade 6 - 8","Most people know the story of Sir Issac Newton discovering gravity. An apple fell from a tree, hitting him on the head. However, Newton is also responsible for articulating the laws of motion and many early studies on light and color, including work with prisms. Learning about Newton’s life during his discoveries engages readers with the curiosity and hypotheses involved in scientific inquiry. Colorful photographs and historic images highlight important events and scientific fact as readers discover Newton and his many breakthroughs.","English",31.95,23.95,"530","48 pp.",{"$f":"Table1[[#This Row],[QTY]]*Table1[[#This Row],['# Books]]","v":0},{"$f":"Table1[[#This Row],[QTY]]*Table1[[#This Row],[S&L Price]]","v":0}]
[null,null,178,"Defend and Protect",1,"Air Force","eBook",null,"978-1-4824-4109-3",{"$f":"HYPERLINK(\"https://www.garethstevens.com/\"&Table1[[#This Row],[ISBN]],\"Weblink\")","v":"Weblink"},2016,"January 2016",null,null,"Author","Robert Snedden","7.5","1",null,null,"S","1110L","Grade 4 - 5","Grade 4 - 6","Readers will explore the skies and learn about the diverse jobs performed by a country’s air force personnel. Supplemented with detailed graphics that show the career path from school to a job in the air force, this book shows that there’s more to an air force than just pilots—air crew, technicians, and ground support all play pivotal roles in an air force’s essential duties. Readers also discover how an air force uses cutting-edge technology like GPS in aircraft and weapons systems, and how this technology has trickled down to products readers may use every day and probably take for granted!","English",31.95,23.95,"358.400973--dc23","48 pp.",{"$f":"Table1[[#This Row],[QTY]]*Table1[[#This Row],['# Books]]","v":0},{"$f":"Table1[[#This Row],[QTY]]*Table1[[#This Row],[S&L Price]]","v":0}]
[null,null,178,"Defend and Protect",1,"Special Forces","Library Bound Book",null,"978-1-4824-4117-8",{"$f":"HYPERLINK(\"https://www.garethstevens.com/\"&Table1[[#This Row],[ISBN]],\"Weblink\")","v":"Weblink"},2016,"January 2016","Library","7.250 X 9.250","Author","Sarah Levete","7","1",null,null,"S","1060L","Grade 4 - 5","Grade 4 - 6","Some men and women in the armed forces shoot right to the top. Special Forces are the elite troops who work alone or in small teams on special and dangerous missions around the world. These high-caliber troops are the best of the best. Green Berets, Delta Force, Navy SEALs, and others perform and engage in secret unseen missions. From training programs and tests through the missions themselves, this book introduces readers to the adventurous and action-filled world of Special Forces, and highlights what it takes to be a part of this exclusive team.","English",31.95,23.95,"356'.160973--dc23","48 pp.",{"$f":"Table1[[#This Row],[QTY]]*Table1[[#This Row],['# Books]]","v":0},{"$f":"Table1[[#This Row],[QTY]]*Table1[[#This Row],[S&L Price]]","v":0}]
[null,null,178,"Defend and Protect",1,"Undercover Operations","Library Bound Book",null,"978-1-4824-4129-1",{"$f":"HYPERLINK(\"https://www.garethstevens.com/\"&Table1[[#This Row],[ISBN]],\"Weblink\")","v":"Weblink"},2016,"January 2016","Library","7.250 X 9.250","Author","Sarah Levete","6.9","1",null,null,"S","1020L","Grade 4 - 5","Grade 4 - 6","This high-interest book reveals the fascinating and secretive world of undercover operations. Many agencies utilize undercover agents, from local and state police to federal agencies like the CIA, the Secret Service, and the armed forces. Through engaging text, readers learn why there is a need to go undercover and the many clever ways operatives go deep undercover to get information from the enemy. Readers also discover how these agencies use cutting-edge technology to solve cases. Legendary undercover cases from around the world round out this exciting volume and keep readers turning the page.","English",31.95,23.95,"327.12--dc23","48 pp.",{"$f":"Table1[[#This Row],[QTY]]*Table1[[#This Row],['# Books]]","v":0},{"$f":"Table1[[#This Row],[QTY]]*Table1[[#This Row],[S&L Price]]","v":0}]
[null,null,178,"Defend and Protect",1,"Undercover Operations","eBook",null,"978-1-4824-4130-7",{"$f":"HYPERLINK(\"https://www.garethstevens.com/\"&Table1[[#This Row],[ISBN]],\"Weblink\")","v":"Weblink"},2016,"January 2016",null,null,"Author","Sarah Levete","6.9","1",null,null,"S","1020L","Grade 4 - 5","Grade 4 - 6","This high-interest book reveals the fascinating and secretive world of undercover operations. Many agencies utilize undercover agents, from local and state police to federal agencies like the CIA, the Secret Service, and the armed forces. Through engaging text, readers learn why there is a need to go undercover and the many clever ways operatives go deep undercover to get information from the enemy. Readers also discover how these agencies use cutting-edge technology to solve cases. Legendary undercover cases from around the world round out this exciting volume and keep readers turning the page.","English",31.95,23.95,"327.12--dc23","48 pp.",{"$f":"Table1[[#This Row],[QTY]]*Table1[[#This Row],['# Books]]","v":0},{"$f":"Table1[[#This Row],[QTY]]*Table1[[#This Row],[S&L Price]]","v":0}]
[null,null,178,"Fact or Phony?",1,"The Fact or Fiction Behind Human Bodies","Library Bound Book",null,"978-1-4824-4264-9",{"$f":"HYPERLINK(\"https://www.garethstevens.com/\"&Table1[[#This Row],[ISBN]],\"Weblink\")","v":"Weblink"},2016,"January 2016","Library","6.000 X 9.000","Author","Paul Mason",null,null,null,null,"R",null,"Grade 5 - 6","Grade 4 - 6","The human body is full of amazingly complex systems. Science has helped explain so much about the way our bodies work, but there are still plenty of myths some consider as fact. Are human bones really four times as strong as concrete? How close can someone sit to a TV before damaging his or her eyes? This fun, informative book separates fact from fiction through the use of engaging fact boxes and specific scientific research to debunk some of the myths surrounding the human body.","English",33.25,24.95,"031'.02--dc23","96 pp.",{"$f":"Table1[[#This Row],[QTY]]*Table1[[#This Row],['# Books]]","v":0},{"$f":"Table1[[#This Row],[QTY]]*Table1[[#This Row],[S&L Price]]","v":0}]
[null,null,178,"Fact or Phony?",1,"The Fact or Fiction Behind Shakespeare","eBook",null,"978-1-4824-4273-1",{"$f":"HYPERLINK(\"https://www.garethstevens.com/\"&Table1[[#This Row],[ISBN]],\"Weblink\")","v":"Weblink"},2016,"January 2016",null,null,"Author","Kay Barnham",null,null,null,null,"R",null,"Grade 5 - 6","Grade 4 - 6","William Shakespeare wrote some of the most famous plays in history, but there is plenty of misinformation about his life and times. This book dives into those so-called “facts” and discovers what’s real and what’s fake with entertaining ease. Did Shakespeare really burn down the Globe Theatre? Did he write all of his plays on his own? Brilliant fact boxes help provide historical context to Shakespeare’s life and works, while “The Bard’s Best Bits” add Shakespeare quotes and phrases we still use in everyday life to this day.","English",33.25,24.95,"822.33--dc23","96 pp.",{"$f":"Table1[[#This Row],[QTY]]*Table1[[#This Row],['# Books]]","v":0},{"$f":"Table1[[#This Row],[QTY]]*Table1[[#This Row],[S&L Price]]","v":0}]
[null,null,178,"Silly Stories",1,"How the Cow Jumped over the Moon and Other Silly Stories","Library Bound Book",null,"978-1-4824-4185-7",{"$f":"HYPERLINK(\"https://www.garethstevens.com/\"&Table1[[#This Row],[ISBN]],\"Weblink\")","v":"Weblink"},2016,"January 2016","Library","6.500 X 9.125","Compiled by","Vic Parker","5.1","1",null,null,"N","850L","Grade 2 - 3","Grade 2 - 5","In “How the Cow Jumped Over the Moon,” L. Frank Baum fills out a classic nursery rhyme with a main character named Bobby and a fairly realistic—if very silly—interpretation of how a huge animal could possibly leap the moon! Along with “Master of All Masters” and “The History of the Seven Families of the Lake Pipple-Popple,” Baum’s tale is sure to entertain imaginative readers. An excerpt from a Lewis Carroll book called “A Most Curious Country” rounds out this amusing collection, all made complete with full-color illustrations.","English",31.95,23.95,"398.2--dc23","40 pp.",{"$f":"Table1[[#This Row],[QTY]]*Table1[[#This Row],['# Books]]","v":0},{"$f":"Table1[[#This Row],[QTY]]*Table1[[#This Row],[S&L Price]]","v":0}]
[null,null,178,"Silly Stories",1,"How the Cow Jumped over the Moon and Other Silly Stories","eBook",null,"978-1-4824-4186-4",{"$f":"HYPERLINK(\"https://www.garethstevens.com/\"&Table1[[#This Row],[ISBN]],\"Weblink\")","v":"Weblink"},2016,"January 2016",null,null,"Compiled by","Vic Parker","5.1","1",null,null,"N","850L","Grade 2 - 3","Grade 2 - 5","In “How the Cow Jumped Over the Moon,” L. Frank Baum fills out a classic nursery rhyme with a main character named Bobby and a fairly realistic—if very silly—interpretation of how a huge animal could possibly leap the moon! Along with “Master of All Masters” and “The History of the Seven Families of the Lake Pipple-Popple,” Baum’s tale is sure to entertain imaginative readers. An excerpt from a Lewis Carroll book called “A Most Curious Country” rounds out this amusing collection, all made complete with full-color illustrations.","English",31.95,23.95,"398.2--dc23","40 pp.",{"$f":"Table1[[#This Row],[QTY]]*Table1[[#This Row],['# Books]]","v":0},{"$f":"Table1[[#This Row],[QTY]]*Table1[[#This Row],[S&L Price]]","v":0}]
[null,null,178,"Silly Stories",1,"How the Leopard Got His Spots and Other Silly Stories","eBook",null,"978-1-4824-4194-9",{"$f":"HYPERLINK(\"https://www.garethstevens.com/\"&Table1[[#This Row],[ISBN]],\"Weblink\")","v":"Weblink"},2016,"January 2016",null,null,"Compiled by","Vic Parker","5.7","1",null,null,"N","1160L","Grade 2 - 3","Grade 2 - 5","Rudyard Kipling was truly an innovative children’s author. In “How the Leopard Got His Spots,” Kipling introduces readers to animal adaptation and camouflage through the tale of a confused leopard trying to hunt for his dinner—only to find it hidden to him. Inventive and amusing language use will give readers the giggles, especially those reading out loud! “The Four Little Children Who Went Round the World,” “The Accomplished Lucky Teakettle,” and “Bruin and Reynard” add to the magical amusement. With full-color illustrations complementing each story, this volume adds a bit of whimsy into any reader’s library.","English",31.95,23.95,"398.2--dc23","40 pp.",{"$f":"Table1[[#This Row],[QTY]]*Table1[[#This Row],['# Books]]","v":0},{"$f":"Table1[[#This Row],[QTY]]*Table1[[#This Row],[S&L Price]]","v":0}]
[null,null,179,"Silly Stories",1,"The Hare-Brained Crocodiles and Other Silly Stories","Library Bound Book",null,"978-1-4824-4205-2",{"$f":"HYPERLINK(\"https://www.garethstevens.com/\"&Table1[[#This Row],[ISBN]],\"Weblink\")","v":"Weblink"},2016,"January 2016","Library","6.500 X 9.125","Compiled by","Vic Parker","4.9","1",null,null,"N","930L","Grade 2 - 3","Grade 2 - 5","In the world of “The Hare-Brained Crocodiles,” hares and crocodiles not only talk, but play together in the sand! Such an imaginative tale of a clever hare and dull-witted crocodile will delight readers and spark their imagination. Other funny tales, including Hans Christian Andersen’s “The Darning Needle,” “The Farmer and the Money-Lender,” and “Mother Hulda,” demonstrate Common Core language arts skills as they amuse readers. Full-color illustrations complement each tale, providing creative depictions of the silly stories’ fantastical elements.","English",31.95,23.95,"398.2--dc23","40 pp.",{"$f":"Table1[[#This Row],[QTY]]*Table1[[#This Row],['# Books]]","v":0},{"$f":"Table1[[#This Row],[QTY]]*Table1[[#This Row],[S&L Price]]","v":0}]
[null,null,179,"Silly Stories",1,"The Open Road and Other Silly Stories","eBook",null,"978-1-4824-4213-7",{"$f":"HYPERLINK(\"https://www.garethstevens.com/\"&Table1[[#This Row],[ISBN]],\"Weblink\")","v":"Weblink"},2016,"January 2016",null,null,"Compiled by","Vic Parker","5","1",null,null,"N","860L","Grade 2 - 3","Grade 2 - 5","Through an excerpt from Kenneth Grahame’s The Wind in the Willows titled “The Open Road,” readers meet talking animals and consider life on the road. High-spirited dialogue and vivid descriptions transport readers into Grahame’s world of silly Toad, Mole, and Rat. Other funny tales engage readers’ imagination, such as “The Inchcape Rock,” “The Cat and the Mouse” and “Why the Bear Is Stumpy-Tailed,” in addition to demonstrating storytelling consistent with the standards in the Common Core language arts curriculum. Full-color illustrations make each story all the more amusing and fun.","English",31.95,23.95,"398.2--dc23","40 pp.",{"$f":"Table1[[#This Row],[QTY]]*Table1[[#This Row],['# Books]]","v":0},{"$f":"Table1[[#This Row],[QTY]]*Table1[[#This Row],[S&L Price]]","v":0}]
[null,null,179,"Silly Stories",1,"The Remarkable Rocket and Other Silly Stories","Library Bound Book",null,"978-1-4824-4217-5",{"$f":"HYPERLINK(\"https://www.garethstevens.com/\"&Table1[[#This Row],[ISBN]],\"Weblink\")","v":"Weblink"},2016,"January 2016","Library","6.500 X 9.125","Compiled by","Vic Parker","4.6","1",null,null,"N","720L","Grade 2 - 3","Grade 2 - 5","Tales of princes and princesses are common in fantasy stories. But what makes “The Remarkable Rocket” particularly silly isn’t the royal wedding—it’s the fireworks chatter and personality that put it over the top! Colorful illustrations show the rocket and his fiery friends in great detail, inspiring readers’ imaginations as they continue to page through this book’s full-color illustrations throughout. “Mr. Vinegar,” “The Moon-Cake,” and “A Visitor from Paradise” offer readers additional opportunities to imagine strange characters and fanciful events.","English",31.95,23.95,"398.2--dc23","40 pp.",{"$f":"Table1[[#This Row],[QTY]]*Table1[[#This Row],['# Books]]","v":0},{"$f":"Table1[[#This Row],[QTY]]*Table1[[#This Row],[S&L Price]]","v":0}]
[null,null,179,"Scary Fairy Tales",1,"Little Red Riding Hood and Other Stories","eBook",null,"978-1-4824-3091-2",{"$f":"HYPERLINK(\"https://www.garethstevens.com/\"&Table1[[#This Row],[ISBN]],\"Weblink\")","v":"Weblink"},2016,"August 2015",null,null,"Edited by","Vic Parker","5.4","1",null,null,"R",null,"Grade 3 - 4","Grade 3 - 5","The story of “Little Red Riding Hood” has always been a bit creepy: a wolf wants to eat a girl so badly he poses as her grandmother, who he also ate! But the original tale by the Brother Grimm has an even more unsettling narrative. Readers will enjoy the chills of the huntsman’s rescue of Red and her grandma in addition the eerie details of \"Schippetaro,\" \"Mr. Fox,\" and \"The Farmer and the Badger.\" Full-color images and illustrations add to each story’s tone of gloom and doom.","English",31.95,23.95,"398.2","40 pp.",{"$f":"Table1[[#This Row],[QTY]]*Table1[[#This Row],['# Books]]","v":0},{"$f":"Table1[[#This Row],[QTY]]*Table1[[#This Row],[S&L Price]]","v":0}]
[null,null,179,"Scary Fairy Tales",1,"The Little Mermaid and Other Stories","Library Bound Book",null,"978-1-4824-3086-8",{"$f":"HYPERLINK(\"https://www.garethstevens.com/\"&Table1[[#This Row],[ISBN]],\"Weblink\")","v":"Weblink"},2016,"August 2015","Library","6.500 X 9.125","Edited by","Vic Parker","5.8","1",null,null,"R",null,"Grade 3 - 4","Grade 3 - 5","Hans Christian Andersen wrote many familiar fairy tales. However, his original stories have much scarier details than the versions many readers know. In “The Little Mermaid,” the sea witch didn’t just magically take the little mermaid’s voice to prevent her from speaking—she took her tongue! It’s tidbits like this that will give readers the chills as they enter the fantasy world of \"The Witch,\" \"Aladdin and the Wonderful Lamp,\" and \"How Bradamante Conquered the Wizard.\" Each story showcases how content and word choice can add to a story’s haunting tone, and full-color—but creepy—images and illustrations offer readers a jumping-off point to allow their imaginations to roam.","English",31.95,23.95,"398.2","40 pp.",{"$f":"Table1[[#This Row],[QTY]]*Table1[[#This Row],['# Books]]","v":0},{"$f":"Table1[[#This Row],[QTY]]*Table1[[#This Row],[S&L Price]]","v":0}]
[null,null,179,"Scary Fairy Tales",1,"The Prince and the Dragon and Other Stories","Library Bound Book",null,"978-1-4824-3098-1",{"$f":"HYPERLINK(\"https://www.garethstevens.com/\"&Table1[[#This Row],[ISBN]],\"Weblink\")","v":"Weblink"},2016,"August 2015","Library","6.500 X 9.125","Edited by","Vic Parker","5.2","1",null,null,"R",null,"Grade 3 - 4","Grade 3 - 5","Fire-breathing dragons are the epitome of mystical evil. From guarding princesses in towers to destroying villages with fiery fury, dragons are found in fairy tales from all over the world, including “The Prince and the Dragon.” Equally chilling are tales of “Mr. Miacca” and his penchant for eating little children and “The Singing Bone,” \"The Story of the Fisherman,\" and \"Molly Whuppie,\" which introduce readers to the darker side of fairy tales. Charming, colorful images and illustrations offset some of the more macabre content and encourage readers’ imaginations.","English",31.95,23.95,"398.2","40 pp.",{"$f":"Table1[[#This Row],[QTY]]*Table1[[#This Row],['# Books]]","v":0},{"$f":"Table1[[#This Row],[QTY]]*Table1[[#This Row],[S&L Price]]","v":0}]
[null,null,179,"Scary Fairy Tales",1,"The Prince and the Dragon and Other Stories","eBook",null,"978-1-4824-3099-8",{"$f":"HYPERLINK(\"https://www.garethstevens.com/\"&Table1[[#This Row],[ISBN]],\"Weblink\")","v":"Weblink"},2016,"August 2015",null,null,"Edited by","Vic Parker","5.2","1",null,null,"R",null,"Grade 3 - 4","Grade 3 - 5","Fire-breathing dragons are the epitome of mystical evil. From guarding princesses in towers to destroying villages with fiery fury, dragons are found in fairy tales from all over the world, including “The Prince and the Dragon.” Equally chilling are tales of “Mr. Miacca” and his penchant for eating little children and “The Singing Bone,” \"The Story of the Fisherman,\" and \"Molly Whuppie,\" which introduce readers to the darker side of fairy tales. Charming, colorful images and illustrations offset some of the more macabre content and encourage readers’ imaginations.","English",31.95,23.95,"398.2","40 pp.",{"$f":"Table1[[#This Row],[QTY]]*Table1[[#This Row],['# Books]]","v":0},{"$f":"Table1[[#This Row],[QTY]]*Table1[[#This Row],[S&L Price]]","v":0}]
[null,null,179,"Scary Fairy Tales",1,"The Wicked Witch of the West and Other Stories","Library Bound Book",null,"978-1-4824-3110-0",{"$f":"HYPERLINK(\"https://www.garethstevens.com/\"&Table1[[#This Row],[ISBN]],\"Weblink\")","v":"Weblink"},2016,"August 2015","Library","6.500 X 9.125","Edited by","Vic Parker","5.5","1",null,null,"R",null,"Grade 3 - 4","Grade 3 - 5","To many, the Wicked Witch of the West is one of the scariest literary villains of all time. Not only can she command flying monkeys to attack, but she preys upon poor, innocent Dorothy who just wanted to find her way home. Complemented by full-color images and illustrations, the story of the Wicked Witch and her enslavement of Dorothy is retold for a new generation of readers in this volume. Similarly chilling tales, including “Hansel and Gretel,” \"The Horned Women,\" and \"The Master and His Pupil\" are also included to introduce readers to mystical worlds made all the scarier by their imaginations.","English",31.95,23.95,"398.2","40 pp.",{"$f":"Table1[[#This Row],[QTY]]*Table1[[#This Row],['# Books]]","v":0},{"$f":"Table1[[#This Row],[QTY]]*Table1[[#This Row],[S&L Price]]","v":0}]
[null,null,179,"Bloopers of Invention",1,"The Problem with Early Cars","eBook",null,"978-1-4824-2763-9",{"$f":"HYPERLINK(\"https://www.garethstevens.com/\"&Table1[[#This Row],[ISBN]],\"Weblink\")","v":"Weblink"},2016,"August 2015",null,null,"Author","Ryan Nagelhout",null,null,null,null,"N","920L","Grade 2 - 3","Grade 2 - 5","Automobiles are amazing machines that take most of us from place to place on a daily basis. From their earliest days, making them safe to drive took lots of hard work and ingenuity. From early explosions with steam and failed experiments with batteries, automobiles have come a long way. Early cars needed to lug around spare parts and extra tires just to drive a few miles. Readers find out all about the amazing inventors who worked so hard to make motor vehicles the modern marvels they are today.","English",22.6,16.95,"629.222","24 pp.",{"$f":"Table1[[#This Row],[QTY]]*Table1[[#This Row],['# Books]]","v":0},{"$f":"Table1[[#This Row],[QTY]]*Table1[[#This Row],[S&L Price]]","v":0}]
[null,null,179,"Bloopers of Invention",1,"The Problem with Early Flying Machines","Library Bound Book",null,"978-1-4824-2766-0",{"$f":"HYPERLINK(\"https://www.garethstevens.com/\"&Table1[[#This Row],[ISBN]],\"Weblink\")","v":"Weblink"},2016,"August 2015","Library","8.500 X 8.500","Author","Ryan Nagelhout",null,null,null,null,"N","1010L","Grade 2 - 3","Grade 2 - 5","Taking to the skies has always been a dream for human beings. Watching birds and bees take flight while people remained chained to the soil provided the inspiration to experiment with machines capable of flying high overhead. But these experiments proved dangerous—and often deadly. From early helicopter designs and bicycles with wings, learning how to fly was far more than a physics experiment. Often, it was a matter of life and death! Readers are taken on a journey through the history of aviation, and discover the contributions of luminaries such as the Wright brothers and Howard Hughes.","English",22.6,16.95,"629.13","24 pp.",{"$f":"Table1[[#This Row],[QTY]]*Table1[[#This Row],['# Books]]","v":0},{"$f":"Table1[[#This Row],[QTY]]*Table1[[#This Row],[S&L Price]]","v":0}]
[null,null,179,"Bloopers of Invention",1,"The Problem with Early Flying Machines","eBook",null,"978-1-4824-2767-7",{"$f":"HYPERLINK(\"https://www.garethstevens.com/\"&Table1[[#This Row],[ISBN]],\"Weblink\")","v":"Weblink"},2016,"August 2015",null,null,"Author","Ryan Nagelhout",null,null,null,null,"N","1010L","Grade 2 - 3","Grade 2 - 5","Taking to the skies has always been a dream for human beings. Watching birds and bees take flight while people remained chained to the soil provided the inspiration to experiment with machines capable of flying high overhead. But these experiments proved dangerous—and often deadly. From early helicopter designs and bicycles with wings, learning how to fly was far more than a physics experiment. Often, it was a matter of life and death! Readers are taken on a journey through the history of aviation, and discover the contributions of luminaries such as the Wright brothers and Howard Hughes.","English",22.6,16.95,"629.13","24 pp.",{"$f":"Table1[[#This Row],[QTY]]*Table1[[#This Row],['# Books]]","v":0},{"$f":"Table1[[#This Row],[QTY]]*Table1[[#This Row],[S&L Price]]","v":0}]
[null,null,179,"Gems: Nature's Jewels",1,"Amethysts","Library Bound Book",null,"978-1-4824-2858-2",{"$f":"HYPERLINK(\"https://www.garethstevens.com/\"&Table1[[#This Row],[ISBN]],\"Weblink\")","v":"Weblink"},2016,"August 2015","Library","8.500 X 8.500","Author","Emily Mahoney","5.4","0.5",24,null,"L","930L","Grade 2 - 3","Grade 2 - 5","The amethyst has been a desirable gem for thousands of years. Today, the purple stones are mined all over the world and set into brilliant jewelry. Readers learn the geologic process that creates an amethyst as well as how the presence of iron or manganese may contribute to its color. Interesting fact boxes add even more detail to the main content, which covers topics supportive of the science and social studies curriculums. Full-color photographs bring readers close to this precious gem both polished and set and in its natural state inside a geode.","English",22.6,16.95,"553.8","24 pp.",{"$f":"Table1[[#This Row],[QTY]]*Table1[[#This Row],['# Books]]","v":0},{"$f":"Table1[[#This Row],[QTY]]*Table1[[#This Row],[S&L Price]]","v":0}]
[null,null,179,"Gems: Nature's Jewels",1,"Garnets","eBook",null,"978-1-4824-2867-4",{"$f":"HYPERLINK(\"https://www.garethstevens.com/\"&Table1[[#This Row],[ISBN]],\"Weblink\")","v":"Weblink"},2016,"August 2015",null,null,"Author","Amy Hayes","5.6","0.5",24,null,"L","980L","Grade 2 - 3","Grade 2 - 5","A garnet’s deep red color can easily be mistaken for a ruby by the untrained eye. However, garnets’ color ranges from colorless to black to red and even green! They’ve been precious gems for many thousands of years, commonly found in metamorphic rocks. This volume introduces readers to the creation, structure, and properties of garnets. Dazzling photographs highlight the valuable gem as important geology topics are explained in an age-appropriate, understandable way. Fun fact boxes offer readers surprising bits of  knowledge, such as garnets’ use in sandpaper, and a graphic organizer allows readers to process this information in another way.","English",22.6,16.95,"553.8'7--dc23","24 pp.",{"$f":"Table1[[#This Row],[QTY]]*Table1[[#This Row],['# Books]]","v":0},{"$f":"Table1[[#This Row],[QTY]]*Table1[[#This Row],[S&L Price]]","v":0}]
[null,null,179,"Gems: Nature's Jewels",1,"Topaz","eBook",null,"978-1-4824-2875-9",{"$f":"HYPERLINK(\"https://www.garethstevens.com/\"&Table1[[#This Row],[ISBN]],\"Weblink\")","v":"Weblink"},2016,"August 2015",null,null,"Author","Caitie McAneney","5.4","0.5",24,null,"L","910L","Grade 2 - 3","Grade 2 - 5","Ancient people believed that a topaz would change color when near a poisoned food or drink. Both the Greeks and the Egyptians said a wearer of topaz was protected from harm. Today it’s mostly made into jewelry, but this gem has been valued for thousands of years. Readers learn about the stories surrounding topaz, as well as the facts behind its formation in igneous rocks. Brilliant images of these colorful stones prove their value and enhance the geology lesson found in the main content.","English",22.6,16.95,"549.62","24 pp.",{"$f":"Table1[[#This Row],[QTY]]*Table1[[#This Row],['# Books]]","v":0},{"$f":"Table1[[#This Row],[QTY]]*Table1[[#This Row],[S&L Price]]","v":0}]
[null,null,179,"Real-Life Vampires",1,"Bloodsucking Birds","Library Bound Book",null,"978-1-4824-3941-0",{"$f":"HYPERLINK(\"https://www.garethstevens.com/\"&Table1[[#This Row],[ISBN]],\"Weblink\")","v":"Weblink"},2016,"January 2016","Library","8.500 X 8.500","Author","Christine Honders","5.2","0.5",null,null,"M",null,"Grade 2 - 3","Grade 2 - 5","The long tradition of vampire myths can be scary to a lot of people. But for birds that evolved on the harsh Galapagos Islands, drinking blood is necessary. That doesn’t make vampire finches and hood mockingbirds any less creepy! Readers learn about the healthy treat blood can be for some kinds of birds as well as how they came to use it as a source of nutrition. Full-color photographs introduce these bloodthirsty birds, and fact boxes provide additional science information to enhance the main content.","English",22.6,16.95,"598--d23","24 pp.",{"$f":"Table1[[#This Row],[QTY]]*Table1[[#This Row],['# Books]]","v":0},{"$f":"Table1[[#This Row],[QTY]]*Table1[[#This Row],[S&L Price]]","v":0}]
[null,null,179,"Real-Life Vampires",1,"Bloodsucking Lampreys","eBook",null,"978-1-4824-3950-2",{"$f":"HYPERLINK(\"https://www.garethstevens.com/\"&Table1[[#This Row],[ISBN]],\"Weblink\")","v":"Weblink"},2016,"January 2016",null,null,"Author","Ryan Nagelhout","5.4","0.5",null,null,"M",null,"Grade 2 - 3","Grade 2 - 5","Lampreys aren't just freaky because of their funnel-shaped mouth or many species' appetite for blood. They're an invasive species slowly entering North American waters and causing harm to native species there. Readers learn about the problems invasive species cause as well as details about the parasitic relationships lampreys engage in with other fish. The gross truth about how they suck blood will fascinate readers as they also learn about lampreys' life cycle, habitat, and more. Up close photographs of lampreys in action are surely as close as readers will want to get to this real-life vampire.","English",22.6,16.95,"591.53--dc23","24 pp.",{"$f":"Table1[[#This Row],[QTY]]*Table1[[#This Row],['# Books]]","v":0},{"$f":"Table1[[#This Row],[QTY]]*Table1[[#This Row],[S&L Price]]","v":0}]
[null,null,179,"Real-Life Vampires",1,"Bloodsucking Vampire Bats","Library Bound Book",null,"978-1-4824-3961-8",{"$f":"HYPERLINK(\"https://www.garethstevens.com/\"&Table1[[#This Row],[ISBN]],\"Weblink\")","v":"Weblink"},2016,"January 2016","Library","8.500 X 8.500","Author","Therese M. Shea","4.5","0.5",null,null,"M",null,"Grade 2 - 3","Grade 2 - 5","Many people know that vampire bats drink blood, but most people don't know that's the only food adult vampire bats take in. In addition to milk, mother bats feed their babies regurgitated blood when they're old enough. Readers learn creepy facts like these throughout the main content. Full-color photographs take readers through the night with vampire bats on the hunt, including a look at a bat actually drinking from livestock. Fact boxes enhance the main content's focus on this incredible adaptation, adding information about vampire bats' life-span, size, and more.","English",22.6,16.95,"599.4'5--dc23","24 pp.",{"$f":"Table1[[#This Row],[QTY]]*Table1[[#This Row],['# Books]]","v":0},{"$f":"Table1[[#This Row],[QTY]]*Table1[[#This Row],[S&L Price]]","v":0}]
[null,null,179,"Things That Sting",1,"Jellyfish","eBook",null,"978-1-4824-1705-0",{"$f":"HYPERLINK(\"https://www.garethstevens.com/\"&Table1[[#This Row],[ISBN]],\"Weblink\")","v":"Weblink"},2016,"August 2015",null,null,"Author","Greg Roza","4.6","0.5",28,null,"M","840L","Grade 2 - 3","Grade 2 - 5","Box jellyfish are responsible for about 20 to 40 deaths in the Philippines each year. The sting of one species of box jellyfish can kill a person in 3 minutes! While these are some of the deadliest jellyfish, all species of jellyfish sting, both for defense and to hunt for food. Full-color photographs introduce readers to the growing population of jellyfish in Earth’s oceans. From the strange-but-cool life cycle of the jellyfish to the specifics of their stinging tentacles, the main text includes interesting science content, astonishing fact boxes, and safety information about sharing the oceans with these stinging creatures.","English",22.6,16.95,"593.5","24 pp.",{"$f":"Table1[[#This Row],[QTY]]*Table1[[#This Row],['# Books]]","v":0},{"$f":"Table1[[#This Row],[QTY]]*Table1[[#This Row],[S&L Price]]","v":0}]
[null,null,179,"Things That Sting",1,"Killer Bees","Library Bound Book",null,"978-1-4824-1706-7",{"$f":"HYPERLINK(\"https://www.garethstevens.com/\"&Table1[[#This Row],[ISBN]],\"Weblink\")","v":"Weblink"},2016,"August 2015","Library","8.500 X 8.500","Author","Sarah Machajewski","4.3","0.5",28,null,"M","830L","Grade 2 - 3","Grade 2 - 5","Africanized honeybees were created when some African honeybees escaped a research area in Brazil. They then bred with local European honeybees, and their offspring inherited some pretty scary traits. Now these killer bees have migrated to the United States, and readers may even encounter them! Information about the aggressive nature of these stinging creatures can help readers stay safe if they find themselves near a hive. Full-color photographs show swarming behavior and what venomous stingers look like up close, since it’s ill advised for readers to get near them in real life!","English",22.6,16.95,"595.79","24 pp.",{"$f":"Table1[[#This Row],[QTY]]*Table1[[#This Row],['# Books]]","v":0},{"$f":"Table1[[#This Row],[QTY]]*Table1[[#This Row],[S&L Price]]","v":0}]
[null,null,179,"Things That Sting",1,"Sea Anemones","Library Bound Book",null,"978-1-4824-1710-4",{"$f":"HYPERLINK(\"https://www.garethstevens.com/\"&Table1[[#This Row],[ISBN]],\"Weblink\")","v":"Weblink"},2016,"August 2015","Library","8.500 X 8.500","Author","Walter LaPlante","4.6","0.5",28,null,"M","880L","Grade 2 - 3","Grade 2 - 5","Even the most inactive animals can be dangerous! The deadly stinging tentacles of the sea anemone are useful and multifunctional. They’re used to kill and capture food, keep predators away, and protect territory. Readers dive deep into the world of these fascinating invertebrates, learning many facts, including details about their body structure and their symbiotic relationship with clown fish. Brightly colored photographs showcase the beauty of the sea anemone and its marine environment. Fact boxes add even more information to main content that supports the science curriculum.","English",22.6,16.95,"975.3","24 pp.",{"$f":"Table1[[#This Row],[QTY]]*Table1[[#This Row],['# Books]]","v":0},{"$f":"Table1[[#This Row],[QTY]]*Table1[[#This Row],[S&L Price]]","v":0}]
[null,null,179,"Things That Sting",1,"Sea Anemones","eBook",null,"978-1-4824-1713-5",{"$f":"HYPERLINK(\"https://www.garethstevens.com/\"&Table1[[#This Row],[ISBN]],\"Weblink\")","v":"Weblink"},2016,"August 2015",null,null,"Author","Walter LaPlante","4.6","0.5",28,null,"M","880L","Grade 2 - 3","Grade 2 - 5","Even the most inactive animals can be dangerous! The deadly stinging tentacles of the sea anemone are useful and multifunctional. They’re used to kill and capture food, keep predators away, and protect territory. Readers dive deep into the world of these fascinating invertebrates, learning many facts, including details about their body structure and their symbiotic relationship with clown fish. Brightly colored photographs showcase the beauty of the sea anemone and its marine environment. Fact boxes add even more information to main content that supports the science curriculum.","English",22.6,16.95,"975.3","24 pp.",{"$f":"Table1[[#This Row],[QTY]]*Table1[[#This Row],['# Books]]","v":0},{"$f":"Table1[[#This Row],[QTY]]*Table1[[#This Row],[S&L Price]]","v":0}]
[null,null,180,"Things That Sting",1,"Sea Urchins","Library Bound Book",null,"978-1-4824-1718-0",{"$f":"HYPERLINK(\"https://www.garethstevens.com/\"&Table1[[#This Row],[ISBN]],\"Weblink\")","v":"Weblink"},2016,"August 2015","Library","8.500 X 8.500","Author","Michael Rajczak","4.6","0.5",28,null,"M","880L","Grade 2 - 3","Grade 2 - 5","Spiny, small, and edible, sea urchins are found in oceans all over the world. Their spines can be long or short and can cause great injury in their own right. In addition, some sea urchins’ spines are venomous. Divers are familiar with how to deal with a sea urchin sting, and readers will be, too. From why sea urchins sting to the rest of their body structures, this volume’s science content gives a great overview of this fascinating creature. Full-color photographs take readers into the ocean to see sea urchins up close—but not close enough that they’ll get stung.","English",22.6,16.95,"593.9","24 pp.",{"$f":"Table1[[#This Row],[QTY]]*Table1[[#This Row],['# Books]]","v":0},{"$f":"Table1[[#This Row],[QTY]]*Table1[[#This Row],[S&L Price]]","v":0}]
[null,null,180,"Things That Sting",1,"Sea Urchins","eBook",null,"978-1-4824-1721-0",{"$f":"HYPERLINK(\"https://www.garethstevens.com/\"&Table1[[#This Row],[ISBN]],\"Weblink\")","v":"Weblink"},2016,"August 2015",null,null,"Author","Michael Rajczak","4.6","0.5",28,null,"M","880L","Grade 2 - 3","Grade 2 - 5","Spiny, small, and edible, sea urchins are found in oceans all over the world. Their spines can be long or short and can cause great injury in their own right. In addition, some sea urchins’ spines are venomous. Divers are familiar with how to deal with a sea urchin sting, and readers will be, too. From why sea urchins sting to the rest of their body structures, this volume’s science content gives a great overview of this fascinating creature. Full-color photographs take readers into the ocean to see sea urchins up close—but not close enough that they’ll get stung.","English",22.6,16.95,"593.9","24 pp.",{"$f":"Table1[[#This Row],[QTY]]*Table1[[#This Row],['# Books]]","v":0},{"$f":"Table1[[#This Row],[QTY]]*Table1[[#This Row],[S&L Price]]","v":0}]
[null,null,180,"Zombie Animals: Parasites Take Control!",1,"Zombie Ants","Library Bound Book",null,"978-1-4824-2830-8",{"$f":"HYPERLINK(\"https://www.garethstevens.com/\"&Table1[[#This Row],[ISBN]],\"Weblink\")","v":"Weblink"},2016,"August 2015","Library","8.500 X 8.500","Author","Frances Nagle","5.2","0.5",28,null,"M",null,"Grade 2 - 3","Grade 2 - 5","Ants are known for being industrious insects. They follow set paths to find food and are often seen walking in a straight line. If you follow them, they’ll lead you right back to their nest. When scientists found ants that were walking off course in tropical forests, they knew something was wrong. Readers learn all the latest information about these fascinating zombie ants, including what causes their strange behavior and what threat it poses to their species. Full-color photographs show the deadly end of these ants, and fact boxes offer more details about a rare parasitic phenomenon.","English",22.6,16.95,"578.6","24 pp.",{"$f":"Table1[[#This Row],[QTY]]*Table1[[#This Row],['# Books]]","v":0},{"$f":"Table1[[#This Row],[QTY]]*Table1[[#This Row],[S&L Price]]","v":0}]
[null,null,180,"Zombie Animals: Parasites Take Control!",1,"Zombie Ants","eBook",null,"978-1-4824-2831-5",{"$f":"HYPERLINK(\"https://www.garethstevens.com/\"&Table1[[#This Row],[ISBN]],\"Weblink\")","v":"Weblink"},2016,"August 2015",null,null,"Author","Frances Nagle","5.2","0.5",28,null,"M",null,"Grade 2 - 3","Grade 2 - 5","Ants are known for being industrious insects. They follow set paths to find food and are often seen walking in a straight line. If you follow them, they’ll lead you right back to their nest. When scientists found ants that were walking off course in tropical forests, they knew something was wrong. Readers learn all the latest information about these fascinating zombie ants, including what causes their strange behavior and what threat it poses to their species. Full-color photographs show the deadly end of these ants, and fact boxes offer more details about a rare parasitic phenomenon.","English",22.6,16.95,"578.6","24 pp.",{"$f":"Table1[[#This Row],[QTY]]*Table1[[#This Row],['# Books]]","v":0},{"$f":"Table1[[#This Row],[QTY]]*Table1[[#This Row],[S&L Price]]","v":0}]
[null,null,180,"Zombie Animals: Parasites Take Control!",1,"Zombie Caterpillars","Library Bound Book",null,"978-1-4824-2834-6",{"$f":"HYPERLINK(\"https://www.garethstevens.com/\"&Table1[[#This Row],[ISBN]],\"Weblink\")","v":"Weblink"},2016,"August 2015","Library","8.500 X 8.500","Author","Frances Nagle","5.4","0.5",28,null,"M",null,"Grade 2 - 3","Grade 2 - 5","Birds, spiders, and other insects all like to eat caterpillars. But some kinds of caterpillars face a scarier threat: predators that take control of them! Readers learn all about parasites, specifically those that make zombies out of their caterpillar prey. Full-color photographs show these parasites in action, from the gross emergence of wasp larvae to the disgusting liquefaction of dead caterpillars by a nasty virus. Fascinating fact boxes engage readers with a host of details fit for a horror movie—even though they could happen right in your backyard!","English",22.6,16.95,"595.7813","24 pp.",{"$f":"Table1[[#This Row],[QTY]]*Table1[[#This Row],['# Books]]","v":0},{"$f":"Table1[[#This Row],[QTY]]*Table1[[#This Row],[S&L Price]]","v":0}]
[null,null,180,"Zombie Animals: Parasites Take Control!",1,"Zombie Caterpillars","eBook",null,"978-1-4824-2835-3",{"$f":"HYPERLINK(\"https://www.garethstevens.com/\"&Table1[[#This Row],[ISBN]],\"Weblink\")","v":"Weblink"},2016,"August 2015",null,null,"Author","Frances Nagle","5.4","0.5",28,null,"M",null,"Grade 2 - 3","Grade 2 - 5","Birds, spiders, and other insects all like to eat caterpillars. But some kinds of caterpillars face a scarier threat: predators that take control of them! Readers learn all about parasites, specifically those that make zombies out of their caterpillar prey. Full-color photographs show these parasites in action, from the gross emergence of wasp larvae to the disgusting liquefaction of dead caterpillars by a nasty virus. Fascinating fact boxes engage readers with a host of details fit for a horror movie—even though they could happen right in your backyard!","English",22.6,16.95,"595.7813","24 pp.",{"$f":"Table1[[#This Row],[QTY]]*Table1[[#This Row],['# Books]]","v":0},{"$f":"Table1[[#This Row],[QTY]]*Table1[[#This Row],[S&L Price]]","v":0}]
[null,null,180,"Zombie Animals: Parasites Take Control!",1,"Zombie Crabs","Library Bound Book",null,"978-1-4824-2838-4",{"$f":"HYPERLINK(\"https://www.garethstevens.com/\"&Table1[[#This Row],[ISBN]],\"Weblink\")","v":"Weblink"},2016,"August 2015","Library","8.500 X 8.500","Author","Jolene Alessi","5","0.5",28,null,"M",null,"Grade 2 - 3","Grade 2 - 5","A parasite exists that can make a male crab believe it’s a female crab. It forces the crab it infects to care for parasite eggs and even help release the larvae into the ocean to infect other crabs! These zombie crabs are never aware that they are infected nor do they harm the parasite. A fascinating look at the parasite-host relationship, this volume will keep readers turning pages with great interest. Full-color photographs of infected crabs offer captivating examples of how the parasite takes over the crab’s body, while the main content also includes how it takes over the crab’s mind.","English",22.6,16.95,"578.6","24 pp.",{"$f":"Table1[[#This Row],[QTY]]*Table1[[#This Row],['# Books]]","v":0},{"$f":"Table1[[#This Row],[QTY]]*Table1[[#This Row],[S&L Price]]","v":0}]
[null,null,180,"Zombie Animals: Parasites Take Control!",1,"Zombie Crabs","eBook",null,"978-1-4824-2839-1",{"$f":"HYPERLINK(\"https://www.garethstevens.com/\"&Table1[[#This Row],[ISBN]],\"Weblink\")","v":"Weblink"},2016,"August 2015",null,null,"Author","Jolene Alessi","5","0.5",28,null,"M",null,"Grade 2 - 3","Grade 2 - 5","A parasite exists that can make a male crab believe it’s a female crab. It forces the crab it infects to care for parasite eggs and even help release the larvae into the ocean to infect other crabs! These zombie crabs are never aware that they are infected nor do they harm the parasite. A fascinating look at the parasite-host relationship, this volume will keep readers turning pages with great interest. Full-color photographs of infected crabs offer captivating examples of how the parasite takes over the crab’s body, while the main content also includes how it takes over the crab’s mind.","English",22.6,16.95,"578.6","24 pp.",{"$f":"Table1[[#This Row],[QTY]]*Table1[[#This Row],['# Books]]","v":0},{"$f":"Table1[[#This Row],[QTY]]*Table1[[#This Row],[S&L Price]]","v":0}]
[null,null,180,"Zombie Animals: Parasites Take Control!",1,"Zombie Fish","Library Bound Book",null,"978-1-4824-2842-1",{"$f":"HYPERLINK(\"https://www.garethstevens.com/\"&Table1[[#This Row],[ISBN]],\"Weblink\")","v":"Weblink"},2016,"August 2015","Library","8.500 X 8.500","Author","Jolene Alessi","5.1","0.5",28,null,"M",null,"Grade 2 - 3","Grade 2 - 5","Tapeworms aren’t just a problem for people. They control a fish called the stickleback, directing it to superhot water where the tapeworm has a chance to grow as big as it can. If the tapeworm gets its way—and it often does—infected fish end up with huge bellies full of a tapeworm that may be bigger than the fish! Readers learn all about this terrible parasite as well as others that turn fish into zombies. Full-color photographs enhance intriguing science content, including how the fish survives a parasitic infestation and how each parasite spreads.","English",22.6,16.95,"597","24 pp.",{"$f":"Table1[[#This Row],[QTY]]*Table1[[#This Row],['# Books]]","v":0},{"$f":"Table1[[#This Row],[QTY]]*Table1[[#This Row],[S&L Price]]","v":0}]
[null,null,180,"Zombie Animals: Parasites Take Control!",1,"Zombie Fish","eBook",null,"978-1-4824-2843-8",{"$f":"HYPERLINK(\"https://www.garethstevens.com/\"&Table1[[#This Row],[ISBN]],\"Weblink\")","v":"Weblink"},2016,"August 2015",null,null,"Author","Jolene Alessi","5.1","0.5",28,null,"M",null,"Grade 2 - 3","Grade 2 - 5","Tapeworms aren’t just a problem for people. They control a fish called the stickleback, directing it to superhot water where the tapeworm has a chance to grow as big as it can. If the tapeworm gets its way—and it often does—infected fish end up with huge bellies full of a tapeworm that may be bigger than the fish! Readers learn all about this terrible parasite as well as others that turn fish into zombies. Full-color photographs enhance intriguing science content, including how the fish survives a parasitic infestation and how each parasite spreads.","English",22.6,16.95,"597","24 pp.",{"$f":"Table1[[#This Row],[QTY]]*Table1[[#This Row],['# Books]]","v":0},{"$f":"Table1[[#This Row],[QTY]]*Table1[[#This Row],[S&L Price]]","v":0}]
[null,null,180,"Zombie Animals: Parasites Take Control!",1,"Zombie Grasshoppers","Library Bound Book",null,"978-1-4824-2846-9",{"$f":"HYPERLINK(\"https://www.garethstevens.com/\"&Table1[[#This Row],[ISBN]],\"Weblink\")","v":"Weblink"},2016,"August 2015","Library","8.500 X 8.500","Author","Jolene Alessi","5.1","0.5",28,null,"M",null,"Grade 2 - 3","Grade 2 - 5","A parasite’s main goal is to survive—whether or not their host does. The hairworm is a prime example of this, forcing its grasshopper host to leap to its death so the hairworm can swim away happily. Including an introduction to parasite-host relationships, the main content in this volume will fascinate readers and supports the science curriculum. Detailed fact boxes and colorful photographs add even more fun, gross, and terrifying information about the zombie grasshopper and its terrible traveling companion, the hairworm.","English",22.6,16.95,"595.7","24 pp.",{"$f":"Table1[[#This Row],[QTY]]*Table1[[#This Row],['# Books]]","v":0},{"$f":"Table1[[#This Row],[QTY]]*Table1[[#This Row],[S&L Price]]","v":0}]
[null,null,180,"Zombie Animals: Parasites Take Control!",1,"Zombie Grasshoppers","eBook",null,"978-1-4824-2847-6",{"$f":"HYPERLINK(\"https://www.garethstevens.com/\"&Table1[[#This Row],[ISBN]],\"Weblink\")","v":"Weblink"},2016,"August 2015",null,null,"Author","Jolene Alessi","5.1","0.5",28,null,"M",null,"Grade 2 - 3","Grade 2 - 5","A parasite’s main goal is to survive—whether or not their host does. The hairworm is a prime example of this, forcing its grasshopper host to leap to its death so the hairworm can swim away happily. Including an introduction to parasite-host relationships, the main content in this volume will fascinate readers and supports the science curriculum. Detailed fact boxes and colorful photographs add even more fun, gross, and terrifying information about the zombie grasshopper and its terrible traveling companion, the hairworm.","English",22.6,16.95,"595.7","24 pp.",{"$f":"Table1[[#This Row],[QTY]]*Table1[[#This Row],['# Books]]","v":0},{"$f":"Table1[[#This Row],[QTY]]*Table1[[#This Row],[S&L Price]]","v":0}]
[null,null,180,"Zombie Animals: Parasites Take Control!",1,"Zombie Snails","Library Bound Book",null,"978-1-4824-2850-6",{"$f":"HYPERLINK(\"https://www.garethstevens.com/\"&Table1[[#This Row],[ISBN]],\"Weblink\")","v":"Weblink"},2016,"August 2015","Library","8.500 X 8.500","Author","Jolene Alessi","5","0.5",28,null,"M",null,"Grade 2 - 3","Grade 2 - 5","A worm call Leucochloridium needs to reach a bird's stomach in order to reproduce and spread in the bird's waste. How it gets there sounds like science fiction! By infesting a snail’s eyestalks and controlling its brain, this parasite sends the snail into the open with eyestalks that now resemble caterpillars, which are a bird’s favorite snack. Readers are introduced to the poor zombie snail and its role in the parasite-host relationship. Full-color photographs showcase the incredible changes the snail undergoes once infected by the parasite. Fascinating fact boxes and main content offer readers the gross, but cool, details.","English",22.6,16.95,"594'.3--dc23","24 pp.",{"$f":"Table1[[#This Row],[QTY]]*Table1[[#This Row],['# Books]]","v":0},{"$f":"Table1[[#This Row],[QTY]]*Table1[[#This Row],[S&L Price]]","v":0}]
[null,null,180,"Zombie Animals: Parasites Take Control!",1,"Zombie Snails","eBook",null,"978-1-4824-2851-3",{"$f":"HYPERLINK(\"https://www.garethstevens.com/\"&Table1[[#This Row],[ISBN]],\"Weblink\")","v":"Weblink"},2016,"August 2015",null,null,"Author","Jolene Alessi","5","0.5",28,null,"M",null,"Grade 2 - 3","Grade 2 - 5","A worm call Leucochloridium needs to reach a bird's stomach in order to reproduce and spread in the bird's waste. How it gets there sounds like science fiction! By infesting a snail’s eyestalks and controlling its brain, this parasite sends the snail into the open with eyestalks that now resemble caterpillars, which are a bird’s favorite snack. Readers are introduced to the poor zombie snail and its role in the parasite-host relationship. Full-color photographs showcase the incredible changes the snail undergoes once infected by the parasite. Fascinating fact boxes and main content offer readers the gross, but cool, details.","English",22.6,16.95,"594'.3--dc23","24 pp.",{"$f":"Table1[[#This Row],[QTY]]*Table1[[#This Row],['# Books]]","v":0},{"$f":"Table1[[#This Row],[QTY]]*Table1[[#This Row],[S&L Price]]","v":0}]
[null,null,180,"Eye on the Sky",1,"When Blizzards Blow","Library Bound Book",null,"978-1-4824-2878-0",{"$f":"HYPERLINK(\"https://www.garethstevens.com/\"&Table1[[#This Row],[ISBN]],\"Weblink\")","v":"Weblink"},2016,"August 2015","Library","8.500 X 11.00","Author","Therese M. Shea",null,null,40,null,"R",null,"Grade 3 - 4","Grade 3 - 6","Blizzards can be particularly dangerous weather events, especially for the unprepared. People out in the storm are at risk for hypothermia and frostbite, and those inside have to worry about power and phone outages. Cars may get stuck on the highway, and pilots may feel unsure about landing a plane. Readers learn the severity of blizzards of the past, including 2010's \"Snowmageddon,\" as well as how these blizzards form. Dramatic, full-color photographs show readers blizzards' aftermath, and safety tips help readers prepare for a blizzard should a blizzard watch be issued in their area.","English",26.6,19.95,"551.55","32 pp.",{"$f":"Table1[[#This Row],[QTY]]*Table1[[#This Row],['# Books]]","v":0},{"$f":"Table1[[#This Row],[QTY]]*Table1[[#This Row],[S&L Price]]","v":0}]
[null,null,180,"Eye on the Sky",1,"When Blizzards Blow","eBook",null,"978-1-4824-2879-7",{"$f":"HYPERLINK(\"https://www.garethstevens.com/\"&Table1[[#This Row],[ISBN]],\"Weblink\")","v":"Weblink"},2016,"August 2015",null,null,"Author","Therese M. Shea",null,null,40,null,"R",null,"Grade 3 - 4","Grade 3 - 6","Blizzards can be particularly dangerous weather events, especially for the unprepared. People out in the storm are at risk for hypothermia and frostbite, and those inside have to worry about power and phone outages. Cars may get stuck on the highway, and pilots may feel unsure about landing a plane. Readers learn the severity of blizzards of the past, including 2010's \"Snowmageddon,\" as well as how these blizzards form. Dramatic, full-color photographs show readers blizzards' aftermath, and safety tips help readers prepare for a blizzard should a blizzard watch be issued in their area.","English",26.6,19.95,"551.55","32 pp.",{"$f":"Table1[[#This Row],[QTY]]*Table1[[#This Row],['# Books]]","v":0},{"$f":"Table1[[#This Row],[QTY]]*Table1[[#This Row],[S&L Price]]","v":0}]
[null,null,180,"Eye on the Sky",1,"When Floods Flow","Library Bound Book",null,"978-1-4824-2882-7",{"$f":"HYPERLINK(\"https://www.garethstevens.com/\"&Table1[[#This Row],[ISBN]],\"Weblink\")","v":"Weblink"},2016,"August 2015","Library","8.500 X 11.00","Author","Barbara M. Linde",null,null,40,null,"R",null,"Grade 3 - 4","Grade 3 - 6","In many cases, floods are a sneaky disaster. They often take awhile to occur as rain builds up over many hours or days, or a river’s volume slowly increases and overflows its banks. However, once flooding is happening, it’s very hard to stop. Additionally, flash floods don’t offer those living nearby much time to prepare or evacuate. Readers face the devastation that floods can cause as they learn how they occur. Full-color photographs show floods up close, emphasizing the importance of preparing for a flood should readers live in an area where they’re common—or not.","English",26.6,19.95,"551.48","32 pp.",{"$f":"Table1[[#This Row],[QTY]]*Table1[[#This Row],['# Books]]","v":0},{"$f":"Table1[[#This Row],[QTY]]*Table1[[#This Row],[S&L Price]]","v":0}]
[null,null,180,"Eye on the Sky",1,"When Floods Flow","eBook",null,"978-1-4824-2883-4",{"$f":"HYPERLINK(\"https://www.garethstevens.com/\"&Table1[[#This Row],[ISBN]],\"Weblink\")","v":"Weblink"},2016,"August 2015",null,null,"Author","Barbara M. Linde",null,null,40,null,"R",null,"Grade 3 - 4","Grade 3 - 6","In many cases, floods are a sneaky disaster. They often take awhile to occur as rain builds up over many hours or days, or a river’s volume slowly increases and overflows its banks. However, once flooding is happening, it’s very hard to stop. Additionally, flash floods don’t offer those living nearby much time to prepare or evacuate. Readers face the devastation that floods can cause as they learn how they occur. Full-color photographs show floods up close, emphasizing the importance of preparing for a flood should readers live in an area where they’re common—or not.","English",26.6,19.95,"551.48","32 pp.",{"$f":"Table1[[#This Row],[QTY]]*Table1[[#This Row],['# Books]]","v":0},{"$f":"Table1[[#This Row],[QTY]]*Table1[[#This Row],[S&L Price]]","v":0}]
[null,null,180,"Eye on the Sky",1,"When Hail Hits","Library Bound Book",null,"978-1-4824-2886-5",{"$f":"HYPERLINK(\"https://www.garethstevens.com/\"&Table1[[#This Row],[ISBN]],\"Weblink\")","v":"Weblink"},2016,"August 2015","Library","8.500 X 11.00","Author","Christine Honders",null,null,40,null,"R",null,"Grade 3 - 4","Grade 3 - 6","Most of the time, hail occurs as tiny pellets not much bigger than gravel or sand. But when the conditions are right, hailstones can be as big as golf balls or even baseballs! They crack car windshields, take down power lines, and even injure people outside when they fall. Readers learn lots of cool science about not just how hail forms, but what conditions need to be for hail to be destructive. Full-color photographs emphasize just how big hailstones can be and how much damage they can cause. Relatable sidebars tackle important details and highlight real-life hail events for interested readers. ","English",26.6,19.95,"551.57","32 pp.",{"$f":"Table1[[#This Row],[QTY]]*Table1[[#This Row],['# Books]]","v":0},{"$f":"Table1[[#This Row],[QTY]]*Table1[[#This Row],[S&L Price]]","v":0}]
[null,null,180,"Eye on the Sky",1,"When Hail Hits","eBook",null,"978-1-4824-2887-2",{"$f":"HYPERLINK(\"https://www.garethstevens.com/\"&Table1[[#This Row],[ISBN]],\"Weblink\")","v":"Weblink"},2016,"August 2015",null,null,"Author","Christine Honders",null,null,40,null,"R",null,"Grade 3 - 4","Grade 3 - 6","Most of the time, hail occurs as tiny pellets not much bigger than gravel or sand. But when the conditions are right, hailstones can be as big as golf balls or even baseballs! They crack car windshields, take down power lines, and even injure people outside when they fall. Readers learn lots of cool science about not just how hail forms, but what conditions need to be for hail to be destructive. Full-color photographs emphasize just how big hailstones can be and how much damage they can cause. Relatable sidebars tackle important details and highlight real-life hail events for interested readers. ","English",26.6,19.95,"551.57","32 pp.",{"$f":"Table1[[#This Row],[QTY]]*Table1[[#This Row],['# Books]]","v":0},{"$f":"Table1[[#This Row],[QTY]]*Table1[[#This Row],[S&L Price]]","v":0}]
[null,null,180,"Eye on the Sky",1,"When Hurricanes Howl","Library Bound Book",null,"978-1-4824-2890-2",{"$f":"HYPERLINK(\"https://www.garethstevens.com/\"&Table1[[#This Row],[ISBN]],\"Weblink\")","v":"Weblink"},2016,"August 2015","Library","8.500 X 11.00","Author","Barbara M. Linde",null,null,40,null,"R",null,"Grade 3 - 4","Grade 3 - 6","When Hurricane Sandy hit the northeastern United States in 2012, the destruction was extensive. It would prove to be the worst Atlantic hurricane of the 2012 season and took years to rebuild from. With hurricanes a reality for many who live on the coasts of the United States, understanding how to prepare for one is of utmost importance. This volume offers readers safety tips for preparing and enduring a hurricane, as well as explains the science behind hurricane formation and strength. Engaging sidebars about hurricane watches, warnings, and tracking complement full-color photographs of hurricane devastation around the world.","English",26.6,19.95,"551.55","32 pp.",{"$f":"Table1[[#This Row],[QTY]]*Table1[[#This Row],['# Books]]","v":0},{"$f":"Table1[[#This Row],[QTY]]*Table1[[#This Row],[S&L Price]]","v":0}]
[null,null,180,"Eye on the Sky",1,"When Hurricanes Howl","eBook",null,"978-1-4824-2891-9",{"$f":"HYPERLINK(\"https://www.garethstevens.com/\"&Table1[[#This Row],[ISBN]],\"Weblink\")","v":"Weblink"},2016,"August 2015",null,null,"Author","Barbara M. Linde",null,null,40,null,"R",null,"Grade 3 - 4","Grade 3 - 6","When Hurricane Sandy hit the northeastern United States in 2012, the destruction was extensive. It would prove to be the worst Atlantic hurricane of the 2012 season and took years to rebuild from. With hurricanes a reality for many who live on the coasts of the United States, understanding how to prepare for one is of utmost importance. This volume offers readers safety tips for preparing and enduring a hurricane, as well as explains the science behind hurricane formation and strength. Engaging sidebars about hurricane watches, warnings, and tracking complement full-color photographs of hurricane devastation around the world.","English",26.6,19.95,"551.55","32 pp.",{"$f":"Table1[[#This Row],[QTY]]*Table1[[#This Row],['# Books]]","v":0},{"$f":"Table1[[#This Row],[QTY]]*Table1[[#This Row],[S&L Price]]","v":0}]
[null,null,180,"Eye on the Sky",1,"When Lightning Strikes","Library Bound Book",null,"978-1-4824-2894-0",{"$f":"HYPERLINK(\"https://www.garethstevens.com/\"&Table1[[#This Row],[ISBN]],\"Weblink\")","v":"Weblink"},2016,"August 2015","Library","8.500 X 11.00","Author","Ryan Nagelhout",null,null,40,null,"R",null,"Grade 3 - 4","Grade 3 - 6","Lightning can strike in the same place twice. It's for this reason that readers need to learn how to avoid being in dangerous places during a storm with lightning! While a spectacular weather phenomenon to witness, lightning can cause destruction and even death. Readers learn what causes lightning and other science content regarding the occurrence of lightning, including its connection to rain and thunder. Succinct sidebars add even more detail about specific, real-life lightning events complete with full-color photographs of amazing lightning strikes.","English",26.6,19.95,"551.56'32--dc23","32 pp.",{"$f":"Table1[[#This Row],[QTY]]*Table1[[#This Row],['# Books]]","v":0},{"$f":"Table1[[#This Row],[QTY]]*Table1[[#This Row],[S&L Price]]","v":0}]
[null,null,180,"Eye on the Sky",1,"When Lightning Strikes","eBook",null,"978-1-4824-2895-7",{"$f":"HYPERLINK(\"https://www.garethstevens.com/\"&Table1[[#This Row],[ISBN]],\"Weblink\")","v":"Weblink"},2016,"August 2015",null,null,"Author","Ryan Nagelhout",null,null,40,null,"R",null,"Grade 3 - 4","Grade 3 - 6","Lightning can strike in the same place twice. It's for this reason that readers need to learn how to avoid being in dangerous places during a storm with lightning! While a spectacular weather phenomenon to witness, lightning can cause destruction and even death. Readers learn what causes lightning and other science content regarding the occurrence of lightning, including its connection to rain and thunder. Succinct sidebars add even more detail about specific, real-life lightning events complete with full-color photographs of amazing lightning strikes.","English",26.6,19.95,"551.56'32--dc23","32 pp.",{"$f":"Table1[[#This Row],[QTY]]*Table1[[#This Row],['# Books]]","v":0},{"$f":"Table1[[#This Row],[QTY]]*Table1[[#This Row],[S&L Price]]","v":0}]
[null,null,180,"Eye on the Sky",1,"When Tornadoes Touch Down","Library Bound Book",null,"978-1-4824-2898-8",{"$f":"HYPERLINK(\"https://www.garethstevens.com/\"&Table1[[#This Row],[ISBN]],\"Weblink\")","v":"Weblink"},2016,"August 2015","Library","8.500 X 11.00","Author","Therese M. Shea",null,null,40,null,"R",null,"Grade 3 - 4","Grade 3 - 6","For years, people in “Tornado Alley” were the ones who had to worry most about tornadoes occurring near their homes. However, as climate change occurs, tornadoes have become more common around the United States. Tornado prediction and tracking has gotten increasingly better, too. Readers learn how tornadoes happen, how they are measured, and what to do if a tornado watch or warning is issued. Real-life stories of tornado devastation, such as those that occurred in Joplin, Mississippi, in 2011, emphasize how serious this weather event can be. Full-color photographs and sidebars offer additional perspectives about tornado chasing, destruction, and preparation.","English",26.6,19.95,"551.55'3--dc23","32 pp.",{"$f":"Table1[[#This Row],[QTY]]*Table1[[#This Row],['# Books]]","v":0},{"$f":"Table1[[#This Row],[QTY]]*Table1[[#This Row],[S&L Price]]","v":0}]
[null,null,180,"Eye on the Sky",1,"When Tornadoes Touch Down","eBook",null,"978-1-4824-2899-5",{"$f":"HYPERLINK(\"https://www.garethstevens.com/\"&Table1[[#This Row],[ISBN]],\"Weblink\")","v":"Weblink"},2016,"August 2015",null,null,"Author","Therese M. Shea",null,null,40,null,"R",null,"Grade 3 - 4","Grade 3 - 6","For years, people in “Tornado Alley” were the ones who had to worry most about tornadoes occurring near their homes. However, as climate change occurs, tornadoes have become more common around the United States. Tornado prediction and tracking has gotten increasingly better, too. Readers learn how tornadoes happen, how they are measured, and what to do if a tornado watch or warning is issued. Real-life stories of tornado devastation, such as those that occurred in Joplin, Mississippi, in 2011, emphasize how serious this weather event can be. Full-color photographs and sidebars offer additional perspectives about tornado chasing, destruction, and preparation.","English",26.6,19.95,"551.55'3--dc23","32 pp.",{"$f":"Table1[[#This Row],[QTY]]*Table1[[#This Row],['# Books]]","v":0},{"$f":"Table1[[#This Row],[QTY]]*Table1[[#This Row],[S&L Price]]","v":0}]
[null,null,180,"Amazing Robots",1,"Robots in Industry","Library Bound Book",null,"978-1-4824-3002-8",{"$f":"HYPERLINK(\"https://www.garethstevens.com/\"&Table1[[#This Row],[ISBN]],\"Weblink\")","v":"Weblink"},2016,"August 2015","Library","7.250 X 9.250","Author(s)","Louise Spilsbury, Richard Spilsbury",null,null,null,null,"U","1160L","Grade 4 - 5","Grade 4 - 8","People tire easily and make mistakes when they work too long. They need to sleep and eat enough in order to do their best. Robots, however, can do repetitive tasks perfectly every time! They rarely need breaks and definitely don’t need naps! Readers learn how integral robots have become in many parts of industry, including in production, factories, and in situations dangerous for people. Full-color photographs provide readers with a unique look at a growing branch of science. The main content and sidebars highlight real-life examples of robots at work as well as understandable explanations of their technology.","English",31.95,23.95,"629.8","48 pp.",{"$f":"Table1[[#This Row],[QTY]]*Table1[[#This Row],['# Books]]","v":0},{"$f":"Table1[[#This Row],[QTY]]*Table1[[#This Row],[S&L Price]]","v":0}]
[null,null,180,"Amazing Robots",1,"Robots in Industry","eBook",null,"978-1-4824-3003-5",{"$f":"HYPERLINK(\"https://www.garethstevens.com/\"&Table1[[#This Row],[ISBN]],\"Weblink\")","v":"Weblink"},2016,"August 2015",null,null,"Author(s)","Louise Spilsbury, Richard Spilsbury",null,null,null,null,"U","1160L","Grade 4 - 5","Grade 4 - 8","People tire easily and make mistakes when they work too long. They need to sleep and eat enough in order to do their best. Robots, however, can do repetitive tasks perfectly every time! They rarely need breaks and definitely don’t need naps! Readers learn how integral robots have become in many parts of industry, including in production, factories, and in situations dangerous for people. Full-color photographs provide readers with a unique look at a growing branch of science. The main content and sidebars highlight real-life examples of robots at work as well as understandable explanations of their technology.","English",31.95,23.95,"629.8","48 pp.",{"$f":"Table1[[#This Row],[QTY]]*Table1[[#This Row],['# Books]]","v":0},{"$f":"Table1[[#This Row],[QTY]]*Table1[[#This Row],[S&L Price]]","v":0}]
[null,null,180,"Amazing Robots",1,"Robots in Law Enforcement","Library Bound Book",null,"978-1-4824-3006-6",{"$f":"HYPERLINK(\"https://www.garethstevens.com/\"&Table1[[#This Row],[ISBN]],\"Weblink\")","v":"Weblink"},2016,"August 2015","Library","7.250 X 9.250","Author(s)","Louise Spilsbury, Richard Spilsbury",null,null,null,null,"U","1200L","Grade 4 - 5","Grade 4 - 8","Robotics is already used to protect people in cities all around the United States. As robot technology continues to grow, patrolling human police officers could someday be a thing of the past! Humanoid robots might be rolling around city streets or heading into dangerous situations in place of police officers. From surveillance cameras to bomb disposal, the incredible robots already used in law enforcement will engage and surprise readers. The main text explains the real-life technology used today, and full-color photographs enhance the science and engineering content.","English",31.95,23.95,"629.8","48 pp.",{"$f":"Table1[[#This Row],[QTY]]*Table1[[#This Row],['# Books]]","v":0},{"$f":"Table1[[#This Row],[QTY]]*Table1[[#This Row],[S&L Price]]","v":0}]
[null,null,180,"Amazing Robots",1,"Robots in Law Enforcement","eBook",null,"978-1-4824-3007-3",{"$f":"HYPERLINK(\"https://www.garethstevens.com/\"&Table1[[#This Row],[ISBN]],\"Weblink\")","v":"Weblink"},2016,"August 2015",null,null,"Author(s)","Louise Spilsbury, Richard Spilsbury",null,null,null,null,"U","1200L","Grade 4 - 5","Grade 4 - 8","Robotics is already used to protect people in cities all around the United States. As robot technology continues to grow, patrolling human police officers could someday be a thing of the past! Humanoid robots might be rolling around city streets or heading into dangerous situations in place of police officers. From surveillance cameras to bomb disposal, the incredible robots already used in law enforcement will engage and surprise readers. The main text explains the real-life technology used today, and full-color photographs enhance the science and engineering content.","English",31.95,23.95,"629.8","48 pp.",{"$f":"Table1[[#This Row],[QTY]]*Table1[[#This Row],['# Books]]","v":0},{"$f":"Table1[[#This Row],[QTY]]*Table1[[#This Row],[S&L Price]]","v":0}]
[null,null,180,"Amazing Robots",1,"Robots in Medicine","Library Bound Book",null,"978-1-4824-3010-3",{"$f":"HYPERLINK(\"https://www.garethstevens.com/\"&Table1[[#This Row],[ISBN]],\"Weblink\")","v":"Weblink"},2016,"August 2015","Library","7.250 X 9.250","Author(s)","Louise Spilsbury, Richard Spilsbury",null,null,null,null,"U","1190L","Grade 4 - 5","Grade 4 - 8","In 2000, the FDA approved the Da Vinci surgical robotic system. The Da Vinci is a robot controlled by a surgeon used to do delicate and technical surgeries, and it represents a whole segment of robots used to aid doctors, pharmacists, and others in the medical field. Readers are introduced to cutting-edge medical technology with full-color photographs of robots actually used in hospitals and doctors’ offices today. The main content offers detailed, but understandable, information about the science of these incredible machines. Additionally, readers learn about the integration of these robots into many careers in medicine, technology, and science.","English",31.95,23.95,"629.8","48 pp.",{"$f":"Table1[[#This Row],[QTY]]*Table1[[#This Row],['# Books]]","v":0},{"$f":"Table1[[#This Row],[QTY]]*Table1[[#This Row],[S&L Price]]","v":0}]
[null,null,180,"Amazing Robots",1,"Robots in Medicine","eBook",null,"978-1-4824-3011-0",{"$f":"HYPERLINK(\"https://www.garethstevens.com/\"&Table1[[#This Row],[ISBN]],\"Weblink\")","v":"Weblink"},2016,"August 2015",null,null,"Author(s)","Louise Spilsbury, Richard Spilsbury",null,null,null,null,"U","1190L","Grade 4 - 5","Grade 4 - 8","In 2000, the FDA approved the Da Vinci surgical robotic system. The Da Vinci is a robot controlled by a surgeon used to do delicate and technical surgeries, and it represents a whole segment of robots used to aid doctors, pharmacists, and others in the medical field. Readers are introduced to cutting-edge medical technology with full-color photographs of robots actually used in hospitals and doctors’ offices today. The main content offers detailed, but understandable, information about the science of these incredible machines. Additionally, readers learn about the integration of these robots into many careers in medicine, technology, and science.","English",31.95,23.95,"629.8","48 pp.",{"$f":"Table1[[#This Row],[QTY]]*Table1[[#This Row],['# Books]]","v":0},{"$f":"Table1[[#This Row],[QTY]]*Table1[[#This Row],[S&L Price]]","v":0}]
[null,null,180,"Amazing Robots",1,"Robots in Space","Library Bound Book",null,"978-1-4824-3014-1",{"$f":"HYPERLINK(\"https://www.garethstevens.com/\"&Table1[[#This Row],[ISBN]],\"Weblink\")","v":"Weblink"},2016,"August 2015","Library","7.250 X 9.250","Author(s)","Louise Spilsbury, Richard Spilsbury",null,null,null,null,"U","1160L","Grade 4 - 5","Grade 4 - 8","NASA wouldn’t know nearly as much about the planet Mars without space probes. A special kind of robot that can fly through space, space probes have gone to the asteroid belt and even traveled near Jupiter to take pictures of it! Readers learn all about these incredible robots as well as other space technology including robotnauts, or robot astronauts! Examples of the robots used in space are shown in full-color photographs, complete with explanations of their abilities. The main content and sidebars delve into the technological and scientific side of creating robots and how important they’ve become to space exploration.","English",31.95,23.95,"629.43","48 pp.",{"$f":"Table1[[#This Row],[QTY]]*Table1[[#This Row],['# Books]]","v":0},{"$f":"Table1[[#This Row],[QTY]]*Table1[[#This Row],[S&L Price]]","v":0}]
[null,null,180,"Amazing Robots",1,"Robots in Space","eBook",null,"978-1-4824-3015-8",{"$f":"HYPERLINK(\"https://www.garethstevens.com/\"&Table1[[#This Row],[ISBN]],\"Weblink\")","v":"Weblink"},2016,"August 2015",null,null,"Author(s)","Louise Spilsbury, Richard Spilsbury",null,null,null,null,"U","1160L","Grade 4 - 5","Grade 4 - 8","NASA wouldn’t know nearly as much about the planet Mars without space probes. A special kind of robot that can fly through space, space probes have gone to the asteroid belt and even traveled near Jupiter to take pictures of it! Readers learn all about these incredible robots as well as other space technology including robotnauts, or robot astronauts! Examples of the robots used in space are shown in full-color photographs, complete with explanations of their abilities. The main content and sidebars delve into the technological and scientific side of creating robots and how important they’ve become to space exploration.","English",31.95,23.95,"629.43","48 pp.",{"$f":"Table1[[#This Row],[QTY]]*Table1[[#This Row],['# Books]]","v":0},{"$f":"Table1[[#This Row],[QTY]]*Table1[[#This Row],[S&L Price]]","v":0}]
[null,null,180,"Amazing Robots",1,"Robots in the Military","Library Bound Book",null,"978-1-4824-3018-9",{"$f":"HYPERLINK(\"https://www.garethstevens.com/\"&Table1[[#This Row],[ISBN]],\"Weblink\")","v":"Weblink"},2016,"August 2015","Library","7.250 X 9.250","Author(s)","Louise Spilsbury, Richard Spilsbury",null,null,null,null,"U","1190L","Grade 4 - 5","Grade 4 - 8","Today, robots are responsible for much of military reconnaissance. Drones fly above enemy combatants or areas of interest and collect tons of information for military leaders. That’s not all they can do! Robots find and dispose of bombs, transport troops, and shoot missiles. Readers have much to explore in the detailed main content, including specific examples of robots used by the US military and full-color photographs that give a rare close-up view of these amazing machines. From the sea to the air, robots can be found in all branches of the military, and their number will only grow as technology continues to improve.","English",31.95,23.95,"623","48 pp.",{"$f":"Table1[[#This Row],[QTY]]*Table1[[#This Row],['# Books]]","v":0},{"$f":"Table1[[#This Row],[QTY]]*Table1[[#This Row],[S&L Price]]","v":0}]
[null,null,180,"Amazing Robots",1,"Robots in the Military","eBook",null,"978-1-4824-3019-6",{"$f":"HYPERLINK(\"https://www.garethstevens.com/\"&Table1[[#This Row],[ISBN]],\"Weblink\")","v":"Weblink"},2016,"August 2015",null,null,"Author(s)","Louise Spilsbury, Richard Spilsbury",null,null,null,null,"U","1190L","Grade 4 - 5","Grade 4 - 8","Today, robots are responsible for much of military reconnaissance. Drones fly above enemy combatants or areas of interest and collect tons of information for military leaders. That’s not all they can do! Robots find and dispose of bombs, transport troops, and shoot missiles. Readers have much to explore in the detailed main content, including specific examples of robots used by the US military and full-color photographs that give a rare close-up view of these amazing machines. From the sea to the air, robots can be found in all branches of the military, and their number will only grow as technology continues to improve.","English",31.95,23.95,"623","48 pp.",{"$f":"Table1[[#This Row],[QTY]]*Table1[[#This Row],['# Books]]","v":0},{"$f":"Table1[[#This Row],[QTY]]*Table1[[#This Row],[S&L Price]]","v":0}]
[null,null,180,"Amazing Robots",1,"Robots Underwater","Library Bound Book",null,"978-1-4824-3022-6",{"$f":"HYPERLINK(\"https://www.garethstevens.com/\"&Table1[[#This Row],[ISBN]],\"Weblink\")","v":"Weblink"},2016,"August 2015","Library","7.250 X 9.250","Author(s)","Louise Spilsbury, Richard Spilsbury",null,null,null,null,"U","1190L","Grade 4 - 5","Grade 4 - 8","Without underwater robots, people never would have been able to explore the shipwreck of the Titanic as much as they have. From mapping the ocean floor to testing water quality, the jobs these robots can do are astounding. Through many examples and full-color photographs, readers dive deep with underwater robots, learning the technology behind these amazing machines and how they help people every day. Sidebars complement the main content with information about robotics engineers, environmental issues underwater, and the truly inventive science of underwater robots.","English",31.95,23.95,"623.8","48 pp.",{"$f":"Table1[[#This Row],[QTY]]*Table1[[#This Row],['# Books]]","v":0},{"$f":"Table1[[#This Row],[QTY]]*Table1[[#This Row],[S&L Price]]","v":0}]
[null,null,180,"Amazing Robots",1,"Robots Underwater","eBook",null,"978-1-4824-3023-3",{"$f":"HYPERLINK(\"https://www.garethstevens.com/\"&Table1[[#This Row],[ISBN]],\"Weblink\")","v":"Weblink"},2016,"August 2015",null,null,"Author(s)","Louise Spilsbury, Richard Spilsbury",null,null,null,null,"U","1190L","Grade 4 - 5","Grade 4 - 8","Without underwater robots, people never would have been able to explore the shipwreck of the Titanic as much as they have. From mapping the ocean floor to testing water quality, the jobs these robots can do are astounding. Through many examples and full-color photographs, readers dive deep with underwater robots, learning the technology behind these amazing machines and how they help people every day. Sidebars complement the main content with information about robotics engineers, environmental issues underwater, and the truly inventive science of underwater robots.","English",31.95,23.95,"623.8","48 pp.",{"$f":"Table1[[#This Row],[QTY]]*Table1[[#This Row],['# Books]]","v":0},{"$f":"Table1[[#This Row],[QTY]]*Table1[[#This Row],[S&L Price]]","v":0}]
[null,null,180,"Danger! Dinosaurs",1,"Dinosaur Defenders","Library Bound Book",null,"978-1-4824-3026-4",{"$f":"HYPERLINK(\"https://www.garethstevens.com/\"&Table1[[#This Row],[ISBN]],\"Weblink\")","v":"Weblink"},2016,"August 2015","Library","8.500 X 11.00","Author","Liz Miles","6.9","1",44,null,"V",null,"Grade 4 - 5","Grade 3 - 6","With vicious and violent beasts such as Tyrannosaurus rex on the loose, the odds of a peaceful herbivore surviving an encounter with a carnivorous dinosaur seem long. However, plant-eating dinosaurs had plenty of defenses to help them battle such brutes. Pachycephalosaurids had especially thick bones to head-butt their enemies. Stegosauruses had plates and spikes to deter carnivores. Other dinosaurs, such as Ankylosaurs, had tough, plated bodies, like tanks! This dinosaur-packed volume showcases remarkable details about these creatures as well as touches upon important science topics, such as adaptations and the predator/prey relationship.","English",26.6,19.95,"567.9","32 pp.",{"$f":"Table1[[#This Row],[QTY]]*Table1[[#This Row],['# Books]]","v":0},{"$f":"Table1[[#This Row],[QTY]]*Table1[[#This Row],[S&L Price]]","v":0}]
[null,null,180,"Danger! Dinosaurs",1,"Dinosaur Defenders","eBook",null,"978-1-4824-3027-1",{"$f":"HYPERLINK(\"https://www.garethstevens.com/\"&Table1[[#This Row],[ISBN]],\"Weblink\")","v":"Weblink"},2016,"August 2015",null,null,"Author","Liz Miles","6.9","1",44,null,"V",null,"Grade 4 - 5","Grade 3 - 6","With vicious and violent beasts such as Tyrannosaurus rex on the loose, the odds of a peaceful herbivore surviving an encounter with a carnivorous dinosaur seem long. However, plant-eating dinosaurs had plenty of defenses to help them battle such brutes. Pachycephalosaurids had especially thick bones to head-butt their enemies. Stegosauruses had plates and spikes to deter carnivores. Other dinosaurs, such as Ankylosaurs, had tough, plated bodies, like tanks! This dinosaur-packed volume showcases remarkable details about these creatures as well as touches upon important science topics, such as adaptations and the predator/prey relationship.","English",26.6,19.95,"567.9","32 pp.",{"$f":"Table1[[#This Row],[QTY]]*Table1[[#This Row],['# Books]]","v":0},{"$f":"Table1[[#This Row],[QTY]]*Table1[[#This Row],[S&L Price]]","v":0}]
[null,null,180,"Danger! Dinosaurs",1,"Dinosaur Record Breakers","Library Bound Book",null,"978-1-4824-3030-1",{"$f":"HYPERLINK(\"https://www.garethstevens.com/\"&Table1[[#This Row],[ISBN]],\"Weblink\")","v":"Weblink"},2016,"August 2015","Library","8.500 X 11.00","Author","Liz Miles","6.6","1",44,null,"U",null,"Grade 4 - 5","Grade 3 - 6","Sauroposeidon, the tallest dinosaur at 34 feet (10 m), had a long, thin tail that could have been used like a whip. Luckily for other animals, it was a plant eater. The biggest meat eater was the Spinosaurus, which probably had the head of a crocodile and the body of a dragon. This beguiling book combines two high-interest topics: dinosaurs and record-breaking animals. The combination means a collection of the most fascinating beasts to ever walk Earth. Compelling text and vivid illustrations help bring these reptiles to life, while graphic organizers aid readers in organizing the information they'll want to remember.","English",26.6,19.95,"567.9","32 pp.",{"$f":"Table1[[#This Row],[QTY]]*Table1[[#This Row],['# Books]]","v":0},{"$f":"Table1[[#This Row],[QTY]]*Table1[[#This Row],[S&L Price]]","v":0}]
[null,null,180,"Danger! Dinosaurs",1,"Dinosaur Record Breakers","eBook",null,"978-1-4824-3031-8",{"$f":"HYPERLINK(\"https://www.garethstevens.com/\"&Table1[[#This Row],[ISBN]],\"Weblink\")","v":"Weblink"},2016,"August 2015",null,null,"Author","Liz Miles","6.6","1",44,null,"U",null,"Grade 4 - 5","Grade 3 - 6","Sauroposeidon, the tallest dinosaur at 34 feet (10 m), had a long, thin tail that could have been used like a whip. Luckily for other animals, it was a plant eater. The biggest meat eater was the Spinosaurus, which probably had the head of a crocodile and the body of a dragon. This beguiling book combines two high-interest topics: dinosaurs and record-breaking animals. The combination means a collection of the most fascinating beasts to ever walk Earth. Compelling text and vivid illustrations help bring these reptiles to life, while graphic organizers aid readers in organizing the information they'll want to remember.","English",26.6,19.95,"567.9","32 pp.",{"$f":"Table1[[#This Row],[QTY]]*Table1[[#This Row],['# Books]]","v":0},{"$f":"Table1[[#This Row],[QTY]]*Table1[[#This Row],[S&L Price]]","v":0}]
[null,null,180,"Danger! Dinosaurs",1,"Dinosaurs and the Prehistoric World","Library Bound Book",null,"978-1-4824-3034-9",{"$f":"HYPERLINK(\"https://www.garethstevens.com/\"&Table1[[#This Row],[ISBN]],\"Weblink\")","v":"Weblink"},2016,"August 2015","Library","8.500 X 11.00","Author","Liz Miles","6.7","1",44,null,"U",null,"Grade 4 - 5","Grade 3 - 6","Our world is in a constant state of gradual change. And Earth today is very different from the place where dinosaurs once roamed. This intriguing volume covers not just the jaw-dropping dinosaurs of the Triassic, Jurassic, and Cretaceous periods, but also the strange insects, fish, mammals, and other animal life that emerged before and after. Imaginative illustrations, captivating text, and fun fact boxes introduce readers to some of the most bizarre beasts of the prehistoric era, while a timeline aids them in tracing life-forms from their most primitive to today.","English",26.6,19.95,"567.9","32 pp.",{"$f":"Table1[[#This Row],[QTY]]*Table1[[#This Row],['# Books]]","v":0},{"$f":"Table1[[#This Row],[QTY]]*Table1[[#This Row],[S&L Price]]","v":0}]
[null,null,180,"Danger! Dinosaurs",1,"Dinosaurs and the Prehistoric World","eBook",null,"978-1-4824-3035-6",{"$f":"HYPERLINK(\"https://www.garethstevens.com/\"&Table1[[#This Row],[ISBN]],\"Weblink\")","v":"Weblink"},2016,"August 2015",null,null,"Author","Liz Miles","6.7","1",44,null,"U",null,"Grade 4 - 5","Grade 3 - 6","Our world is in a constant state of gradual change. And Earth today is very different from the place where dinosaurs once roamed. This intriguing volume covers not just the jaw-dropping dinosaurs of the Triassic, Jurassic, and Cretaceous periods, but also the strange insects, fish, mammals, and other animal life that emerged before and after. Imaginative illustrations, captivating text, and fun fact boxes introduce readers to some of the most bizarre beasts of the prehistoric era, while a timeline aids them in tracing life-forms from their most primitive to today.","English",26.6,19.95,"567.9","32 pp.",{"$f":"Table1[[#This Row],[QTY]]*Table1[[#This Row],['# Books]]","v":0},{"$f":"Table1[[#This Row],[QTY]]*Table1[[#This Row],[S&L Price]]","v":0}]
[null,null,180,"Danger! Dinosaurs",1,"Flying Monsters","Library Bound Book",null,"978-1-4824-3038-7",{"$f":"HYPERLINK(\"https://www.garethstevens.com/\"&Table1[[#This Row],[ISBN]],\"Weblink\")","v":"Weblink"},2016,"August 2015","Library","8.500 X 11.00","Author","Liz Miles","6.6","1",44,null,"V",null,"Grade 4 - 5","Grade 3 - 6","Imagine outrunning a superfast dinosaur, just to be plucked from the ground by a pterosaur in flight. That's probably just what happened to many small prey in the age of the dinosaurs. Pterosaurs were all sizes, from creatures as small as songbirds to the biggest flyer ever known, Quetzalcoatlus. It had a wingspan of 36 feet (11 m)! Readers will get to know much more about various kinds of pterosaurs in this brilliantly illustrated book. A timeline, world map, sidebars, and diagrams further enhance the intriguing text.","English",26.6,19.95,"567.918","32 pp.",{"$f":"Table1[[#This Row],[QTY]]*Table1[[#This Row],['# Books]]","v":0},{"$f":"Table1[[#This Row],[QTY]]*Table1[[#This Row],[S&L Price]]","v":0}]
[null,null,180,"Danger! Dinosaurs",1,"Flying Monsters","eBook",null,"978-1-4824-3039-4",{"$f":"HYPERLINK(\"https://www.garethstevens.com/\"&Table1[[#This Row],[ISBN]],\"Weblink\")","v":"Weblink"},2016,"August 2015",null,null,"Author","Liz Miles","6.6","1",44,null,"V",null,"Grade 4 - 5","Grade 3 - 6","Imagine outrunning a superfast dinosaur, just to be plucked from the ground by a pterosaur in flight. That's probably just what happened to many small prey in the age of the dinosaurs. Pterosaurs were all sizes, from creatures as small as songbirds to the biggest flyer ever known, Quetzalcoatlus. It had a wingspan of 36 feet (11 m)! Readers will get to know much more about various kinds of pterosaurs in this brilliantly illustrated book. A timeline, world map, sidebars, and diagrams further enhance the intriguing text.","English",26.6,19.95,"567.918","32 pp.",{"$f":"Table1[[#This Row],[QTY]]*Table1[[#This Row],['# Books]]","v":0},{"$f":"Table1[[#This Row],[QTY]]*Table1[[#This Row],[S&L Price]]","v":0}]
[null,null,180,"Danger! Dinosaurs",1,"Killer Dinosaurs","Library Bound Book",null,"978-1-4824-3042-4",{"$f":"HYPERLINK(\"https://www.garethstevens.com/\"&Table1[[#This Row],[ISBN]],\"Weblink\")","v":"Weblink"},2016,"August 2015","Library","8.500 X 11.00","Author","Liz Miles","6.8","1",44,null,"U",null,"Grade 4 - 5","Grade 3 - 6","Some dinosaurs have undoubtedly earned their killer reputations. Reptilian carnivores used many different methods to catch and kill. Bone-crushing jaws, flesh-ripping teeth, and skin-slashing claws panicked prey during the age of the dinosaurs. Some carnivores hunted alone, and others worked in packs. Many were speedy, while others were wily or powerful. This mesmerizing book covers high-interest dinosaurs, such as Tyrannosaurus rex and Velociraptor, as well as future favorites, such as Utahraptor and Carnotaurus. Dinosaur lovers will discover lots to absorb in the detailed charts, labeled illustrations, and spellbinding sidebars.","English",26.6,19.95,"567.9","32 pp.",{"$f":"Table1[[#This Row],[QTY]]*Table1[[#This Row],['# Books]]","v":0},{"$f":"Table1[[#This Row],[QTY]]*Table1[[#This Row],[S&L Price]]","v":0}]
[null,null,180,"Danger! Dinosaurs",1,"Killer Dinosaurs","eBook",null,"978-1-4824-3043-1",{"$f":"HYPERLINK(\"https://www.garethstevens.com/\"&Table1[[#This Row],[ISBN]],\"Weblink\")","v":"Weblink"},2016,"August 2015",null,null,"Author","Liz Miles","6.8","1",44,null,"U",null,"Grade 4 - 5","Grade 3 - 6","Some dinosaurs have undoubtedly earned their killer reputations. Reptilian carnivores used many different methods to catch and kill. Bone-crushing jaws, flesh-ripping teeth, and skin-slashing claws panicked prey during the age of the dinosaurs. Some carnivores hunted alone, and others worked in packs. Many were speedy, while others were wily or powerful. This mesmerizing book covers high-interest dinosaurs, such as Tyrannosaurus rex and Velociraptor, as well as future favorites, such as Utahraptor and Carnotaurus. Dinosaur lovers will discover lots to absorb in the detailed charts, labeled illustrations, and spellbinding sidebars.","English",26.6,19.95,"567.9","32 pp.",{"$f":"Table1[[#This Row],[QTY]]*Table1[[#This Row],['# Books]]","v":0},{"$f":"Table1[[#This Row],[QTY]]*Table1[[#This Row],[S&L Price]]","v":0}]
[null,null,180,"Danger! Dinosaurs",1,"Sea Monsters","Library Bound Book",null,"978-1-4824-3046-2",{"$f":"HYPERLINK(\"https://www.garethstevens.com/\"&Table1[[#This Row],[ISBN]],\"Weblink\")","v":"Weblink"},2016,"August 2015","Library","8.500 X 11.00","Author","Liz Miles","6.8","1",44,null,"V",null,"Grade 4 - 5","Grade 3 - 6","While land-dwelling dinosaurs get a lot of attention, prehistoric seas were teeming with weird-looking creatures, too. Some of them were just as ferocious as any T. rex, like the Megalodon with its massive teeth and bottomless appetite. Swamps, lakes, rivers, and estuaries were also dangerous places for land animals, just ask the prey of the \"super croc,\" the Sarcosuchus. Dino fans will love diving in to this fact-filled book. Exciting text and colorful images will spark their imaginations to run wild and make them happy these creatures aren't still looking for a tasty bite!","English",26.6,19.95,"591.77","32 pp.",{"$f":"Table1[[#This Row],[QTY]]*Table1[[#This Row],['# Books]]","v":0},{"$f":"Table1[[#This Row],[QTY]]*Table1[[#This Row],[S&L Price]]","v":0}]
[null,null,180,"Danger! Dinosaurs",1,"Sea Monsters","eBook",null,"978-1-4824-3047-9",{"$f":"HYPERLINK(\"https://www.garethstevens.com/\"&Table1[[#This Row],[ISBN]],\"Weblink\")","v":"Weblink"},2016,"August 2015",null,null,"Author","Liz Miles","6.8","1",44,null,"V",null,"Grade 4 - 5","Grade 3 - 6","While land-dwelling dinosaurs get a lot of attention, prehistoric seas were teeming with weird-looking creatures, too. Some of them were just as ferocious as any T. rex, like the Megalodon with its massive teeth and bottomless appetite. Swamps, lakes, rivers, and estuaries were also dangerous places for land animals, just ask the prey of the \"super croc,\" the Sarcosuchus. Dino fans will love diving in to this fact-filled book. Exciting text and colorful images will spark their imaginations to run wild and make them happy these creatures aren't still looking for a tasty bite!","English",26.6,19.95,"591.77","32 pp.",{"$f":"Table1[[#This Row],[QTY]]*Table1[[#This Row],['# Books]]","v":0},{"$f":"Table1[[#This Row],[QTY]]*Table1[[#This Row],[S&L Price]]","v":0}]
[null,null,180,"Native American Heroes",1,"Geronimo","Library Bound Book",null,"978-1-4824-2687-8",{"$f":"HYPERLINK(\"https://www.garethstevens.com/\"&Table1[[#This Row],[ISBN]],\"Weblink\")","v":"Weblink"},2016,"August 2015","Library","7.000 X 7.000","Author","Santana Hunt","3.6","0.5",18,null,"J",null,"Grade 1 - 2","Grade 1 - 3","Geronimo earned his place in the pantheon of Native American heroes by standing up for his people, even in the face of punishment. Though he never regained his tribe’s lands from the US government, he is remembered by many Apache for his leadership and courage. Readers learn about Geronimo’s fight for Apache territory as well as his early life in the present-day American Southwest. Historical images of him and early Native American reservations enhance an important social studies topic.","English",22.6,16.95,"979","24 pp.",{"$f":"Table1[[#This Row],[QTY]]*Table1[[#This Row],['# Books]]","v":0},{"$f":"Table1[[#This Row],[QTY]]*Table1[[#This Row],[S&L Price]]","v":0}]
[null,null,180,"Native American Heroes",1,"Geronimo","eBook",null,"978-1-4824-2688-5",{"$f":"HYPERLINK(\"https://www.garethstevens.com/\"&Table1[[#This Row],[ISBN]],\"Weblink\")","v":"Weblink"},2016,"August 2015",null,null,"Author","Santana Hunt","3.6","0.5",18,null,"J",null,"Grade 1 - 2","Grade 1 - 3","Geronimo earned his place in the pantheon of Native American heroes by standing up for his people, even in the face of punishment. Though he never regained his tribe’s lands from the US government, he is remembered by many Apache for his leadership and courage. Readers learn about Geronimo’s fight for Apache territory as well as his early life in the present-day American Southwest. Historical images of him and early Native American reservations enhance an important social studies topic.","English",22.6,16.95,"979","24 pp.",{"$f":"Table1[[#This Row],[QTY]]*Table1[[#This Row],['# Books]]","v":0},{"$f":"Table1[[#This Row],[QTY]]*Table1[[#This Row],[S&L Price]]","v":0}]
[null,null,180,"Native American Heroes",1,"Osceola","Library Bound Book",null,"978-1-4824-2691-5",{"$f":"HYPERLINK(\"https://www.garethstevens.com/\"&Table1[[#This Row],[ISBN]],\"Weblink\")","v":"Weblink"},2016,"August 2015","Library","7.000 X 7.000","Author","Santana Hunt","3.3","0.5",18,null,"J",null,"Grade 1 - 2","Grade 1 - 3","Osceola may not be a name everyone knows, but his influence on the Seminole people was great. During the 1830s, the US government worked to move Native American tribes off their territory to reservations in the West. Osceola fought against the movement of his people from Florida to Oklahoma, resulting in his imprisonment. Readers learn about life as a Native American during a significant part of their history through both Osceola’s biography and the historic context. Accessible text introduces an important social studies topic, and relevant images illustrate the time period in detail.","English",22.6,16.95,"975.9004973859","24 pp.",{"$f":"Table1[[#This Row],[QTY]]*Table1[[#This Row],['# Books]]","v":0},{"$f":"Table1[[#This Row],[QTY]]*Table1[[#This Row],[S&L Price]]","v":0}]
[null,null,180,"Native American Heroes",1,"Osceola","eBook",null,"978-1-4824-2988-6",{"$f":"HYPERLINK(\"https://www.garethstevens.com/\"&Table1[[#This Row],[ISBN]],\"Weblink\")","v":"Weblink"},2016,"August 2015",null,null,"Author","Santana Hunt","3.3","0.5",18,null,"J",null,"Grade 1 - 2","Grade 1 - 3","Osceola may not be a name everyone knows, but his influence on the Seminole people was great. During the 1830s, the US government worked to move Native American tribes off their territory to reservations in the West. Osceola fought against the movement of his people from Florida to Oklahoma, resulting in his imprisonment. Readers learn about life as a Native American during a significant part of their history through both Osceola’s biography and the historic context. Accessible text introduces an important social studies topic, and relevant images illustrate the time period in detail.","English",22.6,16.95,"975.9004973859","24 pp.",{"$f":"Table1[[#This Row],[QTY]]*Table1[[#This Row],['# Books]]","v":0},{"$f":"Table1[[#This Row],[QTY]]*Table1[[#This Row],[S&L Price]]","v":0}]
[null,null,180,"Native American Heroes",1,"Red Cloud","Library Bound Book",null,"978-1-4824-2694-6",{"$f":"HYPERLINK(\"https://www.garethstevens.com/\"&Table1[[#This Row],[ISBN]],\"Weblink\")","v":"Weblink"},2016,"August 2015","Library","7.000 X 7.000","Author","Maria Nelson","3.2","0.5",18,null,"J",null,"Grade 1 - 2","Grade 1 - 3","Red Cloud did something no other Native American leader was able to: He successfully led his people against the United States in order to keep their historical lands. While the Sioux were forced off their lands less than a decade after he signed a peace treaty with the United States, Red Cloud still stood up for his people with great bravery. Readers are introduced to Red Cloud and his great leadership and historical images complement both the biographical information and the historical context surrounding Red Cloud’s life. A new perspective on westward expansion allows readers to see an often overlooked cultural viewpoint.","English",22.6,16.95,"978.004975244009","24 pp.",{"$f":"Table1[[#This Row],[QTY]]*Table1[[#This Row],['# Books]]","v":0},{"$f":"Table1[[#This Row],[QTY]]*Table1[[#This Row],[S&L Price]]","v":0}]
[null,null,180,"Native American Heroes",1,"Red Cloud","eBook",null,"978-1-4824-2695-3",{"$f":"HYPERLINK(\"https://www.garethstevens.com/\"&Table1[[#This Row],[ISBN]],\"Weblink\")","v":"Weblink"},2016,"August 2015",null,null,"Author","Maria Nelson","3.2","0.5",18,null,"J",null,"Grade 1 - 2","Grade 1 - 3","Red Cloud did something no other Native American leader was able to: He successfully led his people against the United States in order to keep their historical lands. While the Sioux were forced off their lands less than a decade after he signed a peace treaty with the United States, Red Cloud still stood up for his people with great bravery. Readers are introduced to Red Cloud and his great leadership and historical images complement both the biographical information and the historical context surrounding Red Cloud’s life. A new perspective on westward expansion allows readers to see an often overlooked cultural viewpoint.","English",22.6,16.95,"978.004975244009","24 pp.",{"$f":"Table1[[#This Row],[QTY]]*Table1[[#This Row],['# Books]]","v":0},{"$f":"Table1[[#This Row],[QTY]]*Table1[[#This Row],[S&L Price]]","v":0}]
[null,null,180,"Native American Heroes",1,"Red Jacket","Library Bound Book",null,"978-1-4824-2698-4",{"$f":"HYPERLINK(\"https://www.garethstevens.com/\"&Table1[[#This Row],[ISBN]],\"Weblink\")","v":"Weblink"},2016,"August 2015","Library","7.000 X 7.000","Author","Maria Nelson","3.4","0.5",18,null,"J",null,"Grade 1 - 2","Grade 1 - 3","Red Jacket is remembered as a great speaker who stood up for the Seneca tribe and their territory following the American Revolution. He worked with the Founding Fathers, including George Washington and John Adams, to secure a future for his people in the new United States. Readers discover a piece of Native American history through the biography of Red Jacket. The main content includes both events of his life as well as understandable historical context. Historical images also offer readers a unique perspective on the revolutionary period—that of the Native Americans who lived during that dramatic time.","English",22.6,16.95,"974.7004","24 pp.",{"$f":"Table1[[#This Row],[QTY]]*Table1[[#This Row],['# Books]]","v":0},{"$f":"Table1[[#This Row],[QTY]]*Table1[[#This Row],[S&L Price]]","v":0}]
[null,null,180,"Native American Heroes",1,"Red Jacket","eBook",null,"978-1-4824-2699-1",{"$f":"HYPERLINK(\"https://www.garethstevens.com/\"&Table1[[#This Row],[ISBN]],\"Weblink\")","v":"Weblink"},2016,"August 2015",null,null,"Author","Maria Nelson","3.4","0.5",18,null,"J",null,"Grade 1 - 2","Grade 1 - 3","Red Jacket is remembered as a great speaker who stood up for the Seneca tribe and their territory following the American Revolution. He worked with the Founding Fathers, including George Washington and John Adams, to secure a future for his people in the new United States. Readers discover a piece of Native American history through the biography of Red Jacket. The main content includes both events of his life as well as understandable historical context. Historical images also offer readers a unique perspective on the revolutionary period—that of the Native Americans who lived during that dramatic time.","English",22.6,16.95,"974.7004","24 pp.",{"$f":"Table1[[#This Row],[QTY]]*Table1[[#This Row],['# Books]]","v":0},{"$f":"Table1[[#This Row],[QTY]]*Table1[[#This Row],[S&L Price]]","v":0}]
[null,null,180,"Native American Heroes",1,"Sitting Bull","Library Bound Book",null,"978-1-4824-2702-8",{"$f":"HYPERLINK(\"https://www.garethstevens.com/\"&Table1[[#This Row],[ISBN]],\"Weblink\")","v":"Weblink"},2016,"August 2015","Library","7.000 X 7.000","Author","Walter LaPlante","3.4","0.5",18,null,"J",null,"Grade 1 - 2","Grade 1 - 3","Sitting Bull is best known for his part in the Battle of the Little Bighorn. He continually resisted the U.S. government's mandate that all Native Americans must move to reservations they set up. Sitting Bull became an important leader to his people, the Lakota, and a symbol to others who wished to resist the U.S. laws as well. With an emphasis on the Native American experience, this volume introduces readers to Sitting Bull and his cause. Important events are enhanced by historical images and collected in a timeline to aid understanding of a trying time in American history.","English",22.6,16.95,"978.004","24 pp.",{"$f":"Table1[[#This Row],[QTY]]*Table1[[#This Row],['# Books]]","v":0},{"$f":"Table1[[#This Row],[QTY]]*Table1[[#This Row],[S&L Price]]","v":0}]
[null,null,180,"Native American Heroes",1,"Sitting Bull","eBook",null,"978-1-4824-2703-5",{"$f":"HYPERLINK(\"https://www.garethstevens.com/\"&Table1[[#This Row],[ISBN]],\"Weblink\")","v":"Weblink"},2016,"August 2015",null,null,"Author","Walter LaPlante","3.4","0.5",18,null,"J",null,"Grade 1 - 2","Grade 1 - 3","Sitting Bull is best known for his part in the Battle of the Little Bighorn. He continually resisted the U.S. government's mandate that all Native Americans must move to reservations they set up. Sitting Bull became an important leader to his people, the Lakota, and a symbol to others who wished to resist the U.S. laws as well. With an emphasis on the Native American experience, this volume introduces readers to Sitting Bull and his cause. Important events are enhanced by historical images and collected in a timeline to aid understanding of a trying time in American history.","English",22.6,16.95,"978.004","24 pp.",{"$f":"Table1[[#This Row],[QTY]]*Table1[[#This Row],['# Books]]","v":0},{"$f":"Table1[[#This Row],[QTY]]*Table1[[#This Row],[S&L Price]]","v":0}]
[null,null,180,"Native American Heroes",1,"Tecumseh","Library Bound Book",null,"978-1-4824-2706-6",{"$f":"HYPERLINK(\"https://www.garethstevens.com/\"&Table1[[#This Row],[ISBN]],\"Weblink\")","v":"Weblink"},2016,"August 2015","Library","7.000 X 7.000","Author","Walter LaPlante","3.6","0.5",18,null,"J",null,"Grade 1 - 2","Grade 1 - 3","Tecumseh played a role in much of early U.S. history. He formed a confederacy of Native American tribes in the early 1800s, fought future president William Henry Harrison in the Battle of Tippecanoe, and then sided with the British in the War of 1812. The life of this great Shawnee orator and leader teaches readers about standing up for one’s beliefs as well as the Native American experience during the early 1800s. The main content includes biography and many important events of the era, both of which are also included in an end-of-book timeline.","English",22.6,16.95,"977.004973170092","24 pp.",{"$f":"Table1[[#This Row],[QTY]]*Table1[[#This Row],['# Books]]","v":0},{"$f":"Table1[[#This Row],[QTY]]*Table1[[#This Row],[S&L Price]]","v":0}]
[null,null,180,"Native American Heroes",1,"Tecumseh","eBook",null,"978-1-4824-2707-3",{"$f":"HYPERLINK(\"https://www.garethstevens.com/\"&Table1[[#This Row],[ISBN]],\"Weblink\")","v":"Weblink"},2016,"August 2015",null,null,"Author","Walter LaPlante","3.6","0.5",18,null,"J",null,"Grade 1 - 2","Grade 1 - 3","Tecumseh played a role in much of early U.S. history. He formed a confederacy of Native American tribes in the early 1800s, fought future president William Henry Harrison in the Battle of Tippecanoe, and then sided with the British in the War of 1812. The life of this great Shawnee orator and leader teaches readers about standing up for one’s beliefs as well as the Native American experience during the early 1800s. The main content includes biography and many important events of the era, both of which are also included in an end-of-book timeline.","English",22.6,16.95,"977.004973170092","24 pp.",{"$f":"Table1[[#This Row],[QTY]]*Table1[[#This Row],['# Books]]","v":0},{"$f":"Table1[[#This Row],[QTY]]*Table1[[#This Row],[S&L Price]]","v":0}]
[null,null,180,"Road Trip: National Parks",1,"Acadia National Park","Library Bound Book",null,"978-1-4824-1674-9",{"$f":"HYPERLINK(\"https://www.garethstevens.com/\"&Table1[[#This Row],[ISBN]],\"Weblink\")","v":"Weblink"},2016,"August 2015","Library","8.500 X 8.500","Author","Kathleen Connors",null,null,24,null,"L","1000L","Grade 2 - 3","Grade 2 - 5","Mount Desert Island, home to Acadia National Park, has been inhabited for more than 5,000 years and enjoyed by vacationers for more than 200! Its many plants, animals, and scenic views make the island and its famous park one of the most visited places in the United States. Colorful photographs and descriptions take readers along the historic carriage roads and to the top of Cadillac Mountain. Readers learn how the park came to be and some of the unique aspects of its geography and nature that keep visitors coming back year after year.","English",22.6,16.95,"974.1","24 pp.",{"$f":"Table1[[#This Row],[QTY]]*Table1[[#This Row],['# Books]]","v":0},{"$f":"Table1[[#This Row],[QTY]]*Table1[[#This Row],[S&L Price]]","v":0}]
[null,null,180,"Road Trip: National Parks",1,"Acadia National Park","eBook",null,"978-1-4824-1677-0",{"$f":"HYPERLINK(\"https://www.garethstevens.com/\"&Table1[[#This Row],[ISBN]],\"Weblink\")","v":"Weblink"},2016,"August 2015",null,null,"Author","Kathleen Connors",null,null,24,null,"L","1000L","Grade 2 - 3","Grade 2 - 5","Mount Desert Island, home to Acadia National Park, has been inhabited for more than 5,000 years and enjoyed by vacationers for more than 200! Its many plants, animals, and scenic views make the island and its famous park one of the most visited places in the United States. Colorful photographs and descriptions take readers along the historic carriage roads and to the top of Cadillac Mountain. Readers learn how the park came to be and some of the unique aspects of its geography and nature that keep visitors coming back year after year.","English",22.6,16.95,"974.1","24 pp.",{"$f":"Table1[[#This Row],[QTY]]*Table1[[#This Row],['# Books]]","v":0},{"$f":"Table1[[#This Row],[QTY]]*Table1[[#This Row],[S&L Price]]","v":0}]
[null,null,180,"Road Trip: National Parks",1,"Everglades National Park","Library Bound Book",null,"978-1-4824-1678-7",{"$f":"HYPERLINK(\"https://www.garethstevens.com/\"&Table1[[#This Row],[ISBN]],\"Weblink\")","v":"Weblink"},2016,"August 2015","Library","8.500 X 8.500","Author","Kathleen Connors",null,null,24,null,"L","950L","Grade 2 - 3","Grade 2 - 5","Everglades National Park was established in 1934 to protect one of the most unique ecosystems in the world. From hardwood forests to the estuarine habitat of Florida Bay, the many habitats in the park are home to about 1,000 species of plants and hundreds of animal species, some of which are endangered. Readers learn the park’s history and roots in conservation through the social studies and science content included in the main text. Colorful photographs show the park’s beauty up close, enhancing reader interest through the rare and fascinating flora and fauna of the Everglades.","English",22.6,16.95,"917.59","24 pp.",{"$f":"Table1[[#This Row],[QTY]]*Table1[[#This Row],['# Books]]","v":0},{"$f":"Table1[[#This Row],[QTY]]*Table1[[#This Row],[S&L Price]]","v":0}]
[null,null,180,"Road Trip: National Parks",1,"Everglades National Park","eBook",null,"978-1-4824-1681-7",{"$f":"HYPERLINK(\"https://www.garethstevens.com/\"&Table1[[#This Row],[ISBN]],\"Weblink\")","v":"Weblink"},2016,"August 2015",null,null,"Author","Kathleen Connors",null,null,24,null,"L","950L","Grade 2 - 3","Grade 2 - 5","Everglades National Park was established in 1934 to protect one of the most unique ecosystems in the world. From hardwood forests to the estuarine habitat of Florida Bay, the many habitats in the park are home to about 1,000 species of plants and hundreds of animal species, some of which are endangered. Readers learn the park’s history and roots in conservation through the social studies and science content included in the main text. Colorful photographs show the park’s beauty up close, enhancing reader interest through the rare and fascinating flora and fauna of the Everglades.","English",22.6,16.95,"917.59","24 pp.",{"$f":"Table1[[#This Row],[QTY]]*Table1[[#This Row],['# Books]]","v":0},{"$f":"Table1[[#This Row],[QTY]]*Table1[[#This Row],[S&L Price]]","v":0}]
[null,null,180,"Road Trip: National Parks",1,"Grand Canyon National Park","Library Bound Book",null,"978-1-4824-1682-4",{"$f":"HYPERLINK(\"https://www.garethstevens.com/\"&Table1[[#This Row],[ISBN]],\"Weblink\")","v":"Weblink"},2016,"August 2015","Library","8.500 X 8.500","Author","Santana Hunt",null,null,24,null,"L","1030L","Grade 2 - 3","Grade 2 - 5","Within Grand Canyon National Park is one of the most majestic sites in the United States; the Grand Canyon. For adventurous road trippers, this national park is the perfect place to visit. Miles of hiking trails for visitors have been built around the rim of the canyon, down its steep sides, and even across the beautiful Colorado River. Readers learn how the Grand Canyon formed and about the creation of Grand Canyon National Park around it. Through full-color photographs of the beautiful landscape, readers can experience one of the natural wonders of the world without having to be there in person.","English",22.6,16.95,"979.1--dc23","24 pp.",{"$f":"Table1[[#This Row],[QTY]]*Table1[[#This Row],['# Books]]","v":0},{"$f":"Table1[[#This Row],[QTY]]*Table1[[#This Row],[S&L Price]]","v":0}]
[null,null,180,"Road Trip: National Parks",1,"Grand Canyon National Park","eBook",null,"978-1-4824-1685-5",{"$f":"HYPERLINK(\"https://www.garethstevens.com/\"&Table1[[#This Row],[ISBN]],\"Weblink\")","v":"Weblink"},2016,"August 2015",null,null,"Author","Santana Hunt",null,null,24,null,"L","1030L","Grade 2 - 3","Grade 2 - 5","Within Grand Canyon National Park is one of the most majestic sites in the United States; the Grand Canyon. For adventurous road trippers, this national park is the perfect place to visit. Miles of hiking trails for visitors have been built around the rim of the canyon, down its steep sides, and even across the beautiful Colorado River. Readers learn how the Grand Canyon formed and about the creation of Grand Canyon National Park around it. Through full-color photographs of the beautiful landscape, readers can experience one of the natural wonders of the world without having to be there in person.","English",22.6,16.95,"979.1--dc23","24 pp.",{"$f":"Table1[[#This Row],[QTY]]*Table1[[#This Row],['# Books]]","v":0},{"$f":"Table1[[#This Row],[QTY]]*Table1[[#This Row],[S&L Price]]","v":0}]
[null,null,180,"Road Trip: National Parks",1,"Great Smoky Mountains National Park","Library Bound Book",null,"978-1-4824-1686-2",{"$f":"HYPERLINK(\"https://www.garethstevens.com/\"&Table1[[#This Row],[ISBN]],\"Weblink\")","v":"Weblink"},2016,"August 2015","Library","8.500 X 8.500","Author","Santana Hunt",null,null,24,null,"L","1020L","Grade 2 - 3","Grade 2 - 5","People have inhabited the Great Smoky Mountains for thousands of years. The area was once a part of the Cherokee Nation and later farmed and logged by white settlers. Today, a good portion of this part of the Appalachian Mountains is protected as Great Smoky Mountains National Park. Through full-color photographs, readers travel to the heights of Clingmans Dome and around the hundreds of miles of hiking trails that wind through the park. An introduction to the history of the park is accompanied by information about the wildlife, plant life, and attractions found in the park today.","English",22.6,16.95,"976.8","24 pp.",{"$f":"Table1[[#This Row],[QTY]]*Table1[[#This Row],['# Books]]","v":0},{"$f":"Table1[[#This Row],[QTY]]*Table1[[#This Row],[S&L Price]]","v":0}]
[null,null,180,"Road Trip: National Parks",1,"Great Smoky Mountains National Park","eBook",null,"978-1-4824-1689-3",{"$f":"HYPERLINK(\"https://www.garethstevens.com/\"&Table1[[#This Row],[ISBN]],\"Weblink\")","v":"Weblink"},2016,"August 2015",null,null,"Author","Santana Hunt",null,null,24,null,"L","1020L","Grade 2 - 3","Grade 2 - 5","People have inhabited the Great Smoky Mountains for thousands of years. The area was once a part of the Cherokee Nation and later farmed and logged by white settlers. Today, a good portion of this part of the Appalachian Mountains is protected as Great Smoky Mountains National Park. Through full-color photographs, readers travel to the heights of Clingmans Dome and around the hundreds of miles of hiking trails that wind through the park. An introduction to the history of the park is accompanied by information about the wildlife, plant life, and attractions found in the park today.","English",22.6,16.95,"976.8","24 pp.",{"$f":"Table1[[#This Row],[QTY]]*Table1[[#This Row],['# Books]]","v":0},{"$f":"Table1[[#This Row],[QTY]]*Table1[[#This Row],[S&L Price]]","v":0}]
[null,null,180,"Road Trip: National Parks",1,"Yellowstone National Park","Library Bound Book",null,"978-1-4824-1690-9",{"$f":"HYPERLINK(\"https://www.garethstevens.com/\"&Table1[[#This Row],[ISBN]],\"Weblink\")","v":"Weblink"},2016,"August 2015","Library","8.500 X 8.500","Author","Frances Nagle",null,null,24,null,"L","950L","Grade 2 - 3","Grade 2 - 5","Yellowstone National Park is considered the first national park in the world! Created in 1872, the park encompasses many types of habitats but is best known for its Old Faithful Geyser. Readers join the more than 3 million yearly park visitors in discovering the beauty of Yellowstone National Park. Including important aspects of the social studies curriculum such as geography and conservation, this volume also introduces readers to the plants, wildlife, and attractions of this famous park. Enthralled by the full-color photographs of this lovely landscape, readers will certainly hope their next road trip heads to Yellowstone!","English",22.6,16.95,"979.4","24 pp.",{"$f":"Table1[[#This Row],[QTY]]*Table1[[#This Row],['# Books]]","v":0},{"$f":"Table1[[#This Row],[QTY]]*Table1[[#This Row],[S&L Price]]","v":0}]
[null,null,180,"Road Trip: National Parks",1,"Yellowstone National Park","eBook",null,"978-1-4824-1693-0",{"$f":"HYPERLINK(\"https://www.garethstevens.com/\"&Table1[[#This Row],[ISBN]],\"Weblink\")","v":"Weblink"},2016,"August 2015",null,null,"Author","Frances Nagle",null,null,24,null,"L","950L","Grade 2 - 3","Grade 2 - 5","Yellowstone National Park is considered the first national park in the world! Created in 1872, the park encompasses many types of habitats but is best known for its Old Faithful Geyser. Readers join the more than 3 million yearly park visitors in discovering the beauty of Yellowstone National Park. Including important aspects of the social studies curriculum such as geography and conservation, this volume also introduces readers to the plants, wildlife, and attractions of this famous park. Enthralled by the full-color photographs of this lovely landscape, readers will certainly hope their next road trip heads to Yellowstone!","English",22.6,16.95,"979.4","24 pp.",{"$f":"Table1[[#This Row],[QTY]]*Table1[[#This Row],['# Books]]","v":0},{"$f":"Table1[[#This Row],[QTY]]*Table1[[#This Row],[S&L Price]]","v":0}]
[null,null,180,"Road Trip: National Parks",1,"Yosemite National Park","Library Bound Book",null,"978-1-4824-1694-7",{"$f":"HYPERLINK(\"https://www.garethstevens.com/\"&Table1[[#This Row],[ISBN]],\"Weblink\")","v":"Weblink"},2016,"August 2015","Library","8.500 X 8.500","Author","Frances Nagle",null,null,24,null,"L","980L","Grade 2 - 3","Grade 2 - 5","Waterfalls, giant sequoias, and majestic granite cliffs bring millions of people to Yosemite National Park each year. Found in eastern California, Yosemite is partly made up of the western Sierra Nevada mountains and has a variety of woodland and alpine habitats. With hundreds of miles of hiking trails and amazing natural views, Yosemite National Park is easy to show off in the full-color photographs in this volume. Readers learn how the park came to be as well as the climbing spots, wildlife viewing, and other activities that make Yosemite a great road trip stop.","English",22.6,16.95,"979.4","24 pp.",{"$f":"Table1[[#This Row],[QTY]]*Table1[[#This Row],['# Books]]","v":0},{"$f":"Table1[[#This Row],[QTY]]*Table1[[#This Row],[S&L Price]]","v":0}]
[null,null,180,"Road Trip: National Parks",1,"Yosemite National Park","eBook",null,"978-1-4824-1697-8",{"$f":"HYPERLINK(\"https://www.garethstevens.com/\"&Table1[[#This Row],[ISBN]],\"Weblink\")","v":"Weblink"},2016,"August 2015",null,null,"Author","Frances Nagle",null,null,24,null,"L","980L","Grade 2 - 3","Grade 2 - 5","Waterfalls, giant sequoias, and majestic granite cliffs bring millions of people to Yosemite National Park each year. Found in eastern California, Yosemite is partly made up of the western Sierra Nevada mountains and has a variety of woodland and alpine habitats. With hundreds of miles of hiking trails and amazing natural views, Yosemite National Park is easy to show off in the full-color photographs in this volume. Readers learn how the park came to be as well as the climbing spots, wildlife viewing, and other activities that make Yosemite a great road trip stop.","English",22.6,16.95,"979.4","24 pp.",{"$f":"Table1[[#This Row],[QTY]]*Table1[[#This Row],['# Books]]","v":0},{"$f":"Table1[[#This Row],[QTY]]*Table1[[#This Row],[S&L Price]]","v":0}]
[null,null,180,"Who's Your Candidate? Choosing Government Leaders",1,"Becoming a House Representative","Library Bound Book",null,"978-1-4824-4037-9",{"$f":"HYPERLINK(\"https://www.garethstevens.com/\"&Table1[[#This Row],[ISBN]],\"Weblink\")","v":"Weblink"},2016,"January 2016","Library","8.500 X 11.00","Author","Maria Nelson","6","0.5",null,null,"Q",null,"Grade 3 - 4","Grade 3 - 6","The House of Representatives is the voice of the American people, just like the student council speaks for the student body or class. Being part of student council or taking another leadership role in school can be a great experience for students. But the road to election can seem like a long one—and even longer for those who aspire to a political career! With main content including the setup of the House, who is eligible, and how one is elected, this book uniquely relates House candidates’ experiences to readers working for student leadership positions.","English",26.6,19.95,"328.73'072--dc23","32 pp.",{"$f":"Table1[[#This Row],[QTY]]*Table1[[#This Row],['# Books]]","v":0},{"$f":"Table1[[#This Row],[QTY]]*Table1[[#This Row],[S&L Price]]","v":0}]
[null,null,180,"Who's Your Candidate? Choosing Government Leaders",1,"Becoming a House Representative","eBook",null,"978-1-4824-4038-6",{"$f":"HYPERLINK(\"https://www.garethstevens.com/\"&Table1[[#This Row],[ISBN]],\"Weblink\")","v":"Weblink"},2016,"January 2016",null,null,"Author","Maria Nelson","6","0.5",null,null,"Q",null,"Grade 3 - 4","Grade 3 - 6","The House of Representatives is the voice of the American people, just like the student council speaks for the student body or class. Being part of student council or taking another leadership role in school can be a great experience for students. But the road to election can seem like a long one—and even longer for those who aspire to a political career! With main content including the setup of the House, who is eligible, and how one is elected, this book uniquely relates House candidates’ experiences to readers working for student leadership positions.","English",26.6,19.95,"328.73'072--dc23","32 pp.",{"$f":"Table1[[#This Row],[QTY]]*Table1[[#This Row],['# Books]]","v":0},{"$f":"Table1[[#This Row],[QTY]]*Table1[[#This Row],[S&L Price]]","v":0}]
[null,null,180,"Who's Your Candidate? Choosing Government Leaders",1,"Becoming a Senator","Library Bound Book",null,"978-1-4824-4045-4",{"$f":"HYPERLINK(\"https://www.garethstevens.com/\"&Table1[[#This Row],[ISBN]],\"Weblink\")","v":"Weblink"},2016,"January 2016","Library","8.500 X 11.00","Author","Maria Nelson","6","0.5",null,null,"Q",null,"Grade 3 - 4","Grade 3 - 6","Called the Higher House of Congress, the US Senate is structured so that older, wiser state representatives hold office in it. The Founding Fathers wanted one part of Congress to have longer terms to take on bigger responsibilities and see them through. Similarly, students running for a leadership position in a school-wide organization need to have experience and vision. Readers explore the process of becoming a senator through the unique lens of wanting to obtain leadership themselves. Clear tie-ins to readers’ campaigns engage them with the main content, including integral parts of the social studies curriculum.","English",26.6,19.95,"328.73--dc23","32 pp.",{"$f":"Table1[[#This Row],[QTY]]*Table1[[#This Row],['# Books]]","v":0},{"$f":"Table1[[#This Row],[QTY]]*Table1[[#This Row],[S&L Price]]","v":0}]
[null,null,180,"Who's Your Candidate? Choosing Government Leaders",1,"Becoming a Senator","eBook",null,"978-1-4824-4046-1",{"$f":"HYPERLINK(\"https://www.garethstevens.com/\"&Table1[[#This Row],[ISBN]],\"Weblink\")","v":"Weblink"},2016,"January 2016",null,null,"Author","Maria Nelson","6","0.5",null,null,"Q",null,"Grade 3 - 4","Grade 3 - 6","Called the Higher House of Congress, the US Senate is structured so that older, wiser state representatives hold office in it. The Founding Fathers wanted one part of Congress to have longer terms to take on bigger responsibilities and see them through. Similarly, students running for a leadership position in a school-wide organization need to have experience and vision. Readers explore the process of becoming a senator through the unique lens of wanting to obtain leadership themselves. Clear tie-ins to readers’ campaigns engage them with the main content, including integral parts of the social studies curriculum.","English",26.6,19.95,"328.73--dc23","32 pp.",{"$f":"Table1[[#This Row],[QTY]]*Table1[[#This Row],['# Books]]","v":0},{"$f":"Table1[[#This Row],[QTY]]*Table1[[#This Row],[S&L Price]]","v":0}]
[null,null,180,"Who's Your Candidate? Choosing Government Leaders",1,"Becoming a State Governor","Library Bound Book",null,"978-1-4824-4049-2",{"$f":"HYPERLINK(\"https://www.garethstevens.com/\"&Table1[[#This Row],[ISBN]],\"Weblink\")","v":"Weblink"},2016,"January 2016","Library","8.500 X 11.00","Author","Emily Mahoney","6.3","0.5",null,null,"Q",null,"Grade 3 - 4","Grade 3 - 6","A state governor is the leader of all the people of a state, just like a leader of an organization speaks for its people. Being a leader in a school or community organization is a great experience, but it takes a lot of work. The road to becoming a politician can seem complicated, especially when you think about being elected. With content that explores the role of the state governor, who is eligible, and how one is elected, this book uniquely relates state governors’ experiences to readers working for student leadership positions.","English",26.6,19.95,"352.23'21302373--dc23","32 pp.",{"$f":"Table1[[#This Row],[QTY]]*Table1[[#This Row],['# Books]]","v":0},{"$f":"Table1[[#This Row],[QTY]]*Table1[[#This Row],[S&L Price]]","v":0}]
[null,null,180,"Who's Your Candidate? Choosing Government Leaders",1,"Becoming a State Governor","eBook",null,"978-1-4824-4050-8",{"$f":"HYPERLINK(\"https://www.garethstevens.com/\"&Table1[[#This Row],[ISBN]],\"Weblink\")","v":"Weblink"},2016,"January 2016",null,null,"Author","Emily Mahoney","6.3","0.5",null,null,"Q",null,"Grade 3 - 4","Grade 3 - 6","A state governor is the leader of all the people of a state, just like a leader of an organization speaks for its people. Being a leader in a school or community organization is a great experience, but it takes a lot of work. The road to becoming a politician can seem complicated, especially when you think about being elected. With content that explores the role of the state governor, who is eligible, and how one is elected, this book uniquely relates state governors’ experiences to readers working for student leadership positions.","English",26.6,19.95,"352.23'21302373--dc23","32 pp.",{"$f":"Table1[[#This Row],[QTY]]*Table1[[#This Row],['# Books]]","v":0},{"$f":"Table1[[#This Row],[QTY]]*Table1[[#This Row],[S&L Price]]","v":0}]
[null,null,180,"Who's Your Candidate? Choosing Government Leaders",1,"Becoming a Supreme Court Justice","Library Bound Book",null,"978-1-4824-4053-9",{"$f":"HYPERLINK(\"https://www.garethstevens.com/\"&Table1[[#This Row],[ISBN]],\"Weblink\")","v":"Weblink"},2016,"January 2016","Library","8.500 X 11.00","Author","Barbara M. Linde","5.4","0.5",null,null,"R",null,"Grade 3 - 4","Grade 3 - 6","A Supreme Court justice’s first job is upholding the US Constitution. The path to becoming an esteemed justice is long and the process for appointment can be very controversial. In addition to an introduction to this important branch of the US government, the main content and complementary sidebars relate becoming a justice to positions of student leadership readers themselves may hold. Positions on student courts and disciplinary committees can be difficult but valuable experiences, and this book aids readers as they navigate them.","English",26.6,19.95,"347.73'2634--dc23","32 pp.",{"$f":"Table1[[#This Row],[QTY]]*Table1[[#This Row],['# Books]]","v":0},{"$f":"Table1[[#This Row],[QTY]]*Table1[[#This Row],[S&L Price]]","v":0}]
[null,null,180,"Who's Your Candidate? Choosing Government Leaders",1,"Becoming a Supreme Court Justice","eBook",null,"978-1-4824-4054-6",{"$f":"HYPERLINK(\"https://www.garethstevens.com/\"&Table1[[#This Row],[ISBN]],\"Weblink\")","v":"Weblink"},2016,"January 2016",null,null,"Author","Barbara M. Linde","5.4","0.5",null,null,"R",null,"Grade 3 - 4","Grade 3 - 6","A Supreme Court justice’s first job is upholding the US Constitution. The path to becoming an esteemed justice is long and the process for appointment can be very controversial. In addition to an introduction to this important branch of the US government, the main content and complementary sidebars relate becoming a justice to positions of student leadership readers themselves may hold. Positions on student courts and disciplinary committees can be difficult but valuable experiences, and this book aids readers as they navigate them.","English",26.6,19.95,"347.73'2634--dc23","32 pp.",{"$f":"Table1[[#This Row],[QTY]]*Table1[[#This Row],['# Books]]","v":0},{"$f":"Table1[[#This Row],[QTY]]*Table1[[#This Row],[S&L Price]]","v":0}]
[null,null,180,"Who's Your Candidate? Choosing Government Leaders",1,"Becoming President","Library Bound Book",null,"978-1-4824-4041-6",{"$f":"HYPERLINK(\"https://www.garethstevens.com/\"&Table1[[#This Row],[ISBN]],\"Weblink\")","v":"Weblink"},2016,"January 2016","Library","8.500 X 11.00","Author","Michael Rajczak","5.9","0.5",null,null,"R",null,"Grade 3 - 4","Grade 3 - 6","Becoming one of the most powerful leaders in the world is enticing, but the path to U.S. president is a difficult one. The campaign may be years long, and financing is complicated. While running for student council president or other major student leadership position may not cost as much, preparation for the job can also be daunting. This book not only introduces readers to the process of becoming the American president, but also guides them through their own campaign. The main content relates the electoral process to readers' lives whenever possible, including sidebars written for ambitious students eager to lead.","English",26.6,19.95,"324.973--dc23","32 pp.",{"$f":"Table1[[#This Row],[QTY]]*Table1[[#This Row],['# Books]]","v":0},{"$f":"Table1[[#This Row],[QTY]]*Table1[[#This Row],[S&L Price]]","v":0}]
[null,null,180,"Who's Your Candidate? Choosing Government Leaders",1,"Becoming President","eBook",null,"978-1-4824-4042-3",{"$f":"HYPERLINK(\"https://www.garethstevens.com/\"&Table1[[#This Row],[ISBN]],\"Weblink\")","v":"Weblink"},2016,"January 2016",null,null,"Author","Michael Rajczak","5.9","0.5",null,null,"R",null,"Grade 3 - 4","Grade 3 - 6","Becoming one of the most powerful leaders in the world is enticing, but the path to U.S. president is a difficult one. The campaign may be years long, and financing is complicated. While running for student council president or other major student leadership position may not cost as much, preparation for the job can also be daunting. This book not only introduces readers to the process of becoming the American president, but also guides them through their own campaign. The main content relates the electoral process to readers' lives whenever possible, including sidebars written for ambitious students eager to lead.","English",26.6,19.95,"324.973--dc23","32 pp.",{"$f":"Table1[[#This Row],[QTY]]*Table1[[#This Row],['# Books]]","v":0},{"$f":"Table1[[#This Row],[QTY]]*Table1[[#This Row],[S&L Price]]","v":0}]
[null,null,180,"Who's Your Candidate? Choosing Government Leaders",1,"Becoming Vice President","Library Bound Book",null,"978-1-4824-4057-7",{"$f":"HYPERLINK(\"https://www.garethstevens.com/\"&Table1[[#This Row],[ISBN]],\"Weblink\")","v":"Weblink"},2016,"January 2016","Library","8.500 X 11.00","Author","Maria Nelson","6.1","0.5",null,null,"R",null,"Grade 3 - 4","Grade 3 - 6","When in a position of leadership, there’s almost nothing more valuable than a person who always supports and challenges you. The vice president of an organization, much like the vice president of the United States, aids the president in any way they can, including stepping up to the top role if the president can no longer hold it. Readers learn about how one becomes US vice president and the duties of this sometimes-overlooked position. In addition, specially designated sidebars and content relate this federal process to student elections and organizations to aid readers in pursuing their leadership ambitions.","English",26.6,19.95,"352.23'90973--dc23","32 pp.",{"$f":"Table1[[#This Row],[QTY]]*Table1[[#This Row],['# Books]]","v":0},{"$f":"Table1[[#This Row],[QTY]]*Table1[[#This Row],[S&L Price]]","v":0}]
[null,null,180,"Who's Your Candidate? Choosing Government Leaders",1,"Becoming Vice President","eBook",null,"978-1-4824-4058-4",{"$f":"HYPERLINK(\"https://www.garethstevens.com/\"&Table1[[#This Row],[ISBN]],\"Weblink\")","v":"Weblink"},2016,"January 2016",null,null,"Author","Maria Nelson","6.1","0.5",null,null,"R",null,"Grade 3 - 4","Grade 3 - 6","When in a position of leadership, there’s almost nothing more valuable than a person who always supports and challenges you. The vice president of an organization, much like the vice president of the United States, aids the president in any way they can, including stepping up to the top role if the president can no longer hold it. Readers learn about how one becomes US vice president and the duties of this sometimes-overlooked position. In addition, specially designated sidebars and content relate this federal process to student elections and organizations to aid readers in pursuing their leadership ambitions.","English",26.6,19.95,"352.23'90973--dc23","32 pp.",{"$f":"Table1[[#This Row],[QTY]]*Table1[[#This Row],['# Books]]","v":0},{"$f":"Table1[[#This Row],[QTY]]*Table1[[#This Row],[S&L Price]]","v":0}]
[null,null,180,"Doomed!",1,"Plague: The Black Death","Library Bound Book",null,"978-1-4824-2942-8",{"$f":"HYPERLINK(\"https://www.garethstevens.com/\"&Table1[[#This Row],[ISBN]],\"Weblink\")","v":"Weblink"},2016,"August 2015","Library","6.500 X 9.125","Author","Janey Levy","6.8","1",44,null,"T","1010L","Grade 4 - 5","Grade 4 - 6","The plague, aptly known as the Black Death, swept through Europe in the 1300s, killing more than 20 million people. Not only deadly but incredibly painful, the disease was characterized by black boils all over the body that oozed blood and pus. While providing more details about the plague, this book, an asset to any social studies collection, also addresses where the lethal outbreak originated and whether it could return. Aided by striking illustrations, sidebars, and fact boxes, readers will discover the conditions in the Middle Ages that made it possible for such an appalling disease to spread so easily.","English",26.6,19.95,"614.5'732094--dc23","32 pp.",{"$f":"Table1[[#This Row],[QTY]]*Table1[[#This Row],['# Books]]","v":0},{"$f":"Table1[[#This Row],[QTY]]*Table1[[#This Row],[S&L Price]]","v":0}]
[null,null,180,"Doomed!",1,"Plague: The Black Death","eBook",null,"978-1-4824-2943-5",{"$f":"HYPERLINK(\"https://www.garethstevens.com/\"&Table1[[#This Row],[ISBN]],\"Weblink\")","v":"Weblink"},2016,"August 2015",null,null,"Author","Janey Levy","6.8","1",44,null,"T","1010L","Grade 4 - 5","Grade 4 - 6","The plague, aptly known as the Black Death, swept through Europe in the 1300s, killing more than 20 million people. Not only deadly but incredibly painful, the disease was characterized by black boils all over the body that oozed blood and pus. While providing more details about the plague, this book, an asset to any social studies collection, also addresses where the lethal outbreak originated and whether it could return. Aided by striking illustrations, sidebars, and fact boxes, readers will discover the conditions in the Middle Ages that made it possible for such an appalling disease to spread so easily.","English",26.6,19.95,"614.5'732094--dc23","32 pp.",{"$f":"Table1[[#This Row],[QTY]]*Table1[[#This Row],['# Books]]","v":0},{"$f":"Table1[[#This Row],[QTY]]*Table1[[#This Row],[S&L Price]]","v":0}]
[null,null,180,"Doomed!",1,"The City of Pompeii","Library Bound Book",null,"978-1-4824-2926-8",{"$f":"HYPERLINK(\"https://www.garethstevens.com/\"&Table1[[#This Row],[ISBN]],\"Weblink\")","v":"Weblink"},2016,"August 2015","Library","6.500 X 9.125","Author","Janey Levy","6.5","1",44,null,"T","1040L","Grade 4 - 5","Grade 4 - 6","In AD 79, the residents of the booming Roman city of Pompeii were shocked when a nearby mountain exploded, releasing superhot ash, rock, and gas on the surrounding areas. What happens next is the extraordinary account of a volcano in action. Though the people who didn't flee Pompeii were doomed, the volcano preserved their remains, allowing us to better understand a fascinating time in the Roman Empire. Astonishing photographs of Pompeii, primary source records of the occurrence, and riveting text are just some highlights of this high-interest volume.","English",26.6,19.95,"937","32 pp.",{"$f":"Table1[[#This Row],[QTY]]*Table1[[#This Row],['# Books]]","v":0},{"$f":"Table1[[#This Row],[QTY]]*Table1[[#This Row],[S&L Price]]","v":0}]
[null,null,180,"Doomed!",1,"The City of Pompeii","eBook",null,"978-1-4824-2927-5",{"$f":"HYPERLINK(\"https://www.garethstevens.com/\"&Table1[[#This Row],[ISBN]],\"Weblink\")","v":"Weblink"},2016,"August 2015",null,null,"Author","Janey Levy","6.5","1",44,null,"T","1040L","Grade 4 - 5","Grade 4 - 6","In AD 79, the residents of the booming Roman city of Pompeii were shocked when a nearby mountain exploded, releasing superhot ash, rock, and gas on the surrounding areas. What happens next is the extraordinary account of a volcano in action. Though the people who didn't flee Pompeii were doomed, the volcano preserved their remains, allowing us to better understand a fascinating time in the Roman Empire. Astonishing photographs of Pompeii, primary source records of the occurrence, and riveting text are just some highlights of this high-interest volume.","English",26.6,19.95,"937","32 pp.",{"$f":"Table1[[#This Row],[QTY]]*Table1[[#This Row],['# Books]]","v":0},{"$f":"Table1[[#This Row],[QTY]]*Table1[[#This Row],[S&L Price]]","v":0}]
[null,null,180,"Doomed!",1,"The Donner Party","Library Bound Book",null,"978-1-4824-2930-5",{"$f":"HYPERLINK(\"https://www.garethstevens.com/\"&Table1[[#This Row],[ISBN]],\"Weblink\")","v":"Weblink"},2016,"August 2015","Library","6.500 X 9.125","Author","Kristen Rajczak Nelson","6","1",44,null,"T","980L","Grade 4 - 5","Grade 4 - 6","In 1846, travelers heading for California became trapped high in the mountains of the Sierra Nevada. Snowdrifts surrounded their shelters, and food supplies dwindled. How they stayed alive remains one of the most gruesome stories in US history. However, some facts that have come to light recently through archaeological digs will surprise even those who think they know the story. This gripping book, including maps and images of the era, tells the true account of the doomed Donner party.","English",26.6,19.95,"978","32 pp.",{"$f":"Table1[[#This Row],[QTY]]*Table1[[#This Row],['# Books]]","v":0},{"$f":"Table1[[#This Row],[QTY]]*Table1[[#This Row],[S&L Price]]","v":0}]
[null,null,180,"Doomed!",1,"The Donner Party","eBook",null,"978-1-4824-2931-2",{"$f":"HYPERLINK(\"https://www.garethstevens.com/\"&Table1[[#This Row],[ISBN]],\"Weblink\")","v":"Weblink"},2016,"August 2015",null,null,"Author","Kristen Rajczak Nelson","6","1",44,null,"T","980L","Grade 4 - 5","Grade 4 - 6","In 1846, travelers heading for California became trapped high in the mountains of the Sierra Nevada. Snowdrifts surrounded their shelters, and food supplies dwindled. How they stayed alive remains one of the most gruesome stories in US history. However, some facts that have come to light recently through archaeological digs will surprise even those who think they know the story. This gripping book, including maps and images of the era, tells the true account of the doomed Donner party.","English",26.6,19.95,"978","32 pp.",{"$f":"Table1[[#This Row],[QTY]]*Table1[[#This Row],['# Books]]","v":0},{"$f":"Table1[[#This Row],[QTY]]*Table1[[#This Row],[S&L Price]]","v":0}]
[null,null,180,"Doomed!",1,"The Great Fire of London","Library Bound Book",null,"978-1-4824-2934-3",{"$f":"HYPERLINK(\"https://www.garethstevens.com/\"&Table1[[#This Row],[ISBN]],\"Weblink\")","v":"Weblink"},2016,"August 2015","Library","6.500 X 9.125","Author","Sarah Machajewski","5.8","1",40,null,"S","930L","Grade 4 - 5","Grade 4 - 6","In September 1666, a small fire broke out at the king's bakery in London, England, in the early morning. Several fateful factors worked together to turn this small blaze into a catastrophic conflagration that changed the city forever. This riveting account of a city set ablaze is supported by primary sources such as maps, diaries, and royal proclamations. Readers will be fascinated by old-fashioned firefighting techniques and people's reactions as the fire spread and burned for days. Images of London on fire will ignite their imaginations and further enable them to understand this era and setting in European history.","English",26.6,19.95,"942.1","32 pp.",{"$f":"Table1[[#This Row],[QTY]]*Table1[[#This Row],['# Books]]","v":0},{"$f":"Table1[[#This Row],[QTY]]*Table1[[#This Row],[S&L Price]]","v":0}]
[null,null,180,"Doomed!",1,"The Great Fire of London","eBook",null,"978-1-4824-2935-0",{"$f":"HYPERLINK(\"https://www.garethstevens.com/\"&Table1[[#This Row],[ISBN]],\"Weblink\")","v":"Weblink"},2016,"August 2015",null,null,"Author","Sarah Machajewski","5.8","1",40,null,"S","930L","Grade 4 - 5","Grade 4 - 6","In September 1666, a small fire broke out at the king's bakery in London, England, in the early morning. Several fateful factors worked together to turn this small blaze into a catastrophic conflagration that changed the city forever. This riveting account of a city set ablaze is supported by primary sources such as maps, diaries, and royal proclamations. Readers will be fascinated by old-fashioned firefighting techniques and people's reactions as the fire spread and burned for days. Images of London on fire will ignite their imaginations and further enable them to understand this era and setting in European history.","English",26.6,19.95,"942.1","32 pp.",{"$f":"Table1[[#This Row],[QTY]]*Table1[[#This Row],['# Books]]","v":0},{"$f":"Table1[[#This Row],[QTY]]*Table1[[#This Row],[S&L Price]]","v":0}]
[null,null,180,"Doomed!",1,"The Hindenburg Disaster","Library Bound Book",null,"978-1-4824-2938-1",{"$f":"HYPERLINK(\"https://www.garethstevens.com/\"&Table1[[#This Row],[ISBN]],\"Weblink\")","v":"Weblink"},2016,"August 2015","Library","6.500 X 9.125","Author","Ryan Nagelhout","6.6","1",40,null,"S","1080L","Grade 4 - 5","Grade 4 - 6","The Hindenburg, the largest airship ever built and the pride of Nazi Germany, burst into flames over Lakehurst, New Jersey, in 1937. It swiftly fell from the sky and was incinerated. This incident is remembered as the most infamous airship accident, killing 36 people and sinking the dirigible transportation industry. Fascinated readers will explore why and how this giant hydrogen-filled ship was made and the reasons it may have been doomed to fail. They'll also learn conspiracy theories and surprising facts about the circumstances of the terrible disaster. Authentic photographs and thoughtful sidebars add to the historical content. \r\t\r","English",26.6,19.95,"363.12","32 pp.",{"$f":"Table1[[#This Row],[QTY]]*Table1[[#This Row],['# Books]]","v":0},{"$f":"Table1[[#This Row],[QTY]]*Table1[[#This Row],[S&L Price]]","v":0}]
[null,null,180,"Doomed!",1,"The Hindenburg Disaster","eBook",null,"978-1-4824-2939-8",{"$f":"HYPERLINK(\"https://www.garethstevens.com/\"&Table1[[#This Row],[ISBN]],\"Weblink\")","v":"Weblink"},2016,"August 2015",null,null,"Author","Ryan Nagelhout","6.6","1",40,null,"S","1080L","Grade 4 - 5","Grade 4 - 6","The Hindenburg, the largest airship ever built and the pride of Nazi Germany, burst into flames over Lakehurst, New Jersey, in 1937. It swiftly fell from the sky and was incinerated. This incident is remembered as the most infamous airship accident, killing 36 people and sinking the dirigible transportation industry. Fascinated readers will explore why and how this giant hydrogen-filled ship was made and the reasons it may have been doomed to fail. They'll also learn conspiracy theories and surprising facts about the circumstances of the terrible disaster. Authentic photographs and thoughtful sidebars add to the historical content. \r\t\r","English",26.6,19.95,"363.12","32 pp.",{"$f":"Table1[[#This Row],[QTY]]*Table1[[#This Row],['# Books]]","v":0},{"$f":"Table1[[#This Row],[QTY]]*Table1[[#This Row],[S&L Price]]","v":0}]
[null,null,180,"Doomed!",1,"The Sinking of the Titanic","Library Bound Book",null,"978-1-4824-2946-6",{"$f":"HYPERLINK(\"https://www.garethstevens.com/\"&Table1[[#This Row],[ISBN]],\"Weblink\")","v":"Weblink"},2016,"August 2015","Library","6.500 X 9.125","Author","Therese M. Shea","6","1",40,null,"S","910L","Grade 4 - 5","Grade 4 - 6","The unsinkable luxury liner known as the Titanic may have sunk on its first transatlantic voyage in 1912, but people remain riveted to its storied legend. The collision with the iceberg in the North Atlantic was not the only mistake that was made that day. In this spellbinding volume, readers will learn about the passengers and crew aboard the doomed ship and what really happened that tragic night. Historical photographs will transport them back to the glamorous era, while the narrative paints an absorbing picture of the Titanic's sad fate.","English",26.6,19.95,"910.9163","32 pp.",{"$f":"Table1[[#This Row],[QTY]]*Table1[[#This Row],['# Books]]","v":0},{"$f":"Table1[[#This Row],[QTY]]*Table1[[#This Row],[S&L Price]]","v":0}]
[null,null,180,"Doomed!",1,"The Sinking of the Titanic","eBook",null,"978-1-4824-2947-3",{"$f":"HYPERLINK(\"https://www.garethstevens.com/\"&Table1[[#This Row],[ISBN]],\"Weblink\")","v":"Weblink"},2016,"August 2015",null,null,"Author","Therese M. Shea","6","1",40,null,"S","910L","Grade 4 - 5","Grade 4 - 6","The unsinkable luxury liner known as the Titanic may have sunk on its first transatlantic voyage in 1912, but people remain riveted to its storied legend. The collision with the iceberg in the North Atlantic was not the only mistake that was made that day. In this spellbinding volume, readers will learn about the passengers and crew aboard the doomed ship and what really happened that tragic night. Historical photographs will transport them back to the glamorous era, while the narrative paints an absorbing picture of the Titanic's sad fate.","English",26.6,19.95,"910.9163","32 pp.",{"$f":"Table1[[#This Row],[QTY]]*Table1[[#This Row],['# Books]]","v":0},{"$f":"Table1[[#This Row],[QTY]]*Table1[[#This Row],[S&L Price]]","v":0}]
[null,null,180,"Awfully Ancient",1,"Banished, Beheaded, or Boiled in Oil: A Hair-Raising History of Crime and Punishment Throughout the Ages!","Library Bound Book",null,"978-1-4824-3122-3",{"$f":"HYPERLINK(\"https://www.garethstevens.com/\"&Table1[[#This Row],[ISBN]],\"Weblink\")","v":"Weblink"},2016,"August 2015","Library","8.500 X 11.00","Author","Neil Tonge","6.5","1",null,null,"U","980L","Grade 5","Grade 4 - 8","The history of punishing criminals is a long and gruesome one. In 620 BC, a Greek named Draco wrote a legal code that punished almost every crime with death—except murder! For that, criminals were exiled. Odd facts about crime and punishment like this abound in history. Readers encounter many places and periods, from ancient China to the Victorian era, to learn all about the terrible, gross, and strange ways crimes were punished in the past. A colorful layout full of amusing and informative illustrations reinforce the main content, providing historical context and detail that will keep readers turning pages. \r\n\r\n","English",26.6,19.95,"364.9","32 pp.",{"$f":"Table1[[#This Row],[QTY]]*Table1[[#This Row],['# Books]]","v":0},{"$f":"Table1[[#This Row],[QTY]]*Table1[[#This Row],[S&L Price]]","v":0}]
[null,null,180,"Awfully Ancient",1,"Banished, Beheaded, or Boiled in Oil: A Hair-Raising History of Crime and Punishment Throughout the Ages!","eBook",null,"978-1-4824-3123-0",{"$f":"HYPERLINK(\"https://www.garethstevens.com/\"&Table1[[#This Row],[ISBN]],\"Weblink\")","v":"Weblink"},2016,"August 2015",null,null,"Author","Neil Tonge","6.5","1",null,null,"U","980L","Grade 5","Grade 4 - 8","The history of punishing criminals is a long and gruesome one. In 620 BC, a Greek named Draco wrote a legal code that punished almost every crime with death—except murder! For that, criminals were exiled. Odd facts about crime and punishment like this abound in history. Readers encounter many places and periods, from ancient China to the Victorian era, to learn all about the terrible, gross, and strange ways crimes were punished in the past. A colorful layout full of amusing and informative illustrations reinforce the main content, providing historical context and detail that will keep readers turning pages. \r\n\r\n","English",26.6,19.95,"364.9","32 pp.",{"$f":"Table1[[#This Row],[QTY]]*Table1[[#This Row],['# Books]]","v":0},{"$f":"Table1[[#This Row],[QTY]]*Table1[[#This Row],[S&L Price]]","v":0}]
[null,null,181,"Awfully Ancient",1,"Gory Gladiators, Savage Centurions, and Caesar's Sticky End: A Menacing History of the Unruly Romans!","Library Bound Book",null,"978-1-4824-3114-8",{"$f":"HYPERLINK(\"https://www.garethstevens.com/\"&Table1[[#This Row],[ISBN]],\"Weblink\")","v":"Weblink"},2016,"August 2015","Library","8.500 X 11.00","Author","Kay Barnham","5.8","1",null,null,"U","890L","Grade 5","Grade 4 - 8","Because the Roman Army was so large, they had to be very serious about punishing those who broke the rules. For disobeying an order, a soldier would get as many as 200 lashes with a whip. And deserters? They were stoned or beaten to death. These penalties sound harsh in today’s world, but they can tell readers a lot about life during the Roman Empire! Dreadful deaths and creative killings offer a unique lens through which to examine a major historical period. Cute, full-color illustrations offer a humorous look at a bleak topic and add interesting details.","English",26.6,19.95,"937","32 pp.",{"$f":"Table1[[#This Row],[QTY]]*Table1[[#This Row],['# Books]]","v":0},{"$f":"Table1[[#This Row],[QTY]]*Table1[[#This Row],[S&L Price]]","v":0}]
[null,null,181,"Awfully Ancient",1,"Gory Gladiators, Savage Centurions, and Caesar's Sticky End: A Menacing History of the Unruly Romans!","eBook",null,"978-1-4824-3115-5",{"$f":"HYPERLINK(\"https://www.garethstevens.com/\"&Table1[[#This Row],[ISBN]],\"Weblink\")","v":"Weblink"},2016,"August 2015",null,null,"Author","Kay Barnham","5.8","1",null,null,"U","890L","Grade 5","Grade 4 - 8","Because the Roman Army was so large, they had to be very serious about punishing those who broke the rules. For disobeying an order, a soldier would get as many as 200 lashes with a whip. And deserters? They were stoned or beaten to death. These penalties sound harsh in today’s world, but they can tell readers a lot about life during the Roman Empire! Dreadful deaths and creative killings offer a unique lens through which to examine a major historical period. Cute, full-color illustrations offer a humorous look at a bleak topic and add interesting details.","English",26.6,19.95,"937","32 pp.",{"$f":"Table1[[#This Row],[QTY]]*Table1[[#This Row],['# Books]]","v":0},{"$f":"Table1[[#This Row],[QTY]]*Table1[[#This Row],[S&L Price]]","v":0}]
[null,null,181,"Awfully Ancient",1,"Loos, Poos, and Number Twos: A Disgusting Journey Through the Bowels of History!","Library Bound Book",null,"978-1-4824-3118-6",{"$f":"HYPERLINK(\"https://www.garethstevens.com/\"&Table1[[#This Row],[ISBN]],\"Weblink\")","v":"Weblink"},2016,"August 2015","Library","8.500 X 11.00","Author","Peter Hepplewhite","6.4","1",null,null,"U","1030L","Grade 5","Grade 4 - 8","Nothing could be more interesting to young readers than the history of the toilet! From the sewage system of ancient Athens to the muckrakers of the Middle Ages, there’s plenty to learn about history from discovering the “how” and “where” of the loos of many important civilizations. Unique information reframes common social studies topics and time periods including ancient China, Victorian times, and more. Amusing illustrations and a full-color layout enhance the main content as readers traverse the dirty details.","English",26.6,19.95,"392.3","32 pp.",{"$f":"Table1[[#This Row],[QTY]]*Table1[[#This Row],['# Books]]","v":0},{"$f":"Table1[[#This Row],[QTY]]*Table1[[#This Row],[S&L Price]]","v":0}]
[null,null,181,"Awfully Ancient",1,"Loos, Poos, and Number Twos: A Disgusting Journey Through the Bowels of History!","eBook",null,"978-1-4824-3119-3",{"$f":"HYPERLINK(\"https://www.garethstevens.com/\"&Table1[[#This Row],[ISBN]],\"Weblink\")","v":"Weblink"},2016,"August 2015",null,null,"Author","Peter Hepplewhite","6.4","1",null,null,"U","1030L","Grade 5","Grade 4 - 8","Nothing could be more interesting to young readers than the history of the toilet! From the sewage system of ancient Athens to the muckrakers of the Middle Ages, there’s plenty to learn about history from discovering the “how” and “where” of the loos of many important civilizations. Unique information reframes common social studies topics and time periods including ancient China, Victorian times, and more. Amusing illustrations and a full-color layout enhance the main content as readers traverse the dirty details.","English",26.6,19.95,"392.3","32 pp.",{"$f":"Table1[[#This Row],[QTY]]*Table1[[#This Row],['# Books]]","v":0},{"$f":"Table1[[#This Row],[QTY]]*Table1[[#This Row],[S&L Price]]","v":0}]
[null,null,181,"Awfully Ancient",1,"Mangy Mummies, Menacing Pharaohs, and the Awful Afterlife: A Moth-Eaten History of the Extraordinary Egyptians!","Library Bound Book",null,"978-1-4824-3126-1",{"$f":"HYPERLINK(\"https://www.garethstevens.com/\"&Table1[[#This Row],[ISBN]],\"Weblink\")","v":"Weblink"},2016,"August 2015","Library","8.500 X 11.00","Author","Kay Barnham","5.7","1",null,null,"U","910L","Grade 5","Grade 4 - 8","From feast days of gods and goddesses to victory celebrations, the ancient Egyptians looked for any excuse to throw a party. However, the largest social group included slaves, laborers, and peasants who worked really hard and likely didn’t get to enjoy these occasions as much as the pharaoh or his family. Fun facts about how mummies were created, the ins and outs of the Egyptians gods and goddesses, and more engage readers in an important historical period. A colorful layout, complete with comical illustrations, complements the main content’s lighthearted tone and entertaining take on ancient Egypt.  \r\n\r\n","English",26.6,19.95,"932","32 pp.",{"$f":"Table1[[#This Row],[QTY]]*Table1[[#This Row],['# Books]]","v":0},{"$f":"Table1[[#This Row],[QTY]]*Table1[[#This Row],[S&L Price]]","v":0}]
[null,null,181,"Awfully Ancient",1,"Mangy Mummies, Menacing Pharaohs, and the Awful Afterlife: A Moth-Eaten History of the Extraordinary Egyptians!","eBook",null,"978-1-4824-3127-8",{"$f":"HYPERLINK(\"https://www.garethstevens.com/\"&Table1[[#This Row],[ISBN]],\"Weblink\")","v":"Weblink"},2016,"August 2015",null,null,"Author","Kay Barnham","5.7","1",null,null,"U","910L","Grade 5","Grade 4 - 8","From feast days of gods and goddesses to victory celebrations, the ancient Egyptians looked for any excuse to throw a party. However, the largest social group included slaves, laborers, and peasants who worked really hard and likely didn’t get to enjoy these occasions as much as the pharaoh or his family. Fun facts about how mummies were created, the ins and outs of the Egyptians gods and goddesses, and more engage readers in an important historical period. A colorful layout, complete with comical illustrations, complements the main content’s lighthearted tone and entertaining take on ancient Egypt.  \r\n\r\n","English",26.6,19.95,"932","32 pp.",{"$f":"Table1[[#This Row],[QTY]]*Table1[[#This Row],['# Books]]","v":0},{"$f":"Table1[[#This Row],[QTY]]*Table1[[#This Row],[S&L Price]]","v":0}]
[null,null,181,"Awfully Ancient",1,"Royals, Rebels, and Horrible Headchoppers: A Bloodthirsty History of the Terrifying Tudors!","Library Bound Book",null,"978-1-4824-3130-8",{"$f":"HYPERLINK(\"https://www.garethstevens.com/\"&Table1[[#This Row],[ISBN]],\"Weblink\")","v":"Weblink"},2016,"August 2015","Library","8.500 X 11.00","Author","Peter Hepplewhite","6.5","1",null,null,"U","980L","Grade 5","Grade 4 - 8","While living in Tudor England wasn’t a picnic for many people, the unluckiest were at the top of the social ladder—queens. Henry VIII was one of the Tudor kings and he famously divorced and killed many of his queens in his quest for a male heir. That’s not all that happened during the Tudors’ reign! Readers learn about the place of rebellions, the plague, and even the use of leeches in the history of England. A colorful layout, playful tone, and relatable content keep readers engaged with a distinctive historic era.","English",26.6,19.95,"941.05","32 pp.",{"$f":"Table1[[#This Row],[QTY]]*Table1[[#This Row],['# Books]]","v":0},{"$f":"Table1[[#This Row],[QTY]]*Table1[[#This Row],[S&L Price]]","v":0}]
[null,null,181,"Awfully Ancient",1,"Royals, Rebels, and Horrible Headchoppers: A Bloodthirsty History of the Terrifying Tudors!","eBook",null,"978-1-4824-3131-5",{"$f":"HYPERLINK(\"https://www.garethstevens.com/\"&Table1[[#This Row],[ISBN]],\"Weblink\")","v":"Weblink"},2016,"August 2015",null,null,"Author","Peter Hepplewhite","6.5","1",null,null,"U","980L","Grade 5","Grade 4 - 8","While living in Tudor England wasn’t a picnic for many people, the unluckiest were at the top of the social ladder—queens. Henry VIII was one of the Tudor kings and he famously divorced and killed many of his queens in his quest for a male heir. That’s not all that happened during the Tudors’ reign! Readers learn about the place of rebellions, the plague, and even the use of leeches in the history of England. A colorful layout, playful tone, and relatable content keep readers engaged with a distinctive historic era.","English",26.6,19.95,"941.05","32 pp.",{"$f":"Table1[[#This Row],[QTY]]*Table1[[#This Row],['# Books]]","v":0},{"$f":"Table1[[#This Row],[QTY]]*Table1[[#This Row],[S&L Price]]","v":0}]
[null,null,181,"Awfully Ancient",1,"Thomas Crapper, Corsets, and Cruel Britannia: A Grim History of the Vexing Victorians!","Library Bound Book",null,"978-1-4824-3134-6",{"$f":"HYPERLINK(\"https://www.garethstevens.com/\"&Table1[[#This Row],[ISBN]],\"Weblink\")","v":"Weblink"},2016,"August 2015","Library","8.500 X 11.00","Author","Peter Hepplewhite","6.2","1",null,null,"U","990L","Grade 5","Grade 4 - 8","Victorian fashion is unlikely to become popular again. Corsets were in style during the second half of the 1800s and were forced on the waists of girls as young as 5 years old! Tied too tight and the wearer might not be able to sit or breathe, and many sustained broken ribs. More fascinating truths about those living during the Victorian era, including the opium-based drugs used to keep children calm and prison-like schools, will inspire thankfulness in today’s readers! Full-color illustrations offer colorful commentary on this buttoned-up time period as well as supplementary historical details.","English",26.6,19.95,"941.081","32 pp.",{"$f":"Table1[[#This Row],[QTY]]*Table1[[#This Row],['# Books]]","v":0},{"$f":"Table1[[#This Row],[QTY]]*Table1[[#This Row],[S&L Price]]","v":0}]
[null,null,181,"Awfully Ancient",1,"Thomas Crapper, Corsets, and Cruel Britannia: A Grim History of the Vexing Victorians!","eBook",null,"978-1-4824-3135-3",{"$f":"HYPERLINK(\"https://www.garethstevens.com/\"&Table1[[#This Row],[ISBN]],\"Weblink\")","v":"Weblink"},2016,"August 2015",null,null,"Author","Peter Hepplewhite",null,null,null,null,"U","990L","Grade 5","Grade 4 - 8","Victorian fashion is unlikely to become popular again. Corsets were in style during the second half of the 1800s and were forced on the waists of girls as young as 5 years old! Tied too tight and the wearer might not be able to sit or breathe, and many sustained broken ribs. More fascinating truths about those living during the Victorian era, including the opium-based drugs used to keep children calm and prison-like schools, will inspire thankfulness in today’s readers! Full-color illustrations offer colorful commentary on this buttoned-up time period as well as supplementary historical details.","English",26.6,19.95,"941.081","32 pp.",{"$f":"Table1[[#This Row],[QTY]]*Table1[[#This Row],['# Books]]","v":0},{"$f":"Table1[[#This Row],[QTY]]*Table1[[#This Row],[S&L Price]]","v":0}]
[null,null,181,"Frontline Families",1,"The Afghanistan War: Frontline Soldiers and Their Families","Library Bound Book",null,"978-1-4824-3050-9",{"$f":"HYPERLINK(\"https://www.garethstevens.com/\"&Table1[[#This Row],[ISBN]],\"Weblink\")","v":"Weblink"},2016,"August 2015","Library","7.250 X 9.250","Author","Sarah Levete",null,null,44,null,"T","1040L","Grade 5 - 6","Grade 5 - 8","The war in Afghanistan, a conflict that continues to rage on more than a decade after it began, has changed the lives of many families both in the country itself and in the many nations that have sent soldiers to fight there, including the United States and Canada. Readers of this notable volume will learn why this war began as well as its wide-reaching consequences. Photographs and other primary sources will further enlighten about the current conflict. This commendable text contains essential content for any classroom or library concerned with keeping readers informed about current events.","English",31.95,23.95,"958.104","48 pp.",{"$f":"Table1[[#This Row],[QTY]]*Table1[[#This Row],['# Books]]","v":0},{"$f":"Table1[[#This Row],[QTY]]*Table1[[#This Row],[S&L Price]]","v":0}]
[null,null,181,"Frontline Families",1,"The Afghanistan War: Frontline Soldiers and Their Families","eBook",null,"978-1-4824-3051-6",{"$f":"HYPERLINK(\"https://www.garethstevens.com/\"&Table1[[#This Row],[ISBN]],\"Weblink\")","v":"Weblink"},2016,"August 2015",null,null,"Author","Sarah Levete",null,null,44,null,"T","1040L","Grade 5 - 6","Grade 5 - 8","The war in Afghanistan, a conflict that continues to rage on more than a decade after it began, has changed the lives of many families both in the country itself and in the many nations that have sent soldiers to fight there, including the United States and Canada. Readers of this notable volume will learn why this war began as well as its wide-reaching consequences. Photographs and other primary sources will further enlighten about the current conflict. This commendable text contains essential content for any classroom or library concerned with keeping readers informed about current events.","English",31.95,23.95,"958.104","48 pp.",{"$f":"Table1[[#This Row],[QTY]]*Table1[[#This Row],['# Books]]","v":0},{"$f":"Table1[[#This Row],[QTY]]*Table1[[#This Row],[S&L Price]]","v":0}]
[null,null,181,"Frontline Families",1,"The American Revolution: Frontline Soldiers and Their Families","Library Bound Book",null,"978-1-4824-3054-7",{"$f":"HYPERLINK(\"https://www.garethstevens.com/\"&Table1[[#This Row],[ISBN]],\"Weblink\")","v":"Weblink"},2016,"August 2015","Library","7.250 X 9.250","Author","Sara Howell",null,null,44,null,"T","1030L","Grade 5 - 6","Grade 5 - 8","Without the American Revolution, there would be no United States. The impact of the war is undeniable. And yet studies of this conflict, essential in every elementary school, are often cursory. This valuable volume delivers a more complete look of the war, including the real experiences of soldiers on the frontlines as well as their families at home. Readers will be particularly interested in the experiences of young people during the war. Founding Fathers and ordinary colonists both feature in this well-designed book, filled with important dates, facts, maps, and primary sources.","English",31.95,23.95,"973.3","48 pp.",{"$f":"Table1[[#This Row],[QTY]]*Table1[[#This Row],['# Books]]","v":0},{"$f":"Table1[[#This Row],[QTY]]*Table1[[#This Row],[S&L Price]]","v":0}]
[null,null,181,"Frontline Families",1,"The American Revolution: Frontline Soldiers and Their Families","eBook",null,"978-1-4824-3055-4",{"$f":"HYPERLINK(\"https://www.garethstevens.com/\"&Table1[[#This Row],[ISBN]],\"Weblink\")","v":"Weblink"},2016,"August 2015",null,null,"Author","Sara Howell",null,null,44,null,"T","1030L","Grade 5 - 6","Grade 5 - 8","Without the American Revolution, there would be no United States. The impact of the war is undeniable. And yet studies of this conflict, essential in every elementary school, are often cursory. This valuable volume delivers a more complete look of the war, including the real experiences of soldiers on the frontlines as well as their families at home. Readers will be particularly interested in the experiences of young people during the war. Founding Fathers and ordinary colonists both feature in this well-designed book, filled with important dates, facts, maps, and primary sources.","English",31.95,23.95,"973.3","48 pp.",{"$f":"Table1[[#This Row],[QTY]]*Table1[[#This Row],['# Books]]","v":0},{"$f":"Table1[[#This Row],[QTY]]*Table1[[#This Row],[S&L Price]]","v":0}]
[null,null,181,"Frontline Families",1,"The Civil War: Frontline Soldiers and Their Families","Library Bound Book",null,"978-1-4824-3058-5",{"$f":"HYPERLINK(\"https://www.garethstevens.com/\"&Table1[[#This Row],[ISBN]],\"Weblink\")","v":"Weblink"},2016,"August 2015","Library","7.250 X 9.250","Author","Sara Howell",null,null,44,null,"V",null,"Grade 5 - 6","Grade 5 - 8","The American Civil War began in 1861 when a group of Southern states voted to secede. At that point, no one knew what a heavy toll the ensuing war would have on both sides of the conflict. Not only did more than 850,000 die, but millions more would suffer in other ways. Families of soldiers were left behind, just hoping to see their loved ones again. This indispensable book provides important facts about the war as well as critical information about its impact on family life. Abundant primary sources and a timeline enhance the volume's text, photographs, and beautiful design.","English",31.95,23.95,"973.7","48 pp.",{"$f":"Table1[[#This Row],[QTY]]*Table1[[#This Row],['# Books]]","v":0},{"$f":"Table1[[#This Row],[QTY]]*Table1[[#This Row],[S&L Price]]","v":0}]
[null,null,181,"Frontline Families",1,"The Civil War: Frontline Soldiers and Their Families","eBook",null,"978-1-4824-3059-2",{"$f":"HYPERLINK(\"https://www.garethstevens.com/\"&Table1[[#This Row],[ISBN]],\"Weblink\")","v":"Weblink"},2016,"August 2015",null,null,"Author","Sara Howell",null,null,44,null,"V",null,"Grade 5 - 6","Grade 5 - 8","The American Civil War began in 1861 when a group of Southern states voted to secede. At that point, no one knew what a heavy toll the ensuing war would have on both sides of the conflict. Not only did more than 850,000 die, but millions more would suffer in other ways. Families of soldiers were left behind, just hoping to see their loved ones again. This indispensable book provides important facts about the war as well as critical information about its impact on family life. Abundant primary sources and a timeline enhance the volume's text, photographs, and beautiful design.","English",31.95,23.95,"973.7","48 pp.",{"$f":"Table1[[#This Row],[QTY]]*Table1[[#This Row],['# Books]]","v":0},{"$f":"Table1[[#This Row],[QTY]]*Table1[[#This Row],[S&L Price]]","v":0}]
[null,null,181,"Frontline Families",1,"The Vietnam War: Frontline Soldiers and Their Families","Library Bound Book",null,"978-1-4824-3062-2",{"$f":"HYPERLINK(\"https://www.garethstevens.com/\"&Table1[[#This Row],[ISBN]],\"Weblink\")","v":"Weblink"},2016,"August 2015","Library","7.250 X 9.250","Author","Sarah Levete",null,null,44,null,"U","1060L","Grade 5 - 6","Grade 5 - 8","The Vietnam War lasted just over 20 years. The conflict's impact on the people of Vietnam as well as citizens of the United States and other countries still echoes to this day. For every one of the millions who fought and died, there was a family who worried and grieved. This important book tackles the difficult nature of this war, including how the explosions, gunfire, and fear ruled the hearts of soldiers and families back home. The text carefully explains the causes and effects of the Vietnam War augmented by well-chosen primary sources and photographs.","English",31.95,23.95,"959.704","48 pp.",{"$f":"Table1[[#This Row],[QTY]]*Table1[[#This Row],['# Books]]","v":0},{"$f":"Table1[[#This Row],[QTY]]*Table1[[#This Row],[S&L Price]]","v":0}]
[null,null,181,"Frontline Families",1,"The Vietnam War: Frontline Soldiers and Their Families","eBook",null,"978-1-4824-3063-9",{"$f":"HYPERLINK(\"https://www.garethstevens.com/\"&Table1[[#This Row],[ISBN]],\"Weblink\")","v":"Weblink"},2016,"August 2015",null,null,"Author","Sarah Levete",null,null,44,null,"U","1060L","Grade 5 - 6","Grade 5 - 8","The Vietnam War lasted just over 20 years. The conflict's impact on the people of Vietnam as well as citizens of the United States and other countries still echoes to this day. For every one of the millions who fought and died, there was a family who worried and grieved. This important book tackles the difficult nature of this war, including how the explosions, gunfire, and fear ruled the hearts of soldiers and families back home. The text carefully explains the causes and effects of the Vietnam War augmented by well-chosen primary sources and photographs.","English",31.95,23.95,"959.704","48 pp.",{"$f":"Table1[[#This Row],[QTY]]*Table1[[#This Row],['# Books]]","v":0},{"$f":"Table1[[#This Row],[QTY]]*Table1[[#This Row],[S&L Price]]","v":0}]
[null,null,181,"Frontline Families",1,"World War I: Frontline Soldiers and Their Families","Library Bound Book",null,"978-1-4824-3066-0",{"$f":"HYPERLINK(\"https://www.garethstevens.com/\"&Table1[[#This Row],[ISBN]],\"Weblink\")","v":"Weblink"},2016,"August 2015","Library","7.250 X 9.250","Author","Nick Hunter",null,null,44,null,"U","1090L","Grade 5 - 6","Grade 5 - 8","In the summer of 1914, life changed dramatically for millions of people. Europe was plunged into a devastating war that persisted for more than 4 years. This conflict, called the Great War or World War I, didn't just change the lives of the millions of soldiers who fought in it. It also had a big impact on families and children far from the frontline. Loved ones were often separated for long, difficult periods of time. This powerful volume explains the toll of the war through perceptive text, historical photographs, and insightful primary sources.","English",31.95,23.95,"940.3","48 pp.",{"$f":"Table1[[#This Row],[QTY]]*Table1[[#This Row],['# Books]]","v":0},{"$f":"Table1[[#This Row],[QTY]]*Table1[[#This Row],[S&L Price]]","v":0}]
[null,null,181,"Frontline Families",1,"World War I: Frontline Soldiers and Their Families","eBook",null,"978-1-4824-3067-7",{"$f":"HYPERLINK(\"https://www.garethstevens.com/\"&Table1[[#This Row],[ISBN]],\"Weblink\")","v":"Weblink"},2016,"August 2015",null,null,"Author","Nick Hunter",null,null,44,null,"U","1090L","Grade 5 - 6","Grade 5 - 8","In the summer of 1914, life changed dramatically for millions of people. Europe was plunged into a devastating war that persisted for more than 4 years. This conflict, called the Great War or World War I, didn't just change the lives of the millions of soldiers who fought in it. It also had a big impact on families and children far from the frontline. Loved ones were often separated for long, difficult periods of time. This powerful volume explains the toll of the war through perceptive text, historical photographs, and insightful primary sources.","English",31.95,23.95,"940.3","48 pp.",{"$f":"Table1[[#This Row],[QTY]]*Table1[[#This Row],['# Books]]","v":0},{"$f":"Table1[[#This Row],[QTY]]*Table1[[#This Row],[S&L Price]]","v":0}]
[null,null,181,"Frontline Families",1,"World War II: Frontline Soldiers and Their Families","Library Bound Book",null,"978-1-4824-3070-7",{"$f":"HYPERLINK(\"https://www.garethstevens.com/\"&Table1[[#This Row],[ISBN]],\"Weblink\")","v":"Weblink"},2016,"August 2015","Library","7.250 X 9.250","Author","Nick Hunter",null,null,44,null,"V","1110L","Grade 5 - 6","Grade 5 - 8","Studies of World War II often focus on the millions who fought so bravely, many of whom ultimately lost their lives. But learning only about soldiers and battlefield maneuvers doesn't give a clear picture of the full impact of war. These troops had families at home as well as working in hospitals, factories, and helping out the war effort in other ways. These people, too, should be recognized and understood for their contribution. This comprehensive book, complete with a timeline of the war and numerous primary sources, provides readers with valuable information about this terrible war, on the frontlines and at home.","English",31.95,23.95,"940.53","48 pp.",{"$f":"Table1[[#This Row],[QTY]]*Table1[[#This Row],['# Books]]","v":0},{"$f":"Table1[[#This Row],[QTY]]*Table1[[#This Row],[S&L Price]]","v":0}]
[null,null,181,"Frontline Families",1,"World War II: Frontline Soldiers and Their Families","eBook",null,"978-1-4824-3071-4",{"$f":"HYPERLINK(\"https://www.garethstevens.com/\"&Table1[[#This Row],[ISBN]],\"Weblink\")","v":"Weblink"},2016,"August 2015",null,null,"Author","Nick Hunter",null,null,44,null,"V","1110L","Grade 5 - 6","Grade 5 - 8","Studies of World War II often focus on the millions who fought so bravely, many of whom ultimately lost their lives. But learning only about soldiers and battlefield maneuvers doesn't give a clear picture of the full impact of war. These troops had families at home as well as working in hospitals, factories, and helping out the war effort in other ways. These people, too, should be recognized and understood for their contribution. This comprehensive book, complete with a timeline of the war and numerous primary sources, provides readers with valuable information about this terrible war, on the frontlines and at home.","English",31.95,23.95,"940.53","48 pp.",{"$f":"Table1[[#This Row],[QTY]]*Table1[[#This Row],['# Books]]","v":0},{"$f":"Table1[[#This Row],[QTY]]*Table1[[#This Row],[S&L Price]]","v":0}]
[null,null,181,"History's Fearless Fighters",1,"Conquistadors","Library Bound Book",null,"978-1-4824-3162-9",{"$f":"HYPERLINK(\"https://www.garethstevens.com/\"&Table1[[#This Row],[ISBN]],\"Weblink\")","v":"Weblink"},2016,"August 2015","Library","7.250 X 9.250","Author","Rupert Matthews",null,null,null,null,"U","960L","Grade 5 - 6","Grade 5 - 8","The native people of the Americas never had a chance against European soldiers. The troops of the conquistadors had guns and armor, not to mention new diseases! As readers are drawn through the bloody history of early settlement in the New World, they’ll learn about the conquistadors’ wish for gold and to convert the native peoples to Christianity. Chapters focusing on major conquistadors—including de Coronado, Pizarro, Cortes, and more—incorporate major topics from the social studies curriculum. Full-color maps show the European domination of the Americas and enhance the main content’s detailed account of what they found there.","English",31.95,23.95,"970.01","48 pp.",{"$f":"Table1[[#This Row],[QTY]]*Table1[[#This Row],['# Books]]","v":0},{"$f":"Table1[[#This Row],[QTY]]*Table1[[#This Row],[S&L Price]]","v":0}]
[null,null,181,"History's Fearless Fighters",1,"Conquistadors","eBook",null,"978-1-4824-3163-6",{"$f":"HYPERLINK(\"https://www.garethstevens.com/\"&Table1[[#This Row],[ISBN]],\"Weblink\")","v":"Weblink"},2016,"August 2015",null,null,"Author","Rupert Matthews",null,null,null,null,"U","960L","Grade 5 - 6","Grade 5 - 8","The native people of the Americas never had a chance against European soldiers. The troops of the conquistadors had guns and armor, not to mention new diseases! As readers are drawn through the bloody history of early settlement in the New World, they’ll learn about the conquistadors’ wish for gold and to convert the native peoples to Christianity. Chapters focusing on major conquistadors—including de Coronado, Pizarro, Cortes, and more—incorporate major topics from the social studies curriculum. Full-color maps show the European domination of the Americas and enhance the main content’s detailed account of what they found there.","English",31.95,23.95,"970.01","48 pp.",{"$f":"Table1[[#This Row],[QTY]]*Table1[[#This Row],['# Books]]","v":0},{"$f":"Table1[[#This Row],[QTY]]*Table1[[#This Row],[S&L Price]]","v":0}]
[null,null,181,"History's Fearless Fighters",1,"Gladiators","Library Bound Book",null,"978-1-4824-3166-7",{"$f":"HYPERLINK(\"https://www.garethstevens.com/\"&Table1[[#This Row],[ISBN]],\"Weblink\")","v":"Weblink"},2016,"August 2015","Library","7.250 X 9.250","Author","Rupert Matthews",null,null,null,null,"U","970L","Grade 5 - 6","Grade 5 - 8","The Romans who fearlessly fought in the Colosseum had varied backgrounds. Some were slaves and criminals forced to fight to the death. Others trained and volunteered for the task. Their goal was clear from the first step in the arena: the floor was sandy, so blood would be easy to clean up. Gladiator combat is a common topic when discussing the Roman Empire. Readers of this volume, however, will discover all the incredible details of gladiator life from the porridge they ate to the muscle massages they received! A glossary of gladiator terms and a timeline complement the main content.","English",31.95,23.95,"796.8","48 pp.",{"$f":"Table1[[#This Row],[QTY]]*Table1[[#This Row],['# Books]]","v":0},{"$f":"Table1[[#This Row],[QTY]]*Table1[[#This Row],[S&L Price]]","v":0}]
[null,null,181,"History's Fearless Fighters",1,"Gladiators","eBook",null,"978-1-4824-3167-4",{"$f":"HYPERLINK(\"https://www.garethstevens.com/\"&Table1[[#This Row],[ISBN]],\"Weblink\")","v":"Weblink"},2016,"August 2015",null,null,"Author","Rupert Matthews",null,null,null,null,"U","970L","Grade 5 - 6","Grade 5 - 8","The Romans who fearlessly fought in the Colosseum had varied backgrounds. Some were slaves and criminals forced to fight to the death. Others trained and volunteered for the task. Their goal was clear from the first step in the arena: the floor was sandy, so blood would be easy to clean up. Gladiator combat is a common topic when discussing the Roman Empire. Readers of this volume, however, will discover all the incredible details of gladiator life from the porridge they ate to the muscle massages they received! A glossary of gladiator terms and a timeline complement the main content.","English",31.95,23.95,"796.8","48 pp.",{"$f":"Table1[[#This Row],[QTY]]*Table1[[#This Row],['# Books]]","v":0},{"$f":"Table1[[#This Row],[QTY]]*Table1[[#This Row],[S&L Price]]","v":0}]
[null,null,181,"History's Fearless Fighters",1,"Mongols","Library Bound Book",null,"978-1-4824-3170-4",{"$f":"HYPERLINK(\"https://www.garethstevens.com/\"&Table1[[#This Row],[ISBN]],\"Weblink\")","v":"Weblink"},2016,"August 2015","Library","7.250 X 9.250","Author","Rupert Matthews",null,null,null,null,"U","960L","Grade 5 - 6","Grade 5 - 8","Historians estimate that the Mongols killed 40 million people—women and children included. Fierce, ruthless warriors, the Mongols were protecting an enormous empire spanning much of Asia and Europe. From Genghis Khan to his equally notorious son Ogedai Khan, this volume introduces readers to one of the bloodiest wars ever fought. Historical images highlight some of the most devastating moments, such as the conquest of Baghdad, while chapters focusing on the Mongols’ battle tactics show readers just how they conquered so much land. A detailed timeline organizes the history of the empire for readers’ reference.","English",31.95,23.95,"950","48 pp.",{"$f":"Table1[[#This Row],[QTY]]*Table1[[#This Row],['# Books]]","v":0},{"$f":"Table1[[#This Row],[QTY]]*Table1[[#This Row],[S&L Price]]","v":0}]
[null,null,181,"History's Fearless Fighters",1,"Mongols","eBook",null,"978-1-4824-3171-1",{"$f":"HYPERLINK(\"https://www.garethstevens.com/\"&Table1[[#This Row],[ISBN]],\"Weblink\")","v":"Weblink"},2016,"August 2015",null,null,"Author","Rupert Matthews",null,null,null,null,"U","960L","Grade 5 - 6","Grade 5 - 8","Historians estimate that the Mongols killed 40 million people—women and children included. Fierce, ruthless warriors, the Mongols were protecting an enormous empire spanning much of Asia and Europe. From Genghis Khan to his equally notorious son Ogedai Khan, this volume introduces readers to one of the bloodiest wars ever fought. Historical images highlight some of the most devastating moments, such as the conquest of Baghdad, while chapters focusing on the Mongols’ battle tactics show readers just how they conquered so much land. A detailed timeline organizes the history of the empire for readers’ reference.","English",31.95,23.95,"950","48 pp.",{"$f":"Table1[[#This Row],[QTY]]*Table1[[#This Row],['# Books]]","v":0},{"$f":"Table1[[#This Row],[QTY]]*Table1[[#This Row],[S&L Price]]","v":0}]
[null,null,181,"History's Fearless Fighters",1,"Ninjas","Library Bound Book",null,"978-1-4824-3174-2",{"$f":"HYPERLINK(\"https://www.garethstevens.com/\"&Table1[[#This Row],[ISBN]],\"Weblink\")","v":"Weblink"},2016,"August 2015","Library","7.250 X 9.250","Author","Rupert Matthews",null,null,null,null,"U","1020L","Grade 5 - 6","Grade 5 - 8","Today, many people use the word “ninja” to describe being particularly good or stealthy about something. But ninjas were real Japanese fighters! Most active from about 1450 to just after 1600, ninjas were highly trained, silent killers. Readers learn to parse the truth from the legends about ninjas through detailed historical content, including the 18 skills ninjas of the 1700s were taught. A colorful layout and up-close photographs of ninja weapons enhance the high-interest topic and emphasize the amazing truths of these fearless fighters throughout history.","English",31.95,23.95,"355.5","48 pp.",{"$f":"Table1[[#This Row],[QTY]]*Table1[[#This Row],['# Books]]","v":0},{"$f":"Table1[[#This Row],[QTY]]*Table1[[#This Row],[S&L Price]]","v":0}]
[null,null,181,"History's Fearless Fighters",1,"Ninjas","eBook",null,"978-1-4824-3175-9",{"$f":"HYPERLINK(\"https://www.garethstevens.com/\"&Table1[[#This Row],[ISBN]],\"Weblink\")","v":"Weblink"},2016,"August 2015",null,null,"Author","Rupert Matthews",null,null,null,null,"U","1020L","Grade 5 - 6","Grade 5 - 8","Today, many people use the word “ninja” to describe being particularly good or stealthy about something. But ninjas were real Japanese fighters! Most active from about 1450 to just after 1600, ninjas were highly trained, silent killers. Readers learn to parse the truth from the legends about ninjas through detailed historical content, including the 18 skills ninjas of the 1700s were taught. A colorful layout and up-close photographs of ninja weapons enhance the high-interest topic and emphasize the amazing truths of these fearless fighters throughout history.","English",31.95,23.95,"355.5","48 pp.",{"$f":"Table1[[#This Row],[QTY]]*Table1[[#This Row],['# Books]]","v":0},{"$f":"Table1[[#This Row],[QTY]]*Table1[[#This Row],[S&L Price]]","v":0}]
[null,null,181,"History's Fearless Fighters",1,"Samurai","Library Bound Book",null,"978-1-4824-3178-0",{"$f":"HYPERLINK(\"https://www.garethstevens.com/\"&Table1[[#This Row],[ISBN]],\"Weblink\")","v":"Weblink"},2016,"August 2015","Library","7.250 X 9.250","Author","Rupert Matthews",null,null,null,null,"U","980L","Grade 5 - 6","Grade 5 - 8","Japanese samurai followed a strict code of honor called bushido. Though they were professional fighters, samurai valued courage, benevolence, and respect above all else. Many took their own lives after breaking the code. This interesting part of Japanese history will draw in readers with its mystery, brutality, and cultural significance. Full-color photographs and historical images of real samurai give faces to these fearless fighters, and photographs of samurai weapons are impressive to modern eyes. Fascinating details about samurai training and the fighters’ influence on modern Japan will engage readers with both the nation’s history and present-day reality.","English",31.95,23.95,"355.00952","48 pp.",{"$f":"Table1[[#This Row],[QTY]]*Table1[[#This Row],['# Books]]","v":0},{"$f":"Table1[[#This Row],[QTY]]*Table1[[#This Row],[S&L Price]]","v":0}]
[null,null,181,"History's Fearless Fighters",1,"Samurai","eBook",null,"978-1-4824-3179-7",{"$f":"HYPERLINK(\"https://www.garethstevens.com/\"&Table1[[#This Row],[ISBN]],\"Weblink\")","v":"Weblink"},2016,"August 2015",null,null,"Author","Rupert Matthews",null,null,null,null,"U","980L","Grade 5 - 6","Grade 5 - 8","Japanese samurai followed a strict code of honor called bushido. Though they were professional fighters, samurai valued courage, benevolence, and respect above all else. Many took their own lives after breaking the code. This interesting part of Japanese history will draw in readers with its mystery, brutality, and cultural significance. Full-color photographs and historical images of real samurai give faces to these fearless fighters, and photographs of samurai weapons are impressive to modern eyes. Fascinating details about samurai training and the fighters’ influence on modern Japan will engage readers with both the nation’s history and present-day reality.","English",31.95,23.95,"355.00952","48 pp.",{"$f":"Table1[[#This Row],[QTY]]*Table1[[#This Row],['# Books]]","v":0},{"$f":"Table1[[#This Row],[QTY]]*Table1[[#This Row],[S&L Price]]","v":0}]
[null,null,181,"History's Fearless Fighters",1,"Spartans","Library Bound Book",null,"978-1-4824-3182-7",{"$f":"HYPERLINK(\"https://www.garethstevens.com/\"&Table1[[#This Row],[ISBN]],\"Weblink\")","v":"Weblink"},2016,"August 2015","Library","7.250 X 9.250","Author","Rupert Matthews",null,null,null,null,"U","980L","Grade 5 - 6","Grade 5 - 8","Spartan soldiers trained for life. As long as they could walk, men into their 70s took part in the vigorous, brutal preparation for war. Strength was so valued, weak babies were left to die on a nearby mountain. Readers learn about these fearless fighters, as well as Spartan cultivation of strength, through historical images and detailed descriptions of Spartan warfare, soldier training, and more. Fully supportive of the social studies curriculum, the main content guides readers through the story of the 300 and King Leonidas and weapons and armor of this ancient Greek city-state.","English",31.95,23.95,"938","48 pp.",{"$f":"Table1[[#This Row],[QTY]]*Table1[[#This Row],['# Books]]","v":0},{"$f":"Table1[[#This Row],[QTY]]*Table1[[#This Row],[S&L Price]]","v":0}]
[null,null,181,"History's Fearless Fighters",1,"Spartans","eBook",null,"978-1-4824-3183-4",{"$f":"HYPERLINK(\"https://www.garethstevens.com/\"&Table1[[#This Row],[ISBN]],\"Weblink\")","v":"Weblink"},2016,"August 2015",null,null,"Author","Rupert Matthews",null,null,null,null,"U","980L","Grade 5 - 6","Grade 5 - 8","Spartan soldiers trained for life. As long as they could walk, men into their 70s took part in the vigorous, brutal preparation for war. Strength was so valued, weak babies were left to die on a nearby mountain. Readers learn about these fearless fighters, as well as Spartan cultivation of strength, through historical images and detailed descriptions of Spartan warfare, soldier training, and more. Fully supportive of the social studies curriculum, the main content guides readers through the story of the 300 and King Leonidas and weapons and armor of this ancient Greek city-state.","English",31.95,23.95,"938","48 pp.",{"$f":"Table1[[#This Row],[QTY]]*Table1[[#This Row],['# Books]]","v":0},{"$f":"Table1[[#This Row],[QTY]]*Table1[[#This Row],[S&L Price]]","v":0}]
[null,null,181,"History's Greatest Rivals",1,"Abraham Lincoln vs. Jefferson Davis: Presidents of a Divided Nation","Library Bound Book",null,"978-1-4824-4221-2",{"$f":"HYPERLINK(\"https://www.garethstevens.com/\"&Table1[[#This Row],[ISBN]],\"Weblink\")","v":"Weblink"},2016,"January 2016","Library","7.250 X 9.250","Author","Ellis Roxburgh",null,null,null,null,"U","940L","Grade 6 - 8","Grade 6 - 8","Abraham Lincoln and Jefferson Davis rose to power during unprecedented times. What had once been a unified nation—the United States of America—was now at odds in a civil war. This volume offers a unique way to study the events of the Civil War, through the relationship between Lincoln and Davis and their fateful decisions during the bloody conflict. Readers will delve into key topics of the elementary social studies curriculum in this engaging text, which is augmented by historical paintings, photographs, primary sources, and a timeline.","English",31.95,23.95,"973.7--dc23","48 pp.",{"$f":"Table1[[#This Row],[QTY]]*Table1[[#This Row],['# Books]]","v":0},{"$f":"Table1[[#This Row],[QTY]]*Table1[[#This Row],[S&L Price]]","v":0}]
[null,null,181,"History's Greatest Rivals",1,"Abraham Lincoln vs. Jefferson Davis: Presidents of a Divided Nation","eBook",null,"978-1-4824-4222-9",{"$f":"HYPERLINK(\"https://www.garethstevens.com/\"&Table1[[#This Row],[ISBN]],\"Weblink\")","v":"Weblink"},2016,"January 2016",null,null,"Author","Ellis Roxburgh",null,null,null,null,"U","940L","Grade 6 - 8","Grade 6 - 8","Abraham Lincoln and Jefferson Davis rose to power during unprecedented times. What had once been a unified nation—the United States of America—was now at odds in a civil war. This volume offers a unique way to study the events of the Civil War, through the relationship between Lincoln and Davis and their fateful decisions during the bloody conflict. Readers will delve into key topics of the elementary social studies curriculum in this engaging text, which is augmented by historical paintings, photographs, primary sources, and a timeline.","English",31.95,23.95,"973.7--dc23","48 pp.",{"$f":"Table1[[#This Row],[QTY]]*Table1[[#This Row],['# Books]]","v":0},{"$f":"Table1[[#This Row],[QTY]]*Table1[[#This Row],[S&L Price]]","v":0}]
[null,null,181,"History's Greatest Rivals",1,"Cleopatra vs. the Roman Empire: Power, Conquest, and Tragedy","Library Bound Book",null,"978-1-4824-4225-0",{"$f":"HYPERLINK(\"https://www.garethstevens.com/\"&Table1[[#This Row],[ISBN]],\"Weblink\")","v":"Weblink"},2016,"January 2016","Library","7.250 X 9.250","Author","Ellis Roxburgh",null,null,null,null,"U","980L","Grade 6 - 8","Grade 6 - 8","Egyptian queen Cleopatra VII’s life reads like a thrilling novel. Her struggle to retain her throne led her to join forces with Roman ruler Julius Caesar and later Mark Anthony. The power struggles within Rome came to a head at the Battle of Actium in 31 BC. The victory of Octavian meant the tragic downfalls of both Cleopatra and Mark Anthony and the expansion of Roman influence. This in-depth look at two empires in turmoil is enhanced by beautiful illustrations and insightful quotation boxes. Readers will gain an appreciation for these ancient empires through this historical text.","English",31.95,23.95,"932/​.021--dc23","48 pp.",{"$f":"Table1[[#This Row],[QTY]]*Table1[[#This Row],['# Books]]","v":0},{"$f":"Table1[[#This Row],[QTY]]*Table1[[#This Row],[S&L Price]]","v":0}]
[null,null,181,"History's Greatest Rivals",1,"Cleopatra vs. the Roman Empire: Power, Conquest, and Tragedy","eBook",null,"978-1-4824-4226-7",{"$f":"HYPERLINK(\"https://www.garethstevens.com/\"&Table1[[#This Row],[ISBN]],\"Weblink\")","v":"Weblink"},2016,"January 2016",null,null,"Author","Ellis Roxburgh",null,null,null,null,"U","980L","Grade 6 - 8","Grade 6 - 8","Egyptian queen Cleopatra VII’s life reads like a thrilling novel. Her struggle to retain her throne led her to join forces with Roman ruler Julius Caesar and later Mark Anthony. The power struggles within Rome came to a head at the Battle of Actium in 31 BC. The victory of Octavian meant the tragic downfalls of both Cleopatra and Mark Anthony and the expansion of Roman influence. This in-depth look at two empires in turmoil is enhanced by beautiful illustrations and insightful quotation boxes. Readers will gain an appreciation for these ancient empires through this historical text.","English",31.95,23.95,"932/​.021--dc23","48 pp.",{"$f":"Table1[[#This Row],[QTY]]*Table1[[#This Row],['# Books]]","v":0},{"$f":"Table1[[#This Row],[QTY]]*Table1[[#This Row],[S&L Price]]","v":0}]
[null,null,181,"History's Greatest Rivals",1,"Elizabeth I of England vs. Mary, Queen of Scots: Battle for the Throne","Library Bound Book",null,"978-1-4824-4229-8",{"$f":"HYPERLINK(\"https://www.garethstevens.com/\"&Table1[[#This Row],[ISBN]],\"Weblink\")","v":"Weblink"},2016,"January 2016","Library","7.250 X 9.250","Author","Ellis Roxburgh",null,null,null,null,"U","1010L","Grade 6 - 8","Grade 6 - 8","British monarch Elizabeth I’s long reign is remembered as a period of stability for England. Yet, her relationship with her cousin, Mary, Queen of Scots, was contentious at best, leading to a fatal ending for one of the monarchs. This intrigue-filled volume transports readers into the throne rooms of Europe during the 16th century, where they’ll learn of shifting lines of succession, clashes between religions, and assassination plots. Actual quotes from the rulers themselves as well as stunning portraits and paintings mark the pages of this well-designed book, and a timeline summarizes the essential events of this historical rivalry.","English",31.95,23.95,"941.05/​50922--dc23","48 pp.",{"$f":"Table1[[#This Row],[QTY]]*Table1[[#This Row],['# Books]]","v":0},{"$f":"Table1[[#This Row],[QTY]]*Table1[[#This Row],[S&L Price]]","v":0}]
[null,null,181,"History's Greatest Rivals",1,"Elizabeth I of England vs. Mary, Queen of Scots: Battle for the Throne","eBook",null,"978-1-4824-4230-4",{"$f":"HYPERLINK(\"https://www.garethstevens.com/\"&Table1[[#This Row],[ISBN]],\"Weblink\")","v":"Weblink"},2016,"January 2016",null,null,"Author","Ellis Roxburgh",null,null,null,null,"U","1010L","Grade 6 - 8","Grade 6 - 8","British monarch Elizabeth I’s long reign is remembered as a period of stability for England. Yet, her relationship with her cousin, Mary, Queen of Scots, was contentious at best, leading to a fatal ending for one of the monarchs. This intrigue-filled volume transports readers into the throne rooms of Europe during the 16th century, where they’ll learn of shifting lines of succession, clashes between religions, and assassination plots. Actual quotes from the rulers themselves as well as stunning portraits and paintings mark the pages of this well-designed book, and a timeline summarizes the essential events of this historical rivalry.","English",31.95,23.95,"941.05/​50922--dc23","48 pp.",{"$f":"Table1[[#This Row],[QTY]]*Table1[[#This Row],['# Books]]","v":0},{"$f":"Table1[[#This Row],[QTY]]*Table1[[#This Row],[S&L Price]]","v":0}]
[null,null,181,"History's Greatest Rivals",1,"Robert Peary vs. Frederick Cook: Race to the North Pole","Library Bound Book",null,"978-1-4824-4233-5",{"$f":"HYPERLINK(\"https://www.garethstevens.com/\"&Table1[[#This Row],[ISBN]],\"Weblink\")","v":"Weblink"},2016,"January 2016","Library","7.250 X 9.250","Author","Ellis Roxburgh",null,null,null,null,"U","990L","Grade 6 - 8","Grade 6 - 8","When explorer Robert Peary returned from reaching the North Pole in 1909—his third attempt—he was shocked to learn Dr. Frederick Cook claimed to have reached it nearly a whole year before him. Both men’s assertions are now in doubt! That doesn’t make this exciting account of the race to the North Pole any less fascinating. Readers will immerse themselves in the world of Arctic exploration and all that entailed at the beginning of the 20th century, including adopting Inuit customs. Quotations from each explorer, a timeline, and photographs of the people and places involved in this intense rivalry will cast light on the controversial competition.","English",31.95,23.95,"910'.9163'2--dc23","48 pp.",{"$f":"Table1[[#This Row],[QTY]]*Table1[[#This Row],['# Books]]","v":0},{"$f":"Table1[[#This Row],[QTY]]*Table1[[#This Row],[S&L Price]]","v":0}]
[null,null,181,"History's Greatest Rivals",1,"Robert Peary vs. Frederick Cook: Race to the North Pole","eBook",null,"978-1-4824-4234-2",{"$f":"HYPERLINK(\"https://www.garethstevens.com/\"&Table1[[#This Row],[ISBN]],\"Weblink\")","v":"Weblink"},2016,"January 2016",null,null,"Author","Ellis Roxburgh",null,null,null,null,"U","990L","Grade 6 - 8","Grade 6 - 8","When explorer Robert Peary returned from reaching the North Pole in 1909—his third attempt—he was shocked to learn Dr. Frederick Cook claimed to have reached it nearly a whole year before him. Both men’s assertions are now in doubt! That doesn’t make this exciting account of the race to the North Pole any less fascinating. Readers will immerse themselves in the world of Arctic exploration and all that entailed at the beginning of the 20th century, including adopting Inuit customs. Quotations from each explorer, a timeline, and photographs of the people and places involved in this intense rivalry will cast light on the controversial competition.","English",31.95,23.95,"910'.9163'2--dc23","48 pp.",{"$f":"Table1[[#This Row],[QTY]]*Table1[[#This Row],['# Books]]","v":0},{"$f":"Table1[[#This Row],[QTY]]*Table1[[#This Row],[S&L Price]]","v":0}]
[null,null,181,"History's Greatest Rivals",1,"Sitting Bull vs. George Armstrong Custer: The Battle of the Little Bighorn","Library Bound Book",null,"978-1-4824-4237-3",{"$f":"HYPERLINK(\"https://www.garethstevens.com/\"&Table1[[#This Row],[ISBN]],\"Weblink\")","v":"Weblink"},2016,"January 2016","Library","7.250 X 9.250","Author","Ellis Roxburgh",null,null,null,null,"U","1000L","Grade 6 - 8","Grade 6 - 8","The outcome of the Battle of the Little Bighorn of 1876 stunned Americans. They were astounded that Native Americans could have defeated a US army force so decidedly. Only after examining the charismatic leaders in this conflict—Sioux chief Sitting Bull and Lieutenant Colonel George Armstrong Custer—can young historians understand how such a brutal battle took place. In this indispensable volume, filled with quotes, photographs, and paintings, many crucial events between Native Americans and the US government are scrutinized as well as the decisions made by the influential leaders that led to their ultimate demise.","English",31.95,23.95,"973.8/​2--dc23","48 pp.",{"$f":"Table1[[#This Row],[QTY]]*Table1[[#This Row],['# Books]]","v":0},{"$f":"Table1[[#This Row],[QTY]]*Table1[[#This Row],[S&L Price]]","v":0}]
[null,null,181,"History's Greatest Rivals",1,"Sitting Bull vs. George Armstrong Custer: The Battle of the Little Bighorn","eBook",null,"978-1-4824-4238-0",{"$f":"HYPERLINK(\"https://www.garethstevens.com/\"&Table1[[#This Row],[ISBN]],\"Weblink\")","v":"Weblink"},2016,"January 2016",null,null,"Author","Ellis Roxburgh",null,null,null,null,"U","1000L","Grade 6 - 8","Grade 6 - 8","The outcome of the Battle of the Little Bighorn of 1876 stunned Americans. They were astounded that Native Americans could have defeated a US army force so decidedly. Only after examining the charismatic leaders in this conflict—Sioux chief Sitting Bull and Lieutenant Colonel George Armstrong Custer—can young historians understand how such a brutal battle took place. In this indispensable volume, filled with quotes, photographs, and paintings, many crucial events between Native Americans and the US government are scrutinized as well as the decisions made by the influential leaders that led to their ultimate demise.","English",31.95,23.95,"973.8/​2--dc23","48 pp.",{"$f":"Table1[[#This Row],[QTY]]*Table1[[#This Row],['# Books]]","v":0},{"$f":"Table1[[#This Row],[QTY]]*Table1[[#This Row],[S&L Price]]","v":0}]
[null,null,181,"History's Greatest Rivals",1,"Thomas Jefferson vs. John Adams: Founding Fathers and Political Rivals","Library Bound Book",null,"978-1-4824-4241-0",{"$f":"HYPERLINK(\"https://www.garethstevens.com/\"&Table1[[#This Row],[ISBN]],\"Weblink\")","v":"Weblink"},2016,"January 2016","Library","7.250 X 9.250","Author","Ellis Roxburgh",null,null,null,null,"U","940L","Grade 6 - 8","Grade 6 - 8","It may be surprising to even history buffs that Founding Fathers Thomas Jefferson and John Adams were at odds for years after the American Revolution. Each held tightly to their opposing views of how the new nation should be governed. This absorbing text not only reviews many important benchmarks of American history—such as the writing of the US Constitution and the establishment of political parties—it also provides well-rounded analyses of these two powerful men, their relationship, and their eventual reconciliation. Their prolific writings provide many significant quotations throughout this valuable and insightful volume.","English",31.95,23.95,"973.4/​6092--dc23","48 pp.",{"$f":"Table1[[#This Row],[QTY]]*Table1[[#This Row],['# Books]]","v":0},{"$f":"Table1[[#This Row],[QTY]]*Table1[[#This Row],[S&L Price]]","v":0}]
[null,null,181,"History's Greatest Rivals",1,"Thomas Jefferson vs. John Adams: Founding Fathers and Political Rivals","eBook",null,"978-1-4824-4242-7",{"$f":"HYPERLINK(\"https://www.garethstevens.com/\"&Table1[[#This Row],[ISBN]],\"Weblink\")","v":"Weblink"},2016,"January 2016",null,null,"Author","Ellis Roxburgh",null,null,null,null,"U","940L","Grade 6 - 8","Grade 6 - 8","It may be surprising to even history buffs that Founding Fathers Thomas Jefferson and John Adams were at odds for years after the American Revolution. Each held tightly to their opposing views of how the new nation should be governed. This absorbing text not only reviews many important benchmarks of American history—such as the writing of the US Constitution and the establishment of political parties—it also provides well-rounded analyses of these two powerful men, their relationship, and their eventual reconciliation. Their prolific writings provide many significant quotations throughout this valuable and insightful volume.","English",31.95,23.95,"973.4/​6092--dc23","48 pp.",{"$f":"Table1[[#This Row],[QTY]]*Table1[[#This Row],['# Books]]","v":0},{"$f":"Table1[[#This Row],[QTY]]*Table1[[#This Row],[S&L Price]]","v":0}]
[null,null,181,"Wanted! Famous Outlaws",1,"Billy the Kid: A Notorious Gunfighter of the Wild West","Library Bound Book",null,"978-1-4824-4245-8",{"$f":"HYPERLINK(\"https://www.garethstevens.com/\"&Table1[[#This Row],[ISBN]],\"Weblink\")","v":"Weblink"},2016,"January 2016","Library","7.250 X 9.250","Author","Tim Cooke",null,null,null,null,"R","800L","Grade 6 - 8","Grade 6 - 8","Though born in Manhattan in 1859, William Henry McCarty, Jr.—also known as Billy the Kid—became a legend of the Wild West. Focusing on Billy as a horse thief, cattle rustler, and gunfighter, this stirring biography examines both the hard facts and what may be fiction about the infamous outlaw. His association with the Regulators, pursuit by Pat Garrett, and eventual demise are all included in this fast-paced volume. Historical photographs, intriguing quotations, and other appealing design features—including a Rogues’ Gallery of criminals—bring the era of the gunslinger to life.","English",31.95,23.95,"364.15'52092--dc23","48 pp.",{"$f":"Table1[[#This Row],[QTY]]*Table1[[#This Row],['# Books]]","v":0},{"$f":"Table1[[#This Row],[QTY]]*Table1[[#This Row],[S&L Price]]","v":0}]
[null,null,181,"Wanted! Famous Outlaws",1,"Billy the Kid: A Notorious Gunfighter of the Wild West","eBook",null,"978-1-4824-4246-5",{"$f":"HYPERLINK(\"https://www.garethstevens.com/\"&Table1[[#This Row],[ISBN]],\"Weblink\")","v":"Weblink"},2016,"January 2016",null,null,"Author","Tim Cooke",null,null,null,null,"R","800L","Grade 6 - 8","Grade 6 - 8","Though born in Manhattan in 1859, William Henry McCarty, Jr.—also known as Billy the Kid—became a legend of the Wild West. Focusing on Billy as a horse thief, cattle rustler, and gunfighter, this stirring biography examines both the hard facts and what may be fiction about the infamous outlaw. His association with the Regulators, pursuit by Pat Garrett, and eventual demise are all included in this fast-paced volume. Historical photographs, intriguing quotations, and other appealing design features—including a Rogues’ Gallery of criminals—bring the era of the gunslinger to life.","English",31.95,23.95,"364.15'52092--dc23","48 pp.",{"$f":"Table1[[#This Row],[QTY]]*Table1[[#This Row],['# Books]]","v":0},{"$f":"Table1[[#This Row],[QTY]]*Table1[[#This Row],[S&L Price]]","v":0}]
[null,null,181,"Wanted! Famous Outlaws",1,"Blackbeard: A Notorious Pirate in the Caribbean","Library Bound Book",null,"978-1-4824-4249-6",{"$f":"HYPERLINK(\"https://www.garethstevens.com/\"&Table1[[#This Row],[ISBN]],\"Weblink\")","v":"Weblink"},2016,"January 2016","Library","7.250 X 9.250","Author","Tim Cooke",null,null,null,null,"R","860L","Grade 6 - 8","Grade 6 - 8","Edward Teach, otherwise known as the pirate Blackbeard, was a terror of the seas in the 1700s. Merchant ships had little choice but to surrender to his 40-cannon Queen Anne’s Revenge. At one point, Teach accepted a pardon but couldn’t retire from piracy for good. This adventurous volume takes readers into the background of the famous figure, explains the origins of his striking monikor, and describes the bloody skirmish that ended his life. Sidebars and fact boxes offer more information about both pirates and privateers and the perils of each chosen path. Beautiful illustrations and photographs further enhance this high-interest book.","English",31.95,23.95,"910.4'5--dc23","48 pp.",{"$f":"Table1[[#This Row],[QTY]]*Table1[[#This Row],['# Books]]","v":0},{"$f":"Table1[[#This Row],[QTY]]*Table1[[#This Row],[S&L Price]]","v":0}]
[null,null,181,"Wanted! Famous Outlaws",1,"Blackbeard: A Notorious Pirate in the Caribbean","eBook",null,"978-1-4824-4250-2",{"$f":"HYPERLINK(\"https://www.garethstevens.com/\"&Table1[[#This Row],[ISBN]],\"Weblink\")","v":"Weblink"},2016,"January 2016",null,null,"Author","Tim Cooke",null,null,null,null,"R","860L","Grade 6 - 8","Grade 6 - 8","Edward Teach, otherwise known as the pirate Blackbeard, was a terror of the seas in the 1700s. Merchant ships had little choice but to surrender to his 40-cannon Queen Anne’s Revenge. At one point, Teach accepted a pardon but couldn’t retire from piracy for good. This adventurous volume takes readers into the background of the famous figure, explains the origins of his striking monikor, and describes the bloody skirmish that ended his life. Sidebars and fact boxes offer more information about both pirates and privateers and the perils of each chosen path. Beautiful illustrations and photographs further enhance this high-interest book.","English",31.95,23.95,"910.4'5--dc23","48 pp.",{"$f":"Table1[[#This Row],[QTY]]*Table1[[#This Row],['# Books]]","v":0},{"$f":"Table1[[#This Row],[QTY]]*Table1[[#This Row],[S&L Price]]","v":0}]
[null,null,181,"Wanted! Famous Outlaws",1,"Bonnie and Clyde: Notorious Outlaws of the Great Depression","Library Bound Book",null,"978-1-4824-4253-3",{"$f":"HYPERLINK(\"https://www.garethstevens.com/\"&Table1[[#This Row],[ISBN]],\"Weblink\")","v":"Weblink"},2016,"January 2016","Library","7.250 X 9.250","Author","Tim Cooke",null,null,null,null,"S",null,"Grade 6 - 8","Grade 6 - 8","Clyde Barrow and Bonnie Parker, the notorious Bonnie and Clyde, ruled the front of newspapers and the public’s imagination in the 1930s. While most of the nation suffered under the Great Depression, the duo and their gang pulled off a string of robberies, leaving many dead in their daring escapes. Readers will learn why these two famous figures have been romanticized by so many, even today, and follow Texas Ranger Frank Hamer as his posse tracks down and ambushes the outlaws. Primary sources, historical photographs, and revealing quotations shed more light on the dramatic true story.","English",31.95,23.95,"364.15'52092273--dc23","48 pp.",{"$f":"Table1[[#This Row],[QTY]]*Table1[[#This Row],['# Books]]","v":0},{"$f":"Table1[[#This Row],[QTY]]*Table1[[#This Row],[S&L Price]]","v":0}]
[null,null,181,"Wanted! Famous Outlaws",1,"Bonnie and Clyde: Notorious Outlaws of the Great Depression","eBook",null,"978-1-4824-4254-0",{"$f":"HYPERLINK(\"https://www.garethstevens.com/\"&Table1[[#This Row],[ISBN]],\"Weblink\")","v":"Weblink"},2016,"January 2016",null,null,"Author","Tim Cooke",null,null,null,null,"S",null,"Grade 6 - 8","Grade 6 - 8","Clyde Barrow and Bonnie Parker, the notorious Bonnie and Clyde, ruled the front of newspapers and the public’s imagination in the 1930s. While most of the nation suffered under the Great Depression, the duo and their gang pulled off a string of robberies, leaving many dead in their daring escapes. Readers will learn why these two famous figures have been romanticized by so many, even today, and follow Texas Ranger Frank Hamer as his posse tracks down and ambushes the outlaws. Primary sources, historical photographs, and revealing quotations shed more light on the dramatic true story.","English",31.95,23.95,"364.15'52092273--dc23","48 pp.",{"$f":"Table1[[#This Row],[QTY]]*Table1[[#This Row],['# Books]]","v":0},{"$f":"Table1[[#This Row],[QTY]]*Table1[[#This Row],[S&L Price]]","v":0}]
[null,null,181,"Wanted! Famous Outlaws",1,"Butch Cassidy and the Sundance Kid: Notorious Outlaws of the West","Library Bound Book",null,"978-1-4824-4257-1",{"$f":"HYPERLINK(\"https://www.garethstevens.com/\"&Table1[[#This Row],[ISBN]],\"Weblink\")","v":"Weblink"},2016,"January 2016","Library","7.250 X 9.250","Author","Tim Cooke",null,null,null,null,"S","890L","Grade 6 - 8","Grade 6 - 8","Robert Leroy Parker’s transformation into Butch Cassidy wasn’t immediate. He worked on ranches as a cowboy, was a butcher for a time, and finally chose a path of crime in the American West in the late 1800s. Cassidy’s involvement with the band of outlaws known as the Wild Bunch and later partnership with Harry Longabaugh, the “Sundance Kid,” resulted in a crime spree and a life on the run. Butch Cassidy and the Sundance Kid fled to South America, where their fate remains a mystery. This lively, well-researched volume—filled with fascinating photographs and fact boxes—provides a gripping account of a fugitive’s life and legend.","English",31.95,23.95,"364.1552092--dc23","48 pp.",{"$f":"Table1[[#This Row],[QTY]]*Table1[[#This Row],['# Books]]","v":0},{"$f":"Table1[[#This Row],[QTY]]*Table1[[#This Row],[S&L Price]]","v":0}]
[null,null,181,"Wanted! Famous Outlaws",1,"Butch Cassidy and the Sundance Kid: Notorious Outlaws of the West","eBook",null,"978-1-4824-4258-8",{"$f":"HYPERLINK(\"https://www.garethstevens.com/\"&Table1[[#This Row],[ISBN]],\"Weblink\")","v":"Weblink"},2016,"January 2016",null,null,"Author","Tim Cooke",null,null,null,null,"S","890L","Grade 6 - 8","Grade 6 - 8","Robert Leroy Parker’s transformation into Butch Cassidy wasn’t immediate. He worked on ranches as a cowboy, was a butcher for a time, and finally chose a path of crime in the American West in the late 1800s. Cassidy’s involvement with the band of outlaws known as the Wild Bunch and later partnership with Harry Longabaugh, the “Sundance Kid,” resulted in a crime spree and a life on the run. Butch Cassidy and the Sundance Kid fled to South America, where their fate remains a mystery. This lively, well-researched volume—filled with fascinating photographs and fact boxes—provides a gripping account of a fugitive’s life and legend.","English",31.95,23.95,"364.1552092--dc23","48 pp.",{"$f":"Table1[[#This Row],[QTY]]*Table1[[#This Row],['# Books]]","v":0},{"$f":"Table1[[#This Row],[QTY]]*Table1[[#This Row],[S&L Price]]","v":0}]
[null,null,181,"Wanted! Famous Outlaws",1,"Jesse James: A Notorious Bank Robber of the Wild West","Library Bound Book",null,"978-1-4824-4261-8",{"$f":"HYPERLINK(\"https://www.garethstevens.com/\"&Table1[[#This Row],[ISBN]],\"Weblink\")","v":"Weblink"},2016,"January 2016","Library","7.250 X 9.250","Author","Tim Cooke",null,null,null,null,"R","800L","Grade 6 - 8","Grade 6 - 8","Jesse James’s rise as a notorious outlaw was concurrent with the upheaval the West experienced before, during, and after the American Civil War. In fact, Jesse and his brother Frank became heroes to many who viewed them as Confederates battling the Union more than murderers and thieves. This thought-provoking volume tells the story of Jesse, from childhood to violent death, as well as relates valuable information about events in the United States that cultivated outlaws like the James brothers, including Bleeding Kansas and Reconstruction. The infamous man comes to life through photographs, illustrations, and an exciting narrative.","English",31.95,23.95,"364.1552092--dc23","48 pp.",{"$f":"Table1[[#This Row],[QTY]]*Table1[[#This Row],['# Books]]","v":0},{"$f":"Table1[[#This Row],[QTY]]*Table1[[#This Row],[S&L Price]]","v":0}]
[null,null,181,"Wanted! Famous Outlaws",1,"Jesse James: A Notorious Bank Robber of the Wild West","eBook",null,"978-1-4824-4265-6",{"$f":"HYPERLINK(\"https://www.garethstevens.com/\"&Table1[[#This Row],[ISBN]],\"Weblink\")","v":"Weblink"},2016,"January 2016",null,null,"Author","Tim Cooke",null,null,null,null,"R","800L","Grade 6 - 8","Grade 6 - 8","Jesse James’s rise as a notorious outlaw was concurrent with the upheaval the West experienced before, during, and after the American Civil War. In fact, Jesse and his brother Frank became heroes to many who viewed them as Confederates battling the Union more than murderers and thieves. This thought-provoking volume tells the story of Jesse, from childhood to violent death, as well as relates valuable information about events in the United States that cultivated outlaws like the James brothers, including Bleeding Kansas and Reconstruction. The infamous man comes to life through photographs, illustrations, and an exciting narrative.","English",31.95,23.95,"364.1552092--dc23","48 pp.",{"$f":"Table1[[#This Row],[QTY]]*Table1[[#This Row],['# Books]]","v":0},{"$f":"Table1[[#This Row],[QTY]]*Table1[[#This Row],[S&L Price]]","v":0}]
[null,null,181,"Wanted! Famous Outlaws",1,"Ned Kelly: A Notorious Bandit of the Australian Outback","Library Bound Book",null,"978-1-4824-4262-5",{"$f":"HYPERLINK(\"https://www.garethstevens.com/\"&Table1[[#This Row],[ISBN]],\"Weblink\")","v":"Weblink"},2016,"January 2016","Library","7.250 X 9.250","Author","Tim Cooke",null,null,null,null,"S","880L","Grade 6 - 8","Grade 6 - 8","Ned Kelly, famous outlaw and folk hero, grew up in Australia in the late 1800s. His life of crime began as a teenager stealing horses and later escalated to murder. Kelly soon had a price on his head, which could be collected through his capture or death. This high-interest volume relays the events that led to Kelly’s hanging in 1880 and why he became a hero to many Australians. Photographs of Kelly and his accomplices, additional information in sidebars and fact boxes, and direct quotations from those involved reveal much about Australia’s history and culture.","English",31.95,23.95,"364.15'5092--dc23","48 pp.",{"$f":"Table1[[#This Row],[QTY]]*Table1[[#This Row],['# Books]]","v":0},{"$f":"Table1[[#This Row],[QTY]]*Table1[[#This Row],[S&L Price]]","v":0}]
[null,null,181,"Wanted! Famous Outlaws",1,"Ned Kelly: A Notorious Bandit of the Australian Outback","eBook",null,"978-1-4824-4263-2",{"$f":"HYPERLINK(\"https://www.garethstevens.com/\"&Table1[[#This Row],[ISBN]],\"Weblink\")","v":"Weblink"},2016,"January 2016",null,null,"Author","Tim Cooke",null,null,null,null,"S","880L","Grade 6 - 8","Grade 6 - 8","Ned Kelly, famous outlaw and folk hero, grew up in Australia in the late 1800s. His life of crime began as a teenager stealing horses and later escalated to murder. Kelly soon had a price on his head, which could be collected through his capture or death. This high-interest volume relays the events that led to Kelly’s hanging in 1880 and why he became a hero to many Australians. Photographs of Kelly and his accomplices, additional information in sidebars and fact boxes, and direct quotations from those involved reveal much about Australia’s history and culture.","English",31.95,23.95,"364.15'5092--dc23","48 pp.",{"$f":"Table1[[#This Row],[QTY]]*Table1[[#This Row],['# Books]]","v":0},{"$f":"Table1[[#This Row],[QTY]]*Table1[[#This Row],[S&L Price]]","v":0}]
[null,null,181,"Field & Stream's Guide to the Outdoors",1,"Field & Stream's Guide to Catching Bass","Library Bound Book",null,"978-1-4824-3185-8",{"$f":"HYPERLINK(\"https://www.garethstevens.com/\"&Table1[[#This Row],[ISBN]],\"Weblink\")","v":"Weblink"},2016,"August 2015","Library","5.750 X 8.250","Author, Edited by","Joe Cermele, The Editors of Field and Stream",null,null,44,null,"V",null,"Grade 6 - 8","Grade 6 - 8","Fishing is a sport that both the inexperienced and the expert can enjoy, and bass fishing is one of the most exhilarating kinds. In fact, the largemouth bass is the number-one most sought-after gamefish species in the United States. This well-researched guide levels the playing field for those on the lookout for both smallmouth and largemouth bass. Readers will get to know the best bait, lures, fishing spots, and methods to snag their prize, even if they don't have a boat. Beautiful photographs, diagrams, and illustrations accompany the motivating and easy-to-follow narrative.","English",35.950000000000003,26.95,"799.17--dc23","96 pp.",{"$f":"Table1[[#This Row],[QTY]]*Table1[[#This Row],['# Books]]","v":0},{"$f":"Table1[[#This Row],[QTY]]*Table1[[#This Row],[S&L Price]]","v":0}]
[null,null,181,"Field & Stream's Guide to the Outdoors",1,"Field & Stream's Guide to Catching Bass","eBook",null,"978-1-4824-3186-5",{"$f":"HYPERLINK(\"https://www.garethstevens.com/\"&Table1[[#This Row],[ISBN]],\"Weblink\")","v":"Weblink"},2016,"August 2015",null,null,"Author, Edited by","Joe Cermele, The Editors of Field and Stream",null,null,44,null,"V",null,"Grade 6 - 8","Grade 6 - 8","Fishing is a sport that both the inexperienced and the expert can enjoy, and bass fishing is one of the most exhilarating kinds. In fact, the largemouth bass is the number-one most sought-after gamefish species in the United States. This well-researched guide levels the playing field for those on the lookout for both smallmouth and largemouth bass. Readers will get to know the best bait, lures, fishing spots, and methods to snag their prize, even if they don't have a boat. Beautiful photographs, diagrams, and illustrations accompany the motivating and easy-to-follow narrative.","English",35.950000000000003,26.95,"799.17--dc23","96 pp.",{"$f":"Table1[[#This Row],[QTY]]*Table1[[#This Row],['# Books]]","v":0},{"$f":"Table1[[#This Row],[QTY]]*Table1[[#This Row],[S&L Price]]","v":0}]
[null,null,181,"Field & Stream's Guide to the Outdoors",1,"Field & Stream's Guide to Hunting Whitetail","Library Bound Book",null,"978-1-4824-3187-2",{"$f":"HYPERLINK(\"https://www.garethstevens.com/\"&Table1[[#This Row],[ISBN]],\"Weblink\")","v":"Weblink"},2016,"August 2015","Library","5.750 X 8.250","Author(s)","Scott Bestful, Dave Hurteau",null,null,44,null,"V",null,"Grade 6 - 8","Grade 6 - 8","From the basics of deer hunting to advanced tactics, this comprehensive volume has tips and tricks for whitetail hunters of all levels. Readers will get to know how to cover their own scent, \"read\" scrapes, and track a deer, as well as what to do once a buck is down. They'll become familiar with various kinds of gear they'll need for a successful expedition, and they'll be reminded of safety practices imperative to hunting with weapons. Numbered instructions, labeled illustrations, and colorful maps, diagrams, and photographs make this book an instructive and entertaining how-to guide.","English",35.950000000000003,26.95,"799.2--dc23","96 pp.",{"$f":"Table1[[#This Row],[QTY]]*Table1[[#This Row],['# Books]]","v":0},{"$f":"Table1[[#This Row],[QTY]]*Table1[[#This Row],[S&L Price]]","v":0}]
[null,null,181,"Field & Stream's Guide to the Outdoors",1,"Field & Stream's Guide to Hunting Whitetail","eBook",null,"978-1-4824-3188-9",{"$f":"HYPERLINK(\"https://www.garethstevens.com/\"&Table1[[#This Row],[ISBN]],\"Weblink\")","v":"Weblink"},2016,"August 2015",null,null,"Author(s)","Scott Bestful, Dave Hurteau",null,null,44,null,"V",null,"Grade 6 - 8","Grade 6 - 8","From the basics of deer hunting to advanced tactics, this comprehensive volume has tips and tricks for whitetail hunters of all levels. Readers will get to know how to cover their own scent, \"read\" scrapes, and track a deer, as well as what to do once a buck is down. They'll become familiar with various kinds of gear they'll need for a successful expedition, and they'll be reminded of safety practices imperative to hunting with weapons. Numbered instructions, labeled illustrations, and colorful maps, diagrams, and photographs make this book an instructive and entertaining how-to guide.","English",35.950000000000003,26.95,"799.2--dc23","96 pp.",{"$f":"Table1[[#This Row],[QTY]]*Table1[[#This Row],['# Books]]","v":0},{"$f":"Table1[[#This Row],[QTY]]*Table1[[#This Row],[S&L Price]]","v":0}]
[null,null,181,"Field & Stream's Guide to the Outdoors",1,"Outdoor Life's Disaster Survival Guide","Library Bound Book",null,"978-1-4824-3189-6",{"$f":"HYPERLINK(\"https://www.garethstevens.com/\"&Table1[[#This Row],[ISBN]],\"Weblink\")","v":"Weblink"},2016,"August 2015","Library","5.750 X 8.250","Author(s)","Rich Johnson, Robert F. James",null,null,44,null,"V","1020L","Grade 6 - 8","Grade 6 - 8","Hurricanes, floods, volcanic eruptions, forest fires, sandstorms, blizzards, and tsunamis. These are the many disasters that people face around the world. Often, a little knowledge is what separates survivors and victims. This attention-grabbing volume is crammed with lifesaving content for all readers, and not only methods of surviving major disasters but also events such as broken bones. First-aid techniques, the Heimlich maneuver, and CPR are included in this helpful guide. The high-interest content is well organized and easy to navigate. Each valuable section of information is accompanied by beneficial diagrams, illustrations, and photographs.","English",35.950000000000003,26.95,"613.69--dc23","96 pp.",{"$f":"Table1[[#This Row],[QTY]]*Table1[[#This Row],['# Books]]","v":0},{"$f":"Table1[[#This Row],[QTY]]*Table1[[#This Row],[S&L Price]]","v":0}]
[null,null,181,"Field & Stream's Guide to the Outdoors",1,"Outdoor Life's Disaster Survival Guide","eBook",null,"978-1-4824-3190-2",{"$f":"HYPERLINK(\"https://www.garethstevens.com/\"&Table1[[#This Row],[ISBN]],\"Weblink\")","v":"Weblink"},2016,"August 2015",null,null,"Author(s)","Rich Johnson, Robert F. James",null,null,44,null,"V","1020L","Grade 6 - 8","Grade 6 - 8","Hurricanes, floods, volcanic eruptions, forest fires, sandstorms, blizzards, and tsunamis. These are the many disasters that people face around the world. Often, a little knowledge is what separates survivors and victims. This attention-grabbing volume is crammed with lifesaving content for all readers, and not only methods of surviving major disasters but also events such as broken bones. First-aid techniques, the Heimlich maneuver, and CPR are included in this helpful guide. The high-interest content is well organized and easy to navigate. Each valuable section of information is accompanied by beneficial diagrams, illustrations, and photographs.","English",35.950000000000003,26.95,"613.69--dc23","96 pp.",{"$f":"Table1[[#This Row],[QTY]]*Table1[[#This Row],['# Books]]","v":0},{"$f":"Table1[[#This Row],[QTY]]*Table1[[#This Row],[S&L Price]]","v":0}]
[null,null,181,"¡A medir! (Measure It!)",1,"Medir el peso (Measuring Weight)","Library Bound Book",null,"978-1-4824-4364-6",{"$f":"HYPERLINK(\"https://www.garethstevens.com/\"&Table1[[#This Row],[ISBN]],\"Weblink\")","v":"Weblink"},2016,"January 2016","Library","7.000 X 7.000","Author, Translated by","T. H. Baer , Esther Sarfatti","2.8","0.5",null,null,"H",null,"Grade 1 - 2","Grade 1 - 3","It’s usually rude to ask how much someone weighs, but in science it’s an important thing to know! Readers learn how to measure weight in a variety of different ways, from ounces or grams used for small measurements, pounds or kilograms used to measure people, and tons and metric tons we used to measure larger loads. Using simple text to explain scientific and engineering principles fulfills STEM course requirements in a fun and engaging way and colorful photographs and graphics make the content even more accessible.","Spanish",22.6,16.95,"530.8--dc23","24 pp.",{"$f":"Table1[[#This Row],[QTY]]*Table1[[#This Row],['# Books]]","v":0},{"$f":"Table1[[#This Row],[QTY]]*Table1[[#This Row],[S&L Price]]","v":0}]
[null,null,181,"¡A medir! (Measure It!)",1,"Medir el peso (Measuring Weight)","eBook",null,"978-1-4824-4336-3",{"$f":"HYPERLINK(\"https://www.garethstevens.com/\"&Table1[[#This Row],[ISBN]],\"Weblink\")","v":"Weblink"},2016,"January 2016",null,null,"Author, Translated by","T. H. Baer , Esther Sarfatti","2.8","0.5",null,null,"H",null,"Grade 1 - 2","Grade 1 - 3","It’s usually rude to ask how much someone weighs, but in science it’s an important thing to know! Readers learn how to measure weight in a variety of different ways, from ounces or grams used for small measurements, pounds or kilograms used to measure people, and tons and metric tons we used to measure larger loads. Using simple text to explain scientific and engineering principles fulfills STEM course requirements in a fun and engaging way and colorful photographs and graphics make the content even more accessible.","Spanish",22.6,16.95,"530.8--dc23","24 pp.",{"$f":"Table1[[#This Row],[QTY]]*Table1[[#This Row],['# Books]]","v":0},{"$f":"Table1[[#This Row],[QTY]]*Table1[[#This Row],[S&L Price]]","v":0}]
[null,null,181,"¡A medir! (Measure It!)",1,"Medir el volumen (Measuring Volume)","Library Bound Book",null,"978-1-4824-4366-0",{"$f":"HYPERLINK(\"https://www.garethstevens.com/\"&Table1[[#This Row],[ISBN]],\"Weblink\")","v":"Weblink"},2016,"January 2016","Library","7.000 X 7.000","Author, Translated by","T. H. Baer , Esther Sarfatti","2.9","0.5",null,null,"H",null,"Grade 1 - 2","Grade 1 - 3","Volume is the amount of space a liquid takes up in a container. This engaging book takes a look at how to measure volume and why it’s useful. Whether using the displacement method or simple containers marked with measurements, there are many different ways to measure liquids. Readers will learn to measure volume in both U.S. and International measurements to further their learning and ensure they can measure volume no matter what kind of container they use.","Spanish",22.6,16.95,"516.1--dc23","24 pp.",{"$f":"Table1[[#This Row],[QTY]]*Table1[[#This Row],['# Books]]","v":0},{"$f":"Table1[[#This Row],[QTY]]*Table1[[#This Row],[S&L Price]]","v":0}]
[null,null,181,"¡A medir! (Measure It!)",1,"Medir el volumen (Measuring Volume)","eBook",null,"978-1-4824-4338-7",{"$f":"HYPERLINK(\"https://www.garethstevens.com/\"&Table1[[#This Row],[ISBN]],\"Weblink\")","v":"Weblink"},2016,"January 2016",null,null,"Author, Translated by","T. H. Baer , Esther Sarfatti","2.9","0.5",null,null,"H",null,"Grade 1 - 2","Grade 1 - 3","Volume is the amount of space a liquid takes up in a container. This engaging book takes a look at how to measure volume and why it’s useful. Whether using the displacement method or simple containers marked with measurements, there are many different ways to measure liquids. Readers will learn to measure volume in both U.S. and International measurements to further their learning and ensure they can measure volume no matter what kind of container they use.","Spanish",22.6,16.95,"516.1--dc23","24 pp.",{"$f":"Table1[[#This Row],[QTY]]*Table1[[#This Row],['# Books]]","v":0},{"$f":"Table1[[#This Row],[QTY]]*Table1[[#This Row],[S&L Price]]","v":0}]
[null,null,181,"¡A medir! (Measure It!)",1,"Medir la altura (Measuring Height)","Library Bound Book",null,"978-1-4824-4361-5",{"$f":"HYPERLINK(\"https://www.garethstevens.com/\"&Table1[[#This Row],[ISBN]],\"Weblink\")","v":"Weblink"},2016,"January 2016","Library","7.000 X 7.000","Author, Translated by","T. H. Baer , Esther Sarfatti","2.7","0.5",null,null,"H",null,"Grade 1 - 2","Grade 1 - 3","How tall is that tree? Let's find out! Measuring the height of things is a great way to practice mathematics. This exciting book shows readers what tools are needed to measure and how a basic understanding of length and height can be used to tackle more complex math in the future. From measuring the height of a person to a giant skyscraper, this exciting book is a fun and easy way for young readers to tackle STEM topics with ease.","Spanish",22.6,16.95,"530.8--dc23","24 pp.",{"$f":"Table1[[#This Row],[QTY]]*Table1[[#This Row],['# Books]]","v":0},{"$f":"Table1[[#This Row],[QTY]]*Table1[[#This Row],[S&L Price]]","v":0}]
[null,null,181,"¡A medir! (Measure It!)",1,"Medir la altura (Measuring Height)","eBook",null,"978-1-4824-4333-2",{"$f":"HYPERLINK(\"https://www.garethstevens.com/\"&Table1[[#This Row],[ISBN]],\"Weblink\")","v":"Weblink"},2016,"January 2016",null,null,"Author, Translated by","T. H. Baer , Esther Sarfatti","2.7","0.5",null,null,"H",null,"Grade 1 - 2","Grade 1 - 3","How tall is that tree? Let's find out! Measuring the height of things is a great way to practice mathematics. This exciting book shows readers what tools are needed to measure and how a basic understanding of length and height can be used to tackle more complex math in the future. From measuring the height of a person to a giant skyscraper, this exciting book is a fun and easy way for young readers to tackle STEM topics with ease.","Spanish",22.6,16.95,"530.8--dc23","24 pp.",{"$f":"Table1[[#This Row],[QTY]]*Table1[[#This Row],['# Books]]","v":0},{"$f":"Table1[[#This Row],[QTY]]*Table1[[#This Row],[S&L Price]]","v":0}]
[null,null,181,"¡A medir! (Measure It!)",1,"Medir la distancia (Measuring Distance)","Library Bound Book",null,"978-1-4824-4362-2",{"$f":"HYPERLINK(\"https://www.garethstevens.com/\"&Table1[[#This Row],[ISBN]],\"Weblink\")","v":"Weblink"},2016,"January 2016","Library","7.000 X 7.000","Author, Translated by","T. H. Baer , Esther Sarfatti","2.6","0.5",null,null,"H",null,"Grade 1 - 2","Grade 1 - 3","Math is much more than measuring the sides of a triangle. This exciting book makes readers grab their rulers and maybe even their tape measures to explore the concept of distance in exciting and unpredictable ways. Readers learn through simple text the concept of distance, what increments to use when measuring it, and why knowing the distance between two points is an important concept for any student.","Spanish",22.6,16.95,"530.8--dc23","24 pp.",{"$f":"Table1[[#This Row],[QTY]]*Table1[[#This Row],['# Books]]","v":0},{"$f":"Table1[[#This Row],[QTY]]*Table1[[#This Row],[S&L Price]]","v":0}]
[null,null,181,"¡A medir! (Measure It!)",1,"Medir la distancia (Measuring Distance)","eBook",null,"978-1-4824-4334-9",{"$f":"HYPERLINK(\"https://www.garethstevens.com/\"&Table1[[#This Row],[ISBN]],\"Weblink\")","v":"Weblink"},2016,"January 2016",null,null,"Author, Translated by","T. H. Baer , Esther Sarfatti","2.6","0.5",null,null,"H",null,"Grade 1 - 2","Grade 1 - 3","Math is much more than measuring the sides of a triangle. This exciting book makes readers grab their rulers and maybe even their tape measures to explore the concept of distance in exciting and unpredictable ways. Readers learn through simple text the concept of distance, what increments to use when measuring it, and why knowing the distance between two points is an important concept for any student.","Spanish",22.6,16.95,"530.8--dc23","24 pp.",{"$f":"Table1[[#This Row],[QTY]]*Table1[[#This Row],['# Books]]","v":0},{"$f":"Table1[[#This Row],[QTY]]*Table1[[#This Row],[S&L Price]]","v":0}]
[null,null,181,"¡A medir! (Measure It!)",1,"Medir la temperatura (Measuring Temperature)","Library Bound Book",null,"978-1-4824-4363-9",{"$f":"HYPERLINK(\"https://www.garethstevens.com/\"&Table1[[#This Row],[ISBN]],\"Weblink\")","v":"Weblink"},2016,"January 2016","Library","7.000 X 7.000","Author, Translated by","T. H. Baer , Esther Sarfatti","2.9","0.5",null,null,"H",null,"Grade 1 - 2","Grade 1 - 3","The temperature outside is always changing, which means getting an accurate read on it is important. This informative book shows readers how to measure temperature with a thermometer. Knowing the temperature will keep readers from diving into a freezing cold pool, or ensure they wear light clothes on a hot summer day. Showing measurements in both Fahrenheit and Celsius gives this book added value, and means readers will know the temperature no matter what kind of thermometer they use anywhere in the world.","Spanish",22.6,16.95,"536'.50287--dc23","24 pp.",{"$f":"Table1[[#This Row],[QTY]]*Table1[[#This Row],['# Books]]","v":0},{"$f":"Table1[[#This Row],[QTY]]*Table1[[#This Row],[S&L Price]]","v":0}]
[null,null,181,"¡A medir! (Measure It!)",1,"Medir la temperatura (Measuring Temperature)","eBook",null,"978-1-4824-4335-6",{"$f":"HYPERLINK(\"https://www.garethstevens.com/\"&Table1[[#This Row],[ISBN]],\"Weblink\")","v":"Weblink"},2016,"January 2016",null,null,"Author, Translated by","T. H. Baer , Esther Sarfatti","2.9","0.5",null,null,"H",null,"Grade 1 - 2","Grade 1 - 3","The temperature outside is always changing, which means getting an accurate read on it is important. This informative book shows readers how to measure temperature with a thermometer. Knowing the temperature will keep readers from diving into a freezing cold pool, or ensure they wear light clothes on a hot summer day. Showing measurements in both Fahrenheit and Celsius gives this book added value, and means readers will know the temperature no matter what kind of thermometer they use anywhere in the world.","Spanish",22.6,16.95,"536'.50287--dc23","24 pp.",{"$f":"Table1[[#This Row],[QTY]]*Table1[[#This Row],['# Books]]","v":0},{"$f":"Table1[[#This Row],[QTY]]*Table1[[#This Row],[S&L Price]]","v":0}]
[null,null,181,"¡A medir! (Measure It!)",1,"Medir la velocidad (Measuring Speed)","Library Bound Book",null,"978-1-4824-4365-3",{"$f":"HYPERLINK(\"https://www.garethstevens.com/\"&Table1[[#This Row],[ISBN]],\"Weblink\")","v":"Weblink"},2016,"January 2016","Library","7.000 X 7.000","Author, Translated by","T. H. Baer , Esther Sarfatti","3.2","0.5",null,null,"H",null,"Grade 1 - 2","Grade 1 - 3","When a bird flies by a window or a car zooms by on the highway, we often wonder how fast the two objects traveled. This book explains the concept of speed to readers while showing them accessible ways to measure it for themselves. Learning the amount of distance traveled, and how quickly that distance was covered, is a great way to implement a variety of STEM topics while practicing this essential mathematical skill.","Spanish",22.6,16.95,"531'.112--dc23","24 pp.",{"$f":"Table1[[#This Row],[QTY]]*Table1[[#This Row],['# Books]]","v":0},{"$f":"Table1[[#This Row],[QTY]]*Table1[[#This Row],[S&L Price]]","v":0}]
[null,null,181,"¡A medir! (Measure It!)",1,"Medir la velocidad (Measuring Speed)","eBook",null,"978-1-4824-4337-0",{"$f":"HYPERLINK(\"https://www.garethstevens.com/\"&Table1[[#This Row],[ISBN]],\"Weblink\")","v":"Weblink"},2016,"January 2016",null,null,"Author, Translated by","T. H. Baer , Esther Sarfatti","3.2","0.5",null,null,"H",null,"Grade 1 - 2","Grade 1 - 3","When a bird flies by a window or a car zooms by on the highway, we often wonder how fast the two objects traveled. This book explains the concept of speed to readers while showing them accessible ways to measure it for themselves. Learning the amount of distance traveled, and how quickly that distance was covered, is a great way to implement a variety of STEM topics while practicing this essential mathematical skill.","Spanish",22.6,16.95,"531'.112--dc23","24 pp.",{"$f":"Table1[[#This Row],[QTY]]*Table1[[#This Row],['# Books]]","v":0},{"$f":"Table1[[#This Row],[QTY]]*Table1[[#This Row],[S&L Price]]","v":0}]
[null,null,181,"Similares pero no iguales (Animal Look-Alikes)",1,"¿Caimán o cocodrilo? (Alligator or Crocodile?)","Library Bound Book",null,"978-1-4824-3244-2",{"$f":"HYPERLINK(\"https://www.garethstevens.com/\"&Table1[[#This Row],[ISBN]],\"Weblink\")","v":"Weblink"},2016,"August 2015","Library","7.000 X 7.000","Author","Rob Ryndak",null,null,null,null,"I",null,"Grade 1 - 2","Grade 1 - 3","If a person were ever face-to-face with a huge, hungry animal with sharp teeth, they probably wouldn’t care exactly what that animal was! But from a safe location, can we tell whether it was a crocodile or alligator that wanted to take a bite? By examining their jaw structure, teeth, and other physical features, we can easily tell these two animals apart! Graphic organizers and amazing images highlight each animal’s habitat and other small differences between the two fearsome creatures, showing readers just what creature is lurking below the waters.","Spanish",22.6,16.95,"597.98","24 pp.",{"$f":"Table1[[#This Row],[QTY]]*Table1[[#This Row],['# Books]]","v":0},{"$f":"Table1[[#This Row],[QTY]]*Table1[[#This Row],[S&L Price]]","v":0}]
[null,null,181,"Similares pero no iguales (Animal Look-Alikes)",1,"¿Caimán o cocodrilo? (Alligator or Crocodile?)","eBook",null,"978-1-4824-3245-9",{"$f":"HYPERLINK(\"https://www.garethstevens.com/\"&Table1[[#This Row],[ISBN]],\"Weblink\")","v":"Weblink"},2016,"August 2015",null,null,"Author","Rob Ryndak",null,null,null,null,"I",null,"Grade 1 - 2","Grade 1 - 3","If a person were ever face-to-face with a huge, hungry animal with sharp teeth, they probably wouldn’t care exactly what that animal was! But from a safe location, can we tell whether it was a crocodile or alligator that wanted to take a bite? By examining their jaw structure, teeth, and other physical features, we can easily tell these two animals apart! Graphic organizers and amazing images highlight each animal’s habitat and other small differences between the two fearsome creatures, showing readers just what creature is lurking below the waters.","Spanish",22.6,16.95,"597.98","24 pp.",{"$f":"Table1[[#This Row],[QTY]]*Table1[[#This Row],['# Books]]","v":0},{"$f":"Table1[[#This Row],[QTY]]*Table1[[#This Row],[S&L Price]]","v":0}]
[null,null,181,"Similares pero no iguales (Animal Look-Alikes)",1,"¿Delfín o marsopa? (Dolphin or Porpoise?)","Library Bound Book",null,"978-1-4824-3249-7",{"$f":"HYPERLINK(\"https://www.garethstevens.com/\"&Table1[[#This Row],[ISBN]],\"Weblink\")","v":"Weblink"},2016,"August 2015","Library","7.000 X 7.000","Author","Rob Ryndak",null,null,null,null,"I",null,"Grade 1 - 2","Grade 1 - 3","Dolphins and porpoises look very similar, but while these mammals share some features they aren’t even in the same family! From tooth and jaw shape to the way they chat with one another, these amazing ocean animals are unique in many ways. It may be tough to tell them apart when catching a glimpse of a fin or nose in the water, but this book offers a closer look, transforming readers into dolphin and porpoise experts in no time!","Spanish",22.6,16.95,"599.53","24 pp.",{"$f":"Table1[[#This Row],[QTY]]*Table1[[#This Row],['# Books]]","v":0},{"$f":"Table1[[#This Row],[QTY]]*Table1[[#This Row],[S&L Price]]","v":0}]
[null,null,181,"Similares pero no iguales (Animal Look-Alikes)",1,"¿Delfín o marsopa? (Dolphin or Porpoise?)","eBook",null,"978-1-4824-3251-0",{"$f":"HYPERLINK(\"https://www.garethstevens.com/\"&Table1[[#This Row],[ISBN]],\"Weblink\")","v":"Weblink"},2016,"August 2015",null,null,"Author","Rob Ryndak",null,null,null,null,"I",null,"Grade 1 - 2","Grade 1 - 3","Dolphins and porpoises look very similar, but while these mammals share some features they aren’t even in the same family! From tooth and jaw shape to the way they chat with one another, these amazing ocean animals are unique in many ways. It may be tough to tell them apart when catching a glimpse of a fin or nose in the water, but this book offers a closer look, transforming readers into dolphin and porpoise experts in no time!","Spanish",22.6,16.95,"599.53","24 pp.",{"$f":"Table1[[#This Row],[QTY]]*Table1[[#This Row],['# Books]]","v":0},{"$f":"Table1[[#This Row],[QTY]]*Table1[[#This Row],[S&L Price]]","v":0}]
[null,null,181,"Similares pero no iguales (Animal Look-Alikes)",1,"¿Foca o león marino? (Seal or Sea Lion?)","Library Bound Book",null,"978-1-4824-3272-5",{"$f":"HYPERLINK(\"https://www.garethstevens.com/\"&Table1[[#This Row],[ISBN]],\"Weblink\")","v":"Weblink"},2016,"August 2015","Library","7.000 X 7.000","Author","Rob Ryndak",null,null,null,null,"I",null,"Grade 1 - 2","Grade 1 - 3","What's the difference between a seal and a sea lion? These \"second cousins\" of the sea look similar, but there are many ways to tell them apart. From ear shape to the noises they make to communicate, seals and sea lions are amazing creatures with shared features and many truly unique attributes. They both share an ocean habitat, but when readers take a closer look, it's easy to discover how they each fight off predators, mate, and raise their young in different ways.","Spanish",22.6,16.95,"599.79--dc23","24 pp.",{"$f":"Table1[[#This Row],[QTY]]*Table1[[#This Row],['# Books]]","v":0},{"$f":"Table1[[#This Row],[QTY]]*Table1[[#This Row],[S&L Price]]","v":0}]
[null,null,181,"Similares pero no iguales (Animal Look-Alikes)",1,"¿Foca o león marino? (Seal or Sea Lion?)","eBook",null,"978-1-4824-3417-0",{"$f":"HYPERLINK(\"https://www.garethstevens.com/\"&Table1[[#This Row],[ISBN]],\"Weblink\")","v":"Weblink"},2016,"August 2015",null,null,"Author","Rob Ryndak",null,null,null,null,"I",null,"Grade 1 - 2","Grade 1 - 3","What's the difference between a seal and a sea lion? These \"second cousins\" of the sea look similar, but there are many ways to tell them apart. From ear shape to the noises they make to communicate, seals and sea lions are amazing creatures with shared features and many truly unique attributes. They both share an ocean habitat, but when readers take a closer look, it's easy to discover how they each fight off predators, mate, and raise their young in different ways.","Spanish",22.6,16.95,"599.79--dc23","24 pp.",{"$f":"Table1[[#This Row],[QTY]]*Table1[[#This Row],['# Books]]","v":0},{"$f":"Table1[[#This Row],[QTY]]*Table1[[#This Row],[S&L Price]]","v":0}]
[null,null,181,"Similares pero no iguales (Animal Look-Alikes)",1,"¿Leopardo o jaguar? (Leopard or Jaguar?)","Library Bound Book",null,"978-1-4824-3264-0",{"$f":"HYPERLINK(\"https://www.garethstevens.com/\"&Table1[[#This Row],[ISBN]],\"Weblink\")","v":"Weblink"},2016,"August 2015","Library","7.000 X 7.000","Author","Rob Ryndak",null,null,null,null,"I",null,"Grade 1 - 2","Grade 1 - 3","Jungle cats can be tough to tell apart, but often it’s the spots that give an animal away. With leopards and jaguars, knowing where the animal lives can be a big hint as to which cat is stalking its prey. Telling the two animals apart is easy once we take a closer look. Jaguars are heavier than leopards and their features are unique when you take a good look at their heads. Amazing full-color photographs ensure readers don’t have to tell these magnificent animals apart!","Spanish",22.6,16.95,"599.75","24 pp.",{"$f":"Table1[[#This Row],[QTY]]*Table1[[#This Row],['# Books]]","v":0},{"$f":"Table1[[#This Row],[QTY]]*Table1[[#This Row],[S&L Price]]","v":0}]
[null,null,181,"Similares pero no iguales (Animal Look-Alikes)",1,"¿Leopardo o jaguar? (Leopard or Jaguar?)","eBook",null,"978-1-4824-3266-4",{"$f":"HYPERLINK(\"https://www.garethstevens.com/\"&Table1[[#This Row],[ISBN]],\"Weblink\")","v":"Weblink"},2016,"August 2015",null,null,"Author","Rob Ryndak",null,null,null,null,"I",null,"Grade 1 - 2","Grade 1 - 3","Jungle cats can be tough to tell apart, but often it’s the spots that give an animal away. With leopards and jaguars, knowing where the animal lives can be a big hint as to which cat is stalking its prey. Telling the two animals apart is easy once we take a closer look. Jaguars are heavier than leopards and their features are unique when you take a good look at their heads. Amazing full-color photographs ensure readers don’t have to tell these magnificent animals apart!","Spanish",22.6,16.95,"599.75","24 pp.",{"$f":"Table1[[#This Row],[QTY]]*Table1[[#This Row],['# Books]]","v":0},{"$f":"Table1[[#This Row],[QTY]]*Table1[[#This Row],[S&L Price]]","v":0}]
[null,null,181,"Similares pero no iguales (Animal Look-Alikes)",1,"¿Rana o sapo? (Frog or Toad?)","Library Bound Book",null,"978-1-4824-3256-5",{"$f":"HYPERLINK(\"https://www.garethstevens.com/\"&Table1[[#This Row],[ISBN]],\"Weblink\")","v":"Weblink"},2016,"August 2015","Library","7.000 X 7.000","Author","Rob Ryndak",null,null,null,null,"I",null,"Grade 1 - 2","Grade 1 - 3","Frogs and toads are some of the most confusing amphibians to classify. From poisonous skin and bulging eyes to their amazing life cycles, readers learn these creatures are as interesting to study as they're difficult to categorize.","Spanish",22.6,16.95,"597.8--dc23","24 pp.",{"$f":"Table1[[#This Row],[QTY]]*Table1[[#This Row],['# Books]]","v":0},{"$f":"Table1[[#This Row],[QTY]]*Table1[[#This Row],[S&L Price]]","v":0}]
[null,null,181,"Similares pero no iguales (Animal Look-Alikes)",1,"¿Rana o sapo? (Frog or Toad?)","eBook",null,"978-1-4824-3258-9",{"$f":"HYPERLINK(\"https://www.garethstevens.com/\"&Table1[[#This Row],[ISBN]],\"Weblink\")","v":"Weblink"},2016,"August 2015",null,null,"Author","Rob Ryndak",null,null,null,null,"I",null,"Grade 1 - 2","Grade 1 - 3","Frogs and toads are some of the most confusing amphibians to classify. From poisonous skin and bulging eyes to their amazing life cycles, readers learn these creatures are as interesting to study as they're difficult to categorize.","Spanish",22.6,16.95,"597.8--dc23","24 pp.",{"$f":"Table1[[#This Row],[QTY]]*Table1[[#This Row],['# Books]]","v":0},{"$f":"Table1[[#This Row],[QTY]]*Table1[[#This Row],[S&L Price]]","v":0}]
[null,null,181,"Similares pero no iguales (Animal Look-Alikes)",1,"¿Tortuga o galápago? (Turtle or Tortoise?)","Library Bound Book",null,"978-1-4824-3420-0",{"$f":"HYPERLINK(\"https://www.garethstevens.com/\"&Table1[[#This Row],[ISBN]],\"Weblink\")","v":"Weblink"},2016,"August 2015","Library","7.000 X 7.000","Author","Rob Ryndak",null,null,null,null,"J",null,"Grade 1 - 2","Grade 1 - 3","Both turtles and tortoises have shells and move pretty slowly. So what makes them different? And where to terrapins fit in? There’s much more going on with these amazing creatures than just carapaces and plastrons. From their family ties and foot size to their habitats, these animals look, live, and even eat differently. Some of these awesome animals can live for centuries! Readers will discover which of these reptiles can survive hundreds of years longer than humans, along with a host of other fun facts. Vivid photographs of turtles and tortoises in their natural habitat add further fascination for readers ready to tackle the differences between these two reptiles.","Spanish",22.6,16.95,"597.92--dc23","24 pp.",{"$f":"Table1[[#This Row],[QTY]]*Table1[[#This Row],['# Books]]","v":0},{"$f":"Table1[[#This Row],[QTY]]*Table1[[#This Row],[S&L Price]]","v":0}]
[null,null,181,"Similares pero no iguales (Animal Look-Alikes)",1,"¿Tortuga o galápago? (Turtle or Tortoise?)","eBook",null,"978-1-4824-3421-7",{"$f":"HYPERLINK(\"https://www.garethstevens.com/\"&Table1[[#This Row],[ISBN]],\"Weblink\")","v":"Weblink"},2016,"August 2015",null,null,"Author","Rob Ryndak",null,null,null,null,"J",null,"Grade 1 - 2","Grade 1 - 3","Both turtles and tortoises have shells and move pretty slowly. So what makes them different? And where to terrapins fit in? There’s much more going on with these amazing creatures than just carapaces and plastrons. From their family ties and foot size to their habitats, these animals look, live, and even eat differently. Some of these awesome animals can live for centuries! Readers will discover which of these reptiles can survive hundreds of years longer than humans, along with a host of other fun facts. Vivid photographs of turtles and tortoises in their natural habitat add further fascination for readers ready to tackle the differences between these two reptiles.","Spanish",22.6,16.95,"597.92--dc23","24 pp.",{"$f":"Table1[[#This Row],[QTY]]*Table1[[#This Row],['# Books]]","v":0},{"$f":"Table1[[#This Row],[QTY]]*Table1[[#This Row],[S&L Price]]","v":0}]
[null,null,181,"El mundo y la ingeniería (Engineering our World)",1,"Cómo se construye un auto (How a Car Is Made)","Library Bound Book",null,"978-1-4824-4368-4",{"$f":"HYPERLINK(\"https://www.garethstevens.com/\"&Table1[[#This Row],[ISBN]],\"Weblink\")","v":"Weblink"},2016,"January 2016","Library","8.500 X 8.500","Author","Sam Aloian","5.4","0.5",null,null,"N",null,"Grade 2 - 3","Grade 2 - 5","Automobiles are an essential part of life for many, but few really understand how that car arrives in their garage in the first place. This book takes an exciting look at just how interesting that process is, from the design phase in an engineer's office to the floor of a factory where it is assembled piece by piece by both people and machines. Full-color photographs bring the process to life in vivid detail, and a step-by-step how-to guide explains how readers can even build their very own model car.","Spanish",22.6,16.95,"629.2'3--dc23","24 pp.",{"$f":"Table1[[#This Row],[QTY]]*Table1[[#This Row],['# Books]]","v":0},{"$f":"Table1[[#This Row],[QTY]]*Table1[[#This Row],[S&L Price]]","v":0}]
[null,null,181,"El mundo y la ingeniería (Engineering our World)",1,"Cómo se construye un auto (How a Car Is Made)","eBook",null,"978-1-4824-4339-4",{"$f":"HYPERLINK(\"https://www.garethstevens.com/\"&Table1[[#This Row],[ISBN]],\"Weblink\")","v":"Weblink"},2016,"January 2016",null,null,"Author","Sam Aloian","5.4","0.5",null,null,"N",null,"Grade 2 - 3","Grade 2 - 5","Automobiles are an essential part of life for many, but few really understand how that car arrives in their garage in the first place. This book takes an exciting look at just how interesting that process is, from the design phase in an engineer's office to the floor of a factory where it is assembled piece by piece by both people and machines. Full-color photographs bring the process to life in vivid detail, and a step-by-step how-to guide explains how readers can even build their very own model car.","Spanish",22.6,16.95,"629.2'3--dc23","24 pp.",{"$f":"Table1[[#This Row],[QTY]]*Table1[[#This Row],['# Books]]","v":0},{"$f":"Table1[[#This Row],[QTY]]*Table1[[#This Row],[S&L Price]]","v":0}]
[null,null,181,"El mundo y la ingeniería (Engineering our World)",1,"Cómo se construye un avión (How a Plane Is Made)","Library Bound Book",null,"978-1-4824-4348-6",{"$f":"HYPERLINK(\"https://www.garethstevens.com/\"&Table1[[#This Row],[ISBN]],\"Weblink\")","v":"Weblink"},2016,"January 2016","Library","8.500 X 8.500","Author","Amy Hayes","5","0.5",null,null,"N",null,"Grade 2 - 3","Grade 2 - 5","From the largest cargo planes and passenger jets to the smallest of single-engine crafts, airplanes are modern marvels. But just how do people build planes and what keeps them safe in the air? This exciting book takes readers inside the hangars where bolts and metal are turned into winged creations ready to take people all around the world. Amazing photographs show the aircraft construction process step-by-step, while engaging text gives a strong technical explanation of the science at work during every flight in this innovative STEM book.","Spanish",22.6,16.95,"629.134--dc23","24 pp.",{"$f":"Table1[[#This Row],[QTY]]*Table1[[#This Row],['# Books]]","v":0},{"$f":"Table1[[#This Row],[QTY]]*Table1[[#This Row],[S&L Price]]","v":0}]
[null,null,181,"El mundo y la ingeniería (Engineering our World)",1,"Cómo se construye un avión (How a Plane Is Made)","eBook",null,"978-1-4824-4340-0",{"$f":"HYPERLINK(\"https://www.garethstevens.com/\"&Table1[[#This Row],[ISBN]],\"Weblink\")","v":"Weblink"},2016,"January 2016",null,null,"Author","Amy Hayes","5","0.5",null,null,"N",null,"Grade 2 - 3","Grade 2 - 5","From the largest cargo planes and passenger jets to the smallest of single-engine crafts, airplanes are modern marvels. But just how do people build planes and what keeps them safe in the air? This exciting book takes readers inside the hangars where bolts and metal are turned into winged creations ready to take people all around the world. Amazing photographs show the aircraft construction process step-by-step, while engaging text gives a strong technical explanation of the science at work during every flight in this innovative STEM book.","Spanish",22.6,16.95,"629.134--dc23","24 pp.",{"$f":"Table1[[#This Row],[QTY]]*Table1[[#This Row],['# Books]]","v":0},{"$f":"Table1[[#This Row],[QTY]]*Table1[[#This Row],[S&L Price]]","v":0}]
[null,null,181,"El mundo y la ingeniería (Engineering our World)",1,"Cómo se construye un barco (How a Ship Is Built)","Library Bound Book",null,"978-1-4824-4367-7",{"$f":"HYPERLINK(\"https://www.garethstevens.com/\"&Table1[[#This Row],[ISBN]],\"Weblink\")","v":"Weblink"},2016,"January 2016","Library","8.500 X 8.500","Author","Sam Aloian","5.5","0.5",null,null,"N",null,"Grade 2 - 3","Grade 2 - 5","Automobiles are an essential part of life for many, but few really understand how that car arrives in their garage in the first place. This book takes an exciting look at just how interesting that process is, from the design phase in an engineer’s office to the floor of a factory where it is assembled piece by piece by both people and machines. Full-color photographs bring the process to life in vivid detail, and a step-by-step how-to guide explains how readers can even build their very own model car.","Spanish",22.6,16.95,"623.82--dc23","24 pp.",{"$f":"Table1[[#This Row],[QTY]]*Table1[[#This Row],['# Books]]","v":0},{"$f":"Table1[[#This Row],[QTY]]*Table1[[#This Row],[S&L Price]]","v":0}]
[null,null,181,"El mundo y la ingeniería (Engineering our World)",1,"Cómo se construye un barco (How a Ship Is Built)","eBook",null,"978-1-4824-4341-7",{"$f":"HYPERLINK(\"https://www.garethstevens.com/\"&Table1[[#This Row],[ISBN]],\"Weblink\")","v":"Weblink"},2016,"January 2016",null,null,"Author","Sam Aloian","5.5","0.5",null,null,"N",null,"Grade 2 - 3","Grade 2 - 5","Automobiles are an essential part of life for many, but few really understand how that car arrives in their garage in the first place. This book takes an exciting look at just how interesting that process is, from the design phase in an engineer’s office to the floor of a factory where it is assembled piece by piece by both people and machines. Full-color photographs bring the process to life in vivid detail, and a step-by-step how-to guide explains how readers can even build their very own model car.","Spanish",22.6,16.95,"623.82--dc23","24 pp.",{"$f":"Table1[[#This Row],[QTY]]*Table1[[#This Row],['# Books]]","v":0},{"$f":"Table1[[#This Row],[QTY]]*Table1[[#This Row],[S&L Price]]","v":0}]
[null,null,182,"El mundo y la ingeniería (Engineering our World)",1,"Cómo se construye un puente (How a Bridge Is Built)","Library Bound Book",null,"978-1-4824-4347-9",{"$f":"HYPERLINK(\"https://www.garethstevens.com/\"&Table1[[#This Row],[ISBN]],\"Weblink\")","v":"Weblink"},2016,"January 2016","Library","8.500 X 8.500","Author","Sam Aloian","5.4","0.5",null,null,"N",null,"Grade 2 - 3","Grade 2 - 5","Bridges are a big part of how people get from place to place. But how do they work and how are they built? In this engaging text, readers will explore these important engineering marvels that link places divided by water. Along the way they’ll learn how to build their own model bridge with a step-by-step guide accompanied by full-color photographs of each step. Accessible text illuminates the science behind every span we drive over and sometimes under.","Spanish",22.6,16.95,"624.2--dc23","24 pp.",{"$f":"Table1[[#This Row],[QTY]]*Table1[[#This Row],['# Books]]","v":0},{"$f":"Table1[[#This Row],[QTY]]*Table1[[#This Row],[S&L Price]]","v":0}]
[null,null,182,"El mundo y la ingeniería (Engineering our World)",1,"Cómo se construye un puente (How a Bridge Is Built)","eBook",null,"978-1-4824-4343-1",{"$f":"HYPERLINK(\"https://www.garethstevens.com/\"&Table1[[#This Row],[ISBN]],\"Weblink\")","v":"Weblink"},2016,"January 2016",null,null,"Author","Sam Aloian","5.4","0.5",null,null,"N",null,"Grade 2 - 3","Grade 2 - 5","Bridges are a big part of how people get from place to place. But how do they work and how are they built? In this engaging text, readers will explore these important engineering marvels that link places divided by water. Along the way they’ll learn how to build their own model bridge with a step-by-step guide accompanied by full-color photographs of each step. Accessible text illuminates the science behind every span we drive over and sometimes under.","Spanish",22.6,16.95,"624.2--dc23","24 pp.",{"$f":"Table1[[#This Row],[QTY]]*Table1[[#This Row],['# Books]]","v":0},{"$f":"Table1[[#This Row],[QTY]]*Table1[[#This Row],[S&L Price]]","v":0}]
[null,null,182,"El mundo y la ingeniería (Engineering our World)",1,"Cómo se construye un rascacielos (How a Skyscraper Is Built)","Library Bound Book",null,"978-1-4824-4345-5",{"$f":"HYPERLINK(\"https://www.garethstevens.com/\"&Table1[[#This Row],[ISBN]],\"Weblink\")","v":"Weblink"},2016,"January 2016","Library","8.500 X 8.500","Author","Therese M. Shea","6.2","0.5",null,null,"N",null,"Grade 2 - 3","Grade 2 - 5","The towering buildings that fill our cities definitely weren't built in a day. Skyscrapers are huge construction projects full of complicated steps. From drilling anchor holes and erecting steel beams to laying acres and acres of concrete, it takes lots of people and lots of smarts to build a vertical city. Readers will love putting on their hard hats and seeing the construction for themselves through vivid photographs and diagrams of a building on its way from its beginning on an empty lot to a monster skyscraper touching the skies.","Spanish",22.6,16.95,"720.483--dc23","24 pp.",{"$f":"Table1[[#This Row],[QTY]]*Table1[[#This Row],['# Books]]","v":0},{"$f":"Table1[[#This Row],[QTY]]*Table1[[#This Row],[S&L Price]]","v":0}]
[null,null,182,"El mundo y la ingeniería (Engineering our World)",1,"Cómo se construye un rascacielos (How a Skyscraper Is Built)","eBook",null,"978-1-4824-4344-8",{"$f":"HYPERLINK(\"https://www.garethstevens.com/\"&Table1[[#This Row],[ISBN]],\"Weblink\")","v":"Weblink"},2016,"January 2016",null,null,"Author","Therese M. Shea","6.2","0.5",null,null,"N",null,"Grade 2 - 3","Grade 2 - 5","The towering buildings that fill our cities definitely weren't built in a day. Skyscrapers are huge construction projects full of complicated steps. From drilling anchor holes and erecting steel beams to laying acres and acres of concrete, it takes lots of people and lots of smarts to build a vertical city. Readers will love putting on their hard hats and seeing the construction for themselves through vivid photographs and diagrams of a building on its way from its beginning on an empty lot to a monster skyscraper touching the skies.","Spanish",22.6,16.95,"720.483--dc23","24 pp.",{"$f":"Table1[[#This Row],[QTY]]*Table1[[#This Row],['# Books]]","v":0},{"$f":"Table1[[#This Row],[QTY]]*Table1[[#This Row],[S&L Price]]","v":0}]
[null,null,182,"El mundo y la ingeniería (Engineering our World)",1,"Cómo se construye una computadora (How a Computer Is Made)","Library Bound Book",null,"978-1-4824-4346-2",{"$f":"HYPERLINK(\"https://www.garethstevens.com/\"&Table1[[#This Row],[ISBN]],\"Weblink\")","v":"Weblink"},2016,"January 2016","Library","8.500 X 8.500","Author","Sam Aloian","7","0.5",null,null,"N",null,"Grade 2 - 3","Grade 2 - 5","Today's computers come in all shapes and sizes, but not many people actually know how they're made. The journey from circuits and wires to a ready-to-use computer is a fascinating exploration of science and engineering. Readers get a look inside their laptops, desktops, and even their tablets as they're shown step-by-step how these electronic marvels are assembled. Readers will love knowing what goes on inside their own machines, and color photographs and simple instructions will show them how they can build their own computer.","Spanish",22.6,16.95,"004--dc23","24 pp.",{"$f":"Table1[[#This Row],[QTY]]*Table1[[#This Row],['# Books]]","v":0},{"$f":"Table1[[#This Row],[QTY]]*Table1[[#This Row],[S&L Price]]","v":0}]
[null,null,182,"El mundo y la ingeniería (Engineering our World)",1,"Cómo se construye una computadora (How a Computer Is Made)","eBook",null,"978-1-4824-4342-4",{"$f":"HYPERLINK(\"https://www.garethstevens.com/\"&Table1[[#This Row],[ISBN]],\"Weblink\")","v":"Weblink"},2016,"January 2016",null,null,"Author","Sam Aloian","7","0.5",null,null,"N",null,"Grade 2 - 3","Grade 2 - 5","Today's computers come in all shapes and sizes, but not many people actually know how they're made. The journey from circuits and wires to a ready-to-use computer is a fascinating exploration of science and engineering. Readers get a look inside their laptops, desktops, and even their tablets as they're shown step-by-step how these electronic marvels are assembled. Readers will love knowing what goes on inside their own machines, and color photographs and simple instructions will show them how they can build their own computer.","Spanish",22.6,16.95,"004--dc23","24 pp.",{"$f":"Table1[[#This Row],[QTY]]*Table1[[#This Row],['# Books]]","v":0},{"$f":"Table1[[#This Row],[QTY]]*Table1[[#This Row],[S&L Price]]","v":0}]
[null,null,182,"Desastres (Doomed)",1,"El desastre del Hindenburg (The Hindenburg Disaster)","Library Bound Book",null,"978-1-4824-3257-2",{"$f":"HYPERLINK(\"https://www.garethstevens.com/\"&Table1[[#This Row],[ISBN]],\"Weblink\")","v":"Weblink"},2016,"August 2015","Library","6.500 X 9.125","Author, Translated by","Ryan Nagelhout, Esther Sarfatti",null,null,40,null,"S",null,"Grade 4 - 5","Grade 4 - 6","The Hindenburg, the largest airship ever built and the pride of Nazi Germany, burst into flames over Lakehurst, New Jersey, in 1937. It swiftly fell from the sky and was incinerated. This incident is remembered as the most infamous airship accident, killing 36 people and sinking the dirigible transportation industry. Fascinated readers will explore why and how this giant hydrogen-filled ship was made and the reasons it may have been doomed to fail. They'll also learn conspiracy theories and surprising facts about the circumstances of the terrible disaster. Authentic photographs and thoughtful sidebars add to the historical content. \r\t\r","Spanish",26.6,19.95,"363.12","32 pp.",{"$f":"Table1[[#This Row],[QTY]]*Table1[[#This Row],['# Books]]","v":0},{"$f":"Table1[[#This Row],[QTY]]*Table1[[#This Row],[S&L Price]]","v":0}]
[null,null,182,"Desastres (Doomed)",1,"El desastre del Hindenburg (The Hindenburg Disaster)","eBook",null,"978-1-4824-3255-8",{"$f":"HYPERLINK(\"https://www.garethstevens.com/\"&Table1[[#This Row],[ISBN]],\"Weblink\")","v":"Weblink"},2016,"August 2015",null,null,"Author, Translated by","Ryan Nagelhout, Esther Sarfatti",null,null,40,null,"S",null,"Grade 4 - 5","Grade 4 - 6","The Hindenburg, the largest airship ever built and the pride of Nazi Germany, burst into flames over Lakehurst, New Jersey, in 1937. It swiftly fell from the sky and was incinerated. This incident is remembered as the most infamous airship accident, killing 36 people and sinking the dirigible transportation industry. Fascinated readers will explore why and how this giant hydrogen-filled ship was made and the reasons it may have been doomed to fail. They'll also learn conspiracy theories and surprising facts about the circumstances of the terrible disaster. Authentic photographs and thoughtful sidebars add to the historical content. \r\t\r","Spanish",26.6,19.95,"363.12","32 pp.",{"$f":"Table1[[#This Row],[QTY]]*Table1[[#This Row],['# Books]]","v":0},{"$f":"Table1[[#This Row],[QTY]]*Table1[[#This Row],[S&L Price]]","v":0}]
[null,null,182,"Desastres (Doomed)",1,"El gran incendio de Londres (The Great Fire of London)","Library Bound Book",null,"978-1-4824-3265-7",{"$f":"HYPERLINK(\"https://www.garethstevens.com/\"&Table1[[#This Row],[ISBN]],\"Weblink\")","v":"Weblink"},2016,"August 2015","Library","6.500 X 9.125","Author, Translated by","Sarah Machajewski, Esther Sarfatti",null,null,40,null,"S",null,"Grade 4 - 5","Grade 4 - 6","In September 1666, a small fire broke out at the king's bakery in London, England, in the early morning. Several fateful factors worked together to turn this small blaze into a catastrophic conflagration that changed the city forever. This riveting account of a city set ablaze is supported by primary sources such as maps, diaries, and royal proclamations. Readers will be fascinated by old-fashioned firefighting techniques and people's reactions as the fire spread and burned for days. Images of London on fire will ignite their imaginations and further enable them to understand this era and setting in European history.","Spanish",26.6,19.95,"942.1","32 pp.",{"$f":"Table1[[#This Row],[QTY]]*Table1[[#This Row],['# Books]]","v":0},{"$f":"Table1[[#This Row],[QTY]]*Table1[[#This Row],[S&L Price]]","v":0}]
[null,null,182,"Desastres (Doomed)",1,"El gran incendio de Londres (The Great Fire of London)","eBook",null,"978-1-4824-3263-3",{"$f":"HYPERLINK(\"https://www.garethstevens.com/\"&Table1[[#This Row],[ISBN]],\"Weblink\")","v":"Weblink"},2016,"August 2015",null,null,"Author, Translated by","Sarah Machajewski, Esther Sarfatti",null,null,40,null,"S",null,"Grade 4 - 5","Grade 4 - 6","In September 1666, a small fire broke out at the king's bakery in London, England, in the early morning. Several fateful factors worked together to turn this small blaze into a catastrophic conflagration that changed the city forever. This riveting account of a city set ablaze is supported by primary sources such as maps, diaries, and royal proclamations. Readers will be fascinated by old-fashioned firefighting techniques and people's reactions as the fire spread and burned for days. Images of London on fire will ignite their imaginations and further enable them to understand this era and setting in European history.","Spanish",26.6,19.95,"942.1","32 pp.",{"$f":"Table1[[#This Row],[QTY]]*Table1[[#This Row],['# Books]]","v":0},{"$f":"Table1[[#This Row],[QTY]]*Table1[[#This Row],[S&L Price]]","v":0}]
[null,null,182,"Desastres (Doomed)",1,"El hundimiento del Titanic (The Sinking of the Titanic)","Library Bound Book",null,"978-1-4824-3238-1",{"$f":"HYPERLINK(\"https://www.garethstevens.com/\"&Table1[[#This Row],[ISBN]],\"Weblink\")","v":"Weblink"},2016,"August 2015","Library","6.500 X 9.125","Author, Translated by","Therese M. Shea, Esther Sarfatti",null,null,40,null,"S",null,"Grade 4 - 5","Grade 4 - 6","The unsinkable luxury liner known as the Titanic may have sunk on its first transatlantic voyage in 1912, but people remain riveted to its storied legend. The collision with the iceberg in the North Atlantic was not the only mistake that was made that day. In this spellbinding volume, readers will learn about the passengers and crew aboard the doomed ship and what really happened that tragic night. Historical photographs will transport them back to the glamorous era, while the narrative paints an absorbing picture of the Titanic's sad fate.","Spanish",26.6,19.95,"910.9163","32 pp.",{"$f":"Table1[[#This Row],[QTY]]*Table1[[#This Row],['# Books]]","v":0},{"$f":"Table1[[#This Row],[QTY]]*Table1[[#This Row],[S&L Price]]","v":0}]
[null,null,182,"Desastres (Doomed)",1,"El hundimiento del Titanic (The Sinking of the Titanic)","eBook",null,"978-1-4824-3236-7",{"$f":"HYPERLINK(\"https://www.garethstevens.com/\"&Table1[[#This Row],[ISBN]],\"Weblink\")","v":"Weblink"},2016,"August 2015",null,null,"Author, Translated by","Therese M. Shea, Esther Sarfatti",null,null,40,null,"S",null,"Grade 4 - 5","Grade 4 - 6","The unsinkable luxury liner known as the Titanic may have sunk on its first transatlantic voyage in 1912, but people remain riveted to its storied legend. The collision with the iceberg in the North Atlantic was not the only mistake that was made that day. In this spellbinding volume, readers will learn about the passengers and crew aboard the doomed ship and what really happened that tragic night. Historical photographs will transport them back to the glamorous era, while the narrative paints an absorbing picture of the Titanic's sad fate.","Spanish",26.6,19.95,"910.9163","32 pp.",{"$f":"Table1[[#This Row],[QTY]]*Table1[[#This Row],['# Books]]","v":0},{"$f":"Table1[[#This Row],[QTY]]*Table1[[#This Row],[S&L Price]]","v":0}]
[null,null,182,"Desastres (Doomed)",1,"La ciudad de Pompeya (The City of Pompeii)","Library Bound Book",null,"978-1-4824-3423-1",{"$f":"HYPERLINK(\"https://www.garethstevens.com/\"&Table1[[#This Row],[ISBN]],\"Weblink\")","v":"Weblink"},2016,"August 2015","Library","6.500 X 9.125","Author, Translated by","Janey Levy, Esther Sarfatti",null,null,44,null,"T",null,"Grade 4 - 5","Grade 4 - 6","In AD 79, the residents of the booming Roman city of Pompeii were shocked when a nearby mountain exploded, releasing superhot ash, rock, and gas on the surrounding areas. What happens next is the extraordinary account of a volcano in action. Though the people who didn't flee Pompeii were doomed, the volcano preserved their remains, allowing us to better understand a fascinating time in the Roman Empire. Astonishing photographs of Pompeii, primary source records of the occurrence, and riveting text are just some highlights of this high-interest volume.","Spanish",26.6,19.95,"937","32 pp.",{"$f":"Table1[[#This Row],[QTY]]*Table1[[#This Row],['# Books]]","v":0},{"$f":"Table1[[#This Row],[QTY]]*Table1[[#This Row],[S&L Price]]","v":0}]
[null,null,182,"Desastres (Doomed)",1,"La ciudad de Pompeya (The City of Pompeii)","eBook",null,"978-1-4824-3424-8",{"$f":"HYPERLINK(\"https://www.garethstevens.com/\"&Table1[[#This Row],[ISBN]],\"Weblink\")","v":"Weblink"},2016,"August 2015",null,null,"Author, Translated by","Janey Levy, Esther Sarfatti",null,null,44,null,"T",null,"Grade 4 - 5","Grade 4 - 6","In AD 79, the residents of the booming Roman city of Pompeii were shocked when a nearby mountain exploded, releasing superhot ash, rock, and gas on the surrounding areas. What happens next is the extraordinary account of a volcano in action. Though the people who didn't flee Pompeii were doomed, the volcano preserved their remains, allowing us to better understand a fascinating time in the Roman Empire. Astonishing photographs of Pompeii, primary source records of the occurrence, and riveting text are just some highlights of this high-interest volume.","Spanish",26.6,19.95,"937","32 pp.",{"$f":"Table1[[#This Row],[QTY]]*Table1[[#This Row],['# Books]]","v":0},{"$f":"Table1[[#This Row],[QTY]]*Table1[[#This Row],[S&L Price]]","v":0}]
[null,null,182,"Desastres (Doomed)",1,"La expedición Donner (The Donner Party)","Library Bound Book",null,"978-1-4824-3273-2",{"$f":"HYPERLINK(\"https://www.garethstevens.com/\"&Table1[[#This Row],[ISBN]],\"Weblink\")","v":"Weblink"},2016,"August 2015","Library","6.500 X 9.125","Author, Translated by","Kristen Rajczak Nelson, Esther Sarfatti",null,null,44,null,"T",null,"Grade 4 - 5","Grade 4 - 6","In 1846, travelers heading for California became trapped high in the mountains of the Sierra Nevada. Snowdrifts surrounded their shelters, and food supplies dwindled. How they stayed alive remains one of the most gruesome stories in US history. However, some facts that have come to light recently through archaeological digs will surprise even those who think they know the story. This gripping book, including maps and images of the era, tells the true account of the doomed Donner party.","Spanish",26.6,19.95,"978","32 pp.",{"$f":"Table1[[#This Row],[QTY]]*Table1[[#This Row],['# Books]]","v":0},{"$f":"Table1[[#This Row],[QTY]]*Table1[[#This Row],[S&L Price]]","v":0}]
[null,null,182,"Desastres (Doomed)",1,"La expedición Donner (The Donner Party)","eBook",null,"978-1-4824-3271-8",{"$f":"HYPERLINK(\"https://www.garethstevens.com/\"&Table1[[#This Row],[ISBN]],\"Weblink\")","v":"Weblink"},2016,"August 2015",null,null,"Author, Translated by","Kristen Rajczak Nelson, Esther Sarfatti",null,null,44,null,"T",null,"Grade 4 - 5","Grade 4 - 6","In 1846, travelers heading for California became trapped high in the mountains of the Sierra Nevada. Snowdrifts surrounded their shelters, and food supplies dwindled. How they stayed alive remains one of the most gruesome stories in US history. However, some facts that have come to light recently through archaeological digs will surprise even those who think they know the story. This gripping book, including maps and images of the era, tells the true account of the doomed Donner party.","Spanish",26.6,19.95,"978","32 pp.",{"$f":"Table1[[#This Row],[QTY]]*Table1[[#This Row],['# Books]]","v":0},{"$f":"Table1[[#This Row],[QTY]]*Table1[[#This Row],[S&L Price]]","v":0}]
[null,null,182,"Desastres (Doomed)",1,"Plaga: La Peste Negra (Plague: The Black Death)","Library Bound Book",null,"978-1-4824-3248-0",{"$f":"HYPERLINK(\"https://www.garethstevens.com/\"&Table1[[#This Row],[ISBN]],\"Weblink\")","v":"Weblink"},2016,"August 2015","Library","6.500 X 9.125","Author, Translated by","Janey Levy, Esther Sarfatti",null,null,44,null,"T",null,"Grade 4 - 5","Grade 4 - 6","The plague, aptly known as the Black Death, swept through Europe in the 1300s, killing more than 20 million people. Not only deadly but incredibly painful, the disease was characterized by black boils all over the body that oozed blood and pus. While providing more details about the plague, this book, an asset to any social studies collection, also addresses where the lethal outbreak originated and whether it could return. Aided by striking illustrations, sidebars, and fact boxes, readers will discover the conditions in the Middle Ages that made it possible for such an appalling disease to spread so easily.","Spanish",26.6,19.95,"614.5'732094--dc23","32 pp.",{"$f":"Table1[[#This Row],[QTY]]*Table1[[#This Row],['# Books]]","v":0},{"$f":"Table1[[#This Row],[QTY]]*Table1[[#This Row],[S&L Price]]","v":0}]
[null,null,182,"Desastres (Doomed)",1,"Plaga: La Peste Negra (Plague: The Black Death)","eBook",null,"978-1-4824-3722-5",{"$f":"HYPERLINK(\"https://www.garethstevens.com/\"&Table1[[#This Row],[ISBN]],\"Weblink\")","v":"Weblink"},2016,"August 2015",null,null,"Author, Translated by","Janey Levy, Esther Sarfatti",null,null,44,null,"T",null,"Grade 4 - 5","Grade 4 - 6","The plague, aptly known as the Black Death, swept through Europe in the 1300s, killing more than 20 million people. Not only deadly but incredibly painful, the disease was characterized by black boils all over the body that oozed blood and pus. While providing more details about the plague, this book, an asset to any social studies collection, also addresses where the lethal outbreak originated and whether it could return. Aided by striking illustrations, sidebars, and fact boxes, readers will discover the conditions in the Middle Ages that made it possible for such an appalling disease to spread so easily.","Spanish",26.6,19.95,"614.5'732094--dc23","32 pp.",{"$f":"Table1[[#This Row],[QTY]]*Table1[[#This Row],['# Books]]","v":0},{"$f":"Table1[[#This Row],[QTY]]*Table1[[#This Row],[S&L Price]]","v":0}]
[null,null,182,"¡Podemos hacerlo! / We Can Do It!",1,"¡A limpiar! / Let's Clean Up!","Library Bound Book",null,"978-1-4824-4355-4",{"$f":"HYPERLINK(\"https://www.garethstevens.com/\"&Table1[[#This Row],[ISBN]],\"Weblink\")","v":"Weblink"},2016,"January 2016","Library","7.625 X 7.125","Author, Translated by","Lois Fortuna, Nathalie Beullens-Maoui",null,null,null,null,"C",null,"Grade K","Grade K - 2","Cleaning sounds like a tough and dirty job, but it can be fun! Budding readers learn how to take the tough task of cleaning up and make the most of it, helping their families and the environment along the way. Through vivid photographs paired with accessible text, readers see how a family cleans up bedrooms, the kitchen, the car, and even the front yard. This engaging book is sure to get readers on a spring cleaning kick, as they learn the value of a clean home and a job well done.","Bilingual",22.6,16.95,"648--dc23","24 pp.",{"$f":"Table1[[#This Row],[QTY]]*Table1[[#This Row],['# Books]]","v":0},{"$f":"Table1[[#This Row],[QTY]]*Table1[[#This Row],[S&L Price]]","v":0}]
[null,null,182,"¡Podemos hacerlo! / We Can Do It!",1,"¡A limpiar! / Let's Clean Up!","eBook",null,"978-1-4824-4327-1",{"$f":"HYPERLINK(\"https://www.garethstevens.com/\"&Table1[[#This Row],[ISBN]],\"Weblink\")","v":"Weblink"},2016,"January 2016",null,null,"Author, Translated by","Lois Fortuna, Nathalie Beullens-Maoui",null,null,null,null,"C",null,"Grade K","Grade K - 2","Cleaning sounds like a tough and dirty job, but it can be fun! Budding readers learn how to take the tough task of cleaning up and make the most of it, helping their families and the environment along the way. Through vivid photographs paired with accessible text, readers see how a family cleans up bedrooms, the kitchen, the car, and even the front yard. This engaging book is sure to get readers on a spring cleaning kick, as they learn the value of a clean home and a job well done.","Bilingual",22.6,16.95,"648--dc23","24 pp.",{"$f":"Table1[[#This Row],[QTY]]*Table1[[#This Row],['# Books]]","v":0},{"$f":"Table1[[#This Row],[QTY]]*Table1[[#This Row],[S&L Price]]","v":0}]
[null,null,182,"¡Podemos hacerlo! / We Can Do It!",1,"Ayudar a un amigo / Helping a Friend","Library Bound Book",null,"978-1-4824-4356-1",{"$f":"HYPERLINK(\"https://www.garethstevens.com/\"&Table1[[#This Row],[ISBN]],\"Weblink\")","v":"Weblink"},2016,"January 2016","Library","7.625 X 7.125","Author, Translated by","Lois Fortuna, Nathalie Beullens-Maoui",null,null,null,null,"C",null,"Grade K","Grade K - 2","Whether they're stuck on a homework question or just need a push on a swing, friends need each other! This book shows budding readers that not only could friends use a hand, but it can be rewarding and even fun to help out. Pairing accessible text with colorful photographs of friends lending others their time and effort, readers learn how their peers help their friends clean up their neighborhood or learn how to read. They even discover how they can team up with their own friends to stay safe or clean up trash in their neighborhood.","Bilingual",22.6,16.95,"177'.62--dc23","24 pp.",{"$f":"Table1[[#This Row],[QTY]]*Table1[[#This Row],['# Books]]","v":0},{"$f":"Table1[[#This Row],[QTY]]*Table1[[#This Row],[S&L Price]]","v":0}]
[null,null,182,"¡Podemos hacerlo! / We Can Do It!",1,"Ayudar a un amigo / Helping a Friend","eBook",null,"978-1-4824-4328-8",{"$f":"HYPERLINK(\"https://www.garethstevens.com/\"&Table1[[#This Row],[ISBN]],\"Weblink\")","v":"Weblink"},2016,"January 2016",null,null,"Author, Translated by","Lois Fortuna, Nathalie Beullens-Maoui",null,null,null,null,"C",null,"Grade K","Grade K - 2","Whether they're stuck on a homework question or just need a push on a swing, friends need each other! This book shows budding readers that not only could friends use a hand, but it can be rewarding and even fun to help out. Pairing accessible text with colorful photographs of friends lending others their time and effort, readers learn how their peers help their friends clean up their neighborhood or learn how to read. They even discover how they can team up with their own friends to stay safe or clean up trash in their neighborhood.","Bilingual",22.6,16.95,"177'.62--dc23","24 pp.",{"$f":"Table1[[#This Row],[QTY]]*Table1[[#This Row],['# Books]]","v":0},{"$f":"Table1[[#This Row],[QTY]]*Table1[[#This Row],[S&L Price]]","v":0}]
[null,null,182,"¡Podemos hacerlo! / We Can Do It!",1,"Ayudar con la cena / Helping with Dinner","Library Bound Book",null,"978-1-4824-4357-8",{"$f":"HYPERLINK(\"https://www.garethstevens.com/\"&Table1[[#This Row],[ISBN]],\"Weblink\")","v":"Weblink"},2016,"January 2016","Library","7.625 X 7.125","Author, Translated by","Lois Fortuna, Nathalie Beullens-Maoui",null,null,null,null,"C",null,"Grade K","Grade K - 2","Everyone loves a good meal. Readers join the fun as friends chop vegetables and prepare a salad. They also get a look at how to make pasta, using a wooden spoon to stir as it cooks. This hands-on look at creating food for the dinner table will inspire readers to get into the kitchen.","Bilingual",22.6,16.95,"641.5--dc23","24 pp.",{"$f":"Table1[[#This Row],[QTY]]*Table1[[#This Row],['# Books]]","v":0},{"$f":"Table1[[#This Row],[QTY]]*Table1[[#This Row],[S&L Price]]","v":0}]
[null,null,182,"¡Podemos hacerlo! / We Can Do It!",1,"Ayudar con la cena / Helping with Dinner","eBook",null,"978-1-4824-4329-5",{"$f":"HYPERLINK(\"https://www.garethstevens.com/\"&Table1[[#This Row],[ISBN]],\"Weblink\")","v":"Weblink"},2016,"January 2016",null,null,"Author, Translated by","Lois Fortuna, Nathalie Beullens-Maoui",null,null,null,null,"C",null,"Grade K","Grade K - 2","Everyone loves a good meal. Readers join the fun as friends chop vegetables and prepare a salad. They also get a look at how to make pasta, using a wooden spoon to stir as it cooks. This hands-on look at creating food for the dinner table will inspire readers to get into the kitchen.","Bilingual",22.6,16.95,"641.5--dc23","24 pp.",{"$f":"Table1[[#This Row],[QTY]]*Table1[[#This Row],['# Books]]","v":0},{"$f":"Table1[[#This Row],[QTY]]*Table1[[#This Row],[S&L Price]]","v":0}]
[null,null,182,"¡Podemos hacerlo! / We Can Do It!",1,"Cuidar de una mascota / Caring for a Pet","Library Bound Book",null,"978-1-4824-4358-5",{"$f":"HYPERLINK(\"https://www.garethstevens.com/\"&Table1[[#This Row],[ISBN]],\"Weblink\")","v":"Weblink"},2016,"January 2016","Library","7.625 X 7.125","Author, Translated by","Lois Fortuna, Nathalie Beullens-Maoui",null,null,null,null,"C",null,"Grade K","Grade K - 2","Pets are wonderful and loving members of any family, but they need special care. Through colorful photographs and accessible text, early readers learn how to care for their special animal friends. Dogs, cats, and fish are great pets for young children, and teaching them how to care for a pet lets them learn responsibility and how to complete tasks at a young age. By watching others take care of pets, readers gain knowledge they can put to good use with the pets in their own home.","Bilingual",22.6,16.95,"636.088'7--dc23","24 pp.",{"$f":"Table1[[#This Row],[QTY]]*Table1[[#This Row],['# Books]]","v":0},{"$f":"Table1[[#This Row],[QTY]]*Table1[[#This Row],[S&L Price]]","v":0}]
[null,null,182,"¡Podemos hacerlo! / We Can Do It!",1,"Cuidar de una mascota / Caring for a Pet","eBook",null,"978-1-4824-4330-1",{"$f":"HYPERLINK(\"https://www.garethstevens.com/\"&Table1[[#This Row],[ISBN]],\"Weblink\")","v":"Weblink"},2016,"January 2016",null,null,"Author, Translated by","Lois Fortuna, Nathalie Beullens-Maoui",null,null,null,null,"C",null,"Grade K","Grade K - 2","Pets are wonderful and loving members of any family, but they need special care. Through colorful photographs and accessible text, early readers learn how to care for their special animal friends. Dogs, cats, and fish are great pets for young children, and teaching them how to care for a pet lets them learn responsibility and how to complete tasks at a young age. By watching others take care of pets, readers gain knowledge they can put to good use with the pets in their own home.","Bilingual",22.6,16.95,"636.088'7--dc23","24 pp.",{"$f":"Table1[[#This Row],[QTY]]*Table1[[#This Row],['# Books]]","v":0},{"$f":"Table1[[#This Row],[QTY]]*Table1[[#This Row],[S&L Price]]","v":0}]
[null,null,182,"¡Podemos hacerlo! / We Can Do It!",1,"Listos para la escuela / Getting Ready for School","Library Bound Book",null,"978-1-4824-4360-8",{"$f":"HYPERLINK(\"https://www.garethstevens.com/\"&Table1[[#This Row],[ISBN]],\"Weblink\")","v":"Weblink"},2016,"January 2016","Library","7.625 X 7.125","Author, Translated by","Lois Fortuna, Nathalie Beullens-Maoui",null,null,null,null,"C",null,"Grade K","Grade K - 2","Whether wearing a uniform or picking out their own clothes, it’s not always easy for children to get up and get ready in the morning. In this book, early readers learn about this essential part of everyday life, learning how they can help their own families get the day started. This glimpse at a typical morning in a house sending its two children off to school is aided by colorful photographs matched with accessible text, showing readers how peers prepare for school by getting dressed and taking care of basic hygiene like brushing their hair.","Bilingual",22.6,16.95,"372--dc23","24 pp.",{"$f":"Table1[[#This Row],[QTY]]*Table1[[#This Row],['# Books]]","v":0},{"$f":"Table1[[#This Row],[QTY]]*Table1[[#This Row],[S&L Price]]","v":0}]
[null,null,182,"¡Podemos hacerlo! / We Can Do It!",1,"Listos para la escuela / Getting Ready for School","eBook",null,"978-1-4824-4332-5",{"$f":"HYPERLINK(\"https://www.garethstevens.com/\"&Table1[[#This Row],[ISBN]],\"Weblink\")","v":"Weblink"},2016,"January 2016",null,null,"Author, Translated by","Lois Fortuna, Nathalie Beullens-Maoui",null,null,null,null,"C",null,"Grade K","Grade K - 2","Whether wearing a uniform or picking out their own clothes, it’s not always easy for children to get up and get ready in the morning. In this book, early readers learn about this essential part of everyday life, learning how they can help their own families get the day started. This glimpse at a typical morning in a house sending its two children off to school is aided by colorful photographs matched with accessible text, showing readers how peers prepare for school by getting dressed and taking care of basic hygiene like brushing their hair.","Bilingual",22.6,16.95,"372--dc23","24 pp.",{"$f":"Table1[[#This Row],[QTY]]*Table1[[#This Row],['# Books]]","v":0},{"$f":"Table1[[#This Row],[QTY]]*Table1[[#This Row],[S&L Price]]","v":0}]
[null,null,182,"¡Podemos hacerlo! / We Can Do It!",1,"Sembrar plantas / Growing Plants","Library Bound Book",null,"978-1-4824-4359-2",{"$f":"HYPERLINK(\"https://www.garethstevens.com/\"&Table1[[#This Row],[ISBN]],\"Weblink\")","v":"Weblink"},2016,"January 2016","Library","7.625 X 7.125","Author, Translated by","Lois Fortuna, Nathalie Beullens-Maoui",null,null,null,null,"C",null,"Grade K","Grade K - 2","There are lots of different kinds of plants. From the grass beneath our feet to the fruits and vegetables we eat, plant life surrounds us. This engaging book gives budding readers a guide to growing plants of their own. Whether planting a vegetable garden or planting flowers, most plants come from tiny seeds. From there, readers learn how to water these seeds and tend to what soon comes out of the ground, learning an essential life process with the help of colorful photographs paired with simple text.","Bilingual",22.6,16.95,"630--dc23","24 pp.",{"$f":"Table1[[#This Row],[QTY]]*Table1[[#This Row],['# Books]]","v":0},{"$f":"Table1[[#This Row],[QTY]]*Table1[[#This Row],[S&L Price]]","v":0}]
[null,null,182,"¡Podemos hacerlo! / We Can Do It!",1,"Sembrar plantas / Growing Plants","eBook",null,"978-1-4824-4331-8",{"$f":"HYPERLINK(\"https://www.garethstevens.com/\"&Table1[[#This Row],[ISBN]],\"Weblink\")","v":"Weblink"},2016,"January 2016",null,null,"Author, Translated by","Lois Fortuna, Nathalie Beullens-Maoui",null,null,null,null,"C",null,"Grade K","Grade K - 2","There are lots of different kinds of plants. From the grass beneath our feet to the fruits and vegetables we eat, plant life surrounds us. This engaging book gives budding readers a guide to growing plants of their own. Whether planting a vegetable garden or planting flowers, most plants come from tiny seeds. From there, readers learn how to water these seeds and tend to what soon comes out of the ground, learning an essential life process with the help of colorful photographs paired with simple text.","Bilingual",22.6,16.95,"630--dc23","24 pp.",{"$f":"Table1[[#This Row],[QTY]]*Table1[[#This Row],['# Books]]","v":0},{"$f":"Table1[[#This Row],[QTY]]*Table1[[#This Row],[S&L Price]]","v":0}]
[null,null,182,"Nuestros colores preferidos / Our Favorite Colors",1,"¡Nos encanta el amarillo! / We Love Yellow!","Library Bound Book",null,"978-1-4824-4350-9",{"$f":"HYPERLINK(\"https://www.garethstevens.com/\"&Table1[[#This Row],[ISBN]],\"Weblink\")","v":"Weblink"},2016,"January 2016","Library","7.000 X 7.000","Author, Translated by","Richard Little, Eida de la Vega",null,null,null,null,"B",null,"Grade K","Grade K - 1","Yellow is an important part of our daily lives. Yellow school buses, traffic lights, bananas, butter, and more populate our day, whether we realize it or not. This accessible text will reveal to readers the many shades of yellow all around them. As they turn each page, they'll recognize objects in the photographs, identify them, and practice the accompanying vocabulary. A concluding activity will help them display their understanding of the concept of yellow.","Bilingual",22.6,16.95,"535.6--dc23","24 pp.",{"$f":"Table1[[#This Row],[QTY]]*Table1[[#This Row],['# Books]]","v":0},{"$f":"Table1[[#This Row],[QTY]]*Table1[[#This Row],[S&L Price]]","v":0}]
[null,null,182,"Nuestros colores preferidos / Our Favorite Colors",1,"¡Nos encanta el amarillo! / We Love Yellow!","eBook",null,"978-1-4824-4322-6",{"$f":"HYPERLINK(\"https://www.garethstevens.com/\"&Table1[[#This Row],[ISBN]],\"Weblink\")","v":"Weblink"},2016,"January 2016",null,null,"Author, Translated by","Richard Little, Eida de la Vega",null,null,null,null,"B",null,"Grade K","Grade K - 1","Yellow is an important part of our daily lives. Yellow school buses, traffic lights, bananas, butter, and more populate our day, whether we realize it or not. This accessible text will reveal to readers the many shades of yellow all around them. As they turn each page, they'll recognize objects in the photographs, identify them, and practice the accompanying vocabulary. A concluding activity will help them display their understanding of the concept of yellow.","Bilingual",22.6,16.95,"535.6--dc23","24 pp.",{"$f":"Table1[[#This Row],[QTY]]*Table1[[#This Row],['# Books]]","v":0},{"$f":"Table1[[#This Row],[QTY]]*Table1[[#This Row],[S&L Price]]","v":0}]
[null,null,182,"Nuestros colores preferidos / Our Favorite Colors",1,"¡Nos encanta el anaranjado! / We Love Orange!","Library Bound Book",null,"978-1-4824-4351-6",{"$f":"HYPERLINK(\"https://www.garethstevens.com/\"&Table1[[#This Row],[ISBN]],\"Weblink\")","v":"Weblink"},2016,"January 2016","Library","7.000 X 7.000","Author, Translated by","Emma O'Connell, Eida de la Vega",null,null,null,null,"C",null,"Grade K","Grade K - 1","Crunchy carrots, bouncy basketballs, and flashy fish can all be the color orange. After examining this important color concept in the pages of this accessible volume, readers’ eyes will be opened to the many hues of orange in their world, as well as other colors. They’ll also review vocabulary through the simple sentences that accompany each photograph. A final evaluation completes this bright book.","Bilingual",22.6,16.95,"535.6--dc23","24 pp.",{"$f":"Table1[[#This Row],[QTY]]*Table1[[#This Row],['# Books]]","v":0},{"$f":"Table1[[#This Row],[QTY]]*Table1[[#This Row],[S&L Price]]","v":0}]
[null,null,182,"Nuestros colores preferidos / Our Favorite Colors",1,"¡Nos encanta el anaranjado! / We Love Orange!","eBook",null,"978-1-4824-4323-3",{"$f":"HYPERLINK(\"https://www.garethstevens.com/\"&Table1[[#This Row],[ISBN]],\"Weblink\")","v":"Weblink"},2016,"January 2016",null,null,"Author, Translated by","Emma O'Connell, Eida de la Vega",null,null,null,null,"C",null,"Grade K","Grade K - 1","Crunchy carrots, bouncy basketballs, and flashy fish can all be the color orange. After examining this important color concept in the pages of this accessible volume, readers’ eyes will be opened to the many hues of orange in their world, as well as other colors. They’ll also review vocabulary through the simple sentences that accompany each photograph. A final evaluation completes this bright book.","Bilingual",22.6,16.95,"535.6--dc23","24 pp.",{"$f":"Table1[[#This Row],[QTY]]*Table1[[#This Row],['# Books]]","v":0},{"$f":"Table1[[#This Row],[QTY]]*Table1[[#This Row],[S&L Price]]","v":0}]
[null,null,182,"Nuestros colores preferidos / Our Favorite Colors",1,"¡Nos encanta el azul! / We Love Blue!","Library Bound Book",null,"978-1-4824-4349-3",{"$f":"HYPERLINK(\"https://www.garethstevens.com/\"&Table1[[#This Row],[ISBN]],\"Weblink\")","v":"Weblink"},2016,"January 2016","Library","7.000 X 7.000","Author, Translated by","Emma O'Connell, Eida de la Vega",null,null,null,null,"B",null,"Grade K","Grade K - 1","Blue is a beautiful color, and it's all around us, as this volume demonstrates. Readers are presented with multiple vivid hues of the color blue through recognizable objects, such as flowers, fish, and blueberries. They'll also be able to practice their vocabulary while reading comprehensible sentences. They can demonstrate their understanding of the color concept by completing the activity at the end of this book.","Bilingual",22.6,16.95,"535.6--dc23","24 pp.",{"$f":"Table1[[#This Row],[QTY]]*Table1[[#This Row],['# Books]]","v":0},{"$f":"Table1[[#This Row],[QTY]]*Table1[[#This Row],[S&L Price]]","v":0}]
[null,null,182,"Nuestros colores preferidos / Our Favorite Colors",1,"¡Nos encanta el azul! / We Love Blue!","eBook",null,"978-1-4824-4319-6",{"$f":"HYPERLINK(\"https://www.garethstevens.com/\"&Table1[[#This Row],[ISBN]],\"Weblink\")","v":"Weblink"},2016,"January 2016",null,null,"Author, Translated by","Emma O'Connell, Eida de la Vega",null,null,null,null,"B",null,"Grade K","Grade K - 1","Blue is a beautiful color, and it's all around us, as this volume demonstrates. Readers are presented with multiple vivid hues of the color blue through recognizable objects, such as flowers, fish, and blueberries. They'll also be able to practice their vocabulary while reading comprehensible sentences. They can demonstrate their understanding of the color concept by completing the activity at the end of this book.","Bilingual",22.6,16.95,"535.6--dc23","24 pp.",{"$f":"Table1[[#This Row],[QTY]]*Table1[[#This Row],['# Books]]","v":0},{"$f":"Table1[[#This Row],[QTY]]*Table1[[#This Row],[S&L Price]]","v":0}]
[null,null,182,"Nuestros colores preferidos / Our Favorite Colors",1,"¡Nos encanta el morado! / We Love Purple!","Library Bound Book",null,"978-1-4824-4352-3",{"$f":"HYPERLINK(\"https://www.garethstevens.com/\"&Table1[[#This Row],[ISBN]],\"Weblink\")","v":"Weblink"},2016,"January 2016","Library","7.000 X 7.000","Translated by, Author","Eida de la Vega, Richard Little",null,null,null,null,"B",null,"Grade K","Grade K - 1","Grapes, plums, jams...some tasty things are the color purple. Readers of this bright volume will discover this fun fact as well as see varying shades of color in common objects from their lives as they turn each page. Recognizable items and comprehensible text make this book a valuable tool for improving reading comprehension and reviewing color concepts.","Bilingual",22.6,16.95,"535.6--dc23","24 pp.",{"$f":"Table1[[#This Row],[QTY]]*Table1[[#This Row],['# Books]]","v":0},{"$f":"Table1[[#This Row],[QTY]]*Table1[[#This Row],[S&L Price]]","v":0}]
[null,null,182,"Nuestros colores preferidos / Our Favorite Colors",1,"¡Nos encanta el morado! / We Love Purple!","eBook",null,"978-1-4824-4324-0",{"$f":"HYPERLINK(\"https://www.garethstevens.com/\"&Table1[[#This Row],[ISBN]],\"Weblink\")","v":"Weblink"},2016,"January 2016",null,null,"Translated by, Author","Eida de la Vega, Richard Little",null,null,null,null,"B",null,"Grade K","Grade K - 1","Grapes, plums, jams...some tasty things are the color purple. Readers of this bright volume will discover this fun fact as well as see varying shades of color in common objects from their lives as they turn each page. Recognizable items and comprehensible text make this book a valuable tool for improving reading comprehension and reviewing color concepts.","Bilingual",22.6,16.95,"535.6--dc23","24 pp.",{"$f":"Table1[[#This Row],[QTY]]*Table1[[#This Row],['# Books]]","v":0},{"$f":"Table1[[#This Row],[QTY]]*Table1[[#This Row],[S&L Price]]","v":0}]
[null,null,182,"Nuestros colores preferidos / Our Favorite Colors",1,"¡Nos encanta el rojo! / We Love Red!","Library Bound Book",null,"978-1-4824-4353-0",{"$f":"HYPERLINK(\"https://www.garethstevens.com/\"&Table1[[#This Row],[ISBN]],\"Weblink\")","v":"Weblink"},2016,"January 2016","Library","7.000 X 7.000","Author, Translated by","Richard Little, Eida de la Vega",null,null,null,null,"B",null,"Grade K","Grade K - 1","The eye-catching color of red tints delicious apples, shiny toy cars, juicy tomatoes, and so much more in the world around us. Readers of this cheerful volume are invited to recognize red in well-known objects in each photograph as well as to review important vocabulary words in at-level sentences. A simple activity at the end of the book allows them to self-evaluate their mastery of this color concept.","Bilingual",22.6,16.95,"535.6--dc23","24 pp.",{"$f":"Table1[[#This Row],[QTY]]*Table1[[#This Row],['# Books]]","v":0},{"$f":"Table1[[#This Row],[QTY]]*Table1[[#This Row],[S&L Price]]","v":0}]
[null,null,182,"Nuestros colores preferidos / Our Favorite Colors",1,"¡Nos encanta el rojo! / We Love Red!","eBook",null,"978-1-4824-4325-7",{"$f":"HYPERLINK(\"https://www.garethstevens.com/\"&Table1[[#This Row],[ISBN]],\"Weblink\")","v":"Weblink"},2016,"January 2016",null,null,"Author, Translated by","Richard Little, Eida de la Vega",null,null,null,null,"B",null,"Grade K","Grade K - 1","The eye-catching color of red tints delicious apples, shiny toy cars, juicy tomatoes, and so much more in the world around us. Readers of this cheerful volume are invited to recognize red in well-known objects in each photograph as well as to review important vocabulary words in at-level sentences. A simple activity at the end of the book allows them to self-evaluate their mastery of this color concept.","Bilingual",22.6,16.95,"535.6--dc23","24 pp.",{"$f":"Table1[[#This Row],[QTY]]*Table1[[#This Row],['# Books]]","v":0},{"$f":"Table1[[#This Row],[QTY]]*Table1[[#This Row],[S&L Price]]","v":0}]
[null,null,182,"Nuestros colores preferidos / Our Favorite Colors",1,"¡Nos encanta el verde! / We Love Green!","Library Bound Book",null,"978-1-4824-4354-7",{"$f":"HYPERLINK(\"https://www.garethstevens.com/\"&Table1[[#This Row],[ISBN]],\"Weblink\")","v":"Weblink"},2016,"January 2016","Library","7.000 X 7.000","Author, Translated by","Emma O'Connell, Eida de la Vega",null,null,null,null,"B",null,"Grade K","Grade K - 1","Grasping the concept of colors is an important step in early education. Readers dive into the color green with turtles, snakes, grapes, leaves, and other familiar objects. They'll also review vocabulary words of the depicted items. The end of the volume provides an opportunity for evaluation of newly learned information.","Bilingual",22.6,16.95,"535.6--dc23","24 pp.",{"$f":"Table1[[#This Row],[QTY]]*Table1[[#This Row],['# Books]]","v":0},{"$f":"Table1[[#This Row],[QTY]]*Table1[[#This Row],[S&L Price]]","v":0}]
[null,null,182,"Nuestros colores preferidos / Our Favorite Colors",1,"¡Nos encanta el verde! / We Love Green!","eBook",null,"978-1-4824-4326-4",{"$f":"HYPERLINK(\"https://www.garethstevens.com/\"&Table1[[#This Row],[ISBN]],\"Weblink\")","v":"Weblink"},2016,"January 2016",null,null,"Author, Translated by","Emma O'Connell, Eida de la Vega",null,null,null,null,"B",null,"Grade K","Grade K - 1","Grasping the concept of colors is an important step in early education. Readers dive into the color green with turtles, snakes, grapes, leaves, and other familiar objects. They'll also review vocabulary words of the depicted items. The end of the volume provides an opportunity for evaluation of newly learned information.","Bilingual",22.6,16.95,"535.6--dc23","24 pp.",{"$f":"Table1[[#This Row],[QTY]]*Table1[[#This Row],['# Books]]","v":0},{"$f":"Table1[[#This Row],[QTY]]*Table1[[#This Row],[S&L Price]]","v":0}]
[null,null,182,"Vamos a agrupar por… / Sort It Out!",1,"Colores / Sort It by Color","Library Bound Book",null,"978-1-4824-3215-2",{"$f":"HYPERLINK(\"https://www.garethstevens.com/\"&Table1[[#This Row],[ISBN]],\"Weblink\")","v":"Weblink"},2016,"August 2015","Library","7.000 X 7.000","Author, Translated by","Emmett Alexander, Eida de la Vega",null,null,3,null,"C",null,"Grade K - 1","Grade K - 2","Learning to identify colors is an essential skill in the early elementary classroom. Learning to sort by color takes this aptitude one step further. Through accessible text and helpful photographs, beginning readers will be able to see familiar objects, such as toys and crayons, both mixed up and sorted into their favorite colors. They'll be able to demonstrate their mastery of the concept by this inviting book's end.","Bilingual",22.6,16.95,"512.2","24 pp.",{"$f":"Table1[[#This Row],[QTY]]*Table1[[#This Row],['# Books]]","v":0},{"$f":"Table1[[#This Row],[QTY]]*Table1[[#This Row],[S&L Price]]","v":0}]
[null,null,182,"Vamos a agrupar por… / Sort It Out!",1,"Colores / Sort It by Color","eBook",null,"978-1-4824-3216-9",{"$f":"HYPERLINK(\"https://www.garethstevens.com/\"&Table1[[#This Row],[ISBN]],\"Weblink\")","v":"Weblink"},2016,"August 2015",null,null,"Author, Translated by","Emmett Alexander, Eida de la Vega",null,null,3,null,"C",null,"Grade K - 1","Grade K - 2","Learning to identify colors is an essential skill in the early elementary classroom. Learning to sort by color takes this aptitude one step further. Through accessible text and helpful photographs, beginning readers will be able to see familiar objects, such as toys and crayons, both mixed up and sorted into their favorite colors. They'll be able to demonstrate their mastery of the concept by this inviting book's end.","Bilingual",22.6,16.95,"512.2","24 pp.",{"$f":"Table1[[#This Row],[QTY]]*Table1[[#This Row],['# Books]]","v":0},{"$f":"Table1[[#This Row],[QTY]]*Table1[[#This Row],[S&L Price]]","v":0}]
[null,null,182,"Vamos a agrupar por… / Sort It Out!",1,"Formas / Sort It by Shape","Library Bound Book",null,"978-1-4824-3217-6",{"$f":"HYPERLINK(\"https://www.garethstevens.com/\"&Table1[[#This Row],[ISBN]],\"Weblink\")","v":"Weblink"},2016,"August 2015","Library","7.000 X 7.000","Author, Translated by","Emmett Alexander, Eida de la Vega",null,null,4,null,"D",null,"Grade K - 1","Grade K - 2","Our world is made up of shapes. This colorful book will enable beginning readers to visualize that as they examine photographs of objects in their daily lives, such as books, clocks, and sandwiches. They'll also learn how to sort certain shapes from other shapes through clear text and supporting photographs. This valuable book is a beneficial introduction to essential concepts in the early elementary mathematics curriculum.","Bilingual",22.6,16.95,"512.2","24 pp.",{"$f":"Table1[[#This Row],[QTY]]*Table1[[#This Row],['# Books]]","v":0},{"$f":"Table1[[#This Row],[QTY]]*Table1[[#This Row],[S&L Price]]","v":0}]
[null,null,182,"Vamos a agrupar por… / Sort It Out!",1,"Formas / Sort It by Shape","eBook",null,"978-1-4824-3218-3",{"$f":"HYPERLINK(\"https://www.garethstevens.com/\"&Table1[[#This Row],[ISBN]],\"Weblink\")","v":"Weblink"},2016,"August 2015",null,null,"Author, Translated by","Emmett Alexander, Eida de la Vega",null,null,4,null,"D",null,"Grade K - 1","Grade K - 2","Our world is made up of shapes. This colorful book will enable beginning readers to visualize that as they examine photographs of objects in their daily lives, such as books, clocks, and sandwiches. They'll also learn how to sort certain shapes from other shapes through clear text and supporting photographs. This valuable book is a beneficial introduction to essential concepts in the early elementary mathematics curriculum.","Bilingual",22.6,16.95,"512.2","24 pp.",{"$f":"Table1[[#This Row],[QTY]]*Table1[[#This Row],['# Books]]","v":0},{"$f":"Table1[[#This Row],[QTY]]*Table1[[#This Row],[S&L Price]]","v":0}]
[null,null,182,"Vamos a agrupar por… / Sort It Out!",1,"Peso / Sort It by Weight","Library Bound Book",null,"978-1-4824-3226-8",{"$f":"HYPERLINK(\"https://www.garethstevens.com/\"&Table1[[#This Row],[ISBN]],\"Weblink\")","v":"Weblink"},2016,"August 2015","Library","7.000 X 7.000","Author, Translated by","Nicholas O'Hara, Eida de la Vega",null,null,3,null,"C",null,"Grade K - 1","Grade K - 2","Weight is an important concept in the elementary math classroom as is learning how to sort and classify objects. This colorful book uses familiar objects to exhibit the differences between the adjectives \"heavy\" and \"light\" and how objects that match these descriptions can be sorted from one another. After reviewing the concepts, readers can demonstrate their understanding at the conclusion of the book and apply their knowledge to situations outside the classroom, too.","Bilingual",22.6,16.95,"530.8","24 pp.",{"$f":"Table1[[#This Row],[QTY]]*Table1[[#This Row],['# Books]]","v":0},{"$f":"Table1[[#This Row],[QTY]]*Table1[[#This Row],[S&L Price]]","v":0}]
[null,null,182,"Vamos a agrupar por… / Sort It Out!",1,"Peso / Sort It by Weight","eBook",null,"978-1-4824-3225-1",{"$f":"HYPERLINK(\"https://www.garethstevens.com/\"&Table1[[#This Row],[ISBN]],\"Weblink\")","v":"Weblink"},2016,"August 2015",null,null,"Author, Translated by","Nicholas O'Hara, Eida de la Vega",null,null,3,null,"C",null,"Grade K - 1","Grade K - 2","Weight is an important concept in the elementary math classroom as is learning how to sort and classify objects. This colorful book uses familiar objects to exhibit the differences between the adjectives \"heavy\" and \"light\" and how objects that match these descriptions can be sorted from one another. After reviewing the concepts, readers can demonstrate their understanding at the conclusion of the book and apply their knowledge to situations outside the classroom, too.","Bilingual",22.6,16.95,"530.8","24 pp.",{"$f":"Table1[[#This Row],[QTY]]*Table1[[#This Row],['# Books]]","v":0},{"$f":"Table1[[#This Row],[QTY]]*Table1[[#This Row],[S&L Price]]","v":0}]
[null,null,182,"Vamos a agrupar por… / Sort It Out!",1,"Sonidos / Sort It by Sound","Library Bound Book",null,"978-1-4824-3221-3",{"$f":"HYPERLINK(\"https://www.garethstevens.com/\"&Table1[[#This Row],[ISBN]],\"Weblink\")","v":"Weblink"},2016,"August 2015","Library","7.000 X 7.000","Author, Translated by","Nicholas O'Hara, Eida de la Vega",null,null,3,null,"C",null,"Grade K - 1","Grade K - 2","People sort and classify using several kinds of categories, including sound. Readers of this accessible book will consider what's loud and what's quiet in the world around them. They'll discover some things, like music and people, can be loud or quiet. Sorting one from another is perfectly illustrated with carefully chosen photographs throughout this inviting book.","Bilingual",22.6,16.95,"534","24 pp.",{"$f":"Table1[[#This Row],[QTY]]*Table1[[#This Row],['# Books]]","v":0},{"$f":"Table1[[#This Row],[QTY]]*Table1[[#This Row],[S&L Price]]","v":0}]
[null,null,182,"Vamos a agrupar por… / Sort It Out!",1,"Sonidos / Sort It by Sound","eBook",null,"978-1-4824-3222-0",{"$f":"HYPERLINK(\"https://www.garethstevens.com/\"&Table1[[#This Row],[ISBN]],\"Weblink\")","v":"Weblink"},2016,"August 2015",null,null,"Author, Translated by","Nicholas O'Hara, Eida de la Vega",null,null,3,null,"C",null,"Grade K - 1","Grade K - 2","People sort and classify using several kinds of categories, including sound. Readers of this accessible book will consider what's loud and what's quiet in the world around them. They'll discover some things, like music and people, can be loud or quiet. Sorting one from another is perfectly illustrated with carefully chosen photographs throughout this inviting book.","Bilingual",22.6,16.95,"534","24 pp.",{"$f":"Table1[[#This Row],[QTY]]*Table1[[#This Row],['# Books]]","v":0},{"$f":"Table1[[#This Row],[QTY]]*Table1[[#This Row],[S&L Price]]","v":0}]
[null,null,182,"Vamos a agrupar por… / Sort It Out!",1,"Tamaños / Sort It by Size","Library Bound Book",null,"978-1-4824-3219-0",{"$f":"HYPERLINK(\"https://www.garethstevens.com/\"&Table1[[#This Row],[ISBN]],\"Weblink\")","v":"Weblink"},2016,"August 2015","Library","7.000 X 7.000","Author, Translated by","Emmett Alexander, Eida de la Vega",null,null,3,null,"C",null,"Grade K - 1","Grade K - 2","Small and large, short and tall, little and big, these are all words that help us describe size. This math concepts volume doesn't just \"tell\"; it shows early learners the difference between concepts, introduces them to synonyms, and helps them learn to sort a group according to size. Classification is an important concept for the early elementary mathematics student, but the text and photographs in this book, including dogs, fish, and birds, make it fun!","Bilingual",22.6,16.95,"512","24 pp.",{"$f":"Table1[[#This Row],[QTY]]*Table1[[#This Row],['# Books]]","v":0},{"$f":"Table1[[#This Row],[QTY]]*Table1[[#This Row],[S&L Price]]","v":0}]
[null,null,182,"Vamos a agrupar por… / Sort It Out!",1,"Tamaños / Sort It by Size","eBook",null,"978-1-4824-3220-6",{"$f":"HYPERLINK(\"https://www.garethstevens.com/\"&Table1[[#This Row],[ISBN]],\"Weblink\")","v":"Weblink"},2016,"August 2015",null,null,"Author, Translated by","Emmett Alexander, Eida de la Vega",null,null,3,null,"C",null,"Grade K - 1","Grade K - 2","Small and large, short and tall, little and big, these are all words that help us describe size. This math concepts volume doesn't just \"tell\"; it shows early learners the difference between concepts, introduces them to synonyms, and helps them learn to sort a group according to size. Classification is an important concept for the early elementary mathematics student, but the text and photographs in this book, including dogs, fish, and birds, make it fun!","Bilingual",22.6,16.95,"512","24 pp.",{"$f":"Table1[[#This Row],[QTY]]*Table1[[#This Row],['# Books]]","v":0},{"$f":"Table1[[#This Row],[QTY]]*Table1[[#This Row],[S&L Price]]","v":0}]
[null,null,182,"Vamos a agrupar por… / Sort It Out!",1,"Textura / Sort It by Texture","Library Bound Book",null,"978-1-4824-3223-7",{"$f":"HYPERLINK(\"https://www.garethstevens.com/\"&Table1[[#This Row],[ISBN]],\"Weblink\")","v":"Weblink"},2016,"August 2015","Library","7.000 X 7.000","Author, Translated by","Nicholas O'Hara, Eida de la Vega",null,null,4,null,"D",null,"Grade K - 1","Grade K - 2","Eww, that feels gross! Young learners love learning about texture up close. This accessible book enables readers to imagine how objects would feel that might not be available in the classroom, such as an alligator! Smooth, bumpy, dry, sticky, hard, and soft are just some of the adjectives introduced in this valuable volume. The text and photographs demonstrate objects that illustrate each adjective as well as how to sort objects of a certain texture from a mixed group.","Bilingual",22.6,16.95,"620.1","24 pp.",{"$f":"Table1[[#This Row],[QTY]]*Table1[[#This Row],['# Books]]","v":0},{"$f":"Table1[[#This Row],[QTY]]*Table1[[#This Row],[S&L Price]]","v":0}]
[null,null,182,"Vamos a agrupar por… / Sort It Out!",1,"Textura / Sort It by Texture","eBook",null,"978-1-4824-3224-4",{"$f":"HYPERLINK(\"https://www.garethstevens.com/\"&Table1[[#This Row],[ISBN]],\"Weblink\")","v":"Weblink"},2016,"August 2015",null,null,"Author, Translated by","Nicholas O'Hara, Eida de la Vega",null,null,4,null,"D",null,"Grade K - 1","Grade K - 2","Eww, that feels gross! Young learners love learning about texture up close. This accessible book enables readers to imagine how objects would feel that might not be available in the classroom, such as an alligator! Smooth, bumpy, dry, sticky, hard, and soft are just some of the adjectives introduced in this valuable volume. The text and photographs demonstrate objects that illustrate each adjective as well as how to sort objects of a certain texture from a mixed group.","Bilingual",22.6,16.95,"620.1","24 pp.",{"$f":"Table1[[#This Row],[QTY]]*Table1[[#This Row],['# Books]]","v":0},{"$f":"Table1[[#This Row],[QTY]]*Table1[[#This Row],[S&L Price]]","v":0}]

{"sheet":"Sheet2","index":2,"n_rows":27,"n_cols":10,"rows_kept":27,"cut":false,"hidden":false,"merged":[[0,4,3,6],[12,5,12,6],[4,1,4,2],[5,4,7,4],[10,5,10,6],[11,5,11,6],[21,5,21,6],[22,5,22,6],[24,5,24,6],[13,5,13,6],[15,1,15,2],[15,4,15,6],[16,5,16,6],[17,5,17,6],[18,5,18,6],[23,5,23,6]]}
[null,null,null,null,"Gareth Stevens Publishing\n111 East 14th Street, Suite 349 • New York, NY 10003\nPhone: 800-542-2595 • Fax: 877-542-2596\ngarethstevens.com"]
[null,null,null,null,null,null,null,null,null,{"$f":"COUNT(I:I)","v":0}]
[]
[]
[null,"BILL TO:",null,null,null,null,null,null,null,"Visa"]
[null,"School/Library",{"$f":"Sheet1!J8","v":0},null,"For Credit card orders \nselect one:",null,null,null,null,"Mastercard"]
[null,"Attention",{"$f":"Sheet1!J9","v":0},null,null,null,"Select Card Type",null,null,"AMEX"]
[null,"Address",{"$f":"Sheet1!J11","v":0}]
[null,"City",{"$f":"Sheet1!J12","v":0}]
[null,"State",{"$f":"Sheet1!J13","v":0}]
[null,"Zip",{"$f":"Sheet1!J14","v":0},null,"Card Number"]
[null,"Phone",{"$f":"Sheet1!J16","v":0},null,"Name on Card"]
[null,"Fax",{"$f":"Sheet1!J17","v":0},null,"Exp. Date"]
[null,"email",{"$f":"Sheet1!J18","v":0},null,"CVV Code"]
[]
[null,"SHIP TO:",null,null,"SUMMARY"]
[null,"School/Library",{"$f":"Sheet1!F8","v":0},null,"Book Subtotal",{"$f":"Sheet1!AC11","v":0}]
[null,"Attention",{"$f":"Sheet1!F9","v":0},null,"Library Processing",{"$f":"Sheet1!AC12","v":0}]
[null,"Address",{"$f":"Sheet1!F11","v":0},null,"S&H",{"$f":"Sheet1!AC13","v":0}]
[null,"City",{"$f":"Sheet1!F12","v":0}]
[null,"State",{"$f":"Sheet1!F13","v":0}]
[null,"Zip",{"$f":"Sheet1!F14","v":0},null,"Tax",{"$f":"Sheet1!AC14","v":0},null,"Notes"]
[null,"Phone",{"$f":"Sheet1!F16","v":0},null,"GRAND TOTAL",{"$f":"Sheet1!AC15","v":0}]
[null,"Fax",{"$f":"Sheet1!F17","v":0},null,"Total # of Books Ordered",{"$f":"Sheet1!W9+Sheet1!Y9+Sheet1!AA9+Sheet1!AC9","v":0}]
[null,"email",{"$f":"Sheet1!F18","v":0},null,"Purchase Order #",{"$f":"Sheet1!F20","v":0}]
[]
["QTY","ISBN","Title","Series","Product Type","# of Books","© Date","Price (ea.)","Total"]