{"text_format":"1","workbook":"xlsx","n_sheets":3,"sheets":["Sheet1","Sheet2","StandingOrder"],"not_rendered":{"charts":0,"images":3,"macros":1,"external_links":0,"defined_names":8,"comments":2,"pivot_tables":0},"unopened":[],"bounds":{"document_bytes":16777216,"sheet_cells":100000,"rows_first":2000,"rows_last":500,"rows_between":2000,"halvings":0,"cell_chars":16384,"cell_head_chars":4096},"cells_cut":0,"cells_raw":0,"read":"whole","date_system":"1900"}

{"sheet":"Sheet1","index":0,"n_rows":4224,"n_cols":34,"rows_kept":2250,"cut":true,"hidden":false,"merged":[[6,23,6,29],[7,24,7,25],[11,23,11,25],[10,26,10,27],[10,28,10,29],[11,26,11,27],[11,28,11,29],[7,26,7,29],[8,26,8,29],[9,26,9,29],[19,11,19,12],[12,26,12,27],[12,28,12,29],[8,24,8,25],[9,24,9,25],[12,23,12,25],[19,13,19,19],[13,23,13,25],[13,26,13,27],[13,28,13,29],[14,26,14,27],[14,28,14,29],[15,13,15,19],[16,13,16,19],[17,13,17,19],[12,13,12,19],[13,13,13,19],[14,13,14,19],[7,11,7,12],[8,11,8,12],[9,11,9,12],[10,11,10,12],[16,6,16,8],[17,6,17,8],[19,6,19,8],[6,11,6,19],[16,11,16,12],[17,11,17,12],[11,11,11,12],[12,11,12,12],[13,11,13,12],[14,11,14,12],[15,11,15,12],[7,13,7,19],[8,13,8,19],[9,13,9,19],[10,13,10,19],[11,13,11,19],[11,6,11,8],[12,6,12,8],[13,6,13,8],[14,6,14,8],[15,6,15,8],[6,5,6,8],[7,6,7,8],[8,6,8,8],[9,6,9,8],[10,6,10,8]],"bounds":{"rows_first":1000,"rows_last":250,"rows_between":1000,"halvings":1}}
[]
[]
[]
[]
[]
[]
[null,null,null,null,null,"Ship to",null,null,null,null,null,"Bill to",null,null,null,null,null,null,null,null,null,null,null,"Summary"]
[null,null,null,null,null,"School/Library:",null,null,null,null,null,"School/Library:",null,null,null,null,null,null,null,null,null,null,null,null,"Print",null," eBooks"]
[null,null,null,null,null,"Attention:",null,null,null,null,null,"Attention:",null,null,null,null,null,null,null,null,null,null,null,"# of Books",{"$f":"SUMPRODUCT(((Table1[Product Type]=\"Library Bound Book\")\n+(Table1[Product Type]=\"Library Set\")\n+(Table1[Product Type]=\"Paperback Book\")\n+(Table1[Product Type]=\"Single Copy Set\"))*(Table1[Subtotal QTY]))","v":0},null,{"$f":"SUMPRODUCT(((Table1[Product Type]=\"eBook\")+(Table1[Product Type]=\"eBook Set\"))*(Table1[Subtotal QTY]))","v":0}]
[null,null,null,null,null,"Title:",null,null,null,null,null,"Title:",null,null,null,null,null,null,null,null,null,null,null,"Subtotal",{"$f":"SUMPRODUCT(((Table1[Product Type]=\"Library Bound Book\")\n+(Table1[Product Type]=\"Library Set\")\n+(Table1[Product Type]=\"Paperback Book\")\n+(Table1[Product Type]=\"Single Copy Set\"))*(Table1[Subtotal]))","v":0},null,{"$f":"SUMPRODUCT(((Table1[Product Type]=\"eBook\")+(Table1[Product Type]=\"eBook Set\"))*(Table1[Subtotal]))","v":0}]
[null,null,null,null,null,"Street Address:",null,null,null,null,null,"Street Address:",null,null,null,null,null,null,null,null,null,null,null,null,null,null,"Book Subtotal",null,{"$f":"Y10+AA10","v":0}]
[null,null,null,null,null,"City:",null,null,null,null,null,"City:",null,null,null,null,null,null,null,null,null,null,null,"(if applicable)",null,null,"Library Processing"]
[null,null,null,null,null,"State:",null,null,null,null,null,"State:",null,null,null,null,null,null,null,null,null,null,null,"9% S&H (12% for Alaska & Hawaii) - FREE on all orders over $500",null,null,"Shipping & Handling",null,{"$f":"IF(AC11<500,(AC11*0.09),(\"0.00\"))","v":0}]
[null,null,null,null,null,"Zip:",null,null,null,null,null,"Zip:",null,null,null,null,null,null,null,null,null,null,null,"(if applicable)",null,null,"Tax"]
[null,null,null,null,null,"Contact Name:",null,null,null,null,null,"Contact Name:",null,null,null,null,null,null,null,null,null,null,null,null,null,null,"GRAND TOTAL",null,{"$f":"AC11+AC12+AC13+AC14","v":0}]
[null,null,null,null,null,"Phone:",null,null,null,null,null,"Phone:"]
[null,null,null,null,null,"Fax:",null,null,null,null,null,"Fax:",null,null,null,null,null,null,null,null,null,null,null,null,"Notes"]
[null,null,null,null,null,"email:",null,null,null,null,null,"email:"]
[]
[null,null,null,null,null,"PO# (if needed)",null,null,null,null,null,"Rep Name:",null,"Mike White - mikewhite@booklookindiana.com - 317-490-5495"]
[]
["QTY","Fall Catalog Pg#","Spring GH Pg#","Spring KH Pg#","Catalog Subject","Series","Title","ISBN","Imprint","Product Type","# of Books","© Date","Season","Binding Type","Trim","Contributor Type","Contributor","ATOS","Points","DRA","EIL","GRL","Lexile","Reading Age Level","Reading Level","Interest Level","Description","Language","List Price","School & Library Price","Dewey","Page Count","Subtotal QTY","Subtotal"]
[null,6,6,null,"Current Issues","Opposing Viewpoints","Opposing Viewpoints (Jan 2018)","978-1-5345-0247-5","Greenhaven Publishing","Library Set",6,2018,"January 2018",null,"6.000 X 9.000"," "," ",null,null,null,null,null,null,"Years 14 - 17","Grade 10 - 12","Grade 9 - 12","First introduced more than 40 years ago, the Opposing Viewpoints series still sets the standard for current-issue studies. With nearly 300 volumes covering nearly every controversial contemporary topic, Opposing Viewpoints is the leading source of current-issue materials for libraries and classrooms. Each book delivers pro/con expert opinions selected from highly respected and often hard to find sources and publications.\n\n\"This series is valuable in its presenting both sides of numerous arguments on often highly controversial topic. . . Topical volumes of interest to patrons are invaluable additions to any young adult, public, or undergraduate library collection where teenagers, college students, or others are seeking a single book that has information on a controversial topic.\" AMERICAN REFERENCE BOOKS ANNUAL","English",292.8,234.24,null,"208–216 pp.",{"$f":"Table1[[#This Row],['# of Books]]*Table1[[#This Row],[QTY]]","v":0},{"$f":"Table1[[#This Row],[QTY]]*Table1[[#This Row],[School & Library Price]]","v":0}]
[null,6,6,null,"Current Issues","Opposing Viewpoints","Opposing Viewpoints (Jan 2018)","978-1-5345-0272-7","Greenhaven Publishing","Single Copy Set",6,2018,"January 2018",null,"6.000 X 9.000"," "," ",null,null,null,null,null,null,"Years 14 - 17","Grade 10 - 12","Grade 9 - 12","First introduced more than 40 years ago, the Opposing Viewpoints series still sets the standard for current-issue studies. With nearly 300 volumes covering nearly every controversial contemporary topic, Opposing Viewpoints is the leading source of current-issue materials for libraries and classrooms. Each book delivers pro/con expert opinions selected from highly respected and often hard to find sources and publications.\n\n\"This series is valuable in its presenting both sides of numerous arguments on often highly controversial topic. . . Topical volumes of interest to patrons are invaluable additions to any young adult, public, or undergraduate library collection where teenagers, college students, or others are seeking a single book that has information on a controversial topic.\" AMERICAN REFERENCE BOOKS ANNUAL","English",202.8,162.24,null,"208–216 pp.",{"$f":"Table1[[#This Row],['# of Books]]*Table1[[#This Row],[QTY]]","v":0},{"$f":"Table1[[#This Row],[QTY]]*Table1[[#This Row],[School & Library Price]]","v":0}]
[null,6,6,null,"Current Issues","Opposing Viewpoints","Big Pharma and Drug Pricing","978-1-5345-0176-8","Greenhaven Publishing","Library Bound Book",1,2018,"January 2018","Library","6.000 X 9.000","Edited by","Pete Schauer",null,null,null,null,"Z",null,"Years 14 - 17","Grade 10 - 12","Grade 9 - 12","Americans pay among the highest prices for prescription drugs, thanks to government legislation and the powerful pharmaceutical lobbies. The effect has been disastrous, with many citizens obtaining cheaper medicine from Canada, and others forgoing it altogether at the risk of their health. These crippling prices are set by \"big pharma,\" at the insistence of those who support free trade. Consumers call the pharmaceutical companies greedy and selfish, but these companies also enact change, through scientific research, curing of diseases, and community outreach. What is the answer to this complex issue? Readers will learn about the conflicts and potential solutions in this compelling volume.","English",48.8,39.04,"338.4/361510973--dc23","208 pp.",{"$f":"Table1[[#This Row],['# of Books]]*Table1[[#This Row],[QTY]]","v":0},{"$f":"Table1[[#This Row],[QTY]]*Table1[[#This Row],[School & Library Price]]","v":0}]
[null,6,6,null,"Current Issues","Opposing Viewpoints","Big Pharma and Drug Pricing","978-1-5345-0182-9","Greenhaven Publishing","Paperback Book",1,2018,"January 2018","Paperback","6.000 X 9.000","Edited by","Pete Schauer",null,null,null,null,"Z",null,"Years 14 - 17","Grade 10 - 12","Grade 9 - 12","Americans pay among the highest prices for prescription drugs, thanks to government legislation and the powerful pharmaceutical lobbies. The effect has been disastrous, with many citizens obtaining cheaper medicine from Canada, and others forgoing it altogether at the risk of their health. These crippling prices are set by \"big pharma,\" at the insistence of those who support free trade. Consumers call the pharmaceutical companies greedy and selfish, but these companies also enact change, through scientific research, curing of diseases, and community outreach. What is the answer to this complex issue? Readers will learn about the conflicts and potential solutions in this compelling volume.","English",33.799999999999997,27.04,"338.4/361510973--dc23","208 pp.",{"$f":"Table1[[#This Row],['# of Books]]*Table1[[#This Row],[QTY]]","v":0},{"$f":"Table1[[#This Row],[QTY]]*Table1[[#This Row],[School & Library Price]]","v":0}]
[null,6,6,null,"Current Issues","Opposing Viewpoints","Hacking and Freedom of Information","978-1-5345-0178-2","Greenhaven Publishing","Library Bound Book",1,2018,"January 2018","Library","6.000 X 9.000","Edited by","Marcia Amidon Lusted",null,null,null,null,"Z",null,"Years 14 - 17","Grade 10 - 12","Grade 9 - 12","We know there are white hat hackers and black hat hackers, but what about the gray area in between? Some hackers consider themselves activists and have justified their cyberattacks on media, political figures, universities, and even governments as a search for truth. Is information indeed free in a democracy? Does uncovering secrets that the public may have a right to know justify security breaches? Are WikiLeaks and the Anonymous group providing an important service to citizens, or are they traitors? Through a progression of authoritative viewpoints, readers will learn that there are no easy answers to this debate.","English",48.8,39.04,"364.16/8--dc23","208 pp.",{"$f":"Table1[[#This Row],['# of Books]]*Table1[[#This Row],[QTY]]","v":0},{"$f":"Table1[[#This Row],[QTY]]*Table1[[#This Row],[School & Library Price]]","v":0}]
[null,6,6,null,"Current Issues","Opposing Viewpoints","Hacking and Freedom of Information","978-1-5345-0184-3","Greenhaven Publishing","Paperback Book",1,2018,"January 2018","Paperback","6.000 X 9.000","Edited by","Marcia Amidon Lusted",null,null,null,null,"Z",null,"Years 14 - 17","Grade 10 - 12","Grade 9 - 12","We know there are white hat hackers and black hat hackers, but what about the gray area in between? Some hackers consider themselves activists and have justified their cyberattacks on media, political figures, universities, and even governments as a search for truth. Is information indeed free in a democracy? Does uncovering secrets that the public may have a right to know justify security breaches? Are WikiLeaks and the Anonymous group providing an important service to citizens, or are they traitors? Through a progression of authoritative viewpoints, readers will learn that there are no easy answers to this debate.","English",33.799999999999997,27.04,"364.16/8--dc23","208 pp.",{"$f":"Table1[[#This Row],['# of Books]]*Table1[[#This Row],[QTY]]","v":0},{"$f":"Table1[[#This Row],[QTY]]*Table1[[#This Row],[School & Library Price]]","v":0}]
[null,6,6,null,"Current Issues","Opposing Viewpoints","Identity Politics","978-1-5345-0174-4","Greenhaven Publishing","Library Bound Book",1,2018,"January 2018","Library","6.000 X 9.000","Edited by","Elizabeth Schmermund",null,null,null,null,"Z",null,"Years 14 - 17","Grade 10 - 12","Grade 9 - 12","In an age of divisiveness, perhaps more than America has seen in decades, identity politics has taken its share of the blame. Those who have cheered on progressive ideology often write off detractors as racists, homophobes, and misogynists. And those who rail against political correctness often feel their own voices are not being heard or, worse, are being censored. Do identity politics come at a cost to national empathy and unity? Or do they reflect and address legitimate discrimination? Through multiple perspectives, readers will learn why this topic has become a hot button issue.","English",48.8,39.04,"306.2--dc23","216 pp.",{"$f":"Table1[[#This Row],['# of Books]]*Table1[[#This Row],[QTY]]","v":0},{"$f":"Table1[[#This Row],[QTY]]*Table1[[#This Row],[School & Library Price]]","v":0}]
[null,6,6,null,"Current Issues","Opposing Viewpoints","Identity Politics","978-1-5345-0180-5","Greenhaven Publishing","Paperback Book",1,2018,"January 2018","Paperback","6.000 X 9.000","Edited by","Elizabeth Schmermund",null,null,null,null,"Z",null,"Years 14 - 17","Grade 10 - 12","Grade 9 - 12","In an age of divisiveness, perhaps more than America has seen in decades, identity politics has taken its share of the blame. Those who have cheered on progressive ideology often write off detractors as racists, homophobes, and misogynists. And those who rail against political correctness often feel their own voices are not being heard or, worse, are being censored. Do identity politics come at a cost to national empathy and unity? Or do they reflect and address legitimate discrimination? Through multiple perspectives, readers will learn why this topic has become a hot button issue.","English",33.799999999999997,27.04,"306.2--dc23","216 pp.",{"$f":"Table1[[#This Row],['# of Books]]*Table1[[#This Row],[QTY]]","v":0},{"$f":"Table1[[#This Row],[QTY]]*Table1[[#This Row],[School & Library Price]]","v":0}]
[null,6,6,null,"Current Issues","Opposing Viewpoints","Online Filter Bubbles","978-1-5345-0175-1","Greenhaven Publishing","Library Bound Book",1,2018,"January 2018","Library","6.000 X 9.000","Edited by","Paula Johanson",null,null,null,null,"Z",null,"Years 14 - 17","Grade 10 - 12","Grade 9 - 12","Every time we check our feeds we create safety bubbles around ourselves. Thanks to technological algorithms, we are living an increasingly narrow existence, one in which the news we read, the products we purchase, and the people we interact with are tailor-made for each of us. We might feel informed and comfortable, but we are isolating ourselves from anything outside our bubble. Are online filters just an efficient way to connect, or do they spell the end of democracy? Anyone who has read this book will understand the potential dangers of a society whose assumptions are never challenged.","English",48.8,39.04,"025.04--dc23","208 pp.",{"$f":"Table1[[#This Row],['# of Books]]*Table1[[#This Row],[QTY]]","v":0},{"$f":"Table1[[#This Row],[QTY]]*Table1[[#This Row],[School & Library Price]]","v":0}]
[null,6,6,null,"Current Issues","Opposing Viewpoints","Online Filter Bubbles","978-1-5345-0181-2","Greenhaven Publishing","Paperback Book",1,2018,"January 2018","Paperback","6.000 X 9.000","Edited by","Paula Johanson",null,null,null,null,"Z",null,"Years 14 - 17","Grade 10 - 12","Grade 9 - 12","Every time we check our feeds we create safety bubbles around ourselves. Thanks to technological algorithms, we are living an increasingly narrow existence, one in which the news we read, the products we purchase, and the people we interact with are tailor-made for each of us. We might feel informed and comfortable, but we are isolating ourselves from anything outside our bubble. Are online filters just an efficient way to connect, or do they spell the end of democracy? Anyone who has read this book will understand the potential dangers of a society whose assumptions are never challenged.","English",33.799999999999997,27.04,"025.04--dc23","208 pp.",{"$f":"Table1[[#This Row],['# of Books]]*Table1[[#This Row],[QTY]]","v":0},{"$f":"Table1[[#This Row],[QTY]]*Table1[[#This Row],[School & Library Price]]","v":0}]
[null,6,6,null,"Current Issues","Opposing Viewpoints","The Fifth Estate: Extreme Viewpoints from Alternative Media","978-1-5345-0177-5","Greenhaven Publishing","Library Bound Book",1,2018,"January 2018","Library","6.000 X 9.000","Edited by","Kathryn Roberts",null,null,null,null,"Z",null,"Years 14 - 17","Grade 10 - 12","Grade 9 - 12","The influence of what is known as The Fifth Estate, which is viewpoints and journalism generated outside of the mainstream press, has risen thanks to the emergence of blogs and social media. How effective are these alternate sources in raising public consciousness, changing government policy, and stirring grassroots movements? Are they held to the same standards as mainstream journalism? In this age of fake news, WikiLeaks, and the president's so-called war on the press, readers will find the varied and provocative viewpoints that are explained in this book incredibly relevant and enlightening.","English",48.8,39.04,"302.23--dc23","208 pp.",{"$f":"Table1[[#This Row],['# of Books]]*Table1[[#This Row],[QTY]]","v":0},{"$f":"Table1[[#This Row],[QTY]]*Table1[[#This Row],[School & Library Price]]","v":0}]
[null,6,6,null,"Current Issues","Opposing Viewpoints","The Fifth Estate: Extreme Viewpoints from Alternative Media","978-1-5345-0183-6","Greenhaven Publishing","Paperback Book",1,2018,"January 2018","Paperback","6.000 X 9.000","Edited by","Kathryn Roberts",null,null,null,null,"Z",null,"Years 14 - 17","Grade 10 - 12","Grade 9 - 12","The influence of what is known as The Fifth Estate, which is viewpoints and journalism generated outside of the mainstream press, has risen thanks to the emergence of blogs and social media. How effective are these alternate sources in raising public consciousness, changing government policy, and stirring grassroots movements? Are they held to the same standards as mainstream journalism? In this age of fake news, WikiLeaks, and the president's so-called war on the press, readers will find the varied and provocative viewpoints that are explained in this book incredibly relevant and enlightening.","English",33.799999999999997,27.04,"302.23--dc23","208 pp.",{"$f":"Table1[[#This Row],['# of Books]]*Table1[[#This Row],[QTY]]","v":0},{"$f":"Table1[[#This Row],[QTY]]*Table1[[#This Row],[School & Library Price]]","v":0}]
[null,6,6,null,"Current Issues","Opposing Viewpoints","Western Democracy at Risk","978-1-5345-0173-7","Greenhaven Publishing","Library Bound Book",1,2018,"January 2018","Library","6.000 X 9.000","Edited by","Avery Elizabeth Hurt",null,null,null,null,"Z",null,"Years 14 - 17","Grade 10 - 12","Grade 9 - 12","America's founding principles have long been held up as model of success to the rest of the world. Somewhat suddenly however, these principals don't seem as solid as they once did. Globalization has created economic growth, but has also widened the gap between rich and poor. A rising conflict between multiculturalism and nationalism has fragmented western populations and caused a surge of nativism. Fake news and filters undermine free speech and a free press. Political parties have fragmented, and election tampering is a valid concern. The viewpoints in this resource address the current state of western democracy.","English",48.8,39.04,"320.9182/1--dc23","208 pp.",{"$f":"Table1[[#This Row],['# of Books]]*Table1[[#This Row],[QTY]]","v":0},{"$f":"Table1[[#This Row],[QTY]]*Table1[[#This Row],[School & Library Price]]","v":0}]
[null,6,6,null,"Current Issues","Opposing Viewpoints","Western Democracy at Risk","978-1-5345-0179-9","Greenhaven Publishing","Paperback Book",1,2018,"January 2018","Paperback","6.000 X 9.000","Edited by","Avery Elizabeth Hurt",null,null,null,null,"Z",null,"Years 14 - 17","Grade 10 - 12","Grade 9 - 12","America's founding principles have long been held up as model of success to the rest of the world. Somewhat suddenly however, these principals don't seem as solid as they once did. Globalization has created economic growth, but has also widened the gap between rich and poor. A rising conflict between multiculturalism and nationalism has fragmented western populations and caused a surge of nativism. Fake news and filters undermine free speech and a free press. Political parties have fragmented, and election tampering is a valid concern. The viewpoints in this resource address the current state of western democracy.","English",33.799999999999997,27.04,"320.9182/1--dc23","208 pp.",{"$f":"Table1[[#This Row],['# of Books]]*Table1[[#This Row],[QTY]]","v":0},{"$f":"Table1[[#This Row],[QTY]]*Table1[[#This Row],[School & Library Price]]","v":0}]
[null,6,6,null,"Current Issues","Opposing Viewpoints (Aug '17 Set)","Opposing Viewpoints (Aug '17 Set)","978-1-5345-0171-3","Greenhaven Publishing","Library Set",6,2018,"August 2017","Library","6.000 X 9.000"," "," ",null,null,null,null,null,null,"Years 14 - 17","Grade 10 - 12","Grade 9 - 12","First introduced more than 40 years ago, Opposing Viewpoints still sets the standard for current-issue studies. With nearly 300 volumes covering nearly every controversial contemporary topic, Opposing Viewpoints is the leading source of current-issue materials for libraries and classrooms. Each title delivers pro/con expert opinions selected from highly respected and often hard to find sources and publications.","English",292.8,234.24,null,"224 pp.",{"$f":"Table1[[#This Row],['# of Books]]*Table1[[#This Row],[QTY]]","v":0},{"$f":"Table1[[#This Row],[QTY]]*Table1[[#This Row],[School & Library Price]]","v":0}]
[null,6,6,null,"Current Issues","Opposing Viewpoints (Aug '17 Set)","Opposing Viewpoints (Aug '17 Set)","978-1-5345-0172-0","Greenhaven Publishing","Single Copy Set",6,2018,"August 2017","Paperback","6.000 X 9.000"," "," ",null,null,null,null,null,null,"Years 14 - 17","Grade 10 - 12","Grade 9 - 12","First introduced more than 40 years ago, Opposing Viewpoints still sets the standard for current-issue studies. With nearly 300 volumes covering nearly every controversial contemporary topic, Opposing Viewpoints is the leading source of current-issue materials for libraries and classrooms. Each title delivers pro/con expert opinions selected from highly respected and often hard to find sources and publications.","English",202.8,162.24,null,"224 pp.",{"$f":"Table1[[#This Row],['# of Books]]*Table1[[#This Row],[QTY]]","v":0},{"$f":"Table1[[#This Row],[QTY]]*Table1[[#This Row],[School & Library Price]]","v":0}]
[null,6,6,null,"Current Issues","Opposing Viewpoints","Corporate Farming","978-1-5345-0051-8","Greenhaven Publishing","Library Bound Book",1,2018,"August 2017","Library","6.000 X 9.000","Edited by","Avery Elizabeth Hurt",null,null,null,null,"Z",null,"Years 14 - 17","Grade 10 - 12","Grade 9 - 12","Corporate farms have solved so many of the world’s problems. In addition to making healthy food accessible and affordable to more people, they provide jobs in communities that sorely need them. But do corporations have too much power over food? Do they benefit from unfair tax breaks? Are their profit-driven practices hurting the environment, perhaps irreparably? And what does their success mean for the family farmer? This thought-provoking volume tackles these t","English",48.8,39.04,"338.1--dc23","208 pp.",{"$f":"Table1[[#This Row],['# of Books]]*Table1[[#This Row],[QTY]]","v":0},{"$f":"Table1[[#This Row],[QTY]]*Table1[[#This Row],[School & Library Price]]","v":0}]
[null,6,6,null,"Current Issues","Opposing Viewpoints","Corporate Farming","978-1-5345-0049-5","Greenhaven Publishing","Paperback Book",1,2018,"August 2017","Paperback","6.000 X 9.000","Edited by","Avery Elizabeth Hurt",null,null,null,null,"Z",null,"Years 14 - 17","Grade 10 - 12","Grade 9 - 12","Corporate farms have solved so many of the world’s problems. In addition to making healthy food accessible and affordable to more people, they provide jobs in communities that sorely need them. But do corporations have too much power over food? Do they benefit from unfair tax breaks? Are their profit-driven practices hurting the environment, perhaps irreparably? And what does their success mean for the family farmer? This thought-provoking volume tackles these t","English",33.799999999999997,27.04,"338.1--dc23","208 pp.",{"$f":"Table1[[#This Row],['# of Books]]*Table1[[#This Row],[QTY]]","v":0},{"$f":"Table1[[#This Row],[QTY]]*Table1[[#This Row],[School & Library Price]]","v":0}]
[null,6,6,null,"Current Issues","Opposing Viewpoints","Immigration Bans","978-1-5345-0059-4","Greenhaven Publishing","Library Bound Book",1,2018,"August 2017","Library","6.000 X 9.000","Edited by","Elizabeth Schmermund",null,null,null,null,"Z",null,"Years 14 - 17","Grade 10 - 12","Grade 9 - 12","Recent world events have brought the issue of immigration to the forefront of media and journalism, cultural debates, and political campaigns. Calls for regulation are criticized as racist and xenophobic by some and deemed necessary by others. This resource addresses important questions surrounding the issue: How do immigration bans affect different groups? How can nations reconcile humanitarian and security concerns for refugees? How much of the nation’s economy depends on immigrant labor? And finally, do increased border controls and deportations actually work?","English",48.8,39.04,"325.73--dc23","232 pp.",{"$f":"Table1[[#This Row],['# of Books]]*Table1[[#This Row],[QTY]]","v":0},{"$f":"Table1[[#This Row],[QTY]]*Table1[[#This Row],[School & Library Price]]","v":0}]
[null,6,6,null,"Current Issues","Opposing Viewpoints","Immigration Bans","978-1-5345-0057-0","Greenhaven Publishing","Paperback Book",1,2018,"August 2017","Paperback","6.000 X 9.000","Edited by","Elizabeth Schmermund",null,null,null,null,"Z",null,"Years 14 - 17","Grade 10 - 12","Grade 9 - 12","Recent world events have brought the issue of immigration to the forefront of media and journalism, cultural debates, and political campaigns. Calls for regulation are criticized as racist and xenophobic by some and deemed necessary by others. This resource addresses important questions surrounding the issue: How do immigration bans affect different groups? How can nations reconcile humanitarian and security concerns for refugees? How much of the nation’s economy depends on immigrant labor? And finally, do increased border controls and deportations actually work?","English",33.799999999999997,27.04,"325.73--dc23","232 pp.",{"$f":"Table1[[#This Row],['# of Books]]*Table1[[#This Row],[QTY]]","v":0},{"$f":"Table1[[#This Row],[QTY]]*Table1[[#This Row],[School & Library Price]]","v":0}]
[null,6,6,null,"Current Issues","Opposing Viewpoints","Mass Incarceration","978-1-5345-0045-7","Greenhaven Publishing","Library Bound Book",1,2018,"August 2017","Library","6.000 X 9.000","Edited by","Rebecca Aldridge",null,null,null,null,"Z",null,"Years 14 - 17","Grade 10 - 12","Grade 9 - 12","The number of Americans who live behind bars has increased by 550 percent over the last 40 years. This has been the result of aggressive tough-on-crime legislation that had more harmful effects than lawmakers could have foreseen. Experts now see the problem but disagree on the solutions. Does incarceration limit crime, or does it simply feed into a cycle of problems that harm society and create a criminal class? Are sentences and rehabilitation programs that avoid prison time effective? This compelling volume tackles tough questions from many different angles.","English",48.8,39.04,"365'.973--dc23","296 pp.",{"$f":"Table1[[#This Row],['# of Books]]*Table1[[#This Row],[QTY]]","v":0},{"$f":"Table1[[#This Row],[QTY]]*Table1[[#This Row],[School & Library Price]]","v":0}]
[null,6,6,null,"Current Issues","Opposing Viewpoints","Mass Incarceration","978-1-5345-0043-3","Greenhaven Publishing","Paperback Book",1,2018,"August 2017","Paperback","6.000 X 9.000","Edited by","Rebecca Aldridge",null,null,null,null,"Z",null,"Years 14 - 17","Grade 10 - 12","Grade 9 - 12","The number of Americans who live behind bars has increased by 550 percent over the last 40 years. This has been the result of aggressive tough-on-crime legislation that had more harmful effects than lawmakers could have foreseen. Experts now see the problem but disagree on the solutions. Does incarceration limit crime, or does it simply feed into a cycle of problems that harm society and create a criminal class? Are sentences and rehabilitation programs that avoid prison time effective? This compelling volume tackles tough questions from many different angles.","English",33.799999999999997,27.04,"365'.973--dc23","296 pp.",{"$f":"Table1[[#This Row],['# of Books]]*Table1[[#This Row],[QTY]]","v":0},{"$f":"Table1[[#This Row],[QTY]]*Table1[[#This Row],[School & Library Price]]","v":0}]
[null,6,6,null,"Current Issues","Opposing Viewpoints","The Politics of Water Scarcity","978-1-5345-0054-9","Greenhaven Publishing","Library Bound Book",1,2018,"August 2017","Library","6.000 X 9.000","Edited by","Susan Nichols",null,null,null,null,"Z",null,"Years 14 - 17","Grade 10 - 12","Grade 9 - 12","Clean water is something we take for granted. It’s there when we turn on our taps to fill a glass, take a shower, or wash our hands. But for many of the world’s citizens, water is a precious commodity. Many don’t have access to clean water. Others must use the same water for drinking, cooking, and cleaning. Is access to clean water a human right? Should water be provided by governments or private entities? Will water become a commodity of the rich? And how are our environmental practices affecting the world’s supply of water?","English",48.8,39.04,"333.91'16--dc23","192 pp.",{"$f":"Table1[[#This Row],['# of Books]]*Table1[[#This Row],[QTY]]","v":0},{"$f":"Table1[[#This Row],[QTY]]*Table1[[#This Row],[School & Library Price]]","v":0}]
[null,6,6,null,"Current Issues","Opposing Viewpoints","The Politics of Water Scarcity","978-1-5345-0052-5","Greenhaven Publishing","Paperback Book",1,2018,"August 2017","Paperback","6.000 X 9.000","Edited by","Susan Nichols",null,null,null,null,"Z",null,"Years 14 - 17","Grade 10 - 12","Grade 9 - 12","Clean water is something we take for granted. It’s there when we turn on our taps to fill a glass, take a shower, or wash our hands. But for many of the world’s citizens, water is a precious commodity. Many don’t have access to clean water. Others must use the same water for drinking, cooking, and cleaning. Is access to clean water a human right? Should water be provided by governments or private entities? Will water become a commodity of the rich? And how are our environmental practices affecting the world’s supply of water?","English",33.799999999999997,27.04,"333.91'16--dc23","192 pp.",{"$f":"Table1[[#This Row],['# of Books]]*Table1[[#This Row],[QTY]]","v":0},{"$f":"Table1[[#This Row],[QTY]]*Table1[[#This Row],[School & Library Price]]","v":0}]
[null,6,6,null,"Current Issues","Opposing Viewpoints","Uber, Lyft, Airbnb, and the Sharing Economy","978-1-5345-0048-8","Greenhaven Publishing","Library Bound Book",1,2018,"August 2017","Library","6.000 X 9.000","Edited by","Rachel Bozek",null,null,null,null,"Z",null,"Years 14 - 17","Grade 10 - 12","Grade 9 - 12","Something remarkable emerged as a result of the Great Recession of the early twenty-first century: a sharing economy. Among the loss of jobs and mortgages and uncertainty about the future, people got creative with the way they earned—and spent—their money. Democratic platforms like Uber and Airbnb have skyrocketed in popularity, prompting tighter government regulations. But are they the answer to an economy increasingly controlled by giant corporations? Or are they just a different way for people to profit from and exploit struggling workers? Learn more from viewpoints written by today’s experts.","English",48.8,39.04,"339.4'7--dc23","208 pp.",{"$f":"Table1[[#This Row],['# of Books]]*Table1[[#This Row],[QTY]]","v":0},{"$f":"Table1[[#This Row],[QTY]]*Table1[[#This Row],[School & Library Price]]","v":0}]
[null,6,6,null,"Current Issues","Opposing Viewpoints","Uber, Lyft, Airbnb, and the Sharing Economy","978-1-5345-0046-4","Greenhaven Publishing","Paperback Book",1,2018,"August 2017","Paperback","6.000 X 9.000","Edited by","Rachel Bozek",null,null,null,null,"Z",null,"Years 14 - 17","Grade 10 - 12","Grade 9 - 12","Something remarkable emerged as a result of the Great Recession of the early twenty-first century: a sharing economy. Among the loss of jobs and mortgages and uncertainty about the future, people got creative with the way they earned—and spent—their money. Democratic platforms like Uber and Airbnb have skyrocketed in popularity, prompting tighter government regulations. But are they the answer to an economy increasingly controlled by giant corporations? Or are they just a different way for people to profit from and exploit struggling workers? Learn more from viewpoints written by today’s experts.","English",33.799999999999997,27.04,"339.4'7--dc23","208 pp.",{"$f":"Table1[[#This Row],['# of Books]]*Table1[[#This Row],[QTY]]","v":0},{"$f":"Table1[[#This Row],[QTY]]*Table1[[#This Row],[School & Library Price]]","v":0}]
[null,6,6,null,"Current Issues","Opposing Viewpoints","Violent Video Games and Society","978-1-5345-0072-3","Greenhaven Publishing","Library Bound Book",1,2018,"August 2017","Library","6.000 X 9.000","Edited by","Gloria G. Adams",null,null,null,null,"Z",null,"Years 14 - 17","Grade 10 - 12","Grade 9 - 12","The video game industry is big business, and with the improvement of Virtual Reality technology, video games will only become more realistic and immersive. Fears abound that they drive their players to commit violent acts. While many people believe the games desensitize kids to violence, others argue that there has been no scientific connection between aggressive behavior and video games. Is immersion in violent video games a bridge to committing real-life acts of violence, demeaning women, and bullying? Or can video games actually help troubled kids, by providing them with a safe outlet for their aggression and a way to work out their frustrations?","English",48.8,39.04,null,"192 pp.",{"$f":"Table1[[#This Row],['# of Books]]*Table1[[#This Row],[QTY]]","v":0},{"$f":"Table1[[#This Row],[QTY]]*Table1[[#This Row],[School & Library Price]]","v":0}]
[null,6,6,null,"Current Issues","Opposing Viewpoints","Violent Video Games and Society","978-1-5345-0055-6","Greenhaven Publishing","Paperback Book",1,2018,"August 2017","Paperback","6.000 X 9.000","Edited by","Gloria G. Adams",null,null,null,null,"Z",null,"Years 14 - 17","Grade 10 - 12","Grade 9 - 12","The video game industry is big business, and with the improvement of Virtual Reality technology, video games will only become more realistic and immersive. Fears abound that they drive their players to commit violent acts. While many people believe the games desensitize kids to violence, others argue that there has been no scientific connection between aggressive behavior and video games. Is immersion in violent video games a bridge to committing real-life acts of violence, demeaning women, and bullying? Or can video games actually help troubled kids, by providing them with a safe outlet for their aggression and a way to work out their frustrations?","English",33.799999999999997,27.04,null,"192 pp.",{"$f":"Table1[[#This Row],['# of Books]]*Table1[[#This Row],[QTY]]","v":0},{"$f":"Table1[[#This Row],[QTY]]*Table1[[#This Row],[School & Library Price]]","v":0}]
[null,6,7,null,"Current Issues","Opposing Viewpoints (Jan '17 Set)","Opposing Viewpoints (Jan '17 Set)","978-1-5345-0003-7","Greenhaven Publishing","Library Set",6,2017,"January 2017","Library Bound","6.000 X 9.000"," "," ",null,null,null,null,null,null,"Years 14 - 17",null,"Grade 9 - 12","First introduced more than forty years ago, Opposing Viewpoints still sets the standard for current-issue studies. Covering nearly every controversial contemporary topic, Opposing Viewpoints is the leading source of current-issue materials for libraries and classrooms. Each title delivers pro/con expert opinions, selected from highly respected and often hard-to-find sources and publications.","English",292.8,234.24,null,"224 pp.",{"$f":"Table1[[#This Row],['# of Books]]*Table1[[#This Row],[QTY]]","v":0},{"$f":"Table1[[#This Row],[QTY]]*Table1[[#This Row],[School & Library Price]]","v":0}]
[null,6,7,null,"Current Issues","Opposing Viewpoints (Jan '17 Set)","Opposing Viewpoints (Jan '17 Set)","978-1-5345-0005-1","Greenhaven Publishing","Single Copy Set",6,2017,"January 2017","Paperback","6.000 X 9.000"," "," ",null,null,null,null,null,null,"Years 14 - 17",null,"Grade 9 - 12","First introduced more than forty years ago, Opposing Viewpoints still sets the standard for current-issue studies. Covering nearly every controversial contemporary topic, Opposing Viewpoints is the leading source of current-issue materials for libraries and classrooms. Each title delivers pro/con expert opinions, selected from highly respected and often hard-to-find sources and publications.","English",202.8,162.24,null,"224 pp.",{"$f":"Table1[[#This Row],['# of Books]]*Table1[[#This Row],[QTY]]","v":0},{"$f":"Table1[[#This Row],[QTY]]*Table1[[#This Row],[School & Library Price]]","v":0}]
[null,6,7,null,"Current Issues","Opposing Viewpoints","Artificial Intelligence and the Technological Singularity","978-1-5345-0027-3","Greenhaven Publishing","Library Bound Book",1,2017,"January 2017","Library Bound","6.000 X 9.000","Editor","Anne Cunningham",null,null,null,null,"Z",null,"Years 14 - 17",null,"Grade 9 - 12","Will machines take over the world one day? Will they have human emotions? Will they be our friends or foes? Will they make our lives easier or will they wipe out the human labor force? Readers will come to their own conclusions after reading articles from leading experts forecasting how robots and machines will be integrated into our world, as well as their warnings about how it could all go horribly wrong. Aside from the obvious benefits, the development of artificial intelligence brings up a host of ethical considerations, which are being debated by the world’s technology leaders before it’s too late.","English",48.8,39.04,null,"224 pp.",{"$f":"Table1[[#This Row],['# of Books]]*Table1[[#This Row],[QTY]]","v":0},{"$f":"Table1[[#This Row],[QTY]]*Table1[[#This Row],[School & Library Price]]","v":0}]
[null,6,7,null,"Current Issues","Opposing Viewpoints","Artificial Intelligence and the Technological Singularity","978-1-5345-0029-7","Greenhaven Publishing","Paperback Book",1,2017,"January 2017","Paperback","6.000 X 9.000","Editor","Anne Cunningham",null,null,null,null,"Z",null,"Years 14 - 17",null,"Grade 9 - 12","Will machines take over the world one day? Will they have human emotions? Will they be our friends or foes? Will they make our lives easier or will they wipe out the human labor force? Readers will come to their own conclusions after reading articles from leading experts forecasting how robots and machines will be integrated into our world, as well as their warnings about how it could all go horribly wrong. Aside from the obvious benefits, the development of artificial intelligence brings up a host of ethical considerations, which are being debated by the world’s technology leaders before it’s too late.","English",33.799999999999997,27.04,null,"224 pp.",{"$f":"Table1[[#This Row],['# of Books]]*Table1[[#This Row],[QTY]]","v":0},{"$f":"Table1[[#This Row],[QTY]]*Table1[[#This Row],[School & Library Price]]","v":0}]
[null,6,7,null,"Current Issues","Opposing Viewpoints","Public Shaming","978-1-5345-0023-5","Greenhaven Publishing","Library Bound Book",1,2017,"January 2017","Library Bound","6.000 X 9.000","Editor","Anne Cunningham",null,null,null,null,"Z",null,"Years 14 - 17",null,"Grade 9 - 12","Embarrassing others to correct their behavior is nothing new—stockades and tarring and feathering were favored methods in colonial America, after all. But today, individuals and the media can point out egregious behavior via social media and reach a wide audience. There are countless examples of people who have lost their jobs and received physical threats because of shaming that went viral. Did the punishment fit the crime? Through a multitude of viewpoints and examples, readers will examine the value of public shaming: Is it an effective disciplinary tool or simply a way for people to feel morally superior?","English",48.8,39.04,null,"224 pp.",{"$f":"Table1[[#This Row],['# of Books]]*Table1[[#This Row],[QTY]]","v":0},{"$f":"Table1[[#This Row],[QTY]]*Table1[[#This Row],[School & Library Price]]","v":0}]
[null,6,7,null,"Current Issues","Opposing Viewpoints","Public Shaming","978-1-5345-0033-4","Greenhaven Publishing","Paperback Book",1,2017,"January 2017","Paperback","6.000 X 9.000","Editor","Anne Cunningham",null,null,null,null,"Z",null,"Years 14 - 17",null,"Grade 9 - 12","Embarrassing others to correct their behavior is nothing new—stockades and tarring and feathering were favored methods in colonial America, after all. But today, individuals and the media can point out egregious behavior via social media and reach a wide audience. There are countless examples of people who have lost their jobs and received physical threats because of shaming that went viral. Did the punishment fit the crime? Through a multitude of viewpoints and examples, readers will examine the value of public shaming: Is it an effective disciplinary tool or simply a way for people to feel morally superior?","English",33.799999999999997,27.04,null,"224 pp.",{"$f":"Table1[[#This Row],['# of Books]]*Table1[[#This Row],[QTY]]","v":0},{"$f":"Table1[[#This Row],[QTY]]*Table1[[#This Row],[School & Library Price]]","v":0}]
[null,6,7,null,"Current Issues","Opposing Viewpoints","Race in America","978-1-5345-0022-8","Greenhaven Publishing","Library Bound Book",1,2017,"January 2017","Library Bound","6.000 X 9.000","Editor","Susan Henneberg",null,null,null,null,"Z",null,"Years 14 - 17",null,"Grade 9 - 12","Many Americans believe they’re living in a post-racial society, pointing to the election of Barack Obama to the presidency as evidence. Others believe that, despite the advances achieved by the civil rights movement, people of color are treated as second-class citizens. Is race overemphasized in America? Have government programs and policies done enough to level the playing field? Can the United States, a country that lives by the credo that all men are created equal, ever overcome its legacy of racism? Readers of this multifaceted anthology will be given the tools to form their own opinions about these complex issues.","English",48.8,39.04,null,"224 pp.",{"$f":"Table1[[#This Row],['# of Books]]*Table1[[#This Row],[QTY]]","v":0},{"$f":"Table1[[#This Row],[QTY]]*Table1[[#This Row],[School & Library Price]]","v":0}]
[null,6,7,null,"Current Issues","Opposing Viewpoints","Race in America","978-1-5345-0028-0","Greenhaven Publishing","Paperback Book",1,2017,"January 2017","Paperback","6.000 X 9.000","Editor","Susan Henneberg",null,null,null,null,"Z",null,"Years 14 - 17",null,"Grade 9 - 12","Many Americans believe they’re living in a post-racial society, pointing to the election of Barack Obama to the presidency as evidence. Others believe that, despite the advances achieved by the civil rights movement, people of color are treated as second-class citizens. Is race overemphasized in America? Have government programs and policies done enough to level the playing field? Can the United States, a country that lives by the credo that all men are created equal, ever overcome its legacy of racism? Readers of this multifaceted anthology will be given the tools to form their own opinions about these complex issues.","English",33.799999999999997,27.04,null,"224 pp.",{"$f":"Table1[[#This Row],['# of Books]]*Table1[[#This Row],[QTY]]","v":0},{"$f":"Table1[[#This Row],[QTY]]*Table1[[#This Row],[School & Library Price]]","v":0}]
[null,6,7,null,"Current Issues","Opposing Viewpoints","Reparations","978-1-5345-0025-9","Greenhaven Publishing","Library Bound Book",1,2017,"January 2017","Library Bound","6.000 X 9.000","Editor","Anne Cunningham",null,null,null,null,"Z",null,"Years 14 - 17",null,"Grade 9 - 12","Should descendants of slaves be compensated for the suffering their ancestors endured? Should the losing side in a war be forced to pay the victor? When modern-day states confront long-ago atrocities, is acknowledgement and an apology enough? This fascinating examination of reparations offers opinions by leading experts on such past injustices as the Holocaust, the slave trade, the Armenian genocide, the forced relocation of Native Americans, and the Imperial Japanese Army’s comfort women. An asset to any library, Reparations takes on the very uncomfortable issue of how governments and individuals can reckon with sins of the past.","English",48.8,39.04,null,"224 pp.",{"$f":"Table1[[#This Row],['# of Books]]*Table1[[#This Row],[QTY]]","v":0},{"$f":"Table1[[#This Row],[QTY]]*Table1[[#This Row],[School & Library Price]]","v":0}]
[null,6,7,null,"Current Issues","Opposing Viewpoints","Reparations","978-1-5345-0031-0","Greenhaven Publishing","Paperback Book",1,2017,"January 2017","Paperback","6.000 X 9.000","Editor","Anne Cunningham",null,null,null,null,"Z",null,"Years 14 - 17",null,"Grade 9 - 12","Should descendants of slaves be compensated for the suffering their ancestors endured? Should the losing side in a war be forced to pay the victor? When modern-day states confront long-ago atrocities, is acknowledgement and an apology enough? This fascinating examination of reparations offers opinions by leading experts on such past injustices as the Holocaust, the slave trade, the Armenian genocide, the forced relocation of Native Americans, and the Imperial Japanese Army’s comfort women. An asset to any library, Reparations takes on the very uncomfortable issue of how governments and individuals can reckon with sins of the past.","English",33.799999999999997,27.04,null,"224 pp.",{"$f":"Table1[[#This Row],['# of Books]]*Table1[[#This Row],[QTY]]","v":0},{"$f":"Table1[[#This Row],[QTY]]*Table1[[#This Row],[School & Library Price]]","v":0}]
[null,6,7,null,"Current Issues","Opposing Viewpoints","Virtual Reality","978-1-5345-0026-6","Greenhaven Publishing","Library Bound Book",1,2017,"January 2017","Library Bound","6.000 X 9.000","Editor","Susan Henneberg",null,null,null,null,"Z",null,"Years 14 - 17",null,"Grade 9 - 12","Virtual reality might seem like the stuff of science fiction, but it has been in use in various forms since the 1950s. The technology is being developed for use in education, professional and military training, therapy, entertainment, and design. But is a simulated world a better world? Experts caution that virtual reality could be physically and emotionally debilitating. They predict that society could go into decline. Is this simply fear of progress, or is it something to take seriously? Readers will learn the hot-button issues associated with virtual reality and whether we should be excited or afraid of this incredible technology.","English",48.8,39.04,null,"224 pp.",{"$f":"Table1[[#This Row],['# of Books]]*Table1[[#This Row],[QTY]]","v":0},{"$f":"Table1[[#This Row],[QTY]]*Table1[[#This Row],[School & Library Price]]","v":0}]
[null,6,7,null,"Current Issues","Opposing Viewpoints","Virtual Reality","978-1-5345-0030-3","Greenhaven Publishing","Paperback Book",1,2017,"January 2017","Paperback","6.000 X 9.000","Editor","Susan Henneberg",null,null,null,null,"Z",null,"Years 14 - 17",null,"Grade 9 - 12","Virtual reality might seem like the stuff of science fiction, but it has been in use in various forms since the 1950s. The technology is being developed for use in education, professional and military training, therapy, entertainment, and design. But is a simulated world a better world? Experts caution that virtual reality could be physically and emotionally debilitating. They predict that society could go into decline. Is this simply fear of progress, or is it something to take seriously? Readers will learn the hot-button issues associated with virtual reality and whether we should be excited or afraid of this incredible technology.","English",33.799999999999997,27.04,null,"224 pp.",{"$f":"Table1[[#This Row],['# of Books]]*Table1[[#This Row],[QTY]]","v":0},{"$f":"Table1[[#This Row],[QTY]]*Table1[[#This Row],[School & Library Price]]","v":0}]
[null,6,7,null,"Current Issues","Opposing Viewpoints","The Wealth Gap","978-1-5345-0024-2","Greenhaven Publishing","Library Bound Book",1,2017,"January 2017","Library Bound","6.000 X 9.000","Editor","Susan Henneberg",null,null,null,null,"Z",null,"Years 14 - 17",null,"Grade 9 - 12","Depending on whom you ask, the gap between rich and poor in the United States is widening. Is income inequality in America a cause for concern, or is it, as some experts assert, necessary for a functioning society? What is the government’s responsibility in attaining a more equitable distribution of wealth? This well-balanced anthology tackles big questions like “Is the American dream still attainable?” and “How should income inequality be addressed?” with articles from a variety of viewpoints that will help readers understand how we got to this point, what can be done to change things, and potential effects on our future.","English",48.8,39.04,null,"224 pp.",{"$f":"Table1[[#This Row],['# of Books]]*Table1[[#This Row],[QTY]]","v":0},{"$f":"Table1[[#This Row],[QTY]]*Table1[[#This Row],[School & Library Price]]","v":0}]
[null,6,7,null,"Current Issues","Opposing Viewpoints","The Wealth Gap","978-1-5345-0034-1","Greenhaven Publishing","Paperback Book",1,2017,"January 2017","Paperback","6.000 X 9.000","Editor","Susan Henneberg",null,null,null,null,"Z",null,"Years 14 - 17",null,"Grade 9 - 12","Depending on whom you ask, the gap between rich and poor in the United States is widening. Is income inequality in America a cause for concern, or is it, as some experts assert, necessary for a functioning society? What is the government’s responsibility in attaining a more equitable distribution of wealth? This well-balanced anthology tackles big questions like “Is the American dream still attainable?” and “How should income inequality be addressed?” with articles from a variety of viewpoints that will help readers understand how we got to this point, what can be done to change things, and potential effects on our future.","English",33.799999999999997,27.04,null,"224 pp.",{"$f":"Table1[[#This Row],['# of Books]]*Table1[[#This Row],[QTY]]","v":0},{"$f":"Table1[[#This Row],[QTY]]*Table1[[#This Row],[School & Library Price]]","v":0}]
[null,7,7,null,"Current Issues","Opposing Viewpoints","Bankruptcy","978-0-7377-7244-9","Greenhaven Publishing","Library Bound Book",1,2015,null,"Library Bound","6.000 X 9.000","Author","Noah Berlatsky",null,null,null,null,null,null,"Years 15 - 17",null,"Grade 10 - 12","OPPOSING VIEWPOINTS: BANKRUPTCY examines whether it is wrong to file for bankruptcy. It explores how different types of debt should be dealt with in a bankruptcy. It deals with issues facing cities that declare bankruptcy. It also covers when a government bailout is preferable to bankruptcy.","English",48.8,39.04,"346","176 pp.",{"$f":"Table1[[#This Row],['# of Books]]*Table1[[#This Row],[QTY]]","v":0},{"$f":"Table1[[#This Row],[QTY]]*Table1[[#This Row],[School & Library Price]]","v":0}]
[null,7,7,null,"Current Issues","Opposing Viewpoints","Bankruptcy","978-0-7377-7245-6","Greenhaven Publishing","Paperback Book",1,2015,null,"Paperback","6.000 X 9.000","Author","Noah Berlatsky",null,null,null,null,null,null,"Years 15 - 17",null,"Grade 10 - 12","OPPOSING VIEWPOINTS: BANKRUPTCY  examines whether it is wrong to file for bankruptcy. It explores how different types of debt should be dealt with in a bankruptcy. It deals with issues facing cities that declare bankruptcy. It also covers when a government bailout is preferable to bankruptcy.","English",33.799999999999898,27.039999999999921,"346","175 pp.",{"$f":"Table1[[#This Row],['# of Books]]*Table1[[#This Row],[QTY]]","v":0},{"$f":"Table1[[#This Row],[QTY]]*Table1[[#This Row],[School & Library Price]]","v":0}]
[null,7,7,null,"Current Issues","Opposing Viewpoints","Celebrity Culture","978-0-7377-7246-3","Greenhaven Publishing","Library Bound Book",1,2015,null,"Library Bound","6.000 X 9.000","Author","Noah Berlatsky",null,null,null,null,null,null,"Years 15 - 17",null,"Grade 10 - 12","OPPOSING VIEWPOINTS: CELEBRITY CULTURE explores the need for information on popular figures. It examines the celebrity lifestyle and its impact on society and the power of the media. It covers the actions of celebrities and the scrutiny they are under because of their celebrity.","English",48.8,39.04,"306","208 pp.",{"$f":"Table1[[#This Row],['# of Books]]*Table1[[#This Row],[QTY]]","v":0},{"$f":"Table1[[#This Row],[QTY]]*Table1[[#This Row],[School & Library Price]]","v":0}]
[null,7,7,null,"Current Issues","Opposing Viewpoints","Celebrity Culture","978-0-7377-7247-0","Greenhaven Publishing","Paperback Book",1,2015,null,"Paperback","6.000 X 9.000","Author","Noah Berlatsky",null,null,null,null,null,null,"Years 15 - 17",null,"Grade 10 - 12","OPPOSING VIEWPOINTS: CELEBRITY CULTURE  explores the need for information on popular figures. It examines the celebrity lifestyle and its impact on society and the power of the media. It covers the actions of celebrities and the scrutiny they are under because of their celebrity.","English",33.799999999999898,27.039999999999921,"306","203 pp.",{"$f":"Table1[[#This Row],['# of Books]]*Table1[[#This Row],[QTY]]","v":0},{"$f":"Table1[[#This Row],[QTY]]*Table1[[#This Row],[School & Library Price]]","v":0}]
[null,7,7,null,"Current Issues","Opposing Viewpoints","Chemicals","978-0-7377-7248-7","Greenhaven Publishing","Library Bound Book",1,2015,null,"Library Bound","6.000 X 9.000","Author","Margaret Haerens",null,null,null,null,null,null,"Years 15 - 17",null,"Grade 10 - 12","OPPOSING VIEWPOINTS: CHEMICALS examines the threats that chemicals pose to the environment and public health. It explores what can lead to dangerous levels of toxic chemical exposure. This title observes how chemicals may be endangering water and food supplies. Finally, it debates how the government should protect Americans from toxic chemicals.","English",48.8,39.04,"363","240 pp.",{"$f":"Table1[[#This Row],['# of Books]]*Table1[[#This Row],[QTY]]","v":0},{"$f":"Table1[[#This Row],[QTY]]*Table1[[#This Row],[School & Library Price]]","v":0}]
[null,7,7,null,"Current Issues","Opposing Viewpoints","Chemicals","978-0-7377-7249-4","Greenhaven Publishing","Paperback Book",1,2015,null,"Paperback","6.000 X 9.000","Author","Margaret Haerens",null,null,null,null,null,null,"Years 15 - 17",null,"Grade 10 - 12","OPPOSING VIEWPOINTS: CHEMICALS  examines the threats that chemicals pose to the environment and public health. It explores what can lead to dangerous levels of toxic chemical exposure. This title observes how chemicals may be endangering water and food supplies. Finally, it debates how the government should protect Americans from toxic chemicals.","English",33.799999999999898,27.039999999999921,"363","240 pp.",{"$f":"Table1[[#This Row],['# of Books]]*Table1[[#This Row],[QTY]]","v":0},{"$f":"Table1[[#This Row],[QTY]]*Table1[[#This Row],[School & Library Price]]","v":0}]
[null,14,7,null,"Current Issues","Opposing Viewpoints","The Democratic Party","978-0-7377-7252-4","Greenhaven Publishing","Library Bound Book",1,2015,null,"Library Bound","6.000 X 9.000","Author","Noah Berlatsky",null,null,null,null,null,null,"Years 15 - 17",null,"Grade 10 - 12","OPPOSING VIEWPOINTS: THE DEMOCRATIC PARTY examines factors that affect democratic electoral chances; how the Democratic Party relates to important voting groups; controversial domestic issues within the Democratic Party; and controversial foreign policy issues within the Democratic Party.","English",48.8,39.04,"324","256 pp.",{"$f":"Table1[[#This Row],['# of Books]]*Table1[[#This Row],[QTY]]","v":0},{"$f":"Table1[[#This Row],[QTY]]*Table1[[#This Row],[School & Library Price]]","v":0}]
[null,14,7,null,"Current Issues","Opposing Viewpoints","The Democratic Party","978-0-7377-7253-1","Greenhaven Publishing","Paperback Book",1,2015,null,"Paperback","6.000 X 9.000","Author","Noah Berlatsky",null,null,null,null,null,null,"Years 15 - 17",null,"Grade 10 - 12","OPPOSING VIEWPOINTS: THE DEMOCRATIC PARTY  examines factors that affect democratic electoral chances; how the Democratic Party relates to important voting groups; controversial domestic issues within the Democratic Party; and controversial foreign policy issues within the Democratic Party.","English",33.799999999999898,27.039999999999921,"324","254 pp.",{"$f":"Table1[[#This Row],['# of Books]]*Table1[[#This Row],[QTY]]","v":0},{"$f":"Table1[[#This Row],[QTY]]*Table1[[#This Row],[School & Library Price]]","v":0}]
[null,8,7,null,"Current Issues","Opposing Viewpoints","Domestic Terrorism","978-0-7377-7254-8","Greenhaven Publishing","Library Bound Book",1,2015,null,"Library Bound","6.000 X 9.000","Author","Margaret Haerens",null,null,null,null,null,null,"Years 15 - 17",null,"Grade 10 - 12","OPPOSING VIEWPOINTS: DOMESTIC TERRORISM examines how domestic terrorism should be assessed or defined, and what groups are likely to emerge from these threats. It also looks at how the threat of domestic terrorism could be averted or prevented, and how it should be treated.","English",48.8,39.04,"363","232 pp.",{"$f":"Table1[[#This Row],['# of Books]]*Table1[[#This Row],[QTY]]","v":0},{"$f":"Table1[[#This Row],[QTY]]*Table1[[#This Row],[School & Library Price]]","v":0}]
[null,8,7,null,"Current Issues","Opposing Viewpoints","Domestic Terrorism","978-0-7377-7255-5","Greenhaven Publishing","Paperback Book",1,2015,null,"Paperback","6.000 X 9.000","Author","Margaret Haerens",null,null,null,null,null,null,"Years 15 - 17",null,"Grade 10 - 12","OPPOSING VIEWPOINTS: DOMESTIC TERRORISM  examines how domestic terrorism should be assessed or defined, and what groups are likely to emerge from these threats. It also looks at how the threat of domestic terrorism could be averted or prevented, and how it should be treated.","English",33.799999999999898,27.039999999999921,"363","230 pp.",{"$f":"Table1[[#This Row],['# of Books]]*Table1[[#This Row],[QTY]]","v":0},{"$f":"Table1[[#This Row],[QTY]]*Table1[[#This Row],[School & Library Price]]","v":0}]
[null,9,7,null,"Current Issues","Opposing Viewpoints","Egypt","978-0-7377-7256-2","Greenhaven Publishing","Library Bound Book",1,2015,null,"Library Bound","6.000 X 9.000","Author","Margaret Haerens",null,null,null,null,null,null,"Years 15 - 17",null,"Grade 10 - 12","The changing political climate in Egypt is explored in this volume of Opposing Viewpoints with such topics as how to view recent political events in Egypt, the impact of recent political and social upheaval in Egypt, the political, economic, and social policies Egypt should adopt, and what the US Policy should be on Egypt.","English",48.8,39.04,"932","270 pp.",{"$f":"Table1[[#This Row],['# of Books]]*Table1[[#This Row],[QTY]]","v":0},{"$f":"Table1[[#This Row],[QTY]]*Table1[[#This Row],[School & Library Price]]","v":0}]
[null,9,7,null,"Current Issues","Opposing Viewpoints","Egypt","978-0-7377-7257-9","Greenhaven Publishing","Paperback Book",1,2015,null,"Paperback","6.000 X 9.000","Author","Margaret Haerens",null,null,null,null,null,null,"Years 15 - 17",null,"Grade 10 - 12","The changing political climate in Egypt is explored in this volume of Opposing Viewpoints with such topics as how to view recent political events in Egypt, the impact of recent political and social upheaval in Egypt, the political, economic, and social policies Egypt should adopt, and what the US Policy should be on Egypt.","English",33.799999999999898,27.039999999999921,"932","270 pp.",{"$f":"Table1[[#This Row],['# of Books]]*Table1[[#This Row],[QTY]]","v":0},{"$f":"Table1[[#This Row],[QTY]]*Table1[[#This Row],[School & Library Price]]","v":0}]
[null,9,7,null,"Current Issues","Opposing Viewpoints","Energy Alternatives","978-0-7377-7258-6","Greenhaven Publishing","Library Bound Book",1,2015,null,"Library Bound","6.000 X 9.000","Author","Sylvia Engdahl",null,null,null,null,null,null,"Years 15 - 17",null,"Grade 10 - 12","OPPOSING VIEWPOINTS: ENERGY ALTERNATIVES  examines whether or not alternative energy sources can replace fossil fuels and if the benefits of wind power outweigh its disadvantages. This volume also debates the practicality of utility-scale solar power as a practical alternative energy source as well as the advantages and disadvantages of alternative energy in general.","English",48.8,39.04,"333","224 pp.",{"$f":"Table1[[#This Row],['# of Books]]*Table1[[#This Row],[QTY]]","v":0},{"$f":"Table1[[#This Row],[QTY]]*Table1[[#This Row],[School & Library Price]]","v":0}]
[null,9,7,null,"Current Issues","Opposing Viewpoints","Energy Alternatives","978-0-7377-7259-3","Greenhaven Publishing","Paperback Book",1,2015,null,"Paperback","6.000 X 9.000","Author","Sylvia Engdahl",null,null,null,null,null,null,"Years 15 - 17",null,"Grade 10 - 12","OPPOSING VIEWPOINTS: ENERGY ALTERNATIVES examines whether or not alternative energy sources can replace fossil fuels and if the benefits of wind power outweigh its disadvantages. This volume also debates the practicality of utility-scale solar power as a practical alternative energy source as well as the advantages and disadvantages of alternative energy in general.","English",33.799999999999898,27.039999999999921,"333","220 pp.",{"$f":"Table1[[#This Row],['# of Books]]*Table1[[#This Row],[QTY]]","v":0},{"$f":"Table1[[#This Row],[QTY]]*Table1[[#This Row],[School & Library Price]]","v":0}]
[null,14,7,null,"Current Issues","Opposing Viewpoints","The Environment","978-0-7377-6654-7","Greenhaven Publishing","Library Bound Book",1,2015,null,"Library Bound","6.000 X 9.000","Author","Lynn Zott",null,null,null,null,null,null,"Years 15 - 17",null,"Grade 10 - 12","This title features viewpoints discussing aspects of our environment, including pollution, the debate about climate change, fracking, nuclear energy, changes that can be made to improve our environment and other current topics. The viewpoints are selected from a wide range of highly respected and often hard-to-find sources and publications. By choosing from such diverse sources and including both popular and unpopular views, the OPPOSING VIEWPOINTS editorial team has adhered to its commitment to editorial objectivity. Readers are exposed to many sides of a debate, which promotes issue awareness as well as critical thinking.","English",48.8,39.04,"333","224 pp.",{"$f":"Table1[[#This Row],['# of Books]]*Table1[[#This Row],[QTY]]","v":0},{"$f":"Table1[[#This Row],[QTY]]*Table1[[#This Row],[School & Library Price]]","v":0}]
[null,14,7,null,"Current Issues","Opposing Viewpoints","The Environment","978-0-7377-6655-4","Greenhaven Publishing","Paperback Book",1,2015,null,"Paperback","6.000 X 9.000","Author","Lynn Zott",null,null,null,null,null,null,"Years 15 - 17",null,"Grade 10 - 12","This title features viewpoints discussing aspects of our environment, including pollution, the debate about climate change, fracking, nuclear energy, changes that can be made to improve our environment and other current topics. The viewpoints are selected from a wide range of highly respected and often hard-to-find sources and publications. By choosing from such diverse sources and including both popular and unpopular views, the OPPOSING VIEWPOINTS editorial team has adhered to its commitment to editorial objectivity. Readers are exposed to many sides of a debate, which promotes issue awareness as well as critical thinking.","English",33.799999999999898,27.039999999999921,"333","224 pp.",{"$f":"Table1[[#This Row],['# of Books]]*Table1[[#This Row],[QTY]]","v":0},{"$f":"Table1[[#This Row],[QTY]]*Table1[[#This Row],[School & Library Price]]","v":0}]
[null,9,7,null,"Current Issues","Opposing Viewpoints","Ethics","978-0-7377-7260-9","Greenhaven Publishing","Library Bound Book",1,2015,null,"Library Bound","6.000 X 9.000","Author","Noël Merino",null,null,null,null,null,null,"Years 15 - 17",null,"Grade 10 - 12","OPPOSING VIEWPOINTS: ETHICS examines the basis for ethics, including changing boundaries and secular values. It covers what ethics should guide decisions about life including the morally relevant moment of life, and also aiding in death decisions and health care.  This title questions whether religious beliefs about ethics should justify behavior including conscience objections, blanket exemptions to laws, and provision/denial of health care. It also covers how ethics should guide economic policies like the free market and minimum wage.","English",48.8,39.04,"170","224 pp.",{"$f":"Table1[[#This Row],['# of Books]]*Table1[[#This Row],[QTY]]","v":0},{"$f":"Table1[[#This Row],[QTY]]*Table1[[#This Row],[School & Library Price]]","v":0}]
[null,9,7,null,"Current Issues","Opposing Viewpoints","Ethics","978-0-7377-7261-6","Greenhaven Publishing","Paperback Book",1,2015,null,"Paperback","6.000 X 9.000","Author","Noël Merino",null,null,null,null,null,null,"Years 15 - 17",null,"Grade 10 - 12","OPPOSING VIEWPOINTS: ETHICS  examines the basis for ethics, including changing boundaries and secular values. It covers what ethics should guide decisions about life including the morally relevant moment of life, and also aiding in death decisions and health care.  This title questions whether religious beliefs about ethics should justify behavior including conscience objections, blanket exemptions to laws, and provision/denial of health care. It also covers how ethics should guide economic policies like the free market and minimum wage.","English",33.799999999999898,27.039999999999921,"170","220 pp.",{"$f":"Table1[[#This Row],['# of Books]]*Table1[[#This Row],[QTY]]","v":0},{"$f":"Table1[[#This Row],[QTY]]*Table1[[#This Row],[School & Library Price]]","v":0}]
[null,9,7,null,"Current Issues","Opposing Viewpoints","Euthanasia","978-0-7377-7262-3","Greenhaven Publishing","Library Bound Book",1,2015,null,"Library Bound","6.000 X 9.000","Author","Margaret Haerens",null,null,null,null,null,null,"Years 15 - 17",null,"Grade 10 - 12","This title in the OPPOSING VIEWPOINTS SERIES explores the hot-button issue of euthanasia with topics such as should governments allow voluntary euthanasia and physician-assisted suicide, what effect does it have on society, what recent controversies affect the euthanasia debate, and what possible impact the Affordable Care Act will have on euthanasia.","English",48.8,39.04,"179","232 pp.",{"$f":"Table1[[#This Row],['# of Books]]*Table1[[#This Row],[QTY]]","v":0},{"$f":"Table1[[#This Row],[QTY]]*Table1[[#This Row],[School & Library Price]]","v":0}]
[null,9,7,null,"Current Issues","Opposing Viewpoints","Euthanasia","978-0-7377-7263-0","Greenhaven Publishing","Paperback Book",1,2015,null,"Paperback","6.000 X 9.000","Author","Margaret Haerens",null,null,null,null,null,null,"Years 15 - 17",null,"Grade 10 - 12","This title in the OPPOSING VIEWPOINTS SERIES explores the hot-button issue of euthanasia with topics such as should governments allow voluntary euthanasia and physician-assisted suicide, what effect does it have on society, what recent controversies affect the euthanasia debate, and what possible impact the Affordable Care Act will have on euthanasia.","English",33.799999999999898,27.039999999999921,"179","232 pp.",{"$f":"Table1[[#This Row],['# of Books]]*Table1[[#This Row],[QTY]]","v":0},{"$f":"Table1[[#This Row],[QTY]]*Table1[[#This Row],[School & Library Price]]","v":0}]
[null,9,7,null,"Current Issues","Opposing Viewpoints","Government Gridlock","978-0-7377-7266-1","Greenhaven Publishing","Library Bound Book",1,2015,null,"Library Bound","6.000 X 9.000","Author","Margaret Haerens",null,null,null,null,null,null,"Years 15 - 17",null,"Grade 10 - 12","OPPOSING VIEWPOINTS: GOVERNMENT GRIDLOCK discusses the severity of government gridlock and what some of its causes are. This book asks how government gridlock should be addressed and how filibuster reform will impact this issue.","English",48.8,39.04,"328","232 pp.",{"$f":"Table1[[#This Row],['# of Books]]*Table1[[#This Row],[QTY]]","v":0},{"$f":"Table1[[#This Row],[QTY]]*Table1[[#This Row],[School & Library Price]]","v":0}]
[null,9,7,null,"Current Issues","Opposing Viewpoints","Government Gridlock","978-0-7377-7267-8","Greenhaven Publishing","Paperback Book",1,2015,null,"Paperback","6.000 X 9.000","Author","Margaret Haerens",null,null,null,null,null,null,"Years 15 - 17",null,"Grade 10 - 12","OPPOSING VIEWPOINTS: GOVERNMENT GRIDLOCK discusses the severity of government gridlock and what some of its causes are. This book asks how government gridlock should be addressed and how filibuster reform will impact this issue.","English",33.799999999999898,27.039999999999921,"328","232 pp.",{"$f":"Table1[[#This Row],['# of Books]]*Table1[[#This Row],[QTY]]","v":0},{"$f":"Table1[[#This Row],[QTY]]*Table1[[#This Row],[School & Library Price]]","v":0}]
[null,9,7,null,"Current Issues","Opposing Viewpoints","Gun Violence","978-0-7377-7268-5","Greenhaven Publishing","Library Bound Book",1,2015,null,"Library Bound","6.000 X 9.000","Author","Noël Merino",null,null,null,null,null,null,"Years 15 - 17",null,"Grade 10 - 12","OPPOSING VIEWPOINTS: GUN VIOLENCE explores how the purchasing of firearms, background checks, and current firearm regulation are affecting the rate of gun related violence. Other topics include whether or not gun violence is on the rise and if there is cause for concern. This volume points to recent tragedies and statistical information to supplement varied and passionate viewpoints.","English",48.8,39.04,"363","208 pp.",{"$f":"Table1[[#This Row],['# of Books]]*Table1[[#This Row],[QTY]]","v":0},{"$f":"Table1[[#This Row],[QTY]]*Table1[[#This Row],[School & Library Price]]","v":0}]
[null,9,7,null,"Current Issues","Opposing Viewpoints","Gun Violence","978-0-7377-7269-2","Greenhaven Publishing","Paperback Book",1,2015,null,"Paperback","6.000 X 9.000","Author","Noël Merino",null,null,null,null,null,null,"Years 15 - 17",null,"Grade 10 - 12","OPPOSING VIEWPOINTS: GUN VIOLENCE  explores how the purchasing of firearms, background checks, and current firearm regulation are affecting the rate of gun related violence. Other topics include whether or not gun violence is on the rise and if there is cause for concern. This volume points to recent tragedies and statistical information to supplement varied and passionate viewpoints.","English",33.799999999999898,27.039999999999921,"363","203 pp.",{"$f":"Table1[[#This Row],['# of Books]]*Table1[[#This Row],[QTY]]","v":0},{"$f":"Table1[[#This Row],[QTY]]*Table1[[#This Row],[School & Library Price]]","v":0}]
[null,9,7,null,"Current Issues","Opposing Viewpoints","High School Alternative Program","978-0-7377-7270-8","Greenhaven Publishing","Library Bound Book",1,2015,null,"Library Bound","6.000 X 9.000","Author","Noah Berlatsky",null,null,null,null,null,null,"Years 15 - 17",null,"Grade 10 - 12","OPPOSING VIEWPOINTS: HIGH SCHOOL ALTERNATIVE PROGRAMS examines whether or not alternative programs can help at-risk and special needs students, what alternatives there are to those who do not obtain a high school diploma, whether or not Charter and Magnet schools are good alternatives to high school, and if online learning is a good alternative for high school students.","English",48.8,39.04,"371","232 pp.",{"$f":"Table1[[#This Row],['# of Books]]*Table1[[#This Row],[QTY]]","v":0},{"$f":"Table1[[#This Row],[QTY]]*Table1[[#This Row],[School & Library Price]]","v":0}]
[null,9,7,null,"Current Issues","Opposing Viewpoints","High School Alternative Program","978-0-7377-7271-5","Greenhaven Publishing","Paperback Book",1,2015,null,"Paperback","6.000 X 9.000","Author","Noah Berlatsky",null,null,null,null,null,null,"Years 15 - 17",null,"Grade 10 - 12","OPPOSING VIEWPOINTS: HIGH SCHOOL ALTERNATIVE PROGRAMS examines whether or not alternative programs can help at-risk and special needs students, what alternatives there are to those who do not obtain a high school diploma, whether or not Charter and Magnet schools are good alternatives to high school, and if online learning is a good alternative for high school students.","English",33.799999999999898,27.039999999999921,"371","230 pp.",{"$f":"Table1[[#This Row],['# of Books]]*Table1[[#This Row],[QTY]]","v":0},{"$f":"Table1[[#This Row],[QTY]]*Table1[[#This Row],[School & Library Price]]","v":0}]
[null,10,7,null,"Current Issues","Opposing Viewpoints","Illegal Immigration","978-0-7377-7272-2","Greenhaven Publishing","Library Bound Book",1,2015,null,"Library Bound","6.000 X 9.000","Author","Noël Merino",null,null,null,null,null,null,"Years 15 - 17",null,"Grade 10 - 12","This volume in the OPPOSING VIEWPOINTS SERIES debates the issue of illegal immigration with such topics as how does illegal immigration impact the United States, how effective are policies to stop illegal immigration, are immigrants treated justly, and how US immigration policy should be reformed.","English",48.8,39.04,"325","216 pp.",{"$f":"Table1[[#This Row],['# of Books]]*Table1[[#This Row],[QTY]]","v":0},{"$f":"Table1[[#This Row],[QTY]]*Table1[[#This Row],[School & Library Price]]","v":0}]
[null,10,7,null,"Current Issues","Opposing Viewpoints","Illegal Immigration","978-0-7377-7273-9","Greenhaven Publishing","Paperback Book",1,2015,null,"Paperback","6.000 X 9.000","Author","Noël Merino",null,null,null,null,null,null,"Years 15 - 17",null,"Grade 10 - 12","This volume in the OPPOSING VIEWPOINTS SERIES debates the issue of illegal immigration with such topics as how does illegal immigration impact the United States, how effective are policies to stop illegal immigration, are immigrants treated justly, and how US immigration policy should be reformed.","English",33.799999999999898,27.039999999999921,"325","212 pp.",{"$f":"Table1[[#This Row],['# of Books]]*Table1[[#This Row],[QTY]]","v":0},{"$f":"Table1[[#This Row],[QTY]]*Table1[[#This Row],[School & Library Price]]","v":0}]
[null,11,7,null,"Current Issues","Opposing Viewpoints","Natural Gas","978-0-7377-7276-0","Greenhaven Publishing","Library Bound Book",1,2015,null,"Library Bound","6.000 X 9.000","Author","Dedria Bryfonski",null,null,null,null,null,null,"Years 15 - 17",null,"Grade 10 - 12","OPPOSING VIEWPOINTS: NATURAL GAS examines the potential benefits and dangers of Fracking, whether or not the United states needs more gas pipeline capacity, if the United States should export natural gas, and the risk and value of permitting offshore drilling.","English",48.8,39.04,"553","264 pp.",{"$f":"Table1[[#This Row],['# of Books]]*Table1[[#This Row],[QTY]]","v":0},{"$f":"Table1[[#This Row],[QTY]]*Table1[[#This Row],[School & Library Price]]","v":0}]
[null,11,7,null,"Current Issues","Opposing Viewpoints","Natural Gas","978-0-7377-7277-7","Greenhaven Publishing","Paperback Book",1,2015,null,"Paperback","6.000 X 9.000","Author","Dedria Bryfonski",null,null,null,null,null,null,"Years 15 - 17",null,"Grade 10 - 12","OPPOSING VIEWPOINTS: NATURAL GAS  examines the potential benefits and dangers of Fracking, whether or not the United states needs more gas pipeline capacity, if the United States should export natural gas, and the risk and value of permitting offshore drilling.","English",33.799999999999898,27.039999999999921,"553","258 pp.",{"$f":"Table1[[#This Row],['# of Books]]*Table1[[#This Row],[QTY]]","v":0},{"$f":"Table1[[#This Row],[QTY]]*Table1[[#This Row],[School & Library Price]]","v":0}]
[null,11,7,null,"Current Issues","Opposing Viewpoints","Obesity","978-0-7377-7278-4","Greenhaven Publishing","Library Bound Book",1,2015,null,"Library Bound","6.000 X 9.000","Author","Sylvia Engdahl",null,null,null,null,null,null,"Years 15 - 17",null,"Grade 10 - 12","OPPOSING VIEWPOINTS: OBESITY examines whether or not there is an obesity epidemic, if obesity is a disease, if society should actively combat obesity, and what is causing the rise in obesity.","English",48.8,39.04,"616","232 pp.",{"$f":"Table1[[#This Row],['# of Books]]*Table1[[#This Row],[QTY]]","v":0},{"$f":"Table1[[#This Row],[QTY]]*Table1[[#This Row],[School & Library Price]]","v":0}]
[null,11,7,null,"Current Issues","Opposing Viewpoints","Obesity","978-0-7377-7279-1","Greenhaven Publishing","Paperback Book",1,2015,null,"Paperback","6.000 X 9.000","Author","Sylvia Engdahl",null,null,null,null,null,null,"Years 15 - 17",null,"Grade 10 - 12","OPPOSING VIEWPOINTS: OBESITY  examines whether or not there is an obesity epidemic, if obesity is a disease, if society should actively combat obesity, and what is causing the rise in obesity.","English",33.799999999999898,27.039999999999921,"616","228 pp.",{"$f":"Table1[[#This Row],['# of Books]]*Table1[[#This Row],[QTY]]","v":0},{"$f":"Table1[[#This Row],[QTY]]*Table1[[#This Row],[School & Library Price]]","v":0}]
[null,12,7,null,"Current Issues","Opposing Viewpoints","Performance-Enhancing Drugs","978-0-7377-7280-7","Greenhaven Publishing","Library Bound Book",1,2015,null,"Library Bound","6.000 X 9.000","Author","Roman Espejo",null,null,null,null,null,null,"Years 15 - 17",null,"Grade 10 - 12","OPPOSING VIEWPOINTS: PERFORMANCE-ENHANCING DRUGS takes a look at whether or not the use of performance-enhancing drugs should be accepted, how dangerous these drugs can be, and the effectiveness of drug testing. This volume also discusses the future of performance-enhancing drugs.","English",48.8,39.04,"362","208 pp.",{"$f":"Table1[[#This Row],['# of Books]]*Table1[[#This Row],[QTY]]","v":0},{"$f":"Table1[[#This Row],[QTY]]*Table1[[#This Row],[School & Library Price]]","v":0}]
[null,12,7,null,"Current Issues","Opposing Viewpoints","Performance-Enhancing Drugs","978-0-7377-7281-4","Greenhaven Publishing","Paperback Book",1,2015,null,"Paperback","6.000 X 9.000","Author","Roman Espejo",null,null,null,null,null,null,"Years 15 - 17",null,"Grade 10 - 12","OPPOSING VIEWPOINTS: PERFORMANCE-ENHANCING DRUGS takes a look at whether or not the use of performance-enhancing drugs should be accepted, how dangerous these drugs can be, and the effectiveness of drug testing. This volume also discusses the future of performance-enhancing drugs.","English",33.799999999999898,27.039999999999921,"362","206 pp.",{"$f":"Table1[[#This Row],['# of Books]]*Table1[[#This Row],[QTY]]","v":0},{"$f":"Table1[[#This Row],[QTY]]*Table1[[#This Row],[School & Library Price]]","v":0}]
[null,12,7,null,"Current Issues","Opposing Viewpoints","Privacy","978-0-7377-7282-1","Greenhaven Publishing","Library Bound Book",1,2015,null,"Library Bound","6.000 X 9.000","Author","Noël Merino",null,null,null,null,null,null,"Years 15 - 17",null,"Grade 10 - 12","OPPOSING VIEWPOINTS: PRIVACY discusses if technological developments threaten privacy. This volume asks if security measures infringe on privacy rights and if medical privacy is adequately protected. The final chapter explores how privacy should be protected.","English",48.8,39.04,"323","182 pp.",{"$f":"Table1[[#This Row],['# of Books]]*Table1[[#This Row],[QTY]]","v":0},{"$f":"Table1[[#This Row],[QTY]]*Table1[[#This Row],[School & Library Price]]","v":0}]
[null,12,7,null,"Current Issues","Opposing Viewpoints","Privacy","978-0-7377-7283-8","Greenhaven Publishing","Paperback Book",1,2015,null,"Paperback","6.000 X 9.000","Author","Noël Merino",null,null,null,null,null,null,"Years 15 - 17",null,"Grade 10 - 12","OPPOSING VIEWPOINTS: PRIVACY  discusses if technological developments threaten privacy. This volume asks if security measures infringe on privacy rights and if medical privacy is adequately protected. The final chapter explores how privacy should be protected.","English",33.799999999999898,27.039999999999921,"323","182 pp.",{"$f":"Table1[[#This Row],['# of Books]]*Table1[[#This Row],[QTY]]","v":0},{"$f":"Table1[[#This Row],[QTY]]*Table1[[#This Row],[School & Library Price]]","v":0}]
[null,13,7,null,"Current Issues","Opposing Viewpoints","School Policies","978-0-7377-3827-8","Greenhaven Publishing","Paperback Book",1,2008,null,"Paperback","6.000 X 9.000","Author","Jamuna Carroll",null,null,null,null,null,null,"Years 15 - 17",null,"Grade 10 - 12",null,"English",33.799999999999898,27.039999999999921,"371","232 pp.",{"$f":"Table1[[#This Row],['# of Books]]*Table1[[#This Row],[QTY]]","v":0},{"$f":"Table1[[#This Row],[QTY]]*Table1[[#This Row],[School & Library Price]]","v":0}]
[null,13,7,null,"Current Issues","Opposing Viewpoints","School Reform","978-0-7377-7286-9","Greenhaven Publishing","Library Bound Book",1,2015,null,"Library Bound","6.000 X 9.000","Author","Noël Merino",null,null,null,null,null,null,"Years 15 - 17",null,"Grade 10 - 12","This title in the OPPOSING VIEWPOINTS SERIES examines different facets of school reform, such as the role of politics in school reform, school vouchers and charter schools, and the impact of standardized testing in the wake of Common Core.","English",48.8,39.04,"379","216 pp.",{"$f":"Table1[[#This Row],['# of Books]]*Table1[[#This Row],[QTY]]","v":0},{"$f":"Table1[[#This Row],[QTY]]*Table1[[#This Row],[School & Library Price]]","v":0}]
[null,13,7,null,"Current Issues","Opposing Viewpoints","School Reform","978-0-7377-7287-6","Greenhaven Publishing","Paperback Book",1,2015,null,"Paperback","6.000 X 9.000","Author","Noël Merino",null,null,null,null,null,null,"Years 15 - 17",null,"Grade 10 - 12","This title in the OPPOSING VIEWPOINTS SERIES examines different facets of school reform, such as the role of politics in school reform, school vouchers and charter schools, and the impact of standardized testing in the wake of Common Core.","English",33.799999999999898,27.039999999999921,"379","216 pp.",{"$f":"Table1[[#This Row],['# of Books]]*Table1[[#This Row],[QTY]]","v":0},{"$f":"Table1[[#This Row],[QTY]]*Table1[[#This Row],[School & Library Price]]","v":0}]
[null,13,7,null,"Current Issues","Opposing Viewpoints","Scientific Research","978-0-7377-7288-3","Greenhaven Publishing","Library Bound Book",1,2015,null,"Library Bound","6.000 X 9.000","Author","Sylvia Engdahl",null,null,null,null,null,null,"Years 15 - 17",null,"Grade 10 - 12","This volume in the OPPOSING VIEWPOINTS SERIES debates the issue of scientific research with such topics as whether or not the US government should fund scientific research, if there is too much government regulation, if animals should be used in scientific research, and if misconduct and fraud play a part in the scientific community.","English",48.8,39.04,"507","256 pp.",{"$f":"Table1[[#This Row],['# of Books]]*Table1[[#This Row],[QTY]]","v":0},{"$f":"Table1[[#This Row],[QTY]]*Table1[[#This Row],[School & Library Price]]","v":0}]
[null,13,7,null,"Current Issues","Opposing Viewpoints","Scientific Research","978-0-7377-7289-0","Greenhaven Publishing","Paperback Book",1,2015,null,"Paperback","6.000 X 9.000","Author","Sylvia Engdahl",null,null,null,null,null,null,"Years 15 - 17",null,"Grade 10 - 12","This volume in the OPPOSING VIEWPOINTS SERIES debates the issue of scientific research with such topics as whether or not the US government should fund scientific research, if there is too much government regulation, if animals should be used in scientific research, and if misconduct and fraud play a part in the scientific community.","English",33.799999999999898,27.039999999999921,"507","253 pp.",{"$f":"Table1[[#This Row],['# of Books]]*Table1[[#This Row],[QTY]]","v":0},{"$f":"Table1[[#This Row],[QTY]]*Table1[[#This Row],[School & Library Price]]","v":0}]
[null,15,7,null,"Current Issues","Opposing Viewpoints","Tobacco and Smoking","978-0-7377-7294-4","Greenhaven Publishing","Library Bound Book",1,2015,null,"Library Bound","6.000 X 9.000","Author","Roman Espejo",null,null,null,null,null,null,"Years 15 - 17",null,"Grade 10 - 12","This edition in the OPPOSING VIEWPOINTS SERIES explores the questions of whether or not smoking is a serious problem, how tobacco use can be reduced, how smoking alternatives should be regulated, and how the media affects the choice to smoke or not to smoke.","English",48.8,39.04,"362","242 pp.",{"$f":"Table1[[#This Row],['# of Books]]*Table1[[#This Row],[QTY]]","v":0},{"$f":"Table1[[#This Row],[QTY]]*Table1[[#This Row],[School & Library Price]]","v":0}]
[null,15,7,null,"Current Issues","Opposing Viewpoints","Tobacco and Smoking","978-0-7377-7295-1","Greenhaven Publishing","Paperback Book",1,2015,null,"Paperback","6.000 X 9.000","Author","Roman Espejo",null,null,null,null,null,null,"Years 15 - 17",null,"Grade 10 - 12","This edition in the OPPOSING VIEWPOINTS SERIES explores the questions of whether or not smoking is a serious problem, how tobacco use can be reduced, how smoking alternatives should be regulated, and how the media affects the choice to smoke or not to smoke.","English",33.799999999999898,27.039999999999921,"362","242 pp.",{"$f":"Table1[[#This Row],['# of Books]]*Table1[[#This Row],[QTY]]","v":0},{"$f":"Table1[[#This Row],[QTY]]*Table1[[#This Row],[School & Library Price]]","v":0}]
[null,15,7,null,"Current Issues","Opposing Viewpoints","US Foreign Policy","978-0-7377-7296-8","Greenhaven Publishing","Library Bound Book",1,2015,null,"Library Bound","6.000 X 9.000","Author","Noël Merino",null,null,null,null,null,null,"Years 15 - 17",null,"Grade 10 - 12","This volume in the OPPOSING VIEWPOINTS SERIES examines some of the criticisms of current US foreign policies, if foreign military interventions and US economic policies abroad are good for the United States, and what considerations should guide the future of US foreign policy.","English",48.8,39.04,"327","224 pp.",{"$f":"Table1[[#This Row],['# of Books]]*Table1[[#This Row],[QTY]]","v":0},{"$f":"Table1[[#This Row],[QTY]]*Table1[[#This Row],[School & Library Price]]","v":0}]
[null,15,7,null,"Current Issues","Opposing Viewpoints","US Foreign Policy","978-0-7377-7297-5","Greenhaven Publishing","Paperback Book",1,2015,null,"Paperback","6.000 X 9.000","Author","Noël Merino",null,null,null,null,null,null,"Years 15 - 17",null,"Grade 10 - 12","This volume in the OPPOSING VIEWPOINTS SERIES examines some of the criticisms of current US foreign policies, if foreign military interventions and US economic policies abroad are good for the United States, and what considerations should guide the future of US foreign policy.","English",33.799999999999898,27.039999999999921,"327","230 pp.",{"$f":"Table1[[#This Row],['# of Books]]*Table1[[#This Row],[QTY]]","v":0},{"$f":"Table1[[#This Row],[QTY]]*Table1[[#This Row],[School & Library Price]]","v":0}]
[null,15,7,null,"Current Issues","Opposing Viewpoints","Veterans","978-0-7377-7298-2","Greenhaven Publishing","Library Bound Book",1,2015,null,"Library Bound","6.000 X 9.000","Author","Dedria Bryfonski",null,null,null,null,null,null,"Years 15 - 17",null,"Grade 10 - 12","OPPOSING VIEWPOINTS: VETERANS explores issues relating to those who have served in the military. It covers homelessness, Post Traumatic Stress Disorder, disabilities, unemployment, female veterans, and government assistance.","English",48.8,39.04,"362","240 pp.",{"$f":"Table1[[#This Row],['# of Books]]*Table1[[#This Row],[QTY]]","v":0},{"$f":"Table1[[#This Row],[QTY]]*Table1[[#This Row],[School & Library Price]]","v":0}]
[null,15,7,null,"Current Issues","Opposing Viewpoints","Veterans","978-0-7377-7299-9","Greenhaven Publishing","Paperback Book",1,2015,null,"Paperback","6.000 X 9.000","Author","Dedria Bryfonski",null,null,null,null,null,null,"Years 15 - 17",null,"Grade 10 - 12","OPPOSING VIEWPOINTS: VETERANS explores issues relating to those who have served in the military. It covers homelessness, Post Traumatic Stress Disorder, disabilities, unemployment, female veterans, and government assistance.","English",33.799999999999898,27.039999999999921,"362","240 pp.",{"$f":"Table1[[#This Row],['# of Books]]*Table1[[#This Row],[QTY]]","v":0},{"$f":"Table1[[#This Row],[QTY]]*Table1[[#This Row],[School & Library Price]]","v":0}]
[null,15,7,null,"Current Issues","Opposing Viewpoints","Voting Rights","978-0-7377-7300-2","Greenhaven Publishing","Library Bound Book",1,2015,null,"Library Bound","6.000 X 9.000","Author","Noah Berlatsky",null,null,null,null,null,null,"Years 15 - 17",null,"Grade 10 - 12","This volume of OPPOSING VIEWPOINTS delves into the issues surrounding voting rights such as whether or not voting rights protections are still necessary, if states are restricting voting rights, if voting rights apply to particular groups, and if changing voting procedures can promote equality.","English",48.8,39.04,"324","242 pp.",{"$f":"Table1[[#This Row],['# of Books]]*Table1[[#This Row],[QTY]]","v":0},{"$f":"Table1[[#This Row],[QTY]]*Table1[[#This Row],[School & Library Price]]","v":0}]
[null,15,7,null,"Current Issues","Opposing Viewpoints","Voting Rights","978-0-7377-7301-9","Greenhaven Publishing","Paperback Book",1,2015,null,"Paperback","6.000 X 9.000","Author","Noah Berlatsky",null,null,null,null,null,null,"Years 15 - 17",null,"Grade 10 - 12","This volume of OPPOSING VIEWPOINTS delves into the issues surrounding voting rights such as whether or not voting rights protections are still necessary, if states are restricting voting rights, if voting rights apply to particular groups, and if changing voting procedures can promote equality.","English",33.799999999999898,27.039999999999921,"324","242 pp.",{"$f":"Table1[[#This Row],['# of Books]]*Table1[[#This Row],[QTY]]","v":0},{"$f":"Table1[[#This Row],[QTY]]*Table1[[#This Row],[School & Library Price]]","v":0}]
[null,15,7,null,"Current Issues","Opposing Viewpoints","Women's Health","978-0-7377-6668-4","Greenhaven Publishing","Library Bound Book",1,2015,null,"Library Bound","6.000 X 9.000","Author","Lynn M. Zott",null,null,null,null,null,null,"Years 15 - 17",null,"Grade 10 - 12","This title in the popular OPPOSING VIEWPOINTS series discusses the latest issues concerning the health of women. This text addresses the issue of how the current political climate impacts women’s health legislation, the question of what part religion should play in women’s health-care policy, what clinical and scientific concerns affect women’s health, and what key health concerns are faced by US servicewomen. The viewpoints are selected from a wide range of highly respected and often hard-to-find sources and publications. By choosing from such diverse sources and including both popular and unpopular views, the OPPOSING VIEWPOINTS editorial team has adhered to its commitment to editorial objectivity. Readers are exposed to many sides of a debate, which promotes issue awareness as well as critical thinking.","English",48.8,39.04,"613","224 pp.",{"$f":"Table1[[#This Row],['# of Books]]*Table1[[#This Row],[QTY]]","v":0},{"$f":"Table1[[#This Row],[QTY]]*Table1[[#This Row],[School & Library Price]]","v":0}]
[null,15,7,null,"Current Issues","Opposing Viewpoints","Women's Health","978-0-7377-6669-1","Greenhaven Publishing","Paperback Book",1,2015,null,"Paperback","6.000 X 9.000","Author","Lynn M. Zott",null,null,null,null,null,null,"Years 15 - 17",null,"Grade 10 - 12","This title in the popular OPPOSING VIEWPOINTS series discusses the latest issues concerning the health of women. This text addresses the issue of how the current political climate impacts women’s health legislation, the question of what part religion should play in women’s health-care policy, what clinical and scientific concerns affect women’s health, and what key health concerns are faced by US servicewomen. The viewpoints are selected from a wide range of highly respected and often hard-to-find sources and publications. By choosing from such diverse sources and including both popular and unpopular views, the OPPOSING VIEWPOINTS editorial team has adhered to its commitment to editorial objectivity. Readers are exposed to many sides of a debate, which promotes issue awareness as well as critical thinking.","English",33.799999999999898,27.039999999999921,"613","223 pp.",{"$f":"Table1[[#This Row],['# of Books]]*Table1[[#This Row],[QTY]]","v":0},{"$f":"Table1[[#This Row],[QTY]]*Table1[[#This Row],[School & Library Price]]","v":0}]
[null,15,7,null,"Current Issues","Opposing Viewpoints","Work and Family","978-0-7377-5769-9","Greenhaven Publishing","Library Bound Book",1,2012,null,"Library Bound","6.000 X 9.000","Author","Mitchell Young",null,null,null,null,null,null,"Years 15 - 17",null,"Grade 10 - 12","Through a balanced collection of articles from a variety of sources, this title in the OPPOSING VIEWPOINTS series discusses issues related to work and the American family. Articles in the text explores how women balance work and family, how men balance work and family, the impact of government policies on the work/family balance, and how a lack of work effects families.","English",48.8,39.04,"306","192 pp.",{"$f":"Table1[[#This Row],['# of Books]]*Table1[[#This Row],[QTY]]","v":0},{"$f":"Table1[[#This Row],[QTY]]*Table1[[#This Row],[School & Library Price]]","v":0}]
[null,15,7,null,"Current Issues","Opposing Viewpoints","Work and Family","978-0-7377-5770-5","Greenhaven Publishing","Paperback Book",1,2012,null,"Paperback","6.000 X 9.000","Author","Mitchell Young",null,null,null,null,null,null,"Years 15 - 17",null,"Grade 10 - 12","Through a balanced collection of articles from a variety of sources, this title in the OPPOSING VIEWPOINTS series discusses issues related to work and the American family. Articles in the text explores how women balance work and family, how men balance work and family, the impact of government policies on the work/family balance, and how a lack of work effects families.","English",33.799999999999898,27.039999999999921,"306","192 pp.",{"$f":"Table1[[#This Row],['# of Books]]*Table1[[#This Row],[QTY]]","v":0},{"$f":"Table1[[#This Row],[QTY]]*Table1[[#This Row],[School & Library Price]]","v":0}]
[null,15,7,null,"Current Issues","Opposing Viewpoints","Working Women","978-0-7377-7302-6","Greenhaven Publishing","Library Bound Book",1,2015,null,"Library Bound","6.000 X 9.000","Author","Noah Berlatsky",null,null,null,null,null,null,"Years 15 - 17",null,"Grade 10 - 12","OPPOSING VIEWPOINTS: WORKING WOMEN explores whether women experience discrimination at work, how motherhood affects working women, whether the Lean-In movement helps women, and how workplace harassment affects women.","English",48.8,39.04,"331","191 pp.",{"$f":"Table1[[#This Row],['# of Books]]*Table1[[#This Row],[QTY]]","v":0},{"$f":"Table1[[#This Row],[QTY]]*Table1[[#This Row],[School & Library Price]]","v":0}]
[null,15,7,null,"Current Issues","Opposing Viewpoints","Working Women","978-0-7377-7303-3","Greenhaven Publishing","Paperback Book",1,2015,null,"Paperback","6.000 X 9.000","Author","Noah Berlatsky",null,null,null,null,null,null,"Years 15 - 17",null,"Grade 10 - 12","OPPOSING VIEWPOINTS: WORKING WOMEN  explores whether women experience discrimination at work, how motherhood affects working women, whether the Lean-In movement helps women, and how workplace harassment affects women.","English",33.799999999999898,27.039999999999921,"331","191 pp.",{"$f":"Table1[[#This Row],['# of Books]]*Table1[[#This Row],[QTY]]","v":0},{"$f":"Table1[[#This Row],[QTY]]*Table1[[#This Row],[School & Library Price]]","v":0}]
[null,15,7,null,"Current Issues","Opposing Viewpoints","World Peace","978-0-7377-7304-0","Greenhaven Publishing","Library Bound Book",1,2015,null,"Library Bound","6.000 X 9.000","Author","Margaret Haerens",null,null,null,null,null,null,"Years 15 - 17",null,"Grade 10 - 12","This title in the OPPOSING VIEWPOINTS SERIES examines the ideal of world peace in such topics as how should world peace be regarded, how can world peace be established, what economic, social, and political movements improve the chances of world peace, and what are the greatest threats to world peace.","English",48.8,39.04,"327","248 pp.",{"$f":"Table1[[#This Row],['# of Books]]*Table1[[#This Row],[QTY]]","v":0},{"$f":"Table1[[#This Row],[QTY]]*Table1[[#This Row],[School & Library Price]]","v":0}]
[null,15,7,null,"Current Issues","Opposing Viewpoints","World Peace","978-0-7377-7305-7","Greenhaven Publishing","Paperback Book",1,2015,null,"Paperback","6.000 X 9.000","Author","Margaret Haerens",null,null,null,null,null,null,"Years 15 - 17",null,"Grade 10 - 12","This title in the OPPOSING VIEWPOINTS SERIES examines the ideal of world peace in such topics as how should world peace be regarded, how can world peace be established, what economic, social, and political movements improve the chances of world peace, and what are the greatest threats to world peace.","English",33.799999999999898,27.039999999999921,"327","248 pp.",{"$f":"Table1[[#This Row],['# of Books]]*Table1[[#This Row],[QTY]]","v":0},{"$f":"Table1[[#This Row],[QTY]]*Table1[[#This Row],[School & Library Price]]","v":0}]
[null,null,7,null,"Current Issues","Opposing Viewpoints","Opposing Viewpoints (Coming Aug 2018)","978-1-5345-0371-7","Greenhaven Publishing","Library Set",6,2019,"August 2018","Library","6.000 X 9.000"," "," ",null,null,null,null,null,null,"Years 14 - 17","Grade 10 - 12","Grade 9 - 12","First introduced more than 40 years ago, Opposing Viewpoints still sets the standard for current-issue studies. With almost 300 volumes covering nearly every controversial contemporary topic, Opposing Viewpoints is the leading source of current-issue materials for libraries and classrooms. Each book delivers pro/con expert opinions selected from highly respected and often hard to find sources and publications.","English",292.8,234.24,null,null,{"$f":"Table1[[#This Row],['# of Books]]*Table1[[#This Row],[QTY]]","v":0},{"$f":"Table1[[#This Row],[QTY]]*Table1[[#This Row],[School & Library Price]]","v":0}]
[null,null,7,null,"Current Issues","Opposing Viewpoints","Opposing Viewpoints (Coming Aug 2018)","978-1-5345-0377-9","Greenhaven Publishing","Single Copy Set",6,2019,"August 2018","Paperback","6.000 X 9.000"," "," ",null,null,null,null,null,null,"Years 14 - 17","Grade 10 - 12","Grade 9 - 12","First introduced more than 40 years ago, Opposing Viewpoints still sets the standard for current-issue studies. With almost 300 volumes covering nearly every controversial contemporary topic, Opposing Viewpoints is the leading source of current-issue materials for libraries and classrooms. Each book delivers pro/con expert opinions selected from highly respected and often hard to find sources and publications.","English",202.8,162.24,null,null,{"$f":"Table1[[#This Row],['# of Books]]*Table1[[#This Row],[QTY]]","v":0},{"$f":"Table1[[#This Row],[QTY]]*Table1[[#This Row],[School & Library Price]]","v":0}]
[null,null,7,null,"Current Issues","Opposing Viewpoints","Black Lives Matter","978-1-5345-0289-5","Greenhaven Publishing","Library Bound Book",1,2019,"August 2018","Library","6.000 X 9.000","Edited by","Martin Gitlin",null,null,null,null,"Z",null,"Years 14 - 17","Grade 10 - 12","Grade 9 - 12","In 2012, a seventeen-year-old African American boy named Trayvon Martin was murdered in cold blood by a neighborhood vigilante. When the murderer was acquitted, shockwaves ran through African American communities across the United States. The frustration over the perceived lack of value of African Americans in the United States spurred #BlackLivesMatter. The activist group mobilized as a rash of killings of unarmed African Americans by police seemed to plague the country. But many whites didn't understand their cause and responded with \"All Lives Matter.\" The viewpoints in this resource ask important questions regarding race in the United States.","English",48.8,39.04,"323.1196/073--dc23",null,{"$f":"Table1[[#This Row],['# of Books]]*Table1[[#This Row],[QTY]]","v":0},{"$f":"Table1[[#This Row],[QTY]]*Table1[[#This Row],[School & Library Price]]","v":0}]
[null,null,7,null,"Current Issues","Opposing Viewpoints","Black Lives Matter","978-1-5345-0290-1","Greenhaven Publishing","Paperback Book",1,2019,"August 2018","Paperback","6.000 X 9.000","Edited by","Martin Gitlin",null,null,null,null,"Z",null,"Years 14 - 17","Grade 10 - 12","Grade 9 - 12","In 2012, a seventeen-year-old African American boy named Trayvon Martin was murdered in cold blood by a neighborhood vigilante. When the murderer was acquitted, shockwaves ran through African American communities across the United States. The frustration over the perceived lack of value of African Americans in the United States spurred #BlackLivesMatter. The activist group mobilized as a rash of killings of unarmed African Americans by police seemed to plague the country. But many whites didn't understand their cause and responded with \"All Lives Matter.\" The viewpoints in this resource ask important questions regarding race in the United States.","English",33.799999999999997,27.04,"323.1196/073--dc23",null,{"$f":"Table1[[#This Row],['# of Books]]*Table1[[#This Row],[QTY]]","v":0},{"$f":"Table1[[#This Row],[QTY]]*Table1[[#This Row],[School & Library Price]]","v":0}]
[null,null,7,null,"Current Issues","Opposing Viewpoints","Feminism","978-1-5345-0291-8","Greenhaven Publishing","Library Bound Book",1,2019,"August 2018","Library","6.000 X 9.000","Edited by","Avery Elizabeth Hurt",null,null,null,null,"Z",null,"Years 14 - 17","Grade 10 - 12","Grade 9 - 12","Nearly a half-century after the women's liberation movement, women have achieved things that their grandmothers might only have dreamed. Now that women work in boardrooms, executive suites, and top government positions, as well as in the home, some believe that the fight has been won. For others, the perception that women are on equal footing with men is dangerous. Through diverse perspectives, this enlightening volume explores the current debates on feminism's front, including the pay gap, violence against women, substandard health care, reproductive rights, and representation in government.","English",48.8,39.04,null,null,{"$f":"Table1[[#This Row],['# of Books]]*Table1[[#This Row],[QTY]]","v":0},{"$f":"Table1[[#This Row],[QTY]]*Table1[[#This Row],[School & Library Price]]","v":0}]
[null,null,7,null,"Current Issues","Opposing Viewpoints","Feminism","978-1-5345-0292-5","Greenhaven Publishing","Paperback Book",1,2019,"August 2018","Paperback","6.000 X 9.000","Edited by","Avery Elizabeth Hurt",null,null,null,null,"Z",null,"Years 14 - 17","Grade 10 - 12","Grade 9 - 12","Nearly a half-century after the women's liberation movement, women have achieved things that their grandmothers might only have dreamed. Now that women work in boardrooms, executive suites, and top government positions, as well as in the home, some believe that the fight has been won. For others, the perception that women are on equal footing with men is dangerous. Through diverse perspectives, this enlightening volume explores the current debates on feminism's front, including the pay gap, violence against women, substandard health care, reproductive rights, and representation in government.","English",33.799999999999997,27.04,null,null,{"$f":"Table1[[#This Row],['# of Books]]*Table1[[#This Row],[QTY]]","v":0},{"$f":"Table1[[#This Row],[QTY]]*Table1[[#This Row],[School & Library Price]]","v":0}]
[null,null,7,null,"Current Issues","Opposing Viewpoints","Interpreting the Bill of Rights","978-1-5345-0293-2","Greenhaven Publishing","Library Bound Book",1,2019,"August 2018","Library","6.000 X 9.000","Edited by","Avery Elizabeth Hurt",null,null,null,null,"Z",null,"Years 14 - 17","Grade 10 - 12","Grade 9 - 12","The first ten amendments to the U.S. Constitution were written to safeguard individual liberties and limit government power. Was the Bill of Rights necessary, or did it open up a can of worms the framers didn't intend? Throughout the course of U.S. history, amendments have been subject to various interpretations, often to the point of contention. In this informative anthology, readers will be exposed to the complex issues of interpreting a document that was created more than two hundred years ago.","English",48.8,39.04,null,null,{"$f":"Table1[[#This Row],['# of Books]]*Table1[[#This Row],[QTY]]","v":0},{"$f":"Table1[[#This Row],[QTY]]*Table1[[#This Row],[School & Library Price]]","v":0}]
[null,null,7,null,"Current Issues","Opposing Viewpoints","Interpreting the Bill of Rights","978-1-5345-0294-9","Greenhaven Publishing","Paperback Book",1,2019,"August 2018","Paperback","6.000 X 9.000","Edited by","Avery Elizabeth Hurt",null,null,null,null,"Z",null,"Years 14 - 17","Grade 10 - 12","Grade 9 - 12","The first ten amendments to the U.S. Constitution were written to safeguard individual liberties and limit government power. Was the Bill of Rights necessary, or did it open up a can of worms the framers didn't intend? Throughout the course of U.S. history, amendments have been subject to various interpretations, often to the point of contention. In this informative anthology, readers will be exposed to the complex issues of interpreting a document that was created more than two hundred years ago.","English",33.799999999999997,27.04,null,null,{"$f":"Table1[[#This Row],['# of Books]]*Table1[[#This Row],[QTY]]","v":0},{"$f":"Table1[[#This Row],[QTY]]*Table1[[#This Row],[School & Library Price]]","v":0}]
[null,null,7,null,"Current Issues","Opposing Viewpoints","Mandatory Minimum Sentences","978-1-5345-0295-6","Greenhaven Publishing","Library Bound Book",1,2019,"August 2018","Library","6.000 X 9.000","Edited by","H. Craig Erskine, III",null,null,null,null,"Z",null,"Years 14 - 17","Grade 10 - 12","Grade 9 - 12","Is it fair to remove judicial discretion when sentencing criminals for certain crimes? This volume presents a wide diversity of opinions from an array of experts on the impact of mandatory minimum sentencing on crime, including the \"three strikes\" law. Readers are asked to examine the inherent fairness of mandatory sentences. Are they discriminatory? Do they usurp judicial power and result in overcrowded prisons? Or do they protect children and deter repeat offenders? Experts also weigh in on alternatives to mandatory sentences.","English",48.8,39.04,null,null,{"$f":"Table1[[#This Row],['# of Books]]*Table1[[#This Row],[QTY]]","v":0},{"$f":"Table1[[#This Row],[QTY]]*Table1[[#This Row],[School & Library Price]]","v":0}]
[null,null,7,null,"Current Issues","Opposing Viewpoints","Mandatory Minimum Sentences","978-1-5345-0296-3","Greenhaven Publishing","Paperback Book",1,2019,"August 2018","Paperback","6.000 X 9.000","Edited by","H. Craig Erskine, III",null,null,null,null,"Z",null,"Years 14 - 17","Grade 10 - 12","Grade 9 - 12","Is it fair to remove judicial discretion when sentencing criminals for certain crimes? This volume presents a wide diversity of opinions from an array of experts on the impact of mandatory minimum sentencing on crime, including the \"three strikes\" law. Readers are asked to examine the inherent fairness of mandatory sentences. Are they discriminatory? Do they usurp judicial power and result in overcrowded prisons? Or do they protect children and deter repeat offenders? Experts also weigh in on alternatives to mandatory sentences.","English",33.799999999999997,27.04,null,null,{"$f":"Table1[[#This Row],['# of Books]]*Table1[[#This Row],[QTY]]","v":0},{"$f":"Table1[[#This Row],[QTY]]*Table1[[#This Row],[School & Library Price]]","v":0}]
[null,null,7,null,"Current Issues","Opposing Viewpoints","Net Neutrality","978-1-5345-0297-0","Greenhaven Publishing","Library Bound Book",1,2019,"August 2018","Library","6.000 X 9.000","Edited by","Kathryn Roberts",null,null,null,null,"Z",null,"Years 14 - 17","Grade 10 - 12","Grade 9 - 12","Is a free and open internet a hallmark of democracy? Net neutrality advocates are fighting for government regulation and protection of this relatively new frontier. They believe that the internet is now a basic human need and argue that defined rules are essential to the protection of customers and to the encouragement of innovation. Detractors worry that too much government oversight discourages innovation and investment. The viewpoints in this informative anthology are written by experts with a variety of perspectives about a complex topic that encompasses many fields, including technology, business, and the Constitution.","English",48.8,39.04,null,null,{"$f":"Table1[[#This Row],['# of Books]]*Table1[[#This Row],[QTY]]","v":0},{"$f":"Table1[[#This Row],[QTY]]*Table1[[#This Row],[School & Library Price]]","v":0}]
[null,null,7,null,"Current Issues","Opposing Viewpoints","Net Neutrality","978-1-5345-0298-7","Greenhaven Publishing","Paperback Book",1,2019,"August 2018","Paperback","6.000 X 9.000","Edited by","Kathryn Roberts",null,null,null,null,"Z",null,"Years 14 - 17","Grade 10 - 12","Grade 9 - 12","Is a free and open internet a hallmark of democracy? Net neutrality advocates are fighting for government regulation and protection of this relatively new frontier. They believe that the internet is now a basic human need and argue that defined rules are essential to the protection of customers and to the encouragement of innovation. Detractors worry that too much government oversight discourages innovation and investment. The viewpoints in this informative anthology are written by experts with a variety of perspectives about a complex topic that encompasses many fields, including technology, business, and the Constitution.","English",33.799999999999997,27.04,null,null,{"$f":"Table1[[#This Row],['# of Books]]*Table1[[#This Row],[QTY]]","v":0},{"$f":"Table1[[#This Row],[QTY]]*Table1[[#This Row],[School & Library Price]]","v":0}]
[null,null,7,null,"Current Issues","Opposing Viewpoints","Sanctuary Cities","978-1-5345-0299-4","Greenhaven Publishing","Library Bound Book",1,2019,"August 2018","Library","6.000 X 9.000","Edited by","Marcia Amidon Lusted",null,null,null,null,"Z",null,"Years 14 - 17","Grade 10 - 12","Grade 9 - 12","As part of his crackdown on illegal immigration, President Trump's vow to defund sanctuary cities, cities and counties that protect low-priority immigrants from deportation, has stirred up a hornet's nest of controversy. Are sanctuary cities legal? Should the federal government infringe on states' rights? Why should illegal immigrants be protected? Do sanctuary cities threaten national security and community safety? Do they encourage illegal immigration? These are among the many complicated questions posed in this enlightening anthology, in which diverse viewpoints address the swirling issues of immigration, federal vs. states' rights, and America's moral responsibility as a democracy.","English",48.8,39.04,null,null,{"$f":"Table1[[#This Row],['# of Books]]*Table1[[#This Row],[QTY]]","v":0},{"$f":"Table1[[#This Row],[QTY]]*Table1[[#This Row],[School & Library Price]]","v":0}]
[null,null,7,null,"Current Issues","Opposing Viewpoints","Sanctuary Cities","978-1-5345-0300-7","Greenhaven Publishing","Paperback Book",1,2019,"August 2018","Paperback","6.000 X 9.000","Edited by","Marcia Amidon Lusted",null,null,null,null,"Z",null,"Years 14 - 17","Grade 10 - 12","Grade 9 - 12","As part of his crackdown on illegal immigration, President Trump's vow to defund sanctuary cities, cities and counties that protect low-priority immigrants from deportation, has stirred up a hornet's nest of controversy. Are sanctuary cities legal? Should the federal government infringe on states' rights? Why should illegal immigrants be protected? Do sanctuary cities threaten national security and community safety? Do they encourage illegal immigration? These are among the many complicated questions posed in this enlightening anthology, in which diverse viewpoints address the swirling issues of immigration, federal vs. states' rights, and America's moral responsibility as a democracy.","English",33.799999999999997,27.04,null,null,{"$f":"Table1[[#This Row],['# of Books]]*Table1[[#This Row],[QTY]]","v":0},{"$f":"Table1[[#This Row],[QTY]]*Table1[[#This Row],[School & Library Price]]","v":0}]
[null,16,8,null,"Current Issues","At Issue","At Issue (Jan 2018)","978-1-5345-0248-2","Greenhaven Publishing","Library Set",6,2018,"January 2018",null,"6.000 X 9.000"," "," ",null,null,null,null,null,null,"Years 14 - 17","Grade 10 - 12","Grade 9 - 12","The At Issue series includes a wide range of opinions on a single controversial subject. Each volume includes primary and secondary sources from many perspectives and a variety of sources, including journals, newspapers, books, websites, government agencies, and others. \"These books are an excellent source for middle and high school readers to enhance their critical thinking skills. They could easily be used as jumping off points for research projects and debate topics.\" AMERICAN REFERENCE BOOKS ANNUAL","English",236.4,189.12,null,"104–152 pp.",{"$f":"Table1[[#This Row],['# of Books]]*Table1[[#This Row],[QTY]]","v":0},{"$f":"Table1[[#This Row],[QTY]]*Table1[[#This Row],[School & Library Price]]","v":0}]
[null,16,8,null,"Current Issues","At Issue","At Issue (Jan 2018)","978-1-5345-0270-3","Greenhaven Publishing","Single Copy Set",6,2018,"January 2018",null,"6.000 X 9.000"," "," ",null,null,null,null,null,null,"Years 14 - 17","Grade 10 - 12","Grade 9 - 12","The At Issue series includes a wide range of opinions on a single controversial subject. Each volume includes primary and secondary sources from many perspectives and a variety of sources, including journals, newspapers, books, websites, government agencies, and others. \"These books are an excellent source for middle and high school readers to enhance their critical thinking skills. They could easily be used as jumping off points for research projects and debate topics.\" AMERICAN REFERENCE BOOKS ANNUAL","English",166.8,133.44,null,"104–152 pp.",{"$f":"Table1[[#This Row],['# of Books]]*Table1[[#This Row],[QTY]]","v":0},{"$f":"Table1[[#This Row],[QTY]]*Table1[[#This Row],[School & Library Price]]","v":0}]
[null,16,8,null,"Current Issues","At Issue","Cyberwarfare","978-1-5345-0204-8","Greenhaven Publishing","Library Bound Book",1,2018,"January 2018","Library","6.000 X 9.000","Edited by","Megan Manzano",null,null,null,null,"Z",null,"Years 14 - 17","Grade 10 - 12","Grade 9 - 12","There is warfare, and there is cyberwarfare. In today's technologically-driven world, governments, and even terrorist groups and hacktivists, engage in cyberwarfare to attack or disrupt the operations of other nations and organizations. Recent revelations about cyberattacks that threatened individual and national security have caused ripples of concern and outrage, but tend to die down quickly. How safe are we, and do we take security for granted? This resource offers a diverse selection of viewpoints from the top voices in the field to enlighten readers about warfare in the Information Age.","English",39.4,31.52,"355.4/1--dc23","120 pp.",{"$f":"Table1[[#This Row],['# of Books]]*Table1[[#This Row],[QTY]]","v":0},{"$f":"Table1[[#This Row],[QTY]]*Table1[[#This Row],[School & Library Price]]","v":0}]
[null,16,8,null,"Current Issues","At Issue","Cyberwarfare","978-1-5345-0201-7","Greenhaven Publishing","eBook",1,2018,"January 2018",null,null,"Edited by","Megan Manzano",null,null,null,null,"Z",null,"Years 14 - 17","Grade 10 - 12","Grade 9 - 12","There is warfare, and there is cyberwarfare. In today's technologically-driven world, governments, and even terrorist groups and hacktivists, engage in cyberwarfare to attack or disrupt the operations of other nations and organizations. Recent revelations about cyberattacks that threatened individual and national security have caused ripples of concern and outrage, but tend to die down quickly. How safe are we, and do we take security for granted? This resource offers a diverse selection of viewpoints from the top voices in the field to enlighten readers about warfare in the Information Age.","English",39.4,31.52,"355.4/1--dc23","120 pp.",{"$f":"Table1[[#This Row],['# of Books]]*Table1[[#This Row],[QTY]]","v":0},{"$f":"Table1[[#This Row],[QTY]]*Table1[[#This Row],[School & Library Price]]","v":0}]
[null,16,8,null,"Current Issues","At Issue","Cyberwarfare","978-1-5345-0210-9","Greenhaven Publishing","Paperback Book",1,2018,"January 2018","Paperback","6.000 X 9.000","Edited by","Megan Manzano",null,null,null,null,"Z",null,"Years 14 - 17","Grade 10 - 12","Grade 9 - 12","There is warfare, and there is cyberwarfare. In today's technologically-driven world, governments, and even terrorist groups and hacktivists, engage in cyberwarfare to attack or disrupt the operations of other nations and organizations. Recent revelations about cyberattacks that threatened individual and national security have caused ripples of concern and outrage, but tend to die down quickly. How safe are we, and do we take security for granted? This resource offers a diverse selection of viewpoints from the top voices in the field to enlighten readers about warfare in the Information Age.","English",27.8,22.24,"355.4/1--dc23","120 pp.",{"$f":"Table1[[#This Row],['# of Books]]*Table1[[#This Row],[QTY]]","v":0},{"$f":"Table1[[#This Row],[QTY]]*Table1[[#This Row],[School & Library Price]]","v":0}]
[null,16,8,null,"Current Issues","At Issue","Pipelines and Politics","978-1-5345-0203-1","Greenhaven Publishing","Library Bound Book",1,2018,"January 2018","Library","6.000 X 9.000","Edited by","Lisa Idzikowski",null,null,null,null,"Z",null,"Years 14 - 17","Grade 10 - 12","Grade 9 - 12","Fossil fuels are a valuable commodity at the forefront of national and international politics. Pipelines can create jobs and economic growth, not to mention delivering a commodity to people who need it. What happens when there is conflict about the land through which a pipeline travels? Such conflicts can lead to protests, stoppages, and even war. Readers of this comprehensive volume, which explores the topic from a multitude of angles, will learn how a simple pipeline can have enormous geopolitical ramifications.","English",39.4,31.52,"388.50973--dc23","152 pp.",{"$f":"Table1[[#This Row],['# of Books]]*Table1[[#This Row],[QTY]]","v":0},{"$f":"Table1[[#This Row],[QTY]]*Table1[[#This Row],[School & Library Price]]","v":0}]
[null,16,8,null,"Current Issues","At Issue","Pipelines and Politics","978-1-5345-0198-0","Greenhaven Publishing","eBook",1,2018,"January 2018",null,null,"Edited by","Lisa Idzikowski",null,null,null,null,"Z",null,"Years 14 - 17","Grade 10 - 12","Grade 9 - 12","Fossil fuels are a valuable commodity at the forefront of national and international politics. Pipelines can create jobs and economic growth, not to mention delivering a commodity to people who need it. What happens when there is conflict about the land through which a pipeline travels? Such conflicts can lead to protests, stoppages, and even war. Readers of this comprehensive volume, which explores the topic from a multitude of angles, will learn how a simple pipeline can have enormous geopolitical ramifications.","English",39.4,31.52,"388.50973--dc23","152 pp.",{"$f":"Table1[[#This Row],['# of Books]]*Table1[[#This Row],[QTY]]","v":0},{"$f":"Table1[[#This Row],[QTY]]*Table1[[#This Row],[School & Library Price]]","v":0}]
[null,16,8,null,"Current Issues","At Issue","Pipelines and Politics","978-1-5345-0212-3","Greenhaven Publishing","Paperback Book",1,2018,"January 2018","Paperback","6.000 X 9.000","Edited by","Lisa Idzikowski",null,null,null,null,"Z",null,"Years 14 - 17","Grade 10 - 12","Grade 9 - 12","Fossil fuels are a valuable commodity at the forefront of national and international politics. Pipelines can create jobs and economic growth, not to mention delivering a commodity to people who need it. What happens when there is conflict about the land through which a pipeline travels? Such conflicts can lead to protests, stoppages, and even war. Readers of this comprehensive volume, which explores the topic from a multitude of angles, will learn how a simple pipeline can have enormous geopolitical ramifications.","English",27.8,22.24,"388.50973--dc23","152 pp.",{"$f":"Table1[[#This Row],['# of Books]]*Table1[[#This Row],[QTY]]","v":0},{"$f":"Table1[[#This Row],[QTY]]*Table1[[#This Row],[School & Library Price]]","v":0}]
[null,16,8,null,"Current Issues","At Issue","Populism in the Digital Age","978-1-5345-0207-9","Greenhaven Publishing","Library Bound Book",1,2018,"January 2018","Library","6.000 X 9.000","Edited by","Anne Cunningham",null,null,null,null,"Z",null,"Years 14 - 17","Grade 10 - 12","Grade 9 - 12","The development of social media platforms has allowed a new wave of populism to accelerate rapidly. Tweets, Facebook shares, and viral memes get information to ordinary citizens quickly and directly, without the influence of authorities, and often without the benefit of research and facts. Is this democracy in its purest form or mindless transmission of fake news and irresponsible reporting? What is the result of digital populism, and what can be done to use it for the good of the people? This resource contains viewpoints that will awaken readers to the value of critical thinking skills.","English",39.4,31.52,"320.01/4--dc23","120 pp.",{"$f":"Table1[[#This Row],['# of Books]]*Table1[[#This Row],[QTY]]","v":0},{"$f":"Table1[[#This Row],[QTY]]*Table1[[#This Row],[School & Library Price]]","v":0}]
[null,16,8,null,"Current Issues","At Issue","Populism in the Digital Age","978-1-5345-0202-4","Greenhaven Publishing","eBook",1,2018,"January 2018",null,null,"Edited by","Anne Cunningham",null,null,null,null,"Z",null,"Years 14 - 17","Grade 10 - 12","Grade 9 - 12","The development of social media platforms has allowed a new wave of populism to accelerate rapidly. Tweets, Facebook shares, and viral memes get information to ordinary citizens quickly and directly, without the influence of authorities, and often without the benefit of research and facts. Is this democracy in its purest form or mindless transmission of fake news and irresponsible reporting? What is the result of digital populism, and what can be done to use it for the good of the people? This resource contains viewpoints that will awaken readers to the value of critical thinking skills.","English",39.4,31.52,"320.01/4--dc23","120 pp.",{"$f":"Table1[[#This Row],['# of Books]]*Table1[[#This Row],[QTY]]","v":0},{"$f":"Table1[[#This Row],[QTY]]*Table1[[#This Row],[School & Library Price]]","v":0}]
[null,16,8,null,"Current Issues","At Issue","Populism in the Digital Age","978-1-5345-0214-7","Greenhaven Publishing","Paperback Book",1,2018,"January 2018","Paperback","6.000 X 9.000","Edited by","Anne Cunningham",null,null,null,null,"Z",null,"Years 14 - 17","Grade 10 - 12","Grade 9 - 12","The development of social media platforms has allowed a new wave of populism to accelerate rapidly. Tweets, Facebook shares, and viral memes get information to ordinary citizens quickly and directly, without the influence of authorities, and often without the benefit of research and facts. Is this democracy in its purest form or mindless transmission of fake news and irresponsible reporting? What is the result of digital populism, and what can be done to use it for the good of the people? This resource contains viewpoints that will awaken readers to the value of critical thinking skills.","English",27.8,22.24,"320.01/4--dc23","120 pp.",{"$f":"Table1[[#This Row],['# of Books]]*Table1[[#This Row],[QTY]]","v":0},{"$f":"Table1[[#This Row],[QTY]]*Table1[[#This Row],[School & Library Price]]","v":0}]
[null,16,8,null,"Current Issues","At Issue","Reproductive Rights","978-1-5345-0206-2","Greenhaven Publishing","Library Bound Book",1,2018,"January 2018","Library","6.000 X 9.000","Edited by","Anne Cunningham",null,null,null,null,"Z",null,"Years 14 - 17","Grade 10 - 12","Grade 9 - 12","There has been a neat divide in the United States and elsewhere between the \"pro-choice\" and \"pro-life\" camps. Reproductive rights are more expansive than the abortion debate. Access to affordable health services is a fundamental right, yet women, who are subject to discrimination, poverty, and violence at a higher rate than men, are at risk for losing access to screenings, maternal care, and contraception. Does the government have the right to legislate women's health? This close examination provides perspectives from all sides to help readers understand what is at stake.","English",39.4,31.52,"613.9--dc23","104 pp.",{"$f":"Table1[[#This Row],['# of Books]]*Table1[[#This Row],[QTY]]","v":0},{"$f":"Table1[[#This Row],[QTY]]*Table1[[#This Row],[School & Library Price]]","v":0}]
[null,16,8,null,"Current Issues","At Issue","Reproductive Rights","978-1-5345-0197-3","Greenhaven Publishing","eBook",1,2018,"January 2018",null,null,"Edited by","Anne Cunningham",null,null,null,null,"Z",null,"Years 14 - 17","Grade 10 - 12","Grade 9 - 12","There has been a neat divide in the United States and elsewhere between the \"pro-choice\" and \"pro-life\" camps. Reproductive rights are more expansive than the abortion debate. Access to affordable health services is a fundamental right, yet women, who are subject to discrimination, poverty, and violence at a higher rate than men, are at risk for losing access to screenings, maternal care, and contraception. Does the government have the right to legislate women's health? This close examination provides perspectives from all sides to help readers understand what is at stake.","English",39.4,31.52,"613.9--dc23","104 pp.",{"$f":"Table1[[#This Row],['# of Books]]*Table1[[#This Row],[QTY]]","v":0},{"$f":"Table1[[#This Row],[QTY]]*Table1[[#This Row],[School & Library Price]]","v":0}]
[null,16,8,null,"Current Issues","At Issue","Reproductive Rights","978-1-5345-0209-3","Greenhaven Publishing","Paperback Book",1,2018,"January 2018","Paperback","6.000 X 9.000","Edited by","Anne Cunningham",null,null,null,null,"Z",null,"Years 14 - 17","Grade 10 - 12","Grade 9 - 12","There has been a neat divide in the United States and elsewhere between the \"pro-choice\" and \"pro-life\" camps. Reproductive rights are more expansive than the abortion debate. Access to affordable health services is a fundamental right, yet women, who are subject to discrimination, poverty, and violence at a higher rate than men, are at risk for losing access to screenings, maternal care, and contraception. Does the government have the right to legislate women's health? This close examination provides perspectives from all sides to help readers understand what is at stake.","English",27.8,22.24,"613.9--dc23","104 pp.",{"$f":"Table1[[#This Row],['# of Books]]*Table1[[#This Row],[QTY]]","v":0},{"$f":"Table1[[#This Row],[QTY]]*Table1[[#This Row],[School & Library Price]]","v":0}]
[null,16,8,null,"Current Issues","At Issue","The Death Penalty","978-1-5345-0208-6","Greenhaven Publishing","Library Bound Book",1,2018,"January 2018","Library","6.000 X 9.000","Edited by","Megan Manzano",null,null,null,null,"Z",null,"Years 14 - 17","Grade 10 - 12","Grade 9 - 12","Is capital punishment morally justified? Although the issue generates strong opinions, there are no easy answers when it comes to taking the life of a human being. Supporters of the death penalty believe it deters law-breaking and is the only punishment strong enough for horrific crimes such as child murder and genocide. Opponents argue that it violates human rights and point to its finality in the face of judicial system error and unfairness. This resource presents a fascinating progression of current viewpoints that reflect the many facets of the death penalty debate.","English",39.4,31.52,"364.660973--dc23","120 pp.",{"$f":"Table1[[#This Row],['# of Books]]*Table1[[#This Row],[QTY]]","v":0},{"$f":"Table1[[#This Row],[QTY]]*Table1[[#This Row],[School & Library Price]]","v":0}]
[null,16,8,null,"Current Issues","At Issue","The Death Penalty","978-1-5345-0199-7","Greenhaven Publishing","eBook",1,2018,"January 2018",null,null,"Edited by","Megan Manzano",null,null,null,null,"Z",null,"Years 14 - 17","Grade 10 - 12","Grade 9 - 12","Is capital punishment morally justified? Although the issue generates strong opinions, there are no easy answers when it comes to taking the life of a human being. Supporters of the death penalty believe it deters law-breaking and is the only punishment strong enough for horrific crimes such as child murder and genocide. Opponents argue that it violates human rights and point to its finality in the face of judicial system error and unfairness. This resource presents a fascinating progression of current viewpoints that reflect the many facets of the death penalty debate.","English",39.4,31.52,"364.660973--dc23","120 pp.",{"$f":"Table1[[#This Row],['# of Books]]*Table1[[#This Row],[QTY]]","v":0},{"$f":"Table1[[#This Row],[QTY]]*Table1[[#This Row],[School & Library Price]]","v":0}]
[null,16,8,null,"Current Issues","At Issue","The Death Penalty","978-1-5345-0213-0","Greenhaven Publishing","Paperback Book",1,2018,"January 2018","Paperback","6.000 X 9.000","Edited by","Megan Manzano",null,null,null,null,"Z",null,"Years 14 - 17","Grade 10 - 12","Grade 9 - 12","Is capital punishment morally justified? Although the issue generates strong opinions, there are no easy answers when it comes to taking the life of a human being. Supporters of the death penalty believe it deters law-breaking and is the only punishment strong enough for horrific crimes such as child murder and genocide. Opponents argue that it violates human rights and point to its finality in the face of judicial system error and unfairness. This resource presents a fascinating progression of current viewpoints that reflect the many facets of the death penalty debate.","English",27.8,22.24,"364.660973--dc23","120 pp.",{"$f":"Table1[[#This Row],['# of Books]]*Table1[[#This Row],[QTY]]","v":0},{"$f":"Table1[[#This Row],[QTY]]*Table1[[#This Row],[School & Library Price]]","v":0}]
[null,16,8,null,"Current Issues","At Issue","The Ethics of WikiLeaks","978-1-5345-0205-5","Greenhaven Publishing","Library Bound Book",1,2018,"January 2018","Library","6.000 X 9.000","Edited by","Carrie Ann Taylor",null,null,null,null,"Z",null,"Years 14 - 17","Grade 10 - 12","Grade 9 - 12","What is WikiLeaks and how does it work? WikiLeaks aims to expose secrets and make available important, and often classified, information to the public. The organization's commitment to encouraging and protecting whistleblowers and journalists is seen by many to be a heroic fight for free speech and government transparency. But at what point does the First Amendment matter more than security and diplomacy? Is the organization's agenda really as pure as it purports? Through reading a variety of authoritative viewpoints on the topic, readers will be encouraged to make sense of this ethical dilemma.","English",39.4,31.52,"172--dc23","104 pp.",{"$f":"Table1[[#This Row],['# of Books]]*Table1[[#This Row],[QTY]]","v":0},{"$f":"Table1[[#This Row],[QTY]]*Table1[[#This Row],[School & Library Price]]","v":0}]
[null,16,8,null,"Current Issues","At Issue","The Ethics of WikiLeaks","978-1-5345-0200-0","Greenhaven Publishing","eBook",1,2018,"January 2018",null,null,"Edited by","Carrie Ann Taylor",null,null,null,null,"Z",null,"Years 14 - 17","Grade 10 - 12","Grade 9 - 12","What is WikiLeaks and how does it work? WikiLeaks aims to expose secrets and make available important, and often classified, information to the public. The organization's commitment to encouraging and protecting whistleblowers and journalists is seen by many to be a heroic fight for free speech and government transparency. But at what point does the First Amendment matter more than security and diplomacy? Is the organization's agenda really as pure as it purports? Through reading a variety of authoritative viewpoints on the topic, readers will be encouraged to make sense of this ethical dilemma.","English",39.4,31.52,"172--dc23","104 pp.",{"$f":"Table1[[#This Row],['# of Books]]*Table1[[#This Row],[QTY]]","v":0},{"$f":"Table1[[#This Row],[QTY]]*Table1[[#This Row],[School & Library Price]]","v":0}]
[null,16,8,null,"Current Issues","At Issue","The Ethics of WikiLeaks","978-1-5345-0211-6","Greenhaven Publishing","Paperback Book",1,2018,"January 2018","Paperback","6.000 X 9.000","Edited by","Carrie Ann Taylor",null,null,null,null,"Z",null,"Years 14 - 17","Grade 10 - 12","Grade 9 - 12","What is WikiLeaks and how does it work? WikiLeaks aims to expose secrets and make available important, and often classified, information to the public. The organization's commitment to encouraging and protecting whistleblowers and journalists is seen by many to be a heroic fight for free speech and government transparency. But at what point does the First Amendment matter more than security and diplomacy? Is the organization's agenda really as pure as it purports? Through reading a variety of authoritative viewpoints on the topic, readers will be encouraged to make sense of this ethical dilemma.","English",27.8,22.24,"172--dc23","104 pp.",{"$f":"Table1[[#This Row],['# of Books]]*Table1[[#This Row],[QTY]]","v":0},{"$f":"Table1[[#This Row],[QTY]]*Table1[[#This Row],[School & Library Price]]","v":0}]
[null,16,8,null,"Current Issues","At Issue (Aug '17 Set)","At Issue (Aug '17 Set)","978-1-5345-0145-4","Greenhaven Publishing","Library Set",6,2018,"August 2017","Library","6.000 X 9.000"," "," ",null,null,null,null,null,null,"Years 14 - 17","Grade 10 - 12","Grade 9 - 12","The At Issue series includes a wide range of opinions on a single controversial subject. Each volume includes primary and secondary sources from many perspectives and a variety of sources, including journals, newspapers, books, websites, government agencies, and others.","English",236.4,189.12,null,"144 pp.",{"$f":"Table1[[#This Row],['# of Books]]*Table1[[#This Row],[QTY]]","v":0},{"$f":"Table1[[#This Row],[QTY]]*Table1[[#This Row],[School & Library Price]]","v":0}]
[null,16,8,null,"Current Issues","At Issue (Aug '17 Set)","At Issue (Aug '17 Set)","978-1-5345-0146-1","Greenhaven Publishing","Single Copy Set",6,2018,"August 2017","Paperback","6.000 X 9.000"," "," ",null,null,null,null,null,null,"Years 14 - 17","Grade 10 - 12","Grade 9 - 12","The At Issue series includes a wide range of opinions on a single controversial subject. Each volume includes primary and secondary sources from many perspectives and a variety of sources, including journals, newspapers, books, websites, government agencies, and others.","English",166.8,133.44,null,"144 pp.",{"$f":"Table1[[#This Row],['# of Books]]*Table1[[#This Row],[QTY]]","v":0},{"$f":"Table1[[#This Row],[QTY]]*Table1[[#This Row],[School & Library Price]]","v":0}]
[null,16,8,null,"Current Issues","At Issue","Banned Books","978-1-5345-0075-4","Greenhaven Publishing","Library Bound Book",1,2018,"August 2017","Library","6.000 X 9.000","Edited by","Marcia Amidon Lusted",null,null,null,null,"Z",null,"Years 14 - 17","Grade 10 - 12","Grade 9 - 12","It may sound shocking, but even in this current age, books are banned all around the globe. But what makes a book inappropriate—even dangerous—for public consumption, and who has the power to deem it so? Some governments ban books as a form of censorship. Even schools can ban books they consider too racy or inappropriate for their students. Does banning books take away our liberties, attempt to erase history, and impose an agenda? Or is the practice actually in our best interests, depending on the circumstance? This balanced volume examines this surprisingly nuanced issue.","English",39.4,31.52,"363.31--dc23","88 pp.",{"$f":"Table1[[#This Row],['# of Books]]*Table1[[#This Row],[QTY]]","v":0},{"$f":"Table1[[#This Row],[QTY]]*Table1[[#This Row],[School & Library Price]]","v":0}]
[null,16,8,null,"Current Issues","At Issue","Banned Books","978-1-5345-0076-1","Greenhaven Publishing","eBook",1,2018,"August 2017",null,null,"Edited by","Marcia Amidon Lusted",null,null,null,null,"Z",null,"Years 14 - 17","Grade 10 - 12","Grade 9 - 12","It may sound shocking, but even in this current age, books are banned all around the globe. But what makes a book inappropriate—even dangerous—for public consumption, and who has the power to deem it so? Some governments ban books as a form of censorship. Even schools can ban books they consider too racy or inappropriate for their students. Does banning books take away our liberties, attempt to erase history, and impose an agenda? Or is the practice actually in our best interests, depending on the circumstance? This balanced volume examines this surprisingly nuanced issue.","English",39.4,31.52,"363.31--dc23","88 pp.",{"$f":"Table1[[#This Row],['# of Books]]*Table1[[#This Row],[QTY]]","v":0},{"$f":"Table1[[#This Row],[QTY]]*Table1[[#This Row],[School & Library Price]]","v":0}]
[null,16,8,null,"Current Issues","At Issue","Banned Books","978-1-5345-0071-6","Greenhaven Publishing","Paperback Book",1,2018,"August 2017","Paperback","6.000 X 9.000","Edited by","Marcia Amidon Lusted",null,null,null,null,"Z",null,"Years 14 - 17","Grade 10 - 12","Grade 9 - 12","It may sound shocking, but even in this current age, books are banned all around the globe. But what makes a book inappropriate—even dangerous—for public consumption, and who has the power to deem it so? Some governments ban books as a form of censorship. Even schools can ban books they consider too racy or inappropriate for their students. Does banning books take away our liberties, attempt to erase history, and impose an agenda? Or is the practice actually in our best interests, depending on the circumstance? This balanced volume examines this surprisingly nuanced issue.","English",27.8,22.24,"363.31--dc23","88 pp.",{"$f":"Table1[[#This Row],['# of Books]]*Table1[[#This Row],[QTY]]","v":0},{"$f":"Table1[[#This Row],[QTY]]*Table1[[#This Row],[School & Library Price]]","v":0}]
[null,16,8,null,"Current Issues","At Issue","Civil Disobedience","978-1-5345-0065-5","Greenhaven Publishing","Library Bound Book",1,2018,"August 2017","Library","6.000 X 9.000","Edited by","Elizabeth Schmermund",null,null,null,null,"Z",null,"Years 14 - 17","Grade 10 - 12","Grade 9 - 12","Civil disobedience, the refusal to obey certain laws, is a method of protest famously articulated by philosopher and writer Henry David Thoreau in his 1849 essay “Civil Disobedience.” Thoreau believed that protest became a moral obligation when laws collided with conscience. Since then, civil disobedience has been employed as a form of rebellion around the world. But is there a place for civil disobedience in democratic societies? When is civil disobedience justifiable? Is violence ever called for? Furthermore, how effective is civil disobedience?","English",39.4,31.52,"303.6'1--dc23","144 pp.",{"$f":"Table1[[#This Row],['# of Books]]*Table1[[#This Row],[QTY]]","v":0},{"$f":"Table1[[#This Row],[QTY]]*Table1[[#This Row],[School & Library Price]]","v":0}]
[null,16,8,null,"Current Issues","At Issue","Civil Disobedience","978-1-5345-0066-2","Greenhaven Publishing","eBook",1,2018,"August 2017",null,null,"Edited by","Elizabeth Schmermund",null,null,null,null,"Z",null,"Years 14 - 17","Grade 10 - 12","Grade 9 - 12","Civil disobedience, the refusal to obey certain laws, is a method of protest famously articulated by philosopher and writer Henry David Thoreau in his 1849 essay “Civil Disobedience.” Thoreau believed that protest became a moral obligation when laws collided with conscience. Since then, civil disobedience has been employed as a form of rebellion around the world. But is there a place for civil disobedience in democratic societies? When is civil disobedience justifiable? Is violence ever called for? Furthermore, how effective is civil disobedience?","English",39.4,31.52,"303.6'1--dc23","144 pp.",{"$f":"Table1[[#This Row],['# of Books]]*Table1[[#This Row],[QTY]]","v":0},{"$f":"Table1[[#This Row],[QTY]]*Table1[[#This Row],[School & Library Price]]","v":0}]
[null,16,8,null,"Current Issues","At Issue","Civil Disobedience","978-1-5345-0063-1","Greenhaven Publishing","Paperback Book",1,2018,"August 2017","Paperback","6.000 X 9.000","Edited by","Elizabeth Schmermund",null,null,null,null,"Z",null,"Years 14 - 17","Grade 10 - 12","Grade 9 - 12","Civil disobedience, the refusal to obey certain laws, is a method of protest famously articulated by philosopher and writer Henry David Thoreau in his 1849 essay “Civil Disobedience.” Thoreau believed that protest became a moral obligation when laws collided with conscience. Since then, civil disobedience has been employed as a form of rebellion around the world. But is there a place for civil disobedience in democratic societies? When is civil disobedience justifiable? Is violence ever called for? Furthermore, how effective is civil disobedience?","English",27.8,22.24,"303.6'1--dc23","144 pp.",{"$f":"Table1[[#This Row],['# of Books]]*Table1[[#This Row],[QTY]]","v":0},{"$f":"Table1[[#This Row],[QTY]]*Table1[[#This Row],[School & Library Price]]","v":0}]
[null,16,8,null,"Current Issues","At Issue","Guns: Conceal and Carry","978-1-5345-0062-4","Greenhaven Publishing","Library Bound Book",1,2018,"August 2017","Library","6.000 X 9.000","Edited by","Anne C. Cunningham",null,null,null,null,"Z",null,"Years 14 - 17","Grade 10 - 12","Grade 9 - 12","Nowhere is the gun control debate more heated than in the United States. Gun control advocates argue for tighter restrictions on purchasing and licensing in the hopes of reducing incidents of shootings. Gun owners fear that their guns will be taken away, eliminating their ability to protect their families. Carrying a concealed handgun is legal in every state, and polls shows that the majority of Americans support conceal and carry. The viewpoints in this volume attempt to answer tough questions, such as “Do concealed handguns deter or increase crime?” and “Do the protections stipulated in the Second Amendment cover today’s gun owners?”","English",39.4,31.52,"344.7305'33--dc23","200 pp.",{"$f":"Table1[[#This Row],['# of Books]]*Table1[[#This Row],[QTY]]","v":0},{"$f":"Table1[[#This Row],[QTY]]*Table1[[#This Row],[School & Library Price]]","v":0}]
[null,16,8,null,"Current Issues","At Issue","Guns: Conceal and Carry","978-1-5345-0073-0","Greenhaven Publishing","eBook",1,2018,"August 2017",null,null,"Edited by","Anne C. Cunningham",null,null,null,null,"Z",null,"Years 14 - 17","Grade 10 - 12","Grade 9 - 12","Nowhere is the gun control debate more heated than in the United States. Gun control advocates argue for tighter restrictions on purchasing and licensing in the hopes of reducing incidents of shootings. Gun owners fear that their guns will be taken away, eliminating their ability to protect their families. Carrying a concealed handgun is legal in every state, and polls shows that the majority of Americans support conceal and carry. The viewpoints in this volume attempt to answer tough questions, such as “Do concealed handguns deter or increase crime?” and “Do the protections stipulated in the Second Amendment cover today’s gun owners?”","English",39.4,31.52,"344.7305'33--dc23","200 pp.",{"$f":"Table1[[#This Row],['# of Books]]*Table1[[#This Row],[QTY]]","v":0},{"$f":"Table1[[#This Row],[QTY]]*Table1[[#This Row],[School & Library Price]]","v":0}]
[null,16,8,null,"Current Issues","At Issue","Guns: Conceal and Carry","978-1-5345-0060-0","Greenhaven Publishing","Paperback Book",1,2018,"August 2017","Paperback","6.000 X 9.000","Edited by","Anne C. Cunningham",null,null,null,null,"Z",null,"Years 14 - 17","Grade 10 - 12","Grade 9 - 12","Nowhere is the gun control debate more heated than in the United States. Gun control advocates argue for tighter restrictions on purchasing and licensing in the hopes of reducing incidents of shootings. Gun owners fear that their guns will be taken away, eliminating their ability to protect their families. Carrying a concealed handgun is legal in every state, and polls shows that the majority of Americans support conceal and carry. The viewpoints in this volume attempt to answer tough questions, such as “Do concealed handguns deter or increase crime?” and “Do the protections stipulated in the Second Amendment cover today’s gun owners?”","English",27.8,22.24,"344.7305'33--dc23","200 pp.",{"$f":"Table1[[#This Row],['# of Books]]*Table1[[#This Row],[QTY]]","v":0},{"$f":"Table1[[#This Row],[QTY]]*Table1[[#This Row],[School & Library Price]]","v":0}]
[null,16,8,null,"Current Issues","At Issue","The Right to a Living Wage","978-1-5345-0082-2","Greenhaven Publishing","Library Bound Book",1,2018,"August 2017","Library","6.000 X 9.000","Edited by","Matt Uhler",null,null,null,null,"Z",null,"Years 14 - 17","Grade 10 - 12","Grade 9 - 12","With the disappearance of well-paying jobs and the increasing cost of living, it’s becoming more and more difficult to stay afloat in the United States. Workers who earn the minimum wage often can’t afford the most basic needs. In response, more than 100 U.S. cities have issued living wage ordinances, requiring payments that allow workers to afford food, clothing, shelter, utilities, and healthcare. It may seem obvious that everyone wins with a living wage. But does paying out a living wage help or harm the economy? Should corporations be forced to pay them? What is society’s responsibility to its workers?","English",39.4,31.52,"331.2/3--dc23","200 pp.",{"$f":"Table1[[#This Row],['# of Books]]*Table1[[#This Row],[QTY]]","v":0},{"$f":"Table1[[#This Row],[QTY]]*Table1[[#This Row],[School & Library Price]]","v":0}]
[null,16,8,null,"Current Issues","At Issue","The Right to a Living Wage","978-1-5345-0083-9","Greenhaven Publishing","eBook",1,2018,"August 2017",null,null,"Edited by","Matt Uhler",null,null,null,null,"Z",null,"Years 14 - 17","Grade 10 - 12","Grade 9 - 12","With the disappearance of well-paying jobs and the increasing cost of living, it’s becoming more and more difficult to stay afloat in the United States. Workers who earn the minimum wage often can’t afford the most basic needs. In response, more than 100 U.S. cities have issued living wage ordinances, requiring payments that allow workers to afford food, clothing, shelter, utilities, and healthcare. It may seem obvious that everyone wins with a living wage. But does paying out a living wage help or harm the economy? Should corporations be forced to pay them? What is society’s responsibility to its workers?","English",39.4,31.52,"331.2/3--dc23","200 pp.",{"$f":"Table1[[#This Row],['# of Books]]*Table1[[#This Row],[QTY]]","v":0},{"$f":"Table1[[#This Row],[QTY]]*Table1[[#This Row],[School & Library Price]]","v":0}]
[null,16,8,null,"Current Issues","At Issue","The Right to a Living Wage","978-1-5345-0080-8","Greenhaven Publishing","Paperback Book",1,2018,"August 2017","Paperback","6.000 X 9.000","Edited by","Matt Uhler",null,null,null,null,"Z",null,"Years 14 - 17","Grade 10 - 12","Grade 9 - 12","With the disappearance of well-paying jobs and the increasing cost of living, it’s becoming more and more difficult to stay afloat in the United States. Workers who earn the minimum wage often can’t afford the most basic needs. In response, more than 100 U.S. cities have issued living wage ordinances, requiring payments that allow workers to afford food, clothing, shelter, utilities, and healthcare. It may seem obvious that everyone wins with a living wage. But does paying out a living wage help or harm the economy? Should corporations be forced to pay them? What is society’s responsibility to its workers?","English",27.8,22.24,"331.2/3--dc23","200 pp.",{"$f":"Table1[[#This Row],['# of Books]]*Table1[[#This Row],[QTY]]","v":0},{"$f":"Table1[[#This Row],[QTY]]*Table1[[#This Row],[School & Library Price]]","v":0}]
[null,16,8,null,"Current Issues","At Issue","Trial by Internet","978-1-5345-0069-3","Greenhaven Publishing","Library Bound Book",1,2018,"August 2017","Library","6.000 X 9.000","Edited by","Avery Elizabeth Hurt",null,null,null,null,"Z",null,"Years 14 - 17","Grade 10 - 12","Grade 9 - 12","The relative anonymity the Internet provides allows us to assert our knowledge like a professor, show off our seemingly perfect lives, and judge like we’re presiding over a court of law. The problem with this relatively new phenomenon is that we often make snap judgments about other people’s actions or statements without knowing all of the facts, and without giving others the benefit of the doubt. This volume dives deep into the realities of the Internet age: Do we become different people when we’re on the Internet? What responsibility do we have in our treatment of others in this new society? Is it our place to be virtual judge and jury?","English",39.4,31.52,"364.2/54--dc23","136 pp.",{"$f":"Table1[[#This Row],['# of Books]]*Table1[[#This Row],[QTY]]","v":0},{"$f":"Table1[[#This Row],[QTY]]*Table1[[#This Row],[School & Library Price]]","v":0}]
[null,16,8,null,"Current Issues","At Issue","Trial by Internet","978-1-5345-0070-9","Greenhaven Publishing","eBook",1,2018,"August 2017",null,null,"Edited by","Avery Elizabeth Hurt",null,null,null,null,"Z",null,"Years 14 - 17","Grade 10 - 12","Grade 9 - 12","The relative anonymity the Internet provides allows us to assert our knowledge like a professor, show off our seemingly perfect lives, and judge like we’re presiding over a court of law. The problem with this relatively new phenomenon is that we often make snap judgments about other people’s actions or statements without knowing all of the facts, and without giving others the benefit of the doubt. This volume dives deep into the realities of the Internet age: Do we become different people when we’re on the Internet? What responsibility do we have in our treatment of others in this new society? Is it our place to be virtual judge and jury?","English",39.4,31.52,"364.2/54--dc23","136 pp.",{"$f":"Table1[[#This Row],['# of Books]]*Table1[[#This Row],[QTY]]","v":0},{"$f":"Table1[[#This Row],[QTY]]*Table1[[#This Row],[School & Library Price]]","v":0}]
[null,16,8,null,"Current Issues","At Issue","Trial by Internet","978-1-5345-0067-9","Greenhaven Publishing","Paperback Book",1,2018,"August 2017","Paperback","6.000 X 9.000","Edited by","Avery Elizabeth Hurt",null,null,null,null,"Z",null,"Years 14 - 17","Grade 10 - 12","Grade 9 - 12","The relative anonymity the Internet provides allows us to assert our knowledge like a professor, show off our seemingly perfect lives, and judge like we’re presiding over a court of law. The problem with this relatively new phenomenon is that we often make snap judgments about other people’s actions or statements without knowing all of the facts, and without giving others the benefit of the doubt. This volume dives deep into the realities of the Internet age: Do we become different people when we’re on the Internet? What responsibility do we have in our treatment of others in this new society? Is it our place to be virtual judge and jury?","English",27.8,22.24,"364.2/54--dc23","136 pp.",{"$f":"Table1[[#This Row],['# of Books]]*Table1[[#This Row],[QTY]]","v":0},{"$f":"Table1[[#This Row],[QTY]]*Table1[[#This Row],[School & Library Price]]","v":0}]
[null,16,8,null,"Current Issues","At Issue","When Is Free Speech Hate Speech?","978-1-5345-0077-8","Greenhaven Publishing","Library Bound Book",1,2018,"August 2017","Library","6.000 X 9.000","Edited by","Martin Gitlin",null,null,null,null,"Z",null,"Years 14 - 17","Grade 10 - 12","Grade 9 - 12","Free speech is guaranteed under the First Amendment. Although it may hurt and offend, hate speech is still free, under most circumstances. But what happens when institutions like universities adopt policies prohibiting offensive speech? Do such policies cause more harm than good? Should measures be taken to curb threatening or insulting comments? Or does that amount to little more than censorship? Is our quest to be polite and politically correct curtailing opportunities to express, learn, and grow? When does free speech become criminally threatening? These questions and more are thoughtfully examined in this important resource.","English",39.4,31.52,"323.44/30973--dc23","160 pp.",{"$f":"Table1[[#This Row],['# of Books]]*Table1[[#This Row],[QTY]]","v":0},{"$f":"Table1[[#This Row],[QTY]]*Table1[[#This Row],[School & Library Price]]","v":0}]
[null,16,8,null,"Current Issues","At Issue","When Is Free Speech Hate Speech?","978-1-5345-0079-2","Greenhaven Publishing","eBook",1,2018,"August 2017",null,null,"Edited by","Martin Gitlin",null,null,null,null,"Z",null,"Years 14 - 17","Grade 10 - 12","Grade 9 - 12","Free speech is guaranteed under the First Amendment. Although it may hurt and offend, hate speech is still free, under most circumstances. But what happens when institutions like universities adopt policies prohibiting offensive speech? Do such policies cause more harm than good? Should measures be taken to curb threatening or insulting comments? Or does that amount to little more than censorship? Is our quest to be polite and politically correct curtailing opportunities to express, learn, and grow? When does free speech become criminally threatening? These questions and more are thoughtfully examined in this important resource.","English",39.4,31.52,"323.44/30973--dc23","160 pp.",{"$f":"Table1[[#This Row],['# of Books]]*Table1[[#This Row],[QTY]]","v":0},{"$f":"Table1[[#This Row],[QTY]]*Table1[[#This Row],[School & Library Price]]","v":0}]
[null,16,8,null,"Current Issues","At Issue","When Is Free Speech Hate Speech?","978-1-5345-0078-5","Greenhaven Publishing","Paperback Book",1,2018,"August 2017","Paperback","6.000 X 9.000","Edited by","Martin Gitlin",null,null,null,null,"Z",null,"Years 14 - 17","Grade 10 - 12","Grade 9 - 12","Free speech is guaranteed under the First Amendment. Although it may hurt and offend, hate speech is still free, under most circumstances. But what happens when institutions like universities adopt policies prohibiting offensive speech? Do such policies cause more harm than good? Should measures be taken to curb threatening or insulting comments? Or does that amount to little more than censorship? Is our quest to be polite and politically correct curtailing opportunities to express, learn, and grow? When does free speech become criminally threatening? These questions and more are thoughtfully examined in this important resource.","English",27.8,22.24,"323.44/30973--dc23","160 pp.",{"$f":"Table1[[#This Row],['# of Books]]*Table1[[#This Row],[QTY]]","v":0},{"$f":"Table1[[#This Row],[QTY]]*Table1[[#This Row],[School & Library Price]]","v":0}]
[null,16,9,null,"Current Issues","At Issue (Jan '17 Set)","At Issue (Jan '17 Set)","978-1-5345-0000-6","Greenhaven Publishing","Library Set",4,2017,"January2017","Library Bound","6.000 X 9.000"," "," ",null,null,null,null,null,null,"Years 14 - 17",null,"Grade 9 - 12","The At Issue series includes a wide range of opinions on a single controversial subject. Each volume includes primary and secondary sources from many perspectives and a variety of sources, including journals, newspapers, books, websites, government agencies, and others. Useful resource information includes an annotated list of organizations to contact, bibliography, and subject index.","English",157.6,126.08,null,"128 pp.",{"$f":"Table1[[#This Row],['# of Books]]*Table1[[#This Row],[QTY]]","v":0},{"$f":"Table1[[#This Row],[QTY]]*Table1[[#This Row],[School & Library Price]]","v":0}]
[null,16,9,null,"Current Issues","At Issue (Jan '17 Set)","At Issue (Jan '17 Set)","978-1-5345-0001-3","Greenhaven Publishing","Single Copy Set",4,2017,"January2017","Paperback","6.000 X 9.000"," "," ",null,null,null,null,null,null,"Years 14 - 17",null,"Grade 9 - 12","The At Issue series includes a wide range of opinions on a single controversial subject. Each volume includes primary and secondary sources from many perspectives and a variety of sources, including journals, newspapers, books, websites, government agencies, and others. Useful resource information includes an annotated list of organizations to contact, bibliography, and subject index.","English",111.2,88.96,null,"128 pp.",{"$f":"Table1[[#This Row],['# of Books]]*Table1[[#This Row],[QTY]]","v":0},{"$f":"Table1[[#This Row],[QTY]]*Table1[[#This Row],[School & Library Price]]","v":0}]
[null,16,9,null,"Current Issues","At Issue","Campus Sexual Violence","978-1-5345-0018-1","Greenhaven Publishing","Library Bound Book",1,2017,"January2017","Library Bound","6.000 X 9.000","Editor","Elizabeth Schmermund",null,null,null,null,"Z",null,"Years 14 - 17",null,"Grade 9 - 12","Sexual assault on the campuses of universities and private schools appears to be on the rise. Alcohol and fraternities are easy targets, but the issue is much more complicated. Despite attempts made by administrators to define consent clearly, it can be a legal gray area. Students condemned by a school’s excessively broad definition of sexual assault can be branded rapists long after graduation. Victims must face their attackers on campus because administrators prefer to keep incidents out of the hands of law enforcement. Through balanced viewpoints, this powerful anthology addresses the complexities of an issue that has important social repercussions.","English",39.4,31.52,null,"128 pp.",{"$f":"Table1[[#This Row],['# of Books]]*Table1[[#This Row],[QTY]]","v":0},{"$f":"Table1[[#This Row],[QTY]]*Table1[[#This Row],[School & Library Price]]","v":0}]
[null,16,9,null,"Current Issues","At Issue","Campus Sexual Violence","978-1-5345-0010-5","Greenhaven Publishing","eBook",1,2017,"January2017","eBook",null,"Edited by","Elizabeth Schmermund",null,null,null,null,"Z",null,"Years 14 - 17",null,"Grade 9 - 12","Sexual assault on the campuses of universities and private schools appears to be on the rise. Alcohol and fraternities are easy targets, but the issue is much more complicated. Despite attempts made by administrators to define consent clearly, it can be a legal gray area. Students condemned by a school’s excessively broad definition of sexual assault can be branded rapists long after graduation. Victims must face their attackers on campus because administrators prefer to keep incidents out of the hands of law enforcement. Through balanced viewpoints, this powerful anthology addresses the complexities of an issue that has important social repercussions.","English",39.4,31.52,null,"128 pp.",{"$f":"Table1[[#This Row],['# of Books]]*Table1[[#This Row],[QTY]]","v":0},{"$f":"Table1[[#This Row],[QTY]]*Table1[[#This Row],[School & Library Price]]","v":0}]
[null,16,9,null,"Current Issues","At Issue","Campus Sexual Violence","978-1-5345-0037-2","Greenhaven Publishing","Paperback Book",1,2017,"January2017","Paperback","6.000 X 9.000","Editor","Elizabeth Schmermund",null,null,null,null,"Z",null,"Years 14 - 17",null,"Grade 9 - 12","Sexual assault on the campuses of universities and private schools appears to be on the rise. Alcohol and fraternities are easy targets, but the issue is much more complicated. Despite attempts made by administrators to define consent clearly, it can be a legal gray area. Students condemned by a school’s excessively broad definition of sexual assault can be branded rapists long after graduation. Victims must face their attackers on campus because administrators prefer to keep incidents out of the hands of law enforcement. Through balanced viewpoints, this powerful anthology addresses the complexities of an issue that has important social repercussions.","English",27.8,22.24,null,"128 pp.",{"$f":"Table1[[#This Row],['# of Books]]*Table1[[#This Row],[QTY]]","v":0},{"$f":"Table1[[#This Row],[QTY]]*Table1[[#This Row],[School & Library Price]]","v":0}]
[null,16,9,null,"Current Issues","At Issue","Domestic Terrorism","978-1-5345-0015-0","Greenhaven Publishing","Library Bound Book",1,2017,"January2017","Library Bound","6.000 X 9.000","Editor","Elizabeth Schmermund",null,null,null,null,"Z",null,"Years 14 - 17",null,"Grade 9 - 12","What constitutes domestic terrorism? The answer is actually more complicated than most of us would think. Readers of this informative anthology will progress through a range of articles offering diverse viewpoints about the Patriot Act, the differences in perception of white Christian violent extremists and those of other races and religions, why some environmental and animal activists are considered terrorists, the growing problem of “paper terrorism,” and what can lead homegrown terrorists to lash out against a country that has given them so much opportunity.","English",39.4,31.52,null,"128 pp.",{"$f":"Table1[[#This Row],['# of Books]]*Table1[[#This Row],[QTY]]","v":0},{"$f":"Table1[[#This Row],[QTY]]*Table1[[#This Row],[School & Library Price]]","v":0}]
[null,16,9,null,"Current Issues","At Issue","Domestic Terrorism","978-1-5345-0011-2","Greenhaven Publishing","eBook",1,2017,"January2017","eBook",null,"Edited by","Elizabeth Schmermund",null,null,null,null,"Z",null,"Years 14 - 17",null,"Grade 9 - 12","What constitutes domestic terrorism? The answer is actually more complicated than most of us would think. Readers of this informative anthology will progress through a range of articles offering diverse viewpoints about the Patriot Act, the differences in perception of white Christian violent extremists and those of other races and religions, why some environmental and animal activists are considered terrorists, the growing problem of “paper terrorism,” and what can lead homegrown terrorists to lash out against a country that has given them so much opportunity.","English",39.4,31.52,null,"128 pp.",{"$f":"Table1[[#This Row],['# of Books]]*Table1[[#This Row],[QTY]]","v":0},{"$f":"Table1[[#This Row],[QTY]]*Table1[[#This Row],[School & Library Price]]","v":0}]
[null,16,9,null,"Current Issues","At Issue","Domestic Terrorism","978-1-5345-0039-6","Greenhaven Publishing","Paperback Book",1,2017,"January2017","Paperback","6.000 X 9.000","Editor","Elizabeth Schmermund",null,null,null,null,"Z",null,"Years 14 - 17",null,"Grade 9 - 12","What constitutes domestic terrorism? The answer is actually more complicated than most of us would think. Readers of this informative anthology will progress through a range of articles offering diverse viewpoints about the Patriot Act, the differences in perception of white Christian violent extremists and those of other races and religions, why some environmental and animal activists are considered terrorists, the growing problem of “paper terrorism,” and what can lead homegrown terrorists to lash out against a country that has given them so much opportunity.","English",27.8,22.24,null,"128 pp.",{"$f":"Table1[[#This Row],['# of Books]]*Table1[[#This Row],[QTY]]","v":0},{"$f":"Table1[[#This Row],[QTY]]*Table1[[#This Row],[School & Library Price]]","v":0}]
[null,16,9,null,"Current Issues","At Issue","Environmental Racism and Classism","978-1-5345-0016-7","Greenhaven Publishing","Library Bound Book",1,2017,"January2017","Library Bound","6.000 X 9.000","Editor","Anne Cunningham",null,null,null,null,"Z",null,"Years 14 - 17",null,"Grade 9 - 12","Flint’s water supply tainted with lead. Chicago’s toxic “donut.” Louisiana’s “cancer alley.” Corporate waste poisoning developing nations. These are all examples of environmental racism. Readers of this compelling anthology will be awakened to many examples of poor and minority communities that suffer physically, emotionally, and financially from living in a toxic environment. With no political clout and few available resources, these victims find themselves abandoned by the environmental movement and bullied by environmental policies. The burgeoning environmental justice movement argues that environmental protection is a basic right. After reading the informative viewpoints in this volume, students will come to their own conclusions.","English",39.4,31.52,null,"128 pp.",{"$f":"Table1[[#This Row],['# of Books]]*Table1[[#This Row],[QTY]]","v":0},{"$f":"Table1[[#This Row],[QTY]]*Table1[[#This Row],[School & Library Price]]","v":0}]
[null,16,9,null,"Current Issues","At Issue","Environmental Racism and Classism","978-1-5345-0012-9","Greenhaven Publishing","eBook",1,2017,"January2017","eBook",null,"Edited by","Anne Cunningham",null,null,null,null,"Z",null,"Years 14 - 17",null,"Grade 9 - 12","Flint’s water supply tainted with lead. Chicago’s toxic “donut.” Louisiana’s “cancer alley.” Corporate waste poisoning developing nations. These are all examples of environmental racism. Readers of this compelling anthology will be awakened to many examples of poor and minority communities that suffer physically, emotionally, and financially from living in a toxic environment. With no political clout and few available resources, these victims find themselves abandoned by the environmental movement and bullied by environmental policies. The burgeoning environmental justice movement argues that environmental protection is a basic right. After reading the informative viewpoints in this volume, students will come to their own conclusions.","English",39.4,31.52,null,"128 pp.",{"$f":"Table1[[#This Row],['# of Books]]*Table1[[#This Row],[QTY]]","v":0},{"$f":"Table1[[#This Row],[QTY]]*Table1[[#This Row],[School & Library Price]]","v":0}]
[null,16,9,null,"Current Issues","At Issue","Environmental Racism and Classism","978-1-5345-0040-2","Greenhaven Publishing","Paperback Book",1,2017,"January2017","Paperback","6.000 X 9.000","Editor","Anne Cunningham",null,null,null,null,"Z",null,"Years 14 - 17",null,"Grade 9 - 12","Flint’s water supply tainted with lead. Chicago’s toxic “donut.” Louisiana’s “cancer alley.” Corporate waste poisoning developing nations. These are all examples of environmental racism. Readers of this compelling anthology will be awakened to many examples of poor and minority communities that suffer physically, emotionally, and financially from living in a toxic environment. With no political clout and few available resources, these victims find themselves abandoned by the environmental movement and bullied by environmental policies. The burgeoning environmental justice movement argues that environmental protection is a basic right. After reading the informative viewpoints in this volume, students will come to their own conclusions.","English",27.8,22.24,null,"128 pp.",{"$f":"Table1[[#This Row],['# of Books]]*Table1[[#This Row],[QTY]]","v":0},{"$f":"Table1[[#This Row],[QTY]]*Table1[[#This Row],[School & Library Price]]","v":0}]
[null,16,9,null,"Current Issues","At Issue","Gender Politics","978-1-5345-0014-3","Greenhaven Publishing","Library Bound Book",1,2017,"January2017","Library Bound","6.000 X 9.000","Editor","Susan Henneberg",null,null,null,null,"Z",null,"Years 14 - 17",null,"Grade 9 - 12","It is somewhat astounding that a gender gap continues to exist today in the United States and worldwide. Girls and women face educational roadblocks, economic disparity, threats to their health and safety, and biased laws. How can such treatment of the world’s mothers, sisters, wives, and daughters be permitted? This enlightening anthology presents a range of diverse viewpoints about the gender divide between men and women. Readers will learn the effects that culture and gender constructs have on this gap, and why it is an issue that concerns both women and men.","English",39.4,31.52,null,"128 pp.",{"$f":"Table1[[#This Row],['# of Books]]*Table1[[#This Row],[QTY]]","v":0},{"$f":"Table1[[#This Row],[QTY]]*Table1[[#This Row],[School & Library Price]]","v":0}]
[null,16,9,null,"Current Issues","At Issue","Gender Politics","978-1-5345-0013-6","Greenhaven Publishing","eBook",1,2017,"January2017","eBook",null,"Edited by","Susan Henneberg",null,null,null,null,"Z",null,"Years 14 - 17",null,"Grade 9 - 12","It is somewhat astounding that a gender gap continues to exist today in the United States and worldwide. Girls and women face educational roadblocks, economic disparity, threats to their health and safety, and biased laws. How can such treatment of the world’s mothers, sisters, wives, and daughters be permitted? This enlightening anthology presents a range of diverse viewpoints about the gender divide between men and women. Readers will learn the effects that culture and gender constructs have on this gap, and why it is an issue that concerns both women and men.","English",39.4,31.52,null,"128 pp.",{"$f":"Table1[[#This Row],['# of Books]]*Table1[[#This Row],[QTY]]","v":0},{"$f":"Table1[[#This Row],[QTY]]*Table1[[#This Row],[School & Library Price]]","v":0}]
[null,16,9,null,"Current Issues","At Issue","Gender Politics","978-1-5345-0041-9","Greenhaven Publishing","Paperback Book",1,2017,"January2017","Paperback","6.000 X 9.000","Editor","Susan Henneberg",null,null,null,null,"Z",null,"Years 14 - 17",null,"Grade 9 - 12","It is somewhat astounding that a gender gap continues to exist today in the United States and worldwide. Girls and women face educational roadblocks, economic disparity, threats to their health and safety, and biased laws. How can such treatment of the world’s mothers, sisters, wives, and daughters be permitted? This enlightening anthology presents a range of diverse viewpoints about the gender divide between men and women. Readers will learn the effects that culture and gender constructs have on this gap, and why it is an issue that concerns both women and men.","English",27.8,22.24,null,"128 pp.",{"$f":"Table1[[#This Row],['# of Books]]*Table1[[#This Row],[QTY]]","v":0},{"$f":"Table1[[#This Row],[QTY]]*Table1[[#This Row],[School & Library Price]]","v":0}]
[null,23,9,null,"Current Issues","At Issue","The Affordable Care Act","978-0-7377-7149-7","Greenhaven Publishing","Library Bound Book",1,2015,null,"Library Bound","6.000 X 9.000","Author","Tamara Thompson",null,null,null,null,null,null,"Years 15 - 17",null,"Grade 10 - 12","Explores the pros and cons of the Affordable Care Act, who benefits from the ACA, how the economy is affected by the ACA, and the impact of the ACA rollout.","English",39.4,31.52,"344","128 pp.",{"$f":"Table1[[#This Row],['# of Books]]*Table1[[#This Row],[QTY]]","v":0},{"$f":"Table1[[#This Row],[QTY]]*Table1[[#This Row],[School & Library Price]]","v":0}]
[null,23,9,null,"Current Issues","At Issue","The Affordable Care Act","978-0-7377-7150-3","Greenhaven Publishing","Paperback Book",1,2015,null,"Paperback","6.000 X 9.000","Author","Tamara Thompson",null,null,null,null,null,null,"Years 15 - 17",null,"Grade 10 - 12","Explores the pros and cons of the Affordable Care Act, who benefits from the ACA, how the economy is affected by the ACA, and the impact of the ACA rollout.","English",27.8,22.240000000000002,"344","128 pp.",{"$f":"Table1[[#This Row],['# of Books]]*Table1[[#This Row],[QTY]]","v":0},{"$f":"Table1[[#This Row],[QTY]]*Table1[[#This Row],[School & Library Price]]","v":0}]
[null,23,9,null,"Current Issues","At Issue","The Affordable Care Act","978-0-7377-7619-5","Greenhaven Publishing","eBook",1,2015,null,"eBook",null,"Author","Tamara Thompson",null,null,null,null,null,null,"Years 15 - 17",null,"Grade 10 - 12",null,"English",39.4,39.4,"346.73","128 pp.",{"$f":"Table1[[#This Row],['# of Books]]*Table1[[#This Row],[QTY]]","v":0},{"$f":"Table1[[#This Row],[QTY]]*Table1[[#This Row],[School & Library Price]]","v":0}]
[null,17,9,null,"Current Issues","At Issue","Are Social Networking Sites Harmful?","978-0-7377-7151-0","Greenhaven Publishing","Library Bound Book",1,2015,null,"Library Bound","6.000 X 9.000","Author","Noah Berlatsky",null,null,null,null,null,null,"Years 15 - 17",null,"Grade 10 - 12","Explores the pros and cons of social networking sites, the link between social media and privacy, social media and political reform, and social media-related disorders/addictions.","English",39.4,31.52,"302","96 pp.",{"$f":"Table1[[#This Row],['# of Books]]*Table1[[#This Row],[QTY]]","v":0},{"$f":"Table1[[#This Row],[QTY]]*Table1[[#This Row],[School & Library Price]]","v":0}]
[null,17,9,null,"Current Issues","At Issue","Are Social Networking Sites Harmful?","978-0-7377-7152-7","Greenhaven Publishing","Paperback Book",1,2015,null,"Paperback","6.000 X 9.000","Author","Noah Berlatsky",null,null,null,null,null,null,"Years 15 - 17",null,"Grade 10 - 12","Explores the pros and cons of social networking sites, the link between social media and privacy, social media and political reform, and social media-related disorders/addictions.","English",27.8,22.240000000000002,"302","94 pp.",{"$f":"Table1[[#This Row],['# of Books]]*Table1[[#This Row],[QTY]]","v":0},{"$f":"Table1[[#This Row],[QTY]]*Table1[[#This Row],[School & Library Price]]","v":0}]
[null,17,9,null,"Current Issues","At Issue","Are Social Networking Sites Harmful?","978-0-7377-7623-2","Greenhaven Publishing","eBook",1,2015,null,"eBook",null,"Author","Noah Berlatsky",null,null,null,null,null,null,"Years 15 - 17",null,"Grade 10 - 12",null,"English",39.4,39.4,"302.30285","96 pp.",{"$f":"Table1[[#This Row],['# of Books]]*Table1[[#This Row],[QTY]]","v":0},{"$f":"Table1[[#This Row],[QTY]]*Table1[[#This Row],[School & Library Price]]","v":0}]
[null,17,9,null,"Current Issues","At Issue","Biological and Chemical Weapons","978-0-7377-7153-4","Greenhaven Publishing","Library Bound Book",1,2015,null,"Library Bound","6.000 X 9.000","Author","Amy Francis",null,null,null,null,null,null,"Years 15 - 17",null,"Grade 10 - 12","AT ISSUE: BIOLOGICAL AND CHEMICAL WEAPONS explores the threat of biological and chemical weapons to the United States and elsewhere. It examines funding, and legal intervention. ","English",39.4,31.52,"358","120 pp.",{"$f":"Table1[[#This Row],['# of Books]]*Table1[[#This Row],[QTY]]","v":0},{"$f":"Table1[[#This Row],[QTY]]*Table1[[#This Row],[School & Library Price]]","v":0}]
[null,17,9,null,"Current Issues","At Issue","Biological and Chemical Weapons","978-0-7377-7154-1","Greenhaven Publishing","Paperback Book",1,2015,null,"Paperback","6.000 X 9.000","Author","Amy Francis",null,null,null,null,null,null,"Years 15 - 17",null,"Grade 10 - 12","AT ISSUE: BIOLOGICAL AND CHEMICAL WEAPONS explores the threat of biological and chemical weapons to the United States and elsewhere. It examines funding, and legal intervention. ","English",27.8,22.240000000000002,"358","120 pp.",{"$f":"Table1[[#This Row],['# of Books]]*Table1[[#This Row],[QTY]]","v":0},{"$f":"Table1[[#This Row],[QTY]]*Table1[[#This Row],[School & Library Price]]","v":0}]
[null,17,9,null,"Current Issues","At Issue","Bitcoin","978-0-7377-7314-9","Greenhaven Publishing","Library Bound Book",1,2015,null,"Library Bound","6.000 X 9.000","Author","Noah Berlatsky",null,null,null,null,null,null,"Years 15 - 17",null,"Grade 10 - 12","AT ISSUE: BITCOIN gives an explanation of what bitcoin is, and how it is the future of crypto-currency. This title explores how bitcoin compares with real currency. It examines the role of money laundering and crime using bitcoin.","English",39.4,31.52,"332","96 pp.",{"$f":"Table1[[#This Row],['# of Books]]*Table1[[#This Row],[QTY]]","v":0},{"$f":"Table1[[#This Row],[QTY]]*Table1[[#This Row],[School & Library Price]]","v":0}]
[null,17,9,null,"Current Issues","At Issue","Bitcoin","978-0-7377-7315-6","Greenhaven Publishing","Paperback Book",1,2015,null,"Paperback","6.000 X 9.000","Author","Noah Berlatsky",null,null,null,null,null,null,"Years 15 - 17",null,"Grade 10 - 12","AT ISSUE: BITCOIN gives an explanation of what bitcoin is, and how it is the future of crypto-currency. This title explores how bitcoin compares with real currency. It examines the role of money laundering and crime using bitcoin.","English",27.8,22.240000000000002,"332","89 pp.",{"$f":"Table1[[#This Row],['# of Books]]*Table1[[#This Row],[QTY]]","v":0},{"$f":"Table1[[#This Row],[QTY]]*Table1[[#This Row],[School & Library Price]]","v":0}]
[null,18,9,null,"Current Issues","At Issue","Cell Phones and Driving","978-0-7377-7155-8","Greenhaven Publishing","Library Bound Book",1,2015,null,"Library Bound","6.000 X 9.000","Author","Roman Espejo",null,null,null,null,null,null,"Years 15 - 17",null,"Grade 10 - 12","Explores cell phones and other driving distractions; policies/laws related to cell phone use while driving; new cell phone technology and driver distraction; and the impact of hands-free technology on driver safety.","English",39.4,31.52,"363","88 pp.",{"$f":"Table1[[#This Row],['# of Books]]*Table1[[#This Row],[QTY]]","v":0},{"$f":"Table1[[#This Row],[QTY]]*Table1[[#This Row],[School & Library Price]]","v":0}]
[null,18,9,null,"Current Issues","At Issue","Cell Phones and Driving","978-0-7377-7156-5","Greenhaven Publishing","Paperback Book",1,2015,null,"Paperback","6.000 X 9.000","Author","Roman Espejo",null,null,null,null,null,null,"Years 15 - 17",null,"Grade 10 - 12","Explores cell phones and other driving distractions; policies/laws related to cell phone use while driving; new cell phone technology and driver distraction; and the impact of hands-free technology on driver safety.","English",27.8,22.240000000000002,"363","81 pp.",{"$f":"Table1[[#This Row],['# of Books]]*Table1[[#This Row],[QTY]]","v":0},{"$f":"Table1[[#This Row],[QTY]]*Table1[[#This Row],[School & Library Price]]","v":0}]
[null,18,9,null,"Current Issues","At Issue","Divorce and Children","978-0-7377-7161-9","Greenhaven Publishing","Library Bound Book",1,2015,null,"Library Bound","6.000 X 9.000","Author","Roman Espejo",null,null,null,null,null,null,"Years 15 - 17",null,"Grade 10 - 12","This title in the AT ISSUE SERIES explores issues pertaining to divorce and children, including children's rights in divorce, custody and visitation decisions, and blended families.","English",39.4,31.52,"306","109 pp.",{"$f":"Table1[[#This Row],['# of Books]]*Table1[[#This Row],[QTY]]","v":0},{"$f":"Table1[[#This Row],[QTY]]*Table1[[#This Row],[School & Library Price]]","v":0}]
[null,18,9,null,"Current Issues","At Issue","Divorce and Children","978-0-7377-7162-6","Greenhaven Publishing","Paperback Book",1,2015,null,"Paperback","6.000 X 9.000","Author","Roman Espejo",null,null,null,null,null,null,"Years 15 - 17",null,"Grade 10 - 12","This title in the AT ISSUE SERIES explores issues pertaining to divorce and children, including children’s rights in divorce, custody and visitation decisions, and blended families.","English",27.8,22.240000000000002,"306","109 pp.",{"$f":"Table1[[#This Row],['# of Books]]*Table1[[#This Row],[QTY]]","v":0},{"$f":"Table1[[#This Row],[QTY]]*Table1[[#This Row],[School & Library Price]]","v":0}]
[null,18,9,null,"Current Issues","At Issue","Divorce and Children","978-0-7377-7629-4","Greenhaven Publishing","eBook",1,2015,null,"eBook",null,"Author","Roman Espejo",null,null,null,null,null,null,"Years 15 - 17",null,"Grade 10 - 12",null,"English",39.4,39.4,"306.89","109 pp.",{"$f":"Table1[[#This Row],['# of Books]]*Table1[[#This Row],[QTY]]","v":0},{"$f":"Table1[[#This Row],[QTY]]*Table1[[#This Row],[School & Library Price]]","v":0}]
[null,19,9,null,"Current Issues","At Issue","Domestic Surveillance","978-0-7377-7163-3","Greenhaven Publishing","Library Bound Book",1,2015,null,"Library Bound","6.000 X 9.000","Author","Tamara Thompson",null,null,null,null,null,null,"Years 15 - 17",null,"Grade 10 - 12","AT ISSUE: DOMESTIC SURVEILLANCE explores the worth of domestic surveillance and how it impacts the country. This volume also looks at the ethics of the National Security Agency as well as whether or not domestic surveillance needs more oversight.","English",39.4,31.52,"345","136 pp.",{"$f":"Table1[[#This Row],['# of Books]]*Table1[[#This Row],[QTY]]","v":0},{"$f":"Table1[[#This Row],[QTY]]*Table1[[#This Row],[School & Library Price]]","v":0}]
[null,19,9,null,"Current Issues","At Issue","Domestic Surveillance","978-0-7377-7164-0","Greenhaven Publishing","Paperback Book",1,2015,null,"Paperback","6.000 X 9.000","Author","Tamara Thompson",null,null,null,null,null,null,"Years 15 - 17",null,"Grade 10 - 12","AT ISSUE: DOMESTIC SURVEILLANCE explores the worth of domestic surveillance and how it impacts the country. This volume also looks at the ethics of the National Security Agency as well as whether or not domestic surveillance needs more oversight.","English",27.8,22.240000000000002,"345","135 pp.",{"$f":"Table1[[#This Row],['# of Books]]*Table1[[#This Row],[QTY]]","v":0},{"$f":"Table1[[#This Row],[QTY]]*Table1[[#This Row],[School & Library Price]]","v":0}]
[null,19,9,null,"Current Issues","At Issue","Domestic Surveillance","978-0-7377-7632-4","Greenhaven Publishing","eBook",1,2015,null,"eBook",null,"Author","Tamara Thompson",null,null,null,null,null,null,"Years 15 - 17",null,"Grade 10 - 12",null,"English",39.4,39.4,"327.1273","136 pp.",{"$f":"Table1[[#This Row],['# of Books]]*Table1[[#This Row],[QTY]]","v":0},{"$f":"Table1[[#This Row],[QTY]]*Table1[[#This Row],[School & Library Price]]","v":0}]
[null,19,9,null,"Current Issues","At Issue","Fast Food","978-0-7377-7165-7","Greenhaven Publishing","Library Bound Book",1,2015,null,"Library Bound","6.000 X 9.000","Author","Tamara Thompson",null,null,null,null,null,null,"Years 15 - 17",null,"Grade 10 - 12","This volume of the AT ISSUE SERIES explores many aspects of fast food, including whether fast food is harmful, how fast food should be marketed, and whether governments should regulate the fast food industry.","English",39.4,31.52,"642","115 pp.",{"$f":"Table1[[#This Row],['# of Books]]*Table1[[#This Row],[QTY]]","v":0},{"$f":"Table1[[#This Row],[QTY]]*Table1[[#This Row],[School & Library Price]]","v":0}]
[null,19,9,null,"Current Issues","At Issue","Fast Food","978-0-7377-7166-4","Greenhaven Publishing","Paperback Book",1,2015,null,"Paperback","6.000 X 9.000","Author","Tamara Thompson",null,null,null,null,null,null,"Years 15 - 17",null,"Grade 10 - 12","This volume of the AT ISSUE SERIES explores many aspects of fast food, including whether fast food is harmful, how fast food should be marketed, and whether governments should regulate the fast food industry.","English",27.8,22.240000000000002,"642","115 pp.",{"$f":"Table1[[#This Row],['# of Books]]*Table1[[#This Row],[QTY]]","v":0},{"$f":"Table1[[#This Row],[QTY]]*Table1[[#This Row],[School & Library Price]]","v":0}]
[null,19,9,null,"Current Issues","At Issue","Fast Food","978-0-7377-7633-1","Greenhaven Publishing","eBook",1,2015,null,"eBook",null,"Author","Tamara Thompson",null,null,null,null,null,null,"Years 15 - 17",null,"Grade 10 - 12",null,"English",39.4,39.4,"642.10973","115 pp.",{"$f":"Table1[[#This Row],['# of Books]]*Table1[[#This Row],[QTY]]","v":0},{"$f":"Table1[[#This Row],[QTY]]*Table1[[#This Row],[School & Library Price]]","v":0}]
[null,19,9,null,"Current Issues","At Issue","Genetically Modified Food","978-0-7377-7169-5","Greenhaven Publishing","Library Bound Book",1,2015,null,"Library Bound","6.000 X 9.000","Author","Tamara Thompson",null,null,null,null,null,null,"Years 15 - 17",null,"Grade 10 - 12","AT ISSUE: GENETICALLY MODIFIED FOOD explores whether GM foods are safe to eat, how the environment is impacted by GM foods, and the effectiveness of government regulation around GM foods.","English",39.4,31.52,"363","144 pp.",{"$f":"Table1[[#This Row],['# of Books]]*Table1[[#This Row],[QTY]]","v":0},{"$f":"Table1[[#This Row],[QTY]]*Table1[[#This Row],[School & Library Price]]","v":0}]
[null,19,9,null,"Current Issues","At Issue","Genetically Modified Food","978-0-7377-7170-1","Greenhaven Publishing","Paperback Book",1,2015,null,"Paperback","6.000 X 9.000","Author","Tamara Thompson",null,null,null,null,null,null,"Years 15 - 17",null,"Grade 10 - 12","AT ISSUE: GENETICALLY MODIFIED FOOD explores whether GM foods are safe to eat, how the environment is impacted by GM foods, and the effectiveness of government regulation around GM foods.","English",27.8,22.240000000000002,"363","139 pp.",{"$f":"Table1[[#This Row],['# of Books]]*Table1[[#This Row],[QTY]]","v":0},{"$f":"Table1[[#This Row],[QTY]]*Table1[[#This Row],[School & Library Price]]","v":0}]
[null,19,9,null,"Current Issues","At Issue","Genetically Modified Food","978-0-7377-7636-2","Greenhaven Publishing","eBook",1,2015,null,"eBook",null,"Author","Tamara Thompson",null,null,null,null,null,null,"Years 15 - 17",null,"Grade 10 - 12",null,"English",39.4,39.4,"664","144 pp.",{"$f":"Table1[[#This Row],['# of Books]]*Table1[[#This Row],[QTY]]","v":0},{"$f":"Table1[[#This Row],[QTY]]*Table1[[#This Row],[School & Library Price]]","v":0}]
[null,19,9,null,"Current Issues","At Issue","Green Cities","978-0-7377-5151-2","Greenhaven Publishing","Library Bound Book",1,2011,null,"Library Bound","6.000 X 9.000","Author","Ronnie D. Lankford",null,null,null,null,null,null,"Years 15 - 17",null,"Grade 10 - 12",null,"English",39.4,31.52,"307","112 pp.",{"$f":"Table1[[#This Row],['# of Books]]*Table1[[#This Row],[QTY]]","v":0},{"$f":"Table1[[#This Row],[QTY]]*Table1[[#This Row],[School & Library Price]]","v":0}]
[null,19,9,null,"Current Issues","At Issue","Green Cities","978-0-7377-5152-9","Greenhaven Publishing","Paperback Book",1,2011,null,"Paperback","6.000 X 9.000","Author","Ronnie D. Lankford",null,null,null,null,null,null,"Years 15 - 17",null,"Grade 10 - 12",null,"English",27.8,22.240000000000002,"307","110 pp.",{"$f":"Table1[[#This Row],['# of Books]]*Table1[[#This Row],[QTY]]","v":0},{"$f":"Table1[[#This Row],[QTY]]*Table1[[#This Row],[School & Library Price]]","v":0}]
[null,19,9,null,"Current Issues","At Issue","Guns and Crime","978-0-7377-7171-8","Greenhaven Publishing","Library Bound Book",1,2015,null,"Library Bound","6.000 X 9.000","Author","Noël Merino",null,null,null,null,null,null,"Years 15 - 17",null,"Grade 10 - 12","AT ISSUE: GUNS AND CRIME examines the correlation between guns and violence across multiple viewpoints and topics. Topics covered in this volume include gun control, gun ownership, weapon bans, and ways to prevent gun violence. ","English",39.4,31.52,"364","112 pp.",{"$f":"Table1[[#This Row],['# of Books]]*Table1[[#This Row],[QTY]]","v":0},{"$f":"Table1[[#This Row],[QTY]]*Table1[[#This Row],[School & Library Price]]","v":0}]
[null,19,9,null,"Current Issues","At Issue","Guns and Crime","978-0-7377-7172-5","Greenhaven Publishing","Paperback Book",1,2015,null,"Paperback","6.000 X 9.000","Author","Noël Merino",null,null,null,null,null,null,"Years 15 - 17",null,"Grade 10 - 12","AT ISSUE: GUNS AND CRIME examines the correlation between guns and violence across multiple viewpoints and topics. Topics covered in this volume include gun control, gun ownership, weapon bans, and ways to prevent gun violence. ","English",27.8,22.240000000000002,"364","112 pp.",{"$f":"Table1[[#This Row],['# of Books]]*Table1[[#This Row],[QTY]]","v":0},{"$f":"Table1[[#This Row],[QTY]]*Table1[[#This Row],[School & Library Price]]","v":0}]
[null,19,9,null,"Current Issues","At Issue","Guns and Crime","978-0-7377-7637-9","Greenhaven Publishing","eBook",1,2015,null,"eBook",null,"Author","Noel Merino",null,null,null,null,null,null,"Years 15 - 17",null,"Grade 10 - 12",null,"English",39.4,39.4,"364.2","112 pp.",{"$f":"Table1[[#This Row],['# of Books]]*Table1[[#This Row],[QTY]]","v":0},{"$f":"Table1[[#This Row],[QTY]]*Table1[[#This Row],[School & Library Price]]","v":0}]
[null,21,9,null,"Current Issues","At Issue","Is Society Becoming Less Civilized?","978-0-7377-6840-4","Greenhaven Publishing","Library Bound Book",1,2015,null,"Library Bound","6.000 X 9.000","Author","Louise Gerdes",null,null,null,null,null,null,"Years 15 - 17",null,"Grade 10 - 12","AT ISSUE: IS SOCIETY BECOMING LESS CIVIL? explores whether certain aspects of society are becoming less civil, whether politics is becoming less civil and the media’s impact on civility.","English",39.4,31.52,"150","128 pp.",{"$f":"Table1[[#This Row],['# of Books]]*Table1[[#This Row],[QTY]]","v":0},{"$f":"Table1[[#This Row],[QTY]]*Table1[[#This Row],[School & Library Price]]","v":0}]
[null,21,9,null,"Current Issues","At Issue","Is Society Becoming Less Civilized?","978-0-7377-6841-1","Greenhaven Publishing","Paperback Book",1,2015,null,"Paperback","6.000 X 9.000","Author","Louise Gerdes",null,null,null,null,null,null,"Years 15 - 17",null,"Grade 10 - 12","AT ISSUE: IS SOCIETY BECOMING LESS CIVIL? explores whether certain aspects of society are becoming less civil, whether politics is becoming less civil and the media’s impact on civility.","English",27.8,22.240000000000002,"150","126 pp.",{"$f":"Table1[[#This Row],['# of Books]]*Table1[[#This Row],[QTY]]","v":0},{"$f":"Table1[[#This Row],[QTY]]*Table1[[#This Row],[School & Library Price]]","v":0}]
[null,21,9,null,"Current Issues","At Issue","Manufacturing Jobs in the U.S.","978-0-7377-7173-2","Greenhaven Publishing","Library Bound Book",1,2015,null,"Library Bound","6.000 X 9.000","Author","Noah Berlatsky",null,null,null,null,null,null,"Years 15 - 17",null,"Grade 10 - 12","AT ISSUE: MANUFACTURING JOBS IN THE US discusses whether there is a strong American workforce available for new manufacturing jobs, whether American youths are interested in manufacturing, and whether the United States can compete with overseas manufacturers.","English",39.4,31.52,"331","119 pp.",{"$f":"Table1[[#This Row],['# of Books]]*Table1[[#This Row],[QTY]]","v":0},{"$f":"Table1[[#This Row],[QTY]]*Table1[[#This Row],[School & Library Price]]","v":0}]
[null,21,9,null,"Current Issues","At Issue","Manufacturing Jobs in the U.S.","978-0-7377-7174-9","Greenhaven Publishing","Paperback Book",1,2015,null,"Paperback","6.000 X 9.000","Author","Noah Berlatsky",null,null,null,null,null,null,"Years 15 - 17",null,"Grade 10 - 12","AT ISSUE: MANUFACTURING JOBS IN THE US discusses whether there is a strong American workforce available for new manufacturing jobs, whether American youths are interested in manufacturing, and whether the United States can compete with overseas manufacturers.","English",27.8,22.240000000000002,"331","119 pp.",{"$f":"Table1[[#This Row],['# of Books]]*Table1[[#This Row],[QTY]]","v":0},{"$f":"Table1[[#This Row],[QTY]]*Table1[[#This Row],[School & Library Price]]","v":0}]
[null,21,9,null,"Current Issues","At Issue","Manufacturing Jobs in the U.S.","978-0-7377-7645-4","Greenhaven Publishing","eBook",1,2015,null,"eBook",null,"Author","Amy Francis",null,null,null,null,null,null,"Years 15 - 17",null,"Grade 10 - 12",null,"English",39.4,39.4,"331.7","119 pp.",{"$f":"Table1[[#This Row],['# of Books]]*Table1[[#This Row],[QTY]]","v":0},{"$f":"Table1[[#This Row],[QTY]]*Table1[[#This Row],[School & Library Price]]","v":0}]
[null,21,9,null,"Current Issues","At Issue","Medical Malpractice","978-0-7377-7175-6","Greenhaven Publishing","Library Bound Book",1,2015,null,"Library Bound","6.000 X 9.000","Author","Noah Berlatsky",null,null,null,null,null,null,"Years 15 - 17",null,"Grade 10 - 12","AT ISSUE: MEDICAL MALPRACTICE examines the views and fears physicians have over lawsuits and how those fears affect medical care. This volume studies malpractice caps and safe-harbor laws and how they impact patients and doctors. ","English",39.4,31.52,"344","128 pp.",{"$f":"Table1[[#This Row],['# of Books]]*Table1[[#This Row],[QTY]]","v":0},{"$f":"Table1[[#This Row],[QTY]]*Table1[[#This Row],[School & Library Price]]","v":0}]
[null,21,9,null,"Current Issues","At Issue","Medical Malpractice","978-0-7377-7176-3","Greenhaven Publishing","Paperback Book",1,2015,null,"Paperback","6.000 X 9.000","Author","Noah Berlatsky",null,null,null,null,null,null,"Years 15 - 17",null,"Grade 10 - 12","AT ISSUE: MEDICAL MALPRACTICE examines the views and fears physicians have over lawsuits and how those fears affect medical care. This volume studies malpractice caps and safe-harbor laws and how they impact patients and doctors. ","English",27.8,22.240000000000002,"344","121 pp.",{"$f":"Table1[[#This Row],['# of Books]]*Table1[[#This Row],[QTY]]","v":0},{"$f":"Table1[[#This Row],[QTY]]*Table1[[#This Row],[School & Library Price]]","v":0}]
[null,21,9,null,"Current Issues","At Issue","Medical Malpractice","978-0-7377-7642-3","Greenhaven Publishing","eBook",1,2015,null,"eBook",null,"Author","Noah Berlatsky",null,null,null,null,null,null,"Years 15 - 17",null,"Grade 10 - 12",null,"English",39.4,39.4,"344.7304","128 pp.",{"$f":"Table1[[#This Row],['# of Books]]*Table1[[#This Row],[QTY]]","v":0},{"$f":"Table1[[#This Row],[QTY]]*Table1[[#This Row],[School & Library Price]]","v":0}]
[null,21,9,null,"Current Issues","At Issue","Migrant Workers","978-0-7377-7177-0","Greenhaven Publishing","Library Bound Book",1,2015,null,"Library Bound","6.000 X 9.000","Author","Roman Espejo",null,null,null,null,null,null,"Years 15 - 17",null,"Grade 10 - 12","AT ISSUE: MIGRANT WORKERS looks at the impact of migrant workers on the low-skilled American workers. This volume examines the ethical use of migrant workers and how immigration reform will impact them. ","English",39.4,31.52,"331","121 pp.",{"$f":"Table1[[#This Row],['# of Books]]*Table1[[#This Row],[QTY]]","v":0},{"$f":"Table1[[#This Row],[QTY]]*Table1[[#This Row],[School & Library Price]]","v":0}]
[null,21,9,null,"Current Issues","At Issue","Migrant Workers","978-0-7377-7178-7","Greenhaven Publishing","Paperback Book",1,2015,null,"Paperback","6.000 X 9.000","Author","Roman Espejo",null,null,null,null,null,null,"Years 15 - 17",null,"Grade 10 - 12","AT ISSUE: MIGRANT WORKERS looks at the impact of migrant workers on the low-skilled American workers. This volume examines the ethical use of migrant workers and how immigration reform will impact them. ","English",27.8,22.240000000000002,"331","121 pp.",{"$f":"Table1[[#This Row],['# of Books]]*Table1[[#This Row],[QTY]]","v":0},{"$f":"Table1[[#This Row],[QTY]]*Table1[[#This Row],[School & Library Price]]","v":0}]
[null,21,9,null,"Current Issues","At Issue","Migrant Workers","978-0-7377-7643-0","Greenhaven Publishing","eBook",1,2015,null,"eBook",null,"Author","Roman Espejo",null,null,null,null,null,null,"Years 15 - 17",null,"Grade 10 - 12",null,"English",39.4,39.4,"331.5","121 pp.",{"$f":"Table1[[#This Row],['# of Books]]*Table1[[#This Row],[QTY]]","v":0},{"$f":"Table1[[#This Row],[QTY]]*Table1[[#This Row],[School & Library Price]]","v":0}]
[null,21,9,null,"Current Issues","At Issue","Minorities and the Law","978-0-7377-7179-4","Greenhaven Publishing","Library Bound Book",1,2015,null,"Library Bound","6.000 X 9.000","Author","Noël Merino",null,null,null,null,null,null,"Years 15 - 17",null,"Grade 10 - 12","This volume in the AT ISSUE SERIES examines issues surrounding minorities and the law, including affirmative action, voter ID laws, and racial profiling.","English",39.4,31.52,"323","115 pp.",{"$f":"Table1[[#This Row],['# of Books]]*Table1[[#This Row],[QTY]]","v":0},{"$f":"Table1[[#This Row],[QTY]]*Table1[[#This Row],[School & Library Price]]","v":0}]
[null,21,9,null,"Current Issues","At Issue","Minorities and the Law","978-0-7377-7180-0","Greenhaven Publishing","Paperback Book",1,2015,null,"Paperback","6.000 X 9.000","Author","Noël Merino",null,null,null,null,null,null,"Years 15 - 17",null,"Grade 10 - 12","This volume in the AT ISSUE SERIES examines issues surrounding minorities and the law, including affirmative action, voter ID laws, and racial profiling.","English",27.8,22.240000000000002,"323","115 pp.",{"$f":"Table1[[#This Row],['# of Books]]*Table1[[#This Row],[QTY]]","v":0},{"$f":"Table1[[#This Row],[QTY]]*Table1[[#This Row],[School & Library Price]]","v":0}]
[null,21,9,null,"Current Issues","At Issue","Minorities and the Law","978-0-7377-7644-7","Greenhaven Publishing","eBook",1,2015,null,"eBook",null,"Author","Noel Merino",null,null,null,null,null,null,"Years 15 - 17",null,"Grade 10 - 12",null,"English",39.4,39.4,"323.11","115 pp.",{"$f":"Table1[[#This Row],['# of Books]]*Table1[[#This Row],[QTY]]","v":0},{"$f":"Table1[[#This Row],[QTY]]*Table1[[#This Row],[School & Library Price]]","v":0}]
[null,21,9,null,"Current Issues","At Issue","Organic Food","978-0-7377-7181-7","Greenhaven Publishing","Library Bound Book",1,2015,null,"Library Bound","6.000 X 9.000","Author","Amy Francis",null,null,null,null,null,null,"Years 15 - 17",null,"Grade 10 - 12","This edition in the AT ISSUE SERIES explores the nutritional aspect, cost, and availability of organic food, along with questions about GMOs and the harmfulness of pesticides.","English",39.4,31.52,"641","118 pp.",{"$f":"Table1[[#This Row],['# of Books]]*Table1[[#This Row],[QTY]]","v":0},{"$f":"Table1[[#This Row],[QTY]]*Table1[[#This Row],[School & Library Price]]","v":0}]
[null,21,9,null,"Current Issues","At Issue","Organic Food","978-0-7377-7182-4","Greenhaven Publishing","Paperback Book",1,2015,null,"Paperback","6.000 X 9.000","Author","Amy Francis",null,null,null,null,null,null,"Years 15 - 17",null,"Grade 10 - 12","This edition in the AT ISSUE SERIES explores the nutritional aspect, cost, and availability of organic food, along with questions about GMOs and the harmfulness of pesticides.","English",27.8,22.240000000000002,"641","118 pp.",{"$f":"Table1[[#This Row],['# of Books]]*Table1[[#This Row],[QTY]]","v":0},{"$f":"Table1[[#This Row],[QTY]]*Table1[[#This Row],[School & Library Price]]","v":0}]
[null,21,9,null,"Current Issues","At Issue","Organic Food","978-0-7377-7647-8","Greenhaven Publishing","eBook",1,2015,null,"eBook",null,"Author","Amy Francis",null,null,null,null,null,null,"Years 15 - 17",null,"Grade 10 - 12",null,"English",39.4,39.4,"641.3","118 pp.",{"$f":"Table1[[#This Row],['# of Books]]*Table1[[#This Row],[QTY]]","v":0},{"$f":"Table1[[#This Row],[QTY]]*Table1[[#This Row],[School & Library Price]]","v":0}]
[null,21,9,null,"Current Issues","At Issue","Poverty in America","978-0-7377-7183-1","Greenhaven Publishing","Library Bound Book",1,2015,null,"Library Bound","6.000 X 9.000","Author","Tamara Thompson",null,null,null,null,null,null,"Years 15 - 17",null,"Grade 10 - 12","This title in the AT ISSUE SERIES explores issues related to poverty in America. Article topics include whether or not poverty is a growing problem in the United Sates, its causes, and ways to reduce poverty for Americans.","English",39.4,31.52,"362","142 pp.",{"$f":"Table1[[#This Row],['# of Books]]*Table1[[#This Row],[QTY]]","v":0},{"$f":"Table1[[#This Row],[QTY]]*Table1[[#This Row],[School & Library Price]]","v":0}]
[null,21,9,null,"Current Issues","At Issue","Poverty in America","978-0-7377-7184-8","Greenhaven Publishing","Paperback Book",1,2015,null,"Paperback","6.000 X 9.000","Author","Tamara Thompson",null,null,null,null,null,null,"Years 15 - 17",null,"Grade 10 - 12","This title in the AT ISSUE SERIES explores issues related to poverty in America. Article topics include whether or not poverty is a growing problem in the United Sates, its causes, and ways to reduce poverty for Americans.","English",27.8,22.240000000000002,"362","142 pp.",{"$f":"Table1[[#This Row],['# of Books]]*Table1[[#This Row],[QTY]]","v":0},{"$f":"Table1[[#This Row],[QTY]]*Table1[[#This Row],[School & Library Price]]","v":0}]
[null,21,9,null,"Current Issues","At Issue","Poverty in America","978-0-7377-7649-2","Greenhaven Publishing","eBook",1,2015,null,"eBook",null,"Author","Tamara Thompson",null,null,null,null,null,null,"Years 15 - 17",null,"Grade 10 - 12",null,"English",39.4,39.4,"362.50973","142 pp.",{"$f":"Table1[[#This Row],['# of Books]]*Table1[[#This Row],[QTY]]","v":0},{"$f":"Table1[[#This Row],[QTY]]*Table1[[#This Row],[School & Library Price]]","v":0}]
[null,22,9,null,"Current Issues","At Issue","Sexting","978-0-7377-7185-5","Greenhaven Publishing","Library Bound Book",1,2015,null,"Library Bound","6.000 X 9.000","Author","Roman Espejo",null,null,null,null,null,null,"Years 15 - 17",null,"Grade 10 - 12","This title in the AT ISSUE SERIES debates the issue of sexting, touching on such topics as the rise of sexting among teens and adults, if it is hurtful to teens, and whether or not sexting is a criminal offense.","English",39.4,31.52,"306","88 pp.",{"$f":"Table1[[#This Row],['# of Books]]*Table1[[#This Row],[QTY]]","v":0},{"$f":"Table1[[#This Row],[QTY]]*Table1[[#This Row],[School & Library Price]]","v":0}]
[null,22,9,null,"Current Issues","At Issue","Sexting","978-0-7377-7186-2","Greenhaven Publishing","Paperback Book",1,2015,null,"Paperback","6.000 X 9.000","Author","Roman Espejo",null,null,null,null,null,null,"Years 15 - 17",null,"Grade 10 - 12","This title in the AT ISSUE SERIES debates the issue of sexting, touching on such topics as the rise of sexting among teens and adults, if it is hurtful to teens, and whether or not sexting is a criminal offense.","English",27.8,22.240000000000002,"306","87 pp.",{"$f":"Table1[[#This Row],['# of Books]]*Table1[[#This Row],[QTY]]","v":0},{"$f":"Table1[[#This Row],[QTY]]*Table1[[#This Row],[School & Library Price]]","v":0}]
[null,22,9,null,"Current Issues","At Issue","Sexting","978-0-7377-7652-2","Greenhaven Publishing","eBook",1,2015,null,"eBook",null,"Author","Roman Espejo",null,null,null,null,null,null,"Years 15 - 17",null,"Grade 10 - 12",null,"English",39.4,39.4,"306.70285","88 pp.",{"$f":"Table1[[#This Row],['# of Books]]*Table1[[#This Row],[QTY]]","v":0},{"$f":"Table1[[#This Row],[QTY]]*Table1[[#This Row],[School & Library Price]]","v":0}]
[null,22,9,null,"Current Issues","At Issue","Sexual Assault and the Military","978-0-7377-7187-9","Greenhaven Publishing","Library Bound Book",1,2015,null,"Library Bound","6.000 X 9.000","Author","Noah Berlatsky",null,null,null,null,null,null,"Years 15 - 17",null,"Grade 10 - 12","This volume of the AT ISSUE SERIES explores the issue of sexual assault in the military, touching on topics such as if sexual assault in the military is a longstanding problem, or is the epidemic spurred by the inclusion of women in more areas of the military.","English",39.4,31.52,"355","122 pp.",{"$f":"Table1[[#This Row],['# of Books]]*Table1[[#This Row],[QTY]]","v":0},{"$f":"Table1[[#This Row],[QTY]]*Table1[[#This Row],[School & Library Price]]","v":0}]
[null,22,9,null,"Current Issues","At Issue","Sexual Assault and the Military","978-0-7377-7188-6","Greenhaven Publishing","Paperback Book",1,2015,null,"Paperback","6.000 X 9.000","Author","Noah Berlatsky",null,null,null,null,null,null,"Years 15 - 17",null,"Grade 10 - 12","This volume of the AT ISSUE SERIES explores the issue of sexual assault in the military, touching on topics such as if sexual assault in the military is a longstanding problem, or is the epidemic spurred by the inclusion of women in more areas of the military.","English",27.8,22.240000000000002,"355","122 pp.",{"$f":"Table1[[#This Row],['# of Books]]*Table1[[#This Row],[QTY]]","v":0},{"$f":"Table1[[#This Row],[QTY]]*Table1[[#This Row],[School & Library Price]]","v":0}]
[null,22,9,null,"Current Issues","At Issue","Sexual Assault and the Military","978-0-7377-7651-5","Greenhaven Publishing","eBook",1,2015,null,"eBook",null,"Author","Noah Berlatsky",null,null,null,null,null,null,"Years 15 - 17",null,"Grade 10 - 12",null,"English",39.4,39.4,"364.15","122 pp.",{"$f":"Table1[[#This Row],['# of Books]]*Table1[[#This Row],[QTY]]","v":0},{"$f":"Table1[[#This Row],[QTY]]*Table1[[#This Row],[School & Library Price]]","v":0}]
[null,22,9,null,"Current Issues","At Issue","Should Junk Food Be Sold in Schools?","978-0-7377-7189-3","Greenhaven Publishing","Library Bound Book",1,2015,null,"Library Bound","6.000 X 9.000","Author","Roman Espejo",null,null,null,null,null,null,"Years 15 - 17",null,"Grade 10 - 12","AT ISSUE: SHOULD JUNK FOOD BE SOLD IN SCHOOL? explores the pros and cons of banning junk food in school as well as the impact junk food has on school funding. The book also investigates how student health is affected by junk food and suggests alternatives.","English",39.4,31.52,"641","112 pp.",{"$f":"Table1[[#This Row],['# of Books]]*Table1[[#This Row],[QTY]]","v":0},{"$f":"Table1[[#This Row],[QTY]]*Table1[[#This Row],[School & Library Price]]","v":0}]
[null,22,9,null,"Current Issues","At Issue","Should Junk Food Be Sold in Schools?","978-0-7377-7190-9","Greenhaven Publishing","Paperback Book",1,2015,null,"Paperback","6.000 X 9.000","Author","Roman Espejo",null,null,null,null,null,null,"Years 15 - 17",null,"Grade 10 - 12","AT ISSUE: SHOULD JUNK FOOD BE SOLD IN SCHOOL? explores the pros and cons of banning junk food in school as well as the impact junk food has on school funding. The book also investigates how student health is affected by junk food and suggests alternatives.","English",27.8,22.240000000000002,"641","105 pp.",{"$f":"Table1[[#This Row],['# of Books]]*Table1[[#This Row],[QTY]]","v":0},{"$f":"Table1[[#This Row],[QTY]]*Table1[[#This Row],[School & Library Price]]","v":0}]
[null,24,9,null,"Current Issues","At Issue","Transgender People","978-0-7377-7191-6","Greenhaven Publishing","Library Bound Book",1,2015,null,"Library Bound","6.000 X 9.000","Author","Tamara Thompson",null,null,null,null,null,null,"Years 15 - 17",null,"Grade 10 - 12","This title examines the growing transgender rights movement and the issues surrounding the transgender community. Questions such as the increased legal protection, military service, and the many ethical as well as financial issues surrounding health care.","English",39.4,31.52,"306","152 pp.",{"$f":"Table1[[#This Row],['# of Books]]*Table1[[#This Row],[QTY]]","v":0},{"$f":"Table1[[#This Row],[QTY]]*Table1[[#This Row],[School & Library Price]]","v":0}]
[null,24,9,null,"Current Issues","At Issue","Transgender People","978-0-7377-7192-3","Greenhaven Publishing","Paperback Book",1,2015,null,"Paperback","6.000 X 9.000","Author","Tamara Thompson",null,null,null,null,null,null,"Years 15 - 17",null,"Grade 10 - 12","This title examines the growing transgender rights movement and the issues surrounding the transgender community. Questions such as the increased legal protection, military service, and the many ethical as well as financial issues surrounding health care.","English",27.8,22.240000000000002,"306","152 pp.",{"$f":"Table1[[#This Row],['# of Books]]*Table1[[#This Row],[QTY]]","v":0},{"$f":"Table1[[#This Row],[QTY]]*Table1[[#This Row],[School & Library Price]]","v":0}]
[null,24,9,null,"Current Issues","At Issue","Transgender People","978-0-7377-7661-4","Greenhaven Publishing","eBook",1,2015,null,"eBook",null,"Author","Tamara Thompson",null,null,null,null,null,null,"Years 15 - 17",null,"Grade 10 - 12",null,"English",39.4,39.4,"306.76","152 pp.",{"$f":"Table1[[#This Row],['# of Books]]*Table1[[#This Row],[QTY]]","v":0},{"$f":"Table1[[#This Row],[QTY]]*Table1[[#This Row],[School & Library Price]]","v":0}]
[null,24,9,null,"Current Issues","At Issue","Vaccines","978-0-7377-7193-0","Greenhaven Publishing","Library Bound Book",1,2015,null,"Library Bound","6.000 X 9.000","Author","Noël Merino",null,null,null,null,null,null,"Years 15 - 17",null,"Grade 10 - 12","This title examines the current issues surrounding vaccinations, such as the benefits and risks of vaccinations, the growing anti-vaccination movement, and the efficacy of vaccines for HPV and HIV.","English",39.4,31.52,"615","120 pp.",{"$f":"Table1[[#This Row],['# of Books]]*Table1[[#This Row],[QTY]]","v":0},{"$f":"Table1[[#This Row],[QTY]]*Table1[[#This Row],[School & Library Price]]","v":0}]
[null,24,9,null,"Current Issues","At Issue","Vaccines","978-0-7377-7194-7","Greenhaven Publishing","Paperback Book",1,2015,null,"Paperback","6.000 X 9.000","Author","Noël Merino",null,null,null,null,null,null,"Years 15 - 17",null,"Grade 10 - 12","This title examines the current issues surrounding vaccinations, such as the benefits and risks of vaccinations, the growing anti-vaccination movement, and the efficacy of vaccines for HPV and HIV.","English",27.8,22.240000000000002,"615","117 pp.",{"$f":"Table1[[#This Row],['# of Books]]*Table1[[#This Row],[QTY]]","v":0},{"$f":"Table1[[#This Row],[QTY]]*Table1[[#This Row],[School & Library Price]]","v":0}]
[null,24,9,null,"Current Issues","At Issue","Vaccines","978-0-7377-7663-8","Greenhaven Publishing","eBook",1,2015,null,"eBook",null,"Author","Noel Merino",null,null,null,null,null,null,"Years 15 - 17",null,"Grade 10 - 12",null,"English",39.4,39.4,"614.4","120 pp.",{"$f":"Table1[[#This Row],['# of Books]]*Table1[[#This Row],[QTY]]","v":0},{"$f":"Table1[[#This Row],[QTY]]*Table1[[#This Row],[School & Library Price]]","v":0}]
[null,24,9,null,"Current Issues","At Issue","Violent Video Games","978-0-7377-7195-4","Greenhaven Publishing","Library Bound Book",1,2015,null,"Library Bound","6.000 X 9.000","Author","Roman Espejo",null,null,null,null,null,null,"Years 15 - 17",null,"Grade 10 - 12","Explores the pros and cons of playing violent video games; the link between violent video games and anti-social behavior; violent video games and free speech; and the effectiveness of the video game rating system.","English",39.4,31.52,"302","104 pp.",{"$f":"Table1[[#This Row],['# of Books]]*Table1[[#This Row],[QTY]]","v":0},{"$f":"Table1[[#This Row],[QTY]]*Table1[[#This Row],[School & Library Price]]","v":0}]
[null,24,9,null,"Current Issues","At Issue","Violent Video Games","978-0-7377-7196-1","Greenhaven Publishing","Paperback Book",1,2015,null,"Paperback","6.000 X 9.000","Author","Roman Espejo",null,null,null,null,null,null,"Years 15 - 17",null,"Grade 10 - 12","Explores the pros and cons of playing violent video games; the link between violent video games and anti-social behavior; violent video games and free speech; and the effectiveness of the video game rating system.","English",27.8,22.240000000000002,"302","101 pp.",{"$f":"Table1[[#This Row],['# of Books]]*Table1[[#This Row],[QTY]]","v":0},{"$f":"Table1[[#This Row],[QTY]]*Table1[[#This Row],[School & Library Price]]","v":0}]
[null,24,9,null,"Current Issues","At Issue","Violent Video Games","978-1-5345-0254-3","Greenhaven Publishing","eBook",1,2015,null,"eBook",null,"Author","Roman Espejo",null,null,null,null,null,null,"Years 15 - 17",null,"Grade 10 - 12","Explores the pros and cons of playing violent video games; the link between violent video games and anti-social behavior; violent video games and free speech; and the effectiveness of the video game rating system.","English",39.4,31.52,"302","104 pp.",{"$f":"Table1[[#This Row],['# of Books]]*Table1[[#This Row],[QTY]]","v":0},{"$f":"Table1[[#This Row],[QTY]]*Table1[[#This Row],[School & Library Price]]","v":0}]
[null,24,9,null,"Current Issues","At Issue","The Wealth Divide","978-0-7377-7197-8","Greenhaven Publishing","Library Bound Book",1,2015,null,"Library Bound","6.000 X 9.000","Author","Noël Merino",null,null,null,null,null,null,"Years 15 - 17",null,"Grade 10 - 12","AT ISSUE: THE WEALTH DIVIDE explores the wealth divide between the rich and the poor. It examines the causes of income inequity, and whether it is fair and needs to be reduced.","English",39.4,31.52,"339","104 pp.",{"$f":"Table1[[#This Row],['# of Books]]*Table1[[#This Row],[QTY]]","v":0},{"$f":"Table1[[#This Row],[QTY]]*Table1[[#This Row],[School & Library Price]]","v":0}]
[null,24,9,null,"Current Issues","At Issue","The Wealth Divide","978-0-7377-7198-5","Greenhaven Publishing","Paperback Book",1,2015,null,"Paperback","6.000 X 9.000","Author","Noël Merino",null,null,null,null,null,null,"Years 15 - 17",null,"Grade 10 - 12","AT ISSUE: THE WEALTH DIVIDE explores the wealth divide between the rich and the poor. It examines the causes of income inequity, and whether it is fair and needs to be reduced.","English",27.8,22.240000000000002,"339","103 pp.",{"$f":"Table1[[#This Row],['# of Books]]*Table1[[#This Row],[QTY]]","v":0},{"$f":"Table1[[#This Row],[QTY]]*Table1[[#This Row],[School & Library Price]]","v":0}]
[null,24,9,null,"Current Issues","At Issue","The Wealth Divide","978-0-7377-7660-7","Greenhaven Publishing","eBook",1,2015,null,"eBook",null,"Author","Noel Merino",null,null,null,null,null,null,"Years 15 - 17",null,"Grade 10 - 12",null,"English",39.4,39.4,"339.2","104 pp.",{"$f":"Table1[[#This Row],['# of Books]]*Table1[[#This Row],[QTY]]","v":0},{"$f":"Table1[[#This Row],[QTY]]*Table1[[#This Row],[School & Library Price]]","v":0}]
[null,24,9,null,"Current Issues","At Issue","What Are the Jobs of the Future?","978-0-7377-7199-2","Greenhaven Publishing","Library Bound Book",1,2015,null,"Library Bound","6.000 X 9.000","Author","Roman Espejo",null,null,null,null,null,null,"Years 15 - 17",null,"Grade 10 - 12","This title in the AT ISSUE SERIES explores what will be the jobs of the future in this rapidly changing economy. The role of technology, what skills will be needed, the continuing importance of a college degree, as well as co-working, freelancing and flexing hours.","English",39.4,31.52,"331","111 pp.",{"$f":"Table1[[#This Row],['# of Books]]*Table1[[#This Row],[QTY]]","v":0},{"$f":"Table1[[#This Row],[QTY]]*Table1[[#This Row],[School & Library Price]]","v":0}]
[null,24,9,null,"Current Issues","At Issue","What Are the Jobs of the Future?","978-0-7377-7200-5","Greenhaven Publishing","Paperback Book",1,2015,null,"Paperback","6.000 X 9.000","Author","Roman Espejo",null,null,null,null,null,null,"Years 15 - 17",null,"Grade 10 - 12","This title in the AT ISSUE SERIES explores what will be the jobs of the future in this rapidly changing economy. The role of technology, what skills will be needed, the continuing importance of a college degree, as well as co-working, freelancing and flexing hours.","English",27.8,22.240000000000002,"331","111 pp.",{"$f":"Table1[[#This Row],['# of Books]]*Table1[[#This Row],[QTY]]","v":0},{"$f":"Table1[[#This Row],[QTY]]*Table1[[#This Row],[School & Library Price]]","v":0}]
[null,24,9,null,"Current Issues","At Issue","What Are the Jobs of the Future?","978-1-5345-0255-0","Greenhaven Publishing","eBook",1,2015,null,"eBook",null,"Author","Roman Espejo",null,null,null,null,null,null,"Years 15 - 17",null,"Grade 10 - 12","This title in the AT ISSUE SERIES explores what will be the jobs of the future in this rapidly changing economy. The role of technology, what skills will be needed, the continuing importance of a college degree, as well as co-working, freelancing and flexing hours.","English",39.4,31.52,"331","120 pp.",{"$f":"Table1[[#This Row],['# of Books]]*Table1[[#This Row],[QTY]]","v":0},{"$f":"Table1[[#This Row],[QTY]]*Table1[[#This Row],[School & Library Price]]","v":0}]
[null,null,9,null,"Current Issues","At Issue","At Issue (Coming Aug 2018)","978-1-5345-0367-0","Greenhaven Publishing","Library Set",6,2019,"August 2018","Library","6.000 X 9.000"," "," ",null,null,null,null,null,null,"Years 14 - 17","Grade 10 - 12","Grade 9 - 12","This fascinating series includes a wide range of opinions on a single controversial subject. Each volume includes primary and secondary sources from many perspectives and a variety of sources, including journals, newspapers, books, websites, government agencies, and others. Readers are given many perspectives to evaluate and analyze, while building a strong foundation of understanding about the topic, which is essential to becoming a successful global citizen.","English",236.4,189.12,null,null,{"$f":"Table1[[#This Row],['# of Books]]*Table1[[#This Row],[QTY]]","v":0},{"$f":"Table1[[#This Row],[QTY]]*Table1[[#This Row],[School & Library Price]]","v":0}]
[null,null,9,null,"Current Issues","At Issue","At Issue (Coming Aug 2018)","978-1-5345-0373-1","Greenhaven Publishing","Single Copy Set",6,2019,"August 2018","Paperback","6.000 X 9.000"," "," ",null,null,null,null,null,null,"Years 14 - 17","Grade 10 - 12","Grade 9 - 12","This fascinating series includes a wide range of opinions on a single controversial subject. Each volume includes primary and secondary sources from many perspectives and a variety of sources, including journals, newspapers, books, websites, government agencies, and others. Readers are given many perspectives to evaluate and analyze, while building a strong foundation of understanding about the topic, which is essential to becoming a successful global citizen.","English",166.8,133.44,null,null,{"$f":"Table1[[#This Row],['# of Books]]*Table1[[#This Row],[QTY]]","v":0},{"$f":"Table1[[#This Row],[QTY]]*Table1[[#This Row],[School & Library Price]]","v":0}]
[null,null,9,null,"Current Issues","At Issue","The Deep State","978-1-5345-0319-9","Greenhaven Publishing","Library Bound Book",1,2019,"August 2018","Library","6.000 X 9.000","Edited by","Rita Santos",null,null,null,null,"Z",null,"Years 14 - 17","Grade 10 - 12","Grade 9 - 12","It used to be that \"deep state\" was a shadowy term used to describe developing nations whose governments operated outside of democratically elected leaders. The term has evolved and has been applied to transparent countries such as the United States. What is the deep state and how does it apply to the United States and other democratic governments? This fascinating and informative volume presents a variety of perspectives that helps readers to decide whether a deep state is something to fear or simply a conspiracy theory.","English",39.4,31.52,null,null,{"$f":"Table1[[#This Row],['# of Books]]*Table1[[#This Row],[QTY]]","v":0},{"$f":"Table1[[#This Row],[QTY]]*Table1[[#This Row],[School & Library Price]]","v":0}]
[null,null,9,null,"Current Issues","At Issue","The Deep State","978-1-5345-0320-5","Greenhaven Publishing","Paperback Book",1,2019,"August 2018","Paperback","6.000 X 9.000","Edited by","Rita Santos",null,null,null,null,"Z",null,"Years 14 - 17","Grade 10 - 12","Grade 9 - 12","It used to be that \"deep state\" was a shadowy term used to describe developing nations whose governments operated outside of democratically elected leaders. The term has evolved and has been applied to transparent countries such as the United States. What is the deep state and how does it apply to the United States and other democratic governments? This fascinating and informative volume presents a variety of perspectives that helps readers to decide whether a deep state is something to fear or simply a conspiracy theory.","English",27.8,22.24,null,null,{"$f":"Table1[[#This Row],['# of Books]]*Table1[[#This Row],[QTY]]","v":0},{"$f":"Table1[[#This Row],[QTY]]*Table1[[#This Row],[School & Library Price]]","v":0}]
[null,null,9,null,"Current Issues","At Issue","The Deep State","978-1-5345-0321-2","Greenhaven Publishing","eBook",1,2019,"August 2018",null,null,"Edited by","Rita Santos",null,null,null,null,"Z",null,"Years 14 - 17","Grade 10 - 12","Grade 9 - 12","It used to be that \"deep state\" was a shadowy term used to describe developing nations whose governments operated outside of democratically elected leaders. The term has evolved and has been applied to transparent countries such as the United States. What is the deep state and how does it apply to the United States and other democratic governments? This fascinating and informative volume presents a variety of perspectives that helps readers to decide whether a deep state is something to fear or simply a conspiracy theory.","English",39.4,31.52,null,null,{"$f":"Table1[[#This Row],['# of Books]]*Table1[[#This Row],[QTY]]","v":0},{"$f":"Table1[[#This Row],[QTY]]*Table1[[#This Row],[School & Library Price]]","v":0}]
[null,null,9,null,"Current Issues","At Issue","The Federal Budget and Government Spending","978-1-5345-0322-9","Greenhaven Publishing","Library Bound Book",1,2019,"August 2018","Library","6.000 X 9.000","Edited by","Lisa Idzikowski",null,null,null,null,"Z",null,"Years 14 - 17","Grade 10 - 12","Grade 9 - 12","The federal budget affects all of us, whether we know it or not. Monies spent by the government go into our education, our security, our military, and our bridges and roads. But who is accountable for the budget, and what happens if we don't agree where the money is going? The expert viewpoints in this informative anthology examine where our tax dollars go, whether citizens have a say in spending, and what it means when the deficit just keeps growing.","English",39.4,31.52,"025.06/3--dc23",null,{"$f":"Table1[[#This Row],['# of Books]]*Table1[[#This Row],[QTY]]","v":0},{"$f":"Table1[[#This Row],[QTY]]*Table1[[#This Row],[School & Library Price]]","v":0}]
[null,null,9,null,"Current Issues","At Issue","The Federal Budget and Government Spending","978-1-5345-0323-6","Greenhaven Publishing","Paperback Book",1,2019,"August 2018","Paperback","6.000 X 9.000","Edited by","Lisa Idzikowski",null,null,null,null,"Z",null,"Years 14 - 17","Grade 10 - 12","Grade 9 - 12","The federal budget affects all of us, whether we know it or not. Monies spent by the government go into our education, our security, our military, and our bridges and roads. But who is accountable for the budget, and what happens if we don't agree where the money is going? The expert viewpoints in this informative anthology examine where our tax dollars go, whether citizens have a say in spending, and what it means when the deficit just keeps growing.","English",27.8,22.24,"025.06/3--dc23",null,{"$f":"Table1[[#This Row],['# of Books]]*Table1[[#This Row],[QTY]]","v":0},{"$f":"Table1[[#This Row],[QTY]]*Table1[[#This Row],[School & Library Price]]","v":0}]
[null,null,9,null,"Current Issues","At Issue","The Federal Budget and Government Spending","978-1-5345-0324-3","Greenhaven Publishing","eBook",1,2019,"August 2018",null,null,"Edited by","Lisa Idzikowski",null,null,null,null,"Z",null,"Years 14 - 17","Grade 10 - 12","Grade 9 - 12","The federal budget affects all of us, whether we know it or not. Monies spent by the government go into our education, our security, our military, and our bridges and roads. But who is accountable for the budget, and what happens if we don't agree where the money is going? The expert viewpoints in this informative anthology examine where our tax dollars go, whether citizens have a say in spending, and what it means when the deficit just keeps growing.","English",39.4,31.52,"025.06/3--dc23",null,{"$f":"Table1[[#This Row],['# of Books]]*Table1[[#This Row],[QTY]]","v":0},{"$f":"Table1[[#This Row],[QTY]]*Table1[[#This Row],[School & Library Price]]","v":0}]
[null,null,9,null,"Current Issues","At Issue","Gerrymandering and Voting Districts","978-1-5345-0325-0","Greenhaven Publishing","Library Bound Book",1,2019,"August 2018","Library","6.000 X 9.000","Edited by","Rita Santos",null,null,null,null,"Z",null,"Years 14 - 17","Grade 10 - 12","Grade 9 - 12","Gerrymandering, the manipulation of boundaries in order to benefit one group or political party, is not new, but thanks to technology it is more widespread. Questions about the constitutionality of gerrymandering have gone all the way to the U.S. Supreme Court. This provocative volume explores the practice of partisan redistricting, how it affects elections and policy, whether it is unconstitutional, and above all what must be done to ensure that control of the government rests in the hands of the people.","English",39.4,31.52,null,null,{"$f":"Table1[[#This Row],['# of Books]]*Table1[[#This Row],[QTY]]","v":0},{"$f":"Table1[[#This Row],[QTY]]*Table1[[#This Row],[School & Library Price]]","v":0}]
[null,null,9,null,"Current Issues","At Issue","Gerrymandering and Voting Districts","978-1-5345-0326-7","Greenhaven Publishing","Paperback Book",1,2019,"August 2018","Paperback","6.000 X 9.000","Edited by","Rita Santos",null,null,null,null,"Z",null,"Years 14 - 17","Grade 10 - 12","Grade 9 - 12","Gerrymandering, the manipulation of boundaries in order to benefit one group or political party, is not new, but thanks to technology it is more widespread. Questions about the constitutionality of gerrymandering have gone all the way to the U.S. Supreme Court. This provocative volume explores the practice of partisan redistricting, how it affects elections and policy, whether it is unconstitutional, and above all what must be done to ensure that control of the government rests in the hands of the people.","English",27.8,22.24,null,null,{"$f":"Table1[[#This Row],['# of Books]]*Table1[[#This Row],[QTY]]","v":0},{"$f":"Table1[[#This Row],[QTY]]*Table1[[#This Row],[School & Library Price]]","v":0}]
[null,null,9,null,"Current Issues","At Issue","Gerrymandering and Voting Districts","978-1-5345-0327-4","Greenhaven Publishing","eBook",1,2019,"August 2018",null,null,"Edited by","Rita Santos",null,null,null,null,"Z",null,"Years 14 - 17","Grade 10 - 12","Grade 9 - 12","Gerrymandering, the manipulation of boundaries in order to benefit one group or political party, is not new, but thanks to technology it is more widespread. Questions about the constitutionality of gerrymandering have gone all the way to the U.S. Supreme Court. This provocative volume explores the practice of partisan redistricting, how it affects elections and policy, whether it is unconstitutional, and above all what must be done to ensure that control of the government rests in the hands of the people.","English",39.4,31.52,null,null,{"$f":"Table1[[#This Row],['# of Books]]*Table1[[#This Row],[QTY]]","v":0},{"$f":"Table1[[#This Row],[QTY]]*Table1[[#This Row],[School & Library Price]]","v":0}]
[null,null,9,null,"Current Issues","At Issue","Media Bias and the Role of the Press","978-1-5345-0328-1","Greenhaven Publishing","Library Bound Book",1,2019,"August 2018","Library","6.000 X 9.000","Edited by","Eamon Doyle",null,null,null,null,"Z",null,"Years 14 - 17","Grade 10 - 12","Grade 9 - 12","In a democratic society, the role of the press is usually characterized by neutrality and the necessity of an informed electorate. The journalist's ethic is to present facts with minimal interpretation. Over the decades, however, this strict code has evolved and opened up, and thanks to the internet, an alternative media has risen. This has led to accusations of media bias and condemnation of certain media outlets by powerful elected leaders. The viewpoints in this volume explore the obligations of the media, the rise of satirical news outlets, and how to interpret news in a post-fact era.","English",39.4,31.52,null,null,{"$f":"Table1[[#This Row],['# of Books]]*Table1[[#This Row],[QTY]]","v":0},{"$f":"Table1[[#This Row],[QTY]]*Table1[[#This Row],[School & Library Price]]","v":0}]
[null,null,9,null,"Current Issues","At Issue","Media Bias and the Role of the Press","978-1-5345-0329-8","Greenhaven Publishing","Paperback Book",1,2019,"August 2018","Paperback","6.000 X 9.000","Edited by","Eamon Doyle",null,null,null,null,"Z",null,"Years 14 - 17","Grade 10 - 12","Grade 9 - 12","In a democratic society, the role of the press is usually characterized by neutrality and the necessity of an informed electorate. The journalist's ethic is to present facts with minimal interpretation. Over the decades, however, this strict code has evolved and opened up, and thanks to the internet, an alternative media has risen. This has led to accusations of media bias and condemnation of certain media outlets by powerful elected leaders. The viewpoints in this volume explore the obligations of the media, the rise of satirical news outlets, and how to interpret news in a post-fact era.","English",27.8,22.24,null,null,{"$f":"Table1[[#This Row],['# of Books]]*Table1[[#This Row],[QTY]]","v":0},{"$f":"Table1[[#This Row],[QTY]]*Table1[[#This Row],[School & Library Price]]","v":0}]
[null,null,9,null,"Current Issues","At Issue","Media Bias and the Role of the Press","978-1-5345-0330-4","Greenhaven Publishing","eBook",1,2019,"August 2018",null,null,"Edited by","Eamon Doyle",null,null,null,null,"Z",null,"Years 14 - 17","Grade 10 - 12","Grade 9 - 12","In a democratic society, the role of the press is usually characterized by neutrality and the necessity of an informed electorate. The journalist's ethic is to present facts with minimal interpretation. Over the decades, however, this strict code has evolved and opened up, and thanks to the internet, an alternative media has risen. This has led to accusations of media bias and condemnation of certain media outlets by powerful elected leaders. The viewpoints in this volume explore the obligations of the media, the rise of satirical news outlets, and how to interpret news in a post-fact era.","English",39.4,31.52,null,null,{"$f":"Table1[[#This Row],['# of Books]]*Table1[[#This Row],[QTY]]","v":0},{"$f":"Table1[[#This Row],[QTY]]*Table1[[#This Row],[School & Library Price]]","v":0}]
[null,null,9,null,"Current Issues","At Issue","Politicians on Social Media","978-1-5345-0331-1","Greenhaven Publishing","Library Bound Book",1,2019,"August 2018","Library","6.000 X 9.000","Edited by","Pete Schauer",null,null,null,null,"Z",null,"Years 14 - 17","Grade 10 - 12","Grade 9 - 12","The rise of social media has changed politics forever. No longer must citizens go through the trouble of writing letters to their representatives to be heard. In turn, politicians have been given a direct line to their constituents. Is this accessibility an asset or a liability? How has the use of social media changed the campaign and election process? What happens when the president blocks you on Twitter? The thought-provoking viewpoints in this volume explore the finer points of a newly emerging controversy.","English",39.4,31.52,null,null,{"$f":"Table1[[#This Row],['# of Books]]*Table1[[#This Row],[QTY]]","v":0},{"$f":"Table1[[#This Row],[QTY]]*Table1[[#This Row],[School & Library Price]]","v":0}]
[null,null,9,null,"Current Issues","At Issue","Politicians on Social Media","978-1-5345-0332-8","Greenhaven Publishing","Paperback Book",1,2019,"August 2018","Paperback","6.000 X 9.000","Edited by","Pete Schauer",null,null,null,null,"Z",null,"Years 14 - 17","Grade 10 - 12","Grade 9 - 12","The rise of social media has changed politics forever. No longer must citizens go through the trouble of writing letters to their representatives to be heard. In turn, politicians have been given a direct line to their constituents. Is this accessibility an asset or a liability? How has the use of social media changed the campaign and election process? What happens when the president blocks you on Twitter? The thought-provoking viewpoints in this volume explore the finer points of a newly emerging controversy.","English",27.8,22.24,null,null,{"$f":"Table1[[#This Row],['# of Books]]*Table1[[#This Row],[QTY]]","v":0},{"$f":"Table1[[#This Row],[QTY]]*Table1[[#This Row],[School & Library Price]]","v":0}]
[null,null,9,null,"Current Issues","At Issue","Politicians on Social Media","978-1-5345-0333-5","Greenhaven Publishing","eBook",1,2019,"August 2018",null,null,"Edited by","Pete Schauer",null,null,null,null,"Z",null,"Years 14 - 17","Grade 10 - 12","Grade 9 - 12","The rise of social media has changed politics forever. No longer must citizens go through the trouble of writing letters to their representatives to be heard. In turn, politicians have been given a direct line to their constituents. Is this accessibility an asset or a liability? How has the use of social media changed the campaign and election process? What happens when the president blocks you on Twitter? The thought-provoking viewpoints in this volume explore the finer points of a newly emerging controversy.","English",39.4,31.52,null,null,{"$f":"Table1[[#This Row],['# of Books]]*Table1[[#This Row],[QTY]]","v":0},{"$f":"Table1[[#This Row],[QTY]]*Table1[[#This Row],[School & Library Price]]","v":0}]
[null,null,9,null,"Current Issues","At Issue","The Role of Science in Public Policy","978-1-5345-0334-2","Greenhaven Publishing","Library Bound Book",1,2019,"August 2018","Library","6.000 X 9.000","Edited by","Eamon Doyle",null,null,null,null,"Z",null,"Years 14 - 17","Grade 10 - 12","Grade 9 - 12","Does science have a place when it comes to making public policy? The answer might not be as simple as many people think. Ideally, scientists discover facts, and those facts inform policy. But policy undermines the open-ended nature of scientific inquiry, and scientists end up representing an agenda rather than presenting objective truths to be used to make decisions that impact the public. Through a variety of perspectives, this volume explores who wins and who loses when science and politics mix.","English",39.4,31.52,null,null,{"$f":"Table1[[#This Row],['# of Books]]*Table1[[#This Row],[QTY]]","v":0},{"$f":"Table1[[#This Row],[QTY]]*Table1[[#This Row],[School & Library Price]]","v":0}]
[null,null,9,null,"Current Issues","At Issue","The Role of Science in Public Policy","978-1-5345-0335-9","Greenhaven Publishing","Paperback Book",1,2019,"August 2018","Paperback","6.000 X 9.000","Edited by","Eamon Doyle",null,null,null,null,"Z",null,"Years 14 - 17","Grade 10 - 12","Grade 9 - 12","Does science have a place when it comes to making public policy? The answer might not be as simple as many people think. Ideally, scientists discover facts, and those facts inform policy. But policy undermines the open-ended nature of scientific inquiry, and scientists end up representing an agenda rather than presenting objective truths to be used to make decisions that impact the public. Through a variety of perspectives, this volume explores who wins and who loses when science and politics mix.","English",27.8,22.24,null,null,{"$f":"Table1[[#This Row],['# of Books]]*Table1[[#This Row],[QTY]]","v":0},{"$f":"Table1[[#This Row],[QTY]]*Table1[[#This Row],[School & Library Price]]","v":0}]
[null,null,9,null,"Current Issues","At Issue","The Role of Science in Public Policy","978-1-5345-0336-6","Greenhaven Publishing","eBook",1,2019,"August 2018",null,null,"Edited by","Eamon Doyle",null,null,null,null,"Z",null,"Years 14 - 17","Grade 10 - 12","Grade 9 - 12","Does science have a place when it comes to making public policy? The answer might not be as simple as many people think. Ideally, scientists discover facts, and those facts inform policy. But policy undermines the open-ended nature of scientific inquiry, and scientists end up representing an agenda rather than presenting objective truths to be used to make decisions that impact the public. Through a variety of perspectives, this volume explores who wins and who loses when science and politics mix.","English",39.4,31.52,null,null,{"$f":"Table1[[#This Row],['# of Books]]*Table1[[#This Row],[QTY]]","v":0},{"$f":"Table1[[#This Row],[QTY]]*Table1[[#This Row],[School & Library Price]]","v":0}]
[null,26,10,null,"Current Issues","Current Controversies","Current Controversies (Jan 2018)","978-1-5345-0249-9","Greenhaven Publishing","Library Set",6,2018,"January 2018",null,"6.000 X 9.000"," "," ",null,null,null,null,null,null,"Years 14 - 17","Grade 10 - 12","Grade 9 - 12","Each anthology in the Current Controversies series presents a diverse array of views from a wide spectrum of sources. Views are organized in a question-and-response format to encourage readers to view complex issues from multiple angles. This approach provides students with a concise view of divergent opinions on each topic.\n\n\"The books are ideal for teens researching topics for debates or research papers.\" AMERICAN REFERENCE BOOKS ANNUAL","English",278.39999999999998,222.72,null,"176–200 pp.",{"$f":"Table1[[#This Row],['# of Books]]*Table1[[#This Row],[QTY]]","v":0},{"$f":"Table1[[#This Row],[QTY]]*Table1[[#This Row],[School & Library Price]]","v":0}]
[null,26,10,null,"Current Issues","Current Controversies","Current Controversies (Jan 2018)","978-1-5345-0271-0","Greenhaven Publishing","Single Copy Set",6,2018,"January 2018",null,"6.000 X 9.000"," "," ",null,null,null,null,null,null,"Years 14 - 17","Grade 10 - 12","Grade 9 - 12","Each anthology in the Current Controversies series presents a diverse array of views from a wide spectrum of sources. Views are organized in a question-and-response format to encourage readers to view complex issues from multiple angles. This approach provides students with a concise view of divergent opinions on each topic.\n\n\"The books are ideal for teens researching topics for debates or research papers.\" AMERICAN REFERENCE BOOKS ANNUAL","English",192,153.6,null,"176–200 pp.",{"$f":"Table1[[#This Row],['# of Books]]*Table1[[#This Row],[QTY]]","v":0},{"$f":"Table1[[#This Row],[QTY]]*Table1[[#This Row],[School & Library Price]]","v":0}]
[null,26,10,null,"Current Issues","Current Controversies","Are There Two Americas?","978-1-5345-0233-8","Greenhaven Publishing","Library Bound Book",1,2018,"January 2018","Library","6.000 X 9.000","Edited by","Caleb Bissinger",null,null,null,null,"Z",null,"Years 14 - 17","Grade 10 - 12","Grade 9 - 12","The haves and the have-nots, \"coastal elites\" versus \"real America,\" big cities or fly-over country, people play fast and loose with the terms, but who falls into these groups and are they really so different? Media and politicians alike constantly push the narrative of \"us\" versus \" them,\" instead of one nation indivisible. But are they correct to do so or woefully misguided? This insightful anthology unpacks the concept of a divided nation and looks at the conflicts that come from economic disparity, geography, social status, and more.","English",46.4,37.119999999999997,"305.800973--dc23","184 pp.",{"$f":"Table1[[#This Row],['# of Books]]*Table1[[#This Row],[QTY]]","v":0},{"$f":"Table1[[#This Row],[QTY]]*Table1[[#This Row],[School & Library Price]]","v":0}]
[null,26,10,null,"Current Issues","Current Controversies","Are There Two Americas?","978-1-5345-0228-4","Greenhaven Publishing","eBook",1,2018,"January 2018",null,null,"Edited by","Caleb Bissinger",null,null,null,null,"Z",null,"Years 14 - 17","Grade 10 - 12","Grade 9 - 12","The haves and the have-nots, \"coastal elites\" versus \"real America,\" big cities or fly-over country, people play fast and loose with the terms, but who falls into these groups and are they really so different? Media and politicians alike constantly push the narrative of \"us\" versus \" them,\" instead of one nation indivisible. But are they correct to do so or woefully misguided? This insightful anthology unpacks the concept of a divided nation and looks at the conflicts that come from economic disparity, geography, social status, and more.","English",46.4,37.119999999999997,"305.800973--dc23","184 pp.",{"$f":"Table1[[#This Row],['# of Books]]*Table1[[#This Row],[QTY]]","v":0},{"$f":"Table1[[#This Row],[QTY]]*Table1[[#This Row],[School & Library Price]]","v":0}]
[null,26,10,null,"Current Issues","Current Controversies","Are There Two Americas?","978-1-5345-0239-0","Greenhaven Publishing","Paperback Book",1,2018,"January 2018","Paperback","6.000 X 9.000","Edited by","Caleb Bissinger",null,null,null,null,"Z",null,"Years 14 - 17","Grade 10 - 12","Grade 9 - 12","The haves and the have-nots, \"coastal elites\" versus \"real America,\" big cities or fly-over country, people play fast and loose with the terms, but who falls into these groups and are they really so different? Media and politicians alike constantly push the narrative of \"us\" versus \" them,\" instead of one nation indivisible. But are they correct to do so or woefully misguided? This insightful anthology unpacks the concept of a divided nation and looks at the conflicts that come from economic disparity, geography, social status, and more.","English",32,25.6,"305.800973--dc23","184 pp.",{"$f":"Table1[[#This Row],['# of Books]]*Table1[[#This Row],[QTY]]","v":0},{"$f":"Table1[[#This Row],[QTY]]*Table1[[#This Row],[School & Library Price]]","v":0}]
[null,26,10,null,"Current Issues","Current Controversies","The Confederate Flag","978-1-5345-0238-3","Greenhaven Publishing","Library Bound Book",1,2018,"January 2018","Library","6.000 X 9.000","Edited by","Anne Cunningham",null,null,null,null,"Z",null,"Years 14 - 17","Grade 10 - 12","Grade 9 - 12","Is it a symbol of pride in one's heritage or an ugly reminder of slavery and the fruits of racism? The issue of whether the Confederate flag belongs in front of government buildings, or even on Southern pride paraphernalia, has been a hot button for more than a century, long after the Civil War was fought and won. This book takes a close look at the flag's origins, its controversial history, what meaning it has for Americans living today, and the ongoing debate on its use and display.","English",46.4,37.119999999999997,"929.9/20973--dc23","200 pp.",{"$f":"Table1[[#This Row],['# of Books]]*Table1[[#This Row],[QTY]]","v":0},{"$f":"Table1[[#This Row],[QTY]]*Table1[[#This Row],[School & Library Price]]","v":0}]
[null,26,10,null,"Current Issues","Current Controversies","The Confederate Flag","978-1-5345-0232-1","Greenhaven Publishing","eBook",1,2018,"January 2018",null,null,"Edited by","Anne Cunningham",null,null,null,null,"Z",null,"Years 14 - 17","Grade 10 - 12","Grade 9 - 12","Is it a symbol of pride in one's heritage or an ugly reminder of slavery and the fruits of racism? The issue of whether the Confederate flag belongs in front of government buildings, or even on Southern pride paraphernalia, has been a hot button for more than a century, long after the Civil War was fought and won. This book takes a close look at the flag's origins, its controversial history, what meaning it has for Americans living today, and the ongoing debate on its use and display.","English",46.4,37.119999999999997,"929.9/20973--dc23","200 pp.",{"$f":"Table1[[#This Row],['# of Books]]*Table1[[#This Row],[QTY]]","v":0},{"$f":"Table1[[#This Row],[QTY]]*Table1[[#This Row],[School & Library Price]]","v":0}]
[null,26,10,null,"Current Issues","Current Controversies","The Confederate Flag","978-1-5345-0244-4","Greenhaven Publishing","Paperback Book",1,2018,"January 2018","Paperback","6.000 X 9.000","Edited by","Anne Cunningham",null,null,null,null,"Z",null,"Years 14 - 17","Grade 10 - 12","Grade 9 - 12","Is it a symbol of pride in one's heritage or an ugly reminder of slavery and the fruits of racism? The issue of whether the Confederate flag belongs in front of government buildings, or even on Southern pride paraphernalia, has been a hot button for more than a century, long after the Civil War was fought and won. This book takes a close look at the flag's origins, its controversial history, what meaning it has for Americans living today, and the ongoing debate on its use and display.","English",32,25.6,"929.9/20973--dc23","200 pp.",{"$f":"Table1[[#This Row],['# of Books]]*Table1[[#This Row],[QTY]]","v":0},{"$f":"Table1[[#This Row],[QTY]]*Table1[[#This Row],[School & Library Price]]","v":0}]
[null,26,10,null,"Current Issues","Current Controversies","Deporting Immigrants","978-1-5345-0234-5","Greenhaven Publishing","Library Bound Book",1,2018,"January 2018","Library","6.000 X 9.000","Edited by","Anne Cunningham",null,null,null,null,"Z",null,"Years 14 - 17","Grade 10 - 12","Grade 9 - 12","As immigration and naturalization processes continue to dominate U.S. news headlines and political rhetoric, the tangible fear of having one's family torn apart is only growing greater for those who flock to the United States for work, education, or refuge. This book looks at both legal and undocumented immigration and explores the challenges faced by local and federal government officials, by different types of workers, and by the children of green card or visa holders. This is a balanced overview of deportation, those it may involve, and how it works.","English",46.4,37.119999999999997,"325.73--dc23","200 pp.",{"$f":"Table1[[#This Row],['# of Books]]*Table1[[#This Row],[QTY]]","v":0},{"$f":"Table1[[#This Row],[QTY]]*Table1[[#This Row],[School & Library Price]]","v":0}]
[null,26,10,null,"Current Issues","Current Controversies","Deporting Immigrants","978-1-5345-0227-7","Greenhaven Publishing","eBook",1,2018,"January 2018",null,null,"Edited by","Anne Cunningham",null,null,null,null,"Z",null,"Years 14 - 17","Grade 10 - 12","Grade 9 - 12","As immigration and naturalization processes continue to dominate U.S. news headlines and political rhetoric, the tangible fear of having one's family torn apart is only growing greater for those who flock to the United States for work, education, or refuge. This book looks at both legal and undocumented immigration and explores the challenges faced by local and federal government officials, by different types of workers, and by the children of green card or visa holders. This is a balanced overview of deportation, those it may involve, and how it works.","English",46.4,37.119999999999997,"325.73--dc23","200 pp.",{"$f":"Table1[[#This Row],['# of Books]]*Table1[[#This Row],[QTY]]","v":0},{"$f":"Table1[[#This Row],[QTY]]*Table1[[#This Row],[School & Library Price]]","v":0}]
[null,26,10,null,"Current Issues","Current Controversies","Deporting Immigrants","978-1-5345-0240-6","Greenhaven Publishing","Paperback Book",1,2018,"January 2018","Paperback","6.000 X 9.000","Edited by","Anne Cunningham",null,null,null,null,"Z",null,"Years 14 - 17","Grade 10 - 12","Grade 9 - 12","As immigration and naturalization processes continue to dominate U.S. news headlines and political rhetoric, the tangible fear of having one's family torn apart is only growing greater for those who flock to the United States for work, education, or refuge. This book looks at both legal and undocumented immigration and explores the challenges faced by local and federal government officials, by different types of workers, and by the children of green card or visa holders. This is a balanced overview of deportation, those it may involve, and how it works.","English",32,25.6,"325.73--dc23","200 pp.",{"$f":"Table1[[#This Row],['# of Books]]*Table1[[#This Row],[QTY]]","v":0},{"$f":"Table1[[#This Row],[QTY]]*Table1[[#This Row],[School & Library Price]]","v":0}]
[null,26,10,null,"Current Issues","Current Controversies","Enhanced Interrogation and Torture","978-1-5345-0235-2","Greenhaven Publishing","Library Bound Book",1,2018,"January 2018","Library","6.000 X 9.000","Edited by","Gary Wiener",null,null,null,null,"Z",null,"Years 14 - 17","Grade 10 - 12","Grade 9 - 12","You hear about \"waterboarding,\" but what exactly does it mean? This informative, and at times unflinching, collection of essays explores the radical tactics used by government-sanctioned agencies, and those used by terror groups, to ferret out key intelligence from detainees. Topics range from the Geneva Convention to the conditions at Iraq's Abu Ghraib prison to the impact of the viral execution videos released by ISIS. A frank look at a difficult subject, this book is recommended for older readers who may already be studying the effects of war or current events.","English",46.4,37.119999999999997,"327.1273--dc23","184 pp.",{"$f":"Table1[[#This Row],['# of Books]]*Table1[[#This Row],[QTY]]","v":0},{"$f":"Table1[[#This Row],[QTY]]*Table1[[#This Row],[School & Library Price]]","v":0}]
[null,26,10,null,"Current Issues","Current Controversies","Enhanced Interrogation and Torture","978-1-5345-0230-7","Greenhaven Publishing","eBook",1,2018,"January 2018",null,null,"Edited by","Gary Wiener",null,null,null,null,"Z",null,"Years 14 - 17","Grade 10 - 12","Grade 9 - 12","You hear about \"waterboarding,\" but what exactly does it mean? This informative, and at times unflinching, collection of essays explores the radical tactics used by government-sanctioned agencies, and those used by terror groups, to ferret out key intelligence from detainees. Topics range from the Geneva Convention to the conditions at Iraq's Abu Ghraib prison to the impact of the viral execution videos released by ISIS. A frank look at a difficult subject, this book is recommended for older readers who may already be studying the effects of war or current events.","English",46.4,37.119999999999997,"327.1273--dc23","184 pp.",{"$f":"Table1[[#This Row],['# of Books]]*Table1[[#This Row],[QTY]]","v":0},{"$f":"Table1[[#This Row],[QTY]]*Table1[[#This Row],[School & Library Price]]","v":0}]
[null,26,10,null,"Current Issues","Current Controversies","Enhanced Interrogation and Torture","978-1-5345-0241-3","Greenhaven Publishing","Paperback Book",1,2018,"January 2018","Paperback","6.000 X 9.000","Edited by","Gary Wiener",null,null,null,null,"Z",null,"Years 14 - 17","Grade 10 - 12","Grade 9 - 12","You hear about \"waterboarding,\" but what exactly does it mean? This informative, and at times unflinching, collection of essays explores the radical tactics used by government-sanctioned agencies, and those used by terror groups, to ferret out key intelligence from detainees. Topics range from the Geneva Convention to the conditions at Iraq's Abu Ghraib prison to the impact of the viral execution videos released by ISIS. A frank look at a difficult subject, this book is recommended for older readers who may already be studying the effects of war or current events.","English",32,25.6,"327.1273--dc23","184 pp.",{"$f":"Table1[[#This Row],['# of Books]]*Table1[[#This Row],[QTY]]","v":0},{"$f":"Table1[[#This Row],[QTY]]*Table1[[#This Row],[School & Library Price]]","v":0}]
[null,26,10,null,"Current Issues","Current Controversies","Microaggressions, Safe Spaces, and Trigger Warnings","978-1-5345-0236-9","Greenhaven Publishing","Library Bound Book",1,2018,"January 2018","Library","6.000 X 9.000","Edited by","Gary Wiener",null,null,null,null,"Z",null,"Years 14 - 17","Grade 10 - 12","Grade 9 - 12","Despite the name, trigger warnings have nothing to do with gun control, and safe spaces don't necessarily mean state-of-the-art panic rooms. Instead, these terms and the phrase \"microaggressions\" relate to preserving and protecting one's emotional safety. In this volume, readers will learn about the increased demand for sensitivity in social settings, in literature and media, and on the Internet. They will also encounter the opposing view, that we, as a society, are becoming too fragile and don't need figurative bulletproof vests for every occasion.","English",46.4,37.119999999999997,"305.800973--dc23","168 pp.",{"$f":"Table1[[#This Row],['# of Books]]*Table1[[#This Row],[QTY]]","v":0},{"$f":"Table1[[#This Row],[QTY]]*Table1[[#This Row],[School & Library Price]]","v":0}]
[null,26,10,null,"Current Issues","Current Controversies","Microaggressions, Safe Spaces, and Trigger Warnings","978-1-5345-0231-4","Greenhaven Publishing","eBook",1,2018,"January 2018",null,null,"Edited by","Gary Wiener",null,null,null,null,"Z",null,"Years 14 - 17","Grade 10 - 12","Grade 9 - 12","Despite the name, trigger warnings have nothing to do with gun control, and safe spaces don't necessarily mean state-of-the-art panic rooms. Instead, these terms and the phrase \"microaggressions\" relate to preserving and protecting one's emotional safety. In this volume, readers will learn about the increased demand for sensitivity in social settings, in literature and media, and on the Internet. They will also encounter the opposing view, that we, as a society, are becoming too fragile and don't need figurative bulletproof vests for every occasion.","English",46.4,37.119999999999997,"305.800973--dc23","168 pp.",{"$f":"Table1[[#This Row],['# of Books]]*Table1[[#This Row],[QTY]]","v":0},{"$f":"Table1[[#This Row],[QTY]]*Table1[[#This Row],[School & Library Price]]","v":0}]
[null,26,10,null,"Current Issues","Current Controversies","Microaggressions, Safe Spaces, and Trigger Warnings","978-1-5345-0242-0","Greenhaven Publishing","Paperback Book",1,2018,"January 2018","Paperback","6.000 X 9.000","Edited by","Gary Wiener",null,null,null,null,"Z",null,"Years 14 - 17","Grade 10 - 12","Grade 9 - 12","Despite the name, trigger warnings have nothing to do with gun control, and safe spaces don't necessarily mean state-of-the-art panic rooms. Instead, these terms and the phrase \"microaggressions\" relate to preserving and protecting one's emotional safety. In this volume, readers will learn about the increased demand for sensitivity in social settings, in literature and media, and on the Internet. They will also encounter the opposing view, that we, as a society, are becoming too fragile and don't need figurative bulletproof vests for every occasion.","English",32,25.6,"305.800973--dc23","168 pp.",{"$f":"Table1[[#This Row],['# of Books]]*Table1[[#This Row],[QTY]]","v":0},{"$f":"Table1[[#This Row],[QTY]]*Table1[[#This Row],[School & Library Price]]","v":0}]
[null,26,10,null,"Current Issues","Current Controversies","Police Training and Excessive Force","978-1-5345-0237-6","Greenhaven Publishing","Library Bound Book",1,2018,"January 2018","Library","6.000 X 9.000","Edited by","Pete Schauer",null,null,null,null,"Z",null,"Years 14 - 17","Grade 10 - 12","Grade 9 - 12","How rough is too rough? Rodney King is an unfamiliar name for those growing up today, but the ongoing conversation concerning police brutality is one they know all-too well. This collection deep-dives into police training procedure, what constitutes excessive force, and what happens when the community disagrees with the police and the justice system. Relevant topics covered in this balanced anthology include the 1992 L.A. riots and the 2014 outcry in Ferguson, MO, as well as the choking death of Eric Garner in Staten Island, NY.","English",46.4,37.119999999999997,"363.2/32--dc23","176 pp.",{"$f":"Table1[[#This Row],['# of Books]]*Table1[[#This Row],[QTY]]","v":0},{"$f":"Table1[[#This Row],[QTY]]*Table1[[#This Row],[School & Library Price]]","v":0}]
[null,26,10,null,"Current Issues","Current Controversies","Police Training and Excessive Force","978-1-5345-0229-1","Greenhaven Publishing","eBook",1,2018,"January 2018",null,null,"Edited by","Pete Schauer",null,null,null,null,"Z",null,"Years 14 - 17","Grade 10 - 12","Grade 9 - 12","How rough is too rough? Rodney King is an unfamiliar name for those growing up today, but the ongoing conversation concerning police brutality is one they know all-too well. This collection deep-dives into police training procedure, what constitutes excessive force, and what happens when the community disagrees with the police and the justice system. Relevant topics covered in this balanced anthology include the 1992 L.A. riots and the 2014 outcry in Ferguson, MO, as well as the choking death of Eric Garner in Staten Island, NY.","English",46.4,37.119999999999997,"363.2/32--dc23","176 pp.",{"$f":"Table1[[#This Row],['# of Books]]*Table1[[#This Row],[QTY]]","v":0},{"$f":"Table1[[#This Row],[QTY]]*Table1[[#This Row],[School & Library Price]]","v":0}]
[null,26,10,null,"Current Issues","Current Controversies","Police Training and Excessive Force","978-1-5345-0243-7","Greenhaven Publishing","Paperback Book",1,2018,"January 2018","Paperback","6.000 X 9.000","Edited by","Pete Schauer",null,null,null,null,"Z",null,"Years 14 - 17","Grade 10 - 12","Grade 9 - 12","How rough is too rough? Rodney King is an unfamiliar name for those growing up today, but the ongoing conversation concerning police brutality is one they know all-too well. This collection deep-dives into police training procedure, what constitutes excessive force, and what happens when the community disagrees with the police and the justice system. Relevant topics covered in this balanced anthology include the 1992 L.A. riots and the 2014 outcry in Ferguson, MO, as well as the choking death of Eric Garner in Staten Island, NY.","English",32,25.6,"363.2/32--dc23","176 pp.",{"$f":"Table1[[#This Row],['# of Books]]*Table1[[#This Row],[QTY]]","v":0},{"$f":"Table1[[#This Row],[QTY]]*Table1[[#This Row],[School & Library Price]]","v":0}]
[null,26,10,null,"Current Issues","Current Controversies (Aug '17 Set)","Current Controversies (Aug '17 Set)","978-1-5345-0147-8","Greenhaven Publishing","Library Set",6,2018,"August 2017","Library","6.000 X 9.000"," "," ",null,null,null,null,null,null,"Years 14 - 17","Grade 10 - 12","Grade 9 - 12","Each anthology in the Current Controversies series presents a diverse array of views from a wide spectrum of sources. Views are organized in a question-and-response format to encourage readers to view complex issues from multiple angles. This approach provides students with a concise view of divergent opinions on each topic.","English",278.39999999999998,222.72,null,"224 pp.",{"$f":"Table1[[#This Row],['# of Books]]*Table1[[#This Row],[QTY]]","v":0},{"$f":"Table1[[#This Row],[QTY]]*Table1[[#This Row],[School & Library Price]]","v":0}]
[null,26,10,null,"Current Issues","Current Controversies (Aug '17 Set)","Current Controversies (Aug '17 Set)","978-1-5345-0148-5","Greenhaven Publishing","Single Copy Set",6,2018,"August 2017","Paperback","6.000 X 9.000"," "," ",null,null,null,null,null,null,"Years 14 - 17","Grade 10 - 12","Grade 9 - 12","Each anthology in the Current Controversies series presents a diverse array of views from a wide spectrum of sources. Views are organized in a question-and-response format to encourage readers to view complex issues from multiple angles. This approach provides students with a concise view of divergent opinions on each topic.","English",192,153.6,null,"224 pp.",{"$f":"Table1[[#This Row],['# of Books]]*Table1[[#This Row],[QTY]]","v":0},{"$f":"Table1[[#This Row],[QTY]]*Table1[[#This Row],[School & Library Price]]","v":0}]
[null,26,10,null,"Current Issues","Current Controversies","The Border Wall with Mexico","978-1-5345-0085-3","Greenhaven Publishing","Library Bound Book",1,2018,"August 2017","Library","6.000 X 9.000","Edited by","Martin Gitlin",null,null,null,null,"Z",null,"Years 14 - 17","Grade 10 - 12","Grade 9 - 12","To some, the idea of a border wall with Mexico represents a necessary and practical barrier to illegal immigration and the perceived host of ills that are associated with it. To others, it is both an unrealistic and inhumane effort that demonizes desperate individuals and families who are only seeking a better life. The debate is fierce and is bound up with competing notions of crime, ethnicity, opportunity, fairness, justice, and what America promises, offers, stands for, and represents. All sides of the debate are presented here, and each is given a fair and respectful hearing, allowing readers to sift through fact and opinion, evaluate the strength of arguments, and form an educated opinion on the issue.","English",46.4,37.119999999999997,"972'.1--dc23","224 pp.",{"$f":"Table1[[#This Row],['# of Books]]*Table1[[#This Row],[QTY]]","v":0},{"$f":"Table1[[#This Row],[QTY]]*Table1[[#This Row],[School & Library Price]]","v":0}]
[null,26,10,null,"Current Issues","Current Controversies","The Border Wall with Mexico","978-1-5345-0086-0","Greenhaven Publishing","eBook",1,2018,"August 2017",null,null,"Edited by","Martin Gitlin",null,null,null,null,"Z",null,"Years 14 - 17","Grade 10 - 12","Grade 9 - 12","To some, the idea of a border wall with Mexico represents a necessary and practical barrier to illegal immigration and the perceived host of ills that are associated with it. To others, it is both an unrealistic and inhumane effort that demonizes desperate individuals and families who are only seeking a better life. The debate is fierce and is bound up with competing notions of crime, ethnicity, opportunity, fairness, justice, and what America promises, offers, stands for, and represents. All sides of the debate are presented here, and each is given a fair and respectful hearing, allowing readers to sift through fact and opinion, evaluate the strength of arguments, and form an educated opinion on the issue.","English",46.4,37.119999999999997,"972'.1--dc23","224 pp.",{"$f":"Table1[[#This Row],['# of Books]]*Table1[[#This Row],[QTY]]","v":0},{"$f":"Table1[[#This Row],[QTY]]*Table1[[#This Row],[School & Library Price]]","v":0}]
[null,26,10,null,"Current Issues","Current Controversies","The Border Wall with Mexico","978-1-5345-0090-7","Greenhaven Publishing","Paperback Book",1,2018,"August 2017","Paperback","6.000 X 9.000","Edited by","Martin Gitlin",null,null,null,null,"Z",null,"Years 14 - 17","Grade 10 - 12","Grade 9 - 12","To some, the idea of a border wall with Mexico represents a necessary and practical barrier to illegal immigration and the perceived host of ills that are associated with it. To others, it is both an unrealistic and inhumane effort that demonizes desperate individuals and families who are only seeking a better life. The debate is fierce and is bound up with competing notions of crime, ethnicity, opportunity, fairness, justice, and what America promises, offers, stands for, and represents. All sides of the debate are presented here, and each is given a fair and respectful hearing, allowing readers to sift through fact and opinion, evaluate the strength of arguments, and form an educated opinion on the issue.","English",32,25.6,"972'.1--dc23","224 pp.",{"$f":"Table1[[#This Row],['# of Books]]*Table1[[#This Row],[QTY]]","v":0},{"$f":"Table1[[#This Row],[QTY]]*Table1[[#This Row],[School & Library Price]]","v":0}]
[null,26,10,null,"Current Issues","Current Controversies","Fracking","978-1-5345-0103-4","Greenhaven Publishing","Library Bound Book",1,2018,"August 2017","Library","6.000 X 9.000","Edited by","Anne C. Cunningham",null,null,null,null,"Z",null,"Years 14 - 17","Grade 10 - 12","Grade 9 - 12","On the surface, fracking, or hydraulic fracturing, seems like a perfect solution to the country’s energy crises. It is a relatively easy and independent way to supply natural gas. But controversies surround the practice. The process involved in fracking has been shown to be harmful to the environment and a threat to our public health. Do the benefits of fracking outweigh the costs? Can improvements be made to the process that would eliminate its dangers? Should the government get more involved in regulating fracking, or should it be up to the people?","English",46.4,37.119999999999997,"622/.3381--dc23","184 pp.",{"$f":"Table1[[#This Row],['# of Books]]*Table1[[#This Row],[QTY]]","v":0},{"$f":"Table1[[#This Row],[QTY]]*Table1[[#This Row],[School & Library Price]]","v":0}]
[null,26,10,null,"Current Issues","Current Controversies","Fracking","978-1-5345-0104-1","Greenhaven Publishing","eBook",1,2018,"August 2017",null,null,"Edited by","Anne C. Cunningham",null,null,null,null,"Z",null,"Years 14 - 17","Grade 10 - 12","Grade 9 - 12","On the surface, fracking, or hydraulic fracturing, seems like a perfect solution to the country’s energy crises. It is a relatively easy and independent way to supply natural gas. But controversies surround the practice. The process involved in fracking has been shown to be harmful to the environment and a threat to our public health. Do the benefits of fracking outweigh the costs? Can improvements be made to the process that would eliminate its dangers? Should the government get more involved in regulating fracking, or should it be up to the people?","English",46.4,37.119999999999997,"622/.3381--dc23","184 pp.",{"$f":"Table1[[#This Row],['# of Books]]*Table1[[#This Row],[QTY]]","v":0},{"$f":"Table1[[#This Row],[QTY]]*Table1[[#This Row],[School & Library Price]]","v":0}]
[null,26,10,null,"Current Issues","Current Controversies","Fracking","978-1-5345-0101-0","Greenhaven Publishing","Paperback Book",1,2018,"August 2017","Paperback","6.000 X 9.000","Edited by","Anne C. Cunningham",null,null,null,null,"Z",null,"Years 14 - 17","Grade 10 - 12","Grade 9 - 12","On the surface, fracking, or hydraulic fracturing, seems like a perfect solution to the country’s energy crises. It is a relatively easy and independent way to supply natural gas. But controversies surround the practice. The process involved in fracking has been shown to be harmful to the environment and a threat to our public health. Do the benefits of fracking outweigh the costs? Can improvements be made to the process that would eliminate its dangers? Should the government get more involved in regulating fracking, or should it be up to the people?","English",32,25.6,"622/.3381--dc23","184 pp.",{"$f":"Table1[[#This Row],['# of Books]]*Table1[[#This Row],[QTY]]","v":0},{"$f":"Table1[[#This Row],[QTY]]*Table1[[#This Row],[School & Library Price]]","v":0}]
[null,26,10,null,"Current Issues","Current Controversies","Homelessness and Street Crime","978-1-5345-0095-2","Greenhaven Publishing","Library Bound Book",1,2018,"August 2017","Library","6.000 X 9.000","Edited by","Pete Schauer",null,null,null,null,"Z",null,"Years 14 - 17","Grade 10 - 12","Grade 9 - 12","Hundreds of thousands of Americans are without a home, sleeping on streets or in temporary shelters. Nearly one-fifth of homeless Americans suffer from an untreated mental illness. Due in part to reductions in state and city budgets, many who need assistance are left to live on the street. One natural byproduct of a life on the street is criminal behavior, as adaptation to illegal acts becomes a matter of survival. Could ending homelessness reduce crime? What are ways in which that could be achieved, and whose responsibility is it? Are the homeless being unfairly blamed for street crime? This volume offers a close examination of the issue from a variety of viewpoints.","English",46.4,37.119999999999997,"362.5'920973--dc23","240 pp.",{"$f":"Table1[[#This Row],['# of Books]]*Table1[[#This Row],[QTY]]","v":0},{"$f":"Table1[[#This Row],[QTY]]*Table1[[#This Row],[School & Library Price]]","v":0}]
[null,26,10,null,"Current Issues","Current Controversies","Homelessness and Street Crime","978-1-5345-0096-9","Greenhaven Publishing","eBook",1,2018,"August 2017",null,null,"Edited by","Pete Schauer",null,null,null,null,"Z",null,"Years 14 - 17","Grade 10 - 12","Grade 9 - 12","Hundreds of thousands of Americans are without a home, sleeping on streets or in temporary shelters. Nearly one-fifth of homeless Americans suffer from an untreated mental illness. Due in part to reductions in state and city budgets, many who need assistance are left to live on the street. One natural byproduct of a life on the street is criminal behavior, as adaptation to illegal acts becomes a matter of survival. Could ending homelessness reduce crime? What are ways in which that could be achieved, and whose responsibility is it? Are the homeless being unfairly blamed for street crime? This volume offers a close examination of the issue from a variety of viewpoints.","English",46.4,37.119999999999997,"362.5'920973--dc23","240 pp.",{"$f":"Table1[[#This Row],['# of Books]]*Table1[[#This Row],[QTY]]","v":0},{"$f":"Table1[[#This Row],[QTY]]*Table1[[#This Row],[School & Library Price]]","v":0}]
[null,26,10,null,"Current Issues","Current Controversies","Homelessness and Street Crime","978-1-5345-0093-8","Greenhaven Publishing","Paperback Book",1,2018,"August 2017","Paperback","6.000 X 9.000","Edited by","Pete Schauer",null,null,null,null,"Z",null,"Years 14 - 17","Grade 10 - 12","Grade 9 - 12","Hundreds of thousands of Americans are without a home, sleeping on streets or in temporary shelters. Nearly one-fifth of homeless Americans suffer from an untreated mental illness. Due in part to reductions in state and city budgets, many who need assistance are left to live on the street. One natural byproduct of a life on the street is criminal behavior, as adaptation to illegal acts becomes a matter of survival. Could ending homelessness reduce crime? What are ways in which that could be achieved, and whose responsibility is it? Are the homeless being unfairly blamed for street crime? This volume offers a close examination of the issue from a variety of viewpoints.","English",32,25.6,"362.5'920973--dc23","240 pp.",{"$f":"Table1[[#This Row],['# of Books]]*Table1[[#This Row],[QTY]]","v":0},{"$f":"Table1[[#This Row],[QTY]]*Table1[[#This Row],[School & Library Price]]","v":0}]
[null,26,10,null,"Current Issues","Current Controversies","Political Correctness","978-1-5345-0099-0","Greenhaven Publishing","Library Bound Book",1,2018,"August 2017","Library","6.000 X 9.000","Edited by","Rachel Bozek",null,null,null,null,"Z",null,"Years 14 - 17","Grade 10 - 12","Grade 9 - 12","Political correctness, better known as “PC,” flourished in institutions of higher learning in the 1990s. With the rise of social media, a second wave of PC culture has emerged that is more aggressive than the first. It seems to many that nearly everyone is a target, at risk of being labeled a racist or misogynist based on one short tweet. The movement, though intended to be inclusive and pluralistic, has its detractors. Is political correctness protective or is it an attack on freedom? Do knee-jerk reactions cancel out the opportunity for thoughtful discourse? And what does this culture mean for our future?","English",46.4,37.119999999999997,"306--dc23","160 pp.",{"$f":"Table1[[#This Row],['# of Books]]*Table1[[#This Row],[QTY]]","v":0},{"$f":"Table1[[#This Row],[QTY]]*Table1[[#This Row],[School & Library Price]]","v":0}]
[null,26,10,null,"Current Issues","Current Controversies","Political Correctness","978-1-5345-0100-3","Greenhaven Publishing","eBook",1,2018,"August 2017",null,null,"Edited by","Rachel Bozek",null,null,null,null,"Z",null,"Years 14 - 17","Grade 10 - 12","Grade 9 - 12","Political correctness, better known as “PC,” flourished in institutions of higher learning in the 1990s. With the rise of social media, a second wave of PC culture has emerged that is more aggressive than the first. It seems to many that nearly everyone is a target, at risk of being labeled a racist or misogynist based on one short tweet. The movement, though intended to be inclusive and pluralistic, has its detractors. Is political correctness protective or is it an attack on freedom? Do knee-jerk reactions cancel out the opportunity for thoughtful discourse? And what does this culture mean for our future?","English",46.4,37.119999999999997,"306--dc23","160 pp.",{"$f":"Table1[[#This Row],['# of Books]]*Table1[[#This Row],[QTY]]","v":0},{"$f":"Table1[[#This Row],[QTY]]*Table1[[#This Row],[School & Library Price]]","v":0}]
[null,26,10,null,"Current Issues","Current Controversies","Political Correctness","978-1-5345-0097-6","Greenhaven Publishing","Paperback Book",1,2018,"August 2017","Paperback","6.000 X 9.000","Edited by","Rachel Bozek",null,null,null,null,"Z",null,"Years 14 - 17","Grade 10 - 12","Grade 9 - 12","Political correctness, better known as “PC,” flourished in institutions of higher learning in the 1990s. With the rise of social media, a second wave of PC culture has emerged that is more aggressive than the first. It seems to many that nearly everyone is a target, at risk of being labeled a racist or misogynist based on one short tweet. The movement, though intended to be inclusive and pluralistic, has its detractors. Is political correctness protective or is it an attack on freedom? Do knee-jerk reactions cancel out the opportunity for thoughtful discourse? And what does this culture mean for our future?","English",32,25.6,"306--dc23","160 pp.",{"$f":"Table1[[#This Row],['# of Books]]*Table1[[#This Row],[QTY]]","v":0},{"$f":"Table1[[#This Row],[QTY]]*Table1[[#This Row],[School & Library Price]]","v":0}]
[null,26,10,null,"Current Issues","Current Controversies","The Political Elite and Special Interests","978-1-5345-0106-5","Greenhaven Publishing","Library Bound Book",1,2018,"August 2017","Library","6.000 X 9.000","Edited by","Rachel Bozek",null,null,null,null,"Z",null,"Years 14 - 17","Grade 10 - 12","Grade 9 - 12","There is a growing sense that government is no longer of the people, by the people, and for the people. Many believe that society is manipulated by a handful of political elites and special interests. But why does each party feel that it is the elites and special interests of the other party who are in control of things? Does “one person one vote” still hold sway? Is this still a citizen democracy, or has it evolved into an oligarchy? Whose voice and vote really count? These and other questions and debates concerning power, influence, and who wields it are at the center of this fascinating collection of articles drawn from across the political spectrum.","English",46.4,37.119999999999997,"322.4--dc23","224 pp.",{"$f":"Table1[[#This Row],['# of Books]]*Table1[[#This Row],[QTY]]","v":0},{"$f":"Table1[[#This Row],[QTY]]*Table1[[#This Row],[School & Library Price]]","v":0}]
[null,26,10,null,"Current Issues","Current Controversies","The Political Elite and Special Interests","978-1-5345-0107-2","Greenhaven Publishing","eBook",1,2018,"August 2017",null,null,"Edited by","Rachel Bozek",null,null,null,null,"Z",null,"Years 14 - 17","Grade 10 - 12","Grade 9 - 12","There is a growing sense that government is no longer of the people, by the people, and for the people. Many believe that society is manipulated by a handful of political elites and special interests. But why does each party feel that it is the elites and special interests of the other party who are in control of things? Does “one person one vote” still hold sway? Is this still a citizen democracy, or has it evolved into an oligarchy? Whose voice and vote really count? These and other questions and debates concerning power, influence, and who wields it are at the center of this fascinating collection of articles drawn from across the political spectrum.","English",46.4,37.119999999999997,"322.4--dc23","224 pp.",{"$f":"Table1[[#This Row],['# of Books]]*Table1[[#This Row],[QTY]]","v":0},{"$f":"Table1[[#This Row],[QTY]]*Table1[[#This Row],[School & Library Price]]","v":0}]
[null,26,10,null,"Current Issues","Current Controversies","The Political Elite and Special Interests","978-1-5345-0105-8","Greenhaven Publishing","Paperback Book",1,2018,"August 2017","Paperback","6.000 X 9.000","Edited by","Rachel Bozek",null,null,null,null,"Z",null,"Years 14 - 17","Grade 10 - 12","Grade 9 - 12","There is a growing sense that government is no longer of the people, by the people, and for the people. Many believe that society is manipulated by a handful of political elites and special interests. But why does each party feel that it is the elites and special interests of the other party who are in control of things? Does “one person one vote” still hold sway? Is this still a citizen democracy, or has it evolved into an oligarchy? Whose voice and vote really count? These and other questions and debates concerning power, influence, and who wields it are at the center of this fascinating collection of articles drawn from across the political spectrum.","English",32,25.6,"322.4--dc23","224 pp.",{"$f":"Table1[[#This Row],['# of Books]]*Table1[[#This Row],[QTY]]","v":0},{"$f":"Table1[[#This Row],[QTY]]*Table1[[#This Row],[School & Library Price]]","v":0}]
[null,26,10,null,"Current Issues","Current Controversies","Returning Soldiers and PTSD","978-1-5345-0091-4","Greenhaven Publishing","Library Bound Book",1,2018,"August 2017","Library","6.000 X 9.000","Edited by","Barbara Krasner",null,null,null,null,"Z",null,"Years 14 - 17","Grade 10 - 12","Grade 9 - 12","One of the most painful and tragic legacies of the wars in Iraq and Afghanistan has been the trauma suffered by those who served and the far-reaching consequences and after-effects of their scarring combat experiences. This very important volume looks at the issue of returning soldiers PTSD from multiple angles, examining skyrocketing suicide rates; the debates surrounding the quality and accessibility of health care; the nature of and stigmas associated with a PTSD diagnosis; the responsibility that government and society have to care for returning soldiers; how welcoming, protective, and supportive the environment is to which soldiers return; and the steep cost of war to the individual, families, and society at large.","English",46.4,37.119999999999997,"616.85/21--dc23","296 pp.",{"$f":"Table1[[#This Row],['# of Books]]*Table1[[#This Row],[QTY]]","v":0},{"$f":"Table1[[#This Row],[QTY]]*Table1[[#This Row],[School & Library Price]]","v":0}]
[null,26,10,null,"Current Issues","Current Controversies","Returning Soldiers and PTSD","978-1-5345-0092-1","Greenhaven Publishing","eBook",1,2018,"August 2017",null,null,"Edited by","Barbara Krasner",null,null,null,null,"Z",null,"Years 14 - 17","Grade 10 - 12","Grade 9 - 12","One of the most painful and tragic legacies of the wars in Iraq and Afghanistan has been the trauma suffered by those who served and the far-reaching consequences and after-effects of their scarring combat experiences. This very important volume looks at the issue of returning soldiers PTSD from multiple angles, examining skyrocketing suicide rates; the debates surrounding the quality and accessibility of health care; the nature of and stigmas associated with a PTSD diagnosis; the responsibility that government and society have to care for returning soldiers; how welcoming, protective, and supportive the environment is to which soldiers return; and the steep cost of war to the individual, families, and society at large.","English",46.4,37.119999999999997,"616.85/21--dc23","296 pp.",{"$f":"Table1[[#This Row],['# of Books]]*Table1[[#This Row],[QTY]]","v":0},{"$f":"Table1[[#This Row],[QTY]]*Table1[[#This Row],[School & Library Price]]","v":0}]
[null,26,10,null,"Current Issues","Current Controversies","Returning Soldiers and PTSD","978-1-5345-0087-7","Greenhaven Publishing","Paperback Book",1,2018,"August 2017","Paperback","6.000 X 9.000","Edited by","Barbara Krasner",null,null,null,null,"Z",null,"Years 14 - 17","Grade 10 - 12","Grade 9 - 12","One of the most painful and tragic legacies of the wars in Iraq and Afghanistan has been the trauma suffered by those who served and the far-reaching consequences and after-effects of their scarring combat experiences. This very important volume looks at the issue of returning soldiers PTSD from multiple angles, examining skyrocketing suicide rates; the debates surrounding the quality and accessibility of health care; the nature of and stigmas associated with a PTSD diagnosis; the responsibility that government and society have to care for returning soldiers; how welcoming, protective, and supportive the environment is to which soldiers return; and the steep cost of war to the individual, families, and society at large.","English",32,25.6,"616.85/21--dc23","296 pp.",{"$f":"Table1[[#This Row],['# of Books]]*Table1[[#This Row],[QTY]]","v":0},{"$f":"Table1[[#This Row],[QTY]]*Table1[[#This Row],[School & Library Price]]","v":0}]
[null,26,11,null,"Current Issues","Current Controversies (Jan '17 Set)","Current Controversies (Jan '17 Set)","978-1-5345-0002-0","Greenhaven Publishing","Library Set",4,2017,"January 2017","Library Bound","6.000 X 9.000"," "," ",null,null,null,null,null,null,"Years 14 - 17",null,"Grade 9 - 12","Each anthology in the Current Controversies series presents a diverse array of views from a wide spectrum of sources. Views are organized in a question-and-response format to encourage readers to view complex issues from multiple angles. This approach provides students with a concise view of divergent opinions on each topic. Each volume includes an annotated list of organizations to contact, bibliography, and subject index.","English",185.6,148.47999999999999,null,"224 pp.",{"$f":"Table1[[#This Row],['# of Books]]*Table1[[#This Row],[QTY]]","v":0},{"$f":"Table1[[#This Row],[QTY]]*Table1[[#This Row],[School & Library Price]]","v":0}]
[null,26,11,null,"Current Issues","Current Controversies (Jan '17 Set)","Current Controversies (Jan '17 Set)","978-1-5345-0004-4","Greenhaven Publishing","Single Copy Set",4,2017,"January 2017","Paperback","6.000 X 9.000"," "," ",null,null,null,null,null,null,"Years 14 - 17",null,"Grade 9 - 12","Each anthology in the Current Controversies series presents a diverse array of views from a wide spectrum of sources. Views are organized in a question-and-response format to encourage readers to view complex issues from multiple angles. This approach provides students with a concise view of divergent opinions on each topic. Each volume includes an annotated list of organizations to contact, bibliography, and subject index.","English",128,102.4,null,"224 pp.",{"$f":"Table1[[#This Row],['# of Books]]*Table1[[#This Row],[QTY]]","v":0},{"$f":"Table1[[#This Row],[QTY]]*Table1[[#This Row],[School & Library Price]]","v":0}]
[null,26,11,null,"Current Issues","Current Controversies","Drones, Surveillance, and Targeted Killings","978-1-5345-0020-4","Greenhaven Publishing","Library Bound Book",1,2017,"January 2017","Library Bound","6.000 X 9.000","Editor","Anne Cunningham",null,null,null,null,"Z",null,"Years 14 - 17",null,"Grade 9 - 12","This timely anthology examines the use of drones by the military, law enforcement, border patrol, and civilians. Articles condoning the use of drones in military engagements abroad are balanced with reportage of civilian deaths and resulting creation of more terrorists. Pieces touting the effectiveness of drones in domestic surveillance are countered by assertions that they violate Americans’ civil liberties. Opinions about the pros and cons of drone use in securing our borders, as well as the potential benefits and dangers of their commercial use, will add to readers’ deep understanding of this complex issue.","English",46.4,37.119999999999997,null,"224 pp.",{"$f":"Table1[[#This Row],['# of Books]]*Table1[[#This Row],[QTY]]","v":0},{"$f":"Table1[[#This Row],[QTY]]*Table1[[#This Row],[School & Library Price]]","v":0}]
[null,26,11,null,"Current Issues","Current Controversies","Drones, Surveillance, and Targeted Killings","978-1-5345-0008-2","Greenhaven Publishing","eBook",1,2017,"January 2017","eBook",null,"Edited by","Anne Cunningham",null,null,null,null,"Z",null,null,null,"Grade 9 - 12","This timely anthology examines the use of drones by the military, law enforcement, border patrol, and civilians. Articles condoning the use of drones in military engagements abroad are balanced with reportage of civilian deaths and resulting creation of more terrorists. Pieces touting the effectiveness of drones in domestic surveillance are countered by assertions that they violate Americans’ civil liberties. Opinions about the pros and cons of drone use in securing our borders, as well as the potential benefits and dangers of their commercial use, will add to readers’ deep understanding of this complex issue.","English",46.4,37.119999999999997,null,"224 pp.",{"$f":"Table1[[#This Row],['# of Books]]*Table1[[#This Row],[QTY]]","v":0},{"$f":"Table1[[#This Row],[QTY]]*Table1[[#This Row],[School & Library Price]]","v":0}]
[null,26,11,null,"Current Issues","Current Controversies","Drones, Surveillance, and Targeted Killings","978-1-5345-0036-5","Greenhaven Publishing","Paperback Book",1,2017,"January 2017","Paperback","6.000 X 9.000","Editor","Anne Cunningham",null,null,null,null,"Z",null,"Years 14 - 17",null,"Grade 9 - 12","This timely anthology examines the use of drones by the military, law enforcement, border patrol, and civilians. Articles condoning the use of drones in military engagements abroad are balanced with reportage of civilian deaths and resulting creation of more terrorists. Pieces touting the effectiveness of drones in domestic surveillance are countered by assertions that they violate Americans’ civil liberties. Opinions about the pros and cons of drone use in securing our borders, as well as the potential benefits and dangers of their commercial use, will add to readers’ deep understanding of this complex issue.","English",32,25.6,null,"224 pp.",{"$f":"Table1[[#This Row],['# of Books]]*Table1[[#This Row],[QTY]]","v":0},{"$f":"Table1[[#This Row],[QTY]]*Table1[[#This Row],[School & Library Price]]","v":0}]
[null,26,11,null,"Current Issues","Current Controversies","Genetic Engineering","978-1-5345-0017-4","Greenhaven Publishing","Library Bound Book",1,2017,"January 2017","Library Bound","6.000 X 9.000","Editor","Susan Henneberg",null,null,null,null,"Z",null,"Years 14 - 17",null,"Grade 9 - 12","As scientists continue to make genetic breakthroughs, society inches ever closer to confronting the stuff horror movies are made of. Cloning a mourned pet is simply strange, but the thought of human cloning is terrifying. Manipulating genes to reduce genetic disease is encouraging only until we consider the ethical implications of potentially creating a master race. Genetically engineering crops and animals can address many problems like disease, climate change, and world hunger, but altering the environment could have catastrophic results for Earth. Articles presenting these issues from persuasive points of view help readers understanding the controversies surrounding genetic engineering today.","English",46.4,37.119999999999997,null,"224 pp.",{"$f":"Table1[[#This Row],['# of Books]]*Table1[[#This Row],[QTY]]","v":0},{"$f":"Table1[[#This Row],[QTY]]*Table1[[#This Row],[School & Library Price]]","v":0}]
[null,26,11,null,"Current Issues","Current Controversies","Genetic Engineering","978-1-5345-0009-9","Greenhaven Publishing","eBook",1,2017,"January 2017","eBook",null,"Edited by","Susan Henneberg",null,null,null,null,"Z",null,null,null,"Grade 9 - 12","As scientists continue to make genetic breakthroughs, society inches ever closer to confronting the stuff horror movies are made of. Cloning a mourned pet is simply strange, but the thought of human cloning is terrifying. Manipulating genes to reduce genetic disease is encouraging only until we consider the ethical implications of potentially creating a master race. Genetically engineering crops and animals can address many problems like disease, climate change, and world hunger, but altering the environment could have catastrophic results for Earth. Articles presenting these issues from persuasive points of view help readers understanding the controversies surrounding genetic engineering today.","English",46.4,37.119999999999997,null,"224 pp.",{"$f":"Table1[[#This Row],['# of Books]]*Table1[[#This Row],[QTY]]","v":0},{"$f":"Table1[[#This Row],[QTY]]*Table1[[#This Row],[School & Library Price]]","v":0}]
[null,26,11,null,"Current Issues","Current Controversies","Genetic Engineering","978-1-5345-0038-9","Greenhaven Publishing","Paperback Book",1,2017,"January 2017","Paperback","6.000 X 9.000","Editor","Susan Henneberg",null,null,null,null,"Z",null,"Years 14 - 17",null,"Grade 9 - 12","As scientists continue to make genetic breakthroughs, society inches ever closer to confronting the stuff horror movies are made of. Cloning a mourned pet is simply strange, but the thought of human cloning is terrifying. Manipulating genes to reduce genetic disease is encouraging only until we consider the ethical implications of potentially creating a master race. Genetically engineering crops and animals can address many problems like disease, climate change, and world hunger, but altering the environment could have catastrophic results for Earth. Articles presenting these issues from persuasive points of view help readers understanding the controversies surrounding genetic engineering today.","English",32,25.6,null,"224 pp.",{"$f":"Table1[[#This Row],['# of Books]]*Table1[[#This Row],[QTY]]","v":0},{"$f":"Table1[[#This Row],[QTY]]*Table1[[#This Row],[School & Library Price]]","v":0}]
[null,26,11,null,"Current Issues","Current Controversies","LGBT Rights","978-1-5345-0019-8","Greenhaven Publishing","Library Bound Book",1,2017,"January 2017","Library Bound","6.000 X 9.000","Editor","Susan Henneberg",null,null,null,null,"Z",null,"Years 14 - 17",null,"Grade 9 - 12","Great strides have been made in securing rights for the LGBT community in recent years. Although statistics prove that acceptance of LGBT individuals has grown substantially in the past decade, there are still many people who ignore the laws in favor of their own beliefs. This anthology brings together writings from diverse sources to construct a well-balanced examination of LGBT rights in the United States and around the world. Readers will be exposed to both sides of the same-sex marriage debate, the controversy over restroom access for transgender individuals, and the reasons why the LGBT community continues to fight for its rights.","English",46.4,37.119999999999997,null,"224 pp.",{"$f":"Table1[[#This Row],['# of Books]]*Table1[[#This Row],[QTY]]","v":0},{"$f":"Table1[[#This Row],[QTY]]*Table1[[#This Row],[School & Library Price]]","v":0}]
[null,26,11,null,"Current Issues","Current Controversies","LGBT Rights","978-1-5345-0007-5","Greenhaven Publishing","eBook",1,2017,"January 2017","eBook",null,"Author","Susan Henneberg",null,null,null,null,"Z",null,null,null,"Grade 9 - 12","Great strides have been made in securing rights for the LGBT community in recent years. Although statistics prove that acceptance of LGBT individuals has grown substantially in the past decade, there are still many people who ignore the laws in favor of their own beliefs. This anthology brings together writings from diverse sources to construct a well-balanced examination of LGBT rights in the United States and around the world. Readers will be exposed to both sides of the same-sex marriage debate, the controversy over restroom access for transgender individuals, and the reasons why the LGBT community continues to fight for its rights.","English",46.4,37.119999999999997,null,"224 pp.",{"$f":"Table1[[#This Row],['# of Books]]*Table1[[#This Row],[QTY]]","v":0},{"$f":"Table1[[#This Row],[QTY]]*Table1[[#This Row],[School & Library Price]]","v":0}]
[null,26,11,null,"Current Issues","Current Controversies","LGBT Rights","978-1-5345-0035-8","Greenhaven Publishing","Paperback Book",1,2017,"January 2017","Paperback","6.000 X 9.000","Editor","Susan Henneberg",null,null,null,null,"Z",null,"Years 14 - 17",null,"Grade 9 - 12","Great strides have been made in securing rights for the LGBT community in recent years. Although statistics prove that acceptance of LGBT individuals has grown substantially in the past decade, there are still many people who ignore the laws in favor of their own beliefs. This anthology brings together writings from diverse sources to construct a well-balanced examination of LGBT rights in the United States and around the world. Readers will be exposed to both sides of the same-sex marriage debate, the controversy over restroom access for transgender individuals, and the reasons why the LGBT community continues to fight for its rights.","English",32,25.6,null,"224 pp.",{"$f":"Table1[[#This Row],['# of Books]]*Table1[[#This Row],[QTY]]","v":0},{"$f":"Table1[[#This Row],[QTY]]*Table1[[#This Row],[School & Library Price]]","v":0}]
[null,26,11,null,"Current Issues","Current Controversies","Privacy and Security in the Digital Age","978-1-5345-0021-1","Greenhaven Publishing","Library Bound Book",1,2017,"January 2017","Library Bound","6.000 X 9.000","Editor","Anne Cunningham",null,null,null,null,"Z",null,"Years 14 - 17",null,"Grade 9 - 12","The digital age has enhanced our lives in such profound ways that it’s difficult to imagine how we ever coped without computers, the internet, and smartphone cameras. But along with the obvious improvements that technology offers come threats to our personal freedoms. Readers of this enlightening anthology will be faced with complicated dilemmas from a variety of informed viewpoints: Does the government have the right to monitor its citizens? Should consumers have expectations of privacy? Does video surveillance make us safer in our communities? Is security more important than liberty?","English",46.4,37.119999999999997,null,"224 pp.",{"$f":"Table1[[#This Row],['# of Books]]*Table1[[#This Row],[QTY]]","v":0},{"$f":"Table1[[#This Row],[QTY]]*Table1[[#This Row],[School & Library Price]]","v":0}]
[null,26,11,null,"Current Issues","Current Controversies","Privacy and Security in the Digital Age","978-1-5345-0006-8","Greenhaven Publishing","eBook",1,2017,"January 2017","eBook",null,"Edited by","Anne Cunningham",null,null,null,null,"Z",null,null,null,"Grade 9 - 12","The digital age has enhanced our lives in such profound ways that it’s difficult to imagine how we ever coped without computers, the internet, and smartphone cameras. But along with the obvious improvements that technology offers come threats to our personal freedoms. Readers of this enlightening anthology will be faced with complicated dilemmas from a variety of informed viewpoints: Does the government have the right to monitor its citizens? Should consumers have expectations of privacy? Does video surveillance make us safer in our communities? Is security more important than liberty?","English",46.4,37.119999999999997,null,"224 pp.",{"$f":"Table1[[#This Row],['# of Books]]*Table1[[#This Row],[QTY]]","v":0},{"$f":"Table1[[#This Row],[QTY]]*Table1[[#This Row],[School & Library Price]]","v":0}]
[null,26,11,null,"Current Issues","Current Controversies","Privacy and Security in the Digital Age","978-1-5345-0032-7","Greenhaven Publishing","Paperback Book",1,2017,"January 2017","Paperback","6.000 X 9.000","Editor","Anne Cunningham",null,null,null,null,"Z",null,"Years 14 - 17",null,"Grade 9 - 12","The digital age has enhanced our lives in such profound ways that it’s difficult to imagine how we ever coped without computers, the internet, and smartphone cameras. But along with the obvious improvements that technology offers come threats to our personal freedoms. Readers of this enlightening anthology will be faced with complicated dilemmas from a variety of informed viewpoints: Does the government have the right to monitor its citizens? Should consumers have expectations of privacy? Does video surveillance make us safer in our communities? Is security more important than liberty?","English",32,25.6,null,"224 pp.",{"$f":"Table1[[#This Row],['# of Books]]*Table1[[#This Row],[QTY]]","v":0},{"$f":"Table1[[#This Row],[QTY]]*Table1[[#This Row],[School & Library Price]]","v":0}]
[null,26,11,null,"Current Issues","Current Controversies","Abortion","978-0-7377-7205-0","Greenhaven Publishing","Library Bound Book",1,2015,null,"Library Bound","6.000 X 9.000","Author","Tamara Thompson",null,null,null,null,null,null,"Years 15 - 17",null,"Grade 10 - 12",null,"English",46.4,37.119999999999997,"363","227 pp.",{"$f":"Table1[[#This Row],['# of Books]]*Table1[[#This Row],[QTY]]","v":0},{"$f":"Table1[[#This Row],[QTY]]*Table1[[#This Row],[School & Library Price]]","v":0}]
[null,26,11,null,"Current Issues","Current Controversies","Abortion","978-0-7377-7206-7","Greenhaven Publishing","Paperback Book",1,2015,null,"Paperback","6.000 X 9.000","Author","Tamara Thompson",null,null,null,null,null,null,"Years 15 - 17",null,"Grade 10 - 12",null,"English",32,25.6,"363","227 pp.",{"$f":"Table1[[#This Row],['# of Books]]*Table1[[#This Row],[QTY]]","v":0},{"$f":"Table1[[#This Row],[QTY]]*Table1[[#This Row],[School & Library Price]]","v":0}]
[null,26,11,null,"Current Issues","Current Controversies","Abortion","978-0-7377-7670-6","Greenhaven Publishing","eBook",1,2015,null,"eBook",null,"Author","Tamara Thompson",null,null,null,null,null,null,"Years 15 - 17",null,"Grade 10 - 12",null,"English",46.4,46.4,"362.1988","227 pp.",{"$f":"Table1[[#This Row],['# of Books]]*Table1[[#This Row],[QTY]]","v":0},{"$f":"Table1[[#This Row],[QTY]]*Table1[[#This Row],[School & Library Price]]","v":0}]
[null,27,11,null,"Current Issues","Current Controversies","Animal Rights","978-0-7377-7207-4","Greenhaven Publishing","Library Bound Book",1,2015,null,"Library Bound","6.000 X 9.000","Author","Noah Berlatsky",null,null,null,null,null,null,"Years 15 - 17",null,"Grade 10 - 12",null,"English",46.4,37.119999999999997,"179","182 pp.",{"$f":"Table1[[#This Row],['# of Books]]*Table1[[#This Row],[QTY]]","v":0},{"$f":"Table1[[#This Row],[QTY]]*Table1[[#This Row],[School & Library Price]]","v":0}]
[null,27,11,null,"Current Issues","Current Controversies","Animal Rights","978-0-7377-7208-1","Greenhaven Publishing","Paperback Book",1,2015,null,"Paperback","6.000 X 9.000","Author","Noah Berlatsky",null,null,null,null,null,null,"Years 15 - 17",null,"Grade 10 - 12",null,"English",32,25.6,"179","182 pp.",{"$f":"Table1[[#This Row],['# of Books]]*Table1[[#This Row],[QTY]]","v":0},{"$f":"Table1[[#This Row],[QTY]]*Table1[[#This Row],[School & Library Price]]","v":0}]
[null,27,11,null,"Current Issues","Current Controversies","Animal Rights","978-0-7377-7671-3","Greenhaven Publishing","eBook",1,2015,null,"eBook",null,"Author","Noah Berlatsky",null,null,null,null,null,null,"Years 15 - 17",null,"Grade 10 - 12",null,"English",46.4,46.4,"179.3","182 pp.",{"$f":"Table1[[#This Row],['# of Books]]*Table1[[#This Row],[QTY]]","v":0},{"$f":"Table1[[#This Row],[QTY]]*Table1[[#This Row],[School & Library Price]]","v":0}]
[null,27,11,null,"Current Issues","Current Controversies","Bullying","978-0-7377-7211-1","Greenhaven Publishing","Library Bound Book",1,2015,null,"Library Bound","6.000 X 9.000","Author","Amy Francis",null,null,null,null,null,null,"Years 15 - 17",null,"Grade 10 - 12",null,"English",46.4,37.119999999999997,"302","175 pp.",{"$f":"Table1[[#This Row],['# of Books]]*Table1[[#This Row],[QTY]]","v":0},{"$f":"Table1[[#This Row],[QTY]]*Table1[[#This Row],[School & Library Price]]","v":0}]
[null,27,11,null,"Current Issues","Current Controversies","Bullying","978-0-7377-7212-8","Greenhaven Publishing","Paperback Book",1,2015,null,"Paperback","6.000 X 9.000","Author","Amy Francis",null,null,null,null,null,null,"Years 15 - 17",null,"Grade 10 - 12",null,"English",32,25.6,"302","175 pp.",{"$f":"Table1[[#This Row],['# of Books]]*Table1[[#This Row],[QTY]]","v":0},{"$f":"Table1[[#This Row],[QTY]]*Table1[[#This Row],[School & Library Price]]","v":0}]
[null,27,11,null,"Current Issues","Current Controversies","Bullying","978-0-7377-7672-0","Greenhaven Publishing","eBook",1,2015,null,"eBook",null,"Author","Noah Berlatsky",null,null,null,null,null,null,"Years 15 - 17",null,"Grade 10 - 12",null,"English",46.4,46.4,"302.34","175 pp.",{"$f":"Table1[[#This Row],['# of Books]]*Table1[[#This Row],[QTY]]","v":0},{"$f":"Table1[[#This Row],[QTY]]*Table1[[#This Row],[School & Library Price]]","v":0}]
[null,27,11,null,"Current Issues","Current Controversies","Death Penalty","978-0-7377-7213-5","Greenhaven Publishing","Library Bound Book",1,2015,null,"Library Bound","6.000 X 9.000","Author","Noël Merino",null,null,null,null,null,null,"Years 15 - 17",null,"Grade 10 - 12","CURRENT CONTROVERSIES: DEATH PENALTY takes a look at whether the death penalty is just and ethical, if it serves a public good, if it is applied fairly, and how the US death penalty practices should be reformed.","English",46.4,37.119999999999997,"364","157 pp.",{"$f":"Table1[[#This Row],['# of Books]]*Table1[[#This Row],[QTY]]","v":0},{"$f":"Table1[[#This Row],[QTY]]*Table1[[#This Row],[School & Library Price]]","v":0}]
[null,27,11,null,"Current Issues","Current Controversies","Death Penalty","978-0-7377-7214-2","Greenhaven Publishing","Paperback Book",1,2015,null,"Paperback","6.000 X 9.000","Author","Noël Merino",null,null,null,null,null,null,"Years 15 - 17",null,"Grade 10 - 12","CURRENT CONTROVERSIES: DEATH PENALTY takes a look at whether the death penalty is just and ethical, if it serves a public good, if it is applied fairly, and how the US death penalty practices should be reformed.","English",32,25.6,"364","157 pp.",{"$f":"Table1[[#This Row],['# of Books]]*Table1[[#This Row],[QTY]]","v":0},{"$f":"Table1[[#This Row],[QTY]]*Table1[[#This Row],[School & Library Price]]","v":0}]
[null,27,11,null,"Current Issues","Current Controversies","Drug Legalization","978-0-7377-7215-9","Greenhaven Publishing","Library Bound Book",1,2015,null,"Library Bound","6.000 X 9.000","Author","Noël Merino",null,null,null,null,null,null,"Years 15 - 17",null,"Grade 10 - 12",null,"English",46.4,37.119999999999997,"363","185 pp.",{"$f":"Table1[[#This Row],['# of Books]]*Table1[[#This Row],[QTY]]","v":0},{"$f":"Table1[[#This Row],[QTY]]*Table1[[#This Row],[School & Library Price]]","v":0}]
[null,27,11,null,"Current Issues","Current Controversies","Drug Legalization","978-0-7377-7216-6","Greenhaven Publishing","Paperback Book",1,2015,null,"Paperback","6.000 X 9.000","Author","Noël Merino",null,null,null,null,null,null,"Years 15 - 17",null,"Grade 10 - 12",null,"English",32,25.6,"363","185 pp.",{"$f":"Table1[[#This Row],['# of Books]]*Table1[[#This Row],[QTY]]","v":0},{"$f":"Table1[[#This Row],[QTY]]*Table1[[#This Row],[School & Library Price]]","v":0}]
[null,27,11,null,"Current Issues","Current Controversies","Drug Legalization","978-0-7377-7676-8","Greenhaven Publishing","eBook",1,2015,null,"eBook",null,"Author","Scott Barbour",null,null,null,null,null,null,"Years 15 - 17",null,"Grade 10 - 12",null,"English",46.4,46.4,"363.450973","185 pp.",{"$f":"Table1[[#This Row],['# of Books]]*Table1[[#This Row],[QTY]]","v":0},{"$f":"Table1[[#This Row],[QTY]]*Table1[[#This Row],[School & Library Price]]","v":0}]
[null,27,11,null,"Current Issues","Current Controversies","Gangs","978-0-7377-7217-3","Greenhaven Publishing","Library Bound Book",1,2015,null,"Library Bound","6.000 X 9.000","Author","Noah Berlatsky",null,null,null,null,null,null,"Years 15 - 17",null,"Grade 10 - 12","This title in the CURRENT CONTROVERSIES SERIES explores the causes of gang formation and gang violence, whether the number of gangs and gang violence is increasing in the United States.","English",46.4,37.119999999999997,"364","240 pp.",{"$f":"Table1[[#This Row],['# of Books]]*Table1[[#This Row],[QTY]]","v":0},{"$f":"Table1[[#This Row],[QTY]]*Table1[[#This Row],[School & Library Price]]","v":0}]
[null,27,11,null,"Current Issues","Current Controversies","Gangs","978-0-7377-7218-0","Greenhaven Publishing","Paperback Book",1,2015,null,"Paperback","6.000 X 9.000","Author","Noah Berlatsky",null,null,null,null,null,null,"Years 15 - 17",null,"Grade 10 - 12","This title in the CURRENT CONTROVERSIES SERIES explores the causes of gang formation and gang violence, whether the number of gangs and gang violence is increasing in the United States.","English",32,25.6,"364","238 pp.",{"$f":"Table1[[#This Row],['# of Books]]*Table1[[#This Row],[QTY]]","v":0},{"$f":"Table1[[#This Row],[QTY]]*Table1[[#This Row],[School & Library Price]]","v":0}]
[null,27,11,null,"Current Issues","Current Controversies","Gangs","978-0-7377-7677-5","Greenhaven Publishing","eBook",1,2015,null,"eBook",null,"Author","Noah Berlatsky",null,null,null,null,null,null,"Years 15 - 17",null,"Grade 10 - 12",null,"English",46.4,46.4,"364.106","240 pp.",{"$f":"Table1[[#This Row],['# of Books]]*Table1[[#This Row],[QTY]]","v":0},{"$f":"Table1[[#This Row],[QTY]]*Table1[[#This Row],[School & Library Price]]","v":0}]
[null,28,11,null,"Current Issues","Current Controversies","Medical Ethics","978-0-7377-7221-0","Greenhaven Publishing","Library Bound Book",1,2015,null,"Library Bound","6.000 X 9.000","Author","Noël Merino",null,null,null,null,null,null,"Years 15 - 17",null,"Grade 10 - 12","This title in the CURRENT CONTROVERSIES SERIES examines topics that pertain to medical ethics, including the establishment of medical ethics, medical research, and end-of-life decisions.","English",46.4,37.119999999999997,"174","208 pp.",{"$f":"Table1[[#This Row],['# of Books]]*Table1[[#This Row],[QTY]]","v":0},{"$f":"Table1[[#This Row],[QTY]]*Table1[[#This Row],[School & Library Price]]","v":0}]
[null,28,11,null,"Current Issues","Current Controversies","Medical Ethics","978-0-7377-7222-7","Greenhaven Publishing","Paperback Book",1,2015,null,"Paperback","6.000 X 9.000","Author","Noël Merino",null,null,null,null,null,null,"Years 15 - 17",null,"Grade 10 - 12","This title in the CURRENT CONTROVERSIES SERIES examines topics that pertain to medical ethics, including the establishment of medical ethics, medical research, and end-of-life decisions.","English",32,25.6,"174","208 pp.",{"$f":"Table1[[#This Row],['# of Books]]*Table1[[#This Row],[QTY]]","v":0},{"$f":"Table1[[#This Row],[QTY]]*Table1[[#This Row],[School & Library Price]]","v":0}]
[null,28,11,null,"Current Issues","Current Controversies","Racial Profiling","978-0-7377-7223-4","Greenhaven Publishing","Library Bound Book",1,2015,null,"Library Bound","6.000 X 9.000","Author","Noël Merino",null,null,null,null,null,null,"Years 15 - 17",null,"Grade 10 - 12",null,"English",46.4,37.119999999999997,"363","184 pp.",{"$f":"Table1[[#This Row],['# of Books]]*Table1[[#This Row],[QTY]]","v":0},{"$f":"Table1[[#This Row],[QTY]]*Table1[[#This Row],[School & Library Price]]","v":0}]
[null,28,11,null,"Current Issues","Current Controversies","Racial Profiling","978-0-7377-7224-1","Greenhaven Publishing","Paperback Book",1,2015,null,"Paperback","6.000 X 9.000","Author","Noël Merino",null,null,null,null,null,null,"Years 15 - 17",null,"Grade 10 - 12",null,"English",32,25.6,"363","181 pp.",{"$f":"Table1[[#This Row],['# of Books]]*Table1[[#This Row],[QTY]]","v":0},{"$f":"Table1[[#This Row],[QTY]]*Table1[[#This Row],[School & Library Price]]","v":0}]
[null,28,11,null,"Current Issues","Current Controversies","Racial Profiling","978-0-7377-7680-5","Greenhaven Publishing","eBook",1,2015,null,"eBook",null,"Author","Noel Merino",null,null,null,null,null,null,"Years 15 - 17",null,"Grade 10 - 12",null,"English",46.4,46.4,"363.2","184 pp.",{"$f":"Table1[[#This Row],['# of Books]]*Table1[[#This Row],[QTY]]","v":0},{"$f":"Table1[[#This Row],[QTY]]*Table1[[#This Row],[School & Library Price]]","v":0}]
[null,29,11,null,"Current Issues","Current Controversies","Same-Sex Marriage","978-0-7377-7219-7","Greenhaven Publishing","Library Bound Book",1,2015,null,"Library Bound","6.000 X 9.000","Author","Tamara Thompson",null,null,null,null,null,null,"Years 15 - 17",null,"Grade 10 - 12",null,"English",46.4,37.119999999999997,"306","261 pp.",{"$f":"Table1[[#This Row],['# of Books]]*Table1[[#This Row],[QTY]]","v":0},{"$f":"Table1[[#This Row],[QTY]]*Table1[[#This Row],[School & Library Price]]","v":0}]
[null,29,11,null,"Current Issues","Current Controversies","Same-Sex Marriage","978-0-7377-7220-3","Greenhaven Publishing","Paperback Book",1,2015,null,"Paperback","6.000 X 9.000","Author","Tamara Thompson",null,null,null,null,null,null,"Years 15 - 17",null,"Grade 10 - 12",null,"English",32,25.6,"306","261 pp.",{"$f":"Table1[[#This Row],['# of Books]]*Table1[[#This Row],[QTY]]","v":0},{"$f":"Table1[[#This Row],[QTY]]*Table1[[#This Row],[School & Library Price]]","v":0}]
[null,29,11,null,"Current Issues","Current Controversies","Same-Sex Marriage","978-0-7377-7681-2","Greenhaven Publishing","eBook",1,2015,null,"eBook",null,"Author","Tamara Thompson",null,null,null,null,null,null,"Years 15 - 17",null,"Grade 10 - 12",null,"English",46.4,46.4,"306.84","261 pp.",{"$f":"Table1[[#This Row],['# of Books]]*Table1[[#This Row],[QTY]]","v":0},{"$f":"Table1[[#This Row],[QTY]]*Table1[[#This Row],[School & Library Price]]","v":0}]
[null,29,11,null,"Current Issues","Current Controversies","Vegetarianism","978-0-7377-7227-2","Greenhaven Publishing","Library Bound Book",1,2015,null,"Library Bound","6.000 X 9.000","Author","Amy Francis",null,null,null,null,null,null,"Years 15 - 17",null,"Grade 10 - 12","This edition in the CURRENT CONTROVERSIES SERIES explores such questions surrounding eating a plant-based diet including if meat-based diets are necessarily bad for the planet, the moral and spiritual implications of vegetarianism.","English",46.4,37.119999999999997,"613","232 pp.",{"$f":"Table1[[#This Row],['# of Books]]*Table1[[#This Row],[QTY]]","v":0},{"$f":"Table1[[#This Row],[QTY]]*Table1[[#This Row],[School & Library Price]]","v":0}]
[null,29,11,null,"Current Issues","Current Controversies","Vegetarianism","978-0-7377-7228-9","Greenhaven Publishing","Paperback Book",1,2015,null,"Paperback","6.000 X 9.000","Author","Amy Francis",null,null,null,null,null,null,"Years 15 - 17",null,"Grade 10 - 12","This edition in the CURRENT CONTROVERSIES SERIES explores such questions surrounding eating a plant-based diet including if meat-based diets are necessarily bad for the planet, the moral and spiritual implications of vegetarianism.","English",32,25.6,"613","224 pp.",{"$f":"Table1[[#This Row],['# of Books]]*Table1[[#This Row],[QTY]]","v":0},{"$f":"Table1[[#This Row],[QTY]]*Table1[[#This Row],[School & Library Price]]","v":0}]
[null,29,11,null,"Current Issues","Current Controversies","Vegetarianism","978-0-7377-7683-6","Greenhaven Publishing","eBook",1,2015,null,"eBook",null,"Author","Amy Francis",null,null,null,null,null,null,"Years 15 - 17",null,"Grade 10 - 12",null,"English",46.4,46.4,"613.2","232 pp.",{"$f":"Table1[[#This Row],['# of Books]]*Table1[[#This Row],[QTY]]","v":0},{"$f":"Table1[[#This Row],[QTY]]*Table1[[#This Row],[School & Library Price]]","v":0}]
[null,null,11,null,"Current Issues","Current Controversies","Current Controversies (Coming Aug 2018)","978-1-5345-0368-7","Greenhaven Publishing","Library Set",6,2019,"August 2018","Library","6.000 X 9.000"," "," ",null,null,null,null,null,null,"Years 14 - 17","Grade 10 - 12","Grade 9 - 12","Each anthology in the Current Controversies series presents a diverse array of views from a wide spectrum of sources. Views are organized in a question-and-response format to encourage readers to view complex issues from multiple angles. This approach provides students with a concise view of divergent opinions on each topic.","English",278.39999999999998,222.72,null,null,{"$f":"Table1[[#This Row],['# of Books]]*Table1[[#This Row],[QTY]]","v":0},{"$f":"Table1[[#This Row],[QTY]]*Table1[[#This Row],[School & Library Price]]","v":0}]
[null,null,11,null,"Current Issues","Current Controversies","Current Controversies (Coming Aug 2018)","978-1-5345-0374-8","Greenhaven Publishing","Single Copy Set",6,2019,"August 2018","Paperback","6.000 X 9.000"," "," ",null,null,null,null,null,null,"Years 14 - 17","Grade 10 - 12","Grade 9 - 12","Each anthology in the Current Controversies series presents a diverse array of views from a wide spectrum of sources. Views are organized in a question-and-response format to encourage readers to view complex issues from multiple angles. This approach provides students with a concise view of divergent opinions on each topic.","English",192,153.69999999999999,null,null,{"$f":"Table1[[#This Row],['# of Books]]*Table1[[#This Row],[QTY]]","v":0},{"$f":"Table1[[#This Row],[QTY]]*Table1[[#This Row],[School & Library Price]]","v":0}]
[null,null,11,null,"Current Issues","Current Controversies","The Energy Industry","978-1-5345-0301-4","Greenhaven Publishing","Library Bound Book",1,2019,"August 2018","Library","6.000 X 9.000","Edited by","Kristina Lyn Heitkamp",null,null,null,null,"Z",null,"Years 14 - 17","Grade 10 - 12","Grade 9 - 12","The debate over how the energy industry should develop in the United States and beyond has reached a critical point. The search for cleaner and more sustainable fuel sources continues, but with the United States' proposed withdrawal from the Paris climate accord and the expansion of the Keystone XL pipeline approved by the Trump administration, the issue of how America's energy policy should develop in the coming years is more complicated than ever. Readers will gain a better understanding of the factual information on the energy industry and learn the key arguments in the debate surrounding it.","English",46.4,37.119999999999997,null,null,{"$f":"Table1[[#This Row],['# of Books]]*Table1[[#This Row],[QTY]]","v":0},{"$f":"Table1[[#This Row],[QTY]]*Table1[[#This Row],[School & Library Price]]","v":0}]
[null,null,11,null,"Current Issues","Current Controversies","The Energy Industry","978-1-5345-0302-1","Greenhaven Publishing","Paperback Book",1,2019,"August 2018","Paperback","6.000 X 9.000","Edited by","Kristina Lyn Heitkamp",null,null,null,null,"Z",null,"Years 14 - 17","Grade 10 - 12","Grade 9 - 12","The debate over how the energy industry should develop in the United States and beyond has reached a critical point. The search for cleaner and more sustainable fuel sources continues, but with the United States' proposed withdrawal from the Paris climate accord and the expansion of the Keystone XL pipeline approved by the Trump administration, the issue of how America's energy policy should develop in the coming years is more complicated than ever. Readers will gain a better understanding of the factual information on the energy industry and learn the key arguments in the debate surrounding it.","English",32,25.6,null,null,{"$f":"Table1[[#This Row],['# of Books]]*Table1[[#This Row],[QTY]]","v":0},{"$f":"Table1[[#This Row],[QTY]]*Table1[[#This Row],[School & Library Price]]","v":0}]
[null,null,11,null,"Current Issues","Current Controversies","The Energy Industry","978-1-5345-0303-8","Greenhaven Publishing","eBook",1,2019,"August 2018",null,null,"Edited by","Kristina Lyn Heitkamp",null,null,null,null,"Z",null,"Years 14 - 17","Grade 10 - 12","Grade 9 - 12","The debate over how the energy industry should develop in the United States and beyond has reached a critical point. The search for cleaner and more sustainable fuel sources continues, but with the United States' proposed withdrawal from the Paris climate accord and the expansion of the Keystone XL pipeline approved by the Trump administration, the issue of how America's energy policy should develop in the coming years is more complicated than ever. Readers will gain a better understanding of the factual information on the energy industry and learn the key arguments in the debate surrounding it.","English",46.4,37.119999999999997,null,null,{"$f":"Table1[[#This Row],['# of Books]]*Table1[[#This Row],[QTY]]","v":0},{"$f":"Table1[[#This Row],[QTY]]*Table1[[#This Row],[School & Library Price]]","v":0}]
[null,null,11,null,"Current Issues","Current Controversies","Executive Orders","978-1-5345-0304-5","Greenhaven Publishing","Library Bound Book",1,2019,"August 2018","Library","6.000 X 9.000","Edited by","Marcia Amidon Lusted",null,null,null,null,"Z",null,"Years 14 - 17","Grade 10 - 12","Grade 9 - 12","How much power should the president of the United States possess? This is the key question defining the debate over executive orders. While executive orders have played an important role in key policy changes throughout the United States' history, they can also be perceived as an abuse of power that allows the president to make important decisions without Congress's consent. Through the viewpoints included in this volume, readers will come to better understand what an executive order is and explore the key arguments for and against its usage.","English",46.4,37.119999999999997,null,null,{"$f":"Table1[[#This Row],['# of Books]]*Table1[[#This Row],[QTY]]","v":0},{"$f":"Table1[[#This Row],[QTY]]*Table1[[#This Row],[School & Library Price]]","v":0}]
[null,null,11,null,"Current Issues","Current Controversies","Executive Orders","978-1-5345-0305-2","Greenhaven Publishing","Paperback Book",1,2019,"August 2018","Paperback","6.000 X 9.000","Edited by","Marcia Amidon Lusted",null,null,null,null,"Z",null,"Years 14 - 17","Grade 10 - 12","Grade 9 - 12","How much power should the president of the United States possess? This is the key question defining the debate over executive orders. While executive orders have played an important role in key policy changes throughout the United States' history, they can also be perceived as an abuse of power that allows the president to make important decisions without Congress's consent. Through the viewpoints included in this volume, readers will come to better understand what an executive order is and explore the key arguments for and against its usage.","English",32,25.6,null,null,{"$f":"Table1[[#This Row],['# of Books]]*Table1[[#This Row],[QTY]]","v":0},{"$f":"Table1[[#This Row],[QTY]]*Table1[[#This Row],[School & Library Price]]","v":0}]
[null,null,11,null,"Current Issues","Current Controversies","Executive Orders","978-1-5345-0306-9","Greenhaven Publishing","eBook",1,2019,"August 2018",null,null,"Edited by","Marcia Amidon Lusted",null,null,null,null,"Z",null,"Years 14 - 17","Grade 10 - 12","Grade 9 - 12","How much power should the president of the United States possess? This is the key question defining the debate over executive orders. While executive orders have played an important role in key policy changes throughout the United States' history, they can also be perceived as an abuse of power that allows the president to make important decisions without Congress's consent. Through the viewpoints included in this volume, readers will come to better understand what an executive order is and explore the key arguments for and against its usage.","English",46.4,37.119999999999997,null,null,{"$f":"Table1[[#This Row],['# of Books]]*Table1[[#This Row],[QTY]]","v":0},{"$f":"Table1[[#This Row],[QTY]]*Table1[[#This Row],[School & Library Price]]","v":0}]
[null,null,11,null,"Current Issues","Current Controversies","Freedom of Speech on Campus","978-1-5345-0307-6","Greenhaven Publishing","Library Bound Book",1,2019,"August 2018","Library","6.000 X 9.000","Edited by","Eamon Doyle",null,null,null,null,"Z",null,"Years 14 - 17","Grade 10 - 12","Grade 9 - 12","Freedom of speech is a fundamental aspect of American democracy, and university campuses have historically been central to the free speech debate through serving as protectors of this constitutional right. In recent years, campuses have returned to the center of this debate as our notion of what kinds of speech are acceptable and how speech should be controlled continues to develop. With the rise of trigger warnings, designated free-speech zones, and controversial speakers being disinvited from lecturing at universities, the question of whether campuses continue to represent the future of free speech or symbolize its repression has become progressively urgent.","English",46.4,37.119999999999997,null,null,{"$f":"Table1[[#This Row],['# of Books]]*Table1[[#This Row],[QTY]]","v":0},{"$f":"Table1[[#This Row],[QTY]]*Table1[[#This Row],[School & Library Price]]","v":0}]
[null,null,11,null,"Current Issues","Current Controversies","Freedom of Speech on Campus","978-1-5345-0308-3","Greenhaven Publishing","Paperback Book",1,2019,"August 2018","Paperback","6.000 X 9.000","Edited by","Eamon Doyle",null,null,null,null,"Z",null,"Years 14 - 17","Grade 10 - 12","Grade 9 - 12","Freedom of speech is a fundamental aspect of American democracy, and university campuses have historically been central to the free speech debate through serving as protectors of this constitutional right. In recent years, campuses have returned to the center of this debate as our notion of what kinds of speech are acceptable and how speech should be controlled continues to develop. With the rise of trigger warnings, designated free-speech zones, and controversial speakers being disinvited from lecturing at universities, the question of whether campuses continue to represent the future of free speech or symbolize its repression has become progressively urgent.","English",32,25.6,null,null,{"$f":"Table1[[#This Row],['# of Books]]*Table1[[#This Row],[QTY]]","v":0},{"$f":"Table1[[#This Row],[QTY]]*Table1[[#This Row],[School & Library Price]]","v":0}]
[null,null,11,null,"Current Issues","Current Controversies","Freedom of Speech on Campus","978-1-5345-0309-0","Greenhaven Publishing","eBook",1,2019,"August 2018",null,null,"Edited by","Eamon Doyle",null,null,null,null,"Z",null,"Years 14 - 17","Grade 10 - 12","Grade 9 - 12","Freedom of speech is a fundamental aspect of American democracy, and university campuses have historically been central to the free speech debate through serving as protectors of this constitutional right. In recent years, campuses have returned to the center of this debate as our notion of what kinds of speech are acceptable and how speech should be controlled continues to develop. With the rise of trigger warnings, designated free-speech zones, and controversial speakers being disinvited from lecturing at universities, the question of whether campuses continue to represent the future of free speech or symbolize its repression has become progressively urgent.","English",46.4,37.119999999999997,null,null,{"$f":"Table1[[#This Row],['# of Books]]*Table1[[#This Row],[QTY]]","v":0},{"$f":"Table1[[#This Row],[QTY]]*Table1[[#This Row],[School & Library Price]]","v":0}]
[null,null,11,null,"Current Issues","Current Controversies","Political Extremism in the United States","978-1-5345-0310-6","Greenhaven Publishing","Library Bound Book",1,2019,"August 2018","Library","6.000 X 9.000","Edited by","Eamon Doyle",null,null,null,null,"Z",null,"Years 14 - 17","Grade 10 - 12","Grade 9 - 12","The 2016 presidential election brought to light the increasingly polarized nature of American politics. What brought about this political extremism, and can anything be done to curb it? This volume helps to define political extremism, explores the ways in which extremism manifests itself, including hate speech and domestic terrorism, and explains theories about how it can be counteracted. With partisanship in the United States showing no sign of decline without significant intervention, it is more essential than ever to try to understand what brought about this political division.","English",46.4,37.119999999999997,null,null,{"$f":"Table1[[#This Row],['# of Books]]*Table1[[#This Row],[QTY]]","v":0},{"$f":"Table1[[#This Row],[QTY]]*Table1[[#This Row],[School & Library Price]]","v":0}]
[null,null,11,null,"Current Issues","Current Controversies","Political Extremism in the United States","978-1-5345-0311-3","Greenhaven Publishing","Paperback Book",1,2019,"August 2018","Paperback","6.000 X 9.000","Edited by","Eamon Doyle",null,null,null,null,"Z",null,"Years 14 - 17","Grade 10 - 12","Grade 9 - 12","The 2016 presidential election brought to light the increasingly polarized nature of American politics. What brought about this political extremism, and can anything be done to curb it? This volume helps to define political extremism, explores the ways in which extremism manifests itself, including hate speech and domestic terrorism, and explains theories about how it can be counteracted. With partisanship in the United States showing no sign of decline without significant intervention, it is more essential than ever to try to understand what brought about this political division.","English",32,25.6,null,null,{"$f":"Table1[[#This Row],['# of Books]]*Table1[[#This Row],[QTY]]","v":0},{"$f":"Table1[[#This Row],[QTY]]*Table1[[#This Row],[School & Library Price]]","v":0}]
[null,null,11,null,"Current Issues","Current Controversies","Political Extremism in the United States","978-1-5345-0312-0","Greenhaven Publishing","eBook",1,2019,"August 2018",null,null,"Edited by","Eamon Doyle",null,null,null,null,"Z",null,"Years 14 - 17","Grade 10 - 12","Grade 9 - 12","The 2016 presidential election brought to light the increasingly polarized nature of American politics. What brought about this political extremism, and can anything be done to curb it? This volume helps to define political extremism, explores the ways in which extremism manifests itself, including hate speech and domestic terrorism, and explains theories about how it can be counteracted. With partisanship in the United States showing no sign of decline without significant intervention, it is more essential than ever to try to understand what brought about this political division.","English",46.4,37.119999999999997,null,null,{"$f":"Table1[[#This Row],['# of Books]]*Table1[[#This Row],[QTY]]","v":0},{"$f":"Table1[[#This Row],[QTY]]*Table1[[#This Row],[School & Library Price]]","v":0}]
[null,null,11,null,"Current Issues","Current Controversies","States' Rights and the Role of the Federal Government","978-1-5345-0313-7","Greenhaven Publishing","Library Bound Book",1,2019,"August 2018","Library","6.000 X 9.000","Edited by","Marcia Amidon Lusted",null,null,null,null,"Z",null,"Years 14 - 17","Grade 10 - 12","Grade 9 - 12","The balance of power between states and the federal government has long been a point of contention. In an era when one political party controls the three branches of the federal government, the possibility to employ states' rights to resist objectionable federal policy has made it a highly contemporary issue. With states' rights at the center of issues like sanctuary cities, abortion, gun control, and LGBTQ rights, understanding the distribution of power between state and federal government is key to grasping the current political climate and the future of American politics.","English",46.4,37.119999999999997,null,null,{"$f":"Table1[[#This Row],['# of Books]]*Table1[[#This Row],[QTY]]","v":0},{"$f":"Table1[[#This Row],[QTY]]*Table1[[#This Row],[School & Library Price]]","v":0}]
[null,null,11,null,"Current Issues","Current Controversies","States' Rights and the Role of the Federal Government","978-1-5345-0314-4","Greenhaven Publishing","Paperback Book",1,2019,"August 2018","Paperback","6.000 X 9.000","Edited by","Marcia Amidon Lusted",null,null,null,null,"Z",null,"Years 14 - 17","Grade 10 - 12","Grade 9 - 12","The balance of power between states and the federal government has long been a point of contention. In an era when one political party controls the three branches of the federal government, the possibility to employ states' rights to resist objectionable federal policy has made it a highly contemporary issue. With states' rights at the center of issues like sanctuary cities, abortion, gun control, and LGBTQ rights, understanding the distribution of power between state and federal government is key to grasping the current political climate and the future of American politics.","English",32,25.6,null,null,{"$f":"Table1[[#This Row],['# of Books]]*Table1[[#This Row],[QTY]]","v":0},{"$f":"Table1[[#This Row],[QTY]]*Table1[[#This Row],[School & Library Price]]","v":0}]
[null,null,11,null,"Current Issues","Current Controversies","States' Rights and the Role of the Federal Government","978-1-5345-0315-1","Greenhaven Publishing","eBook",1,2019,"August 2018",null,null,"Edited by","Marcia Amidon Lusted",null,null,null,null,"Z",null,"Years 14 - 17","Grade 10 - 12","Grade 9 - 12","The balance of power between states and the federal government has long been a point of contention. In an era when one political party controls the three branches of the federal government, the possibility to employ states' rights to resist objectionable federal policy has made it a highly contemporary issue. With states' rights at the center of issues like sanctuary cities, abortion, gun control, and LGBTQ rights, understanding the distribution of power between state and federal government is key to grasping the current political climate and the future of American politics.","English",46.4,37.119999999999997,null,null,{"$f":"Table1[[#This Row],['# of Books]]*Table1[[#This Row],[QTY]]","v":0},{"$f":"Table1[[#This Row],[QTY]]*Table1[[#This Row],[School & Library Price]]","v":0}]
[null,null,11,null,"Current Issues","Current Controversies","Universal Health Care","978-1-5345-0316-8","Greenhaven Publishing","Library Bound Book",1,2019,"August 2018","Library","6.000 X 9.000","Edited by","Kristina Lyn Heitkamp",null,null,null,null,"Z",null,"Years 14 - 17","Grade 10 - 12","Grade 9 - 12","With the Affordable Care Act signed into law in 2010, the United States seemed closer than ever to achieving universal health care. However, repealing the act has been a key goal for the Trump administration and the Republican-controlled Congress, with the main arguments against it including the higher premiums for middle-class Americans and the abuse of government power through its control of the insurance industry. This volume helps define universal health care, explains the arguments for and against it, and discusses attempts to implement it on an international scale.","English",46.4,37.119999999999997,null,null,{"$f":"Table1[[#This Row],['# of Books]]*Table1[[#This Row],[QTY]]","v":0},{"$f":"Table1[[#This Row],[QTY]]*Table1[[#This Row],[School & Library Price]]","v":0}]
[null,null,11,null,"Current Issues","Current Controversies","Universal Health Care","978-1-5345-0317-5","Greenhaven Publishing","Paperback Book",1,2019,"August 2018","Paperback","6.000 X 9.000","Edited by","Kristina Lyn Heitkamp",null,null,null,null,"Z",null,"Years 14 - 17","Grade 10 - 12","Grade 9 - 12","With the Affordable Care Act signed into law in 2010, the United States seemed closer than ever to achieving universal health care. However, repealing the act has been a key goal for the Trump administration and the Republican-controlled Congress, with the main arguments against it including the higher premiums for middle-class Americans and the abuse of government power through its control of the insurance industry. This volume helps define universal health care, explains the arguments for and against it, and discusses attempts to implement it on an international scale.","English",32,25.6,null,null,{"$f":"Table1[[#This Row],['# of Books]]*Table1[[#This Row],[QTY]]","v":0},{"$f":"Table1[[#This Row],[QTY]]*Table1[[#This Row],[School & Library Price]]","v":0}]
[null,null,11,null,"Current Issues","Current Controversies","Universal Health Care","978-1-5345-0318-2","Greenhaven Publishing","eBook",1,2019,"August 2018",null,null,"Edited by","Kristina Lyn Heitkamp",null,null,null,null,"Z",null,"Years 14 - 17","Grade 10 - 12","Grade 9 - 12","With the Affordable Care Act signed into law in 2010, the United States seemed closer than ever to achieving universal health care. However, repealing the act has been a key goal for the Trump administration and the Republican-controlled Congress, with the main arguments against it including the higher premiums for middle-class Americans and the abuse of government power through its control of the insurance industry. This volume helps define universal health care, explains the arguments for and against it, and discusses attempts to implement it on an international scale.","English",46.4,37.119999999999997,null,null,{"$f":"Table1[[#This Row],['# of Books]]*Table1[[#This Row],[QTY]]","v":0},{"$f":"Table1[[#This Row],[QTY]]*Table1[[#This Row],[School & Library Price]]","v":0}]
[null,30,12,null,"Current Issues","Global Viewpoints (Aug '17 Set)","Global Viewpoints (Aug '17 Set)","978-1-5345-0149-2","Greenhaven Publishing","Library Set",6,2018,"August 2017","Library","6.000 X 9.000"," "," ",null,null,null,null,null,null,"Years 14 - 17","Grade 10 - 12","Grade 9 - 12","As technology makes the world more accessible, students need exposure to social, political, environmental, and health issues of global significance. Each anthology in the Global Viewpoints series delivers contemporary views on the featured issue with much of the material reflecting stances of countries other than the United States. Primary sources, including speeches and government documents, join essays from international magazines and news sources for a truly panoramic view.","English",277.2,221.76,null,"224 pp.",{"$f":"Table1[[#This Row],['# of Books]]*Table1[[#This Row],[QTY]]","v":0},{"$f":"Table1[[#This Row],[QTY]]*Table1[[#This Row],[School & Library Price]]","v":0}]
[null,30,12,null,"Current Issues","Global Viewpoints (Aug '17 Set)","Global Viewpoints (Aug '17 Set)","978-1-5345-0150-8","Greenhaven Publishing","Single Copy Set",6,2018,"August 2017","Paperback","6.000 X 9.000"," "," ",null,null,null,null,null,null,"Years 14 - 17","Grade 10 - 12","Grade 9 - 12","As technology makes the world more accessible, students need exposure to social, political, environmental, and health issues of global significance. Each anthology in the Global Viewpoints series delivers contemporary views on the featured issue with much of the material reflecting stances of countries other than the United States. Primary sources, including speeches and government documents, join essays from international magazines and news sources for a truly panoramic view.","English",190.2,152.16,null,"224 pp.",{"$f":"Table1[[#This Row],['# of Books]]*Table1[[#This Row],[QTY]]","v":0},{"$f":"Table1[[#This Row],[QTY]]*Table1[[#This Row],[School & Library Price]]","v":0}]
[null,30,12,null,"Current Issues","Global Viewpoints","Extreme Weather Events","978-1-5345-0114-0","Greenhaven Publishing","Library Bound Book",1,2018,"August 2017","Library","6.000 X 9.000","Edited by","Marcia Amidon Lusted",null,null,null,null,"Z",null,"Years 14 - 17","Grade 10 - 12","Grade 9 - 12","In the wake of every killer hurricane, devastating wild fire, severe drought, or once-in-a-century flooding event, it has become commonplace for scientists, politicians, and ordinary citizens to debate whether or not these severe weather events can be tied directly to climate change and global warming. The scientific consensus generally indicates that we are beginning to see upticks in extreme weather due to warming and the resulting shift in weather patterns. Certain politicians, business interests, and energy executives, however, forcefully reject such connections as unproven and speculative. Where does the truth lie? This anthology collects the strongest viewpoints from across the ideological spectrum and the globe and allows readers to evaluate the arguments and evidence for themselves before forming an educated opinion.","English",46.2,36.96,"551.55--dc23","224 pp.",{"$f":"Table1[[#This Row],['# of Books]]*Table1[[#This Row],[QTY]]","v":0},{"$f":"Table1[[#This Row],[QTY]]*Table1[[#This Row],[School & Library Price]]","v":0}]
[null,30,12,null,"Current Issues","Global Viewpoints","Extreme Weather Events","978-1-5345-0122-5","Greenhaven Publishing","eBook",1,2018,"August 2017",null,null,"Edited by","Marcia Amidon Lusted",null,null,null,null,"Z",null,"Years 14 - 17","Grade 10 - 12","Grade 9 - 12","In the wake of every killer hurricane, devastating wild fire, severe drought, or once-in-a-century flooding event, it has become commonplace for scientists, politicians, and ordinary citizens to debate whether or not these severe weather events can be tied directly to climate change and global warming. The scientific consensus generally indicates that we are beginning to see upticks in extreme weather due to warming and the resulting shift in weather patterns. Certain politicians, business interests, and energy executives, however, forcefully reject such connections as unproven and speculative. Where does the truth lie? This anthology collects the strongest viewpoints from across the ideological spectrum and the globe and allows readers to evaluate the arguments and evidence for themselves before forming an educated opinion.","English",46.2,36.96,"551.55--dc23","224 pp.",{"$f":"Table1[[#This Row],['# of Books]]*Table1[[#This Row],[QTY]]","v":0},{"$f":"Table1[[#This Row],[QTY]]*Table1[[#This Row],[School & Library Price]]","v":0}]
[null,30,12,null,"Current Issues","Global Viewpoints","Extreme Weather Events","978-1-5345-0112-6","Greenhaven Publishing","Paperback Book",1,2018,"August 2017","Paperback","6.000 X 9.000","Edited by","Marcia Amidon Lusted",null,null,null,null,"Z",null,"Years 14 - 17","Grade 10 - 12","Grade 9 - 12","In the wake of every killer hurricane, devastating wild fire, severe drought, or once-in-a-century flooding event, it has become commonplace for scientists, politicians, and ordinary citizens to debate whether or not these severe weather events can be tied directly to climate change and global warming. The scientific consensus generally indicates that we are beginning to see upticks in extreme weather due to warming and the resulting shift in weather patterns. Certain politicians, business interests, and energy executives, however, forcefully reject such connections as unproven and speculative. Where does the truth lie? This anthology collects the strongest viewpoints from across the ideological spectrum and the globe and allows readers to evaluate the arguments and evidence for themselves before forming an educated opinion.","English",31.7,25.36,"551.55--dc23","224 pp.",{"$f":"Table1[[#This Row],['# of Books]]*Table1[[#This Row],[QTY]]","v":0},{"$f":"Table1[[#This Row],[QTY]]*Table1[[#This Row],[School & Library Price]]","v":0}]
[null,30,12,null,"Current Issues","Global Viewpoints","Hate Crimes","978-1-5345-0110-2","Greenhaven Publishing","Library Bound Book",1,2018,"August 2017","Library","6.000 X 9.000","Edited by","Barbara Krasner",null,null,null,null,"Z",null,"Years 14 - 17","Grade 10 - 12","Grade 9 - 12","Few would argue that a violent attack motivated by negative feelings towards the victim’s race, ethnicity, religion, or sexual orientation is a hate crime. But should a hate-motivated crime be punished differently than the same crime committed for a different motive? And what if the crime is verbal—a slur or a ranting blog post or a graffiti scrawl? These may be hateful, but are they hate crimes? And how should they be punished? Are hate crimes on the rise, or are media attention and greater sensitivity to the issue making it appear so? These and other questions are at the center of this thought-provoking collection of articles drawn from across the political spectrum and the globe.","English",46.2,36.96,"364.15--dc23","240 pp.",{"$f":"Table1[[#This Row],['# of Books]]*Table1[[#This Row],[QTY]]","v":0},{"$f":"Table1[[#This Row],[QTY]]*Table1[[#This Row],[School & Library Price]]","v":0}]
[null,30,12,null,"Current Issues","Global Viewpoints","Hate Crimes","978-1-5345-0111-9","Greenhaven Publishing","eBook",1,2018,"August 2017",null,null,"Edited by","Barbara Krasner",null,null,null,null,"Z",null,"Years 14 - 17","Grade 10 - 12","Grade 9 - 12","Few would argue that a violent attack motivated by negative feelings towards the victim’s race, ethnicity, religion, or sexual orientation is a hate crime. But should a hate-motivated crime be punished differently than the same crime committed for a different motive? And what if the crime is verbal—a slur or a ranting blog post or a graffiti scrawl? These may be hateful, but are they hate crimes? And how should they be punished? Are hate crimes on the rise, or are media attention and greater sensitivity to the issue making it appear so? These and other questions are at the center of this thought-provoking collection of articles drawn from across the political spectrum and the globe.","English",46.2,36.96,"364.15--dc23","240 pp.",{"$f":"Table1[[#This Row],['# of Books]]*Table1[[#This Row],[QTY]]","v":0},{"$f":"Table1[[#This Row],[QTY]]*Table1[[#This Row],[School & Library Price]]","v":0}]
[null,30,12,null,"Current Issues","Global Viewpoints","Hate Crimes","978-1-5345-0108-9","Greenhaven Publishing","Paperback Book",1,2018,"August 2017","Paperback","6.000 X 9.000","Edited by","Barbara Krasner",null,null,null,null,"Z",null,"Years 14 - 17","Grade 10 - 12","Grade 9 - 12","Few would argue that a violent attack motivated by negative feelings towards the victim’s race, ethnicity, religion, or sexual orientation is a hate crime. But should a hate-motivated crime be punished differently than the same crime committed for a different motive? And what if the crime is verbal—a slur or a ranting blog post or a graffiti scrawl? These may be hateful, but are they hate crimes? And how should they be punished? Are hate crimes on the rise, or are media attention and greater sensitivity to the issue making it appear so? These and other questions are at the center of this thought-provoking collection of articles drawn from across the political spectrum and the globe.","English",31.7,25.36,"364.15--dc23","240 pp.",{"$f":"Table1[[#This Row],['# of Books]]*Table1[[#This Row],[QTY]]","v":0},{"$f":"Table1[[#This Row],[QTY]]*Table1[[#This Row],[School & Library Price]]","v":0}]
[null,30,12,null,"Current Issues","Global Viewpoints","Honor Killings","978-1-5345-0133-1","Greenhaven Publishing","Library Bound Book",1,2018,"August 2017","Library","6.000 X 9.000","Edited by","Lisa Idzikowski",null,null,null,null,"Z",null,"Years 14 - 17","Grade 10 - 12","Grade 9 - 12","Honor killings are acts of vengeance committed by male relatives against female relatives who have brought “dishonor” upon the family. This “dishonor” can include refusal to enter into an arranged marriage, being the victim of sexual assault, seeking a divorce, or having social or professional interactions outside the community. These crimes often go unpunished or lightly punished in cultures in which the practice is enshrined and are often reported as suicides or accidents. Honor killings occur worldwide, including among immigrant communities within Western democracies. The articles in this volume provide multiple perspectives on how best to prevent, prosecute, and punish such crimes, how to safeguard women’s safety and freedom, and how to balance tradition, religion, and community standards against the protection of universal human rights.","English",46.2,36.96,"306.87--dc23","224 pp.",{"$f":"Table1[[#This Row],['# of Books]]*Table1[[#This Row],[QTY]]","v":0},{"$f":"Table1[[#This Row],[QTY]]*Table1[[#This Row],[School & Library Price]]","v":0}]
[null,30,12,null,"Current Issues","Global Viewpoints","Honor Killings","978-1-5345-0134-8","Greenhaven Publishing","eBook",1,2018,"August 2017",null,null,"Edited by","Lisa Idzikowski",null,null,null,null,"Z",null,"Years 14 - 17","Grade 10 - 12","Grade 9 - 12","Honor killings are acts of vengeance committed by male relatives against female relatives who have brought “dishonor” upon the family. This “dishonor” can include refusal to enter into an arranged marriage, being the victim of sexual assault, seeking a divorce, or having social or professional interactions outside the community. These crimes often go unpunished or lightly punished in cultures in which the practice is enshrined and are often reported as suicides or accidents. Honor killings occur worldwide, including among immigrant communities within Western democracies. The articles in this volume provide multiple perspectives on how best to prevent, prosecute, and punish such crimes, how to safeguard women’s safety and freedom, and how to balance tradition, religion, and community standards against the protection of universal human rights.","English",46.2,36.96,"306.87--dc23","224 pp.",{"$f":"Table1[[#This Row],['# of Books]]*Table1[[#This Row],[QTY]]","v":0},{"$f":"Table1[[#This Row],[QTY]]*Table1[[#This Row],[School & Library Price]]","v":0}]
[null,30,12,null,"Current Issues","Global Viewpoints","Honor Killings","978-1-5345-0131-7","Greenhaven Publishing","Paperback Book",1,2018,"August 2017","Paperback","6.000 X 9.000","Edited by","Lisa Idzikowski",null,null,null,null,"Z",null,"Years 14 - 17","Grade 10 - 12","Grade 9 - 12","Honor killings are acts of vengeance committed by male relatives against female relatives who have brought “dishonor” upon the family. This “dishonor” can include refusal to enter into an arranged marriage, being the victim of sexual assault, seeking a divorce, or having social or professional interactions outside the community. These crimes often go unpunished or lightly punished in cultures in which the practice is enshrined and are often reported as suicides or accidents. Honor killings occur worldwide, including among immigrant communities within Western democracies. The articles in this volume provide multiple perspectives on how best to prevent, prosecute, and punish such crimes, how to safeguard women’s safety and freedom, and how to balance tradition, religion, and community standards against the protection of universal human rights.","English",31.7,25.36,"306.87--dc23","224 pp.",{"$f":"Table1[[#This Row],['# of Books]]*Table1[[#This Row],[QTY]]","v":0},{"$f":"Table1[[#This Row],[QTY]]*Table1[[#This Row],[School & Library Price]]","v":0}]
[null,30,12,null,"Current Issues","Global Viewpoints","Migrants and Refugees","978-1-5345-0118-8","Greenhaven Publishing","Library Bound Book",1,2018,"August 2017","Library","6.000 X 9.000","Edited by","M. M. Eboch",null,null,null,null,"Z",null,"Years 14 - 17","Grade 10 - 12","Grade 9 - 12","The images are shocking and upsetting: drowned children washing up on beaches, dozens of dead bodies being pulled out of tractor trailers, a mass of humanity penned up in detention camps and tent cities, anti-immigrant rallies characterized by fearful and hate-filled invective. Yet there are also images of refugees being embraced by ordinary citizens and welcomed into their countries, their communities, even their homes. What to do about a growing and endemic refugee crisis and migrant labor population in an age of globalization, terrorism, and income inequality is a question with no simple answers. This volume presents the widest possible range of opinions from reputable sources across the political spectrum and encouragers readers to consider all viewpoints before formulating their own reasoned and informed perspective.","English",46.2,36.96,"305.9/0691--dc23","272 pp.",{"$f":"Table1[[#This Row],['# of Books]]*Table1[[#This Row],[QTY]]","v":0},{"$f":"Table1[[#This Row],[QTY]]*Table1[[#This Row],[School & Library Price]]","v":0}]
[null,30,12,null,"Current Issues","Global Viewpoints","Migrants and Refugees","978-1-5345-0119-5","Greenhaven Publishing","eBook",1,2018,"August 2017",null,null,"Edited by","M. M. Eboch",null,null,null,null,"Z",null,"Years 14 - 17","Grade 10 - 12","Grade 9 - 12","The images are shocking and upsetting: drowned children washing up on beaches, dozens of dead bodies being pulled out of tractor trailers, a mass of humanity penned up in detention camps and tent cities, anti-immigrant rallies characterized by fearful and hate-filled invective. Yet there are also images of refugees being embraced by ordinary citizens and welcomed into their countries, their communities, even their homes. What to do about a growing and endemic refugee crisis and migrant labor population in an age of globalization, terrorism, and income inequality is a question with no simple answers. This volume presents the widest possible range of opinions from reputable sources across the political spectrum and encouragers readers to consider all viewpoints before formulating their own reasoned and informed perspective.","English",46.2,36.96,"305.9/0691--dc23","272 pp.",{"$f":"Table1[[#This Row],['# of Books]]*Table1[[#This Row],[QTY]]","v":0},{"$f":"Table1[[#This Row],[QTY]]*Table1[[#This Row],[School & Library Price]]","v":0}]
[null,30,12,null,"Current Issues","Global Viewpoints","Migrants and Refugees","978-1-5345-0116-4","Greenhaven Publishing","Paperback Book",1,2018,"August 2017","Paperback","6.000 X 9.000","Edited by","M. M. Eboch",null,null,null,null,"Z",null,"Years 14 - 17","Grade 10 - 12","Grade 9 - 12","The images are shocking and upsetting: drowned children washing up on beaches, dozens of dead bodies being pulled out of tractor trailers, a mass of humanity penned up in detention camps and tent cities, anti-immigrant rallies characterized by fearful and hate-filled invective. Yet there are also images of refugees being embraced by ordinary citizens and welcomed into their countries, their communities, even their homes. What to do about a growing and endemic refugee crisis and migrant labor population in an age of globalization, terrorism, and income inequality is a question with no simple answers. This volume presents the widest possible range of opinions from reputable sources across the political spectrum and encouragers readers to consider all viewpoints before formulating their own reasoned and informed perspective.","English",31.7,25.36,"305.9/0691--dc23","272 pp.",{"$f":"Table1[[#This Row],['# of Books]]*Table1[[#This Row],[QTY]]","v":0},{"$f":"Table1[[#This Row],[QTY]]*Table1[[#This Row],[School & Library Price]]","v":0}]
[null,30,12,null,"Current Issues","Global Viewpoints","Revisiting Nuclear Power","978-1-5345-0129-4","Greenhaven Publishing","Library Bound Book",1,2018,"August 2017","Library","6.000 X 9.000","Edited by","Anne C. Cunningham",null,null,null,null,"Z",null,"Years 14 - 17","Grade 10 - 12","Grade 9 - 12","In an era defined by anxiety over global warming and the search for alternative fuel sources, nuclear power is rarely part of the conversation. It promises limitless power and a drastic reduction in greenhouse gas emissions worldwide. Yet, it is by no means perfectly safe or “clean,” as Three Mile Island, Chernobyl, and Fukushima remind us. Even so, thirty countries are operating 444 reactors, accounting for almost 11 percent of the world’s electricity production. The debate over nuclear energy is a fierce and emotional one, and arguments, agendas, assumptions, and factual information must be scrutinized meticulously and carefully. This volume allows readers to do just that as they begin to form their own opinions on the viability of nuclear power.","English",46.2,36.96,"333.792'4--dc23","256 pp.",{"$f":"Table1[[#This Row],['# of Books]]*Table1[[#This Row],[QTY]]","v":0},{"$f":"Table1[[#This Row],[QTY]]*Table1[[#This Row],[School & Library Price]]","v":0}]
[null,30,12,null,"Current Issues","Global Viewpoints","Revisiting Nuclear Power","978-1-5345-0130-0","Greenhaven Publishing","eBook",1,2018,"August 2017",null,null,"Edited by","Anne C. Cunningham",null,null,null,null,"Z",null,"Years 14 - 17","Grade 10 - 12","Grade 9 - 12","In an era defined by anxiety over global warming and the search for alternative fuel sources, nuclear power is rarely part of the conversation. It promises limitless power and a drastic reduction in greenhouse gas emissions worldwide. Yet, it is by no means perfectly safe or “clean,” as Three Mile Island, Chernobyl, and Fukushima remind us. Even so, thirty countries are operating 444 reactors, accounting for almost 11 percent of the world’s electricity production. The debate over nuclear energy is a fierce and emotional one, and arguments, agendas, assumptions, and factual information must be scrutinized meticulously and carefully. This volume allows readers to do just that as they begin to form their own opinions on the viability of nuclear power.","English",46.2,36.96,"333.792'4--dc23","256 pp.",{"$f":"Table1[[#This Row],['# of Books]]*Table1[[#This Row],[QTY]]","v":0},{"$f":"Table1[[#This Row],[QTY]]*Table1[[#This Row],[School & Library Price]]","v":0}]
[null,30,12,null,"Current Issues","Global Viewpoints","Revisiting Nuclear Power","978-1-5345-0127-0","Greenhaven Publishing","Paperback Book",1,2018,"August 2017","Paperback","6.000 X 9.000","Edited by","Anne C. Cunningham",null,null,null,null,"Z",null,"Years 14 - 17","Grade 10 - 12","Grade 9 - 12","In an era defined by anxiety over global warming and the search for alternative fuel sources, nuclear power is rarely part of the conversation. It promises limitless power and a drastic reduction in greenhouse gas emissions worldwide. Yet, it is by no means perfectly safe or “clean,” as Three Mile Island, Chernobyl, and Fukushima remind us. Even so, thirty countries are operating 444 reactors, accounting for almost 11 percent of the world’s electricity production. The debate over nuclear energy is a fierce and emotional one, and arguments, agendas, assumptions, and factual information must be scrutinized meticulously and carefully. This volume allows readers to do just that as they begin to form their own opinions on the viability of nuclear power.","English",31.7,25.36,"333.792'4--dc23","256 pp.",{"$f":"Table1[[#This Row],['# of Books]]*Table1[[#This Row],[QTY]]","v":0},{"$f":"Table1[[#This Row],[QTY]]*Table1[[#This Row],[School & Library Price]]","v":0}]
[null,30,12,null,"Current Issues","Global Viewpoints","Tech Giants and Digital Domination","978-1-5345-0125-6","Greenhaven Publishing","Library Bound Book",1,2018,"August 2017","Library","6.000 X 9.000","Edited by","Caleb Bissinger",null,null,null,null,"Z",null,"Years 14 - 17","Grade 10 - 12","Grade 9 - 12","Are tech giants the new robber barons of the digital age? Many governments and ordinary people are increasingly uncomfortable with the monopolistic might a small number of tech companies are amassing, the taxes they are avoiding, the data they are collecting, the privacy they are undermining, and the way they are functioning as “extraterritorial” powers beholden to no state and to no citizen or consumer. All sides of this super-charged debate are represented here—from those of the chieftains of Silicon Valley and EU regulators to FBI counterintelligence agents, scrappy open-source programmers, and ordinary computer users and digital consumers—in an effort to illuminate the digital world we currently inhabit, the limits of its freedoms, and who owns and controls its future.","English",46.2,36.96,"338'.064--dc23","224 pp.",{"$f":"Table1[[#This Row],['# of Books]]*Table1[[#This Row],[QTY]]","v":0},{"$f":"Table1[[#This Row],[QTY]]*Table1[[#This Row],[School & Library Price]]","v":0}]
[null,30,12,null,"Current Issues","Global Viewpoints","Tech Giants and Digital Domination","978-1-5345-0126-3","Greenhaven Publishing","eBook",1,2018,"August 2017",null,null,"Edited by","Caleb Bissinger",null,null,null,null,"Z",null,"Years 14 - 17","Grade 10 - 12","Grade 9 - 12","Are tech giants the new robber barons of the digital age? Many governments and ordinary people are increasingly uncomfortable with the monopolistic might a small number of tech companies are amassing, the taxes they are avoiding, the data they are collecting, the privacy they are undermining, and the way they are functioning as “extraterritorial” powers beholden to no state and to no citizen or consumer. All sides of this super-charged debate are represented here—from those of the chieftains of Silicon Valley and EU regulators to FBI counterintelligence agents, scrappy open-source programmers, and ordinary computer users and digital consumers—in an effort to illuminate the digital world we currently inhabit, the limits of its freedoms, and who owns and controls its future.","English",46.2,36.96,"338'.064--dc23","224 pp.",{"$f":"Table1[[#This Row],['# of Books]]*Table1[[#This Row],[QTY]]","v":0},{"$f":"Table1[[#This Row],[QTY]]*Table1[[#This Row],[School & Library Price]]","v":0}]
[null,30,12,null,"Current Issues","Global Viewpoints","Tech Giants and Digital Domination","978-1-5345-0123-2","Greenhaven Publishing","Paperback Book",1,2018,"August 2017","Paperback","6.000 X 9.000","Edited by","Caleb Bissinger",null,null,null,null,"Z",null,"Years 14 - 17","Grade 10 - 12","Grade 9 - 12","Are tech giants the new robber barons of the digital age? Many governments and ordinary people are increasingly uncomfortable with the monopolistic might a small number of tech companies are amassing, the taxes they are avoiding, the data they are collecting, the privacy they are undermining, and the way they are functioning as “extraterritorial” powers beholden to no state and to no citizen or consumer. All sides of this super-charged debate are represented here—from those of the chieftains of Silicon Valley and EU regulators to FBI counterintelligence agents, scrappy open-source programmers, and ordinary computer users and digital consumers—in an effort to illuminate the digital world we currently inhabit, the limits of its freedoms, and who owns and controls its future.","English",31.7,25.36,"338'.064--dc23","224 pp.",{"$f":"Table1[[#This Row],['# of Books]]*Table1[[#This Row],[QTY]]","v":0},{"$f":"Table1[[#This Row],[QTY]]*Table1[[#This Row],[School & Library Price]]","v":0}]
[null,null,12,null,"Current Issues","Global Viewpoints","Global Viewpoints (Coming Aug 2018)","978-1-5345-0369-4","Greenhaven Publishing","Library Set",6,2019,"August 2018","Library","6.000 X 9.000"," "," ",null,null,null,null,null,null,"Years 14 - 17","Grade 10 - 12","Grade 9 - 12","As technology makes the world more accessible, students need exposure to social, political, environmental, and health issues of global significance. Each anthology in the Global Viewpoints series delivers contemporary views on the featured issue with much of the material reflecting stances of countries other than the United States. Primary sources, including speeches and government documents, join essays from international magazines and news sources for a truly panoramic view.","English",277,221.76,null,null,{"$f":"Table1[[#This Row],['# of Books]]*Table1[[#This Row],[QTY]]","v":0},{"$f":"Table1[[#This Row],[QTY]]*Table1[[#This Row],[School & Library Price]]","v":0}]
[null,null,12,null,"Current Issues","Global Viewpoints","Global Viewpoints (Coming Aug 2018)","978-1-5345-0375-5","Greenhaven Publishing","Single Copy Set",6,2019,"August 2018","Paperback","6.000 X 9.000"," "," ",null,null,null,null,null,null,"Years 14 - 17","Grade 10 - 12","Grade 9 - 12","As technology makes the world more accessible, students need exposure to social, political, environmental, and health issues of global significance. Each anthology in the Global Viewpoints series delivers contemporary views on the featured issue with much of the material reflecting stances of countries other than the United States. Primary sources, including speeches and government documents, join essays from international magazines and news sources for a truly panoramic view.","English",190.2,152.16,null,null,{"$f":"Table1[[#This Row],['# of Books]]*Table1[[#This Row],[QTY]]","v":0},{"$f":"Table1[[#This Row],[QTY]]*Table1[[#This Row],[School & Library Price]]","v":0}]
[null,null,12,null,"Current Issues","Global Viewpoints","Arms Sales, Treaties, and Violations","978-1-5345-0349-6","Greenhaven Publishing","Library Bound Book",1,2019,"August 2018","Library","6.000 X 9.000","Edited by","Rita Santos",null,null,null,null,"Z",null,"Years 14 - 17","Grade 10 - 12","Grade 9 - 12","The international weapons trade is a vast and lucrative machine, estimated at generating 70 billion dollars annually. In 2014, The Arms Trade Treaty, which regulates the international trade in conventional arms, was entered into force. But compliance is complicated, and even the most powerful nations have violated the treaty. Irresponsible arms transfers and ready availability can destabilize security and cause a host of problems among civilian populations in a region. The viewpoints in this resource examine the responsibility of nation states around the world to take accountability for their participation in weaponizing.","English",46.2,36.96,null,null,{"$f":"Table1[[#This Row],['# of Books]]*Table1[[#This Row],[QTY]]","v":0},{"$f":"Table1[[#This Row],[QTY]]*Table1[[#This Row],[School & Library Price]]","v":0}]
[null,null,12,null,"Current Issues","Global Viewpoints","Arms Sales, Treaties, and Violations","978-1-5345-0350-2","Greenhaven Publishing","Paperback Book",1,2019,"August 2018","Paperback","6.000 X 9.000","Edited by","Rita Santos",null,null,null,null,"Z",null,"Years 14 - 17","Grade 10 - 12","Grade 9 - 12","The international weapons trade is a vast and lucrative machine, estimated at generating 70 billion dollars annually. In 2014, The Arms Trade Treaty, which regulates the international trade in conventional arms, was entered into force. But compliance is complicated, and even the most powerful nations have violated the treaty. Irresponsible arms transfers and ready availability can destabilize security and cause a host of problems among civilian populations in a region. The viewpoints in this resource examine the responsibility of nation states around the world to take accountability for their participation in weaponizing.","English",31.7,25.36,null,null,{"$f":"Table1[[#This Row],['# of Books]]*Table1[[#This Row],[QTY]]","v":0},{"$f":"Table1[[#This Row],[QTY]]*Table1[[#This Row],[School & Library Price]]","v":0}]
[null,null,12,null,"Current Issues","Global Viewpoints","Arms Sales, Treaties, and Violations","978-1-5345-0351-9","Greenhaven Publishing","eBook",1,2019,"August 2018",null,null,"Edited by","Rita Santos",null,null,null,null,"Z",null,"Years 14 - 17","Grade 10 - 12","Grade 9 - 12","The international weapons trade is a vast and lucrative machine, estimated at generating 70 billion dollars annually. In 2014, The Arms Trade Treaty, which regulates the international trade in conventional arms, was entered into force. But compliance is complicated, and even the most powerful nations have violated the treaty. Irresponsible arms transfers and ready availability can destabilize security and cause a host of problems among civilian populations in a region. The viewpoints in this resource examine the responsibility of nation states around the world to take accountability for their participation in weaponizing.","English",46.2,36.96,null,null,{"$f":"Table1[[#This Row],['# of Books]]*Table1[[#This Row],[QTY]]","v":0},{"$f":"Table1[[#This Row],[QTY]]*Table1[[#This Row],[School & Library Price]]","v":0}]
[null,null,12,null,"Current Issues","Global Viewpoints","Civilian Casualties in War","978-1-5345-0337-3","Greenhaven Publishing","Library Bound Book",1,2019,"August 2018","Library","6.000 X 9.000","Edited by","Barbara Krasner ",null,null,null,null,"Z",null,"Years 14 - 17","Grade 10 - 12","Grade 9 - 12","According to UNICEF, the number of civilian casualties in war climbed from 5 percent at the turn of the twentieth century to more than 90 percent at the end of that century. Additionally, the current war against ISIS has racked up a staggering number of civilian deaths, including children. The days when professional armies fought in contained areas are long gone, having been replaced by drone strikes, neighbors shooting at neighbors from apartment windows, and massacres in rural villages. The viewpoints in this resource examine this byproduct of modern war and explore strategies for reducing civilian casualties.","English",46.2,36.96,null,null,{"$f":"Table1[[#This Row],['# of Books]]*Table1[[#This Row],[QTY]]","v":0},{"$f":"Table1[[#This Row],[QTY]]*Table1[[#This Row],[School & Library Price]]","v":0}]
[null,null,12,null,"Current Issues","Global Viewpoints","Civilian Casualties in War","978-1-5345-0338-0","Greenhaven Publishing","Paperback Book",1,2019,"August 2018","Paperback","6.000 X 9.000","Edited by","Barbara Krasner ",null,null,null,null,"Z",null,"Years 14 - 17","Grade 10 - 12","Grade 9 - 12","According to UNICEF, the number of civilian casualties in war climbed from 5 percent at the turn of the twentieth century to more than 90 percent at the end of that century. Additionally, the current war against ISIS has racked up a staggering number of civilian deaths, including children. The days when professional armies fought in contained areas are long gone, having been replaced by drone strikes, neighbors shooting at neighbors from apartment windows, and massacres in rural villages. The viewpoints in this resource examine this byproduct of modern war and explore strategies for reducing civilian casualties.","English",31.7,25.36,null,null,{"$f":"Table1[[#This Row],['# of Books]]*Table1[[#This Row],[QTY]]","v":0},{"$f":"Table1[[#This Row],[QTY]]*Table1[[#This Row],[School & Library Price]]","v":0}]
[null,null,12,null,"Current Issues","Global Viewpoints","Civilian Casualties in War","978-1-5345-0339-7","Greenhaven Publishing","eBook",1,2019,"August 2018",null,null,"Edited by","Barbara Krasner ",null,null,null,null,"Z",null,"Years 14 - 17","Grade 10 - 12","Grade 9 - 12","According to UNICEF, the number of civilian casualties in war climbed from 5 percent at the turn of the twentieth century to more than 90 percent at the end of that century. Additionally, the current war against ISIS has racked up a staggering number of civilian deaths, including children. The days when professional armies fought in contained areas are long gone, having been replaced by drone strikes, neighbors shooting at neighbors from apartment windows, and massacres in rural villages. The viewpoints in this resource examine this byproduct of modern war and explore strategies for reducing civilian casualties.","English",46.2,36.96,null,null,{"$f":"Table1[[#This Row],['# of Books]]*Table1[[#This Row],[QTY]]","v":0},{"$f":"Table1[[#This Row],[QTY]]*Table1[[#This Row],[School & Library Price]]","v":0}]
[null,null,12,null,"Current Issues","Global Viewpoints","Cyberterrorism and Ransomware Attacks","978-1-5345-0340-3","Greenhaven Publishing","Library Bound Book",1,2019,"August 2018","Library","6.000 X 9.000","Edited by","Gary Wiener",null,null,null,null,"Z",null,"Years 14 - 17","Grade 10 - 12","Grade 9 - 12","In this digital age, it is not only conventional weapons that are used to threaten and harm others. A new and terrifying avenue is cyberspace and ransomware. This malware encrypts a user's data and demands payment in exchange for unlocking the data. Such attacks are becoming more widespread: a 2017 cyber incident attacked more than 45,000 users in countries around the world. This anthology presents a collection of global perspectives on the topic that examines the potential of such attacks and how we can secure ourselves in the future.","English",46.2,36.96,null,null,{"$f":"Table1[[#This Row],['# of Books]]*Table1[[#This Row],[QTY]]","v":0},{"$f":"Table1[[#This Row],[QTY]]*Table1[[#This Row],[School & Library Price]]","v":0}]
[null,null,12,null,"Current Issues","Global Viewpoints","Cyberterrorism and Ransomware Attacks","978-1-5345-0341-0","Greenhaven Publishing","Paperback Book",1,2019,"August 2018","Paperback","6.000 X 9.000","Edited by","Gary Wiener",null,null,null,null,"Z",null,"Years 14 - 17","Grade 10 - 12","Grade 9 - 12","In this digital age, it is not only conventional weapons that are used to threaten and harm others. A new and terrifying avenue is cyberspace and ransomware. This malware encrypts a user's data and demands payment in exchange for unlocking the data. Such attacks are becoming more widespread: a 2017 cyber incident attacked more than 45,000 users in countries around the world. This anthology presents a collection of global perspectives on the topic that examines the potential of such attacks and how we can secure ourselves in the future.","English",31.7,25.36,null,null,{"$f":"Table1[[#This Row],['# of Books]]*Table1[[#This Row],[QTY]]","v":0},{"$f":"Table1[[#This Row],[QTY]]*Table1[[#This Row],[School & Library Price]]","v":0}]
[null,null,12,null,"Current Issues","Global Viewpoints","Cyberterrorism and Ransomware Attacks","978-1-5345-0342-7","Greenhaven Publishing","eBook",1,2019,"August 2018",null,null,"Edited by","Gary Wiener",null,null,null,null,"Z",null,"Years 14 - 17","Grade 10 - 12","Grade 9 - 12","In this digital age, it is not only conventional weapons that are used to threaten and harm others. A new and terrifying avenue is cyberspace and ransomware. This malware encrypts a user's data and demands payment in exchange for unlocking the data. Such attacks are becoming more widespread: a 2017 cyber incident attacked more than 45,000 users in countries around the world. This anthology presents a collection of global perspectives on the topic that examines the potential of such attacks and how we can secure ourselves in the future.","English",46.2,36.96,null,null,{"$f":"Table1[[#This Row],['# of Books]]*Table1[[#This Row],[QTY]]","v":0},{"$f":"Table1[[#This Row],[QTY]]*Table1[[#This Row],[School & Library Price]]","v":0}]
[null,null,12,null,"Current Issues","Global Viewpoints","Economic Sanctions","978-1-5345-0343-4","Greenhaven Publishing","Library Bound Book",1,2019,"August 2018","Library","6.000 X 9.000","Edited by","Kristina Lyn Heitkamp",null,null,null,null,"Z",null,"Years 14 - 17","Grade 10 - 12","Grade 9 - 12","Economic sanctions, the withdrawal of established trade relations, have been used as a nonviolent strategy by governments around the world to varying success. The United States alone has twenty-six sanction programs in place today. Programs have recently shifted toward \"smart\" sanctions, with a goal of eliminating the suffering of civilians. The expert viewpoints in this enlightening resource examine, from an international perspective, whether or not economic sanctions are effective, in what situations they work best, and what other solutions might be more effective.","English",46.2,36.96,null,null,{"$f":"Table1[[#This Row],['# of Books]]*Table1[[#This Row],[QTY]]","v":0},{"$f":"Table1[[#This Row],[QTY]]*Table1[[#This Row],[School & Library Price]]","v":0}]
[null,null,12,null,"Current Issues","Global Viewpoints","Economic Sanctions","978-1-5345-0344-1","Greenhaven Publishing","Paperback Book",1,2019,"August 2018","Paperback","6.000 X 9.000","Edited by","Kristina Lyn Heitkamp",null,null,null,null,"Z",null,"Years 14 - 17","Grade 10 - 12","Grade 9 - 12","Economic sanctions, the withdrawal of established trade relations, have been used as a nonviolent strategy by governments around the world to varying success. The United States alone has twenty-six sanction programs in place today. Programs have recently shifted toward \"smart\" sanctions, with a goal of eliminating the suffering of civilians. The expert viewpoints in this enlightening resource examine, from an international perspective, whether or not economic sanctions are effective, in what situations they work best, and what other solutions might be more effective.","English",31.7,25.36,null,null,{"$f":"Table1[[#This Row],['# of Books]]*Table1[[#This Row],[QTY]]","v":0},{"$f":"Table1[[#This Row],[QTY]]*Table1[[#This Row],[School & Library Price]]","v":0}]
[null,null,12,null,"Current Issues","Global Viewpoints","Economic Sanctions","978-1-5345-0345-8","Greenhaven Publishing","eBook",1,2019,"August 2018",null,null,"Edited by","Kristina Lyn Heitkamp",null,null,null,null,"Z",null,"Years 14 - 17","Grade 10 - 12","Grade 9 - 12","Economic sanctions, the withdrawal of established trade relations, have been used as a nonviolent strategy by governments around the world to varying success. The United States alone has twenty-six sanction programs in place today. Programs have recently shifted toward \"smart\" sanctions, with a goal of eliminating the suffering of civilians. The expert viewpoints in this enlightening resource examine, from an international perspective, whether or not economic sanctions are effective, in what situations they work best, and what other solutions might be more effective.","English",46.2,36.96,null,null,{"$f":"Table1[[#This Row],['# of Books]]*Table1[[#This Row],[QTY]]","v":0},{"$f":"Table1[[#This Row],[QTY]]*Table1[[#This Row],[School & Library Price]]","v":0}]
[null,null,12,null,"Current Issues","Global Viewpoints","Geoengineering: Counteracting Climate Change","978-1-5345-0346-5","Greenhaven Publishing","Library Bound Book",1,2019,"August 2018","Library","6.000 X 9.000","Author","Rita Santos",null,null,null,null,"Z",null,"Years 14 - 17","Grade 10 - 12","Grade 9 - 12","Geoengineering is the deliberate manipulation of the environment in an attempt to counteract the harmful effects of human-influenced climate change. It's intended as a solution, but it also can create unintended consequences. When scientists and political leaders can't even agree on the extent of climate change, it can seem hopeless to think they will come together to work on solutions. This enlightening resource offers perspectives from experts in the field today, making clear why this topic attracts such controversy and what can be done in the future to help our planet.","English",46.2,36.96,null,null,{"$f":"Table1[[#This Row],['# of Books]]*Table1[[#This Row],[QTY]]","v":0},{"$f":"Table1[[#This Row],[QTY]]*Table1[[#This Row],[School & Library Price]]","v":0}]
[null,null,12,null,"Current Issues","Global Viewpoints","Geoengineering: Counteracting Climate Change","978-1-5345-0347-2","Greenhaven Publishing","Paperback Book",1,2019,"August 2018","Paperback","6.000 X 9.000","Author","Rita Santos",null,null,null,null,"Z",null,"Years 14 - 17","Grade 10 - 12","Grade 9 - 12","Geoengineering is the deliberate manipulation of the environment in an attempt to counteract the harmful effects of human-influenced climate change. It's intended as a solution, but it also can create unintended consequences. When scientists and political leaders can't even agree on the extent of climate change, it can seem hopeless to think they will come together to work on solutions. This enlightening resource offers perspectives from experts in the field today, making clear why this topic attracts such controversy and what can be done in the future to help our planet.","English",31.7,25.36,null,null,{"$f":"Table1[[#This Row],['# of Books]]*Table1[[#This Row],[QTY]]","v":0},{"$f":"Table1[[#This Row],[QTY]]*Table1[[#This Row],[School & Library Price]]","v":0}]
[null,null,12,null,"Current Issues","Global Viewpoints","Geoengineering: Counteracting Climate Change","978-1-5345-0348-9","Greenhaven Publishing","eBook",1,2019,"August 2018",null,null,"Author","Rita Santos",null,null,null,null,"Z",null,"Years 14 - 17","Grade 10 - 12","Grade 9 - 12","Geoengineering is the deliberate manipulation of the environment in an attempt to counteract the harmful effects of human-influenced climate change. It's intended as a solution, but it also can create unintended consequences. When scientists and political leaders can't even agree on the extent of climate change, it can seem hopeless to think they will come together to work on solutions. This enlightening resource offers perspectives from experts in the field today, making clear why this topic attracts such controversy and what can be done in the future to help our planet.","English",46.2,36.96,null,null,{"$f":"Table1[[#This Row],['# of Books]]*Table1[[#This Row],[QTY]]","v":0},{"$f":"Table1[[#This Row],[QTY]]*Table1[[#This Row],[School & Library Price]]","v":0}]
[null,null,12,null,"Current Issues","Global Viewpoints","Religious Clothing in Public Spaces","978-1-5345-0352-6","Greenhaven Publishing","Library Bound Book",1,2019,"August 2018","Library","6.000 X 9.000","Edited by","Pete Schauer",null,null,null,null,"Z",null,"Years 14 - 17","Grade 10 - 12","Grade 9 - 12","We live in a global society, but that doesn't mean our attitudes toward other cultures have caught up. Debates about the wearing of religious apparel have raged in countries around the world, including the United States. The diverse viewpoints in this resource address topics such as how tolerance for the wearing of religious clothing differs around the world and whether or not religious clothing should be allowed in public schools. Readers will decide for themselves whether this is an issue of freedom of expression and religion or if it should be viewed as a threat.","English",46.2,36.96,null,null,{"$f":"Table1[[#This Row],['# of Books]]*Table1[[#This Row],[QTY]]","v":0},{"$f":"Table1[[#This Row],[QTY]]*Table1[[#This Row],[School & Library Price]]","v":0}]
[null,null,12,null,"Current Issues","Global Viewpoints","Religious Clothing in Public Spaces","978-1-5345-0353-3","Greenhaven Publishing","Paperback Book",1,2019,"August 2018","Paperback","6.000 X 9.000","Edited by","Pete Schauer",null,null,null,null,"Z",null,"Years 14 - 17","Grade 10 - 12","Grade 9 - 12","We live in a global society, but that doesn't mean our attitudes toward other cultures have caught up. Debates about the wearing of religious apparel have raged in countries around the world, including the United States. The diverse viewpoints in this resource address topics such as how tolerance for the wearing of religious clothing differs around the world and whether or not religious clothing should be allowed in public schools. Readers will decide for themselves whether this is an issue of freedom of expression and religion or if it should be viewed as a threat.","English",31.7,25.36,null,null,{"$f":"Table1[[#This Row],['# of Books]]*Table1[[#This Row],[QTY]]","v":0},{"$f":"Table1[[#This Row],[QTY]]*Table1[[#This Row],[School & Library Price]]","v":0}]
[null,null,12,null,"Current Issues","Global Viewpoints","Religious Clothing in Public Spaces","978-1-5345-0354-0","Greenhaven Publishing","eBook",1,2019,"August 2018",null,null,"Edited by","Pete Schauer",null,null,null,null,"Z",null,"Years 14 - 17","Grade 10 - 12","Grade 9 - 12","We live in a global society, but that doesn't mean our attitudes toward other cultures have caught up. Debates about the wearing of religious apparel have raged in countries around the world, including the United States. The diverse viewpoints in this resource address topics such as how tolerance for the wearing of religious clothing differs around the world and whether or not religious clothing should be allowed in public schools. Readers will decide for themselves whether this is an issue of freedom of expression and religion or if it should be viewed as a threat.","English",46.2,36.96,null,null,{"$f":"Table1[[#This Row],['# of Books]]*Table1[[#This Row],[QTY]]","v":0},{"$f":"Table1[[#This Row],[QTY]]*Table1[[#This Row],[School & Library Price]]","v":0}]
[null,null,13,null,"Current Issues","Viewpoints on Modern World History","Viewpoints on Modern World History","978-1-5345-0170-6","Greenhaven Publishing","Library Set",6,2018,"January 2018",null,"6.000 X 9.000"," "," ",null,null,null,null,null,null,"Years 14 - 17","Grade 10 - 12","Grade 9 - 12","Viewpoints on Modern World History offers a fresh look–from multiple perspectives at momentous historical periods and events, such as the arms race, peace in the Middle East, the AIDS crisis, and Brexit. Each volume opens with background information, including primary source material, covering the periods leading up to, during, and after the central historical events. Then, each volume offers numerous multinational perspectives on the controversies surrounding the historical events and the current implications or lasting effects. Each volume concludes with first-person narratives from people who lived through or were affected by these forces of history. Essays are compiled from a variety of international sources and are edited and introduced to provide context for readers unfamiliar with the history under examination. Viewpoints on Modern World History promotes critical thinking skills, supports debate assignments, increases global awareness, and enhances the understanding of international perspectives.","English",286.8,229.44,null,"160–216 pp.",{"$f":"Table1[[#This Row],['# of Books]]*Table1[[#This Row],[QTY]]","v":0},{"$f":"Table1[[#This Row],[QTY]]*Table1[[#This Row],[School & Library Price]]","v":0}]
[null,null,13,null,"Current Issues","Viewpoints on Modern World History","AIDS and Other Killer Viruses and Pandemics","978-1-5345-0139-3","Greenhaven Publishing","Library Bound Book",1,2018,"January 2018","Library","6.000 X 9.000","Edited by","Pete Schauer",null,null,null,null,"Z",null,"Years 14 - 17","Grade 10 - 12","Grade 9 - 12","The 1918 influenza pandemic. The Polio scourge. The AIDS epidemic. The Ebola and Zika outbreaks. Modern history has seen numerous deadly viruses and pandemics that have harmed or killed hundreds of millions of people. And the history is ongoing. The world is facing antibiotic-resistant “superbugs” and infectious diseases tied to climate change, and our previously reliable medicines and treatments no longer always work. What causes these outbreaks, how they spread, and how best to contain and combat them are often open to debate. The most informed opinions from the most respected doctors, researchers, and public health officials are found here, presenting various perspectives on our current and future health and offering both cause for hope and reason to fear.","English",47.8,38.24,"614.5/99392--dc23","176 pp.",{"$f":"Table1[[#This Row],['# of Books]]*Table1[[#This Row],[QTY]]","v":0},{"$f":"Table1[[#This Row],[QTY]]*Table1[[#This Row],[School & Library Price]]","v":0}]
[null,null,13,null,"Current Issues","Viewpoints on Modern World History","AIDS and Other Killer Viruses and Pandemics","978-1-5345-0140-9","Greenhaven Publishing","eBook",1,2018,"January 2018",null,null,"Edited by","Pete Schauer",null,null,null,null,"Z",null,"Years 14 - 17","Grade 10 - 12","Grade 9 - 12","The 1918 influenza pandemic. The Polio scourge. The AIDS epidemic. The Ebola and Zika outbreaks. Modern history has seen numerous deadly viruses and pandemics that have harmed or killed hundreds of millions of people. And the history is ongoing. The world is facing antibiotic-resistant “superbugs” and infectious diseases tied to climate change, and our previously reliable medicines and treatments no longer always work. What causes these outbreaks, how they spread, and how best to contain and combat them are often open to debate. The most informed opinions from the most respected doctors, researchers, and public health officials are found here, presenting various perspectives on our current and future health and offering both cause for hope and reason to fear.","English",47.8,38.24,"614.5/99392--dc23","176 pp.",{"$f":"Table1[[#This Row],['# of Books]]*Table1[[#This Row],[QTY]]","v":0},{"$f":"Table1[[#This Row],[QTY]]*Table1[[#This Row],[School & Library Price]]","v":0}]
[null,null,13,null,"Current Issues","Viewpoints on Modern World History","Brexit","978-1-5345-0141-6","Greenhaven Publishing","Library Bound Book",1,2018,"January 2018","Library","6.000 X 9.000","Edited by","Caleb Bissinger",null,null,null,null,"Z",null,"Years 14 - 17","Grade 10 - 12","Grade 9 - 12","In June 2016, Great Britain shocked the world—and itself—by voting in favor of pulling out of the European Union. Far from settling a long simmering and increasingly contentious debate within the UK and Europe, the aftermath of the “Brexit” vote sowed only more confusion, uncertainty, and angry debate about the economic, political, and even moral consequences of turning away from Europe and adopting a more protectionist, nationalist stance. That there was no clear plan for moving ahead with an EU exit in the wake of the vote only stoked greater anger and outrage. The debate and arguments rage on and are fully represented in this comprehensive volume—as the future of the UK and Europe hang in the balance.","English",47.8,38.24,"341.242/230941--dc23","208 pp.",{"$f":"Table1[[#This Row],['# of Books]]*Table1[[#This Row],[QTY]]","v":0},{"$f":"Table1[[#This Row],[QTY]]*Table1[[#This Row],[School & Library Price]]","v":0}]
[null,null,13,null,"Current Issues","Viewpoints on Modern World History","Brexit","978-1-5345-0142-3","Greenhaven Publishing","eBook",1,2018,"January 2018",null,null,"Edited by","Caleb Bissinger",null,null,null,null,"Z",null,"Years 14 - 17","Grade 10 - 12","Grade 9 - 12","In June 2016, Great Britain shocked the world—and itself—by voting in favor of pulling out of the European Union. Far from settling a long simmering and increasingly contentious debate within the UK and Europe, the aftermath of the “Brexit” vote sowed only more confusion, uncertainty, and angry debate about the economic, political, and even moral consequences of turning away from Europe and adopting a more protectionist, nationalist stance. That there was no clear plan for moving ahead with an EU exit in the wake of the vote only stoked greater anger and outrage. The debate and arguments rage on and are fully represented in this comprehensive volume—as the future of the UK and Europe hang in the balance.","English",47.8,38.24,"341.242/230941--dc23","208 pp.",{"$f":"Table1[[#This Row],['# of Books]]*Table1[[#This Row],[QTY]]","v":0},{"$f":"Table1[[#This Row],[QTY]]*Table1[[#This Row],[School & Library Price]]","v":0}]
[null,null,13,null,"Current Issues","Viewpoints on Modern World History","Peace in the Middle East","978-1-5345-0143-0","Greenhaven Publishing","Library Bound Book",1,2018,"January 2018","Library","6.000 X 9.000","Edited by","Martin Gitlin",null,null,null,null,"Z",null,"Years 14 - 17","Grade 10 - 12","Grade 9 - 12","Peace in the Middle East is the ever-elusive holy grail of diplomacy, a goal that much of the wider world fervently wishes to achieve. Modern efforts to achieve a formal, broad-based set of peace treaties between Israel and its various Arab neighbors, as well as a solution to the Palestinian homeland question, have ultimately foundered after some early promise and hard-won negotiating breakthroughs. Entrenched political interests, lack of good faith and mutual trust, domestic security concerns, and popular opposition have generated headwinds—and a blame game—too powerful to overcome. The full range of proposals, opinions, and analysis across the long history of the peace effort is contained here, allowing readers to survey the process and evaluate its competing agendas and debates.","English",47.8,38.24,"956.04--dc23","184 pp.",{"$f":"Table1[[#This Row],['# of Books]]*Table1[[#This Row],[QTY]]","v":0},{"$f":"Table1[[#This Row],[QTY]]*Table1[[#This Row],[School & Library Price]]","v":0}]
[null,null,13,null,"Current Issues","Viewpoints on Modern World History","Peace in the Middle East","978-1-5345-0144-7","Greenhaven Publishing","eBook",1,2018,"January 2018",null,null,"Edited by","Martin Gitlin",null,null,null,null,"Z",null,"Years 14 - 17","Grade 10 - 12","Grade 9 - 12","Peace in the Middle East is the ever-elusive holy grail of diplomacy, a goal that much of the wider world fervently wishes to achieve. Modern efforts to achieve a formal, broad-based set of peace treaties between Israel and its various Arab neighbors, as well as a solution to the Palestinian homeland question, have ultimately foundered after some early promise and hard-won negotiating breakthroughs. Entrenched political interests, lack of good faith and mutual trust, domestic security concerns, and popular opposition have generated headwinds—and a blame game—too powerful to overcome. The full range of proposals, opinions, and analysis across the long history of the peace effort is contained here, allowing readers to survey the process and evaluate its competing agendas and debates.","English",47.8,38.24,"956.04--dc23","184 pp.",{"$f":"Table1[[#This Row],['# of Books]]*Table1[[#This Row],[QTY]]","v":0},{"$f":"Table1[[#This Row],[QTY]]*Table1[[#This Row],[School & Library Price]]","v":0}]
[null,null,13,null,"Current Issues","Viewpoints on Modern World History","The Armenian Genocide","978-1-5345-0120-1","Greenhaven Publishing","Library Bound Book",1,2018,"January 2018","Library","6.000 X 9.000","Edited by","Paula Johanson",null,null,null,null,"Z",null,"Years 14 - 17","Grade 10 - 12","Grade 9 - 12","The systematic extermination of about 1.5 million Armenians by the Ottoman government during and after WWI inspired the formulation of a new term that would come to haunt the modern “civilized” world—genocide. It was a harbinger of other genocides that would deeply scar and stain the twentieth century. To this day, Turkey denies the genocide, instead claiming that the victims died of starvation or the violence of isolated gangs or the unintended effects of legitimate deportation. These ongoing denials and evasions have generated enormous debate, criticism, and controversy—within and without Turkey—all of which is laid out here for readers to sift through and evaluate and within which they may pursue and locate the truth.","English",47.8,38.24,"956.6/20154--dc23","216 pp.",{"$f":"Table1[[#This Row],['# of Books]]*Table1[[#This Row],[QTY]]","v":0},{"$f":"Table1[[#This Row],[QTY]]*Table1[[#This Row],[School & Library Price]]","v":0}]
[null,null,13,null,"Current Issues","Viewpoints on Modern World History","The Armenian Genocide","978-1-5345-0121-8","Greenhaven Publishing","eBook",1,2018,"January 2018",null,null,"Edited by","Paula Johanson",null,null,null,null,"Z",null,"Years 14 - 17","Grade 10 - 12","Grade 9 - 12","The systematic extermination of about 1.5 million Armenians by the Ottoman government during and after WWI inspired the formulation of a new term that would come to haunt the modern “civilized” world—genocide. It was a harbinger of other genocides that would deeply scar and stain the twentieth century. To this day, Turkey denies the genocide, instead claiming that the victims died of starvation or the violence of isolated gangs or the unintended effects of legitimate deportation. These ongoing denials and evasions have generated enormous debate, criticism, and controversy—within and without Turkey—all of which is laid out here for readers to sift through and evaluate and within which they may pursue and locate the truth.","English",47.8,38.24,"956.6/20154--dc23","216 pp.",{"$f":"Table1[[#This Row],['# of Books]]*Table1[[#This Row],[QTY]]","v":0},{"$f":"Table1[[#This Row],[QTY]]*Table1[[#This Row],[School & Library Price]]","v":0}]
[null,null,13,null,"Current Issues","Viewpoints on Modern World History","The Arms Race and Nuclear Proliferation","978-1-5345-0137-9","Greenhaven Publishing","Library Bound Book",1,2018,"January 2018","Library","6.000 X 9.000","Edited by","Martin Gitlin",null,null,null,null,"Z",null,"Years 14 - 17","Grade 10 - 12","Grade 9 - 12","Following the bombings of Nagasaki and Hiroshima, the twentieth century was haunted by the specter of nuclear annihilation. Locked in a hostile embrace, the U.S. and the USSR engaged in a ruinous arms race preparing for the kind of war no one wanted and no one could win. Though the Cold War ended, the dangers of nuclear proliferation remain, with poorly secured nuclear weapons and materials vulnerable to theft, sale, accident, or misuse. The many debates over the years surrounding the arms race, proliferation, deterrence, and security are collected here to provide readers with a fine-grained sense of the international tensions, political urgency, diplomatic strategies, and global fears that have long underlined the effort to build and maintain nuclear arsenals.","English",47.8,38.24,"355.02/17--dc23","176 pp.",{"$f":"Table1[[#This Row],['# of Books]]*Table1[[#This Row],[QTY]]","v":0},{"$f":"Table1[[#This Row],[QTY]]*Table1[[#This Row],[School & Library Price]]","v":0}]
[null,null,13,null,"Current Issues","Viewpoints on Modern World History","The Arms Race and Nuclear Proliferation","978-1-5345-0138-6","Greenhaven Publishing","eBook",1,2018,"January 2018",null,null,"Edited by","Martin Gitlin",null,null,null,null,"Z",null,"Years 14 - 17","Grade 10 - 12","Grade 9 - 12","Following the bombings of Nagasaki and Hiroshima, the twentieth century was haunted by the specter of nuclear annihilation. Locked in a hostile embrace, the U.S. and the USSR engaged in a ruinous arms race preparing for the kind of war no one wanted and no one could win. Though the Cold War ended, the dangers of nuclear proliferation remain, with poorly secured nuclear weapons and materials vulnerable to theft, sale, accident, or misuse. The many debates over the years surrounding the arms race, proliferation, deterrence, and security are collected here to provide readers with a fine-grained sense of the international tensions, political urgency, diplomatic strategies, and global fears that have long underlined the effort to build and maintain nuclear arsenals.","English",47.8,38.24,"355.02/17--dc23","176 pp.",{"$f":"Table1[[#This Row],['# of Books]]*Table1[[#This Row],[QTY]]","v":0},{"$f":"Table1[[#This Row],[QTY]]*Table1[[#This Row],[School & Library Price]]","v":0}]
[null,null,13,null,"Current Issues","Viewpoints on Modern World History","U.S.-Iran Relations","978-1-5345-0135-5","Greenhaven Publishing","Library Bound Book",1,2018,"January 2018","Library","6.000 X 9.000","Edited by","Avery Elizabeth Hurt",null,null,null,null,"Z",null,"Years 14 - 17","Grade 10 - 12","Grade 9 - 12","The modern history of U.S.-Iran relations is a collection of iconic images—the Shah in regal glory on his throne; the Shah fleeing his country; the rapturous welcome of Ayatollah Khomeini; the parading of blindfolded American hostages; the burning wreckage of American rescue helicopters; Oliver North testifying on the Iran-Contra scandal; the volatile defiance of Mahmoud Ahmadinejad; the hope of the Green Movement; the persistent gloom of Ali Khameini. Yet behind these images are decades worth of diplomatic efforts, policy statements, official speeches, and passionate opinion pieces written by politicians, policymakers, human rights activists, and engaged citizens. Readers who examine these disparate viewpoints will gain a deep understanding of the vital, urgent, strategic importance of this long fraught relationship.","English",47.8,38.24,"327.73055--dc23","160 pp.",{"$f":"Table1[[#This Row],['# of Books]]*Table1[[#This Row],[QTY]]","v":0},{"$f":"Table1[[#This Row],[QTY]]*Table1[[#This Row],[School & Library Price]]","v":0}]
[null,null,13,null,"Current Issues","Viewpoints on Modern World History","U.S.-Iran Relations","978-1-5345-0136-2","Greenhaven Publishing","eBook",1,2018,"January 2018",null,null,"Edited by","Avery Elizabeth Hurt",null,null,null,null,"Z",null,"Years 14 - 17","Grade 10 - 12","Grade 9 - 12","The modern history of U.S.-Iran relations is a collection of iconic images—the Shah in regal glory on his throne; the Shah fleeing his country; the rapturous welcome of Ayatollah Khomeini; the parading of blindfolded American hostages; the burning wreckage of American rescue helicopters; Oliver North testifying on the Iran-Contra scandal; the volatile defiance of Mahmoud Ahmadinejad; the hope of the Green Movement; the persistent gloom of Ali Khameini. Yet behind these images are decades worth of diplomatic efforts, policy statements, official speeches, and passionate opinion pieces written by politicians, policymakers, human rights activists, and engaged citizens. Readers who examine these disparate viewpoints will gain a deep understanding of the vital, urgent, strategic importance of this long fraught relationship.","English",47.8,38.24,"327.73055--dc23","160 pp.",{"$f":"Table1[[#This Row],['# of Books]]*Table1[[#This Row],[QTY]]","v":0},{"$f":"Table1[[#This Row],[QTY]]*Table1[[#This Row],[School & Library Price]]","v":0}]
[null,33,14,null,"Current Issues","Introducing Issues with Opposing Viewpoints","Introducing Issues with Opposing Viewpoints","978-1-5345-0245-1","Greenhaven Publishing","Library Set",6,2018,"January 2018",null,"6.500 X 9.250"," "," ",null,null,null,null,null,null,"Years 12 - 17","Grade 7 - 10","Grade 7 - 12","Inspired by the highly acclaimed Opposing Viewpoints series, this series promotes issue awareness as well as critical thinking. Extremely user-friendly and accessible, it offers a wealth of information at a lower reading level in a bright, engaging package. This appealing combination helps more students grasp the controversies of our increasingly complex world.\n\n\"The titles in this series will be useful for students studying debate topics or researching for papers. It also teaches the valuable lesson that there are two (or more) sides to every issue.\" AMERICAN REFERENCE BOOKS ANNUAL","English",252,201.6,null,"120 pp.",{"$f":"Table1[[#This Row],['# of Books]]*Table1[[#This Row],[QTY]]","v":0},{"$f":"Table1[[#This Row],[QTY]]*Table1[[#This Row],[School & Library Price]]","v":0}]
[null,33,14,null,"Current Issues","Introducing Issues with Opposing Viewpoints","Introducing Issues with Opposing Viewpoints","978-1-5345-0286-4","Greenhaven Publishing","Single Copy Set",6,2018,"January 2018",null,"6.500 X 9.250"," "," ",null,null,null,null,null,null,"Years 12 - 17","Grade 7 - 10","Grade 7 - 12","Inspired by the highly acclaimed Opposing Viewpoints series, this series promotes issue awareness as well as critical thinking. Extremely user-friendly and accessible, it offers a wealth of information at a lower reading level in a bright, engaging package. This appealing combination helps more students grasp the controversies of our increasingly complex world.\n\n\"The titles in this series will be useful for students studying debate topics or researching for papers. It also teaches the valuable lesson that there are two (or more) sides to every issue.\" AMERICAN REFERENCE BOOKS ANNUAL","English",169.8,135.84,null,"120 pp.",{"$f":"Table1[[#This Row],['# of Books]]*Table1[[#This Row],[QTY]]","v":0},{"$f":"Table1[[#This Row],[QTY]]*Table1[[#This Row],[School & Library Price]]","v":0}]
[null,33,14,null,"Current Issues","Introducing Issues with Opposing Viewpoints","Data Mining","978-1-5345-0196-6","Greenhaven Publishing","Library Bound Book",1,2018,"January 2018","Library","6.500 X 9.250","Edited by","M. M. Eboch",null,null,null,null,"Z",null,"Years 12 - 17","Grade 7 - 10","Grade 7 - 12","In this tech-obsessed day and age, there is no such thing as true security, unless you have no digital footprint whatsoever and live entirely off the grid. A smartphone, a laptop, an online shopping account, all of these things leave users vulnerable to data mining. The viewpoints in this resource debate data mining and whether it's a danger to society or, ultimately, a boon that will only help our technology-driven world grow more efficient. Readers will learn about the benefits of data mining as well as the pitfalls that come with security breaches.","English",42,33.6,"006.3/12--dc23","120 pp.",{"$f":"Table1[[#This Row],['# of Books]]*Table1[[#This Row],[QTY]]","v":0},{"$f":"Table1[[#This Row],[QTY]]*Table1[[#This Row],[School & Library Price]]","v":0}]
[null,33,14,null,"Current Issues","Introducing Issues with Opposing Viewpoints","Data Mining","978-1-5345-0277-2","Greenhaven Publishing","Paperback Book",1,2018,"January 2018","Paperback","6.500 X 9.250","Edited by","M. M. Eboch",null,null,null,null,"Z",null,"Years 12 - 17","Grade 7 - 10","Grade 7 - 12","In this tech-obsessed day and age, there is no such thing as true security, unless you have no digital footprint whatsoever and live entirely off the grid. A smartphone, a laptop, an online shopping account, all of these things leave users vulnerable to data mining. The viewpoints in this resource debate data mining and whether it's a danger to society or, ultimately, a boon that will only help our technology-driven world grow more efficient. Readers will learn about the benefits of data mining as well as the pitfalls that come with security breaches.","English",28.3,22.64,"006.3/12--dc23","120 pp.",{"$f":"Table1[[#This Row],['# of Books]]*Table1[[#This Row],[QTY]]","v":0},{"$f":"Table1[[#This Row],[QTY]]*Table1[[#This Row],[School & Library Price]]","v":0}]
[null,33,14,null,"Current Issues","Introducing Issues with Opposing Viewpoints","Globalization and Free Trade","978-1-5345-0191-1","Greenhaven Publishing","Library Bound Book",1,2018,"January 2018","Library","6.500 X 9.250","Edited by","Lisa Idzikowski",null,null,null,null,"Z",null,"Years 12 - 17","Grade 7 - 10","Grade 7 - 12","Where does the United States fit in the global marketplace? Just how much are we exporting to, and importing from, other nations, and shouldn't those goods and services be regulated? The viewpoints in this anthology introduce readers to the pros and cons of globalization and the pitfalls involved with free trade. Readers will learn about trade restrictions, taxes, and tariffs, as well as topics like foreign investments, outsourcing, and why it may be better to keep business interests and industry within U.S. borders.","English",42,33.6,"382/.71--dc23","120 pp.",{"$f":"Table1[[#This Row],['# of Books]]*Table1[[#This Row],[QTY]]","v":0},{"$f":"Table1[[#This Row],[QTY]]*Table1[[#This Row],[School & Library Price]]","v":0}]
[null,33,14,null,"Current Issues","Introducing Issues with Opposing Viewpoints","Globalization and Free Trade","978-1-5345-0273-4","Greenhaven Publishing","Paperback Book",1,2018,"January 2018","Paperback","6.500 X 9.250","Edited by","Lisa Idzikowski",null,null,null,null,"Z",null,"Years 12 - 17","Grade 7 - 10","Grade 7 - 12","Where does the United States fit in the global marketplace? Just how much are we exporting to, and importing from, other nations, and shouldn't those goods and services be regulated? The viewpoints in this anthology introduce readers to the pros and cons of globalization and the pitfalls involved with free trade. Readers will learn about trade restrictions, taxes, and tariffs, as well as topics like foreign investments, outsourcing, and why it may be better to keep business interests and industry within U.S. borders.","English",28.3,22.64,"382/.71--dc23","120 pp.",{"$f":"Table1[[#This Row],['# of Books]]*Table1[[#This Row],[QTY]]","v":0},{"$f":"Table1[[#This Row],[QTY]]*Table1[[#This Row],[School & Library Price]]","v":0}]
[null,33,14,null,"Current Issues","Introducing Issues with Opposing Viewpoints","Internet Journalism and Fake News","978-1-5345-0195-9","Greenhaven Publishing","Library Bound Book",1,2018,"January 2018","Library","6.500 X 9.250","Edited by","Kathryn Roberts",null,null,null,null,"Z",null,"Years 12 - 17","Grade 7 - 10","Grade 7 - 12","Blogs, Twitter, Facebook, Tumblr, Wikipedia...there are endless sources for information on the Internet. But who can you trust to give you the truth? The catch-all of \"fake news\" has journalists, politicians, and information junkies alike worried about integrity, veracity, and legitimate sourcing. This collection of authoritative but diverse viewpoints tackles what constitutes fake news, where the term originated, and how it is often used to further politicize the media. Readers will also find discussions of propaganda and whether information disseminated by the American government is the only \"real\" news.","English",42,33.6,"808/.06607--dc23","120 pp.",{"$f":"Table1[[#This Row],['# of Books]]*Table1[[#This Row],[QTY]]","v":0},{"$f":"Table1[[#This Row],[QTY]]*Table1[[#This Row],[School & Library Price]]","v":0}]
[null,33,14,null,"Current Issues","Introducing Issues with Opposing Viewpoints","Internet Journalism and Fake News","978-1-5345-0275-8","Greenhaven Publishing","Paperback Book",1,2018,"January 2018","Paperback","6.500 X 9.250","Edited by","Kathryn Roberts",null,null,null,null,"Z",null,"Years 12 - 17","Grade 7 - 10","Grade 7 - 12","Blogs, Twitter, Facebook, Tumblr, Wikipedia...there are endless sources for information on the Internet. But who can you trust to give you the truth? The catch-all of \"fake news\" has journalists, politicians, and information junkies alike worried about integrity, veracity, and legitimate sourcing. This collection of authoritative but diverse viewpoints tackles what constitutes fake news, where the term originated, and how it is often used to further politicize the media. Readers will also find discussions of propaganda and whether information disseminated by the American government is the only \"real\" news.","English",28.3,22.64,"808/.06607--dc23","120 pp.",{"$f":"Table1[[#This Row],['# of Books]]*Table1[[#This Row],[QTY]]","v":0},{"$f":"Table1[[#This Row],[QTY]]*Table1[[#This Row],[School & Library Price]]","v":0}]
[null,33,14,null,"Current Issues","Introducing Issues with Opposing Viewpoints","Taxes and Society's Priorities","978-1-5345-0192-8","Greenhaven Publishing","Library Bound Book",1,2018,"January 2018","Library","6.500 X 9.250","Edited by","Caleb Bissinger",null,null,null,null,"Z",null,"Years 12 - 17","Grade 7 - 10","Grade 7 - 12","The 45th President of the United States has admitted to not paying his full tax burden, so why should the average citizen fork over their hard-earned money? What purpose do taxes serve? Where does the money go? This collection discusses the history and details of taxation and how tax dollars fund everything from public schools to parks to improving infrastructure. Readers will get a sense of how society thrives through regular taxation. But they will also hear how taxation can trap hard-working Americans and hold them back.","English",42,33.6,"336.200973--dc23","120 pp.",{"$f":"Table1[[#This Row],['# of Books]]*Table1[[#This Row],[QTY]]","v":0},{"$f":"Table1[[#This Row],[QTY]]*Table1[[#This Row],[School & Library Price]]","v":0}]
[null,33,14,null,"Current Issues","Introducing Issues with Opposing Viewpoints","Taxes and Society's Priorities","978-1-5345-0276-5","Greenhaven Publishing","Paperback Book",1,2018,"January 2018","Paperback","6.500 X 9.250","Edited by","Caleb Bissinger",null,null,null,null,"Z",null,"Years 12 - 17","Grade 7 - 10","Grade 7 - 12","The 45th President of the United States has admitted to not paying his full tax burden, so why should the average citizen fork over their hard-earned money? What purpose do taxes serve? Where does the money go? This collection discusses the history and details of taxation and how tax dollars fund everything from public schools to parks to improving infrastructure. Readers will get a sense of how society thrives through regular taxation. But they will also hear how taxation can trap hard-working Americans and hold them back.","English",28.3,22.64,"336.200973--dc23","120 pp.",{"$f":"Table1[[#This Row],['# of Books]]*Table1[[#This Row],[QTY]]","v":0},{"$f":"Table1[[#This Row],[QTY]]*Table1[[#This Row],[School & Library Price]]","v":0}]
[null,33,14,null,"Current Issues","Introducing Issues with Opposing Viewpoints","The Electoral College and the Popular Vote","978-1-5345-0193-5","Greenhaven Publishing","Library Bound Book",1,2018,"January 2018","Library","6.500 X 9.250","Edited by","Lisa Idzikowski",null,null,null,null,"Z",null,"Years 12 - 17","Grade 7 - 10","Grade 7 - 12","What is the Electoral College, and do the American people really need it? Should the popular vote determine the winner in any given presidential election? This anthology examines the origin and purpose of the Electoral College and offers balanced arguments for and against its use in the general election process. Readers will see how the Electoral College and popular vote can function harmoniously together, as well as examples supporting the viewpoint that the system has broken down and doesn't reflect the popular will.","English",42,33.6,"324.6/3--dc23","120 pp.",{"$f":"Table1[[#This Row],['# of Books]]*Table1[[#This Row],[QTY]]","v":0},{"$f":"Table1[[#This Row],[QTY]]*Table1[[#This Row],[School & Library Price]]","v":0}]
[null,33,14,null,"Current Issues","Introducing Issues with Opposing Viewpoints","The Electoral College and the Popular Vote","978-1-5345-0274-1","Greenhaven Publishing","Paperback Book",1,2018,"January 2018","Paperback","6.500 X 9.250","Edited by","Lisa Idzikowski",null,null,null,null,"Z",null,"Years 12 - 17","Grade 7 - 10","Grade 7 - 12","What is the Electoral College, and do the American people really need it? Should the popular vote determine the winner in any given presidential election? This anthology examines the origin and purpose of the Electoral College and offers balanced arguments for and against its use in the general election process. Readers will see how the Electoral College and popular vote can function harmoniously together, as well as examples supporting the viewpoint that the system has broken down and doesn't reflect the popular will.","English",28.3,22.64,"324.6/3--dc23","120 pp.",{"$f":"Table1[[#This Row],['# of Books]]*Table1[[#This Row],[QTY]]","v":0},{"$f":"Table1[[#This Row],[QTY]]*Table1[[#This Row],[School & Library Price]]","v":0}]
[null,33,14,null,"Current Issues","Introducing Issues with Opposing Viewpoints","The Next Mass Extinction","978-1-5345-0194-2","Greenhaven Publishing","Library Bound Book",1,2018,"January 2018","Library","6.500 X 9.250","Edited by","M. M. Eboch",null,null,null,null,"Z",null,"Years 12 - 17","Grade 7 - 10","Grade 7 - 12","According to scientists, an asteroid wiped out the last of the dinosaurs approximately 66 million years ago. This is just the most recent major extinction event our planet has experienced. There have been at least five, along with numerous minor events, and more could be on the way. The voices in this balanced anthology discuss whether claims of mass extinction can really be substantiated, the impact of these events, when another large-scale extinction may occur, and whether humans would survive a cataclysmic event designed to reboot the Earth.","English",42,33.6,"304.2--dc23","120 pp.",{"$f":"Table1[[#This Row],['# of Books]]*Table1[[#This Row],[QTY]]","v":0},{"$f":"Table1[[#This Row],[QTY]]*Table1[[#This Row],[School & Library Price]]","v":0}]
[null,33,14,null,"Current Issues","Introducing Issues with Opposing Viewpoints","The Next Mass Extinction","978-1-5345-0278-9","Greenhaven Publishing","Paperback Book",1,2018,"January 2018","Paperback","6.500 X 9.250","Edited by","M. M. Eboch",null,null,null,null,"Z",null,"Years 12 - 17","Grade 7 - 10","Grade 7 - 12","According to scientists, an asteroid wiped out the last of the dinosaurs approximately 66 million years ago. This is just the most recent major extinction event our planet has experienced. There have been at least five, along with numerous minor events, and more could be on the way. The voices in this balanced anthology discuss whether claims of mass extinction can really be substantiated, the impact of these events, when another large-scale extinction may occur, and whether humans would survive a cataclysmic event designed to reboot the Earth.","English",28.3,22.64,"304.2--dc23","120 pp.",{"$f":"Table1[[#This Row],['# of Books]]*Table1[[#This Row],[QTY]]","v":0},{"$f":"Table1[[#This Row],[QTY]]*Table1[[#This Row],[School & Library Price]]","v":0}]
[null,null,14,null,"Current Issues","Introducing Issues with Opposing Viewpoints","Introducing Issues with Opposing Viewpoints (Coming Aug 2018)","978-1-5345-0370-0","Greenhaven Publishing","Library Set",6,2019,"August 2018","Library","6.500 X 9.250"," "," ",null,null,null,null,null,null,"Years 12 - 17","Grade 7 - 10","Grade 7 - 12","Inspired by the highly acclaimed Opposing Viewpoints series, this series promotes issue awareness as well as critical thinking. Extremely user-friendly and accessible, it offers a wealth of information at a lower reading level in a bright, engaging package. This appealing combination helps more students grasp the controversies of our increasingly complex world, and truly understand that there are at least two sides to every issue.","English",252,201.6,null,null,{"$f":"Table1[[#This Row],['# of Books]]*Table1[[#This Row],[QTY]]","v":0},{"$f":"Table1[[#This Row],[QTY]]*Table1[[#This Row],[School & Library Price]]","v":0}]
[null,null,14,null,"Current Issues","Introducing Issues with Opposing Viewpoints","Introducing Issues with Opposing Viewpoints (Coming Aug 2018)","978-1-5345-0376-2","Greenhaven Publishing","Single Copy Set",6,2019,"August 2018","Paperback","6.500 X 9.250"," "," ",null,null,null,null,null,null,"Years 12 - 17","Grade 7 - 10","Grade 7 - 12","Inspired by the highly acclaimed Opposing Viewpoints series, this series promotes issue awareness as well as critical thinking. Extremely user-friendly and accessible, it offers a wealth of information at a lower reading level in a bright, engaging package. This appealing combination helps more students grasp the controversies of our increasingly complex world, and truly understand that there are at least two sides to every issue.","English",169.8,135.84,null,null,{"$f":"Table1[[#This Row],['# of Books]]*Table1[[#This Row],[QTY]]","v":0},{"$f":"Table1[[#This Row],[QTY]]*Table1[[#This Row],[School & Library Price]]","v":0}]
[null,null,14,null,"Current Issues","Introducing Issues with Opposing Viewpoints","Self-Driving Cars","978-1-5345-0363-2","Greenhaven Publishing","Library Bound Book",1,2019,"August 2018","Library","6.500 X 9.250","Edited by","Pete Schauer",null,null,null,null,"Z",null,"Years 12 - 17","Grade 7 - 10","Grade 7 - 12","Once they were the stuff of science fiction, but almost out of nowhere, self-driving cars have become a reality. Experts suggest that driverless cars will appear on our roads within five to twenty years, and Uber has already piloted a self-driving car program in select cities. Driverless cars are undoubtedly cool, but are they safe? Why do we need self-driving cars? Is it a case of technology creating a \"need,\" or will they actually provide a benefit to society? This fascinating and timely volume offers a diverse array of perspectives written by experts on this twenty-first-century subject.","English",42,33.6,null,null,{"$f":"Table1[[#This Row],['# of Books]]*Table1[[#This Row],[QTY]]","v":0},{"$f":"Table1[[#This Row],[QTY]]*Table1[[#This Row],[School & Library Price]]","v":0}]
[null,null,14,null,"Current Issues","Introducing Issues with Opposing Viewpoints","Self-Driving Cars","978-1-5345-0364-9","Greenhaven Publishing","Paperback Book",1,2019,"August 2018","Paperback","6.500 X 9.250","Edited by","Pete Schauer",null,null,null,null,"Z",null,"Years 12 - 17","Grade 7 - 10","Grade 7 - 12","Once they were the stuff of science fiction, but almost out of nowhere, self-driving cars have become a reality. Experts suggest that driverless cars will appear on our roads within five to twenty years, and Uber has already piloted a self-driving car program in select cities. Driverless cars are undoubtedly cool, but are they safe? Why do we need self-driving cars? Is it a case of technology creating a \"need,\" or will they actually provide a benefit to society? This fascinating and timely volume offers a diverse array of perspectives written by experts on this twenty-first-century subject.","English",28.3,22.64,null,null,{"$f":"Table1[[#This Row],['# of Books]]*Table1[[#This Row],[QTY]]","v":0},{"$f":"Table1[[#This Row],[QTY]]*Table1[[#This Row],[School & Library Price]]","v":0}]
[null,null,14,null,"Current Issues","Introducing Issues with Opposing Viewpoints","Voting Rights and Voter ID Laws","978-1-5345-0365-6","Greenhaven Publishing","Library Bound Book",1,2019,"August 2018","Library","6.500 X 9.250","Edited by","M. M. Eboch",null,null,null,null,"Z",null,"Years 12 - 17","Grade 7 - 10","Grade 7 - 12","In 1965, the Voting Rights Act ensured that Americans would no longer be denied the right to vote because of their color. Fifty years later, debates over voting rights have re-emerged. Proponents of stricter laws say they are simply attempting to reduce incidents of voter fraud. Critics argue that the proposed restrictions are discriminatory against minority and low-income voters, and rig the contests in favor of one party. The viewpoints in this important resource address the accomplishments of the 1965 Voting Rights Act, whom voting laws hurt, and whether or not the United States needs voting ID laws.","English",42,33.6,null,null,{"$f":"Table1[[#This Row],['# of Books]]*Table1[[#This Row],[QTY]]","v":0},{"$f":"Table1[[#This Row],[QTY]]*Table1[[#This Row],[School & Library Price]]","v":0}]
[null,null,14,null,"Current Issues","Introducing Issues with Opposing Viewpoints","Voting Rights and Voter ID Laws","978-1-5345-0366-3","Greenhaven Publishing","Paperback Book",1,2019,"August 2018","Paperback","6.500 X 9.250","Edited by","M. M. Eboch",null,null,null,null,"Z",null,"Years 12 - 17","Grade 7 - 10","Grade 7 - 12","In 1965, the Voting Rights Act ensured that Americans would no longer be denied the right to vote because of their color. Fifty years later, debates over voting rights have re-emerged. Proponents of stricter laws say they are simply attempting to reduce incidents of voter fraud. Critics argue that the proposed restrictions are discriminatory against minority and low-income voters, and rig the contests in favor of one party. The viewpoints in this important resource address the accomplishments of the 1965 Voting Rights Act, whom voting laws hurt, and whether or not the United States needs voting ID laws.","English",28.3,22.64,null,null,{"$f":"Table1[[#This Row],['# of Books]]*Table1[[#This Row],[QTY]]","v":0},{"$f":"Table1[[#This Row],[QTY]]*Table1[[#This Row],[School & Library Price]]","v":0}]
[null,null,14,null,"Current Issues","Introducing Issues with Opposing Viewpoints","Charter Schools and School Vouchers","978-1-5345-0355-7","Greenhaven Publishing","Library Bound Book",1,2019,"August 2018","Library","6.500 X 9.250","Edited by","Pete Schauer",null,null,null,null,"Z",null,"Years 12 - 17","Grade 7 - 10","Grade 7 - 12","In an attempt to correct the perceived failures of public schools came the notion of \"school choice.\" One solution is charter schools: independent, privately run but publicly funded schools that now enroll more than three million students across forty-three states. Another is vouchers, which allow parents to use state dollars at their school of choice. But evidence of vouchers' success is scant, and many argue that they violate the First Amendment. What happens to public school systems when tax dollars go instead to alternative choices? The viewpoints in this anthology examine the debates surrounding education for our future generations.","English",42,33.6,"379.1/11--dc23",null,{"$f":"Table1[[#This Row],['# of Books]]*Table1[[#This Row],[QTY]]","v":0},{"$f":"Table1[[#This Row],[QTY]]*Table1[[#This Row],[School & Library Price]]","v":0}]
[null,null,14,null,"Current Issues","Introducing Issues with Opposing Viewpoints","Charter Schools and School Vouchers","978-1-5345-0356-4","Greenhaven Publishing","Paperback Book",1,2019,"August 2018","Paperback","6.500 X 9.250","Edited by","Pete Schauer",null,null,null,null,"Z",null,"Years 12 - 17","Grade 7 - 10","Grade 7 - 12","In an attempt to correct the perceived failures of public schools came the notion of \"school choice.\" One solution is charter schools: independent, privately run but publicly funded schools that now enroll more than three million students across forty-three states. Another is vouchers, which allow parents to use state dollars at their school of choice. But evidence of vouchers' success is scant, and many argue that they violate the First Amendment. What happens to public school systems when tax dollars go instead to alternative choices? The viewpoints in this anthology examine the debates surrounding education for our future generations.","English",28.3,22.64,"379.1/11--dc23",null,{"$f":"Table1[[#This Row],['# of Books]]*Table1[[#This Row],[QTY]]","v":0},{"$f":"Table1[[#This Row],[QTY]]*Table1[[#This Row],[School & Library Price]]","v":0}]
[null,null,14,null,"Current Issues","Introducing Issues with Opposing Viewpoints","Classified Intelligence and Leaks","978-1-5345-0357-1","Greenhaven Publishing","Library Bound Book",1,2019,"August 2018","Library","6.500 X 9.250","Edited by","Lisa Idzikowski",null,null,null,null,"Z",null,"Years 12 - 17","Grade 7 - 10","Grade 7 - 12","Experts often disagree about how much and what kind of intelligence should be considered classified. In addition, there can be benefits to leaking intelligence, a practice that is done by insiders with some regularity. Do citizens have a right to know about all government activities, or is security of higher value? What happens when leaks affect the safety of journalists and diplomats around the world? Who decides when a leaker is a \"whistleblower\" or a \"traitor\"? Readers of this captivating volume will learn about the issue from a diverse array of viewpoints.","English",42,33.6,null,null,{"$f":"Table1[[#This Row],['# of Books]]*Table1[[#This Row],[QTY]]","v":0},{"$f":"Table1[[#This Row],[QTY]]*Table1[[#This Row],[School & Library Price]]","v":0}]
[null,null,14,null,"Current Issues","Introducing Issues with Opposing Viewpoints","Classified Intelligence and Leaks","978-1-5345-0358-8","Greenhaven Publishing","Paperback Book",1,2019,"August 2018","Paperback","6.500 X 9.250","Edited by","Lisa Idzikowski",null,null,null,null,"Z",null,"Years 12 - 17","Grade 7 - 10","Grade 7 - 12","Experts often disagree about how much and what kind of intelligence should be considered classified. In addition, there can be benefits to leaking intelligence, a practice that is done by insiders with some regularity. Do citizens have a right to know about all government activities, or is security of higher value? What happens when leaks affect the safety of journalists and diplomats around the world? Who decides when a leaker is a \"whistleblower\" or a \"traitor\"? Readers of this captivating volume will learn about the issue from a diverse array of viewpoints.","English",28.3,22.64,null,null,{"$f":"Table1[[#This Row],['# of Books]]*Table1[[#This Row],[QTY]]","v":0},{"$f":"Table1[[#This Row],[QTY]]*Table1[[#This Row],[School & Library Price]]","v":0}]
[null,null,14,null,"Current Issues","Introducing Issues with Opposing Viewpoints","Commercial Space Exploration","978-1-5345-0359-5","Greenhaven Publishing","Library Bound Book",1,2019,"August 2018","Library","6.500 X 9.250","Edited by","M. M. Eboch",null,null,null,null,"Z",null,"Years 12 - 17","Grade 7 - 10","Grade 7 - 12","Space missions were part of the mythology of the twentieth century. Today, space exploration has changed dramatically, including the exciting possibility of commercial space exploration. In this fascinating anthology, expert viewpoints explore the potential of space tourism, robot astronauts, and colonizing Mars. But is commercial space travel sustainable? Should average citizens take such risks to their personal safety? Is talk of commercial space exploration merely a gimmick, or is it the future? Experts disagree, but readers will be able to reach their own conclusions after reading the diverse opinions on the subject.","English",42,33.6,null,null,{"$f":"Table1[[#This Row],['# of Books]]*Table1[[#This Row],[QTY]]","v":0},{"$f":"Table1[[#This Row],[QTY]]*Table1[[#This Row],[School & Library Price]]","v":0}]
[null,null,14,null,"Current Issues","Introducing Issues with Opposing Viewpoints","Commercial Space Exploration","978-1-5345-0360-1","Greenhaven Publishing","Paperback Book",1,2019,"August 2018","Paperback","6.500 X 9.250","Edited by","M. M. Eboch",null,null,null,null,"Z",null,"Years 12 - 17","Grade 7 - 10","Grade 7 - 12","Space missions were part of the mythology of the twentieth century. Today, space exploration has changed dramatically, including the exciting possibility of commercial space exploration. In this fascinating anthology, expert viewpoints explore the potential of space tourism, robot astronauts, and colonizing Mars. But is commercial space travel sustainable? Should average citizens take such risks to their personal safety? Is talk of commercial space exploration merely a gimmick, or is it the future? Experts disagree, but readers will be able to reach their own conclusions after reading the diverse opinions on the subject.","English",28.3,22.64,null,null,{"$f":"Table1[[#This Row],['# of Books]]*Table1[[#This Row],[QTY]]","v":0},{"$f":"Table1[[#This Row],[QTY]]*Table1[[#This Row],[School & Library Price]]","v":0}]
[null,null,14,null,"Current Issues","Introducing Issues with Opposing Viewpoints","Masculinity in the Twenty-First Century","978-1-5345-0361-8","Greenhaven Publishing","Library Bound Book",1,2019,"August 2018","Library","6.500 X 9.250","Edited by","M. M. Eboch",null,null,null,null,"Z",null,"Years 12 - 17","Grade 7 - 10","Grade 7 - 12","As gender norms have changed over the decades, the definition of masculinity has evolved, leading to some confusion, unmet expectations, and an unknown future. Today's man can feel comfortable displaying emotion and empathy. Does this shift mean that the role of man is no longer dominant in our society? Is there an inevitable path to irrelevance? The diverging viewpoints in this thought-provoking resource will challenge readers' assumptions about gender roles and ask them to consider how those roles will evolve as the century progresses.","English",42,33.6,null,null,{"$f":"Table1[[#This Row],['# of Books]]*Table1[[#This Row],[QTY]]","v":0},{"$f":"Table1[[#This Row],[QTY]]*Table1[[#This Row],[School & Library Price]]","v":0}]
[null,null,14,null,"Current Issues","Introducing Issues with Opposing Viewpoints","Masculinity in the Twenty-First Century","978-1-5345-0362-5","Greenhaven Publishing","Paperback Book",1,2019,"August 2018","Paperback","6.500 X 9.250","Edited by","M. M. Eboch",null,null,null,null,"Z",null,"Years 12 - 17","Grade 7 - 10","Grade 7 - 12","As gender norms have changed over the decades, the definition of masculinity has evolved, leading to some confusion, unmet expectations, and an unknown future. Today's man can feel comfortable displaying emotion and empathy. Does this shift mean that the role of man is no longer dominant in our society? Is there an inevitable path to irrelevance? The diverging viewpoints in this thought-provoking resource will challenge readers' assumptions about gender roles and ask them to consider how those roles will evolve as the century progresses.","English",28.3,22.64,null,null,{"$f":"Table1[[#This Row],['# of Books]]*Table1[[#This Row],[QTY]]","v":0},{"$f":"Table1[[#This Row],[QTY]]*Table1[[#This Row],[School & Library Price]]","v":0}]
[null,39,15,null,"Current Issues","Issues That Concern You","Issues That Concern You","978-1-5345-0246-8","Greenhaven Publishing","Library Set",6,2018,"January 2018",null,"7.000 X 9.000"," "," ",null,null,null,null,null,null,"Years 12 - 17","Grade 7 - 10","Grade 7 - 12","This series discusses an issue that either is part of students' lives or is likely affecting someone they know. Presenting multiple sides to current issues, each book distinguishes itself through its dedicated focus on concerns that today's middle and high school students deal with regularly, such as underage drinking and body image.\n\n\"These are valuable to the middle school and high school libraries where students need brief yet scholarly information on issues of concern to them.\" AMERICAN REFERENCE BOOKS ANNUAL","English",252,201.6,null,"112 pp.",{"$f":"Table1[[#This Row],['# of Books]]*Table1[[#This Row],[QTY]]","v":0},{"$f":"Table1[[#This Row],[QTY]]*Table1[[#This Row],[School & Library Price]]","v":0}]
[null,39,15,null,"Current Issues","Issues That Concern You","Issues That Concern You","978-1-5345-0287-1","Greenhaven Publishing","Single Copy Set",6,2018,"January 2018",null,"7.000 X 9.000"," "," ",null,null,null,null,null,null,"Years 12 - 17","Grade 7 - 10","Grade 7 - 12","This series discusses an issue that either is part of students' lives or is likely affecting someone they know. Presenting multiple sides to current issues, each book distinguishes itself through its dedicated focus on concerns that today's middle and high school students deal with regularly, such as underage drinking and body image.\n\n\"These are valuable to the middle school and high school libraries where students need brief yet scholarly information on issues of concern to them.\" AMERICAN REFERENCE BOOKS ANNUAL","English",169.8,135.84,null,"112 pp.",{"$f":"Table1[[#This Row],['# of Books]]*Table1[[#This Row],[QTY]]","v":0},{"$f":"Table1[[#This Row],[QTY]]*Table1[[#This Row],[School & Library Price]]","v":0}]
[null,39,15,null,"Current Issues","Issues That Concern You","Our Climate Future","978-1-5345-0224-6","Greenhaven Publishing","Library Bound Book",1,2018,"January 2018","Library","7.000 X 9.000","Edited by","Martin Gitlin",null,null,null,null,"Z",null,"Years 12 - 17","Grade 7 - 10","Grade 7 - 12","Climate change is real...depending on who you ask. Scientists and environmentalists have been going head-to-head and toe-to-toe with CEOs and politicians over our global resources, insisting that a large-scale climate crisis is upon us. This collection of diverse perspectives looks at all sides of this fraught debate, discusses the pros and cons of global action to curtail climate change, and offers ideas and solutions for what readers can do about climate change on the home front while the experts keep duking it in political arenas.","English",42,33.6,"304.2/50112--dc23","112 pp.",{"$f":"Table1[[#This Row],['# of Books]]*Table1[[#This Row],[QTY]]","v":0},{"$f":"Table1[[#This Row],[QTY]]*Table1[[#This Row],[School & Library Price]]","v":0}]
[null,39,15,null,"Current Issues","Issues That Concern You","Our Climate Future","978-1-5345-0219-2","Greenhaven Publishing","eBook",1,2018,"January 2018",null,null,"Edited by","Martin Gitlin",null,null,null,null,"Z",null,"Years 12 - 17","Grade 7 - 10","Grade 7 - 12","Climate change is real...depending on who you ask. Scientists and environmentalists have been going head-to-head and toe-to-toe with CEOs and politicians over our global resources, insisting that a large-scale climate crisis is upon us. This collection of diverse perspectives looks at all sides of this fraught debate, discusses the pros and cons of global action to curtail climate change, and offers ideas and solutions for what readers can do about climate change on the home front while the experts keep duking it in political arenas.","English",42,33.6,"304.2/50112--dc23","112 pp.",{"$f":"Table1[[#This Row],['# of Books]]*Table1[[#This Row],[QTY]]","v":0},{"$f":"Table1[[#This Row],[QTY]]*Table1[[#This Row],[School & Library Price]]","v":0}]
[null,39,15,null,"Current Issues","Issues That Concern You","Our Climate Future","978-1-5345-0284-0","Greenhaven Publishing","Paperback Book",1,2018,"January 2018","Paperback","7.000 X 9.000","Edited by","Martin Gitlin",null,null,null,null,"Z",null,"Years 12 - 17","Grade 7 - 10","Grade 7 - 12","Climate change is real...depending on who you ask. Scientists and environmentalists have been going head-to-head and toe-to-toe with CEOs and politicians over our global resources, insisting that a large-scale climate crisis is upon us. This collection of diverse perspectives looks at all sides of this fraught debate, discusses the pros and cons of global action to curtail climate change, and offers ideas and solutions for what readers can do about climate change on the home front while the experts keep duking it in political arenas.","English",28.3,22.64,"304.2/50112--dc23","112 pp.",{"$f":"Table1[[#This Row],['# of Books]]*Table1[[#This Row],[QTY]]","v":0},{"$f":"Table1[[#This Row],[QTY]]*Table1[[#This Row],[School & Library Price]]","v":0}]
[null,39,15,null,"Current Issues","Issues That Concern You","Student Loans and the Cost of College","978-1-5345-0221-5","Greenhaven Publishing","Library Bound Book",1,2018,"January 2018","Library","7.000 X 9.000","Edited by","Paula Johanson",null,null,null,null,"Z",null,"Years 12 - 17","Grade 7 - 10","Grade 7 - 12","Getting into college is one giant hurdle to clear, and paying for it is quite another. This book breaks down the expenses associated with higher education, the various payment options available for students, including student loans, need-based scholarships, and merit-based scholarships, and what other avenues may exist for families to ensure that costs associated with tuition, room, and board stay reasonable. Concerns about \"paying off\" student loans, interest rates, and timelines are also addressed in this informative collection.","English",42,33.6,"371.2/240973--dc23","112 pp.",{"$f":"Table1[[#This Row],['# of Books]]*Table1[[#This Row],[QTY]]","v":0},{"$f":"Table1[[#This Row],[QTY]]*Table1[[#This Row],[School & Library Price]]","v":0}]
[null,39,15,null,"Current Issues","Issues That Concern You","Student Loans and the Cost of College","978-1-5345-0218-5","Greenhaven Publishing","eBook",1,2018,"January 2018",null,null,"Edited by","Paula Johanson",null,null,null,null,"Z",null,"Years 12 - 17","Grade 7 - 10","Grade 7 - 12","Getting into college is one giant hurdle to clear, and paying for it is quite another. This book breaks down the expenses associated with higher education, the various payment options available for students, including student loans, need-based scholarships, and merit-based scholarships, and what other avenues may exist for families to ensure that costs associated with tuition, room, and board stay reasonable. Concerns about \"paying off\" student loans, interest rates, and timelines are also addressed in this informative collection.","English",42,33.6,"371.2/240973--dc23","112 pp.",{"$f":"Table1[[#This Row],['# of Books]]*Table1[[#This Row],[QTY]]","v":0},{"$f":"Table1[[#This Row],[QTY]]*Table1[[#This Row],[School & Library Price]]","v":0}]
[null,39,15,null,"Current Issues","Issues That Concern You","Student Loans and the Cost of College","978-1-5345-0282-6","Greenhaven Publishing","Paperback Book",1,2018,"January 2018","Paperback","7.000 X 9.000","Edited by","Paula Johanson",null,null,null,null,"Z",null,"Years 12 - 17","Grade 7 - 10","Grade 7 - 12","Getting into college is one giant hurdle to clear, and paying for it is quite another. This book breaks down the expenses associated with higher education, the various payment options available for students, including student loans, need-based scholarships, and merit-based scholarships, and what other avenues may exist for families to ensure that costs associated with tuition, room, and board stay reasonable. Concerns about \"paying off\" student loans, interest rates, and timelines are also addressed in this informative collection.","English",28.3,22.64,"371.2/240973--dc23","112 pp.",{"$f":"Table1[[#This Row],['# of Books]]*Table1[[#This Row],[QTY]]","v":0},{"$f":"Table1[[#This Row],[QTY]]*Table1[[#This Row],[School & Library Price]]","v":0}]
[null,39,15,null,"Current Issues","Issues That Concern You","Student Rights","978-1-5345-0225-3","Greenhaven Publishing","Library Bound Book",1,2018,"January 2018","Library","7.000 X 9.000","Edited by","Avery Elizabeth Hurt",null,null,null,null,"Z",null,"Years 12 - 17","Grade 7 - 10","Grade 7 - 12","Does freedom of assembly apply to a high-school junior organizing a protest against the school administration? Does disrespecting a teacher fall under freedom of speech? The diverse perspectives in this collection explore the concept of student rights and tackle what civil and constitutional rights are covered when you're in an educational environment. Readers can expect discussions of relevant court cases and instances of student-led activism, as well as a focus on protected sources for student reporters.","English",42,33.6,"344.73/0793--dc23","112 pp.",{"$f":"Table1[[#This Row],['# of Books]]*Table1[[#This Row],[QTY]]","v":0},{"$f":"Table1[[#This Row],[QTY]]*Table1[[#This Row],[School & Library Price]]","v":0}]
[null,39,15,null,"Current Issues","Issues That Concern You","Student Rights","978-1-5345-0220-8","Greenhaven Publishing","eBook",1,2018,"January 2018",null,null,"Edited by","Avery Elizabeth Hurt",null,null,null,null,"Z",null,"Years 12 - 17","Grade 7 - 10","Grade 7 - 12","Does freedom of assembly apply to a high-school junior organizing a protest against the school administration? Does disrespecting a teacher fall under freedom of speech? The diverse perspectives in this collection explore the concept of student rights and tackle what civil and constitutional rights are covered when you're in an educational environment. Readers can expect discussions of relevant court cases and instances of student-led activism, as well as a focus on protected sources for student reporters.","English",42,33.6,"344.73/0793--dc23","112 pp.",{"$f":"Table1[[#This Row],['# of Books]]*Table1[[#This Row],[QTY]]","v":0},{"$f":"Table1[[#This Row],[QTY]]*Table1[[#This Row],[School & Library Price]]","v":0}]
[null,39,15,null,"Current Issues","Issues That Concern You","Student Rights","978-1-5345-0280-2","Greenhaven Publishing","Paperback Book",1,2018,"January 2018","Paperback","7.000 X 9.000","Edited by","Avery Elizabeth Hurt",null,null,null,null,"Z",null,"Years 12 - 17","Grade 7 - 10","Grade 7 - 12","Does freedom of assembly apply to a high-school junior organizing a protest against the school administration? Does disrespecting a teacher fall under freedom of speech? The diverse perspectives in this collection explore the concept of student rights and tackle what civil and constitutional rights are covered when you're in an educational environment. Readers can expect discussions of relevant court cases and instances of student-led activism, as well as a focus on protected sources for student reporters.","English",28.3,22.64,"344.73/0793--dc23","112 pp.",{"$f":"Table1[[#This Row],['# of Books]]*Table1[[#This Row],[QTY]]","v":0},{"$f":"Table1[[#This Row],[QTY]]*Table1[[#This Row],[School & Library Price]]","v":0}]
[null,39,15,null,"Current Issues","Issues That Concern You","Teen Homelessness","978-1-5345-0226-0","Greenhaven Publishing","Library Bound Book",1,2018,"January 2018","Library","7.000 X 9.000","Edited by","H. Craig Erskine III",null,null,null,null,"Z",null,"Years 12 - 17","Grade 7 - 10","Grade 7 - 12","More than two million kids in the U.S. face homelessness each year, with 57 percent going without food for at least one day a month. Teens represent a shocking 7 percent of the country's total homeless population. Whether they're crashing on someone's couch, living in cars, staying in shelters, or literally sleeping on the street, studies show that the plight of homeless youths is only growing worse. The viewpoints in this book tackle the economic and societal factors that contribute to teen homelessness, the stark situations faced by young transients today, and what can be done to curb this alarming trend.","English",42,33.6,"362.7/75692083--dc23","112 pp.",{"$f":"Table1[[#This Row],['# of Books]]*Table1[[#This Row],[QTY]]","v":0},{"$f":"Table1[[#This Row],[QTY]]*Table1[[#This Row],[School & Library Price]]","v":0}]
[null,39,15,null,"Current Issues","Issues That Concern You","Teen Homelessness","978-1-5345-0216-1","Greenhaven Publishing","eBook",1,2018,"January 2018",null,null,"Edited by","H. Craig Erskine III",null,null,null,null,"Z",null,"Years 12 - 17","Grade 7 - 10","Grade 7 - 12","More than two million kids in the U.S. face homelessness each year, with 57 percent going without food for at least one day a month. Teens represent a shocking 7 percent of the country's total homeless population. Whether they're crashing on someone's couch, living in cars, staying in shelters, or literally sleeping on the street, studies show that the plight of homeless youths is only growing worse. The viewpoints in this book tackle the economic and societal factors that contribute to teen homelessness, the stark situations faced by young transients today, and what can be done to curb this alarming trend.","English",42,33.6,"362.7/75692083--dc23","112 pp.",{"$f":"Table1[[#This Row],['# of Books]]*Table1[[#This Row],[QTY]]","v":0},{"$f":"Table1[[#This Row],[QTY]]*Table1[[#This Row],[School & Library Price]]","v":0}]
[null,39,15,null,"Current Issues","Issues That Concern You","Teen Homelessness","978-1-5345-0279-6","Greenhaven Publishing","Paperback Book",1,2018,"January 2018","Paperback","7.000 X 9.000","Edited by","H. Craig Erskine III",null,null,null,null,"Z",null,"Years 12 - 17","Grade 7 - 10","Grade 7 - 12","More than two million kids in the U.S. face homelessness each year, with 57 percent going without food for at least one day a month. Teens represent a shocking 7 percent of the country's total homeless population. Whether they're crashing on someone's couch, living in cars, staying in shelters, or literally sleeping on the street, studies show that the plight of homeless youths is only growing worse. The viewpoints in this book tackle the economic and societal factors that contribute to teen homelessness, the stark situations faced by young transients today, and what can be done to curb this alarming trend.","English",28.3,22.64,"362.7/75692083--dc23","112 pp.",{"$f":"Table1[[#This Row],['# of Books]]*Table1[[#This Row],[QTY]]","v":0},{"$f":"Table1[[#This Row],[QTY]]*Table1[[#This Row],[School & Library Price]]","v":0}]
[null,39,15,null,"Current Issues","Issues That Concern You","The College Admissions Process","978-1-5345-0223-9","Greenhaven Publishing","Library Bound Book",1,2018,"January 2018","Library","7.000 X 9.000","Edited by","Marcia Amidon Lusted",null,null,null,null,"Z",null,"Years 12 - 17","Grade 7 - 10","Grade 7 - 12","Applications, personal essays, campus visits, and those dreaded SATs and ACTs, the process of applying to, and getting into, college is almost as complicated as higher education itself. In this anthology, readers will get an in-depth look at the admission process, including viewpoints about the fairness and relevance of standardized test scores, the importance of volunteer and extracurricular activities, and how to market oneself as an ideal candidate for admission. Choosing a college is one of life's most important decisions, and readers of this resource will be presented with valuable information.","English",42,33.6,"378.1/61--dc23","112 pp.",{"$f":"Table1[[#This Row],['# of Books]]*Table1[[#This Row],[QTY]]","v":0},{"$f":"Table1[[#This Row],[QTY]]*Table1[[#This Row],[School & Library Price]]","v":0}]
[null,39,15,null,"Current Issues","Issues That Concern You","The College Admissions Process","978-1-5345-0215-4","Greenhaven Publishing","eBook",1,2018,"January 2018",null,null,"Edited by","Marcia Amidon Lusted",null,null,null,null,"Z",null,"Years 12 - 17","Grade 7 - 10","Grade 7 - 12","Applications, personal essays, campus visits, and those dreaded SATs and ACTs, the process of applying to, and getting into, college is almost as complicated as higher education itself. In this anthology, readers will get an in-depth look at the admission process, including viewpoints about the fairness and relevance of standardized test scores, the importance of volunteer and extracurricular activities, and how to market oneself as an ideal candidate for admission. Choosing a college is one of life's most important decisions, and readers of this resource will be presented with valuable information.","English",42,33.6,"378.1/61--dc23","112 pp.",{"$f":"Table1[[#This Row],['# of Books]]*Table1[[#This Row],[QTY]]","v":0},{"$f":"Table1[[#This Row],[QTY]]*Table1[[#This Row],[School & Library Price]]","v":0}]
[null,39,15,null,"Current Issues","Issues That Concern You","The College Admissions Process","978-1-5345-0281-9","Greenhaven Publishing","Paperback Book",1,2018,"January 2018","Paperback","7.000 X 9.000","Edited by","Marcia Amidon Lusted",null,null,null,null,"Z",null,"Years 12 - 17","Grade 7 - 10","Grade 7 - 12","Applications, personal essays, campus visits, and those dreaded SATs and ACTs, the process of applying to, and getting into, college is almost as complicated as higher education itself. In this anthology, readers will get an in-depth look at the admission process, including viewpoints about the fairness and relevance of standardized test scores, the importance of volunteer and extracurricular activities, and how to market oneself as an ideal candidate for admission. Choosing a college is one of life's most important decisions, and readers of this resource will be presented with valuable information.","English",28.3,22.64,"378.1/61--dc23","112 pp.",{"$f":"Table1[[#This Row],['# of Books]]*Table1[[#This Row],[QTY]]","v":0},{"$f":"Table1[[#This Row],[QTY]]*Table1[[#This Row],[School & Library Price]]","v":0}]
[null,39,15,null,"Current Issues","Issues That Concern You","Transgender Rights","978-1-5345-0222-2","Greenhaven Publishing","Library Bound Book",1,2018,"January 2018","Library","7.000 X 9.000","Edited by","Martin Gitlin",null,null,null,null,"Z",null,"Years 12 - 17","Grade 7 - 10","Grade 7 - 12","Transgender rights are not just limited to bathroom bills, though the controversial issue has dominated news headlines for the past few years. What basic human rights are afforded to transgender and nonbinary U.S. citizens is a mystery to many. The viewpoints in this resource lay out the issues in a concise and informative way, offering measured arguments as to why trans Americans are a protected class, as well as arguments for why they don't need special treatment. Workplace discrimination, marriage equality, and adoption, as they relate to transgender identities, are also touched upon.","English",42,33.6,"323.3/270973--dc23","112 pp.",{"$f":"Table1[[#This Row],['# of Books]]*Table1[[#This Row],[QTY]]","v":0},{"$f":"Table1[[#This Row],[QTY]]*Table1[[#This Row],[School & Library Price]]","v":0}]
[null,39,15,null,"Current Issues","Issues That Concern You","Transgender Rights","978-1-5345-0217-8","Greenhaven Publishing","eBook",1,2018,"January 2018",null,null,"Edited by","Martin Gitlin",null,null,null,null,"Z",null,"Years 12 - 17","Grade 7 - 10","Grade 7 - 12","Transgender rights are not just limited to bathroom bills, though the controversial issue has dominated news headlines for the past few years. What basic human rights are afforded to transgender and nonbinary U.S. citizens is a mystery to many. The viewpoints in this resource lay out the issues in a concise and informative way, offering measured arguments as to why trans Americans are a protected class, as well as arguments for why they don't need special treatment. Workplace discrimination, marriage equality, and adoption, as they relate to transgender identities, are also touched upon.","English",42,33.6,"323.3/270973--dc23","112 pp.",{"$f":"Table1[[#This Row],['# of Books]]*Table1[[#This Row],[QTY]]","v":0},{"$f":"Table1[[#This Row],[QTY]]*Table1[[#This Row],[School & Library Price]]","v":0}]
[null,39,15,null,"Current Issues","Issues That Concern You","Transgender Rights","978-1-5345-0283-3","Greenhaven Publishing","Paperback Book",1,2018,"January 2018","Paperback","7.000 X 9.000","Edited by","Martin Gitlin",null,null,null,null,"Z",null,"Years 12 - 17","Grade 7 - 10","Grade 7 - 12","Transgender rights are not just limited to bathroom bills, though the controversial issue has dominated news headlines for the past few years. What basic human rights are afforded to transgender and nonbinary U.S. citizens is a mystery to many. The viewpoints in this resource lay out the issues in a concise and informative way, offering measured arguments as to why trans Americans are a protected class, as well as arguments for why they don't need special treatment. Workplace discrimination, marriage equality, and adoption, as they relate to transgender identities, are also touched upon.","English",28.3,22.64,"323.3/270973--dc23","112 pp.",{"$f":"Table1[[#This Row],['# of Books]]*Table1[[#This Row],[QTY]]","v":0},{"$f":"Table1[[#This Row],[QTY]]*Table1[[#This Row],[School & Library Price]]","v":0}]
[null,63,16,null,"Arts and Humanities","Eye on Art (Aug '17 Set)","Eye on Art (Aug '17 Set)","978-1-5345-6162-5","Lucent Press","Library Set",6,2018,"August 2017","Library","7.000 X 9.000"," "," ",null,null,null,null,null,null,"Years 12 - 15","Grade 7","Grade 7 - 10","Artists can express themselves in an astonishing variety of ways, including planning skyscrapers, laying out magazines, designing clothes, and even painting graffiti on walls. Readers explore these and other forms of artistic expression as they learn about the evolution of some of the world’s most popular kinds of art. Through accessible text that is enhanced by detailed sidebars and annotated quotes, readers gain a strong understanding of artistic techniques and the history of popular kinds of art. Vibrant photographs and examples of each kind of art are sure to captivate budding artists.","English",236.4,189.12,null,"104 pp.",{"$f":"Table1[[#This Row],['# of Books]]*Table1[[#This Row],[QTY]]","v":0},{"$f":"Table1[[#This Row],[QTY]]*Table1[[#This Row],[School & Library Price]]","v":0}]
[null,63,16,null,"Arts and Humanities","Eye on Art (Aug '17 Set)","Eye on Art (Aug '17 Set)","978-1-5345-6163-2","Lucent Press","eBook Set",6,2018,"August 2017",null,null," "," ",null,null,null,null,null,null,"Years 12 - 15","Grade 7","Grade 7 - 10","Artists can express themselves in an astonishing variety of ways, including planning skyscrapers, laying out magazines, designing clothes, and even painting graffiti on walls. Readers explore these and other forms of artistic expression as they learn about the evolution of some of the world’s most popular kinds of art. Through accessible text that is enhanced by detailed sidebars and annotated quotes, readers gain a strong understanding of artistic techniques and the history of popular kinds of art. Vibrant photographs and examples of each kind of art are sure to captivate budding artists.","English",236.4,189.12,null,"104 pp.",{"$f":"Table1[[#This Row],['# of Books]]*Table1[[#This Row],[QTY]]","v":0},{"$f":"Table1[[#This Row],[QTY]]*Table1[[#This Row],[School & Library Price]]","v":0}]
[null,63,16,null,"Arts and Humanities","Eye on Art","Anime: Japanese Animation Comes to America","978-1-5345-6102-1","Lucent Press","Library Bound Book",1,2018,"August 2017","Library","7.000 X 9.000","Author","Kenneth L. Bartolotta",null,null,null,null,"Z",null,"Years 12 - 15","Grade 7","Grade 7 - 10","In recent years, anime—a Japanese style of animation—has become extremely popular in Western culture. Although in the West its audience previously consisted mainly of young children, it has increasingly become accepted as an art form that can be appreciated by all ages. Readers discover the controversy that has historically surrounded anime’s status in the West and its fans struggle to promote it as a serious art form. Anime’s leap from Eastern to Western culture is highlighted with full-color photographs and fact-filled sidebars.","English",39.4,31.52,"791.43'340952--dc23","104 pp.",{"$f":"Table1[[#This Row],['# of Books]]*Table1[[#This Row],[QTY]]","v":0},{"$f":"Table1[[#This Row],[QTY]]*Table1[[#This Row],[School & Library Price]]","v":0}]
[null,63,16,null,"Arts and Humanities","Eye on Art","Anime: Japanese Animation Comes to America","978-1-5345-6103-8","Lucent Press","eBook",1,2018,"August 2017",null,null,"Author","Kenneth L. Bartolotta",null,null,null,null,"Z",null,"Years 12 - 15","Grade 7","Grade 7 - 10","In recent years, anime—a Japanese style of animation—has become extremely popular in Western culture. Although in the West its audience previously consisted mainly of young children, it has increasingly become accepted as an art form that can be appreciated by all ages. Readers discover the controversy that has historically surrounded anime’s status in the West and its fans struggle to promote it as a serious art form. Anime’s leap from Eastern to Western culture is highlighted with full-color photographs and fact-filled sidebars.","English",39.4,31.52,"791.43'340952--dc23","104 pp.",{"$f":"Table1[[#This Row],['# of Books]]*Table1[[#This Row],[QTY]]","v":0},{"$f":"Table1[[#This Row],[QTY]]*Table1[[#This Row],[School & Library Price]]","v":0}]
[null,63,16,null,"Arts and Humanities","Eye on Art","Computer Animation: Telling Stories with Digital Art","978-1-5345-6097-0","Lucent Press","Library Bound Book",1,2018,"August 2017","Library","7.000 X 9.000","Author","Tanya Dellaccio",null,null,null,null,"Z",null,"Years 12 - 15","Grade 7","Grade 7 - 10","As technology has become more advanced, artists have increasingly been able to use computers to create beautifully lifelike works. Animated movies and video games today are often so detailed that individual strands of hair can be distinguished on characters’ heads. Readers explore the methods animators use to bring images to life and learn about the history of computer animation. Informative sidebars and detailed photographs provide an in-depth look at the effort and care that go into creating a visually stunning storytelling experience.","English",39.4,31.52,"006.6'96'023--dc23","104 pp.",{"$f":"Table1[[#This Row],['# of Books]]*Table1[[#This Row],[QTY]]","v":0},{"$f":"Table1[[#This Row],[QTY]]*Table1[[#This Row],[School & Library Price]]","v":0}]
[null,63,16,null,"Arts and Humanities","Eye on Art","Computer Animation: Telling Stories with Digital Art","978-1-5345-6098-7","Lucent Press","eBook",1,2018,"August 2017",null,null,"Author","Tanya Dellaccio",null,null,null,null,"Z",null,"Years 12 - 15","Grade 7","Grade 7 - 10","As technology has become more advanced, artists have increasingly been able to use computers to create beautifully lifelike works. Animated movies and video games today are often so detailed that individual strands of hair can be distinguished on characters’ heads. Readers explore the methods animators use to bring images to life and learn about the history of computer animation. Informative sidebars and detailed photographs provide an in-depth look at the effort and care that go into creating a visually stunning storytelling experience.","English",39.4,31.52,"006.6'96'023--dc23","104 pp.",{"$f":"Table1[[#This Row],['# of Books]]*Table1[[#This Row],[QTY]]","v":0},{"$f":"Table1[[#This Row],[QTY]]*Table1[[#This Row],[School & Library Price]]","v":0}]
[null,63,16,null,"Arts and Humanities","Eye on Art","Fashion Design: Clothing as Art","978-1-5345-6104-5","Lucent Press","Library Bound Book",1,2018,"August 2017","Library","7.000 X 9.000","Author","Ruth Huoh",null,null,null,null,"Z",null,"Years 12 - 15","Grade 7","Grade 7 - 10","Can something people use every day be considered art? This is the core of the discussion surrounding the artistic merits of fashion design. To some, fashion is an art form; to others, it is too functional to be considered art. Both points of view are presented through detailed text, supported by quotes from fashion experts and famous designers. Engaging sidebars and detailed photographs bring the world of fashion into focus. Readers will enjoy this fresh take on an artistic industry that impacts our everyday lives.","English",39.4,31.52,"746.9'2--dc23","104 pp.",{"$f":"Table1[[#This Row],['# of Books]]*Table1[[#This Row],[QTY]]","v":0},{"$f":"Table1[[#This Row],[QTY]]*Table1[[#This Row],[School & Library Price]]","v":0}]
[null,63,16,null,"Arts and Humanities","Eye on Art","Fashion Design: Clothing as Art","978-1-5345-6105-2","Lucent Press","eBook",1,2018,"August 2017",null,null,"Author","Ruth Huoh",null,null,null,null,"Z",null,"Years 12 - 15","Grade 7","Grade 7 - 10","Can something people use every day be considered art? This is the core of the discussion surrounding the artistic merits of fashion design. To some, fashion is an art form; to others, it is too functional to be considered art. Both points of view are presented through detailed text, supported by quotes from fashion experts and famous designers. Engaging sidebars and detailed photographs bring the world of fashion into focus. Readers will enjoy this fresh take on an artistic industry that impacts our everyday lives.","English",39.4,31.52,"746.9'2--dc23","104 pp.",{"$f":"Table1[[#This Row],['# of Books]]*Table1[[#This Row],[QTY]]","v":0},{"$f":"Table1[[#This Row],[QTY]]*Table1[[#This Row],[School & Library Price]]","v":0}]
[null,63,16,null,"Arts and Humanities","Eye on Art","Graffiti: Vandalism or Art?","978-1-5345-6112-0","Lucent Press","Library Bound Book",1,2018,"August 2017","Library","7.000 X 9.000","Author","Anna Collins",null,null,null,null,"Z",null,"Years 12 - 15","Grade 7","Grade 7 - 10","Debate has long raged over whether graffiti can be considered an art form. Its illegal nature has caused many people to denounce it, while others contend that a work does not have to be legal to be art. The heart of the question is, what defines art? Informative text discusses competing views on the issue, presenting all sides of the debate to help readers form their own opinions. Engaging sidebars spotlight graffiti artists such as the famous Banksy, while eye-catching photographs provide examples of some of the most original graffiti designs.","English",39.4,31.52,"751.7/3--dc23","112 pp.",{"$f":"Table1[[#This Row],['# of Books]]*Table1[[#This Row],[QTY]]","v":0},{"$f":"Table1[[#This Row],[QTY]]*Table1[[#This Row],[School & Library Price]]","v":0}]
[null,63,16,null,"Arts and Humanities","Eye on Art","Graffiti: Vandalism or Art?","978-1-5345-6101-4","Lucent Press","eBook",1,2018,"August 2017",null,null,"Author","Anna Collins",null,null,null,null,"Z",null,"Years 12 - 15","Grade 7","Grade 7 - 10","Debate has long raged over whether graffiti can be considered an art form. Its illegal nature has caused many people to denounce it, while others contend that a work does not have to be legal to be art. The heart of the question is, what defines art? Informative text discusses competing views on the issue, presenting all sides of the debate to help readers form their own opinions. Engaging sidebars spotlight graffiti artists such as the famous Banksy, while eye-catching photographs provide examples of some of the most original graffiti designs.","English",39.4,31.52,"751.7/3--dc23","112 pp.",{"$f":"Table1[[#This Row],['# of Books]]*Table1[[#This Row],[QTY]]","v":0},{"$f":"Table1[[#This Row],[QTY]]*Table1[[#This Row],[School & Library Price]]","v":0}]
[null,63,16,null,"Arts and Humanities","Eye on Art","Graphic Design: Putting Art and Words Together","978-1-5345-6099-4","Lucent Press","Library Bound Book",1,2018,"August 2017","Library","7.000 X 9.000","Author","Donna Reynolds",null,null,null,null,"Z",null,"Years 12 - 15","Grade 7","Grade 7 - 10","Although graphic design is all around us, we rarely take time to notice and appreciate it. Advertisements, logos, websites, and more all rely on graphic design to create eye-catching content. This volume explores the skills artists need to produce aesthetically pleasing designs and the development of this field into the major industry it is today. Information is included for readers who are interested in pursuing graphic design as a career, and striking photographs display some of the most innovative examples of this prominent medium.","English",39.4,31.52,"740--dc23","112 pp.",{"$f":"Table1[[#This Row],['# of Books]]*Table1[[#This Row],[QTY]]","v":0},{"$f":"Table1[[#This Row],[QTY]]*Table1[[#This Row],[School & Library Price]]","v":0}]
[null,63,16,null,"Arts and Humanities","Eye on Art","Graphic Design: Putting Art and Words Together","978-1-5345-6100-7","Lucent Press","eBook",1,2018,"August 2017",null,null,"Author","Donna Reynolds",null,null,null,null,"Z",null,"Years 12 - 15","Grade 7","Grade 7 - 10","Although graphic design is all around us, we rarely take time to notice and appreciate it. Advertisements, logos, websites, and more all rely on graphic design to create eye-catching content. This volume explores the skills artists need to produce aesthetically pleasing designs and the development of this field into the major industry it is today. Information is included for readers who are interested in pursuing graphic design as a career, and striking photographs display some of the most innovative examples of this prominent medium.","English",39.4,31.52,"740--dc23","112 pp.",{"$f":"Table1[[#This Row],['# of Books]]*Table1[[#This Row],[QTY]]","v":0},{"$f":"Table1[[#This Row],[QTY]]*Table1[[#This Row],[School & Library Price]]","v":0}]
[null,63,16,null,"Arts and Humanities","Eye on Art","The Art of Architecture","978-1-5345-6095-6","Lucent Press","Library Bound Book",1,2018,"August 2017","Library","7.000 X 9.000","Author","Tanya Dellaccio",null,null,null,null,"Z",null,"Years 12 - 15","Grade 7","Grade 7 - 10","Buildings are not often thought of as works of art, but the process of designing them can become an art form. Architects such as Frank Lloyd Wright and Zaha Hadid have been internationally recognized for their innovative designs. Through engaging text and full-color photographs, readers learn about the artistic challenges these and other architects face as they attempt to blend form and function in new and exciting ways. Readers are sure to love this detailed look at a kind of art they see around them every day and a career path they can pursue if they are interested in architecture.","English",39.4,31.52,"720.9--dc23","112 pp.",{"$f":"Table1[[#This Row],['# of Books]]*Table1[[#This Row],[QTY]]","v":0},{"$f":"Table1[[#This Row],[QTY]]*Table1[[#This Row],[School & Library Price]]","v":0}]
[null,63,16,null,"Arts and Humanities","Eye on Art","The Art of Architecture","978-1-5345-6096-3","Lucent Press","eBook",1,2018,"August 2017",null,null,"Author","Tanya Dellaccio",null,null,null,null,"Z",null,"Years 12 - 15","Grade 7","Grade 7 - 10","Buildings are not often thought of as works of art, but the process of designing them can become an art form. Architects such as Frank Lloyd Wright and Zaha Hadid have been internationally recognized for their innovative designs. Through engaging text and full-color photographs, readers learn about the artistic challenges these and other architects face as they attempt to blend form and function in new and exciting ways. Readers are sure to love this detailed look at a kind of art they see around them every day and a career path they can pursue if they are interested in architecture.","English",39.4,31.52,"720.9--dc23","112 pp.",{"$f":"Table1[[#This Row],['# of Books]]*Table1[[#This Row],[QTY]]","v":0},{"$f":"Table1[[#This Row],[QTY]]*Table1[[#This Row],[School & Library Price]]","v":0}]
[null,null,17,null,"Current Issues","Hot Topics","Hot Topics: Sets 1 – 3","978-1-5345-6313-1","Lucent Press","Library Set",18,2018,"January 2018",null,"7.000 X 9.000"," "," ",null,null,null,null,null,null,"Years 12 - 15","Grade 7","Grade 7 - 10","Complex topics such as abortion, media bias, and the death penalty are often debated and discussed in short segments on the news or angry comment threads on the Internet. This method of presenting important issues that impact society as a whole does not allow people to understand different perspectives and gather all the facts. What is needed is a comprehensive approach to controversial issues, which is what readers find when they explore these carefully chosen topics, which are presented through fact-filled text, diligently researched sidebars, annotated quotes, helpful charts and graphs, and full-color photographs.\n\nFeatures include: Balanced, informative text encourages readers to think critically and independently about important issues in the world around them. Discussion questions are included to foster open communication and deeper thinking about each issue. Detailed text provides essential information on topics readers might hear or read about without being given a clear picture of what they mean and why they are important, including fake news and rape culture.","English",709.2,567.36,null,"104 pp.",{"$f":"Table1[[#This Row],['# of Books]]*Table1[[#This Row],[QTY]]","v":0},{"$f":"Table1[[#This Row],[QTY]]*Table1[[#This Row],[School & Library Price]]","v":0}]
[null,69,17,null,"Current Issues","Hot Topics","Hot Topics: Set 3","978-1-5345-6255-4","Lucent Press","Library Set",6,2018,"January 2018",null,"7.000 X 9.000"," "," ",null,null,null,null,null,null,"Years 12 - 15","Grade 7","Grade 7 - 10","Complex topics such as abortion, media bias, and the death penalty are often debated and discussed in short segments on the news or angry comment threads on the Internet. This method of presenting important issues that impact society as a whole does not allow people to understand different perspectives and gather all the facts. What is needed is a comprehensive approach to controversial issues, which is what readers find when they explore these carefully chosen topics, which are presented through fact-filled text, diligently researched sidebars, annotated quotes, helpful charts and graphs, and full-color photographs.\n\nFeatures include: Balanced, informative text encourages readers to think critically and independently about important issues in the world around them. Discussion questions are included to foster open communication and deeper thinking about each issue. Detailed text provides essential information on topics readers might hear or read about without being given a clear picture of what they mean and why they are important, including fake news and rape culture.","English",236.4,189.12,null,"104 pp.",{"$f":"Table1[[#This Row],['# of Books]]*Table1[[#This Row],[QTY]]","v":0},{"$f":"Table1[[#This Row],[QTY]]*Table1[[#This Row],[School & Library Price]]","v":0}]
[null,null,17,null,"Current Issues","Hot Topics","Hot Topics","978-1-5345-6319-3","Lucent Press","Single Copy Set",6,2018,"January 2018",null,"7.000 X 9.000"," "," ",null,null,null,null,null,null,"Years 12 - 15","Grade 7","Grade 7 - 10","Complex topics such as abortion, media bias, and the death penalty are often debated and discussed in short segments on the news or angry comment threads on the Internet. This method of presenting important issues that impact society as a whole does not allow people to understand different perspectives and gather all the facts. What is needed is a comprehensive approach to controversial issues, which is what readers find when they explore these carefully chosen topics, which are presented through fact-filled text, diligently researched sidebars, annotated quotes, helpful charts and graphs, and full-color photographs.\n\nFeatures include: Balanced, informative text encourages readers to think critically and independently about important issues in the world around them. Discussion questions are included to foster open communication and deeper thinking about each issue. Detailed text provides essential information on topics readers might hear or read about without being given a clear picture of what they mean and why they are important, including fake news and rape culture.","English",119.94,101.94,null,"104 pp.",{"$f":"Table1[[#This Row],['# of Books]]*Table1[[#This Row],[QTY]]","v":0},{"$f":"Table1[[#This Row],[QTY]]*Table1[[#This Row],[School & Library Price]]","v":0}]
[null,69,null,null,"Current Issues","Hot Topics","Hot Topics (Jan '18 Set)","978-1-5345-6265-3","Lucent Press","eBook Set",6,2018,"January 2018",null,null," "," ",null,null,null,null,null,null,"Years 12 - 15","Grade 7","Grade 7 - 10","Complex topics such as abortion, media bias, and the death penalty are often debated and discussed in short segments on the news or angry comment threads on the Internet. This method of presenting important issues that impact society as a whole does not allow people to understand different perspectives and gather all the facts. What is needed is a comprehensive approach to controversial issues, which is what readers find when they explore these carefully chosen topics, which are presented through fact-filled text, diligently researched sidebars, annotated quotes, helpful charts and graphs, and full-color photographs.\r\nFeatures include: Balanced, informative text encourages readers to think critically and independently about important issues in the world around them. Discussion questions are included to foster open communication and deeper thinking about each issue. Detailed text provides essential information on topics readers might hear or read about without being given a clear picture of what they mean and why they are important, including fake news and rape culture.","English",236.4,189.12,null,"104 pp.",{"$f":"Table1[[#This Row],['# of Books]]*Table1[[#This Row],[QTY]]","v":0},{"$f":"Table1[[#This Row],[QTY]]*Table1[[#This Row],[School & Library Price]]","v":0}]
[null,69,17,null,"Current Issues","Hot Topics","Abortion: A Continuing Debate","978-1-5345-6197-7","Lucent Press","Library Bound Book",1,2018,"January 2018","Library","7.000 X 9.000","Author","Meghan Green",null,null,null,null,"Z",null,"Years 12 - 15","Grade 7","Grade 7 - 10","Should abortion be legal? How late in a pregnancy should a woman be allowed to have an abortion? What impact would outlawing abortion have on women, especially those who live in poverty? Readers learn about these and other abortion concerns; all sides of the debate are discussed to help them form their own opinions. Informative charts and in-depth sidebars highlight important facts about this controversial topic, and a list of discussion questions is included to give them a starting point for further debate and guided thinking about this complex issue.","English",39.4,31.52,"179.7/6--dc23","104 pp.",{"$f":"Table1[[#This Row],['# of Books]]*Table1[[#This Row],[QTY]]","v":0},{"$f":"Table1[[#This Row],[QTY]]*Table1[[#This Row],[School & Library Price]]","v":0}]
[null,69,17,null,"Current Issues","Hot Topics","Abortion: A Continuing Debate","978-1-5345-6198-4","Lucent Press","eBook",1,2018,"January 2018",null,null,"Author","Meghan Green",null,null,null,null,"Z",null,"Years 12 - 15","Grade 7","Grade 7 - 10","Should abortion be legal? How late in a pregnancy should a woman be allowed to have an abortion? What impact would outlawing abortion have on women, especially those who live in poverty? Readers learn about these and other abortion concerns; all sides of the debate are discussed to help them form their own opinions. Informative charts and in-depth sidebars highlight important facts about this controversial topic, and a list of discussion questions is included to give them a starting point for further debate and guided thinking about this complex issue.","English",39.4,31.52,"179.7/6--dc23","104 pp.",{"$f":"Table1[[#This Row],['# of Books]]*Table1[[#This Row],[QTY]]","v":0},{"$f":"Table1[[#This Row],[QTY]]*Table1[[#This Row],[School & Library Price]]","v":0}]
[null,null,17,null,"Current Issues","Hot Topics","Abortion: A Continuing Debate","978-1-5345-6288-2","Lucent Press","Paperback Book",1,2018,"January 2018","Paperback","7.000 X 9.000","Author","Meghan Green",null,null,null,null,"Z",null,"Years 12 - 15","Grade 7","Grade 7 - 10","Should abortion be legal? How late in a pregnancy should a woman be allowed to have an abortion? What impact would outlawing abortion have on women, especially those who live in poverty? Readers learn about these and other abortion concerns; all sides of the debate are discussed to help them form their own opinions. Informative charts and in-depth sidebars highlight important facts about this controversial topic, and a list of discussion questions is included to give them a starting point for further debate and guided thinking about this complex issue.","English",19.989999999999998,16.989999999999998,"179.7/6--dc23","104 pp.",{"$f":"Table1[[#This Row],['# of Books]]*Table1[[#This Row],[QTY]]","v":0},{"$f":"Table1[[#This Row],[QTY]]*Table1[[#This Row],[School & Library Price]]","v":0}]
[null,69,17,null,"Current Issues","Hot Topics","Biological Weapons: Using Nature to Kill","978-1-5345-6201-1","Lucent Press","Library Bound Book",1,2018,"January 2018","Library","7.000 X 9.000","Author","Anna Collins",null,null,null,null,"Z",null,"Years 12 - 15","Grade 7","Grade 7 - 10","Throughout history, armies have used various kinds of germs to cripple their enemies. International treaties currently outlaw the use of biological weapons, but this does not necessarily mean that none are being developed. Through informative text, augmented by detailed infographics and sidebars, readers learn about the history of biological warfare and ways it can be avoided in the future. Annotated quotes from experts on this topic and discussion questions are also included to give readers a deeper understanding of the many facets of this complex topic.","English",39.4,31.52,"358'.384--dc23","104 pp.",{"$f":"Table1[[#This Row],['# of Books]]*Table1[[#This Row],[QTY]]","v":0},{"$f":"Table1[[#This Row],[QTY]]*Table1[[#This Row],[School & Library Price]]","v":0}]
[null,69,17,null,"Current Issues","Hot Topics","Biological Weapons: Using Nature to Kill","978-1-5345-6202-8","Lucent Press","eBook",1,2018,"January 2018",null,null,"Author","Anna Collins",null,null,null,null,"Z",null,"Years 12 - 15","Grade 7","Grade 7 - 10","Throughout history, armies have used various kinds of germs to cripple their enemies. International treaties currently outlaw the use of biological weapons, but this does not necessarily mean that none are being developed. Through informative text, augmented by detailed infographics and sidebars, readers learn about the history of biological warfare and ways it can be avoided in the future. Annotated quotes from experts on this topic and discussion questions are also included to give readers a deeper understanding of the many facets of this complex topic.","English",39.4,31.52,"358'.384--dc23","104 pp.",{"$f":"Table1[[#This Row],['# of Books]]*Table1[[#This Row],[QTY]]","v":0},{"$f":"Table1[[#This Row],[QTY]]*Table1[[#This Row],[School & Library Price]]","v":0}]
[null,null,17,null,"Current Issues","Hot Topics","Biological Weapons: Using Nature to Kill","978-1-5345-6289-9","Lucent Press","Paperback Book",1,2018,"January 2018","Paperback","7.000 X 9.000","Author","Anna Collins",null,null,null,null,"Z",null,"Years 12 - 15","Grade 7","Grade 7 - 10","Throughout history, armies have used various kinds of germs to cripple their enemies. International treaties currently outlaw the use of biological weapons, but this does not necessarily mean that none are being developed. Through informative text, augmented by detailed infographics and sidebars, readers learn about the history of biological warfare and ways it can be avoided in the future. Annotated quotes from experts on this topic and discussion questions are also included to give readers a deeper understanding of the many facets of this complex topic.","English",19.989999999999998,16.989999999999998,"358'.384--dc23","104 pp.",{"$f":"Table1[[#This Row],['# of Books]]*Table1[[#This Row],[QTY]]","v":0},{"$f":"Table1[[#This Row],[QTY]]*Table1[[#This Row],[School & Library Price]]","v":0}]
[null,69,17,null,"Current Issues","Hot Topics","Child Abuse: Tragedy and Trauma","978-1-5345-6203-5","Lucent Press","Library Bound Book",1,2018,"January 2018","Library","7.000 X 9.000","Author","Allison Krumsiek",null,null,null,null,"Z",null,"Years 12 - 15","Grade 7","Grade 7 - 10","Child abuse does not always leave visible marks; sometimes the abuse is emotional or sexual. Often, a child is abused in more than one way. Although abuse is never the victim’s fault, they may feel too guilty or ashamed to tell anyone about it. Therefore, it is important for others to recognize the signs. Through informative text, full-color photographs, discussion questions, and detailed infographics, this volume teaches young adults what abuse looks like and how to get help for themselves or for others if they recognize signs of an abusive situation.","English",39.4,31.52,"362.760973--dc23","104 pp.",{"$f":"Table1[[#This Row],['# of Books]]*Table1[[#This Row],[QTY]]","v":0},{"$f":"Table1[[#This Row],[QTY]]*Table1[[#This Row],[School & Library Price]]","v":0}]
[null,69,17,null,"Current Issues","Hot Topics","Child Abuse: Tragedy and Trauma","978-1-5345-6204-2","Lucent Press","eBook",1,2018,"January 2018",null,null,"Author","Allison Krumsiek",null,null,null,null,"Z",null,"Years 12 - 15","Grade 7","Grade 7 - 10","Child abuse does not always leave visible marks; sometimes the abuse is emotional or sexual. Often, a child is abused in more than one way. Although abuse is never the victim’s fault, they may feel too guilty or ashamed to tell anyone about it. Therefore, it is important for others to recognize the signs. Through informative text, full-color photographs, discussion questions, and detailed infographics, this volume teaches young adults what abuse looks like and how to get help for themselves or for others if they recognize signs of an abusive situation.","English",39.4,31.52,"362.760973--dc23","104 pp.",{"$f":"Table1[[#This Row],['# of Books]]*Table1[[#This Row],[QTY]]","v":0},{"$f":"Table1[[#This Row],[QTY]]*Table1[[#This Row],[School & Library Price]]","v":0}]
[null,null,17,null,"Current Issues","Hot Topics","Child Abuse: Tragedy and Trauma","978-1-5345-6290-5","Lucent Press","Paperback Book",1,2018,"January 2018","Paperback","7.000 X 9.000","Author","Allison Krumsiek",null,null,null,null,"Z",null,"Years 12 - 15","Grade 7","Grade 7 - 10","Child abuse does not always leave visible marks; sometimes the abuse is emotional or sexual. Often, a child is abused in more than one way. Although abuse is never the victim’s fault, they may feel too guilty or ashamed to tell anyone about it. Therefore, it is important for others to recognize the signs. Through informative text, full-color photographs, discussion questions, and detailed infographics, this volume teaches young adults what abuse looks like and how to get help for themselves or for others if they recognize signs of an abusive situation.","English",19.989999999999998,16.989999999999998,"362.760973--dc23","104 pp.",{"$f":"Table1[[#This Row],['# of Books]]*Table1[[#This Row],[QTY]]","v":0},{"$f":"Table1[[#This Row],[QTY]]*Table1[[#This Row],[School & Library Price]]","v":0}]
[null,69,17,null,"Current Issues","Hot Topics","Fake News and Media Bias","978-1-5345-6199-1","Lucent Press","Library Bound Book",1,2018,"January 2018","Library","7.000 X 9.000","Author","Lucian Vance",null,null,null,null,"Z",null,"Years 12 - 15","Grade 7","Grade 7 - 10","Although news outlets are meant to be impartial, they have never been perfectly unbiased. Another layer was added to the ongoing debate over the role of news media after the 2016 U.S. presidential election, when allegations of fake news surfaced. How can people know which news sources to trust? This volume explores the fake news phenomenon and offers readers tips on how to be critical of what they see reported. Full-color photographs, engaging sidebars, and discussion questions enhance the compelling text as it explores this crucial aspect of a democratic society.","English",39.4,31.52,"302.230973--dc23","104 pp.",{"$f":"Table1[[#This Row],['# of Books]]*Table1[[#This Row],[QTY]]","v":0},{"$f":"Table1[[#This Row],[QTY]]*Table1[[#This Row],[School & Library Price]]","v":0}]
[null,69,17,null,"Current Issues","Hot Topics","Fake News and Media Bias","978-1-5345-6200-4","Lucent Press","eBook",1,2018,"January 2018",null,null,"Author","Lucian Vance",null,null,null,null,"Z",null,"Years 12 - 15","Grade 7","Grade 7 - 10","Although news outlets are meant to be impartial, they have never been perfectly unbiased. Another layer was added to the ongoing debate over the role of news media after the 2016 U.S. presidential election, when allegations of fake news surfaced. How can people know which news sources to trust? This volume explores the fake news phenomenon and offers readers tips on how to be critical of what they see reported. Full-color photographs, engaging sidebars, and discussion questions enhance the compelling text as it explores this crucial aspect of a democratic society.","English",39.4,31.52,"302.230973--dc23","104 pp.",{"$f":"Table1[[#This Row],['# of Books]]*Table1[[#This Row],[QTY]]","v":0},{"$f":"Table1[[#This Row],[QTY]]*Table1[[#This Row],[School & Library Price]]","v":0}]
[null,null,17,null,"Current Issues","Hot Topics","Fake News and Media Bias","978-1-5345-6291-2","Lucent Press","Paperback Book",1,2018,"January 2018","Paperback","7.000 X 9.000","Author","Lucian Vance",null,null,null,null,"Z",null,"Years 12 - 15","Grade 7","Grade 7 - 10","Although news outlets are meant to be impartial, they have never been perfectly unbiased. Another layer was added to the ongoing debate over the role of news media after the 2016 U.S. presidential election, when allegations of fake news surfaced. How can people know which news sources to trust? This volume explores the fake news phenomenon and offers readers tips on how to be critical of what they see reported. Full-color photographs, engaging sidebars, and discussion questions enhance the compelling text as it explores this crucial aspect of a democratic society.","English",19.989999999999998,16.989999999999998,"302.230973--dc23","104 pp.",{"$f":"Table1[[#This Row],['# of Books]]*Table1[[#This Row],[QTY]]","v":0},{"$f":"Table1[[#This Row],[QTY]]*Table1[[#This Row],[School & Library Price]]","v":0}]
[null,69,17,null,"Current Issues","Hot Topics","Rape Culture: How Can We End It?","978-1-5345-6207-3","Lucent Press","Library Bound Book",1,2018,"January 2018","Library","7.000 X 9.000","Author","Michelle Denton",null,null,null,null,"Z",null,"Years 12 - 15","Grade 7","Grade 7 - 10","Rape culture is the normalization of sexual assault and degradation of victims. Things such as catcalls and explicit song lyrics may seem harmless, but they contribute to an atmosphere where people, particularly women, are regarded as objects. This makes it easier for rapists to justify their actions to themselves. Readers are introduced to these and other crucial points about this important social issue and the rising level of awareness surrounding it. Relatable text, discussion questions, and informative fact boxes teach young adults what rape culture is and how they can fight it to make society safer for everyone.","English",39.4,31.52,"364.15/320973--dc23","104 pp.",{"$f":"Table1[[#This Row],['# of Books]]*Table1[[#This Row],[QTY]]","v":0},{"$f":"Table1[[#This Row],[QTY]]*Table1[[#This Row],[School & Library Price]]","v":0}]
[null,69,17,null,"Current Issues","Hot Topics","Rape Culture: How Can We End It?","978-1-5345-6208-0","Lucent Press","eBook",1,2018,"January 2018",null,null,"Author","Michelle Denton",null,null,null,null,"Z",null,"Years 12 - 15","Grade 7","Grade 7 - 10","Rape culture is the normalization of sexual assault and degradation of victims. Things such as catcalls and explicit song lyrics may seem harmless, but they contribute to an atmosphere where people, particularly women, are regarded as objects. This makes it easier for rapists to justify their actions to themselves. Readers are introduced to these and other crucial points about this important social issue and the rising level of awareness surrounding it. Relatable text, discussion questions, and informative fact boxes teach young adults what rape culture is and how they can fight it to make society safer for everyone.","English",39.4,31.52,"364.15/320973--dc23","104 pp.",{"$f":"Table1[[#This Row],['# of Books]]*Table1[[#This Row],[QTY]]","v":0},{"$f":"Table1[[#This Row],[QTY]]*Table1[[#This Row],[School & Library Price]]","v":0}]
[null,null,17,null,"Current Issues","Hot Topics","Rape Culture: How Can We End It?","978-1-5345-6292-9","Lucent Press","Paperback Book",1,2018,"January 2018","Paperback","7.000 X 9.000","Author","Michelle Denton",null,null,null,null,"Z",null,"Years 12 - 15","Grade 7","Grade 7 - 10","Rape culture is the normalization of sexual assault and degradation of victims. Things such as catcalls and explicit song lyrics may seem harmless, but they contribute to an atmosphere where people, particularly women, are regarded as objects. This makes it easier for rapists to justify their actions to themselves. Readers are introduced to these and other crucial points about this important social issue and the rising level of awareness surrounding it. Relatable text, discussion questions, and informative fact boxes teach young adults what rape culture is and how they can fight it to make society safer for everyone.","English",19.989999999999998,16.989999999999998,"364.15/320973--dc23","104 pp.",{"$f":"Table1[[#This Row],['# of Books]]*Table1[[#This Row],[QTY]]","v":0},{"$f":"Table1[[#This Row],[QTY]]*Table1[[#This Row],[School & Library Price]]","v":0}]
[null,69,17,null,"Current Issues","Hot Topics","The Death Penalty: Just Punishment or Cruel Practice?","978-1-5345-6205-9","Lucent Press","Library Bound Book",1,2018,"January 2018","Library","7.000 X 9.000","Author","Allison Krumsiek",null,null,null,null,"Z",null,"Years 12 - 15","Grade 7","Grade 7 - 10","When a violent crime is committed, some people believe the only fair punishment is for the perpetrator to be put to death. Others feel that this practice is inhumane and that no one should be deliberately killed, regardless of what he or she may have done. This volume examines the history of the death penalty, the ways it is administered, and the arguments for and against it. Chapter questions encourage discussion among readers, and detailed charts and compelling sidebars enhance readers’ understanding of this hotly debated topic.","English",39.4,31.52,"364.66--dc23","104 pp.",{"$f":"Table1[[#This Row],['# of Books]]*Table1[[#This Row],[QTY]]","v":0},{"$f":"Table1[[#This Row],[QTY]]*Table1[[#This Row],[School & Library Price]]","v":0}]
[null,69,17,null,"Current Issues","Hot Topics","The Death Penalty: Just Punishment or Cruel Practice?","978-1-5345-6206-6","Lucent Press","eBook",1,2018,"January 2018",null,null,"Author","Allison Krumsiek",null,null,null,null,"Z",null,"Years 12 - 15","Grade 7","Grade 7 - 10","When a violent crime is committed, some people believe the only fair punishment is for the perpetrator to be put to death. Others feel that this practice is inhumane and that no one should be deliberately killed, regardless of what he or she may have done. This volume examines the history of the death penalty, the ways it is administered, and the arguments for and against it. Chapter questions encourage discussion among readers, and detailed charts and compelling sidebars enhance readers’ understanding of this hotly debated topic.","English",39.4,31.52,"364.66--dc23","104 pp.",{"$f":"Table1[[#This Row],['# of Books]]*Table1[[#This Row],[QTY]]","v":0},{"$f":"Table1[[#This Row],[QTY]]*Table1[[#This Row],[School & Library Price]]","v":0}]
[null,null,17,null,"Current Issues","Hot Topics","The Death Penalty: Just Punishment or Cruel Practice?","978-1-5345-6293-6","Lucent Press","Paperback Book",1,2018,"January 2018","Paperback","7.000 X 9.000","Author","Allison Krumsiek",null,null,null,null,"Z",null,"Years 12 - 15","Grade 7","Grade 7 - 10","When a violent crime is committed, some people believe the only fair punishment is for the perpetrator to be put to death. Others feel that this practice is inhumane and that no one should be deliberately killed, regardless of what he or she may have done. This volume examines the history of the death penalty, the ways it is administered, and the arguments for and against it. Chapter questions encourage discussion among readers, and detailed charts and compelling sidebars enhance readers’ understanding of this hotly debated topic.","English",19.989999999999998,16.989999999999998,"364.66--dc23","104 pp.",{"$f":"Table1[[#This Row],['# of Books]]*Table1[[#This Row],[QTY]]","v":0},{"$f":"Table1[[#This Row],[QTY]]*Table1[[#This Row],[School & Library Price]]","v":0}]
[null,69,17,null,"Current Issues","Hot Topics (Aug '17 Set)","Hot Topics (Aug '17 Set)","978-1-5345-6164-9","Lucent Press","Library Set",6,2018,"August 2017","Library","7.000 X 9.000"," "," ",null,null,null,null,null,null,"Years 12 - 15","Grade 7","Grade 7 - 10","Issues such as racism, immigration, and the protection of civil liberties affect young people just as much as they affect their parents. In some cases, they affect young people even more. Readers find the facts they need to become informed about some of the most controversial topics in contemporary culture. These facts are presented in an accessible tone without condescension, making each volume a strong resource for young people navigating these challenges. The vivid photographs and annotated quotes used throughout make a strong impression on readers, enhancing this valuable reading experience.","English",236.4,189.12,null,"112 pp.",{"$f":"Table1[[#This Row],['# of Books]]*Table1[[#This Row],[QTY]]","v":0},{"$f":"Table1[[#This Row],[QTY]]*Table1[[#This Row],[School & Library Price]]","v":0}]
[null,69,17,null,"Current Issues","Hot Topics (Aug '17 Set)","Hot Topics (Aug '17 Set)","978-1-5345-6165-6","Lucent Press","eBook Set",6,2018,"August 2017",null,null," "," ",null,null,null,null,null,null,"Years 12 - 15","Grade 7","Grade 7 - 10","Issues such as racism, immigration, and the protection of civil liberties affect young people just as much as they affect their parents. In some cases, they affect young people even more. Readers find the facts they need to become informed about some of the most controversial topics in contemporary culture. These facts are presented in an accessible tone without condescension, making each volume a strong resource for young people navigating these challenges. The vivid photographs and annotated quotes used throughout make a strong impression on readers, enhancing this valuable reading experience.","English",236.4,189.12,null,"112 pp.",{"$f":"Table1[[#This Row],['# of Books]]*Table1[[#This Row],[QTY]]","v":0},{"$f":"Table1[[#This Row],[QTY]]*Table1[[#This Row],[School & Library Price]]","v":0}]
[null,69,17,null,"Current Issues","Hot Topics","Civil Liberties: The Fight for Personal Freedom","978-1-5345-6145-8","Lucent Press","Library Bound Book",1,2018,"August 2017","Library","7.000 X 9.000","Author","Allison Krumsiek",null,null,null,null,"Z",null,"Years 12 - 15","Grade 7","Grade 7 - 10","Although the civil liberties of American citizens are protected under the Constitution, these rights are often violated by both individuals and the government, and obtaining justice can be a difficult process. Students, in particular, struggle for their legal rights; many people incorrectly assume that these rights can be dictated by school authorities. Through enlightening infographics, sidebars, discussion questions, and quote boxes featuring comments by experts, this volume explores the rights all Americans are entitled to and the fight to protect those rights.","English",39.4,31.52,"342.7308'5--dc23","112 pp.",{"$f":"Table1[[#This Row],['# of Books]]*Table1[[#This Row],[QTY]]","v":0},{"$f":"Table1[[#This Row],[QTY]]*Table1[[#This Row],[School & Library Price]]","v":0}]
[null,69,17,null,"Current Issues","Hot Topics","Civil Liberties: The Fight for Personal Freedom","978-1-5345-6146-5","Lucent Press","eBook",1,2018,"August 2017",null,null,"Author","Allison Krumsiek",null,null,null,null,"Z",null,"Years 12 - 15","Grade 7","Grade 7 - 10","Although the civil liberties of American citizens are protected under the Constitution, these rights are often violated by both individuals and the government, and obtaining justice can be a difficult process. Students, in particular, struggle for their legal rights; many people incorrectly assume that these rights can be dictated by school authorities. Through enlightening infographics, sidebars, discussion questions, and quote boxes featuring comments by experts, this volume explores the rights all Americans are entitled to and the fight to protect those rights.","English",39.4,31.52,"342.7308'5--dc23","112 pp.",{"$f":"Table1[[#This Row],['# of Books]]*Table1[[#This Row],[QTY]]","v":0},{"$f":"Table1[[#This Row],[QTY]]*Table1[[#This Row],[School & Library Price]]","v":0}]
[null,69,17,null,"Current Issues","Hot Topics","Cyber Mobs: Destructive Online Communities","978-1-5345-6153-3","Lucent Press","Library Bound Book",1,2018,"August 2017","Library","7.000 X 9.000","Author","Allison Krumsiek",null,null,null,null,"Z",null,"Years 12 - 15","Grade 7","Grade 7 - 10","The Internet has made it easier than ever for people to connect, but their interactions are not always friendly. Any perceived fault can cause someone to be attacked by a cyber mob—a group of people intent on humiliating someone online. Relatable text addresses this relatively new phenomenon, giving readers information about the rise of cyber mobs, the social and psychological effects on their victims, and ways to combat them. Engaging sidebars provide examples of cyber mob attacks, and a list of resources is provided for anyone who may be experiencing online bullying.","English",39.4,31.52,"302.34'302854678--dc23","104 pp.",{"$f":"Table1[[#This Row],['# of Books]]*Table1[[#This Row],[QTY]]","v":0},{"$f":"Table1[[#This Row],[QTY]]*Table1[[#This Row],[School & Library Price]]","v":0}]
[null,69,17,null,"Current Issues","Hot Topics","Cyber Mobs: Destructive Online Communities","978-1-5345-6154-0","Lucent Press","eBook",1,2018,"August 2017",null,null,"Author","Allison Krumsiek",null,null,null,null,"Z",null,"Years 12 - 15","Grade 7","Grade 7 - 10","The Internet has made it easier than ever for people to connect, but their interactions are not always friendly. Any perceived fault can cause someone to be attacked by a cyber mob—a group of people intent on humiliating someone online. Relatable text addresses this relatively new phenomenon, giving readers information about the rise of cyber mobs, the social and psychological effects on their victims, and ways to combat them. Engaging sidebars provide examples of cyber mob attacks, and a list of resources is provided for anyone who may be experiencing online bullying.","English",39.4,31.52,"302.34'302854678--dc23","104 pp.",{"$f":"Table1[[#This Row],['# of Books]]*Table1[[#This Row],[QTY]]","v":0},{"$f":"Table1[[#This Row],[QTY]]*Table1[[#This Row],[School & Library Price]]","v":0}]
[null,69,17,null,"Current Issues","Hot Topics","Hate Crimes: When Intolerance Turns Violent","978-1-5345-6149-6","Lucent Press","Library Bound Book",1,2018,"August 2017","Library","7.000 X 9.000","Author","Meghan Sharif",null,null,null,null,"Z",null,"Years 12 - 15","Grade 7","Grade 7 - 10","Hate crimes can take many forms. Assaulting someone, vandalizing their property, or simply making them feel threatened are all considered hate crimes when they are motivated by animosity for a particular group. Readers learn that these offenses often take place because the perpetrator has a fundamental misunderstanding or fear of the people in that targeted group. Informative charts and discussion questions for each chapter encourage readers to think critically about the way people’s biases can dictate their behavior in ways that harm others.","English",39.4,31.52,"364.15--dc23","112 pp.",{"$f":"Table1[[#This Row],['# of Books]]*Table1[[#This Row],[QTY]]","v":0},{"$f":"Table1[[#This Row],[QTY]]*Table1[[#This Row],[School & Library Price]]","v":0}]
[null,69,17,null,"Current Issues","Hot Topics","Hate Crimes: When Intolerance Turns Violent","978-1-5345-6150-2","Lucent Press","eBook",1,2018,"August 2017",null,null,"Author","Meghan Sharif",null,null,null,null,"Z",null,"Years 12 - 15","Grade 7","Grade 7 - 10","Hate crimes can take many forms. Assaulting someone, vandalizing their property, or simply making them feel threatened are all considered hate crimes when they are motivated by animosity for a particular group. Readers learn that these offenses often take place because the perpetrator has a fundamental misunderstanding or fear of the people in that targeted group. Informative charts and discussion questions for each chapter encourage readers to think critically about the way people’s biases can dictate their behavior in ways that harm others.","English",39.4,31.52,"364.15--dc23","112 pp.",{"$f":"Table1[[#This Row],['# of Books]]*Table1[[#This Row],[QTY]]","v":0},{"$f":"Table1[[#This Row],[QTY]]*Table1[[#This Row],[School & Library Price]]","v":0}]
[null,69,17,null,"Current Issues","Hot Topics","Immigration Issues in America","978-1-5345-6151-9","Lucent Press","Library Bound Book",1,2018,"August 2017","Library","7.000 X 9.000","Author","Michelle Denton",null,null,null,null,"Z",null,"Years 12 - 15","Grade 7","Grade 7 - 10","Every wave of immigrants entering the United States has faced prejudice. As each group gradually assimilates into the dominant culture, it becomes easy to forget the anger that was previously directed at them. People always believe that the next group of immigrants poses a more severe threat than the ones that came before them, but readers discover that these fears often prove to be unfounded. Detailed infographics and full-color photographs supplement the informative text’s analysis of the history of immigration, its economic implications, and what immigration policies should be implemented in the future.","English",39.4,31.52,"343.7308'2--dc23","112 pp.",{"$f":"Table1[[#This Row],['# of Books]]*Table1[[#This Row],[QTY]]","v":0},{"$f":"Table1[[#This Row],[QTY]]*Table1[[#This Row],[School & Library Price]]","v":0}]
[null,69,17,null,"Current Issues","Hot Topics","Immigration Issues in America","978-1-5345-6152-6","Lucent Press","eBook",1,2018,"August 2017",null,null,"Author","Michelle Denton",null,null,null,null,"Z",null,"Years 12 - 15","Grade 7","Grade 7 - 10","Every wave of immigrants entering the United States has faced prejudice. As each group gradually assimilates into the dominant culture, it becomes easy to forget the anger that was previously directed at them. People always believe that the next group of immigrants poses a more severe threat than the ones that came before them, but readers discover that these fears often prove to be unfounded. Detailed infographics and full-color photographs supplement the informative text’s analysis of the history of immigration, its economic implications, and what immigration policies should be implemented in the future.","English",39.4,31.52,"343.7308'2--dc23","112 pp.",{"$f":"Table1[[#This Row],['# of Books]]*Table1[[#This Row],[QTY]]","v":0},{"$f":"Table1[[#This Row],[QTY]]*Table1[[#This Row],[School & Library Price]]","v":0}]
[null,69,17,null,"Current Issues","Hot Topics","Obesity: An American Epidemic","978-1-5345-6147-2","Lucent Press","Library Bound Book",1,2018,"August 2017","Library","7.000 X 9.000","Author","Emily Mahoney",null,null,null,null,"Z",null,"Years 12 - 15","Grade 7","Grade 7 - 10","Due to economic factors, larger portion sizes in restaurants, and sedentary lifestyles caused by an increase in our use of technology, obesity rates have risen steadily in the last decade. This, in turn, has created a multimillion-dollar diet industry that often preys on people’s desire to lose weight quickly and easily. Through full-color photographs and engaging sidebars, readers will learn about the complex causes of obesity, as well as ways to live a healthier lifestyle. What can be done to reverse this trend? Discussion questions such as this one are waiting for readers to debate.","English",39.4,31.52,"616.3'98--dc23","104 pp.",{"$f":"Table1[[#This Row],['# of Books]]*Table1[[#This Row],[QTY]]","v":0},{"$f":"Table1[[#This Row],[QTY]]*Table1[[#This Row],[School & Library Price]]","v":0}]
[null,69,17,null,"Current Issues","Hot Topics","Obesity: An American Epidemic","978-1-5345-6148-9","Lucent Press","eBook",1,2018,"August 2017",null,null,"Author","Emily Mahoney",null,null,null,null,"Z",null,"Years 12 - 15","Grade 7","Grade 7 - 10","Due to economic factors, larger portion sizes in restaurants, and sedentary lifestyles caused by an increase in our use of technology, obesity rates have risen steadily in the last decade. This, in turn, has created a multimillion-dollar diet industry that often preys on people’s desire to lose weight quickly and easily. Through full-color photographs and engaging sidebars, readers will learn about the complex causes of obesity, as well as ways to live a healthier lifestyle. What can be done to reverse this trend? Discussion questions such as this one are waiting for readers to debate.","English",39.4,31.52,"616.3'98--dc23","104 pp.",{"$f":"Table1[[#This Row],['# of Books]]*Table1[[#This Row],[QTY]]","v":0},{"$f":"Table1[[#This Row],[QTY]]*Table1[[#This Row],[School & Library Price]]","v":0}]
[null,69,17,null,"Current Issues","Hot Topics","Racism in America: A Long History of Hate","978-1-5345-6143-4","Lucent Press","Library Bound Book",1,2018,"August 2017","Library","7.000 X 9.000","Author","Meghan Green",null,null,null,null,"Z",null,"Years 12 - 15","Grade 7","Grade 7 - 10","Although racism still exists in the United States, it has generally become more subtle, leading some to deny that it is still a problem. Now that institutional segregation is no longer considered acceptable, some people argue that racism as a whole has been eradicated. Readers discover that this mindset ignores covert, or hidden, racism, which often deals with assumptions: for example, that a black mother does not have a husband or that all Hispanic people are Mexican. In-depth sidebars, discussion questions, and detailed photographs augment the engaging text as it discusses the history of American racism and its lasting effects.","English",39.4,31.52,"305.800973--dc23","112 pp.",{"$f":"Table1[[#This Row],['# of Books]]*Table1[[#This Row],[QTY]]","v":0},{"$f":"Table1[[#This Row],[QTY]]*Table1[[#This Row],[School & Library Price]]","v":0}]
[null,69,17,null,"Current Issues","Hot Topics","Racism in America: A Long History of Hate","978-1-5345-6144-1","Lucent Press","eBook",1,2018,"August 2017",null,null,"Author","Meghan Green",null,null,null,null,"Z",null,"Years 12 - 15","Grade 7","Grade 7 - 10","Although racism still exists in the United States, it has generally become more subtle, leading some to deny that it is still a problem. Now that institutional segregation is no longer considered acceptable, some people argue that racism as a whole has been eradicated. Readers discover that this mindset ignores covert, or hidden, racism, which often deals with assumptions: for example, that a black mother does not have a husband or that all Hispanic people are Mexican. In-depth sidebars, discussion questions, and detailed photographs augment the engaging text as it discusses the history of American racism and its lasting effects.","English",39.4,31.52,"305.800973--dc23","112 pp.",{"$f":"Table1[[#This Row],['# of Books]]*Table1[[#This Row],[QTY]]","v":0},{"$f":"Table1[[#This Row],[QTY]]*Table1[[#This Row],[School & Library Price]]","v":0}]
[null,69,17,null,"Current Issues","Hot Topics (Jan '17 Set)","Hot Topics (Jan '17 Set)","978-1-5345-6065-9","Lucent Press","Library Set",6,2017,"January 2017","Library Bound","7.000 X 9.000"," "," ",null,null,null,null,null,null,"Years 12 - 15",null,"Grade 7 - 10","The relevance of hot topics such as racism, poverty, and gangs makes this series an appealing source that is accessible for student research. Each title provides a thorough, balanced presentation of the many issues surrounding the topic to foster critical thinking skills. Meaning is fleshed out through a clear presentation of context, and the narrative offers compelling examples and pertinent quotes from age-appropriate sources.","English",236.4,189.12,null,"104-120 pp.",{"$f":"Table1[[#This Row],['# of Books]]*Table1[[#This Row],[QTY]]","v":0},{"$f":"Table1[[#This Row],[QTY]]*Table1[[#This Row],[School & Library Price]]","v":0}]
[null,69,17,null,"Current Issues","Hot Topics (Jan '17 Set)","Hot Topics (Jan '17 Set)","978-1-5345-6066-6","Lucent Press","eBook Set",6,2017,"January 2017","eBook",null," "," ",null,null,null,null,null,null,null,null,"Grade 7 - 10","","English",236.4,189.12,null,"104-120 pp.",{"$f":"Table1[[#This Row],['# of Books]]*Table1[[#This Row],[QTY]]","v":0},{"$f":"Table1[[#This Row],[QTY]]*Table1[[#This Row],[School & Library Price]]","v":0}]
[null,69,17,null,"Current Issues","Hot Topics","Body Image and Body Shaming","978-1-5345-6016-1","Lucent Press","Library Bound Book",1,2017,"January 2017","Library Bound","7.000 X 9.000","Author","Meghan Green",null,null,null,null,"Z",null,"Years 12 - 15",null,"Grade 7 - 10","Puberty is a critical time for young adults in forming a positive self-image. They are constantly bombarded with images and comments regarding ideal body types from the media, friends, and family. Through charts and full-color photographs, readers gain information about the subjectivity of beauty standards and the importance of being healthy regardless of body type. The material engages readers and allows them to think critically about the stereotypes they are subjected to. A list of websites is included to offer them assistance in dealing with the pressure of conforming to expectations.","English",39.4,31.52,null,"112 pp.",{"$f":"Table1[[#This Row],['# of Books]]*Table1[[#This Row],[QTY]]","v":0},{"$f":"Table1[[#This Row],[QTY]]*Table1[[#This Row],[School & Library Price]]","v":0}]
[null,69,17,null,"Current Issues","Hot Topics","Body Image and Body Shaming","978-1-5345-6013-0","Lucent Press","eBook",1,2017,"January 2017","eBook",null,"Author","Meghan Green",null,null,null,null,"Z",null,null,null,"Grade 7 - 10","Puberty is a critical time for young adults in forming a positive self-image. They are constantly bombarded with images and comments regarding ideal body types from the media, friends, and family. Through charts and full-color photographs, readers gain information about the subjectivity of beauty standards and the importance of being healthy regardless of body type. The material engages readers and allows them to think critically about the stereotypes they are subjected to. A list of websites is included to offer them assistance in dealing with the pressure of conforming to expectations.","English",39.4,31.52,null,"112 pp.",{"$f":"Table1[[#This Row],['# of Books]]*Table1[[#This Row],[QTY]]","v":0},{"$f":"Table1[[#This Row],[QTY]]*Table1[[#This Row],[School & Library Price]]","v":0}]
[null,69,17,null,"Current Issues","Hot Topics","Dealing with Teen Pregnancy","978-1-5345-6019-2","Lucent Press","Library Bound Book",1,2017,"January 2017","Library Bound","7.000 X 9.000","Author","Emily Mahoney",null,null,null,null,"Z",null,"Years 12 - 15",null,"Grade 7 - 10","How big of a concern is teen pregnancy in today’s society? What options do teens have once they get pregnant? This controversial issue is examined in depth, presenting young adults with information from all sides of the debate. Graphs and full-color photographs highlight the discussion of the underlying social factors that are the root causes of teen pregnancy to make readers better informed about these issues. A list of websites gives pregnant teens resources to turn to for support and advice.","English",39.4,31.52,null,"112 pp.",{"$f":"Table1[[#This Row],['# of Books]]*Table1[[#This Row],[QTY]]","v":0},{"$f":"Table1[[#This Row],[QTY]]*Table1[[#This Row],[School & Library Price]]","v":0}]
[null,69,17,null,"Current Issues","Hot Topics","Dealing with Teen Pregnancy","978-1-5345-6020-8","Lucent Press","eBook",1,2017,"January 2017","eBook",null,"Author","Emily Mahoney",null,null,null,null,"Z",null,null,null,"Grade 7 - 10","How big of a concern is teen pregnancy in today’s society? What options do teens have once they get pregnant? This controversial issue is examined in depth, presenting young adults with information from all sides of the debate. Graphs and full-color photographs highlight the discussion of the underlying social factors that are the root causes of teen pregnancy to make readers better informed about these issues. A list of websites gives pregnant teens resources to turn to for support and advice.","English",39.4,31.52,null,"112 pp.",{"$f":"Table1[[#This Row],['# of Books]]*Table1[[#This Row],[QTY]]","v":0},{"$f":"Table1[[#This Row],[QTY]]*Table1[[#This Row],[School & Library Price]]","v":0}]
[null,69,17,null,"Current Issues","Hot Topics","Eating Disorders: When Food Is an Obsession","978-1-5345-6014-7","Lucent Press","Library Bound Book",1,2017,"January 2017","Library Bound","7.000 X 9.000","Author","Kristen Rajczak Nelson",null,null,null,null,"Z",null,"Years 12 - 15",null,"Grade 7 - 10","Eating disorders are mental illnesses that have dangerous physical consequences. Young adults are most at risk for developing these disorders. This volume aims to educate readers about the causes and effects of disorders such as anorexia, bulimia, and compulsive eating. Fact boxes highlight the stories of celebrities who struggle with these issues, and full-color photographs show the unglamorous reality of living with an eating disorder. Websites are provided to promote healthy lifestyles as well as give help to readers who are already battling these serious conditions.","English",39.4,31.52,null,"112 pp.",{"$f":"Table1[[#This Row],['# of Books]]*Table1[[#This Row],[QTY]]","v":0},{"$f":"Table1[[#This Row],[QTY]]*Table1[[#This Row],[School & Library Price]]","v":0}]
[null,69,17,null,"Current Issues","Hot Topics","Eating Disorders: When Food Is an Obsession","978-1-5345-6015-4","Lucent Press","eBook",1,2017,"January 2017","eBook",null,"Author","Kristen Rajczak Nelson",null,null,null,null,"Z",null,null,null,"Grade 7 - 10","Eating disorders are mental illnesses that have dangerous physical consequences. Young adults are most at risk for developing these disorders. This volume aims to educate readers about the causes and effects of disorders such as anorexia, bulimia, and compulsive eating. Fact boxes highlight the stories of celebrities who struggle with these issues, and full-color photographs show the unglamorous reality of living with an eating disorder. Websites are provided to promote healthy lifestyles as well as give help to readers who are already battling these serious conditions.","English",39.4,31.52,null,"112 pp.",{"$f":"Table1[[#This Row],['# of Books]]*Table1[[#This Row],[QTY]]","v":0},{"$f":"Table1[[#This Row],[QTY]]*Table1[[#This Row],[School & Library Price]]","v":0}]
[null,69,17,null,"Current Issues","Hot Topics","Gender Identity: The Search for Self","978-1-5345-6023-9","Lucent Press","Library Bound Book",1,2017,"January 2017","Library Bound","7.000 X 9.000","Author","Kate Light",null,null,null,null,"Z",null,"Years 12 - 15",null,"Grade 7 - 10","As acceptance for the LGBT community grows, our society is coming to understand that many gender identities are not binary. Young adulthood is a critical time for exploring and coming to terms with gender identity. Readers learn about non-binary identities and the issues the community still faces despite the progress that has been made in the 21st century. Fact boxes highlight transgender and non-binary role models in the media, and contact information for LGBT organizations is provided. This volume is an important resource for young adults of all genders and their allied friends and family.","English",39.4,31.52,null,"104 pp.",{"$f":"Table1[[#This Row],['# of Books]]*Table1[[#This Row],[QTY]]","v":0},{"$f":"Table1[[#This Row],[QTY]]*Table1[[#This Row],[School & Library Price]]","v":0}]
[null,69,17,null,"Current Issues","Hot Topics","Gender Identity: The Search for Self","978-1-5345-6024-6","Lucent Press","eBook",1,2017,"January 2017","eBook",null,"Author","Kate Light",null,null,null,null,"Z",null,null,null,"Grade 7 - 10","As acceptance for the LGBT community grows, our society is coming to understand that many gender identities are not binary. Young adulthood is a critical time for exploring and coming to terms with gender identity. Readers learn about non-binary identities and the issues the community still faces despite the progress that has been made in the 21st century. Fact boxes highlight transgender and non-binary role models in the media, and contact information for LGBT organizations is provided. This volume is an important resource for young adults of all genders and their allied friends and family.","English",39.4,31.52,null,"104 pp.",{"$f":"Table1[[#This Row],['# of Books]]*Table1[[#This Row],[QTY]]","v":0},{"$f":"Table1[[#This Row],[QTY]]*Table1[[#This Row],[School & Library Price]]","v":0}]
[null,69,17,null,"Current Issues","Hot Topics","Self-Harm","978-1-5345-6017-8","Lucent Press","Library Bound Book",1,2017,"January 2017","Library Bound","7.000 X 9.000","Author","Toney Allman",null,null,null,null,"Z",null,"Years 12 - 15",null,"Grade 7 - 10","Self-harm is a problem many young adults struggle with silently. Decreasing the stigma surrounding this phenomenon is key to ending its prevalence. Using charts and full-color photographs, the underlying causes of this dangerous trend are examined, helping readers understand the reasons why they harm themselves and recognize the signs in others. Contact information is provided for organizations that young adults can turn to for emotional support and healthier ways to cope with stress.","English",39.4,31.52,null,"112 pp.",{"$f":"Table1[[#This Row],['# of Books]]*Table1[[#This Row],[QTY]]","v":0},{"$f":"Table1[[#This Row],[QTY]]*Table1[[#This Row],[School & Library Price]]","v":0}]
[null,69,17,null,"Current Issues","Hot Topics","Self-Harm","978-1-5345-6018-5","Lucent Press","eBook",1,2017,"January 2017","eBook",null,"Author","Toney Allman",null,null,null,null,"Z",null,null,null,"Grade 7 - 10","Self-harm is a problem many young adults struggle with silently. Decreasing the stigma surrounding this phenomenon is key to ending its prevalence. Using charts and full-color photographs, the underlying causes of this dangerous trend are examined, helping readers understand the reasons why they harm themselves and recognize the signs in others. Contact information is provided for organizations that young adults can turn to for emotional support and healthier ways to cope with stress.","English",39.4,31.52,null,"112 pp.",{"$f":"Table1[[#This Row],['# of Books]]*Table1[[#This Row],[QTY]]","v":0},{"$f":"Table1[[#This Row],[QTY]]*Table1[[#This Row],[School & Library Price]]","v":0}]
[null,69,17,null,"Current Issues","Hot Topics","Social Networking: Staying Safe in the Online World","978-1-5345-6021-5","Lucent Press","Library Bound Book",1,2017,"January 2017","Library Bound","7.000 X 9.000","Author","Jennifer Lombardo",null,null,null,null,"Z",null,"Years 12 - 15",null,"Grade 7 - 10","Social networking has become an integral part of our lives in this modern society. Nearly every young adult has one or more types of social accounts, making it imperative to inform them about the best ways to protect themselves and their private information. Discussions about online predators and the rights students have on the Internet are highlighted by fact boxes, and a list of dialogue questions encourages conversations among young adults about how to be proactive in protecting themselves online.","English",39.4,31.52,null,"120 pp.",{"$f":"Table1[[#This Row],['# of Books]]*Table1[[#This Row],[QTY]]","v":0},{"$f":"Table1[[#This Row],[QTY]]*Table1[[#This Row],[School & Library Price]]","v":0}]
[null,69,17,null,"Current Issues","Hot Topics","Social Networking: Staying Safe in the Online World","978-1-5345-6022-2","Lucent Press","eBook",1,2017,"January 2017","eBook",null,"Author","Jennifer Lombardo",null,null,null,null,"Z",null,null,null,"Grade 7 - 10","Social networking has become an integral part of our lives in this modern society. Nearly every young adult has one or more types of social accounts, making it imperative to inform them about the best ways to protect themselves and their private information. Discussions about online predators and the rights students have on the Internet are highlighted by fact boxes, and a list of dialogue questions encourages conversations among young adults about how to be proactive in protecting themselves online.","English",39.4,31.52,null,"120 pp.",{"$f":"Table1[[#This Row],['# of Books]]*Table1[[#This Row],[QTY]]","v":0},{"$f":"Table1[[#This Row],[QTY]]*Table1[[#This Row],[School & Library Price]]","v":0}]
[null,null,17,null,"Current Issues","Hot Topics","Hot Topics: Sets 1 – 4 (Coming Aug 2018)","978-1-5345-6449-7","Lucent Press","Library Set",24,2019,"August 2018","Library","7.000 X 9.000"," "," ",null,null,null,null,null,null,"Years 12 - 15","Grade 7","Grade 7 - 10","There are many complex and often confusing issues that affect people's lives in the 21st century. Understanding these issues is the first step toward becoming an informed participant in society and being able to take a stand on issues that affect everyone. Accessible text simplifies complicated topics to make them easier to understand and discusses multiple points of view to allow readers to form their own opinion. Informative charts give readers the most up-to-date data on a topic, and full-color photographs show the reality of each issue in today's world. Features include: Timely, relevant topics, ranging from political corruption to economic inequality, give young adults a better understanding of the world around them, how it affects them, and how they can affect it. Annotated quotes by experts give accurate, accessible information. Engaging sidebars take a more in-depth look at various aspects of complex topics, helping readers develop their own informed opinions about things they might only get biased perspectives on from adults, friends, and social media.","English",945.6,756.48,null,"104 pp.",{"$f":"Table1[[#This Row],['# of Books]]*Table1[[#This Row],[QTY]]","v":0},{"$f":"Table1[[#This Row],[QTY]]*Table1[[#This Row],[School & Library Price]]","v":0}]
[null,null,17,null,"Current Issues","Hot Topics","Hot Topics: Set 4 (Coming Aug 2018)","978-1-5345-6456-5","Lucent Press","Library Set",6,2019,"August 2018","Library","7.000 X 9.000"," "," ",null,null,null,null,null,null,"Years 12 - 15","Grade 7","Grade 7 - 10","There are many complex and often confusing issues that affect people's lives in the 21st century. Understanding these issues is the first step toward becoming an informed participant in society and being able to take a stand on issues that affect everyone. Accessible text simplifies complicated topics to make them easier to understand and discusses multiple points of view to allow readers to form their own opinion. Informative charts give readers the most up-to-date data on a topic, and full-color photographs show the reality of each issue in today's world. Features include: Timely, relevant topics, ranging from political corruption to economic inequality, give young adults a better understanding of the world around them, how it affects them, and how they can affect it. Annotated quotes by experts give accurate, accessible information. Engaging sidebars take a more in-depth look at various aspects of complex topics, helping readers develop their own informed opinions about things they might only get biased perspectives on from adults, friends, and social media.","English",236.4,189.12,null,"104 pp.",{"$f":"Table1[[#This Row],['# of Books]]*Table1[[#This Row],[QTY]]","v":0},{"$f":"Table1[[#This Row],[QTY]]*Table1[[#This Row],[School & Library Price]]","v":0}]
[null,null,17,null,"Current Issues","Hot Topics","Hot Topics (Coming Aug 2018 - Fall 2018 Bundle)","978-1-5345-6477-0","Lucent Press","Single Copy Set",12,2019,"August 2018","Paperback","7.000 X 9.000"," "," ",null,null,null,null,null,null,"Years 12 - 15","Grade 7","Grade 7 - 10","There are many complex and often confusing issues that affect people's lives in the 21st century. Understanding these issues is the first step toward becoming an informed participant in society and being able to take a stand on issues that affect everyone. Accessible text simplifies complicated topics to make them easier to understand and discusses multiple points of view to allow readers to form their own opinion. Informative charts give readers the most up-to-date data on a topic, and full-color photographs show the reality of each issue in today's world. Features include: Timely, relevant topics, ranging from political corruption to economic inequality, give young adults a better understanding of the world around them, how it affects them, and how they can affect it. Annotated quotes by experts give accurate, accessible information. Engaging sidebars take a more in-depth look at various aspects of complex topics, helping readers develop their own informed opinions about things they might only get biased perspectives on from adults, friends, and social media.","English",239.88,203.88,null,"104 pp.",{"$f":"Table1[[#This Row],['# of Books]]*Table1[[#This Row],[QTY]]","v":0},{"$f":"Table1[[#This Row],[QTY]]*Table1[[#This Row],[School & Library Price]]","v":0}]
[null,null,17,null,"Current Issues","Hot Topics","Hot Topics: Set 4 (Coming Aug 2018)","978-1-5345-6469-5","Lucent Press","Single Copy Set",6,2019,"August 2018","Paperback","7.000 X 9.000"," "," ",null,null,null,null,null,null,"Years 12 - 15","Grade 7","Grade 7 - 10","There are many complex and often confusing issues that affect people's lives in the 21st century. Understanding these issues is the first step toward becoming an informed participant in society and being able to take a stand on issues that affect everyone. Accessible text simplifies complicated topics to make them easier to understand and discusses multiple points of view to allow readers to form their own opinion. Informative charts give readers the most up-to-date data on a topic, and full-color photographs show the reality of each issue in today's world. Features include: Timely, relevant topics, ranging from political corruption to economic inequality, give young adults a better understanding of the world around them, how it affects them, and how they can affect it. Annotated quotes by experts give accurate, accessible information. Engaging sidebars take a more in-depth look at various aspects of complex topics, helping readers develop their own informed opinions about things they might only get biased perspectives on from adults, friends, and social media.","English",119.94,101.94,null,"104 pp.",{"$f":"Table1[[#This Row],['# of Books]]*Table1[[#This Row],[QTY]]","v":0},{"$f":"Table1[[#This Row],[QTY]]*Table1[[#This Row],[School & Library Price]]","v":0}]
[null,null,17,null,"Current Issues","Hot Topics","Hot Topics: Set 4 (Coming Aug 2018)","978-1-5345-6468-8","Lucent Press","eBook Set",6,2019,"August 2018",null,null," "," ",null,null,null,null,null,null,"Years 12 - 15","Grade 7","Grade 7 - 10","There are many complex and often confusing issues that affect people's lives in the 21st century. Understanding these issues is the first step toward becoming an informed participant in society and being able to take a stand on issues that affect everyone. Accessible text simplifies complicated topics to make them easier to understand and discusses multiple points of view to allow readers to form their own opinion. Informative charts give readers the most up-to-date data on a topic, and full-color photographs show the reality of each issue in today's world. Features include: Timely, relevant topics, ranging from political corruption to economic inequality, give young adults a better understanding of the world around them, how it affects them, and how they can affect it. Annotated quotes by experts give accurate, accessible information. Engaging sidebars take a more in-depth look at various aspects of complex topics, helping readers develop their own informed opinions about things they might only get biased perspectives on from adults, friends, and social media.","English",236.4,189.12,null,"104 pp.",{"$f":"Table1[[#This Row],['# of Books]]*Table1[[#This Row],[QTY]]","v":0},{"$f":"Table1[[#This Row],[QTY]]*Table1[[#This Row],[School & Library Price]]","v":0}]
[null,null,17,null,"Current Issues","Hot Topics","The Climate Change Crisis","978-1-5345-6344-5","Lucent Press","Library Bound Book",1,2019,"August 2018","Library","7.000 X 9.000","Author","Anna Collins",null,null,null,null,"Z",null,"Years 12 - 15","Grade 7","Grade 7 - 10","Scientists have long warned people of the dangers of climate change, so why do some people insist it is not a problem? What can be done to reverse the effects of this dangerous trend? This volume answers these questions and more, highlighting important points with engaging sidebars, full-color photographs, detailed graphs, and annotated quotes by experts. Readers learn how our world is being affected and how they can play a role in minimizing the damage. Climate change is a topic that is often in the news, and readers will be better equipped to understand it thanks to this informative book.","English",39.4,31.52,null,"104 pp.",{"$f":"Table1[[#This Row],['# of Books]]*Table1[[#This Row],[QTY]]","v":0},{"$f":"Table1[[#This Row],[QTY]]*Table1[[#This Row],[School & Library Price]]","v":0}]
[null,null,17,null,"Current Issues","Hot Topics","The Climate Change Crisis","978-1-5345-6346-9","Lucent Press","Paperback Book",1,2019,"August 2018","Paperback","7.000 X 9.000","Author","Anna Collins",null,null,null,null,"Z",null,"Years 12 - 15","Grade 7","Grade 7 - 10","Scientists have long warned people of the dangers of climate change, so why do some people insist it is not a problem? What can be done to reverse the effects of this dangerous trend? This volume answers these questions and more, highlighting important points with engaging sidebars, full-color photographs, detailed graphs, and annotated quotes by experts. Readers learn how our world is being affected and how they can play a role in minimizing the damage. Climate change is a topic that is often in the news, and readers will be better equipped to understand it thanks to this informative book.","English",19.989999999999998,16.989999999999998,null,"104 pp.",{"$f":"Table1[[#This Row],['# of Books]]*Table1[[#This Row],[QTY]]","v":0},{"$f":"Table1[[#This Row],[QTY]]*Table1[[#This Row],[School & Library Price]]","v":0}]
[null,null,17,null,"Current Issues","Hot Topics","The Climate Change Crisis","978-1-5345-6345-2","Lucent Press","eBook",1,2019,"August 2018",null,null,"Author","Anna Collins",null,null,null,null,"Z",null,"Years 12 - 15","Grade 7","Grade 7 - 10","Scientists have long warned people of the dangers of climate change, so why do some people insist it is not a problem? What can be done to reverse the effects of this dangerous trend? This volume answers these questions and more, highlighting important points with engaging sidebars, full-color photographs, detailed graphs, and annotated quotes by experts. Readers learn how our world is being affected and how they can play a role in minimizing the damage. Climate change is a topic that is often in the news, and readers will be better equipped to understand it thanks to this informative book.","English",39.4,31.52,null,"104 pp.",{"$f":"Table1[[#This Row],['# of Books]]*Table1[[#This Row],[QTY]]","v":0},{"$f":"Table1[[#This Row],[QTY]]*Table1[[#This Row],[School & Library Price]]","v":0}]
[null,null,17,null,"Current Issues","Hot Topics","Drug Abuse: Inside an American Epidemic","978-1-5345-6350-6","Lucent Press","Library Bound Book",1,2019,"August 2018","Library","7.000 X 9.000","Author","Nicole Horning",null,null,null,null,"Z",null,"Years 12 - 15","Grade 7","Grade 7 - 10","Drug abuse is not a new phenomenon, but it seems as though the problem has become worse in recent years, especially as prescription opioid and heroin abuse has skyrocketed. Is this an accurate view, or has the media inflated the problem? Which drugs are at the forefront of this current national crisis? Readers discover the answers to these questions and many more as they explore well-researched, unbiased text. Through full-color photographs, detailed sidebars, and annotated quotes from leading experts, this volume discusses the most pressing issues in today's drug abuse epidemic.","English",39.4,31.52,null,"104 pp.",{"$f":"Table1[[#This Row],['# of Books]]*Table1[[#This Row],[QTY]]","v":0},{"$f":"Table1[[#This Row],[QTY]]*Table1[[#This Row],[School & Library Price]]","v":0}]
[null,null,17,null,"Current Issues","Hot Topics","Drug Abuse: Inside an American Epidemic","978-1-5345-6352-0","Lucent Press","Paperback Book",1,2019,"August 2018","Paperback","7.000 X 9.000","Author","Nicole Horning",null,null,null,null,"Z",null,"Years 12 - 15","Grade 7","Grade 7 - 10","Drug abuse is not a new phenomenon, but it seems as though the problem has become worse in recent years, especially as prescription opioid and heroin abuse has skyrocketed. Is this an accurate view, or has the media inflated the problem? Which drugs are at the forefront of this current national crisis? Readers discover the answers to these questions and many more as they explore well-researched, unbiased text. Through full-color photographs, detailed sidebars, and annotated quotes from leading experts, this volume discusses the most pressing issues in today's drug abuse epidemic.","English",19.989999999999998,16.989999999999998,null,"104 pp.",{"$f":"Table1[[#This Row],['# of Books]]*Table1[[#This Row],[QTY]]","v":0},{"$f":"Table1[[#This Row],[QTY]]*Table1[[#This Row],[School & Library Price]]","v":0}]
[null,null,17,null,"Current Issues","Hot Topics","Drug Abuse: Inside an American Epidemic","978-1-5345-6351-3","Lucent Press","eBook",1,2019,"August 2018",null,null,"Author","Nicole Horning",null,null,null,null,"Z",null,"Years 12 - 15","Grade 7","Grade 7 - 10","Drug abuse is not a new phenomenon, but it seems as though the problem has become worse in recent years, especially as prescription opioid and heroin abuse has skyrocketed. Is this an accurate view, or has the media inflated the problem? Which drugs are at the forefront of this current national crisis? Readers discover the answers to these questions and many more as they explore well-researched, unbiased text. Through full-color photographs, detailed sidebars, and annotated quotes from leading experts, this volume discusses the most pressing issues in today's drug abuse epidemic.","English",39.4,31.52,null,"104 pp.",{"$f":"Table1[[#This Row],['# of Books]]*Table1[[#This Row],[QTY]]","v":0},{"$f":"Table1[[#This Row],[QTY]]*Table1[[#This Row],[School & Library Price]]","v":0}]
[null,null,17,null,"Current Issues","Hot Topics","Health Care: Limits, Laws, and Lives at Stake","978-1-5345-6347-6","Lucent Press","Library Bound Book",1,2019,"August 2018","Library","7.000 X 9.000","Author","Tyler Stevenson",null,null,null,null,"Z",null,"Years 12 - 15","Grade 7","Grade 7 - 10","Health care reform has been at the center of political debate during the past decade. Everyone agrees the current system needs changes, but it seems few people can agree on how many changes and what kind. Some believe it simply needs a few small adjustments, while others believe it should be completely scrapped and rebuilt from the ground up. Detailed graphs, full-color photographs, annotated quotes from experts, and enlightening sidebars augment the informative text to present readers with all sides of the issue, helping them form their own opinions and strengthen their critical-thinking skills.","English",39.4,31.52,null,"104 pp.",{"$f":"Table1[[#This Row],['# of Books]]*Table1[[#This Row],[QTY]]","v":0},{"$f":"Table1[[#This Row],[QTY]]*Table1[[#This Row],[School & Library Price]]","v":0}]
[null,null,17,null,"Current Issues","Hot Topics","Health Care: Limits, Laws, and Lives at Stake","978-1-5345-6349-0","Lucent Press","Paperback Book",1,2019,"August 2018","Paperback","7.000 X 9.000","Author","Tyler Stevenson",null,null,null,null,"Z",null,"Years 12 - 15","Grade 7","Grade 7 - 10","Health care reform has been at the center of political debate during the past decade. Everyone agrees the current system needs changes, but it seems few people can agree on how many changes and what kind. Some believe it simply needs a few small adjustments, while others believe it should be completely scrapped and rebuilt from the ground up. Detailed graphs, full-color photographs, annotated quotes from experts, and enlightening sidebars augment the informative text to present readers with all sides of the issue, helping them form their own opinions and strengthen their critical-thinking skills.","English",19.989999999999998,16.989999999999998,null,"104 pp.",{"$f":"Table1[[#This Row],['# of Books]]*Table1[[#This Row],[QTY]]","v":0},{"$f":"Table1[[#This Row],[QTY]]*Table1[[#This Row],[School & Library Price]]","v":0}]
[null,null,17,null,"Current Issues","Hot Topics","Health Care: Limits, Laws, and Lives at Stake","978-1-5345-6348-3","Lucent Press","eBook",1,2019,"August 2018",null,null,"Author","Tyler Stevenson",null,null,null,null,"Z",null,"Years 12 - 15","Grade 7","Grade 7 - 10","Health care reform has been at the center of political debate during the past decade. Everyone agrees the current system needs changes, but it seems few people can agree on how many changes and what kind. Some believe it simply needs a few small adjustments, while others believe it should be completely scrapped and rebuilt from the ground up. Detailed graphs, full-color photographs, annotated quotes from experts, and enlightening sidebars augment the informative text to present readers with all sides of the issue, helping them form their own opinions and strengthen their critical-thinking skills.","English",39.4,31.52,null,"104 pp.",{"$f":"Table1[[#This Row],['# of Books]]*Table1[[#This Row],[QTY]]","v":0},{"$f":"Table1[[#This Row],[QTY]]*Table1[[#This Row],[School & Library Price]]","v":0}]
[null,null,17,null,"Current Issues","Hot Topics","Online Activism: Social Change Through Social Media","978-1-5345-6356-8","Lucent Press","Library Bound Book",1,2019,"August 2018","Library","7.000 X 9.000","Author","Amanda Vink",null,null,null,null,"Z",null,"Years 12 - 15","Grade 7","Grade 7 - 10","The growth of the Internet has changed almost every aspect of society, and social activism is no exception. Circulating petitions and organizing rallies is easier than ever, but so is the illusion of creating change without putting in effort. Readers learn the ways activism has changed in the Internet era. The informative text is supplemented with detailed charts and annotated quotes presenting multiple points of view. By learning more about online activism, young adults can become more informed about how to take a stand on issues they are passionate about.","English",39.4,31.52,null,"104 pp.",{"$f":"Table1[[#This Row],['# of Books]]*Table1[[#This Row],[QTY]]","v":0},{"$f":"Table1[[#This Row],[QTY]]*Table1[[#This Row],[School & Library Price]]","v":0}]
[null,null,17,null,"Current Issues","Hot Topics","Online Activism: Social Change Through Social Media","978-1-5345-6358-2","Lucent Press","Paperback Book",1,2019,"August 2018","Paperback","7.000 X 9.000","Author","Amanda Vink",null,null,null,null,"Z",null,"Years 12 - 15","Grade 7","Grade 7 - 10","The growth of the Internet has changed almost every aspect of society, and social activism is no exception. Circulating petitions and organizing rallies is easier than ever, but so is the illusion of creating change without putting in effort. Readers learn the ways activism has changed in the Internet era. The informative text is supplemented with detailed charts and annotated quotes presenting multiple points of view. By learning more about online activism, young adults can become more informed about how to take a stand on issues they are passionate about.","English",19.989999999999998,16.989999999999998,null,"104 pp.",{"$f":"Table1[[#This Row],['# of Books]]*Table1[[#This Row],[QTY]]","v":0},{"$f":"Table1[[#This Row],[QTY]]*Table1[[#This Row],[School & Library Price]]","v":0}]
[null,null,17,null,"Current Issues","Hot Topics","Online Activism: Social Change Through Social Media","978-1-5345-6357-5","Lucent Press","eBook",1,2019,"August 2018",null,null,"Author","Amanda Vink",null,null,null,null,"Z",null,"Years 12 - 15","Grade 7","Grade 7 - 10","The growth of the Internet has changed almost every aspect of society, and social activism is no exception. Circulating petitions and organizing rallies is easier than ever, but so is the illusion of creating change without putting in effort. Readers learn the ways activism has changed in the Internet era. The informative text is supplemented with detailed charts and annotated quotes presenting multiple points of view. By learning more about online activism, young adults can become more informed about how to take a stand on issues they are passionate about.","English",39.4,31.52,null,"104 pp.",{"$f":"Table1[[#This Row],['# of Books]]*Table1[[#This Row],[QTY]]","v":0},{"$f":"Table1[[#This Row],[QTY]]*Table1[[#This Row],[School & Library Price]]","v":0}]
[null,null,17,null,"Current Issues","Hot Topics","Political Corruption and the Abuse of Power","978-1-5345-6341-4","Lucent Press","Library Bound Book",1,2019,"August 2018","Library","6.000 X 9.000","Author","Sarah Machajewski",null,null,null,null,"Z",null,"Years 12 - 15","Grade 7","Grade 7 - 10","Throughout history, gaining political power has frequently led to unethical behavior. It is difficult for people to resist the temptation to abuse their power. In the worst cases, this has led to political unrest, economic instability, and genocide. Readers learn what political corruption is, how it affects citizens' lives, and what can be done about it. Historical and modern examples are provided to give readers a comprehensive view of this important and timely topic. Informative charts and full-color photographs enhance the engaging text to show young adults the importance of civic engagement and political scrutiny to combat corruption.","English",39.4,31.52,null,"104 pp.",{"$f":"Table1[[#This Row],['# of Books]]*Table1[[#This Row],[QTY]]","v":0},{"$f":"Table1[[#This Row],[QTY]]*Table1[[#This Row],[School & Library Price]]","v":0}]
[null,null,17,null,"Current Issues","Hot Topics","Political Corruption and the Abuse of Power","978-1-5345-6343-8","Lucent Press","Paperback Book",1,2019,"August 2018","Paperback","6.000 X 9.000","Author","Sarah Machajewski",null,null,null,null,"Z",null,"Years 12 - 15","Grade 7","Grade 7 - 10","Throughout history, gaining political power has frequently led to unethical behavior. It is difficult for people to resist the temptation to abuse their power. In the worst cases, this has led to political unrest, economic instability, and genocide. Readers learn what political corruption is, how it affects citizens' lives, and what can be done about it. Historical and modern examples are provided to give readers a comprehensive view of this important and timely topic. Informative charts and full-color photographs enhance the engaging text to show young adults the importance of civic engagement and political scrutiny to combat corruption.","English",19.989999999999998,16.989999999999998,null,"104 pp.",{"$f":"Table1[[#This Row],['# of Books]]*Table1[[#This Row],[QTY]]","v":0},{"$f":"Table1[[#This Row],[QTY]]*Table1[[#This Row],[School & Library Price]]","v":0}]
[null,null,17,null,"Current Issues","Hot Topics","Political Corruption and the Abuse of Power","978-1-5345-6342-1","Lucent Press","eBook",1,2019,"August 2018",null,null,"Author","Sarah Machajewski",null,null,null,null,"Z",null,"Years 12 - 15","Grade 7","Grade 7 - 10","Throughout history, gaining political power has frequently led to unethical behavior. It is difficult for people to resist the temptation to abuse their power. In the worst cases, this has led to political unrest, economic instability, and genocide. Readers learn what political corruption is, how it affects citizens' lives, and what can be done about it. Historical and modern examples are provided to give readers a comprehensive view of this important and timely topic. Informative charts and full-color photographs enhance the engaging text to show young adults the importance of civic engagement and political scrutiny to combat corruption.","English",39.4,31.52,null,"104 pp.",{"$f":"Table1[[#This Row],['# of Books]]*Table1[[#This Row],[QTY]]","v":0},{"$f":"Table1[[#This Row],[QTY]]*Table1[[#This Row],[School & Library Price]]","v":0}]
[null,null,17,null,"Current Issues","Hot Topics","Poverty and Economic Inequality","978-1-5345-6353-7","Lucent Press","Library Bound Book",1,2019,"August 2018","Library","7.000 X 9.000","Author","Meghan Sharif",null,null,null,null,"Z",null,"Years 12 - 15","Grade 7","Grade 7 - 10","Although millions of Americans live below the poverty line, economic inequality is still a frequently misunderstood issue. Myths about poverty that have been thoroughly debunked are still commonly circulated, and this type of misunderstanding leads to poor communication and tension between people of different economic classes. The goal of this volume is to reduce that misunderstanding and present readers with the facts and realities of economic inequality. In-depth sidebars, full-color photographs, and educational graphs present essential information about this complex issue. Annotated quotes are also included to provide first-person perspectives to deepen readers' critical thinking skills.","English",39.4,31.52,null,"104 pp.",{"$f":"Table1[[#This Row],['# of Books]]*Table1[[#This Row],[QTY]]","v":0},{"$f":"Table1[[#This Row],[QTY]]*Table1[[#This Row],[School & Library Price]]","v":0}]
[null,null,17,null,"Current Issues","Hot Topics","Poverty and Economic Inequality","978-1-5345-6355-1","Lucent Press","Paperback Book",1,2019,"August 2018","Paperback","7.000 X 9.000","Author","Meghan Sharif",null,null,null,null,"Z",null,"Years 12 - 15","Grade 7","Grade 7 - 10","Although millions of Americans live below the poverty line, economic inequality is still a frequently misunderstood issue. Myths about poverty that have been thoroughly debunked are still commonly circulated, and this type of misunderstanding leads to poor communication and tension between people of different economic classes. The goal of this volume is to reduce that misunderstanding and present readers with the facts and realities of economic inequality. In-depth sidebars, full-color photographs, and educational graphs present essential information about this complex issue. Annotated quotes are also included to provide first-person perspectives to deepen readers' critical thinking skills.","English",19.989999999999998,16.989999999999998,null,"104 pp.",{"$f":"Table1[[#This Row],['# of Books]]*Table1[[#This Row],[QTY]]","v":0},{"$f":"Table1[[#This Row],[QTY]]*Table1[[#This Row],[School & Library Price]]","v":0}]
[null,null,17,null,"Current Issues","Hot Topics","Poverty and Economic Inequality","978-1-5345-6354-4","Lucent Press","eBook",1,2019,"August 2018",null,null,"Author","Meghan Sharif",null,null,null,null,"Z",null,"Years 12 - 15","Grade 7","Grade 7 - 10","Although millions of Americans live below the poverty line, economic inequality is still a frequently misunderstood issue. Myths about poverty that have been thoroughly debunked are still commonly circulated, and this type of misunderstanding leads to poor communication and tension between people of different economic classes. The goal of this volume is to reduce that misunderstanding and present readers with the facts and realities of economic inequality. In-depth sidebars, full-color photographs, and educational graphs present essential information about this complex issue. Annotated quotes are also included to provide first-person perspectives to deepen readers' critical thinking skills.","English",39.4,31.52,null,"104 pp.",{"$f":"Table1[[#This Row],['# of Books]]*Table1[[#This Row],[QTY]]","v":0},{"$f":"Table1[[#This Row],[QTY]]*Table1[[#This Row],[School & Library Price]]","v":0}]
[null,null,18,null,"Health & Medicine","Diseases and Disorders","Diseases and Disorders: Sets 1 – 2","978-1-5345-6312-4","Lucent Press","Library Set",12,2018,"January 2018",null,"6.000 X 9.000"," "," ",null,null,null,null,null,null,"Years 12 - 15","Grade 7","Grade 7 - 10","Although our understanding of diseases and disorders has evolved over time, there are still many incorrect assumptions made about people who suffer from certain ailments. People with obsessive-compulsive disorder are not people who simply like to arrange things by color. People with chronic pain have a debilitating illness, even though they do not appear to be sick. These and other assumptions are debunked as readers discover the truth about diseases and disorders ranging from breast cancer to epilepsy. Essential facts are presented through accessible main text and sidebars, as well as detailed charts and graphs.\n\nFeatures include: Annotated quotes from medical professionals and people living with these conditions are included to provide readers with a comprehensive understanding of each topic. Readers are presented with the latest technological and scientific advancements used to diagnose and treat these conditions. Each volume serves as a helpful resource for those looking to enhance their general knowledge of biology and modern medicine, as well as an objective, informative tool for young people dealing with a certain disease or disorder in their own life.","English",478.8,383.04,null,"104 pp.",{"$f":"Table1[[#This Row],['# of Books]]*Table1[[#This Row],[QTY]]","v":0},{"$f":"Table1[[#This Row],[QTY]]*Table1[[#This Row],[School & Library Price]]","v":0}]
[null,71,18,null,"Health & Medicine","Diseases and Disorders","Diseases and Disorders: Set 2","978-1-5345-6260-8","Lucent Press","Library Set",6,2018,"January 2018",null,"6.000 X 9.000"," "," ",null,null,null,null,null,null,"Years 12 - 15","Grade 7","Grade 7 - 10","Although our understanding of diseases and disorders has evolved over time, there are still many incorrect assumptions made about people who suffer from certain ailments. People with obsessive-compulsive disorder are not people who simply like to arrange things by color. People with chronic pain have a debilitating illness, even though they do not appear to be sick. These and other assumptions are debunked as readers discover the truth about diseases and disorders ranging from breast cancer to epilepsy. Essential facts are presented through accessible main text and sidebars, as well as detailed charts and graphs.\n\nFeatures include: Annotated quotes from medical professionals and people living with these conditions are included to provide readers with a comprehensive understanding of each topic. Readers are presented with the latest technological and scientific advancements used to diagnose and treat these conditions. Each volume serves as a helpful resource for those looking to enhance their general knowledge of biology and modern medicine, as well as an objective, informative tool for young people dealing with a certain disease or disorder in their own life.","English",239.4,191.52,null,"104 pp.",{"$f":"Table1[[#This Row],['# of Books]]*Table1[[#This Row],[QTY]]","v":0},{"$f":"Table1[[#This Row],[QTY]]*Table1[[#This Row],[School & Library Price]]","v":0}]
[null,null,18,null,"Health & Medicine","Diseases and Disorders","Diseases and Disorders: Set 2","978-1-5345-6317-9","Lucent Press","Single Copy Set",6,2018,"January 2018",null,"6.000 X 9.000"," "," ",null,null,null,null,null,null,"Years 12 - 15","Grade 7","Grade 7 - 10","Although our understanding of diseases and disorders has evolved over time, there are still many incorrect assumptions made about people who suffer from certain ailments. People with obsessive-compulsive disorder are not people who simply like to arrange things by color. People with chronic pain have a debilitating illness, even though they do not appear to be sick. These and other assumptions are debunked as readers discover the truth about diseases and disorders ranging from breast cancer to epilepsy. Essential facts are presented through accessible main text and sidebars, as well as detailed charts and graphs.\n\nFeatures include: Annotated quotes from medical professionals and people living with these conditions are included to provide readers with a comprehensive understanding of each topic. Readers are presented with the latest technological and scientific advancements used to diagnose and treat these conditions. Each volume serves as a helpful resource for those looking to enhance their general knowledge of biology and modern medicine, as well as an objective, informative tool for young people dealing with a certain disease or disorder in their own life.","English",119.94,101.94,null,"104 pp.",{"$f":"Table1[[#This Row],['# of Books]]*Table1[[#This Row],[QTY]]","v":0},{"$f":"Table1[[#This Row],[QTY]]*Table1[[#This Row],[School & Library Price]]","v":0}]
[null,71,18,null,"Health & Medicine","Diseases and Disorders","Diseases and Disorders: Set 2","978-1-5345-6264-6","Lucent Press","eBook Set",6,2018,"January 2018",null,null," "," ",null,null,null,null,null,null,"Years 12 - 15","Grade 7","Grade 7 - 10","Although our understanding of diseases and disorders has evolved over time, there are still many incorrect assumptions made about people who suffer from certain ailments. People with obsessive-compulsive disorder are not people who simply like to arrange things by color. People with chronic pain have a debilitating illness, even though they do not appear to be sick. These and other assumptions are debunked as readers discover the truth about diseases and disorders ranging from breast cancer to epilepsy. Essential facts are presented through accessible main text and sidebars, as well as detailed charts and graphs.\r\nFeatures include: Annotated quotes from medical professionals and people living with these conditions are included to provide readers with a comprehensive understanding of each topic. Readers are presented with the latest technological and scientific advancements used to diagnose and treat these conditions. Each volume serves as a helpful resource for those looking to enhance their general knowledge of biology and modern medicine, as well as an objective, informative tool for young people dealing with a certain disease or disorder in their own life.","English",239.4,191.52,null,"112 pp.",{"$f":"Table1[[#This Row],['# of Books]]*Table1[[#This Row],[QTY]]","v":0},{"$f":"Table1[[#This Row],[QTY]]*Table1[[#This Row],[School & Library Price]]","v":0}]
[null,71,18,null,"Health & Medicine","Diseases and Disorders","Alzheimer’s Disease: A Difficult Diagnosis","978-1-5345-6189-2","Lucent Press","Library Bound Book",1,2018,"January 2018","Library","6.000 X 9.000","Author","Jennifer Lombardo",null,null,null,null,"Z",null,"Years 12 - 15","Grade 7","Grade 7 - 10","As some people age, their brain begins to deteriorate, causing loss of memory and other problems. Researchers are still unsure of the exact causes of Alzheimer's disease, but they believe lifestyle and genetics play a role. Through informative sidebars and enlightening infographics, which supplement the relatable text, readers learn about what Alzheimer's is and how to support a loved one who has been diagnosed. They also learn what is being done to work toward a cure for this disease.","English",39.9,31.92,"616.8/311--dc23","104 pp.",{"$f":"Table1[[#This Row],['# of Books]]*Table1[[#This Row],[QTY]]","v":0},{"$f":"Table1[[#This Row],[QTY]]*Table1[[#This Row],[School & Library Price]]","v":0}]
[null,71,18,null,"Health & Medicine","Diseases and Disorders","Alzheimer’s Disease: A Difficult Diagnosis","978-1-5345-6188-5","Lucent Press","eBook",1,2018,"January 2018",null,null,"Author","Jennifer Lombardo",null,null,null,null,"Z",null,"Years 12 - 15","Grade 7","Grade 7 - 10","As some people age, their brain begins to deteriorate, causing loss of memory and other problems. Researchers are still unsure of the exact causes of Alzheimer's disease, but they believe lifestyle and genetics play a role. Through informative sidebars and enlightening infographics, which supplement the relatable text, readers learn about what Alzheimer's is and how to support a loved one who has been diagnosed. They also learn what is being done to work toward a cure for this disease.","English",39.9,31.92,"616.8/311--dc23","104 pp.",{"$f":"Table1[[#This Row],['# of Books]]*Table1[[#This Row],[QTY]]","v":0},{"$f":"Table1[[#This Row],[QTY]]*Table1[[#This Row],[School & Library Price]]","v":0}]
[null,null,18,null,"Health & Medicine","Diseases and Disorders","Alzheimer’s Disease: A Difficult Diagnosis","978-1-5345-6282-0","Lucent Press","Paperback Book",1,2018,"January 2018","Paperback","6.000 X 9.000","Author","Jennifer Lombardo",null,null,null,null,"Z",null,"Years 12 - 15","Grade 7","Grade 7 - 10","As some people age, their brain begins to deteriorate, causing loss of memory and other problems. Researchers are still unsure of the exact causes of Alzheimer's disease, but they believe lifestyle and genetics play a role. Through informative sidebars and enlightening infographics, which supplement the relatable text, readers learn about what Alzheimer's is and how to support a loved one who has been diagnosed. They also learn what is being done to work toward a cure for this disease.","English",19.989999999999998,16.989999999999998,"616.8/311--dc23","104 pp.",{"$f":"Table1[[#This Row],['# of Books]]*Table1[[#This Row],[QTY]]","v":0},{"$f":"Table1[[#This Row],[QTY]]*Table1[[#This Row],[School & Library Price]]","v":0}]
[null,71,18,null,"Health & Medicine","Diseases and Disorders","Breast Cancer: Risks, Detection, and Treatment","978-1-5345-6191-5","Lucent Press","Library Bound Book",1,2018,"January 2018","Library","6.000 X 9.000","Author","Michelle Denton",null,null,null,null,"Z",null,"Years 12 - 15","Grade 7","Grade 7 - 10","Cancer is a frightening word, but within the last decade, more research has led to better detection and treatment of breast cancer. Since both men and women are at risk for developing breast cancer, it is important for all young adults to learn about practices such as self-exams that may lead to early detection. This information is presented along with full-color photographs and informative charts to help readers better understand this disease that affects so many people.","English",39.9,31.92,"616.99/449--dc23","104 pp.",{"$f":"Table1[[#This Row],['# of Books]]*Table1[[#This Row],[QTY]]","v":0},{"$f":"Table1[[#This Row],[QTY]]*Table1[[#This Row],[School & Library Price]]","v":0}]
[null,71,18,null,"Health & Medicine","Diseases and Disorders","Breast Cancer: Risks, Detection, and Treatment","978-1-5345-6190-8","Lucent Press","eBook",1,2018,"January 2018",null,null,"Author","Michelle Denton",null,null,null,null,"Z",null,"Years 12 - 15","Grade 7","Grade 7 - 10","Cancer is a frightening word, but within the last decade, more research has led to better detection and treatment of breast cancer. Since both men and women are at risk for developing breast cancer, it is important for all young adults to learn about practices such as self-exams that may lead to early detection. This information is presented along with full-color photographs and informative charts to help readers better understand this disease that affects so many people.","English",39.9,31.92,"616.99/449--dc23","104 pp.",{"$f":"Table1[[#This Row],['# of Books]]*Table1[[#This Row],[QTY]]","v":0},{"$f":"Table1[[#This Row],[QTY]]*Table1[[#This Row],[School & Library Price]]","v":0}]
[null,null,18,null,"Health & Medicine","Diseases and Disorders","Breast Cancer: Risks, Detection, and Treatment","978-1-5345-6283-7","Lucent Press","Paperback Book",1,2018,"January 2018","Paperback","6.000 X 9.000","Author","Michelle Denton",null,null,null,null,"Z",null,"Years 12 - 15","Grade 7","Grade 7 - 10","Cancer is a frightening word, but within the last decade, more research has led to better detection and treatment of breast cancer. Since both men and women are at risk for developing breast cancer, it is important for all young adults to learn about practices such as self-exams that may lead to early detection. This information is presented along with full-color photographs and informative charts to help readers better understand this disease that affects so many people.","English",19.989999999999998,16.989999999999998,"616.99/449--dc23","104 pp.",{"$f":"Table1[[#This Row],['# of Books]]*Table1[[#This Row],[QTY]]","v":0},{"$f":"Table1[[#This Row],[QTY]]*Table1[[#This Row],[School & Library Price]]","v":0}]
[null,71,18,null,"Health & Medicine","Diseases and Disorders","Chronic Pain: An Invisible Illness","978-1-5345-6196-0","Lucent Press","Library Bound Book",1,2018,"January 2018","Library","6.000 X 9.000","Author","Kelly Gurnett",null,null,null,null,"Z",null,"Years 12 - 15","Grade 7","Grade 7 - 10","Everyone has experienced pain at one point or another, but disorders such as fibromyalgia and multiple sclerosis cause severe, long-term pain that can greatly limit a person's everyday activities. Because the cause of this pain is not visible, many people do not fully understand these disorders. This volume dispels the myths surrounding chronic pain to give readers a better understanding of the daily struggles people who suffer from it face. Informative sidebars and detailed infographics help young adults learn how to support a loved one who is dealing with an invisible illness or cope with their own chronic pain diagnosis.","English",39.9,31.92,"618.92'044--dc23","104 pp.",{"$f":"Table1[[#This Row],['# of Books]]*Table1[[#This Row],[QTY]]","v":0},{"$f":"Table1[[#This Row],[QTY]]*Table1[[#This Row],[School & Library Price]]","v":0}]
[null,71,18,null,"Health & Medicine","Diseases and Disorders","Chronic Pain: An Invisible Illness","978-1-5345-6195-3","Lucent Press","eBook",1,2018,"January 2018",null,null,"Author","Kelly Gurnett",null,null,null,null,"Z",null,"Years 12 - 15","Grade 7","Grade 7 - 10","Everyone has experienced pain at one point or another, but disorders such as fibromyalgia and multiple sclerosis cause severe, long-term pain that can greatly limit a person's everyday activities. Because the cause of this pain is not visible, many people do not fully understand these disorders. This volume dispels the myths surrounding chronic pain to give readers a better understanding of the daily struggles people who suffer from it face. Informative sidebars and detailed infographics help young adults learn how to support a loved one who is dealing with an invisible illness or cope with their own chronic pain diagnosis.","English",39.9,31.92,"618.92'044--dc23","104 pp.",{"$f":"Table1[[#This Row],['# of Books]]*Table1[[#This Row],[QTY]]","v":0},{"$f":"Table1[[#This Row],[QTY]]*Table1[[#This Row],[School & Library Price]]","v":0}]
[null,null,18,null,"Health & Medicine","Diseases and Disorders","Chronic Pain: An Invisible Illness","978-1-5345-6284-4","Lucent Press","Paperback Book",1,2018,"January 2018","Paperback","6.000 X 9.000","Author","Kelly Gurnett",null,null,null,null,"Z",null,"Years 12 - 15","Grade 7","Grade 7 - 10","Everyone has experienced pain at one point or another, but disorders such as fibromyalgia and multiple sclerosis cause severe, long-term pain that can greatly limit a person's everyday activities. Because the cause of this pain is not visible, many people do not fully understand these disorders. This volume dispels the myths surrounding chronic pain to give readers a better understanding of the daily struggles people who suffer from it face. Informative sidebars and detailed infographics help young adults learn how to support a loved one who is dealing with an invisible illness or cope with their own chronic pain diagnosis.","English",19.989999999999998,16.989999999999998,"618.92'044--dc23","104 pp.",{"$f":"Table1[[#This Row],['# of Books]]*Table1[[#This Row],[QTY]]","v":0},{"$f":"Table1[[#This Row],[QTY]]*Table1[[#This Row],[School & Library Price]]","v":0}]
[null,71,18,null,"Health & Medicine","Diseases and Disorders","Diabetes: Diagnosis and Management","978-1-5345-6232-5","Lucent Press","Library Bound Book",1,2018,"January 2018","Library","6.000 X 9.000","Author","Emily Mahoney",null,null,null,null,"Z",null,"Years 12 - 15","Grade 7","Grade 7 - 10","Both type 1 and type 2 diabetes are dangerous if left unchecked, but with early diagnosis and careful management, people can live long, healthy lives without complications from the disease. Learning about the symptoms is key to detecting diabetes before it becomes a problem, and readers discover those symptoms as they explore this important topic. Enlightening sidebars and full-color photographs enhance the engaging text, and quotes from medical experts give readers factual, up-to-date information about this treatable disease.","English",39.9,31.92,"616.4/62--dc23","104 pp.",{"$f":"Table1[[#This Row],['# of Books]]*Table1[[#This Row],[QTY]]","v":0},{"$f":"Table1[[#This Row],[QTY]]*Table1[[#This Row],[School & Library Price]]","v":0}]
[null,71,18,null,"Health & Medicine","Diseases and Disorders","Diabetes: Diagnosis and Management","978-1-5345-6192-2","Lucent Press","eBook",1,2018,"January 2018",null,null,"Author","Emily Mahoney",null,null,null,null,"Z",null,"Years 12 - 15","Grade 7","Grade 7 - 10","Both type 1 and type 2 diabetes are dangerous if left unchecked, but with early diagnosis and careful management, people can live long, healthy lives without complications from the disease. Learning about the symptoms is key to detecting diabetes before it becomes a problem, and readers discover those symptoms as they explore this important topic. Enlightening sidebars and full-color photographs enhance the engaging text, and quotes from medical experts give readers factual, up-to-date information about this treatable disease.","English",39.9,31.92,"616.4/62--dc23","104 pp.",{"$f":"Table1[[#This Row],['# of Books]]*Table1[[#This Row],[QTY]]","v":0},{"$f":"Table1[[#This Row],[QTY]]*Table1[[#This Row],[School & Library Price]]","v":0}]
[null,null,18,null,"Health & Medicine","Diseases and Disorders","Diabetes: Diagnosis and Management","978-1-5345-6285-1","Lucent Press","Paperback Book",1,2018,"January 2018","Paperback","6.000 X 9.000","Author","Emily Mahoney",null,null,null,null,"Z",null,"Years 12 - 15","Grade 7","Grade 7 - 10","Both type 1 and type 2 diabetes are dangerous if left unchecked, but with early diagnosis and careful management, people can live long, healthy lives without complications from the disease. Learning about the symptoms is key to detecting diabetes before it becomes a problem, and readers discover those symptoms as they explore this important topic. Enlightening sidebars and full-color photographs enhance the engaging text, and quotes from medical experts give readers factual, up-to-date information about this treatable disease.","English",19.989999999999998,16.989999999999998,"616.4/62--dc23","104 pp.",{"$f":"Table1[[#This Row],['# of Books]]*Table1[[#This Row],[QTY]]","v":0},{"$f":"Table1[[#This Row],[QTY]]*Table1[[#This Row],[School & Library Price]]","v":0}]
[null,71,18,null,"Health & Medicine","Diseases and Disorders","Epilepsy: Coming to Terms with Chronic Seizures","978-1-5345-6258-5","Lucent Press","Library Bound Book",1,2018,"January 2018","Library","6.000 X 9.000","Author","Simon Pierce",null,null,null,null,"Z",null,"Years 12 - 15","Grade 7","Grade 7 - 10","Epilepsy can be frightening to both the sufferer and their loved ones. However, knowing more about the symptoms and treatment can give people a sense of empowerment. This volume discusses what epilepsy is, how it can be treated, and what can be done for someone who is having a seizure. The informative book, supplemented with in-depth sidebars, full-color photographs, and detailed charts, dispels the myths surrounding epilepsy and gives readers a clearer picture of this often misunderstood disorder.","English",39.9,31.92,"616.85/3--dc23","104 pp.",{"$f":"Table1[[#This Row],['# of Books]]*Table1[[#This Row],[QTY]]","v":0},{"$f":"Table1[[#This Row],[QTY]]*Table1[[#This Row],[School & Library Price]]","v":0}]
[null,71,18,null,"Health & Medicine","Diseases and Disorders","Epilepsy: Coming to Terms with Chronic Seizures","978-1-5345-6259-2","Lucent Press","eBook",1,2018,"January 2018",null,null,"Author","Simon Pierce",null,null,null,null,"Z",null,"Years 12 - 15","Grade 7","Grade 7 - 10","Epilepsy can be frightening to both the sufferer and their loved ones. However, knowing more about the symptoms and treatment can give people a sense of empowerment. This volume discusses what epilepsy is, how it can be treated, and what can be done for someone who is having a seizure. The informative book, supplemented with in-depth sidebars, full-color photographs, and detailed charts, dispels the myths surrounding epilepsy and gives readers a clearer picture of this often misunderstood disorder.","English",39.9,31.92,"616.85/3--dc23","104 pp.",{"$f":"Table1[[#This Row],['# of Books]]*Table1[[#This Row],[QTY]]","v":0},{"$f":"Table1[[#This Row],[QTY]]*Table1[[#This Row],[School & Library Price]]","v":0}]
[null,null,18,null,"Health & Medicine","Diseases and Disorders","Epilepsy: Coming to Terms with Chronic Seizures","978-1-5345-6286-8","Lucent Press","Paperback Book",1,2018,"January 2018","Paperback","6.000 X 9.000","Author","Simon Pierce",null,null,null,null,"Z",null,"Years 12 - 15","Grade 7","Grade 7 - 10","Epilepsy can be frightening to both the sufferer and their loved ones. However, knowing more about the symptoms and treatment can give people a sense of empowerment. This volume discusses what epilepsy is, how it can be treated, and what can be done for someone who is having a seizure. The informative book, supplemented with in-depth sidebars, full-color photographs, and detailed charts, dispels the myths surrounding epilepsy and gives readers a clearer picture of this often misunderstood disorder.","English",19.989999999999998,16.989999999999998,"616.85/3--dc23","104 pp.",{"$f":"Table1[[#This Row],['# of Books]]*Table1[[#This Row],[QTY]]","v":0},{"$f":"Table1[[#This Row],[QTY]]*Table1[[#This Row],[School & Library Price]]","v":0}]
[null,71,18,null,"Health & Medicine","Diseases and Disorders","OCD: The Struggle with Obsessions and Compulsions","978-1-5345-6194-6","Lucent Press","Library Bound Book",1,2018,"January 2018","Library","6.000 X 9.000","Author","Christine Honders",null,null,null,null,"Z",null,"Years 12 - 15","Grade 7","Grade 7 - 10","Because of the way obsessive-compulsive disorder is portrayed in the media, many people believe it is simply a personality quirk. In reality, this disorder can cause severe distress for people who have it, as well as for their loved ones. Through relatable text, augmented by informative sidebars and full-color photographs, this volume helps readers understand how people with OCD use rituals to cope with distressing intrusive thoughts. A list of organizations to contact gives people who are struggling with this disorder resources to connect with others who understand what they are going through.","English",39.9,31.92,"616.85/227--dc23","104 pp.",{"$f":"Table1[[#This Row],['# of Books]]*Table1[[#This Row],[QTY]]","v":0},{"$f":"Table1[[#This Row],[QTY]]*Table1[[#This Row],[School & Library Price]]","v":0}]
[null,71,18,null,"Health & Medicine","Diseases and Disorders","OCD: The Struggle with Obsessions and Compulsions","978-1-5345-6193-9","Lucent Press","eBook",1,2018,"January 2018",null,null,"Author","Christine Honders",null,null,null,null,"Z",null,"Years 12 - 15","Grade 7","Grade 7 - 10","Because of the way obsessive-compulsive disorder is portrayed in the media, many people believe it is simply a personality quirk. In reality, this disorder can cause severe distress for people who have it, as well as for their loved ones. Through relatable text, augmented by informative sidebars and full-color photographs, this volume helps readers understand how people with OCD use rituals to cope with distressing intrusive thoughts. A list of organizations to contact gives people who are struggling with this disorder resources to connect with others who understand what they are going through.","English",39.9,31.92,"616.85/227--dc23","104 pp.",{"$f":"Table1[[#This Row],['# of Books]]*Table1[[#This Row],[QTY]]","v":0},{"$f":"Table1[[#This Row],[QTY]]*Table1[[#This Row],[School & Library Price]]","v":0}]
[null,null,18,null,"Health & Medicine","Diseases and Disorders","OCD: The Struggle with Obsessions and Compulsions","978-1-5345-6287-5","Lucent Press","Paperback Book",1,2018,"January 2018","Paperback","6.000 X 9.000","Author","Christine Honders",null,null,null,null,"Z",null,"Years 12 - 15","Grade 7","Grade 7 - 10","Because of the way obsessive-compulsive disorder is portrayed in the media, many people believe it is simply a personality quirk. In reality, this disorder can cause severe distress for people who have it, as well as for their loved ones. Through relatable text, augmented by informative sidebars and full-color photographs, this volume helps readers understand how people with OCD use rituals to cope with distressing intrusive thoughts. A list of organizations to contact gives people who are struggling with this disorder resources to connect with others who understand what they are going through.","English",19.989999999999998,16.989999999999998,"616.85/227--dc23","104 pp.",{"$f":"Table1[[#This Row],['# of Books]]*Table1[[#This Row],[QTY]]","v":0},{"$f":"Table1[[#This Row],[QTY]]*Table1[[#This Row],[School & Library Price]]","v":0}]
[null,71,18,null,"Health & Medicine","Diseases and Disorders","Diseases and Disorders: Set 1","978-1-5345-6160-1","Lucent Press","Library Set",6,2018,"August 2017","Library","6.000 X 9.000"," "," ",null,null,null,null,null,null,"Years 12 - 15","Grade 7","Grade 7 - 10","Why are concussions dangerous? How does the Zika virus spread? What can be done to help someone struggling with an anxiety disorder? Readers discover the answers to these questions and more as they explore the fascinating world of modern medicine. Accessible text helps readers gain a deeper understanding of the science behind the causes and treatments of a variety of well-known diseases and disorders. Diagrams, charts, and full-color photographs enhance readers’ knowledge of these important topics. Annotated quotations from experts and first-person accounts of living with each disease or disorder present valuable additional information.","English",239.4,191.52,null,"104 pp.",{"$f":"Table1[[#This Row],['# of Books]]*Table1[[#This Row],[QTY]]","v":0},{"$f":"Table1[[#This Row],[QTY]]*Table1[[#This Row],[School & Library Price]]","v":0}]
[null,71,18,null,"Health & Medicine","Diseases and Disorders","Diseases and Disorders: Set 1","978-1-5345-6161-8","Lucent Press","eBook Set",6,2018,"August 2017",null,null," "," ",null,null,null,null,null,null,"Years 12 - 15","Grade 7","Grade 7 - 10","Why are concussions dangerous? How does the Zika virus spread? What can be done to help someone struggling with an anxiety disorder? Readers discover the answers to these questions and more as they explore the fascinating world of modern medicine. Accessible text helps readers gain a deeper understanding of the science behind the causes and treatments of a variety of well-known diseases and disorders. Diagrams, charts, and full-color photographs enhance readers’ knowledge of these important topics. Annotated quotations from experts and first-person accounts of living with each disease or disorder present valuable additional information.","English",239.4,191.52,null,"104 pp.",{"$f":"Table1[[#This Row],['# of Books]]*Table1[[#This Row],[QTY]]","v":0},{"$f":"Table1[[#This Row],[QTY]]*Table1[[#This Row],[School & Library Price]]","v":0}]
[null,71,18,null,"Health & Medicine","Diseases and Disorders","Anxiety and Panic Disorders","978-1-5345-6119-9","Lucent Press","Library Bound Book",1,2018,"August 2017","Library","6.000 X 9.000","Author","Jennifer Lombardo",null,null,null,null,"Z",null,"Years 12 - 15","Grade 7","Grade 7 - 10","Everyone experiences anxious feelings in stressful situations, such as before a big test or when giving a speech. However, anxiety disorders are characterized by fear or worry that is disproportionate to the situation and difficult to control. It is sometimes accompanied by panic disorder, which causes panic attacks that often have no apparent trigger. Readers will learn about the different types of these very common disorders, with a focus on how to recognize and treat them, as well as the science behind them. Helpful infographics and informative sidebars clarify these often misunderstood disorders.","English",39.9,31.92,"616.85/22--dc23","112 pp.",{"$f":"Table1[[#This Row],['# of Books]]*Table1[[#This Row],[QTY]]","v":0},{"$f":"Table1[[#This Row],[QTY]]*Table1[[#This Row],[School & Library Price]]","v":0}]
[null,71,18,null,"Health & Medicine","Diseases and Disorders","Anxiety and Panic Disorders","978-1-5345-6120-5","Lucent Press","eBook",1,2018,"August 2017",null,null,"Author","Jennifer Lombardo",null,null,null,null,"Z",null,"Years 12 - 15","Grade 7","Grade 7 - 10","Everyone experiences anxious feelings in stressful situations, such as before a big test or when giving a speech. However, anxiety disorders are characterized by fear or worry that is disproportionate to the situation and difficult to control. It is sometimes accompanied by panic disorder, which causes panic attacks that often have no apparent trigger. Readers will learn about the different types of these very common disorders, with a focus on how to recognize and treat them, as well as the science behind them. Helpful infographics and informative sidebars clarify these often misunderstood disorders.","English",39.9,31.92,"616.85/22--dc23","112 pp.",{"$f":"Table1[[#This Row],['# of Books]]*Table1[[#This Row],[QTY]]","v":0},{"$f":"Table1[[#This Row],[QTY]]*Table1[[#This Row],[School & Library Price]]","v":0}]
[null,71,18,null,"Health & Medicine","Diseases and Disorders","Autism Spectrum Disorder","978-1-5345-6121-2","Lucent Press","Library Bound Book",1,2018,"August 2017","Library","6.000 X 9.000","Author","Sarah Goldy-Brown",null,null,null,null,"Z",null,"Years 12 - 15","Grade 7","Grade 7 - 10","Not all autistic people are alike. One person living with autism spectrum disorder may not speak, while another may enjoy talking to friends and family. Educating readers about the facts concerning autism is important, as much misinformation is spread through the media. Readers discover the science behind this disorder and the ways it is diagnosed and treated today. Detailed infographics offer statistics at a glance, and a list of organizations to contact provides resources for people living with autism spectrum disorder, as well as their family and friends.","English",39.9,31.92,"616.85'882--dc23","104 pp.",{"$f":"Table1[[#This Row],['# of Books]]*Table1[[#This Row],[QTY]]","v":0},{"$f":"Table1[[#This Row],[QTY]]*Table1[[#This Row],[School & Library Price]]","v":0}]
[null,71,18,null,"Health & Medicine","Diseases and Disorders","Autism Spectrum Disorder","978-1-5345-6122-9","Lucent Press","eBook",1,2018,"August 2017",null,null,"Author","Sarah Goldy-Brown",null,null,null,null,"Z",null,"Years 12 - 15","Grade 7","Grade 7 - 10","Not all autistic people are alike. One person living with autism spectrum disorder may not speak, while another may enjoy talking to friends and family. Educating readers about the facts concerning autism is important, as much misinformation is spread through the media. Readers discover the science behind this disorder and the ways it is diagnosed and treated today. Detailed infographics offer statistics at a glance, and a list of organizations to contact provides resources for people living with autism spectrum disorder, as well as their family and friends.","English",39.9,31.92,"616.85'882--dc23","104 pp.",{"$f":"Table1[[#This Row],['# of Books]]*Table1[[#This Row],[QTY]]","v":0},{"$f":"Table1[[#This Row],[QTY]]*Table1[[#This Row],[School & Library Price]]","v":0}]
[null,71,18,null,"Health & Medicine","Diseases and Disorders","Concussions and Other Brain Trauma","978-1-5345-6127-4","Lucent Press","Library Bound Book",1,2018,"August 2017","Library","6.000 X 9.000","Author","Ryan Nagelhout",null,null,null,null,"Z",null,"Years 12 - 15","Grade 7","Grade 7 - 10","Traumatic brain injuries are dangerous, especially if they are not recognized and treated promptly. Readers discover that repeated brain injuries may result in effects such as changed personality, depression, and memory loss. In contact sports such as football and hockey, the chance of sustaining a concussion or other form of brain trauma increases dramatically, so this information is especially valuable for young athletes. Through detailed photographs and informative infographics, readers are presented with additional information about the effects of brain trauma as well as precautions they can take to avoid it.","English",39.9,31.92,"617.4'81044--dc23","104 pp.",{"$f":"Table1[[#This Row],['# of Books]]*Table1[[#This Row],[QTY]]","v":0},{"$f":"Table1[[#This Row],[QTY]]*Table1[[#This Row],[School & Library Price]]","v":0}]
[null,71,18,null,"Health & Medicine","Diseases and Disorders","Concussions and Other Brain Trauma","978-1-5345-6128-1","Lucent Press","eBook",1,2018,"August 2017",null,null,"Author","Ryan Nagelhout",null,null,null,null,"Z",null,"Years 12 - 15","Grade 7","Grade 7 - 10","Traumatic brain injuries are dangerous, especially if they are not recognized and treated promptly. Readers discover that repeated brain injuries may result in effects such as changed personality, depression, and memory loss. In contact sports such as football and hockey, the chance of sustaining a concussion or other form of brain trauma increases dramatically, so this information is especially valuable for young athletes. Through detailed photographs and informative infographics, readers are presented with additional information about the effects of brain trauma as well as precautions they can take to avoid it.","English",39.9,31.92,"617.4'81044--dc23","104 pp.",{"$f":"Table1[[#This Row],['# of Books]]*Table1[[#This Row],[QTY]]","v":0},{"$f":"Table1[[#This Row],[QTY]]*Table1[[#This Row],[School & Library Price]]","v":0}]
[null,71,18,null,"Health & Medicine","Diseases and Disorders","Major Depressive Disorder","978-1-5345-6123-6","Lucent Press","Library Bound Book",1,2018,"August 2017","Library","6.000 X 9.000","Author","Simon Pierce",null,null,null,null,"Z",null,"Years 12 - 15","Grade 7","Grade 7 - 10","Often known simply as depression, major depressive disorder can affect anyone. This extremely common disorder causes intense feelings of sadness, guilt, and worthlessness, often without any identifiable cause; it is much more than merely feeling sad. Through engaging text and enlightening sidebars, this volume discusses some of the scientific causes of depression and the ways it can be treated. Information is also provided to help those who are struggling with major depressive disorder.","English",39.9,31.92,"618.92’8527--dc23","104 pp.",{"$f":"Table1[[#This Row],['# of Books]]*Table1[[#This Row],[QTY]]","v":0},{"$f":"Table1[[#This Row],[QTY]]*Table1[[#This Row],[School & Library Price]]","v":0}]
[null,71,18,null,"Health & Medicine","Diseases and Disorders","Major Depressive Disorder","978-1-5345-6124-3","Lucent Press","eBook",1,2018,"August 2017",null,null,"Author","Simon Pierce",null,null,null,null,"Z",null,"Years 12 - 15","Grade 7","Grade 7 - 10","Often known simply as depression, major depressive disorder can affect anyone. This extremely common disorder causes intense feelings of sadness, guilt, and worthlessness, often without any identifiable cause; it is much more than merely feeling sad. Through engaging text and enlightening sidebars, this volume discusses some of the scientific causes of depression and the ways it can be treated. Information is also provided to help those who are struggling with major depressive disorder.","English",39.9,31.92,"618.92’8527--dc23","104 pp.",{"$f":"Table1[[#This Row],['# of Books]]*Table1[[#This Row],[QTY]]","v":0},{"$f":"Table1[[#This Row],[QTY]]*Table1[[#This Row],[School & Library Price]]","v":0}]
[null,71,18,null,"Health & Medicine","Diseases and Disorders","The Dangers of Sexually Transmitted Diseases","978-1-5345-6125-0","Lucent Press","Library Bound Book",1,2018,"August 2017","Library","6.000 X 9.000","Author","Christine Honders",null,null,null,null,"Z",null,"Years 12 - 15","Grade 7","Grade 7 - 10","Sexually transmitted diseases are an unfortunate danger for people who are sexually active. The Center for Disease Control and Prevention reports that half of all sexually transmitted infections affect people ages 15 to 24, so it is crucial to educate young adults about the consequences of unprotected sex before they become sexually active. Full-color photographs and detailed infographics supplement the informative text’s discussion of the most common sexually transmitted diseases and the ways in which their spread can be prevented.","English",39.9,31.92,"616.95'1--dc23","104 pp.",{"$f":"Table1[[#This Row],['# of Books]]*Table1[[#This Row],[QTY]]","v":0},{"$f":"Table1[[#This Row],[QTY]]*Table1[[#This Row],[School & Library Price]]","v":0}]
[null,71,18,null,"Health & Medicine","Diseases and Disorders","The Dangers of Sexually Transmitted Diseases","978-1-5345-6126-7","Lucent Press","eBook",1,2018,"August 2017",null,null,"Author","Christine Honders",null,null,null,null,"Z",null,"Years 12 - 15","Grade 7","Grade 7 - 10","Sexually transmitted diseases are an unfortunate danger for people who are sexually active. The Center for Disease Control and Prevention reports that half of all sexually transmitted infections affect people ages 15 to 24, so it is crucial to educate young adults about the consequences of unprotected sex before they become sexually active. Full-color photographs and detailed infographics supplement the informative text’s discussion of the most common sexually transmitted diseases and the ways in which their spread can be prevented.","English",39.9,31.92,"616.95'1--dc23","104 pp.",{"$f":"Table1[[#This Row],['# of Books]]*Table1[[#This Row],[QTY]]","v":0},{"$f":"Table1[[#This Row],[QTY]]*Table1[[#This Row],[School & Library Price]]","v":0}]
[null,71,18,null,"Health & Medicine","Diseases and Disorders","The Zika Virus","978-1-5345-6129-8","Lucent Press","Library Bound Book",1,2018,"August 2017","Library","6.000 X 9.000","Author","Michelle Denton",null,null,null,null,"Z",null,"Years 12 - 15","Grade 7","Grade 7 - 10","Although the Zika virus was identified in the late 1940s, a mass outbreak did not occur until recently. Because most of the world is not immune to this virus, it spreads very quickly. Readers discover the history of the Zika virus, facts about its recent spread, the symptoms of the disease, and ways people can protect themselves against it. Full-color photographs and engaging sidebars augment this detailed discussion of a disease that is still mysterious to much of the general public.","English",39.9,31.92,"614.5'885--dc23","104 pp.",{"$f":"Table1[[#This Row],['# of Books]]*Table1[[#This Row],[QTY]]","v":0},{"$f":"Table1[[#This Row],[QTY]]*Table1[[#This Row],[School & Library Price]]","v":0}]
[null,71,18,null,"Health & Medicine","Diseases and Disorders","The Zika Virus","978-1-5345-6130-4","Lucent Press","eBook",1,2018,"August 2017",null,null,"Author","Michelle Denton",null,null,null,null,"Z",null,"Years 12 - 15","Grade 7","Grade 7 - 10","Although the Zika virus was identified in the late 1940s, a mass outbreak did not occur until recently. Because most of the world is not immune to this virus, it spreads very quickly. Readers discover the history of the Zika virus, facts about its recent spread, the symptoms of the disease, and ways people can protect themselves against it. Full-color photographs and engaging sidebars augment this detailed discussion of a disease that is still mysterious to much of the general public.","English",39.9,31.92,"614.5'885--dc23","104 pp.",{"$f":"Table1[[#This Row],['# of Books]]*Table1[[#This Row],[QTY]]","v":0},{"$f":"Table1[[#This Row],[QTY]]*Table1[[#This Row],[School & Library Price]]","v":0}]
[null,82,19,null,"Science & Technology","Science Behind Sports (Aug '17 Set)","Science Behind Sports (Aug '17 Set)","978-1-5345-6168-7","Lucent Press","Library Set",6,2018,"August 2017","Library","7.000 X 9.000"," "," ",null,null,null,null,null,null,"Years 12 - 15","Grade 7","Grade 7 - 10","It takes strength and skill to be successful at sports. It also takes science! As readers explore the basic facts about the origins and rules of some of the world’s most popular sports—including basketball, soccer, and baseball—they also discover the essential science concepts that explain some of the sporting world’s most incredible feats—from a bending soccer ball to a tumbling pass in gymnastics. Fact boxes, diagrams, and annotated quotes from experts enhance the accessible main text, and dynamic photographs of sports superstars in action keep readers entertained.","English",236.4,189.12,null,"104 pp.",{"$f":"Table1[[#This Row],['# of Books]]*Table1[[#This Row],[QTY]]","v":0},{"$f":"Table1[[#This Row],[QTY]]*Table1[[#This Row],[School & Library Price]]","v":0}]
[null,82,19,null,"Science & Technology","Science Behind Sports (Aug '17 Set)","Science Behind Sports (Aug '17 Set)","978-1-5345-6169-4","Lucent Press","eBook Set",6,2018,"August 2017",null,null," "," ",null,null,null,null,null,null,"Years 12 - 15","Grade 7","Grade 7 - 10","It takes strength and skill to be successful at sports. It also takes science! As readers explore the basic facts about the origins and rules of some of the world’s most popular sports—including basketball, soccer, and baseball—they also discover the essential science concepts that explain some of the sporting world’s most incredible feats—from a bending soccer ball to a tumbling pass in gymnastics. Fact boxes, diagrams, and annotated quotes from experts enhance the accessible main text, and dynamic photographs of sports superstars in action keep readers entertained.","English",236.4,189.12,null,"104 pp.",{"$f":"Table1[[#This Row],['# of Books]]*Table1[[#This Row],[QTY]]","v":0},{"$f":"Table1[[#This Row],[QTY]]*Table1[[#This Row],[School & Library Price]]","v":0}]
[null,82,19,null,"Science & Technology","Science Behind Sports","Baseball: Science at the Ballpark","978-1-5345-6106-9","Lucent Press","Library Bound Book",1,2018,"August 2017","Library","7.000 X 9.000","Author","Ryan Nagelhout",null,null,null,null,"Z",null,"Years 12 - 15","Grade 7","Grade 7 - 10","Why does a curveball curve? Why is it sometimes better to slide into a base than to run to it? How can baseball players avoid common injuries? As readers discover the science behind baseball, they find the answers to these and many more questions about the sport that’s often called America’s pastime. Fun fact boxes, informative sidebars, and action-packed photographs give readers an exciting look at the way common areas of science are applied in baseball games—from the backyard to the big leagues. This fresh look at STEM—science, technology, engineering, and math—is sure to captivate readers.","English",39.4,31.52,"796.357--dc23","104 pp.",{"$f":"Table1[[#This Row],['# of Books]]*Table1[[#This Row],[QTY]]","v":0},{"$f":"Table1[[#This Row],[QTY]]*Table1[[#This Row],[School & Library Price]]","v":0}]
[null,82,19,null,"Science & Technology","Science Behind Sports","Baseball: Science at the Ballpark","978-1-5345-6107-6","Lucent Press","eBook",1,2018,"August 2017",null,null,"Author","Ryan Nagelhout",null,null,null,null,"Z",null,"Years 12 - 15","Grade 7","Grade 7 - 10","Why does a curveball curve? Why is it sometimes better to slide into a base than to run to it? How can baseball players avoid common injuries? As readers discover the science behind baseball, they find the answers to these and many more questions about the sport that’s often called America’s pastime. Fun fact boxes, informative sidebars, and action-packed photographs give readers an exciting look at the way common areas of science are applied in baseball games—from the backyard to the big leagues. This fresh look at STEM—science, technology, engineering, and math—is sure to captivate readers.","English",39.4,31.52,"796.357--dc23","104 pp.",{"$f":"Table1[[#This Row],['# of Books]]*Table1[[#This Row],[QTY]]","v":0},{"$f":"Table1[[#This Row],[QTY]]*Table1[[#This Row],[School & Library Price]]","v":0}]
[null,82,19,null,"Science & Technology","Science Behind Sports","Basketball: Science on the Court","978-1-5345-6108-3","Lucent Press","Library Bound Book",1,2018,"August 2017","Library","7.000 X 9.000","Author","Emily Mahoney",null,null,null,null,"Z",null,"Years 12 - 15","Grade 7","Grade 7 - 10","Science isn’t just used in a laboratory or a classroom—it’s necessary on the basketball court, too! Slam dunks, quick passes, and jump shots are only possible because of science, and readers discover why as they explore the ways physics, biology, and other areas of science are applied in the game of basketball. As readers take in details from fact boxes, sidebars, and diagrams, they see the importance of science, technology, engineering, and math—also known as STEM—on the basketball court. They also find fun photographs of some of the sport’s biggest stars using science to score.","English",39.4,31.52,"796.323--dc23","112 pp.",{"$f":"Table1[[#This Row],['# of Books]]*Table1[[#This Row],[QTY]]","v":0},{"$f":"Table1[[#This Row],[QTY]]*Table1[[#This Row],[School & Library Price]]","v":0}]
[null,82,19,null,"Science & Technology","Science Behind Sports","Basketball: Science on the Court","978-1-5345-6109-0","Lucent Press","eBook",1,2018,"August 2017",null,null,"Author","Emily Mahoney",null,null,null,null,"Z",null,"Years 12 - 15","Grade 7","Grade 7 - 10","Science isn’t just used in a laboratory or a classroom—it’s necessary on the basketball court, too! Slam dunks, quick passes, and jump shots are only possible because of science, and readers discover why as they explore the ways physics, biology, and other areas of science are applied in the game of basketball. As readers take in details from fact boxes, sidebars, and diagrams, they see the importance of science, technology, engineering, and math—also known as STEM—on the basketball court. They also find fun photographs of some of the sport’s biggest stars using science to score.","English",39.4,31.52,"796.323--dc23","112 pp.",{"$f":"Table1[[#This Row],['# of Books]]*Table1[[#This Row],[QTY]]","v":0},{"$f":"Table1[[#This Row],[QTY]]*Table1[[#This Row],[School & Library Price]]","v":0}]
[null,82,19,null,"Science & Technology","Science Behind Sports","Gymnastics: Science on the Mat and in the Air","978-1-5345-6110-6","Lucent Press","Library Bound Book",1,2018,"August 2017","Library","7.000 X 9.000","Author","Elizabeth Morgan",null,null,null,null,"Z",null,"Years 12 - 15","Grade 7","Grade 7 - 10","In order to execute amazing tumbling passes and stick the perfect landing, gymnasts need proper training and a lot of practice. They also need to understand the science behind what they’re doing on the mat and in the air. Readers are introduced to the areas of STEM—science, technology, engineering, and math—that help gymnasts perform at their best, including the ways engineers have created safer equipment and the ways technology is being used to reduce injury. Eye-catching fact boxes, detailed sidebars, and full-color photographs provide readers with an inside look at the science behind this popular sport.","English",39.4,31.52,"796.4---dc23","104 pp.",{"$f":"Table1[[#This Row],['# of Books]]*Table1[[#This Row],[QTY]]","v":0},{"$f":"Table1[[#This Row],[QTY]]*Table1[[#This Row],[School & Library Price]]","v":0}]
[null,82,19,null,"Science & Technology","Science Behind Sports","Gymnastics: Science on the Mat and in the Air","978-1-5345-6111-3","Lucent Press","eBook",1,2018,"August 2017",null,null,"Author","Elizabeth Morgan",null,null,null,null,"Z",null,"Years 12 - 15","Grade 7","Grade 7 - 10","In order to execute amazing tumbling passes and stick the perfect landing, gymnasts need proper training and a lot of practice. They also need to understand the science behind what they’re doing on the mat and in the air. Readers are introduced to the areas of STEM—science, technology, engineering, and math—that help gymnasts perform at their best, including the ways engineers have created safer equipment and the ways technology is being used to reduce injury. Eye-catching fact boxes, detailed sidebars, and full-color photographs provide readers with an inside look at the science behind this popular sport.","English",39.4,31.52,"796.4---dc23","104 pp.",{"$f":"Table1[[#This Row],['# of Books]]*Table1[[#This Row],[QTY]]","v":0},{"$f":"Table1[[#This Row],[QTY]]*Table1[[#This Row],[School & Library Price]]","v":0}]
[null,82,19,null,"Science & Technology","Science Behind Sports","Ice Hockey: Science on Ice","978-1-5345-6113-7","Lucent Press","Library Bound Book",1,2018,"August 2017","Library","7.000 X 9.000","Author","Barbara M. Linde ",null,null,null,null,"Z",null,"Years 12 - 15","Grade 7","Grade 7 - 10","Physics explains how an ice hockey player scores a goal. Biology explains why certain exercises help hockey players become better and stronger. Math is used to calculate the exact measurement of different kinds of hockey rinks. Engineers use technology to create the safest equipment for hockey players. Readers see how these areas of STEM come together in a hockey game, and they’re sure to enjoy this unique look at common science curriculum topics. The detailed main text is supported by fun fact boxes, enlightening sidebars, helpful diagrams, and vibrant photographs of ice hockey players in action.","English",39.4,31.52,"796.962--dc23","112 pp.",{"$f":"Table1[[#This Row],['# of Books]]*Table1[[#This Row],[QTY]]","v":0},{"$f":"Table1[[#This Row],[QTY]]*Table1[[#This Row],[School & Library Price]]","v":0}]
[null,82,19,null,"Science & Technology","Science Behind Sports","Ice Hockey: Science on Ice","978-1-5345-6114-4","Lucent Press","eBook",1,2018,"August 2017",null,null,"Author","Barbara M. Linde ",null,null,null,null,"Z",null,"Years 12 - 15","Grade 7","Grade 7 - 10","Physics explains how an ice hockey player scores a goal. Biology explains why certain exercises help hockey players become better and stronger. Math is used to calculate the exact measurement of different kinds of hockey rinks. Engineers use technology to create the safest equipment for hockey players. Readers see how these areas of STEM come together in a hockey game, and they’re sure to enjoy this unique look at common science curriculum topics. The detailed main text is supported by fun fact boxes, enlightening sidebars, helpful diagrams, and vibrant photographs of ice hockey players in action.","English",39.4,31.52,"796.962--dc23","112 pp.",{"$f":"Table1[[#This Row],['# of Books]]*Table1[[#This Row],[QTY]]","v":0},{"$f":"Table1[[#This Row],[QTY]]*Table1[[#This Row],[School & Library Price]]","v":0}]
[null,82,19,null,"Science & Technology","Science Behind Sports","Lacrosse: Science on the Field","978-1-5345-6117-5","Lucent Press","Library Bound Book",1,2018,"August 2017","Library","7.000 X 9.000","Author","Gary Wiener",null,null,null,null,"Z",null,"Years 12 - 15","Grade 7","Grade 7 - 10","Lacrosse is quickly becoming one of the most popular sports played by young men and women in North America. In order to fully understand this exciting sport and play it safely and successfully, it helps to have a strong understanding of the science behind it. Readers discover the ways science, technology, engineering, and math are used together on the lacrosse field. This engaging take on familiar STEM topics is sure to delight readers who are sports fans. The fact-filled main text is enhanced by the use of accessible diagrams, fun fact boxes, informative sidebars, and exciting photographs of lacrosse games.","English",39.4,31.52,"796.36'2--dc23","104 pp.",{"$f":"Table1[[#This Row],['# of Books]]*Table1[[#This Row],[QTY]]","v":0},{"$f":"Table1[[#This Row],[QTY]]*Table1[[#This Row],[School & Library Price]]","v":0}]
[null,82,19,null,"Science & Technology","Science Behind Sports","Lacrosse: Science on the Field","978-1-5345-6118-2","Lucent Press","eBook",1,2018,"August 2017",null,null,"Author","Gary Wiener",null,null,null,null,"Z",null,"Years 12 - 15","Grade 7","Grade 7 - 10","Lacrosse is quickly becoming one of the most popular sports played by young men and women in North America. In order to fully understand this exciting sport and play it safely and successfully, it helps to have a strong understanding of the science behind it. Readers discover the ways science, technology, engineering, and math are used together on the lacrosse field. This engaging take on familiar STEM topics is sure to delight readers who are sports fans. The fact-filled main text is enhanced by the use of accessible diagrams, fun fact boxes, informative sidebars, and exciting photographs of lacrosse games.","English",39.4,31.52,"796.36'2--dc23","104 pp.",{"$f":"Table1[[#This Row],['# of Books]]*Table1[[#This Row],[QTY]]","v":0},{"$f":"Table1[[#This Row],[QTY]]*Table1[[#This Row],[School & Library Price]]","v":0}]
[null,82,19,null,"Science & Technology","Science Behind Sports","Soccer: Science at Your Feet","978-1-5345-6115-1","Lucent Press","Library Bound Book",1,2018,"August 2017","Library","7.000 X 9.000","Author","Amy B. Rogers",null,null,null,null,"Z",null,"Years 12 - 15","Grade 7","Grade 7 - 10","If readers have ever wondered how soccer players \"bend it like Beckham,\" they'll enjoy this unique look at the science behind the world's most popular sport. Detailed text, fact boxes, sidebars, and diagrams help readers understand the many ways scientific concepts are applied on the soccer field. Readers also learn how scientific knowledge is put to use along with the other areas of STEM – technology, engineering, and math – to help soccer players train, avoid injury, and heal more quickly if they do get hurt. Full-color photographs place readers in the middle of the action on the pitch.","English",39.4,31.52,"796.334--dc23","104 pp.",{"$f":"Table1[[#This Row],['# of Books]]*Table1[[#This Row],[QTY]]","v":0},{"$f":"Table1[[#This Row],[QTY]]*Table1[[#This Row],[School & Library Price]]","v":0}]
[null,82,19,null,"Science & Technology","Science Behind Sports","Soccer: Science at Your Feet","978-1-5345-6116-8","Lucent Press","eBook",1,2018,"August 2017",null,null,"Author","Amy B. Rogers",null,null,null,null,"Z",null,"Years 12 - 15","Grade 7","Grade 7 - 10","If readers have ever wondered how soccer players \"bend it like Beckham,\" they'll enjoy this unique look at the science behind the world's most popular sport. Detailed text, fact boxes, sidebars, and diagrams help readers understand the many ways scientific concepts are applied on the soccer field. Readers also learn how scientific knowledge is put to use along with the other areas of STEM – technology, engineering, and math – to help soccer players train, avoid injury, and heal more quickly if they do get hurt. Full-color photographs place readers in the middle of the action on the pitch.","English",39.4,31.52,"796.334--dc23","104 pp.",{"$f":"Table1[[#This Row],['# of Books]]*Table1[[#This Row],[QTY]]","v":0},{"$f":"Table1[[#This Row],[QTY]]*Table1[[#This Row],[School & Library Price]]","v":0}]
[null,81,20,null,"Science & Technology","Crime Scene Investigations","Crime Scene Investigations: Sets 1 – 2","978-1-5345-6253-0","Lucent Press","Library Set",12,2018,"January 2018",null,"7.000 X 9.000"," "," ",null,null,null,null,null,null,"Years 12 - 15","Grade 7","Grade 7 - 10","Solving crimes is often not as easy as it appears on television shows or in movies. It involves hard work, patience, and science. Readers learn the fascinating details behind crime scene investigations, including the purpose of body farms and the steps involved in processing DNA evidence. The informative main text is paired with eye-catching fact boxes, enlightening sidebars, and full-color photographs. Annotated quotes from experts in their fields are also included to give readers first-person accounts of what it is like to be on the front lines of crime scenes that range from missing persons cases to drug trafficking investigations.\n\nFeatures include: Accessible text connects math and science concepts to each high-interest topic. Readers are presented with information about how to pursue a career in various areas of crime scene investigation, such as forensics and law enforcement. Technological, scientific, and procedural advancements are an important component of each volume, giving readers a closer look at the future of crime scene investigations.","English",484.8,387.84,null,"104–112 pp.",{"$f":"Table1[[#This Row],['# of Books]]*Table1[[#This Row],[QTY]]","v":0},{"$f":"Table1[[#This Row],[QTY]]*Table1[[#This Row],[School & Library Price]]","v":0}]
[null,81,20,null,"Science & Technology","Crime Scene Investigations","Crime Scene Investigations: Set 2","978-1-5345-6252-3","Lucent Press","Library Set",6,2018,"January 2018",null,"7.000 X 9.000"," "," ",null,null,null,null,null,null,"Years 12 - 15","Grade 7","Grade 7 - 10","Solving crimes is often not as easy as it appears on television shows or in movies. It involves hard work, patience, and science. Readers learn the fascinating details behind crime scene investigations, including the purpose of body farms and the steps involved in processing DNA evidence. The informative main text is paired with eye-catching fact boxes, enlightening sidebars, and full-color photographs. Annotated quotes from experts in their fields are also included to give readers first-person accounts of what it is like to be on the front lines of crime scenes that range from missing persons cases to drug trafficking investigations.\n\nFeatures include: Accessible text connects math and science concepts to each high-interest topic. Readers are presented with information about how to pursue a career in various areas of crime scene investigation, such as forensics and law enforcement. Technological, scientific, and procedural advancements are an important component of each volume, giving readers a closer look at the future of crime scene investigations.","English",242.4,193.92,null,"104 pp.",{"$f":"Table1[[#This Row],['# of Books]]*Table1[[#This Row],[QTY]]","v":0},{"$f":"Table1[[#This Row],[QTY]]*Table1[[#This Row],[School & Library Price]]","v":0}]
[null,81,null,null,"Science & Technology","Crime Scene Investigations","Crime Scene Investigations: Set 2","978-1-5345-6262-2","Lucent Press","eBook Set",6,2018,"January 2018",null,null," "," ",null,null,null,null,null,null,"Years 12 - 15","Grade 7","Grade 7 - 10","Solving crimes is often not as easy as it appears on television shows or in movies. It involves hard work, patience, and science. Readers learn the fascinating details behind crime scene investigations, including the purpose of body farms and the steps involved in processing DNA evidence. The informative main text is paired with eye-catching fact boxes, enlightening sidebars, and full-color photographs. Annotated quotes from experts in their fields are also included to give readers first-person accounts of what it is like to be on the front lines of crime scenes that range from missing persons cases to drug trafficking investigations.\r\nFeatures include: Accessible text connects math and science concepts to each high-interest topic. Readers are presented with information about how to pursue a career in various areas of crime scene investigation, such as forensics and law enforcement. Technological, scientific, and procedural advancements are an important component of each volume, giving readers a closer look at the future of crime scene investigations.","English",242.4,193.92,null,"120 pp.",{"$f":"Table1[[#This Row],['# of Books]]*Table1[[#This Row],[QTY]]","v":0},{"$f":"Table1[[#This Row],[QTY]]*Table1[[#This Row],[School & Library Price]]","v":0}]
[null,null,20,null,"Science & Technology","Crime Scene Investigations","Crime Scene Investigations: Set 2","978-1-5345-6316-2","Lucent Press","Single Copy Set",6,2018,"January 2018",null,"7.000 X 9.000"," "," ",null,null,null,null,null,null,"Years 12 - 15","Grade 7","Grade 7 - 10","Solving crimes is often not as easy as it appears on television shows or in movies. It involves hard work, patience, and science. Readers learn the fascinating details behind crime scene investigations, including the purpose of body farms and the steps involved in processing DNA evidence. The informative main text is paired with eye-catching fact boxes, enlightening sidebars, and full-color photographs. Annotated quotes from experts in their fields are also included to give readers first-person accounts of what it is like to be on the front lines of crime scenes that range from missing persons cases to drug trafficking investigations.\n\nFeatures include: Accessible text connects math and science concepts to each high-interest topic. Readers are presented with information about how to pursue a career in various areas of crime scene investigation, such as forensics and law enforcement. Technological, scientific, and procedural advancements are an important component of each volume, giving readers a closer look at the future of crime scene investigations.","English",119.94,101.94,null,"104 pp.",{"$f":"Table1[[#This Row],['# of Books]]*Table1[[#This Row],[QTY]]","v":0},{"$f":"Table1[[#This Row],[QTY]]*Table1[[#This Row],[School & Library Price]]","v":0}]
[null,81,20,null,"Science & Technology","Crime Scene Investigations","Ballistics: The Science of Weapons at Work","978-1-5345-6171-7","Lucent Press","Library Bound Book",1,2018,"January 2018","Library","7.000 X 9.000","Author","Siyavush Saidian",null,null,null,null,"Z",null,"Years 12 - 15","Grade 7","Grade 7 - 10","When a crime is committed with a firearm or an explosive, the first people the police turn to are often ballistic analysts. By examining angles, bullets, and explosive residue, these scientists analyze the behavior of projectiles, such as bullets. Readers learn both how ballistics research is performed and how law enforcement officials use these findings to solve crimes. The detailed main text is supplemented with engaging fact boxes, unique sidebars, and photographs that give readers an up-close look into the scientific world of ballistic studies.","English",40.4,32.32,"363.25/62--dc23","104 pp.",{"$f":"Table1[[#This Row],['# of Books]]*Table1[[#This Row],[QTY]]","v":0},{"$f":"Table1[[#This Row],[QTY]]*Table1[[#This Row],[School & Library Price]]","v":0}]
[null,81,20,null,"Science & Technology","Crime Scene Investigations","Ballistics: The Science of Weapons at Work","978-1-5345-6170-0","Lucent Press","eBook",1,2018,"January 2018",null,null,"Author","Siyavush Saidian",null,null,null,null,"Z",null,"Years 12 - 15","Grade 7","Grade 7 - 10","When a crime is committed with a firearm or an explosive, the first people the police turn to are often ballistic analysts. By examining angles, bullets, and explosive residue, these scientists analyze the behavior of projectiles, such as bullets. Readers learn both how ballistics research is performed and how law enforcement officials use these findings to solve crimes. The detailed main text is supplemented with engaging fact boxes, unique sidebars, and photographs that give readers an up-close look into the scientific world of ballistic studies.","English",40.4,32.32,"363.25/62--dc23","104 pp.",{"$f":"Table1[[#This Row],['# of Books]]*Table1[[#This Row],[QTY]]","v":0},{"$f":"Table1[[#This Row],[QTY]]*Table1[[#This Row],[School & Library Price]]","v":0}]
[null,null,20,null,"Science & Technology","Crime Scene Investigations","Ballistics: The Science of Weapons at Work","978-1-5345-6270-7","Lucent Press","Paperback Book",1,2018,"January 2018","Paperback","7.000 X 9.000","Author","Siyavush Saidian",null,null,null,null,"Z",null,"Years 12 - 15","Grade 7","Grade 7 - 10","When a crime is committed with a firearm or an explosive, the first people the police turn to are often ballistic analysts. By examining angles, bullets, and explosive residue, these scientists analyze the behavior of projectiles, such as bullets. Readers learn both how ballistics research is performed and how law enforcement officials use these findings to solve crimes. The detailed main text is supplemented with engaging fact boxes, unique sidebars, and photographs that give readers an up-close look into the scientific world of ballistic studies.","English",19.989999999999998,16.989999999999998,"363.25/62--dc23","104 pp.",{"$f":"Table1[[#This Row],['# of Books]]*Table1[[#This Row],[QTY]]","v":0},{"$f":"Table1[[#This Row],[QTY]]*Table1[[#This Row],[School & Library Price]]","v":0}]
[null,81,20,null,"Science & Technology","Crime Scene Investigations","Clues in Corpses: A Closer Look at Body Farms","978-1-5345-6172-4","Lucent Press","Library Bound Book",1,2018,"January 2018","Library","7.000 X 9.000","Author","Sophie Washburne",null,null,null,null,"Z",null,"Years 12 - 15","Grade 7","Grade 7 - 10","When human remains are found at a crime scene, forensic anthropologists examine them to determine the time and cause of death, as well as the identity of the victim. How do they know the answers to these questions? Body farms are facilities where specialists can study the ways bodies decompose under different conditions, which helps forensic anthropologists solve crimes more effectively. Informative fact boxes, full-color photographs, and engaging sidebars offer a closer look at these little-known research facilities. Readers are sure to be captivated by stories of farms unlike any they have ever heard of before.","English",40.4,32.32,"599.9--dc23","104 pp.",{"$f":"Table1[[#This Row],['# of Books]]*Table1[[#This Row],[QTY]]","v":0},{"$f":"Table1[[#This Row],[QTY]]*Table1[[#This Row],[School & Library Price]]","v":0}]
[null,81,20,null,"Science & Technology","Crime Scene Investigations","Clues in Corpses: A Closer Look at Body Farms","978-1-5345-6231-8","Lucent Press","eBook",1,2018,"January 2018",null,null,"Author","Sophie Washburne",null,null,null,null,"Z",null,"Years 12 - 15","Grade 7","Grade 7 - 10","When human remains are found at a crime scene, forensic anthropologists examine them to determine the time and cause of death, as well as the identity of the victim. How do they know the answers to these questions? Body farms are facilities where specialists can study the ways bodies decompose under different conditions, which helps forensic anthropologists solve crimes more effectively. Informative fact boxes, full-color photographs, and engaging sidebars offer a closer look at these little-known research facilities. Readers are sure to be captivated by stories of farms unlike any they have ever heard of before.","English",40.4,32.32,"599.9--dc23","104 pp.",{"$f":"Table1[[#This Row],['# of Books]]*Table1[[#This Row],[QTY]]","v":0},{"$f":"Table1[[#This Row],[QTY]]*Table1[[#This Row],[School & Library Price]]","v":0}]
[null,null,20,null,"Science & Technology","Crime Scene Investigations","Clues in Corpses: A Closer Look at Body Farms","978-1-5345-6271-4","Lucent Press","Paperback Book",1,2018,"January 2018","Paperback","7.000 X 9.000","Author","Sophie Washburne",null,null,null,null,"Z",null,"Years 12 - 15","Grade 7","Grade 7 - 10","When human remains are found at a crime scene, forensic anthropologists examine them to determine the time and cause of death, as well as the identity of the victim. How do they know the answers to these questions? Body farms are facilities where specialists can study the ways bodies decompose under different conditions, which helps forensic anthropologists solve crimes more effectively. Informative fact boxes, full-color photographs, and engaging sidebars offer a closer look at these little-known research facilities. Readers are sure to be captivated by stories of farms unlike any they have ever heard of before.","English",19.989999999999998,16.989999999999998,"599.9--dc23","104 pp.",{"$f":"Table1[[#This Row],['# of Books]]*Table1[[#This Row],[QTY]]","v":0},{"$f":"Table1[[#This Row],[QTY]]*Table1[[#This Row],[School & Library Price]]","v":0}]
[null,81,20,null,"Science & Technology","Crime Scene Investigations","Criminal Profiling: Searching for Suspects","978-1-5345-6174-8","Lucent Press","Library Bound Book",1,2018,"January 2018","Library","7.000 X 9.000","Author","Christine Honders",null,null,null,null,"Z",null,"Years 12 - 15","Grade 7","Grade 7 - 10","Before police can solve a crime, they need to find their suspects. In especially difficult cases, law enforcement officials use criminal profiling to help catch their perpetrators. The science of criminal profiling combines forensics and psychology to understand the type of person who commits crimes. Through thoroughly-researched text, including informative quotes from experts in the field and statistical fact boxes, readers learn how profilers are able to use evidence to accurately determine an offender's age, motives, and state of mind. They also learn what to do to pursue a career in this field in the future.","English",40.4,32.32,"363.25/8--dc23","104 pp.",{"$f":"Table1[[#This Row],['# of Books]]*Table1[[#This Row],[QTY]]","v":0},{"$f":"Table1[[#This Row],[QTY]]*Table1[[#This Row],[School & Library Price]]","v":0}]
[null,81,20,null,"Science & Technology","Crime Scene Investigations","Criminal Profiling: Searching for Suspects","978-1-5345-6173-1","Lucent Press","eBook",1,2018,"January 2018",null,null,"Author","Christine Honders",null,null,null,null,"Z",null,"Years 12 - 15","Grade 7","Grade 7 - 10","Before police can solve a crime, they need to find their suspects. In especially difficult cases, law enforcement officials use criminal profiling to help catch their perpetrators. The science of criminal profiling combines forensics and psychology to understand the type of person who commits crimes. Through thoroughly-researched text, including informative quotes from experts in the field and statistical fact boxes, readers learn how profilers are able to use evidence to accurately determine an offender's age, motives, and state of mind. They also learn what to do to pursue a career in this field in the future.","English",40.4,32.32,"363.25/8--dc23","104 pp.",{"$f":"Table1[[#This Row],['# of Books]]*Table1[[#This Row],[QTY]]","v":0},{"$f":"Table1[[#This Row],[QTY]]*Table1[[#This Row],[School & Library Price]]","v":0}]
[null,null,20,null,"Science & Technology","Crime Scene Investigations","Criminal Profiling: Searching for Suspects","978-1-5345-6272-1","Lucent Press","Paperback Book",1,2018,"January 2018","Paperback","7.000 X 9.000","Author","Christine Honders",null,null,null,null,"Z",null,"Years 12 - 15","Grade 7","Grade 7 - 10","Before police can solve a crime, they need to find their suspects. In especially difficult cases, law enforcement officials use criminal profiling to help catch their perpetrators. The science of criminal profiling combines forensics and psychology to understand the type of person who commits crimes. Through thoroughly-researched text, including informative quotes from experts in the field and statistical fact boxes, readers learn how profilers are able to use evidence to accurately determine an offender's age, motives, and state of mind. They also learn what to do to pursue a career in this field in the future.","English",19.989999999999998,16.989999999999998,"363.25/8--dc23","104 pp.",{"$f":"Table1[[#This Row],['# of Books]]*Table1[[#This Row],[QTY]]","v":0},{"$f":"Table1[[#This Row],[QTY]]*Table1[[#This Row],[School & Library Price]]","v":0}]
[null,81,20,null,"Science & Technology","Crime Scene Investigations","DNA Evidence: The Proof Is in the Genes","978-1-5345-6176-2","Lucent Press","Library Bound Book",1,2018,"January 2018","Library","7.000 X 9.000","Author","Cecilia Jennings",null,null,null,null,"Z",null,"Years 12 - 15","Grade 7","Grade 7 - 10","One of the greatest scientific breakthroughs ever for law enforcement agencies was the discovery of DNA analysis. This relatively new science allows police to catch a criminal from evidence as small as a human hair. Informative text gives readers a basic understanding of DNA and how forensic analysts can examine criminal evidence and create a genetic chain that leads to the perpetrator. This complex topic is made easy to understand through engaging fact boxes and informative sidebars, and the science is brought into sharp focus through eye-catching photographs.","English",40.4,32.32,"614/.1--dc23","104 pp.",{"$f":"Table1[[#This Row],['# of Books]]*Table1[[#This Row],[QTY]]","v":0},{"$f":"Table1[[#This Row],[QTY]]*Table1[[#This Row],[School & Library Price]]","v":0}]
[null,81,20,null,"Science & Technology","Crime Scene Investigations","DNA Evidence: The Proof Is in the Genes","978-1-5345-6175-5","Lucent Press","eBook",1,2018,"January 2018",null,null,"Author","Cecilia Jennings",null,null,null,null,"Z",null,"Years 12 - 15","Grade 7","Grade 7 - 10","One of the greatest scientific breakthroughs ever for law enforcement agencies was the discovery of DNA analysis. This relatively new science allows police to catch a criminal from evidence as small as a human hair. Informative text gives readers a basic understanding of DNA and how forensic analysts can examine criminal evidence and create a genetic chain that leads to the perpetrator. This complex topic is made easy to understand through engaging fact boxes and informative sidebars, and the science is brought into sharp focus through eye-catching photographs.","English",40.4,32.32,"614/.1--dc23","104 pp.",{"$f":"Table1[[#This Row],['# of Books]]*Table1[[#This Row],[QTY]]","v":0},{"$f":"Table1[[#This Row],[QTY]]*Table1[[#This Row],[School & Library Price]]","v":0}]
[null,null,20,null,"Science & Technology","Crime Scene Investigations","DNA Evidence: The Proof Is in the Genes","978-1-5345-6273-8","Lucent Press","Paperback Book",1,2018,"January 2018","Paperback","7.000 X 9.000","Author","Cecilia Jennings",null,null,null,null,"Z",null,"Years 12 - 15","Grade 7","Grade 7 - 10","One of the greatest scientific breakthroughs ever for law enforcement agencies was the discovery of DNA analysis. This relatively new science allows police to catch a criminal from evidence as small as a human hair. Informative text gives readers a basic understanding of DNA and how forensic analysts can examine criminal evidence and create a genetic chain that leads to the perpetrator. This complex topic is made easy to understand through engaging fact boxes and informative sidebars, and the science is brought into sharp focus through eye-catching photographs.","English",19.989999999999998,16.989999999999998,"614/.1--dc23","104 pp.",{"$f":"Table1[[#This Row],['# of Books]]*Table1[[#This Row],[QTY]]","v":0},{"$f":"Table1[[#This Row],[QTY]]*Table1[[#This Row],[School & Library Price]]","v":0}]
[null,81,20,null,"Science & Technology","Crime Scene Investigations","Drug Trafficking: A Global Criminal Trade","978-1-5345-6180-9","Lucent Press","Library Bound Book",1,2018,"January 2018","Library","7.000 X 9.000","Author","Nicole Horning",null,null,null,null,"Z",null,"Years 12 - 15","Grade 7","Grade 7 - 10","The drug trade is a lucrative business, and drug traffickers find inventive ways to protect their investments. Smugglers have a variety of means available to them to move large amounts of drugs between countries, including underground tunnels, secret pockets, and even the postal service. This means law enforcement officials must be clever and creative in their pursuit of these criminals. Readers learn how police target drug traffickers and what they can do to pursue a similar career. Informative sidebars, fact boxes, and full-color photographs give a full picture of the work that law enforcement officials do to apprehend drug traffickers.","English",40.4,32.32,"364.1/3365--dc23","104 pp.",{"$f":"Table1[[#This Row],['# of Books]]*Table1[[#This Row],[QTY]]","v":0},{"$f":"Table1[[#This Row],[QTY]]*Table1[[#This Row],[School & Library Price]]","v":0}]
[null,81,20,null,"Science & Technology","Crime Scene Investigations","Drug Trafficking: A Global Criminal Trade","978-1-5345-6179-3","Lucent Press","eBook",1,2018,"January 2018",null,null,"Author","Nicole Horning",null,null,null,null,"Z",null,"Years 12 - 15","Grade 7","Grade 7 - 10","The drug trade is a lucrative business, and drug traffickers find inventive ways to protect their investments. Smugglers have a variety of means available to them to move large amounts of drugs between countries, including underground tunnels, secret pockets, and even the postal service. This means law enforcement officials must be clever and creative in their pursuit of these criminals. Readers learn how police target drug traffickers and what they can do to pursue a similar career. Informative sidebars, fact boxes, and full-color photographs give a full picture of the work that law enforcement officials do to apprehend drug traffickers.","English",40.4,32.32,"364.1/3365--dc23","104 pp.",{"$f":"Table1[[#This Row],['# of Books]]*Table1[[#This Row],[QTY]]","v":0},{"$f":"Table1[[#This Row],[QTY]]*Table1[[#This Row],[School & Library Price]]","v":0}]
[null,null,20,null,"Science & Technology","Crime Scene Investigations","Drug Trafficking: A Global Criminal Trade","978-1-5345-6274-5","Lucent Press","Paperback Book",1,2018,"January 2018","Paperback","7.000 X 9.000","Author","Nicole Horning",null,null,null,null,"Z",null,"Years 12 - 15","Grade 7","Grade 7 - 10","The drug trade is a lucrative business, and drug traffickers find inventive ways to protect their investments. Smugglers have a variety of means available to them to move large amounts of drugs between countries, including underground tunnels, secret pockets, and even the postal service. This means law enforcement officials must be clever and creative in their pursuit of these criminals. Readers learn how police target drug traffickers and what they can do to pursue a similar career. Informative sidebars, fact boxes, and full-color photographs give a full picture of the work that law enforcement officials do to apprehend drug traffickers.","English",19.989999999999998,16.989999999999998,"364.1/3365--dc23","104 pp.",{"$f":"Table1[[#This Row],['# of Books]]*Table1[[#This Row],[QTY]]","v":0},{"$f":"Table1[[#This Row],[QTY]]*Table1[[#This Row],[School & Library Price]]","v":0}]
[null,81,20,null,"Science & Technology","Crime Scene Investigations","Missing Persons: What Happens When Someone Disappears?","978-1-5345-6178-6","Lucent Press","Library Bound Book",1,2018,"January 2018","Library","7.000 X 9.000","Author","Amanda Vink",null,null,null,null,"Z",null,"Years 12 - 15","Grade 7","Grade 7 - 10","Many crime shows and movies deal with the topic of a mysterious disappearance, but fictional stories often sensationalize the topic in order to catch the viewer's interest. In reality, finding a missing person can be hard work for detectives, as there are sometimes few clues left behind. Readers discover how police use math and science to solve this puzzle. Full-color photographs, informative sidebars, and by-the-numbers fact boxes augment the compelling text, giving readers a more accurate understanding of the process of searching for missing persons than they will find on television or at the movies.","English",40.4,32.32,"362.8--dc23","104 pp.",{"$f":"Table1[[#This Row],['# of Books]]*Table1[[#This Row],[QTY]]","v":0},{"$f":"Table1[[#This Row],[QTY]]*Table1[[#This Row],[School & Library Price]]","v":0}]
[null,81,20,null,"Science & Technology","Crime Scene Investigations","Missing Persons: What Happens When Someone Disappears?","978-1-5345-6177-9","Lucent Press","eBook",1,2018,"January 2018",null,null,"Author","Amanda Vink",null,null,null,null,"Z",null,"Years 12 - 15","Grade 7","Grade 7 - 10","Many crime shows and movies deal with the topic of a mysterious disappearance, but fictional stories often sensationalize the topic in order to catch the viewer's interest. In reality, finding a missing person can be hard work for detectives, as there are sometimes few clues left behind. Readers discover how police use math and science to solve this puzzle. Full-color photographs, informative sidebars, and by-the-numbers fact boxes augment the compelling text, giving readers a more accurate understanding of the process of searching for missing persons than they will find on television or at the movies.","English",40.4,32.32,"362.8--dc23","104 pp.",{"$f":"Table1[[#This Row],['# of Books]]*Table1[[#This Row],[QTY]]","v":0},{"$f":"Table1[[#This Row],[QTY]]*Table1[[#This Row],[School & Library Price]]","v":0}]
[null,null,21,null,"Science & Technology","Crime Scene Investigations","Missing Persons: What Happens When Someone Disappears?","978-1-5345-6275-2","Lucent Press","Paperback Book",1,2018,"January 2018","Paperback","7.000 X 9.000","Author","Amanda Vink",null,null,null,null,"Z",null,"Years 12 - 15","Grade 7","Grade 7 - 10","Many crime shows and movies deal with the topic of a mysterious disappearance, but fictional stories often sensationalize the topic in order to catch the viewer's interest. In reality, finding a missing person can be hard work for detectives, as there are sometimes few clues left behind. Readers discover how police use math and science to solve this puzzle. Full-color photographs, informative sidebars, and by-the-numbers fact boxes augment the compelling text, giving readers a more accurate understanding of the process of searching for missing persons than they will find on television or at the movies.","English",19.989999999999998,16.989999999999998,"362.8--dc23","104 pp.",{"$f":"Table1[[#This Row],['# of Books]]*Table1[[#This Row],[QTY]]","v":0},{"$f":"Table1[[#This Row],[QTY]]*Table1[[#This Row],[School & Library Price]]","v":0}]
[null,80,20,null,"Science & Technology","Crime Scene Investigations (Aug '17)","Crime Scene Investigations (Aug '17)","978-1-5345-6158-8","Lucent Press","Library Set",6,2018,"August 2017","Library","7.000 X 9.000"," "," ",null,null,null,null,null,null,"Years 12 - 15","Grade 7","Grade 7 - 10","On television shows, crimes are often solved in less than an hour, but in reality, the process of solving crimes is much more complex. Readers discover the hard work that goes into investigating crimes, including evidence collection, forensic analysis, and even dangerous undercover work. As readers explore this high-interest topic, they are presented with additional information in the form of fact boxes, sidebars, and annotated quotes from respected sources. Full-color photographs and an eye-catching design bring readers behind the crime scene tape for a learning experience they won’t soon forget.","English",242.4,193.92,null,"104 pp.",{"$f":"Table1[[#This Row],['# of Books]]*Table1[[#This Row],[QTY]]","v":0},{"$f":"Table1[[#This Row],[QTY]]*Table1[[#This Row],[School & Library Price]]","v":0}]
[null,80,20,null,"Science & Technology","Crime Scene Investigations (Aug '17)","Crime Scene Investigations (Aug '17)","978-1-5345-6159-5","Lucent Press","eBook Set",6,2018,"August 2017",null,null," "," ",null,null,null,null,null,null,"Years 12 - 15","Grade 7","Grade 7 - 10","On television shows, crimes are often solved in less than an hour, but in reality, the process of solving crimes is much more complex. Readers discover the hard work that goes into investigating crimes, including evidence collection, forensic analysis, and even dangerous undercover work. As readers explore this high-interest topic, they are presented with additional information in the form of fact boxes, sidebars, and annotated quotes from respected sources. Full-color photographs and an eye-catching design bring readers behind the crime scene tape for a learning experience they won’t soon forget.","English",242.4,193.92,null,"104 pp.",{"$f":"Table1[[#This Row],['# of Books]]*Table1[[#This Row],[QTY]]","v":0},{"$f":"Table1[[#This Row],[QTY]]*Table1[[#This Row],[School & Library Price]]","v":0}]
[null,80,20,null,"Science & Technology","Crime Scene Investigations","Cybercrime: Using Computers as Weapons","978-1-5345-6091-8","Lucent Press","Library Bound Book",1,2018,"August 2017","Library","7.000 X 9.000","Author","Mike Sciandra",null,null,null,null,"Z",null,"Years 12 - 15","Grade 7","Grade 7 - 10","Computers can be powerful tools for creating positive change, but in the wrong hands, they can also be destructive weapons. Cybercrime is a growing field of criminal activity, and it is important for readers to know as much as possible about it to avoid becoming a victim. Readers learn valuable information through detailed main text, fact boxes, and helpful sidebars. They also discover what they can do now to prepare for an exciting career investigating cybercriminals. Full-color photographs are included to show readers the technological advances used to combat the many forms of cybercrime—from sextortion to cyberterrorism.","English",40.4,32.32,"364.16'8--dc23","104 pp.",{"$f":"Table1[[#This Row],['# of Books]]*Table1[[#This Row],[QTY]]","v":0},{"$f":"Table1[[#This Row],[QTY]]*Table1[[#This Row],[School & Library Price]]","v":0}]
[null,80,20,null,"Science & Technology","Crime Scene Investigations","Cybercrime: Using Computers as Weapons","978-1-5345-6092-5","Lucent Press","eBook",1,2018,"August 2017",null,null,"Author","Mike Sciandra",null,null,null,null,"Z",null,"Years 12 - 15","Grade 7","Grade 7 - 10","Computers can be powerful tools for creating positive change, but in the wrong hands, they can also be destructive weapons. Cybercrime is a growing field of criminal activity, and it is important for readers to know as much as possible about it to avoid becoming a victim. Readers learn valuable information through detailed main text, fact boxes, and helpful sidebars. They also discover what they can do now to prepare for an exciting career investigating cybercriminals. Full-color photographs are included to show readers the technological advances used to combat the many forms of cybercrime—from sextortion to cyberterrorism.","English",40.4,32.32,"364.16'8--dc23","104 pp.",{"$f":"Table1[[#This Row],['# of Books]]*Table1[[#This Row],[QTY]]","v":0},{"$f":"Table1[[#This Row],[QTY]]*Table1[[#This Row],[School & Library Price]]","v":0}]
[null,80,20,null,"Science & Technology","Crime Scene Investigations","Identity Theft in the 21st Century","978-1-5345-6083-3","Lucent Press","Library Bound Book",1,2018,"August 2017","Library","7.000 X 9.000","Author","Sarah Machajewski",null,null,null,null,"Z",null,"Years 12 - 15","Grade 7","Grade 7 - 10","Identity theft is sometimes considered a victimless crime, but readers will discover the truth about this damaging kind of crime as they learn about its history and the ways identity thieves work today. Essential facts about the methods identity thieves use—including stealing mail and hacking computers—are presented through comprehensive main text, comprehensive sidebars, and informative fact boxes. Readers also discover the ways the latest technology is used to find and stop identity thieves and how people can pursue a career in investigating identity theft. Detailed photographs are included to enhance this engaging reading experience.","English",40.4,32.32,"364.16'330973--dc23","104 pp.",{"$f":"Table1[[#This Row],['# of Books]]*Table1[[#This Row],[QTY]]","v":0},{"$f":"Table1[[#This Row],[QTY]]*Table1[[#This Row],[School & Library Price]]","v":0}]
[null,80,20,null,"Science & Technology","Crime Scene Investigations","Identity Theft in the 21st Century","978-1-5345-6084-0","Lucent Press","eBook",1,2018,"August 2017",null,null,"Author","Sarah Machajewski",null,null,null,null,"Z",null,"Years 12 - 15","Grade 7","Grade 7 - 10","Identity theft is sometimes considered a victimless crime, but readers will discover the truth about this damaging kind of crime as they learn about its history and the ways identity thieves work today. Essential facts about the methods identity thieves use—including stealing mail and hacking computers—are presented through comprehensive main text, comprehensive sidebars, and informative fact boxes. Readers also discover the ways the latest technology is used to find and stop identity thieves and how people can pursue a career in investigating identity theft. Detailed photographs are included to enhance this engaging reading experience.","English",40.4,32.32,"364.16'330973--dc23","104 pp.",{"$f":"Table1[[#This Row],['# of Books]]*Table1[[#This Row],[QTY]]","v":0},{"$f":"Table1[[#This Row],[QTY]]*Table1[[#This Row],[School & Library Price]]","v":0}]
[null,80,20,null,"Science & Technology","Crime Scene Investigations","The John F. Kennedy Assassination: The Shooting That Shook America","978-1-5345-6087-1","Lucent Press","Library Bound Book",1,2018,"August 2017","Library","7.000 X 9.000","Author","Joseph Stanley",null,null,null,null,"Z",null,"Years 12 - 15","Grade 7","Grade 7 - 10","The assassination of President John F. Kennedy was a horrific event that stunned the world and left Americans deeply shaken. There are many conspiracy theories surrounding this crime and its aftermath, but readers will discover the facts as they take a closer look at the shooting and the events that followed with the help of fact boxes, detailed sidebars, and primary source photographs. Essential historical information is presented in an engaging way, as common facts taught in history classes share space with gripping details of the investigation of one of the most infamous crimes of the 20th century.","English",40.4,32.32,"973.922092--dc23","112 pp.",{"$f":"Table1[[#This Row],['# of Books]]*Table1[[#This Row],[QTY]]","v":0},{"$f":"Table1[[#This Row],[QTY]]*Table1[[#This Row],[School & Library Price]]","v":0}]
[null,80,20,null,"Science & Technology","Crime Scene Investigations","The John F. Kennedy Assassination: The Shooting That Shook America","978-1-5345-6088-8","Lucent Press","eBook",1,2018,"August 2017",null,null,"Author","Joseph Stanley",null,null,null,null,"Z",null,"Years 12 - 15","Grade 7","Grade 7 - 10","The assassination of President John F. Kennedy was a horrific event that stunned the world and left Americans deeply shaken. There are many conspiracy theories surrounding this crime and its aftermath, but readers will discover the facts as they take a closer look at the shooting and the events that followed with the help of fact boxes, detailed sidebars, and primary source photographs. Essential historical information is presented in an engaging way, as common facts taught in history classes share space with gripping details of the investigation of one of the most infamous crimes of the 20th century.","English",40.4,32.32,"973.922092--dc23","112 pp.",{"$f":"Table1[[#This Row],['# of Books]]*Table1[[#This Row],[QTY]]","v":0},{"$f":"Table1[[#This Row],[QTY]]*Table1[[#This Row],[School & Library Price]]","v":0}]
[null,80,20,null,"Science & Technology","Crime Scene Investigations","The Zodiac Killer: Terror in California","978-1-5345-6085-7","Lucent Press","Library Bound Book",1,2018,"August 2017","Library","7.000 X 9.000","Author","Kate Rogers",null,null,null,null,"Z",null,"Years 12 - 15","Grade 7","Grade 7 - 10","Who was the Zodiac Killer who terrorized residents of California during the 1960s and 1970s? The answer is still unknown. Readers take an in-depth look at the investigation that continues to fascinate Americans, discovering the details of the crimes and the search for the person who committed them. Additional information is presented through engaging sidebars and eye-catching fact boxes. Historical and contemporary photographs, including primary source images, help readers place themselves in the middle of one of the most famous unsolved mysteries in American history.","English",40.4,32.32,"364.152’30973--dc23","112 pp.",{"$f":"Table1[[#This Row],['# of Books]]*Table1[[#This Row],[QTY]]","v":0},{"$f":"Table1[[#This Row],[QTY]]*Table1[[#This Row],[School & Library Price]]","v":0}]
[null,80,20,null,"Science & Technology","Crime Scene Investigations","The Zodiac Killer: Terror in California","978-1-5345-6086-4","Lucent Press","eBook",1,2018,"August 2017",null,null,"Author","Kate Rogers",null,null,null,null,"Z",null,"Years 12 - 15","Grade 7","Grade 7 - 10","Who was the Zodiac Killer who terrorized residents of California during the 1960s and 1970s? The answer is still unknown. Readers take an in-depth look at the investigation that continues to fascinate Americans, discovering the details of the crimes and the search for the person who committed them. Additional information is presented through engaging sidebars and eye-catching fact boxes. Historical and contemporary photographs, including primary source images, help readers place themselves in the middle of one of the most famous unsolved mysteries in American history.","English",40.4,32.32,"364.152’30973--dc23","112 pp.",{"$f":"Table1[[#This Row],['# of Books]]*Table1[[#This Row],[QTY]]","v":0},{"$f":"Table1[[#This Row],[QTY]]*Table1[[#This Row],[School & Library Price]]","v":0}]
[null,80,20,null,"Science & Technology","Crime Scene Investigations","Tracking Serial Killers: How to Catch a Murderer","978-1-5345-6089-5","Lucent Press","Library Bound Book",1,2018,"August 2017","Library","7.000 X 9.000","Author","Christine Honders",null,null,null,null,"Z",null,"Years 12 - 15","Grade 7","Grade 7 - 10","Tracking serial killers is a difficult job, but the men and women who do it help put brutal murderers in jail. As readers explore gripping main text, detailed photographs, and informative fact boxes and sidebars, they discover how the methods used to track serial killers have changed throughout history. They also discover the importance of science and technology in this line of work. Readers interested in pursuing a career in this kind of crime scene investigation are presented with valuable information to help them begin preparing now for such a challenging career path.","English",40.4,32.32,"363.25'9523--dc23","104 pp.",{"$f":"Table1[[#This Row],['# of Books]]*Table1[[#This Row],[QTY]]","v":0},{"$f":"Table1[[#This Row],[QTY]]*Table1[[#This Row],[School & Library Price]]","v":0}]
[null,80,20,null,"Science & Technology","Crime Scene Investigations","Tracking Serial Killers: How to Catch a Murderer","978-1-5345-6090-1","Lucent Press","eBook",1,2018,"August 2017",null,null,"Author","Christine Honders",null,null,null,null,"Z",null,"Years 12 - 15","Grade 7","Grade 7 - 10","Tracking serial killers is a difficult job, but the men and women who do it help put brutal murderers in jail. As readers explore gripping main text, detailed photographs, and informative fact boxes and sidebars, they discover how the methods used to track serial killers have changed throughout history. They also discover the importance of science and technology in this line of work. Readers interested in pursuing a career in this kind of crime scene investigation are presented with valuable information to help them begin preparing now for such a challenging career path.","English",40.4,32.32,"363.25'9523--dc23","104 pp.",{"$f":"Table1[[#This Row],['# of Books]]*Table1[[#This Row],[QTY]]","v":0},{"$f":"Table1[[#This Row],[QTY]]*Table1[[#This Row],[School & Library Price]]","v":0}]
[null,80,20,null,"Science & Technology","Crime Scene Investigations","Undercover Operations: Investigating Crimes from the Inside","978-1-5345-6093-2","Lucent Press","Library Bound Book",1,2018,"August 2017","Library","7.000 X 9.000","Author","Edna McPhee",null,null,null,null,"Z",null,"Years 12 - 15","Grade 7","Grade 7 - 10","Undercover operations are valuable ways for law enforcement agencies to gain information and investigate crimes from inside the worlds criminals inhabit. These operations can be dangerous, and readers learn about the risks inherent in this line of work as they explore the fascinating history of undercover operations. Enlightening sidebars, informative fact boxes, and detailed photographs provide readers with additional information, including tips for preparing for a career that could involve undercover work. Readers are also introduced to fascinating facts about the technology used in undercover operations and how that technology has changed over time.","English",40.4,32.32,"327.12--dc23","104 pp.",{"$f":"Table1[[#This Row],['# of Books]]*Table1[[#This Row],[QTY]]","v":0},{"$f":"Table1[[#This Row],[QTY]]*Table1[[#This Row],[School & Library Price]]","v":0}]
[null,80,20,null,"Science & Technology","Crime Scene Investigations","Undercover Operations: Investigating Crimes from the Inside","978-1-5345-6094-9","Lucent Press","eBook",1,2018,"August 2017",null,null,"Author","Edna McPhee",null,null,null,null,"Z",null,"Years 12 - 15","Grade 7","Grade 7 - 10","Undercover operations are valuable ways for law enforcement agencies to gain information and investigate crimes from inside the worlds criminals inhabit. These operations can be dangerous, and readers learn about the risks inherent in this line of work as they explore the fascinating history of undercover operations. Enlightening sidebars, informative fact boxes, and detailed photographs provide readers with additional information, including tips for preparing for a career that could involve undercover work. Readers are also introduced to fascinating facts about the technology used in undercover operations and how that technology has changed over time.","English",40.4,32.32,"327.12--dc23","104 pp.",{"$f":"Table1[[#This Row],['# of Books]]*Table1[[#This Row],[QTY]]","v":0},{"$f":"Table1[[#This Row],[QTY]]*Table1[[#This Row],[School & Library Price]]","v":0}]
[null,null,21,null,"Science & Technology","Robot Pioneers","Robot Pioneers","978-1-5345-6257-8","Lucent Press","Library Set",6,2018,"January 2018",null,"7.250 X 9.250"," "," ",null,null,null,null,null,null,"Years 10 - 13","Grade 5 - 6","Grade 5 - 8","Robots are used in many fieldsﾗfrom medicine to law enforcement. Readers explore the history of robotics in these fields through detailed main text and informative fact boxes. Vibrant, full-color photographs depict these technological marvels, and the creative, immersive design of each volume captivates readers. In todayﾒs world, robots can be found in places as different as factories, war zones, and even space. What do these robots do, and what technological advances are being made to allow them to do even more in the future? The answers to these questions and more are waiting for readers to discover.\n\nFeatures include: Discussion questions are posed to readers to encourage them to think critically about the benefits and dangers of technology such as artificial intelligence. High-interest topic presents STEM (science, technology, engineering, and math) concepts to readers in an exciting way. Accessible text explains challenging robotics concepts using language that is easy for readers to understand.","English",200.7,160.56,null,"64 pp.",{"$f":"Table1[[#This Row],['# of Books]]*Table1[[#This Row],[QTY]]","v":0},{"$f":"Table1[[#This Row],[QTY]]*Table1[[#This Row],[School & Library Price]]","v":0}]
[null,null,21,null,"Science & Technology","Robot Pioneers","Robot Pioneers","978-1-5345-6321-6","Lucent Press","Single Copy Set",6,2018,"January 2018",null,"7.250 X 9.250"," "," ",null,null,null,null,null,null,"Years 10 - 13","Grade 5 - 6","Grade 5 - 8","Robots are used in many fieldsﾗfrom medicine to law enforcement. Readers explore the history of robotics in these fields through detailed main text and informative fact boxes. Vibrant, full-color photographs depict these technological marvels, and the creative, immersive design of each volume captivates readers. In todayﾒs world, robots can be found in places as different as factories, war zones, and even space. What do these robots do, and what technological advances are being made to allow them to do even more in the future? The answers to these questions and more are waiting for readers to discover.\n\nFeatures include: Discussion questions are posed to readers to encourage them to think critically about the benefits and dangers of technology such as artificial intelligence. High-interest topic presents STEM (science, technology, engineering, and math) concepts to readers in an exciting way. Accessible text explains challenging robotics concepts using language that is easy for readers to understand.","English",91.68,77.94,null,"64 pp.",{"$f":"Table1[[#This Row],['# of Books]]*Table1[[#This Row],[QTY]]","v":0},{"$f":"Table1[[#This Row],[QTY]]*Table1[[#This Row],[School & Library Price]]","v":0}]
[null,null,21,null,"Science & Technology","Robot Pioneers","Robotics in Industry","978-1-5345-6219-6","Lucent Press","Library Bound Book",1,2018,"January 2018","Library","7.250 X 9.250","Author","Claudia Martin",null,null,null,null,"W",null,"Years 10 - 13","Grade 5 - 6","Grade 5 - 8","The history of robots in the industrial world is filled with technological advances and pioneering engineers. These captivating stories are presented to readers through detailed main text and additional fact boxes, creating a comprehensive picture of how robots have influenced industries for long periods of time. Colorful photographs fill each page, captivating readers and providing detailed examples of industrial robots. Readers interested in science, technology, engineering, and math, collectively known as STEM, will enjoy this inside look at robotics in the world around us.","English",33.450000000000003,26.76,"670.42'72--dc23","64 pp.",{"$f":"Table1[[#This Row],['# of Books]]*Table1[[#This Row],[QTY]]","v":0},{"$f":"Table1[[#This Row],[QTY]]*Table1[[#This Row],[School & Library Price]]","v":0}]
[null,null,21,null,"Science & Technology","Robot Pioneers","Robotics in Industry","978-1-5345-6220-2","Lucent Press","eBook",1,2018,"January 2018",null,null,"Author","Claudia Martin",null,null,null,null,"W",null,"Years 10 - 13","Grade 5 - 6","Grade 5 - 8","The history of robots in the industrial world is filled with technological advances and pioneering engineers. These captivating stories are presented to readers through detailed main text and additional fact boxes, creating a comprehensive picture of how robots have influenced industries for long periods of time. Colorful photographs fill each page, captivating readers and providing detailed examples of industrial robots. Readers interested in science, technology, engineering, and math, collectively known as STEM, will enjoy this inside look at robotics in the world around us.","English",33.450000000000003,26.76,"670.42'72--dc23","64 pp.",{"$f":"Table1[[#This Row],['# of Books]]*Table1[[#This Row],[QTY]]","v":0},{"$f":"Table1[[#This Row],[QTY]]*Table1[[#This Row],[School & Library Price]]","v":0}]
[null,null,21,null,"Science & Technology","Robot Pioneers","Robotics in Industry","978-1-5345-6300-1","Lucent Press","Paperback Book",1,2018,"January 2018","Paperback","7.250 X 9.250","Author","Claudia Martin",null,null,null,null,"W",null,"Years 10 - 13","Grade 5 - 6","Grade 5 - 8","The history of robots in the industrial world is filled with technological advances and pioneering engineers. These captivating stories are presented to readers through detailed main text and additional fact boxes, creating a comprehensive picture of how robots have influenced industries for long periods of time. Colorful photographs fill each page, captivating readers and providing detailed examples of industrial robots. Readers interested in science, technology, engineering, and math, collectively known as STEM, will enjoy this inside look at robotics in the world around us.","English",15.28,12.99,"670.42'72--dc23","64 pp.",{"$f":"Table1[[#This Row],['# of Books]]*Table1[[#This Row],[QTY]]","v":0},{"$f":"Table1[[#This Row],[QTY]]*Table1[[#This Row],[School & Library Price]]","v":0}]
[null,null,21,null,"Science & Technology","Robot Pioneers","Robotics in Law Enforcement","978-1-5345-6215-8","Lucent Press","Library Bound Book",1,2018,"January 2018","Library","7.250 X 9.250","Author","Claudia Martin",null,null,null,null,"W",null,"Years 10 - 13","Grade 5 - 6","Grade 5 - 8","Law enforcement officers keep people safe, and robots are sometimes used to keep these officers safe. As readers learn about the many ways robots are used to help in the field of law enforcement, they are introduced to exciting ways science, technology, engineering, and math, also known as STEM, are being used in the world around them. Through informative text and eye-catching fact boxes, they explore the evolution of robots in this important field, with detailed photographs helping them visualize the technology they are reading about.","English",33.450000000000003,26.76,"629.8'92--dc23","64 pp.",{"$f":"Table1[[#This Row],['# of Books]]*Table1[[#This Row],[QTY]]","v":0},{"$f":"Table1[[#This Row],[QTY]]*Table1[[#This Row],[School & Library Price]]","v":0}]
[null,null,21,null,"Science & Technology","Robot Pioneers","Robotics in Law Enforcement","978-1-5345-6216-5","Lucent Press","eBook",1,2018,"January 2018",null,null,"Author","Claudia Martin",null,null,null,null,"W",null,"Years 10 - 13","Grade 5 - 6","Grade 5 - 8","Law enforcement officers keep people safe, and robots are sometimes used to keep these officers safe. As readers learn about the many ways robots are used to help in the field of law enforcement, they are introduced to exciting ways science, technology, engineering, and math, also known as STEM, are being used in the world around them. Through informative text and eye-catching fact boxes, they explore the evolution of robots in this important field, with detailed photographs helping them visualize the technology they are reading about.","English",33.450000000000003,26.76,"629.8'92--dc23","64 pp.",{"$f":"Table1[[#This Row],['# of Books]]*Table1[[#This Row],[QTY]]","v":0},{"$f":"Table1[[#This Row],[QTY]]*Table1[[#This Row],[School & Library Price]]","v":0}]
[null,null,21,null,"Science & Technology","Robot Pioneers","Robotics in Law Enforcement","978-1-5345-6301-8","Lucent Press","Paperback Book",1,2018,"January 2018","Paperback","7.250 X 9.250","Author","Claudia Martin",null,null,null,null,"W",null,"Years 10 - 13","Grade 5 - 6","Grade 5 - 8","Law enforcement officers keep people safe, and robots are sometimes used to keep these officers safe. As readers learn about the many ways robots are used to help in the field of law enforcement, they are introduced to exciting ways science, technology, engineering, and math, also known as STEM, are being used in the world around them. Through informative text and eye-catching fact boxes, they explore the evolution of robots in this important field, with detailed photographs helping them visualize the technology they are reading about.","English",15.28,12.99,"629.8'92--dc23","64 pp.",{"$f":"Table1[[#This Row],['# of Books]]*Table1[[#This Row],[QTY]]","v":0},{"$f":"Table1[[#This Row],[QTY]]*Table1[[#This Row],[School & Library Price]]","v":0}]
[null,null,21,null,"Science & Technology","Robot Pioneers","Robotics in Medicine","978-1-5345-6209-7","Lucent Press","Library Bound Book",1,2018,"January 2018","Library","7.250 X 9.250","Author","Robyn Hardyman",null,null,null,null,"W",null,"Years 10 - 13","Grade 5 - 6","Grade 5 - 8","Robot doctors may seem to be something out of a science fiction film, but it's not that unlikely a concept anymore. In fact, robots are being used in hospitals around the world for important tasks, especially surgeries. Readers discover the rich history of robots in medicine through detailed main text and enlightening fact boxes. Vibrant, full-color photographs accompany the informative text, creating an immersive reading experience sure to captivate readers with a passion for STEM, science, technology, engineering, and math.","English",33.450000000000003,26.76,"610.285'63--dc23","64 pp.",{"$f":"Table1[[#This Row],['# of Books]]*Table1[[#This Row],[QTY]]","v":0},{"$f":"Table1[[#This Row],[QTY]]*Table1[[#This Row],[School & Library Price]]","v":0}]
[null,null,21,null,"Science & Technology","Robot Pioneers","Robotics in Medicine","978-1-5345-6210-3","Lucent Press","eBook",1,2018,"January 2018",null,null,"Author","Robyn Hardyman",null,null,null,null,"W",null,"Years 10 - 13","Grade 5 - 6","Grade 5 - 8","Robot doctors may seem to be something out of a science fiction film, but it's not that unlikely a concept anymore. In fact, robots are being used in hospitals around the world for important tasks, especially surgeries. Readers discover the rich history of robots in medicine through detailed main text and enlightening fact boxes. Vibrant, full-color photographs accompany the informative text, creating an immersive reading experience sure to captivate readers with a passion for STEM, science, technology, engineering, and math.","English",33.450000000000003,26.76,"610.285'63--dc23","64 pp.",{"$f":"Table1[[#This Row],['# of Books]]*Table1[[#This Row],[QTY]]","v":0},{"$f":"Table1[[#This Row],[QTY]]*Table1[[#This Row],[School & Library Price]]","v":0}]
[null,null,21,null,"Science & Technology","Robot Pioneers","Robotics in Medicine","978-1-5345-6302-5","Lucent Press","Paperback Book",1,2018,"January 2018","Paperback","7.250 X 9.250","Author","Robyn Hardyman",null,null,null,null,"W",null,"Years 10 - 13","Grade 5 - 6","Grade 5 - 8","Robot doctors may seem to be something out of a science fiction film, but it's not that unlikely a concept anymore. In fact, robots are being used in hospitals around the world for important tasks, especially surgeries. Readers discover the rich history of robots in medicine through detailed main text and enlightening fact boxes. Vibrant, full-color photographs accompany the informative text, creating an immersive reading experience sure to captivate readers with a passion for STEM, science, technology, engineering, and math.","English",15.28,12.99,"610.285'63--dc23","64 pp.",{"$f":"Table1[[#This Row],['# of Books]]*Table1[[#This Row],[QTY]]","v":0},{"$f":"Table1[[#This Row],[QTY]]*Table1[[#This Row],[School & Library Price]]","v":0}]
[null,null,21,null,"Science & Technology","Robot Pioneers","Robotics in Nature","978-1-5345-6217-2","Lucent Press","Library Bound Book",1,2018,"January 2018","Library","7.250 X 9.250","Author","Claudia Martin",null,null,null,null,"W",null,"Years 10 - 13","Grade 5 - 6","Grade 5 - 8","How are robots used in nature? Readers discover the answer to this question as they examine the complex relationship between technology and the natural world. This and other aspects of STEM, science, technology, engineering, and math, are presented to readers through clear, informative text that aims to make challenging concepts easier to understand. Fact boxes provide readers with additional information, and vivid photographs keep and hold readers' interest with each turn of the page.","English",33.450000000000003,26.76,"629.8'92--dc23","64 pp.",{"$f":"Table1[[#This Row],['# of Books]]*Table1[[#This Row],[QTY]]","v":0},{"$f":"Table1[[#This Row],[QTY]]*Table1[[#This Row],[School & Library Price]]","v":0}]
[null,null,21,null,"Science & Technology","Robot Pioneers","Robotics in Nature","978-1-5345-6218-9","Lucent Press","eBook",1,2018,"January 2018",null,null,"Author","Claudia Martin",null,null,null,null,"W",null,"Years 10 - 13","Grade 5 - 6","Grade 5 - 8","How are robots used in nature? Readers discover the answer to this question as they examine the complex relationship between technology and the natural world. This and other aspects of STEM, science, technology, engineering, and math, are presented to readers through clear, informative text that aims to make challenging concepts easier to understand. Fact boxes provide readers with additional information, and vivid photographs keep and hold readers' interest with each turn of the page.","English",33.450000000000003,26.76,"629.8'92--dc23","64 pp.",{"$f":"Table1[[#This Row],['# of Books]]*Table1[[#This Row],[QTY]]","v":0},{"$f":"Table1[[#This Row],[QTY]]*Table1[[#This Row],[School & Library Price]]","v":0}]
[null,null,21,null,"Science & Technology","Robot Pioneers","Robotics in Nature","978-1-5345-6303-2","Lucent Press","Paperback Book",1,2018,"January 2018","Paperback","7.250 X 9.250","Author","Claudia Martin",null,null,null,null,"W",null,"Years 10 - 13","Grade 5 - 6","Grade 5 - 8","How are robots used in nature? Readers discover the answer to this question as they examine the complex relationship between technology and the natural world. This and other aspects of STEM, science, technology, engineering, and math, are presented to readers through clear, informative text that aims to make challenging concepts easier to understand. Fact boxes provide readers with additional information, and vivid photographs keep and hold readers' interest with each turn of the page.","English",15.28,12.99,"629.8'92--dc23","64 pp.",{"$f":"Table1[[#This Row],['# of Books]]*Table1[[#This Row],[QTY]]","v":0},{"$f":"Table1[[#This Row],[QTY]]*Table1[[#This Row],[School & Library Price]]","v":0}]
[null,null,21,null,"Science & Technology","Robot Pioneers","Robotics in Space","978-1-5345-6213-4","Lucent Press","Library Bound Book",1,2018,"January 2018","Library","7.250 X 9.250","Author","Robert Snedden",null,null,null,null,"W",null,"Years 10 - 13","Grade 5 - 6","Grade 5 - 8","Space exploration and robotics are both exciting scientific frontiers, and readers discover the many ways they intersect as they explore the history of robots in space. The accessible text presents STEM, science, technology, engineering, and math, concepts in a clear way. Fact boxes are also included to provide additional insight into the role robots have played in the evolution of space exploration. As readers take in the compelling text and vibrant photographs, they will be transported on a journey into space that they won't soon forget.","English",33.450000000000003,26.76,"629.43--dc23","64 pp.",{"$f":"Table1[[#This Row],['# of Books]]*Table1[[#This Row],[QTY]]","v":0},{"$f":"Table1[[#This Row],[QTY]]*Table1[[#This Row],[School & Library Price]]","v":0}]
[null,null,21,null,"Science & Technology","Robot Pioneers","Robotics in Space","978-1-5345-6214-1","Lucent Press","eBook",1,2018,"January 2018",null,null,"Author","Robert Snedden",null,null,null,null,"W",null,"Years 10 - 13","Grade 5 - 6","Grade 5 - 8","Space exploration and robotics are both exciting scientific frontiers, and readers discover the many ways they intersect as they explore the history of robots in space. The accessible text presents STEM, science, technology, engineering, and math, concepts in a clear way. Fact boxes are also included to provide additional insight into the role robots have played in the evolution of space exploration. As readers take in the compelling text and vibrant photographs, they will be transported on a journey into space that they won't soon forget.","English",33.450000000000003,26.76,"629.43--dc23","64 pp.",{"$f":"Table1[[#This Row],['# of Books]]*Table1[[#This Row],[QTY]]","v":0},{"$f":"Table1[[#This Row],[QTY]]*Table1[[#This Row],[School & Library Price]]","v":0}]
[null,null,21,null,"Science & Technology","Robot Pioneers","Robotics in Space","978-1-5345-6304-9","Lucent Press","Paperback Book",1,2018,"January 2018","Paperback","7.250 X 9.250","Author","Robert Snedden",null,null,null,null,"W",null,"Years 10 - 13","Grade 5 - 6","Grade 5 - 8","Space exploration and robotics are both exciting scientific frontiers, and readers discover the many ways they intersect as they explore the history of robots in space. The accessible text presents STEM, science, technology, engineering, and math, concepts in a clear way. Fact boxes are also included to provide additional insight into the role robots have played in the evolution of space exploration. As readers take in the compelling text and vibrant photographs, they will be transported on a journey into space that they won't soon forget.","English",15.28,12.99,"629.43--dc23","64 pp.",{"$f":"Table1[[#This Row],['# of Books]]*Table1[[#This Row],[QTY]]","v":0},{"$f":"Table1[[#This Row],[QTY]]*Table1[[#This Row],[School & Library Price]]","v":0}]
[null,null,21,null,"Science & Technology","Robot Pioneers","Robotics in the Military","978-1-5345-6211-0","Lucent Press","Library Bound Book",1,2018,"January 2018","Library","7.250 X 9.250","Author","Robert Snedden",null,null,null,null,"W",null,"Years 10 - 13","Grade 5 - 6","Grade 5 - 8","An entire robot army does not exist, but robots are being used more frequently by militaries around the world to keep soldiers out of harm's way. Readers learn this and other fascinating facts about robots in the military thanks to engaging text that is enhanced by informative fact boxes. Visual examples of the kinds of robots employed by the military are included in the form of captivating, full-color photographs. The eye-catching design and exciting text show readers that learning about STEM, science, technology, engineering, and math, can be fun.","English",33.450000000000003,26.76,"623--dc23","64 pp.",{"$f":"Table1[[#This Row],['# of Books]]*Table1[[#This Row],[QTY]]","v":0},{"$f":"Table1[[#This Row],[QTY]]*Table1[[#This Row],[School & Library Price]]","v":0}]
[null,null,21,null,"Science & Technology","Robot Pioneers","Robotics in the Military","978-1-5345-6212-7","Lucent Press","eBook",1,2018,"January 2018",null,null,"Author","Robert Snedden",null,null,null,null,"W",null,"Years 10 - 13","Grade 5 - 6","Grade 5 - 8","An entire robot army does not exist, but robots are being used more frequently by militaries around the world to keep soldiers out of harm's way. Readers learn this and other fascinating facts about robots in the military thanks to engaging text that is enhanced by informative fact boxes. Visual examples of the kinds of robots employed by the military are included in the form of captivating, full-color photographs. The eye-catching design and exciting text show readers that learning about STEM, science, technology, engineering, and math, can be fun.","English",33.450000000000003,26.76,"623--dc23","64 pp.",{"$f":"Table1[[#This Row],['# of Books]]*Table1[[#This Row],[QTY]]","v":0},{"$f":"Table1[[#This Row],[QTY]]*Table1[[#This Row],[School & Library Price]]","v":0}]
[null,null,21,null,"Science & Technology","Robot Pioneers","Robotics in the Military","978-1-5345-6305-6","Lucent Press","Paperback Book",1,2018,"January 2018","Paperback","7.250 X 9.250","Author","Robert Snedden",null,null,null,null,"W",null,"Years 10 - 13","Grade 5 - 6","Grade 5 - 8","An entire robot army does not exist, but robots are being used more frequently by militaries around the world to keep soldiers out of harm's way. Readers learn this and other fascinating facts about robots in the military thanks to engaging text that is enhanced by informative fact boxes. Visual examples of the kinds of robots employed by the military are included in the form of captivating, full-color photographs. The eye-catching design and exciting text show readers that learning about STEM, science, technology, engineering, and math, can be fun.","English",15.28,12.99,"623--dc23","64 pp.",{"$f":"Table1[[#This Row],['# of Books]]*Table1[[#This Row],[QTY]]","v":0},{"$f":"Table1[[#This Row],[QTY]]*Table1[[#This Row],[School & Library Price]]","v":0}]
[null,null,22,null,"U.S. History","Crossing the Border","Crossing the Border","978-1-5345-6254-7","Lucent Press","Library Set",6,2018,"January 2018",null,"7.250 X 9.250"," "," ",null,null,null,null,null,null,"Years 11 - 13","Grade 6 - 7","Grade 6 - 8","Immigration issues are an important topic in the United States. Terms such as \"border security,\" \"illegal immigrants,\" and \"deportation,\" are often said on news programs and written about in newspapers and online, but what do those terms really mean? How does the U.S. immigration policy and citizenship process affect real people? Readers explore the answers to these questions and many more as they are introduced to essential immigration topics. Important facts about past and present immigration policies are presented through engaging main text and sidebars. The colorful and creative design of each volume includes detailed photographs.\n\nFeatures include: Topic enriches common social studies curricula and allows readers to educate themselves about issues that are often in the news. Fact-filled text encourages readers to learn as much as they can about hot-button issues before making an informed opinion on current events. True stories of immigrants are included to provide real-world examples of the topics discussed in each volume.","English",200.7,160.56,null,"64 pp.",{"$f":"Table1[[#This Row],['# of Books]]*Table1[[#This Row],[QTY]]","v":0},{"$f":"Table1[[#This Row],[QTY]]*Table1[[#This Row],[School & Library Price]]","v":0}]
[null,null,22,null,"U.S. History","Crossing the Border","Crossing the Border","978-1-5345-6318-9","Lucent Press","Single Copy Set",6,2018,"January 2018",null,"7.250 X 9.250"," "," ",null,null,null,null,null,null,"Years 11 - 13","Grade 6 - 7","Grade 6 - 8","Immigration issues are an important topic in the United States. Terms such as \"border security,\" \"illegal immigrants,\" and \"deportation,\" are often said on news programs and written about in newspapers and online, but what do those terms really mean? How does the U.S. immigration policy and citizenship process affect real people? Readers explore the answers to these questions and many more as they are introduced to essential immigration topics. Important facts about past and present immigration policies are presented through engaging main text and sidebars. The colorful and creative design of each volume includes detailed photographs.\n\nFeatures include: Topic enriches common social studies curricula and allows readers to educate themselves about issues that are often in the news. Fact-filled text encourages readers to learn as much as they can about hot-button issues before making an informed opinion on current events. True stories of immigrants are included to provide real-world examples of the topics discussed in each volume.","English",91.68,77.94,null,"64 pp.",{"$f":"Table1[[#This Row],['# of Books]]*Table1[[#This Row],[QTY]]","v":0},{"$f":"Table1[[#This Row],[QTY]]*Table1[[#This Row],[School & Library Price]]","v":0}]
[null,null,22,null,"U.S. History","Crossing the Border","Becoming a U.S. Citizen","978-1-5345-6227-1","Lucent Press","Library Bound Book",1,2018,"January 2018","Library","7.250 X 9.250","Author","Cathleen Small",null,null,null,null,"X",null,"Years 11 - 13","Grade 6 - 7","Grade 6 - 8","Becoming a U.S. citizen is not easy, but it is very rewarding for those who choose to go through the process. What exactly does that process entail? Readers learn the answer as they explore what immigrants must go through in order to become full citizens. The fact-filled text enhances social studies curriculum topics, and sidebars provide additional information about the citizenship process. Colorful photographs of people working toward becoming U.S. citizens are included to create a relatable and engaging learning experience.","English",33.450000000000003,26.76,"342.7308'3--dc23","64 pp.",{"$f":"Table1[[#This Row],['# of Books]]*Table1[[#This Row],[QTY]]","v":0},{"$f":"Table1[[#This Row],[QTY]]*Table1[[#This Row],[School & Library Price]]","v":0}]
[null,null,22,null,"U.S. History","Crossing the Border","Becoming a U.S. Citizen","978-1-5345-6228-8","Lucent Press","eBook",1,2018,"January 2018",null,null,"Author","Cathleen Small",null,null,null,null,"X",null,"Years 11 - 13","Grade 6 - 7","Grade 6 - 8","Becoming a U.S. citizen is not easy, but it is very rewarding for those who choose to go through the process. What exactly does that process entail? Readers learn the answer as they explore what immigrants must go through in order to become full citizens. The fact-filled text enhances social studies curriculum topics, and sidebars provide additional information about the citizenship process. Colorful photographs of people working toward becoming U.S. citizens are included to create a relatable and engaging learning experience.","English",33.450000000000003,26.76,"342.7308'3--dc23","64 pp.",{"$f":"Table1[[#This Row],['# of Books]]*Table1[[#This Row],[QTY]]","v":0},{"$f":"Table1[[#This Row],[QTY]]*Table1[[#This Row],[School & Library Price]]","v":0}]
[null,null,22,null,"U.S. History","Crossing the Border","Becoming a U.S. Citizen","978-1-5345-6276-9","Lucent Press","Paperback Book",1,2018,"January 2018","Paperback","7.250 X 9.250","Author","Cathleen Small",null,null,null,null,"X",null,"Years 11 - 13","Grade 6 - 7","Grade 6 - 8","Becoming a U.S. citizen is not easy, but it is very rewarding for those who choose to go through the process. What exactly does that process entail? Readers learn the answer as they explore what immigrants must go through in order to become full citizens. The fact-filled text enhances social studies curriculum topics, and sidebars provide additional information about the citizenship process. Colorful photographs of people working toward becoming U.S. citizens are included to create a relatable and engaging learning experience.","English",15.28,12.99,"342.7308'3--dc23","64 pp.",{"$f":"Table1[[#This Row],['# of Books]]*Table1[[#This Row],[QTY]]","v":0},{"$f":"Table1[[#This Row],[QTY]]*Table1[[#This Row],[School & Library Price]]","v":0}]
[null,null,22,null,"U.S. History","Crossing the Border","Deportation","978-1-5345-6225-7","Lucent Press","Library Bound Book",1,2018,"January 2018","Library","7.250 X 9.250","Author","Cathleen Small",null,null,null,null,"X",null,"Years 11 - 13","Grade 6 - 7","Grade 6 - 8","Deportation can be a frightening concept, especially for immigrants or people whose friends or relatives are from another country. Why do people get deported, and what happens to them after the deportation decision is made? The answers to these questions and more are found in this thorough examination of a topic that is often in the news. Comprehensive text and fact-filled sidebars, and vivid photographs enhance the reading experience.","English",33.450000000000003,26.76,"364.1'37--dc23","64 pp.",{"$f":"Table1[[#This Row],['# of Books]]*Table1[[#This Row],[QTY]]","v":0},{"$f":"Table1[[#This Row],[QTY]]*Table1[[#This Row],[School & Library Price]]","v":0}]
[null,null,22,null,"U.S. History","Crossing the Border","Deportation","978-1-5345-6226-4","Lucent Press","eBook",1,2018,"January 2018",null,null,"Author","Cathleen Small",null,null,null,null,"X",null,"Years 11 - 13","Grade 6 - 7","Grade 6 - 8","Deportation can be a frightening concept, especially for immigrants or people whose friends or relatives are from another country. Why do people get deported, and what happens to them after the deportation decision is made? The answers to these questions and more are found in this thorough examination of a topic that is often in the news. Comprehensive text and fact-filled sidebars, and vivid photographs enhance the reading experience.","English",33.450000000000003,26.76,"364.1'37--dc23","64 pp.",{"$f":"Table1[[#This Row],['# of Books]]*Table1[[#This Row],[QTY]]","v":0},{"$f":"Table1[[#This Row],[QTY]]*Table1[[#This Row],[School & Library Price]]","v":0}]
[null,null,22,null,"U.S. History","Crossing the Border","Deportation","978-1-5345-6277-6","Lucent Press","Paperback Book",1,2018,"January 2018","Paperback","7.250 X 9.250","Author","Cathleen Small",null,null,null,null,"X",null,"Years 11 - 13","Grade 6 - 7","Grade 6 - 8","Deportation can be a frightening concept, especially for immigrants or people whose friends or relatives are from another country. Why do people get deported, and what happens to them after the deportation decision is made? The answers to these questions and more are found in this thorough examination of a topic that is often in the news. Comprehensive text and fact-filled sidebars, and vivid photographs enhance the reading experience.","English",15.28,12.99,"364.1'37--dc23","64 pp.",{"$f":"Table1[[#This Row],['# of Books]]*Table1[[#This Row],[QTY]]","v":0},{"$f":"Table1[[#This Row],[QTY]]*Table1[[#This Row],[School & Library Price]]","v":0}]
[null,null,22,null,"U.S. History","Crossing the Border","Undocumented Immigrants","978-1-5345-6223-3","Lucent Press","Library Bound Book",1,2018,"January 2018","Library","7.250 X 9.250","Author","Cathleen Small",null,null,null,null,"X",null,"Years 11 - 13","Grade 6 - 7","Grade 6 - 8","Who are undocumented immigrants? What happens to undocumented immigrants after they are discovered in the United States? These questions and more are answered by this comprehensive look at a hot topic that is often debated on news programs and online. The accessible, objective text and full-color photographs give readers a balanced look at this complicated issue, and detailed sidebars provide additional information. Readers will benefit from having their critical-thinking skills strengthened as they examine this challenging issue.","English",33.450000000000003,26.76,"364.1'37--dc23","64 pp.",{"$f":"Table1[[#This Row],['# of Books]]*Table1[[#This Row],[QTY]]","v":0},{"$f":"Table1[[#This Row],[QTY]]*Table1[[#This Row],[School & Library Price]]","v":0}]
[null,null,22,null,"U.S. History","Crossing the Border","Undocumented Immigrants","978-1-5345-6224-0","Lucent Press","eBook",1,2018,"January 2018",null,null,"Author","Cathleen Small",null,null,null,null,"X",null,"Years 11 - 13","Grade 6 - 7","Grade 6 - 8","Who are undocumented immigrants? What happens to undocumented immigrants after they are discovered in the United States? These questions and more are answered by this comprehensive look at a hot topic that is often debated on news programs and online. The accessible, objective text and full-color photographs give readers a balanced look at this complicated issue, and detailed sidebars provide additional information. Readers will benefit from having their critical-thinking skills strengthened as they examine this challenging issue.","English",33.450000000000003,26.76,"305.9'06912092273--dc23","64 pp.",{"$f":"Table1[[#This Row],['# of Books]]*Table1[[#This Row],[QTY]]","v":0},{"$f":"Table1[[#This Row],[QTY]]*Table1[[#This Row],[School & Library Price]]","v":0}]
[null,null,22,null,"U.S. History","Crossing the Border","Undocumented Immigrants","978-1-5345-6278-3","Lucent Press","Paperback Book",1,2018,"January 2018","Paperback","7.250 X 9.250","Author","Cathleen Small",null,null,null,null,"X",null,"Years 11 - 13","Grade 6 - 7","Grade 6 - 8","Who are undocumented immigrants? What happens to undocumented immigrants after they are discovered in the United States? These questions and more are answered by this comprehensive look at a hot topic that is often debated on news programs and online. The accessible, objective text and full-color photographs give readers a balanced look at this complicated issue, and detailed sidebars provide additional information. Readers will benefit from having their critical-thinking skills strengthened as they examine this challenging issue.","English",15.28,12.99,"364.1'37--dc23","64 pp.",{"$f":"Table1[[#This Row],['# of Books]]*Table1[[#This Row],[QTY]]","v":0},{"$f":"Table1[[#This Row],[QTY]]*Table1[[#This Row],[School & Library Price]]","v":0}]
[null,null,22,null,"U.S. History","Crossing the Border","Immigrants of Extraordinary Ability","978-1-5345-6229-5","Lucent Press","Library Bound Book",1,2018,"January 2018","Library","7.250 X 9.250","Author","Cathleen Small",null,null,null,null,"X",null,"Years 11 - 13","Grade 6 - 7","Grade 6 - 8","What do Yoko Ono, Psy, and Pelé have in common? They are all considered immigrants of extraordinary ability. What does this distinction mean, and how can someone earn it? Readers discover the answers to these and many more questions as they explore the lives of some of the most famous immigrants of extraordinary ability. The engaging, informative text provides readers with a closer look at this little-known aspect of U.S. immigration policy. Full-color photographs of these men and women and sidebars that enhance the main text are also included.","English",33.450000000000003,26.76,"305.9'06912092273--dc23","64 pp.",{"$f":"Table1[[#This Row],['# of Books]]*Table1[[#This Row],[QTY]]","v":0},{"$f":"Table1[[#This Row],[QTY]]*Table1[[#This Row],[School & Library Price]]","v":0}]
[null,null,22,null,"U.S. History","Crossing the Border","Immigrants of Extraordinary Ability","978-1-5345-6230-1","Lucent Press","eBook",1,2018,"January 2018",null,null,"Author","Cathleen Small",null,null,null,null,"X",null,"Years 11 - 13","Grade 6 - 7","Grade 6 - 8","What do Yoko Ono, Psy, and Pelé have in common? They are all considered immigrants of extraordinary ability. What does this distinction mean, and how can someone earn it? Readers discover the answers to these and many more questions as they explore the lives of some of the most famous immigrants of extraordinary ability. The engaging, informative text provides readers with a closer look at this little-known aspect of U.S. immigration policy. Full-color photographs of these men and women and sidebars that enhance the main text are also included.","English",33.450000000000003,26.76,"304.80973--dc23","64 pp.",{"$f":"Table1[[#This Row],['# of Books]]*Table1[[#This Row],[QTY]]","v":0},{"$f":"Table1[[#This Row],[QTY]]*Table1[[#This Row],[School & Library Price]]","v":0}]
[null,null,22,null,"U.S. History","Crossing the Border","Immigrants of Extraordinary Ability","978-1-5345-6279-0","Lucent Press","Paperback Book",1,2018,"January 2018","Paperback","7.250 X 9.250","Author","Cathleen Small",null,null,null,null,"X",null,"Years 11 - 13","Grade 6 - 7","Grade 6 - 8","What do Yoko Ono, Psy, and Pelé have in common? They are all considered immigrants of extraordinary ability. What does this distinction mean, and how can someone earn it? Readers discover the answers to these and many more questions as they explore the lives of some of the most famous immigrants of extraordinary ability. The engaging, informative text provides readers with a closer look at this little-known aspect of U.S. immigration policy. Full-color photographs of these men and women and sidebars that enhance the main text are also included.","English",15.28,12.99,"305.9'06912092273--dc23","64 pp.",{"$f":"Table1[[#This Row],['# of Books]]*Table1[[#This Row],[QTY]]","v":0},{"$f":"Table1[[#This Row],[QTY]]*Table1[[#This Row],[School & Library Price]]","v":0}]
[null,null,22,null,"U.S. History","Crossing the Border","The History of Immigration","978-1-5345-6221-9","Lucent Press","Library Bound Book",1,2018,"January 2018","Library","7.250 X 9.250","Author","Cathleen Small",null,null,null,null,"X",null,"Years 11 - 13","Grade 6 - 7","Grade 6 - 8","The United States is often called a nation of immigrants, so a deeper understanding of the history of immigration is critical for a deeper understanding of American history as a whole. Readers are encouraged to develop this deeper understanding through detailed text that provides a comprehensive overview of the history of immigration. Engaging sidebars and full-color photographs accompany the main text, enhancing this essential part of social studies curricula and giving readers a clearer picture of the immigrant experience in America.","English",33.450000000000003,26.76,"304.80973--dc23","64 pp.",{"$f":"Table1[[#This Row],['# of Books]]*Table1[[#This Row],[QTY]]","v":0},{"$f":"Table1[[#This Row],[QTY]]*Table1[[#This Row],[School & Library Price]]","v":0}]
[null,null,22,null,"U.S. History","Crossing the Border","The History of Immigration","978-1-5345-6222-6","Lucent Press","eBook",1,2018,"January 2018",null,null,"Author","Cathleen Small",null,null,null,null,"X",null,"Years 11 - 13","Grade 6 - 7","Grade 6 - 8","The United States is often called a nation of immigrants, so a deeper understanding of the history of immigration is critical for a deeper understanding of American history as a whole. Readers are encouraged to develop this deeper understanding through detailed text that provides a comprehensive overview of the history of immigration. Engaging sidebars and full-color photographs accompany the main text, enhancing this essential part of social studies curricula and giving readers a clearer picture of the immigrant experience in America.","English",33.450000000000003,26.76,"363.28'50973--dc23","64 pp.",{"$f":"Table1[[#This Row],['# of Books]]*Table1[[#This Row],[QTY]]","v":0},{"$f":"Table1[[#This Row],[QTY]]*Table1[[#This Row],[School & Library Price]]","v":0}]
[null,null,22,null,"U.S. History","Crossing the Border","The History of Immigration","978-1-5345-6280-6","Lucent Press","Paperback Book",1,2018,"January 2018","Paperback","7.250 X 9.250","Author","Cathleen Small",null,null,null,null,"X",null,"Years 11 - 13","Grade 6 - 7","Grade 6 - 8","The United States is often called a nation of immigrants, so a deeper understanding of the history of immigration is critical for a deeper understanding of American history as a whole. Readers are encouraged to develop this deeper understanding through detailed text that provides a comprehensive overview of the history of immigration. Engaging sidebars and full-color photographs accompany the main text, enhancing this essential part of social studies curricula and giving readers a clearer picture of the immigrant experience in America.","English",15.28,12.99,"304.80973--dc23","64 pp.",{"$f":"Table1[[#This Row],['# of Books]]*Table1[[#This Row],[QTY]]","v":0},{"$f":"Table1[[#This Row],[QTY]]*Table1[[#This Row],[School & Library Price]]","v":0}]
[null,null,22,null,"U.S. History","Crossing the Border","U.S. Borders","978-1-5345-6250-9","Lucent Press","Library Bound Book",1,2018,"January 2018","Library","7.250 X 9.250","Author","Cathleen Small",null,null,null,null,"X",null,"Years 11 - 13","Grade 6 - 7","Grade 6 - 8","The borders between the United States and foreign countries are important locations. Goods and people cross them constantly as they move from one nation to another. Readers discover what happens at these borders and how they are protected through enlightening main text and sidebars that provide additional information. Full-color photographs are also included, helping readers visualize the borders between the United States and its neighbors. Border protection is often in the news, and readers will develop a stronger sense of why this issue is so important as they explore this timely topic.","English",33.450000000000003,26.76,"363.28'50973--dc23","64 pp.",{"$f":"Table1[[#This Row],['# of Books]]*Table1[[#This Row],[QTY]]","v":0},{"$f":"Table1[[#This Row],[QTY]]*Table1[[#This Row],[School & Library Price]]","v":0}]
[null,null,22,null,"U.S. History","Crossing the Border","U.S. Borders","978-1-5345-6251-6","Lucent Press","eBook",1,2018,"January 2018",null,null,"Author","Cathleen Small",null,null,null,null,"X",null,"Years 11 - 13","Grade 6 - 7","Grade 6 - 8","The borders between the United States and foreign countries are important locations. Goods and people cross them constantly as they move from one nation to another. Readers discover what happens at these borders and how they are protected through enlightening main text and sidebars that provide additional information. Full-color photographs are also included, helping readers visualize the borders between the United States and its neighbors. Border protection is often in the news, and readers will develop a stronger sense of why this issue is so important as they explore this timely topic.","English",33.450000000000003,26.76,"364.1'37--dc23","64 pp.",{"$f":"Table1[[#This Row],['# of Books]]*Table1[[#This Row],[QTY]]","v":0},{"$f":"Table1[[#This Row],[QTY]]*Table1[[#This Row],[School & Library Price]]","v":0}]
[null,null,22,null,"U.S. History","Crossing the Border","U.S. Borders","978-1-5345-6281-3","Lucent Press","Paperback Book",1,2018,"January 2018","Paperback","7.250 X 9.250","Author","Cathleen Small",null,null,null,null,"X",null,"Years 11 - 13","Grade 6 - 7","Grade 6 - 8","The borders between the United States and foreign countries are important locations. Goods and people cross them constantly as they move from one nation to another. Readers discover what happens at these borders and how they are protected through enlightening main text and sidebars that provide additional information. Full-color photographs are also included, helping readers visualize the borders between the United States and its neighbors. Border protection is often in the news, and readers will develop a stronger sense of why this issue is so important as they explore this timely topic.","English",15.28,12.99,"363.28'50973--dc23","64 pp.",{"$f":"Table1[[#This Row],['# of Books]]*Table1[[#This Row],[QTY]]","v":0},{"$f":"Table1[[#This Row],[QTY]]*Table1[[#This Row],[School & Library Price]]","v":0}]
[null,77,23,null,"U.S. History","American History (Aug '17 Set)","American History (Aug '17 Set)","978-1-5345-6155-7","Lucent Press","Library Set",6,2018,"August 2017","Library","7.000 X 9.000"," "," ",null,null,null,null,null,null,"Years 12 - 15","Grade 7","Grade 7 - 10","American history is filled with incredible stories that can sometimes get lost amid the memorization of names and dates. Readers dig deeper into the stories behind the common topics they’re taught in their history classes, with the help of engaging main text, detailed sidebars, and annotated quotes from historical figures and contemporary historians. Full-color photographs and historical images help readers place themselves in the middle of major moments in American history—from the creation of the Transcontinental Railroad to the Great Depression. As they read, they gain a deeper appreciation for the way the past still affects our lives today.","English",236.4,189.12,null,"104 pp.",{"$f":"Table1[[#This Row],['# of Books]]*Table1[[#This Row],[QTY]]","v":0},{"$f":"Table1[[#This Row],[QTY]]*Table1[[#This Row],[School & Library Price]]","v":0}]
[null,77,23,null,"U.S. History","American History (Aug '17 Set)","American History (Aug '17 Set)","978-1-5345-6157-1","Lucent Press","eBook Set",6,2018,"August 2017",null,null," "," ",null,null,null,null,null,null,"Years 12 - 15","Grade 7","Grade 7 - 10","American history is filled with incredible stories that can sometimes get lost amid the memorization of names and dates. Readers dig deeper into the stories behind the common topics they’re taught in their history classes, with the help of engaging main text, detailed sidebars, and annotated quotes from historical figures and contemporary historians. Full-color photographs and historical images help readers place themselves in the middle of major moments in American history—from the creation of the Transcontinental Railroad to the Great Depression. As they read, they gain a deeper appreciation for the way the past still affects our lives today.","English",236.4,189.12,null,"104 pp.",{"$f":"Table1[[#This Row],['# of Books]]*Table1[[#This Row],[QTY]]","v":0},{"$f":"Table1[[#This Row],[QTY]]*Table1[[#This Row],[School & Library Price]]","v":0}]
[null,77,23,null,"U.S. History","American History","Battling Terrorism in the United States","978-1-5345-6141-0","Lucent Press","Library Bound Book",1,2018,"August 2017","Library","7.000 X 9.000","Author","Caroline Kennon",null,null,null,null,"Z",null,"Years 12 - 15","Grade 7","Grade 7 - 10","Although September 11, 2001, marks the day when average Americans first began to grapple with the concept of terrorism in the United States, it wasn’t the first terrorist attack on American soil. The history of terrorism and the fight against it in the United States is long and filled with more action and intrigue than a novel or movie. Readers discover the details of this part of American history through comprehensive main text, enlightening sidebars, and historical and contemporary images. They also take a look at what’s being done today to protect Americans and fight terrorism at home and abroad.","English",39.4,31.52,"303.6--dc23","104 pp.",{"$f":"Table1[[#This Row],['# of Books]]*Table1[[#This Row],[QTY]]","v":0},{"$f":"Table1[[#This Row],[QTY]]*Table1[[#This Row],[School & Library Price]]","v":0}]
[null,77,23,null,"U.S. History","American History","Battling Terrorism in the United States","978-1-5345-6142-7","Lucent Press","eBook",1,2018,"August 2017",null,null,"Author","Caroline Kennon",null,null,null,null,"Z",null,"Years 12 - 15","Grade 7","Grade 7 - 10","Although September 11, 2001, marks the day when average Americans first began to grapple with the concept of terrorism in the United States, it wasn’t the first terrorist attack on American soil. The history of terrorism and the fight against it in the United States is long and filled with more action and intrigue than a novel or movie. Readers discover the details of this part of American history through comprehensive main text, enlightening sidebars, and historical and contemporary images. They also take a look at what’s being done today to protect Americans and fight terrorism at home and abroad.","English",39.4,31.52,"303.6--dc23","104 pp.",{"$f":"Table1[[#This Row],['# of Books]]*Table1[[#This Row],[QTY]]","v":0},{"$f":"Table1[[#This Row],[QTY]]*Table1[[#This Row],[School & Library Price]]","v":0}]
[null,77,23,null,"U.S. History","American History","The Great Depression: Worldwide Economic Crisis","978-1-5345-6131-1","Lucent Press","Library Bound Book",1,2018,"August 2017","Library","7.000 X 9.000","Author","Siyavush Saidian",null,null,null,null,"Z",null,"Years 12 - 15","Grade 7","Grade 7 - 10","The Great Depression was a difficult time in American history, and it eventually became an economic crisis that affected the entire world. Readers uncover important facts and enlightening details about the Great Depression, including what caused it, how average Americans dealt with financial hardships during this time, and what programs were created to get Americans back to work. As readers explore the detailed main text, engaging sidebars, and historical images, they gain a deeper understanding of the idea that one event in one country can have a ripple effect over the entire world.","English",39.4,31.52,"973.91--dc23","104 pp.",{"$f":"Table1[[#This Row],['# of Books]]*Table1[[#This Row],[QTY]]","v":0},{"$f":"Table1[[#This Row],[QTY]]*Table1[[#This Row],[School & Library Price]]","v":0}]
[null,77,23,null,"U.S. History","American History","The Great Depression: Worldwide Economic Crisis","978-1-5345-6132-8","Lucent Press","eBook",1,2018,"August 2017",null,null,"Author","Siyavush Saidian",null,null,null,null,"Z",null,"Years 12 - 15","Grade 7","Grade 7 - 10","The Great Depression was a difficult time in American history, and it eventually became an economic crisis that affected the entire world. Readers uncover important facts and enlightening details about the Great Depression, including what caused it, how average Americans dealt with financial hardships during this time, and what programs were created to get Americans back to work. As readers explore the detailed main text, engaging sidebars, and historical images, they gain a deeper understanding of the idea that one event in one country can have a ripple effect over the entire world.","English",39.4,31.52,"973.91--dc23","104 pp.",{"$f":"Table1[[#This Row],['# of Books]]*Table1[[#This Row],[QTY]]","v":0},{"$f":"Table1[[#This Row],[QTY]]*Table1[[#This Row],[School & Library Price]]","v":0}]
[null,77,23,null,"U.S. History","American History","The Industrial Revolution: The Birth of Modern America","978-1-5345-6133-5","Lucent Press","Library Bound Book",1,2018,"August 2017","Library","7.000 X 9.000","Author","Emily Mahoney",null,null,null,null,"Z",null,"Years 12 - 15","Grade 7","Grade 7 - 10","During the Industrial Revolution, millions of Americans moved from farms to cities in search of work in new factories. This shift from an agricultural society to an industrial society was monumental, shaping the United States into the nation it is today. Readers explore the driving forces behind the Industrial Revolution and lasting effects of this dramatic change through carefully chosen primary sources, sidebars that feature first-person accounts of this time period, and riveting main text filled with essential historical facts. With each turn of the page, readers will find themselves fully immersed in this seminal time period in American history.","English",39.4,31.52,"330.973'08--dc23","104 pp.",{"$f":"Table1[[#This Row],['# of Books]]*Table1[[#This Row],[QTY]]","v":0},{"$f":"Table1[[#This Row],[QTY]]*Table1[[#This Row],[School & Library Price]]","v":0}]
[null,77,23,null,"U.S. History","American History","The Industrial Revolution: The Birth of Modern America","978-1-5345-6134-2","Lucent Press","eBook",1,2018,"August 2017",null,null,"Author","Emily Mahoney",null,null,null,null,"Z",null,"Years 12 - 15","Grade 7","Grade 7 - 10","During the Industrial Revolution, millions of Americans moved from farms to cities in search of work in new factories. This shift from an agricultural society to an industrial society was monumental, shaping the United States into the nation it is today. Readers explore the driving forces behind the Industrial Revolution and lasting effects of this dramatic change through carefully chosen primary sources, sidebars that feature first-person accounts of this time period, and riveting main text filled with essential historical facts. With each turn of the page, readers will find themselves fully immersed in this seminal time period in American history.","English",39.4,31.52,"330.973'08--dc23","104 pp.",{"$f":"Table1[[#This Row],['# of Books]]*Table1[[#This Row],[QTY]]","v":0},{"$f":"Table1[[#This Row],[QTY]]*Table1[[#This Row],[School & Library Price]]","v":0}]
[null,77,23,null,"U.S. History","American History","The Progressive Era: Activists Change America","978-1-5345-6139-7","Lucent Press","Library Bound Book",1,2018,"August 2017","Library","7.000 X 9.000","Author","David Anthony",null,null,null,null,"Z",null,"Years 12 - 15","Grade 7","Grade 7 - 10","Activists are always working hard to change America for the better and to help Americans who need someone to advocate for them. Activists have been a part of this nation’s social and political landscape since its earliest days, but the Progressive Era is known as the period when social activism and political reformation movements truly took off and led to real change for many Americans. Readers get a comprehensive look at this period of sweeping change through fact-filled main text, fascinating sidebars, and relevant primary sources.","English",39.4,31.52,"361.3’7--dc23","104 pp.",{"$f":"Table1[[#This Row],['# of Books]]*Table1[[#This Row],[QTY]]","v":0},{"$f":"Table1[[#This Row],[QTY]]*Table1[[#This Row],[School & Library Price]]","v":0}]
[null,77,23,null,"U.S. History","American History","The Progressive Era: Activists Change America","978-1-5345-6140-3","Lucent Press","eBook",1,2018,"August 2017",null,null,"Author","David Anthony",null,null,null,null,"Z",null,"Years 12 - 15","Grade 7","Grade 7 - 10","Activists are always working hard to change America for the better and to help Americans who need someone to advocate for them. Activists have been a part of this nation’s social and political landscape since its earliest days, but the Progressive Era is known as the period when social activism and political reformation movements truly took off and led to real change for many Americans. Readers get a comprehensive look at this period of sweeping change through fact-filled main text, fascinating sidebars, and relevant primary sources.","English",39.4,31.52,"361.3’7--dc23","104 pp.",{"$f":"Table1[[#This Row],['# of Books]]*Table1[[#This Row],[QTY]]","v":0},{"$f":"Table1[[#This Row],[QTY]]*Table1[[#This Row],[School & Library Price]]","v":0}]
[null,77,23,null,"U.S. History","American History","The Trail of Tears: A Journey of Loss","978-1-5345-6135-9","Lucent Press","Library Bound Book",1,2018,"August 2017","Library","7.000 X 9.000","Author","Kristen Rajczak Nelson",null,null,null,null,"Z",null,"Years 12 - 15","Grade 7","Grade 7 - 10","The Trail of Tears is the name used to describe the forced migration of the Cherokee people in the 1830s from their homelands in the southeastern United States to land in what’s now Oklahoma. This devastating journey took the lives of thousands of Native Americans, and it’s one of the most shameful chapters in American history. Detailed main text—supported by enlightening sidebars and primary sources—gives readers a clear picture of the reasons the Cherokee people were forced from their homes and what happened to them on the difficult journey west.","English",39.4,31.52,"975.004'97557--dc23","104 pp.",{"$f":"Table1[[#This Row],['# of Books]]*Table1[[#This Row],[QTY]]","v":0},{"$f":"Table1[[#This Row],[QTY]]*Table1[[#This Row],[School & Library Price]]","v":0}]
[null,77,23,null,"U.S. History","American History","The Trail of Tears: A Journey of Loss","978-1-5345-6136-6","Lucent Press","eBook",1,2018,"August 2017",null,null,"Author","Kristen Rajczak Nelson",null,null,null,null,"Z",null,"Years 12 - 15","Grade 7","Grade 7 - 10","The Trail of Tears is the name used to describe the forced migration of the Cherokee people in the 1830s from their homelands in the southeastern United States to land in what’s now Oklahoma. This devastating journey took the lives of thousands of Native Americans, and it’s one of the most shameful chapters in American history. Detailed main text—supported by enlightening sidebars and primary sources—gives readers a clear picture of the reasons the Cherokee people were forced from their homes and what happened to them on the difficult journey west.","English",39.4,31.52,"975.004'97557--dc23","104 pp.",{"$f":"Table1[[#This Row],['# of Books]]*Table1[[#This Row],[QTY]]","v":0},{"$f":"Table1[[#This Row],[QTY]]*Table1[[#This Row],[School & Library Price]]","v":0}]
[null,77,23,null,"U.S. History","American History","The Transcontinental Railroad: Connecting the Nation","978-1-5345-6137-3","Lucent Press","Library Bound Book",1,2018,"August 2017","Library","7.000 X 9.000","Author","Therese Harasymiw",null,null,null,null,"Z",null,"Years 12 - 15","Grade 7","Grade 7 - 10","Readers may know the basic facts about the creation of the first transcontinental railroad, but the full story behind the push to connect the United States by rail is much more than the names and dates taught in history classes. Readers discover the exciting, important details—including the contributions of immigrants—as they encounter engaging main text, comprehensive sidebars, and historical images that include carefully chosen primary sources. These text features come together to give readers an in-depth look at the first successful attempt to connect the United States through transportation.","English",39.4,31.52,"385.0978'09034--dc23","104 pp.",{"$f":"Table1[[#This Row],['# of Books]]*Table1[[#This Row],[QTY]]","v":0},{"$f":"Table1[[#This Row],[QTY]]*Table1[[#This Row],[School & Library Price]]","v":0}]
[null,77,23,null,"U.S. History","American History","The Transcontinental Railroad: Connecting the Nation","978-1-5345-6138-0","Lucent Press","eBook",1,2018,"August 2017",null,null,"Author","Therese Harasymiw",null,null,null,null,"Z",null,"Years 12 - 15","Grade 7","Grade 7 - 10","Readers may know the basic facts about the creation of the first transcontinental railroad, but the full story behind the push to connect the United States by rail is much more than the names and dates taught in history classes. Readers discover the exciting, important details—including the contributions of immigrants—as they encounter engaging main text, comprehensive sidebars, and historical images that include carefully chosen primary sources. These text features come together to give readers an in-depth look at the first successful attempt to connect the United States through transportation.","English",39.4,31.52,"385.0978'09034--dc23","104 pp.",{"$f":"Table1[[#This Row],['# of Books]]*Table1[[#This Row],[QTY]]","v":0},{"$f":"Table1[[#This Row],[QTY]]*Table1[[#This Row],[School & Library Price]]","v":0}]
[null,77,23,null,"U.S. History","American History (Jan '17 Set)","American History (Jan '17 Set)","978-1-5345-6061-1","Lucent Press","Library Set",6,2017,"January 2017","Library Bound","7.000 X 9.000"," "," ",null,null,null,null,null,null,"Years 12 - 15",null,"Grade 7 - 10","American History examines the eras, events, and movements that have shaped U.S. history. Compelling narratives offer a wealth of factual information and provide readers with insight into the significance of the past and its many legacies. Fully cited quotations from historical figures, eyewitnesses, letters, speeches, and writings bring vibrancy and authority to the text.  ","English",236.4,189.12,null,"104 pp.",{"$f":"Table1[[#This Row],['# of Books]]*Table1[[#This Row],[QTY]]","v":0},{"$f":"Table1[[#This Row],[QTY]]*Table1[[#This Row],[School & Library Price]]","v":0}]
[null,77,23,null,"U.S. History","American History (Jan '17 Set)","American History (Jan '17 Set)","978-1-5345-6062-8","Lucent Press","eBook Set",6,2017,"January 2017","eBook",null," "," ",null,null,null,null,null,null,null,null,"Grade 7 - 10","","English",236.4,189.12,null,"104 pp.",{"$f":"Table1[[#This Row],['# of Books]]*Table1[[#This Row],[QTY]]","v":0},{"$f":"Table1[[#This Row],[QTY]]*Table1[[#This Row],[School & Library Price]]","v":0}]
[null,77,23,null,"U.S. History","American History","The American Revolution: Fighting for Independence","978-1-5345-6041-3","Lucent Press","Library Bound Book",1,2017,"January 2017","Library Bound","7.000 X 9.000","Author","Amy Rogers",null,null,null,null,"Z",null,"Years 12 - 15",null,"Grade 7 - 10","The United States was formed by a large group of people fighting back against perceived injustices. Americans wanted the ability to create and enforce their own laws, as they did not feel the British government was acting in America’s best interests. Both sides of the story are presented to readers, along with colorful maps and engaging primary sources. This fresh approach encourages them to think critically about the events that ultimately led to the war for American independence.","English",39.4,31.52,null,"104 pp.",{"$f":"Table1[[#This Row],['# of Books]]*Table1[[#This Row],[QTY]]","v":0},{"$f":"Table1[[#This Row],[QTY]]*Table1[[#This Row],[School & Library Price]]","v":0}]
[null,77,23,null,"U.S. History","American History","The American Revolution: Fighting for Independence","978-1-5345-6042-0","Lucent Press","eBook",1,2017,"January 2017","eBook",null,"Author","Amy Rogers",null,null,null,null,"Z",null,null,null,"Grade 7 - 10","The United States was formed by a large group of people fighting back against perceived injustices. Americans wanted the ability to create and enforce their own laws, as they did not feel the British government was acting in America’s best interests. Both sides of the story are presented to readers, along with colorful maps and engaging primary sources. This fresh approach encourages them to think critically about the events that ultimately led to the war for American independence.","English",39.4,31.52,null,"104 pp.",{"$f":"Table1[[#This Row],['# of Books]]*Table1[[#This Row],[QTY]]","v":0},{"$f":"Table1[[#This Row],[QTY]]*Table1[[#This Row],[School & Library Price]]","v":0}]
[null,77,23,null,"U.S. History","American History","The Civil War: A Nation Divided","978-1-5345-6045-1","Lucent Press","Library Bound Book",1,2017,"January 2017","Library Bound","7.000 X 9.000","Author","Therese Shea",null,null,null,null,"Z",null,"Years 12 - 15",null,"Grade 7 - 10","The Civil War still holds a prominent place in the American imagination—reenactments and battlefield visits are popular tourist attractions for both Northerners and Southerners. The underlying issues of racism and states’ rights that caused the war are also still visible in American society. Through informative main text, detailed maps, historic photographs, and a timeline of important dates, readers will be engaged by this key event in the country’s history and gain a better understanding of some of its present struggles.","English",39.4,31.52,null,"104 pp.",{"$f":"Table1[[#This Row],['# of Books]]*Table1[[#This Row],[QTY]]","v":0},{"$f":"Table1[[#This Row],[QTY]]*Table1[[#This Row],[School & Library Price]]","v":0}]
[null,77,23,null,"U.S. History","American History","The Civil War: A Nation Divided","978-1-5345-6046-8","Lucent Press","eBook",1,2017,"January 2017","eBook",null,"Author","Therese Shea",null,null,null,null,"Z",null,null,null,"Grade 7 - 10","The Civil War still holds a prominent place in the American imagination—reenactments and battlefield visits are popular tourist attractions for both Northerners and Southerners. The underlying issues of racism and states’ rights that caused the war are also still visible in American society. Through informative main text, detailed maps, historic photographs, and a timeline of important dates, readers will be engaged by this key event in the country’s history and gain a better understanding of some of its present struggles.","English",39.4,31.52,null,"104 pp.",{"$f":"Table1[[#This Row],['# of Books]]*Table1[[#This Row],[QTY]]","v":0},{"$f":"Table1[[#This Row],[QTY]]*Table1[[#This Row],[School & Library Price]]","v":0}]
[null,77,23,null,"U.S. History","American History","Native Americans in Early North America","978-1-5345-6037-6","Lucent Press","Library Bound Book",1,2017,"January 2017","Library Bound","7.000 X 9.000","Author","Barbara Linde",null,null,null,null,"Z",null,"Years 12 - 15",null,"Grade 7 - 10","Native peoples of the United States and Canada have rich histories and traditions that help them maintain varied cultural identities in modern society. In the past, white Americans attempted to hide or eradicate these cultures. Today we know that they should instead be celebrated. The artifacts and customs of these early civilizations are presented to readers through full-color photographs and primary sources, and a detailed timeline places historical events in chronological order. Readers will enjoy learning about the vibrant past of cultures that are still active today.","English",39.4,31.52,null,"104 pp.",{"$f":"Table1[[#This Row],['# of Books]]*Table1[[#This Row],[QTY]]","v":0},{"$f":"Table1[[#This Row],[QTY]]*Table1[[#This Row],[School & Library Price]]","v":0}]
[null,77,23,null,"U.S. History","American History","Native Americans in Early North America","978-1-5345-6038-3","Lucent Press","eBook",1,2017,"January 2017","eBook",null,"Author","Barbara Linde",null,null,null,null,"Z",null,null,null,"Grade 7 - 10","Native peoples of the United States and Canada have rich histories and traditions that help them maintain varied cultural identities in modern society. In the past, white Americans attempted to hide or eradicate these cultures. Today we know that they should instead be celebrated. The artifacts and customs of these early civilizations are presented to readers through full-color photographs and primary sources, and a detailed timeline places historical events in chronological order. Readers will enjoy learning about the vibrant past of cultures that are still active today.","English",39.4,31.52,null,"104 pp.",{"$f":"Table1[[#This Row],['# of Books]]*Table1[[#This Row],[QTY]]","v":0},{"$f":"Table1[[#This Row],[QTY]]*Table1[[#This Row],[School & Library Price]]","v":0}]
[null,77,23,null,"U.S. History","American History","The Salem Witch Trials: A Crisis in Puritan New England","978-1-5345-6039-0","Lucent Press","Library Bound Book",1,2017,"January 2017","Library Bound","7.000 X 9.000","Author","Tanya Dellacio",null,null,null,null,"Z",null,"Years 12 - 15",null,"Grade 7 - 10","Mass hysteria in the late 17th century led to trials of people suspected to be witches in Salem, Massachusetts. Anyone could be accused of causing mysterious maladies or unfortunate occurrences, such as the death of cattle. Readers discover important facts and captivating details about this fascinating time in American history. The dangers of leveling accusations without proof and succumbing to panic are discussed in this engaging text, which is supplemented with a fact-filled timeline, full-color photographs, and primary sources.","English",39.4,31.52,null,"104 pp.",{"$f":"Table1[[#This Row],['# of Books]]*Table1[[#This Row],[QTY]]","v":0},{"$f":"Table1[[#This Row],[QTY]]*Table1[[#This Row],[School & Library Price]]","v":0}]
[null,77,23,null,"U.S. History","American History","The Salem Witch Trials: A Crisis in Puritan New England","978-1-5345-6040-6","Lucent Press","eBook",1,2017,"January 2017","eBook",null,"Author","Tanya Dellacio",null,null,null,null,"Z",null,null,null,"Grade 7 - 10","Mass hysteria in the late 17th century led to trials of people suspected to be witches in Salem, Massachusetts. Anyone could be accused of causing mysterious maladies or unfortunate occurrences, such as the death of cattle. Readers discover important facts and captivating details about this fascinating time in American history. The dangers of leveling accusations without proof and succumbing to panic are discussed in this engaging text, which is supplemented with a fact-filled timeline, full-color photographs, and primary sources.","English",39.4,31.52,null,"104 pp.",{"$f":"Table1[[#This Row],['# of Books]]*Table1[[#This Row],[QTY]]","v":0},{"$f":"Table1[[#This Row],[QTY]]*Table1[[#This Row],[School & Library Price]]","v":0}]
[null,77,23,null,"U.S. History","American History","Slavery in North America","978-1-5345-6060-4","Lucent Press","Library Bound Book",1,2017,"January 2017","Library Bound","7.000 X 9.000","Author","Barbara Linde",null,null,null,null,"Z",null,"Years 12 - 15",null,"Grade 7 - 10","Before the Civil War, a large part of the U.S. economy was built on slave labor. Readers learn that goods could be produced and sold cheaply because the slaves were unpaid for their labor. Millions of black men, women, and children were treated as property. Although slavery has been abolished, the racism that sprang from this period still haunts America today. Accessible text, primary sources, and informative sidebars provide readers with an unvarnished look at a tragic period in America’s past.","English",39.4,31.52,null,"104 pp.",{"$f":"Table1[[#This Row],['# of Books]]*Table1[[#This Row],[QTY]]","v":0},{"$f":"Table1[[#This Row],[QTY]]*Table1[[#This Row],[School & Library Price]]","v":0}]
[null,77,23,null,"U.S. History","American History","Slavery in North America","978-1-5345-6059-8","Lucent Press","eBook",1,2017,"January 2017","eBook",null,"Author","Barbara Linde",null,null,null,null,"Z",null,null,null,"Grade 7 - 10","Before the Civil War, a large part of the U.S. economy was built on slave labor. Readers learn that goods could be produced and sold cheaply because the slaves were unpaid for their labor. Millions of black men, women, and children were treated as property. Although slavery has been abolished, the racism that sprang from this period still haunts America today. Accessible text, primary sources, and informative sidebars provide readers with an unvarnished look at a tragic period in America’s past.","English",39.4,31.52,null,"104 pp.",{"$f":"Table1[[#This Row],['# of Books]]*Table1[[#This Row],[QTY]]","v":0},{"$f":"Table1[[#This Row],[QTY]]*Table1[[#This Row],[School & Library Price]]","v":0}]
[null,77,23,null,"U.S. History","American History","The Story of the Constitution: Creating the U.S. Government","978-1-5345-6044-4","Lucent Press","Library Bound Book",1,2017,"January 2017","Library Bound","7.000 X 9.000","Author","Leslie Beckett",null,null,null,null,"Z",null,"Years 12 - 15",null,"Grade 7 - 10","Many misconceptions about the U.S. Constitution are spread through the contemporary media, leading to confusion about the way our government functions. Learning about this important document gives readers the tools they need to verify the truthfulness of news items and decide what stance they hold on proposed changes to our nation’s laws. In-depth sidebars and quotes from primary sources provide further insight into the creation of the Constitution and its modern-day consequences.","English",39.4,31.52,null,"104 pp.",{"$f":"Table1[[#This Row],['# of Books]]*Table1[[#This Row],[QTY]]","v":0},{"$f":"Table1[[#This Row],[QTY]]*Table1[[#This Row],[School & Library Price]]","v":0}]
[null,77,23,null,"U.S. History","American History","The Story of the Constitution: Creating the U.S. Government","978-1-5345-6043-7","Lucent Press","eBook",1,2017,"January 2017","eBook",null,"Author","Leslie Beckett",null,null,null,null,"Z",null,null,null,"Grade 7 - 10","Many misconceptions about the U.S. Constitution are spread through the contemporary media, leading to confusion about the way our government functions. Learning about this important document gives readers the tools they need to verify the truthfulness of news items and decide what stance they hold on proposed changes to our nation’s laws. In-depth sidebars and quotes from primary sources provide further insight into the creation of the Constitution and its modern-day consequences.","English",39.4,31.52,null,"104 pp.",{"$f":"Table1[[#This Row],['# of Books]]*Table1[[#This Row],[QTY]]","v":0},{"$f":"Table1[[#This Row],[QTY]]*Table1[[#This Row],[School & Library Price]]","v":0}]
[null,null,24,null,"U.S. History","Lucent Library of Black History","Lucent Library of Black History: Sets 1 – 2","978-1-5345-6314-8","Lucent Press","Library Set",12,2018,"January 2018",null,"7.000 X 9.000"," "," ",null,null,null,null,null,null,"Years 12 - 15","Grade 7","Grade 7 - 10","The experiences of and contributions made by African Americans are essential parts of the history of the United States. However, their compelling stories often do not get the attention they deserve as vital pieces of the American narrative. As readers explore crucial moments and figures in black history, they begin to see a clearer picture of the African American experience. This picture is painted in vibrant detail thanks to engaging text, annotated quotes, informative sidebars, and both historical and contemporary images. Primary sources and timelines are also included to enhance the reading experience.\n\nFeatures include: Topics present a comprehensive overview of black history – from slavery to the civil rights movement to the work being done in the present by black scientists and engineers – that enriches what is taught in social studies classes. Readers are inspired to seek out more stories that have been hidden from public knowledge, developing a more passionate and personal interest in history. Topics highlight the many ways African Americans have fought for and continue to fight for equality, encouraging readers to fight against injustice and intolerance in the world around them using their unique strengths.","English",472.8,378.24,null,"104 pp.",{"$f":"Table1[[#This Row],['# of Books]]*Table1[[#This Row],[QTY]]","v":0},{"$f":"Table1[[#This Row],[QTY]]*Table1[[#This Row],[School & Library Price]]","v":0}]
[null,75,24,null,"U.S. History","Lucent Library of Black History","Lucent Library of Black History: Set 2","978-1-5345-6256-1","Lucent Press","Library Set",6,2018,"January 2018",null,"7.000 X 9.000"," "," ",null,null,null,null,null,null,"Years 12 - 15","Grade 7","Grade 7 - 10","The experiences of and contributions made by African Americans are essential parts of the history of the United States. However, their compelling stories often do not get the attention they deserve as vital pieces of the American narrative. As readers explore crucial moments and figures in black history, they begin to see a clearer picture of the African American experience. This picture is painted in vibrant detail thanks to engaging text, annotated quotes, informative sidebars, and both historical and contemporary images. Primary sources and timelines are also included to enhance the reading experience.\n\nFeatures include: Topics present a comprehensive overview of black history – from slavery to the civil rights movement to the work being done in the present by black scientists and engineers – that enriches what is taught in social studies classes. Readers are inspired to seek out more stories that have been hidden from public knowledge, developing a more passionate and personal interest in history. Topics highlight the many ways African Americans have fought for and continue to fight for equality, encouraging readers to fight against injustice and intolerance in the world around them using their unique strengths.","English",236.4,189.12,null,"104 pp.",{"$f":"Table1[[#This Row],['# of Books]]*Table1[[#This Row],[QTY]]","v":0},{"$f":"Table1[[#This Row],[QTY]]*Table1[[#This Row],[School & Library Price]]","v":0}]
[null,75,null,null,"U.S. History","Lucent Library of Black History","Lucent Library of Black History: Set 2","978-1-5345-6266-0","Lucent Press","eBook Set",6,2018,"January 2018",null,null," "," ",null,null,null,null,null,null,"Years 12 - 15","Grade 7","Grade 7 - 10","The experiences of and contributions made by African Americans are essential parts of the history of the United States. However, their compelling stories often do not get the attention they deserve as vital pieces of the American narrative. As readers explore crucial moments and figures in black history, they begin to see a clearer picture of the African American experience. This picture is painted in vibrant detail thanks to engaging text, annotated quotes, informative sidebars, and both historical and contemporary images. Primary sources and timelines are also included to enhance the reading experience.\r\nFeatures include: Topics present a comprehensive overview of black history – from slavery to the civil rights movement to the work being done in the present by black scientists and engineers – that enriches what is taught in social studies classes. Readers are inspired to seek out more stories that have been hidden from public knowledge, developing a more passionate and personal interest in history. Topics highlight the many ways African Americans have fought for and continue to fight for equality, encouraging readers to fight against injustice and intolerance in the world around them using their unique strengths.","English",236.4,189.12,null,"104 pp.",{"$f":"Table1[[#This Row],['# of Books]]*Table1[[#This Row],[QTY]]","v":0},{"$f":"Table1[[#This Row],[QTY]]*Table1[[#This Row],[School & Library Price]]","v":0}]
[null,null,24,null,"U.S. History","Lucent Library of Black History","Lucent Library of Black History: Set 2","978-1-5345-6320-9","Lucent Press","Single Copy Set",6,2018,"January 2018",null,"7.000 X 9.000"," "," ",null,null,null,null,null,null,"Years 12 - 15","Grade 7","Grade 7 - 10","The experiences of and contributions made by African Americans are essential parts of the history of the United States. However, their compelling stories often do not get the attention they deserve as vital pieces of the American narrative. As readers explore crucial moments and figures in black history, they begin to see a clearer picture of the African American experience. This picture is painted in vibrant detail thanks to engaging text, annotated quotes, informative sidebars, and both historical and contemporary images. Primary sources and timelines are also included to enhance the reading experience.\n\nFeatures include: Topics present a comprehensive overview of black history – from slavery to the civil rights movement to the work being done in the present by black scientists and engineers – that enriches what is taught in social studies classes. Readers are inspired to seek out more stories that have been hidden from public knowledge, developing a more passionate and personal interest in history. Topics highlight the many ways African Americans have fought for and continue to fight for equality, encouraging readers to fight against injustice and intolerance in the world around them using their unique strengths.","English",119.94,101.94,null,"104 pp.",{"$f":"Table1[[#This Row],['# of Books]]*Table1[[#This Row],[QTY]]","v":0},{"$f":"Table1[[#This Row],[QTY]]*Table1[[#This Row],[School & Library Price]]","v":0}]
[null,75,24,null,"U.S. History","Lucent Library of Black History","Freedom By Force: The History of Slave Rebellions","978-1-5345-6235-6","Lucent Press","Library Bound Book",1,2018,"January 2018","Library","7.000 X 9.000","Author","Therese Harasymiw",null,null,null,null,"Z",null,"Years 12 - 15","Grade 7","Grade 7 - 10","When people are routinely and systematically oppressed for years, it is only logical that they eventually rise up against their oppressors. For African slaves in North America, these rebellions were largely unsuccessful. Nevertheless, the anger and uprisings that came from people who wanted their freedom and were willing to fight for it are important parts of the story of the fight to end slavery. Readers get a deeper understanding of crucial slave rebellions throughout history through thoroughly researched text, primary sources, and topical photographs.","English",39.4,31.52,"306.3'620973--dc23","104 pp.",{"$f":"Table1[[#This Row],['# of Books]]*Table1[[#This Row],[QTY]]","v":0},{"$f":"Table1[[#This Row],[QTY]]*Table1[[#This Row],[School & Library Price]]","v":0}]
[null,75,24,null,"U.S. History","Lucent Library of Black History","Freedom By Force: The History of Slave Rebellions","978-1-5345-6236-3","Lucent Press","eBook",1,2018,"January 2018",null,null,"Author","Therese Harasymiw",null,null,null,null,"Z",null,"Years 12 - 15","Grade 7","Grade 7 - 10","When people are routinely and systematically oppressed for years, it is only logical that they eventually rise up against their oppressors. For African slaves in North America, these rebellions were largely unsuccessful. Nevertheless, the anger and uprisings that came from people who wanted their freedom and were willing to fight for it are important parts of the story of the fight to end slavery. Readers get a deeper understanding of crucial slave rebellions throughout history through thoroughly researched text, primary sources, and topical photographs.","English",39.4,31.52,"306.3'620973--dc23","104 pp.",{"$f":"Table1[[#This Row],['# of Books]]*Table1[[#This Row],[QTY]]","v":0},{"$f":"Table1[[#This Row],[QTY]]*Table1[[#This Row],[School & Library Price]]","v":0}]
[null,null,24,null,"U.S. History","Lucent Library of Black History","Freedom By Force: The History of Slave Rebellions","978-1-5345-6294-3","Lucent Press","Paperback Book",1,2018,"January 2018","Paperback","7.000 X 9.000","Author","Therese Harasymiw",null,null,null,null,"Z",null,"Years 12 - 15","Grade 7","Grade 7 - 10","When people are routinely and systematically oppressed for years, it is only logical that they eventually rise up against their oppressors. For African slaves in North America, these rebellions were largely unsuccessful. Nevertheless, the anger and uprisings that came from people who wanted their freedom and were willing to fight for it are important parts of the story of the fight to end slavery. Readers get a deeper understanding of crucial slave rebellions throughout history through thoroughly researched text, primary sources, and topical photographs.","English",19.989999999999998,16.989999999999998,"306.3'620973--dc23","104 pp.",{"$f":"Table1[[#This Row],['# of Books]]*Table1[[#This Row],[QTY]]","v":0},{"$f":"Table1[[#This Row],[QTY]]*Table1[[#This Row],[School & Library Price]]","v":0}]
[null,75,24,null,"U.S. History","Lucent Library of Black History","Hidden No More: African American Women in STEM Careers","978-1-5345-6243-1","Lucent Press","Library Bound Book",1,2018,"January 2018","Library","7.000 X 9.000","Author","Caroline Kennon",null,null,null,null,"Z",null,"Years 12 - 15","Grade 7","Grade 7 - 10","In recent years, the stories of black women in scientific and mathematical fields have finally emerged from the shadows of history to inspire new generations of Americans. Through engaging main text filled with quotes from prominent figures, readers understand how black women who pursued careers in science and math helped shape the history of the world and continue to shape its future. Eye-catching photographs make this complex and influential topic easily relatable, while informative sidebars provide a thorough investigation of powerful women in powerful careers.","English",39.4,31.52,"509.2/52--dc23","104 pp.",{"$f":"Table1[[#This Row],['# of Books]]*Table1[[#This Row],[QTY]]","v":0},{"$f":"Table1[[#This Row],[QTY]]*Table1[[#This Row],[School & Library Price]]","v":0}]
[null,75,24,null,"U.S. History","Lucent Library of Black History","Hidden No More: African American Women in STEM Careers","978-1-5345-6244-8","Lucent Press","eBook",1,2018,"January 2018",null,null,"Author","Caroline Kennon",null,null,null,null,"Z",null,"Years 12 - 15","Grade 7","Grade 7 - 10","In recent years, the stories of black women in scientific and mathematical fields have finally emerged from the shadows of history to inspire new generations of Americans. Through engaging main text filled with quotes from prominent figures, readers understand how black women who pursued careers in science and math helped shape the history of the world and continue to shape its future. Eye-catching photographs make this complex and influential topic easily relatable, while informative sidebars provide a thorough investigation of powerful women in powerful careers.","English",39.4,31.52,"509.2/52--dc23","104 pp.",{"$f":"Table1[[#This Row],['# of Books]]*Table1[[#This Row],[QTY]]","v":0},{"$f":"Table1[[#This Row],[QTY]]*Table1[[#This Row],[School & Library Price]]","v":0}]
[null,null,24,null,"U.S. History","Lucent Library of Black History","Hidden No More: African American Women in STEM Careers","978-1-5345-6295-0","Lucent Press","Paperback Book",1,2018,"January 2018","Paperback","7.000 X 9.000","Author","Caroline Kennon",null,null,null,null,"Z",null,"Years 12 - 15","Grade 7","Grade 7 - 10","In recent years, the stories of black women in scientific and mathematical fields have finally emerged from the shadows of history to inspire new generations of Americans. Through engaging main text filled with quotes from prominent figures, readers understand how black women who pursued careers in science and math helped shape the history of the world and continue to shape its future. Eye-catching photographs make this complex and influential topic easily relatable, while informative sidebars provide a thorough investigation of powerful women in powerful careers.","English",19.989999999999998,16.989999999999998,"509.2/52--dc23","104 pp.",{"$f":"Table1[[#This Row],['# of Books]]*Table1[[#This Row],[QTY]]","v":0},{"$f":"Table1[[#This Row],[QTY]]*Table1[[#This Row],[School & Library Price]]","v":0}]
[null,75,24,null,"U.S. History","Lucent Library of Black History","Marching for Equality: The Journey from Selma to Montgomery","978-1-5345-6241-7","Lucent Press","Library Bound Book",1,2018,"January 2018","Library","7.000 X 9.000","Author","Vanessa Oswald",null,null,null,null,"Z",null,"Years 12 - 15","Grade 7","Grade 7 - 10","One of the greatest leaders in American history, Martin Luther King Jr., organized a march from Selma, Alabama, to that state’s capital, Montgomery, in 1965. He and other activists wanted to call attention to the civil rights violations that plagued Alabama, as well as the struggle many African Americans were going through to exercise their right to vote. Readers learn about this important moment in American history through comprehensive text, quotes from civil rights leaders, and powerful photographs from the historic march to Montgomery.","English",39.4,31.52,"323.1196'073--dc23","104 pp.",{"$f":"Table1[[#This Row],['# of Books]]*Table1[[#This Row],[QTY]]","v":0},{"$f":"Table1[[#This Row],[QTY]]*Table1[[#This Row],[School & Library Price]]","v":0}]
[null,75,24,null,"U.S. History","Lucent Library of Black History","Marching for Equality: The Journey from Selma to Montgomery","978-1-5345-6242-4","Lucent Press","eBook",1,2018,"January 2018",null,null,"Author","Vanessa Oswald",null,null,null,null,"Z",null,"Years 12 - 15","Grade 7","Grade 7 - 10","One of the greatest leaders in American history, Martin Luther King Jr., organized a march from Selma, Alabama, to that state’s capital, Montgomery, in 1965. He and other activists wanted to call attention to the civil rights violations that plagued Alabama, as well as the struggle many African Americans were going through to exercise their right to vote. Readers learn about this important moment in American history through comprehensive text, quotes from civil rights leaders, and powerful photographs from the historic march to Montgomery.","English",39.4,31.52,"323.1196'073--dc23","104 pp.",{"$f":"Table1[[#This Row],['# of Books]]*Table1[[#This Row],[QTY]]","v":0},{"$f":"Table1[[#This Row],[QTY]]*Table1[[#This Row],[School & Library Price]]","v":0}]
[null,null,24,null,"U.S. History","Lucent Library of Black History","Marching for Equality: The Journey from Selma to Montgomery","978-1-5345-6296-7","Lucent Press","Paperback Book",1,2018,"January 2018","Paperback","7.000 X 9.000","Author","Vanessa Oswald",null,null,null,null,"Z",null,"Years 12 - 15","Grade 7","Grade 7 - 10","One of the greatest leaders in American history, Martin Luther King Jr., organized a march from Selma, Alabama, to that state’s capital, Montgomery, in 1965. He and other activists wanted to call attention to the civil rights violations that plagued Alabama, as well as the struggle many African Americans were going through to exercise their right to vote. Readers learn about this important moment in American history through comprehensive text, quotes from civil rights leaders, and powerful photographs from the historic march to Montgomery.","English",19.989999999999998,16.989999999999998,"323.1196'073--dc23","104 pp.",{"$f":"Table1[[#This Row],['# of Books]]*Table1[[#This Row],[QTY]]","v":0},{"$f":"Table1[[#This Row],[QTY]]*Table1[[#This Row],[School & Library Price]]","v":0}]
[null,75,24,null,"U.S. History","Lucent Library of Black History","Reparations for Slavery: The Fight for Compensation","978-1-5345-6233-2","Lucent Press","Library Bound Book",1,2018,"January 2018","Library","7.000 X 9.000","Author","Sarah Goldy-Brown",null,null,null,null,"Z",null,"Years 12 - 15","Grade 7","Grade 7 - 10","The enslavement of Africans in America is one of the most shameful aspects of U.S. history. In modern times, some activist groups have called for compensation, also known as reparations, to be made to descendants of slaves. Detailing all the angles of this ongoing debate, this subject is explored through rich main text, engaging sidebars, primary sources, and annotated quotes from influential figures. Readers get a nuanced understanding of the arguments both for and against reparations for slavery, enhancing what they learn in their social studies classes.","English",39.4,31.52,"306.3/620973--dc23","104 pp.",{"$f":"Table1[[#This Row],['# of Books]]*Table1[[#This Row],[QTY]]","v":0},{"$f":"Table1[[#This Row],[QTY]]*Table1[[#This Row],[School & Library Price]]","v":0}]
[null,75,24,null,"U.S. History","Lucent Library of Black History","Reparations for Slavery: The Fight for Compensation","978-1-5345-6234-9","Lucent Press","eBook",1,2018,"January 2018",null,null,"Author","Sarah Goldy-Brown",null,null,null,null,"Z",null,"Years 12 - 15","Grade 7","Grade 7 - 10","The enslavement of Africans in America is one of the most shameful aspects of U.S. history. In modern times, some activist groups have called for compensation, also known as reparations, to be made to descendants of slaves. Detailing all the angles of this ongoing debate, this subject is explored through rich main text, engaging sidebars, primary sources, and annotated quotes from influential figures. Readers get a nuanced understanding of the arguments both for and against reparations for slavery, enhancing what they learn in their social studies classes.","English",39.4,31.52,"306.3/620973--dc23","104 pp.",{"$f":"Table1[[#This Row],['# of Books]]*Table1[[#This Row],[QTY]]","v":0},{"$f":"Table1[[#This Row],[QTY]]*Table1[[#This Row],[School & Library Price]]","v":0}]
[null,null,24,null,"U.S. History","Lucent Library of Black History","Reparations for Slavery: The Fight for Compensation","978-1-5345-6297-4","Lucent Press","Paperback Book",1,2018,"January 2018","Paperback","7.000 X 9.000","Author","Sarah Goldy-Brown",null,null,null,null,"Z",null,"Years 12 - 15","Grade 7","Grade 7 - 10","The enslavement of Africans in America is one of the most shameful aspects of U.S. history. In modern times, some activist groups have called for compensation, also known as reparations, to be made to descendants of slaves. Detailing all the angles of this ongoing debate, this subject is explored through rich main text, engaging sidebars, primary sources, and annotated quotes from influential figures. Readers get a nuanced understanding of the arguments both for and against reparations for slavery, enhancing what they learn in their social studies classes.","English",19.989999999999998,16.989999999999998,"306.3/620973--dc23","104 pp.",{"$f":"Table1[[#This Row],['# of Books]]*Table1[[#This Row],[QTY]]","v":0},{"$f":"Table1[[#This Row],[QTY]]*Table1[[#This Row],[School & Library Price]]","v":0}]
[null,75,24,null,"U.S. History","Lucent Library of Black History","The Freedom Rides: The Rise of the Civil Rights Movement","978-1-5345-6239-4","Lucent Press","Library Bound Book",1,2018,"January 2018","Library","7.000 X 9.000","Author","Sarah Machajewski",null,null,null,null,"Z",null,"Years 12 - 15","Grade 7","Grade 7 - 10","By the middle of the 1900s, African Americans were tired of the discriminatory treatment they had been receiving even after the abolition of slavery nearly 100 years prior. As the American civil rights movement began to grow, a group of courageous activists, called the Freedom Riders, began challenging the segregated status quo. Assisted by engaging fact boxes and a comprehensive text, readers are placed in the middle of the fight for equality. Striking photographs show readers the human aspect of the push, and fight, for greater social equality.","English",39.4,31.52,"323.1196/073--dc23","104 pp.",{"$f":"Table1[[#This Row],['# of Books]]*Table1[[#This Row],[QTY]]","v":0},{"$f":"Table1[[#This Row],[QTY]]*Table1[[#This Row],[School & Library Price]]","v":0}]
[null,75,24,null,"U.S. History","Lucent Library of Black History","The Freedom Rides: The Rise of the Civil Rights Movement","978-1-5345-6240-0","Lucent Press","eBook",1,2018,"January 2018",null,null,"Author","Sarah Machajewski",null,null,null,null,"Z",null,"Years 12 - 15","Grade 7","Grade 7 - 10","By the middle of the 1900s, African Americans were tired of the discriminatory treatment they had been receiving even after the abolition of slavery nearly 100 years prior. As the American civil rights movement began to grow, a group of courageous activists, called the Freedom Riders, began challenging the segregated status quo. Assisted by engaging fact boxes and a comprehensive text, readers are placed in the middle of the fight for equality. Striking photographs show readers the human aspect of the push, and fight, for greater social equality.","English",39.4,31.52,"323.1196/073--dc23","104 pp.",{"$f":"Table1[[#This Row],['# of Books]]*Table1[[#This Row],[QTY]]","v":0},{"$f":"Table1[[#This Row],[QTY]]*Table1[[#This Row],[School & Library Price]]","v":0}]
[null,null,24,null,"U.S. History","Lucent Library of Black History","The Freedom Rides: The Rise of the Civil Rights Movement","978-1-5345-6298-1","Lucent Press","Paperback Book",1,2018,"January 2018","Paperback","7.000 X 9.000","Author","Sarah Machajewski",null,null,null,null,"Z",null,"Years 12 - 15","Grade 7","Grade 7 - 10","By the middle of the 1900s, African Americans were tired of the discriminatory treatment they had been receiving even after the abolition of slavery nearly 100 years prior. As the American civil rights movement began to grow, a group of courageous activists, called the Freedom Riders, began challenging the segregated status quo. Assisted by engaging fact boxes and a comprehensive text, readers are placed in the middle of the fight for equality. Striking photographs show readers the human aspect of the push, and fight, for greater social equality.","English",19.989999999999998,16.989999999999998,"323.1196/073--dc23","104 pp.",{"$f":"Table1[[#This Row],['# of Books]]*Table1[[#This Row],[QTY]]","v":0},{"$f":"Table1[[#This Row],[QTY]]*Table1[[#This Row],[School & Library Price]]","v":0}]
[null,75,24,null,"U.S. History","Lucent Library of Black History","The Transatlantic Slave Trade: Slavery Comes to the New World","978-1-5345-6237-0","Lucent Press","Library Bound Book",1,2018,"January 2018","Library","7.000 X 9.000","Author","Siyavush Saidian",null,null,null,null,"Z",null,"Years 12 - 15","Grade 7","Grade 7 - 10","When European settlers first started their migration to the Western Hemisphere, they found land that was ready for farming. To build this agricultural society, they bought and sold slaves from Africa. Through the detailed text, contemporary and historical images, and informative sidebars, readers get a sense of how complex and dangerous the transatlantic slave trade was in the early years of New World exploration. Powerful quotes from primary sources and scholars bring this painful period in America’s past to life, asking readers to think more critically about history.","English",39.4,31.52,"306.3/62--dc23","104 pp.",{"$f":"Table1[[#This Row],['# of Books]]*Table1[[#This Row],[QTY]]","v":0},{"$f":"Table1[[#This Row],[QTY]]*Table1[[#This Row],[School & Library Price]]","v":0}]
[null,75,24,null,"U.S. History","Lucent Library of Black History","The Transatlantic Slave Trade: Slavery Comes to the New World","978-1-5345-6238-7","Lucent Press","eBook",1,2018,"January 2018",null,null,"Author","Siyavush Saidian",null,null,null,null,"Z",null,"Years 12 - 15","Grade 7","Grade 7 - 10","When European settlers first started their migration to the Western Hemisphere, they found land that was ready for farming. To build this agricultural society, they bought and sold slaves from Africa. Through the detailed text, contemporary and historical images, and informative sidebars, readers get a sense of how complex and dangerous the transatlantic slave trade was in the early years of New World exploration. Powerful quotes from primary sources and scholars bring this painful period in America’s past to life, asking readers to think more critically about history.","English",39.4,31.52,"306.3/62--dc23","104 pp.",{"$f":"Table1[[#This Row],['# of Books]]*Table1[[#This Row],[QTY]]","v":0},{"$f":"Table1[[#This Row],[QTY]]*Table1[[#This Row],[School & Library Price]]","v":0}]
[null,null,24,null,"U.S. History","Lucent Library of Black History","The Transatlantic Slave Trade: Slavery Comes to the New World","978-1-5345-6299-8","Lucent Press","Paperback Book",1,2018,"January 2018","Paperback","7.000 X 9.000","Author","Siyavush Saidian",null,null,null,null,"Z",null,"Years 12 - 15","Grade 7","Grade 7 - 10","When European settlers first started their migration to the Western Hemisphere, they found land that was ready for farming. To build this agricultural society, they bought and sold slaves from Africa. Through the detailed text, contemporary and historical images, and informative sidebars, readers get a sense of how complex and dangerous the transatlantic slave trade was in the early years of New World exploration. Powerful quotes from primary sources and scholars bring this painful period in America’s past to life, asking readers to think more critically about history.","English",19.989999999999998,16.989999999999998,"306.3/62--dc23","104 pp.",{"$f":"Table1[[#This Row],['# of Books]]*Table1[[#This Row],[QTY]]","v":0},{"$f":"Table1[[#This Row],[QTY]]*Table1[[#This Row],[School & Library Price]]","v":0}]
[null,75,24,null,"U.S. History","Lucent Library of Black History","Lucent Library of Black History (Aug '17 Set)","978-1-5345-6166-3","Lucent Press","Library Set",6,2018,"August 2017","Library","7.000 X 9.000"," "," ",null,null,null,null,null,null,"Years 12 - 15","Grade 7","Grade 7 - 10","Black history is an essential aspect of American history, but the contributions of and struggles faced by African Americans often do not get sufficient attention in discussions of the history of the United States as a whole. As readers explore each topic, a clearer picture begins to emerge of the African American experience. Engaging text, including informative sidebars and annotated quotes, examines the rich history of black inventors, musicians, politicians, writers, entrepreneurs, filmmakers, and actors. Their stories are enhanced by historical images and current photographs, as well as a detailed timeline of relevant events.","English",236.4,189.12,null,"104 pp.",{"$f":"Table1[[#This Row],['# of Books]]*Table1[[#This Row],[QTY]]","v":0},{"$f":"Table1[[#This Row],[QTY]]*Table1[[#This Row],[School & Library Price]]","v":0}]
[null,75,24,null,"U.S. History","Lucent Library of Black History","Lucent Library of Black History (Aug '17 Set)","978-1-5345-6167-0","Lucent Press","eBook Set",6,2018,"August 2017",null,null," "," ",null,null,null,null,null,null,"Years 12 - 15","Grade 7","Grade 7 - 10","Black history is an essential aspect of American history, but the contributions of and struggles faced by African Americans often do not get sufficient attention in discussions of the history of the United States as a whole. As readers explore each topic, a clearer picture begins to emerge of the African American experience. Engaging text, including informative sidebars and annotated quotes, examines the rich history of black inventors, musicians, politicians, writers, entrepreneurs, filmmakers, and actors. Their stories are enhanced by historical images and current photographs, as well as a detailed timeline of relevant events.","English",236.4,189.12,null,"104 pp.",{"$f":"Table1[[#This Row],['# of Books]]*Table1[[#This Row],[QTY]]","v":0},{"$f":"Table1[[#This Row],[QTY]]*Table1[[#This Row],[School & Library Price]]","v":0}]
[null,75,24,null,"U.S. History","Lucent Library of Black History","African American Entrepreneurs: Stories of Success","978-1-5345-6079-6","Lucent Press","Library Bound Book",1,2018,"August 2017","Library","7.000 X 9.000","Author","Philip Wolny",null,null,null,null,"Z",null,"Years 12 - 15","Grade 7","Grade 7 - 10","Starting a business is inherently risky, but it has historically been much harder for African Americans due to the systemic racism they face in many different areas. However, many black entrepreneurs have overcome those barriers to create successful businesses, working harder than their white counterparts to achieve similar results. Readers will learn about the history of discrimination against African Americans in the business world and how it has been and still can be combated. Historical and contemporary photographs and a comprehensive timeline shine a spotlight on many African American entrepreneurs who have changed the world.","English",39.4,31.52,"338'.0089'96073--dc23","104 pp.",{"$f":"Table1[[#This Row],['# of Books]]*Table1[[#This Row],[QTY]]","v":0},{"$f":"Table1[[#This Row],[QTY]]*Table1[[#This Row],[School & Library Price]]","v":0}]
[null,75,24,null,"U.S. History","Lucent Library of Black History","African American Entrepreneurs: Stories of Success","978-1-5345-6080-2","Lucent Press","eBook",1,2018,"August 2017",null,null,"Author","Philip Wolny",null,null,null,null,"Z",null,"Years 12 - 15","Grade 7","Grade 7 - 10","Starting a business is inherently risky, but it has historically been much harder for African Americans due to the systemic racism they face in many different areas. However, many black entrepreneurs have overcome those barriers to create successful businesses, working harder than their white counterparts to achieve similar results. Readers will learn about the history of discrimination against African Americans in the business world and how it has been and still can be combated. Historical and contemporary photographs and a comprehensive timeline shine a spotlight on many African American entrepreneurs who have changed the world.","English",39.4,31.52,"338'.0089'96073--dc23","104 pp.",{"$f":"Table1[[#This Row],['# of Books]]*Table1[[#This Row],[QTY]]","v":0},{"$f":"Table1[[#This Row],[QTY]]*Table1[[#This Row],[School & Library Price]]","v":0}]
[null,75,24,null,"U.S. History","Lucent Library of Black History","African American Inventors: Overcoming Challenges to Change America","978-1-5345-6071-0","Lucent Press","Library Bound Book",1,2018,"August 2017","Library","7.000 X 9.000","Author","Sophie Washburne",null,null,null,null,"Z",null,"Years 12 - 15","Grade 7","Grade 7 - 10","Many of the products we use every day were invented by African Americans, although these inventors unfortunately have not often been given credit for their contributions. Readers will take a fascinating look at the black men and women who have helped shape the world as we know it today with their inventions. Engaging text presents a discussion of the lives of prominent black inventors, including the struggles they dealt with in the past and continue to face today. A timeline of important dates, historical and contemporary images, and informative sidebars enhance this frequently overlooked area of history.","English",39.4,31.52,"609.2/396073--dc23","104 pp.",{"$f":"Table1[[#This Row],['# of Books]]*Table1[[#This Row],[QTY]]","v":0},{"$f":"Table1[[#This Row],[QTY]]*Table1[[#This Row],[School & Library Price]]","v":0}]
[null,75,24,null,"U.S. History","Lucent Library of Black History","African American Inventors: Overcoming Challenges to Change America","978-1-5345-6072-7","Lucent Press","eBook",1,2018,"August 2017",null,null,"Author","Sophie Washburne",null,null,null,null,"Z",null,"Years 12 - 15","Grade 7","Grade 7 - 10","Many of the products we use every day were invented by African Americans, although these inventors unfortunately have not often been given credit for their contributions. Readers will take a fascinating look at the black men and women who have helped shape the world as we know it today with their inventions. Engaging text presents a discussion of the lives of prominent black inventors, including the struggles they dealt with in the past and continue to face today. A timeline of important dates, historical and contemporary images, and informative sidebars enhance this frequently overlooked area of history.","English",39.4,31.52,"609.2/396073--dc23","104 pp.",{"$f":"Table1[[#This Row],['# of Books]]*Table1[[#This Row],[QTY]]","v":0},{"$f":"Table1[[#This Row],[QTY]]*Table1[[#This Row],[School & Library Price]]","v":0}]
[null,75,24,null,"U.S. History","Lucent Library of Black History","African American Literature: Sharing Powerful Stories","978-1-5345-6077-2","Lucent Press","Library Bound Book",1,2018,"August 2017","Library","7.000 X 9.000","Author","Meghan Sharif",null,null,null,null,"Z",null,"Years 12 - 15","Grade 7","Grade 7 - 10","Since the 18th century, African Americans have been contributing important works to American literature. However, their writing has been treated differently than those produced by white authors. Readers discover the challenges black authors have faced in having their work published and being taken seriously by critics and readers alike. Engaging sidebars and detailed photographs augment this comprehensive overview of the racism that still persists in the publishing industry.","English",39.4,31.52,"810.9'9287--dc23","112 pp.",{"$f":"Table1[[#This Row],['# of Books]]*Table1[[#This Row],[QTY]]","v":0},{"$f":"Table1[[#This Row],[QTY]]*Table1[[#This Row],[School & Library Price]]","v":0}]
[null,75,24,null,"U.S. History","Lucent Library of Black History","African American Literature: Sharing Powerful Stories","978-1-5345-6078-9","Lucent Press","eBook",1,2018,"August 2017",null,null,"Author","Meghan Sharif",null,null,null,null,"Z",null,"Years 12 - 15","Grade 7","Grade 7 - 10","Since the 18th century, African Americans have been contributing important works to American literature. However, their writing has been treated differently than those produced by white authors. Readers discover the challenges black authors have faced in having their work published and being taken seriously by critics and readers alike. Engaging sidebars and detailed photographs augment this comprehensive overview of the racism that still persists in the publishing industry.","English",39.4,31.52,"810.9'9287--dc23","112 pp.",{"$f":"Table1[[#This Row],['# of Books]]*Table1[[#This Row],[QTY]]","v":0},{"$f":"Table1[[#This Row],[QTY]]*Table1[[#This Row],[School & Library Price]]","v":0}]
[null,75,24,null,"U.S. History","Lucent Library of Black History","African Americans in Film: Issues of Race in Hollywood","978-1-5345-6081-9","Lucent Press","Library Bound Book",1,2018,"August 2017","Library","7.000 X 9.000","Author","Camille R. Michaels",null,null,null,null,"Z",null,"Years 12 - 15","Grade 7","Grade 7 - 10","The whitewashing of roles in films and the lack of representation at awards shows such as the Oscars are only two of the career obstacles African American actors and filmmakers have historically faced. Although blackface is now taboo, racism is still prevalent in Hollywood. Readers explore the causes of the systemic oppression that has made it difficult for African Americans to break into the movie business. Through full-color photographs and primary sources, readers will learn how to become more thoughtful viewers of movies and television.","English",39.4,31.52,"791.43’652996073--dc23","104 pp.",{"$f":"Table1[[#This Row],['# of Books]]*Table1[[#This Row],[QTY]]","v":0},{"$f":"Table1[[#This Row],[QTY]]*Table1[[#This Row],[School & Library Price]]","v":0}]
[null,75,24,null,"U.S. History","Lucent Library of Black History","African Americans in Film: Issues of Race in Hollywood","978-1-5345-6082-6","Lucent Press","eBook",1,2018,"August 2017",null,null,"Author","Camille R. Michaels",null,null,null,null,"Z",null,"Years 12 - 15","Grade 7","Grade 7 - 10","The whitewashing of roles in films and the lack of representation at awards shows such as the Oscars are only two of the career obstacles African American actors and filmmakers have historically faced. Although blackface is now taboo, racism is still prevalent in Hollywood. Readers explore the causes of the systemic oppression that has made it difficult for African Americans to break into the movie business. Through full-color photographs and primary sources, readers will learn how to become more thoughtful viewers of movies and television.","English",39.4,31.52,"791.43’652996073--dc23","104 pp.",{"$f":"Table1[[#This Row],['# of Books]]*Table1[[#This Row],[QTY]]","v":0},{"$f":"Table1[[#This Row],[QTY]]*Table1[[#This Row],[School & Library Price]]","v":0}]
[null,75,24,null,"U.S. History","Lucent Library of Black History","African Americans in Political Office: From the Civil War to the White House","978-1-5345-6075-8","Lucent Press","Library Bound Book",1,2018,"August 2017","Library","7.000 X 9.000","Author","Barbara M. Linde ",null,null,null,null,"Z",null,"Years 12 - 15","Grade 7","Grade 7 - 10","Barack Obama made history when he became president in 2008, but his election was made possible partially by the hard work of the many African American politicians who came before him. Even before the abolition of slavery, African Americans held political office, although they have not had an easy time of it. This historical overview of black politicians in the United States enhances classroom learning by bringing to light little-known facts, supported by primary sources and a timeline of important events.","English",39.4,31.52,"973'.0496073--dc23","104 pp.",{"$f":"Table1[[#This Row],['# of Books]]*Table1[[#This Row],[QTY]]","v":0},{"$f":"Table1[[#This Row],[QTY]]*Table1[[#This Row],[School & Library Price]]","v":0}]
[null,75,24,null,"U.S. History","Lucent Library of Black History","African Americans in Political Office: From the Civil War to the White House","978-1-5345-6076-5","Lucent Press","eBook",1,2018,"August 2017",null,null,"Author","Barbara M. Linde ",null,null,null,null,"Z",null,"Years 12 - 15","Grade 7","Grade 7 - 10","Barack Obama made history when he became president in 2008, but his election was made possible partially by the hard work of the many African American politicians who came before him. Even before the abolition of slavery, African Americans held political office, although they have not had an easy time of it. This historical overview of black politicians in the United States enhances classroom learning by bringing to light little-known facts, supported by primary sources and a timeline of important events.","English",39.4,31.52,"973'.0496073--dc23","104 pp.",{"$f":"Table1[[#This Row],['# of Books]]*Table1[[#This Row],[QTY]]","v":0},{"$f":"Table1[[#This Row],[QTY]]*Table1[[#This Row],[School & Library Price]]","v":0}]
[null,75,24,null,"U.S. History","Lucent Library of Black History","The Story of African American Music","978-1-5345-6073-4","Lucent Press","Library Bound Book",1,2018,"August 2017","Library","7.000 X 9.000","Author","Andrew Pina",null,null,null,null,"Z",null,"Years 12 - 15","Grade 7","Grade 7 - 10","The influence of African Americans on music in the United States cannot be overstated. A large variety of musical genres owe their beginnings to black musicians. Jazz, rap, funk, R&B, and even techno have roots in African American culture. This volume chronicles the history of African American music, with spotlights on influential black musicians of the past and present. Historical and contemporary photographs, including primary sources, contribute to an in-depth look at this essential part of American musical history.","English",39.4,31.52,"780.89/96073--dc23","104 pp.",{"$f":"Table1[[#This Row],['# of Books]]*Table1[[#This Row],[QTY]]","v":0},{"$f":"Table1[[#This Row],[QTY]]*Table1[[#This Row],[School & Library Price]]","v":0}]
[null,75,24,null,"U.S. History","Lucent Library of Black History","The Story of African American Music","978-1-5345-6074-1","Lucent Press","eBook",1,2018,"August 2017",null,null,"Author","Andrew Pina",null,null,null,null,"Z",null,"Years 12 - 15","Grade 7","Grade 7 - 10","The influence of African Americans on music in the United States cannot be overstated. A large variety of musical genres owe their beginnings to black musicians. Jazz, rap, funk, R&B, and even techno have roots in African American culture. This volume chronicles the history of African American music, with spotlights on influential black musicians of the past and present. Historical and contemporary photographs, including primary sources, contribute to an in-depth look at this essential part of American musical history.","English",39.4,31.52,"780.89/96073--dc23","104 pp.",{"$f":"Table1[[#This Row],['# of Books]]*Table1[[#This Row],[QTY]]","v":0},{"$f":"Table1[[#This Row],[QTY]]*Table1[[#This Row],[School & Library Price]]","v":0}]
[null,null,25,null,"World History","World History","World History: Sets 1 – 2","978-1-5345-6315-5","Lucent Press","Library Set",12,2018,"January 2018",null,"7.000 X 9.000"," "," ",null,null,null,null,null,null,"Years 12 - 15","Grade 7","Grade 7 - 10","The study of world history is so much more than the study of names and dates; it is the study of stories of fascinating people, civilizations that rose and fell in dramatic fashion, and conflicts that have played out over hundreds – and sometimes thousands – of years. As readers take a closer look at these stories, they develop a deeper understanding of and appreciation for history. They are aided in their journey through history by fact-filled main text and sidebars, annotated quotations from historical figures and contemporary historians, primary sources, and a timeline.\n\nFeatures include: Engaging design featuring historical and contemporary images encourages readers to see history as a vibrant subject. Wide range of diverse topics takes readers around the world and through time – from ancient Egypt to contemporary Russia. Comprehensive text asks readers to think critically about the past and examine recurring patterns in history to find lessons we can take into the future.","English",478.8,383.04,null,"104 pp.",{"$f":"Table1[[#This Row],['# of Books]]*Table1[[#This Row],[QTY]]","v":0},{"$f":"Table1[[#This Row],[QTY]]*Table1[[#This Row],[School & Library Price]]","v":0}]
[null,79,25,null,"World History","World History","World History: Set 2","978-1-5345-6261-5","Lucent Press","Library Set",6,2018,"January 2018",null,"7.000 X 9.000"," "," ",null,null,null,null,null,null,"Years 12 - 15","Grade 7","Grade 7 - 10","The study of world history is so much more than the study of names and dates; it is the study of stories of fascinating people, civilizations that rose and fell in dramatic fashion, and conflicts that have played out over hundreds – and sometimes thousands – of years. As readers take a closer look at these stories, they develop a deeper understanding of and appreciation for history. They are aided in their journey through history by fact-filled main text and sidebars, annotated quotations from historical figures and contemporary historians, primary sources, and a timeline.\n\nFeatures include: Engaging design featuring historical and contemporary images encourages readers to see history as a vibrant subject. Wide range of diverse topics takes readers around the world and through time – from ancient Egypt to contemporary Russia. Comprehensive text asks readers to think critically about the past and examine recurring patterns in history to find lessons we can take into the future.","English",239.4,191.52,null,"104 pp.",{"$f":"Table1[[#This Row],['# of Books]]*Table1[[#This Row],[QTY]]","v":0},{"$f":"Table1[[#This Row],[QTY]]*Table1[[#This Row],[School & Library Price]]","v":0}]
[null,79,null,null,"World History","World History","World History: Set 2","978-1-5345-6268-4","Lucent Press","eBook Set",6,2018,"January 2018",null,null," "," ",null,null,null,null,null,null,"Years 12 - 15","Grade 7","Grade 7 - 10","The study of world history is so much more than the study of names and dates; it is the study of stories of fascinating people, civilizations that rose and fell in dramatic fashion, and conflicts that have played out over hundreds – and sometimes thousands – of years. As readers take a closer look at these stories, they develop a deeper understanding of and appreciation for history. They are aided in their journey through history by fact-filled main text and sidebars, annotated quotations from historical figures and contemporary historians, primary sources, and a timeline.\r\nFeatures include: Engaging design featuring historical and contemporary images encourages readers to see history as a vibrant subject. Wide range of diverse topics takes readers around the world and through time – from ancient Egypt to contemporary Russia. Comprehensive text asks readers to think critically about the past and examine recurring patterns in history to find lessons we can take into the future.","English",239.4,191.52,null,"104 pp.",{"$f":"Table1[[#This Row],['# of Books]]*Table1[[#This Row],[QTY]]","v":0},{"$f":"Table1[[#This Row],[QTY]]*Table1[[#This Row],[School & Library Price]]","v":0}]
[null,null,25,null,"World History","World History","World History","978-1-5345-6322-3","Lucent Press","Single Copy Set",6,2018,"January 2018",null,"7.000 X 9.000"," "," ",null,null,null,null,null,null,"Years 12 - 15","Grade 7","Grade 7 - 10","The study of world history is so much more than the study of names and dates; it is the study of stories of fascinating people, civilizations that rose and fell in dramatic fashion, and conflicts that have played out over hundreds – and sometimes thousands – of years. As readers take a closer look at these stories, they develop a deeper understanding of and appreciation for history. They are aided in their journey through history by fact-filled main text and sidebars, annotated quotations from historical figures and contemporary historians, primary sources, and a timeline.\n\nFeatures include: Engaging design featuring historical and contemporary images encourages readers to see history as a vibrant subject. Wide range of diverse topics takes readers around the world and through time – from ancient Egypt to contemporary Russia. Comprehensive text asks readers to think critically about the past and examine recurring patterns in history to find lessons we can take into the future.","English",119.94,101.94,null,"104 pp.",{"$f":"Table1[[#This Row],['# of Books]]*Table1[[#This Row],[QTY]]","v":0},{"$f":"Table1[[#This Row],[QTY]]*Table1[[#This Row],[School & Library Price]]","v":0}]
[null,79,25,null,"World History","World History","Ancient Egypt: The Land of Pyramids and Pharaohs","978-1-5345-6246-2","Lucent Press","Library Bound Book",1,2018,"January 2018","Library","7.000 X 9.000","Author","Nicole Horning",null,null,null,null,"Z",null,"Years 12 - 15","Grade 7","Grade 7 - 10","Ancient Egypt is one of the most widely studied historical civilizations. Readers are introduced to important facts about ancient Egypt and the ways ancient Egyptians influenced the world for thousands of years. Readers explore this complex culture through accessible text, annotated quotations from historians, vibrant photographs and historical images, and enlightening sidebars. Readers may know about Egypt’s pyramids and pharaohs from their history classes, but they will enjoy learning lesser-known stories of this amazing part of the ancient world.","English",39.9,31.92,"932/.01--dc23","104 pp.",{"$f":"Table1[[#This Row],['# of Books]]*Table1[[#This Row],[QTY]]","v":0},{"$f":"Table1[[#This Row],[QTY]]*Table1[[#This Row],[School & Library Price]]","v":0}]
[null,79,25,null,"World History","World History","Ancient Egypt: The Land of Pyramids and Pharaohs","978-1-5345-6247-9","Lucent Press","eBook",1,2018,"January 2018",null,null,"Author","Nicole Horning",null,null,null,null,"Z",null,"Years 12 - 15","Grade 7","Grade 7 - 10","Ancient Egypt is one of the most widely studied historical civilizations. Readers are introduced to important facts about ancient Egypt and the ways ancient Egyptians influenced the world for thousands of years. Readers explore this complex culture through accessible text, annotated quotations from historians, vibrant photographs and historical images, and enlightening sidebars. Readers may know about Egypt’s pyramids and pharaohs from their history classes, but they will enjoy learning lesser-known stories of this amazing part of the ancient world.","English",39.9,31.92,"932/.01--dc23","104 pp.",{"$f":"Table1[[#This Row],['# of Books]]*Table1[[#This Row],[QTY]]","v":0},{"$f":"Table1[[#This Row],[QTY]]*Table1[[#This Row],[School & Library Price]]","v":0}]
[null,null,25,null,"World History","World History","Ancient Egypt: The Land of Pyramids and Pharaohs","978-1-5345-6306-3","Lucent Press","Paperback Book",1,2018,"January 2018","Paperback","7.000 X 9.000","Author","Nicole Horning",null,null,null,null,"Z",null,"Years 12 - 15","Grade 7","Grade 7 - 10","Ancient Egypt is one of the most widely studied historical civilizations. Readers are introduced to important facts about ancient Egypt and the ways ancient Egyptians influenced the world for thousands of years. Readers explore this complex culture through accessible text, annotated quotations from historians, vibrant photographs and historical images, and enlightening sidebars. Readers may know about Egypt’s pyramids and pharaohs from their history classes, but they will enjoy learning lesser-known stories of this amazing part of the ancient world.","English",19.989999999999998,16.989999999999998,"932/.01--dc23","104 pp.",{"$f":"Table1[[#This Row],['# of Books]]*Table1[[#This Row],[QTY]]","v":0},{"$f":"Table1[[#This Row],[QTY]]*Table1[[#This Row],[School & Library Price]]","v":0}]
[null,79,25,null,"World History","World History","Genghis Khan: Creating the Mongol Empire","978-1-5345-6248-6","Lucent Press","Library Bound Book",1,2018,"January 2018","Library","7.000 X 9.000","Author","Barbara M. Linde",null,null,null,null,"Z",null,"Years 12 - 15","Grade 7","Grade 7 - 10","Throughout history, there have been few conquerors more prominent than Genghis Khan, the first ruler of what would become the Mongol Empire. Readers learn about the humble beginnings of his life, as he rose from anonymity to become one of the most famous rulers in history. They also explore his life as he handled the challenges of leading an empire of millions. Through comprehensive text, informative sidebars, historical images, and vibrant photographs, readers are given the opportunity to explore the world of 13th-century Asia, enhancing their knowledge of this common social studies curriculum topic.","English",39.9,31.92,"950/.21092--dc23","104 pp.",{"$f":"Table1[[#This Row],['# of Books]]*Table1[[#This Row],[QTY]]","v":0},{"$f":"Table1[[#This Row],[QTY]]*Table1[[#This Row],[School & Library Price]]","v":0}]
[null,79,25,null,"World History","World History","Genghis Khan: Creating the Mongol Empire","978-1-5345-6249-3","Lucent Press","eBook",1,2018,"January 2018",null,null,"Author","Barbara M. Linde",null,null,null,null,"Z",null,"Years 12 - 15","Grade 7","Grade 7 - 10","Throughout history, there have been few conquerors more prominent than Genghis Khan, the first ruler of what would become the Mongol Empire. Readers learn about the humble beginnings of his life, as he rose from anonymity to become one of the most famous rulers in history. They also explore his life as he handled the challenges of leading an empire of millions. Through comprehensive text, informative sidebars, historical images, and vibrant photographs, readers are given the opportunity to explore the world of 13th-century Asia, enhancing their knowledge of this common social studies curriculum topic.","English",39.9,31.92,"950/.21092--dc23","104 pp.",{"$f":"Table1[[#This Row],['# of Books]]*Table1[[#This Row],[QTY]]","v":0},{"$f":"Table1[[#This Row],[QTY]]*Table1[[#This Row],[School & Library Price]]","v":0}]
[null,null,25,null,"World History","World History","Genghis Khan: Creating the Mongol Empire","978-1-5345-6307-0","Lucent Press","Paperback Book",1,2018,"January 2018","Paperback","7.000 X 9.000","Author","Barbara M. Linde",null,null,null,null,"Z",null,"Years 12 - 15","Grade 7","Grade 7 - 10","Throughout history, there have been few conquerors more prominent than Genghis Khan, the first ruler of what would become the Mongol Empire. Readers learn about the humble beginnings of his life, as he rose from anonymity to become one of the most famous rulers in history. They also explore his life as he handled the challenges of leading an empire of millions. Through comprehensive text, informative sidebars, historical images, and vibrant photographs, readers are given the opportunity to explore the world of 13th-century Asia, enhancing their knowledge of this common social studies curriculum topic.","English",19.989999999999998,16.989999999999998,"950/.21092--dc23","104 pp.",{"$f":"Table1[[#This Row],['# of Books]]*Table1[[#This Row],[QTY]]","v":0},{"$f":"Table1[[#This Row],[QTY]]*Table1[[#This Row],[School & Library Price]]","v":0}]
[null,79,25,null,"World History","World History","India in Ancient Times","978-1-5345-6182-3","Lucent Press","Library Bound Book",1,2018,"January 2018","Library","7.000 X 9.000","Author","Cecilia Jennings",null,null,null,null,"Z",null,"Years 12 - 15","Grade 7","Grade 7 - 10","The history and culture of ancient India is rich and complex. However, most history classes only touch on the most prominent aspects of ancient Indian culture, such as Hinduism. Readers experience the full breadth of this ancient society through detailed text, insightful quotes from historians, and fascinating sidebars. Vivid photographs and historical images are included to enhance the reading experience. From the lives of powerful historical figures to the stories of mythological heroes, ancient India comes to life in a way that strongly supplements standard social studies curricula.","English",39.9,31.92,"934--dc23","104 pp.",{"$f":"Table1[[#This Row],['# of Books]]*Table1[[#This Row],[QTY]]","v":0},{"$f":"Table1[[#This Row],[QTY]]*Table1[[#This Row],[School & Library Price]]","v":0}]
[null,79,25,null,"World History","World History","India in Ancient Times","978-1-5345-6181-6","Lucent Press","eBook",1,2018,"January 2018",null,null,"Author","Cecilia Jennings",null,null,null,null,"Z",null,"Years 12 - 15","Grade 7","Grade 7 - 10","The history and culture of ancient India is rich and complex. However, most history classes only touch on the most prominent aspects of ancient Indian culture, such as Hinduism. Readers experience the full breadth of this ancient society through detailed text, insightful quotes from historians, and fascinating sidebars. Vivid photographs and historical images are included to enhance the reading experience. From the lives of powerful historical figures to the stories of mythological heroes, ancient India comes to life in a way that strongly supplements standard social studies curricula.","English",39.9,31.92,"934--dc23","104 pp.",{"$f":"Table1[[#This Row],['# of Books]]*Table1[[#This Row],[QTY]]","v":0},{"$f":"Table1[[#This Row],[QTY]]*Table1[[#This Row],[School & Library Price]]","v":0}]
[null,null,25,null,"World History","World History","India in Ancient Times","978-1-5345-6308-7","Lucent Press","Paperback Book",1,2018,"January 2018","Paperback","7.000 X 9.000","Author","Cecilia Jennings",null,null,null,null,"Z",null,"Years 12 - 15","Grade 7","Grade 7 - 10","The history and culture of ancient India is rich and complex. However, most history classes only touch on the most prominent aspects of ancient Indian culture, such as Hinduism. Readers experience the full breadth of this ancient society through detailed text, insightful quotes from historians, and fascinating sidebars. Vivid photographs and historical images are included to enhance the reading experience. From the lives of powerful historical figures to the stories of mythological heroes, ancient India comes to life in a way that strongly supplements standard social studies curricula.","English",19.989999999999998,16.989999999999998,"934--dc23","104 pp.",{"$f":"Table1[[#This Row],['# of Books]]*Table1[[#This Row],[QTY]]","v":0},{"$f":"Table1[[#This Row],[QTY]]*Table1[[#This Row],[School & Library Price]]","v":0}]
[null,79,25,null,"World History","World History","The Mysterious Maya Civilization","978-1-5345-6186-1","Lucent Press","Library Bound Book",1,2018,"January 2018","Library","7.000 X 9.000","Author","Emily Mahoney",null,null,null,null,"Z",null,"Years 12 - 15","Grade 7","Grade 7 - 10","Though Mayan culture has existed for more than 3,500 years, researchers and historians have only recently started unlocking some of the mysteries behind this Central American society. Thoroughly researched text guides readers through the gripping history of the Maya, including a detailed description of Maya culture. The main text is supplemented with engaging sidebars, full-color photographs, historical images, and expert, annotated analysis from leading scholars.","English",39.9,31.92,"972.81/016--dc23","104 pp.",{"$f":"Table1[[#This Row],['# of Books]]*Table1[[#This Row],[QTY]]","v":0},{"$f":"Table1[[#This Row],[QTY]]*Table1[[#This Row],[School & Library Price]]","v":0}]
[null,79,25,null,"World History","World History","The Mysterious Maya Civilization","978-1-5345-6185-4","Lucent Press","eBook",1,2018,"January 2018",null,null,"Author","Emily Mahoney",null,null,null,null,"Z",null,"Years 12 - 15","Grade 7","Grade 7 - 10","Though Mayan culture has existed for more than 3,500 years, researchers and historians have only recently started unlocking some of the mysteries behind this Central American society. Thoroughly researched text guides readers through the gripping history of the Maya, including a detailed description of Maya culture. The main text is supplemented with engaging sidebars, full-color photographs, historical images, and expert, annotated analysis from leading scholars.","English",39.9,31.92,"972.81/016--dc23","104 pp.",{"$f":"Table1[[#This Row],['# of Books]]*Table1[[#This Row],[QTY]]","v":0},{"$f":"Table1[[#This Row],[QTY]]*Table1[[#This Row],[School & Library Price]]","v":0}]
[null,null,25,null,"World History","World History","The Mysterious Maya Civilization","978-1-5345-6309-4","Lucent Press","Paperback Book",1,2018,"January 2018","Paperback","7.000 X 9.000","Author","Emily Mahoney",null,null,null,null,"Z",null,"Years 12 - 15","Grade 7","Grade 7 - 10","Though Mayan culture has existed for more than 3,500 years, researchers and historians have only recently started unlocking some of the mysteries behind this Central American society. Thoroughly researched text guides readers through the gripping history of the Maya, including a detailed description of Maya culture. The main text is supplemented with engaging sidebars, full-color photographs, historical images, and expert, annotated analysis from leading scholars.","English",19.989999999999998,16.989999999999998,"972.81/016--dc23","104 pp.",{"$f":"Table1[[#This Row],['# of Books]]*Table1[[#This Row],[QTY]]","v":0},{"$f":"Table1[[#This Row],[QTY]]*Table1[[#This Row],[School & Library Price]]","v":0}]
[null,79,25,null,"World History","World History","The Rise and Fall of the Aztec Empire","978-1-5345-6184-7","Lucent Press","Library Bound Book",1,2018,"January 2018","Library","7.000 X 9.000","Author","Joan Stoltman",null,null,null,null,"Z",null,"Years 12 - 15","Grade 7","Grade 7 - 10","Students are taught that the Aztecs were destroyed by Hernán Cortéz, the conqueror of Mexico. However, there is much to learn about who the Aztec people were before they were conquered. The native Mexicans were part of a rich and vibrant culture that spanned hundreds of years. To understand this complicated society, readers are provided with an engaging main text and colorful photographs and historical images. Informative sidebars throughout detail the long history, and sudden defeat, of the Aztec Empire.","English",39.9,31.92,"972--dc23","104 pp.",{"$f":"Table1[[#This Row],['# of Books]]*Table1[[#This Row],[QTY]]","v":0},{"$f":"Table1[[#This Row],[QTY]]*Table1[[#This Row],[School & Library Price]]","v":0}]
[null,79,25,null,"World History","World History","The Rise and Fall of the Aztec Empire","978-1-5345-6183-0","Lucent Press","eBook",1,2018,"January 2018",null,null,"Author","Joan Stoltman",null,null,null,null,"Z",null,"Years 12 - 15","Grade 7","Grade 7 - 10","Students are taught that the Aztecs were destroyed by Hernán Cortéz, the conqueror of Mexico. However, there is much to learn about who the Aztec people were before they were conquered. The native Mexicans were part of a rich and vibrant culture that spanned hundreds of years. To understand this complicated society, readers are provided with an engaging main text and colorful photographs and historical images. Informative sidebars throughout detail the long history, and sudden defeat, of the Aztec Empire.","English",39.9,31.92,"972--dc23","104 pp.",{"$f":"Table1[[#This Row],['# of Books]]*Table1[[#This Row],[QTY]]","v":0},{"$f":"Table1[[#This Row],[QTY]]*Table1[[#This Row],[School & Library Price]]","v":0}]
[null,null,25,null,"World History","World History","The Rise and Fall of the Aztec Empire","978-1-5345-6310-0","Lucent Press","Paperback Book",1,2018,"January 2018","Paperback","7.000 X 9.000","Author","Joan Stoltman",null,null,null,null,"Z",null,"Years 12 - 15","Grade 7","Grade 7 - 10","Students are taught that the Aztecs were destroyed by Hernán Cortéz, the conqueror of Mexico. However, there is much to learn about who the Aztec people were before they were conquered. The native Mexicans were part of a rich and vibrant culture that spanned hundreds of years. To understand this complicated society, readers are provided with an engaging main text and colorful photographs and historical images. Informative sidebars throughout detail the long history, and sudden defeat, of the Aztec Empire.","English",19.989999999999998,16.989999999999998,"972--dc23","104 pp.",{"$f":"Table1[[#This Row],['# of Books]]*Table1[[#This Row],[QTY]]","v":0},{"$f":"Table1[[#This Row],[QTY]]*Table1[[#This Row],[School & Library Price]]","v":0}]
[null,79,25,null,"World History","World History","The United States and Russia: A Cold and Complex History","978-1-5345-6245-5","Lucent Press","Library Bound Book",1,2018,"January 2018","Library","7.000 X 9.000","Author","Gary Wiener",null,null,null,null,"Z",null,"Years 12 - 15","Grade 7","Grade 7 - 10","After the U.S.S.R. formed, the United States found itself in a rivalry that has persisted for nearly a century. Readers are introduced to the complex history between the United States and Russia, which, for many years, was a conflict between democracy and communism. However, after the dissolution of the U.S.S.R., the relationship between the two countries remains strained, and readers also explore the reasons for this continued tension. Quotes from powerful leaders of both countries, striking photographs, and thoroughly researched text help readers understand why these two competing nations have maintained a cold relationship for so many years.","English",39.9,31.92,"327.73047086--dc23","104 pp.",{"$f":"Table1[[#This Row],['# of Books]]*Table1[[#This Row],[QTY]]","v":0},{"$f":"Table1[[#This Row],[QTY]]*Table1[[#This Row],[School & Library Price]]","v":0}]
[null,79,25,null,"World History","World History","The United States and Russia: A Cold and Complex History","978-1-5345-6187-8","Lucent Press","eBook",1,2018,"January 2018",null,null,"Author","Gary Wiener",null,null,null,null,"Z",null,"Years 12 - 15","Grade 7","Grade 7 - 10","After the U.S.S.R. formed, the United States found itself in a rivalry that has persisted for nearly a century. Readers are introduced to the complex history between the United States and Russia, which, for many years, was a conflict between democracy and communism. However, after the dissolution of the U.S.S.R., the relationship between the two countries remains strained, and readers also explore the reasons for this continued tension. Quotes from powerful leaders of both countries, striking photographs, and thoroughly researched text help readers understand why these two competing nations have maintained a cold relationship for so many years.","English",39.9,31.92,"327.73047086--dc23","104 pp.",{"$f":"Table1[[#This Row],['# of Books]]*Table1[[#This Row],[QTY]]","v":0},{"$f":"Table1[[#This Row],[QTY]]*Table1[[#This Row],[School & Library Price]]","v":0}]
[null,null,25,null,"World History","World History","The United States and Russia: A Cold and Complex History","978-1-5345-6311-7","Lucent Press","Paperback Book",1,2018,"January 2018","Paperback","7.000 X 9.000","Author","Gary Wiener",null,null,null,null,"Z",null,"Years 12 - 15","Grade 7","Grade 7 - 10","After the U.S.S.R. formed, the United States found itself in a rivalry that has persisted for nearly a century. Readers are introduced to the complex history between the United States and Russia, which, for many years, was a conflict between democracy and communism. However, after the dissolution of the U.S.S.R., the relationship between the two countries remains strained, and readers also explore the reasons for this continued tension. Quotes from powerful leaders of both countries, striking photographs, and thoroughly researched text help readers understand why these two competing nations have maintained a cold relationship for so many years.","English",19.989999999999998,16.989999999999998,"327.73047086--dc23","104 pp.",{"$f":"Table1[[#This Row],['# of Books]]*Table1[[#This Row],[QTY]]","v":0},{"$f":"Table1[[#This Row],[QTY]]*Table1[[#This Row],[School & Library Price]]","v":0}]
[null,78,25,null,"World History","World History (Jan '17 Set)","World History (Jan '17 Set)","978-1-5345-6069-7","Lucent Press","Library Set",6,2017,"January 2017","Library Bound","7.000 X 9.000"," "," ",null,null,null,null,null,null,"Years 12 - 15",null,"Grade 7 - 10","Each book in the comprehensive World History series offers a clearly written and visually enhanced overview of an important historical event or period. The series is designed to acquaint readers with the basics of history and make them aware that their lives and their own historical era are an intimate part of the ongoing human saga.","English",239.4,191.52,null,"104 pp.",{"$f":"Table1[[#This Row],['# of Books]]*Table1[[#This Row],[QTY]]","v":0},{"$f":"Table1[[#This Row],[QTY]]*Table1[[#This Row],[School & Library Price]]","v":0}]
[null,78,25,null,"World History","World History (Jan '17 Set)","World History (Jan '17 Set)","978-1-5345-6070-3","Lucent Press","eBook Set",6,2017,"January 2017","eBook",null," "," ",null,null,null,null,null,null,null,null,"Grade 7 - 10","","English",239.4,191.52,null,"104 pp.",{"$f":"Table1[[#This Row],['# of Books]]*Table1[[#This Row],[QTY]]","v":0},{"$f":"Table1[[#This Row],[QTY]]*Table1[[#This Row],[School & Library Price]]","v":0}]
[null,78,25,null,"World History","World History","The Black Death: Bubonic Plague Attacks Europe","978-1-5345-6047-5","Lucent Press","Library Bound Book",1,2017,"January 2017","Library Bound","7.000 X 9.000","Author","Emily Mahoney",null,null,null,null,"Z",null,"Years 12 - 15",null,"Grade 7 - 10","The Bubonic Plague terrorized Europe and North Africa in the 14th century, killing millions of people. Readers learn many fascinating facts about what became known as the “Black Death.” They discover that the cause of the disease was unknown for most of the epidemic, and many unlikely things were blamed, including bad smells and occult rituals. Detailed sidebars and a comprehensive timeline augment the compelling text as it examines how the disastrous events of the plague were exacerbated by people’s ignorance of scientific facts.","English",39.9,31.92,null,"104 pp.",{"$f":"Table1[[#This Row],['# of Books]]*Table1[[#This Row],[QTY]]","v":0},{"$f":"Table1[[#This Row],[QTY]]*Table1[[#This Row],[School & Library Price]]","v":0}]
[null,78,25,null,"World History","World History","The Black Death: Bubonic Plague Attacks Europe","978-1-5345-6048-2","Lucent Press","eBook",1,2017,"January 2017","eBook",null,"Author","Emily Mahoney",null,null,null,null,"Z",null,null,null,"Grade 7 - 10","The Bubonic Plague terrorized Europe and North Africa in the 14th century, killing millions of people. Readers learn many fascinating facts about what became known as the “Black Death.” They discover that the cause of the disease was unknown for most of the epidemic, and many unlikely things were blamed, including bad smells and occult rituals. Detailed sidebars and a comprehensive timeline augment the compelling text as it examines how the disastrous events of the plague were exacerbated by people’s ignorance of scientific facts.","English",39.9,31.92,null,"104 pp.",{"$f":"Table1[[#This Row],['# of Books]]*Table1[[#This Row],[QTY]]","v":0},{"$f":"Table1[[#This Row],[QTY]]*Table1[[#This Row],[School & Library Price]]","v":0}]
[null,78,25,null,"World History","World History","The French Revolution: The Power of the People","978-1-5345-6051-2","Lucent Press","Library Bound Book",1,2017,"January 2017","Library Bound","7.000 X 9.000","Author","Karen Haywood",null,null,null,null,"Z",null,"Years 12 - 15",null,"Grade 7 - 10","Economic inequality and abuse of power by the reigning government were two major factors in the outbreak of the French Revolution. The French peasants’ anger about these issues was so great that they turned to extreme violence, killing anyone who voiced dissent with the revolutionary cause. Informative sidebars and primary sources are presented alongside the engaging main text to help illustrate the danger of allowing social and economic disparity to remain unaddressed by governing bodies. A fact-filled timeline highlights key events before, during, and after the revolution.","English",39.9,31.92,null,"104 pp.",{"$f":"Table1[[#This Row],['# of Books]]*Table1[[#This Row],[QTY]]","v":0},{"$f":"Table1[[#This Row],[QTY]]*Table1[[#This Row],[School & Library Price]]","v":0}]
[null,78,25,null,"World History","World History","The French Revolution: The Power of the People","978-1-5345-6052-9","Lucent Press","eBook",1,2017,"January 2017","eBook",null,"Author","Karen Haywood",null,null,null,null,"Z",null,null,null,"Grade 7 - 10","Economic inequality and abuse of power by the reigning government were two major factors in the outbreak of the French Revolution. The French peasants’ anger about these issues was so great that they turned to extreme violence, killing anyone who voiced dissent with the revolutionary cause. Informative sidebars and primary sources are presented alongside the engaging main text to help illustrate the danger of allowing social and economic disparity to remain unaddressed by governing bodies. A fact-filled timeline highlights key events before, during, and after the revolution.","English",39.9,31.92,null,"104 pp.",{"$f":"Table1[[#This Row],['# of Books]]*Table1[[#This Row],[QTY]]","v":0},{"$f":"Table1[[#This Row],[QTY]]*Table1[[#This Row],[School & Library Price]]","v":0}]
[null,78,25,null,"World History","World History","The Horrors of Auschwitz","978-1-5345-6054-3","Lucent Press","Library Bound Book",1,2017,"January 2017","Library Bound","7.000 X 9.000","Author","Jennifer Lombardo",null,null,null,null,"Z",null,"Years 12 - 15",null,"Grade 7 - 10","The Nazi campaign against Jewish people living in their territories began slowly, with the gradual erosion of their rights to own property, hold a job, or marry non-Jews. These indignities intensified over time, eventually culminating in the establishment of work camps—also known as concentration or death camps—such as Auschwitz. Full-color photographs, a detailed timeline, and excerpts from primary sources offer an in-depth look at the Nazis’ rise to power, allowing readers to think critically about the warning signs of a society on the brink of crisis.","English",39.9,31.92,null,"104 pp.",{"$f":"Table1[[#This Row],['# of Books]]*Table1[[#This Row],[QTY]]","v":0},{"$f":"Table1[[#This Row],[QTY]]*Table1[[#This Row],[School & Library Price]]","v":0}]
[null,78,25,null,"World History","World History","The Horrors of Auschwitz","978-1-5345-6055-0","Lucent Press","eBook",1,2017,"January 2017","eBook",null,"Author","Jennifer Lombardo",null,null,null,null,"Z",null,null,null,"Grade 7 - 10","The Nazi campaign against Jewish people living in their territories began slowly, with the gradual erosion of their rights to own property, hold a job, or marry non-Jews. These indignities intensified over time, eventually culminating in the establishment of work camps—also known as concentration or death camps—such as Auschwitz. Full-color photographs, a detailed timeline, and excerpts from primary sources offer an in-depth look at the Nazis’ rise to power, allowing readers to think critically about the warning signs of a society on the brink of crisis.","English",39.9,31.92,null,"104 pp.",{"$f":"Table1[[#This Row],['# of Books]]*Table1[[#This Row],[QTY]]","v":0},{"$f":"Table1[[#This Row],[QTY]]*Table1[[#This Row],[School & Library Price]]","v":0}]
[null,78,25,null,"World History","World History","The Inquisition: The Quest for Absolute Religious Power","978-1-5345-6049-9","Lucent Press","Library Bound Book",1,2017,"January 2017","Library Bound","7.000 X 9.000","Author","Kenneth Bartolotta",null,null,null,null,"Z",null,"Years 12 - 15",null,"Grade 7 - 10","Religion can be a force for good, but when those in command seek to increase their control, it can become a dangerous tool. This volume explores the political power the Catholic Church possessed in medieval Europe and the lengths it went to in order to keep and expand that influence. Full-color photos, quotes from primary sources, and a timeline of important events supplement the main text to give readers a better understanding of the perils that can occur when an institution abuses its power.","English",39.9,31.92,null,"104 pp.",{"$f":"Table1[[#This Row],['# of Books]]*Table1[[#This Row],[QTY]]","v":0},{"$f":"Table1[[#This Row],[QTY]]*Table1[[#This Row],[School & Library Price]]","v":0}]
[null,78,25,null,"World History","World History","The Inquisition: The Quest for Absolute Religious Power","978-1-5345-6050-5","Lucent Press","eBook",1,2017,"January 2017","eBook",null,"Author","Kenneth Bartolotta",null,null,null,null,"Z",null,null,null,"Grade 7 - 10","Religion can be a force for good, but when those in command seek to increase their control, it can become a dangerous tool. This volume explores the political power the Catholic Church possessed in medieval Europe and the lengths it went to in order to keep and expand that influence. Full-color photos, quotes from primary sources, and a timeline of important events supplement the main text to give readers a better understanding of the perils that can occur when an institution abuses its power.","English",39.9,31.92,null,"104 pp.",{"$f":"Table1[[#This Row],['# of Books]]*Table1[[#This Row],[QTY]]","v":0},{"$f":"Table1[[#This Row],[QTY]]*Table1[[#This Row],[School & Library Price]]","v":0}]
[null,78,25,null,"World History","World History","The Rise of ISIS: The Modern Age of Terrorism","978-1-5345-6056-7","Lucent Press","Library Bound Book",1,2017,"January 2017","Library Bound","7.000 X 9.000","Author","Caroline Kennan",null,null,null,null,"Z",null,"Years 12 - 15",null,"Grade 7 - 10","ISIS is a significant threat to modern society—it has caused the deaths of thousands and the rise of anti-Muslim sentiment around the world, despite the fact that prominent Muslim leaders have denounced the group’s actions. Understanding ISIS is vital to defeating it. Readers learn about the creation of this terrorist group, its rise to power, and what is being done by nations around the world to stop its members from taking more lives. Full-color photographs and a timeline of key events contribute to a comprehensive overview of this chapter in the story of modern terrorism.","English",39.9,31.92,null,"104 pp.",{"$f":"Table1[[#This Row],['# of Books]]*Table1[[#This Row],[QTY]]","v":0},{"$f":"Table1[[#This Row],[QTY]]*Table1[[#This Row],[School & Library Price]]","v":0}]
[null,78,25,null,"World History","World History","The Rise of ISIS: The Modern Age of Terrorism","978-1-5345-6057-4","Lucent Press","eBook",1,2017,"January 2017","eBook",null,"Author","Caroline Kennan",null,null,null,null,"Z",null,null,null,"Grade 7 - 10","ISIS is a significant threat to modern society—it has caused the deaths of thousands and the rise of anti-Muslim sentiment around the world, despite the fact that prominent Muslim leaders have denounced the group’s actions. Understanding ISIS is vital to defeating it. Readers learn about the creation of this terrorist group, its rise to power, and what is being done by nations around the world to stop its members from taking more lives. Full-color photographs and a timeline of key events contribute to a comprehensive overview of this chapter in the story of modern terrorism.","English",39.9,31.92,null,"104 pp.",{"$f":"Table1[[#This Row],['# of Books]]*Table1[[#This Row],[QTY]]","v":0},{"$f":"Table1[[#This Row],[QTY]]*Table1[[#This Row],[School & Library Price]]","v":0}]
[null,78,25,null,"World History","World History","World War I and the Rise of Global Conflict","978-1-5345-6058-1","Lucent Press","Library Bound Book",1,2017,"January 2017","Library Bound","7.000 X 9.000","Author","Elizabeth Morgan",null,null,null,null,"Z",null,"Years 12 - 15",null,"Grade 7 - 10","World War I forever changed how nations engage in warfare. Airplanes, tanks, and submarines were used on a larger scale than ever before. This volume examines the root causes of World War I, which escalated from a small political incident into a massive global crisis. It also details the impact of this war in its immediate aftermath and in the decades that followed. Readers will be engaged by the accessible text, which is enhanced with historical photographs, primary sources, and in-depth sidebars.","English",39.9,31.92,null,"104 pp.",{"$f":"Table1[[#This Row],['# of Books]]*Table1[[#This Row],[QTY]]","v":0},{"$f":"Table1[[#This Row],[QTY]]*Table1[[#This Row],[School & Library Price]]","v":0}]
[null,78,25,null,"World History","World History","World War I and the Rise of Global Conflict","978-1-5345-6053-6","Lucent Press","eBook",1,2017,"January 2017","eBook",null,"Author","Elizabeth Morgan",null,null,null,null,"Z",null,null,null,"Grade 7 - 10","World War I forever changed how nations engage in warfare. Airplanes, tanks, and submarines were used on a larger scale than ever before. This volume examines the root causes of World War I, which escalated from a small political incident into a massive global crisis. It also details the impact of this war in its immediate aftermath and in the decades that followed. Readers will be engaged by the accessible text, which is enhanced with historical photographs, primary sources, and in-depth sidebars.","English",39.9,31.92,null,"104 pp.",{"$f":"Table1[[#This Row],['# of Books]]*Table1[[#This Row],[QTY]]","v":0},{"$f":"Table1[[#This Row],[QTY]]*Table1[[#This Row],[School & Library Price]]","v":0}]
[null,null,25,null,"World History","World History","World History: Sets 1 – 3 (Coming Aug 2018)","978-1-5345-6451-0","Lucent Press","Library Set",18,2019,"August 2018","Library","7.000 X 9.000"," "," ",null,null,null,null,null,null,"Years 12 - 15","Grade 7","Grade 7 - 10","World history has no shortage of fascinating incidents and episodes. From fighting great wars to fighting for social justice, the greatest trials and triumphs of humanity are fully on display. Readers engage with a wide range of historical topics through meticulously researched main text, annotated quotes, primary sources, and interesting sidebars. Readers are guided through accounts of global events and social movements by detailed photographs and expert testimony and analysis. Features include: Differing perspectives offer readers the chance to see every side of a historical moment, showing that there is rarely a simple distinction between \"good\" and \"bad.\" Extensive timelines illuminate the context of important world events, which contributes to a robust understanding of each topic. Topics were carefully selected to show readers how historical periods relate to current events.","English",718.2,574.55999999999995,null,"104 pp.",{"$f":"Table1[[#This Row],['# of Books]]*Table1[[#This Row],[QTY]]","v":0},{"$f":"Table1[[#This Row],[QTY]]*Table1[[#This Row],[School & Library Price]]","v":0}]
[null,null,25,null,"World History","World History","World History: Set 3 (Coming Aug 2018)","978-1-5345-6458-9","Lucent Press","Library Set",6,2019,"August 2018","Library","7.000 X 9.000"," "," ",null,null,null,null,null,null,"Years 12 - 15","Grade 7","Grade 7 - 10","World history has no shortage of fascinating incidents and episodes. From fighting great wars to fighting for social justice, the greatest trials and triumphs of humanity are fully on display. Readers engage with a wide range of historical topics through meticulously researched main text, annotated quotes, primary sources, and interesting sidebars. From the distant past of the Scientific Revolution to the cutting-edge technology of digital piracy, readers are guided through accounts of global events and social movements by detailed photographs and expert testimony and analysis. Features include: Differing perspectives offer readers the chance to see every side of a historical moment, showing that there is rarely a simple distinction between \"good\" and \"bad.\" Extensive timelines illuminate the context of important world events, which contributes to a robust understanding of each topic. Topics were carefully selected to show readers how historical periods relate to current events, such as refugee crises, the global fight for women's rights, and the current \"Golden Age\" of television.","English",239.4,191.52,null,"104 pp.",{"$f":"Table1[[#This Row],['# of Books]]*Table1[[#This Row],[QTY]]","v":0},{"$f":"Table1[[#This Row],[QTY]]*Table1[[#This Row],[School & Library Price]]","v":0}]
[null,null,25,null,"World History","World History","World History (Coming Aug 2018 - Fall 2018 Bundle)","978-1-5345-6478-7","Lucent Press","Single Copy Set",12,2019,"August 2018","Paperback","7.000 X 9.000"," "," ",null,null,null,null,null,null,"Years 12 - 15","Grade 7","Grade 7 - 10","World history has no shortage of fascinating incidents and episodes. From fighting great wars to fighting for social justice, the greatest trials and triumphs of humanity are fully on display. Readers engage with a wide range of historical topics through meticulously researched main text, annotated quotes, primary sources, and interesting sidebars. Readers are guided through accounts of global events and social movements by detailed photographs and expert testimony and analysis. Features include: Differing perspectives offer readers the chance to see every side of a historical moment, showing that there is rarely a simple distinction between \"good\" and \"bad.\" Extensive timelines illuminate the context of important world events, which contributes to a robust understanding of each topic. Topics were carefully selected to show readers how historical periods relate to current events.","English",239.88,203.88,null,"104 pp.",{"$f":"Table1[[#This Row],['# of Books]]*Table1[[#This Row],[QTY]]","v":0},{"$f":"Table1[[#This Row],[QTY]]*Table1[[#This Row],[School & Library Price]]","v":0}]
[null,null,25,null,"World History","World History","World History: Set 3 (Coming Aug 2018)","978-1-5345-6473-2","Lucent Press","Single Copy Set",6,2019,"August 2018","Paperback","7.000 X 9.000"," "," ",null,null,null,null,null,null,"Years 12 - 15","Grade 7","Grade 7 - 10","World history has no shortage of fascinating incidents and episodes. From fighting great wars to fighting for social justice, the greatest trials and triumphs of humanity are fully on display. Readers engage with a wide range of historical topics through meticulously researched main text, annotated quotes, primary sources, and interesting sidebars. From the distant past of the Scientific Revolution to the cutting-edge technology of digital piracy, readers are guided through accounts of global events and social movements by detailed photographs and expert testimony and analysis. Features include: Differing perspectives offer readers the chance to see every side of a historical moment, showing that there is rarely a simple distinction between \"good\" and \"bad.\" Extensive timelines illuminate the context of important world events, which contributes to a robust understanding of each topic. Topics were carefully selected to show readers how historical periods relate to current events, such as refugee crises, the global fight for women's rights, and the current \"Golden Age\" of television.","English",119.94,101.94,null,"104 pp.",{"$f":"Table1[[#This Row],['# of Books]]*Table1[[#This Row],[QTY]]","v":0},{"$f":"Table1[[#This Row],[QTY]]*Table1[[#This Row],[School & Library Price]]","v":0}]
[null,null,25,null,"World History","World History","World History: Set 3 (Coming Aug 2018)","978-1-5345-6472-5","Lucent Press","eBook Set",6,2019,"August 2018",null,null," "," ",null,null,null,null,null,null,"Years 12 - 15","Grade 7","Grade 7 - 10","World history has no shortage of fascinating incidents and episodes. From fighting great wars to fighting for social justice, the greatest trials and triumphs of humanity are fully on display. Readers engage with a wide range of historical topics through meticulously researched main text, annotated quotes, primary sources, and interesting sidebars. From the distant past of the Scientific Revolution to the cutting-edge technology of digital piracy, readers are guided through accounts of global events and social movements by detailed photographs and expert testimony and analysis. Features include: Differing perspectives offer readers the chance to see every side of a historical moment, showing that there is rarely a simple distinction between \"good\" and \"bad.\" Extensive timelines illuminate the context of important world events, which contributes to a robust understanding of each topic. Topics were carefully selected to show readers how historical periods relate to current events, such as refugee crises, the global fight for women's rights, and the current \"Golden Age\" of television.","English",239.4,191.52,null,"104 pp.",{"$f":"Table1[[#This Row],['# of Books]]*Table1[[#This Row],[QTY]]","v":0},{"$f":"Table1[[#This Row],[QTY]]*Table1[[#This Row],[School & Library Price]]","v":0}]
[null,null,25,null,"World History","World History","Piracy: From the High Seas to the Digital Age","978-1-5345-6382-7","Lucent Press","Library Bound Book",1,2019,"August 2018","Library","7.000 X 9.000","Author","Jennifer Lombardo",null,null,null,null,"Z",null,"Years 12 - 15","Grade 7","Grade 7 - 10","When most people think of pirates, they think of buccaneers sailing the seas in search of treasure. However, piracy has changed over time, and many of today's most fearsome pirates work behind computer screens. Readers will be captivated by this exciting look at the history of piracy, from the legendary Blackbeard to the pirates who still hijack ships today, as well as the kinds of piracy unique to the digital age. Their reading experience is heightened through the use of relevant primary sources, annotated quotes, detailed sidebars, and a thoroughly researched timeline of piracy.","English",39.9,31.92,null,"104 pp.",{"$f":"Table1[[#This Row],['# of Books]]*Table1[[#This Row],[QTY]]","v":0},{"$f":"Table1[[#This Row],[QTY]]*Table1[[#This Row],[School & Library Price]]","v":0}]
[null,null,25,null,"World History","World History","Piracy: From the High Seas to the Digital Age","978-1-5345-6384-1","Lucent Press","Paperback Book",1,2019,"August 2018","Paperback","7.000 X 9.000","Author","Jennifer Lombardo",null,null,null,null,"Z",null,"Years 12 - 15","Grade 7","Grade 7 - 10","When most people think of pirates, they think of buccaneers sailing the seas in search of treasure. However, piracy has changed over time, and many of today's most fearsome pirates work behind computer screens. Readers will be captivated by this exciting look at the history of piracy, from the legendary Blackbeard to the pirates who still hijack ships today, as well as the kinds of piracy unique to the digital age. Their reading experience is heightened through the use of relevant primary sources, annotated quotes, detailed sidebars, and a thoroughly researched timeline of piracy.","English",19.989999999999998,16.989999999999998,null,"104 pp.",{"$f":"Table1[[#This Row],['# of Books]]*Table1[[#This Row],[QTY]]","v":0},{"$f":"Table1[[#This Row],[QTY]]*Table1[[#This Row],[School & Library Price]]","v":0}]
[null,null,25,null,"World History","World History","Piracy: From the High Seas to the Digital Age","978-1-5345-6383-4","Lucent Press","eBook",1,2019,"August 2018",null,null,"Author","Jennifer Lombardo",null,null,null,null,"Z",null,"Years 12 - 15","Grade 7","Grade 7 - 10","When most people think of pirates, they think of buccaneers sailing the seas in search of treasure. However, piracy has changed over time, and many of today's most fearsome pirates work behind computer screens. Readers will be captivated by this exciting look at the history of piracy, from the legendary Blackbeard to the pirates who still hijack ships today, as well as the kinds of piracy unique to the digital age. Their reading experience is heightened through the use of relevant primary sources, annotated quotes, detailed sidebars, and a thoroughly researched timeline of piracy.","English",39.9,31.92,null,"104 pp.",{"$f":"Table1[[#This Row],['# of Books]]*Table1[[#This Row],[QTY]]","v":0},{"$f":"Table1[[#This Row],[QTY]]*Table1[[#This Row],[School & Library Price]]","v":0}]
[null,null,25,null,"World History","World History","Refugees Throughout History: Searching for Safety","978-1-5345-6391-9","Lucent Press","Library Bound Book",1,2019,"August 2018","Library","7.000 X 9.000","Author","Gary Wiener",null,null,null,null,"Z",null,"Years 12 - 15","Grade 7","Grade 7 - 10","Refugees search for safety in new countries after they are forced to leave home, but some people are afraid of them and treat them poorly in the countries they escape to. Learning about the history of refugees increases readers' sense of empathy for those who have been left with no choice but to flee their homes. This sensitive topic is addressed through fact-filled main text and sidebars, annotated quotes, primary sources, and a thorough timeline. Refugee issues are often in the news, and this volume presents readers with the facts they need to think critically about this topic.","English",39.9,31.92,null,"104 pp.",{"$f":"Table1[[#This Row],['# of Books]]*Table1[[#This Row],[QTY]]","v":0},{"$f":"Table1[[#This Row],[QTY]]*Table1[[#This Row],[School & Library Price]]","v":0}]
[null,null,25,null,"World History","World History","Refugees Throughout History: Searching for Safety","978-1-5345-6393-3","Lucent Press","Paperback Book",1,2019,"August 2018","Paperback","7.000 X 9.000","Author","Gary Wiener",null,null,null,null,"Z",null,"Years 12 - 15","Grade 7","Grade 7 - 10","Refugees search for safety in new countries after they are forced to leave home, but some people are afraid of them and treat them poorly in the countries they escape to. Learning about the history of refugees increases readers' sense of empathy for those who have been left with no choice but to flee their homes. This sensitive topic is addressed through fact-filled main text and sidebars, annotated quotes, primary sources, and a thorough timeline. Refugee issues are often in the news, and this volume presents readers with the facts they need to think critically about this topic.","English",19.989999999999998,16.989999999999998,null,"104 pp.",{"$f":"Table1[[#This Row],['# of Books]]*Table1[[#This Row],[QTY]]","v":0},{"$f":"Table1[[#This Row],[QTY]]*Table1[[#This Row],[School & Library Price]]","v":0}]
[null,null,25,null,"World History","World History","Refugees Throughout History: Searching for Safety","978-1-5345-6392-6","Lucent Press","eBook",1,2019,"August 2018",null,null,"Author","Gary Wiener",null,null,null,null,"Z",null,"Years 12 - 15","Grade 7","Grade 7 - 10","Refugees search for safety in new countries after they are forced to leave home, but some people are afraid of them and treat them poorly in the countries they escape to. Learning about the history of refugees increases readers' sense of empathy for those who have been left with no choice but to flee their homes. This sensitive topic is addressed through fact-filled main text and sidebars, annotated quotes, primary sources, and a thorough timeline. Refugee issues are often in the news, and this volume presents readers with the facts they need to think critically about this topic.","English",39.9,31.92,null,"104 pp.",{"$f":"Table1[[#This Row],['# of Books]]*Table1[[#This Row],[QTY]]","v":0},{"$f":"Table1[[#This Row],[QTY]]*Table1[[#This Row],[School & Library Price]]","v":0}]
[null,null,25,null,"World History","World History","Religion and World Conflict: Holy Wars Throughout History","978-1-5345-6385-8","Lucent Press","Library Bound Book",1,2019,"August 2018","Library","7.000 X 9.000","Author","Caroline Kennon",null,null,null,null,"Z",null,"Years 12 - 15","Grade 7","Grade 7 - 10","Religion has been at the heart of many wars and acts of violence throughout history. Why is this such a deep-rooted source of conflict around the world, and what can be done to foster peace between people of different religions instead? Readers are presented with these questions and more to challenge their critical-thinking skills as they learn about the relationship between religion and conflict, from ancient history to the Crusades to the rise of ISIS. Facts and opposing viewpoints are presented in the main text and sidebars, which are enhanced by the use of annotated quotations and primary sources.","English",39.9,31.92,null,"104 pp.",{"$f":"Table1[[#This Row],['# of Books]]*Table1[[#This Row],[QTY]]","v":0},{"$f":"Table1[[#This Row],[QTY]]*Table1[[#This Row],[School & Library Price]]","v":0}]
[null,null,25,null,"World History","World History","Religion and World Conflict: Holy Wars Throughout History","978-1-5345-6387-2","Lucent Press","Paperback Book",1,2019,"August 2018","Paperback","7.000 X 9.000","Author","Caroline Kennon",null,null,null,null,"Z",null,"Years 12 - 15","Grade 7","Grade 7 - 10","Religion has been at the heart of many wars and acts of violence throughout history. Why is this such a deep-rooted source of conflict around the world, and what can be done to foster peace between people of different religions instead? Readers are presented with these questions and more to challenge their critical-thinking skills as they learn about the relationship between religion and conflict, from ancient history to the Crusades to the rise of ISIS. Facts and opposing viewpoints are presented in the main text and sidebars, which are enhanced by the use of annotated quotations and primary sources.","English",19.989999999999998,16.989999999999998,null,"104 pp.",{"$f":"Table1[[#This Row],['# of Books]]*Table1[[#This Row],[QTY]]","v":0},{"$f":"Table1[[#This Row],[QTY]]*Table1[[#This Row],[School & Library Price]]","v":0}]
[null,null,25,null,"World History","World History","Religion and World Conflict: Holy Wars Throughout History","978-1-5345-6386-5","Lucent Press","eBook",1,2019,"August 2018",null,null,"Author","Caroline Kennon",null,null,null,null,"Z",null,"Years 12 - 15","Grade 7","Grade 7 - 10","Religion has been at the heart of many wars and acts of violence throughout history. Why is this such a deep-rooted source of conflict around the world, and what can be done to foster peace between people of different religions instead? Readers are presented with these questions and more to challenge their critical-thinking skills as they learn about the relationship between religion and conflict, from ancient history to the Crusades to the rise of ISIS. Facts and opposing viewpoints are presented in the main text and sidebars, which are enhanced by the use of annotated quotations and primary sources.","English",39.9,31.92,null,"104 pp.",{"$f":"Table1[[#This Row],['# of Books]]*Table1[[#This Row],[QTY]]","v":0},{"$f":"Table1[[#This Row],[QTY]]*Table1[[#This Row],[School & Library Price]]","v":0}]
[null,null,25,null,"World History","World History","The Scientific Revolution: How Science and Technology Shaped the World","978-1-5345-6388-9","Lucent Press","Library Bound Book",1,2019,"August 2018","Library","7.000 X 9.000","Author","Caroline Kennon",null,null,null,null,"Z",null,"Years 12 - 15","Grade 7","Grade 7 - 10","The Scientific Revolution is known as the time period when modern science was born. Without the people who made discoveries, theories, and inventions during this time, the world as we know it today would not exist. Readers are introduced to the figures, discoveries, and events that defined the Scientific Revolution through annotated quotes from historians and historical documents, primary sources, fact-filled sidebars, and a detailed timeline. As readers explore this essential social studies topic, they also learn the important connections that can be made between history and STEM, broadening their view of each topic.","English",39.9,31.92,null,"104 pp.",{"$f":"Table1[[#This Row],['# of Books]]*Table1[[#This Row],[QTY]]","v":0},{"$f":"Table1[[#This Row],[QTY]]*Table1[[#This Row],[School & Library Price]]","v":0}]
[null,null,25,null,"World History","World History","The Scientific Revolution: How Science and Technology Shaped the World","978-1-5345-6390-2","Lucent Press","Paperback Book",1,2019,"August 2018","Paperback","7.000 X 9.000","Author","Caroline Kennon",null,null,null,null,"Z",null,"Years 12 - 15","Grade 7","Grade 7 - 10","The Scientific Revolution is known as the time period when modern science was born. Without the people who made discoveries, theories, and inventions during this time, the world as we know it today would not exist. Readers are introduced to the figures, discoveries, and events that defined the Scientific Revolution through annotated quotes from historians and historical documents, primary sources, fact-filled sidebars, and a detailed timeline. As readers explore this essential social studies topic, they also learn the important connections that can be made between history and STEM, broadening their view of each topic.","English",19.989999999999998,16.989999999999998,null,"104 pp.",{"$f":"Table1[[#This Row],['# of Books]]*Table1[[#This Row],[QTY]]","v":0},{"$f":"Table1[[#This Row],[QTY]]*Table1[[#This Row],[School & Library Price]]","v":0}]
[null,null,25,null,"World History","World History","The Scientific Revolution: How Science and Technology Shaped the World","978-1-5345-6389-6","Lucent Press","eBook",1,2019,"August 2018",null,null,"Author","Caroline Kennon",null,null,null,null,"Z",null,"Years 12 - 15","Grade 7","Grade 7 - 10","The Scientific Revolution is known as the time period when modern science was born. Without the people who made discoveries, theories, and inventions during this time, the world as we know it today would not exist. Readers are introduced to the figures, discoveries, and events that defined the Scientific Revolution through annotated quotes from historians and historical documents, primary sources, fact-filled sidebars, and a detailed timeline. As readers explore this essential social studies topic, they also learn the important connections that can be made between history and STEM, broadening their view of each topic.","English",39.9,31.92,null,"104 pp.",{"$f":"Table1[[#This Row],['# of Books]]*Table1[[#This Row],[QTY]]","v":0},{"$f":"Table1[[#This Row],[QTY]]*Table1[[#This Row],[School & Library Price]]","v":0}]
[null,null,25,null,"World History","World History","Television: The Small Box That Changed the World","978-1-5345-6379-7","Lucent Press","Library Bound Book",1,2019,"August 2018","Library","7.000 X 9.000","Author","Katie Kawa",null,null,null,null,"Z",null,"Years 12 - 15","Grade 7","Grade 7 - 10","It is sometimes said that we are living in a Golden Age of television. What does that mean, and how did we get there? Readers find the answers as they trace the history of television, from its invention to the current age of \"Peak TV.\" This fascinating story is presented to readers through informative main text, annotated quotations, detailed sidebars, primary sources, and a comprehensive timeline. Television has changed nearly every aspect of life in many countries, and readers are sure to be excited by this fun and fact-filled look at how history and television have influenced each other.","English",39.9,31.92,null,"104 pp.",{"$f":"Table1[[#This Row],['# of Books]]*Table1[[#This Row],[QTY]]","v":0},{"$f":"Table1[[#This Row],[QTY]]*Table1[[#This Row],[School & Library Price]]","v":0}]
[null,null,25,null,"World History","World History","Television: The Small Box That Changed the World","978-1-5345-6381-0","Lucent Press","Paperback Book",1,2019,"August 2018","Paperback","7.000 X 9.000","Author","Katie Kawa",null,null,null,null,"Z",null,"Years 12 - 15","Grade 7","Grade 7 - 10","It is sometimes said that we are living in a Golden Age of television. What does that mean, and how did we get there? Readers find the answers as they trace the history of television, from its invention to the current age of \"Peak TV.\" This fascinating story is presented to readers through informative main text, annotated quotations, detailed sidebars, primary sources, and a comprehensive timeline. Television has changed nearly every aspect of life in many countries, and readers are sure to be excited by this fun and fact-filled look at how history and television have influenced each other.","English",19.989999999999998,16.989999999999998,null,"104 pp.",{"$f":"Table1[[#This Row],['# of Books]]*Table1[[#This Row],[QTY]]","v":0},{"$f":"Table1[[#This Row],[QTY]]*Table1[[#This Row],[School & Library Price]]","v":0}]
[null,null,25,null,"World History","World History","Television: The Small Box That Changed the World","978-1-5345-6380-3","Lucent Press","eBook",1,2019,"August 2018",null,null,"Author","Katie Kawa",null,null,null,null,"Z",null,"Years 12 - 15","Grade 7","Grade 7 - 10","It is sometimes said that we are living in a Golden Age of television. What does that mean, and how did we get there? Readers find the answers as they trace the history of television, from its invention to the current age of \"Peak TV.\" This fascinating story is presented to readers through informative main text, annotated quotations, detailed sidebars, primary sources, and a comprehensive timeline. Television has changed nearly every aspect of life in many countries, and readers are sure to be excited by this fun and fact-filled look at how history and television have influenced each other.","English",39.9,31.92,null,"104 pp.",{"$f":"Table1[[#This Row],['# of Books]]*Table1[[#This Row],[QTY]]","v":0},{"$f":"Table1[[#This Row],[QTY]]*Table1[[#This Row],[School & Library Price]]","v":0}]
[null,null,25,null,"World History","World History","The Women’s Movement and the Rise of Feminism","978-1-5345-6376-6","Lucent Press","Library Bound Book",1,2019,"August 2018","Library","7.000 X 9.000","Author","Nicole Horning",null,null,null,null,"Z",null,"Years 12 - 15","Grade 7","Grade 7 - 10","What is feminism? How has the global fight for women's rights changed from the time of suffragettes to the women's marches held around the world in 2017? As readers explore the answers to these questions, they discover the challenges women have faced in their quest for equality. With annotated quotes, sidebars, and primary sources enhancing the engaging main text, readers are given a comprehensive look at how women in various countries have fought for equal rights. A detailed timeline highlights crucial dates in feminist history, helping provide context as readers gain a deeper appreciation for this timely topic.","English",39.9,31.92,null,"104 pp.",{"$f":"Table1[[#This Row],['# of Books]]*Table1[[#This Row],[QTY]]","v":0},{"$f":"Table1[[#This Row],[QTY]]*Table1[[#This Row],[School & Library Price]]","v":0}]
[null,null,25,null,"World History","World History","The Women’s Movement and the Rise of Feminism","978-1-5345-6378-0","Lucent Press","Paperback Book",1,2019,"August 2018","Paperback","7.000 X 9.000","Author","Nicole Horning",null,null,null,null,"Z",null,"Years 12 - 15","Grade 7","Grade 7 - 10","What is feminism? How has the global fight for women's rights changed from the time of suffragettes to the women's marches held around the world in 2017? As readers explore the answers to these questions, they discover the challenges women have faced in their quest for equality. With annotated quotes, sidebars, and primary sources enhancing the engaging main text, readers are given a comprehensive look at how women in various countries have fought for equal rights. A detailed timeline highlights crucial dates in feminist history, helping provide context as readers gain a deeper appreciation for this timely topic.","English",19.989999999999998,16.989999999999998,null,"104 pp.",{"$f":"Table1[[#This Row],['# of Books]]*Table1[[#This Row],[QTY]]","v":0},{"$f":"Table1[[#This Row],[QTY]]*Table1[[#This Row],[School & Library Price]]","v":0}]
[null,null,25,null,"World History","World History","The Women’s Movement and the Rise of Feminism","978-1-5345-6377-3","Lucent Press","eBook",1,2019,"August 2018",null,null,"Author","Nicole Horning",null,null,null,null,"Z",null,"Years 12 - 15","Grade 7","Grade 7 - 10","What is feminism? How has the global fight for women's rights changed from the time of suffragettes to the women's marches held around the world in 2017? As readers explore the answers to these questions, they discover the challenges women have faced in their quest for equality. With annotated quotes, sidebars, and primary sources enhancing the engaging main text, readers are given a comprehensive look at how women in various countries have fought for equal rights. A detailed timeline highlights crucial dates in feminist history, helping provide context as readers gain a deeper appreciation for this timely topic.","English",39.9,31.92,null,"104 pp.",{"$f":"Table1[[#This Row],['# of Books]]*Table1[[#This Row],[QTY]]","v":0},{"$f":"Table1[[#This Row],[QTY]]*Table1[[#This Row],[School & Library Price]]","v":0}]
[null,null,null,3,"Animals","Where Animals Live","Where Animals Live","978-1-5345-2381-4","KidHaven Publishing","Library Set",6,2018,"January 2018",null,"8.500 X 8.500"," "," ",null,null,null,null,null,null,"Years 5 - 8","Grade 1 - 2","Grade K - 3","Animals make their homes in diverse habitats around the world, from dry deserts to lush rain forests and from tall mountains to the depths of the ocean. Readers get an up-close look at these and other habitats and the animals that can be found in them. Important science topics are explained using simple, accessible language. Fun facts are presented alongside vibrant, full-color photographs of amazing animals and the beautiful places they inhabit. Readers are sure to enjoy taking a detailed journey around the world to discover the many places animals can live.","English",147.6,118.08,null,"24 pp.",{"$f":"Table1[[#This Row],['# of Books]]*Table1[[#This Row],[QTY]]","v":0},{"$f":"Table1[[#This Row],[QTY]]*Table1[[#This Row],[School & Library Price]]","v":0}]
[null,null,null,3,"Animals","Where Animals Live","Animals in the Arctic","978-1-5345-2380-7","KidHaven Publishing","Library Bound Book",1,2018,"January 2018","Library","8.500 X 8.500","Author","John Wood",null,null,null,null,"I",null,"Years 5 - 8","Grade 1 - 2","Grade K - 3","The Arctic is home to many different animal species. These animals make their habitats in this region’s chilly climate, which can sometimes be difficult to survive in because of the subzero temperatures and scarce amount of food. This accessible text provides readers with fun facts about life in the Arctic, along with eye-catching, full-color photographs. Animal lovers will be captivated by the creatures that call this extreme environment home, and their Arctic adventure will introduce them to essential science concepts, including the adaptations these animals developed to survive in the coldest places on Earth.","English",24.6,19.68,"591.9989--dc23","24 pp.",{"$f":"Table1[[#This Row],['# of Books]]*Table1[[#This Row],[QTY]]","v":0},{"$f":"Table1[[#This Row],[QTY]]*Table1[[#This Row],[School & Library Price]]","v":0}]
[null,null,null,3,"Animals","Where Animals Live","Animals in the Arctic","978-1-5345-2382-1","KidHaven Publishing","eBook",1,2018,"January 2018",null,null,"Author","John Wood",null,null,null,null,"I",null,"Years 5 - 8","Grade 1 - 2","Grade K - 3","The Arctic is home to many different animal species. These animals make their habitats in this region’s chilly climate, which can sometimes be difficult to survive in because of the subzero temperatures and scarce amount of food. This accessible text provides readers with fun facts about life in the Arctic, along with eye-catching, full-color photographs. Animal lovers will be captivated by the creatures that call this extreme environment home, and their Arctic adventure will introduce them to essential science concepts, including the adaptations these animals developed to survive in the coldest places on Earth.","English",24.6,19.68,"591.9989--dc23","24 pp.",{"$f":"Table1[[#This Row],['# of Books]]*Table1[[#This Row],[QTY]]","v":0},{"$f":"Table1[[#This Row],[QTY]]*Table1[[#This Row],[School & Library Price]]","v":0}]
[null,null,null,3,"Animals","Where Animals Live","Animals in the Desert","978-1-5345-2363-0","KidHaven Publishing","Library Bound Book",1,2018,"January 2018","Library","8.500 X 8.500","Author","John Wood",null,null,null,null,"I",null,"Years 5 - 8","Grade 1 - 2","Grade K - 3","The desert is home to many different animal species. These animals make their habitats in this dry climate, which can sometimes be difficult to survive in because of the hot temperatures and scarce food sources. Fun facts about desert animals are presented through age-appropriate text, which covers common science curriculum topics such as animal adaptations and biomes. Vibrant, full-color photographs provide readers with examples of what desert animals look like and how they appear in their natural habitats.","English",24.6,19.68,"591.754--dc23","24 pp.",{"$f":"Table1[[#This Row],['# of Books]]*Table1[[#This Row],[QTY]]","v":0},{"$f":"Table1[[#This Row],[QTY]]*Table1[[#This Row],[School & Library Price]]","v":0}]
[null,null,null,3,"Animals","Where Animals Live","Animals in the Desert","978-1-5345-2364-7","KidHaven Publishing","eBook",1,2018,"January 2018",null,null,"Author","John Wood",null,null,null,null,"I",null,"Years 5 - 8","Grade 1 - 2","Grade K - 3","The desert is home to many different animal species. These animals make their habitats in this dry climate, which can sometimes be difficult to survive in because of the hot temperatures and scarce food sources. Fun facts about desert animals are presented through age-appropriate text, which covers common science curriculum topics such as animal adaptations and biomes. Vibrant, full-color photographs provide readers with examples of what desert animals look like and how they appear in their natural habitats.","English",24.6,19.68,"591.754--dc23","24 pp.",{"$f":"Table1[[#This Row],['# of Books]]*Table1[[#This Row],[QTY]]","v":0},{"$f":"Table1[[#This Row],[QTY]]*Table1[[#This Row],[School & Library Price]]","v":0}]
[null,null,null,3,"Animals","Where Animals Live","Animals in the Forest","978-1-5345-2366-1","KidHaven Publishing","Library Bound Book",1,2018,"January 2018","Library","8.500 X 8.500","Author","John Wood",null,null,null,null,"I",null,"Years 5 - 8","Grade 1 - 2","Grade K - 3","Readers learn about the various animal species that live in the forest through this enlightening text. They discover what these animals eat, how they survive in the wild, and where they build their homes. This accessible and age-appropriate text captures what it’s like being an animal living in the forest and also supports elementary science curriculum topics, including habitats and adaptations. In addition, full-color photographs of these animals in their natural habitats provide readers with a clear and creative visual element. This text is sure to captivate students looking to expand their understanding of creatures living in the forest.","English",24.6,19.68,"591.73--dc23","24 pp.",{"$f":"Table1[[#This Row],['# of Books]]*Table1[[#This Row],[QTY]]","v":0},{"$f":"Table1[[#This Row],[QTY]]*Table1[[#This Row],[School & Library Price]]","v":0}]
[null,null,null,3,"Animals","Where Animals Live","Animals in the Forest","978-1-5345-2367-8","KidHaven Publishing","eBook",1,2018,"January 2018",null,null,"Author","John Wood",null,null,null,null,"I",null,"Years 5 - 8","Grade 1 - 2","Grade K - 3","Readers learn about the various animal species that live in the forest through this enlightening text. They discover what these animals eat, how they survive in the wild, and where they build their homes. This accessible and age-appropriate text captures what it’s like being an animal living in the forest and also supports elementary science curriculum topics, including habitats and adaptations. In addition, full-color photographs of these animals in their natural habitats provide readers with a clear and creative visual element. This text is sure to captivate students looking to expand their understanding of creatures living in the forest.","English",24.6,19.68,"591.73--dc23","24 pp.",{"$f":"Table1[[#This Row],['# of Books]]*Table1[[#This Row],[QTY]]","v":0},{"$f":"Table1[[#This Row],[QTY]]*Table1[[#This Row],[School & Library Price]]","v":0}]
[null,null,null,3,"Animals","Where Animals Live","Animals in the Mountains","978-1-5345-2369-2","KidHaven Publishing","Library Bound Book",1,2018,"January 2018","Library","8.500 X 8.500","Author","John Wood",null,null,null,null,"I",null,"Years 5 - 8","Grade 1 - 2","Grade K - 3","What do animals that live in the mountains eat? How do they escape from their predators? Where do they sleep at night? These questions and more are answered in this compelling text that aligns with common curriculum science topics such as biodiversity and ecology. Several animal species live in the mountains and face challenges that consistently test their survival instincts. Striking, full-color photographs support the text and add a creative visual component for readers as they deepen their knowledge of mountain habitats and the animals that live in them.","English",24.6,19.68,"591.74'6--dc23","24 pp.",{"$f":"Table1[[#This Row],['# of Books]]*Table1[[#This Row],[QTY]]","v":0},{"$f":"Table1[[#This Row],[QTY]]*Table1[[#This Row],[School & Library Price]]","v":0}]
[null,null,null,3,"Animals","Where Animals Live","Animals in the Mountains","978-1-5345-2370-8","KidHaven Publishing","eBook",1,2018,"January 2018",null,null,"Author","John Wood",null,null,null,null,"I",null,"Years 5 - 8","Grade 1 - 2","Grade K - 3","What do animals that live in the mountains eat? How do they escape from their predators? Where do they sleep at night? These questions and more are answered in this compelling text that aligns with common curriculum science topics such as biodiversity and ecology. Several animal species live in the mountains and face challenges that consistently test their survival instincts. Striking, full-color photographs support the text and add a creative visual component for readers as they deepen their knowledge of mountain habitats and the animals that live in them.","English",24.6,19.68,"591.74'6--dc23","24 pp.",{"$f":"Table1[[#This Row],['# of Books]]*Table1[[#This Row],[QTY]]","v":0},{"$f":"Table1[[#This Row],[QTY]]*Table1[[#This Row],[School & Library Price]]","v":0}]
[null,null,null,3,"Animals","Where Animals Live","Animals in the Ocean","978-1-5345-2372-2","KidHaven Publishing","Library Bound Book",1,2018,"January 2018","Library","8.500 X 8.500","Author","John Wood",null,null,null,null,"I",null,"Years 5 - 8","Grade 1 - 2","Grade K - 3","Readers will enjoy learning about marine life as they explore engaging text covering common science curriculum areas, such as ocean habitats and ecology. Where do marine animals catch and kill their prey? How do they stay safe and avoid predators? What animals have ventured to the deepest depths of the sea? Questions such as these are answered in the main text, which is accompanied by bold, full-color photographs. This is sure to be an educational and entertaining adventure for readers into the lives of animals in the ocean.","English",24.6,19.68,"591.77--dc23","24 pp.",{"$f":"Table1[[#This Row],['# of Books]]*Table1[[#This Row],[QTY]]","v":0},{"$f":"Table1[[#This Row],[QTY]]*Table1[[#This Row],[School & Library Price]]","v":0}]
[null,null,null,3,"Animals","Where Animals Live","Animals in the Ocean","978-1-5345-2373-9","KidHaven Publishing","eBook",1,2018,"January 2018",null,null,"Author","John Wood",null,null,null,null,"I",null,"Years 5 - 8","Grade 1 - 2","Grade K - 3","Readers will enjoy learning about marine life as they explore engaging text covering common science curriculum areas, such as ocean habitats and ecology. Where do marine animals catch and kill their prey? How do they stay safe and avoid predators? What animals have ventured to the deepest depths of the sea? Questions such as these are answered in the main text, which is accompanied by bold, full-color photographs. This is sure to be an educational and entertaining adventure for readers into the lives of animals in the ocean.","English",24.6,19.68,"591.77--dc23","24 pp.",{"$f":"Table1[[#This Row],['# of Books]]*Table1[[#This Row],[QTY]]","v":0},{"$f":"Table1[[#This Row],[QTY]]*Table1[[#This Row],[School & Library Price]]","v":0}]
[null,null,null,3,"Animals","Where Animals Live","Animals in the Rain Forest","978-1-5345-2375-3","KidHaven Publishing","Library Bound Book",1,2018,"January 2018","Library","8.500 X 8.500","Author","John Wood",null,null,null,null,"I",null,"Years 5 - 8","Grade 1 - 2","Grade K - 3","A wide variety of animals can be found in the rain forest. Through captivating, age-appropriate text, readers learn many interesting facts about these animals and the environment they call home. Vibrant, full-color photographs enhance the reading experience as young readers expand their knowledge of rain forest animals. Why do so many animals live in the rain forest, and what is happening to them as rain forests continue to shrink? These questions and more are answered in accessible ways, through text that supports elementary science curriculum topics, including ecology, adaptations, and biodiversity.","English",24.6,19.68,"591.734--dc23","24 pp.",{"$f":"Table1[[#This Row],['# of Books]]*Table1[[#This Row],[QTY]]","v":0},{"$f":"Table1[[#This Row],[QTY]]*Table1[[#This Row],[School & Library Price]]","v":0}]
[null,null,null,3,"Animals","Where Animals Live","Animals in the Rain Forest","978-1-5345-2376-0","KidHaven Publishing","eBook",1,2018,"January 2018",null,null,"Author","John Wood",null,null,null,null,"I",null,"Years 5 - 8","Grade 1 - 2","Grade K - 3","A wide variety of animals can be found in the rain forest. Through captivating, age-appropriate text, readers learn many interesting facts about these animals and the environment they call home. Vibrant, full-color photographs enhance the reading experience as young readers expand their knowledge of rain forest animals. Why do so many animals live in the rain forest, and what is happening to them as rain forests continue to shrink? These questions and more are answered in accessible ways, through text that supports elementary science curriculum topics, including ecology, adaptations, and biodiversity.","English",24.6,19.68,"591.734--dc23","24 pp.",{"$f":"Table1[[#This Row],['# of Books]]*Table1[[#This Row],[QTY]]","v":0},{"$f":"Table1[[#This Row],[QTY]]*Table1[[#This Row],[School & Library Price]]","v":0}]
[null,94,null,4,"Animals","All About Dinosaurs ","All About Dinosaurs: Sets 1 – 2","978-1-5345-2379-1","KidHaven Publishing","Library Set",8,2018,"January 2018",null,"8.500 X 8.500"," "," ",null,null,null,null,null,null,"Years 6 - 8","Grade 2","Grade 1 - 3","Tyrannosaurus rex, Triceratops, and Stegosaurus are just some of the popular dinosaurs readers will learn more about as they discover fun facts about prehistoric creatures and their habitats. Important information about dinosaurs is presented using clear, accessible language, helping young learners understand scientific concepts. Fun fact boxes are included to give readers additional sources of information. As readers explore this popular curriculum topic, they become immersed in the world of the dinosaurs through detailed, colorful illustrations. This engrossing, engaging reading experience will appeal to even the most reluctant readers.","English",196.8,157.44,null,"24 pp.",{"$f":"Table1[[#This Row],['# of Books]]*Table1[[#This Row],[QTY]]","v":0},{"$f":"Table1[[#This Row],[QTY]]*Table1[[#This Row],[School & Library Price]]","v":0}]
[null,94,null,4,"Animals","All About Dinosaurs","All About Dinosaurs: Set 2","978-1-5345-2378-4","KidHaven Publishing","Library Set",4,2018,"January 2018",null,"8.500 X 8.500"," "," ",null,null,null,null,null,null,"Years 6 - 8","Grade 2","Grade 1 - 3","What did dinosaurs such as Velociraptor and Stegosaurus look like? What kinds of habitats did they live in? How did they survive in the prehistoric world? Readers discover the answers to these and other common questions about dinosaurs as they explore this exciting curriculum topic. Essential facts about specific dinosaurs are presented in a straightforward, accessible way. As they read, young learners also find creative, detailed illustrations of these creatures and the habitats they called home. The engaging illustrations and informative text work together to create a learning experience readers won't soon forget.","English",98.4,78.72,null,"24 pp.",{"$f":"Table1[[#This Row],['# of Books]]*Table1[[#This Row],[QTY]]","v":0},{"$f":"Table1[[#This Row],[QTY]]*Table1[[#This Row],[School & Library Price]]","v":0}]
[null,94,null,4,"Animals","All About Dinosaurs","Parasaurolophus","978-1-5345-2352-4","KidHaven Publishing","Library Bound Book",1,2018,"January 2018","Library","8.500 X 8.500","Author","Mike Clark",null,null,null,null,"K",null,"Years 6 - 8","Grade 2","Grade 1 - 3","Parasaurolophus is known for the trumpet-shaped crest on its head, which makes a low sound similar to the one elephants or whales make when communicating among their species. Readers learn this and other interesting facts about this dinosaur, such as what it ate, the places it called home, and how it survived among predators. This compelling material is presented through an age-appropriate text to enhance students’ knowledge of these prehistoric creatures. Readers uncover additional information in captivating fact boxes, colorful illustrations, and well-organized diagrams. This text keeps readers entertained while also aligning with a fundamental science curriculum topic.","English",24.6,19.68,"567.914--dc23","24 pp.",{"$f":"Table1[[#This Row],['# of Books]]*Table1[[#This Row],[QTY]]","v":0},{"$f":"Table1[[#This Row],[QTY]]*Table1[[#This Row],[School & Library Price]]","v":0}]
[null,94,null,4,"Animals","All About Dinosaurs","Parasaurolophus","978-1-5345-2353-1","KidHaven Publishing","eBook",1,2018,"January 2018",null,null,"Author","Mike Clark",null,null,null,null,"K",null,"Years 6 - 8","Grade 2","Grade 1 - 3","Parasaurolophus is known for the trumpet-shaped crest on its head, which makes a low sound similar to the one elephants or whales make when communicating among their species. Readers learn this and other interesting facts about this dinosaur, such as what it ate, the places it called home, and how it survived among predators. This compelling material is presented through an age-appropriate text to enhance students’ knowledge of these prehistoric creatures. Readers uncover additional information in captivating fact boxes, colorful illustrations, and well-organized diagrams. This text keeps readers entertained while also aligning with a fundamental science curriculum topic.","English",24.6,19.68,"567.914--dc23","24 pp.",{"$f":"Table1[[#This Row],['# of Books]]*Table1[[#This Row],[QTY]]","v":0},{"$f":"Table1[[#This Row],[QTY]]*Table1[[#This Row],[School & Library Price]]","v":0}]
[null,94,null,4,"Animals","All About Dinosaurs","Spinosaurus","978-1-5345-2355-5","KidHaven Publishing","Library Bound Book",1,2018,"January 2018","Library","8.500 X 8.500","Author","Mike Clark",null,null,null,null,"K",null,"Years 6 - 8","Grade 2","Grade 1 - 3","The Spinosaurus, with its huge sail on its back, is the largest known carnivorous dinosaur. Early readers learn interesting facts such as these through the informative main text about these prehistoric creatures. In addition, eye-catching fact boxes and detailed diagrams are included throughout the text to provide extra insight about this popular science curriculum topic. Vibrant computer-generated illustrations help readers visualize what this dinosaur looked like and its surroundings. What did a Spinosaurus eat? How did it catch its prey? These answers are waiting to be discovered in the text.","English",24.6,19.68,"567.912--dc23","24 pp.",{"$f":"Table1[[#This Row],['# of Books]]*Table1[[#This Row],[QTY]]","v":0},{"$f":"Table1[[#This Row],[QTY]]*Table1[[#This Row],[School & Library Price]]","v":0}]
[null,94,null,4,"Animals","All About Dinosaurs","Spinosaurus","978-1-5345-2356-2","KidHaven Publishing","eBook",1,2018,"January 2018",null,null,"Author","Mike Clark",null,null,null,null,"K",null,"Years 6 - 8","Grade 2","Grade 1 - 3","The Spinosaurus, with its huge sail on its back, is the largest known carnivorous dinosaur. Early readers learn interesting facts such as these through the informative main text about these prehistoric creatures. In addition, eye-catching fact boxes and detailed diagrams are included throughout the text to provide extra insight about this popular science curriculum topic. Vibrant computer-generated illustrations help readers visualize what this dinosaur looked like and its surroundings. What did a Spinosaurus eat? How did it catch its prey? These answers are waiting to be discovered in the text.","English",24.6,19.68,"567.912--dc23","24 pp.",{"$f":"Table1[[#This Row],['# of Books]]*Table1[[#This Row],[QTY]]","v":0},{"$f":"Table1[[#This Row],[QTY]]*Table1[[#This Row],[School & Library Price]]","v":0}]
[null,94,null,4,"Animals","All About Dinosaurs","Stegosaurus","978-1-5345-2358-6","KidHaven Publishing","Library Bound Book",1,2018,"January 2018","Library","8.500 X 8.500","Author","Mike Clark",null,null,null,null,"K",null,"Years 6 - 8","Grade 2","Grade 1 - 3","The Spinosaurus, with its huge sail on its back, is the largest known carnivorous dinosaur. Early readers learn interesting facts such as these through the informative main text about these prehistoric creatures. In addition, eye-catching fact boxes and detailed diagrams are included throughout the text to provide extra insight about this popular science curriculum topic. Vibrant computer-generated illustrations help readers visualize what this dinosaur looked like and its surroundings. What did a Spinosaurus eat? How did it catch its prey? These answers are waiting to be discovered in the text.","English",24.6,19.68,"567.915'3--dc23","24 pp.",{"$f":"Table1[[#This Row],['# of Books]]*Table1[[#This Row],[QTY]]","v":0},{"$f":"Table1[[#This Row],[QTY]]*Table1[[#This Row],[School & Library Price]]","v":0}]
[null,94,null,4,"Animals","All About Dinosaurs","Stegosaurus","978-1-5345-2359-3","KidHaven Publishing","eBook",1,2018,"January 2018",null,null,"Author","Mike Clark",null,null,null,null,"K",null,"Years 6 - 8","Grade 2","Grade 1 - 3","The Spinosaurus, with its huge sail on its back, is the largest known carnivorous dinosaur. Early readers learn interesting facts such as these through the informative main text about these prehistoric creatures. In addition, eye-catching fact boxes and detailed diagrams are included throughout the text to provide extra insight about this popular science curriculum topic. Vibrant computer-generated illustrations help readers visualize what this dinosaur looked like and its surroundings. What did a Spinosaurus eat? How did it catch its prey? These answers are waiting to be discovered in the text.","English",24.6,19.68,"567.915'3--dc23","24 pp.",{"$f":"Table1[[#This Row],['# of Books]]*Table1[[#This Row],[QTY]]","v":0},{"$f":"Table1[[#This Row],[QTY]]*Table1[[#This Row],[School & Library Price]]","v":0}]
[null,94,null,4,"Animals","All About Dinosaurs","Velociraptor","978-1-5345-2360-9","KidHaven Publishing","Library Bound Book",1,2018,"January 2018","Library","8.500 X 8.500","Author","Mike Clark",null,null,null,null,"K",null,"Years 6 - 8","Grade 2","Grade 1 - 3","The Velociraptor is one of the most popular dinosaurs for young readers to learn about. In this captivating text, readers learn about the similarities this dinosaur shares with birds. These dinosaurs had hollow bones and tended to nests of eggs, although they were not known to fly. These and other fascinating facts about the Velociraptor are included in the age-appropriate main text that supports a major science curriculum topic. Additional information is included in well-organized fact boxes and detailed diagrams. Colorful computer-generated illustrations of the Velociraptor add a creative visual element for readers looking to expand their knowledge of dinosaurs.","English",24.6,19.68,"567.912--dc23","24 pp.",{"$f":"Table1[[#This Row],['# of Books]]*Table1[[#This Row],[QTY]]","v":0},{"$f":"Table1[[#This Row],[QTY]]*Table1[[#This Row],[School & Library Price]]","v":0}]
[null,94,null,4,"Animals","All About Dinosaurs","Velociraptor","978-1-5345-2361-6","KidHaven Publishing","eBook",1,2018,"January 2018",null,null,"Author","Mike Clark",null,null,null,null,"K",null,"Years 6 - 8","Grade 2","Grade 1 - 3","The Velociraptor is one of the most popular dinosaurs for young readers to learn about. In this captivating text, readers learn about the similarities this dinosaur shares with birds. These dinosaurs had hollow bones and tended to nests of eggs, although they were not known to fly. These and other fascinating facts about the Velociraptor are included in the age-appropriate main text that supports a major science curriculum topic. Additional information is included in well-organized fact boxes and detailed diagrams. Colorful computer-generated illustrations of the Velociraptor add a creative visual element for readers looking to expand their knowledge of dinosaurs.","English",24.6,19.68,"567.912--dc23","24 pp.",{"$f":"Table1[[#This Row],['# of Books]]*Table1[[#This Row],[QTY]]","v":0},{"$f":"Table1[[#This Row],[QTY]]*Table1[[#This Row],[School & Library Price]]","v":0}]
[null,94,null,5,"Animals","All About Dinosaurs (Aug '17 Set)","All About Dinosaurs (Aug '17 Set)","978-1-5345-2198-8","KidHaven Publishing","Library Set",4,2018,"August 2017","Library","8.500 X 8.500"," "," ",null,null,null,null,null,null,"Years 6 - 8","Grade 2","Grade 1 - 3","Young readers love learning about dinosaurs and other animals that lived millions of years ago, and they will find themselves deeply engaged as they explore a lost world populated by amazing prehistoric creatures. Accessible main text and eye-catching fact boxes introduce them to important information about popular prehistoric creatures, including Tyrannosaurus rex, Triceratops, Diplodocus, and pterodactyls. Fascinating facts are presented alongside vibrant, full-color illustrations of these creatures in what is believed to be their natural habitat. The immersive design and exciting illustrations allow readers to gain a deeper understanding of and appreciation for this common curriculum topic. Features include: High-interest topic and creative design appeal to even the most reluctant readers. Detailed diagrams help readers visualize basic information about prehistoric creatures and the world they lived in. Simple text, including helpful labels on diagrams, clarifies scientific concepts and language for young readers.","English",98.4,78.72,null,"24 pp.",{"$f":"Table1[[#This Row],['# of Books]]*Table1[[#This Row],[QTY]]","v":0},{"$f":"Table1[[#This Row],[QTY]]*Table1[[#This Row],[School & Library Price]]","v":0}]
[null,94,null,5,"Animals","All About Dinosaurs (Aug '17 Set)","All About Dinosaurs (Aug '17 Set)","978-1-5345-2201-5","KidHaven Publishing","eBook Set",4,2018,"August 2017",null,null," "," ",null,null,null,null,null,null,"Years 6 - 8","Grade 2","Grade 1 - 3","Young readers love learning about dinosaurs and other animals that lived millions of years ago, and they will find themselves deeply engaged as they explore a lost world populated by amazing prehistoric creatures. Accessible main text and eye-catching fact boxes introduce them to important information about popular prehistoric creatures, including Tyrannosaurus rex, Triceratops, Diplodocus, and pterodactyls. Fascinating facts are presented alongside vibrant, full-color illustrations of these creatures in what is believed to be their natural habitat. The immersive design and exciting illustrations allow readers to gain a deeper understanding of and appreciation for this common curriculum topic. Features include: High-interest topic and creative design appeal to even the most reluctant readers. Detailed diagrams help readers visualize basic information about prehistoric creatures and the world they lived in. Simple text, including helpful labels on diagrams, clarifies scientific concepts and language for young readers.","English",98.4,78.72,null,"24 pp.",{"$f":"Table1[[#This Row],['# of Books]]*Table1[[#This Row],[QTY]]","v":0},{"$f":"Table1[[#This Row],[QTY]]*Table1[[#This Row],[School & Library Price]]","v":0}]
[null,94,null,5,"Animals","All About Dinosaurs","Diplodocus","978-1-5345-2173-5","KidHaven Publishing","Library Bound Book",1,2018,"August 2017","Library","8.500 X 8.500","Author","Amy Allatson",null,null,null,null,"K",null,"Years 6 - 8","Grade 2","Grade 1 - 3","Diplodocus was one of the longest dinosaurs to walk the earth during prehistoric times. Readers learn many fun facts about this giant kind of dinosaur, including how it behaved, what it ate, and what it looked like. This essential information is presented through accessible main text designed to enhance a common curriculum topic. Readers discover additional information in eye-catching fact boxes and clearly labeled diagrams. Computer-generated illustrations of these dinosaurs keep readers entertained as they learn.","English",24.6,19.68,"567.913--dc23","24 pp.",{"$f":"Table1[[#This Row],['# of Books]]*Table1[[#This Row],[QTY]]","v":0},{"$f":"Table1[[#This Row],[QTY]]*Table1[[#This Row],[School & Library Price]]","v":0}]
[null,94,null,5,"Animals","All About Dinosaurs","Diplodocus","978-1-5345-2169-8","KidHaven Publishing","eBook",1,2018,"August 2017",null,null,"Author","Amy Allatson",null,null,null,null,"K",null,"Years 6 - 8","Grade 2","Grade 1 - 3","Diplodocus was one of the longest dinosaurs to walk the earth during prehistoric times. Readers learn many fun facts about this giant kind of dinosaur, including how it behaved, what it ate, and what it looked like. This essential information is presented through accessible main text designed to enhance a common curriculum topic. Readers discover additional information in eye-catching fact boxes and clearly labeled diagrams. Computer-generated illustrations of these dinosaurs keep readers entertained as they learn.","English",24.6,19.68,"567.913--dc23","24 pp.",{"$f":"Table1[[#This Row],['# of Books]]*Table1[[#This Row],[QTY]]","v":0},{"$f":"Table1[[#This Row],[QTY]]*Table1[[#This Row],[School & Library Price]]","v":0}]
[null,94,null,5,"Animals","All About Dinosaurs","Pterodactyl","978-1-5345-2175-9","KidHaven Publishing","Library Bound Book",1,2018,"August 2017","Library","8.500 X 8.500","Author","Amy Allatson",null,null,null,null,"K",null,"Years 6 - 8","Grade 2","Grade 1 - 3","Pterodactyl is a popular dinosaur because of its ability to fly. Readers take a closer look at this flying dinosaur through clear main text, fun fact boxes, and helpful diagrams. As they read, they discover important information about this dinosaur’s behavior, appearance, and habitat. These fun facts help support elementary curriculum topics. Colorful computer-generated images fill each page, helping readers immerse themselves in a prehistoric world. This is sure to be a reading adventure early learners will want to experience again and again.","English",24.6,19.68,"567.918--dc23","24 pp.",{"$f":"Table1[[#This Row],['# of Books]]*Table1[[#This Row],[QTY]]","v":0},{"$f":"Table1[[#This Row],[QTY]]*Table1[[#This Row],[School & Library Price]]","v":0}]
[null,94,null,5,"Animals","All About Dinosaurs","Pterodactyl","978-1-5345-2171-1","KidHaven Publishing","eBook",1,2018,"August 2017",null,null,"Author","Amy Allatson",null,null,null,null,"K",null,"Years 6 - 8","Grade 2","Grade 1 - 3","Pterodactyl is a popular dinosaur because of its ability to fly. Readers take a closer look at this flying dinosaur through clear main text, fun fact boxes, and helpful diagrams. As they read, they discover important information about this dinosaur’s behavior, appearance, and habitat. These fun facts help support elementary curriculum topics. Colorful computer-generated images fill each page, helping readers immerse themselves in a prehistoric world. This is sure to be a reading adventure early learners will want to experience again and again.","English",24.6,19.68,"567.918--dc23","24 pp.",{"$f":"Table1[[#This Row],['# of Books]]*Table1[[#This Row],[QTY]]","v":0},{"$f":"Table1[[#This Row],[QTY]]*Table1[[#This Row],[School & Library Price]]","v":0}]
[null,94,null,5,"Animals","All About Dinosaurs","Triceratops","978-1-5345-2176-6","KidHaven Publishing","Library Bound Book",1,2018,"August 2017","Library","8.500 X 8.500","Author","Amy Allatson",null,null,null,null,"K",null,"Years 6 - 8","Grade 2","Grade 1 - 3","What did a Triceratops eat? How did it get its name? What kind of habitat did it live in? Readers find the answers to these questions and many more as they explore the exciting world of the Triceratops. Vibrant computer-generated images take readers back in time, helping them visualize these popular dinosaurs and their surroundings. These detailed images accompany simple, accessible text filled with fun facts about a common curriculum topic. Informative fact boxes and diagrams provide additional information for readers who want to become Triceratops experts.","English",24.6,19.68,"567.915’8--dc23","24 pp.",{"$f":"Table1[[#This Row],['# of Books]]*Table1[[#This Row],[QTY]]","v":0},{"$f":"Table1[[#This Row],[QTY]]*Table1[[#This Row],[School & Library Price]]","v":0}]
[null,94,null,5,"Animals","All About Dinosaurs","Triceratops","978-1-5345-2172-8","KidHaven Publishing","eBook",1,2018,"August 2017",null,null,"Author","Amy Allatson",null,null,null,null,"K",null,"Years 6 - 8","Grade 2","Grade 1 - 3","What did a Triceratops eat? How did it get its name? What kind of habitat did it live in? Readers find the answers to these questions and many more as they explore the exciting world of the Triceratops. Vibrant computer-generated images take readers back in time, helping them visualize these popular dinosaurs and their surroundings. These detailed images accompany simple, accessible text filled with fun facts about a common curriculum topic. Informative fact boxes and diagrams provide additional information for readers who want to become Triceratops experts.","English",24.6,19.68,"567.915’8--dc23","24 pp.",{"$f":"Table1[[#This Row],['# of Books]]*Table1[[#This Row],[QTY]]","v":0},{"$f":"Table1[[#This Row],[QTY]]*Table1[[#This Row],[School & Library Price]]","v":0}]
[null,94,null,5,"Animals","All About Dinosaurs","Tyrannosaurus Rex","978-1-5345-2174-2","KidHaven Publishing","Library Bound Book",1,2018,"August 2017","Library","8.500 X 8.500","Author","Amy Allatson",null,null,null,null,"K",null,"Years 6 - 8","Grade 2","Grade 1 - 3","Readers enjoy learning about dinosaurs, and Tyrannosaurus rex is one of the most popular dinosaurs for early learners to read about. Readers explore the fascinating details of what life may have been like for a Tyrannosaurus rex, with beautiful computer-generated images to help them visualize these creatures and the world they inhabited. Age-appropriate text allows them to explore this high-interest topic and common part of elementary curricula on their own. The main text is supported by fact boxes and detailed diagrams. How did Tyrannosaurus rex catch and kill its prey? The answer is waiting for readers to discover!","English",24.6,19.68,"567.912’9--dc23","24 pp.",{"$f":"Table1[[#This Row],['# of Books]]*Table1[[#This Row],[QTY]]","v":0},{"$f":"Table1[[#This Row],[QTY]]*Table1[[#This Row],[School & Library Price]]","v":0}]
[null,94,null,5,"Animals","All About Dinosaurs","Tyrannosaurus Rex","978-1-5345-2170-4","KidHaven Publishing","eBook",1,2018,"August 2017",null,null,"Author","Amy Allatson",null,null,null,null,"K",null,"Years 6 - 8","Grade 2","Grade 1 - 3","Readers enjoy learning about dinosaurs, and Tyrannosaurus rex is one of the most popular dinosaurs for early learners to read about. Readers explore the fascinating details of what life may have been like for a Tyrannosaurus rex, with beautiful computer-generated images to help them visualize these creatures and the world they inhabited. Age-appropriate text allows them to explore this high-interest topic and common part of elementary curricula on their own. The main text is supported by fact boxes and detailed diagrams. How did Tyrannosaurus rex catch and kill its prey? The answer is waiting for readers to discover!","English",24.6,19.68,"567.912’9--dc23","24 pp.",{"$f":"Table1[[#This Row],['# of Books]]*Table1[[#This Row],[QTY]]","v":0},{"$f":"Table1[[#This Row],[QTY]]*Table1[[#This Row],[School & Library Price]]","v":0}]
[null,95,null,6,"Animals","Animals of the Tundra (Aug '17 Set)","Animals of the Tundra (Aug '17 Set)","978-1-5345-2209-1","KidHaven Publishing","Library Set",4,2018,"August 2017","Library","7.000 X 7.000"," "," ",null,null,null,null,null,null,"Years 6 - 8","Grade 1 - 2","Grade 1 - 3","The tundra is a treeless plain that is cold all year and often snowy. In such a harsh environment, it is amazing that some animals not only survive, but thrive. Animals that live in the tundra, such as wolves, owls, foxes, and caribou, are spotlighted with amazing facts about their habitats, diets, and behaviors. Among other fascinating information, readers discover the adaptations these incredible animals have developed over time that allow them to live in such an unwelcoming ecosystem. This informative, accessible text is presented alongside detailed, full-color photographs.","English",98.4,78.72,null,"24 pp.",{"$f":"Table1[[#This Row],['# of Books]]*Table1[[#This Row],[QTY]]","v":0},{"$f":"Table1[[#This Row],[QTY]]*Table1[[#This Row],[School & Library Price]]","v":0}]
[null,95,null,6,"Animals","Animals of the Tundra (Aug '17 Set)","Animals of the Tundra (Aug '17 Set)","978-1-5345-2316-6","KidHaven Publishing","eBook Set",4,2018,"August 2017",null,null," "," ",null,null,null,null,null,null,"Years 6 - 8","Grade 1 - 2","Grade 1 - 3","The tundra is a treeless plain that is cold all year and often snowy. In such a harsh environment, it is amazing that some animals not only survive, but thrive. Animals that live in the tundra, such as wolves, owls, foxes, and caribou, are spotlighted with amazing facts about their habitats, diets, and behaviors. Among other fascinating information, readers discover the adaptations these incredible animals have developed over time that allow them to live in such an unwelcoming ecosystem. This informative, accessible text is presented alongside detailed, full-color photographs.","English",98.4,78.72,null,"24 pp.",{"$f":"Table1[[#This Row],['# of Books]]*Table1[[#This Row],[QTY]]","v":0},{"$f":"Table1[[#This Row],[QTY]]*Table1[[#This Row],[School & Library Price]]","v":0}]
[null,95,null,6,"Animals","Animals of the Tundra","Arctic Foxes of the Tundra","978-1-5345-2224-4","KidHaven Publishing","Library Bound Book",1,2018,"August 2017","Library","7.000 X 7.000","Author","Joyce Jeffries",null,null,null,null,"G",null,"Years 6 - 8","Grade 1 - 2","Grade 1 - 3","Arctic foxes have developed special adaptations that help them survive in the unwelcoming tundra. In the winter, their fur is white; in the summer, when the snow melts, they grow gray or brown fur. The furry bottoms of their feet and their large tails keep them warm all year round. Readers will enjoy discovering these and other facts about this marvelous animal. These facts enhance readers’ understanding of common science curriculum topics. Stunning photographs enhance the accessible text in a way that is sure to captivate young readers.","English",24.6,19.68,"599.776'4--dc23","24 pp.",{"$f":"Table1[[#This Row],['# of Books]]*Table1[[#This Row],[QTY]]","v":0},{"$f":"Table1[[#This Row],[QTY]]*Table1[[#This Row],[School & Library Price]]","v":0}]
[null,95,null,6,"Animals","Animals of the Tundra","Arctic Foxes of the Tundra","978-1-5345-2220-6","KidHaven Publishing","eBook",1,2018,"August 2017",null,null,"Author","Joyce Jeffries",null,null,null,null,"G",null,"Years 6 - 8","Grade 1 - 2","Grade 1 - 3","Arctic foxes have developed special adaptations that help them survive in the unwelcoming tundra. In the winter, their fur is white; in the summer, when the snow melts, they grow gray or brown fur. The furry bottoms of their feet and their large tails keep them warm all year round. Readers will enjoy discovering these and other facts about this marvelous animal. These facts enhance readers’ understanding of common science curriculum topics. Stunning photographs enhance the accessible text in a way that is sure to captivate young readers.","English",24.6,19.68,"599.776'4--dc23","24 pp.",{"$f":"Table1[[#This Row],['# of Books]]*Table1[[#This Row],[QTY]]","v":0},{"$f":"Table1[[#This Row],[QTY]]*Table1[[#This Row],[School & Library Price]]","v":0}]
[null,95,null,6,"Animals","Animals of the Tundra","Arctic Wolves of the Tundra","978-1-5345-2225-1","KidHaven Publishing","Library Bound Book",1,2018,"August 2017","Library","7.000 X 7.000","Author","Nick Christopher",null,null,null,null,"H",null,"Years 6 - 8","Grade 1 - 2","Grade 1 - 3","The tundra is very cold and difficult for animals to survive in. The ones who live there have developed special adaptations to help them stay warm and find food. For example, arctic wolves often have white fur to help them blend in with the snow, so they can sneak up on their prey. Readers learn this and many other fun facts about these powerful predators. Full-color photographs beautifully illustrate this informative text, which is designed to adhere to common science curriculum standards.","English",24.6,19.68,"599.776’4--dc23","24 pp.",{"$f":"Table1[[#This Row],['# of Books]]*Table1[[#This Row],[QTY]]","v":0},{"$f":"Table1[[#This Row],[QTY]]*Table1[[#This Row],[School & Library Price]]","v":0}]
[null,95,null,6,"Animals","Animals of the Tundra","Arctic Wolves of the Tundra","978-1-5345-2222-0","KidHaven Publishing","eBook",1,2018,"August 2017",null,null,"Author","Nick Christopher",null,null,null,null,"H",null,"Years 6 - 8","Grade 1 - 2","Grade 1 - 3","The tundra is very cold and difficult for animals to survive in. The ones who live there have developed special adaptations to help them stay warm and find food. For example, arctic wolves often have white fur to help them blend in with the snow, so they can sneak up on their prey. Readers learn this and many other fun facts about these powerful predators. Full-color photographs beautifully illustrate this informative text, which is designed to adhere to common science curriculum standards.","English",24.6,19.68,"599.776’4--dc23","24 pp.",{"$f":"Table1[[#This Row],['# of Books]]*Table1[[#This Row],[QTY]]","v":0},{"$f":"Table1[[#This Row],[QTY]]*Table1[[#This Row],[School & Library Price]]","v":0}]
[null,95,null,6,"Animals","Animals of the Tundra","Caribou of the Tundra","978-1-5345-2223-7","KidHaven Publishing","Library Bound Book",1,2018,"August 2017","Library","7.000 X 7.000","Author","Amy B. Rogers",null,null,null,null,"H",null,"Years 6 - 8","Grade 1 - 2","Grade 1 - 3","Caribou—also known as wild reindeer—live in the cold, snowy tundra, where food is scarce. Their specially shaped hoofs help them walk on snow and dig for the food underneath it. What do caribou eat? How do they avoid dangerous predators? Readers will find the answers to these and other questions in this engaging text, which supports basic elementary science curricula. Full-color photographs of caribou in their natural habitat make readers feel as if they are on their own expedition to the frozen tundra.","English",24.6,19.68,"599.65'8--dc23","24 pp.",{"$f":"Table1[[#This Row],['# of Books]]*Table1[[#This Row],[QTY]]","v":0},{"$f":"Table1[[#This Row],[QTY]]*Table1[[#This Row],[School & Library Price]]","v":0}]
[null,95,null,6,"Animals","Animals of the Tundra","Caribou of the Tundra","978-1-5345-2219-0","KidHaven Publishing","eBook",1,2018,"August 2017",null,null,"Author","Amy B. Rogers",null,null,null,null,"H",null,"Years 6 - 8","Grade 1 - 2","Grade 1 - 3","Caribou—also known as wild reindeer—live in the cold, snowy tundra, where food is scarce. Their specially shaped hoofs help them walk on snow and dig for the food underneath it. What do caribou eat? How do they avoid dangerous predators? Readers will find the answers to these and other questions in this engaging text, which supports basic elementary science curricula. Full-color photographs of caribou in their natural habitat make readers feel as if they are on their own expedition to the frozen tundra.","English",24.6,19.68,"599.65'8--dc23","24 pp.",{"$f":"Table1[[#This Row],['# of Books]]*Table1[[#This Row],[QTY]]","v":0},{"$f":"Table1[[#This Row],[QTY]]*Table1[[#This Row],[School & Library Price]]","v":0}]
[null,95,null,6,"Animals","Animals of the Tundra","Snowy Owls of the Tundra","978-1-5345-2226-8","KidHaven Publishing","Library Bound Book",1,2018,"August 2017","Library","7.000 X 7.000","Author","Riley Lawrence",null,null,null,null,"H",null,"Years 6 - 8","Grade 1 - 2","Grade 1 - 3","Unlike other owls, snowy owls have feathers that cover their legs and feet to keep them warm in the freezing tundra. They have sharp beaks and claws to help them catch lemmings, mice, and rabbits. Readers learn about the lives of these fascinating birds through engaging text and striking photographs. They explore common elementary science curriculum topics, including predator-prey relationships and adaptations, in an accessible, exciting way.","English",24.6,19.68,"598.9’7--dc23","24 pp.",{"$f":"Table1[[#This Row],['# of Books]]*Table1[[#This Row],[QTY]]","v":0},{"$f":"Table1[[#This Row],[QTY]]*Table1[[#This Row],[School & Library Price]]","v":0}]
[null,95,null,6,"Animals","Animals of the Tundra","Snowy Owls of the Tundra","978-1-5345-2221-3","KidHaven Publishing","eBook",1,2018,"August 2017",null,null,"Author","Riley Lawrence",null,null,null,null,"H",null,"Years 6 - 8","Grade 1 - 2","Grade 1 - 3","Unlike other owls, snowy owls have feathers that cover their legs and feet to keep them warm in the freezing tundra. They have sharp beaks and claws to help them catch lemmings, mice, and rabbits. Readers learn about the lives of these fascinating birds through engaging text and striking photographs. They explore common elementary science curriculum topics, including predator-prey relationships and adaptations, in an accessible, exciting way.","English",24.6,19.68,"598.9’7--dc23","24 pp.",{"$f":"Table1[[#This Row],['# of Books]]*Table1[[#This Row],[QTY]]","v":0},{"$f":"Table1[[#This Row],[QTY]]*Table1[[#This Row],[School & Library Price]]","v":0}]
[null,null,null,7,"Current Issues","What's the Issue?","What's the Issue? (Jan 2018)","978-1-5345-2458-3","KidHaven Publishing","Library Set",6,2018,"January 2018",null,"8.500 X 8.500"," "," ",null,null,null,null,null,null,"Years 8 - 10","Grade 3","Grade 3 - 5","Young people hear many terms they might not understand as they watch the news with their family, see headlines in newspapers or online, or listen to a discussion between adults. Words and phrases such as \"refugees,\" \"gender equality,\" \"racism,\" and \"climate change\" may be unfamiliar to them, but they are critical concepts to understand as they grow up in the modern world. As readers explore these important issues, they strengthen their critical thinking skills with the help of informative text, fact boxes, and graphic organizers. Detailed photographs are also included to help readers visualize each topic.\n\nFeatures include: Age-appropriate text and tone allow readers to familiarize themselves with hot button social and political issues using language they understand. Fact-based approach encourages readers to develop their own informed opinions and understand the importance of objective truth over media spin and personal bias. Focus on social justice topics helps readers develop a sense of empathy for and understanding of people who are different from them.","English",147.6,118.08,null,"24 pp.",{"$f":"Table1[[#This Row],['# of Books]]*Table1[[#This Row],[QTY]]","v":0},{"$f":"Table1[[#This Row],[QTY]]*Table1[[#This Row],[School & Library Price]]","v":0}]
[null,null,null,7,"Current Issues","What's the Issue?","What’s Climate Change?","978-1-5345-2431-6","KidHaven Publishing","Library Bound Book",1,2018,"January 2018","Library","8.500 X 8.500","Author","Robert M. Hamilton ",null,null,null,null,"N",null,"Years 8 - 10","Grade 3","Grade 3 - 5","Climate change is an issue that affects all living things on Earth, but the specifics of the issue are often spoken and written about using complex scientific language, making it difficult for young people to fully grasp why it is such a critical problem. When presented in an accessible way, however, readers are able to gain a deeper understanding of the causes and effects of climate change, as well as why they should care about this issue. Striking, full-color photographs, detailed fact boxes, and informative graphic organizers help readers as they explore this hot topic.","English",24.6,19.68,"363.738/74--dc23","24 pp.",{"$f":"Table1[[#This Row],['# of Books]]*Table1[[#This Row],[QTY]]","v":0},{"$f":"Table1[[#This Row],[QTY]]*Table1[[#This Row],[School & Library Price]]","v":0}]
[null,null,null,7,"Current Issues","What's the Issue?","What’s Climate Change?","978-1-5345-2432-3","KidHaven Publishing","eBook",1,2018,"January 2018",null,null,"Author","Robert M. Hamilton ",null,null,null,null,"N",null,"Years 8 - 10","Grade 3","Grade 3 - 5","Climate change is an issue that affects all living things on Earth, but the specifics of the issue are often spoken and written about using complex scientific language, making it difficult for young people to fully grasp why it is such a critical problem. When presented in an accessible way, however, readers are able to gain a deeper understanding of the causes and effects of climate change, as well as why they should care about this issue. Striking, full-color photographs, detailed fact boxes, and informative graphic organizers help readers as they explore this hot topic.","English",24.6,19.68,"363.738/74--dc23","24 pp.",{"$f":"Table1[[#This Row],['# of Books]]*Table1[[#This Row],[QTY]]","v":0},{"$f":"Table1[[#This Row],[QTY]]*Table1[[#This Row],[School & Library Price]]","v":0}]
[null,null,null,7,"Current Issues","What's the Issue?","What’s Gender Equality?","978-1-5345-2435-4","KidHaven Publishing","Library Bound Book",1,2018,"January 2018","Library","8.500 X 8.500","Author","Katie Kawa",null,null,null,null,"N",null,"Years 8 - 10","Grade 3","Grade 3 - 5","The fight for gender equality has its roots in the past, affects the lives of all people in the present, and will shape the future in important ways. However, before young people can begin to join the fight for gender equality, they first have to understand it. What is feminism? Why are women still fighting for equal pay for equal work? As readers discover the answers to these questions, they become more familiar with this newsworthy topic. Their critical-thinking skills are strengthened through informative main text and fact boxes, as well as vibrant photographs and graphic organizers.","English",24.6,19.68,"305.42--dc23","24 pp.",{"$f":"Table1[[#This Row],['# of Books]]*Table1[[#This Row],[QTY]]","v":0},{"$f":"Table1[[#This Row],[QTY]]*Table1[[#This Row],[School & Library Price]]","v":0}]
[null,null,null,7,"Current Issues","What's the Issue?","What’s Gender Equality?","978-1-5345-2436-1","KidHaven Publishing","eBook",1,2018,"January 2018",null,null,"Author","Katie Kawa",null,null,null,null,"N",null,"Years 8 - 10","Grade 3","Grade 3 - 5","The fight for gender equality has its roots in the past, affects the lives of all people in the present, and will shape the future in important ways. However, before young people can begin to join the fight for gender equality, they first have to understand it. What is feminism? Why are women still fighting for equal pay for equal work? As readers discover the answers to these questions, they become more familiar with this newsworthy topic. Their critical-thinking skills are strengthened through informative main text and fact boxes, as well as vibrant photographs and graphic organizers.","English",24.6,19.68,"305.42--dc23","24 pp.",{"$f":"Table1[[#This Row],['# of Books]]*Table1[[#This Row],[QTY]]","v":0},{"$f":"Table1[[#This Row],[QTY]]*Table1[[#This Row],[School & Library Price]]","v":0}]
[null,null,null,7,"Current Issues","What's the Issue?","What’s Gun Control?","978-1-5345-2441-5","KidHaven Publishing","Library Bound Book",1,2018,"January 2018","Library","8.500 X 8.500","Author","Kate Rogers",null,null,null,null,"N",null,"Years 8 - 10","Grade 3","Grade 3 - 5","Gun control is a popular topic of debate on news programs and online, but these debates are sensationalized and often do not fully explain the issue and the points of view of people on both sides of it. Readers are given a clearer picture of what gun control means and why people support and oppose it through fact-filled text and relevant, full-color photographs. Fact boxes and graphic organizers supply readers with additional details to help them develop their own informed opinion on this topic and understand those whose opinion differs from theirs.","English",24.6,19.68,"323.4'3--dc23","24 pp.",{"$f":"Table1[[#This Row],['# of Books]]*Table1[[#This Row],[QTY]]","v":0},{"$f":"Table1[[#This Row],[QTY]]*Table1[[#This Row],[School & Library Price]]","v":0}]
[null,null,null,7,"Current Issues","What's the Issue?","What’s Gun Control?","978-1-5345-2442-2","KidHaven Publishing","eBook",1,2018,"January 2018",null,null,"Author","Kate Rogers",null,null,null,null,"N",null,"Years 8 - 10","Grade 3","Grade 3 - 5","Gun control is a popular topic of debate on news programs and online, but these debates are sensationalized and often do not fully explain the issue and the points of view of people on both sides of it. Readers are given a clearer picture of what gun control means and why people support and oppose it through fact-filled text and relevant, full-color photographs. Fact boxes and graphic organizers supply readers with additional details to help them develop their own informed opinion on this topic and understand those whose opinion differs from theirs.","English",24.6,19.68,"323.4'3--dc23","24 pp.",{"$f":"Table1[[#This Row],['# of Books]]*Table1[[#This Row],[QTY]]","v":0},{"$f":"Table1[[#This Row],[QTY]]*Table1[[#This Row],[School & Library Price]]","v":0}]
[null,null,null,7,"Current Issues","What's the Issue?","What’s Intolerance?","978-1-5345-2439-2","KidHaven Publishing","Library Bound Book",1,2018,"January 2018","Library","8.500 X 8.500","Author","Richard Alexander",null,null,null,null,"N",null,"Years 8 - 10","Grade 3","Grade 3 - 5","Intolerance is a complex issue, but readers are introduced to it in a way that leaves them feeling enlightened and not overwhelmed. Informative, accessible text presents a basic definition of intolerance as well as relatable examples that readers could see in their daily lives and on the news. The main text is enhanced by the use of fact boxes, graphic organizers, and eye-catching photographs. These engaging elements come together to give readers a clear picture of what intolerance is, who it affects, and how they can fight against it.","English",24.6,19.68,"305--dc23","24 pp.",{"$f":"Table1[[#This Row],['# of Books]]*Table1[[#This Row],[QTY]]","v":0},{"$f":"Table1[[#This Row],[QTY]]*Table1[[#This Row],[School & Library Price]]","v":0}]
[null,null,null,7,"Current Issues","What's the Issue?","What’s Intolerance?","978-1-5345-2440-8","KidHaven Publishing","eBook",1,2018,"January 2018",null,null,"Author","Richard Alexander",null,null,null,null,"N",null,"Years 8 - 10","Grade 3","Grade 3 - 5","Intolerance is a complex issue, but readers are introduced to it in a way that leaves them feeling enlightened and not overwhelmed. Informative, accessible text presents a basic definition of intolerance as well as relatable examples that readers could see in their daily lives and on the news. The main text is enhanced by the use of fact boxes, graphic organizers, and eye-catching photographs. These engaging elements come together to give readers a clear picture of what intolerance is, who it affects, and how they can fight against it.","English",24.6,19.68,"305--dc23","24 pp.",{"$f":"Table1[[#This Row],['# of Books]]*Table1[[#This Row],[QTY]]","v":0},{"$f":"Table1[[#This Row],[QTY]]*Table1[[#This Row],[School & Library Price]]","v":0}]
[null,null,null,7,"Current Issues","What's the Issue?","What’s Racism?","978-1-5345-2437-8","KidHaven Publishing","Library Bound Book",1,2018,"January 2018","Library","8.500 X 8.500","Author","Amy B. Rogers",null,null,null,null,"N",null,"Years 8 - 10","Grade 3","Grade 3 - 5","Racism is a difficult issue to face, but people must confront it if they hope to move beyond it. Confronting challenging social issues such as racism often begins with education. As readers discover the roots of racism in America and how it still isolates people from one another, they learn what their generation can do to combat racism create a more inclusive society. This sensitive topic is presented in an age-appropriate an informative way, using fact boxes, graphic organizers, and full-color photographs enhance the reading experience.","English",24.6,19.68,"305.800973--dc23","24 pp.",{"$f":"Table1[[#This Row],['# of Books]]*Table1[[#This Row],[QTY]]","v":0},{"$f":"Table1[[#This Row],[QTY]]*Table1[[#This Row],[School & Library Price]]","v":0}]
[null,null,null,7,"Current Issues","What's the Issue?","What’s Racism?","978-1-5345-2438-5","KidHaven Publishing","eBook",1,2018,"January 2018",null,null,"Author","Amy B. Rogers",null,null,null,null,"N",null,"Years 8 - 10","Grade 3","Grade 3 - 5","Racism is a difficult issue to face, but people must confront it if they hope to move beyond it. Confronting challenging social issues such as racism often begins with education. As readers discover the roots of racism in America and how it still isolates people from one another, they learn what their generation can do to combat racism create a more inclusive society. This sensitive topic is presented in an age-appropriate an informative way, using fact boxes, graphic organizers, and full-color photographs enhance the reading experience.","English",24.6,19.68,"305.800973--dc23","24 pp.",{"$f":"Table1[[#This Row],['# of Books]]*Table1[[#This Row],[QTY]]","v":0},{"$f":"Table1[[#This Row],[QTY]]*Table1[[#This Row],[School & Library Price]]","v":0}]
[null,null,null,7,"Current Issues","What's the Issue?","Who Are Refugees?","978-1-5345-2433-0","KidHaven Publishing","Library Bound Book",1,2018,"January 2018","Library","8.500 X 8.500","Author","Joyce Jeffries",null,null,null,null,"N",null,"Years 8 - 10","Grade 3","Grade 3 - 5","How do refugees differ from immigrants? Why do they leave their country, and what do they hope to find in a new place? These questions and more are answered as readers are given an in-depth look at refugees and their struggle to build a better life. This important topic is addressed using accessible text, enlightening fact boxes, full-color photographs and helpful graphic organizers. The relatable tone presents this issue to readers without condescension, fostering in them a deeper sense of social justice and empathy.","English",24.6,19.68,"305.9/06914--dc23","24 pp.",{"$f":"Table1[[#This Row],['# of Books]]*Table1[[#This Row],[QTY]]","v":0},{"$f":"Table1[[#This Row],[QTY]]*Table1[[#This Row],[School & Library Price]]","v":0}]
[null,null,null,7,"Current Issues","What's the Issue?","Who Are Refugees?","978-1-5345-2434-7","KidHaven Publishing","eBook",1,2018,"January 2018",null,null,"Author","Joyce Jeffries",null,null,null,null,"N",null,"Years 8 - 10","Grade 3","Grade 3 - 5","How do refugees differ from immigrants? Why do they leave their country, and what do they hope to find in a new place? These questions and more are answered as readers are given an in-depth look at refugees and their struggle to build a better life. This important topic is addressed using accessible text, enlightening fact boxes, full-color photographs and helpful graphic organizers. The relatable tone presents this issue to readers without condescension, fostering in them a deeper sense of social justice and empathy.","English",24.6,19.68,"305.9/06914--dc23","24 pp.",{"$f":"Table1[[#This Row],['# of Books]]*Table1[[#This Row],[QTY]]","v":0},{"$f":"Table1[[#This Row],[QTY]]*Table1[[#This Row],[School & Library Price]]","v":0}]
[null,null,null,7,"Current Issues","What's the Issue?","What's the Issue?: Sets 1 – 2 (Coming Aug 2018)","978-1-5345-2630-3","KidHaven Publishing","Library Set",12,2019,"August 2018","Library","8.500 X 8.500"," "," ",null,null,null,null,null,null,"Years 8 - 10","Grade 3","Grade 3 - 5","Young people often are often introduced to complex topics, such as racism, immigration, free speech, and gender equality, through the Internet, television news programs, and conversations between adults. However, they're often not given the full picture of these issues presented in a way they can comprehend. That's what they'll find in this exploration of many of today's most talked-about topics. Readers are presented with the most important facts about various social and political issues through age-appropriate main text, detailed fact boxes, and helpful graphic organizers. Full-color photographs help readers see the real-world impact of these issues. Features include: Fact-filled, unbiased text gives readers an objective view of challenging topics and encourages them to look for the truth beyond media spin and personal opinions. Suggestions are given for realistic ways readers can help tackle these issues, such as walking more rather than driving to fight climate change and welcoming refugees and immigrants in their schools. Sensitive tone balances facts about potentially upsetting topics, such as racism and cyberbullying, with information about the people and organizations working to make the world safer and more inclusive for everyone.","English",295.2,236.16,null,"24 pp.",{"$f":"Table1[[#This Row],['# of Books]]*Table1[[#This Row],[QTY]]","v":0},{"$f":"Table1[[#This Row],[QTY]]*Table1[[#This Row],[School & Library Price]]","v":0}]
[null,null,null,7,"Current Issues","What's the Issue?","What's the Issue?: Set 2 (Coming Aug 2018)","978-1-5345-2629-7","KidHaven Publishing","Library Set",6,2019,"August 2018","Library","8.500 X 8.500"," "," ",null,null,null,null,null,null,"Years 8 - 10","Grade 3","Grade 3 - 5","Issues such as income inequality, health care, and cyberbullying are often in the news, but they're rarely discussed using language children can understand. Through age-appropriate text presented in an engaging way, young readers are finally given the tools to understand and form their own opinions on many of today's most pressing social and political concerns. Fact boxes, graphic organizers, and full-color photographs accompany the informative main text to help readers develop strong critical thinking skills. The essential information presented in each volume will help readers become informed and active citizens. Features include: Objective tone encourages readers to look for the facts about controversial issues. Historical background is given on topics such as free speech and immigration, giving readers a deeper understanding of the connection between what they've learned in social studies classes and the challenges facing the world today. Lists of ways students can become more engaged with these issues are included, introducing young people to age-appropriate activism.","English",147.6,118.08,null,"24 pp.",{"$f":"Table1[[#This Row],['# of Books]]*Table1[[#This Row],[QTY]]","v":0},{"$f":"Table1[[#This Row],[QTY]]*Table1[[#This Row],[School & Library Price]]","v":0}]
[null,null,null,7,"Current Issues","What's the Issue?","What's the Issue?: Set 2 (Coming Aug 2018)","978-1-5345-2746-1","KidHaven Publishing","eBook Set",6,2019,"August 2018",null,null," "," ",null,null,null,null,null,null,"Years 8 - 10","Grade 3","Grade 3 - 5","Issues such as income inequality, health care, and cyberbullying are often in the news, but they're rarely discussed using language children can understand. Through age-appropriate text presented in an engaging way, young readers are finally given the tools to understand and form their own opinions on many of today's most pressing social and political concerns. Fact boxes, graphic organizers, and full-color photographs accompany the informative main text to help readers develop strong critical thinking skills. The essential information presented in each volume will help readers become informed and active citizens. Features include: Objective tone encourages readers to look for the facts about controversial issues. Historical background is given on topics such as free speech and immigration, giving readers a deeper understanding of the connection between what they've learned in social studies classes and the challenges facing the world today. Lists of ways students can become more engaged with these issues are included, introducing young people to age-appropriate activism.","English",147.6,118.08,null,"24 pp.",{"$f":"Table1[[#This Row],['# of Books]]*Table1[[#This Row],[QTY]]","v":0},{"$f":"Table1[[#This Row],[QTY]]*Table1[[#This Row],[School & Library Price]]","v":0}]
[null,null,null,7,"Current Issues","What's the Issue?","What’s Cyberbullying?","978-1-5345-2591-7","KidHaven Publishing","Library Bound Book",1,2019,"August 2018","Library","8.500 X 8.500","Author","Emma Jones",null,null,null,null,"N",null,"Years 8 - 10","Grade 3","Grade 3 - 5","Cyberbullying is a new issue that adults might be unfamiliar with, so young readers need a helpful, fact-filled resource to guide them through this challenging aspect of growing up in the digital age. As young readers explore this informative book on a sensitive issue, they're provided with facts about this problem and advice for what to do if they or someone they know is being cyberbullied. Fact boxes provide relevant, up-to-date statistics on this issue, graphic organizers engage critical-thinking skills in a creative way, and relatable photographs help readers feel less alone.","English",24.6,19.68,null,"24 pp.",{"$f":"Table1[[#This Row],['# of Books]]*Table1[[#This Row],[QTY]]","v":0},{"$f":"Table1[[#This Row],[QTY]]*Table1[[#This Row],[School & Library Price]]","v":0}]
[null,null,null,7,"Current Issues","What's the Issue?","What’s Cyberbullying?","978-1-5345-2594-8","KidHaven Publishing","eBook",1,2019,"August 2018",null,null,"Author","Emma Jones",null,null,null,null,"N",null,"Years 8 - 10","Grade 3","Grade 3 - 5","Cyberbullying is a new issue that adults might be unfamiliar with, so young readers need a helpful, fact-filled resource to guide them through this challenging aspect of growing up in the digital age. As young readers explore this informative book on a sensitive issue, they're provided with facts about this problem and advice for what to do if they or someone they know is being cyberbullied. Fact boxes provide relevant, up-to-date statistics on this issue, graphic organizers engage critical-thinking skills in a creative way, and relatable photographs help readers feel less alone.","English",24.6,19.68,null,"24 pp.",{"$f":"Table1[[#This Row],['# of Books]]*Table1[[#This Row],[QTY]]","v":0},{"$f":"Table1[[#This Row],[QTY]]*Table1[[#This Row],[School & Library Price]]","v":0}]
[null,null,null,7,"Current Issues","What's the Issue?","What’s Fake News?","978-1-5345-2583-2","KidHaven Publishing","Library Bound Book",1,2019,"August 2018","Library","8.500 X 8.500","Author","Joyce Jeffries",null,null,null,null,"N",null,"Years 8 - 10","Grade 3","Grade 3 - 5","\"Fake news\" is a term that is used and often misused by politicians, in the news, and on social media. What does it really mean? Readers discover the answer to this question as they explore the realities of false news stories, misinformation, and bias. Through unbiased main text, detailed graphic organizers, full-color photographs, and helpful fact boxes, readers expand their understanding of this timely topic and engage their critical-thinking skills in the process. They also learn how they can become smarter media consumers, which is an essential life skill in today's world.","English",24.6,19.68,null,"24 pp.",{"$f":"Table1[[#This Row],['# of Books]]*Table1[[#This Row],[QTY]]","v":0},{"$f":"Table1[[#This Row],[QTY]]*Table1[[#This Row],[School & Library Price]]","v":0}]
[null,null,null,7,"Current Issues","What's the Issue?","What’s Fake News?","978-1-5345-2586-3","KidHaven Publishing","eBook",1,2019,"August 2018",null,null,"Author","Joyce Jeffries",null,null,null,null,"N",null,"Years 8 - 10","Grade 3","Grade 3 - 5","\"Fake news\" is a term that is used and often misused by politicians, in the news, and on social media. What does it really mean? Readers discover the answer to this question as they explore the realities of false news stories, misinformation, and bias. Through unbiased main text, detailed graphic organizers, full-color photographs, and helpful fact boxes, readers expand their understanding of this timely topic and engage their critical-thinking skills in the process. They also learn how they can become smarter media consumers, which is an essential life skill in today's world.","English",24.6,19.68,null,"24 pp.",{"$f":"Table1[[#This Row],['# of Books]]*Table1[[#This Row],[QTY]]","v":0},{"$f":"Table1[[#This Row],[QTY]]*Table1[[#This Row],[School & Library Price]]","v":0}]
[null,null,null,7,"Current Issues","What's the Issue?","What’s Free Speech?","978-1-5345-2599-3","KidHaven Publishing","Library Bound Book",1,2019,"August 2018","Library","8.500 X 8.500","Author","Katie Kawa",null,null,null,null,"N",null,"Years 8 - 10","Grade 3","Grade 3 - 5","Some people believe free speech means you can say whatever you want and no one can get mad at you or punish you for it. Readers learn this isn't exactly the truth as they explore one of the most important aspects of any free society. The concept of free speech and what it means has been debated for centuries, and as readers take a closer look at all sides of this debate, they sharpen their critical-thinking skills. Fact boxes, colorful photographs, and detailed graphic organizers enhance the main text to give readers a stronger understanding of this essential civics concept.","English",24.6,19.68,null,"24 pp.",{"$f":"Table1[[#This Row],['# of Books]]*Table1[[#This Row],[QTY]]","v":0},{"$f":"Table1[[#This Row],[QTY]]*Table1[[#This Row],[School & Library Price]]","v":0}]
[null,null,null,7,"Current Issues","What's the Issue?","What’s Free Speech?","978-1-5345-2602-0","KidHaven Publishing","eBook",1,2019,"August 2018",null,null,"Author","Katie Kawa",null,null,null,null,"N",null,"Years 8 - 10","Grade 3","Grade 3 - 5","Some people believe free speech means you can say whatever you want and no one can get mad at you or punish you for it. Readers learn this isn't exactly the truth as they explore one of the most important aspects of any free society. The concept of free speech and what it means has been debated for centuries, and as readers take a closer look at all sides of this debate, they sharpen their critical-thinking skills. Fact boxes, colorful photographs, and detailed graphic organizers enhance the main text to give readers a stronger understanding of this essential civics concept.","English",24.6,19.68,null,"24 pp.",{"$f":"Table1[[#This Row],['# of Books]]*Table1[[#This Row],[QTY]]","v":0},{"$f":"Table1[[#This Row],[QTY]]*Table1[[#This Row],[School & Library Price]]","v":0}]
[null,null,null,7,"Current Issues","What's the Issue?","What’s Income Inequality?","978-1-5345-2587-0","KidHaven Publishing","Library Bound Book",1,2019,"August 2018","Library","8.500 X 8.500","Author","Joseph Stanley",null,null,null,null,"N",null,"Years 8 - 10","Grade 3","Grade 3 - 5","Income inequality is a complex topic, but readers are able to explore this issue using language and examples they can easily understand. The economic, social, and political realities of income inequality are explained through simple main text, fact boxes filled with helpful statistics, and accessible graphic organizers. Detailed photographs are included to give readers a clearer picture of this important issue. Young people are also introduced to ways they can do their part to take on this issue and make the world a more fair place.","English",24.6,19.68,null,"24 pp.",{"$f":"Table1[[#This Row],['# of Books]]*Table1[[#This Row],[QTY]]","v":0},{"$f":"Table1[[#This Row],[QTY]]*Table1[[#This Row],[School & Library Price]]","v":0}]
[null,null,null,7,"Current Issues","What's the Issue?","What’s Income Inequality?","978-1-5345-2590-0","KidHaven Publishing","eBook",1,2019,"August 2018",null,null,"Author","Joseph Stanley",null,null,null,null,"N",null,"Years 8 - 10","Grade 3","Grade 3 - 5","Income inequality is a complex topic, but readers are able to explore this issue using language and examples they can easily understand. The economic, social, and political realities of income inequality are explained through simple main text, fact boxes filled with helpful statistics, and accessible graphic organizers. Detailed photographs are included to give readers a clearer picture of this important issue. Young people are also introduced to ways they can do their part to take on this issue and make the world a more fair place.","English",24.6,19.68,null,"24 pp.",{"$f":"Table1[[#This Row],['# of Books]]*Table1[[#This Row],[QTY]]","v":0},{"$f":"Table1[[#This Row],[QTY]]*Table1[[#This Row],[School & Library Price]]","v":0}]
[null,null,null,7,"Current Issues","What's the Issue?","What’s Universal Health Care?","978-1-5345-2595-5","KidHaven Publishing","Library Bound Book",1,2019,"August 2018","Library","8.500 X 8.500","Author","Lorraine Harrison",null,null,null,null,"N",null,"Years 8 - 10","Grade 3","Grade 3 - 5","Health care is a complicated topic that many adults struggle to understand. However, young readers need to know the facts about an issue that directly affects them now and will continue to directly affect them throughout their lives. This volume was designed to give young readers a basic understanding of the concept of universal health care and why people support and oppose it. Readers are presented with concise, unbiased information about both sides of the universal health care debate. The accessible main text is accompanied by informative fact boxes, graphic organizers, and full-color photographs.","English",24.6,19.68,null,"24 pp.",{"$f":"Table1[[#This Row],['# of Books]]*Table1[[#This Row],[QTY]]","v":0},{"$f":"Table1[[#This Row],[QTY]]*Table1[[#This Row],[School & Library Price]]","v":0}]
[null,null,null,7,"Current Issues","What's the Issue?","What’s Universal Health Care?","978-1-5345-2598-6","KidHaven Publishing","eBook",1,2019,"August 2018",null,null,"Author","Lorraine Harrison",null,null,null,null,"N",null,"Years 8 - 10","Grade 3","Grade 3 - 5","Health care is a complicated topic that many adults struggle to understand. However, young readers need to know the facts about an issue that directly affects them now and will continue to directly affect them throughout their lives. This volume was designed to give young readers a basic understanding of the concept of universal health care and why people support and oppose it. Readers are presented with concise, unbiased information about both sides of the universal health care debate. The accessible main text is accompanied by informative fact boxes, graphic organizers, and full-color photographs.","English",24.6,19.68,null,"24 pp.",{"$f":"Table1[[#This Row],['# of Books]]*Table1[[#This Row],[QTY]]","v":0},{"$f":"Table1[[#This Row],[QTY]]*Table1[[#This Row],[School & Library Price]]","v":0}]
[null,null,null,7,"Current Issues","What's the Issue?","Who Are Immigrants?","978-1-5345-2579-5","KidHaven Publishing","Library Bound Book",1,2019,"August 2018","Library","8.500 X 8.500","Author","Riley Lawrence",null,null,null,null,"N",null,"Years 8 - 10","Grade 3","Grade 3 - 5","Immigration is a topic that is often debated on television shows, on social media, and even among family members and friends. Young people might only get a biased view of this topic through these channels, but as they explore this informative book, they're presented with a comprehensive look at the facts surrounding immigration. Detailed main text, eye-catching fact boxes, graphic organizers, and vibrant photographs come together to help readers understand who immigrants are, why they come to other countries, and what people can do to help them feel at home.","English",24.6,19.68,"305.9/06912--dc23","24 pp.",{"$f":"Table1[[#This Row],['# of Books]]*Table1[[#This Row],[QTY]]","v":0},{"$f":"Table1[[#This Row],[QTY]]*Table1[[#This Row],[School & Library Price]]","v":0}]
[null,null,null,7,"Current Issues","What's the Issue?","Who Are Immigrants?","978-1-5345-2582-5","KidHaven Publishing","eBook",1,2019,"August 2018",null,null,"Author","Riley Lawrence",null,null,null,null,"N",null,"Years 8 - 10","Grade 3","Grade 3 - 5","Immigration is a topic that is often debated on television shows, on social media, and even among family members and friends. Young people might only get a biased view of this topic through these channels, but as they explore this informative book, they're presented with a comprehensive look at the facts surrounding immigration. Detailed main text, eye-catching fact boxes, graphic organizers, and vibrant photographs come together to help readers understand who immigrants are, why they come to other countries, and what people can do to help them feel at home.","English",24.6,19.68,"305.9/06912--dc23","24 pp.",{"$f":"Table1[[#This Row],['# of Books]]*Table1[[#This Row],[QTY]]","v":0},{"$f":"Table1[[#This Row],[QTY]]*Table1[[#This Row],[School & Library Price]]","v":0}]
[null,92,null,8,"Current Issues","Points of View","Points of View: Sets 1 – 2","978-1-5345-2455-2","KidHaven Publishing","Library Set",12,2018,"January 2018",null,"8.500 X 8.500"," "," ",null,null,null,null,null,null,"Years 8 - 10","Grade 3","Grade 3 - 5","The development of critical thinking skills begins with exploring difficult questions about the world around us. Readers are introduced to some of these questions as they explore topics ranging from homelessness and voting rights to video games and school uniforms. They are presented with different points of view on these hot button issues and are encouraged to develop a deeper understanding of why someone may think differently about an issue than they do. Age-appropriate, informative main text is enhanced by additional fact boxes, detailed graphic organizers, and colorful photographs.\n\nFeatures include: Objective, relatable tone encourages readers to think independently. Readers are shown how to back up their opinion about an issue with relevant facts. Text provides readers with an introduction to important social and political issues through the use of accessible language, relatable examples, and engaging photographs.","English",295.2,236.16,null,"24 pp.",{"$f":"Table1[[#This Row],['# of Books]]*Table1[[#This Row],[QTY]]","v":0},{"$f":"Table1[[#This Row],[QTY]]*Table1[[#This Row],[School & Library Price]]","v":0}]
[null,92,null,8,"Current Issues","Points of View","Points of View: Set 2","978-1-5345-2454-5","KidHaven Publishing","Library Set",6,2018,"January 2018",null,"8.500 X 8.500"," "," ",null,null,null,null,null,null,"Years 8 - 10","Grade 3","Grade 3 - 5","Understanding different points of view is an essential part of growing up. Readers strengthen their ability to analyze and respect different viewpoints as they examine questions about a wide range of topics – from junk food in schools to the importance of voting. Informative main text, detailed graphic organizers, and fact boxes provide readers with the background necessary to make their own informed opinions on these issues. Full-color photographs of relatable young people in common situations help readers apply this critical-thinking exercise to their own lives. \n\nFeatures include: Objective, age-appropriate tone encourages readers to practice keeping an open mind when interacting with those who think differently than they do. Text inspires readers to think independently and critically about the world around them. Carefully chosen topics introduce readers to broader social and political issues, such as censorship, gender equality, and violence in the media, through a relatable lens.","English",147.6,118.08,null,"24 pp.",{"$f":"Table1[[#This Row],['# of Books]]*Table1[[#This Row],[QTY]]","v":0},{"$f":"Table1[[#This Row],[QTY]]*Table1[[#This Row],[School & Library Price]]","v":0}]
[null,92,null,null,"Current Issues","Points of View","Points of View: Set 2","978-1-5345-2525-2","KidHaven Publishing","eBook Set",6,2018,"January 2018",null,null," "," ",null,null,null,null,null,null,"Years 8 - 10","Grade 3","Grade 3 - 5","Understanding different points of view is an essential part of growing up. Readers strengthen their ability to analyze and respect different viewpoints as they examine questions about a wide range of topics – from junk food in schools to the importance of voting. Informative main text, detailed graphic organizers, and fact boxes provide readers with the background necessary to make their own informed opinions on these issues. Full-color photographs of relatable young people in common situations help readers apply this critical-thinking exercise to their own lives. \r\nFeatures include: Objective, age-appropriate tone encourages readers to practice keeping an open mind when interacting with those who think differently than they do. Text inspires readers to think independently and critically about the world around them. Carefully chosen topics introduce readers to broader social and political issues, such as censorship, gender equality, and violence in the media, through a relatable lens.","English",147.6,118.08,null,"24 pp.",{"$f":"Table1[[#This Row],['# of Books]]*Table1[[#This Row],[QTY]]","v":0},{"$f":"Table1[[#This Row],[QTY]]*Table1[[#This Row],[School & Library Price]]","v":0}]
[null,92,null,8,"Current Issues","Points of View","Are Video Games Too Violent?","978-1-5345-2425-5","KidHaven Publishing","Library Bound Book",1,2018,"January 2018","Library","8.500 X 8.500","Author","Nick Christopher",null,null,null,null,"N",null,"Years 8 - 10","Grade 3","Grade 3 - 5","Violence in the media is a major topic of debate, and video games are often at the center of these debates. Are they too violent? Does playing a violent video game have any impact on a young person becoming violent themselves? Readers are encouraged to form their own answers to these challenging questions and to back them up with facts from the enlightening text. A detailed graphic organizer, vivid photographs, and helpful fact boxes are also included to guide readers as they explore the many facets of this controversial issue.","English",24.6,19.68,"794.8--dc23","24 pp.",{"$f":"Table1[[#This Row],['# of Books]]*Table1[[#This Row],[QTY]]","v":0},{"$f":"Table1[[#This Row],[QTY]]*Table1[[#This Row],[School & Library Price]]","v":0}]
[null,92,null,8,"Current Issues","Points of View","Are Video Games Too Violent?","978-1-5345-2426-2","KidHaven Publishing","eBook",1,2018,"January 2018",null,null,"Author","Nick Christopher",null,null,null,null,"N",null,"Years 8 - 10","Grade 3","Grade 3 - 5","Violence in the media is a major topic of debate, and video games are often at the center of these debates. Are they too violent? Does playing a violent video game have any impact on a young person becoming violent themselves? Readers are encouraged to form their own answers to these challenging questions and to back them up with facts from the enlightening text. A detailed graphic organizer, vivid photographs, and helpful fact boxes are also included to guide readers as they explore the many facets of this controversial issue.","English",24.6,19.68,"794.8--dc23","24 pp.",{"$f":"Table1[[#This Row],['# of Books]]*Table1[[#This Row],[QTY]]","v":0},{"$f":"Table1[[#This Row],[QTY]]*Table1[[#This Row],[School & Library Price]]","v":0}]
[null,92,null,8,"Current Issues","Points of View","Does Voting Matter?","978-1-5345-2429-3","KidHaven Publishing","Library Bound Book",1,2018,"January 2018","Library","8.500 X 8.500","Author","Leslie Beckett",null,null,null,null,"N",null,"Years 8 - 10","Grade 3","Grade 3 - 5","Society can be cynical at times, and this can lead to apathy. One example of this is the question of whether or not a person’s individual vote in an election actually matters. Readers are exposed to the different points of view about this hot-button topic, and they learn to develop their own viewpoint about the democratic process and to back it up with relevant facts. They discover those facts in the engaging main text, eye-catching fact boxes, and helpful graphic organizers. Colorful, relatable photographs also help readers see how this debate is reflected in the world around them.","English",24.6,19.68,"323.60973--dc23","24 pp.",{"$f":"Table1[[#This Row],['# of Books]]*Table1[[#This Row],[QTY]]","v":0},{"$f":"Table1[[#This Row],[QTY]]*Table1[[#This Row],[School & Library Price]]","v":0}]
[null,92,null,8,"Current Issues","Points of View","Does Voting Matter?","978-1-5345-2430-9","KidHaven Publishing","eBook",1,2018,"January 2018",null,null,"Author","Leslie Beckett",null,null,null,null,"N",null,"Years 8 - 10","Grade 3","Grade 3 - 5","Society can be cynical at times, and this can lead to apathy. One example of this is the question of whether or not a person’s individual vote in an election actually matters. Readers are exposed to the different points of view about this hot-button topic, and they learn to develop their own viewpoint about the democratic process and to back it up with relevant facts. They discover those facts in the engaging main text, eye-catching fact boxes, and helpful graphic organizers. Colorful, relatable photographs also help readers see how this debate is reflected in the world around them.","English",24.6,19.68,"323.60973--dc23","24 pp.",{"$f":"Table1[[#This Row],['# of Books]]*Table1[[#This Row],[QTY]]","v":0},{"$f":"Table1[[#This Row],[QTY]]*Table1[[#This Row],[School & Library Price]]","v":0}]
[null,92,null,8,"Current Issues","Points of View","Is It Wrong to Ban Books?","978-1-5345-2427-9","KidHaven Publishing","Library Bound Book",1,2018,"January 2018","Library","8.500 X 8.500","Author","Mary Austen",null,null,null,null,"N",null,"Years 8 - 10","Grade 3","Grade 3 - 5","When people discuss the idea of banning books, they are also discussing much broader concepts, including censorship, basic freedoms, and the power of religious and political institutions. These challenging topics are presented in accessible ways as readers explore the debate surrounding banned books. As they immerse themselves in many viewpoints surrounding this debate through engaging text, fact boxes, vibrant photographs, and graphic organizers, they discover the importance of developing an informed, independent opinion about issues that affect their lives.","English",24.6,19.68,"344.7305/31--dc23","24 pp.",{"$f":"Table1[[#This Row],['# of Books]]*Table1[[#This Row],[QTY]]","v":0},{"$f":"Table1[[#This Row],[QTY]]*Table1[[#This Row],[School & Library Price]]","v":0}]
[null,92,null,8,"Current Issues","Points of View","Is It Wrong to Ban Books?","978-1-5345-2428-6","KidHaven Publishing","eBook",1,2018,"January 2018",null,null,"Author","Mary Austen",null,null,null,null,"N",null,"Years 8 - 10","Grade 3","Grade 3 - 5","When people discuss the idea of banning books, they are also discussing much broader concepts, including censorship, basic freedoms, and the power of religious and political institutions. These challenging topics are presented in accessible ways as readers explore the debate surrounding banned books. As they immerse themselves in many viewpoints surrounding this debate through engaging text, fact boxes, vibrant photographs, and graphic organizers, they discover the importance of developing an informed, independent opinion about issues that affect their lives.","English",24.6,19.68,"344.7305/31--dc23","24 pp.",{"$f":"Table1[[#This Row],['# of Books]]*Table1[[#This Row],[QTY]]","v":0},{"$f":"Table1[[#This Row],[QTY]]*Table1[[#This Row],[School & Library Price]]","v":0}]
[null,92,null,8,"Current Issues","Points of View","Should Girls Play Sports with Boys?","978-1-5345-2421-7","KidHaven Publishing","Library Bound Book",1,2018,"January 2018","Library","8.500 X 8.500","Author","Amy B. Rogers",null,null,null,null,"N",null,"Years 8 - 10","Grade 3","Grade 3 - 5","Why do boys and girls often play on separate sports teams? Some might argue that biological differences play a part in separating genders on the athletic field. Others might say that sexist mindsets are the main reason for the division of genders in sports. These points of view, along with others, are presented to readers through informative, engaging main text, fact boxes, and graphic organizers. As readers study these different perspectives on the same issue, they develop their own informed opinions and gain a deeper understanding of gender and its role in everyday life.","English",24.6,19.68,"344.73'099--dc23","24 pp.",{"$f":"Table1[[#This Row],['# of Books]]*Table1[[#This Row],[QTY]]","v":0},{"$f":"Table1[[#This Row],[QTY]]*Table1[[#This Row],[School & Library Price]]","v":0}]
[null,92,null,8,"Current Issues","Points of View","Should Girls Play Sports with Boys?","978-1-5345-2422-4","KidHaven Publishing","eBook",1,2018,"January 2018",null,null,"Author","Amy B. Rogers",null,null,null,null,"N",null,"Years 8 - 10","Grade 3","Grade 3 - 5","Why do boys and girls often play on separate sports teams? Some might argue that biological differences play a part in separating genders on the athletic field. Others might say that sexist mindsets are the main reason for the division of genders in sports. These points of view, along with others, are presented to readers through informative, engaging main text, fact boxes, and graphic organizers. As readers study these different perspectives on the same issue, they develop their own informed opinions and gain a deeper understanding of gender and its role in everyday life.","English",24.6,19.68,"344.73'099--dc23","24 pp.",{"$f":"Table1[[#This Row],['# of Books]]*Table1[[#This Row],[QTY]]","v":0},{"$f":"Table1[[#This Row],[QTY]]*Table1[[#This Row],[School & Library Price]]","v":0}]
[null,92,null,8,"Current Issues","Points of View","Should Junk Food Be Banned in Schools?","978-1-5345-2419-4","KidHaven Publishing","Library Bound Book",1,2018,"January 2018","Library","8.500 X 8.500","Author","Riley Lawrence",null,null,null,null,"N",null,"Years 8 - 10","Grade 3","Grade 3 - 5","The debate over junk food in schools brings up important points about childhood obesity, public health, and personal choice. All these issues are addressed as readers view arguments both for and against banning junk food in school cafeterias. The balanced, fact-filled text encourages readers to develop their own informed opinions about this issue that directly affects their lives. Colorful photographs, a detailed graphic organizer, and additional fact boxes enhance the main text to give readers a comprehensive understanding of this ongoing debate.","English",24.6,19.68,"371.7'160973--dc23","24 pp.",{"$f":"Table1[[#This Row],['# of Books]]*Table1[[#This Row],[QTY]]","v":0},{"$f":"Table1[[#This Row],[QTY]]*Table1[[#This Row],[School & Library Price]]","v":0}]
[null,92,null,8,"Current Issues","Points of View","Should Junk Food Be Banned in Schools?","978-1-5345-2420-0","KidHaven Publishing","eBook",1,2018,"January 2018",null,null,"Author","Riley Lawrence",null,null,null,null,"N",null,"Years 8 - 10","Grade 3","Grade 3 - 5","The debate over junk food in schools brings up important points about childhood obesity, public health, and personal choice. All these issues are addressed as readers view arguments both for and against banning junk food in school cafeterias. The balanced, fact-filled text encourages readers to develop their own informed opinions about this issue that directly affects their lives. Colorful photographs, a detailed graphic organizer, and additional fact boxes enhance the main text to give readers a comprehensive understanding of this ongoing debate.","English",24.6,19.68,"371.7'160973--dc23","24 pp.",{"$f":"Table1[[#This Row],['# of Books]]*Table1[[#This Row],[QTY]]","v":0},{"$f":"Table1[[#This Row],[QTY]]*Table1[[#This Row],[School & Library Price]]","v":0}]
[null,92,null,8,"Current Issues","Points of View","Who Should See What You’re Doing Online?","978-1-5345-2423-1","KidHaven Publishing","Library Bound Book",1,2018,"January 2018","Library","8.500 X 8.500","Author","Emma Jones",null,null,null,null,"N",null,"Years 8 - 10","Grade 3","Grade 3 - 5","Privacy has always been a major concern for young people, and with the rise of laptops, tablets, and smartphones, it is much easier for them to hide what they’re doing from adults. However, there are still ways for parents, teachers, and even the government to see what young people are doing online. Is this ethical? Is it necessary? These questions and more are posed as readers explore the complex issue of privacy in the digital age. Balanced main text, informative fact boxes, and visual elements such as photographs and graphic organizers give readers a comprehensive understanding of this topical issue.","English",24.6,19.68,"004.67'8--dc23","24 pp.",{"$f":"Table1[[#This Row],['# of Books]]*Table1[[#This Row],[QTY]]","v":0},{"$f":"Table1[[#This Row],[QTY]]*Table1[[#This Row],[School & Library Price]]","v":0}]
[null,92,null,8,"Current Issues","Points of View","Who Should See What You’re Doing Online?","978-1-5345-2424-8","KidHaven Publishing","eBook",1,2018,"January 2018",null,null,"Author","Emma Jones",null,null,null,null,"N",null,"Years 8 - 10","Grade 3","Grade 3 - 5","Privacy has always been a major concern for young people, and with the rise of laptops, tablets, and smartphones, it is much easier for them to hide what they’re doing from adults. However, there are still ways for parents, teachers, and even the government to see what young people are doing online. Is this ethical? Is it necessary? These questions and more are posed as readers explore the complex issue of privacy in the digital age. Balanced main text, informative fact boxes, and visual elements such as photographs and graphic organizers give readers a comprehensive understanding of this topical issue.","English",24.6,19.68,"004.67'8--dc23","24 pp.",{"$f":"Table1[[#This Row],['# of Books]]*Table1[[#This Row],[QTY]]","v":0},{"$f":"Table1[[#This Row],[QTY]]*Table1[[#This Row],[School & Library Price]]","v":0}]
[null,92,null,9,"Current Issues","Points of View (Aug '17 Set)","Points of View (Aug '17 Set)","978-1-5345-2349-4","KidHaven Publishing","Library Set",6,2018,"August 2017","Library","8.500 X 8.500"," "," ",null,null,null,null,null,null,"Years 8 - 10","Grade 3","Grade 3 - 5","As readers grow, they will be faced with questions that do not have an easy answer. Should people have to pay for water? Is it beneficial for students to wear uniforms? Are tests an effective way of measuring knowledge? Readers develop strong critical thinking skills as they examine the different points of view from which these complex questions can be approached. Accessible main text, informative fact boxes, and helpful graphic organizers allow readers to gain a deeper understanding of a variety of viewpoints. Vibrant photographs hold readers' interest as they immerse themselves in these important topics.","English",147.6,118.08,null,"24 pp.",{"$f":"Table1[[#This Row],['# of Books]]*Table1[[#This Row],[QTY]]","v":0},{"$f":"Table1[[#This Row],[QTY]]*Table1[[#This Row],[School & Library Price]]","v":0}]
[null,92,null,9,"Current Issues","Points of View","Are School Uniforms Good for Students?","978-1-5345-2342-5","KidHaven Publishing","Library Bound Book",1,2018,"August 2017","Library","8.500 X 8.500","Author","Katie Kawa",null,null,null,null,"N",null,"Years 8 - 10","Grade 3","Grade 3 - 5","Some students wear uniforms to school each day. Others do not wear uniforms. Is one approach better than the other? Readers are immersed in the debate surrounding school uniforms through the use of informative text that presents multiple points of view. Eye-catching fact boxes, detailed graphic organizers, and full-color photographs enhance this engaging reading experience. Readers are encouraged to keep an open mind and developed an informed opinion as they explore the many sides of an issue that would directly affect them.","English",24.6,19.68,"371.5'1--dc23","24 pp.",{"$f":"Table1[[#This Row],['# of Books]]*Table1[[#This Row],[QTY]]","v":0},{"$f":"Table1[[#This Row],[QTY]]*Table1[[#This Row],[School & Library Price]]","v":0}]
[null,92,null,9,"Current Issues","Points of View","Are School Uniforms Good for Students?","978-1-5345-2343-2","KidHaven Publishing","eBook",1,2018,"August 2017",null,null,"Author","Katie Kawa",null,null,null,null,"N",null,"Years 8 - 10","Grade 3","Grade 3 - 5","Some students wear uniforms to school each day. Others do not wear uniforms. Is one approach better than the other? Readers are immersed in the debate surrounding school uniforms through the use of informative text that presents multiple points of view. Eye-catching fact boxes, detailed graphic organizers, and full-color photographs enhance this engaging reading experience. Readers are encouraged to keep an open mind and developed an informed opinion as they explore the many sides of an issue that would directly affect them.","English",24.6,19.68,"371.5'1--dc23","24 pp.",{"$f":"Table1[[#This Row],['# of Books]]*Table1[[#This Row],[QTY]]","v":0},{"$f":"Table1[[#This Row],[QTY]]*Table1[[#This Row],[School & Library Price]]","v":0}]
[null,92,null,9,"Current Issues","Points of View","Should School Lunches Be Free?","978-1-5345-2334-0","KidHaven Publishing","Library Bound Book",1,2018,"August 2017","Library","8.500 X 8.500","Author","David Anthony",null,null,null,null,"N",null,"Years 8 - 10","Grade 3","Grade 3 - 5","School lunches should be free for all students. Some people might strongly agree with this statement, while others might strongly disagree. In order to engage in a debate about this topic that affects readers’ everyday lives, readers first need to understand both sides. They are able to do this with the help of balanced main text, fact boxes, and graphic organizers. Different points of view are clearly presented to readers, who are encouraged to think critically about an issue that would impact them and their families. This valuable reading experience is enhanced through the use of colorful photographs.","English",24.6,19.68,"371.7'16--dc23","24 pp.",{"$f":"Table1[[#This Row],['# of Books]]*Table1[[#This Row],[QTY]]","v":0},{"$f":"Table1[[#This Row],[QTY]]*Table1[[#This Row],[School & Library Price]]","v":0}]
[null,92,null,9,"Current Issues","Points of View","Should School Lunches Be Free?","978-1-5345-2335-7","KidHaven Publishing","eBook",1,2018,"August 2017",null,null,"Author","David Anthony",null,null,null,null,"N",null,"Years 8 - 10","Grade 3","Grade 3 - 5","School lunches should be free for all students. Some people might strongly agree with this statement, while others might strongly disagree. In order to engage in a debate about this topic that affects readers’ everyday lives, readers first need to understand both sides. They are able to do this with the help of balanced main text, fact boxes, and graphic organizers. Different points of view are clearly presented to readers, who are encouraged to think critically about an issue that would impact them and their families. This valuable reading experience is enhanced through the use of colorful photographs.","English",24.6,19.68,"371.7'16--dc23","24 pp.",{"$f":"Table1[[#This Row],['# of Books]]*Table1[[#This Row],[QTY]]","v":0},{"$f":"Table1[[#This Row],[QTY]]*Table1[[#This Row],[School & Library Price]]","v":0}]
[null,92,null,9,"Current Issues","Points of View","Should Students Have to Take Tests?","978-1-5345-2346-3","KidHaven Publishing","Library Bound Book",1,2018,"August 2017","Library","8.500 X 8.500","Author","Robert M. Hamilton ",null,null,null,null,"N",null,"Years 8 - 10","Grade 3","Grade 3 - 5","Most students would gladly stop taking tests, but is that really the best thing for them? Through enlightening main text, detailed fact boxes, colorful photographs, and helpful graphic organizers, readers are presented with opposing points of view on the importance of testing students. Readers are encouraged to use the information they discover to form their own opinions and back those opinions up with relevant facts. By exposing readers to multiple points of view, this text instills in them an appreciation for respectful debate and vital critical thinking skills.","English",24.6,19.68,"371.26--dc23","24 pp.",{"$f":"Table1[[#This Row],['# of Books]]*Table1[[#This Row],[QTY]]","v":0},{"$f":"Table1[[#This Row],[QTY]]*Table1[[#This Row],[School & Library Price]]","v":0}]
[null,92,null,9,"Current Issues","Points of View","Should Students Have to Take Tests?","978-1-5345-2347-0","KidHaven Publishing","eBook",1,2018,"August 2017",null,null,"Author","Robert M. Hamilton ",null,null,null,null,"N",null,"Years 8 - 10","Grade 3","Grade 3 - 5","Most students would gladly stop taking tests, but is that really the best thing for them? Through enlightening main text, detailed fact boxes, colorful photographs, and helpful graphic organizers, readers are presented with opposing points of view on the importance of testing students. Readers are encouraged to use the information they discover to form their own opinions and back those opinions up with relevant facts. By exposing readers to multiple points of view, this text instills in them an appreciation for respectful debate and vital critical thinking skills.","English",24.6,19.68,"371.26--dc23","24 pp.",{"$f":"Table1[[#This Row],['# of Books]]*Table1[[#This Row],[QTY]]","v":0},{"$f":"Table1[[#This Row],[QTY]]*Table1[[#This Row],[School & Library Price]]","v":0}]
[null,92,null,9,"Current Issues","Points of View","Should We Keep Animals in Zoos?","978-1-5345-2327-2","KidHaven Publishing","Library Bound Book",1,2018,"August 2017","Library","8.500 X 8.500","Author","Nick Christopher",null,null,null,null,"N",null,"Years 8 - 10","Grade 3","Grade 3 - 5","Are zoos ethical? There is not one right answer to this challenging question. Readers discover the different arguments that can be made in favor of and against zoos. These different points of view are presented with relevant facts to support them, encouraging readers to understand the different sides of the debate surrounding zoos. Clear main text, eye-catching fact boxes, and detailed graphic organizers help readers make their own informed opinion. Full-color photographs are included to enhance a reading experience that sharpens essential critical thinking skills and encourages readers to approach controversial topics with an open mind.","English",24.6,19.68,"590.74--dc23","24 pp.",{"$f":"Table1[[#This Row],['# of Books]]*Table1[[#This Row],[QTY]]","v":0},{"$f":"Table1[[#This Row],[QTY]]*Table1[[#This Row],[School & Library Price]]","v":0}]
[null,92,null,9,"Current Issues","Points of View","Should We Keep Animals in Zoos?","978-1-5345-2328-9","KidHaven Publishing","eBook",1,2018,"August 2017",null,null,"Author","Nick Christopher",null,null,null,null,"N",null,"Years 8 - 10","Grade 3","Grade 3 - 5","Are zoos ethical? There is not one right answer to this challenging question. Readers discover the different arguments that can be made in favor of and against zoos. These different points of view are presented with relevant facts to support them, encouraging readers to understand the different sides of the debate surrounding zoos. Clear main text, eye-catching fact boxes, and detailed graphic organizers help readers make their own informed opinion. Full-color photographs are included to enhance a reading experience that sharpens essential critical thinking skills and encourages readers to approach controversial topics with an open mind.","English",24.6,19.68,"590.74--dc23","24 pp.",{"$f":"Table1[[#This Row],['# of Books]]*Table1[[#This Row],[QTY]]","v":0},{"$f":"Table1[[#This Row],[QTY]]*Table1[[#This Row],[School & Library Price]]","v":0}]
[null,92,null,9,"Current Issues","Points of View","Should We Pay for Water?","978-1-5345-2330-2","KidHaven Publishing","Library Bound Book",1,2018,"August 2017","Library","8.500 X 8.500","Author","Robert M. Hamilton ",null,null,null,null,"N",null,"Years 8 - 10","Grade 3","Grade 3 - 5","Water is a natural resource we need to survive. Knowing this, is it right that we have to pay for it? Readers explore the different ways this challenging question can be answered, developing strong critical thinking skills as they evaluate arguments for and against paying for water. Essential facts needed to understand each point of view are presented through age-appropriate text, informative fact boxes, and clear graphic organizers. Vivid photographs keep readers engaged as they learn the information necessary to develop their own informed opinion and to respect the opinions of others when discussing this important issue.","English",24.6,19.68,"333.91--dc23","24 pp.",{"$f":"Table1[[#This Row],['# of Books]]*Table1[[#This Row],[QTY]]","v":0},{"$f":"Table1[[#This Row],[QTY]]*Table1[[#This Row],[School & Library Price]]","v":0}]
[null,92,null,9,"Current Issues","Points of View","Should We Pay for Water?","978-1-5345-2331-9","KidHaven Publishing","eBook",1,2018,"August 2017",null,null,"Author","Robert M. Hamilton ",null,null,null,null,"N",null,"Years 8 - 10","Grade 3","Grade 3 - 5","Water is a natural resource we need to survive. Knowing this, is it right that we have to pay for it? Readers explore the different ways this challenging question can be answered, developing strong critical thinking skills as they evaluate arguments for and against paying for water. Essential facts needed to understand each point of view are presented through age-appropriate text, informative fact boxes, and clear graphic organizers. Vivid photographs keep readers engaged as they learn the information necessary to develop their own informed opinion and to respect the opinions of others when discussing this important issue.","English",24.6,19.68,"333.91--dc23","24 pp.",{"$f":"Table1[[#This Row],['# of Books]]*Table1[[#This Row],[QTY]]","v":0},{"$f":"Table1[[#This Row],[QTY]]*Table1[[#This Row],[School & Library Price]]","v":0}]
[null,92,null,9,"Current Issues","Points of View","Why Are Some People Homeless?","978-1-5345-2338-8","KidHaven Publishing","Library Bound Book",1,2018,"August 2017","Library","8.500 X 8.500","Author","Emma Jones",null,null,null,null,"N",null,"Years 8 - 10","Grade 3","Grade 3 - 5","Homelessness is a problem that affects millions of people around the world. When discussing important issues such as homelessness, it is important to understand the pertinent facts in order to form a solid argument. Readers are presented with those pertinent facts through enlightening main text and helpful text features, including fact boxes and graphic organizers. Full-color photographs accompany this vital information. People approach social issues such as homelessness from different points of view, and readers are introduced to new perspectives as they enhance their own critical thinking skills.","English",24.6,19.68,"362.5'92--dc23","24 pp.",{"$f":"Table1[[#This Row],['# of Books]]*Table1[[#This Row],[QTY]]","v":0},{"$f":"Table1[[#This Row],[QTY]]*Table1[[#This Row],[School & Library Price]]","v":0}]
[null,92,null,9,"Current Issues","Points of View","Why Are Some People Homeless?","978-1-5345-2339-5","KidHaven Publishing","eBook",1,2018,"August 2017",null,null,"Author","Emma Jones",null,null,null,null,"N",null,"Years 8 - 10","Grade 3","Grade 3 - 5","Homelessness is a problem that affects millions of people around the world. When discussing important issues such as homelessness, it is important to understand the pertinent facts in order to form a solid argument. Readers are presented with those pertinent facts through enlightening main text and helpful text features, including fact boxes and graphic organizers. Full-color photographs accompany this vital information. People approach social issues such as homelessness from different points of view, and readers are introduced to new perspectives as they enhance their own critical thinking skills.","English",24.6,19.68,"362.5'92--dc23","24 pp.",{"$f":"Table1[[#This Row],['# of Books]]*Table1[[#This Row],[QTY]]","v":0},{"$f":"Table1[[#This Row],[QTY]]*Table1[[#This Row],[School & Library Price]]","v":0}]
[null,null,null,9,"Current Issues","Points of View","Points of View: Sets 1 – 3 (Coming Aug 2018)","978-1-5345-2628-0","KidHaven Publishing","Library Set",18,2019,"August 2018","Library","8.500 X 8.500"," "," ",null,null,null,null,null,null,"Years 8 - 10","Grade 3","Grade 3 - 5","Understanding different points of view is an important life skill and an essential component of critical thinking. Readers learn to do this as they explore a wide variety of topics that encourage debate and discussion, from the need for school uniforms and tests to the importance of voting and caring for the environment. The accessible but objective tone allows readers to examine their own points of view and back up their opinion with relevant facts. Full-color photographs and graphic organizers add a helpful and engaging visual component to this age-appropriate look at the development of an informed opinion. Features include: A balance of topics exists between issues that directly affect children, such as serving junk food in schools, and broader social issues, such as homelessness. Fact boxes provide relevant data and statistics to help readers learn to explain their side of a debate using credible information. Unbiased tone instills in readers a sense of respect for people who think differently than they do and encourages them to look at every side of an argument instead of only looking to reaffirm their beliefs.","English",442.8,354.24,null,"24 pp.",{"$f":"Table1[[#This Row],['# of Books]]*Table1[[#This Row],[QTY]]","v":0},{"$f":"Table1[[#This Row],[QTY]]*Table1[[#This Row],[School & Library Price]]","v":0}]
[null,null,null,9,"Current Issues","Points of View","Points of View: Set 3 (Coming Aug 2018)","978-1-5345-2627-3","KidHaven Publishing","Library Set",6,2019,"August 2018","Library","8.500 X 8.500"," "," ",null,null,null,null,null,null,"Years 8 - 10","Grade 3","Grade 3 - 5","Should students go to school all year? Is technology making people lazy? Is it wrong to eat meat? Readers learn that challenging questions such as these can have different answers depending on a person's point of view. As they explore a variety of ways of looking at issues, they learn how to develop an informed opinion by examining all sides of a debate and using facts to support their arguments. Helpful graphic organizers, informative fact boxes, and relatable photographs enhance this valuable reading experience. Features include: Age-appropriate text allows young readers to develop the skills they need to think independently and critically about the world around them. Objective tone encourages readers to respect those who think differently than they do and to understand the reasons behind different points of view. Facts and statistics on each topic are presented to help readers deepen their understanding of issues that directly affect their daily lives, such as safety in sports, and global issues, such as environmental protection.","English",147.6,118.08,null,"24 pp.",{"$f":"Table1[[#This Row],['# of Books]]*Table1[[#This Row],[QTY]]","v":0},{"$f":"Table1[[#This Row],[QTY]]*Table1[[#This Row],[School & Library Price]]","v":0}]
[null,null,null,9,"Current Issues","Points of View","Points of View: Set 3 (Coming Aug 2018)","978-1-5345-2744-7","KidHaven Publishing","eBook Set",6,2019,"August 2018",null,null," "," ",null,null,null,null,null,null,"Years 8 - 10","Grade 3","Grade 3 - 5","Should students go to school all year? Is technology making people lazy? Is it wrong to eat meat? Readers learn that challenging questions such as these can have different answers depending on a person's point of view. As they explore a variety of ways of looking at issues, they learn how to develop an informed opinion by examining all sides of a debate and using facts to support their arguments. Helpful graphic organizers, informative fact boxes, and relatable photographs enhance this valuable reading experience. Features include: Age-appropriate text allows young readers to develop the skills they need to think independently and critically about the world around them. Objective tone encourages readers to respect those who think differently than they do and to understand the reasons behind different points of view. Facts and statistics on each topic are presented to help readers deepen their understanding of issues that directly affect their daily lives, such as safety in sports, and global issues, such as environmental protection.","English",147.6,118.08,null,"24 pp.",{"$f":"Table1[[#This Row],['# of Books]]*Table1[[#This Row],[QTY]]","v":0},{"$f":"Table1[[#This Row],[QTY]]*Table1[[#This Row],[School & Library Price]]","v":0}]
[null,null,null,9,"Current Issues","Points of View","Are Some Sports Too Dangerous for Kids?","978-1-5345-2559-7","KidHaven Publishing","Library Bound Book",1,2019,"August 2018","Library","8.500 X 8.500","Author","Amy B. Rogers",null,null,null,null,"N",null,"Years 8 - 10","Grade 3","Grade 3 - 5","Sports are fun, but they can be dangerous, too. As more information becomes available about concussions and other injuries, many people have wondered if certain sports, such as football, are too dangerous for kids to play. People often have strong opinions about this topic, and readers are introduced to these opinions in a way that enhances their critical-thinking skills. The facts readers need to develop their own informed opinion are included in the thoroughly researched main text and accompanying fact boxes. A graphic organizer and full-color photographs help readers visualize the many parts of this complex issue.","English",24.6,19.68,"796.083--dc23","24 pp.",{"$f":"Table1[[#This Row],['# of Books]]*Table1[[#This Row],[QTY]]","v":0},{"$f":"Table1[[#This Row],[QTY]]*Table1[[#This Row],[School & Library Price]]","v":0}]
[null,null,null,9,"Current Issues","Points of View","Are Some Sports Too Dangerous for Kids?","978-1-5345-2562-7","KidHaven Publishing","eBook",1,2019,"August 2018",null,null,"Author","Amy B. Rogers",null,null,null,null,"N",null,"Years 8 - 10","Grade 3","Grade 3 - 5","Sports are fun, but they can be dangerous, too. As more information becomes available about concussions and other injuries, many people have wondered if certain sports, such as football, are too dangerous for kids to play. People often have strong opinions about this topic, and readers are introduced to these opinions in a way that enhances their critical-thinking skills. The facts readers need to develop their own informed opinion are included in the thoroughly researched main text and accompanying fact boxes. A graphic organizer and full-color photographs help readers visualize the many parts of this complex issue.","English",24.6,19.68,"796.083--dc23","24 pp.",{"$f":"Table1[[#This Row],['# of Books]]*Table1[[#This Row],[QTY]]","v":0},{"$f":"Table1[[#This Row],[QTY]]*Table1[[#This Row],[School & Library Price]]","v":0}]
[null,null,null,9,"Current Issues","Points of View","Do Music and Art Classes Matter?","978-1-5345-2567-2","KidHaven Publishing","Library Bound Book",1,2019,"August 2018","Library","8.500 X 8.500","Author","Robert M. Hamilton",null,null,null,null,"N",null,"Years 8 - 10","Grade 3","Grade 3 - 5","When schools need to cut their budgets, music and art classes are often some of the first things to go. Why do some people feel these classes are unnecessary? Why do others feel they're essential? These two questions are at the heart of what readers will find as they explore this essential education debate. The engaging text challenges them to understand why people have different points of view and to form their own point of view using facts, which they find in accessible fact boxes. With graphic organizers and colorful photographs filling the pages, readers will enjoy this critical-thinking exercise.","English",24.6,19.68,null,"24 pp.",{"$f":"Table1[[#This Row],['# of Books]]*Table1[[#This Row],[QTY]]","v":0},{"$f":"Table1[[#This Row],[QTY]]*Table1[[#This Row],[School & Library Price]]","v":0}]
[null,null,null,9,"Current Issues","Points of View","Do Music and Art Classes Matter?","978-1-5345-2570-2","KidHaven Publishing","eBook",1,2019,"August 2018",null,null,"Author","Robert M. Hamilton",null,null,null,null,"N",null,"Years 8 - 10","Grade 3","Grade 3 - 5","When schools need to cut their budgets, music and art classes are often some of the first things to go. Why do some people feel these classes are unnecessary? Why do others feel they're essential? These two questions are at the heart of what readers will find as they explore this essential education debate. The engaging text challenges them to understand why people have different points of view and to form their own point of view using facts, which they find in accessible fact boxes. With graphic organizers and colorful photographs filling the pages, readers will enjoy this critical-thinking exercise.","English",24.6,19.68,null,"24 pp.",{"$f":"Table1[[#This Row],['# of Books]]*Table1[[#This Row],[QTY]]","v":0},{"$f":"Table1[[#This Row],[QTY]]*Table1[[#This Row],[School & Library Price]]","v":0}]
[null,null,null,9,"Current Issues","Points of View","Does Technology Make People Lazy?","978-1-5345-2563-4","KidHaven Publishing","Library Bound Book",1,2019,"August 2018","Library","8.500 X 8.500","Author","Katie Kawa",null,null,null,null,"N",null,"Years 8 - 10","Grade 3","Grade 3 - 5","Technology has made life easier for people around the world, but is that necessarily a good thing? Some people believe technology has made people lazier, but others believe it actually makes people more productive. Readers deepen their understanding of this debate through detailed main text, concise fact boxes, a helpful graphic organizer, and relatable photographs. As they read, they're asked to challenge their own beliefs and develop their own informed opinion that they can back up with relevant facts. This reading experience engages critical-thinking skills and encourages a healthy respect for opposing viewpoints.","English",24.6,19.68,null,"24 pp.",{"$f":"Table1[[#This Row],['# of Books]]*Table1[[#This Row],[QTY]]","v":0},{"$f":"Table1[[#This Row],[QTY]]*Table1[[#This Row],[School & Library Price]]","v":0}]
[null,null,null,9,"Current Issues","Points of View","Does Technology Make People Lazy?","978-1-5345-2566-5","KidHaven Publishing","eBook",1,2019,"August 2018",null,null,"Author","Katie Kawa",null,null,null,null,"N",null,"Years 8 - 10","Grade 3","Grade 3 - 5","Technology has made life easier for people around the world, but is that necessarily a good thing? Some people believe technology has made people lazier, but others believe it actually makes people more productive. Readers deepen their understanding of this debate through detailed main text, concise fact boxes, a helpful graphic organizer, and relatable photographs. As they read, they're asked to challenge their own beliefs and develop their own informed opinion that they can back up with relevant facts. This reading experience engages critical-thinking skills and encourages a healthy respect for opposing viewpoints.","English",24.6,19.68,null,"24 pp.",{"$f":"Table1[[#This Row],['# of Books]]*Table1[[#This Row],[QTY]]","v":0},{"$f":"Table1[[#This Row],[QTY]]*Table1[[#This Row],[School & Library Price]]","v":0}]
[null,null,null,9,"Current Issues","Points of View","Is It Our Job to Protect the Environment?","978-1-5345-2571-9","KidHaven Publishing","Library Bound Book",1,2019,"August 2018","Library","8.500 X 8.500","Author","David Anthony",null,null,null,null,"N",null,"Years 8 - 10","Grade 3","Grade 3 - 5","Many people believe humans have a responsibility to take care of the planet. However, other people believe it isn't their job to protect the environment. Readers discover the facts behind these two opposing points of view and how those points of view determine people's actions. Along the way, they examine their own opinion on this topic, which aligns with common science curricula, and learn to use facts to back up their opinion. Fact boxes, graphic organizers, and vibrant photographs come together to create an eye-catching design that enhances this exploration of critical-thinking skills.","English",24.6,19.68,null,"24 pp.",{"$f":"Table1[[#This Row],['# of Books]]*Table1[[#This Row],[QTY]]","v":0},{"$f":"Table1[[#This Row],[QTY]]*Table1[[#This Row],[School & Library Price]]","v":0}]
[null,null,null,9,"Current Issues","Points of View","Is It Our Job to Protect the Environment?","978-1-5345-2574-0","KidHaven Publishing","eBook",1,2019,"August 2018",null,null,"Author","David Anthony",null,null,null,null,"N",null,"Years 8 - 10","Grade 3","Grade 3 - 5","Many people believe humans have a responsibility to take care of the planet. However, other people believe it isn't their job to protect the environment. Readers discover the facts behind these two opposing points of view and how those points of view determine people's actions. Along the way, they examine their own opinion on this topic, which aligns with common science curricula, and learn to use facts to back up their opinion. Fact boxes, graphic organizers, and vibrant photographs come together to create an eye-catching design that enhances this exploration of critical-thinking skills.","English",24.6,19.68,null,"24 pp.",{"$f":"Table1[[#This Row],['# of Books]]*Table1[[#This Row],[QTY]]","v":0},{"$f":"Table1[[#This Row],[QTY]]*Table1[[#This Row],[School & Library Price]]","v":0}]
[null,null,null,9,"Current Issues","Points of View","Is It Wrong to Eat Meat?","978-1-5345-2575-7","KidHaven Publishing","Library Bound Book",1,2019,"August 2018","Library","8.500 X 8.500","Author","Kate Rogers",null,null,null,null,"N",null,"Years 8 - 10","Grade 3","Grade 3 - 5","Why do some people choose not to eat meat? Is it wrong to eat an animal that was once alive? These questions are complex and challenge young people's critical-thinking skills, and they form the backbone of this inside look at the debates surrounding vegetarianism, veganism, and eating meat. As readers explore this topic through engaging main text, accessible fact boxes, a detailed graphic organizer, and colorful photographs, they're introduced to different points of view and the facts used to support these differing viewpoints. This teaches young readers the importance of understanding differing perspectives and using facts to inform an opinion.","English",24.6,19.68,null,"24 pp.",{"$f":"Table1[[#This Row],['# of Books]]*Table1[[#This Row],[QTY]]","v":0},{"$f":"Table1[[#This Row],[QTY]]*Table1[[#This Row],[School & Library Price]]","v":0}]
[null,null,null,9,"Current Issues","Points of View","Is It Wrong to Eat Meat?","978-1-5345-2578-8","KidHaven Publishing","eBook",1,2019,"August 2018",null,null,"Author","Kate Rogers",null,null,null,null,"N",null,"Years 8 - 10","Grade 3","Grade 3 - 5","Why do some people choose not to eat meat? Is it wrong to eat an animal that was once alive? These questions are complex and challenge young people's critical-thinking skills, and they form the backbone of this inside look at the debates surrounding vegetarianism, veganism, and eating meat. As readers explore this topic through engaging main text, accessible fact boxes, a detailed graphic organizer, and colorful photographs, they're introduced to different points of view and the facts used to support these differing viewpoints. This teaches young readers the importance of understanding differing perspectives and using facts to inform an opinion.","English",24.6,19.68,null,"24 pp.",{"$f":"Table1[[#This Row],['# of Books]]*Table1[[#This Row],[QTY]]","v":0},{"$f":"Table1[[#This Row],[QTY]]*Table1[[#This Row],[School & Library Price]]","v":0}]
[null,null,null,9,"Current Issues","Points of View","Should Students Go to School All Year Round?","978-1-5345-2555-9","KidHaven Publishing","Library Bound Book",1,2019,"August 2018","Library","8.500 X 8.500","Author","Elizabeth Morgan",null,null,null,null,"N",null,"Years 8 - 10","Grade 3","Grade 3 - 5","In some parts of the world, students go to school all year. Is this a good idea? Readers ask themselves this question as they explore different arguments for and against year-round schooling. As they discover these different points of view, they learn the importance of respecting other opinions. The informative main text is supplemented by fact boxes, which readers can use to develop their own informed opinion on this topic. Full-color photographs and a helpful graphic organizer enhance the reading experience, keeping young readers engaged as they develop essential critical-thinking skills.","English",24.6,19.68,"371.2'36--dc23","24 pp.",{"$f":"Table1[[#This Row],['# of Books]]*Table1[[#This Row],[QTY]]","v":0},{"$f":"Table1[[#This Row],[QTY]]*Table1[[#This Row],[School & Library Price]]","v":0}]
[null,null,null,9,"Current Issues","Points of View","Should Students Go to School All Year Round?","978-1-5345-2558-0","KidHaven Publishing","eBook",1,2019,"August 2018",null,null,"Author","Elizabeth Morgan",null,null,null,null,"N",null,"Years 8 - 10","Grade 3","Grade 3 - 5","In some parts of the world, students go to school all year. Is this a good idea? Readers ask themselves this question as they explore different arguments for and against year-round schooling. As they discover these different points of view, they learn the importance of respecting other opinions. The informative main text is supplemented by fact boxes, which readers can use to develop their own informed opinion on this topic. Full-color photographs and a helpful graphic organizer enhance the reading experience, keeping young readers engaged as they develop essential critical-thinking skills.","English",24.6,19.68,"371.2'36--dc23","24 pp.",{"$f":"Table1[[#This Row],['# of Books]]*Table1[[#This Row],[QTY]]","v":0},{"$f":"Table1[[#This Row],[QTY]]*Table1[[#This Row],[School & Library Price]]","v":0}]
[null,102,null,10,"Science","First Science","First Science: Sets 1 – 2","978-1-5345-2453-8","KidHaven Publishing","Library Set",8,2018,"January 2018",null,"8.500 X 8.500"," "," ",null,null,null,null,null,null,"Years 5 - 7","Grade 1","Grade K - 2","Science is at work all around us. This is a valuable lesson for young readers to discover, and they are able to do that through accessible text that explains basic science concepts they encounter in their everyday lives. Age-appropriate examples allow early learners to better understand how science is applied in the world around them, from the sounds they hear each day to the materials they come in contact with. These examples are presented alongside colorful, entertaining photographs, which help readers find the fun in science.","English",196.8,157.44,null,"24 pp.",{"$f":"Table1[[#This Row],['# of Books]]*Table1[[#This Row],[QTY]]","v":0},{"$f":"Table1[[#This Row],[QTY]]*Table1[[#This Row],[School & Library Price]]","v":0}]
[null,102,null,10,"Science","First Science","First Science: Set 2","978-1-5345-2452-1","KidHaven Publishing","Library Set",4,2018,"January 2018",null,"8.500 X 8.500"," "," ",null,null,null,null,null,null,"Years 5 - 7","Grade 1","Grade K - 2","Turning on a light, observing the weather, and determining whether something is hot or cold are all ways early learners apply scientific concepts to the world around them. Young readers explore these and other beginning science concepts through age-appropriate text presented in an accessible way. As readers are introduced to basic science topics, they are given relevant examples of how science is constantly at work in their lives. These examples are shown through vibrant, full-color photographs. With each turn of the page, readers are sure to gain a deeper appreciation for the fascinating world of science, which happens to be already all around them.","English",98.4,78.72,null,"24 pp.",{"$f":"Table1[[#This Row],['# of Books]]*Table1[[#This Row],[QTY]]","v":0},{"$f":"Table1[[#This Row],[QTY]]*Table1[[#This Row],[School & Library Price]]","v":0}]
[null,102,null,null,"Science","First Science","First Science: Set 2","978-1-5345-2524-5","KidHaven Publishing","eBook Set",4,2018,"January 2018",null,null," "," ",null,null,null,null,null,null,"Years 5 - 7","Grade 1","Grade K - 2","Turning on a light, observing the weather, and determining whether something is hot or cold are all ways early learners apply scientific concepts to the world around them. Young readers explore these and other beginning science concepts through age-appropriate text presented in an accessible way. As readers are introduced to basic science topics, they are given relevant examples of how science is constantly at work in their lives. These examples are shown through vibrant, full-color photographs. With each turn of the page, readers are sure to gain a deeper appreciation for the fascinating world of science, which happens to be already all around them.","English",98.4,78.72,null,"24 pp.",{"$f":"Table1[[#This Row],['# of Books]]*Table1[[#This Row],[QTY]]","v":0},{"$f":"Table1[[#This Row],[QTY]]*Table1[[#This Row],[School & Library Price]]","v":0}]
[null,102,null,10,"Science","First Science","Electricity","978-1-5345-2384-5","KidHaven Publishing","Library Bound Book",1,2018,"January 2018","Library","8.500 X 8.500","Author","Steffi Cavell-Clarke",null,null,null,null,"F",null,"Years 5 - 7","Grade 1","Grade K - 2","Why does light appear after you flick on a light switch? Where does electricity come from? Questions such as these are answered in this age-appropriate and educational book all about electricity, which is a common part of elementary science curricula. This engaging text explains basic scientific concepts to young readers to teach them about how electricity works, where it comes from, and how we use it in our everyday lives. Vibrant, full-color photographs and simple diagrams provide additional, relatable information to expand readers’ knowledge of this electrifying topic.","English",24.6,19.68,"537--dc23","24 pp.",{"$f":"Table1[[#This Row],['# of Books]]*Table1[[#This Row],[QTY]]","v":0},{"$f":"Table1[[#This Row],[QTY]]*Table1[[#This Row],[School & Library Price]]","v":0}]
[null,102,null,10,"Science","First Science","Electricity","978-1-5345-2385-2","KidHaven Publishing","eBook",1,2018,"January 2018",null,null,"Author","Steffi Cavell-Clarke",null,null,null,null,"F",null,"Years 5 - 7","Grade 1","Grade K - 2","Why does light appear after you flick on a light switch? Where does electricity come from? Questions such as these are answered in this age-appropriate and educational book all about electricity, which is a common part of elementary science curricula. This engaging text explains basic scientific concepts to young readers to teach them about how electricity works, where it comes from, and how we use it in our everyday lives. Vibrant, full-color photographs and simple diagrams provide additional, relatable information to expand readers’ knowledge of this electrifying topic.","English",24.6,19.68,"537--dc23","24 pp.",{"$f":"Table1[[#This Row],['# of Books]]*Table1[[#This Row],[QTY]]","v":0},{"$f":"Table1[[#This Row],[QTY]]*Table1[[#This Row],[School & Library Price]]","v":0}]
[null,102,null,10,"Science","First Science","Hot and Cold","978-1-5345-2390-6","KidHaven Publishing","Library Bound Book",1,2018,"January 2018","Library","8.500 X 8.500","Author","Steffi Cavell-Clarke",null,null,null,null,"F",null,"Years 5 - 7","Grade 1","Grade K - 2","Young readers are introduced to the basic science concept of temperature and how to properly identify things that are hot and cold in this age-appropriate text. Fun facts, striking, full-color photographs, and diagrams provide insight into this essential elementary science curriculum topic. This accessible reading experience is sure to make early learners even more curious about the world around them, and it encourages them to experiment safely with the everyday objects to see science in action.","English",24.6,19.68,"536'.5--dc23","24 pp.",{"$f":"Table1[[#This Row],['# of Books]]*Table1[[#This Row],[QTY]]","v":0},{"$f":"Table1[[#This Row],[QTY]]*Table1[[#This Row],[School & Library Price]]","v":0}]
[null,102,null,10,"Science","First Science","Hot and Cold","978-1-5345-2463-7","KidHaven Publishing","eBook",1,2018,"January 2018",null,null,"Author","Steffi Cavell-Clarke",null,null,null,null,"F",null,"Years 5 - 7","Grade 1","Grade K - 2","Young readers are introduced to the basic science concept of temperature and how to properly identify things that are hot and cold in this age-appropriate text. Fun facts, striking, full-color photographs, and diagrams provide insight into this essential elementary science curriculum topic. This accessible reading experience is sure to make early learners even more curious about the world around them, and it encourages them to experiment safely with the everyday objects to see science in action.","English",24.6,19.68,"536'.5--dc23","24 pp.",{"$f":"Table1[[#This Row],['# of Books]]*Table1[[#This Row],[QTY]]","v":0},{"$f":"Table1[[#This Row],[QTY]]*Table1[[#This Row],[School & Library Price]]","v":0}]
[null,102,null,10,"Science","First Science","Materials","978-1-5345-2387-6","KidHaven Publishing","Library Bound Book",1,2018,"January 2018","Library","8.500 X 8.500","Author","Steffi Cavell-Clarke",null,null,null,null,"F",null,"Years 5 - 7","Grade 1","Grade K - 2","Understanding the properties of different materials is essential to developing basic scientific knowledge. Readers are introduced to this critical concept through accessible text that asks them to examine different everyday materials, such as glass and wood, and what they are used for. The main text includes interesting facts that enhance science curriculum topics. Eye-catching, full-color photographs and diagrams are also featured. This engaging text exposes young readers to a plethora of materials and shows them how they are used to create the objects we see and use every day.","English",24.6,19.68,"620.1'1--dc23","24 pp.",{"$f":"Table1[[#This Row],['# of Books]]*Table1[[#This Row],[QTY]]","v":0},{"$f":"Table1[[#This Row],[QTY]]*Table1[[#This Row],[School & Library Price]]","v":0}]
[null,102,null,10,"Science","First Science","Materials","978-1-5345-2388-3","KidHaven Publishing","eBook",1,2018,"January 2018",null,null,"Author","Steffi Cavell-Clarke",null,null,null,null,"F",null,"Years 5 - 7","Grade 1","Grade K - 2","Understanding the properties of different materials is essential to developing basic scientific knowledge. Readers are introduced to this critical concept through accessible text that asks them to examine different everyday materials, such as glass and wood, and what they are used for. The main text includes interesting facts that enhance science curriculum topics. Eye-catching, full-color photographs and diagrams are also featured. This engaging text exposes young readers to a plethora of materials and shows them how they are used to create the objects we see and use every day.","English",24.6,19.68,"620.1'1--dc23","24 pp.",{"$f":"Table1[[#This Row],['# of Books]]*Table1[[#This Row],[QTY]]","v":0},{"$f":"Table1[[#This Row],[QTY]]*Table1[[#This Row],[School & Library Price]]","v":0}]
[null,102,null,10,"Science","First Science","Weather","978-1-5345-2393-7","KidHaven Publishing","Library Bound Book",1,2018,"January 2018","Library","8.500 X 8.500","Author","Steffi Cavell-Clarke",null,null,null,null,"F",null,"Years 5 - 7","Grade 1","Grade K - 2","One of the things we notice every day after looking out our windows is what the weather is like outside. Whether it’s snowing, it’s raining, or the sun is shining, weather affects many aspects of our daily lives. In this accessible text, young readers will get a closer look at the science behind weather and how it affects our world. The main text is supplemented with bold, full-color photographs, giving readers a better idea of what different kinds of weather look like. Informative diagrams also help early learners better understand this common science curriculum topic.","English",24.6,19.68,"551.5--dc23","24 pp.",{"$f":"Table1[[#This Row],['# of Books]]*Table1[[#This Row],[QTY]]","v":0},{"$f":"Table1[[#This Row],[QTY]]*Table1[[#This Row],[School & Library Price]]","v":0}]
[null,102,null,10,"Science","First Science","Weather","978-1-5345-2394-4","KidHaven Publishing","eBook",1,2018,"January 2018",null,null,"Author","Steffi Cavell-Clarke",null,null,null,null,"F",null,"Years 5 - 7","Grade 1","Grade K - 2","One of the things we notice every day after looking out our windows is what the weather is like outside. Whether it’s snowing, it’s raining, or the sun is shining, weather affects many aspects of our daily lives. In this accessible text, young readers will get a closer look at the science behind weather and how it affects our world. The main text is supplemented with bold, full-color photographs, giving readers a better idea of what different kinds of weather look like. Informative diagrams also help early learners better understand this common science curriculum topic.","English",24.6,19.68,"551.5--dc23","24 pp.",{"$f":"Table1[[#This Row],['# of Books]]*Table1[[#This Row],[QTY]]","v":0},{"$f":"Table1[[#This Row],[QTY]]*Table1[[#This Row],[School & Library Price]]","v":0}]
[null,102,null,11,"Science","First Science (Jan '17 Set)","First Science (Jan '17 Set)","978-1-5345-2129-2","KidHaven Publishing","Library Set",4,2017,"January 2017","Library Bound","8.500 X 8.500"," "," ",null,null,null,null,null,null,"Years 5 - 7",null,"Grade K - 2","Light, sound, magnets, and pushes and pulls are common parts of an early learner’s world. They are also important first science concepts. Young readers explore these essential areas of everyday science through clear, accessible text. The age-appropriate tone encourages readers to get excited about science and its application in the world around them. Vibrant, full-color photographs are found with each turn of the page, keeping readers entertained as they learn.","English",98.4,78.72,null,"24 pp.",{"$f":"Table1[[#This Row],['# of Books]]*Table1[[#This Row],[QTY]]","v":0},{"$f":"Table1[[#This Row],[QTY]]*Table1[[#This Row],[School & Library Price]]","v":0}]
[null,102,null,11,"Science","First Science (Jan '17 Set)","First Science (Jan '17 Set)","978-1-5345-2130-8","KidHaven Publishing","eBook Set",4,2017,"January 2017","eBook",null," "," ",null,null,null,null,null,null,null,null,"Grade K - 2","Light, sound, magnets, and pushes and pulls are common parts of an early learner’s world. They are also important first science concepts. Young readers explore these essential areas of everyday science through clear, accessible text. The age-appropriate tone encourages readers to get excited about science and its application in the world around them. Vibrant, full-color photographs are found with each turn of the page, keeping readers entertained as they learn.","English",98.4,78.72,null,"24 pp.",{"$f":"Table1[[#This Row],['# of Books]]*Table1[[#This Row],[QTY]]","v":0},{"$f":"Table1[[#This Row],[QTY]]*Table1[[#This Row],[School & Library Price]]","v":0}]
[null,102,null,11,"Science","First Science","Light","978-1-5345-2075-2","KidHaven Publishing","eBook",1,2017,"January 2017","eBook",null,"Author","Steffi Cavell-Clarke",null,null,null,null,"F",null,null,null,"Grade K - 2","Young readers discover what light is and where it comes from as they explore this essential early science concept through age-appropriate text and images. The basic ideas behind the science of light are explained to early learners using accessible language and relatable examples. Readers are also presented with simple diagrams designed to enhance their knowledge of this elementary science curriculum topic. Colorful photographs are also included on each page, making this first science lesson a fun and memorable one!","English",24.6,19.68,null,"24 pp.",{"$f":"Table1[[#This Row],['# of Books]]*Table1[[#This Row],[QTY]]","v":0},{"$f":"Table1[[#This Row],[QTY]]*Table1[[#This Row],[School & Library Price]]","v":0}]
[null,102,null,11,"Science","First Science","Light","978-1-5345-2074-5","KidHaven Publishing","Library Bound Book",1,2017,"January 2017","Library Bound","8.500 X 8.500","Author","Steffi Cavell-Clarke",2.4,0.5,null,null,"F",null,"Years 5 - 7",null,"Grade K - 2","Young readers discover what light is and where it comes from as they explore this essential early science concept through age-appropriate text and images. The basic ideas behind the science of light are explained to early learners using accessible language and relatable examples. Readers are also presented with simple diagrams designed to enhance their knowledge of this elementary science curriculum topic. Colorful photographs are also included on each page, making this first science lesson a fun and memorable one!","English",24.6,19.68,null,"24 pp.",{"$f":"Table1[[#This Row],['# of Books]]*Table1[[#This Row],[QTY]]","v":0},{"$f":"Table1[[#This Row],[QTY]]*Table1[[#This Row],[School & Library Price]]","v":0}]
[null,102,null,11,"Science","First Science","Magnets","978-1-5345-2078-3","KidHaven Publishing","Library Bound Book",1,2017,"January 2017","Library Bound","8.500 X 8.500","Author","Steffi Cavell-Clarke",3.1,0.5,null,null,"F",null,"Years 5 - 7",null,"Grade K - 2","Experimenting with magnets is a fun way for early learners to explore physical science. Readers are introduced to the basic facts that explain how magnets work, enhancing their understanding of this important part of elementary science curricula. Clear, age-appropriate language takes potentially abstract ideas and presents them in a way that is easy for early learners to understand. Detailed diagrams and full-color photographs also help readers gain a deeper understanding of the amazing science behind magnets.","English",24.6,19.68,null,"24 pp.",{"$f":"Table1[[#This Row],['# of Books]]*Table1[[#This Row],[QTY]]","v":0},{"$f":"Table1[[#This Row],[QTY]]*Table1[[#This Row],[School & Library Price]]","v":0}]
[null,102,null,11,"Science","First Science","Magnets","978-1-5345-2079-0","KidHaven Publishing","eBook",1,2017,"January 2017","eBook",null,"Author","Steffi Cavell-Clarke",null,null,null,null,"F",null,null,null,"Grade K - 2","Experimenting with magnets is a fun way for early learners to explore physical science. Readers are introduced to the basic facts that explain how magnets work, enhancing their understanding of this important part of elementary science curricula. Clear, age-appropriate language takes potentially abstract ideas and presents them in a way that is easy for early learners to understand. Detailed diagrams and full-color photographs also help readers gain a deeper understanding of the amazing science behind magnets.","English",24.6,19.68,null,"24 pp.",{"$f":"Table1[[#This Row],['# of Books]]*Table1[[#This Row],[QTY]]","v":0},{"$f":"Table1[[#This Row],[QTY]]*Table1[[#This Row],[School & Library Price]]","v":0}]
[null,102,null,11,"Science","First Science","Pushes and Pulls","978-1-5345-2082-0","KidHaven Publishing","Library Bound Book",1,2017,"January 2017","Library Bound","8.500 X 8.500","Author","Steffi Cavell-Clarke",2.8,0.5,null,null,"F",null,"Years 5 - 7",null,"Grade K - 2","Pushing against a wall and pulling on a rope are examples of forces at work in the world around us. This age-appropriate way of discussing forces allows young readers to explore beginner physics using language and examples they can easily understand. The simple, accessible text and colorful diagrams present a basic science curriculum topic to early learners in a fresh and fun way. Vibrant photographs of young people experimenting with forces encourage aspiring scientists to keep learning more about this topic long after they turn the last page.","English",24.6,19.68,null,"24 pp.",{"$f":"Table1[[#This Row],['# of Books]]*Table1[[#This Row],[QTY]]","v":0},{"$f":"Table1[[#This Row],[QTY]]*Table1[[#This Row],[School & Library Price]]","v":0}]
[null,102,null,11,"Science","First Science","Pushes and Pulls","978-1-5345-2083-7","KidHaven Publishing","eBook",1,2017,"January 2017","eBook",null,"Author","Steffi Cavell-Clarke",null,null,null,null,"F",null,null,null,"Grade K - 2","Pushing against a wall and pulling on a rope are examples of forces at work in the world around us. This age-appropriate way of discussing forces allows young readers to explore beginner physics using language and examples they can easily understand. The simple, accessible text and colorful diagrams present a basic science curriculum topic to early learners in a fresh and fun way. Vibrant photographs of young people experimenting with forces encourage aspiring scientists to keep learning more about this topic long after they turn the last page.","English",24.6,19.68,null,"24 pp.",{"$f":"Table1[[#This Row],['# of Books]]*Table1[[#This Row],[QTY]]","v":0},{"$f":"Table1[[#This Row],[QTY]]*Table1[[#This Row],[School & Library Price]]","v":0}]
[null,102,null,11,"Science","First Science","Sound","978-1-5345-2086-8","KidHaven Publishing","Library Bound Book",1,2017,"January 2017","Library Bound","8.500 X 8.500","Author","Steffi Cavell-Clarke",2.5,0.5,null,null,"F",null,"Years 5 - 7",null,"Grade K - 2","The science of sound can seem abstract and complicated to early learners. However, young readers will develop a strong understanding of this important science curriculum topic through the use of accessible text and detailed images. Age-appropriate content is explained using simple language and concrete examples, helping young readers understand where sounds come from and why we can hear them. This beginner science concept is further explained through helpful diagrams. Young readers will be captivated by this engaging approach to science that features vibrant, full-color photographs on each page.","English",24.6,19.68,null,"24 pp.",{"$f":"Table1[[#This Row],['# of Books]]*Table1[[#This Row],[QTY]]","v":0},{"$f":"Table1[[#This Row],[QTY]]*Table1[[#This Row],[School & Library Price]]","v":0}]
[null,102,null,11,"Science","First Science","Sound","978-1-5345-2087-5","KidHaven Publishing","eBook",1,2017,"January 2017","eBook",null,"Author","Steffi Cavell-Clarke",null,null,null,null,"F",null,null,null,"Grade K - 2","The science of sound can seem abstract and complicated to early learners. However, young readers will develop a strong understanding of this important science curriculum topic through the use of accessible text and detailed images. Age-appropriate content is explained using simple language and concrete examples, helping young readers understand where sounds come from and why we can hear them. This beginner science concept is further explained through helpful diagrams. Young readers will be captivated by this engaging approach to science that features vibrant, full-color photographs on each page.","English",24.6,19.68,null,"24 pp.",{"$f":"Table1[[#This Row],['# of Books]]*Table1[[#This Row],[QTY]]","v":0},{"$f":"Table1[[#This Row],[QTY]]*Table1[[#This Row],[School & Library Price]]","v":0}]
[null,98,null,12,"Science","Journey Through Our Solar System (Aug '17 Set)","Journey Through Our Solar System (Aug '17 Set)","978-1-5345-2210-7","KidHaven Publishing","Library Set",12,2018,"August 2017","Library","7.000 X 7.000"," "," ",null,null,null,null,null,null,"Years 6 - 8","Grade 1 - 2","Grade 1 - 3","Readers are sure to enjoy this fascinating look at the celestial bodies that make up our solar system. They will learn about each of the eight planets, as well as Earth's moon, asteroids, and dwarf planets such as Pluto. Each volume presents readers with fun facts about different parts of our solar system. Full-color photographs provide an astronaut's view of outer space as readers take their own journey through our solar system.","English",295.2,236.16,null,"24 pp.",{"$f":"Table1[[#This Row],['# of Books]]*Table1[[#This Row],[QTY]]","v":0},{"$f":"Table1[[#This Row],[QTY]]*Table1[[#This Row],[School & Library Price]]","v":0}]
[null,98,null,12,"Science","Journey Through Our Solar System (Aug '17 Set)","Journey Through Our Solar System (Aug '17 Set)","978-1-5345-2211-4","KidHaven Publishing","eBook Set",12,2018,"August 2017",null,null," "," ",null,null,null,null,null,null,"Years 6 - 8","Grade 1 - 2","Grade 1 - 3","Readers are sure to enjoy this fascinating look at the celestial bodies that make up our solar system. They will learn about each of the eight planets, as well as Earth’s moon, asteroids, and dwarf planets such as Pluto. Each volume presents readers with fun facts about different parts of our solar system. Full-color photographs provide an astronaut's view of outer space as readers take their own journey through our solar system.","English",295.2,236.16,null,"24 pp.",{"$f":"Table1[[#This Row],['# of Books]]*Table1[[#This Row],[QTY]]","v":0},{"$f":"Table1[[#This Row],[QTY]]*Table1[[#This Row],[School & Library Price]]","v":0}]
[null,98,null,12,"Science","Journey Through Our Solar System","Exploring Comets and Asteroids","978-1-5345-2275-6","KidHaven Publishing","Library Bound Book",1,2018,"August 2017","Library","7.000 X 7.000","Author","David Anthony",null,null,null,null,"I",null,"Years 6 - 8","Grade 1 - 2","Grade 1 - 3","We think of space as being empty, but that isn’t quite true. In addition to stars, planets, and moons, there are asteroids and comets. Asteroids are rocks that orbit the sun. Comets are chunks of ice and dust that form on the edges of the solar system. This book takes readers on a fun journey into space.","English",24.6,19.68,"523.5’1--dc23","24 pp.",{"$f":"Table1[[#This Row],['# of Books]]*Table1[[#This Row],[QTY]]","v":0},{"$f":"Table1[[#This Row],[QTY]]*Table1[[#This Row],[School & Library Price]]","v":0}]
[null,98,null,12,"Science","Journey Through Our Solar System","Exploring Comets and Asteroids","978-1-5345-2268-8","KidHaven Publishing","eBook",1,2018,"August 2017",null,null,"Author","David Anthony",null,null,null,null,"I",null,"Years 6 - 8","Grade 1 - 2","Grade 1 - 3","We think of space as being empty, but that isn’t quite true. In addition to stars, planets, and moons, there are asteroids and comets. Asteroids are rocks that orbit the sun. Comets are chunks of ice and dust that form on the edges of the solar system. This book takes readers on a fun journey into space.","English",24.6,19.68,"523.5’1--dc23","24 pp.",{"$f":"Table1[[#This Row],['# of Books]]*Table1[[#This Row],[QTY]]","v":0},{"$f":"Table1[[#This Row],[QTY]]*Table1[[#This Row],[School & Library Price]]","v":0}]
[null,98,null,12,"Science","Journey Through Our Solar System","Exploring Earth","978-1-5345-2274-9","KidHaven Publishing","Library Bound Book",1,2018,"August 2017","Library","7.000 X 7.000","Author","Mary Austen",null,null,null,null,"I",null,"Years 6 - 8","Grade 1 - 2","Grade 1 - 3","Earth is the planet we know the most about because it’s our home, but we’re always learning more. Every day we find out something new about the animals that live in the oceans, the plants that grow in the forests, and what’s inside Earth’s crust. Readers will enjoy taking a closer look at some of the most fascinating things about the planet we call home, expanding their knowledge of common science curriculum topics. Through vivid photographs and clearly labeled diagrams, they will learn even more about our fascinating planet.","English",24.6,19.68,"525--dc23","24 pp.",{"$f":"Table1[[#This Row],['# of Books]]*Table1[[#This Row],[QTY]]","v":0},{"$f":"Table1[[#This Row],[QTY]]*Table1[[#This Row],[School & Library Price]]","v":0}]
[null,98,null,12,"Science","Journey Through Our Solar System","Exploring Earth","978-1-5345-2269-5","KidHaven Publishing","eBook",1,2018,"August 2017",null,null,"Author","Mary Austen",null,null,null,null,"I",null,"Years 6 - 8","Grade 1 - 2","Grade 1 - 3","Earth is the planet we know the most about because it’s our home, but we’re always learning more. Every day we find out something new about the animals that live in the oceans, the plants that grow in the forests, and what’s inside Earth’s crust. Readers will enjoy taking a closer look at some of the most fascinating things about the planet we call home, expanding their knowledge of common science curriculum topics. Through vivid photographs and clearly labeled diagrams, they will learn even more about our fascinating planet.","English",24.6,19.68,"525--dc23","24 pp.",{"$f":"Table1[[#This Row],['# of Books]]*Table1[[#This Row],[QTY]]","v":0},{"$f":"Table1[[#This Row],[QTY]]*Table1[[#This Row],[School & Library Price]]","v":0}]
[null,98,null,12,"Science","Journey Through Our Solar System","Exploring Jupiter","978-1-5345-2279-4","KidHaven Publishing","Library Bound Book",1,2018,"August 2017","Library","7.000 X 7.000","Author","Richard Alexander",null,null,null,null,"I",null,"Years 6 - 8","Grade 1 - 2","Grade 1 - 3","Did you know Jupiter is so big that all the other planets could fit inside it? You wouldn’t want to travel there, though! Jupiter’s atmosphere is poisonous to humans. Readers learn these and other intriguing facts about our solar system’s largest planet. Detailed diagrams and striking photographs support the informative text, which presents essential science curriculum topics in a fun way.","English",24.6,19.68,"523.45--dc23","24 pp.",{"$f":"Table1[[#This Row],['# of Books]]*Table1[[#This Row],[QTY]]","v":0},{"$f":"Table1[[#This Row],[QTY]]*Table1[[#This Row],[School & Library Price]]","v":0}]
[null,98,null,12,"Science","Journey Through Our Solar System","Exploring Jupiter","978-1-5345-2265-7","KidHaven Publishing","eBook",1,2018,"August 2017",null,null,"Author","Richard Alexander",null,null,null,null,"I",null,"Years 6 - 8","Grade 1 - 2","Grade 1 - 3","Did you know Jupiter is so big that all the other planets could fit inside it? You wouldn’t want to travel there, though! Jupiter’s atmosphere is poisonous to humans. Readers learn these and other intriguing facts about our solar system’s largest planet. Detailed diagrams and striking photographs support the informative text, which presents essential science curriculum topics in a fun way.","English",24.6,19.68,"523.45--dc23","24 pp.",{"$f":"Table1[[#This Row],['# of Books]]*Table1[[#This Row],[QTY]]","v":0},{"$f":"Table1[[#This Row],[QTY]]*Table1[[#This Row],[School & Library Price]]","v":0}]
[null,98,null,12,"Science","Journey Through Our Solar System","Exploring Mars","978-1-5345-2270-1","KidHaven Publishing","Library Bound Book",1,2018,"August 2017","Library","7.000 X 7.000","Author","Nick Christopher",null,null,null,null,"I",null,"Years 6 - 8","Grade 1 - 2","Grade 1 - 3","Scientists have spent a lot of time exploring Mars, so it’s one of the planets we know the most about. They believe it used to look a lot like Earth, with oceans and lakes on its surface. Today, it’s cold and rocky. Through clear diagrams and vivid photographs, readers explore the surface of Mars. Fun facts that supplement this common science curriculum topic allow readers to feel like space explorers, learning exciting new things about the Red Planet.","English",24.6,19.68,"523.43--dc23","24 pp.",{"$f":"Table1[[#This Row],['# of Books]]*Table1[[#This Row],[QTY]]","v":0},{"$f":"Table1[[#This Row],[QTY]]*Table1[[#This Row],[School & Library Price]]","v":0}]
[null,98,null,12,"Science","Journey Through Our Solar System","Exploring Mars","978-1-5345-2262-6","KidHaven Publishing","eBook",1,2018,"August 2017",null,null,"Author","Nick Christopher",null,null,null,null,"I",null,"Years 6 - 8","Grade 1 - 2","Grade 1 - 3","Scientists have spent a lot of time exploring Mars, so it’s one of the planets we know the most about. They believe it used to look a lot like Earth, with oceans and lakes on its surface. Today, it’s cold and rocky. Through clear diagrams and vivid photographs, readers explore the surface of Mars. Fun facts that supplement this common science curriculum topic allow readers to feel like space explorers, learning exciting new things about the Red Planet.","English",24.6,19.68,"523.43--dc23","24 pp.",{"$f":"Table1[[#This Row],['# of Books]]*Table1[[#This Row],[QTY]]","v":0},{"$f":"Table1[[#This Row],[QTY]]*Table1[[#This Row],[School & Library Price]]","v":0}]
[null,98,null,12,"Science","Journey Through Our Solar System","Exploring Mercury","978-1-5345-2271-8","KidHaven Publishing","Library Bound Book",1,2018,"August 2017","Library","7.000 X 7.000","Author","Robert M. Hamilton ",null,null,null,null,"I",null,"Years 6 - 8","Grade 1 - 2","Grade 1 - 3","Mercury is the smallest planet in our solar system and the closest one to the sun. It’s so hot that people would burn up if they tried to visit! Luckily, scientists have figured out ways to study Mercury from Earth. Readers discover many of the amazing things scientists have learned about this planet. Clearly labeled diagrams and striking photographs illustrate the educational text, which enhances common science curriculum topics in way that is designed to keep readers engaged.","English",24.6,19.68,"523.41--dc23","24 pp.",{"$f":"Table1[[#This Row],['# of Books]]*Table1[[#This Row],[QTY]]","v":0},{"$f":"Table1[[#This Row],[QTY]]*Table1[[#This Row],[School & Library Price]]","v":0}]
[null,98,null,12,"Science","Journey Through Our Solar System","Exploring Mercury","978-1-5345-2261-9","KidHaven Publishing","eBook",1,2018,"August 2017",null,null,"Author","Robert M. Hamilton ",null,null,null,null,"I",null,"Years 6 - 8","Grade 1 - 2","Grade 1 - 3","Mercury is the smallest planet in our solar system and the closest one to the sun. It’s so hot that people would burn up if they tried to visit! Luckily, scientists have figured out ways to study Mercury from Earth. Readers discover many of the amazing things scientists have learned about this planet. Clearly labeled diagrams and striking photographs illustrate the educational text, which enhances common science curriculum topics in way that is designed to keep readers engaged.","English",24.6,19.68,"523.41--dc23","24 pp.",{"$f":"Table1[[#This Row],['# of Books]]*Table1[[#This Row],[QTY]]","v":0},{"$f":"Table1[[#This Row],[QTY]]*Table1[[#This Row],[School & Library Price]]","v":0}]
[null,98,null,12,"Science","Journey Through Our Solar System","Exploring the Moon","978-1-5345-2277-0","KidHaven Publishing","Library Bound Book",1,2018,"August 2017","Library","7.000 X 7.000","Author","Richard Alexander",null,null,null,null,"I",null,"Years 6 - 8","Grade 1 - 2","Grade 1 - 3","Without our moon, Earth would be a very different place. Readers discover fun facts about our closest neighbor, including the way it controls the ocean tides and how long it took astronauts to get there. People have always been captivated by the idea of exploring the moon, and readers will enjoy exploring these interesting facts and stunning pictures, which support important science curriculum topics.","English",24.6,19.68,"523.3--dc23","24 pp.",{"$f":"Table1[[#This Row],['# of Books]]*Table1[[#This Row],[QTY]]","v":0},{"$f":"Table1[[#This Row],[QTY]]*Table1[[#This Row],[School & Library Price]]","v":0}]
[null,98,null,12,"Science","Journey Through Our Solar System","Exploring the Moon","978-1-5345-2267-1","KidHaven Publishing","eBook",1,2018,"August 2017",null,null,"Author","Richard Alexander",null,null,null,null,"I",null,"Years 6 - 8","Grade 1 - 2","Grade 1 - 3","Without our moon, Earth would be a very different place. Readers discover fun facts about our closest neighbor, including the way it controls the ocean tides and how long it took astronauts to get there. People have always been captivated by the idea of exploring the moon, and readers will enjoy exploring these interesting facts and stunning pictures, which support important science curriculum topics.","English",24.6,19.68,"523.3--dc23","24 pp.",{"$f":"Table1[[#This Row],['# of Books]]*Table1[[#This Row],[QTY]]","v":0},{"$f":"Table1[[#This Row],[QTY]]*Table1[[#This Row],[School & Library Price]]","v":0}]
[null,98,null,12,"Science","Journey Through Our Solar System","Exploring Neptune","978-1-5345-2272-5","KidHaven Publishing","Library Bound Book",1,2018,"August 2017","Library","7.000 X 7.000","Author","Emma Jones",null,null,null,null,"I",null,"Years 6 - 8","Grade 1 - 2","Grade 1 - 3","Neptune and Uranus are sometimes called “sister planets” because they are so similar. However, Neptune has stronger winds and more storms than Uranus, and it’s not quite as cold. Readers will enjoy learning about what makes Neptune unique in this captivating volume. Detailed diagrams and impressive photographs help students visualize the fun facts they’re taking in with each turn of the page, making this familiar part of science curricula feel exciting.","English",24.6,19.68,null,"24 pp.",{"$f":"Table1[[#This Row],['# of Books]]*Table1[[#This Row],[QTY]]","v":0},{"$f":"Table1[[#This Row],[QTY]]*Table1[[#This Row],[School & Library Price]]","v":0}]
[null,98,null,12,"Science","Journey Through Our Solar System","Exploring Neptune","978-1-5345-2260-2","KidHaven Publishing","eBook",1,2018,"August 2017",null,null,"Author","Emma Jones",null,null,null,null,"I",null,"Years 6 - 8","Grade 1 - 2","Grade 1 - 3","Neptune and Uranus are sometimes called “sister planets” because they are so similar. However, Neptune has stronger winds and more storms than Uranus, and it’s not quite as cold. Readers will enjoy learning about what makes Neptune unique in this captivating volume. Detailed diagrams and impressive photographs help students visualize the fun facts they’re taking in with each turn of the page, making this familiar part of science curricula feel exciting.","English",24.6,19.68,null,"24 pp.",{"$f":"Table1[[#This Row],['# of Books]]*Table1[[#This Row],[QTY]]","v":0},{"$f":"Table1[[#This Row],[QTY]]*Table1[[#This Row],[School & Library Price]]","v":0}]
[null,98,null,12,"Science","Journey Through Our Solar System","Exploring Pluto and Other Dwarf Planets","978-1-5345-2280-0","KidHaven Publishing","Library Bound Book",1,2018,"August 2017","Library","7.000 X 7.000","Author","Riley Lawrence",null,null,null,null,"I",null,"Years 6 - 8","Grade 1 - 2","Grade 1 - 3","Pluto is too big to be an asteroid and too small to be a planet, so scientists call it a dwarf planet. It’s so far away from the sun that it gets no warmth at all, so it’s covered in a thick layer of ice. Readers learn fun facts such as these as they explore the world of our solar system’s dwarf planets. Informative diagrams, full-color photographs, and accessible text help readers discover more about Pluto and the other dwarf planets in our solar system.","English",24.6,19.68,"523.48'2--dc23","24 pp.",{"$f":"Table1[[#This Row],['# of Books]]*Table1[[#This Row],[QTY]]","v":0},{"$f":"Table1[[#This Row],[QTY]]*Table1[[#This Row],[School & Library Price]]","v":0}]
[null,98,null,12,"Science","Journey Through Our Solar System","Exploring Pluto and Other Dwarf Planets","978-1-5345-2276-3","KidHaven Publishing","eBook",1,2018,"August 2017",null,null,"Author","Riley Lawrence",null,null,null,null,"I",null,"Years 6 - 8","Grade 1 - 2","Grade 1 - 3","Pluto is too big to be an asteroid and too small to be a planet, so scientists call it a dwarf planet. It’s so far away from the sun that it gets no warmth at all, so it’s covered in a thick layer of ice. Readers learn fun facts such as these as they explore the world of our solar system’s dwarf planets. Informative diagrams, full-color photographs, and accessible text help readers discover more about Pluto and the other dwarf planets in our solar system.","English",24.6,19.68,"523.48'2--dc23","24 pp.",{"$f":"Table1[[#This Row],['# of Books]]*Table1[[#This Row],[QTY]]","v":0},{"$f":"Table1[[#This Row],[QTY]]*Table1[[#This Row],[School & Library Price]]","v":0}]
[null,98,null,12,"Science","Journey Through Our Solar System","Exploring Saturn","978-1-5345-2282-4","KidHaven Publishing","Library Bound Book",1,2018,"August 2017","Library","7.000 X 7.000","Author","Mary Austen",null,null,null,null,"I",null,"Years 6 - 8","Grade 1 - 2","Grade 1 - 3","Saturn is easily recognized by its large rings, which can be seen from Earth with a telescope. These rings look solid but are actually clouds of ice and dust. They orbit the planet the way Saturn orbits the sun. However, readers discover these rings are not the only interesting thing about this gas giant. Through informative text that supports current science curriculum requirements, as well as stunning photographs and detailed diagrams, readers learn fun facts about our solar system’s second-largest planet.","English",24.6,19.68,"523.46--dc23","24 pp.",{"$f":"Table1[[#This Row],['# of Books]]*Table1[[#This Row],[QTY]]","v":0},{"$f":"Table1[[#This Row],[QTY]]*Table1[[#This Row],[School & Library Price]]","v":0}]
[null,98,null,12,"Science","Journey Through Our Solar System","Exploring Saturn","978-1-5345-2263-3","KidHaven Publishing","eBook",1,2018,"August 2017",null,null,"Author","Mary Austen",null,null,null,null,"I",null,"Years 6 - 8","Grade 1 - 2","Grade 1 - 3","Saturn is easily recognized by its large rings, which can be seen from Earth with a telescope. These rings look solid but are actually clouds of ice and dust. They orbit the planet the way Saturn orbits the sun. However, readers discover these rings are not the only interesting thing about this gas giant. Through informative text that supports current science curriculum requirements, as well as stunning photographs and detailed diagrams, readers learn fun facts about our solar system’s second-largest planet.","English",24.6,19.68,"523.46--dc23","24 pp.",{"$f":"Table1[[#This Row],['# of Books]]*Table1[[#This Row],[QTY]]","v":0},{"$f":"Table1[[#This Row],[QTY]]*Table1[[#This Row],[School & Library Price]]","v":0}]
[null,98,null,12,"Science","Journey Through Our Solar System","Exploring the Sun","978-1-5345-2278-7","KidHaven Publishing","Library Bound Book",1,2018,"August 2017","Library","7.000 X 7.000","Author","Kate Rogers",null,null,null,null,"I",null,"Years 6 - 8","Grade 1 - 2","Grade 1 - 3","The sun is the closest star to Earth. Not only does it give us warmth and light, its light becomes food for plants, helping them grow. Readers discover this and other fun facts about the center of our solar system through accessible text. What does the sun look like up close? Readers find out with the help of diagrams and full-color photographs in this engaging volume, which enhances current science curriculum requirements.","English",24.6,19.68,"523.7--dc23","24 pp.",{"$f":"Table1[[#This Row],['# of Books]]*Table1[[#This Row],[QTY]]","v":0},{"$f":"Table1[[#This Row],[QTY]]*Table1[[#This Row],[School & Library Price]]","v":0}]
[null,98,null,12,"Science","Journey Through Our Solar System","Exploring the Sun","978-1-5345-2266-4","KidHaven Publishing","eBook",1,2018,"August 2017",null,null,"Author","Kate Rogers",null,null,null,null,"I",null,"Years 6 - 8","Grade 1 - 2","Grade 1 - 3","The sun is the closest star to Earth. Not only does it give us warmth and light, its light becomes food for plants, helping them grow. Readers discover this and other fun facts about the center of our solar system through accessible text. What does the sun look like up close? Readers find out with the help of diagrams and full-color photographs in this engaging volume, which enhances current science curriculum requirements.","English",24.6,19.68,"523.7--dc23","24 pp.",{"$f":"Table1[[#This Row],['# of Books]]*Table1[[#This Row],[QTY]]","v":0},{"$f":"Table1[[#This Row],[QTY]]*Table1[[#This Row],[School & Library Price]]","v":0}]
[null,98,null,12,"Science","Journey Through Our Solar System","Exploring Uranus","978-1-5345-2281-7","KidHaven Publishing","Library Bound Book",1,2018,"August 2017","Library","7.000 X 7.000","Author","Cody Keiser",null,null,null,null,"I",null,"Years 6 - 8","Grade 1 - 2","Grade 1 - 3","Grab your parka, and let’s visit Uranus! This planet is the coldest one in our solar system; its atmosphere is made up of clouds of ice. Through accessible text, clearly labeled diagrams, and full-color photographs, readers discover what makes Uranus unique—from its sideways rotation to its characteristic blue color. Readers are sure to enjoy this fresh and fun take on a familiar science curriculum topic.","English",24.6,19.68,"523.47--dc23","24 pp.",{"$f":"Table1[[#This Row],['# of Books]]*Table1[[#This Row],[QTY]]","v":0},{"$f":"Table1[[#This Row],[QTY]]*Table1[[#This Row],[School & Library Price]]","v":0}]
[null,98,null,12,"Science","Journey Through Our Solar System","Exploring Uranus","978-1-5345-2264-0","KidHaven Publishing","eBook",1,2018,"August 2017",null,null,"Author","Cody Keiser",null,null,null,null,"I",null,"Years 6 - 8","Grade 1 - 2","Grade 1 - 3","Grab your parka, and let’s visit Uranus! This planet is the coldest one in our solar system; its atmosphere is made up of clouds of ice. Through accessible text, clearly labeled diagrams, and full-color photographs, readers discover what makes Uranus unique—from its sideways rotation to its characteristic blue color. Readers are sure to enjoy this fresh and fun take on a familiar science curriculum topic.","English",24.6,19.68,"523.47--dc23","24 pp.",{"$f":"Table1[[#This Row],['# of Books]]*Table1[[#This Row],[QTY]]","v":0},{"$f":"Table1[[#This Row],[QTY]]*Table1[[#This Row],[School & Library Price]]","v":0}]
[null,98,null,12,"Science","Journey Through Our Solar System","Exploring Venus","978-1-5345-2273-2","KidHaven Publishing","Library Bound Book",1,2018,"August 2017","Library","7.000 X 7.000","Author","Leslie Beckett",null,null,null,null,"I",null,"Years 6 - 8","Grade 1 - 2","Grade 1 - 3","Venus is the planet closest to us on Earth; in fact, it’s so close that it can be seen in the sky without a telescope! It looks just like a very bright star. This rocky planet is covered in clouds, but they’re not like the clouds in Earth’s atmosphere. They’re full of poisonous gases! What else makes Venus interesting? Readers will find out as they discover fascinating facts about Venus through text that supports common science curriculum topics. Readers are also presented with detailed images in the form of helpful diagrams and stunning photographs of space.","English",24.6,19.68,"523.42--dc23","24 pp.",{"$f":"Table1[[#This Row],['# of Books]]*Table1[[#This Row],[QTY]]","v":0},{"$f":"Table1[[#This Row],[QTY]]*Table1[[#This Row],[School & Library Price]]","v":0}]
[null,98,null,12,"Science","Journey Through Our Solar System","Exploring Venus","978-1-5345-2259-6","KidHaven Publishing","eBook",1,2018,"August 2017",null,null,"Author","Leslie Beckett",null,null,null,null,"I",null,"Years 6 - 8","Grade 1 - 2","Grade 1 - 3","Venus is the planet closest to us on Earth; in fact, it’s so close that it can be seen in the sky without a telescope! It looks just like a very bright star. This rocky planet is covered in clouds, but they’re not like the clouds in Earth’s atmosphere. They’re full of poisonous gases! What else makes Venus interesting? Readers will find out as they discover fascinating facts about Venus through text that supports common science curriculum topics. Readers are also presented with detailed images in the form of helpful diagrams and stunning photographs of space.","English",24.6,19.68,"523.42--dc23","24 pp.",{"$f":"Table1[[#This Row],['# of Books]]*Table1[[#This Row],[QTY]]","v":0},{"$f":"Table1[[#This Row],[QTY]]*Table1[[#This Row],[School & Library Price]]","v":0}]
[null,99,null,13,"Science","Learn About Plants! (Aug '17 Set)","Learn About Plants! (Aug '17 Set)","978-1-5345-2200-8","KidHaven Publishing","Library Set",5,2018,"August 2017","Library","8.500 X 8.500"," "," ",null,null,null,null,null,null,"Years 6 - 8","Grade 2","Grade 1 - 3","Do all plants have flowers? How do seeds become plants? Why do plants need roots? Readers discover the answers to these and many more common questions as they explore the vibrant world of plants and their unique parts. Informative text guides readers as they learn important facts about stems, leaves, flowers, and other parts of a plant. The text is closely aligned with the vivid, full-color photographs that fill each page. Readers are sure to enjoy this colorful and creative introduction to an essential elementary biology topic.\n\n","English",123,98.4,null,"24 pp.",{"$f":"Table1[[#This Row],['# of Books]]*Table1[[#This Row],[QTY]]","v":0},{"$f":"Table1[[#This Row],[QTY]]*Table1[[#This Row],[School & Library Price]]","v":0}]
[null,99,null,13,"Science","Learn About Plants! (Aug '17 Set)","Learn About Plants! (Aug '17 Set)","978-1-5345-2203-9","KidHaven Publishing","eBook Set",5,2018,"August 2017",null,null," "," ",null,null,null,null,null,null,"Years 6 - 8","Grade 2","Grade 1 - 3","Do all plants have flowers? How do seeds become plants? Why do plants need roots? Readers discover the answers to these and many more common questions as they explore the vibrant world of plants and their unique parts. Informative text guides readers as they learn important facts about stems, leaves, flowers, and other parts of a plant. The text is closely aligned with the vivid, full-color photographs that fill each page. Readers are sure to enjoy this colorful and creative introduction to an essential elementary biology topic.\n\n","English",123,98.4,null,"24 pp.",{"$f":"Table1[[#This Row],['# of Books]]*Table1[[#This Row],[QTY]]","v":0},{"$f":"Table1[[#This Row],[QTY]]*Table1[[#This Row],[School & Library Price]]","v":0}]
[null,99,null,13,"Science","Learn About Plants!","Flowers","978-1-5345-2239-8","KidHaven Publishing","Library Bound Book",1,2018,"August 2017","Library","8.500 X 8.500","Author","Steffi Cavell-Clarke",null,null,null,null,"J",null,"Years 6 - 8","Grade 2","Grade 1 - 3","Why do plants have flowers? Readers discover the answer to this question as they learn fascinating facts about flowers and why they are an important part of a plant. Essential information that supports common science curriculum topics is presented in an accessible way for young readers. This includes the use of simple, colorful diagrams to help young learners understand the purpose of a plant’s flowers. Vibrant photographs fill each page, allowing readers to clearly visualize what they are learning.","English",24.6,19.68,"580--dc23","24 pp.",{"$f":"Table1[[#This Row],['# of Books]]*Table1[[#This Row],[QTY]]","v":0},{"$f":"Table1[[#This Row],[QTY]]*Table1[[#This Row],[School & Library Price]]","v":0}]
[null,99,null,13,"Science","Learn About Plants!","Flowers","978-1-5345-2235-0","KidHaven Publishing","eBook",1,2018,"August 2017",null,null,"Author","Steffi Cavell-Clarke",null,null,null,null,"J",null,"Years 6 - 8","Grade 2","Grade 1 - 3","Why do plants have flowers? Readers discover the answer to this question as they learn fascinating facts about flowers and why they are an important part of a plant. Essential information that supports common science curriculum topics is presented in an accessible way for young readers. This includes the use of simple, colorful diagrams to help young learners understand the purpose of a plant’s flowers. Vibrant photographs fill each page, allowing readers to clearly visualize what they are learning.","English",24.6,19.68,"580--dc23","24 pp.",{"$f":"Table1[[#This Row],['# of Books]]*Table1[[#This Row],[QTY]]","v":0},{"$f":"Table1[[#This Row],[QTY]]*Table1[[#This Row],[School & Library Price]]","v":0}]
[null,99,null,13,"Science","Learn About Plants!","Leaves","978-1-5345-2242-8","KidHaven Publishing","Library Bound Book",1,2018,"August 2017","Library","8.500 X 8.500","Author","Steffi Cavell-Clarke",null,null,null,null,"J",null,"Years 6 - 8","Grade 2","Grade 1 - 3","Plants don’t eat like people do, but they still need food to live and grow. They make their own food using their leaves. Readers explore the process by which leaves create food for plants through accessible text geared toward early learners. They will enjoy learning fun facts about leaves and discovering detailed diagrams of this vital part of a plant. Vivid, full-color photographs and a charming design appeal to young readers. This engaging look at a basic science curriculum topic is sure to keep readers entertained as they learn.","English",24.6,19.68,"581.4’8--dc23","24 pp.",{"$f":"Table1[[#This Row],['# of Books]]*Table1[[#This Row],[QTY]]","v":0},{"$f":"Table1[[#This Row],[QTY]]*Table1[[#This Row],[School & Library Price]]","v":0}]
[null,99,null,13,"Science","Learn About Plants!","Leaves","978-1-5345-2238-1","KidHaven Publishing","eBook",1,2018,"August 2017",null,null,"Author","Steffi Cavell-Clarke",null,null,null,null,"J",null,"Years 6 - 8","Grade 2","Grade 1 - 3","Plants don’t eat like people do, but they still need food to live and grow. They make their own food using their leaves. Readers explore the process by which leaves create food for plants through accessible text geared toward early learners. They will enjoy learning fun facts about leaves and discovering detailed diagrams of this vital part of a plant. Vivid, full-color photographs and a charming design appeal to young readers. This engaging look at a basic science curriculum topic is sure to keep readers entertained as they learn.","English",24.6,19.68,"581.4’8--dc23","24 pp.",{"$f":"Table1[[#This Row],['# of Books]]*Table1[[#This Row],[QTY]]","v":0},{"$f":"Table1[[#This Row],[QTY]]*Table1[[#This Row],[School & Library Price]]","v":0}]
[null,99,null,13,"Science","Learn About Plants!","Roots","978-1-5345-2241-1","KidHaven Publishing","Library Bound Book",1,2018,"August 2017","Library","8.500 X 8.500","Author","Steffi Cavell-Clarke",null,null,null,null,"J",null,"Years 6 - 8","Grade 2","Grade 1 - 3","Roots anchor plants in the ground, and they take in water and minerals from the soil to help plants grow. There is a lot to learn about these important plant parts, and readers discover many fun facts about roots through simple, clear text and helpful diagrams. Detailed, full-color photographs are also included to help readers develop a strong understanding of an important elementary science curriculum topic.","English",24.6,19.68,"581.4’98--dc23","24 pp.",{"$f":"Table1[[#This Row],['# of Books]]*Table1[[#This Row],[QTY]]","v":0},{"$f":"Table1[[#This Row],[QTY]]*Table1[[#This Row],[School & Library Price]]","v":0}]
[null,99,null,13,"Science","Learn About Plants!","Roots","978-1-5345-2237-4","KidHaven Publishing","eBook",1,2018,"August 2017",null,null,"Author","Steffi Cavell-Clarke",null,null,null,null,"J",null,"Years 6 - 8","Grade 2","Grade 1 - 3","Roots anchor plants in the ground, and they take in water and minerals from the soil to help plants grow. There is a lot to learn about these important plant parts, and readers discover many fun facts about roots through simple, clear text and helpful diagrams. Detailed, full-color photographs are also included to help readers develop a strong understanding of an important elementary science curriculum topic.","English",24.6,19.68,"581.4’98--dc23","24 pp.",{"$f":"Table1[[#This Row],['# of Books]]*Table1[[#This Row],[QTY]]","v":0},{"$f":"Table1[[#This Row],[QTY]]*Table1[[#This Row],[School & Library Price]]","v":0}]
[null,99,null,13,"Science","Learn About Plants!","Seeds","978-1-5345-2240-4","KidHaven Publishing","Library Bound Book",1,2018,"August 2017","Library","8.500 X 8.500","Author","Steffi Cavell-Clarke",null,null,null,null,"J",null,"Years 6 - 8","Grade 2","Grade 1 - 3","Plants grow from seeds, so understanding basic facts about seeds helps readers understand the life cycle of a plant. Life cycles are just one of the important science curriculum topics readers explore as they turn each colorful page. Accessible text is accompanied by detailed photographs and diagrams of seeds and the plants they become. After reading, students will be eager to plant seeds of their own to see the lessons they’ve learned about plants in action.","English",24.6,19.68,"581.4’67--dc23","24 pp.",{"$f":"Table1[[#This Row],['# of Books]]*Table1[[#This Row],[QTY]]","v":0},{"$f":"Table1[[#This Row],[QTY]]*Table1[[#This Row],[School & Library Price]]","v":0}]
[null,99,null,13,"Science","Learn About Plants!","Seeds","978-1-5345-2236-7","KidHaven Publishing","eBook",1,2018,"August 2017",null,null,"Author","Steffi Cavell-Clarke",null,null,null,null,"J",null,"Years 6 - 8","Grade 2","Grade 1 - 3","Plants grow from seeds, so understanding basic facts about seeds helps readers understand the life cycle of a plant. Life cycles are just one of the important science curriculum topics readers explore as they turn each colorful page. Accessible text is accompanied by detailed photographs and diagrams of seeds and the plants they become. After reading, students will be eager to plant seeds of their own to see the lessons they’ve learned about plants in action.","English",24.6,19.68,"581.4’67--dc23","24 pp.",{"$f":"Table1[[#This Row],['# of Books]]*Table1[[#This Row],[QTY]]","v":0},{"$f":"Table1[[#This Row],[QTY]]*Table1[[#This Row],[School & Library Price]]","v":0}]
[null,99,null,13,"Science","Learn About Plants!","Stems","978-1-5345-2323-4","KidHaven Publishing","Library Bound Book",1,2018,"August 2017","Library","8.500 X 8.500","Author","Steffi Cavell-Clarke",null,null,null,null,"J",null,"Years 6 - 8","Grade 2","Grade 1 - 3","Different kinds of plants have different kinds of stems. Daisies have thin stems, while redwood trees have thick, woody stems. What do these stems do? Readers discover the answer with the help of clear, age-appropriate text that supports common science curriculum topics. Colorful diagrams enhance the main text, helping young readers visualize the concepts they are reading about. Detailed photographs of a variety of plants and their stems provide an up-close look at this topic, and the creative design of each page is sure to hold the interest of even reluctant readers.","English",24.6,19.68,"581.4’95--dc23","24 pp.",{"$f":"Table1[[#This Row],['# of Books]]*Table1[[#This Row],[QTY]]","v":0},{"$f":"Table1[[#This Row],[QTY]]*Table1[[#This Row],[School & Library Price]]","v":0}]
[null,99,null,13,"Science","Learn About Plants!","Stems","978-1-5345-2322-7","KidHaven Publishing","eBook",1,2018,"August 2017",null,null,"Author","Steffi Cavell-Clarke",null,null,null,null,"J",null,"Years 6 - 8","Grade 2","Grade 1 - 3","Different kinds of plants have different kinds of stems. Daisies have thin stems, while redwood trees have thick, woody stems. What do these stems do? Readers discover the answer with the help of clear, age-appropriate text that supports common science curriculum topics. Colorful diagrams enhance the main text, helping young readers visualize the concepts they are reading about. Detailed photographs of a variety of plants and their stems provide an up-close look at this topic, and the creative design of each page is sure to hold the interest of even reluctant readers.","English",24.6,19.68,"581.4’95--dc23","24 pp.",{"$f":"Table1[[#This Row],['# of Books]]*Table1[[#This Row],[QTY]]","v":0},{"$f":"Table1[[#This Row],[QTY]]*Table1[[#This Row],[School & Library Price]]","v":0}]
[null,100,null,14,"Science","The Glittering World of Gems (Aug '17 Set)","The Glittering World of Gems (Aug '17 Set)","978-1-5345-2214-5","KidHaven Publishing","Library Set",5,2018,"August 2017","Library","8.500 X 8.500"," "," ",null,null,null,null,null,null,"Years 7 - 10","Grade 2 - 3","Grade 2 - 5","Gems have been used for centuries in all parts of the world to create jewelry and ornaments. Some are also used in modern tools, such as the diamonds used in drill tips and the rubies used in lasers. Readers learn intriguing details about where different gems can be found, how they are extracted from the ground, and the ways they are polished and shaped into the jewels we recognize in rings, necklaces, earrings, and more. Vibrant, full-color photographs illustrate the beauty of these sparkling gemstones. Where do diamonds come from? The answer is waiting for readers to discover!\n\n","English",123,98.4,null,"24 pp.",{"$f":"Table1[[#This Row],['# of Books]]*Table1[[#This Row],[QTY]]","v":0},{"$f":"Table1[[#This Row],[QTY]]*Table1[[#This Row],[School & Library Price]]","v":0}]
[null,100,null,14,"Science","The Glittering World of Gems (Aug '17 Set)","The Glittering World of Gems (Aug '17 Set)","978-1-5345-2320-3","KidHaven Publishing","eBook Set",5,2018,"August 2017",null,null," "," ",null,null,null,null,null,null,"Years 7 - 10","Grade 2 - 3","Grade 2 - 5","Gems have been used for centuries in all parts of the world to create jewelry and ornaments. Some are also used in modern tools, such as the diamonds used in drill tips and the rubies used in lasers. Readers learn intriguing details about where different gems can be found, how they are extracted from the ground, and the ways they are polished and shaped into the jewels we recognize in rings, necklaces, earrings, and more. Vibrant, full-color photographs illustrate the beauty of these sparkling gemstones. Where do diamonds come from? The answer is waiting for readers to discover!\n\n","English",123,98.4,null,"24 pp.",{"$f":"Table1[[#This Row],['# of Books]]*Table1[[#This Row],[QTY]]","v":0},{"$f":"Table1[[#This Row],[QTY]]*Table1[[#This Row],[School & Library Price]]","v":0}]
[null,100,null,14,"Science","The Glittering World of Gems","Awesome Opals","978-1-5345-2314-2","KidHaven Publishing","Library Bound Book",1,2018,"August 2017","Library","8.500 X 8.500","Author","Joyce Jeffries",null,null,null,null,"M",null,"Years 7 - 10","Grade 2 - 3","Grade 2 - 5","Opals emit a rainbow of colors, which makes them perfect gems to place in stunning pieces of jewelry. How do opals go from raw stones to beautiful gems? Readers discover the answer to this question as they learn the steps that must be taken and the technology that is used to find, cut, and polish opals. Clear main text and informative fact boxes help readers become experts on opals. Colorful photographs of these gems are sure to keep readers engaged as they learn.","English",24.6,19.68,"553.8'73--dc23","24 pp.",{"$f":"Table1[[#This Row],['# of Books]]*Table1[[#This Row],[QTY]]","v":0},{"$f":"Table1[[#This Row],[QTY]]*Table1[[#This Row],[School & Library Price]]","v":0}]
[null,100,null,14,"Science","The Glittering World of Gems","Awesome Opals","978-1-5345-2300-5","KidHaven Publishing","eBook",1,2018,"August 2017",null,null,"Author","Joyce Jeffries",null,null,null,null,"M",null,"Years 7 - 10","Grade 2 - 3","Grade 2 - 5","Opals emit a rainbow of colors, which makes them perfect gems to place in stunning pieces of jewelry. How do opals go from raw stones to beautiful gems? Readers discover the answer to this question as they learn the steps that must be taken and the technology that is used to find, cut, and polish opals. Clear main text and informative fact boxes help readers become experts on opals. Colorful photographs of these gems are sure to keep readers engaged as they learn.","English",24.6,19.68,"553.8'73--dc23","24 pp.",{"$f":"Table1[[#This Row],['# of Books]]*Table1[[#This Row],[QTY]]","v":0},{"$f":"Table1[[#This Row],[QTY]]*Table1[[#This Row],[School & Library Price]]","v":0}]
[null,100,null,14,"Science","The Glittering World of Gems","Dazzling Diamonds","978-1-5345-2305-0","KidHaven Publishing","Library Bound Book",1,2018,"August 2017","Library","8.500 X 8.500","Author","Lorraine Harrison",null,null,null,null,"N",null,"Years 7 - 10","Grade 2 - 3","Grade 2 - 5","How are diamonds formed? Where do they come from? The answers to these questions and more can be found in this exciting look at a popular gemstone. The science and technology involved in creating a sparkling gem from an uncut diamond is fully explored, giving readers an in-depth look at how diamond rings, bracelets, necklaces, and more are made. Fun fact boxes highlight additional information, and striking photographs illustrate the beauty of these natural jewels.","English",24.6,19.68,"553.8’2--dc23","24 pp.",{"$f":"Table1[[#This Row],['# of Books]]*Table1[[#This Row],[QTY]]","v":0},{"$f":"Table1[[#This Row],[QTY]]*Table1[[#This Row],[School & Library Price]]","v":0}]
[null,100,null,14,"Science","The Glittering World of Gems","Dazzling Diamonds","978-1-5345-2304-3","KidHaven Publishing","eBook",1,2018,"August 2017",null,null,"Author","Lorraine Harrison",null,null,null,null,"N",null,"Years 7 - 10","Grade 2 - 3","Grade 2 - 5","How are diamonds formed? Where do they come from? The answers to these questions and more can be found in this exciting look at a popular gemstone. The science and technology involved in creating a sparkling gem from an uncut diamond is fully explored, giving readers an in-depth look at how diamond rings, bracelets, necklaces, and more are made. Fun fact boxes highlight additional information, and striking photographs illustrate the beauty of these natural jewels.","English",24.6,19.68,"553.8’2--dc23","24 pp.",{"$f":"Table1[[#This Row],['# of Books]]*Table1[[#This Row],[QTY]]","v":0},{"$f":"Table1[[#This Row],[QTY]]*Table1[[#This Row],[School & Library Price]]","v":0}]
[null,100,null,14,"Science","The Glittering World of Gems","Incredible Emeralds","978-1-5345-2306-7","KidHaven Publishing","Library Bound Book",1,2018,"August 2017","Library","8.500 X 8.500","Author","Amy B. Rogers",null,null,null,null,"N",null,"Years 7 - 10","Grade 2 - 3","Grade 2 - 5","Due to their striking green color, emeralds are highly prized as a beautiful addition to all kinds of jewelry. They have been used for thousands of years, especially by the ancient Egyptians and Incas. Over time, technology has changed the way these gems are extracted from the earth and shaped into glittering jewels. Through accessible text and enlightening fact boxes, readers discover the process behind the creation of valuable pieces of emerald jewelry. Full-color photographs display the dazzling beauty of emeralds.","English",24.6,19.68,"553.8’6--dc23","24 pp.",{"$f":"Table1[[#This Row],['# of Books]]*Table1[[#This Row],[QTY]]","v":0},{"$f":"Table1[[#This Row],[QTY]]*Table1[[#This Row],[School & Library Price]]","v":0}]
[null,100,null,14,"Science","The Glittering World of Gems","Radiant Rubies","978-1-5345-2308-1","KidHaven Publishing","Library Bound Book",1,2018,"August 2017","Library","8.500 X 8.500","Author","Joseph Stanley",null,null,null,null,"N",null,"Years 7 - 10","Grade 2 - 3","Grade 2 - 5","Rubies have many different uses. They have been used in beautiful jewelry, ancient armor, and even lasers! How do people get these useful and beautiful gems? Readers explore the intricate process of mining for rubies, cutting these gems, and polishing them until they look their best. These steps are explained through clear, accessible text. Fun fact boxes provide additional information about rubies. With each turn of the page, readers encounter beautiful, full-color photographs of these radiant gems.","English",24.6,19.68,"553.8'4--dc23","24 pp.",{"$f":"Table1[[#This Row],['# of Books]]*Table1[[#This Row],[QTY]]","v":0},{"$f":"Table1[[#This Row],[QTY]]*Table1[[#This Row],[School & Library Price]]","v":0}]
[null,100,null,14,"Science","The Glittering World of Gems","Sparkling Sapphires","978-1-5345-2307-4","KidHaven Publishing","Library Bound Book",1,2018,"August 2017","Library","8.500 X 8.500","Author","Joyce Jeffries",null,null,null,null,"N",null,"Years 7 - 10","Grade 2 - 3","Grade 2 - 5","Sapphires are known for their deep blue color, such as the color of the sapphire that famously sits at the center of Kate Middleton’s engagement ring. However, sapphires can actually come in any color but red. Readers discover this and other amazing facts about sapphires as they explore engaging text and eye-catching fact boxes. They also examine vibrant photographs chosen to highlight the beauty of this popular gem. What is a star sapphire? The answer is waiting for readers to find in this captivating volume.","English",24.6,19.68,"553.8'4--dc23","24 pp.",{"$f":"Table1[[#This Row],['# of Books]]*Table1[[#This Row],[QTY]]","v":0},{"$f":"Table1[[#This Row],[QTY]]*Table1[[#This Row],[School & Library Price]]","v":0}]
[null,null,null,15,"Science & Technology","Transforming Earth's Geography","Famine and Drought","978-1-5345-2412-5","KidHaven Publishing","Library Bound Book",1,2018,"January 2018","Library","8.500 X 11.00","Author","Joanna Brundle",null,null,null,null,"T",null,"Years 8 - 11","Grade 4 - 5","Grade 3 - 6","Readers are introduced to the perils of famine and drought and the lasting effects they have on Earth’s geography and human population. This captivating text brings forth how famine and drought happen, what measures are taken to avoid them, and how they have impacted different parts of the world. Additional information is provided through enlightening fact boxes and simple diagrams to enhance readers’ knowledge of these crucial subjects. Illuminating, full-color photographs are also included in this educational and age-appropriate text, which supports common science curriculum topics.","English",27.25,21.8,"363.8--dc23","32 pp.",{"$f":"Table1[[#This Row],['# of Books]]*Table1[[#This Row],[QTY]]","v":0},{"$f":"Table1[[#This Row],[QTY]]*Table1[[#This Row],[School & Library Price]]","v":0}]
[null,null,null,15,"Science & Technology","Transforming Earth's Geography","Rivers and Mountains","978-1-5345-2456-9","KidHaven Publishing","Library Bound Book",1,2018,"January 2018","Library","8.500 X 11.00","Author","Joanna Brundle",null,null,null,null,"T",null,"Years 8 - 11","Grade 4 - 5","Grade 3 - 6","Rivers and mountains are both critical parts of Earth’s geography. This accessible text discusses how rivers and mountains form, how they interact with the weather, how they change over time, and how civilizations benefit from them. Informative fact boxes, simple diagrams, and vibrant, full-color photographs support the compelling main text. This introduction to rivers and mountains is sure to expand young learners’ minds, as they enhance their knowledge of Earth science and other crucial parts of science curricula.","English",27.25,21.8,"551.48'3--dc23","32 pp.",{"$f":"Table1[[#This Row],['# of Books]]*Table1[[#This Row],[QTY]]","v":0},{"$f":"Table1[[#This Row],[QTY]]*Table1[[#This Row],[School & Library Price]]","v":0}]
[null,null,null,15,"Science & Technology","Transforming Earth's Geography","Volcanoes and Earthquakes","978-1-5345-2418-7","KidHaven Publishing","eBook",1,2018,"January 2018",null,null,"Author","Joanna Brundle",null,null,null,null,"T",null,"Years 8 - 11","Grade 4 - 5","Grade 3 - 6","Readers are introduced to the world of volcanoes and earthquakes in this explosive text, which supports current science curriculum topics. Exciting main text explains why the earth shifts beneath our feet and how this has contributed to altering Earth’s geography. Detailed fact boxes, simple diagrams, and eye-catching, full-color photographs provide additional information alongside the text. Young learners will become experts on volcanoes and earthquakes after exploring some of Earth’s worst natural disasters.","English",27.25,21.8,"551.2--dc23","32 pp.",{"$f":"Table1[[#This Row],['# of Books]]*Table1[[#This Row],[QTY]]","v":0},{"$f":"Table1[[#This Row],[QTY]]*Table1[[#This Row],[School & Library Price]]","v":0}]
[null,null,null,16,"Science & Technology","Climate Change: Our Impact on Earth","Habitat Destruction","978-1-5345-2444-6","KidHaven Publishing","eBook",1,2018,"January 2018",null,null,"Author","Harriet Brundle",null,null,null,null,"U",null,"Years 9 - 11","Grade 5","Grade 4 - 6","Can you imagine if your house, neighborhood, or town was destroyed? The dangers of climate change threaten the habitats of living things all over the world. In this age-appropriate text, readers learn about habitat destruction, its impact on Earth, and what humans can do to minimize it. The text is filled with educational facts and striking full-color photographs to enhance young learners’ knowledge of climate change while supporting science curriculum topics. Readers will have a better idea of how to be environmentally responsible and work toward helping end habitat destruction.","English",27.25,21.8,"639.9'2--dc23","32 pp.",{"$f":"Table1[[#This Row],['# of Books]]*Table1[[#This Row],[QTY]]","v":0},{"$f":"Table1[[#This Row],[QTY]]*Table1[[#This Row],[School & Library Price]]","v":0}]
[null,null,null,16,"Science & Technology","Climate Change: Our Impact on Earth","Pollution","978-1-5345-2445-3","KidHaven Publishing","Library Bound Book",1,2018,"January 2018","Library","8.500 X 11.00","Author","Harriet Brundle",null,null,null,null,"U",null,"Years 9 - 11","Grade 5","Grade 4 - 6","The dangers of pollution cannot be ignored. Most of us know what it’s like to breathe in fresh air, but what if our air was filled with contaminants? Air pollution is just one type of pollution readers learn about as they explore this essential ecological topic. Other forms of pollution include noise, heat, and light. Through main text that supports current science curricula, readers are informed about the different kinds of pollution, how pollution and climate change are linked, and how young people can reduce pollution in their daily lives. The text is supplemented with vibrant, full-color photographs.","English",27.25,21.8,"363.73--dc23","32 pp.",{"$f":"Table1[[#This Row],['# of Books]]*Table1[[#This Row],[QTY]]","v":0},{"$f":"Table1[[#This Row],[QTY]]*Table1[[#This Row],[School & Library Price]]","v":0}]
[null,null,null,16,"Science & Technology","Climate Change: Our Impact on Earth","Renewable Energy","978-1-5345-2448-4","KidHaven Publishing","eBook",1,2018,"January 2018",null,null,"Author","Harriet Brundle",null,null,null,null,"U",null,"Years 9 - 11","Grade 5","Grade 4 - 6","What is renewable energy? Why is using it good for the earth? Questions such as these are answered in this stimulating text supporting an essential elementary science curriculum topic. Young readers learn renewable energy is generated from renewable natural resources, including sunlight, wind, rain, tides, and geothermal heat. This accessible text also delves into how young people can make simple changes in their lives to help fight climate change by using forms of renewable energy. Full-color photographs alongside the text give readers a clear understanding of what renewable energy is and what it looks like in the world around us.","English",27.25,21.8,"333.79'4--dc23","32 pp.",{"$f":"Table1[[#This Row],['# of Books]]*Table1[[#This Row],[QTY]]","v":0},{"$f":"Table1[[#This Row],[QTY]]*Table1[[#This Row],[School & Library Price]]","v":0}]
[null,97,null,17,"Math","First Math (Aug '17 Set)","First Math (Aug '17 Set)","978-1-5345-2202-2","KidHaven Publishing","eBook Set",4,2018,"August 2017",null,null," "," ",null,null,null,null,null,null,"Years 4 - 6","Grade K","Grade Pre-K - 1","The reinforcement of basic math skills is essential for readers of all ages, but it is especially vital for early learners. This group of readers benefits from the use of simple language and familiar visuals to present beginning math lessons. With each turn of the page, readers explore essential math curriculum concepts, such as shapes, measuring, counting, and patterns. These concepts are introduced through bright, full-color photographs and accessible corresponding text. Young readers will enjoy these first math lessons, developing a sense of enthusiasm for this subject that they can carry with them throughout their lives.","English",98.4,78.72,null,"24 pp.",{"$f":"Table1[[#This Row],['# of Books]]*Table1[[#This Row],[QTY]]","v":0},{"$f":"Table1[[#This Row],[QTY]]*Table1[[#This Row],[School & Library Price]]","v":0}]
[null,97,null,17,"Math","First Math","Measuring","978-1-5345-2191-9","KidHaven Publishing","Library Bound Book",1,2018,"August 2017","Library","11.00 X 8.500","Author","Joanna Brundle",null,null,null,null,"A",null,"Years 4 - 6","Grade K","Grade Pre-K - 1","Measuring is a challenging math skill, but it is also an important one. Early learners are introduced to basic measurement concepts that they can explore on their own or with an adult. Simple, clear text explains different units of measurement, supporting essential math curriculum topics. Familiar examples presented with full-color photographs help readers understand how to apply what they have learned in the world around them. Young readers will become measuring masters in no time thanks to these engaging and relatable examples.","English",24.6,19.68,"530.8--dc23","24 pp.",{"$f":"Table1[[#This Row],['# of Books]]*Table1[[#This Row],[QTY]]","v":0},{"$f":"Table1[[#This Row],[QTY]]*Table1[[#This Row],[School & Library Price]]","v":0}]
[null,97,null,17,"Math","First Math","Patterns","978-1-5345-2188-9","KidHaven Publishing","eBook",1,2018,"August 2017",null,null,"Author","Joanna Brundle",null,null,null,null,"A",null,"Years 4 - 6","Grade K","Grade Pre-K - 1","What comes next? This is a common question when dealing with patterns, and readers learn how to find out the answer as they explore fresh and fun examples of patterns. Age-appropriate text is presented in a simple way, allowing early learners to discover this essential information independently or with an adult’s assistance. Vibrant photographs fill each page, making this common math curriculum topic enjoyable for young readers. With each turn of the page and each colorful and creative pattern, early learners will discover that math can be engaging and fun.","English",24.6,19.68,"516.15--dc23","24 pp.",{"$f":"Table1[[#This Row],['# of Books]]*Table1[[#This Row],[QTY]]","v":0},{"$f":"Table1[[#This Row],[QTY]]*Table1[[#This Row],[School & Library Price]]","v":0}]
[null,null,null,18,"Social Studies","World Adventures","Australia","978-1-5345-2406-4","KidHaven Publishing","Library Bound Book",1,2018,"January 2018","Library","8.500 X 8.500","Author","Steffi Cavell-Clarke",null,null,null,null,"H",null,"Years 5 - 8","Grade 1 - 2","Grade K - 3","Are there kangaroos in Australia? Is Australia surrounded by water? What’s the Great Barrier Reef? Questions such as these are answered in this compelling text about the country of Australia. This accessible main text, which aligns with current social studies curricula, deepens readers’ understanding of this country’s geography, landmarks, and rich culture. Additional information is presented in enlightening fact boxes and maps. Bold, full-color photographs also help young learners visualize what everyday life looks like in Australia.","English",24.6,19.68,"994--dc23","24 pp.",{"$f":"Table1[[#This Row],['# of Books]]*Table1[[#This Row],[QTY]]","v":0},{"$f":"Table1[[#This Row],[QTY]]*Table1[[#This Row],[School & Library Price]]","v":0}]
[null,null,null,18,"Social Studies","World Adventures","China","978-1-5345-2404-0","KidHaven Publishing","eBook",1,2018,"January 2018",null,null,"Author","Steffi Cavell-Clarke",null,null,null,null,"H",null,"Years 5 - 8","Grade 1 - 2","Grade K - 3","The Great Wall of China and Mount Everest are two of China’s most popular landmarks. Attractions such as these are explored in this captivating text designed to expose readers to everyday life in this Asian country. The main text, which supports common social studies curriculum topics and encourages a deeper appreciation of different cultures, touches upon the country’s geography, weather, food, and other interesting aspects of China’s culture. Educational fact boxes, maps, and striking, full-color photographs are included to provide additional information and enhance readers’ knowledge of China.","English",24.6,19.68,"951--dc23","24 pp.",{"$f":"Table1[[#This Row],['# of Books]]*Table1[[#This Row],[QTY]]","v":0},{"$f":"Table1[[#This Row],[QTY]]*Table1[[#This Row],[School & Library Price]]","v":0}]
[null,null,null,18,"Social Studies","World Adventures","Germany","978-1-5345-2408-8","KidHaven Publishing","Library Bound Book",1,2018,"January 2018","Library","8.500 X 8.500","Author","Emma Calway",null,null,null,null,"H",null,"Years 5 - 8","Grade 1 - 2","Grade K - 3","Young readers are introduced to life in Germany in this informative book, which supports important social studies curriculum topics. This country’s landscape consists of forests, rivers, and mountain ranges. There are also heavily populated metropolis cities, such as Berlin, Hamburg, and Munich, which readers journey to through this clear text. Other topics they explore include Germany’s landmarks, food, language, and culture. Educational fact boxes, maps, and vivid, full-color photographs provide young learners with additional information about this European country, helping them develop a deeper sense of appreciation for the world beyond their own backyard.","English",24.6,19.68,"943--dc23","24 pp.",{"$f":"Table1[[#This Row],['# of Books]]*Table1[[#This Row],[QTY]]","v":0},{"$f":"Table1[[#This Row],[QTY]]*Table1[[#This Row],[School & Library Price]]","v":0}]
[null,null,null,18,"Social Studies","World Adventures","Germany","978-1-5345-2409-5","KidHaven Publishing","eBook",1,2018,"January 2018",null,null,"Author","Emma Calway",null,null,null,null,"H",null,"Years 5 - 8","Grade 1 - 2","Grade K - 3","Young readers are introduced to life in Germany in this informative book, which supports important social studies curriculum topics. This country’s landscape consists of forests, rivers, and mountain ranges. There are also heavily populated metropolis cities, such as Berlin, Hamburg, and Munich, which readers journey to through this clear text. Other topics they explore include Germany’s landmarks, food, language, and culture. Educational fact boxes, maps, and vivid, full-color photographs provide young learners with additional information about this European country, helping them develop a deeper sense of appreciation for the world beyond their own backyard.","English",24.6,19.68,"943--dc23","24 pp.",{"$f":"Table1[[#This Row],['# of Books]]*Table1[[#This Row],[QTY]]","v":0},{"$f":"Table1[[#This Row],[QTY]]*Table1[[#This Row],[School & Library Price]]","v":0}]
[null,null,null,18,"Social Studies","World Adventures","Mexico","978-1-5345-2459-0","KidHaven Publishing","Library Bound Book",1,2018,"January 2018","Library","8.500 X 8.500","Author","Steffi Cavell-Clarke",null,null,null,null,"H",null,"Years 5 - 8","Grade 1 - 2","Grade K - 3","Readers are transported to Mexico to learn about the country’s geography, landmarks, weather, clothing, food, and rich culture in this engaging text aligned with common social studies curriculum topics. The age-appropriate main text encourages young learners to appreciate diversity and have respect for all cultures. Informative fact boxes, maps, and bold, full-color photographs are included to help enhance readers’ knowledge about this North American country and what everyday life is like there.","English",24.6,19.68,"972--dc23","24 pp.",{"$f":"Table1[[#This Row],['# of Books]]*Table1[[#This Row],[QTY]]","v":0},{"$f":"Table1[[#This Row],[QTY]]*Table1[[#This Row],[School & Library Price]]","v":0}]
[null,null,null,18,"Social Studies","World Adventures","World Adventures: Set 2 (Coming Aug 2018)","978-1-5345-2747-8","KidHaven Publishing","eBook Set",6,2019,"August 2018",null,null," "," ",null,null,null,null,null,null,"Years 5 - 8","Grade 1 - 2","Grade K - 3","Readers take an exhilarating journey around the world as they learn about life in various countries, such as Canada, Russia, South Korea, and the United States. Through all of these books, they will deepen their knowledge of current social studies curriculum topics, which include the culture, famous landmarks, and geography of these countries. Readers will also be exposed to the everyday lives of people around the world and the diversity of their ways of life. The informative main text is presented alongside engaging fact boxes, vibrant full-color photographs, and useful maps. Features include: Text encourages readers to be more open-minded and curious about other cultures. Full-color photographs and maps provide readers with a clear picture of what other countries look like. Simple, clear text is accessible to a variety of reading levels.","English",147.6,118.08,null,"24 pp.",{"$f":"Table1[[#This Row],['# of Books]]*Table1[[#This Row],[QTY]]","v":0},{"$f":"Table1[[#This Row],[QTY]]*Table1[[#This Row],[School & Library Price]]","v":0}]
[null,null,null,18,"Social Studies","World Adventures","England","978-1-5345-2611-2","KidHaven Publishing","Library Bound Book",1,2019,"August 2018","Library","8.500 X 8.500","Author","Steffi Cavell-Clarke",null,null,null,null,"H",null,"Years 5 - 8","Grade 1 - 2","Grade K - 3","Stonehenge and the Tower of London are two of the most popular landmarks in England. Attractions such as these are explored in this exciting new text designed to expose readers to everyday life in this European country. Some of the topics covered in the main text, which align with current social studies curricula, include famous landmarks, geography, traditions, and weather. Captivating, full-color photographs, informative fact boxes and maps, and a detailed glossary provide additional information on the subject and help readers visualize what it's like to live in England.","English",24.6,19.68,"942--dc23","24 pp.",{"$f":"Table1[[#This Row],['# of Books]]*Table1[[#This Row],[QTY]]","v":0},{"$f":"Table1[[#This Row],[QTY]]*Table1[[#This Row],[School & Library Price]]","v":0}]
[null,null,null,18,"Social Studies","World Adventures","Russia","978-1-5345-2618-1","KidHaven Publishing","eBook",1,2019,"August 2018",null,null,"Author","Harriet Brundle",null,null,null,null,"H",null,"Years 5 - 8","Grade 1 - 2","Grade K - 3","Young readers are introduced to life in Russia in this informative text, which supports current social studies curriculum topics and encourages a more thorough understanding of global diversity. The accessible main text, which includes an inside look at this country's geography, weather, famous landmarks, and customs, allows readers to develop a deeper appreciation for other cultures. Educational fact boxes and maps, eye-catching, full-color photographs, and an informative glossary provide additional insight into what it's like to live an everyday life in the country of Russia.","English",24.6,19.68,"947--dc23","24 pp.",{"$f":"Table1[[#This Row],['# of Books]]*Table1[[#This Row],[QTY]]","v":0},{"$f":"Table1[[#This Row],[QTY]]*Table1[[#This Row],[School & Library Price]]","v":0}]
[null,null,null,18,"Social Studies","World Adventures","Spain","978-1-5345-2626-6","KidHaven Publishing","eBook",1,2019,"August 2018",null,null,"Author","Steffi Cavell-Clarke",null,null,null,null,"H",null,"Years 5 - 8","Grade 1 - 2","Grade K - 3","Young readers jet off to Spain in this exciting new text. In doing so, they learn about many unique aspects of this European country. Readers expand their knowledge of current social studies curriculum topics as they explore the country's famous landmarks, weather, geography, culture, and traditions. Vivid, full-color photographs, educational fact boxes, colorful maps, and a helpful glossary give additional insight into this exciting topic. This engaging and accessible look at life in Spain helps readers broaden their understanding of and appreciation for other cultures.","English",24.6,19.68,"946--dc23","24 pp.",{"$f":"Table1[[#This Row],['# of Books]]*Table1[[#This Row],[QTY]]","v":0},{"$f":"Table1[[#This Row],[QTY]]*Table1[[#This Row],[School & Library Price]]","v":0}]
[null,7,null,null,"Current Issues","Opposing Viewpoints","Abortion","978-0-7377-6939-5","Greenhaven Publishing","Library Bound Book",1,2014,null,"Library Bound","6.000 X 9.000","Author","Noël Merino",null,null,null,null,null,null,"Years 15 - 17",null,"Grade 10 - 12","OPPOSING VIEWPOINTS: ABORTION explores issues surrounding abortion including whether abortion is immoral, how Roe v. Wade has impacted abortion, should abortion rights be restricted, and other concerns about abortion. The viewpoints are selected from a wide range of highly respected and often hard-to-find sources and publications. By choosing from such diverse sources and including both popular and unpopular views, the OPPOSING VIEWPOINTS series has adhered to its commitment to editorial objectivity. Readers are exposed to many sides of a debate, which promotes issue awareness as well as critical thinking.","English",48.8,39.04,"363","192 pp.",{"$f":"Table1[[#This Row],['# of Books]]*Table1[[#This Row],[QTY]]","v":0},{"$f":"Table1[[#This Row],[QTY]]*Table1[[#This Row],[School & Library Price]]","v":0}]
[null,7,null,null,"Current Issues","Opposing Viewpoints","Abortion","978-0-7377-6940-1","Greenhaven Publishing","Paperback Book",1,2014,null,"Paperback","6.000 X 9.000","Author","Noël Merino",null,null,null,null,null,null,"Years 15 - 17",null,"Grade 10 - 12","OPPOSING VIEWPOINTS: ABORTION explores issues surrounding abortion including whether abortion is immoral, how Roe v. Wade has impacted abortion, should abortion rights be restricted, and other concerns about abortion. The viewpoints are selected from a wide range of highly respected and often hard-to-find sources and publications. By choosing from such diverse sources and including both popular and unpopular views, the OPPOSING VIEWPOINTS series has adhered to its commitment to editorial objectivity. Readers are exposed to many sides of a debate, which promotes issue awareness as well as critical thinking.","English",33.799999999999898,27.039999999999921,"363","188 pp.",{"$f":"Table1[[#This Row],['# of Books]]*Table1[[#This Row],[QTY]]","v":0},{"$f":"Table1[[#This Row],[QTY]]*Table1[[#This Row],[School & Library Price]]","v":0}]
[null,7,null,null,"Current Issues","Opposing Viewpoints","Advertising","978-0-7377-4751-5","Greenhaven Publishing","Library Bound Book",1,2010,null,"Library Bound","6.000 X 9.000","Author","Roman Espejo",null,null,null,null,null,null,"Years 15 - 17",null,"Grade 10 - 12","This volume explores different perspectives on the pervasiveness and content of advertising. Chapters address the impact of sexism in advertising and cause marketing; the potential for exploitation of children; the rise in both spending and negativity in political ads and the potential for reform; and the future of advertising with the use of new outlets like the internet and product placement.","English",48.8,39.04,"659","208 pp.",{"$f":"Table1[[#This Row],['# of Books]]*Table1[[#This Row],[QTY]]","v":0},{"$f":"Table1[[#This Row],[QTY]]*Table1[[#This Row],[School & Library Price]]","v":0}]
[null,7,null,null,"Current Issues","Opposing Viewpoints","Afghanistan","978-0-7377-7243-2","Greenhaven Publishing","Paperback Book",1,2015,null,"Paperback","6.000 X 9.000","Author"," Greenhaven Press",null,null,null,null,null,null,"Years 15 - 17",null,"Grade 10 - 12","OPPOSING VIEWPOINTS: AFGHANISTAN examines security issues in Afghanistan; issues that confront Afghan democracy; economic issues in Afghanistan; and the human rights situation in Afghanistan.","English",33.799999999999898,27.039999999999921,"958","236 pp.",{"$f":"Table1[[#This Row],['# of Books]]*Table1[[#This Row],[QTY]]","v":0},{"$f":"Table1[[#This Row],[QTY]]*Table1[[#This Row],[School & Library Price]]","v":0}]
[null,7,null,null,"Current Issues","Opposing Viewpoints","Agricultural Subsidies","978-0-7377-4501-6","Greenhaven Publishing","Paperback Book",1,2010,null,"Paperback","6.000 X 9.000","Author","Noël Merino",null,null,null,null,null,null,"Years 15 - 17",null,"Grade 10 - 12",null,"English",33.799999999999898,27.039999999999921,"338","240 pp.",{"$f":"Table1[[#This Row],['# of Books]]*Table1[[#This Row],[QTY]]","v":0},{"$f":"Table1[[#This Row],[QTY]]*Table1[[#This Row],[School & Library Price]]","v":0}]
[null,7,null,null,"Current Issues","Opposing Viewpoints","Alcohol","978-0-7377-3734-9","Greenhaven Publishing","Paperback Book",1,2008,null,"Paperback","6.000 X 9.000","Author","Andrea C. Nakaya",null,null,null,null,null,null,"Years 15 - 17",null,"Grade 10 - 12",null,"English",33.799999999999898,27.039999999999921,"362.292","219 pp.",{"$f":"Table1[[#This Row],['# of Books]]*Table1[[#This Row],[QTY]]","v":0},{"$f":"Table1[[#This Row],[QTY]]*Table1[[#This Row],[School & Library Price]]","v":0}]
[null,7,null,null,"Current Issues","Opposing Viewpoints","Alternative Medicine","978-0-7377-5438-4","Greenhaven Publishing","Library Bound Book",1,2012,null,"Library Bound","6.000 X 9.000","Author","Lynn M. Zott",null,null,null,null,null,null,"Years 15 - 17",null,"Grade 10 - 12","This title explores the effectiveness of alternative medicines such as homeopathic medicine, acupuncture, and chelation therapy, reasons for the popularity of alternative medicines, whether alternative and conventional medicine can work together, and government’s role in researching and regulating alternative medicines.","English",48.8,39.04,"615","264 pp.",{"$f":"Table1[[#This Row],['# of Books]]*Table1[[#This Row],[QTY]]","v":0},{"$f":"Table1[[#This Row],[QTY]]*Table1[[#This Row],[School & Library Price]]","v":0}]
[null,7,null,null,"Current Issues","Opposing Viewpoints","America's Global Influence","978-0-7377-5707-1","Greenhaven Publishing","Library Bound Book",1,2012,null,"Library Bound","6.000 X 9.000","Author","Noël Merino",null,null,null,null,null,null,"Years 15 - 17",null,"Grade 10 - 12",null,"English",48.8,39.04,"303","240 pp.",{"$f":"Table1[[#This Row],['# of Books]]*Table1[[#This Row],[QTY]]","v":0},{"$f":"Table1[[#This Row],[QTY]]*Table1[[#This Row],[School & Library Price]]","v":0}]
[null,7,null,null,"Current Issues","Opposing Viewpoints","Americas Prisons","978-0-7377-7537-2","Greenhaven Publishing","Paperback Book",1,2016,null,"Paperback","6.000 X 9.000","Author","Jack Lasky",null,null,null,null,null,null,"Years 15 - 17",null,"Grade 10 - 12","This title addresses controversies related to America's prisons including: What problems do America's prisons face? Who is in America's prisons? Are prisoners treated humanely? Do prison alternatives work?","English",33.799999999999898,27.039999999999921,"365","202 pp.",{"$f":"Table1[[#This Row],['# of Books]]*Table1[[#This Row],[QTY]]","v":0},{"$f":"Table1[[#This Row],[QTY]]*Table1[[#This Row],[School & Library Price]]","v":0}]
[null,7,null,null,"Current Issues","Opposing Viewpoints","America's Youth","978-0-7377-3735-6","Greenhaven Publishing","Library Bound Book",1,2008,null,"Library Bound","6.000 X 9.000","Author","Jamuna Carroll",null,null,null,null,null,null,"Years 15 - 17",null,"Grade 10 - 12",null,"English",48.8,39.04,"305","232 pp.",{"$f":"Table1[[#This Row],['# of Books]]*Table1[[#This Row],[QTY]]","v":0},{"$f":"Table1[[#This Row],[QTY]]*Table1[[#This Row],[School & Library Price]]","v":0}]
[null,7,null,null,"Current Issues","Opposing Viewpoints","Antibiotics","978-0-7377-5210-6","Greenhaven Publishing","Paperback Book",1,2011,null,"Paperback","6.000 X 9.000","Author","Noah Berlatsky",null,null,null,null,null,null,"Years 15 - 17",null,"Grade 10 - 12","Antibiotics explores issues related to the prescription of antibiotics, including the dangers of overprescribing as well as underprescribing. In addition, it covers the drawbacks and potential benefits of buying antibiotics without a prescription, and presents the best ways to use antibiotics to combat disease. This volume also examines health dangers and benefits related to using antibiotics and looks at acceptable uses of antibiotics in agriculture and its potential impact on crops, animals, and humans.","English",33.799999999999898,27.039999999999921,"615","224 pp.",{"$f":"Table1[[#This Row],['# of Books]]*Table1[[#This Row],[QTY]]","v":0},{"$f":"Table1[[#This Row],[QTY]]*Table1[[#This Row],[School & Library Price]]","v":0}]
[null,7,null,null,"Current Issues","Opposing Viewpoints","Artificial Intelligence","978-0-7377-5710-1","Greenhaven Publishing","Paperback Book",1,2011,null,"Paperback","6.000 X 9.000","Author","Noah Berlatsky",null,null,null,null,null,null,"Years 15 - 17",null,"Grade 10 - 12",null,"English",33.799999999999898,27.039999999999921,"006","256 pp.",{"$f":"Table1[[#This Row],['# of Books]]*Table1[[#This Row],[QTY]]","v":0},{"$f":"Table1[[#This Row],[QTY]]*Table1[[#This Row],[School & Library Price]]","v":0}]
[null,7,null,null,"Current Issues","Opposing Viewpoints","Behavioral Disorders","978-0-7377-6950-0","Greenhaven Publishing","Paperback Book",1,2014,null,"Paperback","6.000 X 9.000","Author","Roman Espejo",null,null,null,null,null,null,"Years 15 - 17",null,"Grade 10 - 12","This title explores behavioral disorders, including: are behavioral disorders a serious problem; contributing factors to behavioral disorders; treatment of behavioral disorders; policies that best address the challenges of behavioral disorders. The viewpoints are selected from a wide range of highly respected and often hard-to-find sources and publications. By choosing from such diverse sources and including both popular and unpopular views, the OPPOSING VIEWPOINTS series has adhered to its commitment to editorial objectivity. Readers are exposed to many sides of a debate, which promotes issue awareness as well as critical thinking.","English",33.799999999999898,27.039999999999921,"618","226 pp.",{"$f":"Table1[[#This Row],['# of Books]]*Table1[[#This Row],[QTY]]","v":0},{"$f":"Table1[[#This Row],[QTY]]*Table1[[#This Row],[School & Library Price]]","v":0}]
[null,7,null,null,"Current Issues","Opposing Viewpoints","Biomedical Ethics","978-0-7377-3738-7","Greenhaven Publishing","Paperback Book",1,2008,null,"Paperback","6.000 X 9.000","Author","Viqi Wagner",null,null,null,null,null,null,"Years 15 - 17",null,"Grade 10 - 12",null,"English",33.799999999999898,27.039999999999921,"174","256 pp.",{"$f":"Table1[[#This Row],['# of Books]]*Table1[[#This Row],[QTY]]","v":0},{"$f":"Table1[[#This Row],[QTY]]*Table1[[#This Row],[School & Library Price]]","v":0}]
[null,7,null,null,"Current Issues","Opposing Viewpoints","Birth Control","978-0-7377-7506-8","Greenhaven Publishing","Library Bound Book",1,2016,null,"Library Bound","6.000 X 9.000","Author","Jack Lasky",null,null,null,null,null,null,"Years 15 - 17",null,"Grade 10 - 12","This title in the Opposing Viewpoints series explores the societal consequences of birth control, what concerns birth control raises, who should have access to birth control, and what is the effect of the Affordable Care Act on birth control.","English",48.8,39.04,"363","203 pp.",{"$f":"Table1[[#This Row],['# of Books]]*Table1[[#This Row],[QTY]]","v":0},{"$f":"Table1[[#This Row],[QTY]]*Table1[[#This Row],[School & Library Price]]","v":0}]
[null,7,null,null,"Current Issues","Opposing Viewpoints","Breast Cancer","978-0-7377-7550-1","Greenhaven Publishing","Library Bound Book",1,2016,null,"Library Bound","6.000 X 9.000","Author","Dedria Bryfonski",null,null,null,null,null,null,"Years 15 - 17",null,"Grade 10 - 12","This title addresses controversies related to Breast Cancer including: Do annual mammograms save lives? Does preventative mastectomy save lives? Does abortion increase the risk of breast cancer? Has breast cancer awareness become commercialized?","English",48.8,39.04,"362","199 pp.",{"$f":"Table1[[#This Row],['# of Books]]*Table1[[#This Row],[QTY]]","v":0},{"$f":"Table1[[#This Row],[QTY]]*Table1[[#This Row],[School & Library Price]]","v":0}]
[null,7,null,null,"Current Issues","Opposing Viewpoints","Canada","978-0-7377-5212-0","Greenhaven Publishing","Paperback Book",1,2011,null,"Paperback","6.000 X 9.000","Author","Margaret Haerens",null,null,null,null,null,null,"Years 15 - 17",null,"Grade 10 - 12",null,"English",33.799999999999898,27.039999999999921,"971","272 pp.",{"$f":"Table1[[#This Row],['# of Books]]*Table1[[#This Row],[QTY]]","v":0},{"$f":"Table1[[#This Row],[QTY]]*Table1[[#This Row],[School & Library Price]]","v":0}]
[null,7,null,null,"Current Issues","Opposing Viewpoints","Cars in America","978-0-7377-4759-1","Greenhaven Publishing","Library Bound Book",1,2010,null,"Library Bound","6.000 X 9.000","Author","Roman Espejo",null,null,null,null,null,null,"Years 15 - 17",null,"Grade 10 - 12",null,"English",48.8,39.04,"303","184 pp.",{"$f":"Table1[[#This Row],['# of Books]]*Table1[[#This Row],[QTY]]","v":0},{"$f":"Table1[[#This Row],[QTY]]*Table1[[#This Row],[School & Library Price]]","v":0}]
[null,7,null,null,"Current Issues","Opposing Viewpoints","Charter Schools","978-0-7377-5443-8","Greenhaven Publishing","Paperback Book",1,2012,null,"Paperback","6.000 X 9.000","Author","Mitchell Young",null,null,null,null,null,null,"Years 15 - 17",null,"Grade 10 - 12","This addition to the popular OPPOSING VIEWPOINTS series discusses the topic of charter schools. Through the use of carefully selected articles, pulled from a variety of sources, this text addresses whether charter schools are good alternatives to public schools, whether religious charter schools are a viable choice, whether online charter schools work, and how charter schools can be improved.","English",33.799999999999898,27.039999999999921,"371","248 pp.",{"$f":"Table1[[#This Row],['# of Books]]*Table1[[#This Row],[QTY]]","v":0},{"$f":"Table1[[#This Row],[QTY]]*Table1[[#This Row],[School & Library Price]]","v":0}]
[null,7,null,null,"Current Issues","Opposing Viewpoints","Chemical Dependency","978-0-7377-5215-1","Greenhaven Publishing","Library Bound Book",1,2011,null,"Library Bound","6.000 X 9.000","Author","Roman Espejo",null,null,null,null,null,null,"Years 15 - 17",null,"Grade 10 - 12",null,"English",48.8,39.04,"362","216 pp.",{"$f":"Table1[[#This Row],['# of Books]]*Table1[[#This Row],[QTY]]","v":0},{"$f":"Table1[[#This Row],[QTY]]*Table1[[#This Row],[School & Library Price]]","v":0}]
[null,7,null,null,"Current Issues","Opposing Viewpoints","Child Custody","978-0-7377-5217-5","Greenhaven Publishing","Library Bound Book",1,2011,null,"Library Bound","6.000 X 9.000","Author","Dedria Bryfonski",null,null,null,null,null,null,"Years 15 - 17",null,"Grade 10 - 12",null,"English",48.8,39.04,"306","240 pp.",{"$f":"Table1[[#This Row],['# of Books]]*Table1[[#This Row],[QTY]]","v":0},{"$f":"Table1[[#This Row],[QTY]]*Table1[[#This Row],[School & Library Price]]","v":0}]
[null,7,null,null,"Current Issues","Opposing Viewpoints","Childbirth","978-0-7377-4197-1","Greenhaven Publishing","Paperback Book",1,2009,null,"Paperback","6.000 X 9.000","Author","Christina Fisanick",null,null,null,null,null,null,"Years 15 - 17",null,"Grade 10 - 12",null,"English",33.799999999999898,27.039999999999921,"618","233 pp.",{"$f":"Table1[[#This Row],['# of Books]]*Table1[[#This Row],[QTY]]","v":0},{"$f":"Table1[[#This Row],[QTY]]*Table1[[#This Row],[School & Library Price]]","v":0}]
[null,8,null,null,"Current Issues","Opposing Viewpoints","China","978-0-7377-4766-9","Greenhaven Publishing","Paperback Book",1,2010,null,"Paperback","6.000 X 9.000","Author","Noah Berlatsky",null,null,null,null,null,null,"Years 15 - 17",null,"Grade 10 - 12","Explores the status of human rights and democracy in China, as well as China's economy and its potential as a military threat. Issues discussed include the global recession, trade imbalances, intellectual property piracy, nuclear nonproliferation, Taiwan and North Korea. Also looks at how China is addressing environmental concerns in the region.","English",33.799999999999898,27.039999999999921,"951","216 pp.",{"$f":"Table1[[#This Row],['# of Books]]*Table1[[#This Row],[QTY]]","v":0},{"$f":"Table1[[#This Row],[QTY]]*Table1[[#This Row],[School & Library Price]]","v":0}]
[null,8,null,null,"Current Issues","Opposing Viewpoints","Civil Liberties","978-0-7377-6305-8","Greenhaven Publishing","Paperback Book",1,2013,null,"Paperback","6.000 X 9.000","Author","Noël Merino",null,null,null,null,null,null,"Years 15 - 17",null,"Grade 10 - 12","This title in the Opposing Viewpoints series explores the controversial topic of civil liberties by placing expert opinions in a unique pro/con format. The viewpoints are selected from a wide range of highly respected and often hard-to-find sources and publications. By choosing from such diverse sources and including both popular and unpopular views, the Opposing Viewpoints series has adhered to its commitment to editorial objectivity. Readers are exposed to many sides of a debate, which promotes issue awareness as well as critical thinking.","English",33.799999999999898,27.039999999999921,"323","250 pp.",{"$f":"Table1[[#This Row],['# of Books]]*Table1[[#This Row],[QTY]]","v":0},{"$f":"Table1[[#This Row],[QTY]]*Table1[[#This Row],[School & Library Price]]","v":0}]
[null,8,null,null,"Current Issues","Opposing Viewpoints","Coal","978-0-7377-5715-6","Greenhaven Publishing","Library Bound Book",1,2011,null,"Library Bound","6.000 X 9.000","Author","Roman Espejo",null,null,null,null,null,null,"Years 15 - 17",null,"Grade 10 - 12",null,"English",48.8,39.04,"333","208 pp.",{"$f":"Table1[[#This Row],['# of Books]]*Table1[[#This Row],[QTY]]","v":0},{"$f":"Table1[[#This Row],[QTY]]*Table1[[#This Row],[School & Library Price]]","v":0}]
[null,8,null,null,"Current Issues","Opposing Viewpoints","Coal","978-0-7377-5716-3","Greenhaven Publishing","Paperback Book",1,2011,null,"Paperback","6.000 X 9.000","Author","Roman Espejo",null,null,null,null,null,null,"Years 15 - 17",null,"Grade 10 - 12",null,"English",33.799999999999898,27.039999999999921,"333","208 pp.",{"$f":"Table1[[#This Row],['# of Books]]*Table1[[#This Row],[QTY]]","v":0},{"$f":"Table1[[#This Row],[QTY]]*Table1[[#This Row],[School & Library Price]]","v":0}]
[null,8,null,null,"Current Issues","Opposing Viewpoints","Conflict Resolution","978-0-7377-3992-3","Greenhaven Publishing","Library Bound Book",1,2008,null,"Library Bound","6.000 X 9.000","Author","Tom Lansford",null,null,null,null,null,null,"Years 15 - 17",null,"Grade 10 - 12",null,"English",48.8,39.04,"303","232 pp.",{"$f":"Table1[[#This Row],['# of Books]]*Table1[[#This Row],[QTY]]","v":0},{"$f":"Table1[[#This Row],[QTY]]*Table1[[#This Row],[School & Library Price]]","v":0}]
[null,8,null,null,"Current Issues","Opposing Viewpoints","Congressional Ethics","978-0-7377-6047-7","Greenhaven Publishing","Paperback Book",1,2013,null,"Paperback","6.000 X 9.000","Author","Joe Tardiff",null,null,null,null,null,null,"Years 15 - 17",null,"Grade 10 - 12","This title explores congressional ethics by placing expert opinions in a unique pro/con format. The viewpoints are selected from a wide range of highly respected and often hard-to-find sources and publications. By choosing from such diverse sources and including both popular and unpopular views, the OPPOSING VIEWPOINTS editorial team has adhered to its commitment to editorial objectivity. Readers are exposed to many sides of a debate, which promotes issue awareness as well as critical thinking.","English",33.799999999999898,27.039999999999921,"172","248 pp.",{"$f":"Table1[[#This Row],['# of Books]]*Table1[[#This Row],[QTY]]","v":0},{"$f":"Table1[[#This Row],[QTY]]*Table1[[#This Row],[School & Library Price]]","v":0}]
[null,8,null,null,"Current Issues","Opposing Viewpoints","Copyright Infringement","978-0-7377-6651-6","Greenhaven Publishing","Paperback Book",1,2014,null,"Paperback","6.000 X 9.000","Author","Carol Ullmann",null,null,null,null,null,null,"Years 15 - 17",null,"Grade 10 - 12","This title explores copyright infringement, including: what constitutes copyright infringement; the economic impact of copyright infringement; is copyright law effective; how does technology affect copyright infringement. The viewpoints are selected from a wide range of highly respected and often hard-to-find sources and publications. By choosing from such diverse sources and including both popular and unpopular views, the OPPOSING VIEWPOINTS editorial team has adhered to its commitment to editorial objectivity. Readers are exposed to many sides of a debate, which promotes issue awareness as well as critical thinking.","English",33.799999999999898,27.039999999999921,"346","248 pp.",{"$f":"Table1[[#This Row],['# of Books]]*Table1[[#This Row],[QTY]]","v":0},{"$f":"Table1[[#This Row],[QTY]]*Table1[[#This Row],[School & Library Price]]","v":0}]
[null,8,null,null,"Current Issues","Opposing Viewpoints","Cosmetic Surgery","978-0-7377-4958-8","Greenhaven Publishing","Library Bound Book",1,2011,null,"Library Bound","6.000 X 9.000","Author","Roman Espejo",null,null,null,null,null,null,"Years 15 - 17",null,"Grade 10 - 12","This volume explores the potential benefits and consequences of cosmetic surgery: Does it improve self-esteem? Is it dangerous? Also covered are problems facing the cosmetic surgery industry, such as so-called cosmetic tourism, the safety of medical spas, and issues of cosmetic surgery regulation. Cosmetic Surgery examines the increase in social pressure to have cosmetic surgery and what to consider prior to making a decision, as well as the pros and cons of whether or not people should have elective plastic surgery.","English",48.8,39.04,"617","184 pp.",{"$f":"Table1[[#This Row],['# of Books]]*Table1[[#This Row],[QTY]]","v":0},{"$f":"Table1[[#This Row],[QTY]]*Table1[[#This Row],[School & Library Price]]","v":0}]
[null,8,null,null,"Current Issues","Opposing Viewpoints","Criminal Justice","978-0-7377-6306-5","Greenhaven Publishing","Library Bound Book",1,2013,null,"Library Bound","6.000 X 9.000","Author","Noël Merino",null,null,null,null,null,null,"Years 15 - 17",null,"Grade 10 - 12","This title explores whether or not the criminal justice system needs reform, the state of the incarceration system in the US, and if sentencing laws need reform. What rights should be part of the criminal justice system are also explored.","English",48.8,39.04,"364","232 pp.",{"$f":"Table1[[#This Row],['# of Books]]*Table1[[#This Row],[QTY]]","v":0},{"$f":"Table1[[#This Row],[QTY]]*Table1[[#This Row],[School & Library Price]]","v":0}]
[null,8,null,null,"Current Issues","Opposing Viewpoints","Cuba","978-0-7377-6309-6","Greenhaven Publishing","Paperback Book",1,2013,null,"Paperback","6.000 X 9.000","Author","Noah Berlatsky",null,null,null,null,null,null,"Years 15 - 17",null,"Grade 10 - 12","This title in the Opposing Viewpoints series explores the state of Cuba, and the relationship between Cuba and the rest of the world, by placing expert opinions in a unique pro/con format. The viewpoints are selected from a wide range of highly respected and often hard-to-find sources and publications. By choosing from such diverse sources and including both popular and unpopular views, the Opposing Viewpoints series has adhered to its commitment to editorial objectivity. Readers are exposed to many sides of a debate, which promotes issue awareness as well as critical thinking.","English",33.799999999999898,27.039999999999921,"972","218 pp.",{"$f":"Table1[[#This Row],['# of Books]]*Table1[[#This Row],[QTY]]","v":0},{"$f":"Table1[[#This Row],[QTY]]*Table1[[#This Row],[School & Library Price]]","v":0}]
[null,8,null,null,"Current Issues","Opposing Viewpoints","Culture Wars","978-0-7377-3756-1","Greenhaven Publishing","Paperback Book",1,2008,null,"Paperback","6.000 X 9.000","Author","Mitchell Young",null,null,null,null,null,null,"Years 15 - 17",null,"Grade 10 - 12",null,"English",33.799999999999898,27.039999999999921,"174","210 pp.",{"$f":"Table1[[#This Row],['# of Books]]*Table1[[#This Row],[QTY]]","v":0},{"$f":"Table1[[#This Row],[QTY]]*Table1[[#This Row],[School & Library Price]]","v":0}]
[null,8,null,null,"Current Issues","Opposing Viewpoints","Cybercrime","978-0-7377-6312-6","Greenhaven Publishing","Library Bound Book",1,2013,null,"Library Bound","6.000 X 9.000","Author","Louise I. Gerdes",null,null,null,null,null,null,"Years 15 - 17",null,"Grade 10 - 12","This title in the Opposing Viewpoints series explores the problem of cybercrime by placing expert opinions in a unique pro/con format. Includes discussion of the definition of cybercrime and possible solutions. The viewpoints are selected from a wide range of highly respected and often hard-to-find sources and publications. By choosing from such diverse sources and including both popular and unpopular views, the Opposing Viewpoints series has adhered to its commitment to editorial objectivity. Readers are exposed to many sides of a debate, which promotes issue awareness as well as critical thinking.","English",48.8,39.04,"364","248 pp.",{"$f":"Table1[[#This Row],['# of Books]]*Table1[[#This Row],[QTY]]","v":0},{"$f":"Table1[[#This Row],[QTY]]*Table1[[#This Row],[School & Library Price]]","v":0}]
[null,8,null,null,"Current Issues","Opposing Viewpoints","Debt","978-0-7377-4203-9","Greenhaven Publishing","Paperback Book",1,2010,null,"Paperback","6.000 X 9.000","Author","Christina Fisanick",null,null,null,null,null,null,"Years 15 - 17",null,"Grade 10 - 12",null,"English",33.799999999999898,27.039999999999921,"332","200 pp.",{"$f":"Table1[[#This Row],['# of Books]]*Table1[[#This Row],[QTY]]","v":0},{"$f":"Table1[[#This Row],[QTY]]*Table1[[#This Row],[School & Library Price]]","v":0}]
[null,8,null,null,"Current Issues","Opposing Viewpoints","Deregulation","978-0-7377-5109-3","Greenhaven Publishing","Paperback Book",1,2011,null,"Paperback","6.000 X 9.000","Author","Dedria Bryfonski",null,null,null,null,null,null,"Years 15 - 17",null,"Grade 10 - 12",null,"English",33.799999999999898,27.039999999999921,"338","280 pp.",{"$f":"Table1[[#This Row],['# of Books]]*Table1[[#This Row],[QTY]]","v":0},{"$f":"Table1[[#This Row],[QTY]]*Table1[[#This Row],[School & Library Price]]","v":0}]
[null,8,null,null,"Current Issues","Opposing Viewpoints","Dietary Supplements","978-0-7377-6316-4","Greenhaven Publishing","Library Bound Book",1,2014,null,"Library Bound","6.000 X 9.000","Author","Noah Berlatsky",null,null,null,null,null,null,"Years 15 - 17",null,"Grade 10 - 12","This title addresses controversies related to dietary supplements, including: how should dietary supplements be regulated; are vitamin and mineral supplements beneficial; are weight-loss supplements and athletic supplements beneficial; how well do supplements treat different medical conditions. The viewpoints are selected from a wide range of highly respected and often hard-to-find sources and publications. By choosing from such diverse sources and including both popular and unpopular views, the OPPOSING VIEWPOINTS editorial team has adhered to its commitment to editorial objectivity. Readers are exposed to many sides of a debate, which promotes issue awareness as well as critical thinking.","English",48.8,39.04,"613","200 pp.",{"$f":"Table1[[#This Row],['# of Books]]*Table1[[#This Row],[QTY]]","v":0},{"$f":"Table1[[#This Row],[QTY]]*Table1[[#This Row],[School & Library Price]]","v":0}]
[null,8,null,null,"Current Issues","Opposing Viewpoints","Divorce","978-0-7377-4204-6","Greenhaven Publishing","Library Bound Book",1,2009,null,"Library Bound","6.000 X 9.000","Author","Mike Wilson",null,null,null,null,null,null,"Years 15 - 17",null,"Grade 10 - 12",null,"English",48.8,39.04,"306","200 pp.",{"$f":"Table1[[#This Row],['# of Books]]*Table1[[#This Row],[QTY]]","v":0},{"$f":"Table1[[#This Row],[QTY]]*Table1[[#This Row],[School & Library Price]]","v":0}]
[null,8,null,null,"Current Issues","Opposing Viewpoints","Doomsday Scenarios","978-0-7377-5721-7","Greenhaven Publishing","Library Bound Book",1,2011,null,"Library Bound","6.000 X 9.000","Author","Noah Berlatsky",null,null,null,null,null,null,"Years 15 - 17",null,"Grade 10 - 12",null,"English",48.8,39.04,"202","232 pp.",{"$f":"Table1[[#This Row],['# of Books]]*Table1[[#This Row],[QTY]]","v":0},{"$f":"Table1[[#This Row],[QTY]]*Table1[[#This Row],[School & Library Price]]","v":0}]
[null,8,null,null,"Current Issues","Opposing Viewpoints","Doping","978-0-7377-6319-5","Greenhaven Publishing","Paperback Book",1,2014,null,"Paperback","6.000 X 9.000","Author","Aarti Stephens",null,null,null,null,null,null,"Years 15 - 17",null,"Grade 10 - 12","This title explores doping, including: why do athletes dope; should doping be banned; what are the effects of doping on sports; how should doping athletes be treated. The viewpoints are selected from a wide range of highly respected and often hard-to-find sources and publications. By choosing from such diverse sources and including both popular and unpopular views, the OPPOSING VIEWPOINTS editorial team has adhered to its commitment to editorial objectivity. Readers are exposed to many sides of a debate, which promotes issue awareness as well as critical thinking.","English",33.799999999999898,27.039999999999921,"362","199 pp.",{"$f":"Table1[[#This Row],['# of Books]]*Table1[[#This Row],[QTY]]","v":0},{"$f":"Table1[[#This Row],[QTY]]*Table1[[#This Row],[School & Library Price]]","v":0}]
[null,8,null,null,"Current Issues","Opposing Viewpoints","Eco-Architecture","978-0-7377-6320-1","Greenhaven Publishing","Library Bound Book",1,2013,null,"Library Bound","6.000 X 9.000","Author","Roman Espejo",null,null,null,null,null,null,"Years 15 - 17",null,"Grade 10 - 12","This title explores numerous aspects of eco-friendly architecture, including whether it is financially beneficial, whether it can also be stylish, whether it protects human health, and whether it benefits the environment. This volume also examines ways green building is being used on campus and in hospitals.","English",48.8,39.04,"720","240 pp.",{"$f":"Table1[[#This Row],['# of Books]]*Table1[[#This Row],[QTY]]","v":0},{"$f":"Table1[[#This Row],[QTY]]*Table1[[#This Row],[School & Library Price]]","v":0}]
[null,8,null,null,"Current Issues","Opposing Viewpoints","Eco-Architecture","978-0-7377-6321-8","Greenhaven Publishing","Paperback Book",1,2013,null,"Paperback","6.000 X 9.000","Author","Roman Espejo",null,null,null,null,null,null,"Years 15 - 17",null,"Grade 10 - 12","This title explores numerous aspects of eco-friendly architecture, including whether it is financially beneficial, whether it can also be stylish, whether it protects human health, and whether it benefits the environment. This volume also examines ways green building is being used on campus and in hospitals.","English",33.799999999999898,27.039999999999921,"720","235 pp.",{"$f":"Table1[[#This Row],['# of Books]]*Table1[[#This Row],[QTY]]","v":0},{"$f":"Table1[[#This Row],[QTY]]*Table1[[#This Row],[School & Library Price]]","v":0}]
[null,9,null,null,"Current Issues","Opposing Viewpoints","Election Spending","978-0-7377-5434-6","Greenhaven Publishing","Library Bound Book",1,2012,null,"Library Bound","6.000 X 9.000","Author","Nancy Dziedzic",null,null,null,null,null,null,"Years 15 - 17",null,"Grade 10 - 12",null,"English",48.8,39.04,"324","224 pp.",{"$f":"Table1[[#This Row],['# of Books]]*Table1[[#This Row],[QTY]]","v":0},{"$f":"Table1[[#This Row],[QTY]]*Table1[[#This Row],[School & Library Price]]","v":0}]
[null,9,null,null,"Current Issues","Opposing Viewpoints","Endangered Species","978-0-7377-2931-3","Greenhaven Publishing","Library Bound Book",1,2008,null,"Library Bound","6.000 X 9.000","Author","Viqi Wagner",null,null,null,null,null,null,"Years 15 - 17",null,"Grade 10 - 12",null,"English",48.8,39.04,"333","240 pp.",{"$f":"Table1[[#This Row],['# of Books]]*Table1[[#This Row],[QTY]]","v":0},{"$f":"Table1[[#This Row],[QTY]]*Table1[[#This Row],[School & Library Price]]","v":0}]
[null,9,null,null,"Current Issues","Opposing Viewpoints","Extremism","978-0-7377-4965-6","Greenhaven Publishing","Paperback Book",1,2011,null,"Paperback","6.000 X 9.000","Author","Laurie Willis",null,null,null,null,null,null,"Years 15 - 17",null,"Grade 10 - 12",null,"English",33.799999999999898,27.039999999999921,"320","208 pp.",{"$f":"Table1[[#This Row],['# of Books]]*Table1[[#This Row],[QTY]]","v":0},{"$f":"Table1[[#This Row],[QTY]]*Table1[[#This Row],[School & Library Price]]","v":0}]
[null,9,null,null,"Current Issues","Opposing Viewpoints","Feminism","978-0-7377-5441-4","Greenhaven Publishing","Paperback Book",1,2012,null,"Paperback","6.000 X 9.000","Author","Nancy Dziedzic",null,null,null,null,null,null,"Years 15 - 17",null,"Grade 10 - 12","This addition to the popular OPPOSING VIEWPOINTS series discusses issues related to feminism. Through a balanced collection of articles from a variety of sources, the title explores the state of feminism in the 21st century, the impact of recent political contests on American feminism, the role religion plays in feminism, and how women’s sexuality and reproductive rights are affected by feminism.","English",33.799999999999898,27.039999999999921,"305","240 pp.",{"$f":"Table1[[#This Row],['# of Books]]*Table1[[#This Row],[QTY]]","v":0},{"$f":"Table1[[#This Row],[QTY]]*Table1[[#This Row],[School & Library Price]]","v":0}]
[null,9,null,null,"Current Issues","Opposing Viewpoints","Free Trade","978-0-7377-6055-2","Greenhaven Publishing","Paperback Book",1,2013,null,"Paperback","6.000 X 9.000","Author","Ann Aubrey Hanson",null,null,null,null,null,null,"Years 15 - 17",null,"Grade 10 - 12","This title in the Opposing Viewpoints series explores free trade including the effect on the US economy, developing countries, human rights and the global marketplace by placing expert opinions in a unique pro/con format. The viewpoints are selected from a wide range of highly respected and often hard-to-find sources and publications. By choosing from such diverse sources and including both popular and unpopular views, the Opposing Viewpoints series has adhered to its commitment to editorial objectivity. Readers are exposed to many sides of a debate, which promotes issue awareness as well as critical thinking.","English",33.799999999999898,27.039999999999921,"382","242 pp.",{"$f":"Table1[[#This Row],['# of Books]]*Table1[[#This Row],[QTY]]","v":0},{"$f":"Table1[[#This Row],[QTY]]*Table1[[#This Row],[School & Library Price]]","v":0}]
[null,9,null,null,"Current Issues","Opposing Viewpoints","Gangs","978-0-7377-4366-1","Greenhaven Publishing","Library Bound Book",1,2009,null,"Library Bound","6.000 X 9.000","Author","Adela Soliz",null,null,null,null,null,null,"Years 15 - 17",null,"Grade 10 - 12",null,"English",48.8,39.04,"364","216 pp.",{"$f":"Table1[[#This Row],['# of Books]]*Table1[[#This Row],[QTY]]","v":0},{"$f":"Table1[[#This Row],[QTY]]*Table1[[#This Row],[School & Library Price]]","v":0}]
[null,9,null,null,"Current Issues","Opposing Viewpoints","Garbage and Recycling","978-0-7377-5429-2","Greenhaven Publishing","Paperback Book",1,2012,null,"Paperback","6.000 X 9.000","Author","Margaret Haerens",null,null,null,null,null,null,"Years 15 - 17",null,"Grade 10 - 12",null,"English",33.799999999999898,27.039999999999921,"363","248 pp.",{"$f":"Table1[[#This Row],['# of Books]]*Table1[[#This Row],[QTY]]","v":0},{"$f":"Table1[[#This Row],[QTY]]*Table1[[#This Row],[School & Library Price]]","v":0}]
[null,9,null,null,"Current Issues","Opposing Viewpoints","Gateway Drugs","978-0-7377-4003-5","Greenhaven Publishing","Paperback Book",1,2008,null,"Paperback","6.000 X 9.000","Author","Noël Merino",null,null,null,null,null,null,"Years 15 - 17",null,"Grade 10 - 12",null,"English",33.799999999999898,27.039999999999921,"362","198 pp.",{"$f":"Table1[[#This Row],['# of Books]]*Table1[[#This Row],[QTY]]","v":0},{"$f":"Table1[[#This Row],[QTY]]*Table1[[#This Row],[School & Library Price]]","v":0}]
[null,9,null,null,"Current Issues","Opposing Viewpoints","Gays in the Military","978-0-7377-5222-9","Greenhaven Publishing","Paperback Book",1,2011,null,"Paperback","6.000 X 9.000","Author","Noah Berlatsky",null,null,null,null,null,null,"Years 15 - 17",null,"Grade 10 - 12",null,"English",33.799999999999898,27.039999999999921,"355","200 pp.",{"$f":"Table1[[#This Row],['# of Books]]*Table1[[#This Row],[QTY]]","v":0},{"$f":"Table1[[#This Row],[QTY]]*Table1[[#This Row],[School & Library Price]]","v":0}]
[null,9,null,null,"Current Issues","Opposing Viewpoints","Genetic Disorders","978-0-7377-4213-8","Greenhaven Publishing","Paperback Book",1,2009,null,"Paperback","6.000 X 9.000","Author","Katherine Swarts",null,null,null,null,null,null,"Years 15 - 17",null,"Grade 10 - 12",null,"English",33.799999999999898,27.039999999999921,"616","208 pp.",{"$f":"Table1[[#This Row],['# of Books]]*Table1[[#This Row],[QTY]]","v":0},{"$f":"Table1[[#This Row],[QTY]]*Table1[[#This Row],[School & Library Price]]","v":0}]
[null,9,null,null,"Current Issues","Opposing Viewpoints","Girls and Sports","978-0-7377-4517-7","Greenhaven Publishing","Paperback Book",1,2010,null,"Paperback","6.000 X 9.000","Author","Karen Miller",null,null,null,null,null,null,"Years 15 - 17",null,"Grade 10 - 12",null,"English",33.799999999999898,27.039999999999921,"796","219 pp.",{"$f":"Table1[[#This Row],['# of Books]]*Table1[[#This Row],[QTY]]","v":0},{"$f":"Table1[[#This Row],[QTY]]*Table1[[#This Row],[School & Library Price]]","v":0}]
[null,9,null,null,"Current Issues","Opposing Viewpoints","Global Sustainability","978-0-7377-7520-4","Greenhaven Publishing","Library Bound Book",1,2016,null,"Library Bound","6.000 X 9.000","Author","Dedria Bryfonski",null,null,null,null,null,null,"Years 15 - 17",null,"Grade 10 - 12","This title in the Opposing Viewpoints series explores global sustainability and poses such questions as, do genetically modified foods contribute to global sustainability?; is water scarcity a threat to global sustainability?; does social equity promote global sustainability?; and is economic growth compatible with sustainability?","English",48.8,39.04,"338","282 pp.",{"$f":"Table1[[#This Row],['# of Books]]*Table1[[#This Row],[QTY]]","v":0},{"$f":"Table1[[#This Row],[QTY]]*Table1[[#This Row],[School & Library Price]]","v":0}]
[null,9,null,null,"Current Issues","Opposing Viewpoints","Globalization","978-0-7377-4772-0","Greenhaven Publishing","Paperback Book",1,2010,null,"Paperback","6.000 X 9.000","Author","David M. Haugen",null,null,null,null,null,null,"Years 15 - 17",null,"Grade 10 - 12","Explores the impact of globalization on world societies and its role in crises such as global warming, the modern financial crisis, and terrorism. Examines some of globalization's effects on developing nations, including income inequality and food shortages. Looks at globalization and the U.S. economy, discussing the benefit or harm of NAFTA, outsourcing, free trade and \"buy American\" policies.","English",33.799999999999898,27.039999999999921,"303","260 pp.",{"$f":"Table1[[#This Row],['# of Books]]*Table1[[#This Row],[QTY]]","v":0},{"$f":"Table1[[#This Row],[QTY]]*Table1[[#This Row],[School & Library Price]]","v":0}]
[null,9,null,null,"Current Issues","Opposing Viewpoints","Hacking and Hackers","978-0-7377-6656-1","Greenhaven Publishing","Library Bound Book",1,2014,null,"Library Bound","6.000 X 9.000","Author","Margaret Haerens",null,null,null,null,null,null,"Years 15 - 17",null,"Grade 10 - 12","This title addresses various issues related to hacking and hackers, including ways to combat hacking; if hacktivism is a serious threat; the significance of WikiLeaks; and the role of government in hacking. The viewpoints are selected from a wide range of highly respected and often hard-to-find sources and publications. By choosing from such diverse sources and including both popular and unpopular views, the OPPOSING VIEWPOINTS editorial team has adhered to its commitment to editorial objectivity. Readers are exposed to many sides of a debate, which promotes issue awareness as well as critical thinking.","English",48.8,39.04,"364","216 pp.",{"$f":"Table1[[#This Row],['# of Books]]*Table1[[#This Row],[QTY]]","v":0},{"$f":"Table1[[#This Row],[QTY]]*Table1[[#This Row],[School & Library Price]]","v":0}]
[null,9,null,null,"Current Issues","Opposing Viewpoints","Health","978-0-7377-4520-7","Greenhaven Publishing","Library Bound Book",1,2009,null,"Library Bound","6.000 X 9.000","Author","Diane Andrews Henningfeld",null,null,null,null,null,null,"Years 15 - 17",null,"Grade 10 - 12",null,"English",48.8,39.04,"613","216 pp.",{"$f":"Table1[[#This Row],['# of Books]]*Table1[[#This Row],[QTY]]","v":0},{"$f":"Table1[[#This Row],[QTY]]*Table1[[#This Row],[School & Library Price]]","v":0}]
[null,9,null,null,"Current Issues","Opposing Viewpoints","Health","978-0-7377-4521-4","Greenhaven Publishing","Paperback Book",1,2009,null,"Paperback","6.000 X 9.000","Author","Diane Andrews Henningfeld",null,null,null,null,null,null,"Years 15 - 17",null,"Grade 10 - 12",null,"English",33.799999999999898,27.039999999999921,"613","215 pp.",{"$f":"Table1[[#This Row],['# of Books]]*Table1[[#This Row],[QTY]]","v":0},{"$f":"Table1[[#This Row],[QTY]]*Table1[[#This Row],[School & Library Price]]","v":0}]
[null,10,null,null,"Current Issues","Opposing Viewpoints","Homelessness","978-0-7377-5939-6","Greenhaven Publishing","Library Bound Book",1,2012,null,"Library Bound","6.000 X 9.000","Author","Tamara Thompson",null,null,null,null,null,null,"Years 15 - 17",null,"Grade 10 - 12","This addition to the popular OPPOSING VIEWPOINTS series discusses issues related to homelessness. Through a balanced collection of articles from a variety of sources, the title explores the seriousness of America’s homeless problem; factors that contribute to homelessness, such as the recession, mental illness, substance abuse, and domestic violence; housing policies, like vouchers and Housing First programs, that may benefit the homeless; and the government’s role in addressing homelessness.","English",48.8,39.04,"362.5","248 pp.",{"$f":"Table1[[#This Row],['# of Books]]*Table1[[#This Row],[QTY]]","v":0},{"$f":"Table1[[#This Row],[QTY]]*Table1[[#This Row],[School & Library Price]]","v":0}]
[null,10,null,null,"Current Issues","Opposing Viewpoints","Homosexuality","978-0-7377-6324-9","Greenhaven Publishing","Library Bound Book",1,2013,null,"Library Bound","6.000 X 9.000","Author","David M. Haugen",null,null,null,null,null,null,"Years 15 - 17",null,"Grade 10 - 12","This title in the Opposing Viewpoints series explores the controversy around homosexuality, including the related topics of same-sex marriage and adoption, by placing expert opinions in a unique pro/con format. The viewpoints are selected from a wide range of highly respected and often hard-to-find sources and publications. By choosing from such diverse sources and including both popular and unpopular views, the Opposing Viewpoints series has adhered to its commitment to editorial objectivity. Readers are exposed to many sides of a debate, which promotes issue awareness as well as critical thinking.","English",48.8,39.04,"306","250 pp.",{"$f":"Table1[[#This Row],['# of Books]]*Table1[[#This Row],[QTY]]","v":0},{"$f":"Table1[[#This Row],[QTY]]*Table1[[#This Row],[School & Library Price]]","v":0}]
[null,10,null,null,"Current Issues","Opposing Viewpoints","Human Genetics","978-0-7377-6954-8","Greenhaven Publishing","Paperback Book",1,2014,null,"Paperback","6.000 X 9.000","Author","Louise Gerdes",null,null,null,null,null,null,"Years 15 - 17",null,"Grade 10 - 12","This title explores patenting laws and whether patent holders should have to share, civil rights and liberty issues, gene therapies and whether to act on genetic testing or not, and reproduction issues including designer babies and whether or not to abort genetic defects.","English",33.799999999999898,27.039999999999921,"174","235 pp.",{"$f":"Table1[[#This Row],['# of Books]]*Table1[[#This Row],[QTY]]","v":0},{"$f":"Table1[[#This Row],[QTY]]*Table1[[#This Row],[School & Library Price]]","v":0}]
[null,10,null,null,"Current Issues","Opposing Viewpoints","Immigration","978-0-7377-4522-1","Greenhaven Publishing","Library Bound Book",1,2009,null,"Library Bound","6.000 X 9.000","Author","David M. Haugen",null,null,null,null,null,null,"Years 15 - 17",null,"Grade 10 - 12",null,"English",48.8,39.04,"325","248 pp.",{"$f":"Table1[[#This Row],['# of Books]]*Table1[[#This Row],[QTY]]","v":0},{"$f":"Table1[[#This Row],[QTY]]*Table1[[#This Row],[School & Library Price]]","v":0}]
[null,10,null,null,"Current Issues","Opposing Viewpoints","India","978-0-7377-4370-8","Greenhaven Publishing","Library Bound Book",1,2009,null,"Library Bound","6.000 X 9.000","Author","Jamuna Carroll",null,null,null,null,null,null,"Years 15 - 17",null,"Grade 10 - 12",null,"English",48.8,39.04,"954","208 pp.",{"$f":"Table1[[#This Row],['# of Books]]*Table1[[#This Row],[QTY]]","v":0},{"$f":"Table1[[#This Row],[QTY]]*Table1[[#This Row],[School & Library Price]]","v":0}]
[null,10,null,null,"Current Issues","Opposing Viewpoints","Inflation","978-0-7377-6427-7","Greenhaven Publishing","Paperback Book",1,2013,null,"Paperback","6.000 X 9.000","Author","Noah Berlatsky",null,null,null,null,null,null,"Years 15 - 17",null,"Grade 10 - 12","This title explores the causes of inflation, whether inflation is dangerous, and what inflationary conditions pose the biggest threat to the economy.","English",33.799999999999898,27.039999999999921,"332","170 pp.",{"$f":"Table1[[#This Row],['# of Books]]*Table1[[#This Row],[QTY]]","v":0},{"$f":"Table1[[#This Row],[QTY]]*Table1[[#This Row],[School & Library Price]]","v":0}]
[null,10,null,null,"Current Issues","Opposing Viewpoints","International Adoptions","978-0-7377-4970-0","Greenhaven Publishing","Library Bound Book",1,2011,null,"Library Bound","6.000 X 9.000","Author","Margaret Haerens",null,null,null,null,null,null,"Years 15 - 17",null,"Grade 10 - 12",null,"English",48.8,39.04,"362","232 pp.",{"$f":"Table1[[#This Row],['# of Books]]*Table1[[#This Row],[QTY]]","v":0},{"$f":"Table1[[#This Row],[QTY]]*Table1[[#This Row],[School & Library Price]]","v":0}]
[null,10,null,null,"Current Issues","Opposing Viewpoints","Internet Censorship","978-0-7377-6659-2","Greenhaven Publishing","Paperback Book",1,2014,null,"Paperback","6.000 X 9.000","Author","Margaret Haerens",null,null,null,null,null,null,"Years 15 - 17",null,"Grade 10 - 12","OPPOSING VIEWPOINTS: INTERNET CENSORSHIP examines whether or not the Internet should be censored, who should govern the Internet, what the best ways to fight Internet Censorship are, and which legal measures effectively address Internet Censorship. The viewpoints are selected from a wide range of highly respected and often hard-to-find sources and publications. By choosing from such diverse sources and including both popular and unpopular views, the OPPOSING VIEWPOINTS editorial team has adhered to its commitment to editorial objectivity. Readers are exposed to many sides of a debate, which promotes issue awareness as well as critical thinking.","English",33.799999999999898,27.039999999999921,"005","219 pp.",{"$f":"Table1[[#This Row],['# of Books]]*Table1[[#This Row],[QTY]]","v":0},{"$f":"Table1[[#This Row],[QTY]]*Table1[[#This Row],[School & Library Price]]","v":0}]
[null,10,null,null,"Current Issues","Opposing Viewpoints","Interventions","978-0-7377-6001-9","Greenhaven Publishing","Paperback Book",1,2012,null,"Paperback","6.000 X 9.000","Author","Susan Hunnicutt",null,null,null,null,null,null,"Years 15 - 17",null,"Grade 10 - 12","This new edition in the popular OPPOSING VIEWPOINTS series offers a comprehensive look at issues related to interventions. Through a balanced collection of articles from a variety of sources, the title examines whether or not substance abuse remains a serious problem, whether interventions are effective and necessary, and who should be involved in substance abuse interventions. The text also discusses the popularity and implications of televising interventions.","English",33.799999999999898,27.039999999999921,"616.86","184 pp.",{"$f":"Table1[[#This Row],['# of Books]]*Table1[[#This Row],[QTY]]","v":0},{"$f":"Table1[[#This Row],[QTY]]*Table1[[#This Row],[School & Library Price]]","v":0}]
[null,10,null,null,"Current Issues","Opposing Viewpoints","Iraq","978-0-7377-4525-2","Greenhaven Publishing","Paperback Book",1,2009,null,"Paperback","6.000 X 9.000","Author","David M. Haugen",null,null,null,null,null,null,"Years 15 - 17",null,"Grade 10 - 12",null,"English",33.799999999999898,27.039999999999921,"956","192 pp.",{"$f":"Table1[[#This Row],['# of Books]]*Table1[[#This Row],[QTY]]","v":0},{"$f":"Table1[[#This Row],[QTY]]*Table1[[#This Row],[School & Library Price]]","v":0}]
[null,10,null,null,"Current Issues","Opposing Viewpoints","Islamic Militancy","978-0-7377-4216-9","Greenhaven Publishing","Library Bound Book",1,2009,null,"Library Bound","6.000 X 9.000","Author","Amanda Hiber",null,null,null,null,null,null,"Years 15 - 17",null,"Grade 10 - 12",null,"English",48.8,39.04,"322","256 pp.",{"$f":"Table1[[#This Row],['# of Books]]*Table1[[#This Row],[QTY]]","v":0},{"$f":"Table1[[#This Row],[QTY]]*Table1[[#This Row],[School & Library Price]]","v":0}]
[null,10,null,null,"Current Issues","Opposing Viewpoints","Israel","978-0-7377-4975-5","Greenhaven Publishing","Paperback Book",1,2011,null,"Paperback","6.000 X 9.000","Author","Myra Immell",null,null,null,null,null,null,"Years 15 - 17",null,"Grade 10 - 12",null,"English",33.799999999999898,27.039999999999921,"956","200 pp.",{"$f":"Table1[[#This Row],['# of Books]]*Table1[[#This Row],[QTY]]","v":0},{"$f":"Table1[[#This Row],[QTY]]*Table1[[#This Row],[School & Library Price]]","v":0}]
[null,10,null,null,"Current Issues","Opposing Viewpoints","Journalism","978-0-7377-6956-2","Greenhaven Publishing","Paperback Book",1,2014,null,"Paperback","6.000 X 9.000","Author","Roman Espejo",null,null,null,null,null,null,"Years 15 - 17",null,"Grade 10 - 12","This volume of OPPOSING VIEWPOINTS discusses the changing face of journalism. The Internet has revolutionized the way we view media, and this text explores the ethical issues facing journalism today, how journalism should be practiced and journalists be protected, and the future of journalism in a rapidly evolving global Internet age. The viewpoints are selected from a wide range of highly respected and often hard-to-find sources and publications. By choosing from such diverse sources and including both popular and unpopular views, the OPPOSING VIEWPOINTS editorial team has adhered to its commitment to editorial objectivity. Readers are exposed to many sides of a debate, which promotes issue awareness as well as critical thinking.","English",33.799999999999898,27.039999999999921,"070","247 pp.",{"$f":"Table1[[#This Row],['# of Books]]*Table1[[#This Row],[QTY]]","v":0},{"$f":"Table1[[#This Row],[QTY]]*Table1[[#This Row],[School & Library Price]]","v":0}]
[null,10,null,null,"Current Issues","Opposing Viewpoints","Juvenile Crime","978-0-7377-5731-6","Greenhaven Publishing","Library Bound Book",1,2012,null,"Library Bound","6.000 X 9.000","Author","Louise I. Gerdes",null,null,null,null,null,null,"Years 15 - 17",null,"Grade 10 - 12","Through a balanced collection of articles from a variety of sources, this addition to the OPPOSING VIEWPOINTS series explores many aspects of juvenile crime in the United States. Topics covered include the seriousness of the juvenile crime problem, the causes of juvenile crime and violence, the treatment of juvenile offenders by the criminal justice system, and policies that may help reduce juvenile crime.","English",48.8,39.04,"364","240 pp.",{"$f":"Table1[[#This Row],['# of Books]]*Table1[[#This Row],[QTY]]","v":0},{"$f":"Table1[[#This Row],[QTY]]*Table1[[#This Row],[School & Library Price]]","v":0}]
[null,10,null,null,"Current Issues","Opposing Viewpoints","Juvenile Crime","978-0-7377-5732-3","Greenhaven Publishing","Paperback Book",1,2012,null,"Paperback","6.000 X 9.000","Author","Louise I. Gerdes",null,null,null,null,null,null,"Years 15 - 17",null,"Grade 10 - 12","Through a balanced collection of articles from a variety of sources, this addition to the OPPOSING VIEWPOINTS series explores many aspects of juvenile crime in the United States. Topics covered include the seriousness of the juvenile crime problem, the causes of juvenile crime and violence, the treatment of juvenile offenders by the criminal justice system, and policies that may help reduce juvenile crime.","English",33.799999999999898,27.039999999999921,"364","240 pp.",{"$f":"Table1[[#This Row],['# of Books]]*Table1[[#This Row],[QTY]]","v":0},{"$f":"Table1[[#This Row],[QTY]]*Table1[[#This Row],[School & Library Price]]","v":0}]
[null,10,null,null,"Current Issues","Opposing Viewpoints","Latin America","978-0-7377-4373-9","Greenhaven Publishing","Paperback Book",1,2009,null,"Paperback","6.000 X 9.000","Author","Louise I. Gerdes",null,null,null,null,null,null,"Years 15 - 17",null,"Grade 10 - 12",null,"English",33.799999999999898,27.039999999999921,"980","264 pp.",{"$f":"Table1[[#This Row],['# of Books]]*Table1[[#This Row],[QTY]]","v":0},{"$f":"Table1[[#This Row],[QTY]]*Table1[[#This Row],[School & Library Price]]","v":0}]
[null,10,null,null,"Current Issues","Opposing Viewpoints","Libya","978-0-7377-6032-3","Greenhaven Publishing","Paperback Book",1,2012,null,"Paperback","6.000 X 9.000","Author","Noah Berlatsky",null,null,null,null,null,null,"Years 15 - 17",null,"Grade 10 - 12","This title introduces readers to a variety of current issues related to Libya. The articles included cover topics like the status of human rights issues in Libya, the impact of weapons of mass destruction and terrorism on Libya’s international status, the issues facing Libya’s resistance movement, and the role of the United States in Libya’s current affairs.","English",33.799999999999898,27.039999999999921,"961","224 pp.",{"$f":"Table1[[#This Row],['# of Books]]*Table1[[#This Row],[QTY]]","v":0},{"$f":"Table1[[#This Row],[QTY]]*Table1[[#This Row],[School & Library Price]]","v":0}]
[null,10,null,null,"Current Issues","Opposing Viewpoints","Malnutrition","978-0-7377-4383-8","Greenhaven Publishing","Paperback Book",1,2009,null,"Paperback","6.000 X 9.000","Author","Margaret Haerens",null,null,null,null,null,null,"Years 15 - 17",null,"Grade 10 - 12",null,"English",33.799999999999898,27.039999999999921,"363","232 pp.",{"$f":"Table1[[#This Row],['# of Books]]*Table1[[#This Row],[QTY]]","v":0},{"$f":"Table1[[#This Row],[QTY]]*Table1[[#This Row],[School & Library Price]]","v":0}]
[null,11,null,null,"Current Issues","Opposing Viewpoints","Marijuana","978-0-7377-5733-0","Greenhaven Publishing","Library Bound Book",1,2012,null,"Library Bound","6.000 X 9.000","Author","Noah Berlatsky",null,null,null,null,null,null,"Years 15 - 17",null,"Grade 10 - 12","This addition to the popular OPPOSING VIEWPOINTS series focuses on the topic of marijuana. Through a balanced collection of articles from a variety of sources, the title examines whether or not marijuana is harmful, the possible medical benefits to using marijuana, and the legalization of medical marijuana.","English",48.8,39.04,"362","224 pp.",{"$f":"Table1[[#This Row],['# of Books]]*Table1[[#This Row],[QTY]]","v":0},{"$f":"Table1[[#This Row],[QTY]]*Table1[[#This Row],[School & Library Price]]","v":0}]
[null,11,null,null,"Current Issues","Opposing Viewpoints","Media Violence","978-0-7377-6328-7","Greenhaven Publishing","Library Bound Book",1,2012,null,"Library Bound","6.000 X 9.000","Author","Noah Berlatsky",null,null,null,null,null,null,"Years 15 - 17",null,"Grade 10 - 12","This title explores many aspects of media violence, including the seriousness of the media violence problem, the regulation of media violence, the effect of violence in the news, and the relationship between sex and violence in the media.","English",48.8,39.04,"303","208 pp.",{"$f":"Table1[[#This Row],['# of Books]]*Table1[[#This Row],[QTY]]","v":0},{"$f":"Table1[[#This Row],[QTY]]*Table1[[#This Row],[School & Library Price]]","v":0}]
[null,11,null,null,"Current Issues","Opposing Viewpoints","Medical Marijuana","978-0-7377-6057-6","Greenhaven Publishing","Paperback Book",1,2013,null,"Paperback","6.000 X 9.000","Author","Margaret Haerens",null,null,null,null,null,null,"Years 15 - 17",null,"Grade 10 - 12","The legality of medical marijuana continues to provoke controversy and face challenges. This title addresses the various facets of the debate, including: whether medical marijuana should be legal, if medical marijuana is good for society, how access to medical marijuana should be managed, and legal rights of patients using medical marijuana, in terms of such issues as driving, gun rights, and employment.","English",33.799999999999898,27.039999999999921,"615.7","224 pp.",{"$f":"Table1[[#This Row],['# of Books]]*Table1[[#This Row],[QTY]]","v":0},{"$f":"Table1[[#This Row],[QTY]]*Table1[[#This Row],[School & Library Price]]","v":0}]
[null,11,null,null,"Current Issues","Opposing Viewpoints","Medical Testing","978-0-7377-6959-3","Greenhaven Publishing","Library Bound Book",1,2014,null,"Library Bound","6.000 X 9.000","Author","Noël Merino",null,null,null,null,null,null,"Years 15 - 17",null,"Grade 10 - 12","OPPOSING VIEWPOINTS: MEDICAL TESTING examines concerns regarding the testing of new medicine, how medical testing on humans and animals should be regulated, concerns about diagnostic medical tests, and concerns about genetic testing. The viewpoints are selected from a wide range of highly respected and often hard-to-find sources and publications. By choosing from such diverse sources and including both popular and unpopular views, the OPPOSING VIEWPOINTS editorial team has adhered to its commitment to editorial objectivity. Readers are exposed to many sides of a debate, which promotes issue awareness as well as critical thinking.","English",48.8,39.04,"174","224 pp.",{"$f":"Table1[[#This Row],['# of Books]]*Table1[[#This Row],[QTY]]","v":0},{"$f":"Table1[[#This Row],[QTY]]*Table1[[#This Row],[School & Library Price]]","v":0}]
[null,11,null,null,"Current Issues","Opposing Viewpoints","Medical Testing","978-0-7377-6960-9","Greenhaven Publishing","Paperback Book",1,2014,null,"Paperback","6.000 X 9.000","Author","Noël Merino",null,null,null,null,null,null,"Years 15 - 17",null,"Grade 10 - 12","OPPOSING VIEWPOINTS: MEDICAL TESTING examines concerns regarding the testing of new medicine, how medical testing on humans and animals should be regulated, concerns about diagnostic medical tests, and concerns about genetic testing. The viewpoints are selected from a wide range of highly respected and often hard-to-find sources and publications. By choosing from such diverse sources and including both popular and unpopular views, the OPPOSING VIEWPOINTS editorial team has adhered to its commitment to editorial objectivity. Readers are exposed to many sides of a debate, which promotes issue awareness as well as critical thinking.","English",33.799999999999898,27.039999999999921,"174","224 pp.",{"$f":"Table1[[#This Row],['# of Books]]*Table1[[#This Row],[QTY]]","v":0},{"$f":"Table1[[#This Row],[QTY]]*Table1[[#This Row],[School & Library Price]]","v":0}]
[null,11,null,null,"Current Issues","Opposing Viewpoints","Mental Illness","978-0-7377-7512-9","Greenhaven Publishing","Library Bound Book",1,2016,null,"Library Bound","6.000 X 9.000","Author","Noah Berlatsky",null,null,null,null,null,null,"Years 15 - 17",null,"Grade 10 - 12","This title addresses controversies related to mental illness including: What causes mental illness? How should mental illness be treated? Is involuntary treatment for the mentally ill ethical? What are the issues surrounding violence and the mentally ill?","English",48.8,39.04,"362","224 pp.",{"$f":"Table1[[#This Row],['# of Books]]*Table1[[#This Row],[QTY]]","v":0},{"$f":"Table1[[#This Row],[QTY]]*Table1[[#This Row],[School & Library Price]]","v":0}]
[null,11,null,null,"Current Issues","Opposing Viewpoints","Mexico","978-0-7377-5738-5","Greenhaven Publishing","Paperback Book",1,2012,null,"Paperback","6.000 X 9.000","Author","David M. Haugen",null,null,null,null,null,null,"Years 15 - 17",null,"Grade 10 - 12",null,"English",33.799999999999898,27.039999999999921,"972","264 pp.",{"$f":"Table1[[#This Row],['# of Books]]*Table1[[#This Row],[QTY]]","v":0},{"$f":"Table1[[#This Row],[QTY]]*Table1[[#This Row],[School & Library Price]]","v":0}]
[null,11,null,null,"Current Issues","Opposing Viewpoints","Militias","978-0-7377-5740-8","Greenhaven Publishing","Paperback Book",1,2012,null,"Paperback","6.000 X 9.000","Author","Noah Berlatsky",null,null,null,null,null,null,"Years 15 - 17",null,"Grade 10 - 12","This addition to the popular OPPOSING VIEWPOINTS series focuses on the topic of militias. The title includes a balanced selection of articles on whether or not militias pose a danger; the groups and organizations linked to the militia movement, such as the NRA, Libertarians, and the Tea Party; the relationship between the militia movement and constitutional militias; and the relationship between Christianity and militias.","English",33.799999999999898,27.039999999999921,"322","240 pp.",{"$f":"Table1[[#This Row],['# of Books]]*Table1[[#This Row],[QTY]]","v":0},{"$f":"Table1[[#This Row],[QTY]]*Table1[[#This Row],[School & Library Price]]","v":0}]
[null,11,null,null,"Current Issues","Opposing Viewpoints","Nanotechnology","978-0-7377-6961-6","Greenhaven Publishing","Library Bound Book",1,2014,null,"Library Bound","6.000 X 9.000","Author","Noah Berlatsky",null,null,null,null,null,null,"Years 15 - 17",null,"Grade 10 - 12","This title addresses various issues related to nanotechnology, including the relationship between public perception and nanotechnology and how nanotechnology will affect health, the environment, and  international relations. The viewpoints are selected from a wide range of highly respected and often hard-to-find sources and publications. By choosing from such diverse sources and including both popular and unpopular views, the OPPOSING VIEWPOINTS editorial team has adhered to its commitment to editorial objectivity. Readers are exposed to many sides of a debate, which promotes issue awareness as well as critical thinking.","English",48.8,39.04,"620","232 pp.",{"$f":"Table1[[#This Row],['# of Books]]*Table1[[#This Row],[QTY]]","v":0},{"$f":"Table1[[#This Row],[QTY]]*Table1[[#This Row],[School & Library Price]]","v":0}]
[null,11,null,null,"Current Issues","Opposing Viewpoints","Nation Building","978-0-7377-3895-7","Greenhaven Publishing","Paperback Book",1,2008,null,"Paperback","6.000 X 9.000","Author","Michael Logan",null,null,null,null,null,null,"Years 15 - 17",null,"Grade 10 - 12",null,"English",33.799999999999898,27.039999999999921,"327","288 pp.",{"$f":"Table1[[#This Row],['# of Books]]*Table1[[#This Row],[QTY]]","v":0},{"$f":"Table1[[#This Row],[QTY]]*Table1[[#This Row],[School & Library Price]]","v":0}]
[null,11,null,null,"Current Issues","Opposing Viewpoints","National Service","978-0-7377-5233-5","Greenhaven Publishing","Library Bound Book",1,2011,null,"Library Bound","6.000 X 9.000","Author","Louise I. Gerdes",null,null,null,null,null,null,"Years 15 - 17",null,"Grade 10 - 12",null,"English",48.8,39.04,"363","248 pp.",{"$f":"Table1[[#This Row],['# of Books]]*Table1[[#This Row],[QTY]]","v":0},{"$f":"Table1[[#This Row],[QTY]]*Table1[[#This Row],[School & Library Price]]","v":0}]
[null,11,null,null,"Current Issues","Opposing Viewpoints","Native Americans","978-0-7377-5445-2","Greenhaven Publishing","Paperback Book",1,2012,null,"Paperback","6.000 X 9.000","Author","Lynn M. Zott",null,null,null,null,null,null,"Years 15 - 17",null,"Grade 10 - 12","The title explores issues related to Native Americans, including key conflicts that still exist between the United States and tribal governments. Topics covered include the impact of discrimination on Native American culture, the current economic factors of concern to Native Americans, and how disputes over natural resources and cultural artifacts affect Native Americans.","English",33.799999999999898,27.039999999999921,"305","240 pp.",{"$f":"Table1[[#This Row],['# of Books]]*Table1[[#This Row],[QTY]]","v":0},{"$f":"Table1[[#This Row],[QTY]]*Table1[[#This Row],[School & Library Price]]","v":0}]
[null,11,null,null,"Current Issues","Opposing Viewpoints","Natural Disasters","978-0-7377-6060-6","Greenhaven Publishing","Library Bound Book",1,2013,null,"Library Bound","6.000 X 9.000","Author","Margaret Haerens",null,null,null,null,null,null,"Years 15 - 17",null,"Grade 10 - 12","Opposing Viewpoints: Natural Disasters explores the causes and frequency natural disasters as well the resulting issues surrounding media coverage, government aid and disaster relief. The viewpoints are selected from a wide range of highly respected and often hard-to-find sources and publications. By choosing from such diverse sources and including both popular and unpopular views, the Opposing Viewpoints series has adhered to its commitment to editorial objectivity. Readers are exposed to many sides of a debate, which promotes issue awareness as well as critical thinking.","English",48.8,39.04,"363.34","240 pp.",{"$f":"Table1[[#This Row],['# of Books]]*Table1[[#This Row],[QTY]]","v":0},{"$f":"Table1[[#This Row],[QTY]]*Table1[[#This Row],[School & Library Price]]","v":0}]
[null,11,null,null,"Current Issues","Opposing Viewpoints","Netiquette and Online Ethics","978-0-7377-6429-1","Greenhaven Publishing","Paperback Book",1,2013,null,"Paperback","6.000 X 9.000","Author","Noah Berlatsky",null,null,null,null,null,null,"Years 15 - 17",null,"Grade 10 - 12","Opposing Viewpoints: Netiquette and Online Ethics explores the relationship between the internet and civility as well as the ethics and etiquette of online relationships and social media. The viewpoints are selected from a wide range of highly respected and often hard-to-find sources and publications. By choosing from such diverse sources and including both popular and unpopular views, the Opposing Viewpoints series has adhered to its commitment to editorial objectivity. Readers are exposed to many sides of a debate, which promotes issue awareness as well as critical thinking.","English",33.799999999999898,27.039999999999921,"395","213 pp.",{"$f":"Table1[[#This Row],['# of Books]]*Table1[[#This Row],[QTY]]","v":0},{"$f":"Table1[[#This Row],[QTY]]*Table1[[#This Row],[School & Library Price]]","v":0}]
[null,11,null,null,"Current Issues","Opposing Viewpoints","North and South Korea","978-0-7377-6964-7","Greenhaven Publishing","Paperback Book",1,2014,null,"Paperback","6.000 X 9.000","Author","Noah Berlatsky",null,null,null,null,null,null,"Years 15 - 17",null,"Grade 10 - 12","This title explores issues related to North Korea and South Korea. Through a balanced collection of articles from a variety of sources, the title explores the relationship between the Koreas; the relationship between the Koreas and the world; if North Korea presents a serious threat to the world; and what human rights issues exist in North Korea and South Korea. The viewpoints are selected from a wide range of highly respected and often hard-to-find sources and publications. By choosing from such diverse sources and including both popular and unpopular views, the OPPOSING VIEWPOINTS editorial team has adhered to its commitment to editorial objectivity. Readers are exposed to many sides of a debate, which promotes issue awareness as well as critical thinking.","English",33.799999999999898,27.039999999999921,"951.904","209 pp.",{"$f":"Table1[[#This Row],['# of Books]]*Table1[[#This Row],[QTY]]","v":0},{"$f":"Table1[[#This Row],[QTY]]*Table1[[#This Row],[School & Library Price]]","v":0}]
[null,11,null,null,"Current Issues","Opposing Viewpoints","Nutrition","978-0-7377-5751-4","Greenhaven Publishing","Library Bound Book",1,2012,null,"Library Bound","6.000 X 9.000","Author","David M. Haugen",null,null,null,null,null,null,"Years 15 - 17",null,"Grade 10 - 12",null,"English",48.8,39.04,"613","240 pp.",{"$f":"Table1[[#This Row],['# of Books]]*Table1[[#This Row],[QTY]]","v":0},{"$f":"Table1[[#This Row],[QTY]]*Table1[[#This Row],[School & Library Price]]","v":0}]
[null,11,null,null,"Current Issues","Opposing Viewpoints","Offshore Drilling","978-0-7377-4780-5","Greenhaven Publishing","Paperback Book",1,2010,null,"Paperback","6.000 X 9.000","Author","Margaret Haerens",null,null,null,null,null,null,"Years 15 - 17",null,"Grade 10 - 12",null,"English",33.799999999999898,27.039999999999921,"622","248 pp.",{"$f":"Table1[[#This Row],['# of Books]]*Table1[[#This Row],[QTY]]","v":0},{"$f":"Table1[[#This Row],[QTY]]*Table1[[#This Row],[School & Library Price]]","v":0}]
[null,12,null,null,"Current Issues","Opposing Viewpoints","Organ Donation","978-0-7377-6333-1","Greenhaven Publishing","Paperback Book",1,2013,null,"Paperback","6.000 X 9.000","Author","Laura K. Egendorf",null,null,null,null,null,null,"Years 15 - 17",null,"Grade 10 - 12","Opposing Viewpoints: Organ Donation debates ethical issues related to organ donation, including body parts as property, selling organs, and the need to increase donations. The viewpoints are selected from a wide range of highly respected and often hard-to-find sources and publications. By choosing from such diverse sources and including both popular and unpopular views, the Opposing Viewpoints series has adhered to its commitment to editorial objectivity. Readers are exposed to many sides of a debate, which promotes issue awareness as well as critical thinking.","English",33.799999999999898,27.039999999999921,"617","182 pp.",{"$f":"Table1[[#This Row],['# of Books]]*Table1[[#This Row],[QTY]]","v":0},{"$f":"Table1[[#This Row],[QTY]]*Table1[[#This Row],[School & Library Price]]","v":0}]
[null,12,null,null,"Current Issues","Opposing Viewpoints","Outsourcing","978-0-7377-6064-4","Greenhaven Publishing","Library Bound Book",1,2013,null,"Library Bound","6.000 X 9.000","Author","Jenny Cromie",null,null,null,null,null,null,"Years 15 - 17",null,"Grade 10 - 12","Opposing Viewpoints: Outsourcing discusses the impact of outsourcing on business, the US, and global economy as well as US government regulation. The viewpoints are selected from a wide range of highly respected and often hard-to-find sources and publications. By choosing from such diverse sources and including both popular and unpopular views, the Opposing Viewpoints series has adhered to its commitment to editorial objectivity. Readers are exposed to many sides of a debate, which promotes issue awareness as well as critical thinking.","English",48.8,39.04,"658.4","168 pp.",{"$f":"Table1[[#This Row],['# of Books]]*Table1[[#This Row],[QTY]]","v":0},{"$f":"Table1[[#This Row],[QTY]]*Table1[[#This Row],[School & Library Price]]","v":0}]
[null,12,null,null,"Current Issues","Opposing Viewpoints","Outsourcing","978-0-7377-6065-1","Greenhaven Publishing","Paperback Book",1,2013,null,"Paperback","6.000 X 9.000","Author","Jenny Cromie",null,null,null,null,null,null,"Years 15 - 17",null,"Grade 10 - 12","Opposing Viewpoints: Outsourcing discusses the impact of outsourcing on business, the US, and global economy as well as US government regulation. The viewpoints are selected from a wide range of highly respected and often hard-to-find sources and publications. By choosing from such diverse sources and including both popular and unpopular views, the Opposing Viewpoints series has adhered to its commitment to editorial objectivity. Readers are exposed to many sides of a debate, which promotes issue awareness as well as critical thinking.","English",33.799999999999898,27.039999999999921,"658.4","168 pp.",{"$f":"Table1[[#This Row],['# of Books]]*Table1[[#This Row],[QTY]]","v":0},{"$f":"Table1[[#This Row],[QTY]]*Table1[[#This Row],[School & Library Price]]","v":0}]
[null,12,null,null,"Current Issues","Opposing Viewpoints","Pacifism","978-0-7377-5230-4","Greenhaven Publishing","Paperback Book",1,2011,null,"Paperback","6.000 X 9.000","Author","Noah Berlatsky",null,null,null,null,null,null,"Years 15 - 17",null,"Grade 10 - 12",null,"English",33.799999999999898,27.039999999999921,"303","232 pp.",{"$f":"Table1[[#This Row],['# of Books]]*Table1[[#This Row],[QTY]]","v":0},{"$f":"Table1[[#This Row],[QTY]]*Table1[[#This Row],[School & Library Price]]","v":0}]
[null,12,null,null,"Current Issues","Opposing Viewpoints","Palestinian Territories","978-0-7377-6967-8","Greenhaven Publishing","Library Bound Book",1,2014,null,"Library Bound","6.000 X 9.000","Author","Margaret Haerens",null,null,null,null,null,null,"Years 15 - 17",null,"Grade 10 - 12","This title explores possible solutions to the Palestinian-Israeli conflict, whether the United Nations should grant Palestinian statehood, what the Palestinians can to  improve political and economic circumstances in the territories, and how the United States can treat the Palestinian territories. The viewpoints are selected from a wide range of highly respected and often hard-to-find sources and publications. By choosing from such diverse sources and including both popular and unpopular views, the OPPOSING VIEWPOINTS editorial team has adhered to its commitment to editorial objectivity. Readers are exposed to many sides of a debate, which promotes issue awareness as well as critical thinking.","English",48.8,39.04,"956","224 pp.",{"$f":"Table1[[#This Row],['# of Books]]*Table1[[#This Row],[QTY]]","v":0},{"$f":"Table1[[#This Row],[QTY]]*Table1[[#This Row],[School & Library Price]]","v":0}]
[null,12,null,null,"Current Issues","Opposing Viewpoints","Parenting","978-0-7377-6336-2","Greenhaven Publishing","Library Bound Book",1,2013,null,"Library Bound","6.000 X 9.000","Author","Roman Espejo",null,null,null,null,null,null,"Years 15 - 17",null,"Grade 10 - 12","Opposing Viewpoints: Parenting discusses the controversies surrounding parenting including discipline, liability and the effects of different forms of parenting. The viewpoints are selected from a wide range of highly respected and often hard-to-find sources and publications. By choosing from such diverse sources and including both popular and unpopular views, the Opposing Viewpoints series has adhered to its commitment to editorial objectivity. Readers are exposed to many sides of a debate, which promotes issue awareness as well as critical thinking.","English",48.8,39.04,"649","200 pp.",{"$f":"Table1[[#This Row],['# of Books]]*Table1[[#This Row],[QTY]]","v":0},{"$f":"Table1[[#This Row],[QTY]]*Table1[[#This Row],[School & Library Price]]","v":0}]
[null,12,null,null,"Current Issues","Opposing Viewpoints","Police Brutality","978-0-7377-7519-8","Greenhaven Publishing","Paperback Book",1,2016,null,"Paperback","6.000 X 9.000","Author","Michael Ruth",null,null,null,null,null,null,"Years 15 - 17",null,"Grade 10 - 12","This title addresses controversies related to police brutality including are police using excessive force? Is police brutality a widespread problem in the United States? How can police brutality be stopped? What is the US government's response to police brutality?","English",33.799999999999898,27.039999999999921,"616","226 pp.",{"$f":"Table1[[#This Row],['# of Books]]*Table1[[#This Row],[QTY]]","v":0},{"$f":"Table1[[#This Row],[QTY]]*Table1[[#This Row],[School & Library Price]]","v":0}]
[null,12,null,null,"Current Issues","Opposing Viewpoints","Pollution","978-0-7377-5232-8","Greenhaven Publishing","Paperback Book",1,2011,null,"Paperback","6.000 X 9.000","Author","Louise I. Gerdes",null,null,null,null,null,null,"Years 15 - 17",null,"Grade 10 - 12",null,"English",33.799999999999898,27.039999999999921,"363","264 pp.",{"$f":"Table1[[#This Row],['# of Books]]*Table1[[#This Row],[QTY]]","v":0},{"$f":"Table1[[#This Row],[QTY]]*Table1[[#This Row],[School & Library Price]]","v":0}]
[null,12,null,null,"Current Issues","Opposing Viewpoints","Population","978-0-7377-5756-9","Greenhaven Publishing","Paperback Book",1,2012,null,"Paperback","6.000 X 9.000","Author","David M. Haugen",null,null,null,null,null,null,"Years 15 - 17",null,"Grade 10 - 12",null,"English",33.799999999999898,27.039999999999921,"304","232 pp.",{"$f":"Table1[[#This Row],['# of Books]]*Table1[[#This Row],[QTY]]","v":0},{"$f":"Table1[[#This Row],[QTY]]*Table1[[#This Row],[School & Library Price]]","v":0}]
[null,12,null,null,"Current Issues","Opposing Viewpoints","Prescription Drug Abuse","978-0-7377-6066-8","Greenhaven Publishing","Library Bound Book",1,2013,null,"Library Bound","6.000 X 9.000","Author","Lynn Zott",null,null,null,null,null,null,"Years 15 - 17",null,"Grade 10 - 12","The information in this volume provides insight into the impact and consequences of the prescription drug abuse problem in the United States, the causes of prescription drug addiction, and proposed and existing government policies that are hotly debated in the ongoing effort to effectively confront the prescription drug abuse problem in this country. Varied expert opinions that examine many of the different aspects that surround this issue are presented. The viewpoints are selected from a wide range of highly respected and often hard-to-find sources and publications. Allows the reader to attain the higher-level critical thinking and reading skills that are essential in a culture of diverse and contradictory opinions.","English",48.8,39.04,"362.29","256 pp.",{"$f":"Table1[[#This Row],['# of Books]]*Table1[[#This Row],[QTY]]","v":0},{"$f":"Table1[[#This Row],[QTY]]*Table1[[#This Row],[School & Library Price]]","v":0}]
[null,12,null,null,"Current Issues","Opposing Viewpoints","Presidential Powers","978-0-7377-4983-0","Greenhaven Publishing","Paperback Book",1,2010,null,"Paperback","6.000 X 9.000","Author","Noah Berlatsky",null,null,null,null,null,null,"Years 15 - 17",null,"Grade 10 - 12",null,"English",33.799999999999898,27.039999999999921,"342","238 pp.",{"$f":"Table1[[#This Row],['# of Books]]*Table1[[#This Row],[QTY]]","v":0},{"$f":"Table1[[#This Row],[QTY]]*Table1[[#This Row],[School & Library Price]]","v":0}]
[null,12,null,null,"Current Issues","Opposing Viewpoints","Professional Athletes","978-0-7377-6068-2","Greenhaven Publishing","Library Bound Book",1,2014,null,"Library Bound","6.000 X 9.000","Author","Margaret Haerens",null,null,null,null,null,null,"Years 15 - 17",null,"Grade 10 - 12","This title addresses various issues related to professional athletes, including their role in society; policies regarding performance-enhancing drugs; whether athletes' free expression should be limited; and other controversies surrounding athletes, such as gambling problems and high salaries. The viewpoints are selected from a wide range of highly respected and often hard-to-find sources and publications. By choosing from such diverse sources and including both popular and unpopular views, the OPPOSING VIEWPOINTS editorial team has adhered to its commitment to editorial objectivity. Readers are exposed to many sides of a debate, which promotes issue awareness as well as critical thinking.","English",48.8,39.04,"796.01","208 pp.",{"$f":"Table1[[#This Row],['# of Books]]*Table1[[#This Row],[QTY]]","v":0},{"$f":"Table1[[#This Row],[QTY]]*Table1[[#This Row],[School & Library Price]]","v":0}]
[null,12,null,null,"Current Issues","Opposing Viewpoints","Racial Profiling","978-0-7377-6070-5","Greenhaven Publishing","Library Bound Book",1,2013,null,"Library Bound","6.000 X 9.000","Author","Carol Ullmann",null,null,null,null,null,null,"Years 15 - 17",null,"Grade 10 - 12","Opposing Viewpoints: Racial Profiling presents articles regarding the issues surrounding racial profiling, including if Arab Muslims should be profiled in the war on terror, if racial profiling is justifiable, and what are the consequences of racial profiling. The viewpoints are selected from a wide range of highly respected and often hard-to-find sources and publications. By choosing from such diverse sources and including both popular and unpopular views, the Opposing Viewpoints series has adhered to its commitment to editorial objectivity. Readers are exposed to many sides of a debate, which promotes issue awareness as well as critical thinking.","English",48.8,39.04,"363.25","248 pp.",{"$f":"Table1[[#This Row],['# of Books]]*Table1[[#This Row],[QTY]]","v":0},{"$f":"Table1[[#This Row],[QTY]]*Table1[[#This Row],[School & Library Price]]","v":0}]
[null,12,null,null,"Current Issues","Opposing Viewpoints","Refugees","978-0-7377-4224-4","Greenhaven Publishing","Library Bound Book",1,2010,null,"Library Bound","6.000 X 9.000","Author","Margaret Haerens",null,null,null,null,null,null,"Years 15 - 17",null,"Grade 10 - 12",null,"English",48.8,39.04,"325","232 pp.",{"$f":"Table1[[#This Row],['# of Books]]*Table1[[#This Row],[QTY]]","v":0},{"$f":"Table1[[#This Row],[QTY]]*Table1[[#This Row],[School & Library Price]]","v":0}]
[null,12,null,null,"Current Issues","Opposing Viewpoints","Religion in America","978-0-7377-4989-2","Greenhaven Publishing","Paperback Book",1,2011,null,"Paperback","6.000 X 9.000","Author","David Haugen",null,null,null,null,null,null,"Years 15 - 17",null,"Grade 10 - 12",null,"English",33.799999999999898,27.039999999999921,"200","240 pp.",{"$f":"Table1[[#This Row],['# of Books]]*Table1[[#This Row],[QTY]]","v":0},{"$f":"Table1[[#This Row],[QTY]]*Table1[[#This Row],[School & Library Price]]","v":0}]
[null,12,null,null,"Current Issues","Opposing Viewpoints","Renewable Energy","978-0-7377-6139-9","Greenhaven Publishing","Library Bound Book",1,2012,null,"Library Bound","6.000 X 9.000","Author","David M. Haugen",null,null,null,null,null,null,"Years 15 - 17",null,"Grade 10 - 12","This title explores renewable Energy and climate change, and examines how best to transition to renewable energy, various renewable energy sources such as biofuels, ethanol, and electric vehicles, and the government’s role in supporting renewable energy.","English",48.8,39.04,"333.79","256 pp.",{"$f":"Table1[[#This Row],['# of Books]]*Table1[[#This Row],[QTY]]","v":0},{"$f":"Table1[[#This Row],[QTY]]*Table1[[#This Row],[School & Library Price]]","v":0}]
[null,12,null,null,"Current Issues","Opposing Viewpoints","Robotic Technology","978-0-7377-6338-6","Greenhaven Publishing","Library Bound Book",1,2014,null,"Library Bound","6.000 X 9.000","Author","Louise I. Gerdes",null,null,null,null,null,null,"Years 15 - 17",null,"Grade 10 - 12","This title explores various issues related to robotic technology, centered around the questions of whether robotic technology is beneficial, what role should robotic technology play in war, and what are the ethical, legal and moral considerations surrounding robotic technology. The viewpoints are selected from a wide range of highly respected and often hard-to-find sources and publications. By choosing from such diverse sources and including both popular and unpopular views, the OPPOSING VIEWPOINTS editorial team has adhered to its commitment to editorial objectivity. Readers are exposed to many sides of a debate, which promotes issue awareness as well as critical thinking.","English",48.8,39.04,"629","200 pp.",{"$f":"Table1[[#This Row],['# of Books]]*Table1[[#This Row],[QTY]]","v":0},{"$f":"Table1[[#This Row],[QTY]]*Table1[[#This Row],[School & Library Price]]","v":0}]
[null,12,null,null,"Current Issues","Opposing Viewpoints","Russia","978-0-7377-6970-8","Greenhaven Publishing","Paperback Book",1,2014,null,"Paperback","6.000 X 9.000","Author","David M. Haugen",null,null,null,null,null,null,"Years 15 - 17",null,"Grade 10 - 12","This title explores Russia’s role in international politics, whether Russia is moving toward a democracy, what relationship the West should foster with Russia, and how Russian culture is changing. The viewpoints are selected from a wide range of highly respected and often hard-to-find sources and publications. By choosing from such diverse sources and including both popular and unpopular views, the OPPOSING VIEWPOINTS editorial team has adhered to its commitment to editorial objectivity. Readers are exposed to many sides of a debate, which promotes issue awareness as well as critical thinking.","English",33.799999999999898,27.039999999999921,"947.086","266 pp.",{"$f":"Table1[[#This Row],['# of Books]]*Table1[[#This Row],[QTY]]","v":0},{"$f":"Table1[[#This Row],[QTY]]*Table1[[#This Row],[School & Library Price]]","v":0}]
[null,12,null,null,"Current Issues","Opposing Viewpoints","School Funding","978-0-7377-5436-0","Greenhaven Publishing","Library Bound Book",1,2012,null,"Library Bound","6.000 X 9.000","Author","Lynn M. Zott",null,null,null,null,null,null,"Years 15 - 17",null,"Grade 10 - 12",null,"English",48.8,39.04,"379","224 pp.",{"$f":"Table1[[#This Row],['# of Books]]*Table1[[#This Row],[QTY]]","v":0},{"$f":"Table1[[#This Row],[QTY]]*Table1[[#This Row],[School & Library Price]]","v":0}]
[null,13,null,null,"Current Issues","Opposing Viewpoints","School Safety","978-0-7377-7527-3","Greenhaven Publishing","Paperback Book",1,2016,null,"Paperback","6.000 X 9.000","Author","Noah Berlatsky",null,null,null,null,null,null,"Years 15 - 17",null,"Grade 10 - 12","This title in the Opposing Viewpoint series examines the important topic of school safety, asking such questions as: Are schools safe?; Can better gun policy make schools safer?; Can security measures make schools safer?; and What is the relationship between health care issues and student safety?","English",33.799999999999898,27.039999999999921,"371","211 pp.",{"$f":"Table1[[#This Row],['# of Books]]*Table1[[#This Row],[QTY]]","v":0},{"$f":"Table1[[#This Row],[QTY]]*Table1[[#This Row],[School & Library Price]]","v":0}]
[null,13,null,null,"Current Issues","Opposing Viewpoints","Sexual Assault on Campus","978-0-7377-7560-0","Greenhaven Publishing","Library Bound Book",1,2016,null,"Library Bound","6.000 X 9.000","Author","Jack Lasky",null,null,null,null,null,null,"Years 15 - 17",null,"Grade 10 - 12","This title in the Opposing Viewpoints series investigates the seriousness of sexual assault on college campuses. Topics covered include why sexual assaults happen on campus, how is the problem being addressed, are the assault cases being handled properly, and what solutions need to be put in place to decrease the number of campus assaults.","English",48.8,39.04,"364","209 pp.",{"$f":"Table1[[#This Row],['# of Books]]*Table1[[#This Row],[QTY]]","v":0},{"$f":"Table1[[#This Row],[QTY]]*Table1[[#This Row],[School & Library Price]]","v":0}]
[null,13,null,null,"Current Issues","Opposing Viewpoints","Sexually Transmitted Diseases","978-0-7377-5237-3","Greenhaven Publishing","Library Bound Book",1,2011,null,"Library Bound","6.000 X 9.000","Author","Roman Espejo",null,null,null,null,null,null,"Years 15 - 17",null,"Grade 10 - 12",null,"English",48.8,39.04,"616","240 pp.",{"$f":"Table1[[#This Row],['# of Books]]*Table1[[#This Row],[QTY]]","v":0},{"$f":"Table1[[#This Row],[QTY]]*Table1[[#This Row],[School & Library Price]]","v":0}]
[null,13,null,null,"Current Issues","Opposing Viewpoints","Single-Parent Families","978-0-7377-7529-7","Greenhaven Publishing","Paperback Book",1,2016,null,"Paperback","6.000 X 9.000","Author","Margaret Haerens",null,null,null,null,null,null,"Years 15 - 17",null,"Grade 10 - 12","This title explores issues related to families headed by one parent, including how single-parent families affect children and communities, the challenges they face, and what government policies should be in place to help them.","English",33.799999999999898,27.039999999999921,"306","272 pp.",{"$f":"Table1[[#This Row],['# of Books]]*Table1[[#This Row],[QTY]]","v":0},{"$f":"Table1[[#This Row],[QTY]]*Table1[[#This Row],[School & Library Price]]","v":0}]
[null,13,null,null,"Current Issues","Opposing Viewpoints","Smartphones","978-0-7377-6342-3","Greenhaven Publishing","Library Bound Book",1,2013,null,"Library Bound","6.000 X 9.000","Author","Roman Espejo",null,null,null,null,null,null,"Years 15 - 17",null,"Grade 10 - 12","Opposing Viewpoints: Smartphones discusses smartphone ownership including the benefits and privacy risks. The viewpoints are selected from a wide range of highly respected and often hard-to-find sources and publications. By choosing from such diverse sources and including both popular and unpopular views, the Opposing Viewpoints series has adhered to its commitment to editorial objectivity. Readers are exposed to many sides of a debate, which promotes issue awareness as well as critical thinking.","English",48.8,39.04,"005","208 pp.",{"$f":"Table1[[#This Row],['# of Books]]*Table1[[#This Row],[QTY]]","v":0},{"$f":"Table1[[#This Row],[QTY]]*Table1[[#This Row],[School & Library Price]]","v":0}]
[null,13,null,null,"Current Issues","Opposing Viewpoints","Social Security","978-0-7377-4856-7","Greenhaven Publishing","Library Bound Book",1,2010,null,"Library Bound","6.000 X 9.000","Author","Mitchell Young",null,null,null,null,null,null,"Years 15 - 17",null,"Grade 10 - 12","Explores whether or not a crisis exists within the social security system and the role played by politics, demographics, and private pensions. Examines proposals for reforming the social security system, and the impact of the current system on different social groups. Also looks at pension systems in other countries, including Great Britain and Chile.","English",48.8,39.04,"368","224 pp.",{"$f":"Table1[[#This Row],['# of Books]]*Table1[[#This Row],[QTY]]","v":0},{"$f":"Table1[[#This Row],[QTY]]*Table1[[#This Row],[School & Library Price]]","v":0}]
[null,13,null,null,"Current Issues","Opposing Viewpoints","Space Exploration","978-0-7377-7563-1","Greenhaven Publishing","Paperback Book",1,2016,null,"Paperback","6.000 X 9.000","Author","Michael Ruth",null,null,null,null,null,null,"Years 15 - 17",null,"Grade 10 - 12","This title addresses controversies related to space exploration including: What is the role of space exploration in the modern world? Where in space should humans explore? What are the politics of space exploration? What is the science behind space exploration?","English",33.799999999999898,27.039999999999921,"629","191 pp.",{"$f":"Table1[[#This Row],['# of Books]]*Table1[[#This Row],[QTY]]","v":0},{"$f":"Table1[[#This Row],[QTY]]*Table1[[#This Row],[School & Library Price]]","v":0}]
[null,13,null,null,"Current Issues","Opposing Viewpoints","Sports and Athletes","978-0-7377-4542-9","Greenhaven Publishing","Library Bound Book",1,2009,null,"Library Bound","6.000 X 9.000","Author","Christine Watkins",null,null,null,null,null,null,"Years 15 - 17",null,"Grade 10 - 12",null,"English",48.8,39.04,"796","232 pp.",{"$f":"Table1[[#This Row],['# of Books]]*Table1[[#This Row],[QTY]]","v":0},{"$f":"Table1[[#This Row],[QTY]]*Table1[[#This Row],[School & Library Price]]","v":0}]
[null,13,null,null,"Current Issues","Opposing Viewpoints","Stem Cells","978-0-7377-5760-6","Greenhaven Publishing","Paperback Book",1,2012,null,"Paperback","6.000 X 9.000","Author","Jacqueline Langwith",null,null,null,null,null,null,"Years 15 - 17",null,"Grade 10 - 12",null,"English",33.799999999999898,27.039999999999921,"174","240 pp.",{"$f":"Table1[[#This Row],['# of Books]]*Table1[[#This Row],[QTY]]","v":0},{"$f":"Table1[[#This Row],[QTY]]*Table1[[#This Row],[School & Library Price]]","v":0}]
[null,13,null,null,"Current Issues","Opposing Viewpoints","Student Life","978-0-7377-4990-8","Greenhaven Publishing","Library Bound Book",1,2011,null,"Library Bound","6.000 X 9.000","Author","Karen Miller",null,null,null,null,null,null,"Years 15 - 17",null,"Grade 10 - 12",null,"English",48.8,39.04,"378","216 pp.",{"$f":"Table1[[#This Row],['# of Books]]*Table1[[#This Row],[QTY]]","v":0},{"$f":"Table1[[#This Row],[QTY]]*Table1[[#This Row],[School & Library Price]]","v":0}]
[null,13,null,null,"Current Issues","Opposing Viewpoints","Syria","978-0-7377-7007-0","Greenhaven Publishing","Paperback Book",1,2015,null,"Paperback","6.000 X 9.000","Author","Noah Berlatsky",null,null,null,null,null,null,"Years 15 - 17",null,"Grade 10 - 12","This title in the OPPOSING VIEWPOINTS SERIES examines the ongoing conflict in Syria, exploring such topics as what is the United States’ role in the Syrian civil war, the status of the Syrian resistance, the ongoing Syrian refugee crisis, and Syria’s relationship with the rest of the world.","English",33.799999999999898,27.039999999999921,"956","227 pp.",{"$f":"Table1[[#This Row],['# of Books]]*Table1[[#This Row],[QTY]]","v":0},{"$f":"Table1[[#This Row],[QTY]]*Table1[[#This Row],[School & Library Price]]","v":0}]
[null,13,null,null,"Current Issues","Opposing Viewpoints","Teachers and Ethics","978-0-7377-7533-4","Greenhaven Publishing","Paperback Book",1,2016,null,"Paperback","6.000 X 9.000","Author","Noah Berlatsky",null,null,null,null,null,null,"Years 15 - 17",null,"Grade 10 - 12","This title addresses controversies related to teachers and ethics including: What are the ethical issues surrounding teachers and unions? What are ethical issues around teachers' working conditions? What are ethical issues surrounding testing? What are ethical issues for teachers outside the classroom?","English",33.799999999999898,27.039999999999921,"174","228 pp.",{"$f":"Table1[[#This Row],['# of Books]]*Table1[[#This Row],[QTY]]","v":0},{"$f":"Table1[[#This Row],[QTY]]*Table1[[#This Row],[School & Library Price]]","v":0}]
[null,13,null,null,"Current Issues","Opposing Viewpoints","Teen Drug Abuse","978-0-7377-4993-9","Greenhaven Publishing","Paperback Book",1,2011,null,"Paperback","6.000 X 9.000","Author","David E. Nelson",null,null,null,null,null,null,"Years 15 - 17",null,"Grade 10 - 12","Explores whether or not teen drug abuse is a serious problem, and if the use of certain drugs is increasing. Examines the potential causes and effects of teen drug abuse, such as adolescent depression and sexual activity. Discusses prevention measures, including school drug testing programs, \"tough love\" treatment, and anti-drug programs.","English",33.799999999999898,27.039999999999921,"362","240 pp.",{"$f":"Table1[[#This Row],['# of Books]]*Table1[[#This Row],[QTY]]","v":0},{"$f":"Table1[[#This Row],[QTY]]*Table1[[#This Row],[School & Library Price]]","v":0}]
[null,13,null,null,"Current Issues","Opposing Viewpoints","Teens at Risk","978-0-7377-6430-7","Greenhaven Publishing","Library Bound Book",1,2013,null,"Library Bound","6.000 X 9.000","Author","Stephen Thompson",null,null,null,null,null,null,"Years 15 - 17",null,"Grade 10 - 12","This title explores factors that put teens at risk including: poverty, food choices, depression, alcohol and drugs, violent video games and bullying. Also discusses issues related to sexuality and gender. The viewpoints are selected from a wide range of highly respected and often hard-to-find sources and publications. By choosing from such diverse sources and including both popular and unpopular views, the OPPOSING VIEWPOINTS editorial team has adhered to its commitment to editorial objectivity. Readers are exposed to many sides of a debate, which promotes issue awareness as well as critical thinking.","English",48.8,39.04,"362","200 pp.",{"$f":"Table1[[#This Row],['# of Books]]*Table1[[#This Row],[QTY]]","v":0},{"$f":"Table1[[#This Row],[QTY]]*Table1[[#This Row],[School & Library Price]]","v":0}]
[null,13,null,null,"Current Issues","Opposing Viewpoints","Terrorism","978-0-7377-4234-3","Greenhaven Publishing","Library Bound Book",1,2009,null,"Library Bound","6.000 X 9.000","Author","Mike Wilson",null,null,null,null,null,null,"Years 15 - 17",null,"Grade 10 - 12",null,"English",48.8,39.04,"303","216 pp.",{"$f":"Table1[[#This Row],['# of Books]]*Table1[[#This Row],[QTY]]","v":0},{"$f":"Table1[[#This Row],[QTY]]*Table1[[#This Row],[School & Library Price]]","v":0}]
[null,13,null,null,"Current Issues","Opposing Viewpoints","Terrorism","978-0-7377-4235-0","Greenhaven Publishing","Paperback Book",1,2009,null,"Paperback","6.000 X 9.000","Author","Mike Wilson",null,null,null,null,null,null,"Years 15 - 17",null,"Grade 10 - 12",null,"English",33.799999999999898,27.039999999999921,"303","209 pp.",{"$f":"Table1[[#This Row],['# of Books]]*Table1[[#This Row],[QTY]]","v":0},{"$f":"Table1[[#This Row],[QTY]]*Table1[[#This Row],[School & Library Price]]","v":0}]
[null,13,null,null,"Current Issues","Opposing Viewpoints","The Aging Population","978-0-7377-6943-2","Greenhaven Publishing","Library Bound Book",1,2014,null,"Library Bound","6.000 X 9.000","Author","Margaret Haerens",null,null,null,null,null,null,"Years 15 - 17",null,"Grade 10 - 12","OPPOSING VIEWPOINTS: AGING POPULATION explores numerous impacts of the aging population, including the economic consequences of an aging population, the social and legal issues of an aging population, social security and the medical challenges that face an aging population. The viewpoints are selected from a wide range of highly respected and often hard-to-find sources and publications. By choosing from such diverse sources and including both popular and unpopular views, the OPPOSING VIEWPOINTS series has adhered to its commitment to editorial objectivity. Readers are exposed to many sides of a debate, which promotes issue awareness as well as critical thinking.","English",48.8,39.04,"305","256 pp.",{"$f":"Table1[[#This Row],['# of Books]]*Table1[[#This Row],[QTY]]","v":0},{"$f":"Table1[[#This Row],[QTY]]*Table1[[#This Row],[School & Library Price]]","v":0}]
[null,13,null,null,"Current Issues","Opposing Viewpoints","The Arab Spring","978-0-7377-6043-9","Greenhaven Publishing","Paperback Book",1,2013,null,"Paperback","6.000 X 9.000","Author","Margaret Haerens",null,null,null,null,null,null,"Years 15 - 17",null,"Grade 10 - 12","This title explores what caused the Arab Spring, how the international community should respond to the Arab Spring, how the US should respond to the Arab Spring, and the social and political effects of the Arab Spring.","English",33.799999999999898,27.039999999999921,"909","219 pp.",{"$f":"Table1[[#This Row],['# of Books]]*Table1[[#This Row],[QTY]]","v":0},{"$f":"Table1[[#This Row],[QTY]]*Table1[[#This Row],[School & Library Price]]","v":0}]
[null,13,null,null,"Current Issues","Opposing Viewpoints","The Banking Crisis","978-0-7377-4855-0","Greenhaven Publishing","Paperback Book",1,2010,null,"Paperback","6.000 X 9.000","Author","Dedria Bryfonski",null,null,null,null,null,null,"Years 15 - 17",null,"Grade 10 - 12","Explores the possible causes of the banking crisis, including greed, deregulation, government policies, excessive compensation and excessive debt. Examines the current stability of the U.S. banking system and the effect of bailouts, as well as possible fixes like increased regulation or nationalization. Also looks at the role played by foreign investments and banks in the crisis.","English",33.799999999999898,27.039999999999921,"332","272 pp.",{"$f":"Table1[[#This Row],['# of Books]]*Table1[[#This Row],[QTY]]","v":0},{"$f":"Table1[[#This Row],[QTY]]*Table1[[#This Row],[School & Library Price]]","v":0}]
[null,14,null,null,"Current Issues","Opposing Viewpoints","The Culture of Beauty","978-0-7377-6310-2","Greenhaven Publishing","Library Bound Book",1,2013,null,"Library Bound","6.000 X 9.000","Author","Louise I. Gerdes",null,null,null,null,null,null,"Years 15 - 17",null,"Grade 10 - 12","This title in the Opposing Viewpoints series explores the culture of beauty by placing expert opinions in a unique pro/con format. The viewpoints are selected from a wide range of highly respected and often hard-to-find sources and publications. By choosing from such diverse sources and including both popular and unpopular views, the Opposing Viewpoints series has adhered to its commitment to editorial objectivity. Readers are exposed to many sides of a debate, which promotes issue awareness as well as critical thinking.","English",48.8,39.04,"306","192 pp.",{"$f":"Table1[[#This Row],['# of Books]]*Table1[[#This Row],[QTY]]","v":0},{"$f":"Table1[[#This Row],[QTY]]*Table1[[#This Row],[School & Library Price]]","v":0}]
[null,14,null,null,"Current Issues","Opposing Viewpoints","The European Union","978-0-7377-3998-5","Greenhaven Publishing","Library Bound Book",1,2008,null,"Library Bound","6.000 X 9.000","Author","Noël Merino",null,null,null,null,null,null,"Years 15 - 17",null,"Grade 10 - 12",null,"English",48.8,39.04,"341","200 pp.",{"$f":"Table1[[#This Row],['# of Books]]*Table1[[#This Row],[QTY]]","v":0},{"$f":"Table1[[#This Row],[QTY]]*Table1[[#This Row],[School & Library Price]]","v":0}]
[null,14,null,null,"Current Issues","Opposing Viewpoints","The European Union","978-0-7377-3999-2","Greenhaven Publishing","Paperback Book",1,2008,null,"Paperback","6.000 X 9.000","Author","Noël Merino",null,null,null,null,null,null,"Years 15 - 17",null,"Grade 10 - 12",null,"English",33.799999999999898,27.039999999999921,"341","197 pp.",{"$f":"Table1[[#This Row],['# of Books]]*Table1[[#This Row],[QTY]]","v":0},{"$f":"Table1[[#This Row],[QTY]]*Table1[[#This Row],[School & Library Price]]","v":0}]
[null,14,null,null,"Current Issues","Opposing Viewpoints","The Federal Budget","978-0-7377-4770-6","Greenhaven Publishing","Paperback Book",1,2010,null,"Paperback","6.000 X 9.000","Author","Amanda Hiber",null,null,null,null,null,null,"Years 15 - 17",null,"Grade 10 - 12","Explores the effectiveness of the current federal budget process and potential areas for reform, including earmarks, supplemental appropriations, and PAYGO. Offers viewpoints on how best to raise federal revenues as well as how - and on what - they should be spent. Also examines the impact federal budget deficits have on the U.S. economy.","English",33.799999999999898,27.039999999999921,"336","240 pp.",{"$f":"Table1[[#This Row],['# of Books]]*Table1[[#This Row],[QTY]]","v":0},{"$f":"Table1[[#This Row],[QTY]]*Table1[[#This Row],[School & Library Price]]","v":0}]
[null,14,null,null,"Current Issues","Opposing Viewpoints","The Film Industry","978-0-7377-4364-7","Greenhaven Publishing","Library Bound Book",1,2009,null,"Library Bound","6.000 X 9.000","Author","Roman Espejo",null,null,null,null,null,null,"Years 15 - 17",null,"Grade 10 - 12",null,"English",48.8,39.04,"384","224 pp.",{"$f":"Table1[[#This Row],['# of Books]]*Table1[[#This Row],[QTY]]","v":0},{"$f":"Table1[[#This Row],[QTY]]*Table1[[#This Row],[School & Library Price]]","v":0}]
[null,14,null,null,"Current Issues","Opposing Viewpoints","The Impact of the Tech Giants","978-0-7377-7522-8","Greenhaven Publishing","Library Bound Book",1,2016,null,"Library Bound","6.000 X 9.000","Author","Noah Berlatsky",null,null,null,null,null,null,"Years 15 - 17",null,"Grade 10 - 12","For decades, computer and technology companies have been the largest and most successful players in a global market. This title in the Greenhaven Opposing Viewpoints series examines the rise of the tech giants, and their effects worldwide.","English",48.8,39.04,"600","241 pp.",{"$f":"Table1[[#This Row],['# of Books]]*Table1[[#This Row],[QTY]]","v":0},{"$f":"Table1[[#This Row],[QTY]]*Table1[[#This Row],[School & Library Price]]","v":0}]
[null,14,null,null,"Current Issues","Opposing Viewpoints","The Internet","978-0-7377-7555-6","Greenhaven Publishing","Paperback Book",1,2016,null,"Paperback","6.000 X 9.000","Author","Jack Lasky",null,null,null,null,null,null,"Years 15 - 17",null,"Grade 10 - 12","This title addresses controversies related to the internet including:  How should the internet be governed? How does the internet impact the world? What challenges does the internet pose? Can the internet be dangerous?","English",33.799999999999898,27.039999999999921,"303","174 pp.",{"$f":"Table1[[#This Row],['# of Books]]*Table1[[#This Row],[QTY]]","v":0},{"$f":"Table1[[#This Row],[QTY]]*Table1[[#This Row],[School & Library Price]]","v":0}]
[null,14,null,null,"Current Issues","Opposing Viewpoints","The Middle Class","978-0-7377-4778-2","Greenhaven Publishing","Paperback Book",1,2010,null,"Paperback","6.000 X 9.000","Author","David Haugen",null,null,null,null,null,null,"Years 15 - 17",null,"Grade 10 - 12","Explores the current economic state of the middle class in America, the reality of opportunities for upward mobility, and the idea that the middle class is declining. Examines the impact of middle class values on society, addressing the work ethic, debt, consumerism, gentrification, and the tax burden. Also looks at the movement of minorities into and out of the middle class.","English",33.799999999999898,27.039999999999921,"305","256 pp.",{"$f":"Table1[[#This Row],['# of Books]]*Table1[[#This Row],[QTY]]","v":0},{"$f":"Table1[[#This Row],[QTY]]*Table1[[#This Row],[School & Library Price]]","v":0}]
[null,14,null,null,"Current Issues","Opposing Viewpoints","The Middle East Peace Process","978-0-7377-4976-2","Greenhaven Publishing","Library Bound Book",1,2011,null,"Library Bound","6.000 X 9.000","Author","Susan Hunnicutt",null,null,null,null,null,null,"Years 15 - 17",null,"Grade 10 - 12","Explores the issues contributing to the current crisis in the Middle East and the future of the peace process. Discusses whether or not human rights violations took place in Gaza, including reactions to the Goldstone Report; examines the potential for a two-state solution; and looks at concerns about the possibility of nuclear war in the region.","English",48.8,39.04,"327","192 pp.",{"$f":"Table1[[#This Row],['# of Books]]*Table1[[#This Row],[QTY]]","v":0},{"$f":"Table1[[#This Row],[QTY]]*Table1[[#This Row],[School & Library Price]]","v":0}]
[null,14,null,null,"Current Issues","Opposing Viewpoints","The Minimum Wage","978-0-7377-5741-5","Greenhaven Publishing","Library Bound Book",1,2012,null,"Library Bound","6.000 X 9.000","Author","Noah Berlatsky",null,null,null,null,null,null,"Years 15 - 17",null,"Grade 10 - 12","Articles collected in this edition of the popular OPPOSING VIEWPOINTS series discuss the minimum wage. The title includes a balanced selection of articles that address the impact of the minimum wage on workers, businesses, and the overall economy. Included articles also discuss how the minimum wage impacts immigration in the United States, and a variety issues related to the minimum wage in other countries, including Canada, China and Egypt.","English",48.8,39.04,"344","216 pp.",{"$f":"Table1[[#This Row],['# of Books]]*Table1[[#This Row],[QTY]]","v":0},{"$f":"Table1[[#This Row],[QTY]]*Table1[[#This Row],[School & Library Price]]","v":0}]
[null,14,null,null,"Current Issues","Opposing Viewpoints","The Music Industry","978-0-7377-5744-6","Greenhaven Publishing","Paperback Book",1,2012,null,"Paperback","6.000 X 9.000","Author","Noah Berlatsky",null,null,null,null,null,null,"Years 15 - 17",null,"Grade 10 - 12","This new addition to the OPPOSING VIEWPOINTS series examines a variety of issues related to the music industry, through a collection of balanced articles from a variety of sources. Article topics include the copyright issues facing the music industry, such as the impact of unauthorized sampling and borrowing; the music industry’s response to falling compact disk sales; the role played by record labels; and how changes in the industry will affect music and musicians.","English",33.799999999999898,27.039999999999921,"338","176 pp.",{"$f":"Table1[[#This Row],['# of Books]]*Table1[[#This Row],[QTY]]","v":0},{"$f":"Table1[[#This Row],[QTY]]*Table1[[#This Row],[School & Library Price]]","v":0}]
[null,14,null,null,"Current Issues","Opposing Viewpoints","The Pharmaceutical Industry","978-0-7377-5753-8","Greenhaven Publishing","Library Bound Book",1,2012,null,"Library Bound","6.000 X 9.000","Author","Roman Espejo",null,null,null,null,null,null,"Years 15 - 17",null,"Grade 10 - 12",null,"English",48.8,39.04,"338","192 pp.",{"$f":"Table1[[#This Row],['# of Books]]*Table1[[#This Row],[QTY]]","v":0},{"$f":"Table1[[#This Row],[QTY]]*Table1[[#This Row],[School & Library Price]]","v":0}]
[null,14,null,null,"Current Issues","Opposing Viewpoints","The Pharmaceutical Industry","978-0-7377-5754-5","Greenhaven Publishing","Paperback Book",1,2012,null,"Paperback","6.000 X 9.000","Author","Roman Espejo",null,null,null,null,null,null,"Years 15 - 17",null,"Grade 10 - 12",null,"English",33.799999999999898,27.039999999999921,"338","192 pp.",{"$f":"Table1[[#This Row],['# of Books]]*Table1[[#This Row],[QTY]]","v":0},{"$f":"Table1[[#This Row],[QTY]]*Table1[[#This Row],[School & Library Price]]","v":0}]
[null,14,null,null,"Current Issues","Opposing Viewpoints","The Republican Party","978-0-7377-7285-2","Greenhaven Publishing","Paperback Book",1,2015,null,"Paperback","6.000 X 9.000","Author","Noah Berlatsky",null,null,null,null,null,null,"Years 15 - 17",null,"Grade 10 - 12","OPPOSING VIEWPOINTS: THE REPUBLICAN PARTY explores the electoral chances of the Republican Party, the relationship between Republicans and voting groups, issues that divide Republicans, and issues surrounding the Tea Party.","English",33.799999999999898,27.039999999999921,"324","219 pp.",{"$f":"Table1[[#This Row],['# of Books]]*Table1[[#This Row],[QTY]]","v":0},{"$f":"Table1[[#This Row],[QTY]]*Table1[[#This Row],[School & Library Price]]","v":0}]
[null,14,null,null,"Current Issues","Opposing Viewpoints","The U.S. Census","978-0-7377-5765-1","Greenhaven Publishing","Library Bound Book",1,2012,null,"Library Bound","6.000 X 9.000","Author","David Haugen",null,null,null,null,null,null,"Years 15 - 17",null,"Grade 10 - 12","This addition to the popular OPPOSING VIEWPOINTS series discusses a variety of issues related to the U.S. census. Articles collected within this title examine the usefulness of the census program, the representative accuracy of U.S. census data, and how the US census could be reformed.","English",48.8,39.04,"304","208 pp.",{"$f":"Table1[[#This Row],['# of Books]]*Table1[[#This Row],[QTY]]","v":0},{"$f":"Table1[[#This Row],[QTY]]*Table1[[#This Row],[School & Library Price]]","v":0}]
[null,14,null,null,"Current Issues","Opposing Viewpoints","The U.S. Deficit","978-0-7377-6051-4","Greenhaven Publishing","Paperback Book",1,2013,null,"Paperback","6.000 X 9.000","Author","Kathy Jennings",null,null,null,null,null,null,"Years 15 - 17",null,"Grade 10 - 12","This title in the Opposing Viewpoints series explores the US deficit by placing expert opinions in a unique pro/con format. The viewpoints are selected from a wide range of highly respected and often hard-to-find sources and publications. By choosing from such diverse sources and including both popular and unpopular views, the Opposing Viewpoints series has adhered to its commitment to editorial objectivity. Readers are exposed to many sides of a debate, which promotes issue awareness as well as critical thinking.","English",33.799999999999898,27.039999999999921,"339.5","264 pp.",{"$f":"Table1[[#This Row],['# of Books]]*Table1[[#This Row],[QTY]]","v":0},{"$f":"Table1[[#This Row],[QTY]]*Table1[[#This Row],[School & Library Price]]","v":0}]
[null,14,null,null,"Current Issues","Opposing Viewpoints","The U.S. Latino Community","978-0-7377-5228-1","Greenhaven Publishing","Paperback Book",1,2011,null,"Paperback","6.000 X 9.000","Author","Margaret Haerens",null,null,null,null,null,null,"Years 15 - 17",null,"Grade 10 - 12",null,"English",33.799999999999898,27.039999999999921,"305","184 pp.",{"$f":"Table1[[#This Row],['# of Books]]*Table1[[#This Row],[QTY]]","v":0},{"$f":"Table1[[#This Row],[QTY]]*Table1[[#This Row],[School & Library Price]]","v":0}]
[null,14,null,null,"Current Issues","Opposing Viewpoints","The United Nations","978-0-7377-4842-0","Greenhaven Publishing","Paperback Book",1,2011,null,"Paperback","6.000 X 9.000","Author","Laura Egendorf",null,null,null,null,null,null,"Years 15 - 17",null,"Grade 10 - 12",null,"English",33.799999999999898,27.039999999999921,"341","216 pp.",{"$f":"Table1[[#This Row],['# of Books]]*Table1[[#This Row],[QTY]]","v":0},{"$f":"Table1[[#This Row],[QTY]]*Table1[[#This Row],[School & Library Price]]","v":0}]
[null,14,null,null,"Current Issues","Opposing Viewpoints","The US Military","978-0-7377-7566-2","Greenhaven Publishing","Library Bound Book",1,2016,null,"Library Bound","6.000 X 9.000","Author","Noah Berlatsky",null,null,null,null,null,null,"Years 15 - 17",null,"Grade 10 - 12","This title addresses controversies related to the US military including: Should the US military budget be reduced? In what conflicts should the United States intervene? What are US military personnel issues? How is the United States caring for its veterans?","English",48.8,39.04,"355","210 pp.",{"$f":"Table1[[#This Row],['# of Books]]*Table1[[#This Row],[QTY]]","v":0},{"$f":"Table1[[#This Row],[QTY]]*Table1[[#This Row],[School & Library Price]]","v":0}]
[null,15,null,null,"Current Issues","Opposing Viewpoints","The World Trade Organization","978-0-7377-4786-7","Greenhaven Publishing","Paperback Book",1,2010,null,"Paperback","6.000 X 9.000","Author","Margaret Haerens",null,null,null,null,null,null,"Years 15 - 17",null,"Grade 10 - 12","Explores the mission of the World Trade Organization (WTO) and its role in the global economy, the promotion of human rights, the establishment of food safety and security, and the environment. Examines the relationship of the United States to the WTO, and looks at the importance of the WTO to U.S. interests.","English",33.799999999999898,27.039999999999921,"382","248 pp.",{"$f":"Table1[[#This Row],['# of Books]]*Table1[[#This Row],[QTY]]","v":0},{"$f":"Table1[[#This Row],[QTY]]*Table1[[#This Row],[School & Library Price]]","v":0}]
[null,15,null,null,"Current Issues","Opposing Viewpoints","Tibet","978-0-7377-6666-0","Greenhaven Publishing","Library Bound Book",1,2014,null,"Library Bound","6.000 X 9.000","Author","Clare Hanrahan",null,null,null,null,null,null,"Years 15 - 17",null,"Grade 10 - 12","This addition to the popular OPPOSING VIEWPOINTS series discusses the current issues surrounding the country of Tibet. Through the use of carefully selected articles, this text explores how Tibet should be governed, the impact of Chinese rule in Tibet, if and/or how the United States should engage Tibet, and what is the best way to encourage political change. These issues can only be addressed after thoughtful examination. The viewpoints are selected from a wide range of highly respected and often hard-to-find sources and publications. By choosing from such diverse sources and including both popular and unpopular views, the OPPOSING VIEWPOINTS editorial team has adhered to its commitment to editorial objectivity. Readers are exposed to many sides of a debate, which promotes issue awareness as well as critical thinking.","English",48.8,39.04,"951","232 pp.",{"$f":"Table1[[#This Row],['# of Books]]*Table1[[#This Row],[QTY]]","v":0},{"$f":"Table1[[#This Row],[QTY]]*Table1[[#This Row],[School & Library Price]]","v":0}]
[null,15,null,null,"Current Issues","Opposing Viewpoints","Transportation","978-0-7377-3831-5","Greenhaven Publishing","Paperback Book",1,2008,null,"Paperback","6.000 X 9.000","Author","Louise I. Gerdes",null,null,null,null,null,null,"Years 15 - 17",null,"Grade 10 - 12",null,"English",33.799999999999898,27.039999999999921,"388","224 pp.",{"$f":"Table1[[#This Row],['# of Books]]*Table1[[#This Row],[QTY]]","v":0},{"$f":"Table1[[#This Row],[QTY]]*Table1[[#This Row],[School & Library Price]]","v":0}]
[null,15,null,null,"Current Issues","Opposing Viewpoints","Unemployment","978-0-7377-5247-2","Greenhaven Publishing","Library Bound Book",1,2011,null,"Library Bound","6.000 X 9.000","Author","David Haugen",null,null,null,null,null,null,"Years 15 - 17",null,"Grade 10 - 12",null,"English",48.8,39.04,"331","208 pp.",{"$f":"Table1[[#This Row],['# of Books]]*Table1[[#This Row],[QTY]]","v":0},{"$f":"Table1[[#This Row],[QTY]]*Table1[[#This Row],[School & Library Price]]","v":0}]
[null,15,null,null,"Current Issues","Opposing Viewpoints","Universal Health Care","978-0-7377-4649-5","Greenhaven Publishing","Paperback Book",1,2010,null,"Paperback","6.000 X 9.000","Author","Susan Hunnicutt",null,null,null,null,null,null,"Years 15 - 17",null,"Grade 10 - 12","Explores whether or not the U.S. health care system is failing, and the potential impacts of trying to make changes. Offers differing views on health care access as a moral issue. Looks at the relative success of universal health care in other countries, as well as possible steps toward achieving universal health care in America.","English",33.799999999999898,27.039999999999921,"362","240 pp.",{"$f":"Table1[[#This Row],['# of Books]]*Table1[[#This Row],[QTY]]","v":0},{"$f":"Table1[[#This Row],[QTY]]*Table1[[#This Row],[School & Library Price]]","v":0}]
[null,15,null,null,"Current Issues","Opposing Viewpoints","Urban America","978-0-7377-5249-6","Greenhaven Publishing","Library Bound Book",1,2011,null,"Library Bound","6.000 X 9.000","Author","Roman Espejo",null,null,null,null,null,null,"Years 15 - 17",null,"Grade 10 - 12",null,"English",48.8,39.04,"307","208 pp.",{"$f":"Table1[[#This Row],['# of Books]]*Table1[[#This Row],[QTY]]","v":0},{"$f":"Table1[[#This Row],[QTY]]*Table1[[#This Row],[School & Library Price]]","v":0}]
[null,15,null,null,"Current Issues","Opposing Viewpoints","Violence","978-0-7377-3364-8","Greenhaven Publishing","Library Bound Book",1,2008,null,"Library Bound","6.000 X 9.000","Author","Louise I. Gerdes",null,null,null,null,null,null,"Years 15 - 17",null,"Grade 10 - 12",null,"English",48.8,39.04,"303","240 pp.",{"$f":"Table1[[#This Row],['# of Books]]*Table1[[#This Row],[QTY]]","v":0},{"$f":"Table1[[#This Row],[QTY]]*Table1[[#This Row],[School & Library Price]]","v":0}]
[null,15,null,null,"Current Issues","Opposing Viewpoints","War","978-0-7377-6972-2","Greenhaven Publishing","Paperback Book",1,2014,null,"Paperback","6.000 X 9.000","Author","David M. Haugen",null,null,null,null,null,null,"Years 15 - 17",null,"Grade 10 - 12","This title examines whether warfare can be justified, the likely causes of future wars, how the United States is faring in the War on Terror, and the principles that should guide US conduct during war. The viewpoints are selected from a wide range of highly respected and often hard-to-find sources and publications. By choosing from such diverse sources and including both popular and unpopular views, the OPPOSING VIEWPOINTS editorial team has adhered to its commitment to editorial objectivity. Readers are exposed to many sides of a debate, which promotes issue awareness as well as critical thinking.","English",33.799999999999898,27.039999999999921,"355.02","261 pp.",{"$f":"Table1[[#This Row],['# of Books]]*Table1[[#This Row],[QTY]]","v":0},{"$f":"Table1[[#This Row],[QTY]]*Table1[[#This Row],[School & Library Price]]","v":0}]
[null,15,null,null,"Current Issues","Opposing Viewpoints","Water","978-0-7377-4546-7","Greenhaven Publishing","Library Bound Book",1,2010,null,"Library Bound","6.000 X 9.000","Author","Jacqueline Langwith",null,null,null,null,null,null,"Years 15 - 17",null,"Grade 10 - 12",null,"English",48.8,39.04,"333","264 pp.",{"$f":"Table1[[#This Row],['# of Books]]*Table1[[#This Row],[QTY]]","v":0},{"$f":"Table1[[#This Row],[QTY]]*Table1[[#This Row],[School & Library Price]]","v":0}]
[null,15,null,null,"Current Issues","Opposing Viewpoints","Water","978-0-7377-4547-4","Greenhaven Publishing","Paperback Book",1,2010,null,"Paperback","6.000 X 9.000","Author","Jacqueline Langwith",null,null,null,null,null,null,"Years 15 - 17",null,"Grade 10 - 12",null,"English",33.799999999999898,27.039999999999921,"333","264 pp.",{"$f":"Table1[[#This Row],['# of Books]]*Table1[[#This Row],[QTY]]","v":0},{"$f":"Table1[[#This Row],[QTY]]*Table1[[#This Row],[School & Library Price]]","v":0}]
[null,15,null,null,"Current Issues","Opposing Viewpoints","Whistleblowers","978-0-7377-6347-8","Greenhaven Publishing","Paperback Book",1,2012,null,"Paperback","6.000 X 9.000","Author","Noah Berlatsky",null,null,null,null,null,null,"Years 15 - 17",null,"Grade 10 - 12","Title explores the various factors that motivate whistleblowers, the issue of whether whistleblowers compromise safety/national security, Wikileaks’ function as a whistleblower, and the consequences faced by whistleblowers.","English",33.799999999999898,27.039999999999921,"302","204 pp.",{"$f":"Table1[[#This Row],['# of Books]]*Table1[[#This Row],[QTY]]","v":0},{"$f":"Table1[[#This Row],[QTY]]*Table1[[#This Row],[School & Library Price]]","v":0}]
[null,16,null,null,"Current Issues","At Issue: 2017","At Issue: 2017","978-1-5345-0156-0","Greenhaven Publishing","Single Copy Set",10,2018,"August 2017","Paperback","6.000 X 9.000"," "," ",null,null,null,null,null,null,"Years 14 - 17","Grade 10 - 12","Grade 9 - 12","The At Issue series includes a wide range of opinions on a single controversial subject. Each volume includes primary and secondary sources from many perspectives and a variety of sources, including journals, newspapers, books, websites, government agencies, and others.","English",278,222.4,null,"144-296 pp.",{"$f":"Table1[[#This Row],['# of Books]]*Table1[[#This Row],[QTY]]","v":0},{"$f":"Table1[[#This Row],[QTY]]*Table1[[#This Row],[School & Library Price]]","v":0}]
[null,16,null,null,"Current Issues","At Issue","Affirmative Action","978-0-7377-4278-7","Greenhaven Publishing","Library Bound Book",1,2009,null,"Library Bound","6.000 X 9.000","Author","Paul Connors",null,null,null,null,null,null,"Years 15 - 17",null,"Grade 10 - 12",null,"English",39.4,31.52,"378","136 pp.",{"$f":"Table1[[#This Row],['# of Books]]*Table1[[#This Row],[QTY]]","v":0},{"$f":"Table1[[#This Row],[QTY]]*Table1[[#This Row],[School & Library Price]]","v":0}]
[null,16,null,null,"Current Issues","At Issue","Age of Consent","978-0-7377-6817-6","Greenhaven Publishing","Paperback Book",1,2013,null,"Paperback","6.000 X 9.000","Author","Christine Watkins",null,null,null,null,null,null,"Years 15 - 17",null,"Grade 10 - 12","This title explores the issue of the age of consent, question of a link between cell phone and cancer, focusing on if the age of consent should be eighteen or lower, if age of consent laws are confusing, if minors should need parental consent.","English",27.8,22.240000000000002,"306.70835","117 pp.",{"$f":"Table1[[#This Row],['# of Books]]*Table1[[#This Row],[QTY]]","v":0},{"$f":"Table1[[#This Row],[QTY]]*Table1[[#This Row],[School & Library Price]]","v":0}]
[null,16,null,null,"Current Issues","At Issue","Alcohol Abuse","978-0-7377-5543-5","Greenhaven Publishing","Paperback Book",1,2012,null,"Paperback","6.000 X 9.000","Author","Christine Watkins",null,null,null,null,null,null,"Years 15 - 17",null,"Grade 10 - 12","This edition in the At Issue series offers readers a comprehensive look at the issues surrounding alcohol abuse. The title explores the impact of alcohol consumption on health, the state of underage drinking and the effectiveness of a legalized drinking age, whether or not alcoholism can be considered a disease, the effectiveness of step programs in addressing alcohol abuse, and the long-term effects of alcoholic parents on their children.","English",27.8,22.240000000000002,"362","143 pp.",{"$f":"Table1[[#This Row],['# of Books]]*Table1[[#This Row],[QTY]]","v":0},{"$f":"Table1[[#This Row],[QTY]]*Table1[[#This Row],[School & Library Price]]","v":0}]
[null,16,null,null,"Current Issues","At Issue","Animal Experimentation","978-0-7377-6143-6","Greenhaven Publishing","Library Bound Book",1,2013,null,"Library Bound","6.000 X 9.000","Author","Susan C. Hunnicutt",null,null,null,null,null,null,"Years 15 - 17",null,"Grade 10 - 12","This edition in the At Issue series examines issues related to animal experimentation. Includes primary and secondary sources from a variety of perspectives -- eyewitnesses, scientific journals, government officials and many others.","English",39.4,31.52,"179","112 pp.",{"$f":"Table1[[#This Row],['# of Books]]*Table1[[#This Row],[QTY]]","v":0},{"$f":"Table1[[#This Row],[QTY]]*Table1[[#This Row],[School & Library Price]]","v":0}]
[null,16,null,null,"Current Issues","At Issue","Animal Experimentation","978-0-7377-6144-3","Greenhaven Publishing","Paperback Book",1,2013,null,"Paperback","6.000 X 9.000","Author","Susan C. Hunnicutt",null,null,null,null,null,null,"Years 15 - 17",null,"Grade 10 - 12","This edition in the At Issue series examines issues related to animal experimentation. Includes primary and secondary sources from a variety of perspectives -- eyewitnesses, scientific journals, government officials and many others.","English",27.8,22.240000000000002,"179","112 pp.",{"$f":"Table1[[#This Row],['# of Books]]*Table1[[#This Row],[QTY]]","v":0},{"$f":"Table1[[#This Row],[QTY]]*Table1[[#This Row],[School & Library Price]]","v":0}]
[null,17,null,null,"Current Issues","At Issue","Are Abortion Rights Threatened?","978-0-7377-6145-0","Greenhaven Publishing","Library Bound Book",1,2013,null,"Library Bound","6.000 X 9.000","Author","Tamara L. Roleff",null,null,null,null,null,null,"Years 15 - 17",null,"Grade 10 - 12","This edition in the At Issue series examines issues related to abortion rights. Includes primary and secondary sources from a variety of perspectives -- eyewitnesses, scientific journals, government officials and many others.","English",39.4,31.52,"363","136 pp.",{"$f":"Table1[[#This Row],['# of Books]]*Table1[[#This Row],[QTY]]","v":0},{"$f":"Table1[[#This Row],[QTY]]*Table1[[#This Row],[School & Library Price]]","v":0}]
[null,17,null,null,"Current Issues","At Issue","Are Adoption Policies Fair?","978-0-7377-6148-1","Greenhaven Publishing","Paperback Book",1,2012,null,"Paperback","6.000 X 9.000","Author","Christine Watkins",null,null,null,null,null,null,"Years 15 - 17",null,"Grade 10 - 12","This title explores many issues related to adoption policies in the US, including: the benefits and drawbacks of open adoptions or sealed birth records, regulations surrounding international adoptions, issues related to adoption by same-sex couples, arguments for and against state or national father registries, and issues surrounding the adoption of children in foster care and older children.","English",27.8,22.240000000000002,"362","137 pp.",{"$f":"Table1[[#This Row],['# of Books]]*Table1[[#This Row],[QTY]]","v":0},{"$f":"Table1[[#This Row],[QTY]]*Table1[[#This Row],[School & Library Price]]","v":0}]
[null,17,null,null,"Current Issues","At Issue","Are Athletes Good Role Models?","978-0-7377-6820-6","Greenhaven Publishing","Library Bound Book",1,2014,null,"Library Bound","6.000 X 9.000","Author","Thomas Riggs",null,null,null,null,null,null,"Years 15 - 17",null,"Grade 10 - 12","This title explores whether athletes should be viewed as role models, if athletes have a responsibility to be good role models, and how the media influences society's view of athletes. Includes primary and secondary sources from a variety of perspectives -- eyewitnesses, scientific journals, government officials and many others.","English",39.4,31.52,"306.4","96 pp.",{"$f":"Table1[[#This Row],['# of Books]]*Table1[[#This Row],[QTY]]","v":0},{"$f":"Table1[[#This Row],[QTY]]*Table1[[#This Row],[School & Library Price]]","v":0}]
[null,17,null,null,"Current Issues","At Issue","Are Books Becoming Extinct?","978-0-7377-5546-6","Greenhaven Publishing","Library Bound Book",1,2012,null,"Library Bound","6.000 X 9.000","Author","David Haugen",null,null,null,null,null,null,"Years 15 - 17",null,"Grade 10 - 12","This edition in the At Issue series offers readers a variety of articles that examine the future of print books. The title explores the impact of digital printing on book publishing, the increasing role of e-books and the needs of e-book readers and users, the overall importance of books in the digital age, and the responses of publishers and librarians to e-publishing.","English",39.4,31.52,"002","128 pp.",{"$f":"Table1[[#This Row],['# of Books]]*Table1[[#This Row],[QTY]]","v":0},{"$f":"Table1[[#This Row],[QTY]]*Table1[[#This Row],[School & Library Price]]","v":0}]
[null,17,null,null,"Current Issues","At Issue","Are Executives Paid Too Much?","978-0-7377-5888-7","Greenhaven Publishing","Library Bound Book",1,2012,null,"Library Bound","6.000 X 9.000","Author","Beth Rosenthal",null,null,null,null,null,null,"Years 15 - 17",null,"Grade 10 - 12","This edition in the AT ISSUE series examines issues related to executive pay. Includes primary and secondary sources from a variety of perspectives -- eyewitnesses, scientific journals, government officials and many others.","English",39.4,31.52,"331","112 pp.",{"$f":"Table1[[#This Row],['# of Books]]*Table1[[#This Row],[QTY]]","v":0},{"$f":"Table1[[#This Row],[QTY]]*Table1[[#This Row],[School & Library Price]]","v":0}]
[null,17,null,null,"Current Issues","At Issue","Are Government Bailouts Effective?","978-0-7377-6180-1","Greenhaven Publishing","Paperback Book",1,2013,null,"Paperback","6.000 X 9.000","Author","Louise I. Gerdes",null,null,null,null,null,null,"Years 15 - 17",null,"Grade 10 - 12","This title explores whether bank bailouts prevented economic collapse, if regulation can prevent future crises, and if the auto industry bailout was successful. Includes primary and secondary sources from a variety of perspectives -- eyewitnesses, scientific journals, government officials and many others.","English",27.8,22.240000000000002,"330","123 pp.",{"$f":"Table1[[#This Row],['# of Books]]*Table1[[#This Row],[QTY]]","v":0},{"$f":"Table1[[#This Row],[QTY]]*Table1[[#This Row],[School & Library Price]]","v":0}]
[null,17,null,null,"Current Issues","At Issue","Are Graphic Music Lyrics Harmful?","978-0-7377-7621-8","Greenhaven Publishing","eBook",1,2016,null,"eBook",null,"Author","Noah Berlatsky",null,null,null,null,null,null,"Years 15 - 17",null,"Grade 10 - 12",null,"English",39.4,39.4,"363.4","98 pp.",{"$f":"Table1[[#This Row],['# of Books]]*Table1[[#This Row],[QTY]]","v":0},{"$f":"Table1[[#This Row],[QTY]]*Table1[[#This Row],[School & Library Price]]","v":0}]
[null,17,null,null,"Current Issues","At Issue","Are Mass Extinctions Inevitable?","978-0-7377-5548-0","Greenhaven Publishing","Library Bound Book",1,2012,null,"Library Bound","6.000 X 9.000","Author","Noah Berlatsky",null,null,null,null,null,null,"Years 15 - 17",null,"Grade 10 - 12","This addition to the At Issue series examines the facts and controversies surrounding mass extinctions theories. The title explores the signs potentially pointing to mass extinctions, the possibility of specific extinctions for amphibians, bees, plants, and animals (such as polar bears), and the possibility of a human being extinction.","English",39.4,31.52,"576","120 pp.",{"$f":"Table1[[#This Row],['# of Books]]*Table1[[#This Row],[QTY]]","v":0},{"$f":"Table1[[#This Row],[QTY]]*Table1[[#This Row],[School & Library Price]]","v":0}]
[null,17,null,null,"Current Issues","At Issue","Are Natural Disasters Increasing?","978-0-7377-6823-7","Greenhaven Publishing","Paperback Book",1,2014,null,"Paperback","6.000 X 9.000","Author","Roman Espejo",null,null,null,null,null,null,"Years 15 - 17",null,"Grade 10 - 12","This title addresses the issue of natural disasters and the severity, frequency, and losses caused by them, including areas such as climate change, poor infrastructures, human activity, economic costs and recovery. Includes primary and secondary sources from a variety of perspectives -- eyewitnesses, scientific journals, government officials and many others.","English",27.8,22.240000000000002,"363","103 pp.",{"$f":"Table1[[#This Row],['# of Books]]*Table1[[#This Row],[QTY]]","v":0},{"$f":"Table1[[#This Row],[QTY]]*Table1[[#This Row],[School & Library Price]]","v":0}]
[null,17,null,null,"Current Issues","At Issue","Are Newspapers Becoming Extinct?","978-0-7377-5144-4","Greenhaven Publishing","Paperback Book",1,2011,null,"Paperback","6.000 X 9.000","Author","Jennifer Dorman",null,null,null,null,null,null,"Years 15 - 17",null,"Grade 10 - 12",null,"English",27.8,22.240000000000002,"070","96 pp.",{"$f":"Table1[[#This Row],['# of Books]]*Table1[[#This Row],[QTY]]","v":0},{"$f":"Table1[[#This Row],[QTY]]*Table1[[#This Row],[School & Library Price]]","v":0}]
[null,17,null,null,"Current Issues","At Issue","Are Privacy Rights Being Violated?","978-0-7377-4869-7","Greenhaven Publishing","Paperback Book",1,2010,null,"Paperback","6.000 X 9.000","Author","Ronald D. Lankford",null,null,null,null,null,null,"Years 15 - 17",null,"Grade 10 - 12",null,"English",27.8,22.240000000000002,"342","109 pp.",{"$f":"Table1[[#This Row],['# of Books]]*Table1[[#This Row],[QTY]]","v":0},{"$f":"Table1[[#This Row],[QTY]]*Table1[[#This Row],[School & Library Price]]","v":0}]
[null,17,null,null,"Current Issues","At Issue","Are Textbooks Biased?","978-0-7377-5551-0","Greenhaven Publishing","Paperback Book",1,2012,null,"Paperback","6.000 X 9.000","Author","Noah Berlatsky",null,null,null,null,null,null,"Years 15 - 17",null,"Grade 10 - 12",null,"English",27.8,22.240000000000002,"371","128 pp.",{"$f":"Table1[[#This Row],['# of Books]]*Table1[[#This Row],[QTY]]","v":0},{"$f":"Table1[[#This Row],[QTY]]*Table1[[#This Row],[School & Library Price]]","v":0}]
[null,17,null,null,"Current Issues","At Issue","Are Women Paid Fairly?","978-0-7377-6153-5","Greenhaven Publishing","Library Bound Book",1,2013,null,"Library Bound","6.000 X 9.000","Author","Jennifer Dorman",null,null,null,null,null,null,"Years 15 - 17",null,"Grade 10 - 12","This edition in the At Issue series examines issues related to fair pay for women. Includes primary and secondary sources from a variety of perspectives -- eyewitnesses, scientific journals, government officials and many others.","English",39.4,31.52,"331","104 pp.",{"$f":"Table1[[#This Row],['# of Books]]*Table1[[#This Row],[QTY]]","v":0},{"$f":"Table1[[#This Row],[QTY]]*Table1[[#This Row],[School & Library Price]]","v":0}]
[null,17,null,null,"Current Issues","At Issue","Assimilation","978-0-7377-4641-9","Greenhaven Publishing","Paperback Book",1,2010,null,"Paperback","6.000 X 9.000","Author","Kelly Barth",null,null,null,null,null,null,"Years 15 - 17",null,"Grade 10 - 12",null,"English",27.8,22.240000000000002,"301","112 pp.",{"$f":"Table1[[#This Row],['# of Books]]*Table1[[#This Row],[QTY]]","v":0},{"$f":"Table1[[#This Row],[QTY]]*Table1[[#This Row],[School & Library Price]]","v":0}]
[null,17,null,null,"Current Issues","At Issue","Bilingual Education","978-0-7377-7392-7","Greenhaven Publishing","Library Bound Book",1,2016,null,"Library Bound","6.000 X 9.000","Author","Noël Merino",null,null,null,null,null,null,"Years 15 - 17",null,"Grade 10 - 12","This title explores issues related to bilingual education. It covers the successes and failures of bilingual education. It examines the popularity of dual-language learning programs, and how they can help close the learning gap for immigrant students. It covers some failures of a bilingual education programs. It covers language immersion, and gradual immersion for immigrants.","English",39.4,31.52,"370","96 pp.",{"$f":"Table1[[#This Row],['# of Books]]*Table1[[#This Row],[QTY]]","v":0},{"$f":"Table1[[#This Row],[QTY]]*Table1[[#This Row],[School & Library Price]]","v":0}]
[null,17,null,null,"Current Issues","At Issue","Bilingual Education","978-0-7377-7393-4","Greenhaven Publishing","Paperback Book",1,2016,null,"Paperback","6.000 X 9.000","Author","Noël Merino",null,null,null,null,null,null,"Years 15 - 17",null,"Grade 10 - 12","This title explores issues related to bilingual education. It covers the successes and failures of bilingual education. It examines the popularity of dual-language learning programs, and how they can help close the learning gap for immigrant students. It covers some failures of a bilingual education programs. It covers language immersion, and gradual immersion for immigrants.","English",27.8,22.240000000000002,"370","96 pp.",{"$f":"Table1[[#This Row],['# of Books]]*Table1[[#This Row],[QTY]]","v":0},{"$f":"Table1[[#This Row],[QTY]]*Table1[[#This Row],[School & Library Price]]","v":0}]
[null,17,null,null,"Current Issues","At Issue","Biodiversity","978-0-7377-4678-5","Greenhaven Publishing","Paperback Book",1,2010,null,"Paperback","6.000 X 9.000","Author","Louise I. Gerdes",null,null,null,null,null,null,"Years 15 - 17",null,"Grade 10 - 12","Life on Earth consists of many millions of distinct biological species. This volume offers a variety of perspectives on the importance of this biodiversity to the environment and humanity. It explores the impact of global warming on biodiversity, the significance of mass species extinction, genetic science and its relationship to biodiversity, and the best ways to increase biodiversity.","English",27.8,22.240000000000002,"333","120 pp.",{"$f":"Table1[[#This Row],['# of Books]]*Table1[[#This Row],[QTY]]","v":0},{"$f":"Table1[[#This Row],[QTY]]*Table1[[#This Row],[School & Library Price]]","v":0}]
[null,17,null,null,"Current Issues","At Issue","Body Piercing and Tattoos","978-0-7377-3112-5","Greenhaven Publishing","Paperback Book",1,2008,null,"Paperback","6.000 X 9.000","Author","Tamara Roleff",null,null,null,null,null,null,"Years 15 - 17",null,"Grade 10 - 12",null,"English",27.8,22.240000000000002,"391","101 pp.",{"$f":"Table1[[#This Row],['# of Books]]*Table1[[#This Row],[QTY]]","v":0},{"$f":"Table1[[#This Row],[QTY]]*Table1[[#This Row],[School & Library Price]]","v":0}]
[null,17,null,null,"Current Issues","At Issue","Caffeine","978-0-7377-7381-1","Greenhaven Publishing","Paperback Book",1,2016,null,"Paperback","6.000 X 9.000","Author","Amy Francis",null,null,null,null,null,null,"Years 15 - 17",null,"Grade 10 - 12","This title explores the health benefits of caffeine. It also examines the dangers of caffeine. It discusses caffeine as a drug, and the possible addictive nature of it. It examines the complexities of the regulation of caffeine.","English",27.8,22.240000000000002,"613","102 pp.",{"$f":"Table1[[#This Row],['# of Books]]*Table1[[#This Row],[QTY]]","v":0},{"$f":"Table1[[#This Row],[QTY]]*Table1[[#This Row],[School & Library Price]]","v":0}]
[null,17,null,null,"Current Issues","At Issue","Campaign Finance","978-0-7377-4873-4","Greenhaven Publishing","Paperback Book",1,2010,null,"Paperback","6.000 X 9.000","Author","David Haugen",null,null,null,null,null,null,"Years 15 - 17",null,"Grade 10 - 12",null,"English",27.8,22.240000000000002,"324","128 pp.",{"$f":"Table1[[#This Row],['# of Books]]*Table1[[#This Row],[QTY]]","v":0},{"$f":"Table1[[#This Row],[QTY]]*Table1[[#This Row],[School & Library Price]]","v":0}]
[null,17,null,null,"Current Issues","At Issue","Can Diets Be Harmful?","978-0-7377-7394-1","Greenhaven Publishing","Library Bound Book",1,2016,null,"Library Bound","6.000 X 9.000","Author","Amy Francis",null,null,null,null,null,null,"Years 15 - 17",null,"Grade 10 - 12","Low-carb, paleo, and gluten-free--fad diets come and go. Which ones are harmless, and which should be avoided by adults and/or children? At Issue: Can Diets Be Harmful? pries the lid off the confusing issue of what we should and should not be eating for good health.","English",39.4,31.52,"613","80 pp.",{"$f":"Table1[[#This Row],['# of Books]]*Table1[[#This Row],[QTY]]","v":0},{"$f":"Table1[[#This Row],[QTY]]*Table1[[#This Row],[School & Library Price]]","v":0}]
[null,18,null,null,"Current Issues","At Issue","Can Glacier and Ice Melt Be Reversed?","978-0-7377-6826-8","Greenhaven Publishing","Library Bound Book",1,2014,null,"Library Bound","6.000 X 9.000","Author","Roman Espejo",null,null,null,null,null,null,"Years 15 - 17",null,"Grade 10 - 12","This title explores many issues related to the reversal of glaciers and ice melt, including: reducing soot as it relates to glaciers, media reporting of ice melt, the rate ice sheets are melting, Antarctica and melting, and permafrost warming. Includes primary and secondary sources from a variety of perspectives -- eyewitnesses, scientific journals, government officials and many others.","English",39.4,31.52,"363","120 pp.",{"$f":"Table1[[#This Row],['# of Books]]*Table1[[#This Row],[QTY]]","v":0},{"$f":"Table1[[#This Row],[QTY]]*Table1[[#This Row],[School & Library Price]]","v":0}]
[null,18,null,null,"Current Issues","At Issue","Cancer","978-0-7377-5558-9","Greenhaven Publishing","Library Bound Book",1,2012,null,"Library Bound","6.000 X 9.000","Author","Jacqueline Langwith",null,null,null,null,null,null,"Years 15 - 17",null,"Grade 10 - 12","This edition in the At Issue series includes a comprehensive look at current issues regarding cancer, including its treatment and prevention. The title explores the possible causes of cancer, including genetics and the environment, the use of vitamin D as a form of cancer prevention, the effectiveness of cancer screening efforts, such as mammograms, the impact of palliative care, and the possibility of a cancer cure.","English",39.4,31.52,"362","104 pp.",{"$f":"Table1[[#This Row],['# of Books]]*Table1[[#This Row],[QTY]]","v":0},{"$f":"Table1[[#This Row],[QTY]]*Table1[[#This Row],[School & Library Price]]","v":0}]
[null,18,null,null,"Current Issues","At Issue","Cancer","978-0-7377-5559-6","Greenhaven Publishing","Paperback Book",1,2012,null,"Paperback","6.000 X 9.000","Author","Jacqueline Langwith",null,null,null,null,null,null,"Years 15 - 17",null,"Grade 10 - 12","This edition in the At Issue series includes a comprehensive look at current issues regarding cancer, including its treatment and prevention. The title explores the possible causes of cancer, including genetics and the environment, the use of vitamin D as a form of cancer prevention, the effectiveness of cancer screening efforts, such as mammograms, the impact of palliative care, and the possibility of a cancer cure.","English",27.8,22.240000000000002,"362","97 pp.",{"$f":"Table1[[#This Row],['# of Books]]*Table1[[#This Row],[QTY]]","v":0},{"$f":"Table1[[#This Row],[QTY]]*Table1[[#This Row],[School & Library Price]]","v":0}]
[null,18,null,null,"Current Issues","At Issue","Cell Phones in Schools","978-0-7377-6155-9","Greenhaven Publishing","Library Bound Book",1,2014,null,"Library Bound","6.000 X 9.000","Author","Stefan Kiesbye",null,null,null,null,null,null,"Years 15 - 17",null,"Grade 10 - 12","This title explores many issues related to the use of cell phones in schools including: educational purposes; safety issues; sharing important information; allowing use, but with restrictions; distractions caused by using cell phones in schools.","English",39.4,31.52,"371","88 pp.",{"$f":"Table1[[#This Row],['# of Books]]*Table1[[#This Row],[QTY]]","v":0},{"$f":"Table1[[#This Row],[QTY]]*Table1[[#This Row],[School & Library Price]]","v":0}]
[null,18,null,null,"Current Issues","At Issue","Child Labor and Sweatshops","978-0-7377-4875-8","Greenhaven Publishing","Paperback Book",1,2011,null,"Paperback","6.000 X 9.000","Author","Christine Watkins",null,null,null,null,null,null,"Years 15 - 17",null,"Grade 10 - 12",null,"English",27.8,22.240000000000002,"331","128 pp.",{"$f":"Table1[[#This Row],['# of Books]]*Table1[[#This Row],[QTY]]","v":0},{"$f":"Table1[[#This Row],[QTY]]*Table1[[#This Row],[School & Library Price]]","v":0}]
[null,18,null,null,"Current Issues","At Issue","Childhood Obesity","978-0-7377-7405-4","Greenhaven Publishing","Paperback Book",1,2016,null,"Paperback","6.000 X 9.000","Author","Tamara Thompson",null,null,null,null,null,null,"Years 15 - 17",null,"Grade 10 - 12","This title explores the issues of childhood obesity. It examines the role of government, and the responsibilities of parents. It discusses the health care costs of childhood obesity. This title examines fast food, food marketing and physical activity as they relate to childhood obesity.","English",27.8,22.240000000000002,"618","115 pp.",{"$f":"Table1[[#This Row],['# of Books]]*Table1[[#This Row],[QTY]]","v":0},{"$f":"Table1[[#This Row],[QTY]]*Table1[[#This Row],[School & Library Price]]","v":0}]
[null,18,null,null,"Current Issues","At Issue","Club Drugs","978-0-7377-6162-7","Greenhaven Publishing","Paperback Book",1,2013,null,"Paperback","6.000 X 9.000","Author","Christine Watkins",null,null,null,null,null,null,"Years 15 - 17",null,"Grade 10 - 12","This edition in the At Issue series examines issues related to club drugs. Includes primary and secondary sources from a variety of perspectives -- eyewitnesses, scientific journals, government officials and many others.","English",27.8,22.240000000000002,"362","117 pp.",{"$f":"Table1[[#This Row],['# of Books]]*Table1[[#This Row],[QTY]]","v":0},{"$f":"Table1[[#This Row],[QTY]]*Table1[[#This Row],[School & Library Price]]","v":0}]
[null,18,null,null,"Current Issues","At Issue","Corporate Corruption","978-0-7377-7364-4","Greenhaven Publishing","Library Bound Book",1,2016,null,"Library Bound","6.000 X 9.000","Author","Sarah Armstrong",null,null,null,null,null,null,"Years 15 - 17",null,"Grade 10 - 12","As we move into a global economy corporations gain more and greater power. This can open to door to increased corruption. At Issue: Corporate Corruption explores some of the facets of the issue including rights of the individual versus the corporation, the need for more or less regulation, executive pay, and the increased impact on the environment.","English",39.4,31.52,"174","101 pp.",{"$f":"Table1[[#This Row],['# of Books]]*Table1[[#This Row],[QTY]]","v":0},{"$f":"Table1[[#This Row],[QTY]]*Table1[[#This Row],[School & Library Price]]","v":0}]
[null,18,null,null,"Current Issues","At Issue","Cyberbullying","978-0-7377-5563-3","Greenhaven Publishing","Paperback Book",1,2012,null,"Paperback","6.000 X 9.000","Author","Louise I. Gerdes",null,null,null,null,null,null,"Years 15 - 17",null,"Grade 10 - 12",null,"English",27.8,22.240000000000002,"302","110 pp.",{"$f":"Table1[[#This Row],['# of Books]]*Table1[[#This Row],[QTY]]","v":0},{"$f":"Table1[[#This Row],[QTY]]*Table1[[#This Row],[School & Library Price]]","v":0}]
[null,18,null,null,"Current Issues","At Issue","Date Rape","978-0-7377-3682-3","Greenhaven Publishing","Paperback Book",1,2007,null,"Paperback","6.000 X 9.000","Author","Christine Watkins",null,null,null,null,null,null,"Years 15 - 17",null,"Grade 10 - 12",null,"English",27.8,22.240000000000002,"362.292","109 pp.",{"$f":"Table1[[#This Row],['# of Books]]*Table1[[#This Row],[QTY]]","v":0},{"$f":"Table1[[#This Row],[QTY]]*Table1[[#This Row],[School & Library Price]]","v":0}]
[null,18,null,null,"Current Issues","At Issue","Designer Babies","978-0-7377-6163-4","Greenhaven Publishing","Library Bound Book",1,2013,null,"Library Bound","6.000 X 9.000","Author","Clayton Farris Naff",null,null,null,null,null,null,"Years 15 - 17",null,"Grade 10 - 12","This edition in the At Issue series examines issues related to designer babies. Includes primary and secondary sources from a variety of perspectives -- eyewitnesses, scientific journals, government officials and many others.","English",39.4,31.52,"176","112 pp.",{"$f":"Table1[[#This Row],['# of Books]]*Table1[[#This Row],[QTY]]","v":0},{"$f":"Table1[[#This Row],[QTY]]*Table1[[#This Row],[School & Library Price]]","v":0}]
[null,18,null,null,"Current Issues","At Issue","Disaster Planning","978-0-7377-4091-2","Greenhaven Publishing","Paperback Book",1,2009,null,"Paperback","6.000 X 9.000","Author","Janel D. Morris",null,null,null,null,null,null,"Years 15 - 17",null,"Grade 10 - 12",null,"English",27.8,22.240000000000002,"363","96 pp.",{"$f":"Table1[[#This Row],['# of Books]]*Table1[[#This Row],[QTY]]","v":0},{"$f":"Table1[[#This Row],[QTY]]*Table1[[#This Row],[School & Library Price]]","v":0}]
[null,18,null,null,"Current Issues","At Issue","DNA Databases","978-0-7377-5890-0","Greenhaven Publishing","Library Bound Book",1,2012,null,"Library Bound","6.000 X 9.000","Author","Stefan Kiesbye",null,null,null,null,null,null,"Years 15 - 17",null,"Grade 10 - 12","This edition in the AT ISSUE series examines issues related to DNA databases. Includes primary and secondary sources from a variety of perspectives -- eyewitnesses, scientific journals, government officials and many others.","English",39.4,31.52,"363","104 pp.",{"$f":"Table1[[#This Row],['# of Books]]*Table1[[#This Row],[QTY]]","v":0},{"$f":"Table1[[#This Row],[QTY]]*Table1[[#This Row],[School & Library Price]]","v":0}]
[null,18,null,null,"Current Issues","At Issue","Do Abstinence Programs Work?","978-0-7377-6829-9","Greenhaven Publishing","Paperback Book",1,2014,null,"Paperback","6.000 X 9.000","Author","Christine Watkins",null,null,null,null,null,null,"Years 15 - 17",null,"Grade 10 - 12","This title explores whether abstinence programs are effective, It looks at the success rate of abstinence programs in preventing teen pregnancy, whether abstinence programs should be federally funded, and compares abstinence programs to other sex education programs.","English",27.8,22.240000000000002,"306","128 pp.",{"$f":"Table1[[#This Row],['# of Books]]*Table1[[#This Row],[QTY]]","v":0},{"$f":"Table1[[#This Row],[QTY]]*Table1[[#This Row],[School & Library Price]]","v":0}]
[null,18,null,null,"Current Issues","At Issue","Do Cell Phones Cause Cancer?","978-0-7377-6168-9","Greenhaven Publishing","Paperback Book",1,2013,null,"Paperback","6.000 X 9.000","Author","Clay Farris Naff",null,null,null,null,null,null,"Years 15 - 17",null,"Grade 10 - 12","This title explores the question of a link between cell phone and cancer, focusing on controversies surrounding research findings to date. Includes primary and secondary sources from a variety of perspectives -- eyewitnesses, scientific journals, government officials and many others.","English",27.8,22.240000000000002,"363","102 pp.",{"$f":"Table1[[#This Row],['# of Books]]*Table1[[#This Row],[QTY]]","v":0},{"$f":"Table1[[#This Row],[QTY]]*Table1[[#This Row],[School & Library Price]]","v":0}]
[null,18,null,null,"Current Issues","At Issue","Do Religious Groups in America Experience Discrimination?","978-0-7377-3400-3","Greenhaven Publishing","Paperback Book",1,2007,null,"Paperback","6.000 X 9.000","Author","Janel D. Ginn",null,null,null,null,null,null,"Years 15 - 17",null,"Grade 10 - 12",null,"English",27.8,22.240000000000002,"305.60973","136 pp.",{"$f":"Table1[[#This Row],['# of Books]]*Table1[[#This Row],[QTY]]","v":0},{"$f":"Table1[[#This Row],[QTY]]*Table1[[#This Row],[School & Library Price]]","v":0}]
[null,18,null,null,"Current Issues","At Issue","Do Students Have Too Much Homework?","978-0-7377-5892-4","Greenhaven Publishing","Library Bound Book",1,2012,null,"Library Bound","6.000 X 9.000","Author","Judeen Bartos",null,null,null,null,null,null,"Years 15 - 17",null,"Grade 10 - 12","This new addition to the At Issue series examines a variety of issues related to student homework. The title explores the impact of excessive homework on families, the relationship between academic pressure and student workload, and the impact of life lessons versus school lessons. A discussion of selected global homework practices is also included.","English",39.4,31.52,"371","112 pp.",{"$f":"Table1[[#This Row],['# of Books]]*Table1[[#This Row],[QTY]]","v":0},{"$f":"Table1[[#This Row],[QTY]]*Table1[[#This Row],[School & Library Price]]","v":0}]
[null,18,null,null,"Current Issues","At Issue","Do Tax Breaks Benefit the Economy?","978-0-7377-4297-8","Greenhaven Publishing","Paperback Book",1,2009,null,"Paperback","6.000 X 9.000","Author","Amanda Hiber",null,null,null,null,null,null,"Years 15 - 17",null,"Grade 10 - 12",null,"English",27.8,22.240000000000002,"338","120 pp.",{"$f":"Table1[[#This Row],['# of Books]]*Table1[[#This Row],[QTY]]","v":0},{"$f":"Table1[[#This Row],[QTY]]*Table1[[#This Row],[School & Library Price]]","v":0}]
[null,18,null,null,"Current Issues","At Issue","Do Veterans Receive Adequate Health Care?","978-0-7377-6169-6","Greenhaven Publishing","Library Bound Book",1,2012,null,"Library Bound","6.000 X 9.000","Author","Susan C. Hunnicutt",null,null,null,null,null,null,"Years 15 - 17",null,"Grade 10 - 12","This edition in the At Issue series examines issues related to veteran health care. Includes primary and secondary sources from a variety of perspectives -- eyewitnesses, scientific journals, government officials and many others. Extensive bibliographies and annotated lists of relevant organizations to contact offer a gateway to future research.","English",39.4,31.52,"362","104 pp.",{"$f":"Table1[[#This Row],['# of Books]]*Table1[[#This Row],[QTY]]","v":0},{"$f":"Table1[[#This Row],[QTY]]*Table1[[#This Row],[School & Library Price]]","v":0}]
[null,19,null,null,"Current Issues","At Issue","Does Outsourcing Harm America?","978-0-7377-4673-0","Greenhaven Publishing","Library Bound Book",1,2010,null,"Library Bound","6.000 X 9.000","Author","Lisa Krueger",null,null,null,null,null,null,"Years 15 - 17",null,"Grade 10 - 12",null,"English",39.4,31.52,"330","120 pp.",{"$f":"Table1[[#This Row],['# of Books]]*Table1[[#This Row],[QTY]]","v":0},{"$f":"Table1[[#This Row],[QTY]]*Table1[[#This Row],[School & Library Price]]","v":0}]
[null,19,null,null,"Current Issues","At Issue","Does the Internet Increase Anxiety?","978-0-7377-7631-7","Greenhaven Publishing","eBook",1,2016,null,"eBook",null,"Author","Tamara Thompson",null,null,null,null,null,null,"Years 15 - 17",null,"Grade 10 - 12",null,"English",39.4,39.4,"303.48","104 pp.",{"$f":"Table1[[#This Row],['# of Books]]*Table1[[#This Row],[QTY]]","v":0},{"$f":"Table1[[#This Row],[QTY]]*Table1[[#This Row],[School & Library Price]]","v":0}]
[null,19,null,null,"Current Issues","At Issue","Does the U.S. Two-party System Still Work?","978-0-7377-4644-0","Greenhaven Publishing","Library Bound Book",1,2010,null,"Library Bound","6.000 X 9.000","Author","Noah Berlatsky",null,null,null,null,null,null,"Years 15 - 17",null,"Grade 10 - 12",null,"English",39.4,31.52,"324","104 pp.",{"$f":"Table1[[#This Row],['# of Books]]*Table1[[#This Row],[QTY]]","v":0},{"$f":"Table1[[#This Row],[QTY]]*Table1[[#This Row],[School & Library Price]]","v":0}]
[null,19,null,null,"Current Issues","At Issue","Does the World Hate the U.S.?","978-0-7377-6172-6","Greenhaven Publishing","Paperback Book",1,2013,null,"Paperback","6.000 X 9.000","Author","Noah Berlatsky",null,null,null,null,null,null,"Years 15 - 17",null,"Grade 10 - 12","Explores views of the US from various religious, ethnic, geographic, and political perspectives, including the attitudes of the Islamic world toward the US, whether and why the Arab world hates the US, European views of the US, Latin American views of the US, attitudes of the political right and the political left toward the US, and the impact of American pop culture on anti-Americanism.","English",27.8,22.240000000000002,"973","103 pp.",{"$f":"Table1[[#This Row],['# of Books]]*Table1[[#This Row],[QTY]]","v":0},{"$f":"Table1[[#This Row],[QTY]]*Table1[[#This Row],[School & Library Price]]","v":0}]
[null,19,null,null,"Current Issues","At Issue","Drunk Driving","978-0-7377-5841-2","Greenhaven Publishing","Library Bound Book",1,2011,null,"Library Bound","6.000 X 9.000","Author","Stefan Kiesbye",null,null,null,null,null,null,"Years 15 - 17",null,"Grade 10 - 12","This edition in the AT ISSUE series examines issues related to drunk driving. Includes primary and secondary sources from a variety of perspectives -- eyewitnesses, scientific journals, government officials and many others.","English",39.4,31.52,"363.12","112 pp.",{"$f":"Table1[[#This Row],['# of Books]]*Table1[[#This Row],[QTY]]","v":0},{"$f":"Table1[[#This Row],[QTY]]*Table1[[#This Row],[School & Library Price]]","v":0}]
[null,19,null,null,"Current Issues","At Issue","Embryonic and Adult Stem Cells","978-0-7377-6174-0","Greenhaven Publishing","Paperback Book",1,2013,null,"Paperback","6.000 X 9.000","Author","Susan Hunnicutt",null,null,null,null,null,null,"Years 15 - 17",null,"Grade 10 - 12","This edition in the At Issue series examines issues related to stem cells. Includes primary and secondary sources from a variety of perspectives -- eyewitnesses, scientific journals, government officials and many others.","English",27.8,22.240000000000002,"616","111 pp.",{"$f":"Table1[[#This Row],['# of Books]]*Table1[[#This Row],[QTY]]","v":0},{"$f":"Table1[[#This Row],[QTY]]*Table1[[#This Row],[School & Library Price]]","v":0}]
[null,19,null,null,"Current Issues","At Issue","Extending the Human Lifespan","978-0-7377-6836-7","Greenhaven Publishing","Library Bound Book",1,2013,null,"Library Bound","6.000 X 9.000","Author","Tamara Thompson",null,null,null,null,null,null,"Years 15 - 17",null,"Grade 10 - 12","This title explores the social, ethical, scientific, and philosophical implications of extending the human lifespan, including discussions of whether a radical extension of the human lifespan is possible, safe, or desirable.","English",39.4,31.52,"613.2","128 pp.",{"$f":"Table1[[#This Row],['# of Books]]*Table1[[#This Row],[QTY]]","v":0},{"$f":"Table1[[#This Row],[QTY]]*Table1[[#This Row],[School & Library Price]]","v":0}]
[null,19,null,null,"Current Issues","At Issue","Extending the Human Lifespan","978-0-7377-6837-4","Greenhaven Publishing","Paperback Book",1,2013,null,"Paperback","6.000 X 9.000","Author","Tamara Thompson",null,null,null,null,null,null,"Years 15 - 17",null,"Grade 10 - 12","This title explores the social, ethical, scientific, and philosophical implications of extending the human lifespan, including discussions of whether a radical extension of the human lifespan is possible, safe, or desirable.","English",27.8,22.240000000000002,"613.2","124 pp.",{"$f":"Table1[[#This Row],['# of Books]]*Table1[[#This Row],[QTY]]","v":0},{"$f":"Table1[[#This Row],[QTY]]*Table1[[#This Row],[School & Library Price]]","v":0}]
[null,19,null,null,"Current Issues","At Issue","Food Insecurity","978-0-7377-5571-8","Greenhaven Publishing","Paperback Book",1,2012,null,"Paperback","6.000 X 9.000","Author","Louise I. Gerdes",null,null,null,null,null,null,"Years 15 - 17",null,"Grade 10 - 12","This new title in the At Issue series explores issues related to concerns about food and its availability around the globe. Topics covered include food insecurity as a developmental risk for children, food insecurity as a source of conflict among nations, climate change and its impact on food security, overpopulation and its impact on the availability of food, and the role of biotechnology in addressing food security questions.","English",27.8,22.240000000000002,"641","145 pp.",{"$f":"Table1[[#This Row],['# of Books]]*Table1[[#This Row],[QTY]]","v":0},{"$f":"Table1[[#This Row],[QTY]]*Table1[[#This Row],[School & Library Price]]","v":0}]
[null,19,null,null,"Current Issues","At Issue","Foodborne Outbreaks","978-0-7377-7634-8","Greenhaven Publishing","eBook",1,2016,null,"eBook",null,"Author","Amy Francis",null,null,null,null,null,null,"Years 15 - 17",null,"Grade 10 - 12",null,"English",39.4,39.4,"615.9","97 pp.",{"$f":"Table1[[#This Row],['# of Books]]*Table1[[#This Row],[QTY]]","v":0},{"$f":"Table1[[#This Row],[QTY]]*Table1[[#This Row],[School & Library Price]]","v":0}]
[null,19,null,null,"Current Issues","At Issue","Foreign Oil Dependence","978-0-7377-7635-5","Greenhaven Publishing","eBook",1,2016,null,"eBook",null,"Author","Noah Berlatsky",null,null,null,null,null,null,"Years 15 - 17",null,"Grade 10 - 12",null,"English",39.4,39.4,"338.2","88 pp.",{"$f":"Table1[[#This Row],['# of Books]]*Table1[[#This Row],[QTY]]","v":0},{"$f":"Table1[[#This Row],[QTY]]*Table1[[#This Row],[School & Library Price]]","v":0}]
[null,19,null,null,"Current Issues","At Issue","Fracking","978-0-7377-6509-0","Greenhaven Publishing","Library Bound Book",1,2013,null,"Library Bound","6.000 X 9.000","Author","Tamara Thompson",null,null,null,null,null,null,"Years 15 - 17",null,"Grade 10 - 12","This edition in the At Issue series examines issues related to fracking. Includes primary and secondary sources from a variety of perspectives -- eyewitnesses, scientific journals, government officials and many others.","English",39.4,31.52,"363.738","112 pp.",{"$f":"Table1[[#This Row],['# of Books]]*Table1[[#This Row],[QTY]]","v":0},{"$f":"Table1[[#This Row],[QTY]]*Table1[[#This Row],[School & Library Price]]","v":0}]
[null,19,null,null,"Current Issues","At Issue","Gay Marriage","978-0-7377-5895-5","Greenhaven Publishing","Paperback Book",1,2012,null,"Paperback","6.000 X 9.000","Author","Debra A. Miller",null,null,null,null,null,null,"Years 15 - 17",null,"Grade 10 - 12","This new title in the At Issue series explores issues related to gay marriage, including legalizing gay unions, gay marriage and moral concerns, religion’s role in gay marriage issues, the impact of the Defense of Marriage Act, and the impact of the proposed Federal Marriage Amendment.","English",27.8,22.240000000000002,"306","110 pp.",{"$f":"Table1[[#This Row],['# of Books]]*Table1[[#This Row],[QTY]]","v":0},{"$f":"Table1[[#This Row],[QTY]]*Table1[[#This Row],[School & Library Price]]","v":0}]
[null,19,null,null,"Current Issues","At Issue","Has Child Behavior Worsened?","978-0-7377-6834-3","Greenhaven Publishing","Library Bound Book",1,2014,null,"Library Bound","6.000 X 9.000","Author","Amy Francis",null,null,null,null,null,null,"Years 15 - 17",null,"Grade 10 - 12","This title explores whether childhood has worsened over time. The title delves into behavior in school, bullying, and feelings of entitlement, among other aspects. Includes primary and secondary sources from a variety of perspectives -- eyewitnesses, scientific journals, government officials and many others.","English",39.4,31.52,"302.5083","96 pp.",{"$f":"Table1[[#This Row],['# of Books]]*Table1[[#This Row],[QTY]]","v":0},{"$f":"Table1[[#This Row],[QTY]]*Table1[[#This Row],[School & Library Price]]","v":0}]
[null,19,null,null,"Current Issues","At Issue","Has Child Behavior Worsened?","978-0-7377-6835-0","Greenhaven Publishing","Paperback Book",1,2014,null,"Paperback","6.000 X 9.000","Author","Amy Francis",null,null,null,null,null,null,"Years 15 - 17",null,"Grade 10 - 12","This title explores whether childhood has worsened over time. The title delves into behavior in school, bullying, and feelings of entitlement, among other aspects. Includes primary and secondary sources from a variety of perspectives -- eyewitnesses, scientific journals, government officials and many others.","English",27.8,22.240000000000002,"302.5083","95 pp.",{"$f":"Table1[[#This Row],['# of Books]]*Table1[[#This Row],[QTY]]","v":0},{"$f":"Table1[[#This Row],[QTY]]*Table1[[#This Row],[School & Library Price]]","v":0}]
[null,19,null,null,"Current Issues","At Issue","Has Technology Increased Learning?","978-0-7377-4103-2","Greenhaven Publishing","Paperback Book",1,2009,null,"Paperback","6.000 X 9.000","Author","Roman Espejo",null,null,null,null,null,null,"Years 15 - 17",null,"Grade 10 - 12",null,"English",27.8,22.240000000000002,"371","131 pp.",{"$f":"Table1[[#This Row],['# of Books]]*Table1[[#This Row],[QTY]]","v":0},{"$f":"Table1[[#This Row],[QTY]]*Table1[[#This Row],[School & Library Price]]","v":0}]
[null,19,null,null,"Current Issues","At Issue","Heroin","978-0-7377-2716-6","Greenhaven Publishing","Paperback Book",1,2007,null,"Paperback","6.000 X 9.000","Author","Stuart A. Kallen",null,null,null,null,null,null,"Years 15 - 17",null,"Grade 10 - 12",null,"English",27.8,22.240000000000002,"362.29","108 pp.",{"$f":"Table1[[#This Row],['# of Books]]*Table1[[#This Row],[QTY]]","v":0},{"$f":"Table1[[#This Row],[QTY]]*Table1[[#This Row],[School & Library Price]]","v":0}]
[null,19,null,null,"Current Issues","At Issue","Homeland Security","978-0-7377-4420-0","Greenhaven Publishing","Library Bound Book",1,2010,null,"Library Bound","6.000 X 9.000","Author","Myra Immell",null,null,null,null,null,null,"Years 15 - 17",null,"Grade 10 - 12",null,"English",39.4,31.52,"363","136 pp.",{"$f":"Table1[[#This Row],['# of Books]]*Table1[[#This Row],[QTY]]","v":0},{"$f":"Table1[[#This Row],[QTY]]*Table1[[#This Row],[School & Library Price]]","v":0}]
[null,20,null,null,"Current Issues","At Issue","How Can the Poor Be Helped?","978-0-7377-5156-7","Greenhaven Publishing","Paperback Book",1,2011,null,"Paperback","6.000 X 9.000","Author","Jennifer Dorman",null,null,null,null,null,null,"Years 15 - 17",null,"Grade 10 - 12",null,"English",27.8,22.240000000000002,"362","107 pp.",{"$f":"Table1[[#This Row],['# of Books]]*Table1[[#This Row],[QTY]]","v":0},{"$f":"Table1[[#This Row],[QTY]]*Table1[[#This Row],[School & Library Price]]","v":0}]
[null,20,null,null,"Current Issues","At Issue","How Does Religion Influence Politics?","978-0-7377-4675-4","Greenhaven Publishing","Library Bound Book",1,2010,null,"Library Bound","6.000 X 9.000","Author","Stefan Kiesbye",null,null,null,null,null,null,"Years 15 - 17",null,"Grade 10 - 12",null,"English",39.4,31.52,"322","120 pp.",{"$f":"Table1[[#This Row],['# of Books]]*Table1[[#This Row],[QTY]]","v":0},{"$f":"Table1[[#This Row],[QTY]]*Table1[[#This Row],[School & Library Price]]","v":0}]
[null,20,null,null,"Current Issues","At Issue","How Should Obesity Be Treated?","978-0-7377-4422-4","Greenhaven Publishing","Library Bound Book",1,2009,null,"Library Bound","6.000 X 9.000","Author","Stefan Kiesbye",null,null,null,null,null,null,"Years 15 - 17",null,"Grade 10 - 12",null,"English",39.4,31.52,"616","112 pp.",{"$f":"Table1[[#This Row],['# of Books]]*Table1[[#This Row],[QTY]]","v":0},{"$f":"Table1[[#This Row],[QTY]]*Table1[[#This Row],[School & Library Price]]","v":0}]
[null,20,null,null,"Current Issues","At Issue","How Should One Cope with Death?","978-0-7377-2387-8","Greenhaven Publishing","Paperback Book",1,2006,null,"Paperback","6.000 X 9.000","Author","Elaine Minamide",null,null,null,null,null,null,"Years 15 - 17",null,"Grade 10 - 12","Though the mortality rate among human beings remains steady at 100%, death is still something that takes most people by surprise. Exploring the various issues related to death, dying, and bereavement is the focus of this collection of essays.","English",27.8,22.240000000000002,"155.9","112 pp.",{"$f":"Table1[[#This Row],['# of Books]]*Table1[[#This Row],[QTY]]","v":0},{"$f":"Table1[[#This Row],[QTY]]*Table1[[#This Row],[School & Library Price]]","v":0}]
[null,20,null,null,"Current Issues","At Issue","How Should the U.S. Proceed in Afghanistan?","978-0-7377-4424-8","Greenhaven Publishing","Library Bound Book",1,2009,null,"Library Bound","6.000 X 9.000","Author","Stefan Kiesbye",null,null,null,null,null,null,"Years 15 - 17",null,"Grade 10 - 12",null,"English",39.4,31.52,"958","96 pp.",{"$f":"Table1[[#This Row],['# of Books]]*Table1[[#This Row],[QTY]]","v":0},{"$f":"Table1[[#This Row],[QTY]]*Table1[[#This Row],[School & Library Price]]","v":0}]
[null,20,null,null,"Current Issues","At Issue","How Should the U.S. Proceed in Iraq?","978-0-7377-4057-8","Greenhaven Publishing","Paperback Book",1,2008,null,"Paperback","6.000 X 9.000","Author","William Dudley",null,null,null,null,null,null,"Years 15 - 17",null,"Grade 10 - 12",null,"English",27.8,22.240000000000002,"956","113 pp.",{"$f":"Table1[[#This Row],['# of Books]]*Table1[[#This Row],[QTY]]","v":0},{"$f":"Table1[[#This Row],[QTY]]*Table1[[#This Row],[School & Library Price]]","v":0}]
[null,20,null,null,"Current Issues","At Issue","How Valuable is a College Degree?","978-0-7377-7638-6","Greenhaven Publishing","eBook",1,2016,null,"eBook",null,"Author","Noel Merino",null,null,null,null,null,null,"Years 15 - 17",null,"Grade 10 - 12",null,"English",39.4,39.4,"331.11","103 pp.",{"$f":"Table1[[#This Row],['# of Books]]*Table1[[#This Row],[QTY]]","v":0},{"$f":"Table1[[#This Row],[QTY]]*Table1[[#This Row],[School & Library Price]]","v":0}]
[null,20,null,null,"Current Issues","At Issue","Human Waste","978-0-7377-5897-9","Greenhaven Publishing","Paperback Book",1,2012,null,"Paperback","6.000 X 9.000","Author","Ronald D. Lankford",null,null,null,null,null,null,"Years 15 - 17",null,"Grade 10 - 12","This edition in the AT ISSUE series examines issues related to human waste. Includes primary and secondary sources from a variety of perspectives -- eyewitnesses, scientific journals, government officials and many others.","English",27.8,22.240000000000002,"363","96 pp.",{"$f":"Table1[[#This Row],['# of Books]]*Table1[[#This Row],[QTY]]","v":0},{"$f":"Table1[[#This Row],[QTY]]*Table1[[#This Row],[School & Library Price]]","v":0}]
[null,20,null,null,"Current Issues","At Issue","Hybrid and Electric Cars","978-0-7377-6838-1","Greenhaven Publishing","Library Bound Book",1,2014,null,"Library Bound","6.000 X 9.000","Author","Louise I. Gerdes",null,null,null,null,null,null,"Years 15 - 17",null,"Grade 10 - 12","This title explores the impact of Hybrid and Electric Cars on the environment and society. Includes primary and secondary sources from a variety of perspectives -- eyewitnesses, scientific journals, government officials and many others.","English",39.4,31.52,"629","104 pp.",{"$f":"Table1[[#This Row],['# of Books]]*Table1[[#This Row],[QTY]]","v":0},{"$f":"Table1[[#This Row],[QTY]]*Table1[[#This Row],[School & Library Price]]","v":0}]
[null,20,null,null,"Current Issues","At Issue","Identity Theft","978-0-7377-5583-1","Greenhaven Publishing","Paperback Book",1,2012,null,"Paperback","6.000 X 9.000","Author","Stefan Kiesbye",null,null,null,null,null,null,"Years 15 - 17",null,"Grade 10 - 12","This edition in the AT ISSUE series examines issues related to identity theft. Includes primary and secondary sources from a variety of perspectives -- eyewitnesses, scientific journals, government officials and many others.","English",27.8,22.240000000000002,"364","110 pp.",{"$f":"Table1[[#This Row],['# of Books]]*Table1[[#This Row],[QTY]]","v":0},{"$f":"Table1[[#This Row],[QTY]]*Table1[[#This Row],[School & Library Price]]","v":0}]
[null,20,null,null,"Current Issues","At Issue","Immigration Reform","978-0-7377-7640-9","Greenhaven Publishing","eBook",1,2016,null,"eBook",null,"Author","Noel Merino",null,null,null,null,null,null,"Years 15 - 17",null,"Grade 10 - 12",null,"English",39.4,39.4,"325.73","114 pp.",{"$f":"Table1[[#This Row],['# of Books]]*Table1[[#This Row],[QTY]]","v":0},{"$f":"Table1[[#This Row],[QTY]]*Table1[[#This Row],[School & Library Price]]","v":0}]
[null,20,null,null,"Current Issues","At Issue","Interracial Relationships","978-0-7377-2391-5","Greenhaven Publishing","Paperback Book",1,2007,null,"Paperback","6.000 X 9.000","Author","David M. Haugen",null,null,null,null,null,null,"Years 15 - 17",null,"Grade 10 - 12",null,"English",27.8,22.240000000000002,"306.84","98 pp.",{"$f":"Table1[[#This Row],['# of Books]]*Table1[[#This Row],[QTY]]","v":0},{"$f":"Table1[[#This Row],[QTY]]*Table1[[#This Row],[School & Library Price]]","v":0}]
[null,20,null,null,"Current Issues","At Issue","Invasive Species","978-0-7377-7386-6","Greenhaven Publishing","Library Bound Book",1,2016,null,"Library Bound","6.000 X 9.000","Author","Noah Berlatsky",null,null,null,null,null,null,"Years 15 - 17",null,"Grade 10 - 12","Zebra mussels, purple loosestrife, and killer bees--invasive species are infiltrating our water, land and skies, disrupting our delicate ecosystems. At Issue: Invasive Species examines ways these invaders harm--or help--the environment, and what to do about them (hint--Asian carp and feral pigs can be very tasty).","English",39.4,31.52,"578","90 pp.",{"$f":"Table1[[#This Row],['# of Books]]*Table1[[#This Row],[QTY]]","v":0},{"$f":"Table1[[#This Row],[QTY]]*Table1[[#This Row],[School & Library Price]]","v":0}]
[null,20,null,null,"Current Issues","At Issue","Is Childhood Becoming Too Sexualized?","978-0-7377-4884-0","Greenhaven Publishing","Library Bound Book",1,2010,null,"Library Bound","6.000 X 9.000","Author","Olivia Ferguson",null,null,null,null,null,null,"Years 15 - 17",null,"Grade 10 - 12",null,"English",39.4,31.52,"306","120 pp.",{"$f":"Table1[[#This Row],['# of Books]]*Table1[[#This Row],[QTY]]","v":0},{"$f":"Table1[[#This Row],[QTY]]*Table1[[#This Row],[School & Library Price]]","v":0}]
[null,20,null,null,"Current Issues","At Issue","Is China's Economic Growth a Threat to America?","978-0-7377-6186-3","Greenhaven Publishing","Paperback Book",1,2014,null,"Paperback","6.000 X 9.000","Author","Ronald D. Lankford",null,null,null,null,null,null,"Years 15 - 17",null,"Grade 10 - 12","This title explores many aspects of the economic relationship between the United States and China, including the impact on the auto industry, agriculture, and manufacturing jobs.  Includes primary and secondary sources from a variety of perspectives -- eyewitnesses, scientific journals, government officials and many others.","English",27.8,22.240000000000002,"330","103 pp.",{"$f":"Table1[[#This Row],['# of Books]]*Table1[[#This Row],[QTY]]","v":0},{"$f":"Table1[[#This Row],[QTY]]*Table1[[#This Row],[School & Library Price]]","v":0}]
[null,20,null,null,"Current Issues","At Issue","Is Gun Ownership a Right?","978-0-7377-4428-6","Greenhaven Publishing","Library Bound Book",1,2010,null,"Library Bound","6.000 X 9.000","Author","Lea Sakora",null,null,null,null,null,null,"Years 15 - 17",null,"Grade 10 - 12",null,"English",39.4,31.52,"363","112 pp.",{"$f":"Table1[[#This Row],['# of Books]]*Table1[[#This Row],[QTY]]","v":0},{"$f":"Table1[[#This Row],[QTY]]*Table1[[#This Row],[School & Library Price]]","v":0}]
[null,20,null,null,"Current Issues","At Issue","Is Iran a Threat to Global Security?","978-0-7377-4668-6","Greenhaven Publishing","Paperback Book",1,2010,null,"Paperback","6.000 X 9.000","Author","Stefan Kiesbye",null,null,null,null,null,null,"Years 15 - 17",null,"Grade 10 - 12",null,"English",27.8,22.240000000000002,"363","126 pp.",{"$f":"Table1[[#This Row],['# of Books]]*Table1[[#This Row],[QTY]]","v":0},{"$f":"Table1[[#This Row],[QTY]]*Table1[[#This Row],[School & Library Price]]","v":0}]
[null,20,null,null,"Current Issues","At Issue","Is Parenthood a Right or a Privilege?","978-0-7377-4430-9","Greenhaven Publishing","Library Bound Book",1,2009,null,"Library Bound","6.000 X 9.000","Author","Stefan Kiesbye",null,null,null,null,null,null,"Years 15 - 17",null,"Grade 10 - 12",null,"English",39.4,31.52,"306","104 pp.",{"$f":"Table1[[#This Row],['# of Books]]*Table1[[#This Row],[QTY]]","v":0},{"$f":"Table1[[#This Row],[QTY]]*Table1[[#This Row],[School & Library Price]]","v":0}]
[null,20,null,null,"Current Issues","At Issue","Is Poverty a Serious Threat?","978-0-7377-2726-5","Greenhaven Publishing","Paperback Book",1,2006,null,"Paperback","6.000 X 9.000","Author","Mercedes Munoz",null,null,null,null,null,null,"Years 15 - 17",null,"Grade 10 - 12","In both the United States and throughout the world, income inequality persists. The authors in this anthology debate the extent of domestic and global poverty and how best to define poverty.","English",27.8,22.240000000000002,"362.5","117 pp.",{"$f":"Table1[[#This Row],['# of Books]]*Table1[[#This Row],[QTY]]","v":0},{"$f":"Table1[[#This Row],[QTY]]*Table1[[#This Row],[School & Library Price]]","v":0}]
[null,20,null,null,"Current Issues","At Issue","Is Selling Body Parts Ethical?","978-0-7377-6189-4","Greenhaven Publishing","Library Bound Book",1,2013,null,"Library Bound","6.000 X 9.000","Author","Christine Watkins",null,null,null,null,null,null,"Years 15 - 17",null,"Grade 10 - 12","This title explores the ethics of selling body parts, whether selling body parts benefits or exploits the poor, and the state of organ trafficking in other countries.  Includes primary and secondary sources from a variety of perspectives -- eyewitnesses, scientific journals, government officials and many others.","English",39.4,31.52,"174","120 pp.",{"$f":"Table1[[#This Row],['# of Books]]*Table1[[#This Row],[QTY]]","v":0},{"$f":"Table1[[#This Row],[QTY]]*Table1[[#This Row],[School & Library Price]]","v":0}]
[null,20,null,null,"Current Issues","At Issue","Is Selling Body Parts Ethical?","978-0-7377-6190-0","Greenhaven Publishing","Paperback Book",1,2013,null,"Paperback","6.000 X 9.000","Author","Christine Watkins",null,null,null,null,null,null,"Years 15 - 17",null,"Grade 10 - 12","This title explores the ethics of selling body parts, whether selling body parts benefits or exploits the poor, and the state of organ trafficking in other countries.  Includes primary and secondary sources from a variety of perspectives -- eyewitnesses, scientific journals, government officials and many others.","English",27.8,22.240000000000002,"174","116 pp.",{"$f":"Table1[[#This Row],['# of Books]]*Table1[[#This Row],[QTY]]","v":0},{"$f":"Table1[[#This Row],[QTY]]*Table1[[#This Row],[School & Library Price]]","v":0}]
[null,21,null,null,"Current Issues","At Issue","Is the American Dream a Myth?","978-0-7377-3494-2","Greenhaven Publishing","Paperback Book",1,2006,null,"Paperback","6.000 X 9.000","Author","Kate Burns",null,null,null,null,null,null,"Years 15 - 17",null,"Grade 10 - 12",null,"English",27.8,22.240000000000002,"306.0973","100 pp.",{"$f":"Table1[[#This Row],['# of Books]]*Table1[[#This Row],[QTY]]","v":0},{"$f":"Table1[[#This Row],[QTY]]*Table1[[#This Row],[School & Library Price]]","v":0}]
[null,21,null,null,"Current Issues","At Issue","Is the United States Ready for a Minority President?","978-0-7377-3878-0","Greenhaven Publishing","Library Bound Book",1,2008,null,"Library Bound","6.000 X 9.000","Author","Amanda Hiber",null,null,null,null,null,null,"Years 15 - 17",null,"Grade 10 - 12",null,"English",39.4,31.52,"306","112 pp.",{"$f":"Table1[[#This Row],['# of Books]]*Table1[[#This Row],[QTY]]","v":0},{"$f":"Table1[[#This Row],[QTY]]*Table1[[#This Row],[School & Library Price]]","v":0}]
[null,21,null,null,"Current Issues","At Issue","Is There a New Cold War?","978-0-7377-4659-4","Greenhaven Publishing","Library Bound Book",1,2010,null,"Library Bound","6.000 X 9.000","Author","Stefan Kiesbye",null,null,null,null,null,null,"Years 15 - 17",null,"Grade 10 - 12",null,"English",39.4,31.52,"327","144 pp.",{"$f":"Table1[[#This Row],['# of Books]]*Table1[[#This Row],[QTY]]","v":0},{"$f":"Table1[[#This Row],[QTY]]*Table1[[#This Row],[School & Library Price]]","v":0}]
[null,21,null,null,"Current Issues","At Issue","Is Torture Ever Justified?","978-0-7377-5092-8","Greenhaven Publishing","Paperback Book",1,2011,null,"Paperback","6.000 X 9.000","Author","Tamara L. Roleff",null,null,null,null,null,null,"Years 15 - 17",null,"Grade 10 - 12",null,"English",27.8,22.240000000000002,"365","128 pp.",{"$f":"Table1[[#This Row],['# of Books]]*Table1[[#This Row],[QTY]]","v":0},{"$f":"Table1[[#This Row],[QTY]]*Table1[[#This Row],[School & Library Price]]","v":0}]
[null,21,null,null,"Current Issues","At Issue","Location Based Social Networking","978-0-7377-6843-5","Greenhaven Publishing","Paperback Book",1,2014,null,"Paperback","6.000 X 9.000","Author","Roman Espejo",null,null,null,null,null,null,"Years 15 - 17",null,"Grade 10 - 12","At Issue: Location-Based Social Networking and Services explores the popularity of location-based social networking; privacy issues concerning location-based social networking, services, and geofencing; the effectiveness of location-based services.","English",27.8,22.240000000000002,"006","93 pp.",{"$f":"Table1[[#This Row],['# of Books]]*Table1[[#This Row],[QTY]]","v":0},{"$f":"Table1[[#This Row],[QTY]]*Table1[[#This Row],[School & Library Price]]","v":0}]
[null,21,null,null,"Current Issues","At Issue","Media Bias","978-0-7377-5159-8","Greenhaven Publishing","Library Bound Book",1,2011,null,"Library Bound","6.000 X 9.000","Author","Susan Hunnicutt",null,null,null,null,null,null,"Years 15 - 17",null,"Grade 10 - 12",null,"English",39.4,31.52,"302","128 pp.",{"$f":"Table1[[#This Row],['# of Books]]*Table1[[#This Row],[QTY]]","v":0},{"$f":"Table1[[#This Row],[QTY]]*Table1[[#This Row],[School & Library Price]]","v":0}]
[null,21,null,null,"Current Issues","At Issue","Mental Illness and Criminal Behavior","978-0-7377-4435-4","Greenhaven Publishing","Paperback Book",1,2009,null,"Paperback","6.000 X 9.000","Author","Shannon Fiack",null,null,null,null,null,null,"Years 15 - 17",null,"Grade 10 - 12",null,"English",27.8,22.240000000000002,"364","104 pp.",{"$f":"Table1[[#This Row],['# of Books]]*Table1[[#This Row],[QTY]]","v":0},{"$f":"Table1[[#This Row],[QTY]]*Table1[[#This Row],[School & Library Price]]","v":0}]
[null,21,null,null,"Current Issues","At Issue","Mexico's Drug War","978-0-7377-6844-2","Greenhaven Publishing","Library Bound Book",1,2014,null,"Library Bound","6.000 X 9.000","Author","Margaret Haerens",null,null,null,null,null,null,"Years 15 - 17",null,"Grade 10 - 12","This title examines Mexico’s drug war from many angles, exploring the causes, the government and military responses, and the impact of Central American and US drug policy on Mexico.  Includes primary and secondary sources from a variety of perspectives -- eyewitnesses, scientific journals, government officials and many others.","English",39.4,31.52,"363.45","120 pp.",{"$f":"Table1[[#This Row],['# of Books]]*Table1[[#This Row],[QTY]]","v":0},{"$f":"Table1[[#This Row],[QTY]]*Table1[[#This Row],[School & Library Price]]","v":0}]
[null,21,null,null,"Current Issues","At Issue","Military Recruiters","978-0-7377-3788-2","Greenhaven Publishing","Paperback Book",1,2008,null,"Paperback","6.000 X 9.000","Author","Lauri Harding",null,null,null,null,null,null,"Years 15 - 17",null,"Grade 10 - 12",null,"English",27.8,22.240000000000002,"362.292","120 pp.",{"$f":"Table1[[#This Row],['# of Books]]*Table1[[#This Row],[QTY]]","v":0},{"$f":"Table1[[#This Row],[QTY]]*Table1[[#This Row],[School & Library Price]]","v":0}]
[null,21,null,null,"Current Issues","At Issue","Negative Campaigning","978-0-7377-6847-3","Greenhaven Publishing","Paperback Book",1,2014,null,"Paperback","6.000 X 9.000","Author","Margaret Haerens",null,null,null,null,null,null,"Years 15 - 17",null,"Grade 10 - 12","At Issue: Negative Campaigning explores the effectiveness of negative campaign ads, whether or not negative campaigning has value, the effectiveness of fact-checking, and what fuels negative campaigning.  Includes primary and secondary sources from a variety of perspectives -- eyewitnesses, scientific journals, government officials and many others.","English",27.8,22.240000000000002,"324","97 pp.",{"$f":"Table1[[#This Row],['# of Books]]*Table1[[#This Row],[QTY]]","v":0},{"$f":"Table1[[#This Row],[QTY]]*Table1[[#This Row],[School & Library Price]]","v":0}]
[null,21,null,null,"Current Issues","At Issue","Nuclear and Toxic Waste","978-0-7377-4682-2","Greenhaven Publishing","Paperback Book",1,2010,null,"Paperback","6.000 X 9.000","Author","Stefan Kiesbye",null,null,null,null,null,null,"Years 15 - 17",null,"Grade 10 - 12",null,"English",27.8,22.240000000000002,"363","120 pp.",{"$f":"Table1[[#This Row],['# of Books]]*Table1[[#This Row],[QTY]]","v":0},{"$f":"Table1[[#This Row],[QTY]]*Table1[[#This Row],[School & Library Price]]","v":0}]
[null,21,null,null,"Current Issues","At Issue","Organ Transplants","978-0-7377-5587-9","Greenhaven Publishing","Paperback Book",1,2012,null,"Paperback","6.000 X 9.000","Author","Diane Andrews Henningfeld",null,null,null,null,null,null,"Years 15 - 17",null,"Grade 10 - 12","This edition in the At Issue series provides readers with a variety of articles discussing the issues surrounding organ transplants. The title explores ethical issues related to organ transplantation, global programs that encourage organ donation, issues related to “transplant tourists” and the illicit transplant organ trade, and how brain and cardiac death impact organ harvesting.","English",27.8,22.240000000000002,"174","122 pp.",{"$f":"Table1[[#This Row],['# of Books]]*Table1[[#This Row],[QTY]]","v":0},{"$f":"Table1[[#This Row],[QTY]]*Table1[[#This Row],[School & Library Price]]","v":0}]
[null,21,null,null,"Current Issues","At Issue","Piracy on the High Seas","978-0-7377-6848-0","Greenhaven Publishing","Library Bound Book",1,2014,null,"Library Bound","6.000 X 9.000","Author","Debra A. Miller",null,null,null,null,null,null,"Years 15 - 17",null,"Grade 10 - 12","This title explores the ongoing problem of  modern-day piracy. Rising in prevalence at the turn of the 21st century, pirates attracted commercial ships in Southeast Asia and off the coast of Somalia.","English",39.4,31.52,"364","104 pp.",{"$f":"Table1[[#This Row],['# of Books]]*Table1[[#This Row],[QTY]]","v":0},{"$f":"Table1[[#This Row],[QTY]]*Table1[[#This Row],[School & Library Price]]","v":0}]
[null,21,null,null,"Current Issues","At Issue","Policing the Internet","978-0-7377-5590-9","Greenhaven Publishing","Library Bound Book",1,2012,null,"Library Bound","6.000 X 9.000","Author","Roman Espejo",null,null,null,null,null,null,"Years 15 - 17",null,"Grade 10 - 12","This edition in the AT ISSUE series examines issues related to the policing of the Internet. The title explores whether or not the Internet requires special policing and/or regulation, the threats posed by cyberterrorism and identity theft, and the role--both positive and negative--of social networks.","English",39.4,31.52,"354","128 pp.",{"$f":"Table1[[#This Row],['# of Books]]*Table1[[#This Row],[QTY]]","v":0},{"$f":"Table1[[#This Row],[QTY]]*Table1[[#This Row],[School & Library Price]]","v":0}]
[null,21,null,null,"Current Issues","At Issue","Political Activism","978-0-7377-3881-0","Greenhaven Publishing","Paperback Book",1,2008,null,"Paperback","6.000 X 9.000","Author","Tom Lansford",null,null,null,null,null,null,"Years 15 - 17",null,"Grade 10 - 12",null,"English",27.8,22.240000000000002,"324","136 pp.",{"$f":"Table1[[#This Row],['# of Books]]*Table1[[#This Row],[QTY]]","v":0},{"$f":"Table1[[#This Row],[QTY]]*Table1[[#This Row],[School & Library Price]]","v":0}]
[null,21,null,null,"Current Issues","At Issue","Political Scandals","978-0-7377-3763-9","Greenhaven Publishing","Library Bound Book",1,2008,null,"Library Bound","6.000 X 9.000","Author","Randy Scherer",null,null,null,null,null,null,"Years 15 - 17",null,"Grade 10 - 12",null,"English",39.4,31.52,"305","112 pp.",{"$f":"Table1[[#This Row],['# of Books]]*Table1[[#This Row],[QTY]]","v":0},{"$f":"Table1[[#This Row],[QTY]]*Table1[[#This Row],[School & Library Price]]","v":0}]
[null,21,null,null,"Current Issues","At Issue","Polygamy","978-0-7377-6194-8","Greenhaven Publishing","Paperback Book",1,2013,null,"Paperback","6.000 X 9.000","Author","Stefan Kiesbye",null,null,null,null,null,null,"Years 15 - 17",null,"Grade 10 - 12","This title explores whether polygamy is harmful to society, women, children, whether polygamy should be legalized, Mormon polygamous communities, and Muslim views on polygamy.","English",27.8,22.240000000000002,"306","96 pp.",{"$f":"Table1[[#This Row],['# of Books]]*Table1[[#This Row],[QTY]]","v":0},{"$f":"Table1[[#This Row],[QTY]]*Table1[[#This Row],[School & Library Price]]","v":0}]
[null,22,null,null,"Current Issues","At Issue","Racial Profiling","978-0-7377-5093-5","Greenhaven Publishing","Library Bound Book",1,2011,null,"Library Bound","6.000 X 9.000","Author","Kathy L. Hahn",null,null,null,null,null,null,"Years 15 - 17",null,"Grade 10 - 12",null,"English",39.4,31.52,"363","96 pp.",{"$f":"Table1[[#This Row],['# of Books]]*Table1[[#This Row],[QTY]]","v":0},{"$f":"Table1[[#This Row],[QTY]]*Table1[[#This Row],[School & Library Price]]","v":0}]
[null,22,null,null,"Current Issues","At Issue","Reality TV","978-0-7377-6195-5","Greenhaven Publishing","Library Bound Book",1,2013,null,"Library Bound","6.000 X 9.000","Author","Thomas Riggs",null,null,null,null,null,null,"Years 15 - 17",null,"Grade 10 - 12","This title explores the place of reality television in society. Topics discussed include the impact of reality TV programming; issues of diversity/gender/stereotypes; and issues specific to children who appear on reality TV.  Includes primary and secondary sources from a variety of perspectives -- eyewitnesses, scientific journals, government officials and many others.","English",39.4,31.52,"791","112 pp.",{"$f":"Table1[[#This Row],['# of Books]]*Table1[[#This Row],[QTY]]","v":0},{"$f":"Table1[[#This Row],[QTY]]*Table1[[#This Row],[School & Library Price]]","v":0}]
[null,22,null,null,"Current Issues","At Issue","Rebuilding the World Trade Center Site","978-0-7377-5593-0","Greenhaven Publishing","Paperback Book",1,2012,null,"Paperback","6.000 X 9.000","Author","Margaret Haerens",null,null,null,null,null,null,"Years 15 - 17",null,"Grade 10 - 12","This edition in the AT ISSUE series examines issues related to the rebuilding of the World Trade Center . Each volume includes primary and secondary sources from a variety of perspectives -- eyewitnesses, scientific journals, government officials and many others.","English",27.8,22.240000000000002,"725","115 pp.",{"$f":"Table1[[#This Row],['# of Books]]*Table1[[#This Row],[QTY]]","v":0},{"$f":"Table1[[#This Row],[QTY]]*Table1[[#This Row],[School & Library Price]]","v":0}]
[null,22,null,null,"Current Issues","At Issue","Road Rage","978-0-7377-6197-9","Greenhaven Publishing","Library Bound Book",1,2014,null,"Library Bound","6.000 X 9.000","Author","Amy Francis",null,null,null,null,null,null,"Years 15 - 17",null,"Grade 10 - 12","With more cars on the road and an increase in distracted driving, road rage is growing in prevalence. This volume examines possible causes, such as left-lane laws, hypermiling, impaired driving, and even mental illness.","English",39.4,31.52,"363","104 pp.",{"$f":"Table1[[#This Row],['# of Books]]*Table1[[#This Row],[QTY]]","v":0},{"$f":"Table1[[#This Row],[QTY]]*Table1[[#This Row],[School & Library Price]]","v":0}]
[null,22,null,null,"Current Issues","At Issue","Self-Defense Laws","978-0-7377-6854-1","Greenhaven Publishing","Library Bound Book",1,2014,null,"Library Bound","6.000 X 9.000","Author","Tamara Thompson",null,null,null,null,null,null,"Years 15 - 17",null,"Grade 10 - 12","At Issue: Self-Defense Laws examines the legal and natural principals of self-defense, the validity of the Castle-Doctrine Laws, the validity of the Stand-Your-Ground Laws, and other forms of self-defense both lethal and non-lethal.  Includes primary and secondary sources from a variety of perspectives -- eyewitnesses, scientific journals, government officials and many others.","English",39.4,31.52,"345","104 pp.",{"$f":"Table1[[#This Row],['# of Books]]*Table1[[#This Row],[QTY]]","v":0},{"$f":"Table1[[#This Row],[QTY]]*Table1[[#This Row],[School & Library Price]]","v":0}]
[null,22,null,null,"Current Issues","At Issue","Self-Defense Laws","978-0-7377-6855-8","Greenhaven Publishing","Paperback Book",1,2014,null,"Paperback","6.000 X 9.000","Author","Tamara Thompson",null,null,null,null,null,null,"Years 15 - 17",null,"Grade 10 - 12","At Issue: Self-Defense Laws examines the legal and natural principals of self-defense, the validity of the Castle-Doctrine Laws, the validity of the Stand-Your-Ground Laws, and other forms of self-defense both lethal and non-lethal.  Includes primary and secondary sources from a variety of perspectives -- eyewitnesses, scientific journals, government officials and many others.","English",27.8,22.240000000000002,"345","102 pp.",{"$f":"Table1[[#This Row],['# of Books]]*Table1[[#This Row],[QTY]]","v":0},{"$f":"Table1[[#This Row],[QTY]]*Table1[[#This Row],[School & Library Price]]","v":0}]
[null,22,null,null,"Current Issues","At Issue","Sexually Transmitted Diseases","978-0-7377-1975-8","Greenhaven Publishing","Library Bound Book",1,2007,null,"Library Bound","6.000 X 9.000","Author","Laura K. Egendorf",null,null,null,null,null,null,"Years 15 - 17",null,"Grade 10 - 12",null,"English",39.4,31.52,"616.95","104 pp.",{"$f":"Table1[[#This Row],['# of Books]]*Table1[[#This Row],[QTY]]","v":0},{"$f":"Table1[[#This Row],[QTY]]*Table1[[#This Row],[School & Library Price]]","v":0}]
[null,22,null,null,"Current Issues","At Issue","Should Cameras Be Allowed in Courtrooms?","978-0-7377-3929-9","Greenhaven Publishing","Paperback Book",1,2008,null,"Paperback","6.000 X 9.000","Author","Amanda Hiber",null,null,null,null,null,null,"Years 15 - 17",null,"Grade 10 - 12",null,"English",27.8,22.240000000000002,"347","111 pp.",{"$f":"Table1[[#This Row],['# of Books]]*Table1[[#This Row],[QTY]]","v":0},{"$f":"Table1[[#This Row],[QTY]]*Table1[[#This Row],[School & Library Price]]","v":0}]
[null,22,null,null,"Current Issues","At Issue","Should Drilling Be Permitted in the Arctic National Wildlife Refuge?","978-0-7377-6199-3","Greenhaven Publishing","Library Bound Book",1,2013,null,"Library Bound","6.000 X 9.000","Author","Tamara Thompson",null,null,null,null,null,null,"Years 15 - 17",null,"Grade 10 - 12","This edition in the At Issue series examines issues related to drilling in the Arctic National Wildlife Refuge . Includes primary and secondary sources from a variety of perspectives -- eyewitnesses, scientific journals, government officials and many others.","English",39.4,31.52,"333","112 pp.",{"$f":"Table1[[#This Row],['# of Books]]*Table1[[#This Row],[QTY]]","v":0},{"$f":"Table1[[#This Row],[QTY]]*Table1[[#This Row],[School & Library Price]]","v":0}]
[null,22,null,null,"Current Issues","At Issue","Should Governments Negotiate With Terrorists?","978-0-7377-3933-6","Greenhaven Publishing","Paperback Book",1,2008,null,"Paperback","6.000 X 9.000","Author","Amanda Hiber",null,null,null,null,null,null,"Years 15 - 17",null,"Grade 10 - 12",null,"English",27.8,22.240000000000002,"363","121 pp.",{"$f":"Table1[[#This Row],['# of Books]]*Table1[[#This Row],[QTY]]","v":0},{"$f":"Table1[[#This Row],[QTY]]*Table1[[#This Row],[School & Library Price]]","v":0}]
[null,22,null,null,"Current Issues","At Issue","Should Juveniles Be Tried As Adults?","978-0-7377-4078-3","Greenhaven Publishing","Paperback Book",1,2008,null,"Paperback","6.000 X 9.000","Author","Christine Watkins",null,null,null,null,null,null,"Years 15 - 17",null,"Grade 10 - 12",null,"English",27.8,22.240000000000002,"345","130 pp.",{"$f":"Table1[[#This Row],['# of Books]]*Table1[[#This Row],[QTY]]","v":0},{"$f":"Table1[[#This Row],[QTY]]*Table1[[#This Row],[School & Library Price]]","v":0}]
[null,22,null,null,"Current Issues","At Issue","Should Parents Be Allowed to Choose the Gender of Their Children?","978-0-7377-5595-4","Greenhaven Publishing","Paperback Book",1,2012,null,"Paperback","6.000 X 9.000","Author","Tamara Thompson",null,null,null,null,null,null,"Years 15 - 17",null,"Grade 10 - 12","This new addition to the At Issue series explores the ethical issues related to sex selection. Selected articles are written from differing viewpoints and cover a variety of topics, including the potential for gender discrimination, the dangers posed by trait-based eugenics, reported occurrences of “gendercide” in China and India, and issues related to sex selective abortion.","English",27.8,22.240000000000002,"174","92 pp.",{"$f":"Table1[[#This Row],['# of Books]]*Table1[[#This Row],[QTY]]","v":0},{"$f":"Table1[[#This Row],[QTY]]*Table1[[#This Row],[School & Library Price]]","v":0}]
[null,22,null,null,"Current Issues","At Issue","Should Social Networking Web Sites Be Banned?","978-0-7377-4058-5","Greenhaven Publishing","Library Bound Book",1,2008,null,"Library Bound","6.000 X 9.000","Author","Roman Espejo",null,null,null,null,null,null,"Years 15 - 17",null,"Grade 10 - 12",null,"English",39.4,31.52,"004","112 pp.",{"$f":"Table1[[#This Row],['# of Books]]*Table1[[#This Row],[QTY]]","v":0},{"$f":"Table1[[#This Row],[QTY]]*Table1[[#This Row],[School & Library Price]]","v":0}]
[null,22,null,null,"Current Issues","At Issue","Should Social Networking Web Sites Be Banned?","978-0-7377-4059-2","Greenhaven Publishing","Paperback Book",1,2008,null,"Paperback","6.000 X 9.000","Author","Roman Espejo",null,null,null,null,null,null,"Years 15 - 17",null,"Grade 10 - 12",null,"English",27.8,22.240000000000002,"004","106 pp.",{"$f":"Table1[[#This Row],['# of Books]]*Table1[[#This Row],[QTY]]","v":0},{"$f":"Table1[[#This Row],[QTY]]*Table1[[#This Row],[School & Library Price]]","v":0}]
[null,22,null,null,"Current Issues","At Issue","Should the Federal Income Tax Be Elimintated?","978-0-7377-6201-3","Greenhaven Publishing","Library Bound Book",1,2014,null,"Library Bound","6.000 X 9.000","Author","David Haugen",null,null,null,null,null,null,"Years 15 - 17",null,"Grade 10 - 12","Title explores issues related to eliminating the federal income tax including, the adoption of a flat tax; the adoption of a tax based on consumption; and corporate income taxes.  Includes primary and secondary sources from a variety of perspectives -- eyewitnesses, scientific journals, government officials and many others.","English",39.4,31.52,"336","96 pp.",{"$f":"Table1[[#This Row],['# of Books]]*Table1[[#This Row],[QTY]]","v":0},{"$f":"Table1[[#This Row],[QTY]]*Table1[[#This Row],[School & Library Price]]","v":0}]
[null,22,null,null,"Current Issues","At Issue","Should the Government Fund Embryonic Stem Cell Research?","978-0-7377-4439-2","Greenhaven Publishing","Paperback Book",1,2009,null,"Paperback","6.000 X 9.000","Author","Amy Francis",null,null,null,null,null,null,"Years 15 - 17",null,"Grade 10 - 12",null,"English",27.8,22.240000000000002,"174","120 pp.",{"$f":"Table1[[#This Row],['# of Books]]*Table1[[#This Row],[QTY]]","v":0},{"$f":"Table1[[#This Row],[QTY]]*Table1[[#This Row],[School & Library Price]]","v":0}]
[null,22,null,null,"Current Issues","At Issue","Should the Internet Be Free?","978-0-7377-4688-4","Greenhaven Publishing","Paperback Book",1,2010,null,"Paperback","6.000 X 9.000","Author","Roman Espejo",null,null,null,null,null,null,"Years 15 - 17",null,"Grade 10 - 12",null,"English",27.8,22.240000000000002,"025","128 pp.",{"$f":"Table1[[#This Row],['# of Books]]*Table1[[#This Row],[QTY]]","v":0},{"$f":"Table1[[#This Row],[QTY]]*Table1[[#This Row],[School & Library Price]]","v":0}]
[null,23,null,null,"Current Issues","At Issue","Should the Rich Pay Higher Taxes?","978-0-7377-6858-9","Greenhaven Publishing","Library Bound Book",1,2014,null,"Library Bound","6.000 X 9.000","Author","Ronald D. Lankford",null,null,null,null,null,null,"Years 15 - 17",null,"Grade 10 - 12","Americans are conflicted on the issue of whether the government should raise the taxes of the wealthiest Americans. This volume explores the debate and examines the issue from a variety of angles including tax loopholes, the federal deficit, and taxation.  Includes primary and secondary sources from a variety of perspectives -- eyewitnesses, scientific journals, government officials and many others.","English",39.4,31.52,"336","112 pp.",{"$f":"Table1[[#This Row],['# of Books]]*Table1[[#This Row],[QTY]]","v":0},{"$f":"Table1[[#This Row],[QTY]]*Table1[[#This Row],[School & Library Price]]","v":0}]
[null,23,null,null,"Current Issues","At Issue","Should the U.S. Do Business With China?","978-0-7377-4113-1","Greenhaven Publishing","Paperback Book",1,2009,null,"Paperback","6.000 X 9.000","Author","Laura K. Egendorf",null,null,null,null,null,null,"Years 15 - 17",null,"Grade 10 - 12",null,"English",27.8,22.240000000000002,"337","122 pp.",{"$f":"Table1[[#This Row],['# of Books]]*Table1[[#This Row],[QTY]]","v":0},{"$f":"Table1[[#This Row],[QTY]]*Table1[[#This Row],[School & Library Price]]","v":0}]
[null,23,null,null,"Current Issues","At Issue","Should the US Close Its Borders?","978-0-7377-6860-2","Greenhaven Publishing","Library Bound Book",1,2014,null,"Library Bound","6.000 X 9.000","Author","Louise I. Gerdes",null,null,null,null,null,null,"Years 15 - 17",null,"Grade 10 - 12","This title explores provides a wide range of opinions on whether or not the United States should close its Mexican and Canadian borders to immigrants. The impact and efficacy of increased border patrol and enforcement are debated.  Includes primary and secondary sources from a variety of perspectives -- eyewitnesses, scientific journals, government officials and many others.","English",39.4,31.52,"325","152 pp.",{"$f":"Table1[[#This Row],['# of Books]]*Table1[[#This Row],[QTY]]","v":0},{"$f":"Table1[[#This Row],[QTY]]*Table1[[#This Row],[School & Library Price]]","v":0}]
[null,23,null,null,"Current Issues","At Issue","Should the Voting Age Be Lowered?","978-0-7377-3937-4","Greenhaven Publishing","Paperback Book",1,2008,null,"Paperback","6.000 X 9.000","Author","Ronnie D. Lankford",null,null,null,null,null,null,"Years 15 - 17",null,"Grade 10 - 12",null,"English",27.8,22.240000000000002,"324","114 pp.",{"$f":"Table1[[#This Row],['# of Books]]*Table1[[#This Row],[QTY]]","v":0},{"$f":"Table1[[#This Row],[QTY]]*Table1[[#This Row],[School & Library Price]]","v":0}]
[null,23,null,null,"Current Issues","At Issue","Should There Be an International Climate Treaty?","978-0-7377-5169-7","Greenhaven Publishing","Library Bound Book",1,2011,null,"Library Bound","6.000 X 9.000","Author","Susan Hunnicutt",null,null,null,null,null,null,"Years 15 - 17",null,"Grade 10 - 12",null,"English",39.4,31.52,"363","112 pp.",{"$f":"Table1[[#This Row],['# of Books]]*Table1[[#This Row],[QTY]]","v":0},{"$f":"Table1[[#This Row],[QTY]]*Table1[[#This Row],[School & Library Price]]","v":0}]
[null,23,null,null,"Current Issues","At Issue","Should Vaccinations Be Mandatory?","978-0-7377-6863-3","Greenhaven Publishing","Paperback Book",1,2014,null,"Paperback","6.000 X 9.000","Author","Roman Espejo",null,null,null,null,null,null,"Years 15 - 17",null,"Grade 10 - 12","This title explores the issue of vaccination in terms of whether the childhood vaccination schedule is safe, whether choice to vaccinate or not should be a right, whether exemptions from vaccinations should be allowed, whether vaccination of healthcare workers is necessary.","English",27.8,22.240000000000002,"614","121 pp.",{"$f":"Table1[[#This Row],['# of Books]]*Table1[[#This Row],[QTY]]","v":0},{"$f":"Table1[[#This Row],[QTY]]*Table1[[#This Row],[School & Library Price]]","v":0}]
[null,23,null,null,"Current Issues","At Issue","Slavery Today","978-0-7377-4440-8","Greenhaven Publishing","Library Bound Book",1,2010,null,"Library Bound","6.000 X 9.000","Author","Ronnie D. Lankford",null,null,null,null,null,null,"Years 15 - 17",null,"Grade 10 - 12",null,"English",39.4,31.52,"306","144 pp.",{"$f":"Table1[[#This Row],['# of Books]]*Table1[[#This Row],[QTY]]","v":0},{"$f":"Table1[[#This Row],[QTY]]*Table1[[#This Row],[School & Library Price]]","v":0}]
[null,23,null,null,"Current Issues","At Issue","Solar Storms","978-0-7377-6206-8","Greenhaven Publishing","Paperback Book",1,2013,null,"Paperback","6.000 X 9.000","Author","Tamara Thompson",null,null,null,null,null,null,"Years 15 - 17",null,"Grade 10 - 12","When solar storms take place, charged particles are sent hurtling through space, and if they collide with Earth, large-scale geomagnetic storms can result. This title presents a range of views about the extent and type of damage that could result from solar storms. Some scientists and commentators assert that solar storms could wreak socioeconomic havoc on a global scale, cause nuclear meltdowns, affect global warming, and alter human health. Others suggest that the dire warnings are overstated. Proposed warning systems and other protective measures are also addressed.","English",27.8,22.240000000000002,"629","101 pp.",{"$f":"Table1[[#This Row],['# of Books]]*Table1[[#This Row],[QTY]]","v":0},{"$f":"Table1[[#This Row],[QTY]]*Table1[[#This Row],[School & Library Price]]","v":0}]
[null,23,null,null,"Current Issues","At Issue","Standardized Testing","978-0-7377-5598-5","Greenhaven Publishing","Library Bound Book",1,2012,null,"Library Bound","6.000 X 9.000","Author","Dedria Bryfonski",null,null,null,null,null,null,"Years 15 - 17",null,"Grade 10 - 12","This new edition in the At Issue series offers readers a variety of articles that address the topic of standardized testing. The title explores the effectiveness of standardized testing as a measure of student accomplishment, the impact of standardized testing on teacher quality, the usefulness of the SATs in the college admission process, and whether or not standardized testing discriminates against minorities.","English",39.4,31.52,"371","120 pp.",{"$f":"Table1[[#This Row],['# of Books]]*Table1[[#This Row],[QTY]]","v":0},{"$f":"Table1[[#This Row],[QTY]]*Table1[[#This Row],[School & Library Price]]","v":0}]
[null,23,null,null,"Current Issues","At Issue","Student Loans","978-0-7377-7411-5","Greenhaven Publishing","Paperback Book",1,2016,null,"Paperback","6.000 X 9.000","Author","Noël Merino",null,null,null,null,null,null,"Years 15 - 17",null,"Grade 10 - 12","This title in the At Issue series investigates student loans--how increasing loan debt has gotten out of hand and what students should do about it. Government and private loans, repayment solutions, and the economic impact of the student loan bubble are discussed.","English",27.8,22.240000000000002,"371","82 pp.",{"$f":"Table1[[#This Row],['# of Books]]*Table1[[#This Row],[QTY]]","v":0},{"$f":"Table1[[#This Row],[QTY]]*Table1[[#This Row],[School & Library Price]]","v":0}]
[null,23,null,null,"Current Issues","At Issue","Super PACs","978-0-7377-6865-7","Greenhaven Publishing","Paperback Book",1,2014,null,"Paperback","6.000 X 9.000","Author","Louise Gerdes",null,null,null,null,null,null,"Years 15 - 17",null,"Grade 10 - 12",null,"English",27.8,22.240000000000002,"328","111 pp.",{"$f":"Table1[[#This Row],['# of Books]]*Table1[[#This Row],[QTY]]","v":0},{"$f":"Table1[[#This Row],[QTY]]*Table1[[#This Row],[School & Library Price]]","v":0}]
[null,23,null,null,"Current Issues","At Issue","Superbugs","978-0-7377-7389-7","Greenhaven Publishing","Paperback Book",1,2016,null,"Paperback","6.000 X 9.000","Author","Tamara Thompson",null,null,null,null,null,null,"Years 15 - 17",null,"Grade 10 - 12","Antibiotic-resistant superbugs--where do they come from and what can we do to combat them? This volume of At Issue: Superbugs takes a look at the issue from all angles--the role of government, where lobbyists and drug companies fit in, and how the overuse of antibiotics and antibacterial products may contribute to the problem.","English",27.8,22.240000000000002,"616","127 pp.",{"$f":"Table1[[#This Row],['# of Books]]*Table1[[#This Row],[QTY]]","v":0},{"$f":"Table1[[#This Row],[QTY]]*Table1[[#This Row],[School & Library Price]]","v":0}]
[null,23,null,null,"Current Issues","At Issue","Superbugs","978-0-7377-7656-0","Greenhaven Publishing","eBook",1,2016,null,"eBook",null,"Author","Tamara Thompson",null,null,null,null,null,null,"Years 15 - 17",null,"Grade 10 - 12",null,"English",39.4,39.4,"616.9","127 pp.",{"$f":"Table1[[#This Row],['# of Books]]*Table1[[#This Row],[QTY]]","v":0},{"$f":"Table1[[#This Row],[QTY]]*Table1[[#This Row],[School & Library Price]]","v":0}]
[null,23,null,null,"Current Issues","At Issue","Superfoods","978-0-7377-7657-7","Greenhaven Publishing","eBook",1,2016,null,"eBook",null,"Author","Roman Espejo",null,null,null,null,null,null,"Years 15 - 17",null,"Grade 10 - 12",null,"English",39.4,39.4,"613.2","104 pp.",{"$f":"Table1[[#This Row],['# of Books]]*Table1[[#This Row],[QTY]]","v":0},{"$f":"Table1[[#This Row],[QTY]]*Table1[[#This Row],[School & Library Price]]","v":0}]
[null,23,null,null,"Current Issues","At Issue","Teen Driving","978-0-7377-6418-5","Greenhaven Publishing","Library Bound Book",1,2013,null,"Library Bound","6.000 X 9.000","Author","Michele Siuda Jacques",null,null,null,null,null,null,"Years 15 - 17",null,"Grade 10 - 12","This title explores the pros and cons of graduated driver licensing, the influence of peers on teen driving, and cell phones and teen driving.","English",39.4,31.52,"363","88 pp.",{"$f":"Table1[[#This Row],['# of Books]]*Table1[[#This Row],[QTY]]","v":0},{"$f":"Table1[[#This Row],[QTY]]*Table1[[#This Row],[School & Library Price]]","v":0}]
[null,23,null,null,"Current Issues","At Issue","Teen Sex","978-0-7377-5096-6","Greenhaven Publishing","Paperback Book",1,2011,null,"Paperback","6.000 X 9.000","Author","Olivia Ferguson",null,null,null,null,null,null,"Years 15 - 17",null,"Grade 10 - 12",null,"English",27.8,22.240000000000002,"306","112 pp.",{"$f":"Table1[[#This Row],['# of Books]]*Table1[[#This Row],[QTY]]","v":0},{"$f":"Table1[[#This Row],[QTY]]*Table1[[#This Row],[School & Library Price]]","v":0}]
[null,23,null,null,"Current Issues","At Issue","Teen Suicide","978-0-7377-6209-9","Greenhaven Publishing","Library Bound Book",1,2014,null,"Library Bound","6.000 X 9.000","Author","Christine Watkins",null,null,null,null,null,null,"Years 15 - 17",null,"Grade 10 - 12","This edition in the AT ISSUE series examines teen suicide and the causes. Includes primary and secondary sources from a variety of perspectives -- eyewitnesses, scientific journals, government officials and many others.","English",39.4,31.52,"362","120 pp.",{"$f":"Table1[[#This Row],['# of Books]]*Table1[[#This Row],[QTY]]","v":0},{"$f":"Table1[[#This Row],[QTY]]*Table1[[#This Row],[School & Library Price]]","v":0}]
[null,23,null,null,"Current Issues","At Issue","The American Housing Crisis","978-0-7377-6818-3","Greenhaven Publishing","Library Bound Book",1,2014,null,"Library Bound","6.000 X 9.000","Author","Louise I. Gerdes",null,null,null,null,null,null,"Years 15 - 17",null,"Grade 10 - 12","This title explores the seriousness of the American housing crisis, the impacts, causes and solutions, including: the threat to families and neighborhoods, homeownership as a wealth-building strategy, lending reform, and mortgage interest deduction.  Includes primary and secondary sources from a variety of perspectives -- eyewitnesses, scientific journals, government officials and many others.","English",39.4,31.52,"332","104 pp.",{"$f":"Table1[[#This Row],['# of Books]]*Table1[[#This Row],[QTY]]","v":0},{"$f":"Table1[[#This Row],[QTY]]*Table1[[#This Row],[School & Library Price]]","v":0}]
[null,23,null,null,"Current Issues","At Issue","The BP Oil Spill","978-0-7377-5569-5","Greenhaven Publishing","Paperback Book",1,2012,null,"Paperback","6.000 X 9.000","Author","David Haugen",null,null,null,null,null,null,"Years 15 - 17",null,"Grade 10 - 12",null,"English",27.8,22.240000000000002,"333","106 pp.",{"$f":"Table1[[#This Row],['# of Books]]*Table1[[#This Row],[QTY]]","v":0},{"$f":"Table1[[#This Row],[QTY]]*Table1[[#This Row],[School & Library Price]]","v":0}]
[null,23,null,null,"Current Issues","At Issue","The Children of Undocumented Immigrants","978-1-5345-0253-6","Greenhaven Publishing","eBook",1,2013,null,"eBook",null,"Author","David Haugen",null,null,null,null,null,null,"Years 15 - 17",null,"Grade 10 - 12","Explores the controversies related to the children of undocumented immigrants. Addresses topics including the DREAM Act, educational opportunities and allowing in-state tuition, citizenship for these children, and issues surrounding deportation.","English",39.4,31.52,"305","104 pp.",{"$f":"Table1[[#This Row],['# of Books]]*Table1[[#This Row],[QTY]]","v":0},{"$f":"Table1[[#This Row],[QTY]]*Table1[[#This Row],[School & Library Price]]","v":0}]
[null,23,null,null,"Current Issues","At Issue","The CIA","978-0-7377-3678-6","Greenhaven Publishing","Paperback Book",1,2008,null,"Paperback","6.000 X 9.000","Author","Julia Bauder",null,null,null,null,null,null,"Years 15 - 17",null,"Grade 10 - 12",null,"English",27.8,22.240000000000002,"362.292","144 pp.",{"$f":"Table1[[#This Row],['# of Books]]*Table1[[#This Row],[QTY]]","v":0},{"$f":"Table1[[#This Row],[QTY]]*Table1[[#This Row],[School & Library Price]]","v":0}]
[null,23,null,null,"Current Issues","At Issue","The Ethics of Capital Punishment","978-0-7377-5172-7","Greenhaven Publishing","Paperback Book",1,2011,null,"Paperback","6.000 X 9.000","Author","Christine Watkins",null,null,null,null,null,null,"Years 15 - 17",null,"Grade 10 - 12",null,"English",27.8,22.240000000000002,"179","127 pp.",{"$f":"Table1[[#This Row],['# of Books]]*Table1[[#This Row],[QTY]]","v":0},{"$f":"Table1[[#This Row],[QTY]]*Table1[[#This Row],[School & Library Price]]","v":0}]
[null,23,null,null,"Current Issues","At Issue","The Ethics of Medical Testing","978-0-7377-5903-7","Greenhaven Publishing","Paperback Book",1,2012,null,"Paperback","6.000 X 9.000","Author","Tamara Thompson",null,null,null,null,null,null,"Years 15 - 17",null,"Grade 10 - 12","This edition in the AT ISSUE series examines issues related to the ethics of medical testing. Includes primary and secondary sources from a variety of perspectives -- eyewitnesses, scientific journals, government officials and many others.","English",27.8,22.240000000000002,"174","134 pp.",{"$f":"Table1[[#This Row],['# of Books]]*Table1[[#This Row],[QTY]]","v":0},{"$f":"Table1[[#This Row],[QTY]]*Table1[[#This Row],[School & Library Price]]","v":0}]
[null,23,null,null,"Current Issues","At Issue","The H1N1 Flu","978-0-7377-5090-4","Greenhaven Publishing","Paperback Book",1,2010,null,"Paperback","6.000 X 9.000","Author","Noah Berlatsky",null,null,null,null,null,null,"Years 15 - 17",null,"Grade 10 - 12",null,"English",27.8,22.240000000000002,"616","109 pp.",{"$f":"Table1[[#This Row],['# of Books]]*Table1[[#This Row],[QTY]]","v":0},{"$f":"Table1[[#This Row],[QTY]]*Table1[[#This Row],[School & Library Price]]","v":0}]
[null,23,null,null,"Current Issues","At Issue","The Occupy Movement","978-0-7377-6486-4","Greenhaven Publishing","Library Bound Book",1,2013,null,"Library Bound","6.000 X 9.000","Author","Stefan Kiesbye",null,null,null,null,null,null,"Years 15 - 17",null,"Grade 10 - 12","This title explores the origins of the Occupy Movement, the goals of the Occupy Movement, and how and whether the movement can succeed.","English",39.4,31.52,"339.20973","128 pp.",{"$f":"Table1[[#This Row],['# of Books]]*Table1[[#This Row],[QTY]]","v":0},{"$f":"Table1[[#This Row],[QTY]]*Table1[[#This Row],[School & Library Price]]","v":0}]
[null,23,null,null,"Current Issues","At Issue","The Olympics","978-0-7377-7658-4","Greenhaven Publishing","eBook",1,2016,null,"eBook",null,"Author","Noah Berlatsky",null,null,null,null,null,null,"Years 15 - 17",null,"Grade 10 - 12",null,"English",39.4,39.4,"796.48","87 pp.",{"$f":"Table1[[#This Row],['# of Books]]*Table1[[#This Row],[QTY]]","v":0},{"$f":"Table1[[#This Row],[QTY]]*Table1[[#This Row],[School & Library Price]]","v":0}]
[null,24,null,null,"Current Issues","At Issue","The Right to Die","978-0-7377-7659-1","Greenhaven Publishing","eBook",1,2014,null,"eBook",null,"Author","Tamara Thompson",null,null,null,null,null,null,"Years 15 - 17",null,"Grade 10 - 12",null,"English",39.4,39.4,"179.7","104 pp.",{"$f":"Table1[[#This Row],['# of Books]]*Table1[[#This Row],[QTY]]","v":0},{"$f":"Table1[[#This Row],[QTY]]*Table1[[#This Row],[School & Library Price]]","v":0}]
[null,24,null,null,"Current Issues","At Issue","The United Nations","978-0-7377-3696-0","Greenhaven Publishing","Paperback Book",1,2007,null,"Paperback","6.000 X 9.000","Author","Susan C. Hunnicutt",null,null,null,null,null,null,"Years 15 - 17",null,"Grade 10 - 12",null,"English",27.8,22.240000000000002,"362.292","112 pp.",{"$f":"Table1[[#This Row],['# of Books]]*Table1[[#This Row],[QTY]]","v":0},{"$f":"Table1[[#This Row],[QTY]]*Table1[[#This Row],[School & Library Price]]","v":0}]
[null,24,null,null,"Current Issues","At Issue","The U.S. Energy Grid","978-0-7377-5602-9","Greenhaven Publishing","Library Bound Book",1,2012,null,"Library Bound","6.000 X 9.000","Author","David Haugen",null,null,null,null,null,null,"Years 15 - 17",null,"Grade 10 - 12","This edition in the At Issues series provides readers with a variety of articles examining issues related to the U.S. energy grid. The title explores the impact of a U.S. smart energy grid, the relationship between new energy transmission lines and renewable energy, the presence of smart grid security concerns, the feasibility of a remote energy management system, and the potential benefits of \"living off the grid.\"","English",39.4,31.52,"333","120 pp.",{"$f":"Table1[[#This Row],['# of Books]]*Table1[[#This Row],[QTY]]","v":0},{"$f":"Table1[[#This Row],[QTY]]*Table1[[#This Row],[School & Library Price]]","v":0}]
[null,24,null,null,"Current Issues","At Issue","The U.S. Policy on Cuba","978-0-7377-4109-4","Greenhaven Publishing","Paperback Book",1,2009,null,"Paperback","6.000 X 9.000","Author","Amy Francis",null,null,null,null,null,null,"Years 15 - 17",null,"Grade 10 - 12",null,"English",27.8,22.240000000000002,"337","130 pp.",{"$f":"Table1[[#This Row],['# of Books]]*Table1[[#This Row],[QTY]]","v":0},{"$f":"Table1[[#This Row],[QTY]]*Table1[[#This Row],[School & Library Price]]","v":0}]
[null,24,null,null,"Current Issues","At Issue","Uranium Mining","978-0-7377-4898-7","Greenhaven Publishing","Library Bound Book",1,2010,null,"Library Bound","6.000 X 9.000","Author","Tamara Thompson",null,null,null,null,null,null,"Years 15 - 17",null,"Grade 10 - 12",null,"English",39.4,31.52,"622","112 pp.",{"$f":"Table1[[#This Row],['# of Books]]*Table1[[#This Row],[QTY]]","v":0},{"$f":"Table1[[#This Row],[QTY]]*Table1[[#This Row],[School & Library Price]]","v":0}]
[null,24,null,null,"Current Issues","At Issue","Urban Farming","978-0-7377-6869-5","Greenhaven Publishing","Paperback Book",1,2014,null,"Paperback","6.000 X 9.000","Author","Tamara Thompson",null,null,null,null,null,null,"Years 15 - 17",null,"Grade 10 - 12","This new edition in the AT ISSUE series includes a variety of articles on urban agriculture. Articles included in this text discuss urban agriculture as a viable solution to food insecurities; the economic sustainability of urban agriculture; the impact of urban agriculture on specific groups, such as women in developing countries; and the future of urban farming.  Includes primary and secondary sources from a variety of perspectives -- eyewitnesses, scientific journals, government officials and many others.","English",27.8,22.240000000000002,"630","120 pp.",{"$f":"Table1[[#This Row],['# of Books]]*Table1[[#This Row],[QTY]]","v":0},{"$f":"Table1[[#This Row],[QTY]]*Table1[[#This Row],[School & Library Price]]","v":0}]
[null,24,null,null,"Current Issues","At Issue","U.S. Military Deployment","978-0-7377-5411-7","Greenhaven Publishing","Paperback Book",1,2010,null,"Paperback","6.000 X 9.000","Author","Noël Merino",null,null,null,null,null,null,"Years 15 - 17",null,"Grade 10 - 12","The At Issue series includes a wide range of opinion on a single controversial subject. Each volume includes primary and secondary sources from a variety of perspectives -- eyewitnesses, scientific journals, government officials and many others. Extensive bibliographies and annotated lists of relevant organizations to contact offer a gateway to future research.","English",27.8,22.240000000000002,"355","136 pp.",{"$f":"Table1[[#This Row],['# of Books]]*Table1[[#This Row],[QTY]]","v":0},{"$f":"Table1[[#This Row],[QTY]]*Table1[[#This Row],[School & Library Price]]","v":0}]
[null,24,null,null,"Current Issues","At Issue","Violent Children","978-0-7377-4446-0","Greenhaven Publishing","Library Bound Book",1,2010,null,"Library Bound","6.000 X 9.000","Author","Roman Espejo",null,null,null,null,null,null,"Years 15 - 17",null,"Grade 10 - 12",null,"English",39.4,31.52,"303","120 pp.",{"$f":"Table1[[#This Row],['# of Books]]*Table1[[#This Row],[QTY]]","v":0},{"$f":"Table1[[#This Row],[QTY]]*Table1[[#This Row],[School & Library Price]]","v":0}]
[null,24,null,null,"Current Issues","At Issue","Voter Fraud","978-0-7377-7370-5","Greenhaven Publishing","Library Bound Book",1,2016,null,"Library Bound","6.000 X 9.000","Author","Sarah Armstrong",null,null,null,null,null,null,"Years 15 - 17",null,"Grade 10 - 12","This title explores issues related to voter fraud. It covers topics such as voter id laws, stopping voter fraud, and voter fraud as a legitimate threat. It examines voter id laws and the impact on marginalized citizens, and disenfranchised minority and poor voters. It looks at allowing noncitizens, illegal immigrants, and ex-felons the right to vote. It discusses the broken US voting system, as well as the issue of online voting and fraud.","English",39.4,31.52,"324","120 pp.",{"$f":"Table1[[#This Row],['# of Books]]*Table1[[#This Row],[QTY]]","v":0},{"$f":"Table1[[#This Row],[QTY]]*Table1[[#This Row],[School & Library Price]]","v":0}]
[null,24,null,null,"Current Issues","At Issue","Wave and Tidal Power","978-0-7377-4900-7","Greenhaven Publishing","Library Bound Book",1,2011,null,"Library Bound","6.000 X 9.000","Author","Louise I. Gerdes",null,null,null,null,null,null,"Years 15 - 17",null,"Grade 10 - 12",null,"English",39.4,31.52,"627","120 pp.",{"$f":"Table1[[#This Row],['# of Books]]*Table1[[#This Row],[QTY]]","v":0},{"$f":"Table1[[#This Row],[QTY]]*Table1[[#This Row],[School & Library Price]]","v":0}]
[null,24,null,null,"Current Issues","At Issue","Wave and Tidal Power","978-0-7377-4901-4","Greenhaven Publishing","Paperback Book",1,2011,null,"Paperback","6.000 X 9.000","Author","Louise I. Gerdes",null,null,null,null,null,null,"Years 15 - 17",null,"Grade 10 - 12",null,"English",27.8,22.240000000000002,"627","120 pp.",{"$f":"Table1[[#This Row],['# of Books]]*Table1[[#This Row],[QTY]]","v":0},{"$f":"Table1[[#This Row],[QTY]]*Table1[[#This Row],[School & Library Price]]","v":0}]
[null,24,null,null,"Current Issues","At Issue","What Are the Causes of Prostitution?","978-0-7377-2738-8","Greenhaven Publishing","Paperback Book",1,2007,null,"Paperback","6.000 X 9.000","Author","Louise I. Gerdes",null,null,null,null,null,null,"Years 15 - 17",null,"Grade 10 - 12",null,"English",27.8,22.240000000000002,"306.74","104 pp.",{"$f":"Table1[[#This Row],['# of Books]]*Table1[[#This Row],[QTY]]","v":0},{"$f":"Table1[[#This Row],[QTY]]*Table1[[#This Row],[School & Library Price]]","v":0}]
[null,24,null,null,"Current Issues","At Issue","What is Humanity's Greatest Challenge?","978-0-7377-4313-5","Greenhaven Publishing","Paperback Book",1,2010,null,"Paperback","6.000 X 9.000","Author","Roman Espejo",null,null,null,null,null,null,"Years 15 - 17",null,"Grade 10 - 12",null,"English",27.8,22.240000000000002,"361","108 pp.",{"$f":"Table1[[#This Row],['# of Books]]*Table1[[#This Row],[QTY]]","v":0},{"$f":"Table1[[#This Row],[QTY]]*Table1[[#This Row],[School & Library Price]]","v":0}]
[null,25,null,null,"Current Issues","At Issue","What is the Future of Higher Education?","978-0-7377-7665-2","Greenhaven Publishing","eBook",1,2015,null,"eBook",null,"Author","Roman Espejo",null,null,null,null,null,null,"Years 15 - 17",null,"Grade 10 - 12",null,"English",39.4,39.4,"378.00973","131 pp.",{"$f":"Table1[[#This Row],['# of Books]]*Table1[[#This Row],[QTY]]","v":0},{"$f":"Table1[[#This Row],[QTY]]*Table1[[#This Row],[School & Library Price]]","v":0}]
[null,25,null,null,"Current Issues","At Issue","What is the Future of the U.S. Economy?","978-0-7377-6213-6","Greenhaven Publishing","Library Bound Book",1,2013,null,"Library Bound","6.000 X 9.000","Author","Ronnie D. Lankford",null,null,null,null,null,null,"Years 15 - 17",null,"Grade 10 - 12","This edition in the At Issue series examines issues related to the future of the US economy. Includes primary and secondary sources from a variety of perspectives -- eyewitnesses, scientific journals, government officials and many others.","English",39.4,31.52,"330","152 pp.",{"$f":"Table1[[#This Row],['# of Books]]*Table1[[#This Row],[QTY]]","v":0},{"$f":"Table1[[#This Row],[QTY]]*Table1[[#This Row],[School & Library Price]]","v":0}]
[null,25,null,null,"Current Issues","At Issue","What is the Impact of Digitizing Books?","978-0-7377-6165-8","Greenhaven Publishing","Library Bound Book",1,2013,null,"Library Bound","6.000 X 9.000","Author","Louise I. Gerdes",null,null,null,null,null,null,"Years 15 - 17",null,"Grade 10 - 12","This edition in the At Issue series examines issues related to book digitization. Includes primary and secondary sources from a variety of perspectives -- eyewitnesses, scientific journals, government officials and many others.","English",39.4,31.52,"371","120 pp.",{"$f":"Table1[[#This Row],['# of Books]]*Table1[[#This Row],[QTY]]","v":0},{"$f":"Table1[[#This Row],[QTY]]*Table1[[#This Row],[School & Library Price]]","v":0}]
[null,25,null,null,"Current Issues","At Issue","What is the Impact of Emigration?","978-0-7377-4696-9","Greenhaven Publishing","Paperback Book",1,2011,null,"Paperback","6.000 X 9.000","Author","Olivia Ferguson",null,null,null,null,null,null,"Years 15 - 17",null,"Grade 10 - 12",null,"English",27.8,22.240000000000002,"325","104 pp.",{"$f":"Table1[[#This Row],['# of Books]]*Table1[[#This Row],[QTY]]","v":0},{"$f":"Table1[[#This Row],[QTY]]*Table1[[#This Row],[School & Library Price]]","v":0}]
[null,25,null,null,"Current Issues","At Issue","What is the Impact of E-Waste?","978-0-7377-5606-7","Greenhaven Publishing","Library Bound Book",1,2011,null,"Library Bound","6.000 X 9.000","Author","Tamara Thompson",null,null,null,null,null,null,"Years 15 - 17",null,"Grade 10 - 12","This edition in the AT ISSUE series examines issues related to the impact of e-waste. Includes primary and secondary sources from a variety of perspectives -- eyewitnesses, scientific journals, government officials and many others.","English",39.4,31.52,"363","120 pp.",{"$f":"Table1[[#This Row],['# of Books]]*Table1[[#This Row],[QTY]]","v":0},{"$f":"Table1[[#This Row],[QTY]]*Table1[[#This Row],[School & Library Price]]","v":0}]
[null,25,null,null,"Current Issues","At Issue","What is the Impact of Green Practices?","978-0-7377-7415-3","Greenhaven Publishing","Paperback Book",1,2016,null,"Paperback","6.000 X 9.000","Author","Tamara Thompson",null,null,null,null,null,null,"Years 15 - 17",null,"Grade 10 - 12","Consumers have long been encouraged to reduce, reuse, and recycle, but environmental awareness has come a long way since the first Earth Day in 1970. This title in the Greenhaven series, What Is the Impact of Green Practices?, examines what effect, if any, practicing the \"three R's\" has had on the planet.","English",27.8,22.240000000000002,"333","108 pp.",{"$f":"Table1[[#This Row],['# of Books]]*Table1[[#This Row],[QTY]]","v":0},{"$f":"Table1[[#This Row],[QTY]]*Table1[[#This Row],[School & Library Price]]","v":0}]
[null,25,null,null,"Current Issues","At Issue","What is the Impact of Tourism?","978-0-7377-4121-6","Greenhaven Publishing","Paperback Book",1,2009,null,"Paperback","6.000 X 9.000","Author","Roman Espejo",null,null,null,null,null,null,"Years 15 - 17",null,"Grade 10 - 12",null,"English",27.8,22.240000000000002,"910","112 pp.",{"$f":"Table1[[#This Row],['# of Books]]*Table1[[#This Row],[QTY]]","v":0},{"$f":"Table1[[#This Row],[QTY]]*Table1[[#This Row],[School & Library Price]]","v":0}]
[null,25,null,null,"Current Issues","At Issue","What is the Role of Technology in Education?","978-0-7377-6217-4","Greenhaven Publishing","Library Bound Book",1,2013,null,"Library Bound","6.000 X 9.000","Author","Judeen Bartos",null,null,null,null,null,null,"Years 15 - 17",null,"Grade 10 - 12","This title explores technology’s role in education and in enhancing education for people with disabilities, e-texts’ impact on traditional publishing, and Internet/online based education.","English",39.4,31.52,"371","120 pp.",{"$f":"Table1[[#This Row],['# of Books]]*Table1[[#This Row],[QTY]]","v":0},{"$f":"Table1[[#This Row],[QTY]]*Table1[[#This Row],[School & Library Price]]","v":0}]
[null,25,null,null,"Current Issues","At Issue","What Limits Should Be Placed on Presidential Powers?","978-0-7377-3630-4","Greenhaven Publishing","Paperback Book",1,2007,null,"Paperback","6.000 X 9.000","Author","Tamara L. Roleff",null,null,null,null,null,null,"Years 15 - 17",null,"Grade 10 - 12",null,"English",27.8,22.240000000000002,"342.73","114 pp.",{"$f":"Table1[[#This Row],['# of Books]]*Table1[[#This Row],[QTY]]","v":0},{"$f":"Table1[[#This Row],[QTY]]*Table1[[#This Row],[School & Library Price]]","v":0}]
[null,25,null,null,"Current Issues","At Issue","What Rights Should Illegal Immigrants Have?","978-0-7377-4902-1","Greenhaven Publishing","Library Bound Book",1,2010,null,"Library Bound","6.000 X 9.000","Author","Noël Merino",null,null,null,null,null,null,"Years 15 - 17",null,"Grade 10 - 12",null,"English",39.4,31.52,"342","112 pp.",{"$f":"Table1[[#This Row],['# of Books]]*Table1[[#This Row],[QTY]]","v":0},{"$f":"Table1[[#This Row],[QTY]]*Table1[[#This Row],[School & Library Price]]","v":0}]
[null,25,null,null,"Current Issues","At Issue","What Should We Eat?","978-0-7377-7390-3","Greenhaven Publishing","Library Bound Book",1,2016,null,"Library Bound","6.000 X 9.000","Author","Roman Espejo",null,null,null,null,null,null,"Years 15 - 17",null,"Grade 10 - 12","Gluten, red meat, fish, insects--all things we do or don't eat, but could. But should we? This title in the At Issue series, What Should We Eat?, explores how best to sustain ourselves, from organic food to fast food.","English",39.4,31.52,"613","102 pp.",{"$f":"Table1[[#This Row],['# of Books]]*Table1[[#This Row],[QTY]]","v":0},{"$f":"Table1[[#This Row],[QTY]]*Table1[[#This Row],[School & Library Price]]","v":0}]
[null,25,null,null,"Current Issues","At Issue","White Supremacy Groups","978-0-7377-3700-4","Greenhaven Publishing","Paperback Book",1,2008,null,"Paperback","6.000 X 9.000","Author","Mitchell Young",null,null,null,null,null,null,"Years 15 - 17",null,"Grade 10 - 12",null,"English",27.8,22.240000000000002,"362.292","119 pp.",{"$f":"Table1[[#This Row],['# of Books]]*Table1[[#This Row],[QTY]]","v":0},{"$f":"Table1[[#This Row],[QTY]]*Table1[[#This Row],[School & Library Price]]","v":0}]
[null,25,null,null,"Current Issues","At Issue","Why is Autism on Rise?","978-0-7377-6870-1","Greenhaven Publishing","Library Bound Book",1,2014,null,"Library Bound","6.000 X 9.000","Author","Clayton Naff",null,null,null,null,null,null,"Years 15 - 17",null,"Grade 10 - 12","This title explores possible causes for the recent rise in autism. It looks at improved diagnostics of autism, vitamin deficiencies, and different environmental and behavioral reasons that could lead to autism.  Includes primary and secondary sources from a variety of perspectives -- eyewitnesses, scientific journals, government officials and many others.","English",39.4,31.52,"616","104 pp.",{"$f":"Table1[[#This Row],['# of Books]]*Table1[[#This Row],[QTY]]","v":0},{"$f":"Table1[[#This Row],[QTY]]*Table1[[#This Row],[School & Library Price]]","v":0}]
[null,25,null,null,"Current Issues","At Issue","Wikileaks","978-0-7377-6219-8","Greenhaven Publishing","Library Bound Book",1,2013,null,"Library Bound","6.000 X 9.000","Author","Tamara Thompson",null,null,null,null,null,null,"Years 15 - 17",null,"Grade 10 - 12","This title explores many issues related to WikiLeaks including internet freedom, ethics of journalism, and issues of national security.","English",39.4,31.52,"353","120 pp.",{"$f":"Table1[[#This Row],['# of Books]]*Table1[[#This Row],[QTY]]","v":0},{"$f":"Table1[[#This Row],[QTY]]*Table1[[#This Row],[School & Library Price]]","v":0}]
[null,25,null,null,"Current Issues","At Issue","Will the World Run Out of Fresh Water?","978-0-7377-5609-8","Greenhaven Publishing","Paperback Book",1,2012,null,"Paperback","6.000 X 9.000","Author","David Haugen",null,null,null,null,null,null,"Years 15 - 17",null,"Grade 10 - 12","This addition to the At Issue series discusses issues related to the world’s water supply. The title explores whether or not there is a looming global fresh water shortage, how desalination could be an answer to fresh water issues, how fresh water is seen as both a commodity and a human right, and how fresh water access remains a contentious issue in the Middle East.","English",27.8,22.240000000000002,"363","120 pp.",{"$f":"Table1[[#This Row],['# of Books]]*Table1[[#This Row],[QTY]]","v":0},{"$f":"Table1[[#This Row],[QTY]]*Table1[[#This Row],[School & Library Price]]","v":0}]
[null,25,null,null,"Current Issues","At Issue","Women in Islam","978-0-7377-4905-2","Greenhaven Publishing","Paperback Book",1,2011,null,"Paperback","6.000 X 9.000","Author","Diane Andrews Henningfeld",null,null,null,null,null,null,"Years 15 - 17",null,"Grade 10 - 12",null,"English",27.8,22.240000000000002,"297","112 pp.",{"$f":"Table1[[#This Row],['# of Books]]*Table1[[#This Row],[QTY]]","v":0},{"$f":"Table1[[#This Row],[QTY]]*Table1[[#This Row],[School & Library Price]]","v":0}]
[null,26,null,null,"Current Issues","Current Controversies","Afghanistan","978-0-7377-4642-6","Greenhaven Publishing","Library Bound Book",1,2010,null,"Library Bound","6.000 X 9.000","Author","Debra A. Miller",null,null,null,null,null,null,"Years 15 - 17",null,"Grade 10 - 12","Explores key questions about U.S.-led military involvement in Afghanistan. Have the operations benefited or hurt the region? Should they continue? Is it possible for Afghans to have a democratic government, with free and fair elections, that would prevent warlords and religious leaders from dominating the country? And how - with the Taliban, terror cells, the drug trade, and a fledgling government and military - can Afghanistan be stabilized for the long term?","English",46.4,37.119999999999997,"958","256 pp.",{"$f":"Table1[[#This Row],['# of Books]]*Table1[[#This Row],[QTY]]","v":0},{"$f":"Table1[[#This Row],[QTY]]*Table1[[#This Row],[School & Library Price]]","v":0}]
[null,26,null,null,"Current Issues","Current Controversies","Aid to Africa","978-0-7377-4315-9","Greenhaven Publishing","Paperback Book",1,2009,null,"Paperback","6.000 X 9.000","Author","Debra A. Miller",null,null,null,null,null,null,"Years 15 - 17",null,"Grade 10 - 12",null,"English",32,25.6,"338","160 pp.",{"$f":"Table1[[#This Row],['# of Books]]*Table1[[#This Row],[QTY]]","v":0},{"$f":"Table1[[#This Row],[QTY]]*Table1[[#This Row],[School & Library Price]]","v":0}]
[null,27,null,null,"Current Issues","Current Controversies","Anger Management","978-0-7377-4131-5","Greenhaven Publishing","Paperback Book",1,2009,null,"Paperback","6.000 X 9.000","Author","Lisa Krueger",null,null,null,null,null,null,"Years 15 - 17",null,"Grade 10 - 12",null,"English",32,25.6,"152","176 pp.",{"$f":"Table1[[#This Row],['# of Books]]*Table1[[#This Row],[QTY]]","v":0},{"$f":"Table1[[#This Row],[QTY]]*Table1[[#This Row],[School & Library Price]]","v":0}]
[null,27,null,null,"Current Issues","Current Controversies","Biodiversity","978-0-7377-6221-1","Greenhaven Publishing","Library Bound Book",1,2013,null,"Library Bound","6.000 X 9.000","Author","Debra A. Miller",null,null,null,null,null,null,"Years 15 - 17",null,"Grade 10 - 12","This title explores issues related to Biodiversity, including whether biodiversity loss is a serious problem, what plant and animal species are threatened with extinction, how food production processes impact biodiversity, and ways biodiversity can be protected.","English",46.4,37.119999999999997,"333","208 pp.",{"$f":"Table1[[#This Row],['# of Books]]*Table1[[#This Row],[QTY]]","v":0},{"$f":"Table1[[#This Row],[QTY]]*Table1[[#This Row],[School & Library Price]]","v":0}]
[null,27,null,null,"Current Issues","Current Controversies","Biodiversity","978-0-7377-6222-8","Greenhaven Publishing","Paperback Book",1,2013,null,"Paperback","6.000 X 9.000","Author","Debra A. Miller",null,null,null,null,null,null,"Years 15 - 17",null,"Grade 10 - 12","This title explores issues related to Biodiversity, including whether biodiversity loss is a serious problem, what plant and animal species are threatened with extinction, how food production processes impact biodiversity, and ways biodiversity can be protected.","English",32,25.6,"333","206 pp.",{"$f":"Table1[[#This Row],['# of Books]]*Table1[[#This Row],[QTY]]","v":0},{"$f":"Table1[[#This Row],[QTY]]*Table1[[#This Row],[School & Library Price]]","v":0}]
[null,27,null,null,"Current Issues","Current Controversies","Capital Punishment","978-0-7377-3712-7","Greenhaven Publishing","Paperback Book",1,2008,null,"Paperback","6.000 X 9.000","Author","Paul G. Connors",null,null,null,null,null,null,"Years 15 - 17",null,"Grade 10 - 12",null,"English",32,25.6,"364","220 pp.",{"$f":"Table1[[#This Row],['# of Books]]*Table1[[#This Row],[QTY]]","v":0},{"$f":"Table1[[#This Row],[QTY]]*Table1[[#This Row],[School & Library Price]]","v":0}]
[null,27,null,null,"Current Issues","Current Controversies","Carbon Offsets","978-0-7377-4454-5","Greenhaven Publishing","Library Bound Book",1,2009,null,"Library Bound","6.000 X 9.000","Author","Debra A. Miller",null,null,null,null,null,null,"Years 15 - 17",null,"Grade 10 - 12",null,"English",46.4,37.119999999999997,"363","224 pp.",{"$f":"Table1[[#This Row],['# of Books]]*Table1[[#This Row],[QTY]]","v":0},{"$f":"Table1[[#This Row],[QTY]]*Table1[[#This Row],[School & Library Price]]","v":0}]
[null,27,null,null,"Current Issues","Current Controversies","Conserving the Environment","978-0-7377-4661-7","Greenhaven Publishing","Library Bound Book",1,2010,null,"Library Bound","6.000 X 9.000","Author","Debra A. Miller",null,null,null,null,null,null,"Years 15 - 17",null,"Grade 10 - 12","Explores the gravity of the global environmental problem with respect to climate, air pollution, overpopulation, water supply, and the health of the oceans. Examines the threat of global warming and the long-term impacts of biodiversity loss and extinction. Discusses potential steps to protect the environment, such as reducing emissions and supporting renewable energy sources, and the role of governments and markets in shaping a sustainable global economy.","English",46.4,37.119999999999997,"333","216 pp.",{"$f":"Table1[[#This Row],['# of Books]]*Table1[[#This Row],[QTY]]","v":0},{"$f":"Table1[[#This Row],[QTY]]*Table1[[#This Row],[School & Library Price]]","v":0}]
[null,27,null,null,"Current Issues","Current Controversies","Consumer Debt","978-0-7377-4702-7","Greenhaven Publishing","Paperback Book",1,2010,null,"Paperback","6.000 X 9.000","Author","Joseph Tardiff",null,null,null,null,null,null,"Years 15 - 17",null,"Grade 10 - 12","Explores the relationship between consumer debt and the economy, and the positive and negative impacts of credit card use on consumers. Do credit cards provide for convenient, secure financial transactions, or entrap low-to-middle income consumers with high interest rates and fees? Looks at the practices of predatory lenders and debt collection agencies - do they treat consumers fairly? - and assesses bankruptcy as an option for handling too much personal debt.","English",32,25.6,"332","264 pp.",{"$f":"Table1[[#This Row],['# of Books]]*Table1[[#This Row],[QTY]]","v":0},{"$f":"Table1[[#This Row],[QTY]]*Table1[[#This Row],[School & Library Price]]","v":0}]
[null,27,null,null,"Current Issues","Current Controversies","Darfur","978-0-7377-4456-9","Greenhaven Publishing","Library Bound Book",1,2009,null,"Library Bound","6.000 X 9.000","Author","Debra A. Miller",null,null,null,null,null,null,"Years 15 - 17",null,"Grade 10 - 12",null,"English",46.4,37.119999999999997,"962","216 pp.",{"$f":"Table1[[#This Row],['# of Books]]*Table1[[#This Row],[QTY]]","v":0},{"$f":"Table1[[#This Row],[QTY]]*Table1[[#This Row],[School & Library Price]]","v":0}]
[null,27,null,null,"Current Issues","Current Controversies","Deadly Viruses","978-0-7377-7429-0","Greenhaven Publishing","Paperback Book",1,2016,null,"Paperback","6.000 X 9.000","Author","Noah Berlatsky",null,null,null,null,null,null,"Years 15 - 17",null,"Grade 10 - 12","This title in the Current Controversies series puts the issues surrounding deadly viruses under the microscope, asking such questions as: Is ebola a serious threat?; Should vaccines against deadly viruses be compulsory?; Does an HIV/AIDS crisis still exist?; and What are other controversies about deadly viruses?","English",32,25.6,"616","214 pp.",{"$f":"Table1[[#This Row],['# of Books]]*Table1[[#This Row],[QTY]]","v":0},{"$f":"Table1[[#This Row],[QTY]]*Table1[[#This Row],[School & Library Price]]","v":0}]
[null,27,null,null,"Current Issues","Current Controversies","Disaster Response","978-0-7377-4134-6","Greenhaven Publishing","Library Bound Book",1,2009,null,"Library Bound","6.000 X 9.000","Author","Debra A. Miller",null,null,null,null,null,null,"Years 15 - 17",null,"Grade 10 - 12",null,"English",46.4,37.119999999999997,"363","200 pp.",{"$f":"Table1[[#This Row],['# of Books]]*Table1[[#This Row],[QTY]]","v":0},{"$f":"Table1[[#This Row],[QTY]]*Table1[[#This Row],[School & Library Price]]","v":0}]
[null,27,null,null,"Current Issues","Current Controversies","Disaster Response","978-0-7377-4135-3","Greenhaven Publishing","Paperback Book",1,2009,null,"Paperback","6.000 X 9.000","Author","Debra A. Miller",null,null,null,null,null,null,"Years 15 - 17",null,"Grade 10 - 12",null,"English",32,25.6,"363","200 pp.",{"$f":"Table1[[#This Row],['# of Books]]*Table1[[#This Row],[QTY]]","v":0},{"$f":"Table1[[#This Row],[QTY]]*Table1[[#This Row],[School & Library Price]]","v":0}]
[null,27,null,null,"Current Issues","Current Controversies","Domestic Surveillance","978-0-7377-7674-4","Greenhaven Publishing","eBook",1,2016,null,"eBook",null,"Author","Noel Merino",null,null,null,null,null,null,"Years 15 - 17",null,"Grade 10 - 12",null,"English",46.4,46.4,"363.325","176 pp.",{"$f":"Table1[[#This Row],['# of Books]]*Table1[[#This Row],[QTY]]","v":0},{"$f":"Table1[[#This Row],[QTY]]*Table1[[#This Row],[School & Library Price]]","v":0}]
[null,27,null,null,"Current Issues","Current Controversies","Drones","978-0-7377-7423-8","Greenhaven Publishing","Paperback Book",1,2016,null,"Paperback","6.000 X 9.000","Author","Tamara Thompson",null,null,null,null,null,null,"Years 15 - 17",null,"Grade 10 - 12","This title in the Current Controversies series explores the issues surrounding drones, including why drones are controversial, how drone technology has outpaced regulation, whether or not domestic law enforcement agencies should be allowed to use drones, and if commercial drone use should be allowed.","English",32,25.6,"623","205 pp.",{"$f":"Table1[[#This Row],['# of Books]]*Table1[[#This Row],[QTY]]","v":0},{"$f":"Table1[[#This Row],[QTY]]*Table1[[#This Row],[School & Library Price]]","v":0}]
[null,27,null,null,"Current Issues","Current Controversies","E-Books","978-0-7377-6224-2","Greenhaven Publishing","Paperback Book",1,2013,null,"Paperback","6.000 X 9.000","Author","Debra A. Miller",null,null,null,null,null,null,"Years 15 - 17",null,"Grade 10 - 12","This addition to the Current Controversies series explores issues related to e-books. Each anthology is composed of a wide spectrum of primary sources written by many of the foremost authorities in their respective fields. This unique approach provides students with a concise view of divergent opinions on each topic.","English",32,25.6,"070","156 pp.",{"$f":"Table1[[#This Row],['# of Books]]*Table1[[#This Row],[QTY]]","v":0},{"$f":"Table1[[#This Row],[QTY]]*Table1[[#This Row],[School & Library Price]]","v":0}]
[null,27,null,null,"Current Issues","Current Controversies","Factory Farming","978-0-7377-6872-5","Greenhaven Publishing","Library Bound Book",1,2013,null,"Library Bound","6.000 X 9.000","Author","Debra A. Miller",null,null,null,null,null,null,"Years 15 - 17",null,"Grade 10 - 12","This title debates various facets of factory farming including, the necessity of large scale farming; the ethics of factory farming; the impact of factory farming on human health and the environment; and the future of factory farming. Each anthology is composed of a wide spectrum of primary sources written by many of the foremost authorities in their respective fields. This unique approach provides students with a concise view of divergent opinions on each topic.","English",46.4,37.119999999999997,"636","152 pp.",{"$f":"Table1[[#This Row],['# of Books]]*Table1[[#This Row],[QTY]]","v":0},{"$f":"Table1[[#This Row],[QTY]]*Table1[[#This Row],[School & Library Price]]","v":0}]
[null,27,null,null,"Current Issues","Current Controversies","Family Violence","978-0-7377-6225-9","Greenhaven Publishing","Library Bound Book",1,2013,null,"Library Bound","6.000 X 9.000","Author","Dedria Bryfonski",null,null,null,null,null,null,"Years 15 - 17",null,"Grade 10 - 12","This title explores issues related to family violence, including what contributes to family violence, is family violence a gender issue, are efforts to reduce family violence effective, and what are the consequences of family violence.","English",46.4,37.119999999999997,"362","224 pp.",{"$f":"Table1[[#This Row],['# of Books]]*Table1[[#This Row],[QTY]]","v":0},{"$f":"Table1[[#This Row],[QTY]]*Table1[[#This Row],[School & Library Price]]","v":0}]
[null,27,null,null,"Current Issues","Current Controversies","Federal Elections","978-0-7377-4706-5","Greenhaven Publishing","Paperback Book",1,2010,null,"Paperback","6.000 X 9.000","Author","Debra A. Miller",null,null,null,null,null,null,"Years 15 - 17",null,"Grade 10 - 12","Explores issues with federal elections, including unacceptable barriers to voting caused by registration problems, long lines, broken voting machines, and location confusion. Examines the fairness of the U.S. electoral process, asking: Is the electoral college still viable? Are voter fraud allegations inflated? Do poor and minority voters face special obstacles? Also discusses the trustworthiness of electronic voting technology, and potential reforms to the system.","English",32,25.6,"324","224 pp.",{"$f":"Table1[[#This Row],['# of Books]]*Table1[[#This Row],[QTY]]","v":0},{"$f":"Table1[[#This Row],[QTY]]*Table1[[#This Row],[School & Library Price]]","v":0}]
[null,27,null,null,"Current Issues","Current Controversies","Gasoline","978-0-7377-6227-3","Greenhaven Publishing","Library Bound Book",1,2012,null,"Library Bound","6.000 X 9.000","Author","Debra A. Miller",null,null,null,null,null,null,"Years 15 - 17",null,"Grade 10 - 12","This title explores issues related to United States espionage and intelligence-gathering, including the impact of gasoline and oil dependence, the impact of high gasoline prices, the viability of public transportation as a solution to rising gas prices, possible steps to reduce gasoline and oil dependence.","English",46.4,37.119999999999997,"363","184 pp.",{"$f":"Table1[[#This Row],['# of Books]]*Table1[[#This Row],[QTY]]","v":0},{"$f":"Table1[[#This Row],[QTY]]*Table1[[#This Row],[School & Library Price]]","v":0}]
[null,27,null,null,"Current Issues","Current Controversies","Gasoline","978-0-7377-6228-0","Greenhaven Publishing","Paperback Book",1,2012,null,"Paperback","6.000 X 9.000","Author","Debra A. Miller",null,null,null,null,null,null,"Years 15 - 17",null,"Grade 10 - 12","This title explores issues related to United States espionage and intelligence-gathering, including the impact of gasoline and oil dependence, the impact of high gasoline prices, the viability of public transportation as a solution to rising gas prices, possible steps to reduce gasoline and oil dependence.","English",32,25.6,"363","180 pp.",{"$f":"Table1[[#This Row],['# of Books]]*Table1[[#This Row],[QTY]]","v":0},{"$f":"Table1[[#This Row],[QTY]]*Table1[[#This Row],[School & Library Price]]","v":0}]
[null,27,null,null,"Current Issues","Current Controversies","Global Warming","978-0-7377-6229-7","Greenhaven Publishing","Library Bound Book",1,2013,null,"Library Bound","6.000 X 9.000","Author","Debra A. Miller",null,null,null,null,null,null,"Years 15 - 17",null,"Grade 10 - 12","This addition to the Current Controversies series examines issues related to global warming. It is composed of a wide spectrum of primary sources written by many of the foremost authorities in their respective fields. This unique approach provides students with a concise view of divergent opinions on each topic.","English",46.4,37.119999999999997,"363","232 pp.",{"$f":"Table1[[#This Row],['# of Books]]*Table1[[#This Row],[QTY]]","v":0},{"$f":"Table1[[#This Row],[QTY]]*Table1[[#This Row],[School & Library Price]]","v":0}]
[null,28,null,null,"Current Issues","Current Controversies","Health Care","978-0-7377-5099-7","Greenhaven Publishing","Library Bound Book",1,2011,null,"Library Bound","6.000 X 9.000","Author","Noël Merino",null,null,null,null,null,null,"Years 15 - 17",null,"Grade 10 - 12",null,"English",46.4,37.119999999999997,"362","200 pp.",{"$f":"Table1[[#This Row],['# of Books]]*Table1[[#This Row],[QTY]]","v":0},{"$f":"Table1[[#This Row],[QTY]]*Table1[[#This Row],[School & Library Price]]","v":0}]
[null,28,null,null,"Current Issues","Current Controversies","Homeschooling","978-0-7377-4140-7","Greenhaven Publishing","Library Bound Book",1,2009,null,"Library Bound","6.000 X 9.000","Author","Myra Immell",null,null,null,null,null,null,"Years 15 - 17",null,"Grade 10 - 12",null,"English",46.4,37.119999999999997,"371","176 pp.",{"$f":"Table1[[#This Row],['# of Books]]*Table1[[#This Row],[QTY]]","v":0},{"$f":"Table1[[#This Row],[QTY]]*Table1[[#This Row],[School & Library Price]]","v":0}]
[null,28,null,null,"Current Issues","Current Controversies","Human Genetics","978-0-7377-4707-2","Greenhaven Publishing","Library Bound Book",1,2010,null,"Library Bound","6.000 X 9.000","Author","Noël Merino",null,null,null,null,null,null,"Years 15 - 17",null,"Grade 10 - 12","Explores concerns about genetic technology and research, including the potential ethical issues, the need for oversight and control, and the pros, cons and unintended consequences of genetic testing. Offers perspectives on whether or not people should be free to explore genetic enhancements, and if the patenting of genes should be allowed.","English",46.4,37.119999999999997,"611","208 pp.",{"$f":"Table1[[#This Row],['# of Books]]*Table1[[#This Row],[QTY]]","v":0},{"$f":"Table1[[#This Row],[QTY]]*Table1[[#This Row],[School & Library Price]]","v":0}]
[null,28,null,null,"Current Issues","Current Controversies","Illegal Immigration","978-0-7377-5624-1","Greenhaven Publishing","Library Bound Book",1,2012,null,"Library Bound","6.000 X 9.000","Author","Noël Merino",null,null,null,null,null,null,"Years 15 - 17",null,"Grade 10 - 12",null,"English",46.4,37.119999999999997,"325","192 pp.",{"$f":"Table1[[#This Row],['# of Books]]*Table1[[#This Row],[QTY]]","v":0},{"$f":"Table1[[#This Row],[QTY]]*Table1[[#This Row],[School & Library Price]]","v":0}]
[null,28,null,null,"Current Issues","Current Controversies","Immigration","978-0-7377-6875-6","Greenhaven Publishing","Paperback Book",1,2014,null,"Paperback","6.000 X 9.000","Author","Debra A. Miller",null,null,null,null,null,null,"Years 15 - 17",null,"Grade 10 - 12","This title explores the most recent issues related to immigration, including: immigration as a serious problem in the US; the US Government and immigration law enforcement; illegal immigrants and a path to citizenship; and proposed immigration reform.","English",32,25.6,"325","182 pp.",{"$f":"Table1[[#This Row],['# of Books]]*Table1[[#This Row],[QTY]]","v":0},{"$f":"Table1[[#This Row],[QTY]]*Table1[[#This Row],[School & Library Price]]","v":0}]
[null,28,null,null,"Current Issues","Current Controversies","Importing from China","978-0-7377-6234-1","Greenhaven Publishing","Paperback Book",1,2012,null,"Paperback","6.000 X 9.000","Author","Debra A. Miller",null,null,null,null,null,null,"Years 15 - 17",null,"Grade 10 - 12","This title explores issues related to importing from China, including whether trade with China benefits the United States, whether imports from China are safe, whether the US/China trade deficit threatens the US economy, and whether the US should toughen trade policies with China.","English",32,25.6,"382","204 pp.",{"$f":"Table1[[#This Row],['# of Books]]*Table1[[#This Row],[QTY]]","v":0},{"$f":"Table1[[#This Row],[QTY]]*Table1[[#This Row],[School & Library Price]]","v":0}]
[null,28,null,null,"Current Issues","Current Controversies","Internet Activism","978-0-7377-6876-3","Greenhaven Publishing","Library Bound Book",1,2013,null,"Library Bound","6.000 X 9.000","Author","Sylvia Engdahl",null,null,null,null,null,null,"Years 15 - 17",null,"Grade 10 - 12",null,"English",46.4,37.119999999999997,"302.23","184 pp.",{"$f":"Table1[[#This Row],['# of Books]]*Table1[[#This Row],[QTY]]","v":0},{"$f":"Table1[[#This Row],[QTY]]*Table1[[#This Row],[School & Library Price]]","v":0}]
[null,28,null,null,"Current Issues","Current Controversies","Islamophobia","978-0-7377-6235-8","Greenhaven Publishing","Library Bound Book",1,2013,null,"Library Bound","6.000 X 9.000","Author","Dedria Bryfonski",null,null,null,null,null,null,"Years 15 - 17",null,"Grade 10 - 12","This title explores issues related to Islamophobia, including what factors contribute to a fear of Islamists (the media, terrorism, economic factors), whether America is Islamophobic, whether suspicion of Islam is rational, and whether Sharia law poses a threat to America.","English",46.4,37.119999999999997,"305","232 pp.",{"$f":"Table1[[#This Row],['# of Books]]*Table1[[#This Row],[QTY]]","v":0},{"$f":"Table1[[#This Row],[QTY]]*Table1[[#This Row],[School & Library Price]]","v":0}]
[null,28,null,null,"Current Issues","Current Controversies","Jobs in America","978-0-7377-5183-3","Greenhaven Publishing","Library Bound Book",1,2011,null,"Library Bound","6.000 X 9.000","Author","Debra A. Miller",null,null,null,null,null,null,"Years 15 - 17",null,"Grade 10 - 12",null,"English",46.4,37.119999999999997,"331","200 pp.",{"$f":"Table1[[#This Row],['# of Books]]*Table1[[#This Row],[QTY]]","v":0},{"$f":"Table1[[#This Row],[QTY]]*Table1[[#This Row],[School & Library Price]]","v":0}]
[null,28,null,null,"Current Issues","Current Controversies","Media Ethics","978-0-7377-6238-9","Greenhaven Publishing","Paperback Book",1,2013,null,"Paperback","6.000 X 9.000","Author","Noël Merino",null,null,null,null,null,null,"Years 15 - 17",null,"Grade 10 - 12","This title explores issues related to Media Ethics, including a summary of current media ethics issues, the issue of whether telling the truth should take precedence over ethics, how far journalists should go to avoid compromising objectivity, and the effect of new technologies on media ethics.","English",32,25.6,"174","199 pp.",{"$f":"Table1[[#This Row],['# of Books]]*Table1[[#This Row],[QTY]]","v":0},{"$f":"Table1[[#This Row],[QTY]]*Table1[[#This Row],[School & Library Price]]","v":0}]
[null,28,null,null,"Current Issues","Current Controversies","Medicare","978-0-7377-6239-6","Greenhaven Publishing","Library Bound Book",1,2013,null,"Library Bound","6.000 X 9.000","Author","Debra A. Miller",null,null,null,null,null,null,"Years 15 - 17",null,"Grade 10 - 12","This title explores issues related to Medicare, including if there are problems with Medicare spending, if doctors are dropping out of Medicare, if the Patient Protection and Affordable Care Act will improve Medicare, and what steps should be taken to solve Medicare's problems.","English",46.4,37.119999999999997,"368","176 pp.",{"$f":"Table1[[#This Row],['# of Books]]*Table1[[#This Row],[QTY]]","v":0},{"$f":"Table1[[#This Row],[QTY]]*Table1[[#This Row],[School & Library Price]]","v":0}]
[null,28,null,null,"Current Issues","Current Controversies","Mobile Apps","978-0-7377-6890-9","Greenhaven Publishing","Library Bound Book",1,2014,null,"Library Bound","6.000 X 9.000","Author","Sylvia Engdahl",null,null,null,null,null,null,"Years 15 - 17",null,"Grade 10 - 12","Current Controversies: Mobile Apps examines if there is a need for oversight of the app industry to protect privacy, if controversial apps should be taken off the market, why web-based mobile apps are overtaking native mobile apps, and what effects the app economy is having on society. Each anthology is composed of a wide spectrum of primary sources written by many of the foremost authorities in their respective fields. This unique approach provides students with a concise view of divergent opinions on each topic.","English",46.4,37.119999999999997,"614","160 pp.",{"$f":"Table1[[#This Row],['# of Books]]*Table1[[#This Row],[QTY]]","v":0},{"$f":"Table1[[#This Row],[QTY]]*Table1[[#This Row],[School & Library Price]]","v":0}]
[null,28,null,null,"Current Issues","Current Controversies","Modern-Day Piracy","978-0-7377-6029-3","Greenhaven Publishing","Paperback Book",1,2012,null,"Paperback","6.000 X 9.000","Author","Debra A. Miller",null,null,null,null,null,null,"Years 15 - 17",null,"Grade 10 - 12","This title in the Current Controversies series examines the topic of modern piracy. Included articles explore the state of current maritime piracy, the connections between piracy and terrorism, the practice of paying ransom to pirates, and ways the United States and the international community can combat pirate attacks.","English",32,25.6,"364","219 pp.",{"$f":"Table1[[#This Row],['# of Books]]*Table1[[#This Row],[QTY]]","v":0},{"$f":"Table1[[#This Row],[QTY]]*Table1[[#This Row],[School & Library Price]]","v":0}]
[null,28,null,null,"Current Issues","Current Controversies","Nuclear Energy","978-0-7377-4917-5","Greenhaven Publishing","Library Bound Book",1,2010,null,"Library Bound","6.000 X 9.000","Author","Debra A. Miller",null,null,null,null,null,null,"Years 15 - 17",null,"Grade 10 - 12",null,"English",46.4,37.119999999999997,"333","240 pp.",{"$f":"Table1[[#This Row],['# of Books]]*Table1[[#This Row],[QTY]]","v":0},{"$f":"Table1[[#This Row],[QTY]]*Table1[[#This Row],[School & Library Price]]","v":0}]
[null,28,null,null,"Current Issues","Current Controversies","Nuclear Energy","978-0-7377-4918-2","Greenhaven Publishing","Paperback Book",1,2010,null,"Paperback","6.000 X 9.000","Author","Debra A. Miller",null,null,null,null,null,null,"Years 15 - 17",null,"Grade 10 - 12",null,"English",32,25.6,"333","237 pp.",{"$f":"Table1[[#This Row],['# of Books]]*Table1[[#This Row],[QTY]]","v":0},{"$f":"Table1[[#This Row],[QTY]]*Table1[[#This Row],[School & Library Price]]","v":0}]
[null,28,null,null,"Current Issues","Current Controversies","Oil Spills","978-0-7377-6880-0","Greenhaven Publishing","Library Bound Book",1,2014,null,"Library Bound","6.000 X 9.000","Author","Tamara Thompson",null,null,null,null,null,null,"Years 15 - 17",null,"Grade 10 - 12","Title explores issues related to Oil Spills, including, how spills happen, the risks of oil drilling, if the oil industry is prepared to handle oil spills, if the oil industry needs more oversight and regulation. Each anthology is composed of a wide spectrum of primary sources written by many of the foremost authorities in their respective fields. This unique approach provides students with a concise view of divergent opinions on each topic.","English",46.4,37.119999999999997,"628","168 pp.",{"$f":"Table1[[#This Row],['# of Books]]*Table1[[#This Row],[QTY]]","v":0},{"$f":"Table1[[#This Row],[QTY]]*Table1[[#This Row],[School & Library Price]]","v":0}]
[null,28,null,null,"Current Issues","Current Controversies","Pakistan","978-0-7377-6242-6","Greenhaven Publishing","Paperback Book",1,2013,null,"Paperback","6.000 X 9.000","Author","Debra A. Miller",null,null,null,null,null,null,"Years 15 - 17",null,"Grade 10 - 12","This addition to the Current Controversies series examines issues related to Pakistan. It is composed of a wide spectrum of primary sources written by many of the foremost authorities in their respective fields. This unique approach provides students with a concise view of divergent opinions on each topic.","English",32,25.6,"954","180 pp.",{"$f":"Table1[[#This Row],['# of Books]]*Table1[[#This Row],[QTY]]","v":0},{"$f":"Table1[[#This Row],[QTY]]*Table1[[#This Row],[School & Library Price]]","v":0}]
[null,28,null,null,"Current Issues","Current Controversies","Pesticides","978-0-7377-6882-4","Greenhaven Publishing","Library Bound Book",1,2014,null,"Library Bound","6.000 X 9.000","Author","Debra A. Miller",null,null,null,null,null,null,"Years 15 - 17",null,"Grade 10 - 12","This title explores  a variety of issues related to pesticides, including whether they are negatively affecting human health, how they are interacting with the environment, whether they are needed to feed the world, and what is the future of pesticides.","English",46.4,37.119999999999997,"632","200 pp.",{"$f":"Table1[[#This Row],['# of Books]]*Table1[[#This Row],[QTY]]","v":0},{"$f":"Table1[[#This Row],[QTY]]*Table1[[#This Row],[School & Library Price]]","v":0}]
[null,28,null,null,"Current Issues","Current Controversies","Politics and Media","978-0-7377-5632-6","Greenhaven Publishing","Library Bound Book",1,2012,null,"Library Bound","6.000 X 9.000","Author","Debra A. Miller",null,null,null,null,null,null,"Years 15 - 17",null,"Grade 10 - 12","This new addition to the Current Controversies series examines issues related to politics and the media. The title explores the question of whether or not media bias influences politics, the relationship between the Internet and democracy, the impact of social media in global revolution, and the evolving nature of the media’s role in politics.","English",46.4,37.119999999999997,"302","192 pp.",{"$f":"Table1[[#This Row],['# of Books]]*Table1[[#This Row],[QTY]]","v":0},{"$f":"Table1[[#This Row],[QTY]]*Table1[[#This Row],[School & Library Price]]","v":0}]
[null,28,null,null,"Current Issues","Current Controversies","Pollution","978-0-7377-5634-0","Greenhaven Publishing","Library Bound Book",1,2012,null,"Library Bound","6.000 X 9.000","Author","Debra A. Miller",null,null,null,null,null,null,"Years 15 - 17",null,"Grade 10 - 12","This edition of the Current Controversies series examines issues related to pollution. Included articles explore the question of whether air and water pollution remain serious environmental problems, the issues related to global warming, the effectiveness of environmental efforts, and the emerging solutions to pollution problems.","English",46.4,37.119999999999997,"363","200 pp.",{"$f":"Table1[[#This Row],['# of Books]]*Table1[[#This Row],[QTY]]","v":0},{"$f":"Table1[[#This Row],[QTY]]*Table1[[#This Row],[School & Library Price]]","v":0}]
[null,28,null,null,"Current Issues","Current Controversies","Poverty and Homelessness","978-0-7377-6887-9","Greenhaven Publishing","Paperback Book",1,2014,null,"Paperback","6.000 X 9.000","Author","Noël Merino",null,null,null,null,null,null,"Years 15 - 17",null,"Grade 10 - 12",null,"English",32,25.6,"362","211 pp.",{"$f":"Table1[[#This Row],['# of Books]]*Table1[[#This Row],[QTY]]","v":0},{"$f":"Table1[[#This Row],[QTY]]*Table1[[#This Row],[School & Library Price]]","v":0}]
[null,28,null,null,"Current Issues","Current Controversies","Prescription Drugs","978-0-7377-6888-6","Greenhaven Publishing","Library Bound Book",1,2014,null,"Library Bound","6.000 X 9.000","Author","Sylvia Engdahl",null,null,null,null,null,null,"Years 15 - 17",null,"Grade 10 - 12","Title explores issues related to Prescription Drugs, including whether people are taking too many prescription drugs, prescription drug prices, prescription drug abuse, other problems related to prescription drugs. Each anthology is composed of a wide spectrum of primary sources written by many of the foremost authorities in their respective fields. This unique approach provides students with a concise view of divergent opinions on each topic.","English",46.4,37.119999999999997,"338","200 pp.",{"$f":"Table1[[#This Row],['# of Books]]*Table1[[#This Row],[QTY]]","v":0},{"$f":"Table1[[#This Row],[QTY]]*Table1[[#This Row],[School & Library Price]]","v":0}]
[null,28,null,null,"Current Issues","Current Controversies","Prisons","978-0-7377-4461-3","Greenhaven Publishing","Paperback Book",1,2010,null,"Paperback","6.000 X 9.000","Author","Sylvia Engdahl",null,null,null,null,null,null,"Years 15 - 17",null,"Grade 10 - 12",null,"English",32,25.6,"365","232 pp.",{"$f":"Table1[[#This Row],['# of Books]]*Table1[[#This Row],[QTY]]","v":0},{"$f":"Table1[[#This Row],[QTY]]*Table1[[#This Row],[School & Library Price]]","v":0}]
[null,28,null,null,"Current Issues","Current Controversies","Racism","978-0-7377-4462-0","Greenhaven Publishing","Library Bound Book",1,2009,null,"Library Bound","6.000 X 9.000","Author","Noël Merino",null,null,null,null,null,null,"Years 15 - 17",null,"Grade 10 - 12",null,"English",46.4,37.119999999999997,"305","224 pp.",{"$f":"Table1[[#This Row],['# of Books]]*Table1[[#This Row],[QTY]]","v":0},{"$f":"Table1[[#This Row],[QTY]]*Table1[[#This Row],[School & Library Price]]","v":0}]
[null,28,null,null,"Current Issues","Current Controversies","Rap Music and Culture","978-0-7377-3964-0","Greenhaven Publishing","Library Bound Book",1,2008,null,"Library Bound","6.000 X 9.000","Author","Kate Burns",null,null,null,null,null,null,"Years 15 - 17",null,"Grade 10 - 12",null,"English",46.4,37.119999999999997,"782","192 pp.",{"$f":"Table1[[#This Row],['# of Books]]*Table1[[#This Row],[QTY]]","v":0},{"$f":"Table1[[#This Row],[QTY]]*Table1[[#This Row],[School & Library Price]]","v":0}]
[null,28,null,null,"Current Issues","Current Controversies","Resistant Infections","978-0-7377-4465-1","Greenhaven Publishing","Paperback Book",1,2009,null,"Paperback","6.000 X 9.000","Author","Debra A. Miller",null,null,null,null,null,null,"Years 15 - 17",null,"Grade 10 - 12",null,"English",32,25.6,"616","200 pp.",{"$f":"Table1[[#This Row],['# of Books]]*Table1[[#This Row],[QTY]]","v":0},{"$f":"Table1[[#This Row],[QTY]]*Table1[[#This Row],[School & Library Price]]","v":0}]
[null,29,null,null,"Current Issues","Current Controversies","Social Security","978-0-7377-6245-7","Greenhaven Publishing","Library Bound Book",1,2013,null,"Library Bound","6.000 X 9.000","Author","Debra A. Miller",null,null,null,null,null,null,"Years 15 - 17",null,"Grade 10 - 12",null,"English",46.4,37.119999999999997,"368","176 pp.",{"$f":"Table1[[#This Row],['# of Books]]*Table1[[#This Row],[QTY]]","v":0},{"$f":"Table1[[#This Row],[QTY]]*Table1[[#This Row],[School & Library Price]]","v":0}]
[null,29,null,null,"Current Issues","Current Controversies","Teens and Privacy","978-0-7377-5134-5","Greenhaven Publishing","Paperback Book",1,2011,null,"Paperback","6.000 X 9.000","Author","Noël Merino",null,null,null,null,null,null,"Years 15 - 17",null,"Grade 10 - 12",null,"English",32,25.6,"323","192 pp.",{"$f":"Table1[[#This Row],['# of Books]]*Table1[[#This Row],[QTY]]","v":0},{"$f":"Table1[[#This Row],[QTY]]*Table1[[#This Row],[School & Library Price]]","v":0}]
[null,29,null,null,"Current Issues","Current Controversies","The Elderly","978-0-7377-5180-2","Greenhaven Publishing","Paperback Book",1,2011,null,"Paperback","6.000 X 9.000","Author","Sylvia Engdahl",null,null,null,null,null,null,"Years 15 - 17",null,"Grade 10 - 12",null,"English",32,25.6,"305","200 pp.",{"$f":"Table1[[#This Row],['# of Books]]*Table1[[#This Row],[QTY]]","v":0},{"$f":"Table1[[#This Row],[QTY]]*Table1[[#This Row],[School & Library Price]]","v":0}]
[null,29,null,null,"Current Issues","Current Controversies","The Global Food Crisis","978-0-7377-4613-6","Greenhaven Publishing","Library Bound Book",1,2009,null,"Library Bound","6.000 X 9.000","Author","Uma Kukathas",null,null,null,null,null,null,"Years 15 - 17",null,"Grade 10 - 12",null,"English",46.4,37.119999999999997,"363","224 pp.",{"$f":"Table1[[#This Row],['# of Books]]*Table1[[#This Row],[QTY]]","v":0},{"$f":"Table1[[#This Row],[QTY]]*Table1[[#This Row],[School & Library Price]]","v":0}]
[null,29,null,null,"Current Issues","Current Controversies","The Global Impact of Social Media","978-0-7377-5621-0","Greenhaven Publishing","Paperback Book",1,2012,null,"Paperback","6.000 X 9.000","Author","Dedria Bryfonski",null,null,null,null,null,null,"Years 15 - 17",null,"Grade 10 - 12",null,"English",32,25.6,"302","196 pp.",{"$f":"Table1[[#This Row],['# of Books]]*Table1[[#This Row],[QTY]]","v":0},{"$f":"Table1[[#This Row],[QTY]]*Table1[[#This Row],[School & Library Price]]","v":0}]
[null,29,null,null,"Current Issues","Current Controversies","The Iranian Green Movement","978-0-7377-5626-5","Greenhaven Publishing","Library Bound Book",1,2012,null,"Library Bound","6.000 X 9.000","Author","Debra A. Miller",null,null,null,null,null,null,"Years 15 - 17",null,"Grade 10 - 12",null,"English",46.4,37.119999999999997,"955","168 pp.",{"$f":"Table1[[#This Row],['# of Books]]*Table1[[#This Row],[QTY]]","v":0},{"$f":"Table1[[#This Row],[QTY]]*Table1[[#This Row],[School & Library Price]]","v":0}]
[null,29,null,null,"Current Issues","Current Controversies","The Rights of Animals","978-0-7377-4147-6","Greenhaven Publishing","Paperback Book",1,2009,null,"Paperback","6.000 X 9.000","Author","Debra A. Miller",null,null,null,null,null,null,"Years 15 - 17",null,"Grade 10 - 12",null,"English",32,25.6,"179","212 pp.",{"$f":"Table1[[#This Row],['# of Books]]*Table1[[#This Row],[QTY]]","v":0},{"$f":"Table1[[#This Row],[QTY]]*Table1[[#This Row],[School & Library Price]]","v":0}]
[null,29,null,null,"Current Issues","Current Controversies","The U.S. Economy","978-0-7377-4712-6","Greenhaven Publishing","Paperback Book",1,2010,null,"Paperback","6.000 X 9.000","Author","Debra A. Miller",null,null,null,null,null,null,"Years 15 - 17",null,"Grade 10 - 12","Explores the issues confronting the U.S. economy, including crises in the housing market and bank solvency, and a precarious world economy. Looks at the severity of the problem and how the government’s anti-recession policies are working - is the economic free fall slowing down? Also discusses the potential threat to Americans posed by the growing deficit, and ideas for stabilizing the economy in the future.","English",32,25.6,"330","192 pp.",{"$f":"Table1[[#This Row],['# of Books]]*Table1[[#This Row],[QTY]]","v":0},{"$f":"Table1[[#This Row],[QTY]]*Table1[[#This Row],[School & Library Price]]","v":0}]
[null,29,null,null,"Current Issues","Current Controversies","The Wage Gap","978-0-7377-6892-3","Greenhaven Publishing","Library Bound Book",1,2014,null,"Library Bound","6.000 X 9.000","Author","Noël Merino",null,null,null,null,null,null,"Years 15 - 17",null,"Grade 10 - 12","This title explores issues related to the wage gap, including: problems with the wage gap between men and women; the wage gap as a rich and poor problem; the wage gap among races; is education key to reducing the wage gap. Each anthology is composed of a wide spectrum of primary sources written by many of the foremost authorities in their respective fields. This unique approach provides students with a concise view of divergent opinions on each topic.","English",46.4,37.119999999999997,"331","224 pp.",{"$f":"Table1[[#This Row],['# of Books]]*Table1[[#This Row],[QTY]]","v":0},{"$f":"Table1[[#This Row],[QTY]]*Table1[[#This Row],[School & Library Price]]","v":0}]
[null,29,null,null,"Current Issues","Current Controversies","The World Economy","978-0-7377-4714-0","Greenhaven Publishing","Paperback Book",1,2010,null,"Paperback","6.000 X 9.000","Author","Noël Merino",null,null,null,null,null,null,"Years 15 - 17",null,"Grade 10 - 12","Explores the factors that might have contributed to the current global financial crisis, discussing financial deregulation, government policies, and increased income inequality. Looks at possible ways to address the issue, and the roles of the United States, the G-20, and the International Monetary Fund in doing so. Also examines whether or not global economics is good for the world and good for the United States.","English",32,25.6,"330","200 pp.",{"$f":"Table1[[#This Row],['# of Books]]*Table1[[#This Row],[QTY]]","v":0},{"$f":"Table1[[#This Row],[QTY]]*Table1[[#This Row],[School & Library Price]]","v":0}]
[null,29,null,null,"Current Issues","Current Controversies","Urban Sprawl","978-0-7377-6247-1","Greenhaven Publishing","Library Bound Book",1,2014,null,"Library Bound","6.000 X 9.000","Author","Noël Merino",null,null,null,null,null,null,"Years 15 - 17",null,"Grade 10 - 12","Title explores current issues related to urban sprawl including, whether  urban sprawl is a problem in the US; the impact of sprawl on the environment; the impact of sprawl on the economy; and how sprawl should be managed.","English",46.4,37.119999999999997,"307","224 pp.",{"$f":"Table1[[#This Row],['# of Books]]*Table1[[#This Row],[QTY]]","v":0},{"$f":"Table1[[#This Row],[QTY]]*Table1[[#This Row],[School & Library Price]]","v":0}]
[null,29,null,null,"Current Issues","Current Controversies","Urban Sprawl","978-0-7377-6248-8","Greenhaven Publishing","Paperback Book",1,2014,null,"Paperback","6.000 X 9.000","Author","Noël Merino",null,null,null,null,null,null,"Years 15 - 17",null,"Grade 10 - 12","Title explores current issues related to urban sprawl including, whether  urban sprawl is a problem in the US; the impact of sprawl on the environment; the impact of sprawl on the economy; and how sprawl should be managed.","English",32,25.6,"307","220 pp.",{"$f":"Table1[[#This Row],['# of Books]]*Table1[[#This Row],[QTY]]","v":0},{"$f":"Table1[[#This Row],[QTY]]*Table1[[#This Row],[School & Library Price]]","v":0}]
[null,29,null,null,"Current Issues","Current Controversies","Vaccines","978-0-7377-5640-1","Greenhaven Publishing","Library Bound Book",1,2012,null,"Library Bound","6.000 X 9.000","Author","Noël Merino",null,null,null,null,null,null,"Years 15 - 17",null,"Grade 10 - 12","This addition to the Current Controversies series examines the various issues surrounding vaccines. The title explores the effectiveness of vaccines in the prevention of disease, questions of whether the benefits of vaccines outweigh the harms and whether or not certain vaccines should be mandatory, and key issues surrounding vaccine development.","English",46.4,37.119999999999997,"615","192 pp.",{"$f":"Table1[[#This Row],['# of Books]]*Table1[[#This Row],[QTY]]","v":0},{"$f":"Table1[[#This Row],[QTY]]*Table1[[#This Row],[School & Library Price]]","v":0}]
[null,29,null,null,"Current Issues","Current Controversies","Violence Against Women","978-0-7377-7427-6","Greenhaven Publishing","Paperback Book",1,2016,null,"Paperback","6.000 X 9.000","Author","Noël Merino",null,null,null,null,null,null,"Years 15 - 17",null,"Grade 10 - 12","This title in the Current Controversies series shines a light on the topic of violence against women, asking the questions: Is violence against women in the US a serious problem?; What causes  violence against women?; Has legislation aimed at reducing violence against women been effective?; and What is the extent of violence against women worldwide?","English",32,25.6,"362","191 pp.",{"$f":"Table1[[#This Row],['# of Books]]*Table1[[#This Row],[QTY]]","v":0},{"$f":"Table1[[#This Row],[QTY]]*Table1[[#This Row],[School & Library Price]]","v":0}]
[null,29,null,null,"Current Issues","Current Controversies","Women in Politics","978-0-7377-6250-1","Greenhaven Publishing","Paperback Book",1,2013,null,"Paperback","6.000 X 9.000","Author","Debra A. Miller",null,null,null,null,null,null,"Years 15 - 17",null,"Grade 10 - 12","This title explores issues related to Women in Politics, including whether women have made gains in US politics, the status of women in world politics, whether women's participation in politics improves politics and how women can be encouraged to participate in politics.","English",32,25.6,"305","164 pp.",{"$f":"Table1[[#This Row],['# of Books]]*Table1[[#This Row],[QTY]]","v":0},{"$f":"Table1[[#This Row],[QTY]]*Table1[[#This Row],[School & Library Price]]","v":0}]
[null,30,null,null,"Current Issues","Global Viewpoints","Abortion","978-0-7377-5467-4","Greenhaven Publishing","eBook",1,2010,null,"eBook",null,"Author","Noah Berlatsky",null,null,null,null,null,null,"Years 15 - 17",null,"Grade 10 - 12",null,"English",50.82,50.82,"362.19","256 pp.",{"$f":"Table1[[#This Row],['# of Books]]*Table1[[#This Row],[QTY]]","v":0},{"$f":"Table1[[#This Row],[QTY]]*Table1[[#This Row],[School & Library Price]]","v":0}]
[null,30,null,null,"Current Issues","Global Viewpoints","Aging","978-0-7377-6902-9","Greenhaven Publishing","Library Bound Book",1,2014,null,"Library Bound","6.000 X 9.000","Author","Noah Berlatsky",null,null,null,null,null,null,"Years 15 - 17",null,"Grade 10 - 12","GLOBAL VIEWPOINTS: AGING examines the effect of aging populations on society, policy solutions to aging populations, attitudes towards the elderly, and health issues and aging.","English",46.2,36.96,"571","208 pp.",{"$f":"Table1[[#This Row],['# of Books]]*Table1[[#This Row],[QTY]]","v":0},{"$f":"Table1[[#This Row],[QTY]]*Table1[[#This Row],[School & Library Price]]","v":0}]
[null,30,null,null,"Current Issues","Global Viewpoints","Air Pollution","978-0-7377-5186-4","Greenhaven Publishing","Paperback Book",1,2011,null,"Paperback","6.000 X 9.000","Author","Margaret Haerens",null,null,null,null,null,null,"Years 15 - 17",null,"Grade 10 - 12",null,"English",31.7,25.36,"363","230 pp.",{"$f":"Table1[[#This Row],['# of Books]]*Table1[[#This Row],[QTY]]","v":0},{"$f":"Table1[[#This Row],[QTY]]*Table1[[#This Row],[School & Library Price]]","v":0}]
[null,30,null,null,"Current Issues","Global Viewpoints","Alcohol","978-0-7377-5643-2","Greenhaven Publishing","Paperback Book",1,2012,null,"Paperback","6.000 X 9.000","Author","Margaret Haerens",null,null,null,null,null,null,"Years 15 - 17",null,"Grade 10 - 12","This edition of the Global Viewpoints series explores trends in alcohol use and abuse around the world. Topics covered include global trends in alcohol consumption, abuse issues in various countries, including Australia, Yemen, Kenya and Russia, strategies to curb alcohol abuse, the relationship between religion and alcohol around the globe, and alcohol culture and tradition (for example, Korean corporate drinking and Britain’s campaign for \"Real Ale\").","English",31.7,25.36,"362","199 pp.",{"$f":"Table1[[#This Row],['# of Books]]*Table1[[#This Row],[QTY]]","v":0},{"$f":"Table1[[#This Row],[QTY]]*Table1[[#This Row],[School & Library Price]]","v":0}]
[null,30,null,null,"Current Issues","Global Viewpoints","Alcohol","978-0-7377-6599-1","Greenhaven Publishing","eBook",1,2012,null,"eBook",null,"Author","Margaret Haerens",null,null,null,null,null,null,"Years 15 - 17",null,"Grade 10 - 12","This edition of the Global Viewpoints series explores trends in alcohol use and abuse around the world. Topics covered include global trends in alcohol consumption, abuse issues in various countries, including Australia, Yemen, Kenya and Russia, strategies to curb alcohol abuse, the relationship between religion and alcohol around the globe, and alcohol culture and tradition (for example, Korean corporate drinking and Britain’s campaign for \"Real Ale\").","English",50.82,50.82,"362.292","200 pp.",{"$f":"Table1[[#This Row],['# of Books]]*Table1[[#This Row],[QTY]]","v":0},{"$f":"Table1[[#This Row],[QTY]]*Table1[[#This Row],[School & Library Price]]","v":0}]
[null,30,null,null,"Current Issues","Global Viewpoints","Biodiversity","978-0-7377-6904-3","Greenhaven Publishing","Library Bound Book",1,2014,null,"Library Bound","6.000 X 9.000","Author","Noah Berlatsky",null,null,null,null,null,null,"Years 15 - 17",null,"Grade 10 - 12","Global Viewpoints: Biodiversity examines the relationship between biodiversity and economic development, wildlife, agriculture, and climate change.","English",46.2,36.96,"333.95","169 pp.",{"$f":"Table1[[#This Row],['# of Books]]*Table1[[#This Row],[QTY]]","v":0},{"$f":"Table1[[#This Row],[QTY]]*Table1[[#This Row],[School & Library Price]]","v":0}]
[null,30,null,null,"Current Issues","Global Viewpoints","Biodiversity","978-0-7377-7028-5","Greenhaven Publishing","eBook",1,2014,null,"eBook",null,"Author","Noah Berlatsky",null,null,null,null,null,null,"Years 15 - 17",null,"Grade 10 - 12","GLOBAL VIEWPOINTS: BIODIVERSITY examines the relationship between biodiversity and economic development, wildlife, agriculture, and climate change. Primary sources, including speeches and government documents, join essays from international magazines and news sources for a truly panoramic view. Helpful features include an annotated table of contents, a world map and country index, a bibliography and a subject index.","English",50.82,50.82,"333.95","169 pp.",{"$f":"Table1[[#This Row],['# of Books]]*Table1[[#This Row],[QTY]]","v":0},{"$f":"Table1[[#This Row],[QTY]]*Table1[[#This Row],[School & Library Price]]","v":0}]
[null,31,null,null,"Current Issues","Global Viewpoints","Capital Punishment","978-0-7377-4663-1","Greenhaven Publishing","Library Bound Book",1,2010,null,"Library Bound","6.000 X 9.000","Author","Noah Berlatsky",null,null,null,null,null,null,"Years 15 - 17",null,"Grade 10 - 12","Explores capital punishment in the context of morality, justice, public opinion and international relations. Is Europe hypocritical in abolishing the death penalty and not abortion? Is Iran justified in executing people under age 18? Is Japan’s death penalty process too shrouded in secrecy to be fair? Discusses cultures in which capital punishment has popular support, and the impact of extradition treaties and international pressure on the use of the death penalty.","English",46.2,36.96,"364","240 pp.",{"$f":"Table1[[#This Row],['# of Books]]*Table1[[#This Row],[QTY]]","v":0},{"$f":"Table1[[#This Row],[QTY]]*Table1[[#This Row],[School & Library Price]]","v":0}]
[null,31,null,null,"Current Issues","Global Viewpoints","Capitalism","978-0-7377-5647-0","Greenhaven Publishing","Paperback Book",1,2012,null,"Paperback","6.000 X 9.000","Author","Noël Merino",null,null,null,null,null,null,"Years 15 - 17",null,"Grade 10 - 12","This edition of the Global Viewpoints series explores international attitudes and issues related to capitalism. The title explores the presence of capitalism around the world, with coverage including France, Germany, Russia, China, India, and Africa. Included articles examine capitalism and the global financial crisis, capitalism and its impact on worldwide democracy, and capitalism and social welfare spending.","English",31.7,25.36,"330","252 pp.",{"$f":"Table1[[#This Row],['# of Books]]*Table1[[#This Row],[QTY]]","v":0},{"$f":"Table1[[#This Row],[QTY]]*Table1[[#This Row],[School & Library Price]]","v":0}]
[null,31,null,null,"Current Issues","Global Viewpoints","Child Soldiers","978-0-7377-4840-6","Greenhaven Publishing","Paperback Book",1,2010,null,"Paperback","6.000 X 9.000","Author","Candice Mancini",null,null,null,null,null,null,"Years 15 - 17",null,"Grade 10 - 12","Explores the manipulation and exploitation of children as soldiers throughout the world, including Uganda, Mozambique and Colombia. Examines the threats and enticements used to recruit children and the long-term impact on their lives, with personal accounts of several former child soldiers. Also discusses efforts on the part of several international organizations to eliminate the practice and provide help and healing to victimized children.","English",31.7,25.36,"355","216 pp.",{"$f":"Table1[[#This Row],['# of Books]]*Table1[[#This Row],[QTY]]","v":0},{"$f":"Table1[[#This Row],[QTY]]*Table1[[#This Row],[School & Library Price]]","v":0}]
[null,31,null,null,"Current Issues","Global Viewpoints","Civil Liberties","978-0-7377-6760-5","Greenhaven Publishing","eBook",1,2013,null,"eBook",null,"Author","Noel Merino",null,null,null,null,null,null,"Years 15 - 17",null,"Grade 10 - 12","This title explores free speech and freedom of expression, media freedom and freedom of the press, the right to due process,  and the right to privacy.","English",50.82,50.82,"323","224 pp.",{"$f":"Table1[[#This Row],['# of Books]]*Table1[[#This Row],[QTY]]","v":0},{"$f":"Table1[[#This Row],[QTY]]*Table1[[#This Row],[School & Library Price]]","v":0}]
[null,31,null,null,"Current Issues","Global Viewpoints","Cybercrime","978-0-7377-6906-7","Greenhaven Publishing","Library Bound Book",1,2014,null,"Library Bound","6.000 X 9.000","Author","Noah Berlatsky",null,null,null,null,null,null,"Years 15 - 17",null,"Grade 10 - 12","Global Viewpoints: Cybercrime explores the vulnerability of countries and people to cybercrime; cybercrime law worldwide; the role of organized crime in cybercrime; and cyber espionage and cyber terrorism.","English",46.2,36.96,"364.16","209 pp.",{"$f":"Table1[[#This Row],['# of Books]]*Table1[[#This Row],[QTY]]","v":0},{"$f":"Table1[[#This Row],[QTY]]*Table1[[#This Row],[School & Library Price]]","v":0}]
[null,31,null,null,"Current Issues","Global Viewpoints","Cybercrime","978-0-7377-6907-4","Greenhaven Publishing","Paperback Book",1,2014,null,"Paperback","6.000 X 9.000","Author","Noah Berlatsky",null,null,null,null,null,null,"Years 15 - 17",null,"Grade 10 - 12","Global Viewpoints: Cybercrime explores the vulnerability of countries and people to cybercrime; cybercrime law worldwide; the role of organized crime in cybercrime; and cyber espionage and cyber terrorism.","English",31.7,25.36,"364.16","209 pp.",{"$f":"Table1[[#This Row],['# of Books]]*Table1[[#This Row],[QTY]]","v":0},{"$f":"Table1[[#This Row],[QTY]]*Table1[[#This Row],[School & Library Price]]","v":0}]
[null,31,null,null,"Current Issues","Global Viewpoints","Death and Dying","978-0-7377-4932-8","Greenhaven Publishing","Paperback Book",1,2010,null,"Paperback","6.000 X 9.000","Author","Diane Andrews Henningfeld",null,null,null,null,null,null,"Years 15 - 17",null,"Grade 10 - 12","This title explores current issues surrounding death and dying worldwide. Causes of death are examined, including increases in mortality due to AIDS in Africa, drug abuse in Scotland, and suicide in Ireland. Chapters discuss access to palliative end-of-life care and assisted suicide; influences of the world’s major religions and their beliefs, traditions and rituals surrounding death; and funeral practices around the world.","English",31.7,25.36,"306","248 pp.",{"$f":"Table1[[#This Row],['# of Books]]*Table1[[#This Row],[QTY]]","v":0},{"$f":"Table1[[#This Row],[QTY]]*Table1[[#This Row],[School & Library Price]]","v":0}]
[null,31,null,null,"Current Issues","Global Viewpoints","Democracy","978-0-7377-5922-8","Greenhaven Publishing","eBook",1,2011,null,"eBook",null,"Author","Tom Lansford",null,null,null,null,null,null,"Years 15 - 17",null,"Grade 10 - 12","Each volume in the GLOBAL VIEWPOINTS series focuses on a controversial topic of worldwide importance and offers a panoramic view of opinions selected from a diverse range of international sources, providing readers with the information needed to explore global connections and think critically about worldwide implications of global issues.  By illuminating the complexities and interrelations of the global community, this excellent resource helps students and other researchers enhance their global awareness. Democracy explores the relationship between democracy and government in several countries, including Spain, South Korea, Columbia and Ghana, as well as the relationship between democracy and equality. This volume investigates the questions of: What is the role of social/activist groups in promoting democracy in Central and Eastern Europe? Can international pressure force Burma to democratize? Does the United States actively promote democracy in the developing world? In addition, the text looks at the impact of economics, including taxes and wealth distribution, on democratic growth and highlights what localized factors impact the democratic process.","English",50.82,50.82,"321.8","240 pp.",{"$f":"Table1[[#This Row],['# of Books]]*Table1[[#This Row],[QTY]]","v":0},{"$f":"Table1[[#This Row],[QTY]]*Table1[[#This Row],[School & Library Price]]","v":0}]
[null,31,null,null,"Current Issues","Global Viewpoints","Disasters","978-0-7377-7021-6","Greenhaven Publishing","eBook",1,2014,null,"eBook",null,"Author","Diane Andrews Henningfeld",null,null,null,null,null,null,"Years 15 - 17",null,"Grade 10 - 12","Global Viewpoints: Disasters examines the causes of disasters; the relationship between disasters, social issues, and politics; disaster preparedness; and responses to and aftermath of disasters.","English",50.82,50.82,"363.34","258 pp.",{"$f":"Table1[[#This Row],['# of Books]]*Table1[[#This Row],[QTY]]","v":0},{"$f":"Table1[[#This Row],[QTY]]*Table1[[#This Row],[School & Library Price]]","v":0}]
[null,31,null,null,"Current Issues","Global Viewpoints","Discrimination","978-0-7377-6076-7","Greenhaven Publishing","eBook",1,2011,null,"eBook",null,"Author","Christina Fisanick",null,null,null,null,null,null,"Years 15 - 17",null,"Grade 10 - 12",null,"English",50.82,50.82,"305","264 pp.",{"$f":"Table1[[#This Row],['# of Books]]*Table1[[#This Row],[QTY]]","v":0},{"$f":"Table1[[#This Row],[QTY]]*Table1[[#This Row],[School & Library Price]]","v":0}]
[null,31,null,null,"Current Issues","Global Viewpoints","Eating Disorders","978-0-7377-6263-1","Greenhaven Publishing","Library Bound Book",1,2012,null,"Library Bound","6.000 X 9.000","Author","Margaret Haerens",null,null,null,null,null,null,"Years 15 - 17",null,"Grade 10 - 12","This title explores eating disorders trends, body image and eating disorders, the relationship between the media and eating disorders, and strategies to curb eating disorders.","English",46.2,36.96,"616","232 pp.",{"$f":"Table1[[#This Row],['# of Books]]*Table1[[#This Row],[QTY]]","v":0},{"$f":"Table1[[#This Row],[QTY]]*Table1[[#This Row],[School & Library Price]]","v":0}]
[null,31,null,null,"Current Issues","Global Viewpoints","Education","978-0-7377-5648-7","Greenhaven Publishing","Library Bound Book",1,2012,null,"Library Bound","6.000 X 9.000","Author","Diane Andrews Henningfeld",null,null,null,null,null,null,"Years 15 - 17",null,"Grade 10 - 12","Articles included in this new addition to the Global Viewpoints series explore issues related to education around the world. Topics covered include barriers to education, such as armed conflict and gender identification, education reform, the relationship between technology, such as laptops and computers, and education, and the impact of religion on education.","English",46.2,36.96,"371","243 pp.",{"$f":"Table1[[#This Row],['# of Books]]*Table1[[#This Row],[QTY]]","v":0},{"$f":"Table1[[#This Row],[QTY]]*Table1[[#This Row],[School & Library Price]]","v":0}]
[null,31,null,null,"Current Issues","Global Viewpoints","Energy Alternatives","978-0-7377-6264-8","Greenhaven Publishing","Library Bound Book",1,2013,null,"Library Bound","6.000 X 9.000","Author","Margaret Haerens",null,null,null,null,null,null,"Years 15 - 17",null,"Grade 10 - 12","This title explores global developments in energy alternatives, focusing on nuclear energy---particularly the impact of the Fukushima nuclear crisis---as well as the politics and economics of energy alternatives.","English",46.2,36.96,"333","203 pp.",{"$f":"Table1[[#This Row],['# of Books]]*Table1[[#This Row],[QTY]]","v":0},{"$f":"Table1[[#This Row],[QTY]]*Table1[[#This Row],[School & Library Price]]","v":0}]
[null,31,null,null,"Current Issues","Global Viewpoints","Energy Alternatives","978-0-7377-6440-6","Greenhaven Publishing","Paperback Book",1,2013,null,"Paperback","6.000 X 9.000","Author","Margaret Haerens",null,null,null,null,null,null,"Years 15 - 17",null,"Grade 10 - 12","This title explores global developments in energy alternatives, focusing on nuclear energy---particularly the impact of the Fukushima nuclear crisis---as well as the politics and economics of energy alternatives.","English",31.7,25.36,"333","203 pp.",{"$f":"Table1[[#This Row],['# of Books]]*Table1[[#This Row],[QTY]]","v":0},{"$f":"Table1[[#This Row],[QTY]]*Table1[[#This Row],[School & Library Price]]","v":0}]
[null,31,null,null,"Current Issues","Global Viewpoints","Extremism","978-0-7377-6909-8","Greenhaven Publishing","Paperback Book",1,2014,null,"Paperback","6.000 X 9.000","Author","Noël Merino",null,null,null,null,null,null,"Years 15 - 17",null,"Grade 10 - 12","This title explores extremism around the world, the causes of extremism, extremism and religion, and dealing with extremism.","English",31.7,25.36,"303","235 pp.",{"$f":"Table1[[#This Row],['# of Books]]*Table1[[#This Row],[QTY]]","v":0},{"$f":"Table1[[#This Row],[QTY]]*Table1[[#This Row],[School & Library Price]]","v":0}]
[null,31,null,null,"Current Issues","Global Viewpoints","Family Violence","978-0-7377-6480-2","Greenhaven Publishing","eBook",1,2012,null,"eBook",null,"Author","Diane Andrews Henningfeld",null,null,null,null,null,null,"Years 15 - 17",null,"Grade 10 - 12",null,"English",50.82,50.82,"362.82","242 pp.",{"$f":"Table1[[#This Row],['# of Books]]*Table1[[#This Row],[QTY]]","v":0},{"$f":"Table1[[#This Row],[QTY]]*Table1[[#This Row],[School & Library Price]]","v":0}]
[null,31,null,null,"Current Issues","Global Viewpoints","Famine","978-0-7377-4908-3","Greenhaven Publishing","eBook",1,2009,null,"eBook",null,"Author","Diane Andrews Henningfeld",null,null,null,null,null,null,"Years 15 - 17",null,"Grade 10 - 12",null,"English",50.82,50.82,"363.8","240 pp.",{"$f":"Table1[[#This Row],['# of Books]]*Table1[[#This Row],[QTY]]","v":0},{"$f":"Table1[[#This Row],[QTY]]*Table1[[#This Row],[School & Library Price]]","v":0}]
[null,31,null,null,"Current Issues","Global Viewpoints","Freedom of Expression","978-0-7377-4154-4","Greenhaven Publishing","Library Bound Book",1,2009,null,"Library Bound","6.000 X 9.000","Author","Alicia Cafferty Lerner",null,null,null,null,null,null,"Years 15 - 17",null,"Grade 10 - 12",null,"English",46.2,36.96,"323","208 pp.",{"$f":"Table1[[#This Row],['# of Books]]*Table1[[#This Row],[QTY]]","v":0},{"$f":"Table1[[#This Row],[QTY]]*Table1[[#This Row],[School & Library Price]]","v":0}]
[null,31,null,null,"Current Issues","Global Viewpoints","Garbage and Recycling","978-0-7377-5871-9","Greenhaven Publishing","eBook",1,2011,null,"eBook",null,"Author","Candice Mancini",null,null,null,null,null,null,"Years 15 - 17",null,"Grade 10 - 12",null,"English",50.82,50.82,"363.72","232 pp.",{"$f":"Table1[[#This Row],['# of Books]]*Table1[[#This Row],[QTY]]","v":0},{"$f":"Table1[[#This Row],[QTY]]*Table1[[#This Row],[School & Library Price]]","v":0}]
[null,31,null,null,"Current Issues","Global Viewpoints","Genetic Engineering","978-0-7377-6674-5","Greenhaven Publishing","eBook",1,2013,null,"eBook",null,"Author","Noah Berlatsky",null,null,null,null,null,null,"Years 15 - 17",null,"Grade 10 - 12","This title explores issues related to genetic engineering in various countries, including the United States, Canada, China, Japan, Kenya, Australia, etc, genetic engineering and crops, genetic engineering and disease,  genetic engineering and animals, and genetic engineering in humans.","English",50.82,50.82,"660.6","231 pp.",{"$f":"Table1[[#This Row],['# of Books]]*Table1[[#This Row],[QTY]]","v":0},{"$f":"Table1[[#This Row],[QTY]]*Table1[[#This Row],[School & Library Price]]","v":0}]
[null,31,null,null,"Current Issues","Global Viewpoints","Genetically Modified Food","978-0-7377-7147-3","Greenhaven Publishing","eBook",1,2014,null,"eBook",null,"Author","Noel Merino",null,null,null,null,null,null,"Years 15 - 17",null,"Grade 10 - 12","GLOBAL VIEWPOINTS: GENETICALLY MODIFIED FOOD explores the following issues related to genetically modified food: attitudes toward genetically modified food around the world, the impact of genetically modified crops on agriculture.","English",50.82,50.82,"664","217 pp.",{"$f":"Table1[[#This Row],['# of Books]]*Table1[[#This Row],[QTY]]","v":0},{"$f":"Table1[[#This Row],[QTY]]*Table1[[#This Row],[School & Library Price]]","v":0}]
[null,31,null,null,"Current Issues","Global Viewpoints","Genocide","978-0-7377-5652-4","Greenhaven Publishing","Library Bound Book",1,2012,null,"Library Bound","6.000 X 9.000","Author","Margaret Haerens",null,null,null,null,null,null,"Years 15 - 17",null,"Grade 10 - 12","Articles included in this new addition to the Global Viewpoints series explore issues related to recognizing, analyzing, and defining global genocide. Topics covered include differing international views of what constitutes genocide, contemporary examples of genocide from countries such as the Congo, Sri Lanka, North Korea, and the Sudan, preventing and prosecuting genocide, and the legacy of genocide.","English",46.2,36.96,"304","223 pp.",{"$f":"Table1[[#This Row],['# of Books]]*Table1[[#This Row],[QTY]]","v":0},{"$f":"Table1[[#This Row],[QTY]]*Table1[[#This Row],[School & Library Price]]","v":0}]
[null,31,null,null,"Current Issues","Global Viewpoints","Gun Control","978-0-7377-4727-0","Greenhaven Publishing","Library Bound Book",1,2010,null,"Library Bound","6.000 X 9.000","Author","Christina Fisanick",null,null,null,null,null,null,"Years 15 - 17",null,"Grade 10 - 12",null,"English",46.2,36.96,"363","248 pp.",{"$f":"Table1[[#This Row],['# of Books]]*Table1[[#This Row],[QTY]]","v":0},{"$f":"Table1[[#This Row],[QTY]]*Table1[[#This Row],[School & Library Price]]","v":0}]
[null,31,null,null,"Current Issues","Global Viewpoints","Health Care","978-0-7377-6566-3","Greenhaven Publishing","eBook",1,2012,null,"eBook",null,"Author","Noel Merino",null,null,null,null,null,null,"Years 15 - 17",null,"Grade 10 - 12","This edition of the Global Viewpoints series discusses international health care topics. Included articles explore how health care quality and access to health care services vary from country to country, including the United States, France, Cuba, and Germany. The text also examines the costs of health care and how diseases challenge health care globally.","English",50.82,50.82,"362.1","230 pp.",{"$f":"Table1[[#This Row],['# of Books]]*Table1[[#This Row],[QTY]]","v":0},{"$f":"Table1[[#This Row],[QTY]]*Table1[[#This Row],[School & Library Price]]","v":0}]
[null,31,null,null,"Current Issues","Global Viewpoints","Homosexuality","978-0-7377-5192-5","Greenhaven Publishing","Paperback Book",1,2011,null,"Paperback","6.000 X 9.000","Author","Noah Berlatsky",null,null,null,null,null,null,"Years 15 - 17",null,"Grade 10 - 12",null,"English",31.7,25.36,"306","224 pp.",{"$f":"Table1[[#This Row],['# of Books]]*Table1[[#This Row],[QTY]]","v":0},{"$f":"Table1[[#This Row],[QTY]]*Table1[[#This Row],[School & Library Price]]","v":0}]
[null,31,null,null,"Current Issues","Global Viewpoints","Human Rights","978-0-7377-5194-9","Greenhaven Publishing","Paperback Book",1,2011,null,"Paperback","6.000 X 9.000","Author","Margaret Haerens",null,null,null,null,null,null,"Years 15 - 17",null,"Grade 10 - 12",null,"English",31.7,25.36,"323","243 pp.",{"$f":"Table1[[#This Row],['# of Books]]*Table1[[#This Row],[QTY]]","v":0},{"$f":"Table1[[#This Row],[QTY]]*Table1[[#This Row],[School & Library Price]]","v":0}]
[null,31,null,null,"Current Issues","Global Viewpoints","Human Trafficking","978-1-4205-0857-4","Greenhaven Publishing","eBook",1,2012,null,"eBook",null,"Author","Margaret Haerens",null,null,null,null,null,null,"Years 15 - 17",null,"Grade 10 - 12","As technology makes the world more accessible, it is increasingly important to develop a wide perspective on social issues as well as political, environmental, and health issues of global significance. Each anthology in the GLOBAL VIEWPOINTS series (which does not duplicate any material in the OPPOSING VIEWPOINTS series) delivers contemporary perspectives on the featured issue -- with the majority of the material reflecting stances of countries other than the United States. Primary sources, including speeches and government documents, join essays from international magazines and news sources for a truly panoramic view.","English",50.82,50.82,"306.3","211 pp.",{"$f":"Table1[[#This Row],['# of Books]]*Table1[[#This Row],[QTY]]","v":0},{"$f":"Table1[[#This Row],[QTY]]*Table1[[#This Row],[School & Library Price]]","v":0}]
[null,31,null,null,"Current Issues","Global Viewpoints","Immigration","978-0-7377-4940-3","Greenhaven Publishing","eBook",1,2009,null,"eBook",null,"Author","Tom Lansford",null,null,null,null,null,null,"Years 15 - 17",null,"Grade 10 - 12",null,"English",50.82,50.82,"304.8","208 pp.",{"$f":"Table1[[#This Row],['# of Books]]*Table1[[#This Row],[QTY]]","v":0},{"$f":"Table1[[#This Row],[QTY]]*Table1[[#This Row],[School & Library Price]]","v":0}]
[null,32,null,null,"Current Issues","Global Viewpoints","Imprisonment","978-0-7377-4718-8","Greenhaven Publishing","Paperback Book",1,2010,null,"Paperback","6.000 X 9.000","Author","Noah Berlatsky",null,null,null,null,null,null,"Years 15 - 17",null,"Grade 10 - 12","Explores the main purposes of imprisonment around the world, including punishment, deterrence, rehabilitation, and public safety. Looks at the role of sentencing: Do life sentences violate human rights? How are juvenile offenders treated? Are mandatory sentences effective? Examines the treatment of prisoners and prison conditions like overcrowding, gang activity, sexual abuse and disease, as well as the unique plight of political and religious prisoners.","English",31.7,25.36,"365","240 pp.",{"$f":"Table1[[#This Row],['# of Books]]*Table1[[#This Row],[QTY]]","v":0},{"$f":"Table1[[#This Row],[QTY]]*Table1[[#This Row],[School & Library Price]]","v":0}]
[null,32,null,null,"Current Issues","Global Viewpoints","Indigenous Peoples","978-0-7377-4469-9","Greenhaven Publishing","Paperback Book",1,2009,null,"Paperback","6.000 X 9.000","Author","Diane Andrews Henningfeld",null,null,null,null,null,null,"Years 15 - 17",null,"Grade 10 - 12",null,"English",31.7,25.36,"305","272 pp.",{"$f":"Table1[[#This Row],['# of Books]]*Table1[[#This Row],[QTY]]","v":0},{"$f":"Table1[[#This Row],[QTY]]*Table1[[#This Row],[School & Library Price]]","v":0}]
[null,32,null,null,"Current Issues","Global Viewpoints","Juvenile Crime","978-0-7377-6443-7","Greenhaven Publishing","Paperback Book",1,2013,null,"Paperback","6.000 X 9.000","Author","Margaret Haerens",null,null,null,null,null,null,"Years 15 - 17",null,"Grade 10 - 12","This title explores trends in juvenile crime in countries worldwide, including causes and risk factors associated with youth crime. Also addressed are the differences among nations’ juvenile justice systems and the varying ways reform is handled around the world.","English",31.7,25.36,"364","243 pp.",{"$f":"Table1[[#This Row],['# of Books]]*Table1[[#This Row],[QTY]]","v":0},{"$f":"Table1[[#This Row],[QTY]]*Table1[[#This Row],[School & Library Price]]","v":0}]
[null,32,null,null,"Current Issues","Global Viewpoints","Marriage","978-0-7377-5030-0","Greenhaven Publishing","eBook",1,2009,null,"eBook",null,"Author","Alicia Cafferty Lerner",null,null,null,null,null,null,"Years 15 - 17",null,"Grade 10 - 12",null,"English",50.82,50.82,"306.81","224 pp.",{"$f":"Table1[[#This Row],['# of Books]]*Table1[[#This Row],[QTY]]","v":0},{"$f":"Table1[[#This Row],[QTY]]*Table1[[#This Row],[School & Library Price]]","v":0}]
[null,32,null,null,"Current Issues","Global Viewpoints","Medical Ethics","978-0-7377-6016-3","Greenhaven Publishing","eBook",1,2011,null,"eBook",null,"Author","Diane Andrews Henningfeld",null,null,null,null,null,null,"Years 15 - 17",null,"Grade 10 - 12",null,"English",50.82,50.82,"174.2","248 pp.",{"$f":"Table1[[#This Row],['# of Books]]*Table1[[#This Row],[QTY]]","v":0},{"$f":"Table1[[#This Row],[QTY]]*Table1[[#This Row],[School & Library Price]]","v":0}]
[null,32,null,null,"Current Issues","Global Viewpoints","Mental Illness","978-0-7377-6763-6","Greenhaven Publishing","eBook",1,2013,null,"eBook",null,"Author","Noah Berlatsky",null,null,null,null,null,null,"Years 15 - 17",null,"Grade 10 - 12","This book explores mental illness and trauma; mental illness and human rights; mental illness and substance abuse; and mental illness and treatment. Primary sources, including speeches and government documents, join essays from international magazines and news sources for a truly panoramic view. Helpful features include an annotated table of contents, a world map and country index, a bibliography and a subject index.","English",50.82,50.82,"616.89","256 pp.",{"$f":"Table1[[#This Row],['# of Books]]*Table1[[#This Row],[QTY]]","v":0},{"$f":"Table1[[#This Row],[QTY]]*Table1[[#This Row],[School & Library Price]]","v":0}]
[null,32,null,null,"Current Issues","Global Viewpoints","Obesity","978-0-7377-5660-9","Greenhaven Publishing","Library Bound Book",1,2012,null,"Library Bound","6.000 X 9.000","Author","Margaret Haerens",null,null,null,null,null,null,"Years 15 - 17",null,"Grade 10 - 12",null,"English",46.2,36.96,"616","232 pp.",{"$f":"Table1[[#This Row],['# of Books]]*Table1[[#This Row],[QTY]]","v":0},{"$f":"Table1[[#This Row],[QTY]]*Table1[[#This Row],[School & Library Price]]","v":0}]
[null,32,null,null,"Current Issues","Global Viewpoints","Oil","978-0-7377-4719-5","Greenhaven Publishing","Library Bound Book",1,2010,null,"Library Bound","6.000 X 9.000","Author","Margaret Haerens",null,null,null,null,null,null,"Years 15 - 17",null,"Grade 10 - 12","This volume focuses on the global oil outlook, offering perspectives from a diverse range of international sources. Explores the impact of oil supplies and pricing on individual countries like Germany and Venezuela; oil and its impact on the environment with examples from China, Japan and Canada; the relationship between global politics and oil, including countries in Africa and the Middle East; and the benefits and pitfalls of drilling for new oil reserves.","English",46.2,36.96,"553","224 pp.",{"$f":"Table1[[#This Row],['# of Books]]*Table1[[#This Row],[QTY]]","v":0},{"$f":"Table1[[#This Row],[QTY]]*Table1[[#This Row],[School & Library Price]]","v":0}]
[null,32,null,null,"Current Issues","Global Viewpoints","Oil","978-0-7377-4720-1","Greenhaven Publishing","Paperback Book",1,2010,null,"Paperback","6.000 X 9.000","Author","Margaret Haerens",null,null,null,null,null,null,"Years 15 - 17",null,"Grade 10 - 12","This volume focuses on the global oil outlook, offering perspectives from a diverse range of international sources. Explores the impact of oil supplies and pricing on individual countries like Germany and Venezuela; oil and its impact on the environment with examples from China, Japan and Canada; the relationship between global politics and oil, including countries in Africa and the Middle East; and the benefits and pitfalls of drilling for new oil reserves.","English",31.7,25.36,"553","224 pp.",{"$f":"Table1[[#This Row],['# of Books]]*Table1[[#This Row],[QTY]]","v":0},{"$f":"Table1[[#This Row],[QTY]]*Table1[[#This Row],[School & Library Price]]","v":0}]
[null,32,null,null,"Current Issues","Global Viewpoints","Organ Donation","978-0-7377-6445-1","Greenhaven Publishing","Paperback Book",1,2013,null,"Paperback","6.000 X 9.000","Author","Margaret Haerens",null,null,null,null,null,null,"Years 15 - 17",null,"Grade 10 - 12","This title explores issues related to organ donation in various countries, including the United States, Spain, Australia, India, and Pakistan, poverty and organ donation, presumed consent/opt-in/opt-out laws, compensation for donation, and illegal trafficking of organs.","English",31.7,25.36,"362","232 pp.",{"$f":"Table1[[#This Row],['# of Books]]*Table1[[#This Row],[QTY]]","v":0},{"$f":"Table1[[#This Row],[QTY]]*Table1[[#This Row],[School & Library Price]]","v":0}]
[null,32,null,null,"Current Issues","Global Viewpoints","Popular Culture","978-0-7377-5119-2","Greenhaven Publishing","Paperback Book",1,2011,null,"Paperback","6.000 X 9.000","Author","Noah Berlatsky",null,null,null,null,null,null,"Years 15 - 17",null,"Grade 10 - 12",null,"English",31.7,25.36,"306","220 pp.",{"$f":"Table1[[#This Row],['# of Books]]*Table1[[#This Row],[QTY]]","v":0},{"$f":"Table1[[#This Row],[QTY]]*Table1[[#This Row],[School & Library Price]]","v":0}]
[null,32,null,null,"Current Issues","Global Viewpoints","Population Growth","978-0-7377-5031-7","Greenhaven Publishing","eBook",1,2009,null,"eBook",null,"Author","Noah Berlatsky",null,null,null,null,null,null,"Years 15 - 17",null,"Grade 10 - 12",null,"English",50.82,50.82,"304.62","256 pp.",{"$f":"Table1[[#This Row],['# of Books]]*Table1[[#This Row],[QTY]]","v":0},{"$f":"Table1[[#This Row],[QTY]]*Table1[[#This Row],[School & Library Price]]","v":0}]
[null,32,null,null,"Current Issues","Global Viewpoints","Poverty","978-0-7377-6567-0","Greenhaven Publishing","eBook",1,2012,null,"eBook",null,"Author","Noel Merino",null,null,null,null,null,null,"Years 15 - 17",null,"Grade 10 - 12","Articles included in this new addition to the Global Viewpoints series explore the issue of poverty around the world, as well as the impact of the global recession on poverty-related issues. Topics covered include poverty’s rise and decline in specific countries, such as China, South Asia, Latin America, and the United States, the causes of poverty around the world, and the efforts to end poverty, from foreign aid to rapid growth.","English",50.82,50.82,"339.4","256 pp.",{"$f":"Table1[[#This Row],['# of Books]]*Table1[[#This Row],[QTY]]","v":0},{"$f":"Table1[[#This Row],[QTY]]*Table1[[#This Row],[School & Library Price]]","v":0}]
[null,32,null,null,"Current Issues","Global Viewpoints","Privacy","978-0-7377-7024-7","Greenhaven Publishing","eBook",1,2014,null,"eBook",null,"Author","Noel Merino",null,null,null,null,null,null,"Years 15 - 17",null,"Grade 10 - 12","This title examines privacy around the issues of privacy and security, privacy and technology, privacy and sexuality and reproduction, privacy and the public interest. Primary sources, including speeches and government documents, join essays from international magazines and news sources for a truly panoramic view. Helpful features include an annotated table of contents, a world map and country index, a bibliography and a subject index.","English",50.82,50.82,"323.44","200 pp.",{"$f":"Table1[[#This Row],['# of Books]]*Table1[[#This Row],[QTY]]","v":0},{"$f":"Table1[[#This Row],[QTY]]*Table1[[#This Row],[School & Library Price]]","v":0}]
[null,32,null,null,"Current Issues","Global Viewpoints","Sexual Violence","978-0-7377-6914-2","Greenhaven Publishing","Library Bound Book",1,2014,null,"Library Bound","6.000 X 9.000","Author","Noah Berlatsky",null,null,null,null,null,null,"Years 15 - 17",null,"Grade 10 - 12","This title examines the topic under the categories of Sexual Violence and Women, Sexual Violence and Children, Sexual Violence and Migration, and Sexual Violence and Political Violence.","English",46.2,36.96,"364","205 pp.",{"$f":"Table1[[#This Row],['# of Books]]*Table1[[#This Row],[QTY]]","v":0},{"$f":"Table1[[#This Row],[QTY]]*Table1[[#This Row],[School & Library Price]]","v":0}]
[null,32,null,null,"Current Issues","Global Viewpoints","Slavery","978-0-7377-4472-9","Greenhaven Publishing","Library Bound Book",1,2009,null,"Library Bound","6.000 X 9.000","Author","Maria Tenaglia-Webster",null,null,null,null,null,null,"Years 15 - 17",null,"Grade 10 - 12",null,"English",46.2,36.96,"306","232 pp.",{"$f":"Table1[[#This Row],['# of Books]]*Table1[[#This Row],[QTY]]","v":0},{"$f":"Table1[[#This Row],[QTY]]*Table1[[#This Row],[School & Library Price]]","v":0}]
[null,32,null,null,"Current Issues","Global Viewpoints","Slavery","978-0-7377-4473-6","Greenhaven Publishing","Paperback Book",1,2009,null,"Paperback","6.000 X 9.000","Author","Maria Tenaglia-Webster",null,null,null,null,null,null,"Years 15 - 17",null,"Grade 10 - 12",null,"English",31.7,25.36,"306","232 pp.",{"$f":"Table1[[#This Row],['# of Books]]*Table1[[#This Row],[QTY]]","v":0},{"$f":"Table1[[#This Row],[QTY]]*Table1[[#This Row],[School & Library Price]]","v":0}]
[null,32,null,null,"Current Issues","Global Viewpoints","Social Justice","978-0-7377-6421-5","Greenhaven Publishing","Paperback Book",1,2014,null,"Paperback","6.000 X 9.000","Author","Noël Merino",null,null,null,null,null,null,"Years 15 - 17",null,"Grade 10 - 12","This title examines the topic around the issues of social justice and economic inequality, social justice and minorities, social justice and gender, and global social justice.","English",31.7,25.36,"303","222 pp.",{"$f":"Table1[[#This Row],['# of Books]]*Table1[[#This Row],[QTY]]","v":0},{"$f":"Table1[[#This Row],[QTY]]*Table1[[#This Row],[School & Library Price]]","v":0}]
[null,32,null,null,"Current Issues","Global Viewpoints","Social Networking","978-0-7377-6446-8","Greenhaven Publishing","Paperback Book",1,2013,null,"Paperback","6.000 X 9.000","Author","Noah Berlatsky",null,null,null,null,null,null,"Years 15 - 17",null,"Grade 10 - 12","This book explores the popularity and use of social networking worldwide; how social networking is used in different cultures; whether social networking has an impact on democratic movements and what that impact may be; and social networking and access to information/censorship.","English",31.7,25.36,"302","177 pp.",{"$f":"Table1[[#This Row],['# of Books]]*Table1[[#This Row],[QTY]]","v":0},{"$f":"Table1[[#This Row],[QTY]]*Table1[[#This Row],[School & Library Price]]","v":0}]
[null,32,null,null,"Current Issues","Global Viewpoints","Suicide","978-0-7377-6123-8","Greenhaven Publishing","eBook",1,2012,null,"eBook",null,"Author","Margaret Haerens",null,null,null,null,null,null,"Years 15 - 17",null,"Grade 10 - 12",null,"English",50.82,50.82,"362.28","232 pp.",{"$f":"Table1[[#This Row],['# of Books]]*Table1[[#This Row],[QTY]]","v":0},{"$f":"Table1[[#This Row],[QTY]]*Table1[[#This Row],[School & Library Price]]","v":0}]
[null,32,null,null,"Current Issues","Global Viewpoints","The Arab-Israeli Conflict","978-0-7377-6522-9","Greenhaven Publishing","eBook",1,2012,null,"eBook",null,"Author","Noah Berlatsky",null,null,null,null,null,null,"Years 15 - 17",null,"Grade 10 - 12","This edition of the Global Viewpoints series explores the Arab-Israeli conflict. Articles included explore the regional issues impacting the conflict, Israel’s history with the Gaza Strip, various issues related to settlements on the West Bank, including whether Israel’s settlement efforts should cease and whether the Fayyad Plan is feasible, and the role of the international community.","English",50.82,50.82,"956.05","232 pp.",{"$f":"Table1[[#This Row],['# of Books]]*Table1[[#This Row],[QTY]]","v":0},{"$f":"Table1[[#This Row],[QTY]]*Table1[[#This Row],[School & Library Price]]","v":0}]
[null,32,null,null,"Current Issues","Global Viewpoints","The Global Financial Crisis","978-0-7377-5116-1","Greenhaven Publishing","eBook",1,2010,null,"eBook",null,"Author","Noah Berlatsky",null,null,null,null,null,null,"Years 15 - 17",null,"Grade 10 - 12","This edition of the Global Viewpoints series delivers contemporary perspectives on the global financial crisis -- with the majority of the material reflecting stances of countries other than the United States. Primary sources, including speeches and government documents, join essays from international magazines and news sources for a truly panoramic view.","English",50.82,50.82,"330.90511","264 pp.",{"$f":"Table1[[#This Row],['# of Books]]*Table1[[#This Row],[QTY]]","v":0},{"$f":"Table1[[#This Row],[QTY]]*Table1[[#This Row],[School & Library Price]]","v":0}]
[null,32,null,null,"Current Issues","Global Viewpoints","The War in Iraq","978-0-7377-4162-9","Greenhaven Publishing","Library Bound Book",1,2009,null,"Library Bound","6.000 X 9.000","Author","Tom Lansford",null,null,null,null,null,null,"Years 15 - 17",null,"Grade 10 - 12",null,"English",46.2,36.96,"956","248 pp.",{"$f":"Table1[[#This Row],['# of Books]]*Table1[[#This Row],[QTY]]","v":0},{"$f":"Table1[[#This Row],[QTY]]*Table1[[#This Row],[School & Library Price]]","v":0}]
[null,32,null,null,"Current Issues","Global Viewpoints","The War on Terror","978-0-7377-6271-6","Greenhaven Publishing","Library Bound Book",1,2012,null,"Library Bound","6.000 X 9.000","Author","Noah Berlatsky",null,null,null,null,null,null,"Years 15 - 17",null,"Grade 10 - 12","This title explores issues related to the war on terror in various countries, including the United States, Israel, Pakistan, Somalia, Afghanistan, European nations, etc., causes of terrorism, issues of human rights, governments' responses to terrorism, and the future of the war on terror.","English",46.2,36.96,"973","194 pp.",{"$f":"Table1[[#This Row],['# of Books]]*Table1[[#This Row],[QTY]]","v":0},{"$f":"Table1[[#This Row],[QTY]]*Table1[[#This Row],[School & Library Price]]","v":0}]
[null,32,null,null,"Current Issues","Global Viewpoints","The War on Terror","978-0-7377-6447-5","Greenhaven Publishing","Paperback Book",1,2012,null,"Paperback","6.000 X 9.000","Author","Noah Berlatsky",null,null,null,null,null,null,"Years 15 - 17",null,"Grade 10 - 12","This title explores issues related to the war on terror in various countries, including the United States, Israel, Pakistan, Somalia, Afghanistan, European nations, etc., causes of terrorism, issues of human rights, governments' responses to terrorism, and the future of the war on terror.","English",31.7,25.36,"973","194 pp.",{"$f":"Table1[[#This Row],['# of Books]]*Table1[[#This Row],[QTY]]","v":0},{"$f":"Table1[[#This Row],[QTY]]*Table1[[#This Row],[School & Library Price]]","v":0}]
[null,32,null,null,"Current Issues","Global Viewpoints","Unemployment","978-0-7377-6917-3","Greenhaven Publishing","Paperback Book",1,2014,null,"Paperback","6.000 X 9.000","Author","Noël Merino",null,null,null,null,null,null,"Years 15 - 17",null,"Grade 10 - 12","This title examines the topic around the issues of the global problem of unemployment, the victims of unemployment, the causes of unemployment, and the solutions to unemployment.","English",31.7,25.36,"331","220 pp.",{"$f":"Table1[[#This Row],['# of Books]]*Table1[[#This Row],[QTY]]","v":0},{"$f":"Table1[[#This Row],[QTY]]*Table1[[#This Row],[School & Library Price]]","v":0}]
[null,32,null,null,"Current Issues","Global Viewpoints","Water","978-0-7377-5667-8","Greenhaven Publishing","Paperback Book",1,2012,null,"Paperback","6.000 X 9.000","Author","Noah Berlatsky",null,null,null,null,null,null,"Years 15 - 17",null,"Grade 10 - 12",null,"English",31.7,25.36,"363","218 pp.",{"$f":"Table1[[#This Row],['# of Books]]*Table1[[#This Row],[QTY]]","v":0},{"$f":"Table1[[#This Row],[QTY]]*Table1[[#This Row],[School & Library Price]]","v":0}]
[null,32,null,null,"Current Issues","Global Viewpoints","Workers' Rights","978-0-7377-6554-0","Greenhaven Publishing","eBook",1,2012,null,"eBook",null,"Author","Noah Berlatsky",null,null,null,null,null,null,"Years 15 - 17",null,"Grade 10 - 12","This new addition to the Global Viewpoints series examines labor regulations worldwide, in countries such as Brazil, India, Greece, and the United States. Topics covered include unions and collective bargaining, issues related to workplace discrimination  in selected countries and regions (such as Asia and Nigeria), and the use of migrant and slave labor.","English",50.82,50.82,"331.01","234 pp.",{"$f":"Table1[[#This Row],['# of Books]]*Table1[[#This Row],[QTY]]","v":0},{"$f":"Table1[[#This Row],[QTY]]*Table1[[#This Row],[School & Library Price]]","v":0}]
[null,33,null,null,"Current Issues","Introducing Issues with Opposing Viewpoints","Adoption","978-0-7377-6918-0","Greenhaven Publishing","Library Bound Book",1,2014,null,"Library Bound","6.500 X 9.500","Author","Jacqueline Langwith",null,null,null,null,null,null,"Years 12 - 15",null,"Grade 7 - 10","The issues surrounding adoption continue to be debated. This title looks at how adoption should be viewed, what types of adoption should be encouraged, and at what policies should govern adoption.","English",42,33.6,"362","136 pp.",{"$f":"Table1[[#This Row],['# of Books]]*Table1[[#This Row],[QTY]]","v":0},{"$f":"Table1[[#This Row],[QTY]]*Table1[[#This Row],[School & Library Price]]","v":0}]
[null,33,null,null,"Current Issues","Introducing Issues with Opposing Viewpoints","Alternative Medicine","978-0-7377-4333-3","Greenhaven Publishing","Library Bound Book",1,2009,null,"Library Bound","6.500 X 9.500","Author","Jacqueline Langwith",null,null,null,null,null,null,"Years 12 - 15",null,"Grade 7 - 10",null,"English",42,33.6,"610","184 pp.",{"$f":"Table1[[#This Row],['# of Books]]*Table1[[#This Row],[QTY]]","v":0},{"$f":"Table1[[#This Row],[QTY]]*Table1[[#This Row],[School & Library Price]]","v":0}]
[null,33,null,null,"Current Issues","Introducing Issues with Opposing Viewpoints","Athletes and Drug Use","978-0-7377-6272-3","Greenhaven Publishing","Library Bound Book",1,2013,null,"Library Bound","6.500 X 9.500","Author","David M. Haugen",null,null,null,null,null,null,"Years 12 - 15",null,"Grade 7 - 10","The issues surrounding performance-enhancing drugs in the realm of athletics continue to be hotly debated. This title asks whether performance-enhancing drugs should be tolerated, how testing of professional athletes should be handled, and whether testing student athletes is effective and necessary.","English",42,33.6,"362","136 pp.",{"$f":"Table1[[#This Row],['# of Books]]*Table1[[#This Row],[QTY]]","v":0},{"$f":"Table1[[#This Row],[QTY]]*Table1[[#This Row],[School & Library Price]]","v":0}]
[null,34,null,null,"Current Issues","Introducing Issues with Opposing Viewpoints","Banned Books","978-0-7377-5671-5","Greenhaven Publishing","Library Bound Book",1,2012,null,"Library Bound","6.500 X 9.500","Author","Cynthia A. Bily",null,null,null,null,null,null,"Years 12 - 15",null,"Grade 7 - 10","This new title in the INTRODUCING ISSUES WITH OPPOSING VIEWPOINTS series discusses the topic of banned books. The text explores whether or not children should be protected from controversial books and whether or not certain topics or kinds of materials should be restricted. Included articles also examine alternatives to banning controversial books, such as editing or flagging potentially offensive content.","English",42,33.6,"098","128 pp.",{"$f":"Table1[[#This Row],['# of Books]]*Table1[[#This Row],[QTY]]","v":0},{"$f":"Table1[[#This Row],[QTY]]*Table1[[#This Row],[School & Library Price]]","v":0}]
[null,34,null,null,"Current Issues","Introducing Issues with Opposing Viewpoints","Birth Control","978-0-7377-4334-0","Greenhaven Publishing","Library Bound Book",1,2009,null,"Library Bound","6.500 X 9.500","Author","Lauri S. Friedman",null,null,null,null,null,null,"Years 12 - 15",null,"Grade 7 - 10",null,"English",42,33.6,"363","128 pp.",{"$f":"Table1[[#This Row],['# of Books]]*Table1[[#This Row],[QTY]]","v":0},{"$f":"Table1[[#This Row],[QTY]]*Table1[[#This Row],[School & Library Price]]","v":0}]
[null,34,null,null,"Current Issues","Introducing Issues with Opposing Viewpoints","Censorship","978-0-7377-4731-7","Greenhaven Publishing","Library Bound Book",1,2010,null,"Library Bound","6.500 X 9.500","Author","Noël Merino",null,null,null,null,null,null,"Years 12 - 15",null,"Grade 7 - 10","Explores whether or not there should be limits on free speech: Should hate speech be censored? Is flag destruction speech that should be protected? Examines the justification of censorship for the protection of children, and looks at the relationship between censorship and the regulation of information on new electronic media.","English",42,33.6,"363","144 pp.",{"$f":"Table1[[#This Row],['# of Books]]*Table1[[#This Row],[QTY]]","v":0},{"$f":"Table1[[#This Row],[QTY]]*Table1[[#This Row],[School & Library Price]]","v":0}]
[null,34,null,null,"Current Issues","Introducing Issues with Opposing Viewpoints","Christianity","978-0-7377-3874-2","Greenhaven Publishing","Library Bound Book",1,2008,null,"Library Bound","6.500 X 9.500","Author","Mike Wilson",null,null,null,null,null,null,"Years 12 - 15",null,"Grade 7 - 10",null,"English",42,33.6,"230","168 pp.",{"$f":"Table1[[#This Row],['# of Books]]*Table1[[#This Row],[QTY]]","v":0},{"$f":"Table1[[#This Row],[QTY]]*Table1[[#This Row],[School & Library Price]]","v":0}]
[null,34,null,null,"Current Issues","Introducing Issues with Opposing Viewpoints","Cosmetic Surgery","978-0-7377-7233-3","Greenhaven Publishing","Library Bound Book",1,2015,null,"Library Bound","6.500 X 9.500","Author","H. Robert",null,null,null,null,null,null,"Years 12 - 15",null,"Grade 7 - 10","Introducing Issues with OPPOSING VIEWPOINTS: COSMETIC SURGERY examines the safety of cosmetic surgery, including breast implants, having cosmetic surgery performed abroad, and the training of plastic surgeons.","English",42,33.6,"617","136 pp.",{"$f":"Table1[[#This Row],['# of Books]]*Table1[[#This Row],[QTY]]","v":0},{"$f":"Table1[[#This Row],[QTY]]*Table1[[#This Row],[School & Library Price]]","v":0}]
[null,34,null,null,"Current Issues","Introducing Issues with Opposing Viewpoints","Death and Dying","978-0-7377-3974-9","Greenhaven Publishing","Library Bound Book",1,2008,null,"Library Bound","6.500 X 9.500","Author","Jacqueline Langwith",null,null,null,null,null,null,"Years 12 - 15",null,"Grade 7 - 10",null,"English",42,33.6,"306","128 pp.",{"$f":"Table1[[#This Row],['# of Books]]*Table1[[#This Row],[QTY]]","v":0},{"$f":"Table1[[#This Row],[QTY]]*Table1[[#This Row],[School & Library Price]]","v":0}]
[null,34,null,null,"Current Issues","Introducing Issues with Opposing Viewpoints","Drug Abuse","978-0-7377-5675-3","Greenhaven Publishing","Library Bound Book",1,2012,null,"Library Bound","6.500 X 9.500","Author","Lauri S. Friedman",null,null,null,null,null,null,"Years 12 - 15",null,"Grade 7 - 10","This new edition in the INTRODUCING ISSUES WITH OPPOSING VIEWPOINTS series provides readers with a variety of articles that discuss the issue of drug abuse. Topics explored include whether or not drug abuse remains a serious problem (including a look at steroid and prescription drug use and abuse), whether marijuana should be decriminalized, and how society responds to drug abuse, from the \"war on drugs\" to mandatory random student drug testing.","English",42,33.6,"362","144 pp.",{"$f":"Table1[[#This Row],['# of Books]]*Table1[[#This Row],[QTY]]","v":0},{"$f":"Table1[[#This Row],[QTY]]*Table1[[#This Row],[School & Library Price]]","v":0}]
[null,34,null,null,"Current Issues","Introducing Issues with Opposing Viewpoints","Endangered Species","978-0-7377-5676-0","Greenhaven Publishing","Library Bound Book",1,2012,null,"Library Bound","6.500 X 9.500","Author","Lauri S. Friedman",null,null,null,null,null,null,"Years 12 - 15",null,"Grade 7 - 10",null,"English",42,33.6,"333","136 pp.",{"$f":"Table1[[#This Row],['# of Books]]*Table1[[#This Row],[QTY]]","v":0},{"$f":"Table1[[#This Row],[QTY]]*Table1[[#This Row],[School & Library Price]]","v":0}]
[null,34,null,null,"Current Issues","Introducing Issues with Opposing Viewpoints","Factory Farming","978-0-7377-7235-7","Greenhaven Publishing","Library Bound Book",1,2015,null,"Library Bound","6.500 X 9.500","Author","Lauri S. Scherer",null,null,null,null,null,null,"Years 12 - 15",null,"Grade 7 - 10","Introducing Issues with OPPOSING VIEWPOINTS: FACTORY FARMING examines the efficiency of factory farming and whether or not it can meet the world's demand for food. ","English",42,33.6,"179","128 pp.",{"$f":"Table1[[#This Row],['# of Books]]*Table1[[#This Row],[QTY]]","v":0},{"$f":"Table1[[#This Row],[QTY]]*Table1[[#This Row],[School & Library Price]]","v":0}]
[null,34,null,null,"Current Issues","Introducing Issues with Opposing Viewpoints","Fast Food","978-0-7377-6922-7","Greenhaven Publishing","Library Bound Book",1,2014,null,"Library Bound","6.500 X 9.500","Author","Lauri S. Scherer",null,null,null,null,null,null,"Years 12 - 15",null,"Grade 7 - 10","This volume of the Introducing Issues with Opposing Viewpoints series explores many aspects of fast food, including whether fast food is harmful, how fast food should be marketed, and whether there should be restrictions on fast food.","English",42,33.6,"642","144 pp.",{"$f":"Table1[[#This Row],['# of Books]]*Table1[[#This Row],[QTY]]","v":0},{"$f":"Table1[[#This Row],[QTY]]*Table1[[#This Row],[School & Library Price]]","v":0}]
[null,34,null,null,"Current Issues","Introducing Issues with Opposing Viewpoints","Garbage and Recycling","978-0-7377-6277-8","Greenhaven Publishing","Library Bound Book",1,2013,null,"Library Bound","6.500 X 9.500","Author","Cynthia A. Bily",null,null,null,null,null,null,"Years 12 - 15",null,"Grade 7 - 10","IIOVP: The Garbage and Recycling explores different methods for disposing garbage, the role of recycling in managing garbage, and how consumers can reduce the amount of waste produced.","English",42,33.6,"363","128 pp.",{"$f":"Table1[[#This Row],['# of Books]]*Table1[[#This Row],[QTY]]","v":0},{"$f":"Table1[[#This Row],[QTY]]*Table1[[#This Row],[School & Library Price]]","v":0}]
[null,34,null,null,"Current Issues","Introducing Issues with Opposing Viewpoints","Gun Control","978-0-7377-6278-5","Greenhaven Publishing","Library Bound Book",1,2013,null,"Library Bound","6.500 X 9.500","Author","Noël Merino",null,null,null,null,null,null,"Years 12 - 15",null,"Grade 7 - 10","This title explores whether people have the right to have guns, what gun control regulations are effective and necessary, and what measures should be taken to reduce gun violence.","English",42,33.6,"363","136 pp.",{"$f":"Table1[[#This Row],['# of Books]]*Table1[[#This Row],[QTY]]","v":0},{"$f":"Table1[[#This Row],[QTY]]*Table1[[#This Row],[School & Library Price]]","v":0}]
[null,34,null,null,"Current Issues","Introducing Issues with Opposing Viewpoints","Homosexuality","978-0-7377-3852-0","Greenhaven Publishing","Library Bound Book",1,2008,null,"Library Bound","6.500 X 9.500","Author","Emma Bernay",null,null,null,null,null,null,"Years 12 - 15",null,"Grade 7 - 10",null,"English",42,33.6,"306","152 pp.",{"$f":"Table1[[#This Row],['# of Books]]*Table1[[#This Row],[QTY]]","v":0},{"$f":"Table1[[#This Row],[QTY]]*Table1[[#This Row],[School & Library Price]]","v":0}]
[null,34,null,null,"Current Issues","Introducing Issues with Opposing Viewpoints","Islam","978-0-7377-5682-1","Greenhaven Publishing","Library Bound Book",1,2012,null,"Library Bound","6.500 X 9.500","Author","Lauri S. Scherer",null,null,null,null,null,null,"Years 12 - 15",null,"Grade 7 - 10","This addition to the INTRODUCING ISSUES WITH OPPOSING VIEWPOINTS series introducing readers to a variety of issues related to Islam. Articles chosen for the title explore whether or not Islam is a peaceful religion, whether Islam is compatibility with democracy, whether Islam oppresses women, and the status of Islam and Muslims in the United States.","English",42,33.6,"297","144 pp.",{"$f":"Table1[[#This Row],['# of Books]]*Table1[[#This Row],[QTY]]","v":0},{"$f":"Table1[[#This Row],[QTY]]*Table1[[#This Row],[School & Library Price]]","v":0}]
[null,34,null,null,"Current Issues","Introducing Issues with Opposing Viewpoints","Media Bias","978-0-7377-7236-4","Greenhaven Publishing","Library Bound Book",1,2015,null,"Library Bound","6.500 X 9.500","Author","Ebonie Ledbetter",null,null,null,null,null,null,"Years 12 - 15",null,"Grade 7 - 10","The title in the Introducing Issues with OPPOSING VIEWPOINTS SERIES examines the facets of media bias: is it real; does it matter; is it polarized into liberal and conservative issues; does big business play a part; and how does it affect society.","English",42,33.6,"302","160 pp.",{"$f":"Table1[[#This Row],['# of Books]]*Table1[[#This Row],[QTY]]","v":0},{"$f":"Table1[[#This Row],[QTY]]*Table1[[#This Row],[School & Library Price]]","v":0}]
[null,35,null,null,"Current Issues","Introducing Issues with Opposing Viewpoints","Native Americans","978-0-7377-3977-0","Greenhaven Publishing","Library Bound Book",1,2008,null,"Library Bound","6.500 X 9.500","Author","Noël Merino",null,null,null,null,null,null,"Years 12 - 15",null,"Grade 7 - 10",null,"English",42,33.6,"305","120 pp.",{"$f":"Table1[[#This Row],['# of Books]]*Table1[[#This Row],[QTY]]","v":0},{"$f":"Table1[[#This Row],[QTY]]*Table1[[#This Row],[School & Library Price]]","v":0}]
[null,35,null,null,"Current Issues","Introducing Issues with Opposing Viewpoints","Obesity","978-0-7377-5083-6","Greenhaven Publishing","Library Bound Book",1,2011,null,"Library Bound","6.500 X 9.500","Author","Lauri S. Friedman",null,null,null,null,null,null,"Years 12 - 15",null,"Grade 7 - 10",null,"English",42,33.6,"616","144 pp.",{"$f":"Table1[[#This Row],['# of Books]]*Table1[[#This Row],[QTY]]","v":0},{"$f":"Table1[[#This Row],[QTY]]*Table1[[#This Row],[School & Library Price]]","v":0}]
[null,35,null,null,"Current Issues","Introducing Issues with Opposing Viewpoints","Oceans","978-0-7377-5200-7","Greenhaven Publishing","Library Bound Book",1,2011,null,"Library Bound","6.500 X 9.500","Author","Lauri S. Friedman",null,null,null,null,null,null,"Years 12 - 15",null,"Grade 7 - 10",null,"English",42,33.6,"333","144 pp.",{"$f":"Table1[[#This Row],['# of Books]]*Table1[[#This Row],[QTY]]","v":0},{"$f":"Table1[[#This Row],[QTY]]*Table1[[#This Row],[School & Library Price]]","v":0}]
[null,35,null,null,"Current Issues","Introducing Issues with Opposing Viewpoints","Paranormal Phenomena","978-0-7377-5684-5","Greenhaven Publishing","Library Bound Book",1,2012,null,"Library Bound","6.500 X 9.500","Author","Norah Piehl",null,null,null,null,null,null,"Years 12 - 15",null,"Grade 7 - 10",null,"English",42,33.6,"130","136 pp.",{"$f":"Table1[[#This Row],['# of Books]]*Table1[[#This Row],[QTY]]","v":0},{"$f":"Table1[[#This Row],[QTY]]*Table1[[#This Row],[School & Library Price]]","v":0}]
[null,35,null,null,"Current Issues","Introducing Issues with Opposing Viewpoints","Religion in Schools","978-0-7377-5685-2","Greenhaven Publishing","Library Bound Book",1,2012,null,"Library Bound","6.500 X 9.500","Author","Noël Merino",null,null,null,null,null,null,"Years 12 - 15",null,"Grade 7 - 10","The edition of the INTRODUCING ISSUES WITH OPPOSING VIEWPOINTS series examines the role of religion in schools. Topics include whether or not religion should be allowed in public schools; teaching alternatives to evolution theory; and religious activities—such as prayer, moments of silence, and certain holiday-related events—in public schools.","English",42,33.6,"379","128 pp.",{"$f":"Table1[[#This Row],['# of Books]]*Table1[[#This Row],[QTY]]","v":0},{"$f":"Table1[[#This Row],[QTY]]*Table1[[#This Row],[School & Library Price]]","v":0}]
[null,35,null,null,"Current Issues","Introducing Issues with Opposing Viewpoints","Self-Injury","978-0-7377-6280-8","Greenhaven Publishing","Library Bound Book",1,2013,null,"Library Bound","6.500 X 9.500","Author","Mary E. Williams",null,null,null,null,null,null,"Years 12 - 15",null,"Grade 7 - 10","IIOVP: Self-Injury examines those who are affected by self-injury, the reasons people self-injure, and ways that self-injurers can be helped.","English",42,33.6,"616","128 pp.",{"$f":"Table1[[#This Row],['# of Books]]*Table1[[#This Row],[QTY]]","v":0},{"$f":"Table1[[#This Row],[QTY]]*Table1[[#This Row],[School & Library Price]]","v":0}]
[null,35,null,null,"Current Issues","Introducing Issues with Opposing Viewpoints","Standardized Testing","978-0-7377-5202-1","Greenhaven Publishing","Library Bound Book",1,2011,null,"Library Bound","6.500 X 9.500","Author","Cynthia A. Bily",null,null,null,null,null,null,"Years 12 - 15",null,"Grade 7 - 10",null,"English",42,33.6,"371","144 pp.",{"$f":"Table1[[#This Row],['# of Books]]*Table1[[#This Row],[QTY]]","v":0},{"$f":"Table1[[#This Row],[QTY]]*Table1[[#This Row],[School & Library Price]]","v":0}]
[null,35,null,null,"Current Issues","Introducing Issues with Opposing Viewpoints","Synthetic Drugs","978-0-7377-6929-6","Greenhaven Publishing","Library Bound Book",1,2014,null,"Library Bound","6.500 X 9.500","Author","Mary E. Williams",null,null,null,null,null,null,"Years 12 - 15",null,"Grade 7 - 10","This title explores many aspects of synthetic drugs, including whether synthetic drug abuse is a serious problem, what the best way to prevent synthetic drug abuse is, and whether some synthetic drugs should be used therapeutically.","English",42,33.6,"363","136 pp.",{"$f":"Table1[[#This Row],['# of Books]]*Table1[[#This Row],[QTY]]","v":0},{"$f":"Table1[[#This Row],[QTY]]*Table1[[#This Row],[School & Library Price]]","v":0}]
[null,35,null,null,"Current Issues","Introducing Issues with Opposing Viewpoints","Television","978-0-7377-3853-7","Greenhaven Publishing","Library Bound Book",1,2008,null,"Library Bound","6.500 X 9.500","Author","Emma Bernay",null,null,null,null,null,null,"Years 12 - 15",null,"Grade 7 - 10",null,"English",42,33.6,"302","120 pp.",{"$f":"Table1[[#This Row],['# of Books]]*Table1[[#This Row],[QTY]]","v":0},{"$f":"Table1[[#This Row],[QTY]]*Table1[[#This Row],[School & Library Price]]","v":0}]
[null,35,null,null,"Current Issues","Introducing Issues with Opposing Viewpoints","Terrorism","978-0-7377-4944-1","Greenhaven Publishing","Library Bound Book",1,2011,null,"Library Bound","6.500 X 9.500","Author","Lauri S. Friedman",null,null,null,null,null,null,"Years 12 - 15",null,"Grade 7 - 10",null,"English",42,33.6,"363","168 pp.",{"$f":"Table1[[#This Row],['# of Books]]*Table1[[#This Row],[QTY]]","v":0},{"$f":"Table1[[#This Row],[QTY]]*Table1[[#This Row],[School & Library Price]]","v":0}]
[null,35,null,null,"Current Issues","Introducing Issues with Opposing Viewpoints","The Internet","978-0-7377-3567-3","Greenhaven Publishing","Library Bound Book",1,2008,null,"Library Bound","6.500 X 9.500","Author","Lauri S. Friedman",null,null,null,null,null,null,"Years 12 - 15",null,"Grade 7 - 10",null,"English",42,33.6,"303","136 pp.",{"$f":"Table1[[#This Row],['# of Books]]*Table1[[#This Row],[QTY]]","v":0},{"$f":"Table1[[#This Row],[QTY]]*Table1[[#This Row],[School & Library Price]]","v":0}]
[null,35,null,null,"Current Issues","Introducing Issues with Opposing Viewpoints","The Taliban","978-0-7377-6283-9","Greenhaven Publishing","Library Bound Book",1,2013,null,"Library Bound","6.500 X 9.500","Author","Lauri S. Scherer",null,null,null,null,null,null,"Years 12 - 15",null,"Grade 7 - 10","IIOVP: The Taliban explores the questions of how powerful the Taliban is, the relationship between the Taliban and Afghanistan's drug trade, and how the US should deal with the Taliban going forward.","English",42,33.6,"958","136 pp.",{"$f":"Table1[[#This Row],['# of Books]]*Table1[[#This Row],[QTY]]","v":0},{"$f":"Table1[[#This Row],[QTY]]*Table1[[#This Row],[School & Library Price]]","v":0}]
[null,35,null,null,"Current Issues","Introducing Issues with Opposing Viewpoints","Vaccines","978-0-7377-6112-2","Greenhaven Publishing","Library Bound Book",1,2011,null,"Library Bound","6.500 X 9.500","Author","Noël Merino",null,null,null,null,null,null,"Years 12 - 15",null,"Grade 7 - 10",null,"English",42,33.6,"615","128 pp.",{"$f":"Table1[[#This Row],['# of Books]]*Table1[[#This Row],[QTY]]","v":0},{"$f":"Table1[[#This Row],[QTY]]*Table1[[#This Row],[School & Library Price]]","v":0}]
[null,35,null,null,"Current Issues","Introducing Issues with Opposing Viewpoints","War","978-0-7377-4484-2","Greenhaven Publishing","Library Bound Book",1,2010,null,"Library Bound","6.500 X 9.500","Author","Lauri S. Friedman",null,null,null,null,null,null,"Years 12 - 15",null,"Grade 7 - 10",null,"English",42,33.6,"303","160 pp.",{"$f":"Table1[[#This Row],['# of Books]]*Table1[[#This Row],[QTY]]","v":0},{"$f":"Table1[[#This Row],[QTY]]*Table1[[#This Row],[School & Library Price]]","v":0}]
[null,35,null,null,"Current Issues","Introducing Issues with Opposing Viewpoints","Women's Rights","978-0-7377-4486-6","Greenhaven Publishing","Library Bound Book",1,2010,null,"Library Bound","6.500 X 9.500","Author","Lauri S. Friedman",null,null,null,null,null,null,"Years 12 - 15",null,"Grade 7 - 10",null,"English",42,33.6,"305","144 pp.",{"$f":"Table1[[#This Row],['# of Books]]*Table1[[#This Row],[QTY]]","v":0},{"$f":"Table1[[#This Row],[QTY]]*Table1[[#This Row],[School & Library Price]]","v":0}]
[null,37,null,null,"Current Issues","Confronting Global Warming","Extreme Weather","978-0-7377-5516-9","Greenhaven Publishing","eBook",1,2011,null,"eBook",null,"Author","Tom Streissguth",null,null,null,null,null,null,"Years 15 - 17",null,"Grade 10 - 12","Explores the relationship between global climate change and extreme weather, including air and water chemistry; solar radiation; hurricanes and tropical cyclones; heat waves and other potential future warming; drought, from the Dust Bowl of the 1930s to the current water crisis in California; and the impacts of rainfall, flooding, and El Ni&#241;o.","English",48.73,48.73,"551.5","128 pp.",{"$f":"Table1[[#This Row],['# of Books]]*Table1[[#This Row],[QTY]]","v":0},{"$f":"Table1[[#This Row],[QTY]]*Table1[[#This Row],[School & Library Price]]","v":0}]
[null,37,null,null,"Current Issues","Confronting Global Warming","Health and Disease","978-0-7377-4858-1","Greenhaven Publishing","Library Bound Book",1,2011,null,"Library Bound","6.000 X 9.000","Author","Diane Andrews Henningfeld",null,null,null,null,null,null,"Years 15 - 17",null,"Grade 10 - 12","Explores the effects of global warming on human health, examining the impacts of extreme cold snaps; issues arising from aridity; the health dangers posed by hurricanes and floods; diminished air capacity from smog, pollution, the ozone, and aero-allergens; global warming and infectious disease; food security and food safety.","English",44.3,35.44,"363","144 pp.",{"$f":"Table1[[#This Row],['# of Books]]*Table1[[#This Row],[QTY]]","v":0},{"$f":"Table1[[#This Row],[QTY]]*Table1[[#This Row],[School & Library Price]]","v":0}]
[null,37,null,null,"Current Issues","Confronting Global Warming","Health and Disease","978-0-7377-5517-6","Greenhaven Publishing","eBook",1,2011,null,"eBook",null,"Author","Diane Andrews Henningfeld",null,null,null,null,null,null,"Years 15 - 17",null,"Grade 10 - 12","Explores the effects of global warming on human health, examining the impacts of extreme cold snaps; issues arising from aridity; the health dangers posed by hurricanes and floods; diminished air capacity from smog, pollution, the ozone, and aero-allergens; global warming and infectious disease; food security and food safety.","English",48.73,48.73,"363.738","144 pp.",{"$f":"Table1[[#This Row],['# of Books]]*Table1[[#This Row],[QTY]]","v":0},{"$f":"Table1[[#This Row],[QTY]]*Table1[[#This Row],[School & Library Price]]","v":0}]
[null,37,null,null,"Current Issues","Confronting Global Warming","Population, Resources, and Conflict","978-0-7377-5175-8","Greenhaven Publishing","Library Bound Book",1,2011,null,"Library Bound","6.000 X 9.000","Author","Jacqueline Langwith",null,null,null,null,null,null,"Years 15 - 17",null,"Grade 10 - 12",null,"English",44.3,35.44,"363","136 pp.",{"$f":"Table1[[#This Row],['# of Books]]*Table1[[#This Row],[QTY]]","v":0},{"$f":"Table1[[#This Row],[QTY]]*Table1[[#This Row],[School & Library Price]]","v":0}]
[null,37,null,null,"Current Issues","Confronting Global Warming","The Role of Industry","978-0-7377-5477-3","Greenhaven Publishing","eBook",1,2011,null,"eBook",null,"Author","Tom Streissguth",null,null,null,null,null,null,"Years 15 - 17",null,"Grade 10 - 12","Explores in detail the range of current and impending challenges the planet faces as a result of global warming. Examines these issues from a variety of expert perspectives, highlights key future challenges, and addresses the pros and cons of potential solutions. This volume focuses on the role of industry.","English",48.73,48.73,"363.738741","168 pp.",{"$f":"Table1[[#This Row],['# of Books]]*Table1[[#This Row],[QTY]]","v":0},{"$f":"Table1[[#This Row],[QTY]]*Table1[[#This Row],[School & Library Price]]","v":0}]
[null,37,null,null,"Current Issues","Confronting Global Warming","Water and Ice","978-0-7377-4861-1","Greenhaven Publishing","Library Bound Book",1,2011,null,"Library Bound","6.000 X 9.000","Author","Noah Berlatsky",null,null,null,null,null,null,"Years 15 - 17",null,"Grade 10 - 12",null,"English",44.3,35.44,"363","128 pp.",{"$f":"Table1[[#This Row],['# of Books]]*Table1[[#This Row],[QTY]]","v":0},{"$f":"Table1[[#This Row],[QTY]]*Table1[[#This Row],[School & Library Price]]","v":0}]
[null,38,null,null,"Current Issues","Issues on Trial","Adoption","978-0-7377-4342-5","Greenhaven Publishing","Library Bound Book",1,2009,null,"Library Bound","6.000 X 9.000","Author","Tracey Biscontini",null,null,null,null,null,null,"Years 15 - 17",null,"Grade 10 - 12",null,"English",48.3,38.64,"362","176 pp.",{"$f":"Table1[[#This Row],['# of Books]]*Table1[[#This Row],[QTY]]","v":0},{"$f":"Table1[[#This Row],[QTY]]*Table1[[#This Row],[School & Library Price]]","v":0}]
[null,38,null,null,"Current Issues","Issues on Trial","Gun Control","978-0-7377-3806-3","Greenhaven Publishing","Library Bound Book",1,2008,null,"Library Bound","6.000 X 9.000","Author","Justin Karr",null,null,null,null,null,null,"Years 15 - 17",null,"Grade 10 - 12",null,"English",48.3,38.64,"363","232 pp.",{"$f":"Table1[[#This Row],['# of Books]]*Table1[[#This Row],[QTY]]","v":0},{"$f":"Table1[[#This Row],[QTY]]*Table1[[#This Row],[School & Library Price]]","v":0}]
[null,38,null,null,"Current Issues","Issues on Trial","Marriage","978-0-7377-4490-3","Greenhaven Publishing","Library Bound Book",1,2009,null,"Library Bound","6.000 X 9.000","Author","Noël Merino",null,null,null,null,null,null,"Years 15 - 17",null,"Grade 10 - 12",null,"English",48.3,38.64,"306","200 pp.",{"$f":"Table1[[#This Row],['# of Books]]*Table1[[#This Row],[QTY]]","v":0},{"$f":"Table1[[#This Row],[QTY]]*Table1[[#This Row],[School & Library Price]]","v":0}]
[null,38,null,null,"Current Issues","Issues on Trial","Pollution","978-0-7377-4181-0","Greenhaven Publishing","Library Bound Book",1,2009,null,"Library Bound","6.000 X 9.000","Author","Jeff Hay",null,null,null,null,null,null,"Years 15 - 17",null,"Grade 10 - 12",null,"English",48.3,38.64,"363","176 pp.",{"$f":"Table1[[#This Row],['# of Books]]*Table1[[#This Row],[QTY]]","v":0},{"$f":"Table1[[#This Row],[QTY]]*Table1[[#This Row],[School & Library Price]]","v":0}]
[null,38,null,null,"Current Issues","Issues on Trial","Prison","978-0-7377-4344-9","Greenhaven Publishing","Library Bound Book",1,2009,null,"Library Bound","6.000 X 9.000","Author","Noël Merino",null,null,null,null,null,null,"Years 15 - 17",null,"Grade 10 - 12",null,"English",48.3,38.64,"365","216 pp.",{"$f":"Table1[[#This Row],['# of Books]]*Table1[[#This Row],[QTY]]","v":0},{"$f":"Table1[[#This Row],[QTY]]*Table1[[#This Row],[School & Library Price]]","v":0}]
[null,38,null,null,"Current Issues","Issues on Trial","Sex Discrimination","978-0-7377-4740-9","Greenhaven Publishing","Library Bound Book",1,2010,null,"Library Bound","6.000 X 9.000","Author","Noël Merino",null,null,null,null,null,null,"Years 15 - 17",null,"Grade 10 - 12","Examines four Supreme Court rulings on sexual discrimination, including dissenting opinions and related debate. Frontiero v. Richardson (1973) addressed differential treatment of male and female service members; Orr v. Orr (1979) struck down statutes requiring alimony from husbands and not wives; Johnson v. Transportation Agency (1987) upheld affirmative action for women; and Ledbetter v. Goodyear (2007) validated limits on suing employers for sex discrimination.","English",48.3,38.64,"342","192 pp.",{"$f":"Table1[[#This Row],['# of Books]]*Table1[[#This Row],[QTY]]","v":0},{"$f":"Table1[[#This Row],[QTY]]*Table1[[#This Row],[School & Library Price]]","v":0}]
[null,38,null,null,"Current Issues","Issues on Trial","The War on Drugs","978-0-7377-4346-3","Greenhaven Publishing","Library Bound Book",1,2009,null,"Library Bound","6.000 X 9.000","Author","Sylvia Engdahl",null,null,null,null,null,null,"Years 15 - 17",null,"Grade 10 - 12",null,"English",48.3,38.64,"363","208 pp.",{"$f":"Table1[[#This Row],['# of Books]]*Table1[[#This Row],[QTY]]","v":0},{"$f":"Table1[[#This Row],[QTY]]*Table1[[#This Row],[School & Library Price]]","v":0}]
[null,39,null,null,"Current Issues","Issues That Concern You","Activism","978-0-7377-5043-0","Greenhaven Publishing","eBook",1,2010,null,"eBook",null,"Author","Jill Hamilton",null,null,null,null,null,null,"Years 12 - 15",null,"Grade 7 - 10",null,"English",46.2,46.2,"303.484","120 pp.",{"$f":"Table1[[#This Row],['# of Books]]*Table1[[#This Row],[QTY]]","v":0},{"$f":"Table1[[#This Row],[QTY]]*Table1[[#This Row],[School & Library Price]]","v":0}]
[null,39,null,null,"Current Issues","Issues That Concern You","Adoption","978-0-7377-5688-3","Greenhaven Publishing","Library Bound Book",1,2012,null,"Library Bound","7.000 X 9.000","Author","Laurie Willis",null,null,null,null,null,null,"Years 12 - 15",null,"Grade 7 - 10","This title in the ISSUES THAT CONCERN YOU series explores the topic of adoption. The included articles address open adoption; issues specific to adopted children, such as discussing one’s adopted status and searching for birth parents; transracial adoptions and diversity; challenges faced by gay and lesbian adoptive parents; and challenges faced by adopted children from other countries and cultures.","English",42,33.6,"362","104 pp.",{"$f":"Table1[[#This Row],['# of Books]]*Table1[[#This Row],[QTY]]","v":0},{"$f":"Table1[[#This Row],[QTY]]*Table1[[#This Row],[School & Library Price]]","v":0}]
[null,39,null,null,"Current Issues","Issues That Concern You","Anxiety Disorders","978-0-7377-5127-7","Greenhaven Publishing","eBook",1,2010,null,"eBook",null,"Author","Brian Kennedy",null,null,null,null,null,null,"Years 12 - 15",null,"Grade 7 - 10","This volume provides an overview of anxiety disorders and their impact on teens. Chapters examine test anxiety, separation anxiety, social anxiety, post-traumatic stress and obsessive-compulsive disorder, and discuss the importance of teen mental health checkups, current treatment opinions, and related controversies.","English",46.2,46.2,"616.8522","112 pp.",{"$f":"Table1[[#This Row],['# of Books]]*Table1[[#This Row],[QTY]]","v":0},{"$f":"Table1[[#This Row],[QTY]]*Table1[[#This Row],[School & Library Price]]","v":0}]
[null,39,null,null,"Current Issues","Issues That Concern You","Birth Control","978-0-7377-6602-8","Greenhaven Publishing","eBook",1,2012,null,"eBook",null,"Author","Roman Espejo",null,null,null,null,null,null,"Years 12 - 15",null,"Grade 7 - 10","This title in the ISSUES THAT CONCERN YOU series explores issues related to birth control and young adults. Covered topics include the role of parents in providing guidance about sex and birth control; abstinence-only education; birth control services in schools; and the impact of certain birth control devices, including IUDs, \"morning after\" pills, and condoms.","English",46.2,46.2,"304.6","120 pp.",{"$f":"Table1[[#This Row],['# of Books]]*Table1[[#This Row],[QTY]]","v":0},{"$f":"Table1[[#This Row],[QTY]]*Table1[[#This Row],[School & Library Price]]","v":0}]
[null,39,null,null,"Current Issues","Issues That Concern You","Body Piercing and Tattoos","978-0-7377-7339-2","Greenhaven Publishing","eBook",1,2015,null,"eBook",null,"Author","Hester Furey",null,null,null,null,null,null,"Years 12 - 15",null,"Grade 7 - 10","ISSUES THAT CONCERN YOU: BODY PIERCING AND TATTOOS examines why people get tattoos, including communicating something about oneself, mainstream culture, and representing a struggle to survive.","English",46.2,46.2,"391.6","104 pp.",{"$f":"Table1[[#This Row],['# of Books]]*Table1[[#This Row],[QTY]]","v":0},{"$f":"Table1[[#This Row],[QTY]]*Table1[[#This Row],[School & Library Price]]","v":0}]
[null,39,null,null,"Current Issues","Issues That Concern You","Body Piercing and Tattoos","978-0-7377-7238-8","Greenhaven Publishing","Library Bound Book",1,2015,null,"Library Bound","7.000 X 9.000","Author","Hester Furey",null,null,null,null,null,null,"Years 12 - 15",null,"Grade 7 - 10","ISSUES THAT CONCERN YOU: BODY PIERCING AND TATTOOS examines why people get tattoos, including communicating something about oneself, mainstream culture, and representing a struggle to survive.","English",42,33.6,"391","104 pp.",{"$f":"Table1[[#This Row],['# of Books]]*Table1[[#This Row],[QTY]]","v":0},{"$f":"Table1[[#This Row],[QTY]]*Table1[[#This Row],[School & Library Price]]","v":0}]
[null,39,null,null,"Current Issues","Issues That Concern You","Censorship","978-0-7377-5275-5","Greenhaven Publishing","eBook",1,2010,null,"eBook",null,"Author","Ronald D. Lankford",null,null,null,null,null,null,"Years 12 - 15",null,"Grade 7 - 10","This Issues That Concern You title deals with the subject of censorship. Recognizing the intimate relationship between subject and reader, the series weaves together different points of view to make these complex issues less intimidating and more accessible.","English",46.2,46.2,"363.310973","128 pp.",{"$f":"Table1[[#This Row],['# of Books]]*Table1[[#This Row],[QTY]]","v":0},{"$f":"Table1[[#This Row],[QTY]]*Table1[[#This Row],[School & Library Price]]","v":0}]
[null,39,null,null,"Current Issues","Issues That Concern You","Child Labor","978-0-7377-5690-6","Greenhaven Publishing","Library Bound Book",1,2012,null,"Library Bound","7.000 X 9.000","Author","Laurie Willis",null,null,null,null,null,null,"Years 12 - 15",null,"Grade 7 - 10",null,"English",42,33.6,"331","120 pp.",{"$f":"Table1[[#This Row],['# of Books]]*Table1[[#This Row],[QTY]]","v":0},{"$f":"Table1[[#This Row],[QTY]]*Table1[[#This Row],[School & Library Price]]","v":0}]
[null,39,null,null,"Current Issues","Issues That Concern You","Choosing a College","978-0-7377-5691-3","Greenhaven Publishing","Library Bound Book",1,2012,null,"Library Bound","7.000 X 9.000","Author","Norah Peihl",null,null,null,null,null,null,"Years 12 - 15",null,"Grade 7 - 10","This title introduces some of the factors young people consider as they evaluate their college options. Through articles from a variety of sources, the book provides an overview of practical considerations such as hiring an admissions adviser and making a college visit. It also examines some of the special issues of interest to women, students of color, athletes, and students with special needs. Finally, it offers students alternatives to the traditional college path, including community colleges, gap years, or opting out of college altogether.","English",42,33.6,"378","128 pp.",{"$f":"Table1[[#This Row],['# of Books]]*Table1[[#This Row],[QTY]]","v":0},{"$f":"Table1[[#This Row],[QTY]]*Table1[[#This Row],[School & Library Price]]","v":0}]
[null,39,null,null,"Current Issues","Issues That Concern You","Consumer Culture","978-0-7377-5923-5","Greenhaven Publishing","eBook",1,2011,null,"eBook",null,"Author","Heidi Watkins",null,null,null,null,null,null,"Years 12 - 15",null,"Grade 7 - 10","Consumer Culture examines the various aspects and influence of consumerism on teens today. From the potential harm posed to children and teens, to the relationship between high socio-economic status and depression; from the benefits -- and drawbacks -- of rejecting consumerism, to the relationship between advertising and overconsumption, this volume provides up-to-date information and insight on changing teen and American spending habits.","English",46.2,46.2,"306.30973","104 pp.",{"$f":"Table1[[#This Row],['# of Books]]*Table1[[#This Row],[QTY]]","v":0},{"$f":"Table1[[#This Row],[QTY]]*Table1[[#This Row],[School & Library Price]]","v":0}]
[null,40,null,null,"Current Issues","Issues That Concern You","Cyberbullying","978-0-7377-6521-2","Greenhaven Publishing","eBook",1,2012,null,"eBook",null,"Author","Tamara L. Roleff",null,null,null,null,null,null,"Years 12 - 15",null,"Grade 7 - 10","This title in the ISSUES THAT CONCERN YOU series explores issues related to cyberbullying. Through articles from a variety of sources, the book addresses whether or not cyberbullying is a serious problem, the impact of cyberbullying, the effectiveness of criminalizing cyberbullying, and the role of schools and parents in addressing cyberbullying incidents.","English",46.2,46.2,"302.34","104 pp.",{"$f":"Table1[[#This Row],['# of Books]]*Table1[[#This Row],[QTY]]","v":0},{"$f":"Table1[[#This Row],[QTY]]*Table1[[#This Row],[School & Library Price]]","v":0}]
[null,40,null,null,"Current Issues","Issues That Concern You","Date Rape","978-0-7377-6677-6","Greenhaven Publishing","eBook",1,2013,null,"eBook",null,"Author","Norah Piehl",null,null,null,null,null,null,"Years 12 - 15",null,"Grade 7 - 10","This title explores issues related to date rape, including: how date rape is defined, the consequences of date rape, how date rape can be prevented.","English",46.2,46.2,"364.15","112 pp.",{"$f":"Table1[[#This Row],['# of Books]]*Table1[[#This Row],[QTY]]","v":0},{"$f":"Table1[[#This Row],[QTY]]*Table1[[#This Row],[School & Library Price]]","v":0}]
[null,40,null,null,"Current Issues","Issues That Concern You","Dating","978-0-7377-6288-4","Greenhaven Publishing","Library Bound Book",1,2014,null,"Library Bound","7.000 X 9.000","Author","Lauri S. Scherer",null,null,null,null,null,null,"Years 12 - 15",null,"Grade 7 - 10","This title explores issues related to dating including why dating is a dying practice; dating websites; online dating; teens and dating violence; date rape; student-teacher dating; and couples living together before marriage.","English",42,33.6,"392","128 pp.",{"$f":"Table1[[#This Row],['# of Books]]*Table1[[#This Row],[QTY]]","v":0},{"$f":"Table1[[#This Row],[QTY]]*Table1[[#This Row],[School & Library Price]]","v":0}]
[null,40,null,null,"Current Issues","Issues That Concern You","Death and Dying","978-0-7377-7046-9","Greenhaven Publishing","eBook",1,2014,null,"eBook",null,"Author","Lauri S. Scherer",null,null,null,null,null,null,"Years 12 - 15",null,"Grade 7 - 10","This title explores issues related to death and dying. Presents differing views on the various social aspects surrounding death and dying worldwide. Causes of death are examined, including increases in mortality due to AIDS in Africa, drug abuse in Scotland, and suicide in Ireland. Chapters discuss access to palliative end-of-life care and assisted suicide; influences of the world’s major religions and their beliefs, traditions and rituals surrounding death; and funeral practices around the world.","English",46.2,46.2,"362.175","104 pp.",{"$f":"Table1[[#This Row],['# of Books]]*Table1[[#This Row],[QTY]]","v":0},{"$f":"Table1[[#This Row],[QTY]]*Table1[[#This Row],[School & Library Price]]","v":0}]
[null,40,null,null,"Current Issues","Issues That Concern You","Dieting","978-0-7377-6938-8","Greenhaven Publishing","Library Bound Book",1,2014,null,"Library Bound","7.000 X 9.000","Author","Arthur Gillard",null,null,null,null,null,null,"Years 12 - 15",null,"Grade 7 - 10","Title explores issues related to dieting, including: effectiveness of dieting, effectiveness of willpower; yo-yo dieting; eating mindfully; healthy at any weight; government's role in combating obesity; obesity epidemic.","English",42,33.6,"613","112 pp.",{"$f":"Table1[[#This Row],['# of Books]]*Table1[[#This Row],[QTY]]","v":0},{"$f":"Table1[[#This Row],[QTY]]*Table1[[#This Row],[School & Library Price]]","v":0}]
[null,40,null,null,"Current Issues","Issues That Concern You","Discrimination","978-0-7377-3813-1","Greenhaven Publishing","Library Bound Book",1,2008,null,"Library Bound","7.000 X 9.000","Author","Lauri S. Friedman",null,null,null,null,null,null,"Years 12 - 15",null,"Grade 7 - 10",null,"English",42,33.6,"305","144 pp.",{"$f":"Table1[[#This Row],['# of Books]]*Table1[[#This Row],[QTY]]","v":0},{"$f":"Table1[[#This Row],[QTY]]*Table1[[#This Row],[School & Library Price]]","v":0}]
[null,40,null,null,"Current Issues","Issues That Concern You","Dress Codes in Schools","978-0-7377-6930-2","Greenhaven Publishing","Library Bound Book",1,2014,null,"Library Bound","7.000 X 9.000","Author","Cynthia A. Bily",null,null,null,null,null,null,"Years 12 - 15",null,"Grade 7 - 10","This title addresses the issue of dress codes in schools, including: dress codes help students learn; dress codes set the proper tone; safety and dress codes; accessories and students' individuality; constitution and dress codes.","English",42,33.6,"371","104 pp.",{"$f":"Table1[[#This Row],['# of Books]]*Table1[[#This Row],[QTY]]","v":0},{"$f":"Table1[[#This Row],[QTY]]*Table1[[#This Row],[School & Library Price]]","v":0}]
[null,40,null,null,"Current Issues","Issues That Concern You","Drug Abuse","978-0-7377-6779-7","Greenhaven Publishing","eBook",1,2013,null,"eBook",null,"Author","Arthur Gillard",null,null,null,null,null,null,"Years 12 - 15",null,"Grade 7 - 10","This title addresses the problem of drug abuse, including possible causes; the impact of the war on drugs; the effectiveness of rehabilitation programs; whether drugs should be legalized; and varying methods of preventing drug abuse.","English",46.2,46.2,"362.290835","208 pp.",{"$f":"Table1[[#This Row],['# of Books]]*Table1[[#This Row],[QTY]]","v":0},{"$f":"Table1[[#This Row],[QTY]]*Table1[[#This Row],[School & Library Price]]","v":0}]
[null,40,null,null,"Current Issues","Issues That Concern You","Drunk Driving","978-0-7377-6780-3","Greenhaven Publishing","eBook",1,2013,null,"eBook",null,"Author","Amanda Hiber",null,null,null,null,null,null,"Years 12 - 15",null,"Grade 7 - 10","Title explores issues related to drunk driving, including: the effectiveness of drunk driving laws; use of anonymous tips; undocumented immigrants; sobriety check points; ignition interlock devices; the minimum legal drinking age.","English",46.2,46.2,"363.12","120 pp.",{"$f":"Table1[[#This Row],['# of Books]]*Table1[[#This Row],[QTY]]","v":0},{"$f":"Table1[[#This Row],[QTY]]*Table1[[#This Row],[School & Library Price]]","v":0}]
[null,40,null,null,"Current Issues","Issues That Concern You","Eating Disorders","978-0-7377-7239-5","Greenhaven Publishing","Library Bound Book",1,2015,null,"Library Bound","7.000 X 9.000","Author","Julia Garbus",null,null,null,null,null,null,"Years 12 - 15",null,"Grade 7 - 10","This title explores issues related to eating disorders, including factors that do or do not contribute to eating disorders, and treatment and recovery of eating disorders.","English",42,33.6,"616","108 pp.",{"$f":"Table1[[#This Row],['# of Books]]*Table1[[#This Row],[QTY]]","v":0},{"$f":"Table1[[#This Row],[QTY]]*Table1[[#This Row],[School & Library Price]]","v":0}]
[null,40,null,null,"Current Issues","Issues That Concern You","Endangered Species","978-0-7377-5427-8","Greenhaven Publishing","eBook",1,2010,null,"eBook",null,"Author","Cynthia A. Bily",null,null,null,null,null,null,"Years 12 - 15",null,"Grade 7 - 10",null,"English",46.2,46.2,"333.95","128 pp.",{"$f":"Table1[[#This Row],['# of Books]]*Table1[[#This Row],[QTY]]","v":0},{"$f":"Table1[[#This Row],[QTY]]*Table1[[#This Row],[School & Library Price]]","v":0}]
[null,40,null,null,"Current Issues","Issues That Concern You","Endangered Species","978-0-7377-4953-3","Greenhaven Publishing","Library Bound Book",1,2010,null,"Library Bound","7.000 X 9.000","Author","Cynthia A. Bily",null,null,null,null,null,null,"Years 12 - 15",null,"Grade 7 - 10",null,"English",42,33.6,"333","128 pp.",{"$f":"Table1[[#This Row],['# of Books]]*Table1[[#This Row],[QTY]]","v":0},{"$f":"Table1[[#This Row],[QTY]]*Table1[[#This Row],[School & Library Price]]","v":0}]
[null,40,null,null,"Current Issues","Issues That Concern You","Exercise and Fitness","978-0-7377-6782-7","Greenhaven Publishing","eBook",1,2013,null,"eBook",null,"Author","Laurie Willis",null,null,null,null,null,null,"Years 12 - 15",null,"Grade 7 - 10","Title explores issues related to exercise and fitness, addressing actions that can be taken by families, schools, and communities to improve fitness levels and nutrition and to reduce obesity. Contributors explore evolving physical education programs that include alternative sports and technologies like pedometers and video games to teach students fitness for life.","English",46.2,46.2,"613.7042","120 pp.",{"$f":"Table1[[#This Row],['# of Books]]*Table1[[#This Row],[QTY]]","v":0},{"$f":"Table1[[#This Row],[QTY]]*Table1[[#This Row],[School & Library Price]]","v":0}]
[null,40,null,null,"Current Issues","Issues That Concern You","Gangs","978-0-7377-6783-4","Greenhaven Publishing","eBook",1,2013,null,"eBook",null,"Author","Amanda Hiber",null,null,null,null,null,null,"Years 12 - 15",null,"Grade 7 - 10","Title explores issues related to gangs, including: if gangs are a growing suburban problem; if gang activity is increasing among girls; the role of immigration and gang activity; and measures to reduce gang involvement. Colorful photos, charts, graphs, tables and editorial cartoons reinforce text and present data; resources for further research round out each volume.","English",46.2,46.2,"364.106","128 pp.",{"$f":"Table1[[#This Row],['# of Books]]*Table1[[#This Row],[QTY]]","v":0},{"$f":"Table1[[#This Row],[QTY]]*Table1[[#This Row],[School & Library Price]]","v":0}]
[null,40,null,null,"Current Issues","Issues That Concern You","Girls and Sports","978-0-7377-5693-7","Greenhaven Publishing","Library Bound Book",1,2012,null,"Library Bound","7.000 X 9.000","Author","Laura K. Egendorf",null,null,null,null,null,null,"Years 12 - 15",null,"Grade 7 - 10","This title in the ISSUES THAT CONCERN YOU series explores issues related to girls and sports. Through articles from a variety of sources, the book explores whether or not sports are good for girls' health, how girls are coached differently than boys, the impact of Title IX, cheerleading as a sport, and the effect of sex segregation in boys and girls sports.","English",42,33.6,"796","120 pp.",{"$f":"Table1[[#This Row],['# of Books]]*Table1[[#This Row],[QTY]]","v":0},{"$f":"Table1[[#This Row],[QTY]]*Table1[[#This Row],[School & Library Price]]","v":0}]
[null,40,null,null,"Current Issues","Issues That Concern You","Gun Violence","978-0-7377-6678-3","Greenhaven Publishing","eBook",1,2013,null,"eBook",null,"Author","Lauri S. Scherer",null,null,null,null,null,null,"Years 12 - 15",null,"Grade 7 - 10","This title explores issues related to gun violence, including the threat of gun violence for particular groups, such as women, children, and African Americans, the impact of gun control laws on gun violence, and the pros and cons of restrictions on guns in places such as bars, churches, and schools.","English",46.2,46.2,"363.330973","128 pp.",{"$f":"Table1[[#This Row],['# of Books]]*Table1[[#This Row],[QTY]]","v":0},{"$f":"Table1[[#This Row],[QTY]]*Table1[[#This Row],[School & Library Price]]","v":0}]
[null,40,null,null,"Current Issues","Issues That Concern You","Homelessness","978-0-7377-6525-0","Greenhaven Publishing","eBook",1,2012,null,"eBook",null,"Author","Arthur Gillard",null,null,null,null,null,null,"Years 12 - 15",null,"Grade 7 - 10","This title in the ISSUES THAT CONCERN YOU series explores issues related to homelessness. Through articles from a variety of sources, the book explores topics like tent cities as a temporary answer to long-term housing problem; the impact of “housing first” approaches; whether or not giving money to panhandlers helps the chronically homeless; the long-term effect of homelessness on families; and ways to speak out about homelessness.","English",46.2,46.2,"362.50973","128 pp.",{"$f":"Table1[[#This Row],['# of Books]]*Table1[[#This Row],[QTY]]","v":0},{"$f":"Table1[[#This Row],[QTY]]*Table1[[#This Row],[School & Library Price]]","v":0}]
[null,40,null,null,"Current Issues","Issues That Concern You","Homeschooling","978-0-7377-6296-9","Greenhaven Publishing","Library Bound Book",1,2013,null,"Library Bound","7.000 X 9.000","Author","Heidi Watkins",null,null,null,null,null,null,"Years 12 - 15",null,"Grade 7 - 10","Title explores issues and trends related to the growing practice of homeschooling, examining whether homeschooling produces positive academic outcomes; whether homeschooling supports or violates progressive values; and whether Christian homeschooling limits or expands children's' options.","English",42,33.6,"371","104 pp.",{"$f":"Table1[[#This Row],['# of Books]]*Table1[[#This Row],[QTY]]","v":0},{"$f":"Table1[[#This Row],[QTY]]*Table1[[#This Row],[School & Library Price]]","v":0}]
[null,40,null,null,"Current Issues","Issues That Concern You","Internet Safety","978-0-7377-4837-6","Greenhaven Publishing","eBook",1,2008,null,"eBook",null,"Author","Hayley Mitchell Haugen",null,null,null,null,null,null,"Years 12 - 15",null,"Grade 7 - 10",null,"English",46.2,46.2,"004.67","120 pp.",{"$f":"Table1[[#This Row],['# of Books]]*Table1[[#This Row],[QTY]]","v":0},{"$f":"Table1[[#This Row],[QTY]]*Table1[[#This Row],[School & Library Price]]","v":0}]
[null,40,null,null,"Current Issues","Issues That Concern You","Internet Safety","978-0-7377-3986-2","Greenhaven Publishing","Library Bound Book",1,2008,null,"Library Bound","7.000 X 9.000","Author","Hayley Mitchell Haugen",null,null,null,null,null,null,"Years 12 - 15",null,"Grade 7 - 10",null,"English",42,33.6,"004","120 pp.",{"$f":"Table1[[#This Row],['# of Books]]*Table1[[#This Row],[QTY]]","v":0},{"$f":"Table1[[#This Row],[QTY]]*Table1[[#This Row],[School & Library Price]]","v":0}]
[null,41,null,null,"Current Issues","Issues That Concern You","Learning Disabilities","978-0-7377-6104-7","Greenhaven Publishing","eBook",1,2011,null,"eBook",null,"Author","Arthur Gillard",null,null,null,null,null,null,"Years 12 - 15",null,"Grade 7 - 10",null,"English",46.2,46.2,"371.9","136 pp.",{"$f":"Table1[[#This Row],['# of Books]]*Table1[[#This Row],[QTY]]","v":0},{"$f":"Table1[[#This Row],[QTY]]*Table1[[#This Row],[School & Library Price]]","v":0}]
[null,41,null,null,"Current Issues","Issues That Concern You","Mental Illness","978-0-7377-4599-3","Greenhaven Publishing","eBook",1,2009,null,"eBook",null,"Author","Lorraine Savage",null,null,null,null,null,null,"Years 12 - 15",null,"Grade 7 - 10",null,"English",46.2,46.2,"616.89","112 pp.",{"$f":"Table1[[#This Row],['# of Books]]*Table1[[#This Row],[QTY]]","v":0},{"$f":"Table1[[#This Row],[QTY]]*Table1[[#This Row],[School & Library Price]]","v":0}]
[null,41,null,null,"Current Issues","Issues That Concern You","Nuclear Power","978-0-7377-5696-8","Greenhaven Publishing","Library Bound Book",1,2012,null,"Library Bound","7.000 X 9.000","Author","Arthur Gillard",null,null,null,null,null,null,"Years 12 - 15",null,"Grade 7 - 10",null,"English",42,33.6,"333","136 pp.",{"$f":"Table1[[#This Row],['# of Books]]*Table1[[#This Row],[QTY]]","v":0},{"$f":"Table1[[#This Row],[QTY]]*Table1[[#This Row],[School & Library Price]]","v":0}]
[null,41,null,null,"Current Issues","Issues That Concern You","Peer Pressure","978-0-7377-4596-2","Greenhaven Publishing","eBook",1,2009,null,"eBook",null,"Author","Lorraine Savage",null,null,null,null,null,null,"Years 12 - 15",null,"Grade 7 - 10",null,"English",46.2,46.2,"303.327","96 pp.",{"$f":"Table1[[#This Row],['# of Books]]*Table1[[#This Row],[QTY]]","v":0},{"$f":"Table1[[#This Row],[QTY]]*Table1[[#This Row],[School & Library Price]]","v":0}]
[null,41,null,null,"Current Issues","Issues That Concern You","Pollution","978-0-7377-5267-0","Greenhaven Publishing","eBook",1,2010,null,"eBook",null,"Author","Cynthia A. Bily",null,null,null,null,null,null,"Years 12 - 15",null,"Grade 7 - 10",null,"English",46.2,46.2,"363.7","120 pp.",{"$f":"Table1[[#This Row],['# of Books]]*Table1[[#This Row],[QTY]]","v":0},{"$f":"Table1[[#This Row],[QTY]]*Table1[[#This Row],[School & Library Price]]","v":0}]
[null,41,null,null,"Current Issues","Issues That Concern You","Prejudice","978-0-7377-4349-4","Greenhaven Publishing","Library Bound Book",1,2009,null,"Library Bound","7.000 X 9.000","Author","Crystal McCage",null,null,null,null,null,null,"Years 12 - 15",null,"Grade 7 - 10",null,"English",42,33.6,"305","112 pp.",{"$f":"Table1[[#This Row],['# of Books]]*Table1[[#This Row],[QTY]]","v":0},{"$f":"Table1[[#This Row],[QTY]]*Table1[[#This Row],[School & Library Price]]","v":0}]
[null,41,null,null,"Current Issues","Issues That Concern You","Privacy","978-0-7377-6118-4","Greenhaven Publishing","eBook",1,2011,null,"eBook",null,"Author","Tamara L. Roleff",null,null,null,null,null,null,"Years 12 - 15",null,"Grade 7 - 10","This title considers the importance of privacy in the digital and post-9/11 era. Viewpoints debate the extent to which privacy is necessary, which measures most effectively protect privacy, and how best to balance privacy with national security and other critical issues.","English",46.2,46.2,"323.44","112 pp.",{"$f":"Table1[[#This Row],['# of Books]]*Table1[[#This Row],[QTY]]","v":0},{"$f":"Table1[[#This Row],[QTY]]*Table1[[#This Row],[School & Library Price]]","v":0}]
[null,41,null,null,"Current Issues","Issues That Concern You","Recycling","978-0-7377-6932-6","Greenhaven Publishing","Library Bound Book",1,2014,null,"Library Bound","7.000 X 9.000","Author","Lauri S. Scherer",null,null,null,null,null,null,"Years 12 - 15",null,"Grade 7 - 10","This title explores issues related to recycling, including: effectiveness and necessity of recycling; mandatory recycling; recycling and resources; recycling generates money; recycling wastes money; recycling and jobs; recycling and nuclear waste.","English",42,33.6,"363","96 pp.",{"$f":"Table1[[#This Row],['# of Books]]*Table1[[#This Row],[QTY]]","v":0},{"$f":"Table1[[#This Row],[QTY]]*Table1[[#This Row],[School & Library Price]]","v":0}]
[null,41,null,null,"Current Issues","Issues That Concern You","School Violence","978-0-7377-4594-8","Greenhaven Publishing","eBook",1,2009,null,"eBook",null,"Author","Peggy Daniels",null,null,null,null,null,null,"Years 12 - 15",null,"Grade 7 - 10",null,"English",46.2,46.2,"371.782","128 pp.",{"$f":"Table1[[#This Row],['# of Books]]*Table1[[#This Row],[QTY]]","v":0},{"$f":"Table1[[#This Row],[QTY]]*Table1[[#This Row],[School & Library Price]]","v":0}]
[null,41,null,null,"Current Issues","Issues That Concern You","Sexual Harassment","978-0-7377-7051-3","Greenhaven Publishing","eBook",1,2014,null,"eBook",null,"Author","Arthur Gillard",null,null,null,null,null,null,"Years 12 - 15",null,"Grade 7 - 10","This title explores issues related to sexual harassment, including: sexual harassment and staring; sexual harassment and power; the  problem in shools; online sexual harassment; street harassment and legal regulation; confronting sexual harasssers.","English",46.2,46.2,"305.3","120 pp.",{"$f":"Table1[[#This Row],['# of Books]]*Table1[[#This Row],[QTY]]","v":0},{"$f":"Table1[[#This Row],[QTY]]*Table1[[#This Row],[School & Library Price]]","v":0}]
[null,41,null,null,"Current Issues","Issues That Concern You","Sexually Transmitted Infections","978-0-7377-5699-9","Greenhaven Publishing","Library Bound Book",1,2012,null,"Library Bound","7.000 X 9.000","Author","Heidi Watkins",null,null,null,null,null,null,"Years 12 - 15",null,"Grade 7 - 10",null,"English",42,33.6,"616","120 pp.",{"$f":"Table1[[#This Row],['# of Books]]*Table1[[#This Row],[QTY]]","v":0},{"$f":"Table1[[#This Row],[QTY]]*Table1[[#This Row],[School & Library Price]]","v":0}]
[null,41,null,null,"Current Issues","Issues That Concern You","Social Networking","978-0-7377-7340-8","Greenhaven Publishing","eBook",1,2015,null,"eBook",null,"Author","Daniel Gaetan-Beltran",null,null,null,null,null,null,"Years 12 - 15",null,"Grade 7 - 10","ISSUES THAT CONCERN YOU: SOCIAL NETWORKING examines the positive and negative effects on teens. It explores the new challenges for teen identity development, and explores the ways that social networking makes their lives better, including as an educational tool.","English",46.2,46.2,"302.30285","104 pp.",{"$f":"Table1[[#This Row],['# of Books]]*Table1[[#This Row],[QTY]]","v":0},{"$f":"Table1[[#This Row],[QTY]]*Table1[[#This Row],[School & Library Price]]","v":0}]
[null,41,null,null,"Current Issues","Issues That Concern You","Student Drug Testing","978-0-7377-4834-5","Greenhaven Publishing","eBook",1,2007,null,"eBook",null,"Author","Patty Jo Sawvel",null,null,null,null,null,null,"Years 12 - 15",null,"Grade 7 - 10","President Bush’s 2006 budget has earmarked $25.4 million dollars for increased drug testing of public school students.  Proponents claim that drug testing reduces illegal drug use among students and gives students an alibi for not using.  Opponents claim that drug testing is ineffective at best and possibly even harmful.  Testing can foster distrust, push students toward drugs that aren’t screened for, and inhibit student participation in extracurricular activities.","English",46.2,46.2,"371.7","136 pp.",{"$f":"Table1[[#This Row],['# of Books]]*Table1[[#This Row],[QTY]]","v":0},{"$f":"Table1[[#This Row],[QTY]]*Table1[[#This Row],[School & Library Price]]","v":0}]
[null,41,null,null,"Current Issues","Issues That Concern You","Teen Parenting","978-0-7377-5700-2","Greenhaven Publishing","Library Bound Book",1,2012,null,"Library Bound","7.000 X 9.000","Author","Laurie Willis",null,null,null,null,null,null,"Years 12 - 15",null,"Grade 7 - 10",null,"English",42,33.6,"306","96 pp.",{"$f":"Table1[[#This Row],['# of Books]]*Table1[[#This Row],[QTY]]","v":0},{"$f":"Table1[[#This Row],[QTY]]*Table1[[#This Row],[School & Library Price]]","v":0}]
[null,41,null,null,"Current Issues","Issues That Concern You","Teen Pregnancy","978-0-7377-5045-4","Greenhaven Publishing","eBook",1,2010,null,"eBook",null,"Author","Heidi Williams",null,null,null,null,null,null,"Years 12 - 15",null,"Grade 7 - 10",null,"English",46.2,46.2,"306.8743","144 pp.",{"$f":"Table1[[#This Row],['# of Books]]*Table1[[#This Row],[QTY]]","v":0},{"$f":"Table1[[#This Row],[QTY]]*Table1[[#This Row],[School & Library Price]]","v":0}]
[null,41,null,null,"Current Issues","Issues That Concern You","Teen Suicide","978-0-7377-4497-2","Greenhaven Publishing","Library Bound Book",1,2009,null,"Library Bound","7.000 X 9.000","Author","Heidi Williams",null,null,null,null,null,null,"Years 12 - 15",null,"Grade 7 - 10",null,"English",42,33.6,"362","112 pp.",{"$f":"Table1[[#This Row],['# of Books]]*Table1[[#This Row],[QTY]]","v":0},{"$f":"Table1[[#This Row],[QTY]]*Table1[[#This Row],[School & Library Price]]","v":0}]
[null,42,null,null,"Current Issues","Issues That Concern You","The War in Afghanistan","978-0-7377-6788-9","Greenhaven Publishing","eBook",1,2013,null,"eBook",null,"Author","Arthur Gillard",null,null,null,null,null,null,"Years 12 - 15",null,"Grade 7 - 10","Title addresses the complexities and controversies surrounding the war in Afghanistan, including whether the US can succeed there and whether the war should continue. Commentators also discuss issues such as corruption, the rights of women, and the behavior of US soldiers in Afghanistan.","English",46.2,46.2,"958.104","104 pp.",{"$f":"Table1[[#This Row],['# of Books]]*Table1[[#This Row],[QTY]]","v":0},{"$f":"Table1[[#This Row],[QTY]]*Table1[[#This Row],[School & Library Price]]","v":0}]
[null,42,null,null,"Current Issues","Issues That Concern You","Vegetarianism","978-0-7377-7052-0","Greenhaven Publishing","eBook",1,2014,null,"eBook",null,"Author","Arthur Gillard",null,null,null,null,null,null,"Years 12 - 15",null,"Grade 7 - 10","Title explores issues related to vegetarianism, including: humans as natural vegetarians; vegetarianism as a healthy diet;  moral justification and diet;  animal suffering; vegetarianism and the environment; flexitarianism; eating disorders; vegan and vegetarianism.","English",46.2,46.2,"613.262","104 pp.",{"$f":"Table1[[#This Row],['# of Books]]*Table1[[#This Row],[QTY]]","v":0},{"$f":"Table1[[#This Row],[QTY]]*Table1[[#This Row],[School & Library Price]]","v":0}]
[null,42,null,null,"Current Issues","Issues That Concern You","War","978-0-7377-5701-9","Greenhaven Publishing","Library Bound Book",1,2012,null,"Library Bound","7.000 X 9.000","Author","Arthur Gillard",null,null,null,null,null,null,"Years 12 - 15",null,"Grade 7 - 10","This addition to the ISSUES THAT CONCERN YOU series explores issues related to war. Topics covered include the nature and costs of war, remote-control and cyberwarfare, climate change impact as a catalyst for war, the toll that post-traumatic stress takes on soldiers, the War on Terror, and the war in Afghanistan.","English",42,33.6,"303","128 pp.",{"$f":"Table1[[#This Row],['# of Books]]*Table1[[#This Row],[QTY]]","v":0},{"$f":"Table1[[#This Row],[QTY]]*Table1[[#This Row],[School & Library Price]]","v":0}]
[null,42,null,null,"Current Issues","Issues That Concern You","Zero Tolerance Policies in Schools","978-0-7377-4816-1","Greenhaven Publishing","eBook",1,2009,null,"eBook",null,"Author","Peggy Daniels",null,null,null,null,null,null,"Years 12 - 15",null,"Grade 7 - 10",null,"English",46.2,46.2,"371.50973","160 pp.",{"$f":"Table1[[#This Row],['# of Books]]*Table1[[#This Row],[QTY]]","v":0},{"$f":"Table1[[#This Row],[QTY]]*Table1[[#This Row],[School & Library Price]]","v":0}]
[null,43,null,null,"Current Issues","Social Issues Firsthand","Addiction","978-0-7377-2494-3","Greenhaven Publishing","Library Bound Book",1,2008,null,"Library Bound","6.000 X 9.000","Author","Wyatt Schaefer",null,null,null,null,null,null,"Years 15 - 17",null,"Grade 10 - 12",null,"English",38.299999999999898,30.639999999999919,"362","128 pp.",{"$f":"Table1[[#This Row],['# of Books]]*Table1[[#This Row],[QTY]]","v":0},{"$f":"Table1[[#This Row],[QTY]]*Table1[[#This Row],[School & Library Price]]","v":0}]
[null,43,null,null,"Current Issues","Social Issues Firsthand","Bipolar Disorder","978-0-7377-4658-7","Greenhaven Publishing","Library Bound Book",1,2010,null,"Library Bound","6.000 X 9.000","Author","Stefan Kiesbye",null,null,null,null,null,null,"Years 15 - 17",null,"Grade 10 - 12","Provides a collection of personal narratives on living with bipolar disorder. Includes the perspectives of those who are diagnosed as well as those who are coping with a loved one’s bipolar disorder, illuminating the impact on relationships and family dynamics. Also looks at current treatment options and their effectiveness.","English",38.299999999999898,30.639999999999919,"616","144 pp.",{"$f":"Table1[[#This Row],['# of Books]]*Table1[[#This Row],[QTY]]","v":0},{"$f":"Table1[[#This Row],[QTY]]*Table1[[#This Row],[School & Library Price]]","v":0}]
[null,43,null,null,"Current Issues","Social Issues Firsthand","Body Piercing and Tattoos","978-0-7377-4249-7","Greenhaven Publishing","Library Bound Book",1,2009,null,"Library Bound","6.000 X 9.000","Author","Stefan Kiesbye",null,null,null,null,null,null,"Years 15 - 17",null,"Grade 10 - 12",null,"English",38.299999999999898,30.639999999999919,"391","104 pp.",{"$f":"Table1[[#This Row],['# of Books]]*Table1[[#This Row],[QTY]]","v":0},{"$f":"Table1[[#This Row],[QTY]]*Table1[[#This Row],[School & Library Price]]","v":0}]
[null,43,null,null,"Current Issues","Social Issues Firsthand","Cheating","978-0-7377-5009-6","Greenhaven Publishing","Library Bound Book",1,2010,null,"Library Bound","6.000 X 9.000","Author","Stefan Kiesbye",null,null,null,null,null,null,"Years 15 - 17",null,"Grade 10 - 12",null,"English",38.299999999999898,30.639999999999919,"179","112 pp.",{"$f":"Table1[[#This Row],['# of Books]]*Table1[[#This Row],[QTY]]","v":0},{"$f":"Table1[[#This Row],[QTY]]*Table1[[#This Row],[School & Library Price]]","v":0}]
[null,43,null,null,"Current Issues","Social Issues Firsthand","Depression","978-0-7377-3836-0","Greenhaven Publishing","Library Bound Book",1,2008,null,"Library Bound","6.000 X 9.000","Author","Laurie Willis",null,null,null,null,null,null,"Years 15 - 17",null,"Grade 10 - 12",null,"English",38.299999999999898,30.639999999999919,"616","152 pp.",{"$f":"Table1[[#This Row],['# of Books]]*Table1[[#This Row],[QTY]]","v":0},{"$f":"Table1[[#This Row],[QTY]]*Table1[[#This Row],[School & Library Price]]","v":0}]
[null,43,null,null,"Current Issues","Social Issues Firsthand","Drunk Driving","978-0-7377-4031-8","Greenhaven Publishing","Library Bound Book",1,2008,null,"Library Bound","6.000 X 9.000","Author","Stefan Kiesbye",null,null,null,null,null,null,"Years 15 - 17",null,"Grade 10 - 12",null,"English",38.299999999999898,30.639999999999919,"363","112 pp.",{"$f":"Table1[[#This Row],['# of Books]]*Table1[[#This Row],[QTY]]","v":0},{"$f":"Table1[[#This Row],[QTY]]*Table1[[#This Row],[School & Library Price]]","v":0}]
[null,43,null,null,"Current Issues","Social Issues Firsthand","Gun Violence","978-0-7377-4797-3","Greenhaven Publishing","Library Bound Book",1,2010,null,"Library Bound","6.000 X 9.000","Author","Ronnie D. Lankford",null,null,null,null,null,null,"Years 15 - 17",null,"Grade 10 - 12","Provides a collection of personal narratives from victims of gun violence as well as those who have lost family members to gun violence. Also includes perspectives on the impact of gun violence on society, the political debate about gun ownership, and second amendment rights.","English",38.299999999999898,30.639999999999919,"363","96 pp.",{"$f":"Table1[[#This Row],['# of Books]]*Table1[[#This Row],[QTY]]","v":0},{"$f":"Table1[[#This Row],[QTY]]*Table1[[#This Row],[School & Library Price]]","v":0}]
[null,44,null,null,"Current Issues","Social Issues Firsthand","Mixed Heritage","978-0-7377-4560-3","Greenhaven Publishing","Library Bound Book",1,2009,null,"Library Bound","6.000 X 9.000","Author","Stefan Kiesbye",null,null,null,null,null,null,"Years 15 - 17",null,"Grade 10 - 12",null,"English",38.299999999999898,30.639999999999919,"305","120 pp.",{"$f":"Table1[[#This Row],['# of Books]]*Table1[[#This Row],[QTY]]","v":0},{"$f":"Table1[[#This Row],[QTY]]*Table1[[#This Row],[School & Library Price]]","v":0}]
[null,44,null,null,"Current Issues","Social Issues Firsthand","Sexual Predators","978-0-7377-4032-5","Greenhaven Publishing","Library Bound Book",1,2008,null,"Library Bound","6.000 X 9.000","Author","Laurie Willis",null,null,null,null,null,null,"Years 15 - 17",null,"Grade 10 - 12",null,"English",38.299999999999898,30.639999999999919,"364","128 pp.",{"$f":"Table1[[#This Row],['# of Books]]*Table1[[#This Row],[QTY]]","v":0},{"$f":"Table1[[#This Row],[QTY]]*Table1[[#This Row],[School & Library Price]]","v":0}]
[null,44,null,null,"Current Issues","Social Issues Firsthand","The Iraq War","978-0-7377-5010-2","Greenhaven Publishing","Library Bound Book",1,2010,null,"Library Bound","6.000 X 9.000","Author","Ronnie D. Lankford",null,null,null,null,null,null,"Years 15 - 17",null,"Grade 10 - 12",null,"English",38.299999999999898,30.639999999999919,"956","144 pp.",{"$f":"Table1[[#This Row],['# of Books]]*Table1[[#This Row],[QTY]]","v":0},{"$f":"Table1[[#This Row],[QTY]]*Table1[[#This Row],[School & Library Price]]","v":0}]
[null,44,null,null,"Current Issues","Social Issues Firsthand","Underage Drinking","978-0-7377-4799-7","Greenhaven Publishing","Library Bound Book",1,2010,null,"Library Bound","6.000 X 9.000","Author","Norah Piehl",null,null,null,null,null,null,"Years 15 - 17",null,"Grade 10 - 12","Provides a collection of personal narratives on the impact of underage drinking on families and the relationships between parents and children. Includes perspectives on the problems and challenges of the culture of drinking on college campuses, and accounts of regrets and resolutions growing out of drinking problems.","English",38.299999999999898,30.639999999999919,"362","120 pp.",{"$f":"Table1[[#This Row],['# of Books]]*Table1[[#This Row],[QTY]]","v":0},{"$f":"Table1[[#This Row],[QTY]]*Table1[[#This Row],[School & Library Price]]","v":0}]
[null,44,null,null,"Current Issues","Social Issues Firsthand","Welfare","978-0-7377-4079-0","Greenhaven Publishing","Library Bound Book",1,2008,null,"Library Bound","6.000 X 9.000","Author","Katherine Swarts",null,null,null,null,null,null,"Years 15 - 17",null,"Grade 10 - 12",null,"English",38.299999999999898,30.639999999999919,"361","128 pp.",{"$f":"Table1[[#This Row],['# of Books]]*Table1[[#This Row],[QTY]]","v":0},{"$f":"Table1[[#This Row],[QTY]]*Table1[[#This Row],[School & Library Price]]","v":0}]
[null,45,null,null,"Current Issues","Teen Rights and Freedoms","Alcohol","978-0-7377-6811-4","Greenhaven Publishing","eBook",1,2013,null,"eBook",null,"Author","Roman Espejo",null,null,null,null,null,null,"Years 15 - 17",null,"Grade 10 - 12","This book explores real or perceived teen rights related to alcohol, including the national minimum drinking age, the liability of adult hosts of social gatherings where minors are served alcohol, the prospect of a graduated alcohol licensing system that would loosen restrictions for people aged 18 to 20, and the growing trend of mandatory alcohol testing at high school dances.","English",46.2,46.2,"362.292083","168 pp.",{"$f":"Table1[[#This Row],['# of Books]]*Table1[[#This Row],[QTY]]","v":0},{"$f":"Table1[[#This Row],[QTY]]*Table1[[#This Row],[School & Library Price]]","v":0}]
[null,45,null,null,"Current Issues","Teen Rights and Freedoms","Bullying","978-0-7377-7072-8","Greenhaven Publishing","eBook",1,2014,null,"eBook",null,"Author","David Haugen",null,null,null,null,null,null,"Years 15 - 17",null,"Grade 10 - 12",null,"English",46.2,46.2,"344.73","184 pp.",{"$f":"Table1[[#This Row],['# of Books]]*Table1[[#This Row],[QTY]]","v":0},{"$f":"Table1[[#This Row],[QTY]]*Table1[[#This Row],[School & Library Price]]","v":0}]
[null,46,null,null,"Current Issues","Teen Rights and Freedoms","Custody and Divorce","978-0-7377-6400-0","Greenhaven Publishing","Library Bound Book",1,2013,null,"Library Bound","6.000 X 9.000","Author","Roman Espejo",null,null,null,null,null,null,"Years 15 - 17",null,"Grade 10 - 12","This title explores real or perceived teen rights related to custody and divorce, including, rights related to religious affiliation post-divorce; influence on custody/visitation decisions; and teens' rights in addressing the court on their own behalf.","English",42,33.6,"306","144 pp.",{"$f":"Table1[[#This Row],['# of Books]]*Table1[[#This Row],[QTY]]","v":0},{"$f":"Table1[[#This Row],[QTY]]*Table1[[#This Row],[School & Library Price]]","v":0}]
[null,46,null,null,"Current Issues","Teen Rights and Freedoms","Discipline and Punishment","978-0-7377-6401-7","Greenhaven Publishing","Library Bound Book",1,2013,null,"Library Bound","6.000 X 9.000","Author","David M. Haugen",null,null,null,null,null,null,"Years 15 - 17",null,"Grade 10 - 12","Volume explores real or perceived teen rights related to discipline and punishment, including: the legality of corporal punishment (spanking) in schools and at home; the rights of teens committed to residential treatment centers; student rights of due process in school suspension and expulsion hearings.","English",42,33.6,"649","176 pp.",{"$f":"Table1[[#This Row],['# of Books]]*Table1[[#This Row],[QTY]]","v":0},{"$f":"Table1[[#This Row],[QTY]]*Table1[[#This Row],[School & Library Price]]","v":0}]
[null,46,null,null,"Current Issues","Teen Rights and Freedoms","Dress","978-0-7377-6606-6","Greenhaven Publishing","eBook",1,2012,null,"eBook",null,"Author","Roman Espejo",null,null,null,null,null,null,"Years 15 - 17",null,"Grade 10 - 12","This volume in the new TEEN RIGHTS AND FREEDOMS series explores issues related to school dress codes, including general Supreme Court legal standards for school dress codes; specific dress-related cases, such as Tinker v. Des Moines Independent Community School District (1969—First Amendment protections in school) and Blau v. Fort Thomas Public School District (2005—the constitutionality of school dress codes); and other dress issues, such as the relationship between dress codes and social norms and discrimination and dress codes. Personal stories of people involved in school dress code issues, including a college reporter examining the appropriateness of enforcing dress codes at colleges and universities, are also featured.","English",46.2,46.2,"342.7308","168 pp.",{"$f":"Table1[[#This Row],['# of Books]]*Table1[[#This Row],[QTY]]","v":0},{"$f":"Table1[[#This Row],[QTY]]*Table1[[#This Row],[School & Library Price]]","v":0}]
[null,46,null,null,"Current Issues","Teen Rights and Freedoms","Driving","978-0-7377-6997-5","Greenhaven Publishing","Library Bound Book",1,2015,null,"Library Bound","6.000 X 9.000","Author","Sylvia Engdahl",null,null,null,null,null,null,"Years 15 - 17",null,"Grade 10 - 12","For both adults and teens, driving is a privilege, not a right. In recent years more stringent regulations have come into play regarding teen driving. Graduated licensing, questions about the age at which teens should begin driving, and concerns arising from technology.","English",42,33.6,"363","120 pp.",{"$f":"Table1[[#This Row],['# of Books]]*Table1[[#This Row],[QTY]]","v":0},{"$f":"Table1[[#This Row],[QTY]]*Table1[[#This Row],[School & Library Price]]","v":0}]
[null,46,null,null,"Current Issues","Teen Rights and Freedoms","Drugs","978-0-7377-7325-5","Greenhaven Publishing","eBook",1,2015,null,"eBook",null,null,"Noël Merino",null,null,null,null,null,null,"Years 15 - 17",null,"Grade 10 - 12",null,"English",46.2,46.2,"344.73","160 pp.",{"$f":"Table1[[#This Row],['# of Books]]*Table1[[#This Row],[QTY]]","v":0},{"$f":"Table1[[#This Row],[QTY]]*Table1[[#This Row],[School & Library Price]]","v":0}]
[null,46,null,null,"Current Issues","Teen Rights and Freedoms","Education","978-0-7377-5824-5","Greenhaven Publishing","Library Bound Book",1,2012,null,"Library Bound","6.000 X 9.000","Author","Christina Fisanick",null,null,null,null,null,null,"Years 15 - 17",null,"Grade 10 - 12",null,"English",42,33.6,"346","168 pp.",{"$f":"Table1[[#This Row],['# of Books]]*Table1[[#This Row],[QTY]]","v":0},{"$f":"Table1[[#This Row],[QTY]]*Table1[[#This Row],[School & Library Price]]","v":0}]
[null,46,null,null,"Current Issues","Teen Rights and Freedoms","Emancipation","978-0-7377-6999-9","Greenhaven Publishing","Library Bound Book",1,2015,null,"Library Bound","6.000 X 9.000","Author","Noël Merino",null,null,null,null,null,null,"Years 15 - 17",null,"Grade 10 - 12","Explores real or perceived teen rights related to the emancipation of teens, and how issues such as medical care decisions, drinking and smoking, and the age of sexual consent and marriage are impacted by emancipation.","English",42,33.6,"346","152 pp.",{"$f":"Table1[[#This Row],['# of Books]]*Table1[[#This Row],[QTY]]","v":0},{"$f":"Table1[[#This Row],[QTY]]*Table1[[#This Row],[School & Library Price]]","v":0}]
[null,46,null,null,"Current Issues","Teen Rights and Freedoms","Free Speech and Expression","978-0-7377-6472-7","Greenhaven Publishing","eBook",1,2012,null,"eBook",null,"Author","Noël Merino",null,null,null,null,null,null,"Years 15 - 17",null,"Grade 10 - 12",null,"English",46.2,46.2,"342.7308","176 pp.",{"$f":"Table1[[#This Row],['# of Books]]*Table1[[#This Row],[QTY]]","v":0},{"$f":"Table1[[#This Row],[QTY]]*Table1[[#This Row],[School & Library Price]]","v":0}]
[null,46,null,null,"Current Issues","Teen Rights and Freedoms","Freedom of Assembly and Association","978-0-7377-5828-3","Greenhaven Publishing","Library Bound Book",1,2012,null,"Library Bound","6.000 X 9.000","Author","Noël Merino",null,null,null,null,null,null,"Years 15 - 17",null,"Grade 10 - 12","This volume in the new TEEN RIGHTS AND FREEDOMS series explores issues related to the freedom of assembly. The text features court cases involving juvenile curfew laws, the recognition of political organizations, and fraternity membership. The book also discusses the relationship between freedom of assembly and association, and the issue of limiting free association to avoid discrimination. Personal narratives of participants in selected court trials are also included.","English",42,33.6,"346","184 pp.",{"$f":"Table1[[#This Row],['# of Books]]*Table1[[#This Row],[QTY]]","v":0},{"$f":"Table1[[#This Row],[QTY]]*Table1[[#This Row],[School & Library Price]]","v":0}]
[null,46,null,null,"Current Issues","Teen Rights and Freedoms","Juvenile Justice","978-0-7377-6488-8","Greenhaven Publishing","Library Bound Book",1,2013,null,"Library Bound","6.000 X 9.000","Author","David M. Haugen",null,null,null,null,null,null,"Years 15 - 17",null,"Grade 10 - 12","This title explores real or perceived teen rights related to juvenile justice, including the due process rights of juvenile offenders, the death penalty and juvenile offenders, and juvenile sentences of life without parole.","English",42,33.6,"364.36","192 pp.",{"$f":"Table1[[#This Row],['# of Books]]*Table1[[#This Row],[QTY]]","v":0},{"$f":"Table1[[#This Row],[QTY]]*Table1[[#This Row],[School & Library Price]]","v":0}]
[null,46,null,null,"Current Issues","Teen Rights and Freedoms","Parenting","978-0-7377-7075-9","Greenhaven Publishing","eBook",1,2014,null,"eBook",null,"Author","David Haugen",null,null,null,null,null,null,"Years 15 - 17",null,"Grade 10 - 12","This title explores real or perceived teen rights related to becoming parents at a young age. Issues such as the options for continuing education during pregnancy and afterwards and the rights of teen fathers are discussed. Financial support and responsibilities for teen parents are also explored.  Material is drawn from a diverse selection of primary and secondary sources -- journals, magazines, newspapers, nonfiction books, newsletters, position papers, speeches and government documents, with particular emphasis on Supreme Court and other court decisions.","English",46.2,46.2,"649.1","168 pp.",{"$f":"Table1[[#This Row],['# of Books]]*Table1[[#This Row],[QTY]]","v":0},{"$f":"Table1[[#This Row],[QTY]]*Table1[[#This Row],[School & Library Price]]","v":0}]
[null,46,null,null,"Current Issues","Teen Rights and Freedoms","Privacy","978-0-7377-5830-6","Greenhaven Publishing","Library Bound Book",1,2012,null,"Library Bound","6.000 X 9.000","Author","Noël Merino",null,null,null,null,null,null,"Years 15 - 17",null,"Grade 10 - 12","This volume in the new TEEN RIGHTS AND FREEDOMS series explores real or perceived teen rights related to privacy issues, including whether or not a student's right to privacy is more restricted than an adult's right to privacy; the impact of blank parental consent requirements and parental involvement laws; school searches of students and their lockers; and student drug testing.","English",42,33.6,"346","168 pp.",{"$f":"Table1[[#This Row],['# of Books]]*Table1[[#This Row],[QTY]]","v":0},{"$f":"Table1[[#This Row],[QTY]]*Table1[[#This Row],[School & Library Price]]","v":0}]
[null,46,null,null,"Current Issues","Teen Rights and Freedoms","Religion","978-0-7377-6514-4","Greenhaven Publishing","eBook",1,2012,null,"eBook",null,"Author","Noël Merino",null,null,null,null,null,null,"Years 15 - 17",null,"Grade 10 - 12",null,"English",46.2,46.2,"344.73","168 pp.",{"$f":"Table1[[#This Row],['# of Books]]*Table1[[#This Row],[QTY]]","v":0},{"$f":"Table1[[#This Row],[QTY]]*Table1[[#This Row],[School & Library Price]]","v":0}]
[null,46,null,null,"Current Issues","Teen Rights and Freedoms","Search and Seizure","978-0-7377-6403-1","Greenhaven Publishing","Library Bound Book",1,2013,null,"Library Bound","6.000 X 9.000","Author","Noël Merino",null,null,null,null,null,null,"Years 15 - 17",null,"Grade 10 - 12","Explores real or perceived teen rights related to search and seizure, including,  schools searching students, schools conducting drug tests on students, schools conducting searches of students' electronic devices, including phones and laptops.","English",42,33.6,"345","144 pp.",{"$f":"Table1[[#This Row],['# of Books]]*Table1[[#This Row],[QTY]]","v":0},{"$f":"Table1[[#This Row],[QTY]]*Table1[[#This Row],[School & Library Price]]","v":0}]
[null,46,null,null,"Current Issues","Teen Rights and Freedoms","Sex","978-0-7377-6404-8","Greenhaven Publishing","Library Bound Book",1,2013,null,"Library Bound","6.000 X 9.000","Author","David M. Haugen",null,null,null,null,null,null,"Years 15 - 17",null,"Grade 10 - 12","This volume explores real or perceived teen rights related to sex, including laws related to parental consent for abortion; the rights of minors to obtain contraceptives; age of consent laws; and sexting.","English",42,33.6,"306","160 pp.",{"$f":"Table1[[#This Row],['# of Books]]*Table1[[#This Row],[QTY]]","v":0},{"$f":"Table1[[#This Row],[QTY]]*Table1[[#This Row],[School & Library Price]]","v":0}]
[null,46,null,null,"Current Issues","Teen Rights and Freedoms","The Internet","978-0-7377-6610-3","Greenhaven Publishing","eBook",1,2012,null,"eBook",null,"Author","Cynthia A. Bily",null,null,null,null,null,null,"Years 15 - 17",null,"Grade 10 - 12","This volume in the new TEEN RIGHTS AND FREEDOMS series explores real or perceived teen rights related to the Internet. The text covers a variety of topics, including the legal issues of teen internet use; balancing First Amendment rights with safety; court cases related to the Communications Decency Act of 1996; the role of schools in off-campus internet activity; downloading music illegally; and cyberbullying.","English",46.2,46.2,"343.7309","168 pp.",{"$f":"Table1[[#This Row],['# of Books]]*Table1[[#This Row],[QTY]]","v":0},{"$f":"Table1[[#This Row],[QTY]]*Table1[[#This Row],[School & Library Price]]","v":0}]
[null,46,null,null,"Current Issues","Teen Rights and Freedoms","Tobacco and Smoking","978-0-7377-6405-5","Greenhaven Publishing","Library Bound Book",1,2014,null,"Library Bound","6.000 X 9.000","Author","Roman Espejo",null,null,null,null,null,null,"Years 15 - 17",null,"Grade 10 - 12","Explores real or perceived teen rights related to tobacco and smoking, including whether or not smoking is a right for teens, the question of whether or not tobacco companies are targeting teens, and the impact of tobacco advertising on teens.","English",42,33.6,"362","168 pp.",{"$f":"Table1[[#This Row],['# of Books]]*Table1[[#This Row],[QTY]]","v":0},{"$f":"Table1[[#This Row],[QTY]]*Table1[[#This Row],[School & Library Price]]","v":0}]
[null,47,null,null,"Arts and Humanities","Social Issues in Literature","Bioethics in Mary Shelley's Frankenstein","978-0-7377-5013-3","Greenhaven Publishing","Paperback Book",1,2011,null,"Paperback","6.000 X 9.000","Author","Gary Wiener",null,null,null,null,null,null,"Years 15 - 17",null,"Grade 10 - 12",null,"English",32,25.6,"823","174 pp.",{"$f":"Table1[[#This Row],['# of Books]]*Table1[[#This Row],[QTY]]","v":0},{"$f":"Table1[[#This Row],[QTY]]*Table1[[#This Row],[School & Library Price]]","v":0}]
[null,47,null,null,"Arts and Humanities","Social Issues in Literature","Censorship in Ray Bradbury's Fahrenheit 451","978-0-7377-5289-2","Greenhaven Publishing","Paperback Book",1,2011,null,"Paperback","6.000 X 9.000","Author","Candice Mancini",null,null,null,null,null,null,"Years 15 - 17",null,"Grade 10 - 12",null,"English",32,25.6,"813","159 pp.",{"$f":"Table1[[#This Row],['# of Books]]*Table1[[#This Row],[QTY]]","v":0},{"$f":"Table1[[#This Row],[QTY]]*Table1[[#This Row],[School & Library Price]]","v":0}]
[null,47,null,null,"Arts and Humanities","Social Issues in Literature","Class Conflict in Charles Dickens' A Tale of Two Cities","978-0-7377-7061-2","Greenhaven Publishing","eBook",1,2014,null,"eBook",null,"Author","Dedria Bryfonski",null,null,null,null,null,null,"Years 15 - 17",null,"Grade 10 - 12","This volume explores the life and work of Charles Dickens, focusing particularly on the theme of class conflict in the novel A Tale of Two Cities, and includes viewpoints on class conflict and income inequality in the present day.","English",51.04,51.04,"823.8","202 pp.",{"$f":"Table1[[#This Row],['# of Books]]*Table1[[#This Row],[QTY]]","v":0},{"$f":"Table1[[#This Row],[QTY]]*Table1[[#This Row],[School & Library Price]]","v":0}]
[null,47,null,null,"Arts and Humanities","Social Issues in Literature","Class Conflict in Charles Dickens' A Tale of Two Cities","978-0-7377-6974-6","Greenhaven Publishing","Library Bound Book",1,2014,null,"Library Bound","6.000 X 9.000","Author","Dedria Bryfonski",null,null,null,null,null,null,"Years 15 - 17",null,"Grade 10 - 12","This volume explores the life and work of Charles Dickens, focusing particularly on the theme of class conflict in the novel A Tale of Two Cities, and includes viewpoints on class conflict and income inequality in the present day.","English",46.4,37.119999999999997,"823","202 pp.",{"$f":"Table1[[#This Row],['# of Books]]*Table1[[#This Row],[QTY]]","v":0},{"$f":"Table1[[#This Row],[QTY]]*Table1[[#This Row],[School & Library Price]]","v":0}]
[null,47,null,null,"Arts and Humanities","Social Issues in Literature","Class Conflict in Emily Bronte's Wuthering Heights","978-0-7377-5801-6","Greenhaven Publishing","Library Bound Book",1,2011,null,"Library Bound","6.000 X 9.000","Author","Dedria Bryfonski",null,null,null,null,null,null,"Years 15 - 17",null,"Grade 10 - 12",null,"English",46.4,37.119999999999997,"823","176 pp.",{"$f":"Table1[[#This Row],['# of Books]]*Table1[[#This Row],[QTY]]","v":0},{"$f":"Table1[[#This Row],[QTY]]*Table1[[#This Row],[School & Library Price]]","v":0}]
[null,47,null,null,"Arts and Humanities","Social Issues in Literature","Colonialism in Chinua Achebe's Things Fall Apart","978-0-7377-4651-8","Greenhaven Publishing","Paperback Book",1,2010,null,"Paperback","6.000 X 9.000","Author","Louise Hawker",null,null,null,null,null,null,"Years 15 - 17",null,"Grade 10 - 12","This title offers an in-depth examination of colonialism as presented in Chinua Achebe's novel Things Fall Apart, as well as contemporary perspectives on this issue. Discussions include the use of language to convey status and power, the clash of Igbo and European cultures, the loss of personal identity, and the different faces of neo-colonialism.","English",32,25.6,"823","168 pp.",{"$f":"Table1[[#This Row],['# of Books]]*Table1[[#This Row],[QTY]]","v":0},{"$f":"Table1[[#This Row],[QTY]]*Table1[[#This Row],[School & Library Price]]","v":0}]
[null,47,null,null,"Arts and Humanities","Social Issues in Literature","Colonialism in Joseph Conrad's Heart of Darkness","978-0-7377-5804-7","Greenhaven Publishing","Paperback Book",1,2012,null,"Paperback","6.000 X 9.000","Author","Claudia Durst Johnson",null,null,null,null,null,null,"Years 15 - 17",null,"Grade 10 - 12","This volume of SOCIAL ISSUES IN LITERATURE examines Joseph Conrad’s life and writings, with a specific look at key ideas related to Heart of Darkness. The text discusses a variety of topics, including the evil pettiness behind colonial bureaucracy; facing colonialism’s racial divide; the relationship between Victorian ethics, new science, and colonialism; and modern views of colonialism, including colonialism in North African countries and multinational corporate abuse in India.","English",32,25.6,"823","161 pp.",{"$f":"Table1[[#This Row],['# of Books]]*Table1[[#This Row],[QTY]]","v":0},{"$f":"Table1[[#This Row],[QTY]]*Table1[[#This Row],[School & Library Price]]","v":0}]
[null,48,null,null,"Arts and Humanities","Social Issues in Literature","Coming of Age in Sue Monk Kidd's the Secret Life of Bees","978-0-7377-6383-6","Greenhaven Publishing","Library Bound Book",1,2013,null,"Library Bound","6.000 X 9.000","Author","Dedria Bryfonski",null,null,null,null,null,null,"Years 15 - 17",null,"Grade 10 - 12","This volume explores the life and work of Sue Monk Kidd, focusing particularly on the coming of age theme of her novel The Secret Life of Bees, and including viewpoints on coming of age and enduring adolescence in the present day.","English",46.4,37.119999999999997,"813","129 pp.",{"$f":"Table1[[#This Row],['# of Books]]*Table1[[#This Row],[QTY]]","v":0},{"$f":"Table1[[#This Row],[QTY]]*Table1[[#This Row],[School & Library Price]]","v":0}]
[null,48,null,null,"Arts and Humanities","Social Issues in Literature","Corruption in William Shakespeare's Hamlet","978-0-7377-4810-9","Greenhaven Publishing","Paperback Book",1,2010,null,"Paperback","6.000 X 9.000","Author","Vernon Elso Johnson",null,null,null,null,null,null,"Years 15 - 17",null,"Grade 10 - 12","This title offers an in-depth examination of corruption as presented in William Shakespeare’s play Hamlet, as well as contemporary perspectives on this issue. Discussions include the symbolic role of sickness and disease, parallels between the politics in the play and Elizabethan England, how Claudius created generational disorder, and the relationship between corruption and inequality.","English",32,25.6,"822","172 pp.",{"$f":"Table1[[#This Row],['# of Books]]*Table1[[#This Row],[QTY]]","v":0},{"$f":"Table1[[#This Row],[QTY]]*Table1[[#This Row],[School & Library Price]]","v":0}]
[null,48,null,null,"Arts and Humanities","Social Issues in Literature","Death in Ernest Hemingway's the Old Man and the Sea","978-0-7377-7062-9","Greenhaven Publishing","eBook",1,2014,null,"eBook",null,"Author","Dedria Bryfonski",null,null,null,null,null,null,"Years 15 - 17",null,"Grade 10 - 12","Volume explores Ernest Hemingway’s The Old Man and the Sea through the lens of death. Coverage includes an examination of Hemingway’s life and influences; a look at key ideas related to death in the novel, including notions of the killing, hunting, and aging; and contemporary perspectives on death.","English",51.04,51.04,"813.52","170 pp.",{"$f":"Table1[[#This Row],['# of Books]]*Table1[[#This Row],[QTY]]","v":0},{"$f":"Table1[[#This Row],[QTY]]*Table1[[#This Row],[School & Library Price]]","v":0}]
[null,48,null,null,"Arts and Humanities","Social Issues in Literature","Death in Ernest Hemingway's the Old Man and the Sea","978-0-7377-6978-4","Greenhaven Publishing","Library Bound Book",1,2014,null,"Library Bound","6.000 X 9.000","Author","Dedria Bryfonski",null,null,null,null,null,null,"Years 15 - 17",null,"Grade 10 - 12","Volume explores Ernest Hemingway's The Old Man and the Sea through the lens of death. Coverage includes an examination of Hemingway's life and influences; a look at key ideas related to death in the novel, including notions of the killing, hunting, and aging; and contemporary perspectives on death.","English",46.4,37.119999999999997,"813","170 pp.",{"$f":"Table1[[#This Row],['# of Books]]*Table1[[#This Row],[QTY]]","v":0},{"$f":"Table1[[#This Row],[QTY]]*Table1[[#This Row],[School & Library Price]]","v":0}]
[null,48,null,null,"Arts and Humanities","Social Issues in Literature","Democracy in the Poetry of Walt Whitman","978-0-7377-6377-5","Greenhaven Publishing","Library Bound Book",1,2013,null,"Library Bound","6.000 X 9.000","Author","Thomas Riggs",null,null,null,null,null,null,"Years 15 - 17",null,"Grade 10 - 12","Volume explores Walt Whitman's poetry through the lens of democracy. Coverage includes: an examination of Whitman's life and influences, a look at key ideas related to democracy and Whitman's poetry–for example, Whitman's views of democratic comradeship and the role of bonds between men; Whitman's contradictory views on slavery and race; and Whitman's approach to patriotism, contemporary perspectives on democracy, such as the importance of an informed electorate and the impact of American individualism on contemporary politics.","English",46.4,37.119999999999997,"811","208 pp.",{"$f":"Table1[[#This Row],['# of Books]]*Table1[[#This Row],[QTY]]","v":0},{"$f":"Table1[[#This Row],[QTY]]*Table1[[#This Row],[School & Library Price]]","v":0}]
[null,48,null,null,"Arts and Humanities","Social Issues in Literature","Depression in Sylvia Plath's the Bell Jar","978-0-7377-6500-7","Greenhaven Publishing","eBook",1,2012,null,"eBook",null,"Author","Dedria Bryfonski",null,null,null,null,null,null,"Years 15 - 17",null,"Grade 10 - 12","This volume of SOCIAL ISSUES IN LITERATURE examines Sylvia Plath’s life and writings, with a specific look at key ideas related to The Bell Jar. The text discusses a variety of topics, including the pervasive impact of illness in the story, the novel as a search for personal identity, and the autobiographical nature of the work. The book also examines contemporary perspectives on depression, such as the sometimes deadly pressure of perfectionism on gifted teens, and the idea that depression and risk of suicide run in families.","English",51.04,51.04,"813.54","164 pp.",{"$f":"Table1[[#This Row],['# of Books]]*Table1[[#This Row],[QTY]]","v":0},{"$f":"Table1[[#This Row],[QTY]]*Table1[[#This Row],[School & Library Price]]","v":0}]
[null,48,null,null,"Arts and Humanities","Social Issues in Literature","Family Dysfunction in Tennessee Williams's the Glass Menagerie","978-0-7377-6380-5","Greenhaven Publishing","Paperback Book",1,2013,null,"Paperback","6.000 X 9.000","Author","Dedria Bryfonski",null,null,null,null,null,null,"Years 15 - 17",null,"Grade 10 - 12","This volume explores Tennessee Williams’s The Glass Menagerie through the lens of family dysfunction. Coverage includes an examination of Williams’s life and influences; a look at key ideas related to family dysfunction and The Glass Menagerie–for example, the role of guilt in family relationships and the breakdown of the American family and the American dream; and contemporary perspectives on family dysfunction, such as the damage inflicted by toxic or overbearing parents and the effects of alcoholism on families.","English",32,25.6,"812","174 pp.",{"$f":"Table1[[#This Row],['# of Books]]*Table1[[#This Row],[QTY]]","v":0},{"$f":"Table1[[#This Row],[QTY]]*Table1[[#This Row],[School & Library Price]]","v":0}]
[null,48,null,null,"Arts and Humanities","Social Issues in Literature","Family Dysfunction in William Faulkner's As I Lay Dying","978-0-7377-6385-0","Greenhaven Publishing","Library Bound Book",1,2013,null,"Library Bound","6.000 X 9.000","Author","Claudia Johnson",null,null,null,null,null,null,"Years 15 - 17",null,"Grade 10 - 12","This volume explores William Faulkner's As I Lay Dying through the lens of family dysfunction. Coverage includes an examination of Faulkner's life and influences; a look at key ideas related to family dysfunction and As I Lay Dying—for example, the role of maternal influence and sibling rivalry; and contemporary perspectives on family dysfunction, such as the effects of emotional neglect and the phenomenon that some women lack maternal instincts.","English",46.4,37.119999999999997,"813","148 pp.",{"$f":"Table1[[#This Row],['# of Books]]*Table1[[#This Row],[QTY]]","v":0},{"$f":"Table1[[#This Row],[QTY]]*Table1[[#This Row],[School & Library Price]]","v":0}]
[null,48,null,null,"Arts and Humanities","Social Issues in Literature","Freedom of Thought in Jerome Lawrence and Robert Edwin Lee's Inherit the Wind","978-0-7377-5015-7","Greenhaven Publishing","Paperback Book",1,2010,null,"Paperback","6.000 X 9.000","Author","Candice Mancini",null,null,null,null,null,null,"Years 15 - 17",null,"Grade 10 - 12","This title offers an in-depth examination of freedom of thought as presented in Jerome Lawrence & Robert Edwin Lee's play Inherit the Wind, as well as contemporary perspectives on the issue. Written during the McCarthy era, the play dramatized the infamous Scopes trial, at times shifting the focus from freedom of thought to the theory of evolution. In the twenty-first century, the play brings renewed attention to religion in politics and education, and issues of individual freedom.","English",32,25.6,"813","187 pp.",{"$f":"Table1[[#This Row],['# of Books]]*Table1[[#This Row],[QTY]]","v":0},{"$f":"Table1[[#This Row],[QTY]]*Table1[[#This Row],[School & Library Price]]","v":0}]
[null,48,null,null,"Arts and Humanities","Social Issues in Literature","Genocide in Anne Frank's the Diary of a Young Girl","978-0-7377-6115-3","Greenhaven Publishing","eBook",1,2012,null,"eBook",null,"Author","Louise Hawker",null,null,null,null,null,null,"Years 15 - 17",null,"Grade 10 - 12",null,"English",51.04,51.04,"940.53","160 pp.",{"$f":"Table1[[#This Row],['# of Books]]*Table1[[#This Row],[QTY]]","v":0},{"$f":"Table1[[#This Row],[QTY]]*Table1[[#This Row],[School & Library Price]]","v":0}]
[null,48,null,null,"Arts and Humanities","Social Issues in Literature","Genocide in Elie Wiesel's Night","978-0-7377-4393-7","Greenhaven Publishing","Paperback Book",1,2009,null,"Paperback","6.000 X 9.000","Author","Louise Hawker",null,null,null,null,null,null,"Years 15 - 17",null,"Grade 10 - 12",null,"English",32,25.6,"813","192 pp.",{"$f":"Table1[[#This Row],['# of Books]]*Table1[[#This Row],[QTY]]","v":0},{"$f":"Table1[[#This Row],[QTY]]*Table1[[#This Row],[School & Library Price]]","v":0}]
[null,48,null,null,"Arts and Humanities","Social Issues in Literature","Industrialism in John Steinbeck's the Grapes of Wrath","978-0-7377-4034-9","Greenhaven Publishing","Library Bound Book",1,2008,null,"Library Bound","6.000 X 9.000","Author","Louise Hawker",null,null,null,null,null,null,"Years 15 - 17",null,"Grade 10 - 12",null,"English",46.4,37.119999999999997,"813","184 pp.",{"$f":"Table1[[#This Row],['# of Books]]*Table1[[#This Row],[QTY]]","v":0},{"$f":"Table1[[#This Row],[QTY]]*Table1[[#This Row],[School & Library Price]]","v":0}]
[null,48,null,null,"Arts and Humanities","Social Issues in Literature","Issues of Class in Jane Austen's Pride and Prejudice","978-0-7377-4259-6","Greenhaven Publishing","Paperback Book",1,2009,null,"Paperback","6.000 X 9.000","Author","Claudia Durst Johnson",null,null,null,null,null,null,"Years 15 - 17",null,"Grade 10 - 12",null,"English",32,25.6,"823","178 pp.",{"$f":"Table1[[#This Row],['# of Books]]*Table1[[#This Row],[QTY]]","v":0},{"$f":"Table1[[#This Row],[QTY]]*Table1[[#This Row],[School & Library Price]]","v":0}]
[null,48,null,null,"Arts and Humanities","Social Issues in Literature","Male and Female Roles in Ernest Hemingway's the Sun Also Rises","978-0-7377-4021-9","Greenhaven Publishing","Paperback Book",1,2008,null,"Paperback","6.000 X 9.000","Author","Dedria Bryfonski",null,null,null,null,null,null,"Years 15 - 17",null,"Grade 10 - 12",null,"English",32,25.6,"813","219 pp.",{"$f":"Table1[[#This Row],['# of Books]]*Table1[[#This Row],[QTY]]","v":0},{"$f":"Table1[[#This Row],[QTY]]*Table1[[#This Row],[School & Library Price]]","v":0}]
[null,48,null,null,"Arts and Humanities","Social Issues in Literature","Patriarchy in Sandra Cisneros' the House on Mango Street","978-0-7377-4801-7","Greenhaven Publishing","Paperback Book",1,2010,null,"Paperback","6.000 X 9.000","Author","Claudia Durst Johnson",null,null,null,null,null,null,"Years 15 - 17",null,"Grade 10 - 12","This title offers an in-depth examination of patriarchy as presented in Sandra Cisneros’s novel The House on Mango Street, as well as contemporary perspectives on this issue.  Discussions include how the protagonist’s female gender affects reaction to the book’s coming-of-age message, how themes of oppression and marginalization play out among the characters, and what Esperanza’s personality says about her relationships to males in the novel.","English",32,25.6,"813","180 pp.",{"$f":"Table1[[#This Row],['# of Books]]*Table1[[#This Row],[QTY]]","v":0},{"$f":"Table1[[#This Row],[QTY]]*Table1[[#This Row],[School & Library Price]]","v":0}]
[null,48,null,null,"Arts and Humanities","Social Issues in Literature","Political Issues in J.K. Rowling's Harry Potter Series","978-0-7377-4022-6","Greenhaven Publishing","Library Bound Book",1,2009,null,"Library Bound","6.000 X 9.000","Author","Dedria Bryfonski",null,null,null,null,null,null,"Years 15 - 17",null,"Grade 10 - 12",null,"English",46.4,37.119999999999997,"823","200 pp.",{"$f":"Table1[[#This Row],['# of Books]]*Table1[[#This Row],[QTY]]","v":0},{"$f":"Table1[[#This Row],[QTY]]*Table1[[#This Row],[School & Library Price]]","v":0}]
[null,48,null,null,"Arts and Humanities","Social Issues in Literature","Poverty in John Steinbeck's the Pearl","978-0-7377-5807-8","Greenhaven Publishing","Library Bound Book",1,2012,null,"Library Bound","6.000 X 9.000","Author","Louise Hawker",null,null,null,null,null,null,"Years 15 - 17",null,"Grade 10 - 12","This volume of SOCIAL ISSUES IN LITERATURE examines John Steinbeck's life and work, with a specific look at key ideas related to The Pearl. The text discusses a variety of topics, including whether Kino chooses enslavement to wealth in order to escape poverty, and whether the townspeople have a parasitic relationship with the poor. The book also explores contemporary perspectives on poverty, such as the changing views of the term \"culture of poverty\" and the relationship between western materialism and spiritual depression.","English",46.4,37.119999999999997,"813","141 pp.",{"$f":"Table1[[#This Row],['# of Books]]*Table1[[#This Row],[QTY]]","v":0},{"$f":"Table1[[#This Row],[QTY]]*Table1[[#This Row],[School & Library Price]]","v":0}]
[null,48,null,null,"Arts and Humanities","Social Issues in Literature","Race in John Howard Griffin's Black Like Me","978-0-7377-6806-0","Greenhaven Publishing","eBook",1,2013,null,"eBook",null,"Author","David E. Nelson",null,null,null,null,null,null,"Years 15 - 17",null,"Grade 10 - 12","This title explores the life of John Howard Griffin as well as the issue of race as explored in his most famous work, Black Like Me, which details Griffin’s experiment darkening his skin to pass as a black man during the Jim Crow era. This volume also explores race in twenty-first-century America, with commentators asserting that while progress has been made, racism is still a significant issue.","English",51.04,51.04,"814.54","143 pp.",{"$f":"Table1[[#This Row],['# of Books]]*Table1[[#This Row],[QTY]]","v":0},{"$f":"Table1[[#This Row],[QTY]]*Table1[[#This Row],[School & Library Price]]","v":0}]
[null,49,null,null,"Arts and Humanities","Social Issues in Literature","Race in Mark Twain's Adventures of Huckleberry Finn","978-0-7377-4617-4","Greenhaven Publishing","Paperback Book",1,2009,null,"Paperback","6.000 X 9.000","Author","Claudia Durst Johnson",null,null,null,null,null,null,"Years 15 - 17",null,"Grade 10 - 12",null,"English",32,25.6,"813","160 pp.",{"$f":"Table1[[#This Row],['# of Books]]*Table1[[#This Row],[QTY]]","v":0},{"$f":"Table1[[#This Row],[QTY]]*Table1[[#This Row],[School & Library Price]]","v":0}]
[null,49,null,null,"Arts and Humanities","Social Issues in Literature","Race in Ralph Ellison's Invisible Man","978-0-7377-6463-5","Greenhaven Publishing","eBook",1,2012,null,"eBook",null,"Author","Hayley Mitchell Haugen",null,null,null,null,null,null,"Years 15 - 17",null,"Grade 10 - 12",null,"English",51.04,51.04,"305.800973","168 pp.",{"$f":"Table1[[#This Row],['# of Books]]*Table1[[#This Row],[QTY]]","v":0},{"$f":"Table1[[#This Row],[QTY]]*Table1[[#This Row],[School & Library Price]]","v":0}]
[null,49,null,null,"Arts and Humanities","Social Issues in Literature","Race in the Poetry of Langston Hughes","978-0-7377-7063-6","Greenhaven Publishing","eBook",1,2014,null,"eBook",null,"Author","Claudia Durst Johnson",null,null,null,null,null,null,"Years 15 - 17",null,"Grade 10 - 12","Volume explores the poetry of Langston Hughes through the lens of race. Coverage includes an examination of Hughes’s life and influences; a look at key ideas related to race in Hughes’s poetry, including the influence of African-American music, the use of poetry to address racial problems, and the politics of Hughes’s anti-lynching poems; and contemporary perspectives on race, such as the decline of civil rights reform and the role of hip-hop as the new black music.","English",51.04,51.04,"818.5209","168 pp.",{"$f":"Table1[[#This Row],['# of Books]]*Table1[[#This Row],[QTY]]","v":0},{"$f":"Table1[[#This Row],[QTY]]*Table1[[#This Row],[School & Library Price]]","v":0}]
[null,49,null,null,"Arts and Humanities","Social Issues in Literature","Race in William Shakespeare's Othello","978-0-7377-6477-2","Greenhaven Publishing","eBook",1,2012,null,"eBook",null,"Author","Vernon Elso Johnson",null,null,null,null,null,null,"Years 15 - 17",null,"Grade 10 - 12",null,"English",51.04,51.04,"822.3","157 pp.",{"$f":"Table1[[#This Row],['# of Books]]*Table1[[#This Row],[QTY]]","v":0},{"$f":"Table1[[#This Row],[QTY]]*Table1[[#This Row],[School & Library Price]]","v":0}]
[null,49,null,null,"Arts and Humanities","Social Issues in Literature","Racism in Harper Lee's to Kill a Mockingbird","978-0-7377-3900-8","Greenhaven Publishing","Library Bound Book",1,2008,null,"Library Bound","6.000 X 9.000","Author","Candice Mancini",null,null,null,null,null,null,"Years 15 - 17",null,"Grade 10 - 12",null,"English",46.4,37.119999999999997,"813","216 pp.",{"$f":"Table1[[#This Row],['# of Books]]*Table1[[#This Row],[QTY]]","v":0},{"$f":"Table1[[#This Row],[QTY]]*Table1[[#This Row],[School & Library Price]]","v":0}]
[null,49,null,null,"Arts and Humanities","Social Issues in Literature","Racism in Maya Angelou's I Know Why the Caged Bird Sings","978-0-7377-3905-3","Greenhaven Publishing","Paperback Book",1,2008,null,"Paperback","6.000 X 9.000","Author","Claudia Johnson",null,null,null,null,null,null,"Years 15 - 17",null,"Grade 10 - 12",null,"English",32,25.6,"818","150 pp.",{"$f":"Table1[[#This Row],['# of Books]]*Table1[[#This Row],[QTY]]","v":0},{"$f":"Table1[[#This Row],[QTY]]*Table1[[#This Row],[School & Library Price]]","v":0}]
[null,49,null,null,"Arts and Humanities","Social Issues in Literature","Sexuality in the Comedies of William Shakespeare","978-0-7377-6982-1","Greenhaven Publishing","Library Bound Book",1,2014,null,"Library Bound","6.000 X 9.000","Author","Stephen P. Thompson",null,null,null,null,null,null,"Years 15 - 17",null,"Grade 10 - 12","Social Issues in Literature: Sexuality in the Comedies of William Shakespeare examines the background of William Shakespeare, explores themes of sexuality in the comedies of Shakespeare, and takes a look at sexuality in the twenty-first century.","English",46.4,37.119999999999997,"822","159 pp.",{"$f":"Table1[[#This Row],['# of Books]]*Table1[[#This Row],[QTY]]","v":0},{"$f":"Table1[[#This Row],[QTY]]*Table1[[#This Row],[School & Library Price]]","v":0}]
[null,49,null,null,"Arts and Humanities","Social Issues in Literature","Sexuality in William Shakespeare's A Midsummer Night's Dream","978-0-7377-6387-4","Greenhaven Publishing","Library Bound Book",1,2014,null,"Library Bound","6.000 X 9.000","Author","Gary Wiener",null,null,null,null,null,null,"Years 15 - 17",null,"Grade 10 - 12","Volume explores William Shakespeare's A Midsummer Night's Dream through the lens of sexuality. Coverage includes an examination of Shakespeare's life and influences; a look at key ideas related to sexuality in Midsummer, including notions of the war between the sexes, taboo sexuality, and the marginalization of women's sexuality; and contemporary perspectives on sexuality, such as adolescent sexuality, the categorizing of people into sexual classifications, and sex education.","English",46.4,37.119999999999997,"822","199 pp.",{"$f":"Table1[[#This Row],['# of Books]]*Table1[[#This Row],[QTY]]","v":0},{"$f":"Table1[[#This Row],[QTY]]*Table1[[#This Row],[School & Library Price]]","v":0}]
[null,49,null,null,"Arts and Humanities","Social Issues in Literature","Slavery in Narrative of the Life of Frederick Douglass","978-0-7377-6987-6","Greenhaven Publishing","Paperback Book",1,2014,null,"Paperback","6.000 X 9.000","Author","Claudia Johnson",null,null,null,null,null,null,"Years 15 - 17",null,"Grade 10 - 12","Volume explores the autobiography Narrative of the Life of Frederick Douglass through the lens of slavery. Coverage includes an examination of Frederick Douglass’ life and influences; a look at the portrayal of slavery in the Narrative; including slavery and religion, slavery’s impact on the family, slavery and identity; and contemporary perspectives on slavery, such as agricultural slavery, labor exploitation, and sex slaves.","English",32,25.6,"973","224 pp.",{"$f":"Table1[[#This Row],['# of Books]]*Table1[[#This Row],[QTY]]","v":0},{"$f":"Table1[[#This Row],[QTY]]*Table1[[#This Row],[School & Library Price]]","v":0}]
[null,49,null,null,"Arts and Humanities","Social Issues in Literature","Slavery in Narrative of the Life of Frederick Douglass","978-0-7377-7066-7","Greenhaven Publishing","eBook",1,2014,null,"eBook",null,"Author","Claudia Durst Johnson",null,null,null,null,null,null,"Years 15 - 17",null,"Grade 10 - 12","Volume explores the autobiography Narrative of the Life of Frederick Douglass through the lens of slavery. Coverage includes an examination of Frederick Douglass’ life and influences; a look at the portrayal of slavery in the Narrative; including slavery and religion, slavery’s impact on the family, slavery and identity; and contemporary perspectives on slavery, such as agricultural slavery, labor exploitation, and sex slaves.","English",51.04,51.04,"973.8092","134 pp.",{"$f":"Table1[[#This Row],['# of Books]]*Table1[[#This Row],[QTY]]","v":0},{"$f":"Table1[[#This Row],[QTY]]*Table1[[#This Row],[School & Library Price]]","v":0}]
[null,49,null,null,"Arts and Humanities","Social Issues in Literature","Slavery in Toni Morrison's Beloved","978-0-7377-6390-4","Greenhaven Publishing","Paperback Book",1,2012,null,"Paperback","6.000 X 9.000","Author","Dedria Bryfonski",null,null,null,null,null,null,"Years 15 - 17",null,"Grade 10 - 12","Volume explores Toni Morrison's classic novel through the lens of slavery. Coverage includes: an examination of Morrison's life and influences, a look at key ideas related to slavery in Beloved–for example, the role of slavery in both the forging and destruction of an African-American identity, the impact of slavery on family relationships, and the psychological trauma caused by slavery, contemporary perspectives on slavery, such as the global problem of human trafficking and the role of multinational corporations in modern day slavery.","English",32,25.6,"813","189 pp.",{"$f":"Table1[[#This Row],['# of Books]]*Table1[[#This Row],[QTY]]","v":0},{"$f":"Table1[[#This Row],[QTY]]*Table1[[#This Row],[School & Library Price]]","v":0}]
[null,49,null,null,"Arts and Humanities","Social Issues in Literature","Teen Issues in S.E. Hinton's the Outsiders","978-0-7377-6615-8","Greenhaven Publishing","eBook",1,2012,null,"eBook",null,"Author","David E. Nelson",null,null,null,null,null,null,"Years 15 - 17",null,"Grade 10 - 12","This volume of SOCIAL ISSUES IN LITERATURE explores S.E. Hinton’s classic novel The Outsiders through the lens of teen issues. The text discusses a variety of topics, including Hinton’s life and influences, whether the novel offers an overly romanticized view of teen life, and whether social bonds are important for economically disadvantaged teens. The book also explores contemporary perspectives on teen issues, such as a look at modern teen class divisions and the relationship between parenting, masculinity, and teen violence.","English",51.04,51.04,"813.54","160 pp.",{"$f":"Table1[[#This Row],['# of Books]]*Table1[[#This Row],[QTY]]","v":0},{"$f":"Table1[[#This Row],[QTY]]*Table1[[#This Row],[School & Library Price]]","v":0}]
[null,49,null,null,"Arts and Humanities","Social Issues in Literature","The American Dream in John Steinbeck's of Mice and Men","978-0-7377-4849-9","Greenhaven Publishing","Paperback Book",1,2010,null,"Paperback","6.000 X 9.000","Author","Hayley Mitchell Haugen",null,null,null,null,null,null,"Years 15 - 17",null,"Grade 10 - 12","This title offers an in-depth examination of the American Dream as presented in John Steinbeck’s novel Of Mice and Men, as well as contemporary perspectives on this issue. Is Steinbeck’s American Dream out of reach, or simply an illusion? Discussions include the dangerous and addictive side of seeking personal wealth, immigration and the American Dream, and whether  what constitutes the American Dream has changed over time.","English",32,25.6,"813","160 pp.",{"$f":"Table1[[#This Row],['# of Books]]*Table1[[#This Row],[QTY]]","v":0},{"$f":"Table1[[#This Row],[QTY]]*Table1[[#This Row],[School & Library Price]]","v":0}]
[null,49,null,null,"Arts and Humanities","Social Issues in Literature","The Environment in Rachel Carson's Silent Spring","978-0-7377-6479-6","Greenhaven Publishing","eBook",1,2012,null,"eBook",null,"Author","Gary Wiener",null,null,null,null,null,null,"Years 15 - 17",null,"Grade 10 - 12",null,"English",51.04,51.04,"363.738","207 pp.",{"$f":"Table1[[#This Row],['# of Books]]*Table1[[#This Row],[QTY]]","v":0},{"$f":"Table1[[#This Row],[QTY]]*Table1[[#This Row],[School & Library Price]]","v":0}]
[null,49,null,null,"Arts and Humanities","Social Issues in Literature","The Food Industry in Eric Schlosser's Fast Food Nation","978-0-7377-6381-2","Greenhaven Publishing","Library Bound Book",1,2013,null,"Library Bound","6.000 X 9.000","Author","David M. Haugen",null,null,null,null,null,null,"Years 15 - 17",null,"Grade 10 - 12","Volume explores Eric Schlosser's Fast Food Nation through the lens of the food industry. Coverage includes: an examination of Schlosser's life as an investigative journalist, Schlosser's view of the food industry as demonstrated in his book; how investigative journalism can be viewed as literature; how Fast Food Nation has changed people's perspectives and actions; criticisms of Fast Food Nation and its message, contemporary perspectives on the food industry, such as commentary on various food \"movements\" including the global food movement and the local food movement, and commentary on food regulations.","English",46.4,37.119999999999997,"394","168 pp.",{"$f":"Table1[[#This Row],['# of Books]]*Table1[[#This Row],[QTY]]","v":0},{"$f":"Table1[[#This Row],[QTY]]*Table1[[#This Row],[School & Library Price]]","v":0}]
[null,49,null,null,"Arts and Humanities","Social Issues in Literature","Tyranny in William Shakespeare's Julius Caesar","978-0-7377-5263-2","Greenhaven Publishing","Paperback Book",1,2011,null,"Paperback","6.000 X 9.000","Author","Vernon Johnson",null,null,null,null,null,null,"Years 15 - 17",null,"Grade 10 - 12",null,"English",32,25.6,"822","180 pp.",{"$f":"Table1[[#This Row],['# of Books]]*Table1[[#This Row],[QTY]]","v":0},{"$f":"Table1[[#This Row],[QTY]]*Table1[[#This Row],[School & Library Price]]","v":0}]
[null,49,null,null,"Arts and Humanities","Social Issues in Literature","Violence in Anthony Burgess's A Clockwork Orange","978-0-7377-6989-0","Greenhaven Publishing","Paperback Book",1,2014,null,"Paperback","6.000 X 9.000","Author","Dedria Bryfonski",null,null,null,null,null,null,"Years 15 - 17",null,"Grade 10 - 12","This volume explores the life and work of Anthony Burgess, focusing on themes of human nature, violence, and freedom of choice. Contemporary issues including gang violence and violence against women are also discussed.","English",32,25.6,"823","195 pp.",{"$f":"Table1[[#This Row],['# of Books]]*Table1[[#This Row],[QTY]]","v":0},{"$f":"Table1[[#This Row],[QTY]]*Table1[[#This Row],[School & Library Price]]","v":0}]
[null,49,null,null,"Arts and Humanities","Social Issues in Literature","Violence in Suzanne Collins's The Hunger Games Trilogy","978-0-7377-7068-1","Greenhaven Publishing","eBook",1,2014,null,"eBook",null,"Author","Gary Wiener",null,null,null,null,null,null,"Years 15 - 17",null,"Grade 10 - 12","This title provides biographical information about Suzanne Collins and offers a perspective on her influences. Other pieces discuss aspects of the novel, focusing on Katniss, her struggles, and the meaning and impact of violence.","English",51.04,51.04,"813.6","200 pp.",{"$f":"Table1[[#This Row],['# of Books]]*Table1[[#This Row],[QTY]]","v":0},{"$f":"Table1[[#This Row],[QTY]]*Table1[[#This Row],[School & Library Price]]","v":0}]
[null,49,null,null,"Arts and Humanities","Social Issues in Literature","Violence in William Golding's Lord of the Flies","978-0-7377-4619-8","Greenhaven Publishing","Paperback Book",1,2009,null,"Paperback","6.000 X 9.000","Author","Dedria Bryfonski",null,null,null,null,null,null,"Years 15 - 17",null,"Grade 10 - 12",null,"English",32,25.6,"823","208 pp.",{"$f":"Table1[[#This Row],['# of Books]]*Table1[[#This Row],[QTY]]","v":0},{"$f":"Table1[[#This Row],[QTY]]*Table1[[#This Row],[School & Library Price]]","v":0}]
[null,49,null,null,"Arts and Humanities","Social Issues in Literature","War in Ernest Hemingway's A Farewell to Arms","978-0-7377-7069-8","Greenhaven Publishing","eBook",1,2014,null,"eBook",null,"Author","David Haugen",null,null,null,null,null,null,"Years 15 - 17",null,"Grade 10 - 12","This volume explores the life and work of Ernest Hemingway, focusing particularly on the themes of war and the nobility of soldiers in his novel A Farewell to Arms, and includes viewpoints on the reasons for, and the aftereffects of, war of  in the present day.","English",51.04,51.04,"813.52","205 pp.",{"$f":"Table1[[#This Row],['# of Books]]*Table1[[#This Row],[QTY]]","v":0},{"$f":"Table1[[#This Row],[QTY]]*Table1[[#This Row],[School & Library Price]]","v":0}]
[null,49,null,null,"Arts and Humanities","Social Issues in Literature","War in Ernest Hemingway's A Farewell to Arms","978-0-7377-6396-6","Greenhaven Publishing","Paperback Book",1,2014,null,"Paperback","6.000 X 9.000","Author","David Haugen",null,null,null,null,null,null,"Years 15 - 17",null,"Grade 10 - 12","This volume explores the life and work of Ernest Hemingway, focusing particularly on the themes of war and the nobility of soldiers in his novel A Farewell to Arms.","English",32,25.6,"813","205 pp.",{"$f":"Table1[[#This Row],['# of Books]]*Table1[[#This Row],[QTY]]","v":0},{"$f":"Table1[[#This Row],[QTY]]*Table1[[#This Row],[School & Library Price]]","v":0}]
[null,50,null,null,"Arts and Humanities","Social Issues in Literature","War in Ernest Hemingway's For Whom the Bell Tolls","978-0-7377-6394-2","Greenhaven Publishing","Paperback Book",1,2013,null,"Paperback","6.000 X 9.000","Author","Gary Wiener",null,null,null,null,null,null,"Years 15 - 17",null,"Grade 10 - 12","This volume explores the life and work of Ernest Hemingway, focusing particularly on the themes of war in his novel For Whom the Bell Tolls, and includes viewpoints on the reasons for, and the aftereffects of, war of in the present day.","English",32,25.6,"813","181 pp.",{"$f":"Table1[[#This Row],['# of Books]]*Table1[[#This Row],[QTY]]","v":0},{"$f":"Table1[[#This Row],[QTY]]*Table1[[#This Row],[School & Library Price]]","v":0}]
[null,50,null,null,"Arts and Humanities","Social Issues in Literature","War in Joseph Heller's Catch-22","978-0-7377-4399-9","Greenhaven Publishing","Paperback Book",1,2009,null,"Paperback","6.000 X 9.000","Author","Dedria Bryfonski",null,null,null,null,null,null,"Years 15 - 17",null,"Grade 10 - 12",null,"English",32,25.6,"813","200 pp.",{"$f":"Table1[[#This Row],['# of Books]]*Table1[[#This Row],[QTY]]","v":0},{"$f":"Table1[[#This Row],[QTY]]*Table1[[#This Row],[School & Library Price]]","v":0}]
[null,50,null,null,"Arts and Humanities","Social Issues in Literature","War in Stephen Crane's the Red Badge of Courage","978-0-7377-4850-5","Greenhaven Publishing","Library Bound Book",1,2010,null,"Library Bound","6.000 X 9.000","Author","David Haugen",null,null,null,null,null,null,"Years 15 - 17",null,"Grade 10 - 12","This title offers an in-depth examination of war as presented in Stephen Crane’s novel The Red Badge of Courage, as well as contemporary perspectives on this issue. Discussions include the impact of combat trauma during the Civil War, the relationship between the Industrial Age and army combatants, the main character’s motivations in going to war, and war as both a cultural construct and as part of human nature.","English",46.4,37.119999999999997,"813","184 pp.",{"$f":"Table1[[#This Row],['# of Books]]*Table1[[#This Row],[QTY]]","v":0},{"$f":"Table1[[#This Row],[QTY]]*Table1[[#This Row],[School & Library Price]]","v":0}]
[null,50,null,null,"Arts and Humanities","Social Issues in Literature","War in Tim O'Brien's the Things They Carried","978-0-7377-5459-9","Greenhaven Publishing","Library Bound Book",1,2011,null,"Library Bound","6.000 X 9.000","Author","Gary Wiener",null,null,null,null,null,null,"Years 15 - 17",null,"Grade 10 - 12",null,"English",46.4,37.119999999999997,"813","224 pp.",{"$f":"Table1[[#This Row],['# of Books]]*Table1[[#This Row],[QTY]]","v":0},{"$f":"Table1[[#This Row],[QTY]]*Table1[[#This Row],[School & Library Price]]","v":0}]
[null,50,null,null,"Arts and Humanities","Social Issues in Literature","War in Tim O'Brien's the Things They Carried","978-0-7377-5460-5","Greenhaven Publishing","Paperback Book",1,2011,null,"Paperback","6.000 X 9.000","Author","Gary Wiener",null,null,null,null,null,null,"Years 15 - 17",null,"Grade 10 - 12",null,"English",32,25.6,"813","222 pp.",{"$f":"Table1[[#This Row],['# of Books]]*Table1[[#This Row],[QTY]]","v":0},{"$f":"Table1[[#This Row],[QTY]]*Table1[[#This Row],[School & Library Price]]","v":0}]
[null,48,null,null,"Arts and Humanities","Social Issues in Literature","Wilderness Adventure in Jon Krakaueræs into the Wild","978-0-7377-7324-8","Greenhaven Publishing","eBook",1,2015,null,"eBook",null,null,"Noël Merino",null,null,null,null,null,null,"Years 15 - 17",null,"Grade 10 - 12",null,"English",51.04,51.04,"814.54","150 pp.",{"$f":"Table1[[#This Row],['# of Books]]*Table1[[#This Row],[QTY]]","v":0},{"$f":"Table1[[#This Row],[QTY]]*Table1[[#This Row],[School & Library Price]]","v":0}]
[null,50,null,null,"Arts and Humanities","Social Issues in Literature","Women's Issues in Alice Walker's the Color Purple","978-0-7377-6014-9","Greenhaven Publishing","eBook",1,2011,null,"eBook",null,"Author","Claudia Durst Johnson",null,null,null,null,null,null,"Years 15 - 17",null,"Grade 10 - 12",null,"English",51.04,51.04,"813.54","168 pp.",{"$f":"Table1[[#This Row],['# of Books]]*Table1[[#This Row],[QTY]]","v":0},{"$f":"Table1[[#This Row],[QTY]]*Table1[[#This Row],[School & Library Price]]","v":0}]
[null,50,null,null,"Arts and Humanities","Social Issues in Literature","Women's Issues in Amy Tan's the Joy Luck Club","978-0-7377-3902-2","Greenhaven Publishing","Paperback Book",1,2008,null,"Paperback","6.000 X 9.000","Author","Gary Wiener",null,null,null,null,null,null,"Years 15 - 17",null,"Grade 10 - 12",null,"English",32,25.6,"813","191 pp.",{"$f":"Table1[[#This Row],['# of Books]]*Table1[[#This Row],[QTY]]","v":0},{"$f":"Table1[[#This Row],[QTY]]*Table1[[#This Row],[School & Library Price]]","v":0}]
[null,50,null,null,"Arts and Humanities","Social Issues in Literature","Women's Issues in Kate Chopin's the Awakening","978-0-7377-5820-7","Greenhaven Publishing","Paperback Book",1,2012,null,"Paperback","6.000 X 9.000","Author","Dedria Bryfonski",null,null,null,null,null,null,"Years 15 - 17",null,"Grade 10 - 12",null,"English",32,25.6,"813","197 pp.",{"$f":"Table1[[#This Row],['# of Books]]*Table1[[#This Row],[QTY]]","v":0},{"$f":"Table1[[#This Row],[QTY]]*Table1[[#This Row],[School & Library Price]]","v":0}]
[null,50,null,null,"Arts and Humanities","Social Issues in Literature","Women's Issues in Nathaniel Hawthorne's the Scarlett Letter","978-0-7377-4263-3","Greenhaven Publishing","Paperback Book",1,2008,null,"Paperback","6.000 X 9.000","Author","Claudia Durst Johnson",null,null,null,null,null,null,"Years 15 - 17",null,"Grade 10 - 12",null,"English",32,25.6,"813","167 pp.",{"$f":"Table1[[#This Row],['# of Books]]*Table1[[#This Row],[QTY]]","v":0},{"$f":"Table1[[#This Row],[QTY]]*Table1[[#This Row],[School & Library Price]]","v":0}]
[null,50,null,null,"Arts and Humanities","Social Issues in Literature","Women's Issues in Zora Neale Hurston's Their Eyes Were Watching God","978-0-7377-6574-8","Greenhaven Publishing","eBook",1,2012,null,"eBook",null,"Author","Gary Wiener",null,null,null,null,null,null,"Years 15 - 17",null,"Grade 10 - 12","This volume of SOCIAL ISSUES IN LITERATURE examines Zora Neale Hurston’s life and writings, with a specific look at key ideas related to Their Eyes Were Watching God. The text discusses a variety of topics, including whether the novel can be viewed as an example for all women, whether it still relevant today, and whether it proves that romantic fantasies cannot last. The book also explores contemporary views of women’s issues, such as the idea of women creating their own model of a female hero and the impact of white stereotypes on modern black women.","English",51.04,51.04,"813.52","199 pp.",{"$f":"Table1[[#This Row],['# of Books]]*Table1[[#This Row],[QTY]]","v":0},{"$f":"Table1[[#This Row],[QTY]]*Table1[[#This Row],[School & Library Price]]","v":0}]
[null,50,null,null,"Arts and Humanities","Social Issues in Literature","Women's Search for Independence in Charlotte Bronte's Jane Eyre","978-0-7377-5450-6","Greenhaven Publishing","Library Bound Book",1,2011,null,"Library Bound","6.000 X 9.000","Author","Claudia Johnson",null,null,null,null,null,null,"Years 15 - 17",null,"Grade 10 - 12",null,"English",46.4,37.119999999999997,"823","168 pp.",{"$f":"Table1[[#This Row],['# of Books]]*Table1[[#This Row],[QTY]]","v":0},{"$f":"Table1[[#This Row],[QTY]]*Table1[[#This Row],[School & Library Price]]","v":0}]
[null,51,null,null,"Health & Medicine","Perspectives on Diseases and Disorders","ADHD","978-0-7377-5047-8","Greenhaven Publishing","eBook",1,2009,null,"eBook",null,"Author","Jacqueline Langwith",null,null,null,null,null,null,"Years 15 - 17",null,"Grade 10 - 12",null,"English",48.73,48.73,"618.92","160 pp.",{"$f":"Table1[[#This Row],['# of Books]]*Table1[[#This Row],[QTY]]","v":0},{"$f":"Table1[[#This Row],[QTY]]*Table1[[#This Row],[School & Library Price]]","v":0}]
[null,51,null,null,"Health & Medicine","Perspectives on Diseases and Disorders","Alzheimer's Disease","978-0-7377-4024-0","Greenhaven Publishing","Library Bound Book",1,2008,null,"Library Bound","7.000 X 9.000","Author","Adrienne Wilmoth Lerner",null,null,null,null,null,null,"Years 15 - 17",null,"Grade 10 - 12",null,"English",44.3,35.44,"616","152 pp.",{"$f":"Table1[[#This Row],['# of Books]]*Table1[[#This Row],[QTY]]","v":0},{"$f":"Table1[[#This Row],[QTY]]*Table1[[#This Row],[School & Library Price]]","v":0}]
[null,51,null,null,"Health & Medicine","Perspectives on Diseases and Disorders","Anxiety Disorders","978-0-7377-5052-2","Greenhaven Publishing","Library Bound Book",1,2010,null,"Library Bound","7.000 X 9.000","Author","Sarah Hina",null,null,null,null,null,null,"Years 15 - 17",null,"Grade 10 - 12","This volume offers a greater understanding of the symptoms and treatment of anxiety disorders, including their connection with depression and obsessive-compulsive disorder (OCD). Chapters offer perspectives on if and why diseases like social anxiety and post-traumatic stress are being over-, under-, or mis-diagnosed. Personal accounts are presented by people living with agoraphobia, OCD and panic disorder.","English",44.3,35.44,"616","136 pp.",{"$f":"Table1[[#This Row],['# of Books]]*Table1[[#This Row],[QTY]]","v":0},{"$f":"Table1[[#This Row],[QTY]]*Table1[[#This Row],[School & Library Price]]","v":0}]
[null,51,null,null,"Health & Medicine","Perspectives on Diseases and Disorders","Asthma","978-0-7377-4551-1","Greenhaven Publishing","Library Bound Book",1,2010,null,"Library Bound","7.000 X 9.000","Author","Clayton Farris Naff",null,null,null,null,null,null,"Years 15 - 17",null,"Grade 10 - 12",null,"English",44.3,35.44,"616","144 pp.",{"$f":"Table1[[#This Row],['# of Books]]*Table1[[#This Row],[QTY]]","v":0},{"$f":"Table1[[#This Row],[QTY]]*Table1[[#This Row],[School & Library Price]]","v":0}]
[null,51,null,null,"Health & Medicine","Perspectives on Diseases and Disorders","Breast Cancer","978-0-7377-4244-2","Greenhaven Publishing","Library Bound Book",1,2009,null,"Library Bound","7.000 X 9.000","Author","Carrie Fredericks",null,null,null,null,null,null,"Years 15 - 17",null,"Grade 10 - 12",null,"English",44.3,35.44,"616","160 pp.",{"$f":"Table1[[#This Row],['# of Books]]*Table1[[#This Row],[QTY]]","v":0},{"$f":"Table1[[#This Row],[QTY]]*Table1[[#This Row],[School & Library Price]]","v":0}]
[null,51,null,null,"Health & Medicine","Perspectives on Diseases and Disorders","Cerebral Palsy","978-0-7377-5885-6","Greenhaven Publishing","eBook",1,2011,null,"eBook",null,"Author","Jacqueline Langwith",null,null,null,null,null,null,"Years 15 - 17",null,"Grade 10 - 12","This volume in the PERSPECTIVES ON DISEASES & DISORDERS series provides essential information on Cerebral Palsy; presents the controversies surrounding causes, alternative treatments, and other issues; and offers first-person narratives from people coping with the disease -- either as patients, family members or caregivers. Essays are carefully edited and introduced to make them easily accessible to student researchers as well as general readers. By focusing on the controversies surrounding diseases and disorders, this series supports debate assignments and helps develop critical thinking skills, and also helps patients and family members learn about and deal with a disease or disorder.","English",48.73,48.73,"616.8","144 pp.",{"$f":"Table1[[#This Row],['# of Books]]*Table1[[#This Row],[QTY]]","v":0},{"$f":"Table1[[#This Row],[QTY]]*Table1[[#This Row],[School & Library Price]]","v":0}]
[null,51,null,null,"Health & Medicine","Perspectives on Diseases and Disorders","Childhood Obesity","978-0-7377-6350-8","Greenhaven Publishing","Library Bound Book",1,2013,null,"Library Bound","7.000 X 9.000","Author","Jacqueline Langwith",null,null,null,null,null,null,"Years 15 - 17",null,"Grade 10 - 12","This volume includes an overview of childhood obesity, including the health risks of the condition, a look at controversies surrounding childhood obesity, focusing on contributing factors, the effectiveness of anti-obesity programs, the role government should play, and whether bariatric surgery is appropriate for children, and personal stories of people dealing with childhood obesity, including a mother whose daughter is obese and a woman describing the bullying she experienced as an overweight child.","English",44.3,35.44,"616","152 pp.",{"$f":"Table1[[#This Row],['# of Books]]*Table1[[#This Row],[QTY]]","v":0},{"$f":"Table1[[#This Row],[QTY]]*Table1[[#This Row],[School & Library Price]]","v":0}]
[null,52,null,null,"Health & Medicine","Perspectives on Diseases and Disorders","Chronic Fatigue Syndrome","978-0-7377-6408-6","Greenhaven Publishing","eBook",1,2012,null,"eBook",null,"Author","Sylvia Engdahl",null,null,null,null,null,null,"Years 15 - 17",null,"Grade 10 - 12",null,"English",48.73,48.73,"616.0478","128 pp.",{"$f":"Table1[[#This Row],['# of Books]]*Table1[[#This Row],[QTY]]","v":0},{"$f":"Table1[[#This Row],[QTY]]*Table1[[#This Row],[School & Library Price]]","v":0}]
[null,52,null,null,"Health & Medicine","Perspectives on Diseases and Disorders","Deafness and Hearing Impairment","978-0-7377-4788-1","Greenhaven Publishing","Library Bound Book",1,2010,null,"Library Bound","7.000 X 9.000","Author","Clay Farris Naff",null,null,null,null,null,null,"Years 15 - 17",null,"Grade 10 - 12","Provides an overview of deafness and hearing impairment, including its causes, diagnostic and treatment options, and impact on balance. Looks at deafness as a separate culture versus deafness as a disability; and the controversy surrounding cochlear implants. Also offers personal stories from people living with hearing impairment.","English",44.3,35.44,"617","144 pp.",{"$f":"Table1[[#This Row],['# of Books]]*Table1[[#This Row],[QTY]]","v":0},{"$f":"Table1[[#This Row],[QTY]]*Table1[[#This Row],[School & Library Price]]","v":0}]
[null,52,null,null,"Health & Medicine","Perspectives on Diseases and Disorders","Depression","978-0-7377-4246-6","Greenhaven Publishing","Library Bound Book",1,2009,null,"Library Bound","7.000 X 9.000","Author","Jacqueline Langwith",null,null,null,null,null,null,"Years 15 - 17",null,"Grade 10 - 12",null,"English",44.3,35.44,"616","168 pp.",{"$f":"Table1[[#This Row],['# of Books]]*Table1[[#This Row],[QTY]]","v":0},{"$f":"Table1[[#This Row],[QTY]]*Table1[[#This Row],[School & Library Price]]","v":0}]
[null,52,null,null,"Health & Medicine","Perspectives on Diseases and Disorders","Eating Disorders","978-0-7377-3872-8","Greenhaven Publishing","Library Bound Book",1,2008,null,"Library Bound","7.000 X 9.000","Author","Lorraine Savage",null,null,null,null,null,null,"Years 15 - 17",null,"Grade 10 - 12","This volume in the PERSPECTIVES ON DISEASES & DISORDERS series provides essential information on eating disorders (the debilitating illness of anorexia, bulimia and binge eating); presents the controversies surrounding causes, alternative treatments, and other issues; and offers first-person narratives from people coping with the disease.  Essays are carefully edited and introduced to make them easily accessible to student researchers as well as general readers. By focusing on the controversies surrounding DISEASES AND DISORDERS, this series supports debate assignments and helps develop critical thinking skills, and also helps patients and family members learn about and deal with a disease or disorder.","English",44.3,35.44,"616","144 pp.",{"$f":"Table1[[#This Row],['# of Books]]*Table1[[#This Row],[QTY]]","v":0},{"$f":"Table1[[#This Row],[QTY]]*Table1[[#This Row],[School & Library Price]]","v":0}]
[null,52,null,null,"Health & Medicine","Perspectives on Diseases and Disorders","Fetal Alcohol Syndrome","978-0-7377-5541-1","Greenhaven Publishing","eBook",1,2011,null,"eBook",null,"Author","Jacqueline Langwith",null,null,null,null,null,null,"Years 15 - 17",null,"Grade 10 - 12","This volume in the PERSPECTIVES ON DISEASES & DISORDERS series provides essential information on Fetal Alcohol Syndrome; presents the controversies surrounding causes, alternative treatments, and other issues; and offers first-person narratives from people coping with the disease -- either as patients, family members or caregivers. Essays are carefully edited and introduced to make them easily accessible to student researchers as well as general readers. By focusing on the controversies surrounding diseases and disorders, this series supports debate assignments and helps develop critical thinking skills, and also helps patients and family members learn about and deal with a disease or disorder.","English",48.73,48.73,"618.3","136 pp.",{"$f":"Table1[[#This Row],['# of Books]]*Table1[[#This Row],[QTY]]","v":0},{"$f":"Table1[[#This Row],[QTY]]*Table1[[#This Row],[School & Library Price]]","v":0}]
[null,52,null,null,"Health & Medicine","Perspectives on Diseases and Disorders","Food-borne Diseases","978-0-7377-5936-5","Greenhaven Publishing","eBook",1,2011,null,"eBook",null,"Author","Arthur Gillard",null,null,null,null,null,null,"Years 15 - 17",null,"Grade 10 - 12",null,"English",48.73,48.73,"615.9","160 pp.",{"$f":"Table1[[#This Row],['# of Books]]*Table1[[#This Row],[QTY]]","v":0},{"$f":"Table1[[#This Row],[QTY]]*Table1[[#This Row],[School & Library Price]]","v":0}]
[null,52,null,null,"Health & Medicine","Perspectives on Diseases and Disorders","Heart Disease","978-0-7377-4026-4","Greenhaven Publishing","Library Bound Book",1,2008,null,"Library Bound","7.000 X 9.000","Author","Clayton Farris Naff",null,null,null,null,null,null,"Years 15 - 17",null,"Grade 10 - 12",null,"English",44.3,35.44,"616","136 pp.",{"$f":"Table1[[#This Row],['# of Books]]*Table1[[#This Row],[QTY]]","v":0},{"$f":"Table1[[#This Row],[QTY]]*Table1[[#This Row],[School & Library Price]]","v":0}]
[null,52,null,null,"Health & Medicine","Perspectives on Diseases and Disorders","HPV","978-0-7377-6793-3","Greenhaven Publishing","eBook",1,2013,null,"eBook",null,"Author","Jacqueline Langwith",null,null,null,null,null,null,"Years 15 - 17",null,"Grade 10 - 12","This volume examines the human papillomavirus (HPV), the primary cause of cervical cancer, including overview information; an examination of controversies about the HPV vaccine and the best way to prevent HPV; and personal narratives from those affected by HPV and cervical cancer.  Includes numerous color photos, charts, graphs and tables as well as a glossary of key terms, a chronology of developments relating to the disease or disorder, a bibliography to assist with further research, a list of organizations to contact and an index.","English",48.73,48.73,"616.9","144 pp.",{"$f":"Table1[[#This Row],['# of Books]]*Table1[[#This Row],[QTY]]","v":0},{"$f":"Table1[[#This Row],[QTY]]*Table1[[#This Row],[School & Library Price]]","v":0}]
[null,52,null,null,"Health & Medicine","Perspectives on Diseases and Disorders","HPV","978-0-7377-6355-3","Greenhaven Publishing","Library Bound Book",1,2013,null,"Library Bound","7.000 X 9.000","Author","Jacqueline Langwith",null,null,null,null,null,null,"Years 15 - 17",null,"Grade 10 - 12","This volume examines the human papillomavirus (HPV), the primary cause of cervical cancer, including overview information; an examination of controversies about the HPV vaccine and the best way to prevent HPV; and personal narratives from those affected by HPV and cervical cancer.","English",44.3,35.44,"616","144 pp.",{"$f":"Table1[[#This Row],['# of Books]]*Table1[[#This Row],[QTY]]","v":0},{"$f":"Table1[[#This Row],[QTY]]*Table1[[#This Row],[School & Library Price]]","v":0}]
[null,52,null,null,"Health & Medicine","Perspectives on Diseases and Disorders","Influenza","978-0-7377-6036-1","Greenhaven Publishing","eBook",1,2011,null,"eBook",null,"Author","Clay Farris Naff",null,null,null,null,null,null,"Years 15 - 17",null,"Grade 10 - 12",null,"English",48.73,48.73,"614.5","128 pp.",{"$f":"Table1[[#This Row],['# of Books]]*Table1[[#This Row],[QTY]]","v":0},{"$f":"Table1[[#This Row],[QTY]]*Table1[[#This Row],[School & Library Price]]","v":0}]
[null,52,null,null,"Health & Medicine","Perspectives on Diseases and Disorders","Leukemia","978-0-7377-5048-5","Greenhaven Publishing","eBook",1,2009,null,"eBook",null,"Author","Adrienne Wilmoth Lerner",null,null,null,null,null,null,"Years 15 - 17",null,"Grade 10 - 12",null,"English",48.73,48.73,"616.99","160 pp.",{"$f":"Table1[[#This Row],['# of Books]]*Table1[[#This Row],[QTY]]","v":0},{"$f":"Table1[[#This Row],[QTY]]*Table1[[#This Row],[School & Library Price]]","v":0}]
[null,52,null,null,"Health & Medicine","Perspectives on Diseases and Disorders","Lung Cancer","978-0-7377-5872-6","Greenhaven Publishing","eBook",1,2011,null,"eBook",null,"Author","Jacqueline Langwith",null,null,null,null,null,null,"Years 15 - 17",null,"Grade 10 - 12",null,"English",48.73,48.73,"616.99","136 pp.",{"$f":"Table1[[#This Row],['# of Books]]*Table1[[#This Row],[QTY]]","v":0},{"$f":"Table1[[#This Row],[QTY]]*Table1[[#This Row],[School & Library Price]]","v":0}]
[null,52,null,null,"Health & Medicine","Perspectives on Diseases and Disorders","Lupus","978-0-7377-4789-8","Greenhaven Publishing","Library Bound Book",1,2010,null,"Library Bound","7.000 X 9.000","Author","Hayley Mitchell Haugen",null,null,null,null,null,null,"Years 15 - 17",null,"Grade 10 - 12","Provides an overview of lupus, including the types, causes, symptoms, and treatments. Looks at issues surrounding lupus, such as the impact of the disease on men and pregnant women, the potential for psychological and neurological problems, the effectiveness of therapies, and general cultural awareness. Also offers personal stories from people living with lupus.","English",44.3,35.44,"616","136 pp.",{"$f":"Table1[[#This Row],['# of Books]]*Table1[[#This Row],[QTY]]","v":0},{"$f":"Table1[[#This Row],[QTY]]*Table1[[#This Row],[School & Library Price]]","v":0}]
[null,52,null,null,"Health & Medicine","Perspectives on Diseases and Disorders","Lymphoma","978-0-7377-5778-1","Greenhaven Publishing","Library Bound Book",1,2012,null,"Library Bound","7.000 X 9.000","Author","Arthur Gillard",null,null,null,null,null,null,"Years 15 - 17",null,"Grade 10 - 12","This new volume in the PERSPECTIVES ON DISEASES & DISORDERS series provides an overview of lymphoma, including diagnosis, prevention, and current research. Controversies surrounding lymphoma, including the impact and effectiveness of chemotherapy and the use of marijuana as a potential treatment, are discussed, as is the role of a healthy lifestyle in beating and avoiding cancer. The text also features personal stories of people impacted by lymphoma, including a father and son, and a woman reacting to her lymphoma diagnosis.","English",44.3,35.44,"616","152 pp.",{"$f":"Table1[[#This Row],['# of Books]]*Table1[[#This Row],[QTY]]","v":0},{"$f":"Table1[[#This Row],[QTY]]*Table1[[#This Row],[School & Library Price]]","v":0}]
[null,52,null,null,"Health & Medicine","Perspectives on Diseases and Disorders","Meningitis","978-0-7377-5276-2","Greenhaven Publishing","eBook",1,2010,null,"eBook",null,"Author","Sylvia Engdahl",null,null,null,null,null,null,"Years 15 - 17",null,"Grade 10 - 12",null,"English",48.73,48.73,"616.8","144 pp.",{"$f":"Table1[[#This Row],['# of Books]]*Table1[[#This Row],[QTY]]","v":0},{"$f":"Table1[[#This Row],[QTY]]*Table1[[#This Row],[School & Library Price]]","v":0}]
[null,52,null,null,"Health & Medicine","Perspectives on Diseases and Disorders","Mood Disorders","978-0-7377-5049-2","Greenhaven Publishing","eBook",1,2009,null,"eBook",null,"Author","Jacqueline Langwith",null,null,null,null,null,null,"Years 15 - 17",null,"Grade 10 - 12",null,"English",48.73,48.73,"616.85","168 pp.",{"$f":"Table1[[#This Row],['# of Books]]*Table1[[#This Row],[QTY]]","v":0},{"$f":"Table1[[#This Row],[QTY]]*Table1[[#This Row],[School & Library Price]]","v":0}]
[null,52,null,null,"Health & Medicine","Perspectives on Diseases and Disorders","Mood Disorders","978-0-7377-4380-7","Greenhaven Publishing","Library Bound Book",1,2009,null,"Library Bound","7.000 X 9.000","Author","Jacqueline Langwith",null,null,null,null,null,null,"Years 15 - 17",null,"Grade 10 - 12",null,"English",44.3,35.44,"616","168 pp.",{"$f":"Table1[[#This Row],['# of Books]]*Table1[[#This Row],[QTY]]","v":0},{"$f":"Table1[[#This Row],[QTY]]*Table1[[#This Row],[School & Library Price]]","v":0}]
[null,52,null,null,"Health & Medicine","Perspectives on Diseases and Disorders","Multiple Sclerosis","978-0-7377-4381-4","Greenhaven Publishing","Library Bound Book",1,2009,null,"Library Bound","7.000 X 9.000","Author","Clayton Farris Naff",null,null,null,null,null,null,"Years 15 - 17",null,"Grade 10 - 12",null,"English",44.3,35.44,"616","152 pp.",{"$f":"Table1[[#This Row],['# of Books]]*Table1[[#This Row],[QTY]]","v":0},{"$f":"Table1[[#This Row],[QTY]]*Table1[[#This Row],[School & Library Price]]","v":0}]
[null,52,null,null,"Health & Medicine","Perspectives on Diseases and Disorders","Neurodegenerative Disorders","978-0-7377-6794-0","Greenhaven Publishing","eBook",1,2013,null,"eBook",null,"Author","Sylvia Engdahl",null,null,null,null,null,null,"Years 15 - 17",null,"Grade 10 - 12","This title addresses the causes, symptoms, diagnoses, treatments, and controversies associated with such neurodegenerative diseases as Alzheimer’s, Parkinson’s, ALS, Huntington’s, and multiple sclerosis. Also included are personal narratives relating the challenges of living with these diseases or caring for someone who has been afflicted.  Includes numerous color photos, charts, graphs and tables as well as a glossary of key terms, a chronology of developments relating to the disease or disorder, a bibliography to assist with further research, a list of organizations to contact and an index.","English",48.73,48.73,"616.8","160 pp.",{"$f":"Table1[[#This Row],['# of Books]]*Table1[[#This Row],[QTY]]","v":0},{"$f":"Table1[[#This Row],[QTY]]*Table1[[#This Row],[School & Library Price]]","v":0}]
[null,53,null,null,"Health & Medicine","Perspectives on Diseases and Disorders","Ovarian Cancer","978-0-7377-6634-9","Greenhaven Publishing","eBook",1,2012,null,"eBook",null,"Author","Christina Fisanick",null,null,null,null,null,null,"Years 15 - 17",null,"Grade 10 - 12","This volume includes an overview of ovarian cancer, including risk factors, types and stages of ovarian cancer, and conventional as well as alternative treatments, a look at controversies surrounding ovarian cancer, focusing on the impact of fertility drugs, hormone treatments,  and oral contraceptives on this type of cancer; whether symptoms can be relied upon to detect ovarian cancer early; and the role of preventative surgery and chemotherapy in treatment of ovarian cancer, and personal stories of people dealing with ovarian cancer, including a young woman determined to preserve her fertility even while being treated for ovarian cancer.","English",48.73,48.73,"616.99","128 pp.",{"$f":"Table1[[#This Row],['# of Books]]*Table1[[#This Row],[QTY]]","v":0},{"$f":"Table1[[#This Row],[QTY]]*Table1[[#This Row],[School & Library Price]]","v":0}]
[null,53,null,null,"Health & Medicine","Perspectives on Diseases and Disorders","Parkinson's Disease","978-0-7377-4382-1","Greenhaven Publishing","Library Bound Book",1,2009,null,"Library Bound","7.000 X 9.000","Author","Carrie Fredericks",null,null,null,null,null,null,"Years 15 - 17",null,"Grade 10 - 12",null,"English",44.3,35.44,"616","144 pp.",{"$f":"Table1[[#This Row],['# of Books]]*Table1[[#This Row],[QTY]]","v":0},{"$f":"Table1[[#This Row],[QTY]]*Table1[[#This Row],[School & Library Price]]","v":0}]
[null,53,null,null,"Health & Medicine","Perspectives on Diseases and Disorders","Schizophrenia","978-0-7377-5520-6","Greenhaven Publishing","eBook",1,2010,null,"eBook",null,"Author","Jacqueline Langwith",null,null,null,null,null,null,"Years 15 - 17",null,"Grade 10 - 12",null,"English",48.73,48.73,"616.89","144 pp.",{"$f":"Table1[[#This Row],['# of Books]]*Table1[[#This Row],[QTY]]","v":0},{"$f":"Table1[[#This Row],[QTY]]*Table1[[#This Row],[School & Library Price]]","v":0}]
[null,53,null,null,"Health & Medicine","Perspectives on Diseases and Disorders","Sleep Disorders","978-0-7377-6002-6","Greenhaven Publishing","eBook",1,2011,null,"eBook",null,"Author","Sylvia Engdahl",null,null,null,null,null,null,"Years 15 - 17",null,"Grade 10 - 12",null,"English",48.73,48.73,"616.8","152 pp.",{"$f":"Table1[[#This Row],['# of Books]]*Table1[[#This Row],[QTY]]","v":0},{"$f":"Table1[[#This Row],[QTY]]*Table1[[#This Row],[School & Library Price]]","v":0}]
[null,53,null,null,"Health & Medicine","Perspectives on Diseases and Disorders","Speech Disorders","978-0-7377-5783-5","Greenhaven Publishing","Library Bound Book",1,2012,null,"Library Bound","7.000 X 9.000","Author","Mary E. Williams",null,null,null,null,null,null,"Years 15 - 17",null,"Grade 10 - 12","This new volume in the PERSPECTIVES ON DISEASES & DISORDERS series provides an overview of speech disorders, including diagnosis, prevention, and current research. Controversies surrounding speech disorders -- including the prevalence of discrimination against stutters, the role of brain function and speech therapy in treating speech disorders, and the role of anxiety and family dysfunction in selective mutism -- are discussed. Personal stories of people impacted by speech disorders, such as a women who tried for years to hide her stuttering and the mother of a young boy with selective mutism, are also included.","English",44.3,35.44,"616","160 pp.",{"$f":"Table1[[#This Row],['# of Books]]*Table1[[#This Row],[QTY]]","v":0},{"$f":"Table1[[#This Row],[QTY]]*Table1[[#This Row],[School & Library Price]]","v":0}]
[null,53,null,null,"Health & Medicine","Perspectives on Diseases and Disorders","Sports Injuries","978-0-7377-7054-4","Greenhaven Publishing","eBook",1,2014,null,"eBook",null,"Author","Jacqueline Langwith",null,null,null,null,null,null,"Years 15 - 17",null,"Grade 10 - 12","This volume provides background information on the circumstances surrounding injured human athletes. It provides information on the latest advances in treating sports injuries including ACL tears, commentary about controversial sports injury issues such as concussions in collision sports such as football, and personal stories about sports injuries.","English",48.73,48.73,"617.1","136 pp.",{"$f":"Table1[[#This Row],['# of Books]]*Table1[[#This Row],[QTY]]","v":0},{"$f":"Table1[[#This Row],[QTY]]*Table1[[#This Row],[School & Library Price]]","v":0}]
[null,53,null,null,"Health & Medicine","Perspectives on Diseases and Disorders","Stroke","978-0-7377-6359-1","Greenhaven Publishing","Library Bound Book",1,2013,null,"Library Bound","7.000 X 9.000","Author","Arthur Gillard",null,null,null,null,null,null,"Years 15 - 17",null,"Grade 10 - 12","This volume includes an overview of stroke, including diagnosis; symptoms; and treatment, a look at controversies surrounding stroke, focusing on the use of stem cell therapy to treat the effects of stroke, the alarming increase of stroke among young people, and whether chiropractic adjustment does or does not cause stroke, and personal stories of people living with stroke such a young mother who suffered a stroke, a man who survived a stroke at age 10, and a brain scientist who suffered and learned from a stroke.","English",44.3,35.44,"616","144 pp.",{"$f":"Table1[[#This Row],['# of Books]]*Table1[[#This Row],[QTY]]","v":0},{"$f":"Table1[[#This Row],[QTY]]*Table1[[#This Row],[School & Library Price]]","v":0}]
[null,53,null,null,"Health & Medicine","Perspectives on Diseases and Disorders","Tourette Syndrome","978-0-7377-6360-7","Greenhaven Publishing","Library Bound Book",1,2013,null,"Library Bound","7.000 X 9.000","Author","Mary E. Williams",null,null,null,null,null,null,"Years 15 - 17",null,"Grade 10 - 12","This volume includes an overview of tourette syndrome, including diagnosis; symptoms; and treatment, a look at controversies surrounding tourette syndrome, focusing on effectiveness of various treatment including diet, environmental factors, and deep brain stimulation, and personal stories of people living with tourette syndrome such a student that faces bullies, a woman who describes in detail the \"anatomy of a tic\", and a concert pianist living with tourette syndrome.","English",44.3,35.44,"616","136 pp.",{"$f":"Table1[[#This Row],['# of Books]]*Table1[[#This Row],[QTY]]","v":0},{"$f":"Table1[[#This Row],[QTY]]*Table1[[#This Row],[School & Library Price]]","v":0}]
[null,54,null,null,"U.S. History","Constitutional Amendments: Beyond the Bill of Rights","Amendment XII: Presidential Election Process","978-0-7377-5056-0","Greenhaven Publishing","Paperback Book",1,2009,null,"Paperback","6.000 X 9.000","Author","Jared Zacharias",null,null,null,null,null,null,null,null,"",null,"English",20.100000000000001,16.080000000000002,"342","143 pp.",{"$f":"Table1[[#This Row],['# of Books]]*Table1[[#This Row],[QTY]]","v":0},{"$f":"Table1[[#This Row],[QTY]]*Table1[[#This Row],[School & Library Price]]","v":0}]
[null,54,null,null,"U.S. History","Constitutional Amendments: Beyond the Bill of Rights","Amendment XIII: Abolishing Slavery","978-0-7377-4584-9","Greenhaven Publishing","eBook",1,2009,null,"eBook",null,"Author","Tracey Biscontini",null,null,null,null,null,null,"Years 12 - 17",null,"Grade 7 - 12","A well-rounded social studies education is grounded in an understanding of how the Constitution -- the blueprint for a democratic society -- works. Each volume begins with the amendment text (accompanied by a student-friendly translation). Chapters put the amendment in historical context, examine how it has been tested in the courts and presents current controversies and debates. Reflecting provisions in both the national and state curriculum standards, these volumes provide primary and secondary sources that examine the roots of constitutional democracy as well as how the interpretation of the Constitution has evolved throughout American history. The series also explores the meaning of citizenship as well as its rights and responsibilities.","English",47.52,47.52,"342.73085","200 pp.",{"$f":"Table1[[#This Row],['# of Books]]*Table1[[#This Row],[QTY]]","v":0},{"$f":"Table1[[#This Row],[QTY]]*Table1[[#This Row],[School & Library Price]]","v":0}]
[null,54,null,null,"U.S. History","Constitutional Amendments: Beyond the Bill of Rights","Amendment XIV: Due Process","978-0-7377-4588-7","Greenhaven Publishing","eBook",1,2009,null,"eBook",null,"Author","Carrie Fredericks",null,null,null,null,null,null,"Years 12 - 17",null,"Grade 7 - 12","A well-rounded social studies education is grounded in an understanding of how the Constitution -- the blueprint for a democratic society -- works. This title presents the Fourteenth Amendment in a historical context, examining how it has been tested in the courts and present current controversies and debates. Focuses on due process. Each volume begins with the amendment text (accompanied by a student-friendly translation). Chapters put the amendment in historical context, examine how it has been tested in the courts and presents current controversies and debates. Reflecting provisions in both the national and state curriculum standards, these volumes provide primary and secondary sources that examine the roots of constitutional democracy as well as how the interpretation of the Constitution has evolved throughout American history. The series also explores the meaning of citizenship as well as its rights and responsibilities. ","English",47.52,47.52,"342.73085","166 pp.",{"$f":"Table1[[#This Row],['# of Books]]*Table1[[#This Row],[QTY]]","v":0},{"$f":"Table1[[#This Row],[QTY]]*Table1[[#This Row],[School & Library Price]]","v":0}]
[null,54,null,null,"U.S. History","Constitutional Amendments: Beyond the Bill of Rights","Amendment XIX: Granting Women the Right to Vote","978-0-7377-5061-4","Greenhaven Publishing","Paperback Book",1,2009,null,"Paperback","6.000 X 9.000","Author","Carrie Fredericks",null,null,null,null,null,null,null,null,"",null,"English",20.100000000000001,16.080000000000002,"342","167 pp.",{"$f":"Table1[[#This Row],['# of Books]]*Table1[[#This Row],[QTY]]","v":0},{"$f":"Table1[[#This Row],[QTY]]*Table1[[#This Row],[School & Library Price]]","v":0}]
[null,54,null,null,"U.S. History","Constitutional Amendments: Beyond the Bill of Rights","Amendment XV: Race and the Right to Vote","978-0-7377-5062-1","Greenhaven Publishing","Paperback Book",1,2009,null,"Paperback","6.000 X 9.000","Author","Jeff Hay",null,null,null,null,null,null,null,null,"",null,"English",20.100000000000001,16.080000000000002,"342","154 pp.",{"$f":"Table1[[#This Row],['# of Books]]*Table1[[#This Row],[QTY]]","v":0},{"$f":"Table1[[#This Row],[QTY]]*Table1[[#This Row],[School & Library Price]]","v":0}]
[null,54,null,null,"U.S. History","Constitutional Amendments: Beyond the Bill of Rights","Amendment XV: Race and the Right to Vote","978-0-7377-4590-0","Greenhaven Publishing","eBook",1,2009,null,"eBook",null,"Author","Jeff Hay",null,null,null,null,null,null,"Years 12 - 17",null,"Grade 7 - 12","A well-rounded social studies education is grounded in an understanding of how the Constitution -- the blueprint for a democratic society -- works. This title presents the Fifteenth Amendment in a historical context, examining how it has been tested in the courts and present current controversies and debates. Focuses on race and the right to vote. Each volume begins with the amendment text (accompanied by a student-friendly translation). Chapters put the amendment in historical context, examine how it has been tested in the courts and presents current controversies and debates. Reflecting provisions in both the national and state curriculum standards, these volumes provide primary and secondary sources that examine the roots of constitutional democracy as well as how the interpretation of the Constitution has evolved throughout American history. The series also explores the meaning of citizenship as well as its rights and responsibilities. ","English",47.52,47.52,"342.73072","160 pp.",{"$f":"Table1[[#This Row],['# of Books]]*Table1[[#This Row],[QTY]]","v":0},{"$f":"Table1[[#This Row],[QTY]]*Table1[[#This Row],[School & Library Price]]","v":0}]
[null,54,null,null,"U.S. History","Constitutional Amendments: Beyond the Bill of Rights","Amendment XVII: Establishing Election to the U.S. Senate","978-0-7377-5341-7","Greenhaven Publishing","eBook",1,2010,null,"eBook",null,"Author","Jeff Hay",null,null,null,null,null,null,"Years 12 - 17",null,"Grade 7 - 12","A good social studies education is grounded in an understanding of how the Constitution - the blueprint for a democratic society - works. Each volume in this series opens with the text of an amendment accompanied by a student-friendly translation. Chapters then use diverse primary and secondary sources to put the amendment in historical context, examine how it has been tested, and present current controversies and debates. This title covers the seventeenth amendment, which established election to the U.S. Senate by popular vote and empowered states’ executives to fill vacancies with temporary appointments. A variety of sources explore the reasons the amendment was proposed and if it accomplished what was intended; calls to repeal or change it; and contemporary issues such as the seats vacated by the 2008 election and the death of Senator Edward Kennedy.","English",47.52,47.52,"342.73055","144 pp.",{"$f":"Table1[[#This Row],['# of Books]]*Table1[[#This Row],[QTY]]","v":0},{"$f":"Table1[[#This Row],[QTY]]*Table1[[#This Row],[School & Library Price]]","v":0}]
[null,54,null,null,"U.S. History","Constitutional Amendments: Beyond the Bill of Rights","Amendment XXV : Presidential Disability and Succession","978-0-7377-4698-3","Greenhaven Publishing","Library Bound Book",1,2010,null,"Library Bound","6.000 X 9.000","Author","Sylvia Engdahl",null,null,null,null,null,null,"Years 12 - 17",null,"Grade 7 - 12","A good social studies education is grounded in an understanding of how the Constitution - the blueprint for a democratic society - works. Each volume in this series opens with the text of an amendment accompanied by a student-friendly translation. Chapters then use diverse primary and secondary sources to put the amendment in historical context, examine how it has been tested, and present current controversies and debates.\n\nThis title covers the twenty-fifth amendment, which established the line of succession in the event of the president’s death as well as what to do in the case of the president’s disability. A variety of sources explore why the amendment was proposed less than two years after the assassination of John F. Kennedy, the situations in which it was and was not invoked after ratification, and calls to clarify or change it.","English",43.2,34.56,"342","208 pp.",{"$f":"Table1[[#This Row],['# of Books]]*Table1[[#This Row],[QTY]]","v":0},{"$f":"Table1[[#This Row],[QTY]]*Table1[[#This Row],[School & Library Price]]","v":0}]
[null,54,null,null,"U.S. History","Constitutional Amendments: Beyond the Bill of Rights","Amendment XXVI: Lowering the Voting Age","978-0-7377-5078-2","Greenhaven Publishing","eBook",1,2009,null,"eBook",null,"Author","Sylvia Engdahl",null,null,null,null,null,null,"Years 12 - 17",null,"Grade 7 - 12","A well-rounded social studies education is grounded in an understanding of how the Constitution -- the blueprint for a democratic society -- works. This title presents the Twenty-sixth Amendment in a historical context, examining how it has been tested in the courts and present current controversies and debates. Focuses on lowering the voting age. Each volume begins with the amendment text (accompanied by a student-friendly translation). Chapters put the amendment in historical context, examine how it has been tested in the courts and presents current controversies and debates. Reflecting provisions in both the national and state curriculum standards, these volumes provide primary and secondary sources that examine the roots of constitutional democracy as well as how the interpretation of the Constitution has evolved throughout American history. The series also explores the meaning of citizenship as well as its rights and responsibilities.","English",47.52,47.52,"342.73039","224 pp.",{"$f":"Table1[[#This Row],['# of Books]]*Table1[[#This Row],[QTY]]","v":0},{"$f":"Table1[[#This Row],[QTY]]*Table1[[#This Row],[School & Library Price]]","v":0}]
[null,55,null,null,"U.S. History","The Bill of Rights","Freedom from Cruel and Unusual Punishment","978-0-7377-1925-3","Greenhaven Publishing","Library Bound Book",1,2005,null,"Library Bound","6.000 X 9.000","Author","Kristin O'Donnell Tubb",null,null,null,null,null,null,"Years 15 - 17",null,"Grade 10 - 12","To what degree should the American justice system punish offenders?  Should the age of the offender, or his mental capacity, or the severity of his crime help dictate a fair punishment?  This anthology discusses the Eighth Amendment, including a history dating back to biblical times, its inseparable ties to the death penalty, and recent rulings and debates.","English",43.2,34.56,"345.73","144 pp.",{"$f":"Table1[[#This Row],['# of Books]]*Table1[[#This Row],[QTY]]","v":0},{"$f":"Table1[[#This Row],[QTY]]*Table1[[#This Row],[School & Library Price]]","v":0}]
[null,55,null,null,"U.S. History","The Bill of Rights","Freedom of Religion","978-0-7377-2647-3","Greenhaven Publishing","Library Bound Book",1,2005,null,"Library Bound","6.000 X 9.000","Author","Gary Zacharias",null,null,null,null,null,null,"Years 15 - 17",null,"Grade 10 - 12","Americans included a statement relating to religion in the First Amendment. Even though this statement is short, people have debated its meaning over the years. This volume explains the history of church/state relations, the establishment and free expression clauses contained in the statement, and arguments that have arisen over it.","English",43.2,34.56,"342.7308","144 pp.",{"$f":"Table1[[#This Row],['# of Books]]*Table1[[#This Row],[QTY]]","v":0},{"$f":"Table1[[#This Row],[QTY]]*Table1[[#This Row],[School & Library Price]]","v":0}]
[null,55,null,null,"U.S. History","The Bill of Rights","The Right to a Trial by Jury","978-0-7377-1937-6","Greenhaven Publishing","Library Bound Book",1,2005,null,"Library Bound","6.000 X 9.000","Author","Robert Winters",null,null,null,null,null,null,"Years 15 - 17",null,"Grade 10 - 12","Acting as jurors, ordinary citizens have the power to free the accused, levy enormous fines on negligent corporations, and even mete out the death penalty - powers most countries keep in the hands of the ruling elite.  As this anthology reveals, Americans have a longstanding attachment to this right, even as some question the way it works in practice.","English",43.2,34.56,"345.73","144 pp.",{"$f":"Table1[[#This Row],['# of Books]]*Table1[[#This Row],[QTY]]","v":0},{"$f":"Table1[[#This Row],[QTY]]*Table1[[#This Row],[School & Library Price]]","v":0}]
[null,56,null,null,"World History","Genocide and Persecution","Afghanistan","978-0-7377-6251-8","Greenhaven Publishing","Library Bound Book",1,2013,null,"Library Bound","6.000 X 9.000","Author","David Nelson",null,null,null,null,null,null,"Years 15 - 17",null,"Grade 10 - 12","Title explores decades of occupation and civil war in Afghanistan, from the Soviet occupation until the present day, addressing: atrocities committed both by the Soviet military and the Afghan mujahedeen fighters; the effect of US involvement in Afghanistan from 1979 on; the rise of the Taliban; and systemic abuse of women under the Taliban and other ruling parties in Afghanistan.","English",42,33.6,"958","224 pp.",{"$f":"Table1[[#This Row],['# of Books]]*Table1[[#This Row],[QTY]]","v":0},{"$f":"Table1[[#This Row],[QTY]]*Table1[[#This Row],[School & Library Price]]","v":0}]
[null,56,null,null,"World History","Genocide and Persecution","Afghanistan","978-0-7377-6755-1","Greenhaven Publishing","eBook",1,2013,null,"eBook",null,"Author","David E. Nelson",null,null,null,null,null,null,"Years 15 - 17",null,"Grade 10 - 12","Title explores decades of occupation and civil war in Afghanistan, from the Soviet occupation until the present day, addressing: atrocities committed both by the Soviet military and the Afghan mujahedeen fighters; the effect of US involvement in Afghanistan from 1979 on; the rise of the Taliban; and systemic abuse of women under the Taliban and other ruling parties in Afghanistan.","English",46.2,46.2,"958.104","224 pp.",{"$f":"Table1[[#This Row],['# of Books]]*Table1[[#This Row],[QTY]]","v":0},{"$f":"Table1[[#This Row],[QTY]]*Table1[[#This Row],[School & Library Price]]","v":0}]
[null,56,null,null,"World History","Genocide and Persecution","Burma","978-0-7377-7230-2","Greenhaven Publishing","Library Bound Book",1,2015,null,"Library Bound","6.000 X 9.000","Author","Noah Berlatsky",null,null,null,null,null,null,"Years 15 - 17",null,"Grade 10 - 12","GENOCIDE AND PERSECUTION: BURMA examines the historical background on the violence against the Rohingya in Burma.  This volume covers controversies surrounding the Rohingya, including Burma's democratic transformation, the world ignoring the violence against the Rohingya.","English",42,33.6,"959","184 pp.",{"$f":"Table1[[#This Row],['# of Books]]*Table1[[#This Row],[QTY]]","v":0},{"$f":"Table1[[#This Row],[QTY]]*Table1[[#This Row],[School & Library Price]]","v":0}]
[null,56,null,null,"World History","Genocide and Persecution","Chile","978-0-7377-6896-1","Greenhaven Publishing","Library Bound Book",1,2014,null,"Library Bound","6.000 X 9.000","Author","David Nelson",null,null,null,null,null,null,"Years 15 - 17",null,"Grade 10 - 12","Title explores genocide and persecution in Chile, including the historical background; covering Pinochet's military coup and legacy; controversies surrounding genocide and persecution, US government and business interests and the Coup of 1973; participation of doctors and torture under Pinochet's regime; and personal narratives from foreign workers, American expatriates, and victims of the persecution.","English",42,33.6,"983","216 pp.",{"$f":"Table1[[#This Row],['# of Books]]*Table1[[#This Row],[QTY]]","v":0},{"$f":"Table1[[#This Row],[QTY]]*Table1[[#This Row],[School & Library Price]]","v":0}]
[null,56,null,null,"World History","Genocide and Persecution","Darfur","978-0-7377-7332-3","Greenhaven Publishing","eBook",1,2015,null,"eBook",null,"Author","Noah Berlatsky",null,null,null,null,null,null,"Years 15 - 17",null,"Grade 10 - 12","GENOCIDE AND PERSECUTION: DARFUR examines war crimes in Darfur and the ongoing efforts at resolution of the violence. It reports on war and human rights abuses, including labelling the violence as genocide.","English",46.2,46.2,"962.404","164 pp.",{"$f":"Table1[[#This Row],['# of Books]]*Table1[[#This Row],[QTY]]","v":0},{"$f":"Table1[[#This Row],[QTY]]*Table1[[#This Row],[School & Library Price]]","v":0}]
[null,56,null,null,"World History","Genocide and Persecution","El Salvador and Guatemala","978-0-7377-6254-9","Greenhaven Publishing","Library Bound Book",1,2013,null,"Library Bound","6.000 X 9.000","Author","Alex Cruden",null,null,null,null,null,null,"Years 15 - 17",null,"Grade 10 - 12","Title explores genocide and persecution in El Salvador and Guatemala including, historical background on the repression that began in 1979 in El Salvador and continued into the early 1990s; historical background on the repression that took place in the 1970s and 1980s in Guatemala; controversies surrounding the repression in El Salvador and Guatemala; and personal narratives by those impacted either directly or indirectly by the repression in El Salvador Guatemala.","English",42,33.6,"972","272 pp.",{"$f":"Table1[[#This Row],['# of Books]]*Table1[[#This Row],[QTY]]","v":0},{"$f":"Table1[[#This Row],[QTY]]*Table1[[#This Row],[School & Library Price]]","v":0}]
[null,57,null,null,"World History","Genocide and Persecution","Kosovo","978-0-7377-6255-6","Greenhaven Publishing","Library Bound Book",1,2013,null,"Library Bound","6.000 X 9.000","Author","Noah Berlatsky",null,null,null,null,null,null,"Years 15 - 17",null,"Grade 10 - 12","This title explores genocide and persecution in Kosovo, including the historical/cultural background of long-running disputes between Kosovo and Serbia and other territories in the former Yugoslavia, particularly focusing on the 1999 war in Kosovo and the mass killings of Kosovo Albanians by Serbs, issues surrounding the 1999 war in Kosovo and the aftermath, including whether the atrocities committed by Serbs against Kosovo Albanians rose to the level of genocide; whether NATO was right to intervene by bombing Serbia; and whether the post-war trial of Slobodan Milosevic was a success or an embarrassing spectacle, personal narratives from people touched by the events in Kosovo, including the story of a 10-year-old Albanian boy who lost his family to Serb violence, and a Roma woman who experienced persecution at the hands of Kosovo Albanians.","English",42,33.6,"949","224 pp.",{"$f":"Table1[[#This Row],['# of Books]]*Table1[[#This Row],[QTY]]","v":0},{"$f":"Table1[[#This Row],[QTY]]*Table1[[#This Row],[School & Library Price]]","v":0}]
[null,57,null,null,"World History","Genocide and Persecution","Liberia","978-0-7377-7014-8","Greenhaven Publishing","eBook",1,2014,null,"eBook",null,"Author","Noah Berlatsky",null,null,null,null,null,null,"Years 15 - 17",null,"Grade 10 - 12","This title explores years of conflict and violence in Liberia during the First and Second Liberian Civil Wars and the acts of genocide and crimes against humanity that have resulted, offering: Historical background on the years of conflict; an examination of the controversies surrounding this conflict, including the ethnic tensions between the Krahn, favored by the original government, and the Gio and the Mano, favored by rebel forces, and personal narratives of those affected by the conflict.","English",46.2,46.2,"966.6203","216 pp.",{"$f":"Table1[[#This Row],['# of Books]]*Table1[[#This Row],[QTY]]","v":0},{"$f":"Table1[[#This Row],[QTY]]*Table1[[#This Row],[School & Library Price]]","v":0}]
[null,57,null,null,"World History","Genocide and Persecution","Rwanda","978-0-7377-7232-6","Greenhaven Publishing","Library Bound Book",1,2015,null,"Library Bound","6.000 X 9.000","Author","Noah Berlatsky",null,null,null,null,null,null,"Years 15 - 17",null,"Grade 10 - 12","GENOCIDE AND PERSECUTION: RWANDA examines the historical background on the violence in Rwanda. The title covers controversies surrounding Rwanda. The last chapter includes personal narratives by those impacted directly or indirectly.","English",42,33.6,"967","232 pp.",{"$f":"Table1[[#This Row],['# of Books]]*Table1[[#This Row],[QTY]]","v":0},{"$f":"Table1[[#This Row],[QTY]]*Table1[[#This Row],[School & Library Price]]","v":0}]
[null,57,null,null,"World History","Genocide and Persecution","South Africa","978-0-7377-7015-5","Greenhaven Publishing","eBook",1,2014,null,"eBook",null,"Author","Myra Immell",null,null,null,null,null,null,"Years 15 - 17",null,"Grade 10 - 12","This title explores genocide and persecution in South Africa including an overview of apartheid in South Africa; controversies surrounding apartheid in South Africa including: reaction of arapartheid as a policy of self-preservation, proclamations that apartheid is unjust and indefensible; South Africa and foreign countries reacted differently to the Sharpeville Massacre; personal narratives from a white South African reflecting on his childhood; prison experiences of a South African of Indian decent convicted of sabotage in 1964; a black South African remembers  a firsthand apartheid experience as a youth.","English",46.2,46.2,"968.06","216 pp.",{"$f":"Table1[[#This Row],['# of Books]]*Table1[[#This Row],[QTY]]","v":0},{"$f":"Table1[[#This Row],[QTY]]*Table1[[#This Row],[School & Library Price]]","v":0}]
[null,57,null,null,"World History","Genocide and Persecution","The Armenian Genocide","978-0-7377-7229-6","Greenhaven Publishing","Library Bound Book",1,2015,null,"Library Bound","6.000 X 9.000","Author","Noah Berlatsky",null,null,null,null,null,null,"Years 15 - 17",null,"Grade 10 - 12","GENOCIDE AND PERSECUTION: ARMENIA examines the historical background on the violence in Armenia. The title covers the systematic extermination and deportation of Armenians from their homeland. The last chapter includes personal narratives by those impacted.","English",42,33.6,"956","208 pp.",{"$f":"Table1[[#This Row],['# of Books]]*Table1[[#This Row],[QTY]]","v":0},{"$f":"Table1[[#This Row],[QTY]]*Table1[[#This Row],[School & Library Price]]","v":0}]
[null,57,null,null,"World History","Genocide and Persecution","The Kurds","978-0-7377-6257-0","Greenhaven Publishing","Library Bound Book",1,2013,null,"Library Bound","6.000 X 9.000","Author","Noah Berlatsky",null,null,null,null,null,null,"Years 15 - 17",null,"Grade 10 - 12","Title explores genocide and persecution of the Kurds, including the historical/cultural background of Kurdish persecution in Turkey and Iraq events from the rise of the communist People's Republic of China in 1949 to the present; issues surrounding events such as Saddam Hussein's persecution of the Kurds in Iraq; Turkey's treatment of the Kurdish people; and the pros and cons of establishing an independent state for the Kurds; and includes personal narratives from people touched by the events including Kurdish survivors of Saddam Hussein's poison gas attacks and a Turkish Kurd who laments the denial of his cultural identity.","English",42,33.6,"305","216 pp.",{"$f":"Table1[[#This Row],['# of Books]]*Table1[[#This Row],[QTY]]","v":0},{"$f":"Table1[[#This Row],[QTY]]*Table1[[#This Row],[School & Library Price]]","v":0}]
[null,57,null,null,"World History","Genocide and Persecution","The People's Republic of China","978-0-7377-6672-1","Greenhaven Publishing","eBook",1,2013,null,"eBook",null,"Author","Jeff Hay",null,null,null,null,null,null,"Years 15 - 17",null,"Grade 10 - 12","This title explores genocide and persecution in the People’s Republic of China, including the historical/cultural background of events from the rise of the communist People’s Republic of China in 1949 to the present. Issues surrounding events such as China’s Great Leap Forward, the Cultural Revolution, the Tiananmen Square crackdown, and the treatment of minority groups and political dissidents in China. Personal narratives from people touched by the events in China, including childhood memories of growing up during the Great Leap Forward and the Cultural Revolution and the recent experiences of a Uighur activist.","English",46.2,46.2,"323.4","216 pp.",{"$f":"Table1[[#This Row],['# of Books]]*Table1[[#This Row],[QTY]]","v":0},{"$f":"Table1[[#This Row],[QTY]]*Table1[[#This Row],[School & Library Price]]","v":0}]
[null,58,null,null,"World History","Perspectives on Modern World History","9/11","978-0-7377-4793-5","Greenhaven Publishing","Library Bound Book",1,2010,null,"Library Bound","7.000 X 9.000","Author","Louise I. Gerdes",null,null,null,null,null,null,"Years 15 - 17",null,"Grade 10 - 12","Examines from multiple perspectives the historical events leading up to and following the 9/11 attacks. Explores related controversies, including intelligence failures, the impact of globalization, racial profiling, and conspiracy theories. Offers personal narratives from a reporter who witnessed the towers falling, two first responders and a search-and-rescue worker, as well as a document outlining the terrorists’ preparation for the attack.","English",47.8,38.24,"973","240 pp.",{"$f":"Table1[[#This Row],['# of Books]]*Table1[[#This Row],[QTY]]","v":0},{"$f":"Table1[[#This Row],[QTY]]*Table1[[#This Row],[School & Library Price]]","v":0}]
[null,58,null,null,"World History","Perspectives on Modern World History","Building the Panama Canal","978-0-7377-6364-5","Greenhaven Publishing","Library Bound Book",1,2012,null,"Library Bound","7.000 X 9.000","Author","Sylvia Engdahl",null,null,null,null,null,null,"Years 15 - 17",null,"Grade 10 - 12","This title explores the historical/cultural events leading up to and following the building of the Panama Canal, issues surrounding ownership of the canal and related treaties, and personal narratives from people who visited the canal during construction and those that worked on the canal.","English",47.8,38.24,"972","224 pp.",{"$f":"Table1[[#This Row],['# of Books]]*Table1[[#This Row],[QTY]]","v":0},{"$f":"Table1[[#This Row],[QTY]]*Table1[[#This Row],[School & Library Price]]","v":0}]
[null,59,null,null,"World History","Perspectives on Modern World History","D-Day","978-0-7377-5789-7","Greenhaven Publishing","Library Bound Book",1,2012,null,"Library Bound","7.000 X 9.000","Author","Myra Immell",null,null,null,null,null,null,"Years 15 - 17",null,"Grade 10 - 12","This new addition to the PERSPECTIVES ON MODERN WORLD HISTORY series explores the historical and cultural events leading up to and following the June 1944 Allied invasion of Normandy. The text also addresses several issues surrounding the invasion, such as whether the invasion was necessary, whether D-Day marked the beginning of the end for Nazi Germany, and whether Winston Churchill was pressured into backing D-Day by American demands. Personal narratives from people impacted by D-Day -- including reflections by both Allied and German soldiers, and a Normandy teen remembering the invasion firsthand -- are featured.","English",47.8,38.24,"940","216 pp.",{"$f":"Table1[[#This Row],['# of Books]]*Table1[[#This Row],[QTY]]","v":0},{"$f":"Table1[[#This Row],[QTY]]*Table1[[#This Row],[School & Library Price]]","v":0}]
[null,59,null,null,"World History","Perspectives on Modern World History","Hurricane Katrina","978-0-7377-7344-6","Greenhaven Publishing","eBook",1,2015,null,"eBook",null,"Author","Ebonie Ledbetter",null,null,null,null,null,null,"Years 15 - 17",null,"Grade 10 - 12","In 2005, Hurricane Katrina, one of the deadliest tropical cyclones in US history, left devastation from Florida to Texas. This title in the PERSPECTIVES ON MODERN WORLD HISTORY SERIES examines the disaster and its after effects.","English",52.58,52.58,"976.044","232 pp.",{"$f":"Table1[[#This Row],['# of Books]]*Table1[[#This Row],[QTY]]","v":0},{"$f":"Table1[[#This Row],[QTY]]*Table1[[#This Row],[School & Library Price]]","v":0}]
[null,59,null,null,"World History","Perspectives on Modern World History","Japan's 2011 Natural Distaster and Nucular Meltdown","978-0-7377-6973-9","Greenhaven Publishing","Library Bound Book",1,2014,null,"Library Bound","7.000 X 9.000","Author","Myra Immell",null,null,null,null,null,null,"Years 15 - 17",null,"Grade 10 - 12","Perspective on Modern World History: Japan's 2011 Natural Disasters and Nuclear Meltdown explores the events surrounding Japan's 2011 natural disasters and nuclear meltdown, providing background information on the events, examining related controversies, and offering personal narratives from those who witnessed the disasters.","English",47.8,38.24,"952","216 pp.",{"$f":"Table1[[#This Row],['# of Books]]*Table1[[#This Row],[QTY]]","v":0},{"$f":"Table1[[#This Row],[QTY]]*Table1[[#This Row],[School & Library Price]]","v":0}]
[null,59,null,null,"World History","Perspectives on Modern World History","Prohibition","978-0-7377-6370-6","Greenhaven Publishing","Library Bound Book",1,2013,null,"Library Bound","7.000 X 9.000","Author","Sylvia Engdahl",null,null,null,null,null,null,"Years 15 - 17",null,"Grade 10 - 12","This title explores the events that lead to the passage of the 18th Amendment, descriptions of life during prohibition, and the events that led to its repeal, debates during the prohibition era as to whether the law was necessary and effective or an overreaction that caused more harm than good; whether it violated personal liberty; and whether the prohibition law should be modified or repealed, and personal narratives from those who experienced prohibition firsthand, including a man's recollection of going to speakeasies as a teen; another's recounting of his career as a bootlegger; and a prohibition agent's tales of enforcing the law.","English",47.8,38.24,"363","216 pp.",{"$f":"Table1[[#This Row],['# of Books]]*Table1[[#This Row],[QTY]]","v":0},{"$f":"Table1[[#This Row],[QTY]]*Table1[[#This Row],[School & Library Price]]","v":0}]
[null,59,null,null,"World History","Perspectives on Modern World History","Stalin's Great Purge","978-0-7377-6371-3","Greenhaven Publishing","Library Bound Book",1,2013,null,"Library Bound","7.000 X 9.000","Author","Noah Berlatsky",null,null,null,null,null,null,"Years 15 - 17",null,"Grade 10 - 12","This title provides historical background on Stalin's purges and explores controversies surrounding the purges. It offers first hand accounts from those who experienced the effects of Stalin's purges.","English",47.8,38.24,"947","200 pp.",{"$f":"Table1[[#This Row],['# of Books]]*Table1[[#This Row],[QTY]]","v":0},{"$f":"Table1[[#This Row],[QTY]]*Table1[[#This Row],[School & Library Price]]","v":0}]
[null,59,null,null,"World History","Perspectives on Modern World History","The 1967 Detroit Riots","978-0-7377-6798-8","Greenhaven Publishing","eBook",1,2013,null,"eBook",null,"Author","Noah Berlatsky",null,null,null,null,null,null,"Years 15 - 17",null,"Grade 10 - 12","Provides historical background and primary source material on the 1967 Detroit riots and explores the reasons the riots occurred and the consequences of the riots. Also presents a chapter with personal narratives from people that lived through the riots.","English",52.58,52.58,"305.800977","184 pp.",{"$f":"Table1[[#This Row],['# of Books]]*Table1[[#This Row],[QTY]]","v":0},{"$f":"Table1[[#This Row],[QTY]]*Table1[[#This Row],[School & Library Price]]","v":0}]
[null,59,null,null,"World History","Perspectives on Modern World History","The 1992 Los Angeles Riots","978-0-7377-7008-7","Greenhaven Publishing","Library Bound Book",1,2014,null,"Library Bound","7.000 X 9.000","Author","Louise I. Gerdes",null,null,null,null,null,null,"Years 15 - 17",null,"Grade 10 - 12","Perspective on Modern World History: The 1992 Los Angeles Riots examine the historical background on the riots, the controversies surrounding the riots, and personal narratives.","English",47.8,38.24,"979","200 pp.",{"$f":"Table1[[#This Row],['# of Books]]*Table1[[#This Row],[QTY]]","v":0},{"$f":"Table1[[#This Row],[QTY]]*Table1[[#This Row],[School & Library Price]]","v":0}]
[null,59,null,null,"World History","Perspectives on Modern World History","The Arab-Israeli Six-Day War","978-0-7377-6361-4","Greenhaven Publishing","Library Bound Book",1,2013,null,"Library Bound","7.000 X 9.000","Author","Jeff Hay",null,null,null,null,null,null,"Years 15 - 17",null,"Grade 10 - 12","This title explores the 1967 Six-Day War between Israel and several neighboring Arab nations, offering background information on the events leading up and during the war; varying views on the controversies surrounding the war and its aftermath, including whether Israel should hold on to the post-1967 borders and the impact of the postwar occupations; and personal narratives from Israeli, Palestinian, and other perspectives.","English",47.8,38.24,"956","208 pp.",{"$f":"Table1[[#This Row],['# of Books]]*Table1[[#This Row],[QTY]]","v":0},{"$f":"Table1[[#This Row],[QTY]]*Table1[[#This Row],[School & Library Price]]","v":0}]
[null,59,null,null,"World History","Perspectives on Modern World History","The Assassination of Martin Luther King Jr.","978-0-7377-5259-5","Greenhaven Publishing","Library Bound Book",1,2011,null,"Library Bound","7.000 X 9.000","Author","Noah Berlatsky",null,null,null,null,null,null,"Years 15 - 17",null,"Grade 10 - 12",null,"English",47.8,38.24,"364","192 pp.",{"$f":"Table1[[#This Row],['# of Books]]*Table1[[#This Row],[QTY]]","v":0},{"$f":"Table1[[#This Row],[QTY]]*Table1[[#This Row],[School & Library Price]]","v":0}]
[null,59,null,null,"World History","Perspectives on Modern World History","The Atomic Bombings of Hiroshima and Nagasaki","978-0-7377-6409-3","Greenhaven Publishing","eBook",1,2011,null,"eBook",null,"Author","Sylvia Engdahl",null,null,null,null,null,null,"Years 15 - 17",null,"Grade 10 - 12","Each volume of PERSPECTIVES ON MODERN WORLD HISTORY offers a fresh look - from multiple perspectives - at momentous events in world history. This volume introduces and provides a brief overview of the major factors that contributed to the dropping of atomic bombs on the Japanese cities of Hiroshima and Nagasaki. Each volume opens with background information - including primary source material - covering the periods leading up to, during and after the event. Then, each volume offers an in-depth, multinational perspective on the controversies surrounding the event and the current implications or long-lasting effects. Each volume concludes with first-person narratives from people who lived through or were directly impacted by the event. Essays are compiled from a variety of sources and are carefully edited and introduced to provide context for readers unfamiliar with the historical event.","English",52.58,52.58,"940.54","240 pp.",{"$f":"Table1[[#This Row],['# of Books]]*Table1[[#This Row],[QTY]]","v":0},{"$f":"Table1[[#This Row],[QTY]]*Table1[[#This Row],[School & Library Price]]","v":0}]
[null,59,null,null,"World History","Perspectives on Modern World History","The Bolshevik Revolution","978-0-7377-6363-8","Greenhaven Publishing","Library Bound Book",1,2014,null,"Library Bound","7.000 X 9.000","Author","Sylvia Engdahl",null,null,null,null,null,null,"Years 15 - 17",null,"Grade 10 - 12","This title explores the events of the Bolshevik Revolution, issues surrounding Bolshevik support or oppression of the working class, and the impact of Bolshevism on Russia and the world. Personal narratives from people who experienced the revolution are included.","English",47.8,38.24,"947","232 pp.",{"$f":"Table1[[#This Row],['# of Books]]*Table1[[#This Row],[QTY]]","v":0},{"$f":"Table1[[#This Row],[QTY]]*Table1[[#This Row],[School & Library Price]]","v":0}]
[null,59,null,null,"World History","Perspectives on Modern World History","The Challenger Disaster","978-0-7377-7060-5","Greenhaven Publishing","eBook",1,2014,null,"eBook",null,"Author","Sylvia Engdahl",null,null,null,null,null,null,"Years 15 - 17",null,"Grade 10 - 12","This title explores the events surrounding the doomed flight of the space shuttle Challenger, This volume details the events on January 28, 1986, when the space shuttle Challenger broke apart seventy-three seconds after liftoff, resulting in the death of seven astronauts. providing background information on the event, examining related controversies, and offering personal narratives from those who witnessed or were involved in the disaster.","English",52.58,52.58,"363.12","184 pp.",{"$f":"Table1[[#This Row],['# of Books]]*Table1[[#This Row],[QTY]]","v":0},{"$f":"Table1[[#This Row],[QTY]]*Table1[[#This Row],[School & Library Price]]","v":0}]
[null,59,null,null,"World History","Perspectives on Modern World History","The Columbine School Shooting","978-0-7377-5788-0","Greenhaven Publishing","Library Bound Book",1,2012,null,"Library Bound","7.000 X 9.000","Author","Louise I. Gerdes",null,null,null,null,null,null,"Years 15 - 17",null,"Grade 10 - 12","This new addition to the PERSPECTIVES ON MODERN WORLD HISTORY series explores many aspects of the Columbine school shootings in April, 1999. Topics covered include the historical and cultural background leading up to and following the event; the issues surrounding Columbine, such as the role of bullying at the high school; the shootings as a symbol of a greater culture of violence; and the impact of gun laws on the accessibility of weapons for senior students Eric Harris and Dylan Klebold.  Personal narratives from people touched by the Columbine shootings, including Columbine high school seniors writing about the impact of the event on their lives and a journalist looking back at the event he covered ten years earlier, are featured in the text.","English",47.8,38.24,"373","208 pp.",{"$f":"Table1[[#This Row],['# of Books]]*Table1[[#This Row],[QTY]]","v":0},{"$f":"Table1[[#This Row],[QTY]]*Table1[[#This Row],[School & Library Price]]","v":0}]
[null,59,null,null,"World History","Perspectives on Modern World History","The Crisis in Darfur","978-0-7377-5874-0","Greenhaven Publishing","eBook",1,2011,null,"eBook",null,"Author","Jeff T. Hay",null,null,null,null,null,null,"Years 15 - 17",null,"Grade 10 - 12","This title in the Perspectives on Modern World History series offers multiple perspectives on momentous events. This volume introduces and provides a brief overview of major factors that contributed to the famine, warfare, and Islamic extremism crisis in the African region known as Darfur.","English",52.58,52.58,"962.404","176 pp.",{"$f":"Table1[[#This Row],['# of Books]]*Table1[[#This Row],[QTY]]","v":0},{"$f":"Table1[[#This Row],[QTY]]*Table1[[#This Row],[School & Library Price]]","v":0}]
[null,59,null,null,"World History","Perspectives on Modern World History","The Cuban Revolution","978-0-7377-6366-9","Greenhaven Publishing","Library Bound Book",1,2013,null,"Library Bound","7.000 X 9.000","Author","Myra Immell",null,null,null,null,null,null,"Years 15 - 17",null,"Grade 10 - 12","Provides historical background and primary source material on the Cuban Revolution and explores why the Revolution was successful as well as controversies related to the Revolution. Also presents a chapter with personal narratives from people that lived through the Revolution.","English",47.8,38.24,"972","216 pp.",{"$f":"Table1[[#This Row],['# of Books]]*Table1[[#This Row],[QTY]]","v":0},{"$f":"Table1[[#This Row],[QTY]]*Table1[[#This Row],[School & Library Price]]","v":0}]
[null,59,null,null,"World History","Perspectives on Modern World History","The Exxon Valdez Oil Spill","978-0-7377-5791-0","Greenhaven Publishing","Library Bound Book",1,2011,null,"Library Bound","7.000 X 9.000","Author","Noah Berlatsky",null,null,null,null,null,null,"Years 15 - 17",null,"Grade 10 - 12",null,"English",47.8,38.24,"363","192 pp.",{"$f":"Table1[[#This Row],['# of Books]]*Table1[[#This Row],[QTY]]","v":0},{"$f":"Table1[[#This Row],[QTY]]*Table1[[#This Row],[School & Library Price]]","v":0}]
[null,59,null,null,"World History","Perspectives on Modern World History","The Great Society","978-0-7377-7308-8","Greenhaven Publishing","Library Bound Book",1,2015,null,"Library Bound","7.000 X 9.000","Author","Scott Reid",null,null,null,null,null,null,"Years 15 - 17",null,"Grade 10 - 12","PERSPECTIVES ON MODERN WORLD HISTORY: THE GREAT SOCIETY explores the historical background of the government programs proposed by President Kennedy and carried out by President Johnson. This volume examines the controversies surrounding these programs as","English",47.8,38.24,"973","200 pp.",{"$f":"Table1[[#This Row],['# of Books]]*Table1[[#This Row],[QTY]]","v":0},{"$f":"Table1[[#This Row],[QTY]]*Table1[[#This Row],[School & Library Price]]","v":0}]
[null,59,null,null,"World History","Perspectives on Modern World History","The Haiti Earthquake","978-0-7377-6679-0","Greenhaven Publishing","eBook",1,2013,null,"eBook",null,"Author","Diane Andrews Henningfeld",null,null,null,null,null,null,"Years 15 - 17",null,"Grade 10 - 12","This title explores the events of the 2010 Haiti earthquake, issues surrounding US aid and military efforts; inconsistencies of the death tolls; and controversies surrounding the  adoptions of Haitian orphans, and personal narratives from people who experienced the earthquake.","English",52.58,52.58,"363.34","184 pp.",{"$f":"Table1[[#This Row],['# of Books]]*Table1[[#This Row],[QTY]]","v":0},{"$f":"Table1[[#This Row],[QTY]]*Table1[[#This Row],[School & Library Price]]","v":0}]
[null,59,null,null,"World History","Perspectives on Modern World History","The Holocaust","978-0-7377-5258-8","Greenhaven Publishing","Library Bound Book",1,2011,null,"Library Bound","7.000 X 9.000","Author","David Haugen",null,null,null,null,null,null,"Years 15 - 17",null,"Grade 10 - 12",null,"English",47.8,38.24,"940","264 pp.",{"$f":"Table1[[#This Row],['# of Books]]*Table1[[#This Row],[QTY]]","v":0},{"$f":"Table1[[#This Row],[QTY]]*Table1[[#This Row],[School & Library Price]]","v":0}]
[null,59,null,null,"World History","Perspectives on Modern World History","The Iranian Revolution","978-0-7377-5793-4","Greenhaven Publishing","Library Bound Book",1,2012,null,"Library Bound","7.000 X 9.000","Author","Noah Berlatsky",null,null,null,null,null,null,"Years 15 - 17",null,"Grade 10 - 12","This new addition to the PERSPECTIVES ON MODERN WORLD HISTORY series explores the historical and cultural events leading up to and following the Iranian uprising of 1978-1979. The text addresses issues surrounding the Iranian Revolution, such as the role of United States policy in fueling the unrest, the impact of the western press on anti-Khomeini sentiment, and parallels to the Green Revolution of 2009-2010. Personal narratives from people impacted by the Revolution, including a British diplomat eyewitness and an arrested Iranian feminist, are featured.","English",47.8,38.24,"955","208 pp.",{"$f":"Table1[[#This Row],['# of Books]]*Table1[[#This Row],[QTY]]","v":0},{"$f":"Table1[[#This Row],[QTY]]*Table1[[#This Row],[School & Library Price]]","v":0}]
[null,60,null,null,"World History","Perspectives on Modern World History","The Mccarthy Era","978-0-7377-5260-1","Greenhaven Publishing","Library Bound Book",1,2011,null,"Library Bound","7.000 X 9.000","Author","Myra Immell",null,null,null,null,null,null,"Years 15 - 17",null,"Grade 10 - 12",null,"English",47.8,38.24,"973","184 pp.",{"$f":"Table1[[#This Row],['# of Books]]*Table1[[#This Row],[QTY]]","v":0},{"$f":"Table1[[#This Row],[QTY]]*Table1[[#This Row],[School & Library Price]]","v":0}]
[null,60,null,null,"World History","Perspectives on Modern World History","The Munich Olympics Massacre","978-0-7377-6369-0","Greenhaven Publishing","Library Bound Book",1,2014,null,"Library Bound","7.000 X 9.000","Author","Jeff Hay",null,null,null,null,null,null,"Years 15 - 17",null,"Grade 10 - 12","PERSPECTIVES ON MODERN WORLD HISTORY: THE MUNICH OLYMPICS MASSACRE examines the historical background of the Munich Olympics Massacre as well as the controversies surrounding the event and personal narratives from the people who were there.","English",47.8,38.24,"796","160 pp.",{"$f":"Table1[[#This Row],['# of Books]]*Table1[[#This Row],[QTY]]","v":0},{"$f":"Table1[[#This Row],[QTY]]*Table1[[#This Row],[School & Library Price]]","v":0}]
[null,60,null,null,"World History","Perspectives on Modern World History","The Rwandan Genocide","978-0-7377-5462-9","Greenhaven Publishing","eBook",1,2010,null,"eBook",null,"Author","Alexander Cruden",null,null,null,null,null,null,"Years 15 - 17",null,"Grade 10 - 12","This volume introduces and provides a brief overview of major factors that explores genocide, political corruption, and the repercussions of violence in the African country of Rwanda in 1994. Each volume opens with background information - including primary source material - covering the periods leading up to, during and after the event. Then, each volume offers an in-depth, multinational perspective on the controversies surrounding the event and the current implications or long-lasting effects. Each volume concludes with first-person narratives from people who lived through or were directly impacted by the event. Essays are compiled from a variety of sources and are carefully edited and introduced to provide context for readers unfamiliar with the historical event.","English",52.58,52.58,"967.57104","240 pp.",{"$f":"Table1[[#This Row],['# of Books]]*Table1[[#This Row],[QTY]]","v":0},{"$f":"Table1[[#This Row],[QTY]]*Table1[[#This Row],[School & Library Price]]","v":0}]
[null,60,null,null,"World History","Perspectives on Modern World History","The Vietnam War","978-0-7377-5937-2","Greenhaven Publishing","eBook",1,2011,null,"eBook",null,"Author","David Haugen",null,null,null,null,null,null,"Years 15 - 17",null,"Grade 10 - 12","Each volume of PERSPECTIVES ON MODERN WORLD HISTORY offers a fresh look - from multiple perspectives - at momentous events in world history. This volume introduces and provides a brief overview of major factors that contributed to the war in Vietnam. Each volume opens with background information - including primary source material - covering the periods leading up to, during and after the event. Then, each volume offers an in-depth, multinational perspective on the controversies surrounding the event and the current implications or long-lasting effects. Each volume concludes with first-person narratives from people who lived through or were directly impacted by the event. Essays are compiled from a variety of sources and are carefully edited and introduced to provide context for readers unfamiliar with the historical event.","English",52.58,52.58,"959.704","264 pp.",{"$f":"Table1[[#This Row],['# of Books]]*Table1[[#This Row],[QTY]]","v":0},{"$f":"Table1[[#This Row],[QTY]]*Table1[[#This Row],[School & Library Price]]","v":0}]
[null,60,null,null,"World History","Perspectives on Modern World History","The Women's Liberation Movement","978-0-7377-5790-3","Greenhaven Publishing","Library Bound Book",1,2012,null,"Library Bound","7.000 X 9.000","Author","Sylvia Engdahl",null,null,null,null,null,null,"Years 15 - 17",null,"Grade 10 - 12","This new addition to the PERSPECTIVES ON MODERN WORLD HISTORY series explores the historical and cultural events leading up to and following the Women's Liberation Movement of the 1970s. The text addresses several issues surrounding the movement, such as the debate surrounding the Equal Rights Amendment and the impact of the \"Elimination of All Forms of Discrimination of Women\" treaty adopted by the United Nations General Assembly in 1979. Personal narratives from people impacted by the Women's Movement, including an interview with a member of NOW (the National Organization for Women) and a writer recalling what the liberation movement meant to her in the 1970s, are featured.","English",47.8,38.24,"342","232 pp.",{"$f":"Table1[[#This Row],['# of Books]]*Table1[[#This Row],[QTY]]","v":0},{"$f":"Table1[[#This Row],[QTY]]*Table1[[#This Row],[School & Library Price]]","v":0}]
[null,60,null,null,"World History","Perspectives on Modern World History","Tiananmen Square Protests 1989","978-0-7377-5130-7","Greenhaven Publishing","eBook",1,2010,null,"eBook",null,"Author","Jeff Hay",null,null,null,null,null,null,"Years 15 - 17",null,"Grade 10 - 12","This volume introduces and provides a brief overview of major factors that contributed to the Tiananmen Square protests of 1989 in China. Each volume opens with background information -- including primary source material -- covering the periods leading up to, during and after the event. Then, each volume offers an in-depth, multinational perspective on the controversies surrounding the event and the current implications or long-lasting effects. Each volume concludes with first-person narratives from people who lived through or were directly impacted by the event. Essays are compiled from a variety of sources and are carefully edited and introduced to provide context for readers unfamiliar with the historical event.","English",52.58,52.58,"951.05","192 pp.",{"$f":"Table1[[#This Row],['# of Books]]*Table1[[#This Row],[QTY]]","v":0},{"$f":"Table1[[#This Row],[QTY]]*Table1[[#This Row],[School & Library Price]]","v":0}]
[null,60,null,null,"World History","Perspectives on Modern World History","Woodstock","978-0-7377-5798-9","Greenhaven Publishing","Library Bound Book",1,2012,null,"Library Bound","7.000 X 9.000","Author","Louise I. Gerdes",null,null,null,null,null,null,"Years 15 - 17",null,"Grade 10 - 12",null,"English",47.8,38.24,"781","240 pp.",{"$f":"Table1[[#This Row],['# of Books]]*Table1[[#This Row],[QTY]]","v":0},{"$f":"Table1[[#This Row],[QTY]]*Table1[[#This Row],[School & Library Price]]","v":0}]
[null,61,null,null,"Reference","The Greenhaven Encyclopedia of…","Ancient Rome","978-0-7377-4639-6","Greenhaven Publishing","eBook",1,2002,null,"eBook",null,"Author","Don Nardo",null,null,null,null,null,null,"Years 15 - 17",null,"Grade 10 - 12","This volume in The Greenhaven Encyclopedia Of series provides an abundance of information on Ancient Rome. Compelling entries present definitions of important terms, biographies of central figures, and brief narratives of pivotal events that transformed civilizations and nations. Students will find quick and easily accessible answers to the difficult questions that arise while researching events, personalities, and issues of the past.","English",108.79,108.79,"937.003","304 pp.",{"$f":"Table1[[#This Row],['# of Books]]*Table1[[#This Row],[QTY]]","v":0},{"$f":"Table1[[#This Row],[QTY]]*Table1[[#This Row],[School & Library Price]]","v":0}]
[null,61,null,null,"Reference","The Greenhaven Encyclopedia of…","Paranormal Phenomena","978-0-7377-4626-6","Greenhaven Publishing","eBook",1,2007,null,"eBook",null,"Author","Patricia D. Netzley",null,null,null,null,null,null,"Years 15 - 17",null,"Grade 10 - 12","This volume in The Greenhaven Encyclopedia Of series provides an abundance of information on Paranormal Phenomena. Presents the views of both believers and skeptics while providing information related to such paranormal phenomena as UFOs, alien abductions, mysterious beasts, haunted houses, ESP, near-death and out-of-body experiences, spiritual healing, stigmata, and spontaneous human combustion. Compelling entries present definitions of important terms, biographies of central figures, and brief narratives of pivotal events that transformed civilizations and nations. Students will find quick and easily accessible answers to the difficult questions that arise while researching events, personalities, and issues of the past.","English",108.79,108.79,"133.03","342 pp.",{"$f":"Table1[[#This Row],['# of Books]]*Table1[[#This Row],[QTY]]","v":0},{"$f":"Table1[[#This Row],[QTY]]*Table1[[#This Row],[School & Library Price]]","v":0}]
[null,61,null,null,"Reference","The Greenhaven Encyclopedia of…","The Middle Ages","978-0-7377-4636-5","Greenhaven Publishing","eBook",1,2003,null,"eBook",null,"Author","Tom Streissguth",null,null,null,null,null,null,"Years 15 - 17",null,"Grade 10 - 12","This volume in The Greenhaven Encyclopedia Of series provides an abundance of information on the Middle Ages. Compelling entries present definitions of important terms, biographies of central figures, and brief narratives of pivotal events that transformed civilizations and nations. Students will find quick and easily accessible answers to the difficult questions that arise while researching events, personalities, and issues of the past.","English",108.79,108.79,"940.103","304 pp.",{"$f":"Table1[[#This Row],['# of Books]]*Table1[[#This Row],[QTY]]","v":0},{"$f":"Table1[[#This Row],[QTY]]*Table1[[#This Row],[School & Library Price]]","v":0}]
[null,61,null,null,"Reference","The Greenhaven Encyclopedia of…","World Religion","978-0-7377-4627-3","Greenhaven Publishing","eBook",1,2007,null,"eBook",null,"Author","Jeff T. Hay",null,null,null,null,null,null,"Years 15 - 17",null,"Grade 10 - 12",null,"English",108.79,108.79,"200.3","376 pp.",{"$f":"Table1[[#This Row],['# of Books]]*Table1[[#This Row],[QTY]]","v":0},{"$f":"Table1[[#This Row],[QTY]]*Table1[[#This Row],[School & Library Price]]","v":0}]
[null,62,null,null,"Science & Technology","Fueling the Future","Natural Gas","978-0-7377-3598-7","Greenhaven Publishing","Library Bound Book",1,2007,null,"Library Bound","7.000 X 9.000","Author","Carrie Fredericks",null,null,null,null,null,null,"Years 15 - 17",null,"Grade 10 - 12","Natural gas is a fossil fuel widely used for multiple energy needs. As consumption grows, supply diminishes, and environmental problems become more evident, some believe it is time to explore other energy sources. Others believe that finding new sources of natural gas is the answer.  This book looks at a variety of issues in the use of natural gas as an energy source.","English",44.6,35.68,"553.2","128 pp.",{"$f":"Table1[[#This Row],['# of Books]]*Table1[[#This Row],[QTY]]","v":0},{"$f":"Table1[[#This Row],[QTY]]*Table1[[#This Row],[School & Library Price]]","v":0}]
[null,62,null,null,"Science & Technology","Fueling the Future","Solar Power","978-0-7377-3565-9","Greenhaven Publishing","Library Bound Book",1,2007,null,"Library Bound","7.000 X 9.000","Author","Clay Farris Naff",null,null,null,null,null,null,"Years 15 - 17",null,"Grade 10 - 12",null,"English",44.6,35.68,"621.47","128 pp.",{"$f":"Table1[[#This Row],['# of Books]]*Table1[[#This Row],[QTY]]","v":0},{"$f":"Table1[[#This Row],[QTY]]*Table1[[#This Row],[School & Library Price]]","v":0}]
[null,62,null,null,"Science & Technology","Fueling the Future","Water","978-0-7377-3593-2","Greenhaven Publishing","Library Bound Book",1,2007,null,"Library Bound","7.000 X 9.000","Author","Carrie Fredericks",null,null,null,null,null,null,"Years 15 - 17",null,"Grade 10 - 12",null,"English",44.6,35.68,"333.91","120 pp.",{"$f":"Table1[[#This Row],['# of Books]]*Table1[[#This Row],[QTY]]","v":0},{"$f":"Table1[[#This Row],[QTY]]*Table1[[#This Row],[School & Library Price]]","v":0}]
[null,63,null,null,"Arts and Humanities","Eye on Art","Ancient Greek Art and Architecture","978-1-4205-0685-3","Lucent Press","Library Bound Book",1,2012,null,"Library Bound","7.000 X 9.000","Author","Don Nardo",null,null,null,null,null,null,"Years 12 - 15",null,"Grade 7 - 10",null,"English",39.4,31.52,"709","120 pp.",{"$f":"Table1[[#This Row],['# of Books]]*Table1[[#This Row],[QTY]]","v":0},{"$f":"Table1[[#This Row],[QTY]]*Table1[[#This Row],[School & Library Price]]","v":0}]
[null,63,null,null,"Arts and Humanities","Eye on Art","Folk Art","978-1-5901-8960-3","Lucent Press","Library Bound Book",1,2008,null,"Library Bound","7.000 X 9.000","Author","Tina Kafka",null,null,null,null,null,null,"Years 12 - 15",null,"Grade 7 - 10",null,"English",39.4,31.52,"745","112 pp.",{"$f":"Table1[[#This Row],['# of Books]]*Table1[[#This Row],[QTY]]","v":0},{"$f":"Table1[[#This Row],[QTY]]*Table1[[#This Row],[School & Library Price]]","v":0}]
[null,64,null,null,"Arts and Humanities","Eye on Art","Impressionism","978-1-5901-8958-0","Lucent Press","Library Bound Book",1,2007,null,"Library Bound","7.000 X 9.000","Author","Peggy J. Parks",null,null,null,null,null,null,"Years 12 - 15",null,"Grade 7 - 10",null,"English",39.4,31.52,"759.4","104 pp.",{"$f":"Table1[[#This Row],['# of Books]]*Table1[[#This Row],[QTY]]","v":0},{"$f":"Table1[[#This Row],[QTY]]*Table1[[#This Row],[School & Library Price]]","v":0}]
[null,64,null,null,"Arts and Humanities","Eye on Art","Medieval European Art and Architecture","978-1-4205-0715-7","Lucent Press","Library Bound Book",1,2012,null,"Library Bound","7.000 X 9.000","Author","Don Nardo",null,null,null,null,null,null,"Years 12 - 15",null,"Grade 7 - 10","This new title in Lucent's Eye on Art series describes the major artistic and architectural works of Europe's medieval era. The book includes discussions of castles, cathedrals, and other large structures, sculptures, paintings, mosaics, stained glass, tapestries, illuminated manuscripts, and other artistic endeavors from this era. Also included are descriptions of the Romanesque and Gothic styles.","English",39.4,31.52,"709","112 pp.",{"$f":"Table1[[#This Row],['# of Books]]*Table1[[#This Row],[QTY]]","v":0},{"$f":"Table1[[#This Row],[QTY]]*Table1[[#This Row],[School & Library Price]]","v":0}]
[null,64,null,null,"Arts and Humanities","Eye on Art","Paul Cezanne","978-1-4205-0858-1","Lucent Press","Library Bound Book",1,2013,null,"Library Bound","7.000 X 9.000","Author","Barbara Sheen",null,null,null,null,null,null,"Years 12 - 15",null,"Grade 7 - 10","This new title in Lucent’s Eye on Art series explores the life and works of nineteenth-century visionary artist Paul Cezanne. Although Cezanne did not gain recognition until late in his life, today his paintings sell for tens of millions of dollars and hang in museums all over the world. More importantly, his work changed the course of art. It created a bridge between impressionism and the different art movements of the 20th century. His use of color and oversized brushstrokes inspired fauvism, a style of modern art characterized by flat, bright colors and wild brush strokes. His experiments with geometric shapes and perspective, and his neglect of anatomical detail led to the rise of cubism, a style of abstract art in which shapes are broken up and then reassembled in a less realistic form.","English",39.4,31.52,"759","112 pp.",{"$f":"Table1[[#This Row],['# of Books]]*Table1[[#This Row],[QTY]]","v":0},{"$f":"Table1[[#This Row],[QTY]]*Table1[[#This Row],[School & Library Price]]","v":0}]
[null,64,null,null,"Arts and Humanities","Eye on Art","Romanticism","978-1-5901-8962-7","Lucent Press","Library Bound Book",1,2007,null,"Library Bound","7.000 X 9.000","Author","Stuart A. Kallen",null,null,null,null,null,null,"Years 12 - 15",null,"Grade 7 - 10",null,"English",39.4,31.52,"709.03","104 pp.",{"$f":"Table1[[#This Row],['# of Books]]*Table1[[#This Row],[QTY]]","v":0},{"$f":"Table1[[#This Row],[QTY]]*Table1[[#This Row],[School & Library Price]]","v":0}]
[null,64,null,null,"Arts and Humanities","Eye on Art","The Jeweler's Art","978-1-5901-8984-9","Lucent Press","Library Bound Book",1,2007,null,"Library Bound","7.000 X 9.000","Author","Katherine MacFarlane",null,null,null,null,null,null,"Years 12 - 15",null,"Grade 7 - 10",null,"English",39.4,31.52,"739.2709","112 pp.",{"$f":"Table1[[#This Row],['# of Books]]*Table1[[#This Row],[QTY]]","v":0},{"$f":"Table1[[#This Row],[QTY]]*Table1[[#This Row],[School & Library Price]]","v":0}]
[null,64,null,null,"Arts and Humanities","Eye on Art","Walt Disney","978-1-4205-0898-7","Lucent Press","Library Bound Book",1,2014,null,"Library Bound","7.000 X 9.000","Author","Barbara Sheen",null,null,null,null,null,null,"Years 12 - 15",null,"Grade 7 - 10","This new title in Lucent’s Eye on Art series explores the life and works of Walt Disney. From his creation of Mickey Mouse and his innovations in the new medium of animation, Disney used his creativity to not only popularize cartoons, but also to develop a whole multimedia company which includes films, television shows, and theme parks.","English",39.4,31.52,"791","104 pp.",{"$f":"Table1[[#This Row],['# of Books]]*Table1[[#This Row],[QTY]]","v":0},{"$f":"Table1[[#This Row],[QTY]]*Table1[[#This Row],[School & Library Price]]","v":0}]
[null,65,null,null,"Biography","People in the News","Elon Musk: Space Entrepreneur","978-1-5345-6035-2","Lucent Press","Library Bound Book",1,2017,"January 2017","Library Bound","6.000 X 9.000","Author","Ryan Nagelhout",null,null,null,null,"Z",null,"Years 12 - 15",null,"Grade 7 - 10","Elon Musk has created plans for many futuristic enterprises, including a high-speed transportation system in California, solar power for private residences, and a human colony on Mars! He aims to change the way we live on Earth as well as make it possible to sustain life on other planets. Readers will learn about this influential figure in today’s economy—including his early life and the projects he has had a hand in—through accessible text and a biographical timeline. Full-color photographs and inspirational quotes from Musk create an engaging reading experience for fans of technology and business.","English",39.4,31.52,null,"104 pp.",{"$f":"Table1[[#This Row],['# of Books]]*Table1[[#This Row],[QTY]]","v":0},{"$f":"Table1[[#This Row],[QTY]]*Table1[[#This Row],[School & Library Price]]","v":0}]
[null,65,null,null,"Biography","People in the News","LeBron James: Basketball's King","978-1-5345-6030-7","Lucent Press","eBook",1,2017,"January 2017","eBook",null,"Author","Ryan Nagelhout",null,null,null,null,"Z",null,null,null,"Grade 7 - 10","LeBron James overcame adversity to become a superstar athlete while he was still in high school. After joining the NBA, he won multiple championships and awards, and he is widely considered one of the best basketball players in history. Sports fans will be interested to learn about James’s early life and the challenges he overcame throughout his career. Full-color photographs and a timeline of important dates highlight James’s rise to success.","English",39.4,31.52,null,"104 pp.",{"$f":"Table1[[#This Row],['# of Books]]*Table1[[#This Row],[QTY]]","v":0},{"$f":"Table1[[#This Row],[QTY]]*Table1[[#This Row],[School & Library Price]]","v":0}]
[null,65,null,null,"Biography","People in the News","Steve Jobs: Computer Visionary","978-1-5345-6031-4","Lucent Press","Library Bound Book",1,2017,"January 2017","Library Bound","6.000 X 9.000","Author","Sophie Washburne",null,null,null,null,"Z",null,"Years 12 - 15",null,"Grade 7 - 10","Steve Jobs is a controversial figure who is regarded with awe by some and disgust by others, but he inarguably changed the faces of technology and entertainment with his involvement in Apple and Pixar. This volume presents both sides of the debate, citing Jobs’s proponents and detractors, allowing readers to come to their own conclusions about his actions. Detailed sidebars, a fact-filled timeline, and full-color photographs augment the engaging discussion.","English",39.4,31.52,null,"104 pp.",{"$f":"Table1[[#This Row],['# of Books]]*Table1[[#This Row],[QTY]]","v":0},{"$f":"Table1[[#This Row],[QTY]]*Table1[[#This Row],[School & Library Price]]","v":0}]
[null,65,null,null,"Biography","People in the News","Taylor Swift: Superstar Singer","978-1-5345-6025-3","Lucent Press","Library Bound Book",1,2017,"January 2017","Library Bound","6.000 X 9.000","Author","Katie Kawa",null,null,null,null,"Z",null,"Years 12 - 15",null,"Grade 7 - 10","Taylor Swift has changed her image since she got her start in music, turning from country music sweetheart to pop princess. Best known for her empowering songs about coming of age, Swift has captured the hearts of teens around the world and presents a positive role model for young girls. Full-color photographs, a biographical timeline, and anecdotal sidebars help readers get to know the real Swift.","English",39.4,31.52,null,"104 pp.",{"$f":"Table1[[#This Row],['# of Books]]*Table1[[#This Row],[QTY]]","v":0},{"$f":"Table1[[#This Row],[QTY]]*Table1[[#This Row],[School & Library Price]]","v":0}]
[null,65,null,null,"Biography","People in the News","Adele","978-1-4205-0882-6","Lucent Press","Library Bound Book",1,2013,null,"Library Bound","6.000 X 9.000","Author","Katherine E. Krohn",null,null,null,null,null,null,"Years 12 - 15",null,"Grade 7 - 10","In this latest biography for the People in the News series, author Katherine Krohn traces the life and career of music sensation Adele. Adele's talent as a singer and songwriter has earned her six Grammys, and she has also won the hearts of fans all over the world. As much as people love Adele's singing, they also like her sense of humor, thick Cockney accent, and truthful personality. Though she is a pop star, she does not have the typical trappings of one. She does not wear skimpy, outrageous costumes or use high-tech special effects during her concerts. Adele just sings, and her phenomenal voice is as awe-inspiring as any flashy stage show. Though she is famous, she seems grounded and real. For all of these reasons, Adele is one of the most popular and wealthy young singers of her generation.","English",39.4,31.52,"782","104 pp.",{"$f":"Table1[[#This Row],['# of Books]]*Table1[[#This Row],[QTY]]","v":0},{"$f":"Table1[[#This Row],[QTY]]*Table1[[#This Row],[School & Library Price]]","v":0}]
[null,65,null,null,"Biography","People in the News","Alex Rodriguez","978-1-4205-0350-0","Lucent Press","Library Bound Book",1,2011,null,"Library Bound","6.000 X 9.000","Author","Michael V. Uschan",null,null,null,null,null,null,"Years 12 - 15",null,"Grade 7 - 10","This installation of the People in the News series follows the spectacular and often controversial career of baseball player Alex Rodriguez, or A-Rod. Beginning with a brief account of Rodriguez's difficult childhood and early athletic achievements, the book then focuses on his major league positions with the Seattle Mariners, Texas Rangers, and New York Yankees. It covers his multiple record-breaking seasons as well as the controversies surrounding his steroid use and romantic life.","English",39.4,31.52,"796","104 pp.",{"$f":"Table1[[#This Row],['# of Books]]*Table1[[#This Row],[QTY]]","v":0},{"$f":"Table1[[#This Row],[QTY]]*Table1[[#This Row],[School & Library Price]]","v":0}]
[null,65,null,null,"Biography","People in the News","Alicia Keys","978-1-4205-0965-6","Lucent Press","eBook",1,2012,null,"eBook",null,"Author","Leanne K. Currie-McGhee",null,null,null,null,null,null,"Years 12 - 15",null,"Grade 7 - 10","This volume of Lucent’s PEOPLE IN THE NEWS series provides a balanced biographical overview of singer/songwriter Alicia Keys. Chapters discuss her childhood and early career, her extremely successful debut album, her subsequent follow-up albums, and the singer’s acting career and charity work.","English",43.34,43.34,"782.421640","96 pp.",{"$f":"Table1[[#This Row],['# of Books]]*Table1[[#This Row],[QTY]]","v":0},{"$f":"Table1[[#This Row],[QTY]]*Table1[[#This Row],[School & Library Price]]","v":0}]
[null,65,null,null,"Biography","People in the News","Amy Poehler","978-1-4205-0883-3","Lucent Press","Library Bound Book",1,2014,null,"Library Bound","6.000 X 9.000","Author","Stephanie Watson",null,null,null,null,null,null,"Years 12 - 15",null,"Grade 7 - 10","This book covers the life and career of actress and comedian Amy Poehler. The title follows Poehler from childhood and her struggling comedic career before landing a role on Saturday Night Live. The book also deals with Poehler's personal life, as well as her highly acclaimed show Parks and Recreation.","English",39.4,31.52,"791","96 pp.",{"$f":"Table1[[#This Row],['# of Books]]*Table1[[#This Row],[QTY]]","v":0},{"$f":"Table1[[#This Row],[QTY]]*Table1[[#This Row],[School & Library Price]]","v":0}]
[null,65,null,null,"Biography","People in the News","Anne Hathaway","978-1-4205-1140-6","Lucent Press","eBook",1,2013,null,"eBook",null,"Author","Cherese Cartlidge",null,null,null,null,null,null,"Years 12 - 15",null,"Grade 7 - 10",null,"English",43.34,43.34,"791.45","104 pp.",{"$f":"Table1[[#This Row],['# of Books]]*Table1[[#This Row],[QTY]]","v":0},{"$f":"Table1[[#This Row],[QTY]]*Table1[[#This Row],[School & Library Price]]","v":0}]
[null,65,null,null,"Biography","People in the News","Barack Obama","978-1-4205-0276-3","Lucent Press","eBook",1,2009,null,"eBook",null,"Author","Michael V. Uschan",null,null,null,null,null,null,"Years 12 - 15",null,"Grade 7 - 10",null,"English",43.34,43.34,"973.932092","104 pp.",{"$f":"Table1[[#This Row],['# of Books]]*Table1[[#This Row],[QTY]]","v":0},{"$f":"Table1[[#This Row],[QTY]]*Table1[[#This Row],[School & Library Price]]","v":0}]
[null,65,null,null,"Biography","People in the News","Beyonce","978-1-4205-0966-3","Lucent Press","eBook",1,2012,null,"eBook",null,"Author","Cherese Cartlidge",null,null,null,null,null,null,"Years 12 - 15",null,"Grade 7 - 10","This volume of Lucent’s PEOPLE IN THE NEWS series provides a balanced biographical overview of singer Beyoncé Knowles. Chapters discuss her childhood and early career, her work in the bestselling girl group Destiny’s Child, her subsequent solo albums, and the singer’s work as an actress and fashion designer.","English",43.34,43.34,"782.421640","112 pp.",{"$f":"Table1[[#This Row],['# of Books]]*Table1[[#This Row],[QTY]]","v":0},{"$f":"Table1[[#This Row],[QTY]]*Table1[[#This Row],[School & Library Price]]","v":0}]
[null,66,null,null,"Biography","People in the News","Blake Shelton","978-1-4205-1225-0","Lucent Press","Library Bound Book",1,2015,null,"Library Bound","6.000 X 9.000","Author","Adam Woog",null,null,null,null,null,null,"Years 12 - 15",null,"Grade 7 - 10","This new title in Lucent's PEOPLE IN THE NEWS SERIES focuses on the life and work of country singer Blake Shelton. The title details Shelton's childhood, his struggle as a musician, and his rise to international fame.","English",39.4,31.52,"782","104 pp.",{"$f":"Table1[[#This Row],['# of Books]]*Table1[[#This Row],[QTY]]","v":0},{"$f":"Table1[[#This Row],[QTY]]*Table1[[#This Row],[School & Library Price]]","v":0}]
[null,66,null,null,"Biography","People in the News","Cesar Milan","978-1-4205-0231-2","Lucent Press","Library Bound Book",1,2010,null,"Library Bound","6.000 X 9.000","Author","Gail B. Stewart",null,null,null,null,null,null,"Years 12 - 15",null,"Grade 7 - 10",null,"English",39.4,31.52,"636","96 pp.",{"$f":"Table1[[#This Row],['# of Books]]*Table1[[#This Row],[QTY]]","v":0},{"$f":"Table1[[#This Row],[QTY]]*Table1[[#This Row],[School & Library Price]]","v":0}]
[null,66,null,null,"Biography","People in the News","Cristiano Ronaldo","978-1-4205-1328-8","Lucent Press","Library Bound Book",1,2015,null,"Library Bound","6.000 X 9.000","Author","",null,null,null,null,null,null,"Years 12 - 15",null,"Grade 7 - 10","This title in Lucent's PEOPLE IN THE NEWS series details the life of soccer player Cristiano Ronaldo. The early chapters talks about the difficulties he faced growing up poor in Mederia, but how as a young child was discovered to be a soccer phenom. Ronaldo was forced to live apart from his family at the early age of ten so that he could pursue his dream of becoming a professional soccer player and he has developed into one of the most popular and richest soccer players in the world.","English",39.4,31.52,"B","104 pp.",{"$f":"Table1[[#This Row],['# of Books]]*Table1[[#This Row],[QTY]]","v":0},{"$f":"Table1[[#This Row],[QTY]]*Table1[[#This Row],[School & Library Price]]","v":0}]
[null,66,null,null,"Biography","People in the News","Dalai Lama","978-1-4205-0313-5","Lucent Press","eBook",1,2010,null,"eBook",null,"Author","Charles George",null,null,null,null,null,null,"Years 12 - 15",null,"Grade 7 - 10",null,"English",43.34,43.34,"294.392309","96 pp.",{"$f":"Table1[[#This Row],['# of Books]]*Table1[[#This Row],[QTY]]","v":0},{"$f":"Table1[[#This Row],[QTY]]*Table1[[#This Row],[School & Library Price]]","v":0}]
[null,66,null,null,"Biography","People in the News","Danica Patrick","978-1-4205-0155-1","Lucent Press","Library Bound Book",1,2010,null,"Library Bound","6.000 X 9.000","Author","Barbara Sheen",null,null,null,null,null,null,"Years 12 - 15",null,"Grade 7 - 10",null,"English",39.4,31.52,"796","104 pp.",{"$f":"Table1[[#This Row],['# of Books]]*Table1[[#This Row],[QTY]]","v":0},{"$f":"Table1[[#This Row],[QTY]]*Table1[[#This Row],[School & Library Price]]","v":0}]
[null,66,null,null,"Biography","People in the News","David Beckham","978-1-4205-0054-7","Lucent Press","Library Bound Book",1,2008,null,"Library Bound","6.000 X 9.000","Author","Michael V. Uschan",null,null,null,null,null,null,"Years 12 - 15",null,"Grade 7 - 10",null,"English",39.4,31.52,"796","112 pp.",{"$f":"Table1[[#This Row],['# of Books]]*Table1[[#This Row],[QTY]]","v":0},{"$f":"Table1[[#This Row],[QTY]]*Table1[[#This Row],[School & Library Price]]","v":0}]
[null,66,null,null,"Biography","People in the News","Denzel Washington","978-1-4205-0157-5","Lucent Press","Library Bound Book",1,2010,null,"Library Bound","6.000 X 9.000","Author","Dwayne Epstein",null,null,null,null,null,null,"Years 12 - 15",null,"Grade 7 - 10",null,"English",39.4,31.52,"791","104 pp.",{"$f":"Table1[[#This Row],['# of Books]]*Table1[[#This Row],[QTY]]","v":0},{"$f":"Table1[[#This Row],[QTY]]*Table1[[#This Row],[School & Library Price]]","v":0}]
[null,66,null,null,"Biography","People in the News","Dwayne Johnson","978-1-4205-0196-4","Lucent Press","eBook",1,2009,null,"eBook",null,"Author","Sheila Wyborny",null,null,null,null,null,null,"Years 12 - 15",null,"Grade 7 - 10",null,"English",43.34,43.34,"796.812092","104 pp.",{"$f":"Table1[[#This Row],['# of Books]]*Table1[[#This Row],[QTY]]","v":0},{"$f":"Table1[[#This Row],[QTY]]*Table1[[#This Row],[School & Library Price]]","v":0}]
[null,66,null,null,"Biography","People in the News","Eli Manning","978-1-4205-0342-5","Lucent Press","eBook",1,2010,null,"eBook",null,"Author","John F. Wukovits",null,null,null,null,null,null,"Years 12 - 15",null,"Grade 7 - 10","Some kids find having a famous parent overwhelming. Others struggle to shine in the shadow of an older sibling. Eli Manning, son of legendary Ole Miss quarterback Archie Manning and younger brother of NFL star quarterback Peyton Manning, faced a double challenge. This profile offers insight into the life and career of Eli, the youngest Manning, who followed in his father’s footsteps to Ole Miss and went on to lead the New York Giants to a stunning victory in Super Bowl XLII, winning the MVP award just one year after his older brother.","English",43.34,43.34,"796.332092","112 pp.",{"$f":"Table1[[#This Row],['# of Books]]*Table1[[#This Row],[QTY]]","v":0},{"$f":"Table1[[#This Row],[QTY]]*Table1[[#This Row],[School & Library Price]]","v":0}]
[null,66,null,null,"Biography","People in the News","George Clooney","978-1-4205-1112-3","Lucent Press","eBook",1,2013,null,"eBook",null,"Author","John F. Wukovits",null,null,null,null,null,null,"Years 12 - 15",null,"Grade 7 - 10","This biography provides a up-to-date look at the life of Oscar winning actor George Clooney, including coverage of his childhood, his experiences breaking into acting, and his more recent activities with acting, directing, and producing.","English",43.34,43.34,"791.4302","112 pp.",{"$f":"Table1[[#This Row],['# of Books]]*Table1[[#This Row],[QTY]]","v":0},{"$f":"Table1[[#This Row],[QTY]]*Table1[[#This Row],[School & Library Price]]","v":0}]
[null,66,null,null,"Biography","People in the News","George Lopez","978-1-4205-0424-8","Lucent Press","Library Bound Book",1,2011,null,"Library Bound","6.000 X 9.000","Author","Terri Dougherty",null,null,null,null,null,null,"Years 12 - 15",null,"Grade 7 - 10",null,"English",39.4,31.52,"792","104 pp.",{"$f":"Table1[[#This Row],['# of Books]]*Table1[[#This Row],[QTY]]","v":0},{"$f":"Table1[[#This Row],[QTY]]*Table1[[#This Row],[School & Library Price]]","v":0}]
[null,66,null,null,"Biography","People in the News","Glenn Beck","978-1-4205-0779-9","Lucent Press","eBook",1,2011,null,"eBook",null,"Author","Amy Novak",null,null,null,null,null,null,"Years 12 - 15",null,"Grade 7 - 10",null,"English",43.34,43.34,"320.52092","112 pp.",{"$f":"Table1[[#This Row],['# of Books]]*Table1[[#This Row],[QTY]]","v":0},{"$f":"Table1[[#This Row],[QTY]]*Table1[[#This Row],[School & Library Price]]","v":0}]
[null,66,null,null,"Biography","People in the News","Halle Berry","978-1-4205-0968-7","Lucent Press","eBook",1,2012,null,"eBook",null,"Author","Michael V. Uschan",null,null,null,null,null,null,"Years 12 - 15",null,"Grade 7 - 10","This volume of Lucent’s PEOPLE IN THE NEWS series provides a balanced biographical overview of actress Halle Berry. Chapters discuss her early life experiences as a biracial child, her first acting roles and her rise to stardom as an Oscar winner, and her most recent work in films like New Year’s Eve and Dark Tide. The book also discusses Berry’s public relationships and divorces, and her experiences as a mother.","English",43.34,43.34,"791.4302","104 pp.",{"$f":"Table1[[#This Row],['# of Books]]*Table1[[#This Row],[QTY]]","v":0},{"$f":"Table1[[#This Row],[QTY]]*Table1[[#This Row],[School & Library Price]]","v":0}]
[null,66,null,null,"Biography","People in the News","Hamid Karzai","978-1-4205-0425-5","Lucent Press","Library Bound Book",1,2011,null,"Library Bound","6.000 X 9.000","Author","Viqi Wagner",null,null,null,null,null,null,"Years 12 - 15",null,"Grade 7 - 10",null,"English",39.4,31.52,"792","112 pp.",{"$f":"Table1[[#This Row],['# of Books]]*Table1[[#This Row],[QTY]]","v":0},{"$f":"Table1[[#This Row],[QTY]]*Table1[[#This Row],[School & Library Price]]","v":0}]
[null,66,null,null,"Biography","People in the News","J.J. Abrams","978-1-4205-1249-6","Lucent Press","Library Bound Book",1,2015,null,"Library Bound","6.000 X 9.000","Author","Barbara Sheen ",null,null,null,null,null,null,"Years 12 - 15",null,"Grade 7 - 10","This new title in Lucent's popular PEOPLE IN THE NEWS SERIES will discuss the life and career television and film producer and director J.J. Abrams. The book will delve into his work on such hit television shows as Lost and Fringe.","English",39.4,31.52,"B","104 pp.",{"$f":"Table1[[#This Row],['# of Books]]*Table1[[#This Row],[QTY]]","v":0},{"$f":"Table1[[#This Row],[QTY]]*Table1[[#This Row],[School & Library Price]]","v":0}]
[null,66,null,null,"Biography","People in the News","James Franco","978-1-4205-1113-0","Lucent Press","eBook",1,2013,null,"eBook",null,"Author","Christie Brewer Boyd",null,null,null,null,null,null,"Years 12 - 15",null,"Grade 7 - 10","This biography profiles that life and work of actor James Franco. Franco got his acting start on the cult, television show Freeks and Geeks and became a Hollywood A-lister when he was cast opposite Tobey McGuire as Spidey’s best friend in Spiderman. Yet Franco found himself in the unusual position of not enjoying his status as an A-list actor. Looking around for something more brought him back to college, where he found deep satisfaction and inspiration. In addition to being an actor and a student, he has sought to become a director, an independent filmmaker, a writer, a photographer, and a conceptual artist.","English",43.34,43.34,"791.4302","96 pp.",{"$f":"Table1[[#This Row],['# of Books]]*Table1[[#This Row],[QTY]]","v":0},{"$f":"Table1[[#This Row],[QTY]]*Table1[[#This Row],[School & Library Price]]","v":0}]
[null,66,null,null,"Biography","People in the News","Jane Lynch","978-1-4205-1175-8","Lucent Press","eBook",1,2014,null,"eBook",null,"Author","Cherese Cartlidge",null,null,null,null,null,null,"Years 12 - 15",null,"Grade 7 - 10","This book covers the life and career of the life and career of actress and activist Jane Lynch. It details her childhood in a suburb of Chicago to her fame as Sue Sylvester on the hit TV show Glee. The title also discusses her battle with alcoholism and coming out as a lesbian.","English",43.34,43.34,"792.02","96 pp.",{"$f":"Table1[[#This Row],['# of Books]]*Table1[[#This Row],[QTY]]","v":0},{"$f":"Table1[[#This Row],[QTY]]*Table1[[#This Row],[School & Library Price]]","v":0}]
[null,66,null,null,"Biography","People in the News","Jeff Gordon","978-1-4205-0740-9","Lucent Press","eBook",1,2011,null,"eBook",null,"Author","Laurie Collier Hillstrom",null,null,null,null,null,null,"Years 12 - 15",null,"Grade 7 - 10",null,"English",43.34,43.34,"796.72092","96 pp.",{"$f":"Table1[[#This Row],['# of Books]]*Table1[[#This Row],[QTY]]","v":0},{"$f":"Table1[[#This Row],[QTY]]*Table1[[#This Row],[School & Library Price]]","v":0}]
[null,66,null,null,"Biography","People in the News","Jennifer Aniston","978-1-4205-0235-0","Lucent Press","Library Bound Book",1,2010,null,"Library Bound","6.000 X 9.000","Author","Rachel Lynette",null,null,null,null,null,null,"Years 12 - 15",null,"Grade 7 - 10",null,"English",39.4,31.52,"791","96 pp.",{"$f":"Table1[[#This Row],['# of Books]]*Table1[[#This Row],[QTY]]","v":0},{"$f":"Table1[[#This Row],[QTY]]*Table1[[#This Row],[School & Library Price]]","v":0}]
[null,66,null,null,"Biography","People in the News","Jennifer Hudson","978-1-4205-0767-6","Lucent Press","eBook",1,2011,null,"eBook",null,"Author","Cherese Cartlidge",null,null,null,null,null,null,"Years 12 - 15",null,"Grade 7 - 10",null,"English",43.34,43.34,"782.421640","96 pp.",{"$f":"Table1[[#This Row],['# of Books]]*Table1[[#This Row],[QTY]]","v":0},{"$f":"Table1[[#This Row],[QTY]]*Table1[[#This Row],[School & Library Price]]","v":0}]
[null,66,null,null,"Biography","People in the News","Jennifer Lawrence","978-1-4205-1223-6","Lucent Press","Library Bound Book",1,2015,null,"Library Bound","6.000 X 9.000","Author","Gail B. Stewart",null,null,null,null,null,null,"Years 12 - 15",null,"Grade 7 - 10","This new title in Lucent's PEOPLE IN THE NEWS SERIES focuses on the life and career of Oscar-winning actress Jennifer Lawrence. The title discusses Lawrence's down-to-earth childhood, her early roles as a young actress.","English",39.4,31.52,"791","112 pp.",{"$f":"Table1[[#This Row],['# of Books]]*Table1[[#This Row],[QTY]]","v":0},{"$f":"Table1[[#This Row],[QTY]]*Table1[[#This Row],[School & Library Price]]","v":0}]
[null,66,null,null,"Biography","People in the News","Jet Li","978-1-4205-0856-7","Lucent Press","eBook",1,2012,null,"eBook",null,"Author","Michael V. Uschan",null,null,null,null,null,null,"Years 12 - 15",null,"Grade 7 - 10","Jet Li explores the life and career of this film and martial arts star. This volume describes Li’s childhood and later career; reveals his reasons for becoming an actor; and talks about his philanthropic efforts, which were motivated at least in part by a first-hand experience with a tsunami in the Maldives. The breadth of biographical information on Li makes this an especially interesting volume.","English",43.34,43.34,"791.430","96 pp.",{"$f":"Table1[[#This Row],['# of Books]]*Table1[[#This Row],[QTY]]","v":0},{"$f":"Table1[[#This Row],[QTY]]*Table1[[#This Row],[School & Library Price]]","v":0}]
[null,67,null,null,"Biography","People in the News","Johnny Depp","978-1-4205-0699-0","Lucent Press","eBook",1,2011,null,"eBook",null,"Author","John Grabowski",null,null,null,null,null,null,"Years 12 - 15",null,"Grade 7 - 10",null,"English",43.34,43.34,"791.4302","104 pp.",{"$f":"Table1[[#This Row],['# of Books]]*Table1[[#This Row],[QTY]]","v":0},{"$f":"Table1[[#This Row],[QTY]]*Table1[[#This Row],[School & Library Price]]","v":0}]
[null,67,null,null,"Biography","People in the News","Jonas Brothers","978-1-4205-0236-7","Lucent Press","Library Bound Book",1,2010,null,"Library Bound","6.000 X 9.000","Author","Carla Mooney",null,null,null,null,null,null,"Years 12 - 15",null,"Grade 7 - 10",null,"English",39.4,31.52,"782","96 pp.",{"$f":"Table1[[#This Row],['# of Books]]*Table1[[#This Row],[QTY]]","v":0},{"$f":"Table1[[#This Row],[QTY]]*Table1[[#This Row],[School & Library Price]]","v":0}]
[null,67,null,null,"Biography","People in the News","Kanye West","978-1-4205-0285-5","Lucent Press","eBook",1,2010,null,"eBook",null,"Author","Barbara Sheen",null,null,null,null,null,null,"Years 12 - 15",null,"Grade 7 - 10",null,"English",43.34,43.34,"782.421649","96 pp.",{"$f":"Table1[[#This Row],['# of Books]]*Table1[[#This Row],[QTY]]","v":0},{"$f":"Table1[[#This Row],[QTY]]*Table1[[#This Row],[School & Library Price]]","v":0}]
[null,67,null,null,"Biography","People in the News","Katy Perry","978-1-4205-0609-9","Lucent Press","Library Bound Book",1,2011,null,"Library Bound","6.000 X 9.000","Author","Anne K. Brown",null,null,null,null,null,null,"Years 12 - 15",null,"Grade 7 - 10",null,"English",39.4,31.52,"782","112 pp.",{"$f":"Table1[[#This Row],['# of Books]]*Table1[[#This Row],[QTY]]","v":0},{"$f":"Table1[[#This Row],[QTY]]*Table1[[#This Row],[School & Library Price]]","v":0}]
[null,67,null,null,"Biography","People in the News","Kelly Slater","978-1-4205-0757-7","Lucent Press","Library Bound Book",1,2012,null,"Library Bound","6.000 X 9.000","Author","Randy Scherer",null,null,null,null,null,null,"Years 12 - 15",null,"Grade 7 - 10","This book covers the life and athleticism of Kelly Slater, arguably the most successful surfer in history. As of 2012 Slater held the record for both the youngest surfer to win the world championship and the oldest, an accomplishment that bookends a story of dominance unseen in any sport. Slater has helped bring surfing to the masses by providing an example of a professional who works hard and lives cleanly. He has endeavored to make surfing more accessible and understandable to a broad audience. In addition, Slater has established a charitable foundation that embraces environmental issues and brings surfing to many who would otherwise never have the chance to participate.","English",39.4,31.52,"797","104 pp.",{"$f":"Table1[[#This Row],['# of Books]]*Table1[[#This Row],[QTY]]","v":0},{"$f":"Table1[[#This Row],[QTY]]*Table1[[#This Row],[School & Library Price]]","v":0}]
[null,67,null,null,"Biography","People in the News","Kim Jong II","978-1-4205-0194-0","Lucent Press","eBook",1,2009,null,"eBook",null,"Author","Sheila Wyborny",null,null,null,null,null,null,"Years 12 - 15",null,"Grade 7 - 10",null,"English",43.34,43.34,"951.930430","104 pp.",{"$f":"Table1[[#This Row],['# of Books]]*Table1[[#This Row],[QTY]]","v":0},{"$f":"Table1[[#This Row],[QTY]]*Table1[[#This Row],[School & Library Price]]","v":0}]
[null,67,null,null,"Biography","People in the News","Kobe Bryant","978-1-4205-0730-0","Lucent Press","eBook",1,2011,null,"eBook",null,"Author","John F. Wukovits",null,null,null,null,null,null,"Years 12 - 15",null,"Grade 7 - 10",null,"English",43.34,43.34,"796.323092","112 pp.",{"$f":"Table1[[#This Row],['# of Books]]*Table1[[#This Row],[QTY]]","v":0},{"$f":"Table1[[#This Row],[QTY]]*Table1[[#This Row],[School & Library Price]]","v":0}]
[null,67,null,null,"Biography","People in the News","Leonardo DiCaprio","978-1-4205-0427-9","Lucent Press","Library Bound Book",1,2011,null,"Library Bound","6.000 X 9.000","Author","Cherese Cartlidge",null,null,null,null,null,null,"Years 12 - 15",null,"Grade 7 - 10",null,"English",39.4,31.52,"792","96 pp.",{"$f":"Table1[[#This Row],['# of Books]]*Table1[[#This Row],[QTY]]","v":0},{"$f":"Table1[[#This Row],[QTY]]*Table1[[#This Row],[School & Library Price]]","v":0}]
[null,67,null,null,"Biography","People in the News","Mark Zuckerberg","978-1-4205-1115-4","Lucent Press","eBook",1,2013,null,"eBook",null,"Author","Mary E. Williams",null,null,null,null,null,null,"Years 12 - 15",null,"Grade 7 - 10","This biography provides a balanced look at the life and career of Facebook creator Mark Zuckerberg. Zuckerberg, currently the wealthiest person on the planet under the age of thirty, says that never set out to run a company and become immensely wealthy. He maintains that he simply loves writing computer code and making technological tools that help people learn, share, and connect more with each other. However, not everyone agrees that Zuckerberg simply wants to build bridges between people. Former colleagues accused him of stealing the idea for Facebook from their social network. Privacy advocates questioned Zuckerberg’s motives when Facebook began tracking users’ web-surfing habits, sharing that information with advertisers. Moreover, a popular 2010 movie depicting the founding of Facebook painted Zuckerberg as an envious nerd driven by the need to prove himself to the cool crowd. Despite the media buzz and extraordinary wealth, Zuckerberg lives a fairly modest life. In many ways Zuckerberg himself is a study in contrasts: a billionaire who lives frugally, a dropout who donates to educational causes, a hacker aiming to set new rules, and a private person who wants to make the world a more open place.","English",43.34,43.34,"302.302850","104 pp.",{"$f":"Table1[[#This Row],['# of Books]]*Table1[[#This Row],[QTY]]","v":0},{"$f":"Table1[[#This Row],[QTY]]*Table1[[#This Row],[School & Library Price]]","v":0}]
[null,67,null,null,"Biography","People in the News","Michael Phelps","978-1-4205-0545-0","Lucent Press","eBook",1,2010,null,"eBook",null,"Author","Barbara Sheen",null,null,null,null,null,null,"Years 12 - 15",null,"Grade 7 - 10",null,"English",43.34,43.34,"797.2","96 pp.",{"$f":"Table1[[#This Row],['# of Books]]*Table1[[#This Row],[QTY]]","v":0},{"$f":"Table1[[#This Row],[QTY]]*Table1[[#This Row],[School & Library Price]]","v":0}]
[null,67,null,null,"Biography","People in the News","Michelle Wie","978-1-4205-0798-0","Lucent Press","eBook",1,2011,null,"eBook",null,"Author","Lauri S. Scherer",null,null,null,null,null,null,"Years 12 - 15",null,"Grade 7 - 10",null,"English",43.34,43.34,"796.352092","104 pp.",{"$f":"Table1[[#This Row],['# of Books]]*Table1[[#This Row],[QTY]]","v":0},{"$f":"Table1[[#This Row],[QTY]]*Table1[[#This Row],[School & Library Price]]","v":0}]
[null,67,null,null,"Biography","People in the News","Miley Cyrus","978-1-4205-0127-8","Lucent Press","Library Bound Book",1,2009,null,"Library Bound","6.000 X 9.000","Author","Leanne K. Currie-McGhee",null,null,null,null,null,null,"Years 12 - 15",null,"Grade 7 - 10",null,"English",39.4,31.52,"782","96 pp.",{"$f":"Table1[[#This Row],['# of Books]]*Table1[[#This Row],[QTY]]","v":0},{"$f":"Table1[[#This Row],[QTY]]*Table1[[#This Row],[School & Library Price]]","v":0}]
[null,67,null,null,"Biography","People in the News","Nancy Pelosi","978-1-4205-0057-8","Lucent Press","Library Bound Book",1,2009,null,"Library Bound","6.000 X 9.000","Author","Dwayne Epstein",null,null,null,null,null,null,"Years 12 - 15",null,"Grade 7 - 10",null,"English",39.4,31.52,"324","104 pp.",{"$f":"Table1[[#This Row],['# of Books]]*Table1[[#This Row],[QTY]]","v":0},{"$f":"Table1[[#This Row],[QTY]]*Table1[[#This Row],[School & Library Price]]","v":0}]
[null,67,null,null,"Biography","People in the News","Natalie Coughlin","978-1-4205-1117-8","Lucent Press","eBook",1,2013,null,"eBook",null,"Author","Barbara Sheen",null,null,null,null,null,null,"Years 12 - 15",null,"Grade 7 - 10","This new title in Lucent’s People in the News series features swimming superstar Natalie Coughlin. It covers her life from childhood to the present. It discusses her start in swimming as a young child, her struggles with demanding coaches and injury in her teen years, and her great comeback as a college athlete. It then follows Coughlin through her preparations for the Olympics and becoming a professional swimmer. The title covers both her professional and personal life.","English",43.34,43.34,"797.2","96 pp.",{"$f":"Table1[[#This Row],['# of Books]]*Table1[[#This Row],[QTY]]","v":0},{"$f":"Table1[[#This Row],[QTY]]*Table1[[#This Row],[School & Library Price]]","v":0}]
[null,67,null,null,"Biography","People in the News","Neil Patrick Harris","978-1-4205-0615-0","Lucent Press","Library Bound Book",1,2012,null,"Library Bound","6.000 X 9.000","Author","Cherese Cartlidge",null,null,null,null,null,null,"Years 12 - 15",null,"Grade 7 - 10","Former teen idol Neil Patrick Harris can be described as something of a Renaissance man -- someone who is intelligent and accomplished in a variety of areas, and can act, sing, dance, play music, and perform live. Harris's career has spanned more than twenty years. During that time, he has gone from playing the baby-faced do-gooder Doogie Howser in the late 1980s and early 1990s to playing the phenomenal cad Barney Stinson today. He has found enormous popularity in both of these roles. Neil Patrick Harris is widely admired not just for his many talents, but also for his openness and honesty about his own life and his willingness to be open and frank about his homosexuality. This has made him a role model to others who have struggled with their own sexual identity. Above all, Harris's ability to integrate his identity and skills into his many projects has made him one of Hollywood's most versatile stars.","English",39.4,31.52,"791","104 pp.",{"$f":"Table1[[#This Row],['# of Books]]*Table1[[#This Row],[QTY]]","v":0},{"$f":"Table1[[#This Row],[QTY]]*Table1[[#This Row],[School & Library Price]]","v":0}]
[null,67,null,null,"Biography","People in the News","Oscar Pistorius","978-1-4205-1176-5","Lucent Press","eBook",1,2014,null,"eBook",null,"Author","Christine Wilcox",null,null,null,null,null,null,"Years 12 - 15",null,"Grade 7 - 10","This book covers the life and career of South African sprinter and Olympian Oscar Pistorius. Born with a rare deformity, it details his life as an infant undergoing lower leg amputation and his upbringing and involvement in sports. The book also digs into the controversy surrounding the death of his girlfriend, some say by Pistorius’s own hand.","English",43.34,43.34,"796.42092","104 pp.",{"$f":"Table1[[#This Row],['# of Books]]*Table1[[#This Row],[QTY]]","v":0},{"$f":"Table1[[#This Row],[QTY]]*Table1[[#This Row],[School & Library Price]]","v":0}]
[null,67,null,null,"Biography","People in the News","Pope Francis","978-1-4205-1236-6","Lucent Press","eBook",1,2015,null,"eBook",null,"Author","Michael V. Uschan",null,null,null,null,null,null,"Years 12 - 15",null,"Grade 7 - 10",null,"English",43.34,43.34,"282.092","112 pp.",{"$f":"Table1[[#This Row],['# of Books]]*Table1[[#This Row],[QTY]]","v":0},{"$f":"Table1[[#This Row],[QTY]]*Table1[[#This Row],[School & Library Price]]","v":0}]
[null,67,null,null,"Biography","People in the News","Prince Harry","978-1-4205-0760-7","Lucent Press","Library Bound Book",1,2013,null,"Library Bound","6.000 X 9.000","Author","Cherese Cartlidge",null,null,null,null,null,null,"Years 12 - 15",null,"Grade 7 - 10","This biography provides a balanced look at the life of Prince Harry including coverage of his turbulent teen years and his growing into a mature, responsible, but fun-loving representative of Britain's royal family.","English",39.4,31.52,"941","104 pp.",{"$f":"Table1[[#This Row],['# of Books]]*Table1[[#This Row],[QTY]]","v":0},{"$f":"Table1[[#This Row],[QTY]]*Table1[[#This Row],[School & Library Price]]","v":0}]
[null,67,null,null,"Biography","People in the News","Rihanna","978-1-4205-0129-2","Lucent Press","Library Bound Book",1,2009,null,"Library Bound","6.000 X 9.000","Author","Laurie J. Edwards",null,null,null,null,null,null,"Years 12 - 15",null,"Grade 7 - 10",null,"English",39.4,31.52,"782","104 pp.",{"$f":"Table1[[#This Row],['# of Books]]*Table1[[#This Row],[QTY]]","v":0},{"$f":"Table1[[#This Row],[QTY]]*Table1[[#This Row],[School & Library Price]]","v":0}]
[null,67,null,null,"Biography","People in the News","Robert Kirkman","978-1-4205-1248-9","Lucent Press","eBook",1,2015,null,"eBook",null,"Author","Adam Woog",null,null,null,null,null,null,"Years 12 - 15",null,"Grade 7 - 10","This PEOPLE IN THE NEWS title discusses the life and work of Robert Kirkman originator of the Walking Dead comic books which has led to the popular AMC television series, websites, games and other merchandise.","English",43.34,43.34,"813.6","112 pp.",{"$f":"Table1[[#This Row],['# of Books]]*Table1[[#This Row],[QTY]]","v":0},{"$f":"Table1[[#This Row],[QTY]]*Table1[[#This Row],[School & Library Price]]","v":0}]
[null,67,null,null,"Biography","People in the News","Roger Federer","978-1-4205-0611-2","Lucent Press","Library Bound Book",1,2012,null,"Library Bound","6.000 X 9.000","Author","Anne K. Brown",null,null,null,null,null,null,"Years 12 - 15",null,"Grade 7 - 10","Admired for his perfect form, style, and finesse, tennis star Roger Federer has been ranked as the number one player in the world, and is arguably the greatest player in the history of tennis. He holds the record for the most wins in Grand Slam tournaments and has spent the most consecutive weeks as the number-one ranked player in professional tennis. This volume charts Federer's rise to fame from his early start as an impulsive, but talented, youth to the tournament wins that established him as a world-class athlete. The author also explains how Federer earned a reputation as a fair player, a polite and considerate sports hero, a humanitarian, and true gentleman both on and off the tennis court.","English",39.4,31.52,"796","112 pp.",{"$f":"Table1[[#This Row],['# of Books]]*Table1[[#This Row],[QTY]]","v":0},{"$f":"Table1[[#This Row],[QTY]]*Table1[[#This Row],[School & Library Price]]","v":0}]
[null,68,null,null,"Biography","People in the News","Ryan Gosling","978-1-4205-1263-2","Lucent Press","eBook",1,2014,null,"eBook",null,"Author","Cherese Cartlidge",null,null,null,null,null,null,"Years 12 - 15",null,"Grade 7 - 10",null,"English",43.34,43.34,"791.4302","96 pp.",{"$f":"Table1[[#This Row],['# of Books]]*Table1[[#This Row],[QTY]]","v":0},{"$f":"Table1[[#This Row],[QTY]]*Table1[[#This Row],[School & Library Price]]","v":0}]
[null,68,null,null,"Biography","People in the News","Sandra Bullock","978-1-4205-0682-2","Lucent Press","eBook",1,2011,null,"eBook",null,"Author","Sandy Gade Algra",null,null,null,null,null,null,"Years 12 - 15",null,"Grade 7 - 10",null,"English",43.34,43.34,"791.4302","96 pp.",{"$f":"Table1[[#This Row],['# of Books]]*Table1[[#This Row],[QTY]]","v":0},{"$f":"Table1[[#This Row],[QTY]]*Table1[[#This Row],[School & Library Price]]","v":0}]
[null,68,null,null,"Biography","People in the News","Sean Combs","978-1-4205-0367-8","Lucent Press","eBook",1,2010,null,"eBook",null,"Author","Susan M. Traugh",null,null,null,null,null,null,"Years 12 - 15",null,"Grade 7 - 10",null,"English",43.34,43.34,"782.42164","104 pp.",{"$f":"Table1[[#This Row],['# of Books]]*Table1[[#This Row],[QTY]]","v":0},{"$f":"Table1[[#This Row],[QTY]]*Table1[[#This Row],[School & Library Price]]","v":0}]
[null,68,null,null,"Biography","People in the News","Selena Gomez","978-1-4205-1213-7","Lucent Press","Library Bound Book",1,2015,null,"Library Bound","6.000 X 9.000","Author","Michael V. Uschan",null,null,null,null,null,null,"Years 12 - 15",null,"Grade 7 - 10","This new title in Lucent's PEOPLE IN THE NEWS SERIES discusses the life and career of Selena Gomez. It details her difficult childhood as the only child of a single mother, becoming a Disney star, and her evolution into an international celebrity.","English",39.4,31.52,"791","104 pp.",{"$f":"Table1[[#This Row],['# of Books]]*Table1[[#This Row],[QTY]]","v":0},{"$f":"Table1[[#This Row],[QTY]]*Table1[[#This Row],[School & Library Price]]","v":0}]
[null,68,null,null,"Biography","People in the News","Shaun White","978-1-4205-1161-1","Lucent Press","eBook",1,2013,null,"eBook",null,"Author","Christine Wilcox",null,null,null,null,null,null,"Years 12 - 15",null,"Grade 7 - 10",null,"English",43.34,43.34,"796.939092","104 pp.",{"$f":"Table1[[#This Row],['# of Books]]*Table1[[#This Row],[QTY]]","v":0},{"$f":"Table1[[#This Row],[QTY]]*Table1[[#This Row],[School & Library Price]]","v":0}]
[null,68,null,null,"Biography","People in the News","Spike Lee","978-1-4205-0626-6","Lucent Press","eBook",1,2011,null,"eBook",null,"Author","Laurie Lanzen Harris",null,null,null,null,null,null,"Years 12 - 15",null,"Grade 7 - 10","Lucent’s contemporary biography series profiles the lives and careers of some of today’s most prominent newsmakers. Whether covering contributions and achievements or notorious deeds, books in this series examine why these well-known personages garnered public attention. This biography profiles Spike Lee.","English",43.34,43.34,"791.430","104 pp.",{"$f":"Table1[[#This Row],['# of Books]]*Table1[[#This Row],[QTY]]","v":0},{"$f":"Table1[[#This Row],[QTY]]*Table1[[#This Row],[School & Library Price]]","v":0}]
[null,68,null,null,"Biography","People in the News","Stephen Colbert","978-1-4205-0617-4","Lucent Press","Library Bound Book",1,2012,null,"Library Bound","6.000 X 9.000","Author","Bonnie Szumski",null,null,null,null,null,null,"Years 12 - 15",null,"Grade 7 - 10","Lucent's new addition to their PEOPLE IN THE NEWS series is a biography of the life and career of comedian Stephen Colbert. On his television show The Colbert Report, Colbert plays the nation's fool. By good-naturedly mocking (and exposing the hypocrisy of) the mainstream media, politicians, and others, he makes pointed commentary on how those in power attempt to both manipulate and win the trust of the American public. The popularity of his show and his character has proven that Americans love and need their fool. His accolades have been serious and prestigious: Colbert has been named one of Time magazine's 100 Most Influential People for three years, from 2006 - 2008. He has also received Emmy awards, Peabody awards, and an honorary doctorate degree from Knox College. Special attention is paid to explaining the philosophy behind Colbert's show, reasons for his popularity, and examples of his cultural influence.","English",39.4,31.52,"791","104 pp.",{"$f":"Table1[[#This Row],['# of Books]]*Table1[[#This Row],[QTY]]","v":0},{"$f":"Table1[[#This Row],[QTY]]*Table1[[#This Row],[School & Library Price]]","v":0}]
[null,68,null,null,"Biography","People in the News","Stephenie Meyer","978-1-4205-1012-6","Lucent Press","eBook",1,2012,null,"eBook",null,"Author","Lauri S. Scherer",null,null,null,null,null,null,"Years 12 - 15",null,"Grade 7 - 10","This new addition to Lucent’s PEOPLE IN THE NEWS series provides a biographical overview of Twilight author Stephenie Meyer. Since writing her debut novel after receiving the novel’s plot in a dream, Meyer has achieved a level of stardom unknown to most authors of young adult fiction. This title explores the author’s childhood, before taking readers though the whirlwind tale of Twilight’s publication and the development of the blockbuster movie franchise. The book also discusses the controversy surrounding Twilight’s religious undertones and Meyer’s newest work.","English",43.34,43.34,"813.6","96 pp.",{"$f":"Table1[[#This Row],['# of Books]]*Table1[[#This Row],[QTY]]","v":0},{"$f":"Table1[[#This Row],[QTY]]*Table1[[#This Row],[School & Library Price]]","v":0}]
[null,68,null,null,"Biography","People in the News","Suzanne Collins","978-1-4205-0762-1","Lucent Press","Library Bound Book",1,2012,null,"Library Bound","6.000 X 9.000","Author","Elizabeth Hoover",null,null,null,null,null,null,"Years 12 - 15",null,"Grade 7 - 10","Writer Suzanne Collins was forty-six when she published The Hunger Games, a novel for young adults set in a dark future where North America has been obliterated by war and climate change. The residents of Collins's dystopia are forced to send their children to fight to the death in a sadistic game created by the government. The book wrestles with meaty themes: the effect of war, the dangers of voyeurism in popular culture, and how governments use hunger and threats of violence to control populations. This new edition in Lucent's PEOPLE IN THE NEWS series details Collins's life before The Hunger Games - the first eighteen years of her writing career in television, and her well-received children's book series called The Underland Chronicles - as well as the phenomenal and unexpected success of the Hunger Games series. So far 8.2 million copies of Collins's Hunger Games books have sold and, after the release of a movie in 2012, sales figures are only expected to climb.","English",39.4,31.52,"813","104 pp.",{"$f":"Table1[[#This Row],['# of Books]]*Table1[[#This Row],[QTY]]","v":0},{"$f":"Table1[[#This Row],[QTY]]*Table1[[#This Row],[School & Library Price]]","v":0}]
[null,68,null,null,"Biography","People in the News","The Creators and Cast of Glee","978-1-4205-0789-8","Lucent Press","Library Bound Book",1,2012,null,"Library Bound","6.000 X 9.000","Author","Carla Mooney",null,null,null,null,null,null,"Years 12 - 15",null,"Grade 7 - 10","This PEOPLE IN THE NEWS title provides a biographical overview of the creators and the stars of the hit TV show Glee.","English",39.4,31.52,"920","104 pp.",{"$f":"Table1[[#This Row],['# of Books]]*Table1[[#This Row],[QTY]]","v":0},{"$f":"Table1[[#This Row],[QTY]]*Table1[[#This Row],[School & Library Price]]","v":0}]
[null,68,null,null,"Biography","People in the News","Tyler Perry","978-1-4205-0546-7","Lucent Press","eBook",1,2010,null,"eBook",null,"Author","Michael V. Uschan",null,null,null,null,null,null,"Years 12 - 15",null,"Grade 7 - 10",null,"English",43.34,43.34,"791.4302","96 pp.",{"$f":"Table1[[#This Row],['# of Books]]*Table1[[#This Row],[QTY]]","v":0},{"$f":"Table1[[#This Row],[QTY]]*Table1[[#This Row],[School & Library Price]]","v":0}]
[null,68,null,null,"Biography","People in the News","Usain Bolt","978-1-4205-0739-3","Lucent Press","eBook",1,2011,null,"eBook",null,"Author","George Cantor",null,null,null,null,null,null,"Years 12 - 15",null,"Grade 7 - 10",null,"English",43.34,43.34,"796.42092","104 pp.",{"$f":"Table1[[#This Row],['# of Books]]*Table1[[#This Row],[QTY]]","v":0},{"$f":"Table1[[#This Row],[QTY]]*Table1[[#This Row],[School & Library Price]]","v":0}]
[null,68,null,null,"Biography","People in the News","Will Smith","978-1-4205-0201-5","Lucent Press","eBook",1,2009,null,"eBook",null,"Author","Michael V. Uschan",null,null,null,null,null,null,"Years 12 - 15",null,"Grade 7 - 10",null,"English",43.34,43.34,"791.430280","104 pp.",{"$f":"Table1[[#This Row],['# of Books]]*Table1[[#This Row],[QTY]]","v":0},{"$f":"Table1[[#This Row],[QTY]]*Table1[[#This Row],[School & Library Price]]","v":0}]
[null,69,null,null,"Current Issues","Hot Topics","Abortion","978-1-4205-0116-2","Lucent Press","Library Bound Book",1,2009,null,"Library Bound","7.000 X 9.000","Author","Wendy Lanier",null,null,null,null,null,null,"Years 12 - 15",null,"Grade 7 - 10",null,"English",39.4,31.52,"362","104 pp.",{"$f":"Table1[[#This Row],['# of Books]]*Table1[[#This Row],[QTY]]","v":0},{"$f":"Table1[[#This Row],[QTY]]*Table1[[#This Row],[School & Library Price]]","v":0}]
[null,69,null,null,"Current Issues","Hot Topics","AIDS","978-1-4205-0247-3","Lucent Press","eBook",1,2008,null,"eBook",null,"Author","Leanne K. Currie-McGhee",null,null,null,null,null,null,"Years 12 - 15",null,"Grade 7 - 10",null,"English",43.34,43.34,"362.196979","104 pp.",{"$f":"Table1[[#This Row],['# of Books]]*Table1[[#This Row],[QTY]]","v":0},{"$f":"Table1[[#This Row],[QTY]]*Table1[[#This Row],[School & Library Price]]","v":0}]
[null,69,null,null,"Current Issues","Hot Topics","Bias in the Media","978-1-4205-0356-2","Lucent Press","eBook",1,2010,null,"eBook",null,"Author","Hal Marcovitz",null,null,null,null,null,null,"Years 12 - 15",null,"Grade 7 - 10",null,"English",43.34,43.34,"302.230973","112 pp.",{"$f":"Table1[[#This Row],['# of Books]]*Table1[[#This Row],[QTY]]","v":0},{"$f":"Table1[[#This Row],[QTY]]*Table1[[#This Row],[School & Library Price]]","v":0}]
[null,69,null,null,"Current Issues","Hot Topics","Biological Warfare","978-1-5901-8775-3","Lucent Press","Library Bound Book",1,2007,null,"Library Bound","7.000 X 9.000","Author","Don Nardo",null,null,null,null,null,null,"Years 12 - 15",null,"Grade 7 - 10",null,"English",39.4,31.52,"358","104 pp.",{"$f":"Table1[[#This Row],['# of Books]]*Table1[[#This Row],[QTY]]","v":0},{"$f":"Table1[[#This Row],[QTY]]*Table1[[#This Row],[School & Library Price]]","v":0}]
[null,69,null,null,"Current Issues","Hot Topics","Bullying","978-1-4205-1098-0","Lucent Press","eBook",1,2013,null,"eBook",null,"Author","Jenny Mackay",null,null,null,null,null,null,"Years 12 - 15",null,"Grade 7 - 10","This title in the Hot Topic series explores the complex issue of Bullying. During the past two decades, bullying has become a frequent media topic. Recent high-profile cases that resulted in tragic ends have galvanized parents, educators, and public policy leaders to further investigate bullying and lessen its hold on social institutions throughout America. This book explores the characteristics of those who bully and why, those who often fall victim to such abuse and why, the causes of bullying, the physical and psychological impact of bullying, and how bullying can be prevented.","English",43.34,43.34,"302.34","112 pp.",{"$f":"Table1[[#This Row],['# of Books]]*Table1[[#This Row],[QTY]]","v":0},{"$f":"Table1[[#This Row],[QTY]]*Table1[[#This Row],[School & Library Price]]","v":0}]
[null,70,null,null,"Current Issues","Hot Topics","Death Penalty","978-1-4205-0048-6","Lucent Press","Library Bound Book",1,2009,null,"Library Bound","7.000 X 9.000","Author","Syd Golston",null,null,null,null,null,null,"Years 12 - 15",null,"Grade 7 - 10",null,"English",39.4,31.52,"364","104 pp.",{"$f":"Table1[[#This Row],['# of Books]]*Table1[[#This Row],[QTY]]","v":0},{"$f":"Table1[[#This Row],[QTY]]*Table1[[#This Row],[School & Library Price]]","v":0}]
[null,70,null,null,"Current Issues","Hot Topics","Distracted Driving","978-1-4205-1234-2","Lucent Press","eBook",1,2015,null,"eBook",null,"Author","Toney Allman",null,null,null,null,null,null,"Years 12 - 15",null,"Grade 7 - 10",null,"English",43.34,43.34,"363.12","104 pp.",{"$f":"Table1[[#This Row],['# of Books]]*Table1[[#This Row],[QTY]]","v":0},{"$f":"Table1[[#This Row],[QTY]]*Table1[[#This Row],[School & Library Price]]","v":0}]
[null,70,null,null,"Current Issues","Hot Topics","Drug Abuse","978-1-4205-0081-3","Lucent Press","Library Bound Book",1,2008,null,"Library Bound","7.000 X 9.000","Author","Hal Marcovitz",null,null,null,null,null,null,"Years 12 - 15",null,"Grade 7 - 10",null,"English",39.4,31.52,"362","112 pp.",{"$f":"Table1[[#This Row],['# of Books]]*Table1[[#This Row],[QTY]]","v":0},{"$f":"Table1[[#This Row],[QTY]]*Table1[[#This Row],[School & Library Price]]","v":0}]
[null,70,null,null,"Current Issues","Hot Topics","Fracking","978-1-4205-0869-7","Lucent Press","Library Bound Book",1,2013,null,"Library Bound","7.000 X 9.000","Author","Kevin Hillstrom",null,null,null,null,null,null,"Years 12 - 15",null,"Grade 7 - 10","This title in the Hot Topics series explains what Fracking is, how the process works, and describes benefits and the drawbacks of this new energy technology.","English",39.4,31.52,"622","96 pp.",{"$f":"Table1[[#This Row],['# of Books]]*Table1[[#This Row],[QTY]]","v":0},{"$f":"Table1[[#This Row],[QTY]]*Table1[[#This Row],[School & Library Price]]","v":0}]
[null,70,null,null,"Current Issues","Hot Topics","Freedom of Expression and the Internet","978-1-4205-0365-4","Lucent Press","eBook",1,2010,null,"eBook",null,"Author","Terri Dougherty",null,null,null,null,null,null,"Years 12 - 15",null,"Grade 7 - 10",null,"English",43.34,43.34,"323.44","112 pp.",{"$f":"Table1[[#This Row],['# of Books]]*Table1[[#This Row],[QTY]]","v":0},{"$f":"Table1[[#This Row],[QTY]]*Table1[[#This Row],[School & Library Price]]","v":0}]
[null,70,null,null,"Current Issues","Hot Topics","Gangs","978-1-4205-0600-6","Lucent Press","eBook",1,2011,null,"eBook",null,"Author","Jenny Mackay",null,null,null,null,null,null,"Years 12 - 15",null,"Grade 7 - 10","This title in the Hot Topic series explores the complex issue of gangs. The Hot Topics series adds depth to student analysis of the most current issues of the day. Each title provides thorough and balanced information on an important political, social, cultural, or moral topic. Visually appealing presentations and compelling examples provide context and inspire critical thought about issues that affect students, their peers, and their community.","English",43.34,43.34,"364.1","112 pp.",{"$f":"Table1[[#This Row],['# of Books]]*Table1[[#This Row],[QTY]]","v":0},{"$f":"Table1[[#This Row],[QTY]]*Table1[[#This Row],[School & Library Price]]","v":0}]
[null,70,null,null,"Current Issues","Hot Topics","Garbage and Recycling","978-1-4205-0288-6","Lucent Press","eBook",1,2010,null,"eBook",null,"Author","Debra A. Miller",null,null,null,null,null,null,"Years 12 - 15",null,"Grade 7 - 10",null,"English",43.34,43.34,"363.728","112 pp.",{"$f":"Table1[[#This Row],['# of Books]]*Table1[[#This Row],[QTY]]","v":0},{"$f":"Table1[[#This Row],[QTY]]*Table1[[#This Row],[School & Library Price]]","v":0}]
[null,70,null,null,"Current Issues","Hot Topics","Gay Rights","978-1-5901-8637-4","Lucent Press","Library Bound Book",1,2006,null,"Library Bound","7.000 X 9.000","Author","Tina Kafka",null,null,null,null,null,null,"Years 12 - 15",null,"Grade 7 - 10",null,"English",39.4,31.52,"323.3","104 pp.",{"$f":"Table1[[#This Row],['# of Books]]*Table1[[#This Row],[QTY]]","v":0},{"$f":"Table1[[#This Row],[QTY]]*Table1[[#This Row],[School & Library Price]]","v":0}]
[null,70,null,null,"Current Issues","Hot Topics","Global Warming","978-1-4205-0049-3","Lucent Press","Library Bound Book",1,2009,null,"Library Bound","7.000 X 9.000","Author","Debra A. Miller",null,null,null,null,null,null,"Years 12 - 15",null,"Grade 7 - 10",null,"English",39.4,31.52,"363","120 pp.",{"$f":"Table1[[#This Row],['# of Books]]*Table1[[#This Row],[QTY]]","v":0},{"$f":"Table1[[#This Row],[QTY]]*Table1[[#This Row],[School & Library Price]]","v":0}]
[null,70,null,null,"Current Issues","Hot Topics","Gun Control","978-1-4205-1100-0","Lucent Press","eBook",1,2013,null,"eBook",null,"Author","Jenny Mackay",null,null,null,null,null,null,"Years 12 - 15",null,"Grade 7 - 10","This book explores one of the most contested issues in American government and society today, that is, how much regulation the government should place on possession and use of firearms. Individual chapters will cover the history of gun control in the United States, the spectrum of opinions on firearms regulation, the meaning of the Second Amendment, arguments in favor of and those against tighter gun control, and various types of legistation being considered.  Provides thorough and balanced information on an important political, social, cultural, or moral topic. Visually appealing presentations and compelling examples provide context and inspire critical thought about issues that affect students, their peers, and their community.","English",43.34,43.34,"363.330973","112 pp.",{"$f":"Table1[[#This Row],['# of Books]]*Table1[[#This Row],[QTY]]","v":0},{"$f":"Table1[[#This Row],[QTY]]*Table1[[#This Row],[School & Library Price]]","v":0}]
[null,70,null,null,"Current Issues","Hot Topics","Hoarding","978-1-4205-0960-1","Lucent Press","eBook",1,2012,null,"eBook",null,"Author","Jenny Mackay",null,null,null,null,null,null,"Years 12 - 15",null,"Grade 7 - 10","This book offers a clear, comprehensive, and balanced discussion of the issue of hoarding. Compulsive hoarding afflicts a surprising number of people in America -- perhaps 3 to 5 percent or more of the population. In recent decades, the scientific community has taken an interest in what drives people to hoard. Hoarding has been called a mental illness with similarities to obsessive compulsive disorder, but hoarding behavior is notoriously difficult to understand, even by mental health professionals who specialize in studying it.  This title covers the psychological elements of compulsive hoarding, but also addresses the legal implications of hoarding and examines how a hoarding lifestyle affects those afflicted with this behavioral pattern. Media coverage of hoarding and the development of reality television shows devoted to the controversial subject are also explored.","English",43.34,43.34,"616.85","112 pp.",{"$f":"Table1[[#This Row],['# of Books]]*Table1[[#This Row],[QTY]]","v":0},{"$f":"Table1[[#This Row],[QTY]]*Table1[[#This Row],[School & Library Price]]","v":0}]
[null,70,null,null,"Current Issues","Hot Topics","Methamphetamine","978-1-4205-0872-7","Lucent Press","Library Bound Book",1,2015,null,"Library Bound","7.000 X 9.000","Author","Kevin Hillstrom",null,null,null,null,null,null,"Years 12 - 15",null,"Grade 7 - 10","This title delves into how Methamphetamine evolved into a recreation drug and a big business for criminal enterprises. It also discusses the toll Methamphetamine addition takes its toll on users, as well as families and communities in general. The title concludes by discussing processes and methods used to treat Meth addiction and how law enforcement agencies are trying to combat the Meth industry. Provides thorough and balanced information on an important political, social, cultural, or moral topic. Visually appealing presentations and compelling examples provide context and inspire critical thought about issues that affect students, their peers, and their community.","English",39.4,31.52,"362","104 pp.",{"$f":"Table1[[#This Row],['# of Books]]*Table1[[#This Row],[QTY]]","v":0},{"$f":"Table1[[#This Row],[QTY]]*Table1[[#This Row],[School & Library Price]]","v":0}]
[null,70,null,null,"Current Issues","Hot Topics","Natural Disaster Response","978-1-4205-0873-4","Lucent Press","Library Bound Book",1,2015,null,"Library Bound","7.000 X 9.000","Author","Kevin Hillstrom",null,null,null,null,null,null,"Years 12 - 15",null,"Grade 7 - 10","This book will cover global natural disasters that have occurred over the last twenty years. Not only will it provide some background on the disaster, but it will provide what actions were taken as a result of the disaster and whether those actions improved.","English",39.4,31.52,"363","104 pp.",{"$f":"Table1[[#This Row],['# of Books]]*Table1[[#This Row],[QTY]]","v":0},{"$f":"Table1[[#This Row],[QTY]]*Table1[[#This Row],[School & Library Price]]","v":0}]
[null,70,null,null,"Current Issues","Hot Topics","Natural Disaster Response","978-1-4205-1261-8","Lucent Press","eBook",1,2015,null,"eBook",null,"Author","Laurie Collier Hillstrom",null,null,null,null,null,null,"Years 12 - 15",null,"Grade 7 - 10",null,"English",43.34,43.34,"363.34","104 pp.",{"$f":"Table1[[#This Row],['# of Books]]*Table1[[#This Row],[QTY]]","v":0},{"$f":"Table1[[#This Row],[QTY]]*Table1[[#This Row],[School & Library Price]]","v":0}]
[null,70,null,null,"Current Issues","Hot Topics","Oil Spills","978-1-4205-0624-2","Lucent Press","Library Bound Book",1,2011,null,"Library Bound","7.000 X 9.000","Author","Don Nardo",null,null,null,null,null,null,"Years 12 - 15",null,"Grade 7 - 10",null,"English",39.4,31.52,"363","112 pp.",{"$f":"Table1[[#This Row],['# of Books]]*Table1[[#This Row],[QTY]]","v":0},{"$f":"Table1[[#This Row],[QTY]]*Table1[[#This Row],[School & Library Price]]","v":0}]
[null,70,null,null,"Current Issues","Hot Topics","Organ Transplants","978-1-4205-0961-8","Lucent Press","eBook",1,2012,null,"eBook",null,"Author","Melissa Abramovitz",null,null,null,null,null,null,"Years 12 - 15",null,"Grade 7 - 10","This book offers a clear, comprehensive, and balanced discussion of the issues surrounding organ and tissue transplants. Reports of transplant successes have increased the demand for such procedures and, as a result, organ shortages have followed. As transplants have become more common, controversies over who should receive an organ and possible methods of increasing the organ supply have arisen. Additional concerns over life and death decisions, the use of stem cells to repair or replace diseased body parts, the ethics of using cloning to make custom cells and organs, and the potential abuse of transplant technology have made transplants a hotly-debated issue with political, religious, and moral implications. Experts agree that transplants are one of the most promising fields in modern medicine, but new scientific and ethical dilemmas surface regularly as medical science continues to develop new lifesaving and life-enhancing technologies.","English",43.34,43.34,"617.9","128 pp.",{"$f":"Table1[[#This Row],['# of Books]]*Table1[[#This Row],[QTY]]","v":0},{"$f":"Table1[[#This Row],[QTY]]*Table1[[#This Row],[School & Library Price]]","v":0}]
[null,70,null,null,"Current Issues","Hot Topics","Poverty","978-1-4205-0149-0","Lucent Press","Library Bound Book",1,2010,null,"Library Bound","7.000 X 9.000","Author","Tina Kafka",null,null,null,null,null,null,"Years 12 - 15",null,"Grade 7 - 10",null,"English",39.4,31.52,"362","112 pp.",{"$f":"Table1[[#This Row],['# of Books]]*Table1[[#This Row],[QTY]]","v":0},{"$f":"Table1[[#This Row],[QTY]]*Table1[[#This Row],[School & Library Price]]","v":0}]
[null,70,null,null,"Current Issues","Hot Topics","Reality TV","978-1-4205-1102-4","Lucent Press","eBook",1,2013,null,"eBook",null,"Author","Shannon Kelly",null,null,null,null,null,null,"Years 12 - 15",null,"Grade 7 - 10","This volume in Lucent’s Hot Topics series looks at the incredibly popular, ever evolving, and divisive form of entertainment--reality TV. The book looks at what is defined as reality television and provides a brief history of the genre; it discusses why it appeals to television producers and how it has been received by audiences. Criticisms of the genre are discussed and arguments that point to redeeming qualities of the shows are also examined. The volume includes discussion questions for each chapter and sources for further research on the topic.","English",43.34,43.34,"791.45","120 pp.",{"$f":"Table1[[#This Row],['# of Books]]*Table1[[#This Row],[QTY]]","v":0},{"$f":"Table1[[#This Row],[QTY]]*Table1[[#This Row],[School & Library Price]]","v":0}]
[null,70,null,null,"Current Issues","Hot Topics","Stem Cells","978-1-4205-0748-5","Lucent Press","Library Bound Book",1,2012,null,"Library Bound","7.000 X 9.000","Author","Melissa Abramovitz",null,null,null,null,null,null,"Years 12 - 15",null,"Grade 7 - 10","This book offers a clear, comprehensive, and balanced discussion of the issues surrounding stem cell research. Abramovitz expertly explains the often complex science that underlies regenerative medicine. While this branch of science has promised to yield cures for deadly diseases, debates about the ethics and morality of cloning techniques and the use of stem cells from embryos, as well as questions about whom should have the power to make scientific and ethical decisions in the face of rapidly-progressing technology remain robust.","English",39.4,31.52,"616.02","128 pp.",{"$f":"Table1[[#This Row],['# of Books]]*Table1[[#This Row],[QTY]]","v":0},{"$f":"Table1[[#This Row],[QTY]]*Table1[[#This Row],[School & Library Price]]","v":0}]
[null,70,null,null,"Current Issues","Hot Topics","Student's Rights","978-1-5901-8860-6","Lucent Press","Library Bound Book",1,2007,null,"Library Bound","7.000 X 9.000","Author","Kate Burns",null,null,null,null,null,null,"Years 12 - 15",null,"Grade 7 - 10",null,"English",39.4,31.52,"379.2","104 pp.",{"$f":"Table1[[#This Row],['# of Books]]*Table1[[#This Row],[QTY]]","v":0},{"$f":"Table1[[#This Row],[QTY]]*Table1[[#This Row],[School & Library Price]]","v":0}]
[null,70,null,null,"Current Issues","Hot Topics","Teens and Alcohol","978-1-4205-0749-2","Lucent Press","Library Bound Book",1,2012,null,"Library Bound","7.000 X 9.000","Author","Michael V. Uschan",null,null,null,null,null,null,"Years 12 - 15",null,"Grade 7 - 10","This new edition in the HOT TOPICS series offers a clear, comprehensive, and balanced discussion of the issue of teens drinking alcohol. The text talks about the reasons teens drink, the history of drinking age laws, the emergence of hosting laws and punishment of parents who supply alcohol to their teenage children, and other methods being used to prevent underage drinking. The problematic drinking culture among underage college students and the prevalence and dangers of binge drinking are also included. The text also describes the particular dangers of drinking for teenagers and how alcohol affects the teenage brain.","English",39.4,31.52,"362.292","112 pp.",{"$f":"Table1[[#This Row],['# of Books]]*Table1[[#This Row],[QTY]]","v":0},{"$f":"Table1[[#This Row],[QTY]]*Table1[[#This Row],[School & Library Price]]","v":0}]
[null,70,null,null,"Current Issues","Hot Topics","Terrorism","978-1-4205-0243-5","Lucent Press","eBook",1,2008,null,"eBook",null,"Author","Debra A. Miller",null,null,null,null,null,null,"Years 12 - 15",null,"Grade 7 - 10",null,"English",43.34,43.34,"363.325097","112 pp.",{"$f":"Table1[[#This Row],['# of Books]]*Table1[[#This Row],[QTY]]","v":0},{"$f":"Table1[[#This Row],[QTY]]*Table1[[#This Row],[School & Library Price]]","v":0}]
[null,70,null,null,"Current Issues","Hot Topics","The Right to Die","978-1-4205-0188-9","Lucent Press","eBook",1,2009,null,"eBook",null,"Author","Anne Wallace Sharp",null,null,null,null,null,null,"Years 12 - 15",null,"Grade 7 - 10",null,"English",43.34,43.34,"344.730419","120 pp.",{"$f":"Table1[[#This Row],['# of Books]]*Table1[[#This Row],[QTY]]","v":0},{"$f":"Table1[[#This Row],[QTY]]*Table1[[#This Row],[School & Library Price]]","v":0}]
[null,70,null,null,"Current Issues","Hot Topics","Video Games","978-1-4205-0284-8","Lucent Press","eBook",1,2010,null,"eBook",null,"Author","Hal Marcovitz",null,null,null,null,null,null,"Years 12 - 15",null,"Grade 7 - 10",null,"English",43.34,43.34,"794.8","112 pp.",{"$f":"Table1[[#This Row],['# of Books]]*Table1[[#This Row],[QTY]]","v":0},{"$f":"Table1[[#This Row],[QTY]]*Table1[[#This Row],[School & Library Price]]","v":0}]
[null,71,null,null,"Health & Medicine","Diseases and Disorders","ADHD","978-1-4205-0142-1","Lucent Press","Library Bound Book",1,2009,null,"Library Bound","6.000 X 9.000","Author","Barbara Sheen",null,null,null,null,null,null,"Years 12 - 15",null,"Grade 7 - 10",null,"English",39.9,31.92,"616","104 pp.",{"$f":"Table1[[#This Row],['# of Books]]*Table1[[#This Row],[QTY]]","v":0},{"$f":"Table1[[#This Row],[QTY]]*Table1[[#This Row],[School & Library Price]]","v":0}]
[null,71,null,null,"Health & Medicine","Diseases and Disorders","Allergies","978-1-4205-0039-4","Lucent Press","Library Bound Book",1,2008,null,"Library Bound","6.000 X 9.000","Author","Barbara Sheen",null,null,null,null,null,null,"Years 12 - 15",null,"Grade 7 - 10",null,"English",39.9,31.92,"616","104 pp.",{"$f":"Table1[[#This Row],['# of Books]]*Table1[[#This Row],[QTY]]","v":0},{"$f":"Table1[[#This Row],[QTY]]*Table1[[#This Row],[School & Library Price]]","v":0}]
[null,71,null,null,"Health & Medicine","Diseases and Disorders","Amnesia","978-1-4205-0207-7","Lucent Press","eBook",1,2009,null,"eBook",null,"Author","Jenny Mackay",null,null,null,null,null,null,"Years 12 - 15",null,"Grade 7 - 10",null,"English",43.89,43.89,"616.85232","104 pp.",{"$f":"Table1[[#This Row],['# of Books]]*Table1[[#This Row],[QTY]]","v":0},{"$f":"Table1[[#This Row],[QTY]]*Table1[[#This Row],[School & Library Price]]","v":0}]
[null,71,null,null,"Health & Medicine","Diseases and Disorders","Asperger's Syndrome","978-1-4205-0111-7","Lucent Press","Library Bound Book",1,2009,null,"Library Bound","6.000 X 9.000","Author","Toney Allman",null,null,null,null,null,null,"Years 12 - 15",null,"Grade 7 - 10",null,"English",39.9,31.92,"616","104 pp.",{"$f":"Table1[[#This Row],['# of Books]]*Table1[[#This Row],[QTY]]","v":0},{"$f":"Table1[[#This Row],[QTY]]*Table1[[#This Row],[School & Library Price]]","v":0}]
[null,72,null,null,"Health & Medicine","Diseases and Disorders","Asthma","978-1-4205-0692-1","Lucent Press","eBook",1,2011,null,"eBook",null,"Author","Barbara Sheen",null,null,null,null,null,null,"Years 12 - 15",null,"Grade 7 - 10",null,"English",43.89,43.89,"616.2","104 pp.",{"$f":"Table1[[#This Row],['# of Books]]*Table1[[#This Row],[QTY]]","v":0},{"$f":"Table1[[#This Row],[QTY]]*Table1[[#This Row],[School & Library Price]]","v":0}]
[null,72,null,null,"Health & Medicine","Diseases and Disorders","Autoimmune Disorders","978-1-4205-0657-0","Lucent Press","Library Bound Book",1,2011,null,"Library Bound","6.000 X 9.000","Author","Melissa Abramovitz",null,null,null,null,null,null,"Years 12 - 15",null,"Grade 7 - 10",null,"English",39.9,31.92,"616.97","112 pp.",{"$f":"Table1[[#This Row],['# of Books]]*Table1[[#This Row],[QTY]]","v":0},{"$f":"Table1[[#This Row],[QTY]]*Table1[[#This Row],[School & Library Price]]","v":0}]
[null,72,null,null,"Health & Medicine","Diseases and Disorders","Bipolar Disorder","978-1-4205-1007-2","Lucent Press","eBook",1,2012,null,"eBook",null,"Author","Melissa Abramovitz",null,null,null,null,null,null,"Years 12 - 15",null,"Grade 7 - 10",null,"English",43.89,43.89,"616.89","112 pp.",{"$f":"Table1[[#This Row],['# of Books]]*Table1[[#This Row],[QTY]]","v":0},{"$f":"Table1[[#This Row],[QTY]]*Table1[[#This Row],[School & Library Price]]","v":0}]
[null,72,null,null,"Health & Medicine","Diseases and Disorders","Cancer","978-1-4205-0113-1","Lucent Press","Library Bound Book",1,2009,null,"Library Bound","6.000 X 9.000","Author","Elizabeth Silverthorne",null,null,null,null,null,null,"Years 12 - 15",null,"Grade 7 - 10",null,"English",39.9,31.92,"616","104 pp.",{"$f":"Table1[[#This Row],['# of Books]]*Table1[[#This Row],[QTY]]","v":0},{"$f":"Table1[[#This Row],[QTY]]*Table1[[#This Row],[School & Library Price]]","v":0}]
[null,72,null,null,"Health & Medicine","Diseases and Disorders","Cerebral Palsy","978-1-4205-1008-9","Lucent Press","eBook",1,2012,null,"eBook",null,"Author","Barbara Sheen",null,null,null,null,null,null,"Years 12 - 15",null,"Grade 7 - 10",null,"English",43.89,43.89,"616.8","104 pp.",{"$f":"Table1[[#This Row],['# of Books]]*Table1[[#This Row],[QTY]]","v":0},{"$f":"Table1[[#This Row],[QTY]]*Table1[[#This Row],[School & Library Price]]","v":0}]
[null,72,null,null,"Health & Medicine","Diseases and Disorders","Childhood Obesity","978-1-5901-8997-9","Lucent Press","Library Bound Book",1,2009,null,"Library Bound","6.000 X 9.000","Author","Maxine Newman Jimerson",null,null,null,null,null,null,"Years 12 - 15",null,"Grade 7 - 10",null,"English",39.9,31.92,"616","112 pp.",{"$f":"Table1[[#This Row],['# of Books]]*Table1[[#This Row],[QTY]]","v":0},{"$f":"Table1[[#This Row],[QTY]]*Table1[[#This Row],[School & Library Price]]","v":0}]
[null,72,null,null,"Health & Medicine","Diseases and Disorders","Colon Cancer","978-1-4205-0792-8","Lucent Press","Library Bound Book",1,2012,null,"Library Bound","6.000 X 9.000","Author","Toney Allman",null,null,null,null,null,null,"Years 12 - 15",null,"Grade 7 - 10","In this new addition to the Diseases and Disorders series, author Toney Allman discusses the causes, treatment, and impact of colon cancer. Though the diagnosis of colon cancer once held the promise of a grim future, Allman explains that scientists are now closing in on the possible genetic and environmental causes of colon cancer, and are using this information to develop new treatments and preventative measures. Allman provides a detailed explanation of the structure and function of the human gastrointestinal tract, and attention is given to the importance of colonoscopies in identifying polyps and stopping what is now seen as a highly preventable cancer. First-person accounts and inspirational quotes from cancer survivors will educate and enthrall young readers.","English",39.9,31.92,"616.99","104 pp.",{"$f":"Table1[[#This Row],['# of Books]]*Table1[[#This Row],[QTY]]","v":0},{"$f":"Table1[[#This Row],[QTY]]*Table1[[#This Row],[School & Library Price]]","v":0}]
[null,72,null,null,"Health & Medicine","Diseases and Disorders","COPD","978-1-4205-1240-3","Lucent Press","eBook",1,2015,null,"eBook",null,"Author","Melissa Abramovitz",null,null,null,null,null,null,"Years 12 - 15",null,"Grade 7 - 10",null,"English",43.89,43.89,"616.2","112 pp.",{"$f":"Table1[[#This Row],['# of Books]]*Table1[[#This Row],[QTY]]","v":0},{"$f":"Table1[[#This Row],[QTY]]*Table1[[#This Row],[School & Library Price]]","v":0}]
[null,72,null,null,"Health & Medicine","Diseases and Disorders","Cystic Fibrosis","978-1-4205-0901-4","Lucent Press","Library Bound Book",1,2013,null,"Library Bound","6.000 X 9.000","Author","Melissa Abramovitz",null,null,null,null,null,null,"Years 12 - 15",null,"Grade 7 - 10","In this new addition to the Diseases and Disorders series, author Melissa Abramovitz discusses the causes of cystic fibrosis, the history of its discovery, and current and future treatment options. Though a diagnosis of CF remains devastating in today's world, Abramovitz explains that revelations about the disease's genetic foundations may lead to medical breakthroughs in the near future. First-person accounts and inspirational quotes from individuals with CF will educate and enthrall readers.","English",39.9,31.92,"616.3","112 pp.",{"$f":"Table1[[#This Row],['# of Books]]*Table1[[#This Row],[QTY]]","v":0},{"$f":"Table1[[#This Row],[QTY]]*Table1[[#This Row],[School & Library Price]]","v":0}]
[null,72,null,null,"Health & Medicine","Diseases and Disorders","Cystic Fibrosis","978-1-4205-1091-1","Lucent Press","eBook",1,2013,null,"eBook",null,"Author","Melissa Abramovitz",null,null,null,null,null,null,"Years 12 - 15",null,"Grade 7 - 10","In this new addition to the Diseases and Disorders series, author Melissa Abramovitz discusses the causes of cystic fibrosis, the history of its discovery, and current and future treatment options. Though a diagnosis of CF remains devastating in today’s world, Abramovitz explains that revelations about the disease’s genetic foundations may lead to medical breakthroughs in the near future. First-person accounts and inspirational quotes from individuals with CF will educate and enthrall readers.","English",43.89,43.89,"616.3","112 pp.",{"$f":"Table1[[#This Row],['# of Books]]*Table1[[#This Row],[QTY]]","v":0},{"$f":"Table1[[#This Row],[QTY]]*Table1[[#This Row],[School & Library Price]]","v":0}]
[null,72,null,null,"Health & Medicine","Diseases and Disorders","Epilepsy","978-1-4205-0218-3","Lucent Press","Library Bound Book",1,2010,null,"Library Bound","6.000 X 9.000","Author","Terri Dougherty",null,null,null,null,null,null,"Years 12 - 15",null,"Grade 7 - 10","Epilepsy is a disorder in which the generation of electrical signals inside the brain causes recurring seizures of varying types and intensity. This book describes the symptoms associated with different types of epilepsy, as well as the possible causes and risk factors. It offers current information on diagnosis, treatment, and prognosis, as well as how people living with epilepsy and their families cope with the disorder.","English",39.9,31.92,"616","104 pp.",{"$f":"Table1[[#This Row],['# of Books]]*Table1[[#This Row],[QTY]]","v":0},{"$f":"Table1[[#This Row],[QTY]]*Table1[[#This Row],[School & Library Price]]","v":0}]
[null,72,null,null,"Health & Medicine","Diseases and Disorders","Fetal Alcohol Syndrome","978-1-4205-0695-2","Lucent Press","Library Bound Book",1,2012,null,"Library Bound","6.000 X 9.000","Author","Gail B. Stewart",null,null,null,null,null,null,"Years 12 - 15",null,"Grade 7 - 10","This new edition in the Diseases and Disorders series looks at the causes of fetal alcohol syndrome and the spectrum of symptoms associated with it, which can be physical and psychological and fall within a wide range of severity. The title also discusses the difficulty in diagnosing the disease and what researchers, teachers, and caregivers are doing to try to improve the lives of people with FAS.","English",39.9,31.92,"618.3","104 pp.",{"$f":"Table1[[#This Row],['# of Books]]*Table1[[#This Row],[QTY]]","v":0},{"$f":"Table1[[#This Row],[QTY]]*Table1[[#This Row],[School & Library Price]]","v":0}]
[null,72,null,null,"Health & Medicine","Diseases and Disorders","Fibromyalgia","978-1-4205-0811-6","Lucent Press","eBook",1,2012,null,"eBook",null,"Author","Melissa Abramovitz",null,null,null,null,null,null,"Years 12 - 15",null,"Grade 7 - 10",null,"English",43.89,43.89,"616.7","112 pp.",{"$f":"Table1[[#This Row],['# of Books]]*Table1[[#This Row],[QTY]]","v":0},{"$f":"Table1[[#This Row],[QTY]]*Table1[[#This Row],[School & Library Price]]","v":0}]
[null,72,null,null,"Health & Medicine","Diseases and Disorders","Hepatitis","978-1-4205-0595-5","Lucent Press","Library Bound Book",1,2011,null,"Library Bound","6.000 X 9.000","Author","Melissa Abramovitz",null,null,null,null,null,null,"Years 12 - 15",null,"Grade 7 - 10",null,"English",39.9,31.92,"616.3","120 pp.",{"$f":"Table1[[#This Row],['# of Books]]*Table1[[#This Row],[QTY]]","v":0},{"$f":"Table1[[#This Row],[QTY]]*Table1[[#This Row],[School & Library Price]]","v":0}]
[null,72,null,null,"Health & Medicine","Diseases and Disorders","Infectious Mononucleosis","978-1-5901-8938-2","Lucent Press","Library Bound Book",1,2008,null,"Library Bound","6.000 X 9.000","Author","Hal Marcovitz",null,null,null,null,null,null,"Years 12 - 15",null,"Grade 7 - 10",null,"English",39.9,31.92,"616","104 pp.",{"$f":"Table1[[#This Row],['# of Books]]*Table1[[#This Row],[QTY]]","v":0},{"$f":"Table1[[#This Row],[QTY]]*Table1[[#This Row],[School & Library Price]]","v":0}]
[null,72,null,null,"Health & Medicine","Diseases and Disorders","Learning Disabilities","978-1-4205-0959-5","Lucent Press","eBook",1,2012,null,"eBook",null,"Author","Meryl Loonin",null,null,null,null,null,null,"Years 12 - 15",null,"Grade 7 - 10","This new title in Lucent’s Diseases and Disorders series provides an overview of learning disabilities and explains the many types of learning disabilities, how they are diagnosed, the challenges that people with learning disabilities face, and how they often learn to overcome these challenges. Current research on diagnosis options and alternative learning methods are detailed.","English",43.89,43.89,"616.85","104 pp.",{"$f":"Table1[[#This Row],['# of Books]]*Table1[[#This Row],[QTY]]","v":0},{"$f":"Table1[[#This Row],[QTY]]*Table1[[#This Row],[School & Library Price]]","v":0}]
[null,72,null,null,"Health & Medicine","Diseases and Disorders","Leukemia","978-1-4205-0286-2","Lucent Press","Library Bound Book",1,2010,null,"Library Bound","6.000 X 9.000","Author","Melissa Abramovitz",null,null,null,null,null,null,"Years 12 - 15",null,"Grade 7 - 10","Leukemia applies to several diseases of the blood-forming tissues encountered in both sexes and at all ages. This book explains the different types of leukemia and what is currently known about the causes, symptoms, diagnosis and treatment options for each. With full-color photos and illustrations, this book offers the latest statistics along with information on new treatments, drugs, and future research.","English",39.9,31.92,"616","120 pp.",{"$f":"Table1[[#This Row],['# of Books]]*Table1[[#This Row],[QTY]]","v":0},{"$f":"Table1[[#This Row],[QTY]]*Table1[[#This Row],[School & Library Price]]","v":0}]
[null,72,null,null,"Health & Medicine","Diseases and Disorders","Lupus","978-1-5901-8999-3","Lucent Press","Library Bound Book",1,2008,null,"Library Bound","6.000 X 9.000","Author","Melissa Abramovitz",null,null,null,null,null,null,"Years 12 - 15",null,"Grade 7 - 10",null,"English",39.9,31.92,"616","96 pp.",{"$f":"Table1[[#This Row],['# of Books]]*Table1[[#This Row],[QTY]]","v":0},{"$f":"Table1[[#This Row],[QTY]]*Table1[[#This Row],[School & Library Price]]","v":0}]
[null,72,null,null,"Health & Medicine","Diseases and Disorders","Malnutrition","978-1-5901-8677-0","Lucent Press","Library Bound Book",1,2007,null,"Library Bound","6.000 X 9.000","Author","Don Nardo",null,null,null,null,null,null,"Years 12 - 15",null,"Grade 7 - 10",null,"English",39.9,31.92,"616.3","104 pp.",{"$f":"Table1[[#This Row],['# of Books]]*Table1[[#This Row],[QTY]]","v":0},{"$f":"Table1[[#This Row],[QTY]]*Table1[[#This Row],[School & Library Price]]","v":0}]
[null,72,null,null,"Health & Medicine","Diseases and Disorders","Migraines","978-1-4205-0219-0","Lucent Press","Library Bound Book",1,2010,null,"Library Bound","6.000 X 9.000","Author","Anne K. Brown",null,null,null,null,null,null,"Years 12 - 15",null,"Grade 7 - 10",null,"English",39.9,31.92,"616","104 pp.",{"$f":"Table1[[#This Row],['# of Books]]*Table1[[#This Row],[QTY]]","v":0},{"$f":"Table1[[#This Row],[QTY]]*Table1[[#This Row],[School & Library Price]]","v":0}]
[null,72,null,null,"Health & Medicine","Diseases and Disorders","MRSA","978-1-4205-0304-3","Lucent Press","eBook",1,2010,null,"eBook",null,"Author","Barbara Sheen",null,null,null,null,null,null,"Years 12 - 15",null,"Grade 7 - 10","MRSA (methicillin-resistant Staphylococcus aureus) infection is caused by a strain of staph that is resistant to broad-spectrum antibiotics. This book explains what is unique about MRSA bacteria, the symptoms of MRSA infections, and how they are currently treated. Health care and community strains of MRSA occur in different settings, and the different risk factors and strategies for prevention are also discussed.","English",43.89,43.89,"616.9297","104 pp.",{"$f":"Table1[[#This Row],['# of Books]]*Table1[[#This Row],[QTY]]","v":0},{"$f":"Table1[[#This Row],[QTY]]*Table1[[#This Row],[School & Library Price]]","v":0}]
[null,72,null,null,"Health & Medicine","Diseases and Disorders","Muscular Dystrophy","978-1-4205-0073-8","Lucent Press","Library Bound Book",1,2008,null,"Library Bound","6.000 X 9.000","Author","Melissa Abramovitz",null,null,null,null,null,null,"Years 12 - 15",null,"Grade 7 - 10",null,"English",39.9,31.92,"616","104 pp.",{"$f":"Table1[[#This Row],['# of Books]]*Table1[[#This Row],[QTY]]","v":0},{"$f":"Table1[[#This Row],[QTY]]*Table1[[#This Row],[School & Library Price]]","v":0}]
[null,73,null,null,"Health & Medicine","Diseases and Disorders","Parasitic Diseases","978-1-4205-1245-8","Lucent Press","Library Bound Book",1,2015,null,"Library Bound","6.000 X 9.000","Author","Lizabeth Craig",null,null,null,null,null,null,"Years 12 - 15",null,"Grade 7 - 10","This title in LUCENT'S DISEASES AND DISORDERS SERIES focuses on parasitic diseases. It details what parasitic diseases are, as well as the various types (Protozoan, Helminth, Ectoparasites). The title discusses the causes and symptoms of each type of parasitic disease.","English",39.9,31.92,"616.9","128 pp.",{"$f":"Table1[[#This Row],['# of Books]]*Table1[[#This Row],[QTY]]","v":0},{"$f":"Table1[[#This Row],[QTY]]*Table1[[#This Row],[School & Library Price]]","v":0}]
[null,73,null,null,"Health & Medicine","Diseases and Disorders","Parkinson's Disease","978-1-4205-1228-1","Lucent Press","eBook",1,2015,null,"eBook",null,"Author","Lizabeth Craig",null,null,null,null,null,null,"Years 12 - 15",null,"Grade 7 - 10",null,"English",43.89,43.89,"616.8","128 pp.",{"$f":"Table1[[#This Row],['# of Books]]*Table1[[#This Row],[QTY]]","v":0},{"$f":"Table1[[#This Row],[QTY]]*Table1[[#This Row],[School & Library Price]]","v":0}]
[null,73,null,null,"Health & Medicine","Diseases and Disorders","Personality Disorders","978-1-4205-0115-5","Lucent Press","Library Bound Book",1,2009,null,"Library Bound","6.000 X 9.000","Author","Hal Marcovitz",null,null,null,null,null,null,"Years 12 - 15",null,"Grade 7 - 10",null,"English",39.9,31.92,"616","112 pp.",{"$f":"Table1[[#This Row],['# of Books]]*Table1[[#This Row],[QTY]]","v":0},{"$f":"Table1[[#This Row],[QTY]]*Table1[[#This Row],[School & Library Price]]","v":0}]
[null,73,null,null,"Health & Medicine","Diseases and Disorders","Phobias","978-1-4205-0181-0","Lucent Press","eBook",1,2009,null,"eBook",null,"Author","Jenny Mackay",null,null,null,null,null,null,"Years 12 - 15",null,"Grade 7 - 10",null,"English",43.89,43.89,"616","104 pp.",{"$f":"Table1[[#This Row],['# of Books]]*Table1[[#This Row],[QTY]]","v":0},{"$f":"Table1[[#This Row],[QTY]]*Table1[[#This Row],[School & Library Price]]","v":0}]
[null,73,null,null,"Health & Medicine","Diseases and Disorders","Post Traumatic Stress Disorder","978-1-4205-0002-8","Lucent Press","Library Bound Book",1,2008,null,"Library Bound","6.000 X 9.000","Author","Peggy Thomas",null,null,null,null,null,null,"Years 12 - 15",null,"Grade 7 - 10",null,"English",39.9,31.92,"616","104 pp.",{"$f":"Table1[[#This Row],['# of Books]]*Table1[[#This Row],[QTY]]","v":0},{"$f":"Table1[[#This Row],[QTY]]*Table1[[#This Row],[School & Library Price]]","v":0}]
[null,73,null,null,"Health & Medicine","Diseases and Disorders","Radiation Sickness","978-1-4205-1092-8","Lucent Press","eBook",1,2013,null,"eBook",null,"Author","Toney Allman",null,null,null,null,null,null,"Years 12 - 15",null,"Grade 7 - 10","In this new addition to the Diseases and Disorders series, author Toney Allman discusses the devastating effects of radiation sickness. After exploring the fundamentals of radiation and the various methods of possible radiation exposure, Allman uses examples from Chernobyl, the bombings of Hiroshima and Nagasaki, as well as other radiation events, to outline the stages and syndromes associated with radiation exposure. The book also addresses the current concern for better treatment options and ongoing tests and studies being conducted towards this end.","English",43.89,43.89,"362.1969","104 pp.",{"$f":"Table1[[#This Row],['# of Books]]*Table1[[#This Row],[QTY]]","v":0},{"$f":"Table1[[#This Row],[QTY]]*Table1[[#This Row],[School & Library Price]]","v":0}]
[null,73,null,null,"Health & Medicine","Diseases and Disorders","Sleep Disorders","978-1-4205-0914-4","Lucent Press","Library Bound Book",1,2013,null,"Library Bound","6.000 X 9.000","Author","Barbara Sheen",null,null,null,null,null,null,"Years 12 - 15",null,"Grade 7 - 10","A sleep disorder is a condition that affects normal patterns of sleep and wakefulness. Although sleep disorders are not new, modern life seems to be intensifying the problem. Round the clock work schedules, globalization of commercial markets, stores that never close, television, and the Internet have all contributed to people sleeping less. Americans averaged nine hours of sleep per night in 1910. Today they average only 6.5 hours. This well-researched and up-to-date title offers readers a thorough overview of the many types of sleep disorders and how they are currently being treated. It talks about how people live and cope with sleep disorders. It also looks at current trends in sleep research. The book includes a glossary, sources for further research, including organizations to contact for more information, and a thorough subject index.","English",39.9,31.92,"616","104 pp.",{"$f":"Table1[[#This Row],['# of Books]]*Table1[[#This Row],[QTY]]","v":0},{"$f":"Table1[[#This Row],[QTY]]*Table1[[#This Row],[School & Library Price]]","v":0}]
[null,73,null,null,"Health & Medicine","Diseases and Disorders","Sports Injuries","978-1-4205-0347-0","Lucent Press","eBook",1,2010,null,"eBook",null,"Author","Hal Marcovitz",null,null,null,null,null,null,"Years 12 - 15",null,"Grade 7 - 10","Playing sports can improve fitness and coordination and boost self-discipline and self-esteem. But these benefits sometimes come at a price: sports injuries. This detailed examination covers the causes, diagnoses, current treatments and rehabilitation for the different types of sports injuries. Since many of them are preventable, the author includes a discussion of training and safety techniques as well as changes to equipment that have been instituted as a result of common athletic injuries.","English",43.89,43.89,"617.1","112 pp.",{"$f":"Table1[[#This Row],['# of Books]]*Table1[[#This Row],[QTY]]","v":0},{"$f":"Table1[[#This Row],[QTY]]*Table1[[#This Row],[School & Library Price]]","v":0}]
[null,73,null,null,"Health & Medicine","Diseases and Disorders","Sudden Infant Death Syndrome","978-1-4205-0208-4","Lucent Press","eBook",1,2009,null,"eBook",null,"Author","Peggy J. Parks",null,null,null,null,null,null,"Years 12 - 15",null,"Grade 7 - 10",null,"English",43.89,43.89,"618.92","104 pp.",{"$f":"Table1[[#This Row],['# of Books]]*Table1[[#This Row],[QTY]]","v":0},{"$f":"Table1[[#This Row],[QTY]]*Table1[[#This Row],[School & Library Price]]","v":0}]
[null,73,null,null,"Health & Medicine","Diseases and Disorders","Thyroid Disorders","978-1-4205-0223-7","Lucent Press","Library Bound Book",1,2010,null,"Library Bound","6.000 X 9.000","Author","Bonnie Juettner",null,null,null,null,null,null,"Years 12 - 15",null,"Grade 7 - 10",null,"English",39.9,31.92,"616","112 pp.",{"$f":"Table1[[#This Row],['# of Books]]*Table1[[#This Row],[QTY]]","v":0},{"$f":"Table1[[#This Row],[QTY]]*Table1[[#This Row],[School & Library Price]]","v":0}]
[null,73,null,null,"Health & Medicine","Diseases and Disorders","Thyroid Disorders","978-1-4205-0363-0","Lucent Press","eBook",1,2010,null,"eBook",null,"Author","Bonnie Juettner",null,null,null,null,null,null,"Years 12 - 15",null,"Grade 7 - 10",null,"English",43.89,43.89,"616.4","112 pp.",{"$f":"Table1[[#This Row],['# of Books]]*Table1[[#This Row],[QTY]]","v":0},{"$f":"Table1[[#This Row],[QTY]]*Table1[[#This Row],[School & Library Price]]","v":0}]
[null,73,null,null,"Health & Medicine","Diseases and Disorders","Waterborne Illnesses","978-1-4205-0935-9","Lucent Press","Library Bound Book",1,2013,null,"Library Bound","6.000 X 9.000","Author","Peggy J. Parks",null,null,null,null,null,null,"Years 12 - 15",null,"Grade 7 - 10","As Earth's population has continued to grow, reaching 7 billion people in 2011, much of the planet's available fresh water has become polluted, making it unfit for drinking, cooking, or bathing—and contributing to deadly maladies known as waterborne illnesses. This book will provide an overview of waterborne illnesses and explain the magnitude of the problem. Individual chapters focus on defining and explaining waterborne illnesses, such as Cholera, Dysentery, Hepatitis A, Polio, Typhoid Fever, and SARs, identifying sources of water contamination and geographic areas most affected, and exploring how natural disasters may greatly magnify the problem. Global efforts to prevent waterborne illness are also discussed.","English",39.9,31.92,"614","104 pp.",{"$f":"Table1[[#This Row],['# of Books]]*Table1[[#This Row],[QTY]]","v":0},{"$f":"Table1[[#This Row],[QTY]]*Table1[[#This Row],[School & Library Price]]","v":0}]
[null,73,null,null,"Health & Medicine","Diseases and Disorders","West Nile Virus","978-1-4205-1097-3","Lucent Press","eBook",1,2013,null,"eBook",null,"Author","Melissa Abramovitz",null,null,null,null,null,null,"Years 12 - 15",null,"Grade 7 - 10","As new cases of West Nile Virus begin to appear across the United States, Lucent Books offers a title with a timely discussion of this potentially devastating disease. Author Melissa Abramovitz outlines the mechanics of virus transmission and how mosquitoes and disease-carrying birds have played a key role in the West Nile Virus epidemic. The book covers basic information about the virus and its possible effects, as well as a discussion of personal and governmental prevention plans. The last chapter focuses on treatments currently in development.","English",43.89,43.89,"614.5","112 pp.",{"$f":"Table1[[#This Row],['# of Books]]*Table1[[#This Row],[QTY]]","v":0},{"$f":"Table1[[#This Row],[QTY]]*Table1[[#This Row],[School & Library Price]]","v":0}]
[null,74,null,null,"Health","Drug Education Library (Jan '17 Set)","Drug Education Library (Jan '17 Set)","978-1-5345-6064-2","Lucent Press","eBook Set",6,2017,"January 2017","eBook",null," "," ",null,null,null,null,null,null,null,null,"Grade 7 - 10","The prevalence of drug abuse in today’s society makes it imperative to educate young adults about the dangers of using such substances. Through engaging text and full-color photographs, young adults are encouraged to think critically about drug-related issues. Each volume reflects the most newsworthy and interesting angles about each topic to pique readers’ interests. Readers will become better informed about the choices they may be facing regarding drug usage, helping them make the right ones.","English",224.7,179.76,null,"104 pp.",{"$f":"Table1[[#This Row],['# of Books]]*Table1[[#This Row],[QTY]]","v":0},{"$f":"Table1[[#This Row],[QTY]]*Table1[[#This Row],[School & Library Price]]","v":0}]
[null,74,null,null,"Health","Drug Education Library","Heroin: Killer Drug Epidemic","978-1-5345-6009-3","Lucent Press","Library Bound Book",1,2017,"January 2017","Library Bound","6.000 X 9.000","Author","Richard Alexander",null,null,null,null,"Z",null,"Years 12 - 15",null,"Grade 7 - 10","Young adults who abuse prescription opioids may turn to heroin later on, as it gives the same type of high but can be cheaper and easier to obtain than prescriptions. Knowing the health risks associated with heroin abuse can help young adults avoid falling into the traps of both kinds of drugs. Incorporating full-color photographs and detailed charts, this volume illustrates the severe health threat heroin poses. A list of antidrug organizations is provided for readers to learn more about this dangerous drug epidemic.","English",37.450000000000003,29.96,null,"104 pp.",{"$f":"Table1[[#This Row],['# of Books]]*Table1[[#This Row],[QTY]]","v":0},{"$f":"Table1[[#This Row],[QTY]]*Table1[[#This Row],[School & Library Price]]","v":0}]
[null,74,null,null,"Health","Drug Education Library","Prescription Drugs: Opioids That Kill","978-1-5345-6011-6","Lucent Press","Library Bound Book",1,2017,"January 2017","Library Bound","6.000 X 9.000","Author","Simon Pierce",null,null,null,null,"Z",null,"Years 12 - 15",null,"Grade 7 - 10","Since prescription drugs can be obtained legally and found in medicine cabinets in young adults’ own homes, there is a perception that they are not as dangerous as other types of drugs. However, abuse of prescriptions can have hazardous—sometimes even deadly—consequences, which readers discover in great detail. Enlightening charts and sidebars augment the discussion of prescription drug abuse, and a list of websites provides resources for those who may already be struggling with this addiction.","English",37.450000000000003,29.96,null,"104 pp.",{"$f":"Table1[[#This Row],['# of Books]]*Table1[[#This Row],[QTY]]","v":0},{"$f":"Table1[[#This Row],[QTY]]*Table1[[#This Row],[School & Library Price]]","v":0}]
[null,74,null,null,"Health","Drug Education Library","Steroids and Other Performance-Enhancing Drugs","978-1-5345-6004-8","Lucent Press","eBook",1,2017,"January 2017","eBook",null,"Author","Christine Honders",null,null,null,null,"Z",null,null,null,"Grade 7 - 10","While steroids are medically useful in small, prescribed doses, they are too often abused in sports alongside other performance-enhancing drugs. Young athletes may feel their natural performance is not good enough, so they may turn to these drugs to get ahead. Young athletes are informed about the risky effects of abusing these drugs to combat the allure of being perceived as a better player. Sidebars and full-color photographs help portray the dangerous consequences of this type of drug abuse.","English",37.450000000000003,29.96,null,"112 pp.",{"$f":"Table1[[#This Row],['# of Books]]*Table1[[#This Row],[QTY]]","v":0},{"$f":"Table1[[#This Row],[QTY]]*Table1[[#This Row],[School & Library Price]]","v":0}]
[null,75,null,null,"U.S. History","Lucent Library of Black History","African Americans in Sports","978-1-4205-0863-5","Lucent Press","eBook",1,2012,null,"eBook",null,"Author","Carla Mooney",null,null,null,null,null,null,"Years 12 - 15",null,"Grade 7 - 10","This new addition to the Lucent Library of Black History explores the history of African American involvement in sports in the United States from the nineteenth century to the present.  Blacks’ participation in horse racing, track and field, baseball, basketball, golf, tennis, and boxing are all covered. The title relates the accomplishments of trailblazers as well as the discrimination, insults, and physical violence they endured to open the doors of opportunity for black athletes around the country. The achievements of modern sports stars are also discussed and sidebars feature brief biographies of both pioneers and superstars.","English",43.34,43.34,"796.089960","112 pp.",{"$f":"Table1[[#This Row],['# of Books]]*Table1[[#This Row],[QTY]]","v":0},{"$f":"Table1[[#This Row],[QTY]]*Table1[[#This Row],[School & Library Price]]","v":0}]
[null,75,null,null,"U.S. History","Lucent Library of Black History","African Americans in Sports","978-1-4205-0675-4","Lucent Press","Library Bound Book",1,2012,null,"Library Bound","7.000 X 9.000","Author","Carla Mooney",null,null,null,null,null,null,"Years 12 - 15",null,"Grade 7 - 10","This new addition to the Lucent Library of Black History explores the history of African American involvement in sports in the United States from the nineteenth century to the present.  Blacks’ participation in horse racing, track and field, baseball, basketball, golf, tennis, and boxing are all covered. The title relates the accomplishments of trailblazers as well as the discrimination, insults, and physical violence they endured to open the doors of opportunity for black athletes around the country. The achievements of modern sports stars are also discussed and sidebars feature brief biographies of both pioneers and superstars.","English",39.4,31.52,"796","112 pp.",{"$f":"Table1[[#This Row],['# of Books]]*Table1[[#This Row],[QTY]]","v":0},{"$f":"Table1[[#This Row],[QTY]]*Table1[[#This Row],[School & Library Price]]","v":0}]
[null,75,null,null,"U.S. History","Lucent Library of Black History","An Appeal for Justice: The Trials of the Scottsboro Nine","978-1-4205-0676-1","Lucent Press","Library Bound Book",1,2012,null,"Library Bound","7.000 X 9.000","Author","John F. Wukovits",null,null,null,null,null,null,"Years 12 - 15",null,"Grade 7 - 10",null,"English",39.4,31.52,"345","128 pp.",{"$f":"Table1[[#This Row],['# of Books]]*Table1[[#This Row],[QTY]]","v":0},{"$f":"Table1[[#This Row],[QTY]]*Table1[[#This Row],[School & Library Price]]","v":0}]
[null,75,null,null,"U.S. History","Lucent Library of Black History","James Foreman and SNCC","978-1-4205-1103-1","Lucent Press","eBook",1,2013,null,"eBook",null,"Author","Michael V. Uschan",null,null,null,null,null,null,"Years 12 - 15",null,"Grade 7 - 10","This title in the Lucent Library of Black History series introduces students to civil rights organizer James Forman and the SNCC organization. It offers biographical details of Forman’s life from birth to death including his role as a key member of the SNCC. It talks about the goals, activities, and the accomplishments of both Forman and the SNCC.","English",43.34,43.34,"323.092","112 pp.",{"$f":"Table1[[#This Row],['# of Books]]*Table1[[#This Row],[QTY]]","v":0},{"$f":"Table1[[#This Row],[QTY]]*Table1[[#This Row],[School & Library Price]]","v":0}]
[null,75,null,null,"U.S. History","Lucent Library of Black History","Landmarks in African American History","978-1-4205-1104-8","Lucent Press","eBook",1,2013,null,"eBook",null,"Author","Michael V. Uschan",null,null,null,null,null,null,"Years 12 - 15",null,"Grade 7 - 10","This title in the Lucent Library of Black History series describes physical landmarks in African American history and discusses the history associated with those places. The book is organized around thematic chapters that take readers on a virtual tour of landmarks associated with the theme, in the process describing the people and events that inspired the landmarks. Thematic chapters include: The Slavery Era, African Americans Resist Slavery, The Civil War, Education for Blacks, The Civil Rights Movement, and African American Achievers.","English",43.34,43.34,"973.049607","104 pp.",{"$f":"Table1[[#This Row],['# of Books]]*Table1[[#This Row],[QTY]]","v":0},{"$f":"Table1[[#This Row],[QTY]]*Table1[[#This Row],[School & Library Price]]","v":0}]
[null,76,null,null,"U.S. History","Lucent Library of Black History","Reparations for Slavery","978-1-5901-8868-2","Lucent Press","Library Bound Book",1,2008,null,"Library Bound","7.000 X 9.000","Author","Cherese Cartlidge",null,null,null,null,null,null,"Years 12 - 15",null,"Grade 7 - 10",null,"English",39.4,31.52,"305","104 pp.",{"$f":"Table1[[#This Row],['# of Books]]*Table1[[#This Row],[QTY]]","v":0},{"$f":"Table1[[#This Row],[QTY]]*Table1[[#This Row],[School & Library Price]]","v":0}]
[null,76,null,null,"U.S. History","Lucent Library of Black History","The Atlantic Slave Trade","978-1-4205-0007-3","Lucent Press","Library Bound Book",1,2008,null,"Library Bound","7.000 X 9.000","Author","Don Nardo",null,null,null,null,null,null,"Years 12 - 15",null,"Grade 7 - 10",null,"English",39.4,31.52,"306","104 pp.",{"$f":"Table1[[#This Row],['# of Books]]*Table1[[#This Row],[QTY]]","v":0},{"$f":"Table1[[#This Row],[QTY]]*Table1[[#This Row],[School & Library Price]]","v":0}]
[null,76,null,null,"U.S. History","Lucent Library of Black History","The Blues","978-1-4205-0831-4","Lucent Press","eBook",1,2012,null,"eBook",null,"Author","Michael V. Uschan",null,null,null,null,null,null,"Years 12 - 15",null,"Grade 7 - 10",null,"English",43.34,43.34,"781.64309","112 pp.",{"$f":"Table1[[#This Row],['# of Books]]*Table1[[#This Row],[QTY]]","v":0},{"$f":"Table1[[#This Row],[QTY]]*Table1[[#This Row],[School & Library Price]]","v":0}]
[null,76,null,null,"U.S. History","Lucent Library of Black History","The Freedom Rides","978-1-4205-0908-3","Lucent Press","eBook",1,2012,null,"eBook",null,"Author","Anne Wallace Sharp",null,null,null,null,null,null,"Years 12 - 15",null,"Grade 7 - 10","In this new addition to the Lucent Library of Black History, author Anne Wallace Sharp describes the events that led up to and followed the historic Freedom Rides of 1961. The experiences of African Americans in the Jim Crow South, the stark inequality enforced with segregation laws, and the struggles of the budding civil rights movement are all discussed. Sharp recounts the experiences shared by the Freedom Riders as they faced oppression and violence, and describes how this event changed the course of American history.","English",43.34,43.34,"323.1196","112 pp.",{"$f":"Table1[[#This Row],['# of Books]]*Table1[[#This Row],[QTY]]","v":0},{"$f":"Table1[[#This Row],[QTY]]*Table1[[#This Row],[School & Library Price]]","v":0}]
[null,76,null,null,"U.S. History","Lucent Library of Black History","The Freedom Rides","978-1-4205-0732-4","Lucent Press","Library Bound Book",1,2012,null,"Library Bound","7.000 X 9.000","Author","Anne Wallace Sharp",null,null,null,null,null,null,"Years 12 - 15",null,"Grade 7 - 10","In this new addition to the Lucent Library of Black History, author Anne Wallace Sharp describes the events that led up to and followed the historic Freedom Rides of 1961. The experiences of African Americans in the Jim Crow South, the stark inequality enforced with segregation laws, and the struggles of the budding civil rights movement are all discussed. Sharp recounts the experiences shared by the Freedom Riders as they faced oppression and violence, and describes how this event changed the course of American history.","English",39.4,31.52,"323.1196","112 pp.",{"$f":"Table1[[#This Row],['# of Books]]*Table1[[#This Row],[QTY]]","v":0},{"$f":"Table1[[#This Row],[QTY]]*Table1[[#This Row],[School & Library Price]]","v":0}]
[null,76,null,null,"U.S. History","Lucent Library of Black History","The Struggle for Equality: Landmark Court Cases","978-1-4205-0122-3","Lucent Press","Library Bound Book",1,2010,null,"Library Bound","7.000 X 9.000","Author","Stephen Currie",null,null,null,null,null,null,"Years 12 - 15",null,"Grade 7 - 10",null,"English",39.4,31.52,"347","104 pp.",{"$f":"Table1[[#This Row],['# of Books]]*Table1[[#This Row],[QTY]]","v":0},{"$f":"Table1[[#This Row],[QTY]]*Table1[[#This Row],[School & Library Price]]","v":0}]
[null,77,null,null,"U.S. History","American History","Environmentalism in America","978-1-4205-1303-5","Lucent Press","eBook",1,2010,null,"eBook",null,"Author","Stephen Currie",null,null,null,null,null,null,"Years 12 - 15",null,"Grade 7 - 10",null,"English",43.34,43.34,"333.720973","96 pp.",{"$f":"Table1[[#This Row],['# of Books]]*Table1[[#This Row],[QTY]]","v":0},{"$f":"Table1[[#This Row],[QTY]]*Table1[[#This Row],[School & Library Price]]","v":0}]
[null,77,null,null,"U.S. History","American History","Protests And Riots","978-1-4205-1306-6","Lucent Press","eBook",1,2010,null,"eBook",null,"Author","Michael V. Uschan",null,null,null,null,null,null,"Years 12 - 15",null,"Grade 7 - 10",null,"English",43.34,43.34,"303.6","128 pp.",{"$f":"Table1[[#This Row],['# of Books]]*Table1[[#This Row],[QTY]]","v":0},{"$f":"Table1[[#This Row],[QTY]]*Table1[[#This Row],[School & Library Price]]","v":0}]
[null,77,null,null,"U.S. History","American History","The Cold War","978-1-4205-0032-5","Lucent Press","Library Bound Book",1,2009,null,"Library Bound","7.000 X 9.000","Author","Richard Brownell",null,null,null,null,null,null,"Years 12 - 15",null,"Grade 7 - 10",null,"English",39.4,31.52,"973","104 pp.",{"$f":"Table1[[#This Row],['# of Books]]*Table1[[#This Row],[QTY]]","v":0},{"$f":"Table1[[#This Row],[QTY]]*Table1[[#This Row],[School & Library Price]]","v":0}]
[null,77,null,null,"U.S. History","American History","Twentieth-Century Immigration to the United States","978-1-5901-8186-7","Lucent Press","Library Bound Book",1,2007,null,"Library Bound","7.000 X 9.000","Author","Stuart A. Kallen",null,null,null,null,null,null,"Years 12 - 15",null,"Grade 7 - 10",null,"English",39.4,31.52,"304.8","104 pp.",{"$f":"Table1[[#This Row],['# of Books]]*Table1[[#This Row],[QTY]]","v":0},{"$f":"Table1[[#This Row],[QTY]]*Table1[[#This Row],[School & Library Price]]","v":0}]
[null,77,null,null,"U.S. History","American History","Twentieth-Century Immigration to the United States","978-1-4205-0299-2","Lucent Press","Paperback Book",1,2007,null,"Paperback","7.000 X 9.000","Author","Stuart A. Kallen",null,null,null,null,null,null,"Years 12 - 15",null,"Grade 7 - 10",null,"English",28.3,22.64,"304.8","104 pp.",{"$f":"Table1[[#This Row],['# of Books]]*Table1[[#This Row],[QTY]]","v":0},{"$f":"Table1[[#This Row],[QTY]]*Table1[[#This Row],[School & Library Price]]","v":0}]
[null,78,null,null,"World History","World History","American Counterculture of the 1960s","978-1-4205-0586-3","Lucent Press","eBook",1,2011,null,"eBook",null,"Author","Richard Brownell",null,null,null,null,null,null,"Years 12 - 15",null,"Grade 7 - 10","This volume focuses on the American counterculture of the 1960s and features quotations from sources such as diaries, public records, and contemporary chronicles. Each book in the comprehensive World History series offers a clearly written and visually enhanced overview of an important historical event or period. The series is designed both to acquaint readers with the basics of history and to make them aware that their lives and their own historical era are an intimate part of the ongoing human saga.","English",43.89,43.89,"306.1","96 pp.",{"$f":"Table1[[#This Row],['# of Books]]*Table1[[#This Row],[QTY]]","v":0},{"$f":"Table1[[#This Row],[QTY]]*Table1[[#This Row],[School & Library Price]]","v":0}]
[null,78,null,null,"World History","World History","American Counterculture of the 1960s","978-1-4205-0263-3","Lucent Press","Library Bound Book",1,2011,null,"Library Bound","7.000 X 9.000","Author","Richard Brownell",null,null,null,null,null,null,"Years 12 - 15",null,"Grade 7 - 10",null,"English",39.9,31.92,"973","96 pp.",{"$f":"Table1[[#This Row],['# of Books]]*Table1[[#This Row],[QTY]]","v":0},{"$f":"Table1[[#This Row],[QTY]]*Table1[[#This Row],[School & Library Price]]","v":0}]
[null,78,null,null,"World History","World History","China Since World War II","978-1-4205-0097-4","Lucent Press","Library Bound Book",1,2008,null,"Library Bound","7.000 X 9.000","Author","Michael V. Uschan",null,null,null,null,null,null,"Years 12 - 15",null,"Grade 7 - 10",null,"English",39.9,31.92,"951","104 pp.",{"$f":"Table1[[#This Row],['# of Books]]*Table1[[#This Row],[QTY]]","v":0},{"$f":"Table1[[#This Row],[QTY]]*Table1[[#This Row],[School & Library Price]]","v":0}]
[null,78,null,null,"World History","World History","Internment of Japanese Americans","978-1-4205-1027-0","Lucent Press","eBook",1,2013,null,"eBook",null,"Author","John F. Wukovits",null,null,null,null,null,null,"Years 12 - 15",null,"Grade 7 - 10","This title in Lucent’s World History series takes a close look at a unique event in United States history, the internment of Japanese Americans during World War II. It details both the political and social motivations for internment and also relates the impact of this event on individuals and communities on the west coast and how it reverberated throughout the country. The title includes a timeline of events, sources for further research, engaging photographs, and a detailed subject index.","English",43.89,43.89,"940.53","120 pp.",{"$f":"Table1[[#This Row],['# of Books]]*Table1[[#This Row],[QTY]]","v":0},{"$f":"Table1[[#This Row],[QTY]]*Table1[[#This Row],[School & Library Price]]","v":0}]
[null,79,null,null,"World History","World History","Maya Civilization","978-1-4205-0547-4","Lucent Press","eBook",1,2010,null,"eBook",null,"Author","Charles George",null,null,null,null,null,null,"Years 12 - 15",null,"Grade 7 - 10",null,"English",43.89,43.89,"305.897","96 pp.",{"$f":"Table1[[#This Row],['# of Books]]*Table1[[#This Row],[QTY]]","v":0},{"$f":"Table1[[#This Row],[QTY]]*Table1[[#This Row],[School & Library Price]]","v":0}]
[null,79,null,null,"World History","World History","Piracy on the High Seas","978-1-4205-0679-2","Lucent Press","Library Bound Book",1,2012,null,"Library Bound","7.000 X 9.000","Author","Diane Yancey",null,null,null,null,null,null,"Years 12 - 15",null,"Grade 7 - 10","An entertaining and informative look at piracy throughout the centuries, Piracy on the High Seas examines the real-life experiences of pirates and pirate hunters. Tales focus on piracy committed in the Caribbean, the Barbary Coast, and Asia, with a chapter devoted to modern piracy in areas like Somalia and the Strait of Malacca. Author Diane Yancey examines how the lives of pirates and their often brutal behavior contrast with romantic portrayals of maritime outlaws. Female pirates are also described, as well as the variety of superstitions that pirates had about women and how this affected their position within the pirate community.","English",39.9,31.92,"364","104 pp.",{"$f":"Table1[[#This Row],['# of Books]]*Table1[[#This Row],[QTY]]","v":0},{"$f":"Table1[[#This Row],[QTY]]*Table1[[#This Row],[School & Library Price]]","v":0}]
[null,79,null,null,"World History","World History","Slavery Through Ages","978-1-4205-0860-4","Lucent Press","Library Bound Book",1,2014,null,"Library Bound","7.000 X 9.000","Author","Don Nardo",null,null,null,null,null,null,"Years 12 - 15",null,"Grade 7 - 10","This title in Lucent's World History talks about the evolution of slavery from ancient times, through the nineteenth century, and into the modern day. The book also describes how historians have used different types of evidence to prove the existence of slavery throughout history.","English",39.9,31.92,"306","104 pp.",{"$f":"Table1[[#This Row],['# of Books]]*Table1[[#This Row],[QTY]]","v":0},{"$f":"Table1[[#This Row],[QTY]]*Table1[[#This Row],[School & Library Price]]","v":0}]
[null,79,null,null,"World History","World History","The Age of Exploration","978-1-4205-1134-5","Lucent Press","eBook",1,2013,null,"eBook",null,"Author","Andrew A. Kling",null,null,null,null,null,null,"Years 12 - 15",null,"Grade 7 - 10","This title in Lucent’s World History series tells the story of the Age of Exploration, beginning with the efforts of Prince Henry the Navigator of Portugal in the 15th century, covering major discoveries and expeditions through to the late 17th century.  The title discusses the contributions of Gil Eannes in navigating the west coast of Africa; Bartolomeu Dias sailing around the southern cape of Africa; Christopher Columbus reaching the Bahamas Islands, Cuba and Hispaniola, Vasco da Gama rounding Africa and reaches the Indian port of Calicut; Spanish conquistador Hernando Cortés defeating the Aztec empire in Mexico; Ferdinand Magellan and Sir Francis Drake circumnavigating the Earth; Jaques Cartier and Henry Hudson’s explorations of North America, and much more. Includes a timeline, maps, quotations from primary source materials, and a thorough subject index.","English",43.89,43.89,"910.9","112 pp.",{"$f":"Table1[[#This Row],['# of Books]]*Table1[[#This Row],[QTY]]","v":0},{"$f":"Table1[[#This Row],[QTY]]*Table1[[#This Row],[School & Library Price]]","v":0}]
[null,79,null,null,"World History","World History","The Alamo","978-1-4205-0861-1","Lucent Press","Library Bound Book",1,2013,null,"Library Bound","7.000 X 9.000","Author","Don Nardo",null,null,null,null,null,null,"Years 12 - 15",null,"Grade 7 - 10","This title in Lucent Books' World History series tells the story of the battle at the Alamo and why this 13-day battle was so significant for the United States. It explains the events that led to the battle, provides a gripping description of the siege itself with detailed discussions of the primary figures involved, and describes the legacy of this lost battle to American politics and culture.","English",39.9,31.92,"976.4","104 pp.",{"$f":"Table1[[#This Row],['# of Books]]*Table1[[#This Row],[QTY]]","v":0},{"$f":"Table1[[#This Row],[QTY]]*Table1[[#This Row],[School & Library Price]]","v":0}]
[null,79,null,null,"World History","World History","The Bombing of Pearl Harbor","978-1-4205-0666-2","Lucent Press","eBook",1,2011,null,"eBook",null,"Author","John F. Wukovits",null,null,null,null,null,null,"Years 12 - 15",null,"Grade 7 - 10",null,"English",43.89,43.89,"940.54","112 pp.",{"$f":"Table1[[#This Row],['# of Books]]*Table1[[#This Row],[QTY]]","v":0},{"$f":"Table1[[#This Row],[QTY]]*Table1[[#This Row],[School & Library Price]]","v":0}]
[null,79,null,null,"World History","World History","The History of Medicine","978-0-7377-6529-8","Lucent Press","eBook",1,2012,null,"eBook",null,"Author","Lizabeth Hardman",null,null,null,null,null,null,"Years 12 - 15",null,"Grade 7 - 10","An interesting and thorough telling of the history of medicine, this latest installment in Lucent’s WORLD HISTORY SERIES explains how important discoveries revolutionized the way that medicine is practiced.","English",43.89,43.89,"610.9","120 pp.",{"$f":"Table1[[#This Row],['# of Books]]*Table1[[#This Row],[QTY]]","v":0},{"$f":"Table1[[#This Row],[QTY]]*Table1[[#This Row],[School & Library Price]]","v":0}]
[null,79,null,null,"World History","World History","The Information Revolution","978-1-4205-0590-0","Lucent Press","eBook",1,2011,null,"eBook",null,"Author","Stuart A. Kallen",null,null,null,null,null,null,"Years 12 - 15",null,"Grade 7 - 10","Each book in the comprehensive World History series offers a clearly written and visually enhanced overview of an important historical event or period. The series is designed both to acquaint readers with the basics of history and to make them aware that their lives and their own historical era are an intimate part of the ongoing human saga. This volume focuses on the Information Revolution and includes topics on the development of the transistor and integrated circuit, or microchip, in the 1950s.","English",43.89,43.89,"303.48","104 pp.",{"$f":"Table1[[#This Row],['# of Books]]*Table1[[#This Row],[QTY]]","v":0},{"$f":"Table1[[#This Row],[QTY]]*Table1[[#This Row],[School & Library Price]]","v":0}]
[null,79,null,null,"World History","World History","The Islamic Empire","978-1-4205-0634-1","Lucent Press","Library Bound Book",1,2012,null,"Library Bound","7.000 X 9.000","Author","Don Nardo",null,null,null,null,null,null,"Years 12 - 15",null,"Grade 7 - 10",null,"English",39.9,31.92,"956","104 pp.",{"$f":"Table1[[#This Row],['# of Books]]*Table1[[#This Row],[QTY]]","v":0},{"$f":"Table1[[#This Row],[QTY]]*Table1[[#This Row],[School & Library Price]]","v":0}]
[null,79,null,null,"World History","World History","The Medieval Crusades","978-1-4205-0062-2","Lucent Press","Library Bound Book",1,2009,null,"Library Bound","7.000 X 9.000","Author","Stephen Currie",null,null,null,null,null,null,"Years 12 - 15",null,"Grade 7 - 10",null,"English",39.9,31.92,"940","96 pp.",{"$f":"Table1[[#This Row],['# of Books]]*Table1[[#This Row],[QTY]]","v":0},{"$f":"Table1[[#This Row],[QTY]]*Table1[[#This Row],[School & Library Price]]","v":0}]
[null,79,null,null,"World History","World History","The Scientific Revolution","978-1-4205-0770-6","Lucent Press","eBook",1,2011,null,"eBook",null,"Author","Don Nardo",null,null,null,null,null,null,"Years 12 - 15",null,"Grade 7 - 10",null,"English",43.89,43.89,"509.4","104 pp.",{"$f":"Table1[[#This Row],['# of Books]]*Table1[[#This Row],[QTY]]","v":0},{"$f":"Table1[[#This Row],[QTY]]*Table1[[#This Row],[School & Library Price]]","v":0}]
[null,79,null,null,"World History","World History","The Victorian Era","978-1-4205-1141-3","Lucent Press","eBook",1,2013,null,"eBook",null,"Author","John F. Wukovits",null,null,null,null,null,null,"Years 12 - 15",null,"Grade 7 - 10","Each title in Lucent’s World History series provides an overview of important historical events or periods in world history. This volume focuses on the Victorian era in Great Britain, lasting from Queen Victoria’s ascension to the throne in 1837 until her death in 1901.","English",43.89,43.89,"942.081","104 pp.",{"$f":"Table1[[#This Row],['# of Books]]*Table1[[#This Row],[QTY]]","v":0},{"$f":"Table1[[#This Row],[QTY]]*Table1[[#This Row],[School & Library Price]]","v":0}]
[null,79,null,null,"World History","World History","The Victorian Era","978-1-4205-0933-5","Lucent Press","Library Bound Book",1,2013,null,"Library Bound","7.000 X 9.000","Author","John F. Wukovits",null,null,null,null,null,null,"Years 12 - 15",null,"Grade 7 - 10","Each title in Lucent's World History series provides an overview of important historical events or periods in world history. This volume focuses on the Victorian era in Great Britain, lasting from Queen Victoria's ascension to the throne in 1837 until her death in 1901.","English",39.9,31.92,"941","104 pp.",{"$f":"Table1[[#This Row],['# of Books]]*Table1[[#This Row],[QTY]]","v":0},{"$f":"Table1[[#This Row],[QTY]]*Table1[[#This Row],[School & Library Price]]","v":0}]
[null,79,null,null,"World History","World History","The Vikings","978-1-4205-0316-6","Lucent Press","Library Bound Book",1,2011,null,"Library Bound","7.000 X 9.000","Author","Don Nardo",null,null,null,null,null,null,"Years 12 - 15",null,"Grade 7 - 10",null,"English",39.9,31.92,"948","112 pp.",{"$f":"Table1[[#This Row],['# of Books]]*Table1[[#This Row],[QTY]]","v":0},{"$f":"Table1[[#This Row],[QTY]]*Table1[[#This Row],[School & Library Price]]","v":0}]
[null,80,null,null,"Science & Technology","Crime Scene Investigations","Ballistics","978-1-5901-8988-7","Lucent Press","Library Bound Book",1,2009,null,"Library Bound","7.000 X 9.000","Author","Andrew A. Kling",null,null,null,null,null,null,"Years 12 - 15",null,"Grade 7 - 10",null,"English",40.4,32.32,"363","120 pp.",{"$f":"Table1[[#This Row],['# of Books]]*Table1[[#This Row],[QTY]]","v":0},{"$f":"Table1[[#This Row],[QTY]]*Table1[[#This Row],[School & Library Price]]","v":0}]
[null,80,null,null,"Science & Technology","Crime Scene Investigations","Body Farms","978-1-4205-0178-0","Lucent Press","eBook",1,2009,null,"eBook",null,"Author","Diane Yancey",null,null,null,null,null,null,"Years 12 - 15",null,"Grade 7 - 10",null,"English",44.44,44.44,"614.17","112 pp.",{"$f":"Table1[[#This Row],['# of Books]]*Table1[[#This Row],[QTY]]","v":0},{"$f":"Table1[[#This Row],[QTY]]*Table1[[#This Row],[School & Library Price]]","v":0}]
[null,80,null,null,"Science & Technology","Crime Scene Investigations","Computer Hacking","978-1-4205-0035-6","Lucent Press","Library Bound Book",1,2008,null,"Library Bound","7.000 X 9.000","Author","Peggy J. Parks",null,null,null,null,null,null,"Years 12 - 15",null,"Grade 7 - 10",null,"English",40.4,32.32,"363","104 pp.",{"$f":"Table1[[#This Row],['# of Books]]*Table1[[#This Row],[QTY]]","v":0},{"$f":"Table1[[#This Row],[QTY]]*Table1[[#This Row],[School & Library Price]]","v":0}]
[null,80,null,null,"Science & Technology","Crime Scene Investigations","Cryptology","978-1-4205-0555-9","Lucent Press","eBook",1,2011,null,"eBook",null,"Author","Jenny Mackay",null,null,null,null,null,null,"Years 12 - 15",null,"Grade 7 - 10",null,"English",44.44,44.44,"363.25","104 pp.",{"$f":"Table1[[#This Row],['# of Books]]*Table1[[#This Row],[QTY]]","v":0},{"$f":"Table1[[#This Row],[QTY]]*Table1[[#This Row],[School & Library Price]]","v":0}]
[null,81,null,null,"Science & Technology","Crime Scene Investigations","Forensic Art","978-1-4205-0174-2","Lucent Press","eBook",1,2009,null,"eBook",null,"Author","Jenny Mackay",null,null,null,null,null,null,"Years 12 - 15",null,"Grade 7 - 10",null,"English",44.44,44.44,"363.25","104 pp.",{"$f":"Table1[[#This Row],['# of Books]]*Table1[[#This Row],[QTY]]","v":0},{"$f":"Table1[[#This Row],[QTY]]*Table1[[#This Row],[School & Library Price]]","v":0}]
[null,81,null,null,"Science & Technology","Crime Scene Investigations","Investigating the Mafia","978-1-4205-0212-1","Lucent Press","Library Bound Book",1,2010,null,"Library Bound","7.000 X 9.000","Author","Carla Mooney",null,null,null,null,null,null,"Years 12 - 15",null,"Grade 7 - 10",null,"English",40.4,32.32,"364","112 pp.",{"$f":"Table1[[#This Row],['# of Books]]*Table1[[#This Row],[QTY]]","v":0},{"$f":"Table1[[#This Row],[QTY]]*Table1[[#This Row],[School & Library Price]]","v":0}]
[null,81,null,null,"Science & Technology","Crime Scene Investigations","Investigating the Mafia","978-1-4205-0361-6","Lucent Press","eBook",1,2010,null,"eBook",null,"Author","Carla Mooney",null,null,null,null,null,null,"Years 12 - 15",null,"Grade 7 - 10",null,"English",44.44,44.44,"363.250973","112 pp.",{"$f":"Table1[[#This Row],['# of Books]]*Table1[[#This Row],[QTY]]","v":0},{"$f":"Table1[[#This Row],[QTY]]*Table1[[#This Row],[School & Library Price]]","v":0}]
[null,81,null,null,"Science & Technology","Crime Scene Investigations","Missing Persons","978-1-4205-0534-4","Lucent Press","Library Bound Book",1,2011,null,"Library Bound","7.000 X 9.000","Author","Gail B. Stewart",null,null,null,null,null,null,"Years 12 - 15",null,"Grade 7 - 10",null,"English",40.4,32.32,"363.2","96 pp.",{"$f":"Table1[[#This Row],['# of Books]]*Table1[[#This Row],[QTY]]","v":0},{"$f":"Table1[[#This Row],[QTY]]*Table1[[#This Row],[School & Library Price]]","v":0}]
[null,81,null,null,"Science & Technology","Crime Scene Investigations","Poisoning","978-1-4205-0064-6","Lucent Press","Library Bound Book",1,2008,null,"Library Bound","7.000 X 9.000","Author","Toney Allman",null,null,null,null,null,null,"Years 12 - 15",null,"Grade 7 - 10",null,"English",40.4,32.32,"364","104 pp.",{"$f":"Table1[[#This Row],['# of Books]]*Table1[[#This Row],[QTY]]","v":0},{"$f":"Table1[[#This Row],[QTY]]*Table1[[#This Row],[School & Library Price]]","v":0}]
[null,81,null,null,"Science & Technology","Crime Scene Investigations","The Forensic Anthropologist","978-1-5901-8618-3","Lucent Press","Library Bound Book",1,2006,null,"Library Bound","7.000 X 9.000","Author","Diane Yancey",null,null,null,null,null,null,"Years 12 - 15",null,"Grade 7 - 10","Forensic anthropologists who study skeletal remains to further criminal investigations are an important part of crime solving in the twenty-first century.  The book details their work as they read the bones and help find answers to questions of murder and mayhem.","English",40.4,32.32,"614","104 pp.",{"$f":"Table1[[#This Row],['# of Books]]*Table1[[#This Row],[QTY]]","v":0},{"$f":"Table1[[#This Row],[QTY]]*Table1[[#This Row],[School & Library Price]]","v":0}]
[null,81,null,null,"Science & Technology","Crime Scene Investigations","The Homicide Detective","978-1-4205-0310-4","Lucent Press","eBook",1,2010,null,"eBook",null,"Author","Toney Allman",null,null,null,null,null,null,"Years 12 - 15",null,"Grade 7 - 10",null,"English",44.44,44.44,"363.259523","104 pp.",{"$f":"Table1[[#This Row],['# of Books]]*Table1[[#This Row],[QTY]]","v":0},{"$f":"Table1[[#This Row],[QTY]]*Table1[[#This Row],[School & Library Price]]","v":0}]
[null,81,null,null,"Science & Technology","Crime Scene Investigations","Underwater Forensics","978-1-4205-0352-4","Lucent Press","eBook",1,2010,null,"eBook",null,"Author","Gail B. Stewart",null,null,null,null,null,null,"Years 12 - 15",null,"Grade 7 - 10",null,"English",44.44,44.44,"363.25","104 pp.",{"$f":"Table1[[#This Row],['# of Books]]*Table1[[#This Row],[QTY]]","v":0},{"$f":"Table1[[#This Row],[QTY]]*Table1[[#This Row],[School & Library Price]]","v":0}]
[null,82,null,null,"Science & Technology","Science Behind Sports","Car Racing","978-1-4205-1179-6","Lucent Press","eBook",1,2014,null,"eBook",null,"Author","Barbara Sheen",null,null,null,null,null,null,"Years 12 - 15",null,"Grade 7 - 10","This new addition to the Science behind Sports series examines not only the physical aspects needed to be a race car driver, but also how the driver and the car work together. The title talks about not only the physical and mental demands a driver endures while racing, but also the mechanics of the car and what types of science are used to evaluate both the car and the driver.","English",43.34,43.34,"796.72","104 pp.",{"$f":"Table1[[#This Row],['# of Books]]*Table1[[#This Row],[QTY]]","v":0},{"$f":"Table1[[#This Row],[QTY]]*Table1[[#This Row],[School & Library Price]]","v":0}]
[null,83,null,null,"Science & Technology","Science Behind Sports","Cheerleading","978-1-4205-0818-5","Lucent Press","Library Bound Book",1,2012,null,"Library Bound","7.000 X 9.000","Author","Heather Schwartz",null,null,null,null,null,null,"Years 12 - 15",null,"Grade 7 - 10","Lucent's new title, SCIENCE BEHIND SPORTS: CHEERLEADING, focuses on the biomechanical and physical principles behind the chants and stunts of sideline and competitive cheerleading. Author Heather Schwartz discusses the similarities between dance and cheerleading and the physical and psychological challenges faced by cheerleaders. Also addressed is the intense debate over whether or not cheerleading should be classified as an athletic sport or activity, and how this designation could affect athletes and athletic programs.","English",39.4,31.52,"791","104 pp.",{"$f":"Table1[[#This Row],['# of Books]]*Table1[[#This Row],[QTY]]","v":0},{"$f":"Table1[[#This Row],[QTY]]*Table1[[#This Row],[School & Library Price]]","v":0}]
[null,83,null,null,"Science & Technology","Science Behind Sports","Cycling","978-1-4205-1120-8","Lucent Press","eBook",1,2014,null,"eBook",null,"Author","Stephen Currie",null,null,null,null,null,null,"Years 12 - 15",null,"Grade 7 - 10","This book presents the scientific principles and concepts relevant to the sport of cycling. Individual chapters discuss the concepts of motion, energy transfer, force, momentum, friction, aerodynamics, and gravity; nutrtition and training required for cycling; and the significant impact performance enhancing drugs has had on cycling.","English",43.34,43.34,"796.6","104 pp.",{"$f":"Table1[[#This Row],['# of Books]]*Table1[[#This Row],[QTY]]","v":0},{"$f":"Table1[[#This Row],[QTY]]*Table1[[#This Row],[School & Library Price]]","v":0}]
[null,83,null,null,"Science & Technology","Science Behind Sports","Equestrian","978-1-4205-1138-3","Lucent Press","Library Bound Book",1,2014,null,"Library Bound","7.000 X 9.000","Author","Toney Allman",null,null,null,null,null,null,"Years 12 - 15",null,"Grade 7 - 10","This new title in the Science behind Sports series provides an in-depth look at the scientific principles behind equestrian events such as racing, dressage, hunting, endurance events, steeplechase, and polo. Chapters cover physics, biomechanics, genetics, physical training, and how tack affects the rider and the horse, and the psychology of training. Includes graphics to help explain the scientific principles being discussed and a list of sources for further research.","English",39.4,31.52,"798","112 pp.",{"$f":"Table1[[#This Row],['# of Books]]*Table1[[#This Row],[QTY]]","v":0},{"$f":"Table1[[#This Row],[QTY]]*Table1[[#This Row],[School & Library Price]]","v":0}]
[null,83,null,null,"Science & Technology","Science Behind Sports","Football","978-0-7377-6527-4","Lucent Press","eBook",1,2012,null,"eBook",null,"Author","Jennifer Guess Mckerley",null,null,null,null,null,null,"Years 12 - 15",null,"Grade 7 - 10","This new title in the SCIENCE BEHIND SPORTS series provides an in-depth look at the scientific principles involved in the game of football. The text includes a discussion of the types of exercises trainers use to build overall strength and to build the strength and skills for certain positions. The author explains the laws of motion that determine how the ball moves when passed, punted, kicked, or caught, as well as how velocity, momentum and mass determine the outcome of a tackle. The author also talks about equipment and how it protects players, and what types of injuries occur when it doesn’t. The nutritional needs of football players and how their bodies respond to training are discussed, as well as the psychological aspects of winning and losing.","English",43.34,43.34,"796.332","104 pp.",{"$f":"Table1[[#This Row],['# of Books]]*Table1[[#This Row],[QTY]]","v":0},{"$f":"Table1[[#This Row],[QTY]]*Table1[[#This Row],[School & Library Price]]","v":0}]
[null,83,null,null,"Science & Technology","Science Behind Sports","Skateboarding","978-1-4205-1212-0","Lucent Press","eBook",1,2014,null,"eBook",null,"Author","Lizabeth Craig",null,null,null,null,null,null,"Years 12 - 15",null,"Grade 7 - 10",null,"English",43.34,43.34,"796.22","112 pp.",{"$f":"Table1[[#This Row],['# of Books]]*Table1[[#This Row],[QTY]]","v":0},{"$f":"Table1[[#This Row],[QTY]]*Table1[[#This Row],[School & Library Price]]","v":0}]
[null,83,null,null,"Science & Technology","Science Behind Sports","Skiing","978-1-4205-1155-0","Lucent Press","Library Bound Book",1,2014,null,"Library Bound","7.000 X 9.000","Author","Melissa Abramovitz",null,null,null,null,null,null,"Years 12 - 15",null,"Grade 7 - 10","This new title in the SCIENCE BEHIND SPORTS SERIES provides an in-depth look at the scientific principles behind the sport of skiing. A brief history of the sport is offered followed by chapters that cover the scientific concepts behind downhill skiing.","English",39.4,31.52,"796","120 pp.",{"$f":"Table1[[#This Row],['# of Books]]*Table1[[#This Row],[QTY]]","v":0},{"$f":"Table1[[#This Row],[QTY]]*Table1[[#This Row],[School & Library Price]]","v":0}]
[null,83,null,null,"Science & Technology","Science Behind Sports","Surfing","978-1-4205-1264-9","Lucent Press","eBook",1,2014,null,"eBook",null,"Author","Don Nardo",null,null,null,null,null,null,"Years 12 - 15",null,"Grade 7 - 10",null,"English",43.34,43.34,"797.3","104 pp.",{"$f":"Table1[[#This Row],['# of Books]]*Table1[[#This Row],[QTY]]","v":0},{"$f":"Table1[[#This Row],[QTY]]*Table1[[#This Row],[School & Library Price]]","v":0}]
[null,83,null,null,"Science & Technology","Science Behind Sports","Taekwondo","978-1-4205-1121-5","Lucent Press","eBook",1,2014,null,"eBook",null,"Author","Jenny Mackay",null,null,null,null,null,null,"Years 12 - 15",null,"Grade 7 - 10","This book presents the scientific principles and concepts relevant to the sport of taekwondo.","English",43.34,43.34,"796.8153","112 pp.",{"$f":"Table1[[#This Row],['# of Books]]*Table1[[#This Row],[QTY]]","v":0},{"$f":"Table1[[#This Row],[QTY]]*Table1[[#This Row],[School & Library Price]]","v":0}]
[null,83,null,null,"Science & Technology","Science Behind Sports","Tennis","978-1-4205-0928-1","Lucent Press","Library Bound Book",1,2013,null,"Library Bound","7.000 X 9.000","Author","Carla Mooney",null,null,null,null,null,null,"Years 12 - 15",null,"Grade 7 - 10","This new title in the Science behind Sports series provides an in-depth look at the scientific principles behind the game of tennis. A brief history of the sport is offered followed by chapters that cover the scientific concepts behind serving the ball, how rackets work, how different surfaces and types of tennis balls affect the game, training and conditioning, and the psychological aspects of the game. Includes graphics to help explain the scientific principles being discussed and a list of sources for further research.","English",39.4,31.52,"796","128 pp.",{"$f":"Table1[[#This Row],['# of Books]]*Table1[[#This Row],[QTY]]","v":0},{"$f":"Table1[[#This Row],[QTY]]*Table1[[#This Row],[School & Library Price]]","v":0}]
[null,83,null,null,"Science & Technology","Science Behind Sports","Track and Field","978-0-7377-6528-1","Lucent Press","eBook",1,2012,null,"eBook",null,"Author","Jenny Mackay",null,null,null,null,null,null,"Years 12 - 15",null,"Grade 7 - 10",null,"English",43.34,43.34,"796.42","104 pp.",{"$f":"Table1[[#This Row],['# of Books]]*Table1[[#This Row],[QTY]]","v":0},{"$f":"Table1[[#This Row],[QTY]]*Table1[[#This Row],[School & Library Price]]","v":0}]
[null,83,null,null,"Science & Technology","Science Behind Sports","Volleyball","978-1-4205-1157-4","Lucent Press","Library Bound Book",1,2013,null,"Library Bound","7.000 X 9.000","Author","Melissa Abramovitz",null,null,null,null,null,null,"Years 12 - 15",null,"Grade 7 - 10","This new title in the Science behind Sports series provides an in-depth look at the scientific principles behind the game of volleyball. A brief history of the sport is offered followed by chapters that cover the scientific concepts behind serving the ball, how different surfaces and types of balls affect the game, training and conditioning, and the psychological aspects of the game. Includes graphics to help explain the scientific principles being discussed and a list of sources for further research.","English",39.4,31.52,"796","128 pp.",{"$f":"Table1[[#This Row],['# of Books]]*Table1[[#This Row],[QTY]]","v":0},{"$f":"Table1[[#This Row],[QTY]]*Table1[[#This Row],[School & Library Price]]","v":0}]
[null,83,null,null,"Science & Technology","Science Behind Sports","Yoga","978-1-4205-1230-4","Lucent Press","eBook",1,2015,null,"eBook",null,"Author","Barbara Sheen",null,null,null,null,null,null,"Years 12 - 15",null,"Grade 7 - 10",null,"English",43.34,43.34,"613.7","104 pp.",{"$f":"Table1[[#This Row],['# of Books]]*Table1[[#This Row],[QTY]]","v":0},{"$f":"Table1[[#This Row],[QTY]]*Table1[[#This Row],[School & Library Price]]","v":0}]
[null,84,null,null,"Arts and Humanities","The Music Library","The History of Alternative Rock","978-1-4205-0972-4","Lucent Press","eBook",1,2012,null,"eBook",null,"Author","Stuart A. Kallen",null,null,null,null,null,null,"Years 12 - 15",null,"Grade 7 - 10","The newest addition to the MUSIC LIBRARY series, this title discusses the history of alternative rock and the ethos of alt-rockers as rebels who value independence, experimentation, and truth-telling. Rather than making music for broad commercial appeal, these musicians drew from a variety of styles that were considered unfriendly for consumers. Over the years, alternative rock has spawned mash-ups of garage rock, punk, new wave, rap, thrash, and hardcore. This group of indie rockers not only created a new sound but also put forth a different attitude, as they outwardly rejected the musical standards and sales practices set by major record companies.","English",43.34,43.34,"781.6609","120 pp.",{"$f":"Table1[[#This Row],['# of Books]]*Table1[[#This Row],[QTY]]","v":0},{"$f":"Table1[[#This Row],[QTY]]*Table1[[#This Row],[School & Library Price]]","v":0}]
[null,84,null,null,"Arts and Humanities","The Music Library","The History of Classical Music","978-1-4205-1129-1","Lucent Press","eBook",1,2013,null,"eBook",null,"Author","Stuart A. Kallen",null,null,null,null,null,null,"Years 12 - 15",null,"Grade 7 - 10","This volume covers the history of classic music with individual chapters on its medieval and renaissance roots, the baroque era, classical period, romantic era, modern era, and classical music in the new millennium.  Informative sidebars, numerous quotations from authoritative sources, annotated bibliographies, and complete indexes make these books valuable research tools for students.","English",43.34,43.34,"781.6809","128 pp.",{"$f":"Table1[[#This Row],['# of Books]]*Table1[[#This Row],[QTY]]","v":0},{"$f":"Table1[[#This Row],[QTY]]*Table1[[#This Row],[School & Library Price]]","v":0}]
[null,84,null,null,"Arts and Humanities","The Music Library","The History of Gospel Music","978-1-4205-1130-7","Lucent Press","eBook",1,2014,null,"eBook",null,"Author","Adam Woog",null,null,null,null,null,null,"Years 12 - 15",null,"Grade 7 - 10","Gospel music and its encouraging messages have touched millions of people over time, and continues to be a vigorous and inspiring music today. This book discusses the roots of gospel music from its early beginnings in the grim days of slavery to contemporary gospel music.  Informative sidebars, numerous quotations from authoritative sources, annotated bibliographies, and complete indexes make these books valuable research tools for students.","English",43.34,43.34,"782.25","136 pp.",{"$f":"Table1[[#This Row],['# of Books]]*Table1[[#This Row],[QTY]]","v":0},{"$f":"Table1[[#This Row],[QTY]]*Table1[[#This Row],[School & Library Price]]","v":0}]
[null,84,null,null,"Arts and Humanities","The Music Library","The History of Jazz","978-1-4205-0975-5","Lucent Press","eBook",1,2012,null,"eBook",null,"Author","Stuart A. Kallen",null,null,null,null,null,null,"Years 12 - 15",null,"Grade 7 - 10","Music based on jazz beats can be heard all over the world but the roots of the style are distinctly American. Jazz grew out of the musical hothouse that was New Orleans, Louisiana at the end of the nineteenth century. Jazz represents the creative musical side of the United States to people across the globe. Jazz personalities such as Louis Armstrong, Dizzy Gillespie, Wynton Marsalis, and now Esperanza Spaulding, are heroes to countless jazz fans from Tokyo to Paris to Rio de Janeiro. Just as a swinging jazz quartet unites its individual players behind a driving syncopated beat, jazz music has proven its ability to bring people together over a shared interest in a universal sound.","English",43.34,43.34,"781.6509","128 pp.",{"$f":"Table1[[#This Row],['# of Books]]*Table1[[#This Row],[QTY]]","v":0},{"$f":"Table1[[#This Row],[QTY]]*Table1[[#This Row],[School & Library Price]]","v":0}]
[null,84,null,null,"Arts and Humanities","The Music Library","The History of Latin Music","978-1-4205-0947-2","Lucent Press","Library Bound Book",1,2013,null,"Library Bound","7.000 X 9.000","Author","Stuart A. Kallen",null,null,null,null,null,null,"Years 12 - 15",null,"Grade 7 - 10","This book covers the history of the music of Latin America. Individual chapters focus on the sounds of the Caribbean, Brazil, South America, and Mexico.","English",39.4,31.52,"780","128 pp.",{"$f":"Table1[[#This Row],['# of Books]]*Table1[[#This Row],[QTY]]","v":0},{"$f":"Table1[[#This Row],[QTY]]*Table1[[#This Row],[School & Library Price]]","v":0}]
[null,84,null,null,"Arts and Humanities","The Music Library","The History of Music Videos","978-1-4205-0976-2","Lucent Press","eBook",1,2012,null,"eBook",null,"Author","Hal Marcovitz",null,null,null,null,null,null,"Years 12 - 15",null,"Grade 7 - 10","The first official music videos aired in the 1970s, but the seeds for making music something more than a pleasure for the ears were planted decades earlier. This book covers the birth of the music video, starting in the 1920s and 1930s when the first great movie musicals were produced, then details how MTV revolutionized the industry by making the film production as important as song production. The author also explains the various music video styles and differences in production value. Concluding chapters highlight the Internet video sensations of today and the interactive features that will likely characterize the genre tomorrow.","English",43.34,43.34,"781.64026","112 pp.",{"$f":"Table1[[#This Row],['# of Books]]*Table1[[#This Row],[QTY]]","v":0},{"$f":"Table1[[#This Row],[QTY]]*Table1[[#This Row],[School & Library Price]]","v":0}]
[null,84,null,null,"Arts and Humanities","The Music Library","The History of R&B and Soul Music","978-1-4205-0899-4","Lucent Press","Library Bound Book",1,2014,null,"Library Bound","7.000 X 9.000","Author","Stuart A. Kallen",null,null,null,null,null,null,"Years 12 - 15",null,"Grade 7 - 10","R&B and soul music has historically been written and produced by black Americans to reflect the African American experience in the USA. This book covers a range of styles within R&B, including boogie-woogie, Doo-Wop, jump blues, and 12-bar blues, Motown soul, 70s funk, urban contemporary, and hip hop soul.","English",39.4,31.52,"781.64409","128 pp.",{"$f":"Table1[[#This Row],['# of Books]]*Table1[[#This Row],[QTY]]","v":0},{"$f":"Table1[[#This Row],[QTY]]*Table1[[#This Row],[School & Library Price]]","v":0}]
[null,84,null,null,"Arts and Humanities","The Music Library","The History of the Blues","978-1-4205-1128-4","Lucent Press","eBook",1,2013,null,"eBook",null,"Author","Michael V. Uschan",null,null,null,null,null,null,"Years 12 - 15",null,"Grade 7 - 10","This volume in THE MUSIC LIBRARY offers a brand new volume on The Blues. The author describes this quintessentially American music, charting its evolution out of African American field hollers, slave songs, and spirituals in the late nineteenth century, its emergence from the South and spreading through the U.S. in the early twentieth century, and its influence on later forms of music, including R&B, and Rock & Roll. The author offers much discussion about how this form of music was born out of the African American experience in the U.S. but also talks about its universal appeal to people of all cultures.  Informative sidebars, numerous quotations from authoritative sources, annotated bibliographies, and complete indexes make these books valuable research tools for students.","English",43.34,43.34,"781.64309","128 pp.",{"$f":"Table1[[#This Row],['# of Books]]*Table1[[#This Row],[QTY]]","v":0},{"$f":"Table1[[#This Row],[QTY]]*Table1[[#This Row],[School & Library Price]]","v":0}]
[null,84,null,null,"Arts and Humanities","The Music Library","The Instruments of Music","978-1-4205-0946-5","Lucent Press","Library Bound Book",1,2013,null,"Library Bound","7.000 X 9.000","Author","Stuart A. Kallen",null,null,null,null,null,null,"Years 12 - 15",null,"Grade 7 - 10","This volume in The Music Library offers an updated version of the book originally published in 2003. The book will include important updates to the original text, a new back matter section (i.e., a glossary, bibliography of resources, and a list of recommended listening), and all new photos. Some important additions include a full chapter discussion of digital instruments in the twenty-first century with an emphasis on how synthesizers, samplers, drum machines, and computer effects such as auto-tune have taken on a greater role in chart-topping pop music; the rising popularity of the tuba in banda music in Mexico and Southern California in what is being called the \"tuba revolution\"; and additional information about country instruments such as the fiddle and standup bass.  Each chapter will focus on the history of a different family of instruments – percussion, woodwinds, brass, strings, keyboards, and digital instruments.","English",39.4,31.52,"781","136 pp.",{"$f":"Table1[[#This Row],['# of Books]]*Table1[[#This Row],[QTY]]","v":0},{"$f":"Table1[[#This Row],[QTY]]*Table1[[#This Row],[School & Library Price]]","v":0}]
[null,85,null,null,"Biography","The Twentieth Century's Most Influential Hispanics","Dolores Huerta: Labor Leader","978-1-5901-8971-9","Lucent Press","Library Bound Book",1,2007,null,"Library Bound","7.000 X 9.000","Author","Debra A. Miller",null,null,null,null,null,null,"Years 12 - 15",null,"Grade 7 - 10",null,"English",39.4,31.52,"B","104 pp.",{"$f":"Table1[[#This Row],['# of Books]]*Table1[[#This Row],[QTY]]","v":0},{"$f":"Table1[[#This Row],[QTY]]*Table1[[#This Row],[School & Library Price]]","v":0}]
[null,85,null,null,"Biography","The Twentieth Century's Most Influential Hispanics","Jennifer Lopez: Entertainer","978-1-4205-0021-9","Lucent Press","Library Bound Book",1,2008,null,"Library Bound","7.000 X 9.000","Author","Terri Dougherty",null,null,null,null,null,null,"Years 12 - 15",null,"Grade 7 - 10",null,"English",39.4,31.52,"791","104 pp.",{"$f":"Table1[[#This Row],['# of Books]]*Table1[[#This Row],[QTY]]","v":0},{"$f":"Table1[[#This Row],[QTY]]*Table1[[#This Row],[School & Library Price]]","v":0}]
[null,85,null,null,"Biography","The Twentieth Century's Most Influential Hispanics","Roberto Clemente: Baseball Hall of Famer","978-1-5901-8969-6","Lucent Press","Library Bound Book",1,2007,null,"Library Bound","7.000 X 9.000","Author","William Lace",null,null,null,null,null,null,"Years 12 - 15",null,"Grade 7 - 10",null,"English",39.4,31.52,"B","104 pp.",{"$f":"Table1[[#This Row],['# of Books]]*Table1[[#This Row],[QTY]]","v":0},{"$f":"Table1[[#This Row],[QTY]]*Table1[[#This Row],[School & Library Price]]","v":0}]
[null,86,null,null,"Health & Medicine","Nutrition and Health","Childhood Obesity","978-1-4205-0963-2","Lucent Press","eBook",1,2012,null,"eBook",null,"Author","Leanne K. Currie-McGhee",null,null,null,null,null,null,"Years 12 - 15",null,"Grade 7 - 10","This new edition in Lucent’s NUTRITION AND HEALTH series explores global issue of childhood obesity. Causes of and proposed solutions to this public health issue are explored, and the findings of current studies are detailed. The text features comments from scientists and researchers, but also includes first-hand accounts from children and teens who have struggled with obesity.","English",39.270000000000003,39.270000000000003,"618.92","104 pp.",{"$f":"Table1[[#This Row],['# of Books]]*Table1[[#This Row],[QTY]]","v":0},{"$f":"Table1[[#This Row],[QTY]]*Table1[[#This Row],[School & Library Price]]","v":0}]
[null,86,null,null,"Health & Medicine","Nutrition and Health","Childhood Obesity","978-1-4205-0723-2","Lucent Press","Library Bound Book",1,2012,null,"Library Bound","7.000 X 9.000","Author","Leanne K. Currie-McGhee",null,null,null,null,null,null,"Years 12 - 15",null,"Grade 7 - 10","This new edition in Lucent's NUTRITION AND HEALTH series explores global issue of childhood obesity. Causes of and proposed solutions to this public health issue are explored, and the findings of current studies are detailed. The text features comments from scientists and researchers, but also includes first-hand accounts from children and teens who have struggled with obesity.","English",35.700000000000003,28.560000000000002,"616","104 pp.",{"$f":"Table1[[#This Row],['# of Books]]*Table1[[#This Row],[QTY]]","v":0},{"$f":"Table1[[#This Row],[QTY]]*Table1[[#This Row],[School & Library Price]]","v":0}]
[null,86,null,null,"Health & Medicine","Nutrition and Health","Eating Disorders","978-1-4205-1023-2","Lucent Press","eBook",1,2013,null,"eBook",null,"Author","Jeff Hill",null,null,null,null,null,null,"Years 12 - 15",null,"Grade 7 - 10","This title in Lucent’s Nutrition and Health series talks about eating disorders. It describes the different types of eating disorders, their prevalence in society, what research suggests about causes and risk factors for having an eating disorder, how eating disorders are treated, the likelihood of recovery, and how people with eating disorders live with the disorder.","English",39.270000000000003,39.270000000000003,"616.85","104 pp.",{"$f":"Table1[[#This Row],['# of Books]]*Table1[[#This Row],[QTY]]","v":0},{"$f":"Table1[[#This Row],[QTY]]*Table1[[#This Row],[School & Library Price]]","v":0}]
[null,86,null,null,"Health & Medicine","Nutrition and Health","Food Allergies","978-1-4205-0964-9","Lucent Press","eBook",1,2012,null,"eBook",null,"Author","Kevin Hillstrom",null,null,null,null,null,null,"Years 12 - 15",null,"Grade 7 - 10","This new edition in Lucent’s NUTRITION AND HEALTH series discusses food allergies. The most common food allergies are discussed in detail, as are the physical effects of food allergies (including mild and severe reactions), how people with food allergies stay safe and avoid ingredients they are allergic to, how food allergies are treated and how people, especially kids and teenagers, cope with the social complications that come with having a food allergy. Doctors, researchers, and people living with food allergies are quoted throughout the text and full source citations are provided. Lists of sources for further research - including organizations to contact - are also included, along with a glossary and detailed subject index.","English",39.270000000000003,39.270000000000003,"616.97","96 pp.",{"$f":"Table1[[#This Row],['# of Books]]*Table1[[#This Row],[QTY]]","v":0},{"$f":"Table1[[#This Row],[QTY]]*Table1[[#This Row],[School & Library Price]]","v":0}]
[null,87,null,null,"Health & Medicine","Nutrition and Health","Food Regulation and Safety","978-1-4205-0721-8","Lucent Press","Library Bound Book",1,2012,null,"Library Bound","7.000 X 9.000","Author","Kevin Hillstrom",null,null,null,null,null,null,"Years 12 - 15",null,"Grade 7 - 10","This new edition in Lucent's NUTRITION AND HEALTH series explores the history and current state of food regulation and safety in the United States. This title covers possible sources of food contamination, recent and historical outbreaks of foodborne illnesses, and various laws and U.S. agencies that attempt to ensure food safety. Multiple viewpoints are offered, with opinions from advocates for reforming the government’s food safety programs, supporters of the government’s programs, and people who say the U.S. food industry is among the safest in the world. Several scientists, researchers, and journalists are also quoted on various aspects of the issue.","English",35.700000000000003,28.560000000000002,"363","104 pp.",{"$f":"Table1[[#This Row],['# of Books]]*Table1[[#This Row],[QTY]]","v":0},{"$f":"Table1[[#This Row],[QTY]]*Table1[[#This Row],[School & Library Price]]","v":0}]
[null,87,null,null,"Health & Medicine","Nutrition and Health","Healthy Weight for Teens","978-1-4205-1109-3","Lucent Press","eBook",1,2013,null,"eBook",null,"Author","Carla Mooney",null,null,null,null,null,null,"Years 12 - 15",null,"Grade 7 - 10","The media inundates us with messages about the \"epidemic\" of overweight and obese Americans and they make dire predictions about the health of kids and teenagers. Meanwhile nutritionists and doctors often say that kids and teenagers should not diet. Psychologists add that girls should never be told they need to diet or hear negative comments about their size, for fear of adding to the number of teens today starving themselves, choosing unhealthy dieting options, and developing eating disorders. This title in Lucent’s Nutrition and Health series provides young readers with the information they need to sort out these mixed messages and use their critical thinking skills to weigh the data and to understand healthy choices.","English",39.270000000000003,39.270000000000003,"613.0433","104 pp.",{"$f":"Table1[[#This Row],['# of Books]]*Table1[[#This Row],[QTY]]","v":0},{"$f":"Table1[[#This Row],[QTY]]*Table1[[#This Row],[School & Library Price]]","v":0}]
[null,87,null,null,"Health & Medicine","Nutrition and Health","Organic Foods","978-1-4205-1244-1","Lucent Press","eBook",1,2015,null,"eBook",null,"Author","Jenny MacKay",null,null,null,null,null,null,"Years 12 - 15",null,"Grade 7 - 10","This new book in Lucent’s NUTRITION AND HEALTH SERIES will discuss the increased interest in organic foods. It will detail how consumers can find true organic foods while shopping and how best to prepare them.","English",39.270000000000003,39.270000000000003,"631.5","104 pp.",{"$f":"Table1[[#This Row],['# of Books]]*Table1[[#This Row],[QTY]]","v":0},{"$f":"Table1[[#This Row],[QTY]]*Table1[[#This Row],[School & Library Price]]","v":0}]
[null,87,null,null,"Health & Medicine","Nutrition and Health","Sleep Problems","978-1-4205-1150-5","Lucent Press","Library Bound Book",1,2014,null,"Library Bound","7.000 X 9.000","Author","Don Nardo",null,null,null,null,null,null,"Years 12 - 15",null,"Grade 7 - 10","This title in Lucent's Nutrition and Health series talks about sleep disorders. It describes the different types of sleep disorders, what research suggests about the causes of sleep disorders, and how sleep disorders are treated and prevented.","English",35.700000000000003,28.560000000000002,"616","104 pp.",{"$f":"Table1[[#This Row],['# of Books]]*Table1[[#This Row],[QTY]]","v":0},{"$f":"Table1[[#This Row],[QTY]]*Table1[[#This Row],[School & Library Price]]","v":0}]
[null,87,null,null,"Health & Medicine","Nutrition and Health","Sports Nutrition","978-1-4205-1110-9","Lucent Press","eBook",1,2015,null,"eBook",null,"Author","Jenny MacKay",null,null,null,null,null,null,"Years 12 - 15",null,"Grade 7 - 10",null,"English",39.270000000000003,39.270000000000003,"613.202479","104 pp.",{"$f":"Table1[[#This Row],['# of Books]]*Table1[[#This Row],[QTY]]","v":0},{"$f":"Table1[[#This Row],[QTY]]*Table1[[#This Row],[School & Library Price]]","v":0}]
[null,87,null,null,"Health & Medicine","Nutrition and Health","Vaccines","978-1-4205-0724-9","Lucent Press","Library Bound Book",1,2013,null,"Library Bound","7.000 X 9.000","Author","Kevin Hillstrom",null,null,null,null,null,null,"Years 12 - 15",null,"Grade 7 - 10","This title in Lucent's Nutrition and Health series examines the history of vaccines, current usage, and controversies surrounding vaccinations.","English",35.700000000000003,28.560000000000002,"615","104 pp.",{"$f":"Table1[[#This Row],['# of Books]]*Table1[[#This Row],[QTY]]","v":0},{"$f":"Table1[[#This Row],[QTY]]*Table1[[#This Row],[School & Library Price]]","v":0}]
[null,87,null,null,"Health & Medicine","Nutrition and Health","Vegetarianism","978-1-4205-0560-3","Lucent Press","eBook",1,2010,null,"eBook",null,"Author","Susan M. Traugh",null,null,null,null,null,null,"Years 12 - 15",null,"Grade 7 - 10","Explores why some people choose a vegetarian lifestyle, the different types of vegetarian diets, and vegetarianism around the world. Looks at the steps to becoming a vegetarian and discusses nutrition for vegetarians -- how this type of diet fits in the recommended food pyramid, and how a vegetarian can make good food selections.","English",39.270000000000003,39.270000000000003,"641.5","96 pp.",{"$f":"Table1[[#This Row],['# of Books]]*Table1[[#This Row],[QTY]]","v":0},{"$f":"Table1[[#This Row],[QTY]]*Table1[[#This Row],[School & Library Price]]","v":0}]
[null,88,null,null,"U.S. History","The Lucent Library of Historical Eras","Life and Worship in Ancient Mesopotamia","978-1-4205-0100-1","Lucent Press","Library Bound Book",1,2009,null,"Library Bound","7.000 X 9.000","Author","Don Nardo",null,null,null,null,null,null,"Years 12 - 15",null,"Grade 7 - 10",null,"English",39.4,31.52,"204","48 pp.",{"$f":"Table1[[#This Row],['# of Books]]*Table1[[#This Row],[QTY]]","v":0},{"$f":"Table1[[#This Row],[QTY]]*Table1[[#This Row],[School & Library Price]]","v":0}]
[null,88,null,null,"U.S. History","The Lucent Library of Historical Eras","The Industrial Revolution in Britain","978-1-4205-0152-0","Lucent Press","Library Bound Book",1,2009,null,"Library Bound","7.000 X 9.000","Author","Don Nardo",null,null,null,null,null,null,"Years 12 - 15",null,"Grade 7 - 10",null,"English",39.4,31.52,"330","96 pp.",{"$f":"Table1[[#This Row],['# of Books]]*Table1[[#This Row],[QTY]]","v":0},{"$f":"Table1[[#This Row],[QTY]]*Table1[[#This Row],[School & Library Price]]","v":0}]
[null,89,null,null,"Mythology","Mythology and Culture Worldwide","American Mythology","978-1-4205-1106-2","Lucent Press","eBook",1,2013,null,"eBook",null,"Author","Don Nardo",null,null,null,null,null,null,"Years 12 - 15",null,"Grade 7 - 10","This volume of Lucent’s Mythology and Culture Worldwide series looks at some of the popular myths of the modern United States and discusses their role in the culture and the values they reflect. (NOTE: Native American myths are covered in a separate volume.) This titles covers American frontier heroes, both real and imaginary, such as Davy Crockett and Paul Bunyon. It talks about legendary ghost ships, haunted houses, pirate treasure, monsters, and lost cities and relates these stories to the experiences and values of American culture.","English",43.34,43.34,"398.20973","104 pp.",{"$f":"Table1[[#This Row],['# of Books]]*Table1[[#This Row],[QTY]]","v":0},{"$f":"Table1[[#This Row],[QTY]]*Table1[[#This Row],[School & Library Price]]","v":0}]
[null,89,null,null,"Mythology","Mythology and Culture Worldwide","Babylonian Mythology","978-0-7377-6647-9","Lucent Press","eBook",1,2013,null,"eBook",null,"Author","Don Nardo",null,null,null,null,null,null,"Years 12 - 15",null,"Grade 7 - 10","This volume in Lucent’s Mythology and Culture Worldwide series looks at Babylonian Mythology, drawing connections between ancient Babylonian culture and its myths, explaining how the beliefs, values, and experiences of that culture are represented in its treasured stories. This volume has a map of ancient Mesopotamia, a family tree of the major gods, a table of major characters with name pronunciations and brief descriptions, a glossary, sidebars, fact boxes, and bibliography of sources for further study, and a subject index.","English",43.34,43.34,"299.21","104 pp.",{"$f":"Table1[[#This Row],['# of Books]]*Table1[[#This Row],[QTY]]","v":0},{"$f":"Table1[[#This Row],[QTY]]*Table1[[#This Row],[School & Library Price]]","v":0}]
[null,89,null,null,"Mythology","Mythology and Culture Worldwide","British Mythology","978-1-4205-0833-8","Lucent Press","Library Bound Book",1,2013,null,"Library Bound","7.000 X 9.000","Author","Don Nardo",null,null,null,null,null,null,"Years 12 - 15",null,"Grade 7 - 10","Explores Great Britain's culture and myths, as well as the beliefs, values, and experiences represented in its stories and mythological figures. Discover the settlement of Britain by the Celts and the influence of the Roman invasion; pre-Christian myths, such as Beowulf; the Authurian cycle; the adventures of Robin Hood; and the survival of British myth in literary tradition.","English",39.4,31.52,"398","112 pp.",{"$f":"Table1[[#This Row],['# of Books]]*Table1[[#This Row],[QTY]]","v":0},{"$f":"Table1[[#This Row],[QTY]]*Table1[[#This Row],[School & Library Price]]","v":0}]
[null,89,null,null,"Mythology","Mythology and Culture Worldwide","Celtic Mythology","978-1-4205-1107-9","Lucent Press","eBook",1,2015,null,"eBook",null,"Author","Q. L. Pearce",null,null,null,null,null,null,"Years 12 - 15",null,"Grade 7 - 10",null,"English",43.34,43.34,"398.2089","112 pp.",{"$f":"Table1[[#This Row],['# of Books]]*Table1[[#This Row],[QTY]]","v":0},{"$f":"Table1[[#This Row],[QTY]]*Table1[[#This Row],[School & Library Price]]","v":0}]
[null,89,null,null,"Mythology","Mythology and Culture Worldwide","Chinese Mythology","978-1-4205-1146-8","Lucent Press","Library Bound Book",1,2014,null,"Library Bound","7.000 X 9.000","Author","Michael V. Uschan",null,null,null,null,null,null,"Years 12 - 15",null,"Grade 7 - 10","This title in the Mythology and Culture Worldwide series introduces readers to the elaborate mythology of ancient China, providing detailed discussion of the mythology's importance to its own culture and the impact it had on subsequent cultures. The numerous deities worshipped by the ancient Chinese are described and their importance to different groups and in different regions within the empire are explained. Stories are retold along with explanation of how they reflect the values and concerns of Chinese culture.","English",39.4,31.52,"299","104 pp.",{"$f":"Table1[[#This Row],['# of Books]]*Table1[[#This Row],[QTY]]","v":0},{"$f":"Table1[[#This Row],[QTY]]*Table1[[#This Row],[School & Library Price]]","v":0}]
[null,90,null,null,"Mythology","Mythology and Culture Worldwide","Greek Mythology","978-1-4205-0949-6","Lucent Press","eBook",1,2012,null,"eBook",null,"Author","Don Nardo",null,null,null,null,null,null,"Years 12 - 15",null,"Grade 7 - 10","This new volume in Lucent’s MYTHOLOGY AND CULTURE WORLDWIDE series looks at Greek mythology, draws connections between ancient Greek culture and its myths, and explains how the beliefs, values, and experiences of that culture are represented in its treasured stories of gods, demi-gods, monsters, and heroes. This volume includes a map of ancient Greece, a family tree of the major gods, a table of major characters with name pronunciations and brief descriptions, a glossary, sidebars, fact boxes, a bibliography of sources for further study, and a subject index.","English",43.34,43.34,"292.1","112 pp.",{"$f":"Table1[[#This Row],['# of Books]]*Table1[[#This Row],[QTY]]","v":0},{"$f":"Table1[[#This Row],[QTY]]*Table1[[#This Row],[School & Library Price]]","v":0}]
[null,90,null,null,"Mythology","Mythology and Culture Worldwide","Mayan Mythology","978-1-4205-0950-2","Lucent Press","eBook",1,2012,null,"eBook",null,"Author","Stephen Currie",null,null,null,null,null,null,"Years 12 - 15",null,"Grade 7 - 10","This new volume in Lucent’s MYTHOLOGY AND CULTURE WORLDWIDE series looks at the mythology of the Mayan culture, and explains how the beliefs, values, and experiences of that culture are represented in its treasured stories. Topics covered include creation stories, myths of culture heroes such as the Hero Twins, and tales of the gods of maize, rain, and wind, as well as the malevolent spirits of the underworld, Xilbaba. This volume has a map of the Mayan civilization, a genealogy grid for the Hero Twins, a table of major characters with name pronunciations and brief descriptions, a glossary, sidebars, fact boxes, a bibliography of sources for further study, and a subject index.","English",43.34,43.34,"398.20897","104 pp.",{"$f":"Table1[[#This Row],['# of Books]]*Table1[[#This Row],[QTY]]","v":0},{"$f":"Table1[[#This Row],[QTY]]*Table1[[#This Row],[School & Library Price]]","v":0}]
[null,90,null,null,"Mythology","Mythology and Culture Worldwide","Native American Mythology","978-1-4205-0716-4","Lucent Press","Library Bound Book",1,2012,null,"Library Bound","7.000 X 9.000","Author","Q. L. Pearce",null,null,null,null,null,null,"Years 12 - 15",null,"Grade 7 - 10","This new volume in Lucent's MYTHOLOGY AND CULTURE WORLDWIDE series looks at Native American mythology, draws connections between Native American culture and its myths, and explains how the beliefs, values, and experiences of that culture are represented in its treasured stories. Tales covered include earth diver and origin stories, and myths of culture heroes, nature deities, spirits, and tricksters. This volume has a map of the tribal regions of North America, a table of major characters with name pronunciations and brief descriptions, a glossary, sidebars, fact boxes, a bibliography of sources for further study, and a subject index.","English",39.4,31.52,"398","104 pp.",{"$f":"Table1[[#This Row],['# of Books]]*Table1[[#This Row],[QTY]]","v":0},{"$f":"Table1[[#This Row],[QTY]]*Table1[[#This Row],[School & Library Price]]","v":0}]
[null,90,null,null,"Mythology","Mythology and Culture Worldwide","Norse Mythology","978-1-4205-0717-1","Lucent Press","Library Bound Book",1,2012,null,"Library Bound","7.000 X 9.000","Author","Shirley Raye Redmond",null,null,null,null,null,null,"Years 12 - 15",null,"Grade 7 - 10","This new volume in Lucent's MYTHOLOGY AND CULTURE WORLDWIDE series looks at the mythology of the Norse culture, and explains how the beliefs, values, and experiences of that culture are represented in its treasured stories. Tales covered include creation stories, and myths of the gods, frost giants, and heroes. This volume has a map of Scandinavia, a genealogy grid with some of the major gods and prominent characters such as Loki and his offspring, a table of key characters with name pronunciations and brief descriptions, a glossary, sidebars, fact boxes, a bibliography of sources for further study, and a subject index.","English",39.4,31.52,"398","96 pp.",{"$f":"Table1[[#This Row],['# of Books]]*Table1[[#This Row],[QTY]]","v":0},{"$f":"Table1[[#This Row],[QTY]]*Table1[[#This Row],[School & Library Price]]","v":0}]
[null,90,null,null,"Mythology","Mythology and Culture Worldwide","Persian Mythology","978-1-4205-1038-6","Lucent Press","eBook",1,2013,null,"eBook",null,"Author","Don Nardo",null,null,null,null,null,null,"Years 12 - 15",null,"Grade 7 - 10","This volume in Lucent’s Mythology and Culture Worldwide series looks at Persian Mythology, drawing connections between ancient Persian culture and its myths, explaining how the beliefs, values, and experiences of that culture are represented in its treasured stories. Origin/creation stories, early gods, mythical kings and heroes, and Zoroastrianism are all covered. This volume has a map of ancient Persia, a visual organizer grouping major characters into types (gods, heroes, etc.), a table of major characters with name pronunciations and brief descriptions, a glossary, sidebars, fact boxes, and bibliography of sources for further study, and a subject index.","English",43.34,43.34,"299.15","104 pp.",{"$f":"Table1[[#This Row],['# of Books]]*Table1[[#This Row],[QTY]]","v":0},{"$f":"Table1[[#This Row],[QTY]]*Table1[[#This Row],[School & Library Price]]","v":0}]
[null,90,null,null,"Mythology","Mythology and Culture Worldwide","Persian Mythology","978-1-4205-0794-2","Lucent Press","Library Bound Book",1,2013,null,"Library Bound","7.000 X 9.000","Author","Don Nardo",null,null,null,null,null,null,"Years 12 - 15",null,"Grade 7 - 10","This volume in Lucent's Mythology and Culture Worldwide series looks at Persian Mythology, drawing connections between ancient Persian culture and its myths, explaining how the beliefs, values, and experiences of that culture are represented in its treasured stories. Origin/creation stories, early gods, mythical kings and heroes, and Zoroastrianism are all covered. This volume has a map of ancient Persia, a visual organizer grouping major characters into types (gods, heroes, etc.), a table of major characters with name pronunciations and brief descriptions, a glossary, sidebars, fact boxes, and bibliography of sources for further study, and a subject index.","English",39.4,31.52,"299","104 pp.",{"$f":"Table1[[#This Row],['# of Books]]*Table1[[#This Row],[QTY]]","v":0},{"$f":"Table1[[#This Row],[QTY]]*Table1[[#This Row],[School & Library Price]]","v":0}]
[null,90,null,null,"Mythology","Mythology and Culture Worldwide","Roman Mythology","978-1-4205-0952-6","Lucent Press","eBook",1,2012,null,"eBook",null,"Author","Don Nardo",null,null,null,null,null,null,"Years 12 - 15",null,"Grade 7 - 10","This new volume in Lucent’s MYTHOLOGY AND CULTURE WORLDWIDE series looks at Roman mythology, examines connections between Rome’s myths and its culture, and explains how the beliefs, values, and experiences of that culture are represented in stories about its founding fathers and the champions who fought for the survival of Rome. The myths of Aeneas, Romulus and Remus, the Six Brave Brothers, Horatius, Coriolanus and Volumnia, Cloelia, and others are explored. Hero myths and the values they represented are explored. This volume has a map of the Roman Empire, a family tree of Rome’s founders, a table of major characters with name pronunciations and brief descriptions, a glossary, sidebars, fact boxes, a bibliography of sources for further study, and a subject index.","English",43.34,43.34,"292.07","104 pp.",{"$f":"Table1[[#This Row],['# of Books]]*Table1[[#This Row],[QTY]]","v":0},{"$f":"Table1[[#This Row],[QTY]]*Table1[[#This Row],[School & Library Price]]","v":0}]
[null,90,null,null,"Mythology","Mythology and Culture Worldwide","Roman Mythology","978-1-4205-0746-1","Lucent Press","Library Bound Book",1,2012,null,"Library Bound","7.000 X 9.000","Author","Don Nardo",null,null,null,null,null,null,"Years 12 - 15",null,"Grade 7 - 10","This new volume in Lucent's MYTHOLOGY AND CULTURE WORLDWIDE series looks at Roman mythology, examines connections between Rome's myths and its culture, and explains how the beliefs, values, and experiences of that culture are represented in stories about its founding fathers and the champions who fought for the survival of Rome. The myths of Aeneas, Romulus and Remus, the Six Brave Brothers, Horatius, Coriolanus and Volumnia, Cloelia, and others are explored. Hero myths and the values they represented are explored. This volume has a map of the Roman Empire, a family tree of Rome's founders, a table of major characters with name pronunciations and brief descriptions, a glossary, sidebars, fact boxes, a bibliography of sources for further study, and a subject index.","English",39.4,31.52,"292.07","104 pp.",{"$f":"Table1[[#This Row],['# of Books]]*Table1[[#This Row],[QTY]]","v":0},{"$f":"Table1[[#This Row],[QTY]]*Table1[[#This Row],[School & Library Price]]","v":0}]
[null,91,null,null,"Science & Technology","Technology 360","Artificial Intelligence","978-1-4205-0769-0","Lucent Press","eBook",1,2011,null,"eBook",null,"Author","Q. L. Pearce",null,null,null,null,null,null,"Years 12 - 15",null,"Grade 7 - 10",null,"English",43.89,43.89,"006.3","112 pp.",{"$f":"Table1[[#This Row],['# of Books]]*Table1[[#This Row],[QTY]]","v":0},{"$f":"Table1[[#This Row],[QTY]]*Table1[[#This Row],[School & Library Price]]","v":0}]
[null,91,null,null,"Science & Technology","Technology 360","Cell Phones","978-1-4205-0289-3","Lucent Press","eBook",1,2010,null,"eBook",null,"Author","Andrew A. Kling",null,null,null,null,null,null,"Years 12 - 15",null,"Grade 7 - 10",null,"English",43.89,43.89,"621.38456","112 pp.",{"$f":"Table1[[#This Row],['# of Books]]*Table1[[#This Row],[QTY]]","v":0},{"$f":"Table1[[#This Row],[QTY]]*Table1[[#This Row],[School & Library Price]]","v":0}]
[null,91,null,null,"Science & Technology","Technology 360","Cell Phones","978-1-4205-0164-3","Lucent Press","Library Bound Book",1,2010,null,"Library Bound","7.000 X 9.000","Author","Andrew A. Kling",null,null,null,null,null,null,"Years 12 - 15",null,"Grade 7 - 10",null,"English",39.9,31.92,"384","112 pp.",{"$f":"Table1[[#This Row],['# of Books]]*Table1[[#This Row],[QTY]]","v":0},{"$f":"Table1[[#This Row],[QTY]]*Table1[[#This Row],[School & Library Price]]","v":0}]
[null,91,null,null,"Science & Technology","Technology 360","Cloud Computing","978-1-4205-1265-6","Lucent Press","eBook",1,2014,null,"eBook",null,"Author","Andrew A. Kling",null,null,null,null,null,null,"Years 12 - 15",null,"Grade 7 - 10",null,"English",43.89,43.89,"004.67","128 pp.",{"$f":"Table1[[#This Row],['# of Books]]*Table1[[#This Row],[QTY]]","v":0},{"$f":"Table1[[#This Row],[QTY]]*Table1[[#This Row],[School & Library Price]]","v":0}]
[null,91,null,null,"Science & Technology","Technology 360","Cloud Computing","978-1-4205-1158-1","Lucent Press","Library Bound Book",1,2014,null,"Library Bound","7.000 X 9.000","Author","Andrew A. Kling",null,null,null,null,null,null,"Years 12 - 15",null,"Grade 7 - 10","This title in Lucent's Technology 360 series discusses the evolution of cloud computing from mainframes and servers along with the people who played a significant role in the cloud's development. The title then delves into the components found in the cloud including SaaS, IaaS and PaaS, collectively known as the Stack. The book goes on to examine how the cloud is being used by social media, what security concerns people have with the cloud, and how the cloud will evolve in the future.","English",39.9,31.92,"004","128 pp.",{"$f":"Table1[[#This Row],['# of Books]]*Table1[[#This Row],[QTY]]","v":0},{"$f":"Table1[[#This Row],[QTY]]*Table1[[#This Row],[School & Library Price]]","v":0}]
[null,91,null,null,"Science & Technology","Technology 360","Digital Cameras and Camcorders","978-1-4205-1183-3","Lucent Press","eBook",1,2014,null,"eBook",null,"Author","Stuart A. Kallen",null,null,null,null,null,null,"Years 12 - 15",null,"Grade 7 - 10",null,"English",43.89,43.89,"771.33","104 pp.",{"$f":"Table1[[#This Row],['# of Books]]*Table1[[#This Row],[QTY]]","v":0},{"$f":"Table1[[#This Row],[QTY]]*Table1[[#This Row],[School & Library Price]]","v":0}]
[null,91,null,null,"Science & Technology","Technology 360","Digital Cameras and Camcorders","978-1-4205-0165-0","Lucent Press","Library Bound Book",1,2014,null,"Library Bound","7.000 X 9.000","Author","Stuart A. Kallen",null,null,null,null,null,null,"Years 12 - 15",null,"Grade 7 - 10","Digital cameras are probably one of the most common electronics found in typical American households. The use of digital cameras has allowed anyone to become a photographer without the expensive equipment that was previously needed. This new title in the Technology 360 series describes the evolution of the digital cameras, along with the parts that make up the camera. The title also deals with what modes should be used in certain settings how the explosion of photos available online has led to privacy concerns.","English",39.9,31.92,"771","104 pp.",{"$f":"Table1[[#This Row],['# of Books]]*Table1[[#This Row],[QTY]]","v":0},{"$f":"Table1[[#This Row],[QTY]]*Table1[[#This Row],[School & Library Price]]","v":0}]
[null,91,null,null,"Science & Technology","Technology 360","E-books","978-1-4205-1124-6","Lucent Press","eBook",1,2013,null,"eBook",null,"Author","Hal Marcovitz",null,null,null,null,null,null,"Years 12 - 15",null,"Grade 7 - 10","In this exciting new title for the Tech 360 series, author Hal Marcovitz examines the enormous popularity of e-books in the 21st century. Readers will learn about the evolution of the e-book concept from Project Gutenberg to dedicated e-readers such as Kindle and Nook, as well as the adaptation of e-books for tablet computers. Later chapters delve into how e-readers are changing the way people read, how e-books are impacting the publishing industry and libraries, and how the e-book may change in the future.","English",43.89,43.89,"070.5","112 pp.",{"$f":"Table1[[#This Row],['# of Books]]*Table1[[#This Row],[QTY]]","v":0},{"$f":"Table1[[#This Row],[QTY]]*Table1[[#This Row],[School & Library Price]]","v":0}]
[null,91,null,null,"Science & Technology","Technology 360","E-books","978-1-4205-0902-1","Lucent Press","Library Bound Book",1,2013,null,"Library Bound","7.000 X 9.000","Author","Hal Marcovitz",null,null,null,null,null,null,"Years 12 - 15",null,"Grade 7 - 10","In this exciting new title for the Tech 360 series, author Hal Marcovitz examines the enormous popularity of e-books in the 21st century. Readers will learn about the evolution of the e-book concept from Project Gutenberg to dedicated e-readers such as Kindle and Nook, as well as the adaptation of e-books for tablet computers. Later chapters delve into how e-readers are changing the way people read, how e-books are impacting the publishing industry and libraries, and how the e-book may change in the future.","English",39.9,31.92,"70.5","112 pp.",{"$f":"Table1[[#This Row],['# of Books]]*Table1[[#This Row],[QTY]]","v":0},{"$f":"Table1[[#This Row],[QTY]]*Table1[[#This Row],[School & Library Price]]","v":0}]
[null,91,null,null,"Science & Technology","Technology 360","Electric Cars","978-1-4205-0801-7","Lucent Press","eBook",1,2012,null,"eBook",null,"Author","Jenny Mackay",null,null,null,null,null,null,"Years 12 - 15",null,"Grade 7 - 10",null,"English",43.89,43.89,"629.22","104 pp.",{"$f":"Table1[[#This Row],['# of Books]]*Table1[[#This Row],[QTY]]","v":0},{"$f":"Table1[[#This Row],[QTY]]*Table1[[#This Row],[School & Library Price]]","v":0}]
[null,91,null,null,"Science & Technology","Technology 360","Electric Cars","978-1-4205-0612-9","Lucent Press","Library Bound Book",1,2012,null,"Library Bound","7.000 X 9.000","Author","Jenny Mackay",null,null,null,null,null,null,"Years 12 - 15",null,"Grade 7 - 10",null,"English",39.9,31.92,"629","104 pp.",{"$f":"Table1[[#This Row],['# of Books]]*Table1[[#This Row],[QTY]]","v":0},{"$f":"Table1[[#This Row],[QTY]]*Table1[[#This Row],[School & Library Price]]","v":0}]
[null,91,null,null,"Science & Technology","Technology 360","Global Positioning Systems","978-1-4205-0601-3","Lucent Press","eBook",1,2011,null,"eBook",null,"Author","Laurie Collier Hillstrom",null,null,null,null,null,null,"Years 12 - 15",null,"Grade 7 - 10",null,"English",43.89,43.89,"910.285","96 pp.",{"$f":"Table1[[#This Row],['# of Books]]*Table1[[#This Row],[QTY]]","v":0},{"$f":"Table1[[#This Row],[QTY]]*Table1[[#This Row],[School & Library Price]]","v":0}]
[null,91,null,null,"Science & Technology","Technology 360","Global Positioning Systems","978-1-4205-0325-8","Lucent Press","Library Bound Book",1,2011,null,"Library Bound","7.000 X 9.000","Author","Laurie Collier Hillstrom",null,null,null,null,null,null,"Years 12 - 15",null,"Grade 7 - 10",null,"English",39.9,31.92,"623","96 pp.",{"$f":"Table1[[#This Row],['# of Books]]*Table1[[#This Row],[QTY]]","v":0},{"$f":"Table1[[#This Row],[QTY]]*Table1[[#This Row],[School & Library Price]]","v":0}]
[null,91,null,null,"Science & Technology","Technology 360","iPod and MP3 Players","978-1-4205-0585-6","Lucent Press","eBook",1,2011,null,"eBook",null,"Author","Stuart A. Kallen",null,null,null,null,null,null,"Years 12 - 15",null,"Grade 7 - 10",null,"English",43.89,43.89,"006.5","104 pp.",{"$f":"Table1[[#This Row],['# of Books]]*Table1[[#This Row],[QTY]]","v":0},{"$f":"Table1[[#This Row],[QTY]]*Table1[[#This Row],[School & Library Price]]","v":0}]
[null,91,null,null,"Science & Technology","Technology 360","Online Schools","978-1-4205-1126-0","Lucent Press","eBook",1,2013,null,"eBook",null,"Author","Jenny Mackay",null,null,null,null,null,null,"Years 12 - 15",null,"Grade 7 - 10","Teaching and learning online take place in schools that operate completely in a computerized world. The underlying technology that makes this possible is growing and evolving at a rapid pace, guaranteeing that online schools will be around for a long time and but must change continuously to keep up with new capabilities. This new volume in the Technology 360 series provides the history of learning outside the traditional classroom, explains the technology of online education (such as the Internet, VoIP, wireless connectivity, and real-time interactive applications), tools and techniques used in online learning (such as streaming content, data exchange, and simulations), and the limitations and advantages of online learning.","English",43.89,43.89,"371.35","112 pp.",{"$f":"Table1[[#This Row],['# of Books]]*Table1[[#This Row],[QTY]]","v":0},{"$f":"Table1[[#This Row],[QTY]]*Table1[[#This Row],[School & Library Price]]","v":0}]
[null,91,null,null,"Science & Technology","Technology 360","Online Schools","978-1-4205-0942-7","Lucent Press","Library Bound Book",1,2013,null,"Library Bound","7.000 X 9.000","Author","Jenny Mackay",null,null,null,null,null,null,"Years 12 - 15",null,"Grade 7 - 10","Teaching and learning online take place in schools that operate completely in a computerized world. The underlying technology that makes this possible is growing and evolving at a rapid pace, guaranteeing that online schools will be around for a long time and but must change continuously to keep up with new capabilities. This new volume in the Technology 360 series provides the history of learning outside the traditional classroom, explains the technology of online education (such as the Internet, VoIP, wireless connectivity, and real-time interactive applications), tools and techniques used in online learning (such as streaming content, data exchange, and simulations), and the limitations and advantages of online learning.","English",39.9,31.92,"371","112 pp.",{"$f":"Table1[[#This Row],['# of Books]]*Table1[[#This Row],[QTY]]","v":0},{"$f":"Table1[[#This Row],[QTY]]*Table1[[#This Row],[School & Library Price]]","v":0}]
[null,91,null,null,"Science & Technology","Technology 360","Online Social Networks","978-1-4205-0354-8","Lucent Press","eBook",1,2010,null,"eBook",null,"Author","Laurie Collier Hillstrom",null,null,null,null,null,null,"Years 12 - 15",null,"Grade 7 - 10","Examines the development and amazing growth of online social networking. Briefly explains the basic technology, and examines how it has affected politics, activism, charity, business, advertising, and science. Explores the emerging problems of identity theft, privacy issues, sexual predators, cyber-bullying, and fraud; and provides an overview of future trends and related technological advancements.","English",43.89,43.89,"302.30285","128 pp.",{"$f":"Table1[[#This Row],['# of Books]]*Table1[[#This Row],[QTY]]","v":0},{"$f":"Table1[[#This Row],[QTY]]*Table1[[#This Row],[School & Library Price]]","v":0}]
[null,91,null,null,"Science & Technology","Technology 360","Online Social Networks","978-1-4205-0167-4","Lucent Press","Library Bound Book",1,2010,null,"Library Bound","7.000 X 9.000","Author","Laurie Collier Hillstrom",null,null,null,null,null,null,"Years 12 - 15",null,"Grade 7 - 10","Examines the development and amazing growth of online social networking. Briefly explains the basic technology, and examines how it has affected politics, activism, charity, business, advertising, and science. Explores the emerging problems of identity theft, privacy issues, sexual predators, cyber-bullying, and fraud; and provides an overview of future trends and related technological advancements.","English",39.9,31.92,"004","128 pp.",{"$f":"Table1[[#This Row],['# of Books]]*Table1[[#This Row],[QTY]]","v":0},{"$f":"Table1[[#This Row],[QTY]]*Table1[[#This Row],[School & Library Price]]","v":0}]
[null,91,null,null,"Science & Technology","Technology 360","Robots","978-1-4205-0368-5","Lucent Press","eBook",1,2010,null,"eBook",null,"Author","Jenny Mackay",null,null,null,null,null,null,"Years 12 - 15",null,"Grade 7 - 10",null,"English",43.89,43.89,"629.8","104 pp.",{"$f":"Table1[[#This Row],['# of Books]]*Table1[[#This Row],[QTY]]","v":0},{"$f":"Table1[[#This Row],[QTY]]*Table1[[#This Row],[School & Library Price]]","v":0}]
[null,91,null,null,"Science & Technology","Technology 360","Roller Coasters","978-1-4205-1040-9","Lucent Press","eBook",1,2013,null,"eBook",null,"Author","Jenny Mackay",null,null,null,null,null,null,"Years 12 - 15",null,"Grade 7 - 10","In this exciting new title for the Tech 360 series, author Jenny MacKay takes readers on a wild ride through the history, design fundamentals, and scientific principles behind roller coasters. Readers will learn how gravity and physical forces create the fastest amusement park attractions and how steel and wooden roller coasters are designed and constructed. The final chapter, focused on the roller coasters of the future, describes the recent use of electromagnets and CAD technology.","English",43.89,43.89,"791.068","112 pp.",{"$f":"Table1[[#This Row],['# of Books]]*Table1[[#This Row],[QTY]]","v":0},{"$f":"Table1[[#This Row],[QTY]]*Table1[[#This Row],[School & Library Price]]","v":0}]
[null,91,null,null,"Science & Technology","Technology 360","Roller Coasters","978-1-4205-0825-3","Lucent Press","Library Bound Book",1,2013,null,"Library Bound","7.000 X 9.000","Author","Jenny Mackay",null,null,null,null,null,null,"Years 12 - 15",null,"Grade 7 - 10","In this exciting new title for the Tech 360 series, author Jenny MacKay takes readers on a wild ride through the history, design fundamentals, and scientific principles behind roller coasters. Readers will learn how gravity and physical forces create the fastest amusement park attractions and how steel and wooden roller coasters are designed and constructed. The final chapter, focused on the roller coasters of the future, describes the recent use of electromagnets and CAD technology.","English",39.9,31.92,"688","112 pp.",{"$f":"Table1[[#This Row],['# of Books]]*Table1[[#This Row],[QTY]]","v":0},{"$f":"Table1[[#This Row],[QTY]]*Table1[[#This Row],[School & Library Price]]","v":0}]
[null,91,null,null,"Science & Technology","Technology 360","Television","978-1-4205-0665-5","Lucent Press","eBook",1,2011,null,"eBook",null,"Author","John Grabowski",null,null,null,null,null,null,"Years 12 - 15",null,"Grade 7 - 10",null,"English",43.89,43.89,"621.388","112 pp.",{"$f":"Table1[[#This Row],['# of Books]]*Table1[[#This Row],[QTY]]","v":0},{"$f":"Table1[[#This Row],[QTY]]*Table1[[#This Row],[School & Library Price]]","v":0}]
[null,91,null,null,"Science & Technology","Technology 360","Video Games","978-1-4205-0306-7","Lucent Press","eBook",1,2010,null,"eBook",null,"Author","Kevin Hile",null,null,null,null,null,null,"Years 12 - 15",null,"Grade 7 - 10",null,"English",43.89,43.89,"794.8","104 pp.",{"$f":"Table1[[#This Row],['# of Books]]*Table1[[#This Row],[QTY]]","v":0},{"$f":"Table1[[#This Row],[QTY]]*Table1[[#This Row],[School & Library Price]]","v":0}]
[null,91,null,null,"Science & Technology","Technology 360","Video Games","978-1-4205-0170-4","Lucent Press","Library Bound Book",1,2010,null,"Library Bound","7.000 X 9.000","Author","Kevin Hile",null,null,null,null,null,null,"Years 12 - 15",null,"Grade 7 - 10",null,"English",39.9,31.92,"794","104 pp.",{"$f":"Table1[[#This Row],['# of Books]]*Table1[[#This Row],[QTY]]","v":0},{"$f":"Table1[[#This Row],[QTY]]*Table1[[#This Row],[School & Library Price]]","v":0}]
[null,91,null,null,"Science & Technology","Technology 360","Web 2.0","978-1-4205-0623-5","Lucent Press","eBook",1,2011,null,"eBook",null,"Author","Andrew A. Kling",null,null,null,null,null,null,"Years 12 - 15",null,"Grade 7 - 10",null,"English",43.89,43.89,"006.7","128 pp.",{"$f":"Table1[[#This Row],['# of Books]]*Table1[[#This Row],[QTY]]","v":0},{"$f":"Table1[[#This Row],[QTY]]*Table1[[#This Row],[School & Library Price]]","v":0}]
[null,91,null,null,"Science & Technology","Technology 360","Web 2.0","978-1-4205-0171-1","Lucent Press","Library Bound Book",1,2011,null,"Library Bound","7.000 X 9.000","Author","Andrew A. Kling",null,null,null,null,null,null,"Years 12 - 15",null,"Grade 7 - 10",null,"English",39.9,31.92,"004","128 pp.",{"$f":"Table1[[#This Row],['# of Books]]*Table1[[#This Row],[QTY]]","v":0},{"$f":"Table1[[#This Row],[QTY]]*Table1[[#This Row],[School & Library Price]]","v":0}]
[null,93,null,null,"Current Issues","Environmental Issues (Jan '17 Set)","Environmental Issues (Jan '17 Set)","978-1-5345-2125-4","KidHaven Publishing","Library Set",4,2017,"January 2017","Library Bound","8.500 X 8.500"," "," ",null,null,null,null,null,null,"Years 6 - 8",null,"Grade 1 - 3","Humans have a lasting impact on the natural world around them. Young readers explore the relationship between people and the environment as they learn about pollution, recycling, conserving water, and endangered animals. The accessible main text and additional fact boxes allow early learners to begin to develop a deeper understanding of ecology and environmental science. Colorful photographs of a variety of environments take readers from busy recycling plants to the ocean floor. It’s never too early to introduce readers to ways they can care for the planet!","English",98.4,78.72,null,"24 pp.",{"$f":"Table1[[#This Row],['# of Books]]*Table1[[#This Row],[QTY]]","v":0},{"$f":"Table1[[#This Row],[QTY]]*Table1[[#This Row],[School & Library Price]]","v":0}]
[null,93,null,null,"Current Issues","Environmental Issues (Jan '17 Set)","Environmental Issues (Jan '17 Set)","978-1-5345-2126-1","KidHaven Publishing","eBook Set",4,2017,"January 2017","eBook",null," "," ",null,null,null,null,null,null,null,null,"Grade 1 - 3","Humans have a lasting impact on the natural world around them. Young readers explore the relationship between people and the environment as they learn about pollution, recycling, conserving water, and endangered animals. The accessible main text and additional fact boxes allow early learners to begin to develop a deeper understanding of ecology and environmental science. Colorful photographs of a variety of environments take readers from busy recycling plants to the ocean floor. It’s never too early to introduce readers to ways they can care for the planet!","English",98.4,78.72,null,"24 pp.",{"$f":"Table1[[#This Row],['# of Books]]*Table1[[#This Row],[QTY]]","v":0},{"$f":"Table1[[#This Row],[QTY]]*Table1[[#This Row],[School & Library Price]]","v":0}]
[null,93,null,null,"Current Issues","Environmental Issues","Animals in Danger","978-1-5345-2043-1","KidHaven Publishing","Library Bound Book",1,2017,"January 2017","Library Bound","8.500 X 8.500","Author","Gemma McMullen",4.9000000000000004,0.5,null,null,"I",null,"Years 6 - 8",null,"Grade 1 - 3","How does human behavior affect animals, and what can we do to help animals that are endangered? Readers find the answers to these and other important questions about protecting animals as they learn about this topical environmental issue. Accessible, age-appropriate text gives young readers a clear sense of why animals are currently in danger and what can be done to help them. Fun fact boxes provide additional information about animals and their habitats, and colorful photographs fill each page. The captivating presentation of such an important ecological topic is sure to inspire early learners—especially young animal lovers.","English",24.6,19.68,null,"24 pp.",{"$f":"Table1[[#This Row],['# of Books]]*Table1[[#This Row],[QTY]]","v":0},{"$f":"Table1[[#This Row],[QTY]]*Table1[[#This Row],[School & Library Price]]","v":0}]
[null,93,null,null,"Current Issues","Environmental Issues","Animals in Danger","978-1-5345-2044-8","KidHaven Publishing","eBook",1,2017,"January 2017","eBook",null,"Author","Gemma McMullen",null,null,null,null,"I",null,null,null,"Grade 1 - 3","How does human behavior affect animals, and what can we do to help animals that are endangered? Readers find the answers to these and other important questions about protecting animals as they learn about this topical environmental issue. Accessible, age-appropriate text gives young readers a clear sense of why animals are currently in danger and what can be done to help them. Fun fact boxes provide additional information about animals and their habitats, and colorful photographs fill each page. The captivating presentation of such an important ecological topic is sure to inspire early learners—especially young animal lovers.","English",24.6,19.68,null,"24 pp.",{"$f":"Table1[[#This Row],['# of Books]]*Table1[[#This Row],[QTY]]","v":0},{"$f":"Table1[[#This Row],[QTY]]*Table1[[#This Row],[School & Library Price]]","v":0}]
[null,93,null,null,"Current Issues","Environmental Issues","Polluting Our World","978-1-5345-2047-9","KidHaven Publishing","Library Bound Book",1,2017,"January 2017","Library Bound","8.500 X 8.500","Author","Gemma McMullen",4.9000000000000004,0.5,null,null,"I",null,"Years 6 - 8",null,"Grade 1 - 3","Oil spills can spread for hundreds of miles in water. Animals can die if they eat litter. These are just two of the many ways pollution can damage the environment. Readers discover the dangers of pollution, as well as some of the ways people—including children—can do their part to clean up the planet. This essential environmental lesson is presented in clear language geared toward early learners. Additional information is highlighted in fact boxes. Vivid photographs provide a closer look at the harm pollution can do, as well as the beauty of the natural world we must protect.","English",24.6,19.68,null,"24 pp.",{"$f":"Table1[[#This Row],['# of Books]]*Table1[[#This Row],[QTY]]","v":0},{"$f":"Table1[[#This Row],[QTY]]*Table1[[#This Row],[School & Library Price]]","v":0}]
[null,93,null,null,"Current Issues","Environmental Issues","Polluting Our World","978-1-5345-2048-6","KidHaven Publishing","eBook",1,2017,"January 2017","eBook",null,"Author","Gemma McMullen",null,null,null,null,"I",null,null,null,"Grade 1 - 3","Oil spills can spread for hundreds of miles in water. Animals can die if they eat litter. These are just two of the many ways pollution can damage the environment. Readers discover the dangers of pollution, as well as some of the ways people—including children—can do their part to clean up the planet. This essential environmental lesson is presented in clear language geared toward early learners. Additional information is highlighted in fact boxes. Vivid photographs provide a closer look at the harm pollution can do, as well as the beauty of the natural world we must protect.","English",24.6,19.68,null,"24 pp.",{"$f":"Table1[[#This Row],['# of Books]]*Table1[[#This Row],[QTY]]","v":0},{"$f":"Table1[[#This Row],[QTY]]*Table1[[#This Row],[School & Library Price]]","v":0}]
[null,93,null,null,"Current Issues","Environmental Issues","Recycling Materials","978-1-5345-2051-6","KidHaven Publishing","Library Bound Book",1,2017,"January 2017","Library Bound","8.500 X 8.500","Author","Gemma McMullen",4.3,0.5,null,null,"I",null,"Years 6 - 8",null,"Grade 1 - 3","Recycling is an easy way to help protect the planet. Young readers learn the basics of recycling, including what materials are most commonly recycled and how the process of recycling works. This valuable information is presented through age-appropriate text, including eye-catching fact boxes. Full-color photographs keep readers engaged as they explore this essential environmental concern. Early learners will become budding environmentalists, discovering for themselves how they can do their part to help the environment—one trip to the recycling bin at a time!","English",24.6,19.68,null,"24 pp.",{"$f":"Table1[[#This Row],['# of Books]]*Table1[[#This Row],[QTY]]","v":0},{"$f":"Table1[[#This Row],[QTY]]*Table1[[#This Row],[School & Library Price]]","v":0}]
[null,93,null,null,"Current Issues","Environmental Issues","Recycling Materials","978-1-5345-2052-3","KidHaven Publishing","eBook",1,2017,"January 2017","eBook",null,"Author","Gemma McMullen",null,null,null,null,"I",null,null,null,"Grade 1 - 3","Recycling is an easy way to help protect the planet. Young readers learn the basics of recycling, including what materials are most commonly recycled and how the process of recycling works. This valuable information is presented through age-appropriate text, including eye-catching fact boxes. Full-color photographs keep readers engaged as they explore this essential environmental concern. Early learners will become budding environmentalists, discovering for themselves how they can do their part to help the environment—one trip to the recycling bin at a time!","English",24.6,19.68,null,"24 pp.",{"$f":"Table1[[#This Row],['# of Books]]*Table1[[#This Row],[QTY]]","v":0},{"$f":"Table1[[#This Row],[QTY]]*Table1[[#This Row],[School & Library Price]]","v":0}]
[null,93,null,null,"Current Issues","Environmental Issues","Water Around the World","978-1-5345-2055-4","KidHaven Publishing","Library Bound Book",1,2017,"January 2017","Library Bound","8.500 X 8.500","Author","Gemma McMullen",3.8,0.5,null,null,"I",null,"Years 6 - 8",null,"Grade 1 - 3","Water is a precious natural resource that we all must work hard to protect. As readers discover where the world’s water comes from, they also learn why we need to take care of it. Accessible text and fun fact boxes present this current conservation topic in a way that’s easy for early learners to understand. As young readers explore the problems facing water supplies around the world, they also begin to see solutions, such as ways they can help conserve water and keep it clean. Vibrant photographs of water around the world make this an engaging learning experience.","English",24.6,19.68,null,"24 pp.",{"$f":"Table1[[#This Row],['# of Books]]*Table1[[#This Row],[QTY]]","v":0},{"$f":"Table1[[#This Row],[QTY]]*Table1[[#This Row],[School & Library Price]]","v":0}]
[null,93,null,null,"Current Issues","Environmental Issues","Water Around the World","978-1-5345-2056-1","KidHaven Publishing","eBook",1,2017,"January 2017","eBook",null,"Author","Gemma McMullen",null,null,null,null,"I",null,null,null,"Grade 1 - 3","Water is a precious natural resource that we all must work hard to protect. As readers discover where the world’s water comes from, they also learn why we need to take care of it. Accessible text and fun fact boxes present this current conservation topic in a way that’s easy for early learners to understand. As young readers explore the problems facing water supplies around the world, they also begin to see solutions, such as ways they can help conserve water and keep it clean. Vibrant photographs of water around the world make this an engaging learning experience.","English",24.6,19.68,null,"24 pp.",{"$f":"Table1[[#This Row],['# of Books]]*Table1[[#This Row],[QTY]]","v":0},{"$f":"Table1[[#This Row],[QTY]]*Table1[[#This Row],[School & Library Price]]","v":0}]
[null,96,null,null,"Animals","Animal Classification (Jan '17 Set)","Animal Classification (Jan '17 Set)","978-1-5345-2117-9","KidHaven Publishing","Library Set",6,2017,"January 2017","Library Bound","8.500 X 11.00"," "," ",null,null,null,null,null,null,"Years 7 - 9",null,"Grade 2 - 4","More than 8 million animal species call our planet home. Readers discover how these species are classified based on common characteristics as they learn amazing facts about different groups of animals—from amphibians and reptiles to mammals and insects. The accessible text supports essential science curriculum topics, and eye-catching fact boxes provide additional information on some of the world’s most unique creatures. With vibrant, full-color photographs of a wide variety of animals in their natural habitats, this is a reading adventure animal lovers will want to take again and again.","English",163.5,130.80000000000001,null,"32 pp.",{"$f":"Table1[[#This Row],['# of Books]]*Table1[[#This Row],[QTY]]","v":0},{"$f":"Table1[[#This Row],[QTY]]*Table1[[#This Row],[School & Library Price]]","v":0}]
[null,96,null,null,"Animals","Animal Classification (Jan '17 Set)","Animal Classification (Jan '17 Set)","978-1-5345-2118-6","KidHaven Publishing","eBook Set",6,2017,"January 2017","eBook",null," "," ",null,null,null,null,null,null,null,null,"Grade 2 - 4","More than 8 million animal species call our planet home. Readers discover how these species are classified based on common characteristics as they learn amazing facts about different groups of animals—from amphibians and reptiles to mammals and insects. The accessible text supports essential science curriculum topics, and eye-catching fact boxes provide additional information on some of the world’s most unique creatures. With vibrant, full-color photographs of a wide variety of animals in their natural habitats, this is a reading adventure animal lovers will want to take again and again.","English",163.5,130.80000000000001,null,"32 pp.",{"$f":"Table1[[#This Row],['# of Books]]*Table1[[#This Row],[QTY]]","v":0},{"$f":"Table1[[#This Row],[QTY]]*Table1[[#This Row],[School & Library Price]]","v":0}]
[null,96,null,null,"Animals","Animal Classification","Amphibians","978-1-5345-2004-2","KidHaven Publishing","Library Bound Book",1,2017,"January 2017","Library Bound","8.500 X 11.00","Author","Charlie Ogden",null,null,null,null,"L",null,"Years 7 - 9",null,"Grade 2 - 4","What makes a frog an amphibian and not a reptile or a mammal? Readers discover the answer to this important question as they learn to classify animals based on common characteristics. This essential science curriculum topic is presented in an engaging way, through fun facts about amphibians and the characteristics that separate them from other animals. Eye-catching fact boxes and helpful graphic organizers—including detailed diagrams—provide additional information. Readers also find vibrant photographs of amazing amphibians in their natural habitats with each turn of the page.","English",27.25,21.8,null,"32 pp.",{"$f":"Table1[[#This Row],['# of Books]]*Table1[[#This Row],[QTY]]","v":0},{"$f":"Table1[[#This Row],[QTY]]*Table1[[#This Row],[School & Library Price]]","v":0}]
[null,96,null,null,"Animals","Animal Classification","Amphibians","978-1-5345-2005-9","KidHaven Publishing","eBook",1,2017,"January 2017","eBook",null,"Author","Charlie Ogden",null,null,null,null,"L",null,null,null,"Grade 2 - 4","What makes a frog an amphibian and not a reptile or a mammal? Readers discover the answer to this important question as they learn to classify animals based on common characteristics. This essential science curriculum topic is presented in an engaging way, through fun facts about amphibians and the characteristics that separate them from other animals. Eye-catching fact boxes and helpful graphic organizers—including detailed diagrams—provide additional information. Readers also find vibrant photographs of amazing amphibians in their natural habitats with each turn of the page.","English",27.25,21.8,null,"32 pp.",{"$f":"Table1[[#This Row],['# of Books]]*Table1[[#This Row],[QTY]]","v":0},{"$f":"Table1[[#This Row],[QTY]]*Table1[[#This Row],[School & Library Price]]","v":0}]
[null,96,null,null,"Animals","Animal Classification","Birds","978-1-5345-2007-3","KidHaven Publishing","Library Bound Book",1,2017,"January 2017","Library Bound","8.500 X 11.00","Author","Charlie Ogden",null,null,null,null,"L",null,"Years 7 - 9",null,"Grade 2 - 4","Some of the most unique animals on the planet are classified as birds. As readers explore this amazing animal group, they discover fun facts about a wide variety of birds. They also learn the essential scientific skill of classifying animals by common characteristics. Important information is presented to readers through engaging text, fact boxes, and detailed graphic organizers such as diagrams. Colorful photographs of familiar and exotic birds seem to fly off the page, creating a memorable learning experience that enhances common science curriculum topics.","English",27.25,21.8,null,"32 pp.",{"$f":"Table1[[#This Row],['# of Books]]*Table1[[#This Row],[QTY]]","v":0},{"$f":"Table1[[#This Row],[QTY]]*Table1[[#This Row],[School & Library Price]]","v":0}]
[null,96,null,null,"Animals","Animal Classification","Birds","978-1-5345-2008-0","KidHaven Publishing","eBook",1,2017,"January 2017","eBook",null,"Author","Charlie Ogden",null,null,null,null,"L",null,null,null,"Grade 2 - 4","Some of the most unique animals on the planet are classified as birds. As readers explore this amazing animal group, they discover fun facts about a wide variety of birds. They also learn the essential scientific skill of classifying animals by common characteristics. Important information is presented to readers through engaging text, fact boxes, and detailed graphic organizers such as diagrams. Colorful photographs of familiar and exotic birds seem to fly off the page, creating a memorable learning experience that enhances common science curriculum topics.","English",27.25,21.8,null,"32 pp.",{"$f":"Table1[[#This Row],['# of Books]]*Table1[[#This Row],[QTY]]","v":0},{"$f":"Table1[[#This Row],[QTY]]*Table1[[#This Row],[School & Library Price]]","v":0}]
[null,96,null,null,"Animals","Animal Classification","Fish","978-1-5345-2011-0","KidHaven Publishing","Library Bound Book",1,2017,"January 2017","Library Bound","8.500 X 11.00","Author","Charlie Ogden",null,null,null,null,"L",null,"Years 7 - 9",null,"Grade 2 - 4","Readers travel to the depths of the ocean as they learn fascinating facts about what makes fish different from other animals. As readers develop their ability to classify animals based on shared characteristics, they also learn about fish life cycles, habitats, and other common science curriculum topics. Fact boxes filled with exciting information and detailed diagrams and other graphic organizers present readers with additional information about these cool creatures. Vivid photographs give readers an up-close view of some of the world’s most interesting fish species, creating a reading experience they won’t soon forget!","English",27.25,21.8,null,"32 pp.",{"$f":"Table1[[#This Row],['# of Books]]*Table1[[#This Row],[QTY]]","v":0},{"$f":"Table1[[#This Row],[QTY]]*Table1[[#This Row],[School & Library Price]]","v":0}]
[null,96,null,null,"Animals","Animal Classification","Fish","978-1-5345-2012-7","KidHaven Publishing","eBook",1,2017,"January 2017","eBook",null,"Author","Charlie Ogden",null,null,null,null,"L",null,null,null,"Grade 2 - 4","Readers travel to the depths of the ocean as they learn fascinating facts about what makes fish different from other animals. As readers develop their ability to classify animals based on shared characteristics, they also learn about fish life cycles, habitats, and other common science curriculum topics. Fact boxes filled with exciting information and detailed diagrams and other graphic organizers present readers with additional information about these cool creatures. Vivid photographs give readers an up-close view of some of the world’s most interesting fish species, creating a reading experience they won’t soon forget!","English",27.25,21.8,null,"32 pp.",{"$f":"Table1[[#This Row],['# of Books]]*Table1[[#This Row],[QTY]]","v":0},{"$f":"Table1[[#This Row],[QTY]]*Table1[[#This Row],[School & Library Price]]","v":0}]
[null,96,null,null,"Animals","Animal Classification","Insects","978-1-5345-2015-8","KidHaven Publishing","Library Bound Book",1,2017,"January 2017","Library Bound","8.500 X 11.00","Author","Joyce Jeffries",null,null,null,null,"L",null,"Years 7 - 9",null,"Grade 2 - 4","Insects can be very different, but they all have some important characteristics in common. Readers discover that these shared characteristics are what help scientists classify certain creatures as insects. As readers explore the basics of animal classification, they also discover freaky and fun facts about a variety of insects. These facts are presented alongside colorful photographs showing insects in amazing detail. Readers obtain additional insect information from helpful fact boxes, as well as clear diagrams and other graphic organizers. Focusing on these creepy and cool creatures makes learning basic science curriculum topics fun!","English",27.25,21.8,null,"32 pp.",{"$f":"Table1[[#This Row],['# of Books]]*Table1[[#This Row],[QTY]]","v":0},{"$f":"Table1[[#This Row],[QTY]]*Table1[[#This Row],[School & Library Price]]","v":0}]
[null,96,null,null,"Animals","Animal Classification","Insects","978-1-5345-2016-5","KidHaven Publishing","eBook",1,2017,"January 2017","eBook",null,"Author","Joyce Jeffries",null,null,null,null,"L",null,null,null,"Grade 2 - 4","Insects can be very different, but they all have some important characteristics in common. Readers discover that these shared characteristics are what help scientists classify certain creatures as insects. As readers explore the basics of animal classification, they also discover freaky and fun facts about a variety of insects. These facts are presented alongside colorful photographs showing insects in amazing detail. Readers obtain additional insect information from helpful fact boxes, as well as clear diagrams and other graphic organizers. Focusing on these creepy and cool creatures makes learning basic science curriculum topics fun!","English",27.25,21.8,null,"32 pp.",{"$f":"Table1[[#This Row],['# of Books]]*Table1[[#This Row],[QTY]]","v":0},{"$f":"Table1[[#This Row],[QTY]]*Table1[[#This Row],[School & Library Price]]","v":0}]
[null,96,null,null,"Animals","Animal Classification","Mammals","978-1-5345-2019-6","KidHaven Publishing","Library Bound Book",1,2017,"January 2017","Library Bound","8.500 X 11.00","Author","Charlie Ogden",null,null,null,null,"L",null,"Years 7 - 9",null,"Grade 2 - 4","Lions, elephants, and people may seem very different, and they are in many ways. However, they are also similar in enough ways to classify them all as mammals. Readers learn what common characteristics these and other mammals share as they develop their animal classification skills. Through accessible text, fact boxes, and detailed graphic organizers, readers discover amazing things about some of the world’s most impressive and unusual mammals. Vibrant, full-color photographs of these amazing animals add to the engaging reading experience, making common science curriculum topics feel fresh and fun for readers.","English",27.25,21.8,null,"32 pp.",{"$f":"Table1[[#This Row],['# of Books]]*Table1[[#This Row],[QTY]]","v":0},{"$f":"Table1[[#This Row],[QTY]]*Table1[[#This Row],[School & Library Price]]","v":0}]
[null,96,null,null,"Animals","Animal Classification","Mammals","978-1-5345-2020-2","KidHaven Publishing","eBook",1,2017,"January 2017","eBook",null,"Author","Charlie Ogden",null,null,null,null,"L",null,null,null,"Grade 2 - 4","Lions, elephants, and people may seem very different, and they are in many ways. However, they are also similar in enough ways to classify them all as mammals. Readers learn what common characteristics these and other mammals share as they develop their animal classification skills. Through accessible text, fact boxes, and detailed graphic organizers, readers discover amazing things about some of the world’s most impressive and unusual mammals. Vibrant, full-color photographs of these amazing animals add to the engaging reading experience, making common science curriculum topics feel fresh and fun for readers.","English",27.25,21.8,null,"32 pp.",{"$f":"Table1[[#This Row],['# of Books]]*Table1[[#This Row],[QTY]]","v":0},{"$f":"Table1[[#This Row],[QTY]]*Table1[[#This Row],[School & Library Price]]","v":0}]
[null,96,null,null,"Animals","Animal Classification","Reptiles","978-1-5345-2023-3","KidHaven Publishing","Library Bound Book",1,2017,"January 2017","Library Bound","8.500 X 11.00","Author","Charlie Ogden",null,null,null,null,"L",null,"Years 7 - 9",null,"Grade 2 - 4","Alligators, crocodiles, and lizards are all amazing animals, and they are also all reptiles.  Why are these cool creatures classified as reptiles and not amphibians, fish, or birds? Readers find the answer as they learn fascinating facts about what makes reptiles unique. Engaging main text is enhanced by eye-catching fact boxes and vibrant, full-color photographs of reptiles in their natural habitats. Readers also obtain information from helpful graphic organizers, including clear and accessible diagrams. As readers explore a variety of valuable science curriculum topics and scientific skills, they are introduced to some of the most exotic reptiles on Earth!","English",27.25,21.8,null,"32 pp.",{"$f":"Table1[[#This Row],['# of Books]]*Table1[[#This Row],[QTY]]","v":0},{"$f":"Table1[[#This Row],[QTY]]*Table1[[#This Row],[School & Library Price]]","v":0}]
[null,96,null,null,"Animals","Animal Classification","Reptiles","978-1-5345-2024-0","KidHaven Publishing","eBook",1,2017,"January 2017","eBook",null,"Author","Charlie Ogden",null,null,null,null,"L",null,null,null,"Grade 2 - 4","Alligators, crocodiles, and lizards are all amazing animals, and they are also all reptiles.  Why are these cool creatures classified as reptiles and not amphibians, fish, or birds? Readers find the answer as they learn fascinating facts about what makes reptiles unique. Engaging main text is enhanced by eye-catching fact boxes and vibrant, full-color photographs of reptiles in their natural habitats. Readers also obtain information from helpful graphic organizers, including clear and accessible diagrams. As readers explore a variety of valuable science curriculum topics and scientific skills, they are introduced to some of the most exotic reptiles on Earth!","English",27.25,21.8,null,"32 pp.",{"$f":"Table1[[#This Row],['# of Books]]*Table1[[#This Row],[QTY]]","v":0},{"$f":"Table1[[#This Row],[QTY]]*Table1[[#This Row],[School & Library Price]]","v":0}]
[null,101,null,null,"Science","A Closer Look at Living Things (Jan '17 Set)","A Closer Look at Living Things (Jan '17 Set)","978-1-5345-2113-1","KidHaven Publishing","Library Set",4,2017,"January 2017","Library Bound","8.500 X 8.500"," "," ",null,null,null,null,null,null,"Years 7 - 9",null,"Grade 2 - 4","How do plants get food? What do animals use a tail for? How do bugs grow? Young readers discover the answers to these questions and many more as they get an up-close view of the bodies of living things. They explore the many ways a living thing’s body parts work together. This creative approach to beginner biology is presented through simple, age-appropriate text. Vibrant, full-color photographs of a wide variety of animals, plants, people, and bugs fill each page. Readers will be amazed when they see how much they can learn by taking a closer look at living things.","English",98.4,78.72,null,"24 pp.",{"$f":"Table1[[#This Row],['# of Books]]*Table1[[#This Row],[QTY]]","v":0},{"$f":"Table1[[#This Row],[QTY]]*Table1[[#This Row],[School & Library Price]]","v":0}]
[null,101,null,null,"Science","A Closer Look at Living Things (Jan '17 Set)","A Closer Look at Living Things (Jan '17 Set)","978-1-5345-2114-8","KidHaven Publishing","eBook Set",4,2017,"January 2017","eBook",null," "," ",null,null,null,null,null,null,null,null,"Grade 2 - 4","How do plants get food? What do animals use a tail for? How do bugs grow? Young readers discover the answers to these questions and many more as they get an up-close view of the bodies of living things. They explore the many ways a living thing’s body parts work together. This creative approach to beginner biology is presented through simple, age-appropriate text. Vibrant, full-color photographs of a wide variety of animals, plants, people, and bugs fill each page. Readers will be amazed when they see how much they can learn by taking a closer look at living things.","English",98.4,78.72,null,"24 pp.",{"$f":"Table1[[#This Row],['# of Books]]*Table1[[#This Row],[QTY]]","v":0},{"$f":"Table1[[#This Row],[QTY]]*Table1[[#This Row],[School & Library Price]]","v":0}]
[null,101,null,null,"Science","A Closer Look at Living Things","Animal Body Parts","978-1-5345-2059-2","KidHaven Publishing","Library Bound Book",1,2017,"January 2017","Library Bound","8.500 X 8.500","Author","Steffi Cavell-Clarke",3.9,0.5,null,null,"K",null,"Years 7 - 9",null,"Grade 2 - 4","Animal body parts work together to help these living things move, eat, and stay safe. Readers discover different animal body parts and their jobs in this unique exploration of beginner biology. Through simple, clear text, young readers are introduced to many animals and the various body parts they use as they live and grow. Age-appropriate diagrams are also included to help early learners understand these basic science concepts. With vibrant, detailed photographs of animal body parts in action, young readers will be captivated by this unique look at familiar and exotic animals.","English",24.6,19.68,null,"24 pp.",{"$f":"Table1[[#This Row],['# of Books]]*Table1[[#This Row],[QTY]]","v":0},{"$f":"Table1[[#This Row],[QTY]]*Table1[[#This Row],[School & Library Price]]","v":0}]
[null,101,null,null,"Science","A Closer Look at Living Things","Animal Body Parts","978-1-5345-2060-8","KidHaven Publishing","eBook",1,2017,"January 2017","eBook",null,"Author","Steffi Cavell-Clarke",null,null,null,null,"K",null,null,null,"Grade 2 - 4","Animal body parts work together to help these living things move, eat, and stay safe. Readers discover different animal body parts and their jobs in this unique exploration of beginner biology. Through simple, clear text, young readers are introduced to many animals and the various body parts they use as they live and grow. Age-appropriate diagrams are also included to help early learners understand these basic science concepts. With vibrant, detailed photographs of animal body parts in action, young readers will be captivated by this unique look at familiar and exotic animals.","English",24.6,19.68,null,"24 pp.",{"$f":"Table1[[#This Row],['# of Books]]*Table1[[#This Row],[QTY]]","v":0},{"$f":"Table1[[#This Row],[QTY]]*Table1[[#This Row],[School & Library Price]]","v":0}]
[null,101,null,null,"Science","A Closer Look at Living Things","Bug Body Parts","978-1-5345-2063-9","KidHaven Publishing","Library Bound Book",1,2017,"January 2017","Library Bound","8.500 X 8.500","Author","Steffi Cavell-Clarke",3.6,0.5,null,null,"K",null,"Years 7 - 9",null,"Grade 2 - 4","Young readers get an exciting, up-close look at bug bodies as they learn essential beginner biology topics in a fun and fresh way. They discover the many ways a bug’s body parts work together through the use of age-appropriate text and simple diagrams designed with early learners in mind. Vivid photographs show the body parts of the world’s coolest and creepiest bugs in amazing detail. This creative approach to a common part of science curricula is sure to keep young readers engaged as they learn big things about some of the world’s tiniest creatures.","English",24.6,19.68,null,"24 pp.",{"$f":"Table1[[#This Row],['# of Books]]*Table1[[#This Row],[QTY]]","v":0},{"$f":"Table1[[#This Row],[QTY]]*Table1[[#This Row],[School & Library Price]]","v":0}]
[null,101,null,null,"Science","A Closer Look at Living Things","Bug Body Parts","978-1-5345-2064-6","KidHaven Publishing","eBook",1,2017,"January 2017","eBook",null,"Author","Steffi Cavell-Clarke",null,null,null,null,"K",null,null,null,"Grade 2 - 4","Young readers get an exciting, up-close look at bug bodies as they learn essential beginner biology topics in a fun and fresh way. They discover the many ways a bug’s body parts work together through the use of age-appropriate text and simple diagrams designed with early learners in mind. Vivid photographs show the body parts of the world’s coolest and creepiest bugs in amazing detail. This creative approach to a common part of science curricula is sure to keep young readers engaged as they learn big things about some of the world’s tiniest creatures.","English",24.6,19.68,null,"24 pp.",{"$f":"Table1[[#This Row],['# of Books]]*Table1[[#This Row],[QTY]]","v":0},{"$f":"Table1[[#This Row],[QTY]]*Table1[[#This Row],[School & Library Price]]","v":0}]
[null,101,null,null,"Science","A Closer Look at Living Things","Human Body Parts","978-1-5345-2067-7","KidHaven Publishing","Library Bound Book",1,2017,"January 2017","Library Bound","8.500 X 8.500","Author","Steffi Cavell-Clarke",3.8,0.5,null,null,"K",null,"Years 7 - 9",null,"Grade 2 - 4","The human body is a fascinating thing to study, and young readers get an age-appropriate overview of its parts as they explore the basics of beginner biology and anatomy. How do people see? What do they use to hear? They will be able to answer these questions and many more after learning the important ways human body parts work together. Accessible text is paired with colorful photographs and clear diagrams to ensure a thorough introduction to these essential science curriculum topics for early learners.","English",24.6,19.68,null,"24 pp.",{"$f":"Table1[[#This Row],['# of Books]]*Table1[[#This Row],[QTY]]","v":0},{"$f":"Table1[[#This Row],[QTY]]*Table1[[#This Row],[School & Library Price]]","v":0}]
[null,101,null,null,"Science","A Closer Look at Living Things","Human Body Parts","978-1-5345-2068-4","KidHaven Publishing","eBook",1,2017,"January 2017","eBook",null,"Author","Steffi Cavell-Clarke",null,null,null,null,"K",null,null,null,"Grade 2 - 4","The human body is a fascinating thing to study, and young readers get an age-appropriate overview of its parts as they explore the basics of beginner biology and anatomy. How do people see? What do they use to hear? They will be able to answer these questions and many more after learning the important ways human body parts work together. Accessible text is paired with colorful photographs and clear diagrams to ensure a thorough introduction to these essential science curriculum topics for early learners.","English",24.6,19.68,null,"24 pp.",{"$f":"Table1[[#This Row],['# of Books]]*Table1[[#This Row],[QTY]]","v":0},{"$f":"Table1[[#This Row],[QTY]]*Table1[[#This Row],[School & Library Price]]","v":0}]
[null,101,null,null,"Science","A Closer Look at Living Things","Plant Parts","978-1-5345-2070-7","KidHaven Publishing","Library Bound Book",1,2017,"January 2017","Library Bound","8.500 X 8.500","Author","Steffi Cavell-Clarke",4.2,0.5,null,null,"K",null,"Years 7 - 9",null,"Grade 2 - 4","Roots, stems, and leaves are just some of a plant’s most important parts. Readers get a detailed look at these and other plant parts as they closely examine some of the world’s most interesting plants. Vibrant, full-color photographs of plants fill each page, and clear diagrams help readers gain a deeper understanding of the ways plant parts work together. These basic biology lessons are presented to early learners through age-appropriate text that is closely aligned with common science curriculum topics. What parts do plants use to make their own food? The answer is waiting for readers to discover!","English",24.6,19.68,null,"24 pp.",{"$f":"Table1[[#This Row],['# of Books]]*Table1[[#This Row],[QTY]]","v":0},{"$f":"Table1[[#This Row],[QTY]]*Table1[[#This Row],[School & Library Price]]","v":0}]
[null,101,null,null,"Science","A Closer Look at Living Things","Plant Parts","978-1-5345-2071-4","KidHaven Publishing","eBook",1,2017,"January 2017","eBook",null,"Author","Steffi Cavell-Clarke",null,null,null,null,"K",null,null,null,"Grade 2 - 4","Roots, stems, and leaves are just some of a plant’s most important parts. Readers get a detailed look at these and other plant parts as they closely examine some of the world’s most interesting plants. Vibrant, full-color photographs of plants fill each page, and clear diagrams help readers gain a deeper understanding of the ways plant parts work together. These basic biology lessons are presented to early learners through age-appropriate text that is closely aligned with common science curriculum topics. What parts do plants use to make their own food? The answer is waiting for readers to discover!","English",24.6,19.68,null,"24 pp.",{"$f":"Table1[[#This Row],['# of Books]]*Table1[[#This Row],[QTY]]","v":0},{"$f":"Table1[[#This Row],[QTY]]*Table1[[#This Row],[School & Library Price]]","v":0}]
[null,103,null,null,"Social Studies","Unlocking Ancient Civilizations (Jan '17 Set)","Unlocking Ancient Civilizations (Jan '17 Set)","978-1-5345-2133-9","KidHaven Publishing","Library Set",4,2017,"January 2017","Library Bound","8.500 X 11.00"," "," ",null,null,null,null,null,null,"Years 9 - 11",null,"Grade 4 - 6","The ancient civilizations that developed in Greece, Rome, Egypt, and China still hold great value for us today. For example, if you like watching the Olympic Games, you have the ancient Greeks to thank for that major world sporting event! Readers discover this and other exciting and unique aspects of ancient civilizations that helped shape the modern world. The informative text is presented in a dynamic way, with full-color photographs, as well as fact boxes and sidebars to provide additional information about life in ancient times. Readers are sure to enjoy this engaging approach to common social studies curriculum topics.","English",109,87.2,null,"32 pp.",{"$f":"Table1[[#This Row],['# of Books]]*Table1[[#This Row],[QTY]]","v":0},{"$f":"Table1[[#This Row],[QTY]]*Table1[[#This Row],[School & Library Price]]","v":0}]
[null,103,null,null,"Social Studies","Unlocking Ancient Civilizations (Jan '17 Set)","Unlocking Ancient Civilizations (Jan '17 Set)","978-1-5345-2134-6","KidHaven Publishing","eBook Set",4,2017,"January 2017","eBook",null," "," ",null,null,null,null,null,null,null,null,"Grade 4 - 6","The ancient civilizations that developed in Greece, Rome, Egypt, and China still hold great value for us today. For example, if you like watching the Olympic Games, you have the ancient Greeks to thank for that major world sporting event! Readers discover this and other exciting and unique aspects of ancient civilizations that helped shape the modern world. The informative text is presented in a dynamic way, with full-color photographs, as well as fact boxes and sidebars to provide additional information about life in ancient times. Readers are sure to enjoy this engaging approach to common social studies curriculum topics.","English",109,87.2,null,"32 pp.",{"$f":"Table1[[#This Row],['# of Books]]*Table1[[#This Row],[QTY]]","v":0},{"$f":"Table1[[#This Row],[QTY]]*Table1[[#This Row],[School & Library Price]]","v":0}]
[null,103,null,null,"Social Studies","Unlocking Ancient Civilizations","Ancient Egypt","978-1-5345-2027-1","KidHaven Publishing","Library Bound Book",1,2017,"January 2017","Library Bound","8.500 X 11.00","Author","George Cottrell",null,null,null,null,"R",null,"Years 9 - 11",null,"Grade 4 - 6","There was more to life in ancient Egypt than building pyramids and mummifying bodies. Readers explore the complex and unique civilization that developed in ancient Egypt with a strong focus on the most exciting aspects of this common social studies curriculum topic. Engaging and informative text is presented in a fresh and fun way, featuring sidebars and fact boxes brimming with information about this important civilization. Detailed maps and colorful photographs are included to enhance readers’ experience of journeying into the past. Readers also discover the contributions made by ancient Egyptians that continue to impact our lives in the present.","English",27.25,21.8,null,"32 pp.",{"$f":"Table1[[#This Row],['# of Books]]*Table1[[#This Row],[QTY]]","v":0},{"$f":"Table1[[#This Row],[QTY]]*Table1[[#This Row],[School & Library Price]]","v":0}]
[null,103,null,null,"Social Studies","Unlocking Ancient Civilizations","Ancient Egypt","978-1-5345-2028-8","KidHaven Publishing","eBook",1,2017,"January 2017","eBook",null,"Author","George Cottrell",null,null,null,null,"R",null,null,null,"Grade 4 - 6","There was more to life in ancient Egypt than building pyramids and mummifying bodies. Readers explore the complex and unique civilization that developed in ancient Egypt with a strong focus on the most exciting aspects of this common social studies curriculum topic. Engaging and informative text is presented in a fresh and fun way, featuring sidebars and fact boxes brimming with information about this important civilization. Detailed maps and colorful photographs are included to enhance readers’ experience of journeying into the past. Readers also discover the contributions made by ancient Egyptians that continue to impact our lives in the present.","English",27.25,21.8,null,"32 pp.",{"$f":"Table1[[#This Row],['# of Books]]*Table1[[#This Row],[QTY]]","v":0},{"$f":"Table1[[#This Row],[QTY]]*Table1[[#This Row],[School & Library Price]]","v":0}]
[null,103,null,null,"Social Studies","Unlocking Ancient Civilizations","Ancient Greece","978-1-5345-2031-8","KidHaven Publishing","Library Bound Book",1,2017,"January 2017","Library Bound","8.500 X 11.00","Author","George Cottrell",null,null,null,null,"R",null,"Years 9 - 11",null,"Grade 4 - 6","Which civilization gave us the Olympic Games? It’s ancient Greece, and readers discover this and other fun facts as they explore one of the most influential ancient civilizations. As readers investigate the engaging main text, fact boxes, and sidebars, they uncover the Greek roots of theater, democracy, and philosophy, as well as many other contributions to the modern world made by the ancient Greeks. Detailed maps help readers develop their geography skills, and vivid photographs take readers into the heart of the ancient Greek world. This exciting look at a common social studies curriculum topic is sure to captivate readers.","English",27.25,21.8,null,"32 pp.",{"$f":"Table1[[#This Row],['# of Books]]*Table1[[#This Row],[QTY]]","v":0},{"$f":"Table1[[#This Row],[QTY]]*Table1[[#This Row],[School & Library Price]]","v":0}]
[null,103,null,null,"Social Studies","Unlocking Ancient Civilizations","Ancient Greece","978-1-5345-2032-5","KidHaven Publishing","eBook",1,2017,"January 2017","eBook",null,"Author","George Cottrell",null,null,null,null,"R",null,null,null,"Grade 4 - 6","Which civilization gave us the Olympic Games? It’s ancient Greece, and readers discover this and other fun facts as they explore one of the most influential ancient civilizations. As readers investigate the engaging main text, fact boxes, and sidebars, they uncover the Greek roots of theater, democracy, and philosophy, as well as many other contributions to the modern world made by the ancient Greeks. Detailed maps help readers develop their geography skills, and vivid photographs take readers into the heart of the ancient Greek world. This exciting look at a common social studies curriculum topic is sure to captivate readers.","English",27.25,21.8,null,"32 pp.",{"$f":"Table1[[#This Row],['# of Books]]*Table1[[#This Row],[QTY]]","v":0},{"$f":"Table1[[#This Row],[QTY]]*Table1[[#This Row],[School & Library Price]]","v":0}]
[null,103,null,null,"Social Studies","Unlocking Ancient Civilizations","Ancient Rome","978-1-5345-2035-6","KidHaven Publishing","Library Bound Book",1,2017,"January 2017","Library Bound","8.500 X 11.00","Author","George Cottrell",null,null,null,null,"R",null,"Years 9 - 11",null,"Grade 4 - 6","The ancient Romans developed a civilization unlike any other. Readers discover what made ancient Rome so unique and how its influence can still be felt in the world today. The exciting text and eye-catching design enhance social studies curricula in an engaging way. Readers will want to learn even more about this fascinating civilization, which is presented to them through clear main text, informative sidebars, fun fact boxes, and colorful maps. Vibrant photographs give readers a strong visual sense of what life was like in ancient Rome and what remnants of this great civilization can still be seen today.","English",27.25,21.8,null,"32 pp.",{"$f":"Table1[[#This Row],['# of Books]]*Table1[[#This Row],[QTY]]","v":0},{"$f":"Table1[[#This Row],[QTY]]*Table1[[#This Row],[School & Library Price]]","v":0}]
[null,103,null,null,"Social Studies","Unlocking Ancient Civilizations","Ancient Rome","978-1-5345-2036-3","KidHaven Publishing","eBook",1,2017,"January 2017","eBook",null,"Author","George Cottrell",null,null,null,null,"R",null,null,null,"Grade 4 - 6","The ancient Romans developed a civilization unlike any other. Readers discover what made ancient Rome so unique and how its influence can still be felt in the world today. The exciting text and eye-catching design enhance social studies curricula in an engaging way. Readers will want to learn even more about this fascinating civilization, which is presented to them through clear main text, informative sidebars, fun fact boxes, and colorful maps. Vibrant photographs give readers a strong visual sense of what life was like in ancient Rome and what remnants of this great civilization can still be seen today.","English",27.25,21.8,null,"32 pp.",{"$f":"Table1[[#This Row],['# of Books]]*Table1[[#This Row],[QTY]]","v":0},{"$f":"Table1[[#This Row],[QTY]]*Table1[[#This Row],[School & Library Price]]","v":0}]
[null,103,null,null,"Social Studies","Unlocking Ancient Civilizations","The Shang Dynasty","978-1-5345-2039-4","KidHaven Publishing","Library Bound Book",1,2017,"January 2017","Library Bound","8.500 X 11.00","Author","George Cottrell",null,null,null,null,"R",null,"Years 9 - 11",null,"Grade 4 - 6","The Shang Dynasty marked the beginning of recorded history in China. This ancient civilization has been studied by historians and archaeologists around the world, and now readers can join their ranks in uncovering fascinating facts about this dynasty. The detailed main text, fact boxes, and sidebars focus on the most exciting and extraordinary aspects of the Shang Dynasty, providing a fresh take on a familiar part of social studies curricula. Readers also develop a strong sense of geography through the use of clear maps. Full-color photographs fill each page, giving readers an up-close look at life during the Shang Dynasty.","English",27.25,21.8,null,"32 pp.",{"$f":"Table1[[#This Row],['# of Books]]*Table1[[#This Row],[QTY]]","v":0},{"$f":"Table1[[#This Row],[QTY]]*Table1[[#This Row],[School & Library Price]]","v":0}]
[null,103,null,null,"Social Studies","Unlocking Ancient Civilizations","The Shang Dynasty","978-1-5345-2040-0","KidHaven Publishing","eBook",1,2017,"January 2017","eBook",null,"Author","George Cottrell",null,null,null,null,"R",null,null,null,"Grade 4 - 6","The Shang Dynasty marked the beginning of recorded history in China. This ancient civilization has been studied by historians and archaeologists around the world, and now readers can join their ranks in uncovering fascinating facts about this dynasty. The detailed main text, fact boxes, and sidebars focus on the most exciting and extraordinary aspects of the Shang Dynasty, providing a fresh take on a familiar part of social studies curricula. Readers also develop a strong sense of geography through the use of clear maps. Full-color photographs fill each page, giving readers an up-close look at life during the Shang Dynasty.","English",27.25,21.8,null,"32 pp.",{"$f":"Table1[[#This Row],['# of Books]]*Table1[[#This Row],[QTY]]","v":0},{"$f":"Table1[[#This Row],[QTY]]*Table1[[#This Row],[School & Library Price]]","v":0}]
[null,104,null,null,"Social Studies","Cooking Your Way Through American History (Jan '17 Set)","Cooking Your Way Through American History (Jan '17 Set)","978-1-5345-2121-6","KidHaven Publishing","Library Set",6,2017,"January 2017","Library Bound","8.500 X 8.500"," "," ",null,null,null,null,null,null,"Years 7 - 10",null,"Grade 2 - 5","Readers discover a valuable link between the classroom and the kitchen as they learn about the foods made and eaten during important times in American history. Informative and engaging text presents a fresh take on popular historical periods—from early Native American history through the Civil War. Readers explore the relationship between food and culture, geography, social class, the economy, and war. Their reading experience is enhanced by recipes from each time period, as well as colorful a combination of contemporary and historical images. This hands-on approach to history helps readers bring a taste of the past to the present!","English",163.5,130.80000000000001,null,"24 pp.",{"$f":"Table1[[#This Row],['# of Books]]*Table1[[#This Row],[QTY]]","v":0},{"$f":"Table1[[#This Row],[QTY]]*Table1[[#This Row],[School & Library Price]]","v":0}]
[null,104,null,null,"Social Studies","Cooking Your Way Through American History (Jan '17 Set)","Cooking Your Way Through American History (Jan '17 Set)","978-1-5345-2122-3","KidHaven Publishing","eBook Set",6,2017,"January 2017","eBook",null," "," ",null,null,null,null,null,null,null,null,"Grade 2 - 5","Readers discover a valuable link between the classroom and the kitchen as they learn about the foods made and eaten during important times in American history. Informative and engaging text presents a fresh take on popular historical periods—from early Native American history through the Civil War. Readers explore the relationship between food and culture, geography, social class, the economy, and war. Their reading experience is enhanced by recipes from each time period, as well as colorful a combination of contemporary and historical images. This hands-on approach to history helps readers bring a taste of the past to the present!","English",163.5,130.80000000000001,null,"24 pp.",{"$f":"Table1[[#This Row],['# of Books]]*Table1[[#This Row],[QTY]]","v":0},{"$f":"Table1[[#This Row],[QTY]]*Table1[[#This Row],[School & Library Price]]","v":0}]
[null,104,null,null,"Social Studies","Cooking Your Way Through American History","Native American Recipes","978-1-5345-2094-3","KidHaven Publishing","Library Bound Book",1,2017,"January 2017","Library Bound","8.500 X 8.500","Author","Leslie Beckett",null,null,null,null,"N",null,"Years 7 - 10",null,"Grade 2 - 5","Readers gain a deeper understanding of and appreciation for Native American history and culture through learning about popular Native American foods. As they explore the engaging text, colorful images, and primary sources, they find fascinating facts about early Native American life, including what Native Americans ate and how they prepared their food. This essential part of social studies curricula is given a fun twist with the addition of simple recipes. As readers follow each detailed set of instructions, they create their own Native American dishes, making history come alive in a dynamic and delicious way.","English",27.25,21.8,null,"24 pp.",{"$f":"Table1[[#This Row],['# of Books]]*Table1[[#This Row],[QTY]]","v":0},{"$f":"Table1[[#This Row],[QTY]]*Table1[[#This Row],[School & Library Price]]","v":0}]
[null,104,null,null,"Social Studies","Cooking Your Way Through American History","Recipes of the American Revolution","978-1-5345-2106-3","KidHaven Publishing","Library Bound Book",1,2017,"January 2017","Library Bound","8.500 X 8.500","Author","Robert Hamilton",null,null,null,null,"N",null,"Years 7 - 10",null,"Grade 2 - 5","Beef stew and baked beans are foods eaten during the American Revolution that we still enjoy today. Readers learn how to make these and other foods from this time in American history as they explore the role food played in America’s fight for independence. Recipes are found throughout the text, encouraging readers to take a hands-on approach to learning about history. As readers explore the fact-filled text, they also discover vibrant contemporary and historical images, including primary sources. Common social studies curriculum topics become fun when readers take history out of the classroom and into the kitchen.","English",27.25,21.8,null,"24 pp.",{"$f":"Table1[[#This Row],['# of Books]]*Table1[[#This Row],[QTY]]","v":0},{"$f":"Table1[[#This Row],[QTY]]*Table1[[#This Row],[School & Library Price]]","v":0}]
[null,104,null,null,"Social Studies","Cooking Your Way Through American History","Recipes of the Civil War","978-1-5345-2090-5","KidHaven Publishing","Library Bound Book",1,2017,"January 2017","Library Bound","8.500 X 8.500","Author","Amy Rogers",null,null,null,null,"N",null,"Years 7 - 10",null,"Grade 2 - 5","Readers will enjoy making sweet potato pie, praline sauce, and other foods eaten during the Civil War as they learn about this important time in American history. Each recipe features step-by-step instructions presented in a clear way. Historical context is provided in the form of a captivating, fact-filled narrative about life during the Civil War. The accessible text is focused on food in this era, providing readers with a fresh perspective on a common social studies curriculum topic. Historical and contemporary images—including primary sources—add an exciting visual component to this reading experience.","English",27.25,21.8,null,"24 pp.",{"$f":"Table1[[#This Row],['# of Books]]*Table1[[#This Row],[QTY]]","v":0},{"$f":"Table1[[#This Row],[QTY]]*Table1[[#This Row],[School & Library Price]]","v":0}]
[null,104,null,null,"Social Studies","Cooking Your Way Through American History","Recipes of the Pilgrims","978-1-5345-2098-1","KidHaven Publishing","Library Bound Book",1,2017,"January 2017","Library Bound","8.500 X 8.500","Author","Emma Jones",null,null,null,null,"N",null,"Years 7 - 10",null,"Grade 2 - 5","After arriving in the New World, the Pilgrims learned to cook with ingredients they’d never used before. Readers learn about the foods the Pilgrims made in their new home, and they even get the chance to make some of those foods. In addition to a charming narrative that presents important facts about Pilgrims and the meals they made, readers find recipes for various dishes made by the Pilgrims. They also discover captivating images, including relevant primary sources. This unique approach to a familiar social studies curriculum topic is sure to make readers excited to experience a taste of Pilgrim life!","English",27.25,21.8,null,"24 pp.",{"$f":"Table1[[#This Row],['# of Books]]*Table1[[#This Row],[QTY]]","v":0},{"$f":"Table1[[#This Row],[QTY]]*Table1[[#This Row],[School & Library Price]]","v":0}]
[null,104,null,null,"Social Studies","Cooking Your Way Through American History","Recipes of the Thirteen Colonies","978-1-5345-2110-0","KidHaven Publishing","Library Bound Book",1,2017,"January 2017","Library Bound","8.500 X 8.500","Author","Joyce Jeffries",null,null,null,null,"N",null,"Years 7 - 10",null,"Grade 2 - 5","What did people living in the 13 colonies eat? Readers discover the answer to this question as they take a look inside colonial kitchens to learn about early American history. The focus on colonial food sheds a unique light on a common part of social studies curricula. As readers explore the engaging and educational text, they also take in information from colorful and detailed images, such as primary sources. In addition, readers find recipes that allow them to feel like colonial chefs. Each recipe features step-by-step instructions, creating a fresh and fun hands-on history lesson.","English",27.25,21.8,null,"24 pp.",{"$f":"Table1[[#This Row],['# of Books]]*Table1[[#This Row],[QTY]]","v":0},{"$f":"Table1[[#This Row],[QTY]]*Table1[[#This Row],[School & Library Price]]","v":0}]
[null,104,null,null,"Social Studies","Cooking Your Way Through American History","Recipes of the Westward Expansion","978-1-5345-2102-5","KidHaven Publishing","Library Bound Book",1,2017,"January 2017","Library Bound","8.500 X 8.500","Author","Katie Kawa",null,null,null,null,"N",null,"Years 7 - 10",null,"Grade 2 - 5","As Americans began to move west, many things changed, including the foods they ate and how they prepared their meals. An engaging narrative presents readers with fascinating facts about this crucial period of growth in the United States—with a unique emphasis on food. Detailed images, including primary sources, aid in setting the scene. Readers are then encouraged to bring a taste of this time to the present by making some of the foods they read about. These detailed recipes work with the text to create a history lesson readers won’t soon forget.","English",27.25,21.8,null,"24 pp.",{"$f":"Table1[[#This Row],['# of Books]]*Table1[[#This Row],[QTY]]","v":0},{"$f":"Table1[[#This Row],[QTY]]*Table1[[#This Row],[School & Library Price]]","v":0}]
[null,104,null,null,"Social Studies","Cooking Your Way Through American History","Native American Recipes","978-1-5345-2095-0","KidHaven Publishing","eBook",1,2017,"January 2017","eBook",null,"Author","Leslie Beckett",null,null,null,null,"N",null,null,null,"Grade 2 - 5","Readers gain a deeper understanding of and appreciation for Native American history and culture through learning about popular Native American foods. As they explore the engaging text, colorful images, and primary sources, they find fascinating facts about early Native American life, including what Native Americans ate and how they prepared their food. This essential part of social studies curricula is given a fun twist with the addition of simple recipes. As readers follow each detailed set of instructions, they create their own Native American dishes, making history come alive in a dynamic and delicious way.","English",27.25,21.8,null,"24 pp.",{"$f":"Table1[[#This Row],['# of Books]]*Table1[[#This Row],[QTY]]","v":0},{"$f":"Table1[[#This Row],[QTY]]*Table1[[#This Row],[School & Library Price]]","v":0}]
[null,104,null,null,"Social Studies","Cooking Your Way Through American History","Recipes of the American Revolution","978-1-5345-2107-0","KidHaven Publishing","eBook",1,2017,"January 2017","eBook",null,"Author","Robert Hamilton",null,null,null,null,"N",null,null,null,"Grade 2 - 5","Beef stew and baked beans are foods eaten during the American Revolution that we still enjoy today. Readers learn how to make these and other foods from this time in American history as they explore the role food played in America’s fight for independence. Recipes are found throughout the text, encouraging readers to take a hands-on approach to learning about history. As readers explore the fact-filled text, they also discover vibrant contemporary and historical images, including primary sources. Common social studies curriculum topics become fun when readers take history out of the classroom and into the kitchen.","English",27.25,21.8,null,"24 pp.",{"$f":"Table1[[#This Row],['# of Books]]*Table1[[#This Row],[QTY]]","v":0},{"$f":"Table1[[#This Row],[QTY]]*Table1[[#This Row],[School & Library Price]]","v":0}]
[null,104,null,null,"Social Studies","Cooking Your Way Through American History","Recipes of the Civil War","978-1-5345-2091-2","KidHaven Publishing","eBook",1,2017,"January 2017","eBook",null,"Author","Amy Rogers",null,null,null,null,"N",null,null,null,"Grade 2 - 5","Readers will enjoy making sweet potato pie, praline sauce, and other foods eaten during the Civil War as they learn about this important time in American history. Each recipe features step-by-step instructions presented in a clear way. Historical context is provided in the form of a captivating, fact-filled narrative about life during the Civil War. The accessible text is focused on food in this era, providing readers with a fresh perspective on a common social studies curriculum topic. Historical and contemporary images—including primary sources—add an exciting visual component to this reading experience.","English",27.25,21.8,null,"24 pp.",{"$f":"Table1[[#This Row],['# of Books]]*Table1[[#This Row],[QTY]]","v":0},{"$f":"Table1[[#This Row],[QTY]]*Table1[[#This Row],[School & Library Price]]","v":0}]
[null,104,null,null,"Social Studies","Cooking Your Way Through American History","Recipes of the Pilgrims","978-1-5345-2099-8","KidHaven Publishing","eBook",1,2017,"January 2017","eBook",null,"Author","Emma Jones",null,null,null,null,"N",null,null,null,"Grade 2 - 5","After arriving in the New World, the Pilgrims learned to cook with ingredients they’d never used before. Readers learn about the foods the Pilgrims made in their new home, and they even get the chance to make some of those foods. In addition to a charming narrative that presents important facts about Pilgrims and the meals they made, readers find recipes for various dishes made by the Pilgrims. They also discover captivating images, including relevant primary sources. This unique approach to a familiar social studies curriculum topic is sure to make readers excited to experience a taste of Pilgrim life!","English",27.25,21.8,null,"24 pp.",{"$f":"Table1[[#This Row],['# of Books]]*Table1[[#This Row],[QTY]]","v":0},{"$f":"Table1[[#This Row],[QTY]]*Table1[[#This Row],[School & Library Price]]","v":0}]
[null,104,null,null,"Social Studies","Cooking Your Way Through American History","Recipes of the Thirteen Colonies","978-1-5345-2111-7","KidHaven Publishing","eBook",1,2017,"January 2017","eBook",null,"Author","Joyce Jeffries",null,null,null,null,"N",null,null,null,"Grade 2 - 5","What did people living in the 13 colonies eat? Readers discover the answer to this question as they take a look inside colonial kitchens to learn about early American history. The focus on colonial food sheds a unique light on a common part of social studies curricula. As readers explore the engaging and educational text, they also take in information from colorful and detailed images, such as primary sources. In addition, readers find recipes that allow them to feel like colonial chefs. Each recipe features step-by-step instructions, creating a fresh and fun hands-on history lesson.","English",27.25,21.8,null,"24 pp.",{"$f":"Table1[[#This Row],['# of Books]]*Table1[[#This Row],[QTY]]","v":0},{"$f":"Table1[[#This Row],[QTY]]*Table1[[#This Row],[School & Library Price]]","v":0}]
[null,104,null,null,"Social Studies","Cooking Your Way Through American History","Recipes of the Westward Expansion","978-1-5345-2103-2","KidHaven Publishing","eBook",1,2017,"January 2017","eBook",null,"Author","Katie Kawa",null,null,null,null,"N",null,null,null,"Grade 2 - 5","As Americans began to move west, many things changed, including the foods they ate and how they prepared their meals. An engaging narrative presents readers with fascinating facts about this crucial period of growth in the United States—with a unique emphasis on food. Detailed images, including primary sources, aid in setting the scene. Readers are then encouraged to bring a taste of this time to the present by making some of the foods they read about. These detailed recipes work with the text to create a history lesson readers won’t soon forget.","English",27.25,21.8,null,"24 pp.",{"$f":"Table1[[#This Row],['# of Books]]*Table1[[#This Row],[QTY]]","v":0},{"$f":"Table1[[#This Row],[QTY]]*Table1[[#This Row],[School & Library Price]]","v":0}]
[null,105,null,null,"Social Studies","Jobs in Our Community (Jan '17 Set)","Jobs in Our Community (Jan '17 Set)","978-1-5345-2161-2","KidHaven Publishing","Library Set",6,2017,"January 2017","Library Bound","7.625 X 7.125"," "," ",null,null,null,null,null,null,"Years 10 - 12",null,"Grade 5 - 7","How do veterinarians help keep our pets healthy? How do police officers and firefighters help us stay safe? Young readers find the answers to these and many other questions as they discover the important work done by community helpers. They are given an accessible look at what these important people do at work, creating a strong foundation of knowledge about popular careers. The clear text is closely matched to colorful photographs to strengthen reading comprehension skills while also keeping readers entertained.","English",147.6,118.08,null,"24 pp.",{"$f":"Table1[[#This Row],['# of Books]]*Table1[[#This Row],[QTY]]","v":0},{"$f":"Table1[[#This Row],[QTY]]*Table1[[#This Row],[School & Library Price]]","v":0}]
[null,105,null,null,"Social Studies","Jobs in Our Community (Jan '17 Set)","Jobs in Our Community (Jan '17 Set)","978-1-5345-2162-9","KidHaven Publishing","eBook Set",6,2017,"January 2017","eBook",null," "," ",null,null,null,null,null,null,null,null,"Grade 0 - 2","How do veterinarians help keep our pets healthy? How do police officers and firefighters help us stay safe? Young readers find the answers to these and many other questions as they discover the important work done by community helpers. They are given an accessible look at what these important people do at work, creating a strong foundation of knowledge about popular careers. The clear text is closely matched to colorful photographs to strengthen reading comprehension skills while also keeping readers entertained.","English",147.6,118.08,null,"24 pp.",{"$f":"Table1[[#This Row],['# of Books]]*Table1[[#This Row],[QTY]]","v":0},{"$f":"Table1[[#This Row],[QTY]]*Table1[[#This Row],[School & Library Price]]","v":0}]
[null,105,null,null,"Social Studies","Jobs in Our Community","Doctors on the Job","978-1-5345-2139-1","KidHaven Publishing","Library Bound Book",1,2017,"January 2017","Library Bound","7.625 X 7.125","Author","Lorraine Harrison",null,null,null,null,"E",null,"Years 5 - 7",null,"Grade K - 2","Doctors have an important job to do—they help us stay healthy! Young readers discover the different things these community helpers do through simple text and colorful photographs of doctors at work. The close correlation between the pictures and text allows young readers to develop their reading comprehension skills while learning about a popular career. Vocabulary development is also aided by a detailed picture glossary. Readers will enjoy learning fun facts about this cool career, enhancing their understanding of a common elementary curriculum topic.","English",24.6,19.68,null,"24 pp.",{"$f":"Table1[[#This Row],['# of Books]]*Table1[[#This Row],[QTY]]","v":0},{"$f":"Table1[[#This Row],[QTY]]*Table1[[#This Row],[School & Library Price]]","v":0}]
[null,105,null,null,"Social Studies","Jobs in Our Community","Doctors on the Job","978-1-5345-2140-7","KidHaven Publishing","eBook",1,2017,"January 2017","eBook",null,"Author","Lorraine Harrison",null,null,null,null,"E",null,null,null,"Grade K - 2","Doctors have an important job to do—they help us stay healthy! Young readers discover the different things these community helpers do through simple text and colorful photographs of doctors at work. The close correlation between the pictures and text allows young readers to develop their reading comprehension skills while learning about a popular career. Vocabulary development is also aided by a detailed picture glossary. Readers will enjoy learning fun facts about this cool career, enhancing their understanding of a common elementary curriculum topic.","English",24.6,19.68,null,"24 pp.",{"$f":"Table1[[#This Row],['# of Books]]*Table1[[#This Row],[QTY]]","v":0},{"$f":"Table1[[#This Row],[QTY]]*Table1[[#This Row],[School & Library Price]]","v":0}]
[null,105,null,null,"Social Studies","Jobs in Our Community","Firefighters on the Job","978-1-5345-2143-8","KidHaven Publishing","Library Bound Book",1,2017,"January 2017","Library Bound","7.625 X 7.125","Author","Lee Fitzgerald",null,null,null,null,"E",null,"Years 5 - 7",null,"Grade K - 2","How do firefighters help us stay safe? Readers explore the exciting world of firefighters, learning fun fact along the way about the brave men and women who’ve chosen this career. Vibrant photographs of firefighters in action are closely aligned to the age-appropriate text. This close relationship helps young readers develop strong comprehension skills. In addition, a colorful picture glossary is included to help early learners build their vocabulary. As readers learn about firefighters, they gain a deeper understanding of the role of a community helper, which is an essential part of curricula for early learners.","English",24.6,19.68,null,"24 pp.",{"$f":"Table1[[#This Row],['# of Books]]*Table1[[#This Row],[QTY]]","v":0},{"$f":"Table1[[#This Row],[QTY]]*Table1[[#This Row],[School & Library Price]]","v":0}]
[null,105,null,null,"Social Studies","Jobs in Our Community","Firefighters on the Job","978-1-5345-2144-5","KidHaven Publishing","eBook",1,2017,"January 2017","eBook",null,"Author","Lee Fitzgerald",null,null,null,null,"E",null,null,null,"Grade K - 2","How do firefighters help us stay safe? Readers explore the exciting world of firefighters, learning fun fact along the way about the brave men and women who’ve chosen this career. Vibrant photographs of firefighters in action are closely aligned to the age-appropriate text. This close relationship helps young readers develop strong comprehension skills. In addition, a colorful picture glossary is included to help early learners build their vocabulary. As readers learn about firefighters, they gain a deeper understanding of the role of a community helper, which is an essential part of curricula for early learners.","English",24.6,19.68,null,"24 pp.",{"$f":"Table1[[#This Row],['# of Books]]*Table1[[#This Row],[QTY]]","v":0},{"$f":"Table1[[#This Row],[QTY]]*Table1[[#This Row],[School & Library Price]]","v":0}]
[null,105,null,null,"Social Studies","Jobs in Our Community","Librarians on the Job","978-1-5345-2159-9","KidHaven Publishing","Library Bound Book",1,2017,"January 2017","Library Bound","7.625 X 7.125","Author","Mary Austen",null,null,null,null,"E",null,"Years 5 - 7",null,"Grade K - 2","A library is a popular part of a community, and the people who work there are important community helpers. Young readers learn about the many ways librarians help people through clear, age-appropriate text. The facts they learn about librarians and libraries enhance their understanding of common curriculum topics about careers, community helpers, and places in the community. These facts are presented alongside full-color photographs of librarians at work. The close relationship between the pictures and text helps foster strong reading comprehension skills, and a picture glossary aids in vocabulary development.","English",24.6,19.68,null,"24 pp.",{"$f":"Table1[[#This Row],['# of Books]]*Table1[[#This Row],[QTY]]","v":0},{"$f":"Table1[[#This Row],[QTY]]*Table1[[#This Row],[School & Library Price]]","v":0}]
[null,105,null,null,"Social Studies","Jobs in Our Community","Librarians on the Job","978-1-5345-2158-2","KidHaven Publishing","eBook",1,2017,"January 2017","eBook",null,"Author","Mary Austen",null,null,null,null,"E",null,null,null,"Grade K - 2","A library is a popular part of a community, and the people who work there are important community helpers. Young readers learn about the many ways librarians help people through clear, age-appropriate text. The facts they learn about librarians and libraries enhance their understanding of common curriculum topics about careers, community helpers, and places in the community. These facts are presented alongside full-color photographs of librarians at work. The close relationship between the pictures and text helps foster strong reading comprehension skills, and a picture glossary aids in vocabulary development.","English",24.6,19.68,null,"24 pp.",{"$f":"Table1[[#This Row],['# of Books]]*Table1[[#This Row],[QTY]]","v":0},{"$f":"Table1[[#This Row],[QTY]]*Table1[[#This Row],[School & Library Price]]","v":0}]
[null,105,null,null,"Social Studies","Jobs in Our Community","Police Officers on the Job","978-1-5345-2155-1","KidHaven Publishing","Library Bound Book",1,2017,"January 2017","Library Bound","7.625 X 7.125","Author","Kate Rogers",null,null,null,null,"E",null,"Years 5 - 7",null,"Grade K - 2","Police officers are brave community helpers. Young readers explore the basics of a police officer’s job through simple, clear text that supports common curriculum topics. Readers also discover vibrant photographs of these helpful men and women on the job. These photographs closely relate to the corresponding text to help early learners strengthen their reading comprehension skills. Readers can also use the helpful picture glossary to understand unfamiliar terms and build their vocabulary. This exciting career is sure to interest many young readers!","English",24.6,19.68,null,"24 pp.",{"$f":"Table1[[#This Row],['# of Books]]*Table1[[#This Row],[QTY]]","v":0},{"$f":"Table1[[#This Row],[QTY]]*Table1[[#This Row],[School & Library Price]]","v":0}]
[null,105,null,null,"Social Studies","Jobs in Our Community","Police Officers on the Job","978-1-5345-2156-8","KidHaven Publishing","eBook",1,2017,"January 2017","eBook",null,"Author","Kate Rogers",null,null,null,null,"E",null,null,null,"Grade K - 2","Police officers are brave community helpers. Young readers explore the basics of a police officer’s job through simple, clear text that supports common curriculum topics. Readers also discover vibrant photographs of these helpful men and women on the job. These photographs closely relate to the corresponding text to help early learners strengthen their reading comprehension skills. Readers can also use the helpful picture glossary to understand unfamiliar terms and build their vocabulary. This exciting career is sure to interest many young readers!","English",24.6,19.68,null,"24 pp.",{"$f":"Table1[[#This Row],['# of Books]]*Table1[[#This Row],[QTY]]","v":0},{"$f":"Table1[[#This Row],[QTY]]*Table1[[#This Row],[School & Library Price]]","v":0}]
[null,105,null,null,"Social Studies","Jobs in Our Community","Teachers on the Job","978-1-5345-2147-6","KidHaven Publishing","Library Bound Book",1,2017,"January 2017","Library Bound","7.625 X 7.125","Author","David Anthony",null,null,null,null,"E",null,"Years 5 - 7",null,"Grade K - 2","Teachers work hard to help their students learn. Young readers learn fun facts about these familiar community helpers and the work they do. The simple, clear text provides valuable information about this popular career and supports common curriculum topics about community helpers. Each page of text is carefully paired with a vibrant photograph to help early learners build their reading comprehension skills. Young readers are also introduced to new vocabulary words through a detailed picture glossary of unfamiliar words. Readers will have a new appreciation for what teachers do after seeing a day at school from a teacher’s perspective!","English",24.6,19.68,null,"24 pp.",{"$f":"Table1[[#This Row],['# of Books]]*Table1[[#This Row],[QTY]]","v":0},{"$f":"Table1[[#This Row],[QTY]]*Table1[[#This Row],[School & Library Price]]","v":0}]
[null,105,null,null,"Social Studies","Jobs in Our Community","Teachers on the Job","978-1-5345-2148-3","KidHaven Publishing","eBook",1,2017,"January 2017","eBook",null,"Author","David Anthony",null,null,null,null,"E",null,null,null,"Grade K - 2","Teachers work hard to help their students learn. Young readers learn fun facts about these familiar community helpers and the work they do. The simple, clear text provides valuable information about this popular career and supports common curriculum topics about community helpers. Each page of text is carefully paired with a vibrant photograph to help early learners build their reading comprehension skills. Young readers are also introduced to new vocabulary words through a detailed picture glossary of unfamiliar words. Readers will have a new appreciation for what teachers do after seeing a day at school from a teacher’s perspective!","English",24.6,19.68,null,"24 pp.",{"$f":"Table1[[#This Row],['# of Books]]*Table1[[#This Row],[QTY]]","v":0},{"$f":"Table1[[#This Row],[QTY]]*Table1[[#This Row],[School & Library Price]]","v":0}]
[null,105,null,null,"Social Studies","Jobs in Our Community","Veterinarians on the Job","978-1-5345-2151-3","KidHaven Publishing","Library Bound Book",1,2017,"January 2017","Library Bound","7.625 X 7.125","Author","Anne Forest",null,null,null,null,"E",null,"Years 5 - 7",null,"Grade K - 2","People see doctors when they don’t feel well, but who takes care of animals when they’re sick or hurt? Veterinarians help animals stay healthy, and readers discover fun facts about this cool career with each turn of the page. This exciting information supports common curriculum topics for early learners, and it encourages young readers to think about careers. The accessible text and detailed picture glossary help readers build their vocabulary. Reading comprehension skills are also supported through the close relationship between the photographs and text.","English",24.6,19.68,null,"24 pp.",{"$f":"Table1[[#This Row],['# of Books]]*Table1[[#This Row],[QTY]]","v":0},{"$f":"Table1[[#This Row],[QTY]]*Table1[[#This Row],[School & Library Price]]","v":0}]
[null,105,null,null,"Social Studies","Jobs in Our Community","Veterinarians on the Job","978-1-5345-2152-0","KidHaven Publishing","eBook",1,2017,"January 2017","eBook",null,"Author","Anne Forest",null,null,null,null,"E",null,null,null,"Grade K - 2","People see doctors when they don’t feel well, but who takes care of animals when they’re sick or hurt? Veterinarians help animals stay healthy, and readers discover fun facts about this cool career with each turn of the page. This exciting information supports common curriculum topics for early learners, and it encourages young readers to think about careers. The accessible text and detailed picture glossary help readers build their vocabulary. Reading comprehension skills are also supported through the close relationship between the photographs and text.","English",24.6,19.68,null,"24 pp.",{"$f":"Table1[[#This Row],['# of Books]]*Table1[[#This Row],[QTY]]","v":0},{"$f":"Table1[[#This Row],[QTY]]*Table1[[#This Row],[School & Library Price]]","v":0}]
[null,106,null,null,"Biography","Innovators","Chad Hurley, Steve Chen, Jawed Karim: YouTube Creators","978-0-7377-5480-3","KidHaven Publishing","eBook",1,2009,null,"eBook",null,"Author","Katy Duffield",null,null,null,null,null,null,"Years 9 - 13",null,"Grade 4 - 8","Explores the life and achievements of Chad Hurley, Steve Chen, and Jawed Karim, the three young men responsible for the creation of YouTube, which provides users with a fast, simple way to upload and share videos they have created. The short biographies in this series portray current leaders in a range of fields, including science, technology, entertainment and business. These creative role models offer meaningful lessons in the real-world importance of imagination and persistence.","English",38.06,38.06,"384.3","48 pp.",{"$f":"Table1[[#This Row],['# of Books]]*Table1[[#This Row],[QTY]]","v":0},{"$f":"Table1[[#This Row],[QTY]]*Table1[[#This Row],[School & Library Price]]","v":0}]
[null,106,null,null,"Biography","Innovators","Chad Hurley, Steve Chen, Jawed Karim: YouTube Creators","978-0-7377-4270-1","KidHaven Publishing","Library Bound Book",1,2009,null,"Library Bound","6.000 X 9.000","Author","Katy Duffield",null,null,null,null,null,null,"Years 9 - 13",null,"Grade 4 - 8",null,"English",34.6,27.680000000000003,"006","48 pp.",{"$f":"Table1[[#This Row],['# of Books]]*Table1[[#This Row],[QTY]]","v":0},{"$f":"Table1[[#This Row],[QTY]]*Table1[[#This Row],[School & Library Price]]","v":0}]
[null,106,null,null,"Biography","Innovators","Doris Taylor: Growing a Beating Heart","978-0-7377-4565-8","KidHaven Publishing","Library Bound Book",1,2009,null,"Library Bound","6.000 X 9.000","Author","Lori Mortensen",null,null,null,null,null,null,"Years 9 - 13",null,"Grade 4 - 8",null,"English",34.6,27.680000000000003,"616","48 pp.",{"$f":"Table1[[#This Row],['# of Books]]*Table1[[#This Row],[QTY]]","v":0},{"$f":"Table1[[#This Row],[QTY]]*Table1[[#This Row],[School & Library Price]]","v":0}]
[null,106,null,null,"Biography","Innovators","Helen Greiner: Cofounder of iRobot Corporation","978-0-7377-4404-0","KidHaven Publishing","Library Bound Book",1,2009,null,"Library Bound","6.000 X 9.000","Author","Mary Schulte",null,null,null,null,null,null,"Years 9 - 13",null,"Grade 4 - 8",null,"English",34.6,27.680000000000003,"629","48 pp.",{"$f":"Table1[[#This Row],['# of Books]]*Table1[[#This Row],[QTY]]","v":0},{"$f":"Table1[[#This Row],[QTY]]*Table1[[#This Row],[School & Library Price]]","v":0}]
[null,106,null,null,"Biography","Innovators","John Lasseter: Pixar Animator","978-0-7377-4080-6","KidHaven Publishing","Library Bound Book",1,2009,null,"Library Bound","6.000 X 9.000","Author","Adam Woog",null,null,null,null,null,null,"Years 9 - 13",null,"Grade 4 - 8",null,"English",34.6,27.680000000000003,"741","48 pp.",{"$f":"Table1[[#This Row],['# of Books]]*Table1[[#This Row],[QTY]]","v":0},{"$f":"Table1[[#This Row],[QTY]]*Table1[[#This Row],[School & Library Price]]","v":0}]
[null,106,null,null,"Biography","Innovators","Jonathan Ive: Designer of the iPod","978-0-7377-5481-0","KidHaven Publishing","eBook",1,2007,null,"eBook",null,"Author","Kris Hirschmann",null,null,null,null,null,null,"Years 9 - 13",null,"Grade 4 - 8","Explores the life and achievements of Jonathan Ive, Covers his childhood, education, and career with Apple Computer, Inc., and his success designing the iPod. The short biographies in this series portray current leaders in a range of fields, including science, technology, entertainment and business. These creative role models offer meaningful lessons in the real-world importance of imagination and persistence.","English",38.06,38.06,"745.2092","48 pp.",{"$f":"Table1[[#This Row],['# of Books]]*Table1[[#This Row],[QTY]]","v":0},{"$f":"Table1[[#This Row],[QTY]]*Table1[[#This Row],[School & Library Price]]","v":0}]
[null,106,null,null,"Biography","Innovators","Ken Kutaragi: PlayStation Developer","978-0-7377-5482-7","KidHaven Publishing","eBook",1,2008,null,"eBook",null,"Author","Katy Duffield",null,null,null,null,null,null,"Years 9 - 13",null,"Grade 4 - 8","Details the life and career of Ken Kutaragi, including his early years at Sony in the 1980s, his decision to develop the gaming console PlayStation, and the future of the gaming console. The short biographies in this series portray current leaders in a range of fields, including science, technology, entertainment and business. These creative role models offer meaningful lessons in the real-world importance of imagination and persistence.","English",38.06,38.06,"621.39092","48 pp.",{"$f":"Table1[[#This Row],['# of Books]]*Table1[[#This Row],[QTY]]","v":0},{"$f":"Table1[[#This Row],[QTY]]*Table1[[#This Row],[School & Library Price]]","v":0}]
[null,106,null,null,"Biography","Innovators","Larry Page and Sergey Brin: The Google Guys","978-0-7377-5483-4","KidHaven Publishing","eBook",1,2008,null,"eBook",null,"Author","Gail B. Stewart",null,null,null,null,null,null,"Years 9 - 13",null,"Grade 4 - 8","Details the life and careers of Sergey Brin and Larry Page, founders of Google, an internet search site created in the late 1990s. Covers the power of creativity, friendship, and hard work they achieved to enable people to have easy access to all information on the Web. The short biographies in this series portray current leaders in a range of fields, including science, technology, entertainment and business. These creative role models offer meaningful lessons in the real-world importance of imagination and persistence.","English",38.06,38.06,"005.1092","48 pp.",{"$f":"Table1[[#This Row],['# of Books]]*Table1[[#This Row],[QTY]]","v":0},{"$f":"Table1[[#This Row],[QTY]]*Table1[[#This Row],[School & Library Price]]","v":0}]
[null,106,null,null,"Biography","Innovators","Mark Zuckerberg: Facebook Creator","978-0-7377-5484-1","KidHaven Publishing","eBook",1,2009,null,"eBook",null,"Author","Adam Wong",null,null,null,null,null,null,"Years 9 - 13",null,"Grade 4 - 8","Explores the life and achievements of Mark Zuckerberg, the creator of an internet website called Facebook, a \"social-networking\" tool. The short biographies in this series portray current leaders in a range of fields, including science, technology, entertainment and business. These creative role models offer meaningful lessons in the real-world importance of imagination and persistence.","English",38.06,38.06,"006.7","48 pp.",{"$f":"Table1[[#This Row],['# of Books]]*Table1[[#This Row],[QTY]]","v":0},{"$f":"Table1[[#This Row],[QTY]]*Table1[[#This Row],[School & Library Price]]","v":0}]
[null,106,null,null,"Biography","Innovators","Miles Davis: Legendary Jazz Musician","978-0-7377-6072-9","KidHaven Publishing","eBook",1,2010,null,"eBook",null,"Author","Rachel Lynette",null,null,null,null,null,null,"Years 9 - 13",null,"Grade 4 - 8",null,"English",38.06,38.06,"788.9","48 pp.",{"$f":"Table1[[#This Row],['# of Books]]*Table1[[#This Row],[QTY]]","v":0},{"$f":"Table1[[#This Row],[QTY]]*Table1[[#This Row],[School & Library Price]]","v":0}]
[null,106,null,null,"Biography","Innovators","Miles Davis: Legendary Jazz Musician","978-0-7377-5034-8","KidHaven Publishing","Library Bound Book",1,2010,null,"Library Bound","6.000 X 9.000","Author","Rachel Lynette",null,null,null,null,null,null,"Years 9 - 13",null,"Grade 4 - 8",null,"English",34.6,27.680000000000003,"780","48 pp.",{"$f":"Table1[[#This Row],['# of Books]]*Table1[[#This Row],[QTY]]","v":0},{"$f":"Table1[[#This Row],[QTY]]*Table1[[#This Row],[School & Library Price]]","v":0}]
[null,106,null,null,"Biography","Innovators","Pierre M. Omidyar: Creator of Ebay","978-0-7377-3864-3","KidHaven Publishing","Library Bound Book",1,2008,null,"Library Bound","6.000 X 9.000","Author","Adam Woog",null,null,null,null,null,null,"Years 9 - 13",null,"Grade 4 - 8",null,"English",34.6,27.680000000000003,"381","48 pp.",{"$f":"Table1[[#This Row],['# of Books]]*Table1[[#This Row],[QTY]]","v":0},{"$f":"Table1[[#This Row],[QTY]]*Table1[[#This Row],[School & Library Price]]","v":0}]
[null,106,null,null,"Biography","Innovators","Richard Branson: Virgin Megabrand Mogul","978-0-7377-6026-2","KidHaven Publishing","eBook",1,2011,null,"eBook",null,"Author","Shirley Raye Redmond",null,null,null,null,null,null,"Years 9 - 13",null,"Grade 4 - 8",null,"English",38.06,38.06,"338.04092","48 pp.",{"$f":"Table1[[#This Row],['# of Books]]*Table1[[#This Row],[QTY]]","v":0},{"$f":"Table1[[#This Row],[QTY]]*Table1[[#This Row],[School & Library Price]]","v":0}]
[null,106,null,null,"Biography","Innovators","Richard Branson: Virgin Megabrand Mogul","978-0-7377-5536-7","KidHaven Publishing","Library Bound Book",1,2011,null,"Library Bound","6.000 X 9.000","Author","Shirley Raye Redmond",null,null,null,null,null,null,"Years 9 - 13",null,"Grade 4 - 8",null,"English",34.6,27.680000000000003,"338","48 pp.",{"$f":"Table1[[#This Row],['# of Books]]*Table1[[#This Row],[QTY]]","v":0},{"$f":"Table1[[#This Row],[QTY]]*Table1[[#This Row],[School & Library Price]]","v":0}]
[null,106,null,null,"Biography","Innovators","Satoshi Tajiri: Pokemon Creator","978-0-7377-5485-8","KidHaven Publishing","eBook",1,2009,null,"eBook",null,"Author","Lori Mortensen",null,null,null,null,null,null,"Years 9 - 13",null,"Grade 4 - 8","This title examines the life of electronic game designer, Satoshi Tajiri, who created Pokémon, one of the most popular computer games ever produced. Upper elementary and middle school students will enjoy reading about the people who are responsible for marvels like the iPod, Google, \"Toy Story\", Nintendo's Mario and much more. The short biographies portray current leaders in a range of fields, including science, technology, entertainment and business. These creative role models offer meaningful lessons in the real-world importance of imagination and persistence.","English",38.06,38.06,"338.7","48 pp.",{"$f":"Table1[[#This Row],['# of Books]]*Table1[[#This Row],[QTY]]","v":0},{"$f":"Table1[[#This Row],[QTY]]*Table1[[#This Row],[School & Library Price]]","v":0}]
[null,106,null,null,"Biography","Innovators","Shigeru Miyamoto: Nintendo Game Designer","978-0-7377-5486-5","KidHaven Publishing","eBook",1,2006,null,"eBook",null,"Author","Jan Burns",null,null,null,null,null,null,"Years 9 - 13",null,"Grade 4 - 8","This title examines the life of video game designer, Shigeru Miyamoto, who developed successful games like Donkey Kong and Nintendo. Upper elementary and middle school students will enjoy reading about the people who are responsible for marvels like the iPod, Google, \"Toy Story\", Nintendo's Mario and much more. The short biographies portray current leaders in a range of fields, including science, technology, entertainment and business. These creative role models offer meaningful lessons in the real-world importance of imagination and persistence.","English",38.06,38.06,"794.8","48 pp.",{"$f":"Table1[[#This Row],['# of Books]]*Table1[[#This Row],[QTY]]","v":0},{"$f":"Table1[[#This Row],[QTY]]*Table1[[#This Row],[School & Library Price]]","v":0}]
[null,106,null,null,"Biography","Innovators","Stephanie Kwolek: Creator of Kevlar","978-0-7377-4040-0","KidHaven Publishing","Library Bound Book",1,2009,null,"Library Bound","6.000 X 9.000","Author","Gail B. Stewart",null,null,null,null,null,null,"Years 9 - 13",null,"Grade 4 - 8",null,"English",34.6,27.680000000000003,"973","48 pp.",{"$f":"Table1[[#This Row],['# of Books]]*Table1[[#This Row],[QTY]]","v":0},{"$f":"Table1[[#This Row],[QTY]]*Table1[[#This Row],[School & Library Price]]","v":0}]
[null,106,null,null,"Biography","Innovators","Stephenie Meyer: Twilight Saga Author","978-0-7377-5066-9","KidHaven Publishing","Library Bound Book",1,2010,null,"Library Bound","6.000 X 9.000","Author","Barbara Sheen",null,null,null,null,null,null,"Years 9 - 13",null,"Grade 4 - 8",null,"English",34.6,27.680000000000003,"813","48 pp.",{"$f":"Table1[[#This Row],['# of Books]]*Table1[[#This Row],[QTY]]","v":0},{"$f":"Table1[[#This Row],[QTY]]*Table1[[#This Row],[School & Library Price]]","v":0}]
[null,106,null,null,"Biography","Innovators","The Beatles: British Pop Sensation","978-0-7377-6095-8","KidHaven Publishing","eBook",1,2011,null,"eBook",null,"Author","Stuart A. Kallen",null,null,null,null,null,null,"Years 9 - 13",null,"Grade 4 - 8",null,"English",38.06,38.06,"782.421660","48 pp.",{"$f":"Table1[[#This Row],['# of Books]]*Table1[[#This Row],[QTY]]","v":0},{"$f":"Table1[[#This Row],[QTY]]*Table1[[#This Row],[School & Library Price]]","v":0}]
[null,106,null,null,"Biography","Innovators","The Beatles: British Pop Sensation","978-0-7377-5868-9","KidHaven Publishing","Library Bound Book",1,2011,null,"Library Bound","6.000 X 9.000","Author","Stuart A. Kallen",null,null,null,null,null,null,"Years 9 - 13",null,"Grade 4 - 8",null,"English",34.6,27.680000000000003,"920","48 pp.",{"$f":"Table1[[#This Row],['# of Books]]*Table1[[#This Row],[QTY]]","v":0},{"$f":"Table1[[#This Row],[QTY]]*Table1[[#This Row],[School & Library Price]]","v":0}]
[null,107,null,null,"Biography","Young Heroes","Ana Dodson: Advocate for Peruvian Orphans","978-0-7377-3865-0","KidHaven Publishing","Library Bound Book",1,2008,null,"Library Bound","6.000 X 9.000","Author","Rachel Lynette",null,null,null,null,null,null,"Years 9 - 13",null,"Grade 4 - 8",null,"English",35.700000000000003,28.560000000000002,"362","48 pp.",{"$f":"Table1[[#This Row],['# of Books]]*Table1[[#This Row],[QTY]]","v":0},{"$f":"Table1[[#This Row],[QTY]]*Table1[[#This Row],[School & Library Price]]","v":0}]
[null,107,null,null,"Biography","Young Heroes","Brittany and Robbie Bergquist: Cell Phones for Soldiers","978-0-7377-3866-7","KidHaven Publishing","Library Bound Book",1,2008,null,"Library Bound","6.000 X 9.000","Author","Leanne K. Currie-McGhee",null,null,null,null,null,null,"Years 9 - 13",null,"Grade 4 - 8",null,"English",35.700000000000003,28.560000000000002,"355","48 pp.",{"$f":"Table1[[#This Row],['# of Books]]*Table1[[#This Row],[QTY]]","v":0},{"$f":"Table1[[#This Row],[QTY]]*Table1[[#This Row],[School & Library Price]]","v":0}]
[null,107,null,null,"Biography","Young Heroes","Given Kachepa: Advocate for Human Traffickiing Victims","978-0-7377-3668-7","KidHaven Publishing","Library Bound Book",1,2007,null,"Library Bound","6.000 X 9.000","Author","Q. L. Pearce",null,null,null,null,null,null,"Years 9 - 13",null,"Grade 4 - 8",null,"English",35.700000000000003,28.560000000000002,"B","48 pp.",{"$f":"Table1[[#This Row],['# of Books]]*Table1[[#This Row],[QTY]]","v":0},{"$f":"Table1[[#This Row],[QTY]]*Table1[[#This Row],[School & Library Price]]","v":0}]
[null,107,null,null,"Biography","Young Heroes","Hannah Taylor: Helping The Homeless","978-0-7377-4051-6","KidHaven Publishing","Library Bound Book",1,2008,null,"Library Bound","6.000 X 9.000","Author","Q. L. Pearce",null,null,null,null,null,null,"Years 9 - 13",null,"Grade 4 - 8",null,"English",35.700000000000003,28.560000000000002,"362","48 pp.",{"$f":"Table1[[#This Row],['# of Books]]*Table1[[#This Row],[QTY]]","v":0},{"$f":"Table1[[#This Row],[QTY]]*Table1[[#This Row],[School & Library Price]]","v":0}]
[null,107,null,null,"Biography","Young Heroes","Jhalak Man Tamang: Slave Labor Whistleblower","978-0-7377-3616-8","KidHaven Publishing","Library Bound Book",1,2007,null,"Library Bound","6.000 X 9.000","Author","Raymond H. Miller",null,null,null,null,null,null,"Years 9 - 13",null,"Grade 4 - 8",null,"English",35.700000000000003,28.560000000000002,"B","48 pp.",{"$f":"Table1[[#This Row],['# of Books]]*Table1[[#This Row],[QTY]]","v":0},{"$f":"Table1[[#This Row],[QTY]]*Table1[[#This Row],[School & Library Price]]","v":0}]
[null,107,null,null,"Biography","Young Heroes","Julia Butterfly Hill: Saving the Ancient Redwoods","978-0-7377-3628-1","KidHaven Publishing","Library Bound Book",1,2007,null,"Library Bound","6.000 X 9.000","Author","Rachel Lynette",null,null,null,null,null,null,"Years 9 - 13",null,"Grade 4 - 8",null,"English",35.700000000000003,28.560000000000002,"B","48 pp.",{"$f":"Table1[[#This Row],['# of Books]]*Table1[[#This Row],[QTY]]","v":0},{"$f":"Table1[[#This Row],[QTY]]*Table1[[#This Row],[School & Library Price]]","v":0}]
[null,107,null,null,"Biography","Young Heroes","Jyotirmayee Mohapatra: Advocate for India's Young Women","978-0-7377-3611-3","KidHaven Publishing","Library Bound Book",1,2007,null,"Library Bound","6.000 X 9.000","Author","Adam Woog",null,null,null,null,null,null,"Years 9 - 13",null,"Grade 4 - 8","Growing up in her village in India, Jyotirmayee Mohapatra witnessed the serious problems that children, especially girls, face there. As a teen, she organized the Meena Club to draw attention to and attack these problems. India now boasts over 300 Meena Clubs, and in 2004 Jyoti received the prestigious Youth Action Network award.","English",35.700000000000003,28.560000000000002,"B","48 pp.",{"$f":"Table1[[#This Row],['# of Books]]*Table1[[#This Row],[QTY]]","v":0},{"$f":"Table1[[#This Row],[QTY]]*Table1[[#This Row],[School & Library Price]]","v":0}]
[null,107,null,null,"Biography","Young Heroes","Matt Dalio: China Care Founder","978-0-7377-3670-0","KidHaven Publishing","Library Bound Book",1,2007,null,"Library Bound","6.000 X 9.000","Author","Michael V. Uschan",null,null,null,null,null,null,"Years 9 - 13",null,"Grade 4 - 8",null,"English",35.700000000000003,28.560000000000002,"B","48 pp.",{"$f":"Table1[[#This Row],['# of Books]]*Table1[[#This Row],[QTY]]","v":0},{"$f":"Table1[[#This Row],[QTY]]*Table1[[#This Row],[School & Library Price]]","v":0}]
[null,107,null,null,"Biography","Young Heroes","Mattie Stepanek: Inspirational Poet","978-0-7377-3637-3","KidHaven Publishing","Library Bound Book",1,2008,null,"Library Bound","6.000 X 9.000","Author","Leanne K. Currie-McGhee",null,null,null,null,null,null,"Years 9 - 13",null,"Grade 4 - 8",null,"English",35.700000000000003,28.560000000000002,"811","48 pp.",{"$f":"Table1[[#This Row],['# of Books]]*Table1[[#This Row],[QTY]]","v":0},{"$f":"Table1[[#This Row],[QTY]]*Table1[[#This Row],[School & Library Price]]","v":0}]
[null,108,null,null,"Multicultural","A Taste of Culture","Foods of Afghanistan","978-0-7377-5420-9","KidHaven Publishing","Library Bound Book",1,2011,null,"Library Bound","7.000 X 9.000","Author","Barbara Sheen",null,null,null,null,null,null,"Years 8 - 11",null,"Grade 3 - 6",null,"English",35.200000000000003,28.160000000000004,"641","64 pp.",{"$f":"Table1[[#This Row],['# of Books]]*Table1[[#This Row],[QTY]]","v":0},{"$f":"Table1[[#This Row],[QTY]]*Table1[[#This Row],[School & Library Price]]","v":0}]
[null,108,null,null,"Multicultural","A Taste of Culture","Foods of Afghanistan","978-0-7377-5944-0","KidHaven Publishing","eBook",1,2011,null,"eBook",null,"Author","Barbara Sheen",null,null,null,null,null,null,"Years 8 - 11",null,"Grade 3 - 6",null,"English",38.72,38.72,"641.59581","64 pp.",{"$f":"Table1[[#This Row],['# of Books]]*Table1[[#This Row],[QTY]]","v":0},{"$f":"Table1[[#This Row],[QTY]]*Table1[[#This Row],[School & Library Price]]","v":0}]
[null,108,null,null,"Multicultural","A Taste of Culture","Foods of Australia","978-0-7377-4812-3","KidHaven Publishing","Library Bound Book",1,2010,null,"Library Bound","7.000 X 9.000","Author","Barbara Sheen",null,null,null,null,null,null,"Years 8 - 11",null,"Grade 3 - 6","One of the most enjoyable ways to learn about other cultures is through their food. This book takes us to Australia, where the daily fare features beef, lamb, veal, and sausage BBQ and unique varieties of sandwiches. The tradition of drinking tea with biscuits and scones is discussed, as well as popular national treats such as Tim-Tam and ANZAC biscuits, Lamington cakes, and the elegant meringue dessert Pavlova, which some say was invented in Australia.","English",35.200000000000003,28.160000000000004,"641","64 pp.",{"$f":"Table1[[#This Row],['# of Books]]*Table1[[#This Row],[QTY]]","v":0},{"$f":"Table1[[#This Row],[QTY]]*Table1[[#This Row],[School & Library Price]]","v":0}]
[null,108,null,null,"Multicultural","A Taste of Culture","Foods of Australia","978-0-7377-5506-0","KidHaven Publishing","eBook",1,2010,null,"eBook",null,"Author","Barbara Sheen",null,null,null,null,null,null,"Years 8 - 11",null,"Grade 3 - 6","Explores the foods, cooking traditions, customs, eating habits, and food sources of Australia.  Studying world cultures has never tasted so good! A delectable blend of geography, history, health, daily life, celebrations and customs. A Taste of Culture offers a rich array of culinary and cultural elements. Specifically prepared for upper-elementary and lower-middle school students, each volume in this series introduces a country and its culture by way of its foods, cooking traditions, recipes, customs, eating habits and food sources.","English",38.72,38.72,"641.5994","64 pp.",{"$f":"Table1[[#This Row],['# of Books]]*Table1[[#This Row],[QTY]]","v":0},{"$f":"Table1[[#This Row],[QTY]]*Table1[[#This Row],[School & Library Price]]","v":0}]
[null,108,null,null,"Multicultural","A Taste of Culture","Foods of Brazil","978-0-7377-5507-7","KidHaven Publishing","eBook",1,2008,null,"eBook",null,"Author","Barbara Sheen",null,null,null,null,null,null,"Years 8 - 11",null,"Grade 3 - 6","Explores the foods, cooking traditions, customs, eating habits, and food sources of Brazil.  Studying world cultures has never tasted so good! A delectable blend of geography, history, health, daily life, celebrations and customs. A Taste of Culture offers a rich array of culinary and cultural elements. Specifically prepared for upper-elementary and lower-middle school students, each volume in this series introduces a country and its culture by way of its foods, cooking traditions, recipes, customs, eating habits and food sources.","English",38.72,38.72,"641.5981","64 pp.",{"$f":"Table1[[#This Row],['# of Books]]*Table1[[#This Row],[QTY]]","v":0},{"$f":"Table1[[#This Row],[QTY]]*Table1[[#This Row],[School & Library Price]]","v":0}]
[null,108,null,null,"Multicultural","A Taste of Culture","Foods of Canada","978-0-7377-5947-1","KidHaven Publishing","Library Bound Book",1,2012,null,"Library Bound","7.000 X 9.000","Author","Barbara Sheen",null,null,null,null,null,null,"Years 8 - 11",null,"Grade 3 - 6","Author Barbara Sheen examines the historical and cultural forces behind Canada's diverse culinary tradition, including contributions from Canada's First Nations, French, and British background. Key ingredients include fish and seafood, meat, bread, hearty soups and chowders. Canada produces 85 percent of the world's maple syrup; how the syrup is gathered from maple trees and prepared in sugar shacks is explored. Feasts for Canadian Thanksgiving and Christmas celebrations are explained. Sidebars feature engaging country information as well as a number of recipes with easy-to-follow directions.","English",35.200000000000003,28.160000000000004,"641.5971","64 pp.",{"$f":"Table1[[#This Row],['# of Books]]*Table1[[#This Row],[QTY]]","v":0},{"$f":"Table1[[#This Row],[QTY]]*Table1[[#This Row],[School & Library Price]]","v":0}]
[null,108,null,null,"Multicultural","A Taste of Culture","Foods of Canada","978-0-7377-6485-7","KidHaven Publishing","eBook",1,2012,null,"eBook",null,"Author","Barbara Sheen",null,null,null,null,null,null,"Years 8 - 11",null,"Grade 3 - 6","Author Barbara Sheen examines the historical and cultural forces behind Canada’s diverse culinary tradition, including contributions from Canada’s First Nations, French, and British background. Key ingredients include fish and seafood, meat, bread, hearty soups and chowders. Canada produces 85 percent of the world’s maple syrup; how the syrup is gathered from maple trees and prepared in sugar shacks is explored. Feasts for Canadian Thanksgiving and Christmas celebrations are explained. Sidebars feature engaging country information as well as a number of recipes with easy-to-follow directions.","English",38.72,38.72,"641.5971","64 pp.",{"$f":"Table1[[#This Row],['# of Books]]*Table1[[#This Row],[QTY]]","v":0},{"$f":"Table1[[#This Row],[QTY]]*Table1[[#This Row],[School & Library Price]]","v":0}]
[null,108,null,null,"Multicultural","A Taste of Culture","Foods of Chile","978-0-7377-5421-6","KidHaven Publishing","Library Bound Book",1,2011,null,"Library Bound","7.000 X 9.000","Author","Barbara Sheen",null,null,null,null,null,null,"Years 8 - 11",null,"Grade 3 - 6",null,"English",35.200000000000003,28.160000000000004,"641","64 pp.",{"$f":"Table1[[#This Row],['# of Books]]*Table1[[#This Row],[QTY]]","v":0},{"$f":"Table1[[#This Row],[QTY]]*Table1[[#This Row],[School & Library Price]]","v":0}]
[null,108,null,null,"Multicultural","A Taste of Culture","Foods of Chile","978-0-7377-5914-3","KidHaven Publishing","eBook",1,2011,null,"eBook",null,"Author","Barbara Sheen",null,null,null,null,null,null,"Years 8 - 11",null,"Grade 3 - 6",null,"English",38.72,38.72,"641.5983","64 pp.",{"$f":"Table1[[#This Row],['# of Books]]*Table1[[#This Row],[QTY]]","v":0},{"$f":"Table1[[#This Row],[QTY]]*Table1[[#This Row],[School & Library Price]]","v":0}]
[null,108,null,null,"Multicultural","A Taste of Culture","Foods of China","978-0-7377-3031-9","KidHaven Publishing","Library Bound Book",1,2006,null,"Library Bound","7.000 X 9.000","Author","Barbara Sheen",null,null,null,null,null,null,"Years 8 - 11",null,"Grade 3 - 6","Take a delicious trip to a fascinating and ancient country where food is woven into every aspect of life. This book takes the reader on an entertaining, enlightening, and edible tour of China. Through a look at Chinese foods, the reader learns about Chinese culture, history, geography, and folklore, all in a hands-on, fun-filled way.","English",35.200000000000003,28.160000000000004,"394.1","64 pp.",{"$f":"Table1[[#This Row],['# of Books]]*Table1[[#This Row],[QTY]]","v":0},{"$f":"Table1[[#This Row],[QTY]]*Table1[[#This Row],[School & Library Price]]","v":0}]
[null,108,null,null,"Multicultural","A Taste of Culture","Foods of Colombia","978-0-7377-5948-8","KidHaven Publishing","Library Bound Book",1,2012,null,"Library Bound","7.000 X 9.000","Author","Barbara Sheen",null,null,null,null,null,null,"Years 8 - 11",null,"Grade 3 - 6","Author Barbara Sheen examines the cuisine of Colombia and its relationship to the culture of the country. Everyday favorite foods are described as well as dishes that are prepared for special occasions. Sidebars feature engaging country information as well as a number of recipes with easy-to-follow directions.","English",35.200000000000003,28.160000000000004,"641.5","64 pp.",{"$f":"Table1[[#This Row],['# of Books]]*Table1[[#This Row],[QTY]]","v":0},{"$f":"Table1[[#This Row],[QTY]]*Table1[[#This Row],[School & Library Price]]","v":0}]
[null,108,null,null,"Multicultural","A Taste of Culture","Foods of Colombia","978-0-7377-6519-9","KidHaven Publishing","eBook",1,2012,null,"eBook",null,"Author","Barbara Sheen",null,null,null,null,null,null,"Years 8 - 11",null,"Grade 3 - 6",null,"English",38.72,38.72,"641.59861","64 pp.",{"$f":"Table1[[#This Row],['# of Books]]*Table1[[#This Row],[QTY]]","v":0},{"$f":"Table1[[#This Row],[QTY]]*Table1[[#This Row],[School & Library Price]]","v":0}]
[null,108,null,null,"Multicultural","A Taste of Culture","Foods of Cuba","978-0-7377-5113-0","KidHaven Publishing","Library Bound Book",1,2011,null,"Library Bound","7.000 X 9.000","Author","Barbara Sheen",null,null,null,null,null,null,"Years 8 - 11",null,"Grade 3 - 6",null,"English",35.200000000000003,28.160000000000004,"641","64 pp.",{"$f":"Table1[[#This Row],['# of Books]]*Table1[[#This Row],[QTY]]","v":0},{"$f":"Table1[[#This Row],[QTY]]*Table1[[#This Row],[School & Library Price]]","v":0}]
[null,108,null,null,"Multicultural","A Taste of Culture","Foods of Cuba","978-0-7377-5854-2","KidHaven Publishing","eBook",1,2011,null,"eBook",null,"Author","Barbara Sheen",null,null,null,null,null,null,"Years 8 - 11",null,"Grade 3 - 6",null,"English",38.72,38.72,"641.597291","64 pp.",{"$f":"Table1[[#This Row],['# of Books]]*Table1[[#This Row],[QTY]]","v":0},{"$f":"Table1[[#This Row],[QTY]]*Table1[[#This Row],[School & Library Price]]","v":0}]
[null,108,null,null,"Multicultural","A Taste of Culture","Foods of Egypt","978-0-7377-4843-7","KidHaven Publishing","Library Bound Book",1,2010,null,"Library Bound","7.000 X 9.000","Author","Barbara Sheen",null,null,null,null,null,null,"Years 8 - 11",null,"Grade 3 - 6","One of the most enjoyable ways to learn about other cultures is through their food. This book takes us to Egypt, where the daily fare includes koshari, taamiya or falafel, and skewered dishes like kebabs, kofta, and shawarma. The national dishes ful (a creamy bean dish) and moloukheyah (a green soup) are described, as well as the special Kahk cookies made to commemorate Ramadan. Simple and delicious recipes are provided for hummus, lentil soup, ful medames, stuffed dates, and basboosa.","English",35.200000000000003,28.160000000000004,"641","64 pp.",{"$f":"Table1[[#This Row],['# of Books]]*Table1[[#This Row],[QTY]]","v":0},{"$f":"Table1[[#This Row],[QTY]]*Table1[[#This Row],[School & Library Price]]","v":0}]
[null,108,null,null,"Multicultural","A Taste of Culture","Foods of Egypt","978-0-7377-5508-4","KidHaven Publishing","eBook",1,2010,null,"eBook",null,"Author","Barbara Sheen",null,null,null,null,null,null,"Years 8 - 11",null,"Grade 3 - 6","Explores the foods, cooking traditions, customs, eating habits, and food sources of Egypt.  Studying world cultures has never tasted so good! A delectable blend of geography, history, health, daily life, celebrations and customs. A Taste of Culture offers a rich array of culinary and cultural elements. Specifically prepared for upper-elementary and lower-middle school students, each volume in this series introduces a country and its culture by way of its foods, cooking traditions, recipes, customs, eating habits and food sources.","English",38.72,38.72,"641.5962","64 pp.",{"$f":"Table1[[#This Row],['# of Books]]*Table1[[#This Row],[QTY]]","v":0},{"$f":"Table1[[#This Row],[QTY]]*Table1[[#This Row],[School & Library Price]]","v":0}]
[null,108,null,null,"Multicultural","A Taste of Culture","Foods of England","978-0-7377-5881-8","KidHaven Publishing","Library Bound Book",1,2011,null,"Library Bound","7.000 X 9.000","Author","Barbara Sheen",null,null,null,null,null,null,"Years 8 - 11",null,"Grade 3 - 6",null,"English",35.200000000000003,28.160000000000004,"641","64 pp.",{"$f":"Table1[[#This Row],['# of Books]]*Table1[[#This Row],[QTY]]","v":0},{"$f":"Table1[[#This Row],[QTY]]*Table1[[#This Row],[School & Library Price]]","v":0}]
[null,108,null,null,"Multicultural","A Taste of Culture","Foods of England","978-0-7377-6094-1","KidHaven Publishing","eBook",1,2011,null,"eBook",null,"Author","Barbara Sheen",null,null,null,null,null,null,"Years 8 - 11",null,"Grade 3 - 6",null,"English",38.72,38.72,"394.1","64 pp.",{"$f":"Table1[[#This Row],['# of Books]]*Table1[[#This Row],[QTY]]","v":0},{"$f":"Table1[[#This Row],[QTY]]*Table1[[#This Row],[School & Library Price]]","v":0}]
[null,108,null,null,"Multicultural","A Taste of Culture","Foods of Ethiopia","978-0-7377-5509-1","KidHaven Publishing","eBook",1,2008,null,"eBook",null,"Author","Barbara Sheen",null,null,null,null,null,null,"Years 8 - 11",null,"Grade 3 - 6","Studying world cultures has never tasted so good! A delectable blend of geography, history, health, daily life, celebrations and customs. A Taste of Culture offers a rich array of culinary and cultural elements. Specifically prepared for upper-elementary and lower-middle school students, each volume in this series introduces a country and its culture by way of its foods, cooking traditions, recipes, customs, eating habits and food sources.","English",38.72,38.72,"641.5963","64 pp.",{"$f":"Table1[[#This Row],['# of Books]]*Table1[[#This Row],[QTY]]","v":0},{"$f":"Table1[[#This Row],[QTY]]*Table1[[#This Row],[School & Library Price]]","v":0}]
[null,108,null,null,"Multicultural","A Taste of Culture","Foods of France","978-0-7377-3032-6","KidHaven Publishing","Library Bound Book",1,2005,null,"Library Bound","7.000 X 9.000","Author","Peggy J. Parks",null,null,null,null,null,null,"Years 8 - 11",null,"Grade 3 - 6","As young readers will discover, the experience of shopping for fresh and natural food, preparing it, and sharing a good meal with family and friends are all integral to French culture. In telling the story of French food, this book includes ways it is prepared, some well-known main dishes, mouthwatering desserts, foods for celebrations and other key topics.","English",35.200000000000003,28.160000000000004,"394.1","64 pp.",{"$f":"Table1[[#This Row],['# of Books]]*Table1[[#This Row],[QTY]]","v":0},{"$f":"Table1[[#This Row],[QTY]]*Table1[[#This Row],[School & Library Price]]","v":0}]
[null,108,null,null,"Multicultural","A Taste of Culture","Foods of Germany","978-0-7377-5510-7","KidHaven Publishing","eBook",1,2007,null,"eBook",null,"Author","Barbara Sheen",null,null,null,null,null,null,"Years 8 - 11",null,"Grade 3 - 6","Explores the foods, cooking traditions, customs, eating habits, and food sources of Germany.  Studying world cultures has never tasted so good! A delectable blend of geography, history, health, daily life, celebrations and customs. A Taste of Culture offers a rich array of culinary and cultural elements. Specifically prepared for upper-elementary and lower-middle school students, each volume in this series introduces a country and its culture by way of its foods, cooking traditions, recipes, customs, eating habits and food sources.","English",38.72,38.72,"641.5","64 pp.",{"$f":"Table1[[#This Row],['# of Books]]*Table1[[#This Row],[QTY]]","v":0},{"$f":"Table1[[#This Row],[QTY]]*Table1[[#This Row],[School & Library Price]]","v":0}]
[null,108,null,null,"Multicultural","A Taste of Culture","Foods of Ghana","978-0-7377-5949-5","KidHaven Publishing","Library Bound Book",1,2012,null,"Library Bound","7.000 X 9.000","Author","Barbara Sheen",null,null,null,null,null,null,"Years 8 - 11",null,"Grade 3 - 6","Author Barbara Sheen examines the cuisine of Ghana and examines its relationship to the culture of the country. Everyday favorite foods are described as well as dishes that are prepared for special occasions. Sidebars feature engaging country information as well as a number of recipes with easy-to-follow directions.","English",35.200000000000003,28.160000000000004,"641.5","64 pp.",{"$f":"Table1[[#This Row],['# of Books]]*Table1[[#This Row],[QTY]]","v":0},{"$f":"Table1[[#This Row],[QTY]]*Table1[[#This Row],[School & Library Price]]","v":0}]
[null,108,null,null,"Multicultural","A Taste of Culture","Foods of Ghana","978-0-7377-6520-5","KidHaven Publishing","eBook",1,2012,null,"eBook",null,"Author","Barbara Sheen",null,null,null,null,null,null,"Years 8 - 11",null,"Grade 3 - 6",null,"English",38.72,38.72,"641.59667","64 pp.",{"$f":"Table1[[#This Row],['# of Books]]*Table1[[#This Row],[QTY]]","v":0},{"$f":"Table1[[#This Row],[QTY]]*Table1[[#This Row],[School & Library Price]]","v":0}]
[null,108,null,null,"Multicultural","A Taste of Culture","Foods of Greece","978-0-7377-3033-3","KidHaven Publishing","Library Bound Book",1,2005,null,"Library Bound","7.000 X 9.000","Author","Barbara Sheen",null,null,null,null,null,null,"Years 8 - 11",null,"Grade 3 - 6","Written in appealing, fact-filled prose, this resource explores the ways that Greece's landscape, geography, history, folklore and traditions are all tied to its food. Kid friendly recipes add to the hands-on appeal and are just one of the many features of this colorful, cultural study of Greek cuisine.","English",35.200000000000003,28.160000000000004,"394.1","64 pp.",{"$f":"Table1[[#This Row],['# of Books]]*Table1[[#This Row],[QTY]]","v":0},{"$f":"Table1[[#This Row],[QTY]]*Table1[[#This Row],[School & Library Price]]","v":0}]
[null,108,null,null,"Multicultural","A Taste of Culture","Foods of Iceland","978-0-7377-6037-8","KidHaven Publishing","eBook",1,2011,null,"eBook",null,"Author","Barbara Sheen",null,null,null,null,null,null,"Years 8 - 11",null,"Grade 3 - 6",null,"English",38.72,38.72,"641.59417","64 pp.",{"$f":"Table1[[#This Row],['# of Books]]*Table1[[#This Row],[QTY]]","v":0},{"$f":"Table1[[#This Row],[QTY]]*Table1[[#This Row],[School & Library Price]]","v":0}]
[null,108,null,null,"Multicultural","A Taste of Culture","Foods of India","978-0-7377-3553-6","KidHaven Publishing","Library Bound Book",1,2007,null,"Library Bound","7.000 X 9.000","Author","Barbara Sheen",null,null,null,null,null,null,"Years 8 - 11",null,"Grade 3 - 6",null,"English",35.200000000000003,28.160000000000004,"641.5954","64 pp.",{"$f":"Table1[[#This Row],['# of Books]]*Table1[[#This Row],[QTY]]","v":0},{"$f":"Table1[[#This Row],[QTY]]*Table1[[#This Row],[School & Library Price]]","v":0}]
[null,108,null,null,"Multicultural","A Taste of Culture","Foods of India","978-0-7377-5511-4","KidHaven Publishing","eBook",1,2007,null,"eBook",null,"Author","Barbara Sheen",null,null,null,null,null,null,"Years 8 - 11",null,"Grade 3 - 6","Explores the foods, cooking traditions, customs, eating habits, and food sources of India.  Explores the foods, cooking traditions, customs, eating habits, and food sources of India. Studying world cultures has never tasted so good! A delectable blend of geography, history, health, daily life, celebrations and customs. A Taste of Culture offers a rich array of culinary and cultural elements. Specifically prepared for upper-elementary and lower-middle school students, each volume in this series introduces a country and its culture by way of its foods, cooking traditions, recipes, customs, eating habits and food sources.","English",38.72,38.72,"641.5954","64 pp.",{"$f":"Table1[[#This Row],['# of Books]]*Table1[[#This Row],[QTY]]","v":0},{"$f":"Table1[[#This Row],[QTY]]*Table1[[#This Row],[School & Library Price]]","v":0}]
[null,108,null,null,"Multicultural","A Taste of Culture","Foods of Indonesia","978-0-7377-5950-1","KidHaven Publishing","Library Bound Book",1,2012,null,"Library Bound","7.000 X 9.000","Author","Barbara Sheen",null,null,null,null,null,null,"Years 8 - 11",null,"Grade 3 - 6","Author Barbara Sheen examines Indonesia's culinary tradition. Key ingredients, curry-based classics, and feasts for Ramadan and other special occasions are explored, as well as the spices, chili peppers, rice, fish, seafood, and vegetables that serve as the backbone of Indonesian cooking. The author describes how the popular condiment sambal is made, as well as favorite dishes like nasi goring, gado gado, sate, and rending. Popular snacks such as Bakso, Onde-onde, and serabi are described. Sidebars feature engaging country information as well as a number of recipes with easy-to-follow directions.","English",35.200000000000003,28.160000000000004,"641.5","64 pp.",{"$f":"Table1[[#This Row],['# of Books]]*Table1[[#This Row],[QTY]]","v":0},{"$f":"Table1[[#This Row],[QTY]]*Table1[[#This Row],[School & Library Price]]","v":0}]
[null,108,null,null,"Multicultural","A Taste of Culture","Foods of Indonesia","978-0-7377-6501-4","KidHaven Publishing","eBook",1,2012,null,"eBook",null,"Author","Barbara Sheen",null,null,null,null,null,null,"Years 8 - 11",null,"Grade 3 - 6",null,"English",38.72,38.72,"641.59598","64 pp.",{"$f":"Table1[[#This Row],['# of Books]]*Table1[[#This Row],[QTY]]","v":0},{"$f":"Table1[[#This Row],[QTY]]*Table1[[#This Row],[School & Library Price]]","v":0}]
[null,108,null,null,"Multicultural","A Taste of Culture","Foods of Ireland","978-0-7377-5114-7","KidHaven Publishing","Library Bound Book",1,2011,null,"Library Bound","7.000 X 9.000","Author","Barbara Sheen",null,null,null,null,null,null,"Years 8 - 11",null,"Grade 3 - 6",null,"English",35.200000000000003,28.160000000000004,"641","64 pp.",{"$f":"Table1[[#This Row],['# of Books]]*Table1[[#This Row],[QTY]]","v":0},{"$f":"Table1[[#This Row],[QTY]]*Table1[[#This Row],[School & Library Price]]","v":0}]
[null,108,null,null,"Multicultural","A Taste of Culture","Foods of Ireland","978-0-7377-5535-0","KidHaven Publishing","eBook",1,2011,null,"eBook",null,"Author","Barbara Sheen",null,null,null,null,null,null,"Years 8 - 11",null,"Grade 3 - 6",null,"English",38.72,38.72,"641.59417","64 pp.",{"$f":"Table1[[#This Row],['# of Books]]*Table1[[#This Row],[QTY]]","v":0},{"$f":"Table1[[#This Row],[QTY]]*Table1[[#This Row],[School & Library Price]]","v":0}]
[null,108,null,null,"Multicultural","A Taste of Culture","Foods of Israel","978-0-7377-5882-5","KidHaven Publishing","Library Bound Book",1,2011,null,"Library Bound","7.000 X 9.000","Author","Barbara Sheen",null,null,null,null,null,null,"Years 8 - 11",null,"Grade 3 - 6",null,"English",35.200000000000003,28.160000000000004,"641","64 pp.",{"$f":"Table1[[#This Row],['# of Books]]*Table1[[#This Row],[QTY]]","v":0},{"$f":"Table1[[#This Row],[QTY]]*Table1[[#This Row],[School & Library Price]]","v":0}]
[null,108,null,null,"Multicultural","A Taste of Culture","Foods of Israel","978-0-7377-6126-9","KidHaven Publishing","eBook",1,2011,null,"eBook",null,"Author","Barbara Sheen",null,null,null,null,null,null,"Years 8 - 11",null,"Grade 3 - 6",null,"English",38.72,38.72,"641.595694","64 pp.",{"$f":"Table1[[#This Row],['# of Books]]*Table1[[#This Row],[QTY]]","v":0},{"$f":"Table1[[#This Row],[QTY]]*Table1[[#This Row],[School & Library Price]]","v":0}]
[null,108,null,null,"Multicultural","A Taste of Culture","Foods of Kenya","978-0-7377-4813-0","KidHaven Publishing","Library Bound Book",1,2010,null,"Library Bound","7.000 X 9.000","Author","Barbara Sheen",null,null,null,null,null,null,"Years 8 - 11",null,"Grade 3 - 6",null,"English",35.200000000000003,28.160000000000004,"641","64 pp.",{"$f":"Table1[[#This Row],['# of Books]]*Table1[[#This Row],[QTY]]","v":0},{"$f":"Table1[[#This Row],[QTY]]*Table1[[#This Row],[School & Library Price]]","v":0}]
[null,108,null,null,"Multicultural","A Taste of Culture","Foods of Kenya","978-0-7377-5512-1","KidHaven Publishing","eBook",1,2010,null,"eBook",null,"Author","Barbara Sheen",null,null,null,null,null,null,"Years 8 - 11",null,"Grade 3 - 6","Explores the foods, cooking traditions, customs, eating habits, and food sources of Kenya.  Studying world cultures has never tasted so good! A delectable blend of geography, history, health, daily life, celebrations and customs. A Taste of Culture offers a rich array of culinary and cultural elements. Specifically prepared for upper-elementary and lower-middle school students, each volume in this series introduces a country and its culture by way of its foods, cooking traditions, recipes, customs, eating habits and food sources.","English",38.72,38.72,"641.596762","64 pp.",{"$f":"Table1[[#This Row],['# of Books]]*Table1[[#This Row],[QTY]]","v":0},{"$f":"Table1[[#This Row],[QTY]]*Table1[[#This Row],[School & Library Price]]","v":0}]
[null,108,null,null,"Multicultural","A Taste of Culture","Foods of Korea","978-0-7377-5115-4","KidHaven Publishing","Library Bound Book",1,2011,null,"Library Bound","7.000 X 9.000","Author","Barbara Sheen",null,null,null,null,null,null,"Years 8 - 11",null,"Grade 3 - 6",null,"English",35.200000000000003,28.160000000000004,"641","64 pp.",{"$f":"Table1[[#This Row],['# of Books]]*Table1[[#This Row],[QTY]]","v":0},{"$f":"Table1[[#This Row],[QTY]]*Table1[[#This Row],[School & Library Price]]","v":0}]
[null,108,null,null,"Multicultural","A Taste of Culture","Foods of Korea","978-0-7377-5864-1","KidHaven Publishing","eBook",1,2011,null,"eBook",null,"Author","Barbara Sheen",null,null,null,null,null,null,"Years 8 - 11",null,"Grade 3 - 6","Explores the foods, cooking traditions, customs, eating habits, and food sources of Korea. Studying world cultures has never tasted so good! A delectable blend of geography, history, health, daily life, celebrations and customs. A Taste of Culture offers a rich array of culinary and cultural elements. Specifically prepared for upper-elementary and lower-middle school students, each volume in this series introduces a country and its culture by way of its foods, cooking traditions, recipes, customs, eating habits and food sources.","English",38.72,38.72,"641.59519","64 pp.",{"$f":"Table1[[#This Row],['# of Books]]*Table1[[#This Row],[QTY]]","v":0},{"$f":"Table1[[#This Row],[QTY]]*Table1[[#This Row],[School & Library Price]]","v":0}]
[null,108,null,null,"Multicultural","A Taste of Culture","Foods of Mexico","978-0-7377-3036-4","KidHaven Publishing","Library Bound Book",1,2005,null,"Library Bound","7.000 X 9.000","Author","Barbara Sheen",null,null,null,null,null,null,"Years 8 - 11",null,"Grade 3 - 6","Many Mexican dishes represent the country's unique mix of Indian and European cuisine. Packed with interesting and informative facts, this colorful volume gives readers a taste of Mexican history, culture and folklore, as well as food origins. Simple recipes tied to the text make this book a multi-sensory experience. Readers will have fun exploring Mexico's snacks and sweets, specialty foods, favorite dishes, and traditional holiday meals.","English",35.200000000000003,28.160000000000004,"394.1","64 pp.",{"$f":"Table1[[#This Row],['# of Books]]*Table1[[#This Row],[QTY]]","v":0},{"$f":"Table1[[#This Row],[QTY]]*Table1[[#This Row],[School & Library Price]]","v":0}]
[null,108,null,null,"Multicultural","A Taste of Culture","Foods of Morocco","978-0-7377-5865-8","KidHaven Publishing","Library Bound Book",1,2011,null,"Library Bound","7.000 X 9.000","Author","Barbara Sheen",null,null,null,null,null,null,"Years 8 - 11",null,"Grade 3 - 6",null,"English",35.200000000000003,28.160000000000004,"641","64 pp.",{"$f":"Table1[[#This Row],['# of Books]]*Table1[[#This Row],[QTY]]","v":0},{"$f":"Table1[[#This Row],[QTY]]*Table1[[#This Row],[School & Library Price]]","v":0}]
[null,108,null,null,"Multicultural","A Taste of Culture","Foods of Morocco","978-1-4205-0771-3","KidHaven Publishing","eBook",1,2011,null,"eBook",null,"Author","Barbara Sheen",null,null,null,null,null,null,"Years 8 - 11",null,"Grade 3 - 6","Studying world cultures has never tasted so good! A delectable blend of geography, history, health, daily life, celebrations and customs. A Taste of Culture offers a rich array of culinary and cultural elements. Specifically prepared for upper-elementary and lower-middle school students, each volume in this series introduces a country and its culture by way of its foods, cooking traditions, recipes, customs, eating habits and food sources.","English",38.72,38.72,"641.5964","64 pp.",{"$f":"Table1[[#This Row],['# of Books]]*Table1[[#This Row],[QTY]]","v":0},{"$f":"Table1[[#This Row],[QTY]]*Table1[[#This Row],[School & Library Price]]","v":0}]
[null,108,null,null,"Multicultural","A Taste of Culture","Foods of Pakistan","978-0-7377-5883-2","KidHaven Publishing","Library Bound Book",1,2011,null,"Library Bound","7.000 X 9.000","Author","Barbara Sheen",null,null,null,null,null,null,"Years 8 - 11",null,"Grade 3 - 6",null,"English",35.200000000000003,28.160000000000004,"641","64 pp.",{"$f":"Table1[[#This Row],['# of Books]]*Table1[[#This Row],[QTY]]","v":0},{"$f":"Table1[[#This Row],[QTY]]*Table1[[#This Row],[School & Library Price]]","v":0}]
[null,108,null,null,"Multicultural","A Taste of Culture","Foods of Pakistan","978-0-7377-6101-6","KidHaven Publishing","eBook",1,2011,null,"eBook",null,"Author","Barbara Sheen",null,null,null,null,null,null,"Years 8 - 11",null,"Grade 3 - 6",null,"English",38.72,38.72,"641.595491","64 pp.",{"$f":"Table1[[#This Row],['# of Books]]*Table1[[#This Row],[QTY]]","v":0},{"$f":"Table1[[#This Row],[QTY]]*Table1[[#This Row],[School & Library Price]]","v":0}]
[null,108,null,null,"Multicultural","A Taste of Culture","Foods of Peru","978-0-7377-5346-2","KidHaven Publishing","Library Bound Book",1,2011,null,"Library Bound","7.000 X 9.000","Author","Barbara Sheen",null,null,null,null,null,null,"Years 8 - 11",null,"Grade 3 - 6",null,"English",35.200000000000003,28.160000000000004,"641","64 pp.",{"$f":"Table1[[#This Row],['# of Books]]*Table1[[#This Row],[QTY]]","v":0},{"$f":"Table1[[#This Row],[QTY]]*Table1[[#This Row],[School & Library Price]]","v":0}]
[null,108,null,null,"Multicultural","A Taste of Culture","Foods of Peru","978-0-7377-5848-1","KidHaven Publishing","eBook",1,2011,null,"eBook",null,"Author","Barbara Sheen",null,null,null,null,null,null,"Years 8 - 11",null,"Grade 3 - 6","Explores the foods, cooking traditions, customs, eating habits, and food sources of Peru.  Studying world cultures has never tasted so good! A delectable blend of geography, history, health, daily life, celebrations and customs. A Taste of Culture offers a rich array of culinary and cultural elements. Specifically prepared for upper-elementary and lower-middle school students, each volume in this series introduces a country and its culture by way of its foods, cooking traditions, recipes, customs, eating habits and food sources.","English",38.72,38.72,"394.1","64 pp.",{"$f":"Table1[[#This Row],['# of Books]]*Table1[[#This Row],[QTY]]","v":0},{"$f":"Table1[[#This Row],[QTY]]*Table1[[#This Row],[School & Library Price]]","v":0}]
[null,108,null,null,"Multicultural","A Taste of Culture","Foods of Poland","978-0-7377-5951-8","KidHaven Publishing","Library Bound Book",1,2012,null,"Library Bound","7.000 X 9.000","Author","Barbara Sheen",null,null,null,null,null,null,"Years 8 - 11",null,"Grade 3 - 6",null,"English",35.200000000000003,28.160000000000004,"641.5","64 pp.",{"$f":"Table1[[#This Row],['# of Books]]*Table1[[#This Row],[QTY]]","v":0},{"$f":"Table1[[#This Row],[QTY]]*Table1[[#This Row],[School & Library Price]]","v":0}]
[null,108,null,null,"Multicultural","A Taste of Culture","Foods of Poland","978-0-7377-6125-2","KidHaven Publishing","eBook",1,2012,null,"eBook",null,"Author","Barbara Sheen",null,null,null,null,null,null,"Years 8 - 11",null,"Grade 3 - 6",null,"English",38.72,38.72,"641.59438","64 pp.",{"$f":"Table1[[#This Row],['# of Books]]*Table1[[#This Row],[QTY]]","v":0},{"$f":"Table1[[#This Row],[QTY]]*Table1[[#This Row],[School & Library Price]]","v":0}]
[null,108,null,null,"Multicultural","A Taste of Culture","Foods of Scandinavia","978-0-7377-4814-7","KidHaven Publishing","Library Bound Book",1,2010,null,"Library Bound","7.000 X 9.000","Author","Barbara Sheen",null,null,null,null,null,null,"Years 8 - 11",null,"Grade 3 - 6","One of the most enjoyable ways to learn about other cultures is through their food. This book takes us to the five nations of Scandinavia: Denmark, Finland, Iceland, Norway, and Sweden. There the daily fare includes gravalax (cured salmon), smorrebrod (thick open-faced sandwiches), pea soup, pancakes, and appelkaka (apple cake). Traditional Christmas foods are discussed, as well as the tradition of the fika (or \"going out for coffee\") and the well-known, huge buffets called smorgasbords. Simple, delicious recipes are provided for oat porridge with strawberry preserves, a roast beef smorrebrod, pea soup, and strawberry cream cake.","English",35.200000000000003,28.160000000000004,"641","64 pp.",{"$f":"Table1[[#This Row],['# of Books]]*Table1[[#This Row],[QTY]]","v":0},{"$f":"Table1[[#This Row],[QTY]]*Table1[[#This Row],[School & Library Price]]","v":0}]
[null,108,null,null,"Multicultural","A Taste of Culture","Foods of Scandinavia","978-0-7377-5513-8","KidHaven Publishing","eBook",1,2010,null,"eBook",null,"Author","Barbara Sheen",null,null,null,null,null,null,"Years 8 - 11",null,"Grade 3 - 6","Explores the foods, cooking traditions, customs, eating habits, and food sources of Scandinavia.  Studying world cultures has never tasted so good! A delectable blend of geography, history, health, daily life, celebrations and customs. A Taste of Culture offers a rich array of culinary and cultural elements. Specifically prepared for upper-elementary and lower-middle school students, each volume in this series introduces a country and its culture by way of its foods, cooking traditions, recipes, customs, eating habits and food sources.","English",38.72,38.72,"641.5948","64 pp.",{"$f":"Table1[[#This Row],['# of Books]]*Table1[[#This Row],[QTY]]","v":0},{"$f":"Table1[[#This Row],[QTY]]*Table1[[#This Row],[School & Library Price]]","v":0}]
[null,108,null,null,"Multicultural","A Taste of Culture","Foods of South Africa","978-0-7377-5952-5","KidHaven Publishing","Library Bound Book",1,2012,null,"Library Bound","7.000 X 9.000","Author","Barbara Sheen",null,null,null,null,null,null,"Years 8 - 11",null,"Grade 3 - 6","Author Barbara Sheen examines South Africa's culinary tradition. Favorite ingredients, such as corn, water blommetjie, pickled fruits and vegetables, fish, and wild game, are described. The author explains favorite dishes like umphokoqo, bobotie, bredies, bunny chow, and potjies. Popular snacks such as koeksisters, rooibos tea, melk terts, and konfyt are also described. Sidebars feature engaging country information as well as a number of recipes with easy-to-follow directions.","English",35.200000000000003,28.160000000000004,"641.5","64 pp.",{"$f":"Table1[[#This Row],['# of Books]]*Table1[[#This Row],[QTY]]","v":0},{"$f":"Table1[[#This Row],[QTY]]*Table1[[#This Row],[School & Library Price]]","v":0}]
[null,108,null,null,"Multicultural","A Taste of Culture","Foods of South Africa","978-0-7377-6502-1","KidHaven Publishing","eBook",1,2012,null,"eBook",null,"Author","Barbara Sheen",null,null,null,null,null,null,"Years 8 - 11",null,"Grade 3 - 6",null,"English",38.72,38.72,"641.5968","64 pp.",{"$f":"Table1[[#This Row],['# of Books]]*Table1[[#This Row],[QTY]]","v":0},{"$f":"Table1[[#This Row],[QTY]]*Table1[[#This Row],[School & Library Price]]","v":0}]
[null,108,null,null,"Multicultural","A Taste of Culture","Foods of Spain","978-0-7377-5514-5","KidHaven Publishing","eBook",1,2008,null,"eBook",null,"Author","Barbara Sheen",null,null,null,null,null,null,"Years 8 - 11",null,"Grade 3 - 6","Explores the foods, cooking traditions, customs, eating habits, and food sources of Spain. Studying world cultures has never tasted so good! A delectable blend of geography, history, health, daily life, celebrations and customs. A Taste of Culture offers a rich array of culinary and cultural elements. Specifically prepared for upper-elementary and lower-middle school students, each volume in this series introduces a country and its culture by way of its foods, cooking traditions, recipes, customs, eating habits and food sources.","English",38.72,38.72,"641.5946","64 pp.",{"$f":"Table1[[#This Row],['# of Books]]*Table1[[#This Row],[QTY]]","v":0},{"$f":"Table1[[#This Row],[QTY]]*Table1[[#This Row],[School & Library Price]]","v":0}]
[null,108,null,null,"Multicultural","A Taste of Culture","Foods of the Caribbean","978-0-7377-5515-2","KidHaven Publishing","eBook",1,2008,null,"eBook",null,"Author","Barbara Sheen",null,null,null,null,null,null,"Years 8 - 11",null,"Grade 3 - 6","Explores the foods, cooking traditions, customs, eating habits, and food sources of the Caribbean. Studying world cultures has never tasted so good! A delectable blend of geography, history, health, daily life, celebrations and customs. A Taste of Culture offers a rich array of culinary and cultural elements. Specifically prepared for upper-elementary and lower-middle school students, each volume in this series introduces a country and its culture by way of its foods, cooking traditions, recipes, customs, eating habits and food sources.","English",38.72,38.72,"641.59729","64 pp.",{"$f":"Table1[[#This Row],['# of Books]]*Table1[[#This Row],[QTY]]","v":0},{"$f":"Table1[[#This Row],[QTY]]*Table1[[#This Row],[School & Library Price]]","v":0}]
[null,109,null,null,"Myths & Mysteries","Monsters","Bunyips","978-0-7377-6010-1","KidHaven Publishing","eBook",1,2011,null,"eBook",null,"Author","Shirley Raye Redmond",null,null,null,null,null,null,"Years 9 - 13",null,"Grade 4 - 8","In this volume, an international group of contributors provides a multi-layered analysis of the emerging East Asian media culture, using the Korean TV drama as its analytic vehicle. By closely examining the political economy of TV industry, audiences of the regional media flows in terms of gender subjectivity constructions, perceptions of colonial-postcolonial relationships, and nationalist responses to trans-national media culture exchanges, contributors highlight the multiple connectivities and implications of popular cultural flows and exchanges in East Asia. In spite of the obvious flows and exchanges that constitute pan-East Asian Pop Culture as a relatively coherent unit, the academic research community is far behind the cultural industry producers who have long factored the regional consumer market into their production and marketing. This volume is motivated by the need to find both the conceptual and institutional site(s) for the constitution of an East Asian Pop Culture. The resulting discoveries demonstrate that this culture co-exists with US domination in global media industry, and offers new empirical and conceptual insights into cultural globalization.","English",38.72,38.72,"398.24","48 pp.",{"$f":"Table1[[#This Row],['# of Books]]*Table1[[#This Row],[QTY]]","v":0},{"$f":"Table1[[#This Row],[QTY]]*Table1[[#This Row],[School & Library Price]]","v":0}]
[null,109,null,null,"Myths & Mysteries","Monsters","Bunyips","978-0-7377-5919-8","KidHaven Publishing","Library Bound Book",1,2011,null,"Library Bound","6.000 X 9.000","Author","Shirley Raye Redmond",null,null,null,null,null,null,"Years 9 - 13",null,"Grade 4 - 8","In this volume, an international group of contributors provides a multi-layered analysis of the emerging East Asian media culture, using the Korean TV drama as its analytic vehicle. By closely examining the political economy of TV industry, audiences of the regional media flows in terms of gender subjectivity constructions, perceptions of colonial-postcolonial relationships, and nationalist responses to trans-national media culture exchanges, contributors highlight the multiple connectivities and implications of popular cultural flows and exchanges in East Asia. In spite of the obvious flows and exchanges that constitute pan-East Asian Pop Culture as a relatively coherent unit, the academic research community is far behind the cultural industry producers who have long factored the regional consumer market into their production and marketing. This volume is motivated by the need to find both the conceptual and institutional site(s) for the constitution of an East Asian Pop Culture. The resulting discoveries demonstrate that this culture co-exists with US domination in global media industry, and offers new empirical and conceptual insights into cultural globalization.","English",35.200000000000003,28.160000000000004,"398.24","48 pp.",{"$f":"Table1[[#This Row],['# of Books]]*Table1[[#This Row],[QTY]]","v":0},{"$f":"Table1[[#This Row],[QTY]]*Table1[[#This Row],[School & Library Price]]","v":0}]
[null,109,null,null,"Myths & Mysteries","Monsters","Cerberus","978-0-7377-4274-9","KidHaven Publishing","Library Bound Book",1,2009,null,"Library Bound","6.000 X 9.000","Author","Shirley Raye Redmond",null,null,null,null,null,null,"Years 9 - 13",null,"Grade 4 - 8",null,"English",35.200000000000003,28.160000000000004,"398","48 pp.",{"$f":"Table1[[#This Row],['# of Books]]*Table1[[#This Row],[QTY]]","v":0},{"$f":"Table1[[#This Row],[QTY]]*Table1[[#This Row],[School & Library Price]]","v":0}]
[null,109,null,null,"Myths & Mysteries","Monsters","Genies","978-0-7377-5051-5","KidHaven Publishing","Library Bound Book",1,2010,null,"Library Bound","6.000 X 9.000","Author","Bonnie Juettner",null,null,null,null,null,null,"Years 9 - 13",null,"Grade 4 - 8","Weird, creepy, and mysterious creatures from real life, movies, and mythology run amok in the Monsters series. This book describes genies, with all their terrifying characteristics and malicious behavior. Often said to be shape-shifters and tricksters, genies were thought to have the ability to turn into a menacing vapor or become invisible to humans at will. They might live for thousands of years, lurking underground, in deserts, or, famously, in lamps. Here, the potential origins of the popular genie stories are examined and compared.","English",35.200000000000003,28.160000000000004,"297","48 pp.",{"$f":"Table1[[#This Row],['# of Books]]*Table1[[#This Row],[QTY]]","v":0},{"$f":"Table1[[#This Row],[QTY]]*Table1[[#This Row],[School & Library Price]]","v":0}]
[null,109,null,null,"Myths & Mysteries","Monsters","Golem","978-0-7377-5866-5","KidHaven Publishing","Library Bound Book",1,2012,null,"Library Bound","6.000 X 9.000","Author","Shirley Raye Redmond",null,null,null,null,null,null,"Years 9 - 13",null,"Grade 4 - 8",null,"English",35.200000000000003,28.160000000000004,"398","48 pp.",{"$f":"Table1[[#This Row],['# of Books]]*Table1[[#This Row],[QTY]]","v":0},{"$f":"Table1[[#This Row],[QTY]]*Table1[[#This Row],[School & Library Price]]","v":0}]
[null,109,null,null,"Myths & Mysteries","Monsters","Griffins","978-0-7377-4043-1","KidHaven Publishing","Library Bound Book",1,2008,null,"Library Bound","6.000 X 9.000","Author","Bonnie Juettner",null,null,null,null,null,null,"Years 9 - 13",null,"Grade 4 - 8",null,"English",35.200000000000003,28.160000000000004,"001","48 pp.",{"$f":"Table1[[#This Row],['# of Books]]*Table1[[#This Row],[QTY]]","v":0},{"$f":"Table1[[#This Row],[QTY]]*Table1[[#This Row],[School & Library Price]]","v":0}]
[null,109,null,null,"Myths & Mysteries","Monsters","Hydra","978-0-7377-4081-3","KidHaven Publishing","Library Bound Book",1,2009,null,"Library Bound","6.000 X 9.000","Author","Jennifer Guess Mckerley",null,null,null,null,null,null,"Years 9 - 13",null,"Grade 4 - 8",null,"English",35.200000000000003,28.160000000000004,"398","48 pp.",{"$f":"Table1[[#This Row],['# of Books]]*Table1[[#This Row],[QTY]]","v":0},{"$f":"Table1[[#This Row],[QTY]]*Table1[[#This Row],[School & Library Price]]","v":0}]
[null,109,null,null,"Myths & Mysteries","Monsters","Killer Sharks","978-0-7377-4044-8","KidHaven Publishing","Library Bound Book",1,2008,null,"Library Bound","6.000 X 9.000","Author","Lori Mortensen",null,null,null,null,null,null,"Years 9 - 13",null,"Grade 4 - 8",null,"English",35.200000000000003,28.160000000000004,"597","48 pp.",{"$f":"Table1[[#This Row],['# of Books]]*Table1[[#This Row],[QTY]]","v":0},{"$f":"Table1[[#This Row],[QTY]]*Table1[[#This Row],[School & Library Price]]","v":0}]
[null,109,null,null,"Myths & Mysteries","Monsters","Martians","978-0-7377-3639-7","KidHaven Publishing","Library Bound Book",1,2008,null,"Library Bound","6.000 X 9.000","Author","Don Nardo",null,null,null,null,null,null,"Years 9 - 13",null,"Grade 4 - 8",null,"English",35.200000000000003,28.160000000000004,"001","48 pp.",{"$f":"Table1[[#This Row],['# of Books]]*Table1[[#This Row],[QTY]]","v":0},{"$f":"Table1[[#This Row],[QTY]]*Table1[[#This Row],[School & Library Price]]","v":0}]
[null,109,null,null,"Myths & Mysteries","Monsters","Mermaids","978-0-7377-3634-2","KidHaven Publishing","Library Bound Book",1,2008,null,"Library Bound","6.000 X 9.000","Author","Shirley Raye Redmond",null,null,null,null,null,null,"Years 9 - 13",null,"Grade 4 - 8",null,"English",35.200000000000003,28.160000000000004,"398","48 pp.",{"$f":"Table1[[#This Row],['# of Books]]*Table1[[#This Row],[QTY]]","v":0},{"$f":"Table1[[#This Row],[QTY]]*Table1[[#This Row],[School & Library Price]]","v":0}]
[null,109,null,null,"Myths & Mysteries","Monsters","Ogres","978-0-7377-5531-2","KidHaven Publishing","eBook",1,2011,null,"eBook",null,"Author","Rachel Lynette",null,null,null,null,null,null,"Years 9 - 13",null,"Grade 4 - 8",null,"English",38.72,38.72,"398.21","48 pp.",{"$f":"Table1[[#This Row],['# of Books]]*Table1[[#This Row],[QTY]]","v":0},{"$f":"Table1[[#This Row],[QTY]]*Table1[[#This Row],[School & Library Price]]","v":0}]
[null,109,null,null,"Myths & Mysteries","Monsters","Pegasus","978-0-7377-4082-0","KidHaven Publishing","Library Bound Book",1,2009,null,"Library Bound","6.000 X 9.000","Author","Q. L. Pearce",null,null,null,null,null,null,"Years 9 - 13",null,"Grade 4 - 8",null,"English",35.200000000000003,28.160000000000004,"398","48 pp.",{"$f":"Table1[[#This Row],['# of Books]]*Table1[[#This Row],[QTY]]","v":0},{"$f":"Table1[[#This Row],[QTY]]*Table1[[#This Row],[School & Library Price]]","v":0}]
[null,109,null,null,"Myths & Mysteries","Monsters","Phoenix","978-0-7377-4045-5","KidHaven Publishing","Library Bound Book",1,2009,null,"Library Bound","6.000 X 9.000","Author","Bonnie Juettner",null,null,null,null,null,null,"Years 9 - 13",null,"Grade 4 - 8",null,"English",35.200000000000003,28.160000000000004,"001","48 pp.",{"$f":"Table1[[#This Row],['# of Books]]*Table1[[#This Row],[QTY]]","v":0},{"$f":"Table1[[#This Row],[QTY]]*Table1[[#This Row],[School & Library Price]]","v":0}]
[null,109,null,null,"Myths & Mysteries","Monsters","Sirens","978-0-7377-3451-5","KidHaven Publishing","Library Bound Book",1,2008,null,"Library Bound","6.000 X 9.000","Author","Mary Schulte",null,null,null,null,null,null,"Years 9 - 13",null,"Grade 4 - 8",null,"English",35.200000000000003,28.160000000000004,"398","48 pp.",{"$f":"Table1[[#This Row],['# of Books]]*Table1[[#This Row],[QTY]]","v":0},{"$f":"Table1[[#This Row],[QTY]]*Table1[[#This Row],[School & Library Price]]","v":0}]
[null,109,null,null,"Myths & Mysteries","Monsters","The Abominable Snowman","978-0-7377-3448-5","KidHaven Publishing","Library Bound Book",1,2008,null,"Library Bound","6.000 X 9.000","Author","Rachel Lynette",null,null,null,null,null,null,"Years 9 - 13",null,"Grade 4 - 8",null,"English",35.200000000000003,28.160000000000004,"001","48 pp.",{"$f":"Table1[[#This Row],['# of Books]]*Table1[[#This Row],[QTY]]","v":0},{"$f":"Table1[[#This Row],[QTY]]*Table1[[#This Row],[School & Library Price]]","v":0}]
[null,109,null,null,"Myths & Mysteries","Monsters","The Jersey Devil","978-0-7377-4407-1","KidHaven Publishing","Library Bound Book",1,2009,null,"Library Bound","6.000 X 9.000","Author","Shirley Raye Redmond",null,null,null,null,null,null,"Years 9 - 13",null,"Grade 4 - 8",null,"English",35.200000000000003,28.160000000000004,"398","48 pp.",{"$f":"Table1[[#This Row],['# of Books]]*Table1[[#This Row],[QTY]]","v":0},{"$f":"Table1[[#This Row],[QTY]]*Table1[[#This Row],[School & Library Price]]","v":0}]
[null,109,null,null,"Myths & Mysteries","Monsters","The Kraken","978-0-7377-3531-4","KidHaven Publishing","Library Bound Book",1,2008,null,"Library Bound","6.000 X 9.000","Author","Jennifer McKerley",null,null,null,null,null,null,"Years 9 - 13",null,"Grade 4 - 8",null,"English",35.200000000000003,28.160000000000004,"001","48 pp.",{"$f":"Table1[[#This Row],['# of Books]]*Table1[[#This Row],[QTY]]","v":0},{"$f":"Table1[[#This Row],[QTY]]*Table1[[#This Row],[School & Library Price]]","v":0}]
[null,109,null,null,"Myths & Mysteries","Monsters","The Minotaur","978-0-7377-3590-1","KidHaven Publishing","Library Bound Book",1,2008,null,"Library Bound","6.000 X 9.000","Author","Mary Schulte",null,null,null,null,null,null,"Years 9 - 13",null,"Grade 4 - 8",null,"English",35.200000000000003,28.160000000000004,"398","48 pp.",{"$f":"Table1[[#This Row],['# of Books]]*Table1[[#This Row],[QTY]]","v":0},{"$f":"Table1[[#This Row],[QTY]]*Table1[[#This Row],[School & Library Price]]","v":0}]
[null,109,null,null,"Myths & Mysteries","Monsters","Trolls","978-0-7377-4408-8","KidHaven Publishing","Library Bound Book",1,2009,null,"Library Bound","6.000 X 9.000","Author","Rachel Lynette",null,null,null,null,null,null,"Years 9 - 13",null,"Grade 4 - 8",null,"English",35.200000000000003,28.160000000000004,"398","48 pp.",{"$f":"Table1[[#This Row],['# of Books]]*Table1[[#This Row],[QTY]]","v":0},{"$f":"Table1[[#This Row],[QTY]]*Table1[[#This Row],[School & Library Price]]","v":0}]
[null,109,null,null,"Myths & Mysteries","Monsters","Wendigo","978-0-7377-4409-5","KidHaven Publishing","Library Bound Book",1,2009,null,"Library Bound","6.000 X 9.000","Author","Q. L. Pearce",null,null,null,null,null,null,"Years 9 - 13",null,"Grade 4 - 8",null,"English",35.200000000000003,28.160000000000004,"398","48 pp.",{"$f":"Table1[[#This Row],['# of Books]]*Table1[[#This Row],[QTY]]","v":0},{"$f":"Table1[[#This Row],[QTY]]*Table1[[#This Row],[School & Library Price]]","v":0}]
[null,110,null,null,"Myths & Mysteries","Mysterious Encounters","Area 51","978-0-7377-5488-9","KidHaven Publishing","eBook",1,2009,null,"eBook",null,"Author","Gail B. Stewart",null,null,null,null,null,null,"Years 9 - 13",null,"Grade 4 - 8","This title provides eyewitness accounts, with alternative explanations and other elements of reasoning, to explore the most secret place on Earth, Area 51. Paranormal encounters fascinate young readers, and this exciting series is devoted to them. Heavily illustrated and clearly written, each book presents phenomena such as aliens, ghosts and werewolves.","English",36.96,36.96,"001.942","48 pp.",{"$f":"Table1[[#This Row],['# of Books]]*Table1[[#This Row],[QTY]]","v":0},{"$f":"Table1[[#This Row],[QTY]]*Table1[[#This Row],[School & Library Price]]","v":0}]
[null,110,null,null,"Myths & Mysteries","Mysterious Encounters","Atlantis","978-0-7377-6004-0","KidHaven Publishing","eBook",1,2011,null,"eBook",null,"Author","Stuart A. Kallen",null,null,null,null,null,null,"Years 9 - 13",null,"Grade 4 - 8",null,"English",36.96,36.96,"398.23","48 pp.",{"$f":"Table1[[#This Row],['# of Books]]*Table1[[#This Row],[QTY]]","v":0},{"$f":"Table1[[#This Row],[QTY]]*Table1[[#This Row],[School & Library Price]]","v":0}]
[null,110,null,null,"Myths & Mysteries","Mysterious Encounters","Atlantis","978-0-7377-5534-3","KidHaven Publishing","Library Bound Book",1,2011,null,"Library Bound","6.000 X 9.000","Author","Stuart A. Kallen",null,null,null,null,null,null,"Years 9 - 13",null,"Grade 4 - 8",null,"English",33.6,26.880000000000003,"398","48 pp.",{"$f":"Table1[[#This Row],['# of Books]]*Table1[[#This Row],[QTY]]","v":0},{"$f":"Table1[[#This Row],[QTY]]*Table1[[#This Row],[School & Library Price]]","v":0}]
[null,110,null,null,"Myths & Mysteries","Mysterious Encounters","Bigfoot","978-0-7377-3473-7","KidHaven Publishing","Library Bound Book",1,2006,null,"Library Bound","6.000 X 9.000","Author","Adam Woog",null,null,null,null,null,null,"Years 9 - 13",null,"Grade 4 - 8","The mysterious, ape-like creature called Bigfoot or Sasquatch has fascinated people for hundreds of years, though its existence has never been proven. Genuine or not, exciting tales of close encounters with Bigfoot have appeared regularly -- from the earliest Native American legends to today's sophisticated, high-tech field research.","English",33.6,26.880000000000003,"001.944","48 pp.",{"$f":"Table1[[#This Row],['# of Books]]*Table1[[#This Row],[QTY]]","v":0},{"$f":"Table1[[#This Row],[QTY]]*Table1[[#This Row],[School & Library Price]]","v":0}]
[null,110,null,null,"Myths & Mysteries","Mysterious Encounters","Burial Grounds","978-0-7377-5490-2","KidHaven Publishing","eBook",1,2010,null,"eBook",null,"Author","Rachel Lynette",null,null,null,null,null,null,"Years 9 - 13",null,"Grade 4 - 8","This title provides an introduction to burial grounds, including medieval rituals to superstitions about the dead, all manner of burials are described, including pet cemeteries, military cemeteries and the Alaskan practice of freezing corpses over the winter in anticipation of the spring thaw. Paranormal encounters fascinate young readers, and this exciting series is devoted to them. Heavily illustrated and clearly written, each book presents phenomena such as aliens, ghosts and werewolves.","English",36.96,36.96,"363.7","48 pp.",{"$f":"Table1[[#This Row],['# of Books]]*Table1[[#This Row],[QTY]]","v":0},{"$f":"Table1[[#This Row],[QTY]]*Table1[[#This Row],[School & Library Price]]","v":0}]
[null,110,null,null,"Myths & Mysteries","Mysterious Encounters","Burial Grounds","978-0-7377-4411-8","KidHaven Publishing","Library Bound Book",1,2010,null,"Library Bound","6.000 X 9.000","Author","Rachel Lynette",null,null,null,null,null,null,"Years 9 - 13",null,"Grade 4 - 8",null,"English",33.6,26.880000000000003,"133","48 pp.",{"$f":"Table1[[#This Row],['# of Books]]*Table1[[#This Row],[QTY]]","v":0},{"$f":"Table1[[#This Row],[QTY]]*Table1[[#This Row],[School & Library Price]]","v":0}]
[null,110,null,null,"Myths & Mysteries","Mysterious Encounters","Cities of Gold","978-0-7377-5036-2","KidHaven Publishing","Library Bound Book",1,2010,null,"Library Bound","6.000 X 9.000","Author","Shirley Raye Redmond",null,null,null,null,null,null,"Years 9 - 13",null,"Grade 4 - 8","Eyewitness accounts of legends and paranormal encounters enthrall young readers, and provide a unique opportunity for them to develop and use critical thinking skills. This book chronicles man’s endless fascination with and pursuit of lost treasure. It describes the most famous expeditions made to find fabled cities of gold, with stories about Aztec and Incan treasure, the city of Gran Paititi, the Seven Cities of Cibola, Quivira, and El Dorado.","English",33.6,26.880000000000003,"001","48 pp.",{"$f":"Table1[[#This Row],['# of Books]]*Table1[[#This Row],[QTY]]","v":0},{"$f":"Table1[[#This Row],[QTY]]*Table1[[#This Row],[School & Library Price]]","v":0}]
[null,110,null,null,"Myths & Mysteries","Mysterious Encounters","Crop Circles","978-0-7377-5491-9","KidHaven Publishing","eBook",1,2008,null,"eBook",null,"Author","Jan Burns",null,null,null,null,null,null,"Years 9 - 13",null,"Grade 4 - 8","This title provides an introduction to crop circles, including various theories about how these designs have been created. Paranormal encounters fascinate young readers, and this exciting series is devoted to them. Heavily illustrated and clearly written, each book presents phenomena such as aliens, ghosts and werewolves.","English",36.96,36.96,"001.94","48 pp.",{"$f":"Table1[[#This Row],['# of Books]]*Table1[[#This Row],[QTY]]","v":0},{"$f":"Table1[[#This Row],[QTY]]*Table1[[#This Row],[School & Library Price]]","v":0}]
[null,110,null,null,"Myths & Mysteries","Mysterious Encounters","Crop Circles","978-0-7377-4047-9","KidHaven Publishing","Library Bound Book",1,2008,null,"Library Bound","6.000 X 9.000","Author","Jan Burns",null,null,null,null,null,null,"Years 9 - 13",null,"Grade 4 - 8",null,"English",33.6,26.880000000000003,"001","48 pp.",{"$f":"Table1[[#This Row],['# of Books]]*Table1[[#This Row],[QTY]]","v":0},{"$f":"Table1[[#This Row],[QTY]]*Table1[[#This Row],[School & Library Price]]","v":0}]
[null,110,null,null,"Myths & Mysteries","Mysterious Encounters","Curses","978-0-7377-5917-4","KidHaven Publishing","eBook",1,2011,null,"eBook",null,"Author","Rachel Lynette",null,null,null,null,null,null,"Years 9 - 13",null,"Grade 4 - 8",null,"English",36.96,36.96,"398.41","48 pp.",{"$f":"Table1[[#This Row],['# of Books]]*Table1[[#This Row],[QTY]]","v":0},{"$f":"Table1[[#This Row],[QTY]]*Table1[[#This Row],[School & Library Price]]","v":0}]
[null,110,null,null,"Myths & Mysteries","Mysterious Encounters","ESP","978-0-7377-5493-3","KidHaven Publishing","eBook",1,2009,null,"eBook",null,"Author","Kevin Hile",null,null,null,null,null,null,"Years 9 - 13",null,"Grade 4 - 8","Provides eyewitness accounts of situations in which people have displayed extrasensory perception (ESP) and discusses alternative explanations for these occurrences. Paranormal encounters fascinate young readers, and this exciting series is devoted to them. Heavily illustrated and clearly written, each book presents phenomena such as aliens, ghosts and werewolves.","English",36.96,36.96,"133.8","48 pp.",{"$f":"Table1[[#This Row],['# of Books]]*Table1[[#This Row],[QTY]]","v":0},{"$f":"Table1[[#This Row],[QTY]]*Table1[[#This Row],[School & Library Price]]","v":0}]
[null,110,null,null,"Myths & Mysteries","Mysterious Encounters","ESP","978-0-7377-4084-4","KidHaven Publishing","Library Bound Book",1,2009,null,"Library Bound","6.000 X 9.000","Author","Kevin Hile",null,null,null,null,null,null,"Years 9 - 13",null,"Grade 4 - 8",null,"English",33.6,26.880000000000003,"133","48 pp.",{"$f":"Table1[[#This Row],['# of Books]]*Table1[[#This Row],[QTY]]","v":0},{"$f":"Table1[[#This Row],[QTY]]*Table1[[#This Row],[School & Library Price]]","v":0}]
[null,110,null,null,"Myths & Mysteries","Mysterious Encounters","Fortune-Telling","978-0-7377-5494-0","KidHaven Publishing","eBook",1,2009,null,"eBook",null,"Author","Katherine E. Krohn",null,null,null,null,null,null,"Years 9 - 13",null,"Grade 4 - 8","Paranormal encounters fascinate young readers, and this exciting series is devoted to them. Features some of the most popular methods of predicting the future, including astrology, palm reading, and tea-leaf reading. Heavily illustrated and clearly written, each book presents phenomena such as aliens, ghosts and werewolves.","English",36.96,36.96,"133.3","48 pp.",{"$f":"Table1[[#This Row],['# of Books]]*Table1[[#This Row],[QTY]]","v":0},{"$f":"Table1[[#This Row],[QTY]]*Table1[[#This Row],[School & Library Price]]","v":0}]
[null,110,null,null,"Myths & Mysteries","Mysterious Encounters","Fortune-Telling","978-0-7377-4085-1","KidHaven Publishing","Library Bound Book",1,2009,null,"Library Bound","6.000 X 9.000","Author","Katherine Krohn",null,null,null,null,null,null,"Years 9 - 13",null,"Grade 4 - 8",null,"English",33.6,26.880000000000003,"133","48 pp.",{"$f":"Table1[[#This Row],['# of Books]]*Table1[[#This Row],[QTY]]","v":0},{"$f":"Table1[[#This Row],[QTY]]*Table1[[#This Row],[School & Library Price]]","v":0}]
[null,110,null,null,"Myths & Mysteries","Mysterious Encounters","Ghost Hunters","978-0-7377-5876-4","KidHaven Publishing","eBook",1,2011,null,"eBook",null,"Author","Q. L. Pearce",null,null,null,null,null,null,"Years 9 - 13",null,"Grade 4 - 8","Provides eyewitness accounts, with alternative explanations and other elements of reasoning, to explore legends surrounding the tales of ghosts and haunted houses. Paranormal encounters fascinate young readers, and this exciting series is devoted to them. Heavily illustrated and clearly written, each book presents phenomena such as aliens, ghosts and werewolves.","English",36.96,36.96,"133.1","48 pp.",{"$f":"Table1[[#This Row],['# of Books]]*Table1[[#This Row],[QTY]]","v":0},{"$f":"Table1[[#This Row],[QTY]]*Table1[[#This Row],[School & Library Price]]","v":0}]
[null,110,null,null,"Myths & Mysteries","Mysterious Encounters","Ghost Hunters","978-0-7377-5290-8","KidHaven Publishing","Library Bound Book",1,2011,null,"Library Bound","6.000 X 9.000","Author","Q. L. Pearce",null,null,null,null,null,null,"Years 9 - 13",null,"Grade 4 - 8",null,"English",33.6,26.880000000000003,"133","48 pp.",{"$f":"Table1[[#This Row],['# of Books]]*Table1[[#This Row],[QTY]]","v":0},{"$f":"Table1[[#This Row],[QTY]]*Table1[[#This Row],[School & Library Price]]","v":0}]
[null,110,null,null,"Myths & Mysteries","Mysterious Encounters","Ghost Ships","978-0-7377-5495-7","KidHaven Publishing","eBook",1,2009,null,"eBook",null,"Author","Kevin Hile",null,null,null,null,null,null,"Years 9 - 13",null,"Grade 4 - 8","Provides eyewitness accounts, with alternative explanations and other elements of reasoning, to explore legends surrounding the mysterious appearances of ghost ships. Paranormal encounters fascinate young readers, and this exciting series is devoted to them. Heavily illustrated and clearly written, each book presents phenomena such as aliens, ghosts and werewolves.","English",36.96,36.96,"133.1","48 pp.",{"$f":"Table1[[#This Row],['# of Books]]*Table1[[#This Row],[QTY]]","v":0},{"$f":"Table1[[#This Row],[QTY]]*Table1[[#This Row],[School & Library Price]]","v":0}]
[null,110,null,null,"Myths & Mysteries","Mysterious Encounters","Ghost Ships","978-0-7377-4086-8","KidHaven Publishing","Library Bound Book",1,2009,null,"Library Bound","6.000 X 9.000","Author","Kevin Hile",null,null,null,null,null,null,"Years 9 - 13",null,"Grade 4 - 8",null,"English",33.6,26.880000000000003,"133","48 pp.",{"$f":"Table1[[#This Row],['# of Books]]*Table1[[#This Row],[QTY]]","v":0},{"$f":"Table1[[#This Row],[QTY]]*Table1[[#This Row],[School & Library Price]]","v":0}]
[null,110,null,null,"Myths & Mysteries","Mysterious Encounters","Haunted Houses","978-0-7377-3475-1","KidHaven Publishing","Library Bound Book",1,2006,null,"Library Bound","6.000 X 9.000","Author","Kelli M. Brucken",null,null,null,null,null,null,"Years 9 - 13",null,"Grade 4 - 8","Touches by unseen hands, phantom footsteps, and icy cold blasts, those are just a few things that can be encountered in a haunted house. In this exciting book, readers explore a supernatural world with spooky true life tales from inside the walls of haunted houses.","English",33.6,26.880000000000003,"133.1","48 pp.",{"$f":"Table1[[#This Row],['# of Books]]*Table1[[#This Row],[QTY]]","v":0},{"$f":"Table1[[#This Row],[QTY]]*Table1[[#This Row],[School & Library Price]]","v":0}]
[null,110,null,null,"Myths & Mysteries","Mysterious Encounters","La Llorona: The Crying Woman","978-0-7377-5496-4","KidHaven Publishing","eBook",1,2010,null,"eBook",null,"Author","Q. L. Pearce",null,null,null,null,null,null,"Years 9 - 13",null,"Grade 4 - 8","This title recounts the legend of La Llorona, the Crying Woman, who is said to haunt the banks of the Rio Grande among many other locations. Paranormal encounters fascinate young readers, and this exciting series is devoted to them. Heavily illustrated and clearly written, each book presents phenomena such as aliens, ghosts and werewolves.","English",36.96,36.96,"398.2098","48 pp.",{"$f":"Table1[[#This Row],['# of Books]]*Table1[[#This Row],[QTY]]","v":0},{"$f":"Table1[[#This Row],[QTY]]*Table1[[#This Row],[School & Library Price]]","v":0}]
[null,110,null,null,"Myths & Mysteries","Mysterious Encounters","Miracles","978-0-7377-5497-1","KidHaven Publishing","eBook",1,2008,null,"eBook",null,"Author","Toney Allman",null,null,null,null,null,null,"Years 9 - 13",null,"Grade 4 - 8","This title provides eyewitness accounts, with alternative explanations and other elements of reasoning, to explore the mysterious occurrences of miracles. Paranormal encounters fascinate young readers, and this exciting series is devoted to them. Heavily illustrated and clearly written, each book presents phenomena such as aliens, ghosts and werewolves.","English",36.96,36.96,"202.117","48 pp.",{"$f":"Table1[[#This Row],['# of Books]]*Table1[[#This Row],[QTY]]","v":0},{"$f":"Table1[[#This Row],[QTY]]*Table1[[#This Row],[School & Library Price]]","v":0}]
[null,110,null,null,"Myths & Mysteries","Mysterious Encounters","Miracles","978-0-7377-4087-5","KidHaven Publishing","Library Bound Book",1,2008,null,"Library Bound","6.000 X 9.000","Author","Toney Allman",null,null,null,null,null,null,"Years 9 - 13",null,"Grade 4 - 8",null,"English",33.6,26.880000000000003,"202","48 pp.",{"$f":"Table1[[#This Row],['# of Books]]*Table1[[#This Row],[QTY]]","v":0},{"$f":"Table1[[#This Row],[QTY]]*Table1[[#This Row],[School & Library Price]]","v":0}]
[null,110,null,null,"Myths & Mysteries","Mysterious Encounters","Mothman","978-0-7377-5466-7","KidHaven Publishing","eBook",1,2010,null,"eBook",null,"Author","Q. L. Pearce",null,null,null,null,null,null,"Years 9 - 13",null,"Grade 4 - 8","Paranormal encounters fascinate young readers, and this exciting series is devoted to them. Heavily illustrated and clearly written, each book presents phenomena such as aliens, ghosts and werewolves. Eyewitness accounts are paired with alternative explanations and other elements of reasoning, accompanied by critical thinking sidebars, color photographs, illustrations and diagrams.","English",36.96,36.96,"001.944","48 pp.",{"$f":"Table1[[#This Row],['# of Books]]*Table1[[#This Row],[QTY]]","v":0},{"$f":"Table1[[#This Row],[QTY]]*Table1[[#This Row],[School & Library Price]]","v":0}]
[null,110,null,null,"Myths & Mysteries","Mysterious Encounters","Mothman","978-0-7377-5037-9","KidHaven Publishing","Library Bound Book",1,2010,null,"Library Bound","6.000 X 9.000","Author","Q. L. Pearce",null,null,null,null,null,null,"Years 9 - 13",null,"Grade 4 - 8","Eyewitness accounts of paranormal encounters enthrall young readers and challenge their critical thinking skills. This book describes the creature dubbed \"Mothman\" by the press. Beginning in Virginia in the early 1960s, witnesses reported sighting a flying creature about seven feet tall with a wingspan of more than ten feet, glowing red eyes and scaly skin. It made a screeching sound, caused radio interference, and seemed to have some sort of mind control power. As reports continued, more powers were attributed to the creature and the legend grew.","English",33.6,26.880000000000003,"001","48 pp.",{"$f":"Table1[[#This Row],['# of Books]]*Table1[[#This Row],[QTY]]","v":0},{"$f":"Table1[[#This Row],[QTY]]*Table1[[#This Row],[School & Library Price]]","v":0}]
[null,110,null,null,"Myths & Mysteries","Mysterious Encounters","Mysterious Disappearances","978-0-7377-6039-2","KidHaven Publishing","eBook",1,2011,null,"eBook",null,"Author","Q. L. Pearce",null,null,null,null,null,null,"Years 9 - 13",null,"Grade 4 - 8",null,"English",36.96,36.96,"001.94","48 pp.",{"$f":"Table1[[#This Row],['# of Books]]*Table1[[#This Row],[QTY]]","v":0},{"$f":"Table1[[#This Row],[QTY]]*Table1[[#This Row],[School & Library Price]]","v":0}]
[null,110,null,null,"Myths & Mysteries","Mysterious Encounters","Mysterious Disappearances","978-0-7377-5840-5","KidHaven Publishing","Library Bound Book",1,2011,null,"Library Bound","6.000 X 9.000","Author","Q. L. Pearce",null,null,null,null,null,null,"Years 9 - 13",null,"Grade 4 - 8",null,"English",33.6,26.880000000000003,"001.94","48 pp.",{"$f":"Table1[[#This Row],['# of Books]]*Table1[[#This Row],[QTY]]","v":0},{"$f":"Table1[[#This Row],[QTY]]*Table1[[#This Row],[School & Library Price]]","v":0}]
[null,110,null,null,"Myths & Mysteries","Mysterious Encounters","Oak Island Treasure Pit","978-0-7377-6005-7","KidHaven Publishing","eBook",1,2011,null,"eBook",null,"Author","Shirley Raye Redmond",null,null,null,null,null,null,"Years 9 - 13",null,"Grade 4 - 8",null,"English",36.96,36.96,"971.6","48 pp.",{"$f":"Table1[[#This Row],['# of Books]]*Table1[[#This Row],[QTY]]","v":0},{"$f":"Table1[[#This Row],[QTY]]*Table1[[#This Row],[School & Library Price]]","v":0}]
[null,110,null,null,"Myths & Mysteries","Mysterious Encounters","Poltergeists","978-0-7377-3665-6","KidHaven Publishing","Library Bound Book",1,2007,null,"Library Bound","6.000 X 9.000","Author","Katy Duffield",null,null,null,null,null,null,"Years 9 - 13",null,"Grade 4 - 8",null,"English",33.6,26.880000000000003,"133.1","48 pp.",{"$f":"Table1[[#This Row],['# of Books]]*Table1[[#This Row],[QTY]]","v":0},{"$f":"Table1[[#This Row],[QTY]]*Table1[[#This Row],[School & Library Price]]","v":0}]
[null,110,null,null,"Myths & Mysteries","Mysterious Encounters","Reincarnation","978-0-7377-5498-8","KidHaven Publishing","eBook",1,2009,null,"eBook",null,"Author","Q. L. Pearce",null,null,null,null,null,null,"Years 9 - 13",null,"Grade 4 - 8","This title provides an introduction to reincarnation including different religions' beliefs, people who claim to have been reincarnated, and using hypnosis to bring back memories of a past life. Paranormal encounters fascinate young readers, and this exciting series is devoted to them. Heavily illustrated and clearly written, each book presents phenomena such as aliens, ghosts and werewolves.","English",36.96,36.96,"129","48 pp.",{"$f":"Table1[[#This Row],['# of Books]]*Table1[[#This Row],[QTY]]","v":0},{"$f":"Table1[[#This Row],[QTY]]*Table1[[#This Row],[School & Library Price]]","v":0}]
[null,110,null,null,"Myths & Mysteries","Mysterious Encounters","Reincarnation","978-0-7377-4412-5","KidHaven Publishing","Library Bound Book",1,2009,null,"Library Bound","6.000 X 9.000","Author","Q. L. Pearce",null,null,null,null,null,null,"Years 9 - 13",null,"Grade 4 - 8",null,"English",33.6,26.880000000000003,"129","48 pp.",{"$f":"Table1[[#This Row],['# of Books]]*Table1[[#This Row],[QTY]]","v":0},{"$f":"Table1[[#This Row],[QTY]]*Table1[[#This Row],[School & Library Price]]","v":0}]
[null,110,null,null,"Myths & Mysteries","Mysterious Encounters","Spontaneous Human Combustion","978-0-7377-5499-5","KidHaven Publishing","eBook",1,2009,null,"eBook",null,"Author","Stuart A. Kallen",null,null,null,null,null,null,"Years 9 - 13",null,"Grade 4 - 8","This title provides eyewitness accounts, with alternative explanations and other elements of reasoning, to explore mysterious cases of spontaneous human combustion. Paranormal encounters fascinate young readers, and this exciting series is devoted to them. Heavily illustrated and clearly written, each book presents phenomena such as aliens, ghosts and werewolves.","English",36.96,36.96,"001.94","48 pp.",{"$f":"Table1[[#This Row],['# of Books]]*Table1[[#This Row],[QTY]]","v":0},{"$f":"Table1[[#This Row],[QTY]]*Table1[[#This Row],[School & Library Price]]","v":0}]
[null,110,null,null,"Myths & Mysteries","Mysterious Encounters","Spontaneous Human Combustion","978-0-7377-4413-2","KidHaven Publishing","Library Bound Book",1,2009,null,"Library Bound","6.000 X 9.000","Author","Stuart A. Kallen",null,null,null,null,null,null,"Years 9 - 13",null,"Grade 4 - 8",null,"English",33.6,26.880000000000003,"001","48 pp.",{"$f":"Table1[[#This Row],['# of Books]]*Table1[[#This Row],[QTY]]","v":0},{"$f":"Table1[[#This Row],[QTY]]*Table1[[#This Row],[School & Library Price]]","v":0}]
[null,110,null,null,"Myths & Mysteries","Mysterious Encounters","Stonehenge","978-0-7377-5500-8","KidHaven Publishing","eBook",1,2010,null,"eBook",null,"Author","Q. L. Pearce",null,null,null,null,null,null,"Years 9 - 13",null,"Grade 4 - 8","Provides eyewitness accounts, with alternative explanations and other elements of reasoning, to explore legends surrounding the mystery of Stonehenge. Describes the Stonehenge megalithic circle on Britain's Salisbury Plain, exploring the many theories about how it was built, by whom, and why. It also examines what current studies have found about Stonehenge's builders and related ancient sites. Paranormal encounters fascinate young readers, and this exciting series is devoted to them. Heavily illustrated and clearly written, each book presents phenomena such as aliens, ghosts and werewolves.","English",36.96,36.96,"936","48 pp.",{"$f":"Table1[[#This Row],['# of Books]]*Table1[[#This Row],[QTY]]","v":0},{"$f":"Table1[[#This Row],[QTY]]*Table1[[#This Row],[School & Library Price]]","v":0}]
[null,110,null,null,"Myths & Mysteries","Mysterious Encounters","The Afterlife","978-0-7377-5487-2","KidHaven Publishing","eBook",1,2008,null,"eBook",null,"Author","Rachel Lynette",null,null,null,null,null,null,"Years 9 - 13",null,"Grade 4 - 8",null,"English",36.96,36.96,"133.901","48 pp.",{"$f":"Table1[[#This Row],['# of Books]]*Table1[[#This Row],[QTY]]","v":0},{"$f":"Table1[[#This Row],[QTY]]*Table1[[#This Row],[School & Library Price]]","v":0}]
[null,110,null,null,"Myths & Mysteries","Mysterious Encounters","The Bermuda Triangle","978-0-7377-5489-6","KidHaven Publishing","eBook",1,2008,null,"eBook",null,"Author","Katy Duffield",null,null,null,null,null,null,"Years 9 - 13",null,"Grade 4 - 8","This title provides eyewitness accounts, with alternative explanations and other elements of reasoning, to explore the mysterious disappearances of ships and planes in that area of the Atlantic Ocean called the Bermuda Triangle. Paranormal encounters fascinate young readers, and this exciting series is devoted to them. Heavily illustrated and clearly written, each book presents phenomena such as aliens, ghosts and werewolves.","English",36.96,36.96,"001.94","48 pp.",{"$f":"Table1[[#This Row],['# of Books]]*Table1[[#This Row],[QTY]]","v":0},{"$f":"Table1[[#This Row],[QTY]]*Table1[[#This Row],[School & Library Price]]","v":0}]
[null,110,null,null,"Myths & Mysteries","Mysterious Encounters","The Devil","978-0-7377-5501-5","KidHaven Publishing","eBook",1,2008,null,"eBook",null,"Author","David Robson",null,null,null,null,null,null,"Years 9 - 13",null,"Grade 4 - 8","Provides eyewitness accounts, with alternative explanations and other elements of reasoning, to explore legends surrounding the idea of the devil from a paranormal or occult perspective. Paranormal encounters fascinate young readers, and this exciting series is devoted to them. Heavily illustrated and clearly written, each book presents phenomena such as aliens, ghosts and werewolves.","English",36.96,36.96,"133.4","48 pp.",{"$f":"Table1[[#This Row],['# of Books]]*Table1[[#This Row],[QTY]]","v":0},{"$f":"Table1[[#This Row],[QTY]]*Table1[[#This Row],[School & Library Price]]","v":0}]
[null,110,null,null,"Myths & Mysteries","Mysterious Encounters","The Devil","978-0-7377-3780-6","KidHaven Publishing","Library Bound Book",1,2008,null,"Library Bound","6.000 X 9.000","Author","David Robson",null,null,null,null,null,null,"Years 9 - 13",null,"Grade 4 - 8",null,"English",33.6,26.880000000000003,"235","48 pp.",{"$f":"Table1[[#This Row],['# of Books]]*Table1[[#This Row],[QTY]]","v":0},{"$f":"Table1[[#This Row],[QTY]]*Table1[[#This Row],[School & Library Price]]","v":0}]
[null,110,null,null,"Myths & Mysteries","Mysterious Encounters","The Dover Demon","978-0-7377-5492-6","KidHaven Publishing","eBook",1,2010,null,"eBook",null,"Author","Mary Schulte",null,null,null,null,null,null,"Years 9 - 13",null,"Grade 4 - 8","This title recounts the story of the Dover Demon, a mysterious creature that reportedly appeared in Dover, Massachusetts, in 1977.  Includes eyewitness accounts, alternative explanations and the newest theories. Paranormal encounters fascinate young readers, and this exciting series is devoted to them. Heavily illustrated and clearly written, each book presents phenomena such as aliens, ghosts and werewolves.","English",36.96,36.96,"001.944","48 pp.",{"$f":"Table1[[#This Row],['# of Books]]*Table1[[#This Row],[QTY]]","v":0},{"$f":"Table1[[#This Row],[QTY]]*Table1[[#This Row],[School & Library Price]]","v":0}]
[null,110,null,null,"Myths & Mysteries","Mysterious Encounters","The Dover Demon","978-0-7377-4570-2","KidHaven Publishing","Library Bound Book",1,2010,null,"Library Bound","6.000 X 9.000","Author","Mary Schulte",null,null,null,null,null,null,"Years 9 - 13",null,"Grade 4 - 8","Eyewitness accounts of legends and paranormal encounters enthrall young readers and provide a unique opportunity for them to develop and use critical thinking skills. This book recounts the story of the Dover Demon, a mysterious creature that reportedly appeared in Dover, Massachusetts, in 1977. In three separate encounters, several teenagers gave similar descriptions of an eerie and unidentifiable creature. Details are provided about the sightings, the subsequent investigation, and media reports that followed.","English",33.6,26.880000000000003,"001","48 pp.",{"$f":"Table1[[#This Row],['# of Books]]*Table1[[#This Row],[QTY]]","v":0},{"$f":"Table1[[#This Row],[QTY]]*Table1[[#This Row],[School & Library Price]]","v":0}]
[null,110,null,null,"Myths & Mysteries","Mysterious Encounters","The Possessed","978-0-7377-5502-2","KidHaven Publishing","eBook",1,2008,null,"eBook",null,"Author","Craig E. Blohm",null,null,null,null,null,null,"Years 9 - 13",null,"Grade 4 - 8","Paranormal encounters fascinate young readers, and this exciting series is devoted to them. Heavily illustrated and clearly written, this book describes various instances of demon possession and communicating with spirits throughout history including the Salem witch trials, possession in ancient cultures, and as portrayed by the film industry.","English",36.96,36.96,"133.4","48 pp.",{"$f":"Table1[[#This Row],['# of Books]]*Table1[[#This Row],[QTY]]","v":0},{"$f":"Table1[[#This Row],[QTY]]*Table1[[#This Row],[School & Library Price]]","v":0}]
[null,110,null,null,"Myths & Mysteries","Mysterious Encounters","The Possessed","978-0-7377-3781-3","KidHaven Publishing","Library Bound Book",1,2008,null,"Library Bound","6.000 X 9.000","Author","Craig E. Blohm",null,null,null,null,null,null,"Years 9 - 13",null,"Grade 4 - 8",null,"English",33.6,26.880000000000003,"133","48 pp.",{"$f":"Table1[[#This Row],['# of Books]]*Table1[[#This Row],[QTY]]","v":0},{"$f":"Table1[[#This Row],[QTY]]*Table1[[#This Row],[School & Library Price]]","v":0}]
[null,110,null,null,"Myths & Mysteries","Mysterious Encounters","Time Travel","978-0-7377-5503-9","KidHaven Publishing","eBook",1,2010,null,"eBook",null,"Author","Stuart A. Kallen",null,null,null,null,null,null,"Years 9 - 13",null,"Grade 4 - 8","This title provides eyewitness accounts, with alternative explanations and other elements of reasoning, to explore legends surrounding time travel. Paranormal encounters fascinate young readers, and this exciting series is devoted to them. Heavily illustrated and clearly written, each book presents phenomena such as aliens, ghosts and werewolves.","English",36.96,36.96,"115","48 pp.",{"$f":"Table1[[#This Row],['# of Books]]*Table1[[#This Row],[QTY]]","v":0},{"$f":"Table1[[#This Row],[QTY]]*Table1[[#This Row],[School & Library Price]]","v":0}]
[null,110,null,null,"Myths & Mysteries","Mysterious Encounters","UFOs","978-0-7377-5504-6","KidHaven Publishing","eBook",1,2008,null,"eBook",null,"Author","Jan Burns",null,null,null,null,null,null,"Years 9 - 13",null,"Grade 4 - 8","This title provides eyewitness accounts, with alternative explanations and other elements of reasoning, to explore legends surrounding UFO sightings and alien abductions. Paranormal encounters fascinate young readers, and this exciting series is devoted to them. Heavily illustrated and clearly written, each book presents phenomena such as aliens, ghosts and werewolves.","English",36.96,36.96,"001.942","48 pp.",{"$f":"Table1[[#This Row],['# of Books]]*Table1[[#This Row],[QTY]]","v":0},{"$f":"Table1[[#This Row],[QTY]]*Table1[[#This Row],[School & Library Price]]","v":0}]
[null,110,null,null,"Myths & Mysteries","Mysterious Encounters","Urban Legends","978-0-7377-5505-3","KidHaven Publishing","eBook",1,2008,null,"eBook",null,"Author","Rachel Lynette",null,null,null,null,null,null,"Years 9 - 13",null,"Grade 4 - 8","Paranormal encounters fascinate young readers, and this exciting series is devoted to them. Heavily illustrated and clearly written, this book examines a variety of urban legends from the strange and bizarre to animal antics.","English",36.96,36.96,"398.209173","48 pp.",{"$f":"Table1[[#This Row],['# of Books]]*Table1[[#This Row],[QTY]]","v":0},{"$f":"Table1[[#This Row],[QTY]]*Table1[[#This Row],[School & Library Price]]","v":0}]
[null,110,null,null,"Myths & Mysteries","Mysterious Encounters","Urban Legends","978-0-7377-4049-3","KidHaven Publishing","Library Bound Book",1,2008,null,"Library Bound","6.000 X 9.000","Author","Rachel Lynette",null,null,null,null,null,null,"Years 9 - 13",null,"Grade 4 - 8",null,"English",33.6,26.880000000000003,"398","48 pp.",{"$f":"Table1[[#This Row],['# of Books]]*Table1[[#This Row],[QTY]]","v":0},{"$f":"Table1[[#This Row],[QTY]]*Table1[[#This Row],[School & Library Price]]","v":0}]
[null,110,null,null,"Myths & Mysteries","Mysterious Encounters","Vampires","978-0-7377-3476-8","KidHaven Publishing","Library Bound Book",1,2006,null,"Library Bound","6.000 X 9.000","Author","Bonnie McMeans",null,null,null,null,null,null,"Years 9 - 13",null,"Grade 4 - 8","People have believed in vampires for centuries. According to legend, vampires sleep in a coffin by day and walk the earth by night in search of human blood. This book reveals the reasons for vampire superstitions and explores stories of vampire encounters and exorcisms.","English",33.6,26.880000000000003,"398","48 pp.",{"$f":"Table1[[#This Row],['# of Books]]*Table1[[#This Row],[QTY]]","v":0},{"$f":"Table1[[#This Row],[QTY]]*Table1[[#This Row],[School & Library Price]]","v":0}]

{"sheet":"Sheet2","index":1,"n_rows":27,"n_cols":10,"rows_kept":27,"cut":false,"hidden":false,"merged":[[21,5,21,6],[22,5,22,6],[24,5,24,6],[13,5,13,6],[15,1,15,2],[15,4,15,6],[16,5,16,6],[17,5,17,6],[18,5,18,6],[23,5,23,6],[0,6,3,8],[12,5,12,6],[4,1,4,2],[5,4,7,4],[10,5,10,6],[11,5,11,6]]}
[null,null,null,null,null,null,"Greenhaven Publishing\n353 3rd Avenue, Suite 255 • New York, NY 10010\nPhone: 844-317-7404 • Fax: 844-317-7405\nEmail: gh_custserv@greenhavenpub.com\ngreenhavenpublishing.com"]
[]
[]
[]
[null,"BILL TO:",null,null,null,null,null,null,null,"Visa"]
[null,"School/Library",{"$f":"Sheet1!N8","v":0},null,"For Credit card orders \nselect one:",null,null,null,null,"Mastercard"]
[null,"Attention",{"$f":"Sheet1!N9","v":0},null,null,null,"Select Card Type",null,null,"AMEX"]
[null,"Address",{"$f":"Sheet1!N11","v":0}]
[null,"City",{"$f":"Sheet1!N12","v":0}]
[null,"State",{"$f":"Sheet1!N13","v":0}]
[null,"Zip",{"$f":"Sheet1!N14","v":0},null,"Card Number"]
[null,"Phone",{"$f":"Sheet1!N16","v":0},null,"Name on Card"]
[null,"Fax",{"$f":"Sheet1!N17","v":0},null,"Exp. Date"]
[null,"email",{"$f":"Sheet1!N18","v":0},null,"CVV Code"]
[]
[null,"SHIP TO:",null,null,"SUMMARY"]
[null,"School/Library",{"$f":"Sheet1!G8","v":0},null,"Book Subtotal",{"$f":"Sheet1!AC11","v":0}]
[null,"Attention",{"$f":"Sheet1!G9","v":0},null,"Library Processing",{"$f":"Sheet1!AC12","v":0}]
[null,"Address",{"$f":"Sheet1!G11","v":0},null,"S&H",{"$f":"Sheet1!AC13","v":0}]
[null,"City",{"$f":"Sheet1!G12","v":0}]
[null,"State",{"$f":"Sheet1!G13","v":0}]
[null,"Zip",{"$f":"Sheet1!G14","v":0},null,"Tax",{"$f":"Sheet1!AC14","v":0},null,"Notes"]
[null,"Phone",{"$f":"Sheet1!G16","v":0},null,"GRAND TOTAL",{"$f":"Sheet1!AC15","v":0}]
[null,"Fax",{"$f":"Sheet1!G17","v":0},null,"Total # of Books Ordered",{"$f":"Sheet1!Y9+Sheet1!AA9","v":0}]
[null,"email",{"$f":"Sheet1!G18","v":0},null,"Purchase Order #",{"$f":"Sheet1!G20","v":0}]
[]
["QTY","ISBN","Description",null,"Product Type","# of Books","© Date","Price (ea.)","Total"]

{"sheet":"StandingOrder","index":2,"n_rows":47,"n_cols":8,"rows_kept":47,"cut":false,"hidden":false,"merged":[[6,0,7,7],[9,4,9,6],[10,4,10,6],[16,2,16,3],[17,2,17,3],[8,2,8,3],[9,2,9,3],[11,2,11,3],[12,2,12,3],[13,2,13,3],[14,2,14,3],[15,2,15,3],[10,2,10,3],[16,4,16,6],[17,4,17,6],[19,4,19,6],[26,5,26,6],[11,4,11,6],[12,4,12,6],[13,4,13,6],[14,4,14,6],[15,4,15,6],[21,5,21,6],[22,5,22,6],[23,5,23,6],[24,5,24,6],[25,5,25,6]]}
[null,null,null,"MAIL TO",null,"CALL  (toll-free)","FAX (toll-free)"]
[null,null,null,"Greenhaven Publishing",null," 844-317-7404","844-317-7405"]
[null,null,null,"353 3rd Avenue, Suite 255"]
[null,null,null,"New York, NY 10010",null,"EMAIL"]
[null,null,null,null,null,"gh_custserv@greenhavenpub.com"]
[]
["Standing Order Plan"]
[]
[]
[null,null,"BILL TO",null,"SHIP TO"]
[null,"INSTITUTION:",{"$f":"Sheet1!N8","v":0},null,{"$f":"Sheet1!G8","v":0}]
[null,"ATTENTION/NAME:",{"$f":"Sheet1!N9","v":0},null,{"$f":"Sheet1!G9","v":0}]
[null,"ADDRESS:",{"$f":"Sheet1!N11","v":0},null,{"$f":"Sheet1!G11","v":0}]
[null,"CITY/STATE/PROVINCE:",{"$f":"Sheet1!N12&\", \"&Sheet1!N13","v":", "},null,{"$f":"Sheet1!G12&\", \"&Sheet1!G13","v":", "}]
[null,"ZIP/POSTAL CODE/COUNTRY:",{"$f":"Sheet1!N14","v":0},null,{"$f":"Sheet1!G14","v":0}]
[null,"TELEPHONE:",{"$f":"Sheet1!N16","v":0},null,{"$f":"Sheet1!G16","v":0}]
[null,"FAX:",{"$f":"Sheet1!N17","v":0},null,{"$f":"Sheet1!G17","v":0}]
[null,"EMAIL:",{"$f":"Sheet1!N18","v":0},null,{"$f":"Sheet1!G18","v":0}]
[]
[null,null,null,null,"PAYMENT METHOD"]
[null,null,null,null,null,null,"Select Card type"]
[null,null,null,null,"Card Number"]
[null,"**Go back to Order Form to see a complete listing of all available and upcoming titles for these Series",null,null,"Name on card"]
[null,null,null,null,"Expiration Date"]
[null,null,null,null,"CVV Code"]
[null,null,null,null,"Signature"]
[null,null,null,null,"Special Instructions"]
[]
["QTY:","IMPRINT","SERIES","BINDING","Per Title \nList Price","Standing \nOrder Price\n25% OFF!","Sign me up on \nSTANDING ORDER \n(please check)","I require notification in order to issue a new purchase order\nMUST CHOOSE ONE"]
[null,"Greenhaven Publishing","At Issue (NEW TITLES Coming Jan. 2018)","Library Bound",39.4,29.549999999999997]
[null,"Greenhaven Publishing","At Issue (NEW TITLES Coming Jan. 2018)","Paperback",27.8,20.85]
[null,"Greenhaven Publishing","Current Controversies (NEW TITLES Coming Jan. 2018)","Library Bound",46.4,34.799999999999997]
[null,"Greenhaven Publishing","Current Controversies (NEW TITLES Coming Jan. 2018)","Paperback",32,24]
[null,"Greenhaven Publishing","Genocide and Persecution","Library Bound",42,31.5]
[null,"Greenhaven Publishing","Introducing Issues with Opposing Viewpoints (NEW TITLES Coming Jan. 2018)","Library Bound",42,31.5]
[null,"Greenhaven Publishing","Issues That Concern You (NEW TITLES Coming Jan. 2018)","Library Bound",42,31.5]
[null,"Greenhaven Publishing","Opposing Viewpoints (NEW TITLES Coming Jan. 2018)","Library Bound",48.8,36.599999999999994]
[null,"Greenhaven Publishing","Opposing Viewpoints (NEW TITLES Coming Jan. 2018)","Paperback",33.799999999999997,25.349999999999998]
[null,"Greenhaven Publishing","Perspectives on Modern World History","Library Bound",47.8,35.849999999999994]
[null,"Greenhaven Publishing","Teen Rights and Freedoms","Library Bound",42,31.5]
[null,"Lucent Press","Diseases & Disorders (NEW TITLES Coming Jan. 2018)","Library Bound",39.9,29.924999999999997]
[null,"Lucent Press","Hot Topics (NEW TITLES Coming Jan. 2018)","Library Bound",39.4,29.549999999999997]
[null,"Lucent Press","Mythology and Culture Worldwide","Library Bound",39.4,29.549999999999997]
[null,"Lucent Press","Nutrition & Health","Library Bound",35.700000000000003,26.775000000000002]
[null,"Lucent Press","People in the News","Library Bound",39.4,29.549999999999997]
[null,"Lucent Press","Science Behind Sports","Library Bound",39.4,29.549999999999997]
[null,"Lucent Press","World History (NEW TITLES Coming Jan. 2018)","Library Bound",39.4,29.549999999999997]