{"text_format":"1","workbook":"xlsx","n_sheets":2,"sheets":["Sheet1","Sheet2"],"not_rendered":{"charts":0,"images":1,"macros":1,"external_links":0,"defined_names":5,"comments":2,"pivot_tables":0},"unopened":[],"bounds":{"document_bytes":16777216,"sheet_cells":100000,"rows_first":2000,"rows_last":500,"rows_between":2000,"halvings":0,"cell_chars":16384,"cell_head_chars":4096},"cells_cut":0,"cells_raw":0,"read":"whole","date_system":"1900"}

{"sheet":"Sheet1","index":0,"n_rows":5397,"n_cols":31,"rows_kept":2250,"cut":true,"hidden":false,"merged":[[6,19,6,27],[10,19,10,23],[11,19,11,23],[12,19,12,23],[13,19,13,23],[7,24,7,25],[7,26,7,27],[13,24,13,25],[13,26,13,27],[8,24,8,25],[8,26,8,27],[9,24,9,25],[9,26,9,27],[14,19,14,23],[7,22,7,23],[8,22,8,23],[9,22,9,23],[19,4,19,5],[19,8,19,16],[7,20,7,21],[8,20,8,21],[9,20,9,21],[17,8,17,16],[11,8,11,16],[12,8,12,16],[13,8,13,16],[14,8,14,16],[15,8,15,16],[16,8,16,16],[14,24,14,25],[14,26,14,27],[10,24,10,25],[10,26,10,27],[11,24,11,25],[11,26,11,27],[12,24,12,25],[12,26,12,27],[6,7,6,16],[7,8,7,16],[8,8,8,16],[9,8,9,16],[10,8,10,16],[10,4,10,5],[11,4,11,5],[8,4,8,5],[9,4,9,5],[6,3,6,5],[7,4,7,5],[16,4,16,5],[17,4,17,5],[14,4,14,5],[15,4,15,5],[12,4,12,5],[13,4,13,5]],"bounds":{"rows_first":1000,"rows_last":250,"rows_between":1000,"halvings":1}}
[]
[]
[]
[]
[]
[]
[null,null,null,"Ship to",null,null,null,"Bill to",null,null,null,null,null,null,null,null,null,null,null,"Summary"]
[null,null,null,"School/Library:",null,null,null,"School/Library:",null,null,null,null,null,null,null,null,null,null,null,null,"Print",null,"Online Resource(s)",null," eBooks",null,"Interactive eBooks"]
[null,null,null,"Attention:",null,null,null,"Attention:",null,null,null,null,null,null,null,null,null,null,null,"# of Books",{"$f":"SUMPRODUCT(((Table1[Type]=\"Library Bound Book\")\n+(Table1[Type]=\"Library Set\")\n+(Table1[Type]=\"Fiction/Nonfiction Pair Set\")\n+(Table1[Type]=\"Fiction/Nonfiction Pair\")\n+(Table1[Type]=\"Single Copy Set\"))*(Table1[Subtotal QTY]))","v":0},null,{"$f":"SUMPRODUCT(((Table1[Type]=\"Online Resource\")+(Table1[Type]=\"Online Resource Set\"))*(Table1[Subtotal QTY]))","v":0},null,{"$f":"SUMPRODUCT((Table1[Type]=\"eBook\")*(Table1[Subtotal QTY]))","v":0},null,{"$f":"SUMPRODUCT(((Table1[Type]=\"Interactive eBook\")+(Table1[Type]=\"Interactive eBook Set\"))*(Table1[Subtotal QTY]))","v":0}]
[null,null,null,"Title:",null,null,null,"Title:",null,null,null,null,null,null,null,null,null,null,null,"Subtotal",{"$f":"SUMPRODUCT(((Table1[Type]=\"Library Bound Book\")\n+(Table1[Type]=\"Library Set\")\n+(Table1[Type]=\"Fiction/Nonfiction Pair Set\")\n+(Table1[Type]=\"Fiction/Nonfiction Pair\")\n+(Table1[Type]=\"Single Copy Set\"))*(Table1[Subtotal]))","v":0},null,{"$f":"SUMPRODUCT(((Table1[Type]=\"Online Resource\")+(Table1[Type]=\"Online Resource Set\"))*(Table1[Subtotal]))","v":0},null,{"$f":"SUMPRODUCT((Table1[Type]=\"eBook\")*(Table1[Subtotal]))","v":0},null,{"$f":"SUMPRODUCT(((Table1[Type]=\"Interactive eBook\")+(Table1[Type]=\"Interactive eBook Set\"))*(Table1[Subtotal]))","v":0}]
[null,null,null,"Street Address:",null,null,null,"Street Address:",null,null,null,null,null,null,null,null,null,null,null,null,null,null,null,null,"Book Subtotal",null,{"$f":"U10+W10+Y10+AA10","v":0}]
[null,null,null,"City:",null,null,null,"City:",null,null,null,null,null,null,null,null,null,null,null,"(if applicable)",null,null,null,null,"Library Processing"]
[null,null,null,"State:",null,null,null,"State:",null,null,null,null,null,null,null,null,null,null,null,"9% S&H (FREE on all orders over $500)",null,null,null,null,"Shipping & Handling",null,{"$f":"IF(AA11<500,(AA11*0.09),(\"0.00\"))","v":0}]
[null,null,null,"Zip:",null,null,null,"Zip:",null,null,null,null,null,null,null,null,null,null,null,"(if applicable)",null,null,null,null,"Tax"]
[null,null,null,"Contact Name:",null,null,null,"Contact Name:",null,null,null,null,null,null,null,null,null,null,null,null,null,null,null,null,"GRAND TOTAL",null,{"$f":"AA11+AA12+AA13+AA14","v":0}]
[null,null,null,"Phone:",null,null,null,"Phone:"]
[null,null,null,"Fax:",null,null,null,"Fax:",null,null,null,null,null,null,null,null,null,null,null,null,"Notes"]
[null,null,null,"email:",null,null,null,"email:"]
[]
[null,null,null,"PO# (if needed)",null,null,null,"Rep Name","Mike White (mikewhite@booklookindiana.com) 317-490-5495"]
[]
["QTY","Fall Pg#","Spring Pg#","Series","# Books","Title","Type","IEB HTML5/Flash","ISBN","© Date","Season","Binding","Trim Size","Contributor type","Contributor","ATOS","Points","DRA","EIL","GRL","Lexile","Reading Level","Interest Level","Description","Language","List Price","S&L Price","Dewey One","Page Count","Subtotal QTY","Subtotal"]
[null,6,5,"Report Builder",1,"Reptiles and Amphibians Database","Online Resource",null,"978-1-4824-6561-7",2018,"August 2017",null," "," ",null,null,null,null,null,null,null,"Grade 1 - 2","Grade K - 4","Grades K–4. Report Builder's interactive question-and-answer approach helps emerging researchers find the information they need to write reports. Curriculum-based topics are concise and supported by eye-catching visuals.","English",99,99,null,"",{"$f":"Table1[[#This Row],['# Books]]*Table1[[#This Row],[QTY]]","v":0},{"$f":"Table1[[#This Row],[QTY]]*Table1[[#This Row],[S&L Price]]","v":0}]
[null,6,5,"Report Builder",1,"U.S. Symbols and Landmarks Database","Online Resource",null,"978-1-4824-6563-1",2018,"August 2017",null," "," ",null,null,null,null,null,null,null,"Grade 1 - 2","Grade K - 4","Grades K–4. Report Builder's interactive question-and-answer approach helps emerging researchers find the information they need to write reports. Curriculum-based topics are concise and supported by eye-catching visuals.","English",99,99,null,"",{"$f":"Table1[[#This Row],['# Books]]*Table1[[#This Row],[QTY]]","v":0},{"$f":"Table1[[#This Row],[QTY]]*Table1[[#This Row],[S&L Price]]","v":0}]
[null,6,5,"Report Builder",1,"Weather and Seasons Database","Online Resource",null,"978-1-4824-6562-4",2018,"August 2017",null," "," ",null,null,null,null,null,null,null,"Grade 1 - 2","Grade K - 4","Grades K–4. Report Builder's interactive question-and-answer approach helps emerging researchers find the information they need to write reports. Curriculum-based topics are concise and supported by eye-catching visuals.","English",99,99,null,"",{"$f":"Table1[[#This Row],['# Books]]*Table1[[#This Row],[QTY]]","v":0},{"$f":"Table1[[#This Row],[QTY]]*Table1[[#This Row],[S&L Price]]","v":0}]
[null,7,5,"Report Builder",1,"Birds Database","Online Resource",null,"978-1-4824-6556-3",2017,"January 2017",null," "," ",null,null,null,null,null,null,null,"Grade 1 - 2","Grade K - 4","Grades K–4. Report Builder's interactive question-and-answer approach helps emerging researchers find the information they need to write reports. Curriculum-based topics are concise and supported by eye-catching visuals.","English",99,99,null,"",{"$f":"Table1[[#This Row],['# Books]]*Table1[[#This Row],[QTY]]","v":0},{"$f":"Table1[[#This Row],[QTY]]*Table1[[#This Row],[S&L Price]]","v":0}]
[null,7,5,"Report Builder",1,"People in My Community Database","Online Resource",null,"978-1-4824-6557-0",2017,"January 2017",null," "," ",null,null,null,null,null,null,null,"Grade 1 - 2","Grade K - 4","Grades K–4. Report Builder's interactive question-and-answer approach helps emerging researchers find the information they need to write reports. Curriculum-based topics are concise and supported by eye-catching visuals.","English",99,99,null,"",{"$f":"Table1[[#This Row],['# Books]]*Table1[[#This Row],[QTY]]","v":0},{"$f":"Table1[[#This Row],[QTY]]*Table1[[#This Row],[S&L Price]]","v":0}]
[null,7,5,"Report Builder",1,"Solar System Database","Online Resource",null,"978-1-4824-6558-7",2017,"January 2017",null," "," ",null,null,null,null,null,null,null,"Grade 1 - 2","Grade K - 4","Grades K–4. Report Builder's interactive question-and-answer approach helps emerging researchers find the information they need to write reports. Curriculum-based topics are concise and supported by eye-catching visuals.","English",99,99,null,"",{"$f":"Table1[[#This Row],['# Books]]*Table1[[#This Row],[QTY]]","v":0},{"$f":"Table1[[#This Row],[QTY]]*Table1[[#This Row],[S&L Price]]","v":0}]
[null,7,5,"Report Builder",1,"U.S. Presidents Database","Online Resource",null,"978-1-4824-6559-4",2017,"January 2017",null," "," ",null,null,null,null,null,null,null,"Grade 1 - 2","Grade K - 4","Grades K–4. Report Builder's interactive question-and-answer approach helps emerging researchers find the information they need to write reports. Curriculum-based topics are concise and supported by eye-catching visuals.","English",99,99,null,"",{"$f":"Table1[[#This Row],['# Books]]*Table1[[#This Row],[QTY]]","v":0},{"$f":"Table1[[#This Row],[QTY]]*Table1[[#This Row],[S&L Price]]","v":0}]
[null,null,4,"Report Builder",1,"Dinosaurs and Fossils Database","Online Resource",null,"978-1-4824-6565-5",2018,"January 2018",null,null," "," ",null,null,null,null,null,null,"Grade 1 - 2","Grade K - 4","Grades K to 4. Report Builder's interactive question-and-answer approach helps emerging researchers find the information they need to write reports. Curriculum-based topics are concise and supported by eye-catching visuals.","English",99,99,null,null,{"$f":"Table1[[#This Row],['# Books]]*Table1[[#This Row],[QTY]]","v":0},{"$f":"Table1[[#This Row],[QTY]]*Table1[[#This Row],[S&L Price]]","v":0}]
[null,null,4,"Report Builder",1,"Holidays and Celebrations Database","Online Resource",null,"978-1-4824-6567-9",2019,"January 2018",null,null," "," ",null,null,null,null,null,null,"Grade 1 - 2","Grade K - 4","Grades K to 4. Report Builder's interactive question-and-answer approach helps emerging researchers find the information they need to write reports. Curriculum-based topics are concise and supported by eye-catching visuals.","English",99,99,null,null,{"$f":"Table1[[#This Row],['# Books]]*Table1[[#This Row],[QTY]]","v":0},{"$f":"Table1[[#This Row],[QTY]]*Table1[[#This Row],[S&L Price]]","v":0}]
[null,null,4,"Report Builder",1,"Animal Habitats and Resources Database","Online Resource",null,"978-1-4824-6566-2",2020,"January 2018",null,null," "," ",null,null,null,null,null,null,"Grade 1 - 2","Grade K - 4","Grades K to 4. Report Builder's interactive question-and-answer approach helps emerging researchers find the information they need to write reports. Curriculum-based topics are concise and supported by eye-catching visuals.","English",99,99,null,null,{"$f":"Table1[[#This Row],['# Books]]*Table1[[#This Row],[QTY]]","v":0},{"$f":"Table1[[#This Row],[QTY]]*Table1[[#This Row],[S&L Price]]","v":0}]
[null,11,9,"LitLinks Fiction/Nonfiction Paired Sets Grades K–1",10,"LitLinks Fiction/Nonfiction Paired Sets Grades K–1","Fiction/NonFiction Pair Set",null,"978-1-4824-5391-1",2017,"August 2016",null,null,"Author","VARIOUS VARIOUS",null,null,null,null,null,null,"Grade K - 1","Grade K - 1","Lit Links pairs popular fiction and nonfiction texts that inspire student inquiry and invite critical thinking. The familiar format of fiction introduces a topic and gives the reader confidence to explore and compare its nonfiction counterpart. These paired sets along with a comprehensive learning guide let students demonstrate what they have learned from blending together narrative and expository elements. Lit Links paired fiction and nonfiction:  • Provides opportunities for students to analyze and compare different perspectives  • Develops critical reading and comprehension skills  • Supports “thinking across texts” by Illustrating how different authors treat the same topic  • Builds background knowledge, a wider range of vocabulary, and enhances readers’ comprehension of a specific topic  • Contrasts craft and structures of fiction with craft and structures of informational texts","English",532.70000000000005,399.5,null,"",{"$f":"Table1[[#This Row],['# Books]]*Table1[[#This Row],[QTY]]","v":0},{"$f":"Table1[[#This Row],[QTY]]*Table1[[#This Row],[S&L Price]]","v":0}]
[null,11,9,"LitLinks Fiction/Nonfiction Paired Sets Grades K–1",1,"Jump Frog Jump / Frogs Paired Set","Fiction/NonFiction Pair",null,"978-1-4824-5347-8",2017,"August 2016",null,null,"Author","VARIOUS VARIOUS",null,null,null,null,null,null,"Grade Pre-K - 1","Grade Pre-K - 1","This paired set, along with a comprehensive learning guide, inspires student inquiry and invites critical thinking with paired fiction and nonfiction texts.","English",53.27,39.950000000000003,null,"",{"$f":"Table1[[#This Row],['# Books]]*Table1[[#This Row],[QTY]]","v":0},{"$f":"Table1[[#This Row],[QTY]]*Table1[[#This Row],[S&L Price]]","v":0}]
[null,11,9,"LitLinks Fiction/Nonfiction Paired Sets Grades K–1",1,"Hattie and the Fox / Foxes in the Dark Paired Set","Fiction/NonFiction Pair",null,"978-1-4824-5348-5",2017,"August 2016",null,null,"Author","VARIOUS VARIOUS",null,null,null,null,null,null,"Grade K - 2","Grade K - 2","This paired set, along with a comprehensive learning guide, inspires student inquiry and invites critical thinking with paired fiction and nonfiction texts.","English",53.27,39.950000000000003,null,"",{"$f":"Table1[[#This Row],['# Books]]*Table1[[#This Row],[QTY]]","v":0},{"$f":"Table1[[#This Row],[QTY]]*Table1[[#This Row],[S&L Price]]","v":0}]
[null,11,9,"LitLinks Fiction/Nonfiction Paired Sets Grades K–1",1,"The Snowy Day / It's Snowing Paired Set","Fiction/NonFiction Pair",null,"978-1-4824-5349-2",2017,"August 2016",null,null,"Author","VARIOUS VARIOUS",null,null,null,null,null,null,"Grade K - 2","Grade K - 2","This paired set, along with a comprehensive learning guide, inspires student inquiry and invites critical thinking with paired fiction and nonfiction texts.","English",53.27,39.950000000000003,null,"",{"$f":"Table1[[#This Row],['# Books]]*Table1[[#This Row],[QTY]]","v":0},{"$f":"Table1[[#This Row],[QTY]]*Table1[[#This Row],[S&L Price]]","v":0}]
[null,11,9,"LitLinks Fiction/Nonfiction Paired Sets Grades K–1",1,"Danny and the Dinosaur / Diplodocus Paired Set","Fiction/NonFiction Pair",null,"978-1-4824-5350-8",2017,"August 2016",null,null,"Author","VARIOUS VARIOUS",null,null,null,null,null,null,"Grade K - 2","Grade K - 2","This paired set, along with a comprehensive learning guide, inspires student inquiry and invites critical thinking with paired fiction and nonfiction texts.","English",53.27,39.950000000000003,null,"",{"$f":"Table1[[#This Row],['# Books]]*Table1[[#This Row],[QTY]]","v":0},{"$f":"Table1[[#This Row],[QTY]]*Table1[[#This Row],[S&L Price]]","v":0}]
[null,11,9,"LitLinks Fiction/Nonfiction Paired Sets Grades K–1",1,"The Little Red Hen / Do You Share? Paired Set","Fiction/NonFiction Pair",null,"978-1-4824-5354-6",2017,"August 2016",null,null,"Author","VARIOUS VARIOUS",null,null,null,null,null,null,"Grade Pre-K - 3","Grade Pre-K - 3","This paired set, along with a comprehensive learning guide, inspires student inquiry and invites critical thinking with paired fiction and nonfiction texts.","English",53.27,39.950000000000003,null,"",{"$f":"Table1[[#This Row],['# Books]]*Table1[[#This Row],[QTY]]","v":0},{"$f":"Table1[[#This Row],[QTY]]*Table1[[#This Row],[S&L Price]]","v":0}]
[null,11,9,"LitLinks Fiction/Nonfiction Paired Sets Grades K–1",1,"The Story of Ferdinand / I Am Kind Paired Set","Fiction/NonFiction Pair",null,"978-1-4824-5351-5",2017,"August 2016",null,null,"Author","VARIOUS VARIOUS",null,null,null,null,null,null,"Grade K - 2","Grade K - 2","This paired set, along with a comprehensive learning guide, inspires student inquiry and invites critical thinking with paired fiction and nonfiction texts.","English",53.27,39.950000000000003,null,"",{"$f":"Table1[[#This Row],['# Books]]*Table1[[#This Row],[QTY]]","v":0},{"$f":"Table1[[#This Row],[QTY]]*Table1[[#This Row],[S&L Price]]","v":0}]
[null,11,9,"LitLinks Fiction/Nonfiction Paired Sets Grades K–1",1,"Bread and Jam for Francis / What I Taste Paired Set","Fiction/NonFiction Pair",null,"978-1-4824-5355-3",2017,"August 2016",null,null,"Author","VARIOUS VARIOUS",null,null,null,null,null,null,"Grade Pre-K - 3","Grade Pre-K - 3","This paired set, along with a comprehensive learning guide, inspires student inquiry and invites critical thinking with paired fiction and nonfiction texts.","English",53.27,39.950000000000003,null,"",{"$f":"Table1[[#This Row],['# Books]]*Table1[[#This Row],[QTY]]","v":0},{"$f":"Table1[[#This Row],[QTY]]*Table1[[#This Row],[S&L Price]]","v":0}]
[null,11,9,"LitLinks Fiction/Nonfiction Paired Sets Grades K–1",1,"The Grouchy Ladybug / I See a Ladybug Paired Set","Fiction/NonFiction Pair",null,"978-1-4824-5352-2",2017,"August 2016",null,null,"Author","VARIOUS VARIOUS",null,null,null,null,null,null,"Grade K - 2","Grade K - 2","This paired set, along with a comprehensive learning guide, inspires student inquiry and invites critical thinking with paired fiction and nonfiction texts.","English",53.27,39.950000000000003,null,"",{"$f":"Table1[[#This Row],['# Books]]*Table1[[#This Row],[QTY]]","v":0},{"$f":"Table1[[#This Row],[QTY]]*Table1[[#This Row],[S&L Price]]","v":0}]
[null,11,9,"LitLinks Fiction/Nonfiction Paired Sets Grades K–1",1,"Millions of Cats / Curious Cats Paired Set","Fiction/NonFiction Pair",null,"978-1-4824-5356-0",2017,"August 2016",null,null,"Author","VARIOUS VARIOUS",null,null,null,null,null,null,"Grade Pre-K - 3","Grade Pre-K - 3","This paired set, along with a comprehensive learning guide, inspires student inquiry and invites critical thinking with paired fiction and nonfiction texts.","English",53.27,39.950000000000003,null,"",{"$f":"Table1[[#This Row],['# Books]]*Table1[[#This Row],[QTY]]","v":0},{"$f":"Table1[[#This Row],[QTY]]*Table1[[#This Row],[S&L Price]]","v":0}]
[null,11,9,"LitLinks Fiction/Nonfiction Paired Sets Grades K–1",1,"Chrysanthemum / Don't Be a Bully Paired Set","Fiction/NonFiction Pair",null,"978-1-4824-5353-9",2017,"August 2016",null,null,"Author","VARIOUS VARIOUS",null,null,null,null,null,null,"Grade K - 2","Grade K - 2","This paired set, along with a comprehensive learning guide, inspires student inquiry and invites critical thinking with paired fiction and nonfiction texts.","English",53.27,39.950000000000003,null,"",{"$f":"Table1[[#This Row],['# Books]]*Table1[[#This Row],[QTY]]","v":0},{"$f":"Table1[[#This Row],[QTY]]*Table1[[#This Row],[S&L Price]]","v":0}]
[null,11,9,"LitLinks Fiction/Nonfiction Paired Sets Grades K–1",10,"LitLinks Fiction/Nonfiction Paired Sets Grades K–1","Fiction/NonFiction Pair Set",null,"978-1-4824-2317-4",2015,"August 2014",null,null,"Author","VARIOUS VARIOUS",null,null,null,null,null,null,"Grade K - 1","Grade K - 1","Lit Links pairs popular fiction and nonfiction texts that inspire student inquiry and invite critical thinking. The familiar format of fiction introduces a topic and gives the reader confidence to explore and compare its nonfiction counterpart. These paired sets along with a comprehensive learning guide let students demonstrate what they have learned from blending together narrative and expository elements. Lit Links paired fiction and nonfiction:  • Provides opportunities for students to analyze and compare different perspectives  • Develops critical reading and comprehension skills  • Supports “thinking across texts” by Illustrating how different authors treat the same topic  • Builds background knowledge, a wider range of vocabulary, and enhances readers’ comprehension of a specific topic  • Contrasts craft and structures of fiction with craft and structures of informational texts","English",532.70000000000005,399.5,null,"",{"$f":"Table1[[#This Row],['# Books]]*Table1[[#This Row],[QTY]]","v":0},{"$f":"Table1[[#This Row],[QTY]]*Table1[[#This Row],[S&L Price]]","v":0}]
[null,11,9,"LitLinks Fiction/Nonfiction Paired Sets Grades K–1",1,"Absolutely Not / I See a Bird Paired Set","Fiction/NonFiction Pair",null,"978-1-4824-2308-2",2015,"August 2014",null,null,"Author","VARIOUS VARIOUS",null,null,null,null,null,null,"Grade K - 1","Grade K - 1","This paired set, along with a comprehensive learning guide, inspires student inquiry and invites critical thinking with paired fiction and nonfiction texts.","English",53.27,39.950000000000003,null,"",{"$f":"Table1[[#This Row],['# Books]]*Table1[[#This Row],[QTY]]","v":0},{"$f":"Table1[[#This Row],[QTY]]*Table1[[#This Row],[S&L Price]]","v":0}]
[null,11,9,"LitLinks Fiction/Nonfiction Paired Sets Grades K–1",1,"Amelia Bedelia's First Field Trip / My First Trip to the Farm Paired Set","Fiction/NonFiction Pair",null,"978-1-4824-2309-9",2015,"August 2014",null,null,"Author","VARIOUS VARIOUS",null,null,null,null,null,null,"Grade K - 1","Grade K - 1","This paired set, along with a comprehensive learning guide, inspires student inquiry and invites critical thinking with paired fiction and nonfiction texts.","English",53.27,39.950000000000003,null,"",{"$f":"Table1[[#This Row],['# Books]]*Table1[[#This Row],[QTY]]","v":0},{"$f":"Table1[[#This Row],[QTY]]*Table1[[#This Row],[S&L Price]]","v":0}]
[null,11,9,"LitLinks Fiction/Nonfiction Paired Sets Grades K–1",1,"Bad Dog, Marley! / Lovable Dogs Paired Set","Fiction/NonFiction Pair",null,"978-1-4824-2310-5",2015,"August 2014",null,null,"Author","VARIOUS VARIOUS",null,null,null,null,null,null,"Grade K - 1","Grade K - 1","This paired set, along with a comprehensive learning guide, inspires student inquiry and invites critical thinking with paired fiction and nonfiction texts.","English",53.27,39.950000000000003,null,"",{"$f":"Table1[[#This Row],['# Books]]*Table1[[#This Row],[QTY]]","v":0},{"$f":"Table1[[#This Row],[QTY]]*Table1[[#This Row],[S&L Price]]","v":0}]
[null,11,9,"LitLinks Fiction/Nonfiction Paired Sets Grades K–1",1,"Curious George and the Firefighters / Firefighters Paired Set","Fiction/NonFiction Pair",null,"978-1-4824-2311-2",2015,"August 2014",null,null,"Author","VARIOUS VARIOUS",null,null,null,null,null,null,"Grade K - 1","Grade K - 1","This paired set, along with a comprehensive learning guide, inspires student inquiry and invites critical thinking with paired fiction and nonfiction texts.","English",53.27,39.950000000000003,null,"",{"$f":"Table1[[#This Row],['# Books]]*Table1[[#This Row],[QTY]]","v":0},{"$f":"Table1[[#This Row],[QTY]]*Table1[[#This Row],[S&L Price]]","v":0}]
[null,11,9,"LitLinks Fiction/Nonfiction Paired Sets Grades K–1",1,"Hi! Fly Guy / Freaky Flies Paired Set","Fiction/NonFiction Pair",null,"978-1-4824-2312-9",2015,"August 2014",null,null,"Author","VARIOUS VARIOUS",null,null,null,null,null,null,"Grade K - 1","Grade K - 1","This paired set, along with a comprehensive learning guide, inspires student inquiry and invites critical thinking with paired fiction and nonfiction texts.","English",53.27,39.950000000000003,null,"",{"$f":"Table1[[#This Row],['# Books]]*Table1[[#This Row],[QTY]]","v":0},{"$f":"Table1[[#This Row],[QTY]]*Table1[[#This Row],[S&L Price]]","v":0}]
[null,11,9,"LitLinks Fiction/Nonfiction Paired Sets Grades K–1",1,"Little Bear / Bear Cubs Paired Set","Fiction/NonFiction Pair",null,"978-1-4824-2307-5",2015,"August 2014",null,null,"Author","VARIOUS VARIOUS",null,null,null,null,null,null,"Grade K - 1","Grade K - 1","This paired set, along with a comprehensive learning guide, inspires student inquiry and invites critical thinking with paired fiction and nonfiction texts.","English",53.27,39.950000000000003,null,"",{"$f":"Table1[[#This Row],['# Books]]*Table1[[#This Row],[QTY]]","v":0},{"$f":"Table1[[#This Row],[QTY]]*Table1[[#This Row],[S&L Price]]","v":0}]
[null,11,9,"LitLinks Fiction/Nonfiction Paired Sets Grades K–1",1,"Mercy Watson Thinks Like a Pig / Pigs on the Farm Paired Set","Fiction/NonFiction Pair",null,"978-1-4824-2313-6",2015,"August 2014",null,null,"Author","VARIOUS VARIOUS",null,null,null,null,null,null,"Grade K - 1","Grade K - 1","This paired set, along with a comprehensive learning guide, inspires student inquiry and invites critical thinking with paired fiction and nonfiction texts.","English",53.27,39.950000000000003,null,"",{"$f":"Table1[[#This Row],['# Books]]*Table1[[#This Row],[QTY]]","v":0},{"$f":"Table1[[#This Row],[QTY]]*Table1[[#This Row],[S&L Price]]","v":0}]
[null,11,9,"LitLinks Fiction/Nonfiction Paired Sets Grades K–1",1,"Snail and the Whale / Whales Paired Set","Fiction/NonFiction Pair",null,"978-1-4824-2314-3",2015,"August 2014",null,null,"Author","VARIOUS VARIOUS",null,null,null,null,null,null,"Grade K - 1","Grade K - 1","This paired set, along with a comprehensive learning guide, inspires student inquiry and invites critical thinking with paired fiction and nonfiction texts.","English",53.27,39.950000000000003,null,"",{"$f":"Table1[[#This Row],['# Books]]*Table1[[#This Row],[QTY]]","v":0},{"$f":"Table1[[#This Row],[QTY]]*Table1[[#This Row],[S&L Price]]","v":0}]
[null,11,9,"LitLinks Fiction/Nonfiction Paired Sets Grades K–1",1,"Tuesday / Fun Frogs Paired Set","Fiction/NonFiction Pair",null,"978-1-4824-2315-0",2015,"August 2014",null,null,"Author","VARIOUS VARIOUS",null,null,null,null,null,null,"Grade K - 1","Grade K - 1","This paired set, along with a comprehensive learning guide, inspires student inquiry and invites critical thinking with paired fiction and nonfiction texts.","English",53.27,39.950000000000003,null,"",{"$f":"Table1[[#This Row],['# Books]]*Table1[[#This Row],[QTY]]","v":0},{"$f":"Table1[[#This Row],[QTY]]*Table1[[#This Row],[S&L Price]]","v":0}]
[null,11,9,"LitLinks Fiction/Nonfiction Paired Sets Grades K–1",1,"Winners Never Quit! / Soccer Paired Set","Fiction/NonFiction Pair",null,"978-1-4824-2316-7",2015,"August 2014",null,null,"Author","VARIOUS VARIOUS",null,null,null,null,null,null,"Grade K - 1","Grade K - 1","This paired set, along with a comprehensive learning guide, inspires student inquiry and invites critical thinking with paired fiction and nonfiction texts.","English",53.27,39.950000000000003,null,"",{"$f":"Table1[[#This Row],['# Books]]*Table1[[#This Row],[QTY]]","v":0},{"$f":"Table1[[#This Row],[QTY]]*Table1[[#This Row],[S&L Price]]","v":0}]
[null,12,10,"LitLinks Fiction/Nonfiction Paired Sets Grades 2–3",10,"LitLinks Fiction/Nonfiction Paired Sets Grades 2–3","Fiction/NonFiction Pair Set",null,"978-1-4824-5392-8",2017,"August 2016",null,null,"Author","VARIOUS VARIOUS",null,null,null,null,null,null,"Grade 2 - 3","Grade 2 - 3","Lit Links pairs popular fiction and nonfiction texts that inspire student inquiry and invite critical thinking. The familiar format of fiction introduces a topic and gives the reader confidence to explore and compare its nonfiction counterpart. These paired sets along with a comprehensive learning guide let students demonstrate what they have learned from blending together narrative and expository elements. Lit Links paired fiction and nonfiction:  • Provides opportunities for students to analyze and compare different perspectives  • Develops critical reading and comprehension skills  • Supports “thinking across texts” by Illustrating how different authors treat the same topic  • Builds background knowledge, a wider range of vocabulary, and enhances readers’ comprehension of a specific topic  • Contrasts craft and structures of fiction with craft and structures of informational texts","English",532.70000000000005,399.5,null,"",{"$f":"Table1[[#This Row],['# Books]]*Table1[[#This Row],[QTY]]","v":0},{"$f":"Table1[[#This Row],[QTY]]*Table1[[#This Row],[S&L Price]]","v":0}]
[null,12,10,"LitLinks Fiction/Nonfiction Paired Sets Grades 2–3",1,"Armadillo Rodeo / Let's Explore the Southwest Paired Set","Fiction/NonFiction Pair",null,"978-1-4824-5357-7",2017,"August 2016",null,null,"Author","VARIOUS VARIOUS",null,null,null,null,null,null,"Grade K - 2","Grade K - 2","This paired set, along with a comprehensive learning guide, inspires student inquiry and invites critical thinking with paired fiction and nonfiction texts.","English",53.27,39.950000000000003,null,"",{"$f":"Table1[[#This Row],['# Books]]*Table1[[#This Row],[QTY]]","v":0},{"$f":"Table1[[#This Row],[QTY]]*Table1[[#This Row],[S&L Price]]","v":0}]
[null,12,10,"LitLinks Fiction/Nonfiction Paired Sets Grades 2–3",1,"The Big Wave / Savage Tsunamis Paired Set","Fiction/NonFiction Pair",null,"978-1-4824-5360-7",2017,"August 2016",null,null,"Author","VARIOUS VARIOUS",null,null,null,null,null,null,"Grade Pre-K - 2","Grade Pre-K - 2","This paired set, along with a comprehensive learning guide, inspires student inquiry and invites critical thinking with paired fiction and nonfiction texts.","English",53.27,39.950000000000003,null,"",{"$f":"Table1[[#This Row],['# Books]]*Table1[[#This Row],[QTY]]","v":0},{"$f":"Table1[[#This Row],[QTY]]*Table1[[#This Row],[S&L Price]]","v":0}]
[null,12,10,"LitLinks Fiction/Nonfiction Paired Sets Grades 2–3",1,"White Water / Little Rock Nine and The Fight for Equal Education Paired Set","Fiction/NonFiction Pair",null,"978-1-4824-5362-1",2017,"August 2016",null,null,"Author","VARIOUS VARIOUS",null,null,null,null,null,null,"Grade K - 3","Grade K - 3","This paired set, along with a comprehensive learning guide, inspires student inquiry and invites critical thinking with paired fiction and nonfiction texts.","English",53.27,39.950000000000003,null,"",{"$f":"Table1[[#This Row],['# Books]]*Table1[[#This Row],[QTY]]","v":0},{"$f":"Table1[[#This Row],[QTY]]*Table1[[#This Row],[S&L Price]]","v":0}]
[null,12,10,"LitLinks Fiction/Nonfiction Paired Sets Grades 2–3",1,"Mama Don't Allow / Louis Armstrong Paired Set","Fiction/NonFiction Pair",null,"978-1-4824-5361-4",2017,"August 2016",null,null,"Author","VARIOUS VARIOUS",null,null,null,null,null,null,"Grade Pre-K - 3","Grade Pre-K - 3","This paired set, along with a comprehensive learning guide, inspires student inquiry and invites critical thinking with paired fiction and nonfiction texts.","English",53.27,39.950000000000003,null,"",{"$f":"Table1[[#This Row],['# Books]]*Table1[[#This Row],[QTY]]","v":0},{"$f":"Table1[[#This Row],[QTY]]*Table1[[#This Row],[S&L Price]]","v":0}]
[null,12,10,"LitLinks Fiction/Nonfiction Paired Sets Grades 2–3",1,"Mike Mulligan and His Steam Shovel / Earthmovers Paired Set","Fiction/NonFiction Pair",null,"978-1-4824-5363-8",2017,"August 2016",null,null,"Author","VARIOUS VARIOUS",null,null,null,null,null,null,"Grade K - 2","Grade K - 2","This paired set, along with a comprehensive learning guide, inspires student inquiry and invites critical thinking with paired fiction and nonfiction texts.","English",53.27,39.950000000000003,null,"",{"$f":"Table1[[#This Row],['# Books]]*Table1[[#This Row],[QTY]]","v":0},{"$f":"Table1[[#This Row],[QTY]]*Table1[[#This Row],[S&L Price]]","v":0}]
[null,12,10,"LitLinks Fiction/Nonfiction Paired Sets Grades 2–3",1,"Miss Nelson is Missing / I Am Respectful Paired Set","Fiction/NonFiction Pair",null,"978-1-4824-5364-5",2017,"August 2016",null,null,"Author","VARIOUS VARIOUS",null,null,null,null,null,null,"Grade K - 3","Grade K - 3","This paired set, along with a comprehensive learning guide, inspires student inquiry and invites critical thinking with paired fiction and nonfiction texts.","English",53.27,39.950000000000003,null,"",{"$f":"Table1[[#This Row],['# Books]]*Table1[[#This Row],[QTY]]","v":0},{"$f":"Table1[[#This Row],[QTY]]*Table1[[#This Row],[S&L Price]]","v":0}]
[null,12,10,"LitLinks Fiction/Nonfiction Paired Sets Grades 2–3",1,"Hour of the Olympics / Meet the Ancient Greeks Paired Set","Fiction/NonFiction Pair",null,"978-1-4824-5366-9",2017,"August 2016",null,null,"Author","VARIOUS VARIOUS",null,null,null,null,null,null,"Grade 3 - 5","Grade 3 - 5","This paired set, along with a comprehensive learning guide, inspires student inquiry and invites critical thinking with paired fiction and nonfiction texts.","English",53.27,39.950000000000003,null,"",{"$f":"Table1[[#This Row],['# Books]]*Table1[[#This Row],[QTY]]","v":0},{"$f":"Table1[[#This Row],[QTY]]*Table1[[#This Row],[S&L Price]]","v":0}]
[null,12,10,"LitLinks Fiction/Nonfiction Paired Sets Grades 2–3",1,"The Wolves in the Walls / Coyotes and Wolves Are Not Pets! Paired Set","Fiction/NonFiction Pair",null,"978-1-4824-5365-2",2017,"August 2016",null,null,"Author","VARIOUS VARIOUS",null,null,null,null,null,null,"Grade K - 3","Grade K - 3","This paired set, along with a comprehensive learning guide, inspires student inquiry and invites critical thinking with paired fiction and nonfiction texts.","English",53.27,39.950000000000003,null,"",{"$f":"Table1[[#This Row],['# Books]]*Table1[[#This Row],[QTY]]","v":0},{"$f":"Table1[[#This Row],[QTY]]*Table1[[#This Row],[S&L Price]]","v":0}]
[null,12,10,"LitLinks Fiction/Nonfiction Paired Sets Grades 2–3",1,"A Turkey for Thanksgiving / I Am a Good Friend Paired Set","Fiction/NonFiction Pair",null,"978-1-4824-5358-4",2017,"August 2016",null,null,"Author","VARIOUS VARIOUS",null,null,null,null,null,null,"Grade K - 2","Grade K - 2","This paired set, along with a comprehensive learning guide, inspires student inquiry and invites critical thinking with paired fiction and nonfiction texts.","English",53.27,39.950000000000003,null,"",{"$f":"Table1[[#This Row],['# Books]]*Table1[[#This Row],[QTY]]","v":0},{"$f":"Table1[[#This Row],[QTY]]*Table1[[#This Row],[S&L Price]]","v":0}]
[null,12,10,"LitLinks Fiction/Nonfiction Paired Sets Grades 2–3",1,"Why Mosquitos Buzz in People's Ears / Deadly Mosquitoes Paired Set","Fiction/NonFiction Pair",null,"978-1-4824-5359-1",2017,"August 2016",null,null,"Author","VARIOUS VARIOUS",null,null,null,null,null,null,"Grade K - 2","Grade K - 2","This paired set, along with a comprehensive learning guide, inspires student inquiry and invites critical thinking with paired fiction and nonfiction texts.","English",53.27,39.950000000000003,null,"",{"$f":"Table1[[#This Row],['# Books]]*Table1[[#This Row],[QTY]]","v":0},{"$f":"Table1[[#This Row],[QTY]]*Table1[[#This Row],[S&L Price]]","v":0}]
[null,12,10,"LitLinks Fiction/Nonfiction Paired Sets Grades 2–3",10,"LitLinks Fiction/Nonfiction Paired Sets Grades 2–3","Fiction/NonFiction Pair Set",null,"978-1-4824-2328-0",2015,"August 2014",null,null,"Author","VARIOUS VARIOUS",null,null,null,null,null,null,"Grade 2 - 3","Grade 2 - 3","Lit Links pairs popular fiction and nonfiction texts that inspire student inquiry and invite critical thinking. The familiar format of fiction introduces a topic and gives the reader confidence to explore and compare its nonfiction counterpart. These paired sets along with a comprehensive learning guide let students demonstrate what they have learned from blending together narrative and expository elements. Lit Links paired fiction and nonfiction:  • Provides opportunities for students to analyze and compare different perspectives  • Develops critical reading and comprehension skills  • Supports “thinking across texts” by Illustrating how different authors treat the same topic  • Builds background knowledge, a wider range of vocabulary, and enhances readers’ comprehension of a specific topic  • Contrasts craft and structures of fiction with craft and structures of informational texts","English",532.70000000000005,399.5,null,"",{"$f":"Table1[[#This Row],['# Books]]*Table1[[#This Row],[QTY]]","v":0},{"$f":"Table1[[#This Row],[QTY]]*Table1[[#This Row],[S&L Price]]","v":0}]
[null,12,10,"LitLinks Fiction/Nonfiction Paired Sets Grades 2–3",1,"Because of Winn-Dixie / Helping Dogs Paired Set","Fiction/NonFiction Pair",null,"978-1-4824-2322-8",2015,"August 2014",null,null,"Author","VARIOUS VARIOUS",null,null,null,null,null,null,"Grade 2 - 3","Grade 2 - 3","This paired set, along with a comprehensive learning guide, inspires student inquiry and invites critical thinking with paired fiction and nonfiction texts.","English",53.27,39.950000000000003,null,"",{"$f":"Table1[[#This Row],['# Books]]*Table1[[#This Row],[QTY]]","v":0},{"$f":"Table1[[#This Row],[QTY]]*Table1[[#This Row],[S&L Price]]","v":0}]
[null,12,10,"LitLinks Fiction/Nonfiction Paired Sets Grades 2–3",1,"The Boy Who Cried Wolf / I Am Honest Paired Set","Fiction/NonFiction Pair",null,"978-1-4824-2319-8",2015,"August 2014",null,null,"Author","VARIOUS VARIOUS",null,null,null,null,null,null,"Grade 2 - 3","Grade 2 - 3","This paired set, along with a comprehensive learning guide, inspires student inquiry and invites critical thinking with paired fiction and nonfiction texts.","English",53.27,39.950000000000003,null,"",{"$f":"Table1[[#This Row],['# Books]]*Table1[[#This Row],[QTY]]","v":0},{"$f":"Table1[[#This Row],[QTY]]*Table1[[#This Row],[S&L Price]]","v":0}]
[null,12,10,"LitLinks Fiction/Nonfiction Paired Sets Grades 2–3",1,"The Goose That Laid the Golden Egg / I Can Share Paired Set","Fiction/NonFiction Pair",null,"978-1-4824-2318-1",2015,"August 2014",null,null,"Author","VARIOUS VARIOUS",null,null,null,null,null,null,"Grade 2 - 3","Grade 2 - 3","This paired set, along with a comprehensive learning guide, inspires student inquiry and invites critical thinking with paired fiction and nonfiction texts.","English",53.27,39.950000000000003,null,"",{"$f":"Table1[[#This Row],['# Books]]*Table1[[#This Row],[QTY]]","v":0},{"$f":"Table1[[#This Row],[QTY]]*Table1[[#This Row],[S&L Price]]","v":0}]
[null,12,10,"LitLinks Fiction/Nonfiction Paired Sets Grades 2–3",1,"Henry and Mudge: The First Book of Their Adventures / Dogs Paired Set","Fiction/NonFiction Pair",null,"978-1-4824-2326-6",2015,"August 2014",null,null,"Author","VARIOUS VARIOUS",null,null,null,null,null,null,"Grade 2 - 3","Grade 2 - 3","This paired set, along with a comprehensive learning guide, inspires student inquiry and invites critical thinking with paired fiction and nonfiction texts.","English",53.27,39.950000000000003,null,"",{"$f":"Table1[[#This Row],['# Books]]*Table1[[#This Row],[QTY]]","v":0},{"$f":"Table1[[#This Row],[QTY]]*Table1[[#This Row],[S&L Price]]","v":0}]
[null,12,10,"LitLinks Fiction/Nonfiction Paired Sets Grades 2–3",1,"Little House in the Big Woods / Life as a Pioneer Paired Set","Fiction/NonFiction Pair",null,"978-1-4824-2323-5",2015,"August 2014",null,null,"Author","VARIOUS VARIOUS",null,null,null,null,null,null,"Grade 2 - 3","Grade 2 - 3","This paired set, along with a comprehensive learning guide, inspires student inquiry and invites critical thinking with paired fiction and nonfiction texts.","English",53.27,39.950000000000003,null,"",{"$f":"Table1[[#This Row],['# Books]]*Table1[[#This Row],[QTY]]","v":0},{"$f":"Table1[[#This Row],[QTY]]*Table1[[#This Row],[S&L Price]]","v":0}]
[null,12,10,"LitLinks Fiction/Nonfiction Paired Sets Grades 2–3",1,"Mr. Popper's Penguins / Penguins Paired Set","Fiction/NonFiction Pair",null,"978-1-4824-2324-2",2015,"August 2014",null,null,"Author","VARIOUS VARIOUS",null,null,null,null,null,null,"Grade 2 - 3","Grade 2 - 3","This paired set, along with a comprehensive learning guide, inspires student inquiry and invites critical thinking with paired fiction and nonfiction texts.","English",53.27,39.950000000000003,null,"",{"$f":"Table1[[#This Row],['# Books]]*Table1[[#This Row],[QTY]]","v":0},{"$f":"Table1[[#This Row],[QTY]]*Table1[[#This Row],[S&L Price]]","v":0}]
[null,12,10,"LitLinks Fiction/Nonfiction Paired Sets Grades 2–3",1,"The Raft / Rivers Paired Set","Fiction/NonFiction Pair",null,"978-1-4824-2321-1",2015,"August 2014",null,null,"Author","VARIOUS VARIOUS",null,null,null,null,null,null,"Grade 2 - 3","Grade 2 - 3","This paired set, along with a comprehensive learning guide, inspires student inquiry and invites critical thinking with paired fiction and nonfiction texts.","English",53.27,39.950000000000003,null,"",{"$f":"Table1[[#This Row],['# Books]]*Table1[[#This Row],[QTY]]","v":0},{"$f":"Table1[[#This Row],[QTY]]*Table1[[#This Row],[S&L Price]]","v":0}]
[null,12,10,"LitLinks Fiction/Nonfiction Paired Sets Grades 2–3",1,"Sarah, Plain and Tall / Life in the Wild West Paired Set","Fiction/NonFiction Pair",null,"978-1-4824-2325-9",2015,"August 2014",null,null,"Author","VARIOUS VARIOUS",null,null,null,null,null,null,"Grade 2 - 3","Grade 2 - 3","This paired set, along with a comprehensive learning guide, inspires student inquiry and invites critical thinking with paired fiction and nonfiction texts.","English",53.27,39.950000000000003,null,"",{"$f":"Table1[[#This Row],['# Books]]*Table1[[#This Row],[QTY]]","v":0},{"$f":"Table1[[#This Row],[QTY]]*Table1[[#This Row],[S&L Price]]","v":0}]
[null,12,10,"LitLinks Fiction/Nonfiction Paired Sets Grades 2–3",1,"Storm / Hurricanes Paired Set","Fiction/NonFiction Pair",null,"978-1-4824-2320-4",2015,"August 2014",null,null,"Author","VARIOUS VARIOUS",null,null,null,null,null,null,"Grade 2 - 3","Grade 2 - 3","This paired set, along with a comprehensive learning guide, inspires student inquiry and invites critical thinking with paired fiction and nonfiction texts.","English",53.27,39.950000000000003,null,"",{"$f":"Table1[[#This Row],['# Books]]*Table1[[#This Row],[QTY]]","v":0},{"$f":"Table1[[#This Row],[QTY]]*Table1[[#This Row],[S&L Price]]","v":0}]
[null,12,10,"LitLinks Fiction/Nonfiction Paired Sets Grades 2–3",1,"Thunder Cake / Thunderstorms Paired Set","Fiction/NonFiction Pair",null,"978-1-4824-2327-3",2015,"August 2014",null,null,"Author","VARIOUS VARIOUS",null,null,null,null,null,null,"Grade 2 - 3","Grade 2 - 3","This paired set, along with a comprehensive learning guide, inspires student inquiry and invites critical thinking with paired fiction and nonfiction texts.","English",53.27,39.950000000000003,null,"",{"$f":"Table1[[#This Row],['# Books]]*Table1[[#This Row],[QTY]]","v":0},{"$f":"Table1[[#This Row],[QTY]]*Table1[[#This Row],[S&L Price]]","v":0}]
[null,13,11,"LitLinks Fiction/Nonfiction Paired Sets Grades 4–5",10,"LitLinks Fiction/Nonfiction Paired Sets Grades 4–5","Fiction/NonFiction Pair Set",null,"978-1-4824-5393-5",2017,"August 2016",null,null,"Author","VARIOUS VARIOUS",null,null,null,null,null,null,"Grade 4 - 5","Grade 4 - 5","Lit Links pairs popular fiction and nonfiction texts that inspire student inquiry and invite critical thinking. The familiar format of fiction introduces a topic and gives the reader confidence to explore and compare its nonfiction counterpart. These paired sets along with a comprehensive learning guide let students demonstrate what they have learned from blending together narrative and expository elements. Lit Links paired fiction and nonfiction:  • Provides opportunities for students to analyze and compare different perspectives  • Develops critical reading and comprehension skills  • Supports “thinking across texts” by Illustrating how different authors treat the same topic  • Builds background knowledge, a wider range of vocabulary, and enhances readers’ comprehension of a specific topic  • Contrasts craft and structures of fiction with craft and structures of informational texts","English",612.66999999999996,459.5,null,"",{"$f":"Table1[[#This Row],['# Books]]*Table1[[#This Row],[QTY]]","v":0},{"$f":"Table1[[#This Row],[QTY]]*Table1[[#This Row],[S&L Price]]","v":0}]
[null,13,11,"LitLinks Fiction/Nonfiction Paired Sets Grades 4–5",1,"The Phantom Tollbooth / Writing Poems Paired Set","Fiction/NonFiction Pair",null,"978-1-4824-5367-6",2017,"August 2016",null,null,"Author","VARIOUS VARIOUS",null,null,null,null,null,null,"Grade 3 - 5","Grade 3 - 5","This paired set, along with a comprehensive learning guide, inspires student inquiry and invites critical thinking with paired fiction and nonfiction texts.","English",61.27,45.95,null,"",{"$f":"Table1[[#This Row],['# Books]]*Table1[[#This Row],[QTY]]","v":0},{"$f":"Table1[[#This Row],[QTY]]*Table1[[#This Row],[S&L Price]]","v":0}]
[null,13,11,"LitLinks Fiction/Nonfiction Paired Sets Grades 4–5",1,"For Freedom / D-Day Paired Set","Fiction/NonFiction Pair",null,"978-1-4824-5370-6",2017,"August 2016",null,null,"Author","VARIOUS VARIOUS",null,null,null,null,null,null,"Grade 6 - 8","Grade 6 - 8","This paired set, along with a comprehensive learning guide, inspires student inquiry and invites critical thinking with paired fiction and nonfiction texts.","English",61.27,45.95,null,"",{"$f":"Table1[[#This Row],['# Books]]*Table1[[#This Row],[QTY]]","v":0},{"$f":"Table1[[#This Row],[QTY]]*Table1[[#This Row],[S&L Price]]","v":0}]
[null,13,11,"LitLinks Fiction/Nonfiction Paired Sets Grades 4–5",1,"Matilda / Eleanor Roosevelt in Her Own Words Paired Set","Fiction/NonFiction Pair",null,"978-1-4824-5368-3",2017,"August 2016",null,null,"Author","VARIOUS VARIOUS",null,null,null,null,null,null,"Grade 3 - 5","Grade 3 - 5","This paired set, along with a comprehensive learning guide, inspires student inquiry and invites critical thinking with paired fiction and nonfiction texts.","English",61.27,45.95,null,"",{"$f":"Table1[[#This Row],['# Books]]*Table1[[#This Row],[QTY]]","v":0},{"$f":"Table1[[#This Row],[QTY]]*Table1[[#This Row],[S&L Price]]","v":0}]
[null,13,11,"LitLinks Fiction/Nonfiction Paired Sets Grades 4–5",1,"Zane and The Hurricane / Destructive Hurricanes Paired Set","Fiction/NonFiction Pair",null,"978-1-4824-5372-0",2017,"August 2016",null,null,"Author","VARIOUS VARIOUS",null,null,null,null,null,null,"Grade 4 - 8","Grade 4 - 8","This paired set, along with a comprehensive learning guide, inspires student inquiry and invites critical thinking with paired fiction and nonfiction texts.","English",61.27,45.95,null,"",{"$f":"Table1[[#This Row],['# Books]]*Table1[[#This Row],[QTY]]","v":0},{"$f":"Table1[[#This Row],[QTY]]*Table1[[#This Row],[S&L Price]]","v":0}]
[null,13,11,"LitLinks Fiction/Nonfiction Paired Sets Grades 4–5",1,"Tesla's Attic / Nikolai Tesla and Thomas Edison Paired Set","Fiction/NonFiction Pair",null,"978-1-4824-5369-0",2017,"August 2016",null,null,"Author","VARIOUS VARIOUS",null,null,null,null,null,null,"Grade 3 - 5","Grade 3 - 5","This paired set, along with a comprehensive learning guide, inspires student inquiry and invites critical thinking with paired fiction and nonfiction texts.","English",61.27,45.95,null,"",{"$f":"Table1[[#This Row],['# Books]]*Table1[[#This Row],[QTY]]","v":0},{"$f":"Table1[[#This Row],[QTY]]*Table1[[#This Row],[S&L Price]]","v":0}]
[null,13,11,"LitLinks Fiction/Nonfiction Paired Sets Grades 4–5",1,"Number the Stars / Anne Frank in Her Own Words Paired Set","Fiction/NonFiction Pair",null,"978-1-4824-5373-7",2017,"August 2016",null,null,"Author","VARIOUS VARIOUS",null,null,null,null,null,null,"Grade 4 - 6","Grade 4 - 6","This paired set, along with a comprehensive learning guide, inspires student inquiry and invites critical thinking with paired fiction and nonfiction texts.","English",61.27,45.95,null,"",{"$f":"Table1[[#This Row],['# Books]]*Table1[[#This Row],[QTY]]","v":0},{"$f":"Table1[[#This Row],[QTY]]*Table1[[#This Row],[S&L Price]]","v":0}]
[null,13,11,"LitLinks Fiction/Nonfiction Paired Sets Grades 4–5",1,"The BFG / Ferocious Giants Paired Set","Fiction/NonFiction Pair",null,"978-1-4824-5374-4",2017,"August 2016",null,null,"Author","VARIOUS VARIOUS",null,null,null,null,null,null,"Grade 4 - 6","Grade 4 - 6","This paired set, along with a comprehensive learning guide, inspires student inquiry and invites critical thinking with paired fiction and nonfiction texts.","English",61.27,45.95,null,"",{"$f":"Table1[[#This Row],['# Books]]*Table1[[#This Row],[QTY]]","v":0},{"$f":"Table1[[#This Row],[QTY]]*Table1[[#This Row],[S&L Price]]","v":0}]
[null,13,11,"LitLinks Fiction/Nonfiction Paired Sets Grades 4–5",1,"Alanna / Meet the Medievals Paired Set","Fiction/NonFiction Pair",null,"978-1-4824-5371-3",2017,"August 2016",null,null,"Author","VARIOUS VARIOUS",null,null,null,null,null,null,"Grade 6 - 8","Grade 6 - 8","This paired set, along with a comprehensive learning guide, inspires student inquiry and invites critical thinking with paired fiction and nonfiction texts.","English",61.27,45.95,null,"",{"$f":"Table1[[#This Row],['# Books]]*Table1[[#This Row],[QTY]]","v":0},{"$f":"Table1[[#This Row],[QTY]]*Table1[[#This Row],[S&L Price]]","v":0}]
[null,13,11,"LitLinks Fiction/Nonfiction Paired Sets Grades 4–5",1,"The True Confessions of Charlotte Doyle / Meet the Pirates Paired Set","Fiction/NonFiction Pair",null,"978-1-4824-5375-1",2017,"August 2016",null,null,"Author","VARIOUS VARIOUS",null,null,null,null,null,null,"Grade 3 - 7","Grade 3 - 7","This paired set, along with a comprehensive learning guide, inspires student inquiry and invites critical thinking with paired fiction and nonfiction texts.","English",61.27,45.95,null,"",{"$f":"Table1[[#This Row],['# Books]]*Table1[[#This Row],[QTY]]","v":0},{"$f":"Table1[[#This Row],[QTY]]*Table1[[#This Row],[S&L Price]]","v":0}]
[null,13,11,"LitLinks Fiction/Nonfiction Paired Sets Grades 4–5",1,"The People Could Fly: American Black Folktales / Frederick Douglass in His Own Words Paired Set","Fiction/NonFiction Pair",null,"978-1-4824-5376-8",2017,"August 2016",null,null,"Author","VARIOUS VARIOUS",null,null,null,null,null,null,"Grade 3 - 5","Grade 3 - 5","This paired set, along with a comprehensive learning guide, inspires student inquiry and invites critical thinking with paired fiction and nonfiction texts.","English",61.27,45.95,null,"",{"$f":"Table1[[#This Row],['# Books]]*Table1[[#This Row],[QTY]]","v":0},{"$f":"Table1[[#This Row],[QTY]]*Table1[[#This Row],[S&L Price]]","v":0}]
[null,13,11,"LitLinks Fiction/Nonfiction Paired Sets Grades 4–5",10,"LitLinks Fiction/Nonfiction Paired Sets Grades 4–5","Fiction/NonFiction Pair Set",null,"978-1-4824-2339-6",2015,"August 2014",null,null,"Author","VARIOUS VARIOUS",null,null,null,null,null,null,"Grade 4 - 5","Grade 4 - 5","Lit Links pairs popular fiction and nonfiction texts that inspire student inquiry and invite critical thinking. The familiar format of fiction introduces a topic and gives the reader confidence to explore and compare its nonfiction counterpart. These paired sets along with a comprehensive learning guide let students demonstrate what they have learned from blending together narrative and expository elements. Lit Links paired fiction and nonfiction:  • Provides opportunities for students to analyze and compare different perspectives  • Develops critical reading and comprehension skills  • Supports “thinking across texts” by Illustrating how different authors treat the same topic  • Builds background knowledge, a wider range of vocabulary, and enhances readers’ comprehension of a specific topic  • Contrasts craft and structures of fiction with craft and structures of informational texts","English",612.66999999999996,459.5,null,"",{"$f":"Table1[[#This Row],['# Books]]*Table1[[#This Row],[QTY]]","v":0},{"$f":"Table1[[#This Row],[QTY]]*Table1[[#This Row],[S&L Price]]","v":0}]
[null,13,11,"LitLinks Fiction/Nonfiction Paired Sets Grades 4–5",1,"Birchbark House / Ojibwe History and Culture Paired Set","Fiction/NonFiction Pair",null,"978-1-4824-2334-1",2015,"August 2014",null,null,"Author","VARIOUS VARIOUS",null,null,null,null,null,null,"Grade 4 - 5","Grade 4 - 5","This paired set, along with a comprehensive learning guide, inspires student inquiry and invites critical thinking with paired fiction and nonfiction texts.","English",61.27,45.95,null,"",{"$f":"Table1[[#This Row],['# Books]]*Table1[[#This Row],[QTY]]","v":0},{"$f":"Table1[[#This Row],[QTY]]*Table1[[#This Row],[S&L Price]]","v":0}]
[null,13,11,"LitLinks Fiction/Nonfiction Paired Sets Grades 4–5",1,"The Black Stallion / Horses Paired Set","Fiction/NonFiction Pair",null,"978-1-4824-2331-0",2015,"August 2014",null,null,"Author","VARIOUS VARIOUS",null,null,null,null,null,null,"Grade 4 - 5","Grade 4 - 5","This paired set, along with a comprehensive learning guide, inspires student inquiry and invites critical thinking with paired fiction and nonfiction texts.","English",61.27,45.95,null,"",{"$f":"Table1[[#This Row],['# Books]]*Table1[[#This Row],[QTY]]","v":0},{"$f":"Table1[[#This Row],[QTY]]*Table1[[#This Row],[S&L Price]]","v":0}]
[null,13,11,"LitLinks Fiction/Nonfiction Paired Sets Grades 4–5",1,"The Boy Who Saved Baseball /Batter Paired Set","Fiction/NonFiction Pair",null,"978-1-4824-2335-8",2015,"August 2014",null,null,"Author","VARIOUS VARIOUS",null,null,null,null,null,null,"Grade 4 - 5","Grade 4 - 5","This paired set, along with a comprehensive learning guide, inspires student inquiry and invites critical thinking with paired fiction and nonfiction texts.","English",61.27,45.95,null,"",{"$f":"Table1[[#This Row],['# Books]]*Table1[[#This Row],[QTY]]","v":0},{"$f":"Table1[[#This Row],[QTY]]*Table1[[#This Row],[S&L Price]]","v":0}]
[null,13,11,"LitLinks Fiction/Nonfiction Paired Sets Grades 4–5",1,"The Egypt Game / The Ancient Egyptians Paired Set","Fiction/NonFiction Pair",null,"978-1-4824-2336-5",2015,"August 2014",null,null,"Author","VARIOUS VARIOUS",null,null,null,null,null,null,"Grade 4 - 5","Grade 4 - 5","This paired set, along with a comprehensive learning guide, inspires student inquiry and invites critical thinking with paired fiction and nonfiction texts.","English",61.27,45.95,null,"",{"$f":"Table1[[#This Row],['# Books]]*Table1[[#This Row],[QTY]]","v":0},{"$f":"Table1[[#This Row],[QTY]]*Table1[[#This Row],[S&L Price]]","v":0}]
[null,13,11,"LitLinks Fiction/Nonfiction Paired Sets Grades 4–5",1,"Hatchet / Mountain Rescuer Paired Set","Fiction/NonFiction Pair",null,"978-1-4824-2337-2",2015,"August 2014",null,null,"Author","VARIOUS VARIOUS",null,null,null,null,null,null,"Grade 4 - 5","Grade 4 - 5","This paired set, along with a comprehensive learning guide, inspires student inquiry and invites critical thinking with paired fiction and nonfiction texts.","English",61.27,45.95,null,"",{"$f":"Table1[[#This Row],['# Books]]*Table1[[#This Row],[QTY]]","v":0},{"$f":"Table1[[#This Row],[QTY]]*Table1[[#This Row],[S&L Price]]","v":0}]
[null,13,11,"LitLinks Fiction/Nonfiction Paired Sets Grades 4–5",1,"Hercules Fights the Nemean Lion / Classical Myths Paired Set","Fiction/NonFiction Pair",null,"978-1-4824-2333-4",2015,"August 2014",null,null,"Author","VARIOUS VARIOUS",null,null,null,null,null,null,"Grade 4 - 5","Grade 4 - 5","This paired set, along with a comprehensive learning guide, inspires student inquiry and invites critical thinking with paired fiction and nonfiction texts.","English",61.27,45.95,null,"",{"$f":"Table1[[#This Row],['# Books]]*Table1[[#This Row],[QTY]]","v":0},{"$f":"Table1[[#This Row],[QTY]]*Table1[[#This Row],[S&L Price]]","v":0}]
[null,13,11,"LitLinks Fiction/Nonfiction Paired Sets Grades 4–5",1,"Island of the Blue Dolphins / The Exploration of Australasia and the Pacific Paired Set","Fiction/NonFiction Pair",null,"978-1-4824-2338-9",2015,"August 2014",null,null,"Author","VARIOUS VARIOUS",null,null,null,null,null,null,"Grade 4 - 5","Grade 4 - 5","This paired set, along with a comprehensive learning guide, inspires student inquiry and invites critical thinking with paired fiction and nonfiction texts.","English",61.27,45.95,null,"",{"$f":"Table1[[#This Row],['# Books]]*Table1[[#This Row],[QTY]]","v":0},{"$f":"Table1[[#This Row],[QTY]]*Table1[[#This Row],[S&L Price]]","v":0}]
[null,13,11,"LitLinks Fiction/Nonfiction Paired Sets Grades 4–5",1,"M.C. Higgins, the Great / Slavery in Early America Paired Set","Fiction/NonFiction Pair",null,"978-1-4824-2330-3",2015,"August 2014",null,null,"Author","VARIOUS VARIOUS",null,null,null,null,null,null,"Grade 4 - 5","Grade 4 - 5","This paired set, along with a comprehensive learning guide, inspires student inquiry and invites critical thinking with paired fiction and nonfiction texts.","English",61.27,45.95,null,"",{"$f":"Table1[[#This Row],['# Books]]*Table1[[#This Row],[QTY]]","v":0},{"$f":"Table1[[#This Row],[QTY]]*Table1[[#This Row],[S&L Price]]","v":0}]
[null,13,11,"LitLinks Fiction/Nonfiction Paired Sets Grades 4–5",1,"The Secret Garden / Plant Life Paired Set","Fiction/NonFiction Pair",null,"978-1-4824-2332-7",2015,"August 2014",null,null,"Author","VARIOUS VARIOUS",null,null,null,null,null,null,"Grade 4 - 5","Grade 4 - 5","This paired set, along with a comprehensive learning guide, inspires student inquiry and invites critical thinking with paired fiction and nonfiction texts.","English",61.27,45.95,null,"",{"$f":"Table1[[#This Row],['# Books]]*Table1[[#This Row],[QTY]]","v":0},{"$f":"Table1[[#This Row],[QTY]]*Table1[[#This Row],[S&L Price]]","v":0}]
[null,13,11,"LitLinks Fiction/Nonfiction Paired Sets Grades 4–5",1,"Where the Mountain Meets the Moon / Dragons and Serpents Paired Set","Fiction/NonFiction Pair",null,"978-1-4824-2329-7",2015,"August 2014",null,null,"Author","VARIOUS VARIOUS",null,null,null,null,null,null,"Grade 4 - 5","Grade 4 - 5","This paired set, along with a comprehensive learning guide, inspires student inquiry and invites critical thinking with paired fiction and nonfiction texts.","English",61.27,45.95,null,"",{"$f":"Table1[[#This Row],['# Books]]*Table1[[#This Row],[QTY]]","v":0},{"$f":"Table1[[#This Row],[QTY]]*Table1[[#This Row],[S&L Price]]","v":0}]
[null,13,11,"LitLinks Fiction/Nonfiction Paired Sets Grades 6-8",10,"LitLinks Fiction/Nonfiction Paired Sets Grades 6-8","Fiction/NonFiction Pair Set",null,"978-1-4824-5394-2",2017,"August 2016",null,null,"Author","VARIOUS VARIOUS",null,null,null,null,null,null,"Grade 6 - 8","Grade 6 - 8","Lit Links pairs popular fiction and nonfiction texts that inspire student inquiry and invite critical thinking. The familiar format of fiction introduces a topic and gives the reader confidence to explore and compare its nonfiction counterpart. These paired sets along with a comprehensive learning guide let students demonstrate what they have learned from blending together narrative and expository elements. Lit Links paired fiction and nonfiction:  • Provides opportunities for students to analyze and compare different perspectives  • Develops critical reading and comprehension skills  • Supports “thinking across texts” by Illustrating how different authors treat the same topic  • Builds background knowledge, a wider range of vocabulary, and enhances readers’ comprehension of a specific topic  • Contrasts craft and structures of fiction with craft and structures of informational texts","English",612.66999999999996,459.5,null,"",{"$f":"Table1[[#This Row],['# Books]]*Table1[[#This Row],[QTY]]","v":0},{"$f":"Table1[[#This Row],[QTY]]*Table1[[#This Row],[S&L Price]]","v":0}]
[null,13,11,"LitLinks Fiction/Nonfiction Paired Sets Grades 6-8",1,"Feed / The Digital Age (1947 – Present Day) Paired Set","Fiction/NonFiction Pair",null,"978-1-4824-5382-9",2017,"August 2016",null,null,"Author","VARIOUS VARIOUS",null,null,null,null,null,null,"Grade 9 - 12","Grade 9 - 12","This paired set, along with a comprehensive learning guide, inspires student inquiry and invites critical thinking with paired fiction and nonfiction texts.","English",61.27,45.95,null,"",{"$f":"Table1[[#This Row],['# Books]]*Table1[[#This Row],[QTY]]","v":0},{"$f":"Table1[[#This Row],[QTY]]*Table1[[#This Row],[S&L Price]]","v":0}]
[null,13,11,"LitLinks Fiction/Nonfiction Paired Sets Grades 6-8",1,"Johnny Tremain / The American Revolution Paired Set","Fiction/NonFiction Pair",null,"978-1-4824-5377-5",2017,"August 2016",null,null,"Author","VARIOUS VARIOUS",null,null,null,null,null,null,"Grade 6 - 8","Grade 6 - 8","This paired set, along with a comprehensive learning guide, inspires student inquiry and invites critical thinking with paired fiction and nonfiction texts.","English",61.27,45.95,null,"",{"$f":"Table1[[#This Row],['# Books]]*Table1[[#This Row],[QTY]]","v":0},{"$f":"Table1[[#This Row],[QTY]]*Table1[[#This Row],[S&L Price]]","v":0}]
[null,13,11,"LitLinks Fiction/Nonfiction Paired Sets Grades 6-8",1,"The Hunger Games / Dictatorship Paired Set","Fiction/NonFiction Pair",null,"978-1-4824-5381-2",2017,"August 2016",null,null,"Author","VARIOUS VARIOUS",null,null,null,null,null,null,"Grade 7 - 9","Grade 7 - 9","This paired set, along with a comprehensive learning guide, inspires student inquiry and invites critical thinking with paired fiction and nonfiction texts.","English",61.27,45.95,null,"",{"$f":"Table1[[#This Row],['# Books]]*Table1[[#This Row],[QTY]]","v":0},{"$f":"Table1[[#This Row],[QTY]]*Table1[[#This Row],[S&L Price]]","v":0}]
[null,13,11,"LitLinks Fiction/Nonfiction Paired Sets Grades 6-8",1,"Farenheit 451 / What Is a Dictatorship? Paired Set","Fiction/NonFiction Pair",null,"978-1-4824-5383-6",2017,"August 2016",null,null,"Author","VARIOUS VARIOUS",null,null,null,null,null,null,"Grade 9 - 12","Grade 9 - 12","This paired set, along with a comprehensive learning guide, inspires student inquiry and invites critical thinking with paired fiction and nonfiction texts.","English",61.27,45.95,null,"",{"$f":"Table1[[#This Row],['# Books]]*Table1[[#This Row],[QTY]]","v":0},{"$f":"Table1[[#This Row],[QTY]]*Table1[[#This Row],[S&L Price]]","v":0}]
[null,13,11,"LitLinks Fiction/Nonfiction Paired Sets Grades 6-8",1,"A Wrinkle In Time / What is Communism? Paired Set","Fiction/NonFiction Pair",null,"978-1-4824-5386-7",2017,"August 2016",null,null,"Author","VARIOUS VARIOUS",null,null,null,null,null,null,"Grade 6 - 8","Grade 6 - 8","This paired set, along with a comprehensive learning guide, inspires student inquiry and invites critical thinking with paired fiction and nonfiction texts.","English",61.27,45.95,null,"",{"$f":"Table1[[#This Row],['# Books]]*Table1[[#This Row],[QTY]]","v":0},{"$f":"Table1[[#This Row],[QTY]]*Table1[[#This Row],[S&L Price]]","v":0}]
[null,13,11,"LitLinks Fiction/Nonfiction Paired Sets Grades 6-8",1,"The Fault in Our Stars / Fighting Cancer Paired Set","Fiction/NonFiction Pair",null,"978-1-4824-5385-0",2017,"August 2016",null,null,"Author","VARIOUS VARIOUS",null,null,null,null,null,null,"Grade 9 - 12","Grade 9 - 12","This paired set, along with a comprehensive learning guide, inspires student inquiry and invites critical thinking with paired fiction and nonfiction texts.","English",61.27,45.95,null,"",{"$f":"Table1[[#This Row],['# Books]]*Table1[[#This Row],[QTY]]","v":0},{"$f":"Table1[[#This Row],[QTY]]*Table1[[#This Row],[S&L Price]]","v":0}]
[null,13,11,"LitLinks Fiction/Nonfiction Paired Sets Grades 6-8",1,"From the Earth to the Moon / 100 Facts You Should Know: Space Paired Set","Fiction/NonFiction Pair",null,"978-1-4824-5384-3",2017,"August 2016",null,null,"Author","VARIOUS VARIOUS",null,null,null,null,null,null,"Grade 6 - 8","Grade 6 - 8","This paired set, along with a comprehensive learning guide, inspires student inquiry and invites critical thinking with paired fiction and nonfiction texts.","English",61.27,45.95,null,"",{"$f":"Table1[[#This Row],['# Books]]*Table1[[#This Row],[QTY]]","v":0},{"$f":"Table1[[#This Row],[QTY]]*Table1[[#This Row],[S&L Price]]","v":0}]
[null,13,11,"LitLinks Fiction/Nonfiction Paired Sets Grades 6-8",1,"Huckleberry Finn / Slavery in Early America Paired Set","Fiction/NonFiction Pair",null,"978-1-4824-5380-5",2017,"August 2016",null,null,"Author","VARIOUS VARIOUS",null,null,null,null,null,null,"Grade 7 - 9","Grade 7 - 9","This paired set, along with a comprehensive learning guide, inspires student inquiry and invites critical thinking with paired fiction and nonfiction texts.","English",61.27,45.95,null,"",{"$f":"Table1[[#This Row],['# Books]]*Table1[[#This Row],[QTY]]","v":0},{"$f":"Table1[[#This Row],[QTY]]*Table1[[#This Row],[S&L Price]]","v":0}]
[null,13,11,"LitLinks Fiction/Nonfiction Paired Sets Grades 6-8",1,"Mrs Frisby and the Rats of NIMH / Timeline of the Industrial Revolution Paired Set","Fiction/NonFiction Pair",null,"978-1-4824-5378-2",2017,"August 2016",null,null,"Author","VARIOUS VARIOUS",null,null,null,null,null,null,"Grade 5 - 8","Grade 5 - 8","This paired set, along with a comprehensive learning guide, inspires student inquiry and invites critical thinking with paired fiction and nonfiction texts.","English",61.27,45.95,null,"",{"$f":"Table1[[#This Row],['# Books]]*Table1[[#This Row],[QTY]]","v":0},{"$f":"Table1[[#This Row],[QTY]]*Table1[[#This Row],[S&L Price]]","v":0}]
[null,13,11,"LitLinks Fiction/Nonfiction Paired Sets Grades 6-8",1,"Maniac Magee / Thurgood Marshall: The Supreme Court Rules on \"Separate but Equal\" Paired Set","Fiction/NonFiction Pair",null,"978-1-4824-5379-9",2017,"August 2016",null,null,"Author","VARIOUS VARIOUS",null,null,null,null,null,null,"Grade 5 - 9","Grade 5 - 9","This paired set, along with a comprehensive learning guide, inspires student inquiry and invites critical thinking with paired fiction and nonfiction texts.","English",61.27,45.95,null,"",{"$f":"Table1[[#This Row],['# Books]]*Table1[[#This Row],[QTY]]","v":0},{"$f":"Table1[[#This Row],[QTY]]*Table1[[#This Row],[S&L Price]]","v":0}]
[null,13,11,"LitLinks Fiction/Nonfiction Paired Sets Grades 6-8",10,"LitLinks Fiction/Nonfiction Paired Sets Grades 6-8","Fiction/NonFiction Pair Set",null,"978-1-4824-2349-5",2015,"August 2014",null,null,"Author","VARIOUS VARIOUS",null,null,null,null,null,null,"Grade 6 - 8","Grade 6 - 8","Lit Links pairs popular fiction and nonfiction texts that inspire student inquiry and invite critical thinking. The familiar format of fiction introduces a topic and gives the reader confidence to explore and compare its nonfiction counterpart. These paired sets along with a comprehensive learning guide let students demonstrate what they have learned from blending together narrative and expository elements. Lit Links paired fiction and nonfiction:  • Provides opportunities for students to analyze and compare different perspectives  • Develops critical reading and comprehension skills  • Supports “thinking across texts” by Illustrating how different authors treat the same topic  • Builds background knowledge, a wider range of vocabulary, and enhances readers’ comprehension of a specific topic  • Contrasts craft and structures of fiction with craft and structures of informational texts","English",612.66999999999996,459.5,null,"",{"$f":"Table1[[#This Row],['# Books]]*Table1[[#This Row],[QTY]]","v":0},{"$f":"Table1[[#This Row],[QTY]]*Table1[[#This Row],[S&L Price]]","v":0}]
[null,13,11,"LitLinks Fiction/Nonfiction Paired Sets Grades 6-8",1,"The Age of Miracles / Global Warming Paired Set","Fiction/NonFiction Pair",null,"978-1-4824-2345-7",2015,"August 2014",null,null,"Author","VARIOUS VARIOUS",null,null,null,null,null,null,"Grade 6 - 7","Grade 6 - 9","This paired set, along with a comprehensive learning guide, inspires student inquiry and invites critical thinking with paired fiction and nonfiction texts.","English",61.27,45.95,null,"",{"$f":"Table1[[#This Row],['# Books]]*Table1[[#This Row],[QTY]]","v":0},{"$f":"Table1[[#This Row],[QTY]]*Table1[[#This Row],[S&L Price]]","v":0}]
[null,13,11,"LitLinks Fiction/Nonfiction Paired Sets Grades 6-8",1,"Forge / Timeline of the Revolutionary War Paired Set","Fiction/NonFiction Pair",null,"978-1-4824-2347-1",2015,"August 2014",null,null,"Author","VARIOUS VARIOUS",null,null,null,null,null,null,"Grade 6 - 7","Grade 6 - 9","This paired set, along with a comprehensive learning guide, inspires student inquiry and invites critical thinking with paired fiction and nonfiction texts.","English",61.27,45.95,null,"",{"$f":"Table1[[#This Row],['# Books]]*Table1[[#This Row],[QTY]]","v":0},{"$f":"Table1[[#This Row],[QTY]]*Table1[[#This Row],[S&L Price]]","v":0}]
[null,13,11,"LitLinks Fiction/Nonfiction Paired Sets Grades 6-8",1,"Frankenstein / Genetic Modification: Should Humans Control Nature? Paired Set","Fiction/NonFiction Pair",null,"978-1-4824-2344-0",2015,"August 2014",null,null,"Author","VARIOUS VARIOUS",null,null,null,null,null,null,"Grade 6 - 7","Grade 6 - 9","This paired set, along with a comprehensive learning guide, inspires student inquiry and invites critical thinking with paired fiction and nonfiction texts.","English",61.27,45.95,null,"24 pp.",{"$f":"Table1[[#This Row],['# Books]]*Table1[[#This Row],[QTY]]","v":0},{"$f":"Table1[[#This Row],[QTY]]*Table1[[#This Row],[S&L Price]]","v":0}]
[null,13,11,"LitLinks Fiction/Nonfiction Paired Sets Grades 6-8",1,"The House of the Scorpion / Science vs. Disease Paired Set","Fiction/NonFiction Pair",null,"978-1-4824-2348-8",2015,"August 2014",null,null,"Author","VARIOUS VARIOUS",null,null,null,null,null,null,"Grade 6 - 7","Grade 6 - 9","This paired set, along with a comprehensive learning guide, inspires student inquiry and invites critical thinking with paired fiction and nonfiction texts.","English",61.27,45.95,null,"24 pp.",{"$f":"Table1[[#This Row],['# Books]]*Table1[[#This Row],[QTY]]","v":0},{"$f":"Table1[[#This Row],[QTY]]*Table1[[#This Row],[S&L Price]]","v":0}]
[null,13,11,"LitLinks Fiction/Nonfiction Paired Sets Grades 6-8",1,"Roll of Thunder, Hear My Cry / Martin Luther King Jr. In His Own Words Paired Set","Fiction/NonFiction Pair",null,"978-1-4824-2341-9",2015,"August 2014",null,null,"Author","VARIOUS VARIOUS",null,null,null,null,null,null,"Grade 6 - 7","Grade 6 - 9","This paired set, along with a comprehensive learning guide, inspires student inquiry and invites critical thinking with paired fiction and nonfiction texts.","English",61.27,45.95,null,"24 pp.",{"$f":"Table1[[#This Row],['# Books]]*Table1[[#This Row],[QTY]]","v":0},{"$f":"Table1[[#This Row],[QTY]]*Table1[[#This Row],[S&L Price]]","v":0}]
[null,13,11,"LitLinks Fiction/Nonfiction Paired Sets Grades 6-8",1,"Sacrifice / Salem Witch Trials Paired Set","Fiction/NonFiction Pair",null,"978-1-4824-2340-2",2015,"August 2014",null,null,"Author","VARIOUS VARIOUS",null,null,null,null,null,null,"Grade 6 - 7","Grade 6 - 9","This paired set, along with a comprehensive learning guide, inspires student inquiry and invites critical thinking with paired fiction and nonfiction texts.","English",61.27,45.95,null,"24 pp.",{"$f":"Table1[[#This Row],['# Books]]*Table1[[#This Row],[QTY]]","v":0},{"$f":"Table1[[#This Row],[QTY]]*Table1[[#This Row],[S&L Price]]","v":0}]
[null,13,11,"LitLinks Fiction/Nonfiction Paired Sets Grades 6–8",1,"The Lightning Thief / Greek Myths Paired Set","Fiction/NonFiction Pair",null,"978-1-4824-2354-9",2015,"August 2014",null,null,"Author","VARIOUS VARIOUS",null,null,null,null,null,null,"Grade 4 - 5","Grade 4 - 5","This paired set, along with a comprehensive learning guide, inspires student inquiry and invites critical thinking with paired fiction and nonfiction texts.","English",61.27,45.95,null,"24 pp.",{"$f":"Table1[[#This Row],['# Books]]*Table1[[#This Row],[QTY]]","v":0},{"$f":"Table1[[#This Row],[QTY]]*Table1[[#This Row],[S&L Price]]","v":0}]
[null,13,11,"LitLinks Fiction/Nonfiction Paired Sets Grades 6-8",1,"The War of the Worlds / Machines and Weaponry of World War I Paired Set","Fiction/NonFiction Pair",null,"978-1-4824-2346-4",2015,"August 2014",null,null,"Author","VARIOUS VARIOUS",null,null,null,null,null,null,"Grade 6 - 7","Grade 6 - 9","This paired set, along with a comprehensive learning guide, inspires student inquiry and invites critical thinking with paired fiction and nonfiction texts.","English",61.27,45.95,null,"24 pp.",{"$f":"Table1[[#This Row],['# Books]]*Table1[[#This Row],[QTY]]","v":0},{"$f":"Table1[[#This Row],[QTY]]*Table1[[#This Row],[S&L Price]]","v":0}]
[null,13,11,"LitLinks Fiction/Nonfiction Paired Sets Grades 6-8",1,"Where the Red Fern Grows / Biomes and Ecosystems Paired Set","Fiction/NonFiction Pair",null,"978-1-4824-2342-6",2015,"August 2014",null,null,"Author","VARIOUS VARIOUS",null,null,null,null,null,null,"Grade 6 - 7","Grade 6 - 9","This paired set, along with a comprehensive learning guide, inspires student inquiry and invites critical thinking with paired fiction and nonfiction texts.","English",61.27,45.95,null,"24 pp.",{"$f":"Table1[[#This Row],['# Books]]*Table1[[#This Row],[QTY]]","v":0},{"$f":"Table1[[#This Row],[QTY]]*Table1[[#This Row],[S&L Price]]","v":0}]
[null,13,11,"LitLinks Fiction/Nonfiction Paired Sets Grades 6-8",1,"Will at the Battle of Gettysburg, 1863 / Timeline of the Civil War Paired Set","Fiction/NonFiction Pair",null,"978-1-4824-2343-3",2015,"August 2014",null,null,"Author","VARIOUS VARIOUS",null,null,null,null,null,null,"Grade 6 - 7","Grade 6 - 9","This paired set, along with a comprehensive learning guide, inspires student inquiry and invites critical thinking with paired fiction and nonfiction texts.","English",61.27,45.95,null,"24 pp.",{"$f":"Table1[[#This Row],['# Books]]*Table1[[#This Row],[QTY]]","v":0},{"$f":"Table1[[#This Row],[QTY]]*Table1[[#This Row],[S&L Price]]","v":0}]
[null,16,12,"What I Know (Set of 12 Titles)",12,"What I Know (Set of 12 Titles)","Library Set",null,"978-1-5382-0233-3",2018,"August 2017","Library","7.000 X 7.000",null,null,null,null,null,null,null,null,"Grade K","Grade Pre-K - 1","Young learners love telling others “what I know,” and this delightful collection will encourage them to toot their own horns even more! While instilling a love of books, each cheerful volume provides a supportive experience in learning important foundational concepts at an achievable reading level. Colors, numbers, opposites, and vehicles are some of the essential themes represented by vibrant, fun photographs throughout each series.","English",271.2,203.4,null,"24 pp.",{"$f":"Table1[[#This Row],['# Books]]*Table1[[#This Row],[QTY]]","v":0},{"$f":"Table1[[#This Row],[QTY]]*Table1[[#This Row],[S&L Price]]","v":0}]
[null,16,12,"What I Know (Set of 6 NEW Titles)",6,"What I Know (Set of 6 NEW Titles)","Library Set",null,"978-1-5382-0231-9",2018,"August 2017","Library","7.000 X 7.000",null,null,null,null,null,null,null,null,"Grade K","Grade Pre-K - 1","Young readers are eager to both practice their language skills and expand their knowledge. They’ll be especially enthusiastic to get their hands on the bright pages of these books, written with beginning readers in mind. This continuation of our appealing early-learning series covers important topics in elementary education such as community helpers, opposites, and even fruits and vegetables! Each volume features achievable text supported by beautiful photographs as well as a concluding question to encourage readers to thoughtfully consider what they’ve learned.\n\n","English",135.6,101.7,null,"24 pp.",{"$f":"Table1[[#This Row],['# Books]]*Table1[[#This Row],[QTY]]","v":0},{"$f":"Table1[[#This Row],[QTY]]*Table1[[#This Row],[S&L Price]]","v":0}]
[null,16,12,"What I Know",1,"I Know Fruits and Vegetables","Library Bound Book",null,"978-1-4824-6295-1",2018,"August 2017","Library","7.000 X 7.000","Author","Colin Matthews",null,null,null,null,"B",null,"Grade K","Grade Pre-K - 1","Sometimes books can make our mouths water, and this volume, full of beautiful pictures of fruits and vegetables, will do just that. The at-level text and supporting photographs encourage a healthy and colorful diet, while presenting a cornucopia of vocabulary for fruits and vegetables, such as bananas, strawberries, and peppers. A concluding question asks readers to muse about which is their favorite, a fun way to review an impressive—and important—word list.","English",22.6,16.95,"363.19’2--dc23","24 pp.",{"$f":"Table1[[#This Row],['# Books]]*Table1[[#This Row],[QTY]]","v":0},{"$f":"Table1[[#This Row],[QTY]]*Table1[[#This Row],[S&L Price]]","v":0}]
[null,16,12,"What I Know",1,"I Know Fruits and Vegetables","eBook",null,"978-1-4824-6296-8",2018,"August 2017",null,null,"Author","Colin Matthews",null,null,null,null,"B",null,"Grade K","Grade Pre-K - 1","Sometimes books can make our mouths water, and this volume, full of beautiful pictures of fruits and vegetables, will do just that. The at-level text and supporting photographs encourage a healthy and colorful diet, while presenting a cornucopia of vocabulary for fruits and vegetables, such as bananas, strawberries, and peppers. A concluding question asks readers to muse about which is their favorite, a fun way to review an impressive—and important—word list.","English",22.6,16.95,"363.19’2--dc23","24 pp.",{"$f":"Table1[[#This Row],['# Books]]*Table1[[#This Row],[QTY]]","v":0},{"$f":"Table1[[#This Row],[QTY]]*Table1[[#This Row],[S&L Price]]","v":0}]
[null,16,12,"What I Know",1,"I Know Opposites","Library Bound Book",null,"978-1-4824-6299-9",2018,"August 2017","Library","7.000 X 7.000","Author","Colin Matthews",null,null,null,null,"B",null,"Grade K","Grade Pre-K - 1","The concept of opposites is a crucial one at the early elementary level. Learning opposites opens up a reader’s vocabulary and ability to communicate. This colorful volume is a helpful aid for teaching and reviewing opposites, displaying opposite pairs visually next to the accompanying accessible text. Readers are encouraged to identify opposites in their own world, reinforcing these essential ideas in their daily lives.","English",22.6,16.95,"428.1--dc23","24 pp.",{"$f":"Table1[[#This Row],['# Books]]*Table1[[#This Row],[QTY]]","v":0},{"$f":"Table1[[#This Row],[QTY]]*Table1[[#This Row],[S&L Price]]","v":0}]
[null,16,12,"What I Know",1,"I Know Opposites","eBook",null,"978-1-4824-6300-2",2018,"August 2017",null,null,"Author","Colin Matthews",null,null,null,null,"B",null,"Grade K","Grade Pre-K - 1","The concept of opposites is a crucial one at the early elementary level. Learning opposites opens up a reader’s vocabulary and ability to communicate. This colorful volume is a helpful aid for teaching and reviewing opposites, displaying opposite pairs visually next to the accompanying accessible text. Readers are encouraged to identify opposites in their own world, reinforcing these essential ideas in their daily lives.","English",22.6,16.95,"428.1--dc23","24 pp.",{"$f":"Table1[[#This Row],['# Books]]*Table1[[#This Row],[QTY]]","v":0},{"$f":"Table1[[#This Row],[QTY]]*Table1[[#This Row],[S&L Price]]","v":0}]
[null,16,12,"What I Know",1,"I Know People Around Town","Library Bound Book",null,"978-1-4824-6303-3",2018,"August 2017","Library","7.000 X 7.000","Author","Colin Matthews",null,null,null,null,"B",null,"Grade K","Grade Pre-K - 1","Young people are always interested in those in the community who make it run—especially uniformed heroes such as firefighters and police officers. This fun volume walks readers around town introducing them to community workers, including the mail carrier, dentist, and librarian. Carefully chosen photographs correlate with the achievable vocabulary and illustrate characteristics of each job.","English",22.6,16.95,"331.7--dc23","24 pp.",{"$f":"Table1[[#This Row],['# Books]]*Table1[[#This Row],[QTY]]","v":0},{"$f":"Table1[[#This Row],[QTY]]*Table1[[#This Row],[S&L Price]]","v":0}]
[null,16,12,"What I Know",1,"I Know People Around Town","eBook",null,"978-1-4824-6304-0",2018,"August 2017",null,null,"Author","Colin Matthews",null,null,null,null,"B",null,"Grade K","Grade Pre-K - 1","Young people are always interested in those in the community who make it run—especially uniformed heroes such as firefighters and police officers. This fun volume walks readers around town introducing them to community workers, including the mail carrier, dentist, and librarian. Carefully chosen photographs correlate with the achievable vocabulary and illustrate characteristics of each job.","English",22.6,16.95,"331.7--dc23","24 pp.",{"$f":"Table1[[#This Row],['# Books]]*Table1[[#This Row],[QTY]]","v":0},{"$f":"Table1[[#This Row],[QTY]]*Table1[[#This Row],[S&L Price]]","v":0}]
[null,16,12,"What I Know",1,"I Know Places Around Town","Library Bound Book",null,"978-1-4824-6307-1",2018,"August 2017","Library","7.000 X 7.000","Author","Trisha James",null,null,null,null,"B",null,"Grade K","Grade Pre-K - 1","Everyone has their favorite places around the community, whether it's the library or the ice cream shop. In this attractive book, readers visit the important—and fun!—places found in many towns and cities, including the police station and the playground. Vocabulary is reinforced as readers consider what these places look like where they live and which they’d like to visit. Understanding community resources and workers are key parts of early elementary curricula.","English",22.6,16.95,"307.76--dc23","24 pp.",{"$f":"Table1[[#This Row],['# Books]]*Table1[[#This Row],[QTY]]","v":0},{"$f":"Table1[[#This Row],[QTY]]*Table1[[#This Row],[S&L Price]]","v":0}]
[null,16,12,"What I Know",1,"I Know Places Around Town","eBook",null,"978-1-4824-6308-8",2018,"August 2017",null,null,"Author","Trisha James",null,null,null,null,"B",null,"Grade K","Grade Pre-K - 1","Everyone has their favorite places around the community, whether it's the library or the ice cream shop. In this attractive book, readers visit the important—and fun!—places found in many towns and cities, including the police station and the playground. Vocabulary is reinforced as readers consider what these places look like where they live and which they’d like to visit. Understanding community resources and workers are key parts of early elementary curricula.","English",22.6,16.95,"307.76--dc23","24 pp.",{"$f":"Table1[[#This Row],['# Books]]*Table1[[#This Row],[QTY]]","v":0},{"$f":"Table1[[#This Row],[QTY]]*Table1[[#This Row],[S&L Price]]","v":0}]
[null,16,12,"What I Know",1,"I Know the Weather","Library Bound Book",null,"978-1-4824-6315-6",2018,"August 2017","Library","7.000 X 7.000","Author","Trisha James",null,null,null,null,"B",null,"Grade K","Grade Pre-K - 1","Weather is an important science concept at the early elementary level. Recognizing and identifying kinds of weather requires observational skills and certain vocabulary terms. This bright volume allows young meteorologists to correlate weather in carefully selected photographs with descriptive weather vocabulary, such as rainy, sunny, and foggy. It’s never too early to tackle this essential STEM theme!","English",22.6,16.95,"551.5--dc23","24 pp.",{"$f":"Table1[[#This Row],['# Books]]*Table1[[#This Row],[QTY]]","v":0},{"$f":"Table1[[#This Row],[QTY]]*Table1[[#This Row],[S&L Price]]","v":0}]
[null,16,12,"What I Know",1,"I Know the Weather","eBook",null,"978-1-4824-6316-3",2018,"August 2017",null,null,"Author","Trisha James",null,null,null,null,"B",null,"Grade K","Grade Pre-K - 1","Weather is an important science concept at the early elementary level. Recognizing and identifying kinds of weather requires observational skills and certain vocabulary terms. This bright volume allows young meteorologists to correlate weather in carefully selected photographs with descriptive weather vocabulary, such as rainy, sunny, and foggy. It’s never too early to tackle this essential STEM theme!","English",22.6,16.95,"551.5--dc23","24 pp.",{"$f":"Table1[[#This Row],['# Books]]*Table1[[#This Row],[QTY]]","v":0},{"$f":"Table1[[#This Row],[QTY]]*Table1[[#This Row],[S&L Price]]","v":0}]
[null,16,12,"What I Know",1,"I Know Things That Go","Library Bound Book",null,"978-1-4824-6311-8",2018,"August 2017","Library","7.000 X 7.000","Author","Trisha James",null,null,null,null,"B",null,"Grade K","Grade Pre-K - 1","There are so many ways to travel, and now on-the-go readers can review the vocabulary of vehicles in this appealing and vibrant volume. Trains, airplanes, and even scooters are some of the fun modes of transportation featured. At-level text is paired with colorful photographs, and both aid readers in deciding which way they would choose to travel to go someplace fun!","English",22.6,16.95,"629.04--dc23","24 pp.",{"$f":"Table1[[#This Row],['# Books]]*Table1[[#This Row],[QTY]]","v":0},{"$f":"Table1[[#This Row],[QTY]]*Table1[[#This Row],[S&L Price]]","v":0}]
[null,16,12,"What I Know",1,"I Know Things That Go","eBook",null,"978-1-4824-6312-5",2018,"August 2017",null,null,"Author","Trisha James",null,null,null,null,"B",null,"Grade K","Grade Pre-K - 1","There are so many ways to travel, and now on-the-go readers can review the vocabulary of vehicles in this appealing and vibrant volume. Trains, airplanes, and even scooters are some of the fun modes of transportation featured. At-level text is paired with colorful photographs, and both aid readers in deciding which way they would choose to travel to go someplace fun!","English",22.6,16.95,"629.04--dc23","24 pp.",{"$f":"Table1[[#This Row],['# Books]]*Table1[[#This Row],[QTY]]","v":0},{"$f":"Table1[[#This Row],[QTY]]*Table1[[#This Row],[S&L Price]]","v":0}]
[null,16,12,"What I Know",1,"I Know Body Parts","Library Bound Book",null,"978-1-4824-5462-8",2017,"January 2017","Library","7.000 X 7.000","Author","Mary Rose Osburn",null,null,null,null,"B",null,"Grade K","Grade Pre-K - 1","Knowing body parts and accompanying vocabulary are essential topics in both health and science elementary curricula. In this helpful volume, close text and image correlation make fundamental concepts comprehensible. Readers will recognize the body parts in each colorful photograph and associate them with their own. Finally, they’ll consider how they use their many body parts in their daily lives.","English",22.6,16.95,"612--dc23","24 pp.",{"$f":"Table1[[#This Row],['# Books]]*Table1[[#This Row],[QTY]]","v":0},{"$f":"Table1[[#This Row],[QTY]]*Table1[[#This Row],[S&L Price]]","v":0}]
[null,16,12,"What I Know",1,"I Know Body Parts","eBook",null,"978-1-4824-5463-5",2017,"January 2017",null,null,"Author","Mary Rose Osburn",null,null,null,null,"B",null,"Grade K","Grade Pre-K - 1","Knowing body parts and accompanying vocabulary are essential topics in both health and science elementary curricula. In this helpful volume, close text and image correlation make fundamental concepts comprehensible. Readers will recognize the body parts in each colorful photograph and associate them with their own. Finally, they’ll consider how they use their many body parts in their daily lives.","English",22.6,16.95,"612--dc23","24 pp.",{"$f":"Table1[[#This Row],['# Books]]*Table1[[#This Row],[QTY]]","v":0},{"$f":"Table1[[#This Row],[QTY]]*Table1[[#This Row],[S&L Price]]","v":0}]
[null,16,12,"What I Know",1,"I Know Colors","Library Bound Book",null,"978-1-4824-5448-2",2017,"January 2017","Library","7.000 X 7.000","Author","Mary Rose Osburn",null,null,null,null,"B",null,"Grade K","Grade Pre-K - 1","It’s a vibrant world! The pleasing pages of this bright book invite beginning readers to recognize the colors of the rainbow in familiar and fun objects, such as foods, toys, and animals. Achievable content and a final question about the reader’s favorite color make this a valuable tool for both teaching and reinforcing color concepts.","English",22.6,16.95,"535.6--dc23","24 pp.",{"$f":"Table1[[#This Row],['# Books]]*Table1[[#This Row],[QTY]]","v":0},{"$f":"Table1[[#This Row],[QTY]]*Table1[[#This Row],[S&L Price]]","v":0}]
[null,16,12,"What I Know",1,"I Know Colors","eBook",null,"978-1-4824-5450-5",2017,"January 2017",null,null,"Author","Mary Rose Osburn",null,null,null,null,"B",null,"Grade K","Grade Pre-K - 1","It’s a vibrant world! The pleasing pages of this bright book invite beginning readers to recognize the colors of the rainbow in familiar and fun objects, such as foods, toys, and animals. Achievable content and a final question about the reader’s favorite color make this a valuable tool for both teaching and reinforcing color concepts.","English",22.6,16.95,"535.6--dc23","24 pp.",{"$f":"Table1[[#This Row],['# Books]]*Table1[[#This Row],[QTY]]","v":0},{"$f":"Table1[[#This Row],[QTY]]*Table1[[#This Row],[S&L Price]]","v":0}]
[null,16,12,"What I Know",1,"I Know Numbers","Library Bound Book",null,"978-1-4824-5467-3",2017,"January 2017","Library","7.000 X 7.000","Author","Jon Welzen",null,null,null,null,"B",null,"Grade K","Grade Pre-K - 1","Ten toes on our feet, four bases in baseball, two wheels on a bicycle—numbers are all around! This sunny book demonstrates how readers can identify numbers in familiar objects and situations, aided by carefully selected images, and encourages them to practice number recognition in their everyday lives. Number names, quantities, and counting are among the essential skills addressed in this valuable volume.","English",22.6,16.95,"513.2--dc23","24 pp.",{"$f":"Table1[[#This Row],['# Books]]*Table1[[#This Row],[QTY]]","v":0},{"$f":"Table1[[#This Row],[QTY]]*Table1[[#This Row],[S&L Price]]","v":0}]
[null,16,12,"What I Know",1,"I Know Numbers","eBook",null,"978-1-4824-5469-7",2017,"January 2017",null,null,"Author","Jon Welzen",null,null,null,null,"B",null,"Grade K","Grade Pre-K - 1","Ten toes on our feet, four bases in baseball, two wheels on a bicycle—numbers are all around! This sunny book demonstrates how readers can identify numbers in familiar objects and situations, aided by carefully selected images, and encourages them to practice number recognition in their everyday lives. Number names, quantities, and counting are among the essential skills addressed in this valuable volume.","English",22.6,16.95,"513.2--dc23","24 pp.",{"$f":"Table1[[#This Row],['# Books]]*Table1[[#This Row],[QTY]]","v":0},{"$f":"Table1[[#This Row],[QTY]]*Table1[[#This Row],[S&L Price]]","v":0}]
[null,16,12,"What I Know",1,"I Know Shapes","Library Bound Book",null,"978-1-4824-5480-2",2017,"January 2017","Library","7.000 X 7.000","Author","Jon Welzen",null,null,null,null,"B",null,"Grade K","Grade Pre-K - 1","Discovering the obvious and hidden shapes in the world around us is a great way to strengthen geometric concepts. This motivating volume points out shapes in common and interesting objects. Readers will be inspired by accessible text and colorful photographs to apply their understanding of shapes’ attributes to their own surroundings, reinforcing fundamental mathematic ideas.","English",22.6,16.95,"516’.15--dc23","24 pp.",{"$f":"Table1[[#This Row],['# Books]]*Table1[[#This Row],[QTY]]","v":0},{"$f":"Table1[[#This Row],[QTY]]*Table1[[#This Row],[S&L Price]]","v":0}]
[null,16,12,"What I Know",1,"I Know Shapes","eBook",null,"978-1-4824-5481-9",2017,"January 2017",null,null,"Author","Jon Welzen",null,null,null,null,"B",null,"Grade K","Grade Pre-K - 1","Discovering the obvious and hidden shapes in the world around us is a great way to strengthen geometric concepts. This motivating volume points out shapes in common and interesting objects. Readers will be inspired by accessible text and colorful photographs to apply their understanding of shapes’ attributes to their own surroundings, reinforcing fundamental mathematic ideas.","English",22.6,16.95,"516’.15--dc23","24 pp.",{"$f":"Table1[[#This Row],['# Books]]*Table1[[#This Row],[QTY]]","v":0},{"$f":"Table1[[#This Row],[QTY]]*Table1[[#This Row],[S&L Price]]","v":0}]
[null,16,12,"What I Know",1,"I Know the Days of the Week","Library Bound Book",null,"978-1-4824-5458-1",2017,"January 2017","Library","7.000 X 7.000","Author","Mary Rose Osburn",null,null,null,null,"C",null,"Grade K","Grade Pre-K - 1","Time can be an abstract and sometimes confusing topic for young learners. The days of the week become comprehensible in this cheerful, entertaining narrative, which emphasizes the order of days as well as how events may happen on certain days. The inviting text, supported by carefully chosen photographs, concludes with a query about readers’ favorite day.","English",22.6,16.95,"529’.1--dc23","24 pp.",{"$f":"Table1[[#This Row],['# Books]]*Table1[[#This Row],[QTY]]","v":0},{"$f":"Table1[[#This Row],[QTY]]*Table1[[#This Row],[S&L Price]]","v":0}]
[null,16,12,"What I Know",1,"I Know the Days of the Week","eBook",null,"978-1-4824-5459-8",2017,"January 2017",null,null,"Author","Mary Rose Osburn",null,null,null,null,"C",null,"Grade K","Grade Pre-K - 1","Time can be an abstract and sometimes confusing topic for young learners. The days of the week become comprehensible in this cheerful, entertaining narrative, which emphasizes the order of days as well as how events may happen on certain days. The inviting text, supported by carefully chosen photographs, concludes with a query about readers’ favorite day.","English",22.6,16.95,"529’.1--dc23","24 pp.",{"$f":"Table1[[#This Row],['# Books]]*Table1[[#This Row],[QTY]]","v":0},{"$f":"Table1[[#This Row],[QTY]]*Table1[[#This Row],[S&L Price]]","v":0}]
[null,16,12,"What I Know",1,"I Know the Seasons","Library Bound Book",null,"978-1-4824-5475-8",2017,"January 2017","Library","7.000 X 7.000","Author","Jon Welzen",null,null,null,null,"C",null,"Grade K","Grade Pre-K - 1","Winter, spring, summer, and fall—each season has its unique identifying features as well as its exciting activities. Readers will become well acquainted with these as they learn about the four seasons in this beneficial book. They’ll also decide which is their favorite season! Thoughtfully chosen photographs correlate with the achievable text and illustrate the characteristics of each season.","English",22.6,16.95,"508.2--dc23","24 pp.",{"$f":"Table1[[#This Row],['# Books]]*Table1[[#This Row],[QTY]]","v":0},{"$f":"Table1[[#This Row],[QTY]]*Table1[[#This Row],[S&L Price]]","v":0}]
[null,16,12,"What I Know",1,"I Know the Seasons","eBook",null,"978-1-4824-5476-5",2017,"January 2017",null,null,"Author","Jon Welzen",null,null,null,null,"C",null,"Grade K","Grade Pre-K - 1","Winter, spring, summer, and fall—each season has its unique identifying features as well as its exciting activities. Readers will become well acquainted with these as they learn about the four seasons in this beneficial book. They’ll also decide which is their favorite season! Thoughtfully chosen photographs correlate with the achievable text and illustrate the characteristics of each season.","English",22.6,16.95,"508.2--dc23","24 pp.",{"$f":"Table1[[#This Row],['# Books]]*Table1[[#This Row],[QTY]]","v":0},{"$f":"Table1[[#This Row],[QTY]]*Table1[[#This Row],[S&L Price]]","v":0}]
[null,null,12,"What I Know",18,"What I Know: Sets 1 – 3","Library Set",null,"978-1-5382-1751-1",2019,"August 2018","Library","7.000 X 7.000"," "," ",null,null,null,null,null,null,"Grade K","Grade Pre-K - 1","A strong connection to books and reading is the foundation to early literacy. This sought-after collection is a truly indispensable part of any early education library. Body parts, colors, opposites, community helpers, days of the week, sizes, shapes, and time are the varied areas of vocabulary covered by our bright and lively volumes. Beautiful full-color photographs are perfectly matched to the simple language that meets young learners where they are and allows them to develop further reading skills. Features include: Books' vibrant design will appeal to even reluctant readers. Accessible sentence construction supports readers in acquiring new vocabulary and builds on reading proficiency. Volumes provide ample opportunities to practice multiple skills connected to both foundational and informational reading standards of the English Language Arts Common Core.","English",406.8,305.10000000000002,null,"24 pp.",{"$f":"Table1[[#This Row],['# Books]]*Table1[[#This Row],[QTY]]","v":0},{"$f":"Table1[[#This Row],[QTY]]*Table1[[#This Row],[S&L Price]]","v":0}]
[null,null,12,"What I Know",6,"What I Know: Set 3","Library Set",null,"978-1-5382-1750-4",2019,"August 2018","Library","7.000 X 7.000"," "," ",null,null,null,null,null,null,"Grade K","Grade Pre-K - 1","Young learners delight in proudly telling others what they've learned. This continuation of our admired series aids them in expanding and practicing their understanding of key areas of early education. Size, position, and math words are some of the vocabulary they'll focus on, as well as the concepts of time, fractions, and 2-D and 3-D shapes. Bright photographs support the simple text and allow readers to build upon their comprehension skills. Features include: Each book concludes with a simple activity or question to help readers review what they've learned. Accessible text is constructed especially for young readers. The correlating relationship between the photographs and text allows readers to practice a fundamental standard of the English Language Arts Common Core.","English",135.6,101.7,null,"24 pp.",{"$f":"Table1[[#This Row],['# Books]]*Table1[[#This Row],[QTY]]","v":0},{"$f":"Table1[[#This Row],[QTY]]*Table1[[#This Row],[S&L Price]]","v":0}]
[null,null,12,"What I Know",1,"I Know About Telling Time","Library Bound Book",null,"978-1-5382-1726-9",2019,"August 2018","Library","7.000 X 7.000","Author","Richard Little",null,null,null,null,"B",null,"Grade K","Grade Pre-K - 1","\"Is it time yet?\" This useful book helps readers practice answering this question for themselves using analog clocks. They'll learn what each clock hand indicates and how to tell time in hour and half-hour increments. Telling time using an analog clock is an important step for young learners, and an early standard of Common Core math, and this straightforward text and accompanying photographs guide readers in mastery of that fundamental skill. Final questions aid in evaluating what they've learned.","English",22.6,16.95,"529--dc23","24 pp.",{"$f":"Table1[[#This Row],['# Books]]*Table1[[#This Row],[QTY]]","v":0},{"$f":"Table1[[#This Row],[QTY]]*Table1[[#This Row],[S&L Price]]","v":0}]
[null,null,12,"What I Know",1,"I Know About Telling Time","eBook",null,"978-1-5382-1728-3",2019,"August 2018",null,null,"Author","Richard Little",null,null,null,null,"B",null,"Grade K","Grade Pre-K - 1","\"Is it time yet?\" This useful book helps readers practice answering this question for themselves using analog clocks. They'll learn what each clock hand indicates and how to tell time in hour and half-hour increments. Telling time using an analog clock is an important step for young learners, and an early standard of Common Core math, and this straightforward text and accompanying photographs guide readers in mastery of that fundamental skill. Final questions aid in evaluating what they've learned.","English",22.6,16.95,"529--dc23","24 pp.",{"$f":"Table1[[#This Row],['# Books]]*Table1[[#This Row],[QTY]]","v":0},{"$f":"Table1[[#This Row],[QTY]]*Table1[[#This Row],[S&L Price]]","v":0}]
[null,null,12,"What I Know",1,"I Know Day and Night","Library Bound Book",null,"978-1-5382-1730-6",2019,"August 2018","Library","7.000 X 7.000","Author","Rosie Banks",null,null,null,null,"B",null,"Grade K","Grade Pre-K - 1","Earth turns once each day and gifts us with a period of darkness and daylight. This valuable book is an excellent introduction to this earth science concept. Readers will review objects that may be seen in the sky during the day and night as well as events that usually happen during these times, such as attending school and going to bed. They'll also consider what daily events they enjoy the most and when these happen, aiding them in connecting these actions to time. Colorful photographs correlate perfectly with the accessible text.","English",22.6,16.95,"525'.35--dc23","24 pp.",{"$f":"Table1[[#This Row],['# Books]]*Table1[[#This Row],[QTY]]","v":0},{"$f":"Table1[[#This Row],[QTY]]*Table1[[#This Row],[S&L Price]]","v":0}]
[null,null,12,"What I Know",1,"I Know Day and Night","eBook",null,"978-1-5382-1731-3",2019,"August 2018",null,null,"Author","Rosie Banks",null,null,null,null,"B",null,"Grade K","Grade Pre-K - 1","Earth turns once each day and gifts us with a period of darkness and daylight. This valuable book is an excellent introduction to this earth science concept. Readers will review objects that may be seen in the sky during the day and night as well as events that usually happen during these times, such as attending school and going to bed. They'll also consider what daily events they enjoy the most and when these happen, aiding them in connecting these actions to time. Colorful photographs correlate perfectly with the accessible text.","English",22.6,16.95,"525'.35--dc23","24 pp.",{"$f":"Table1[[#This Row],['# Books]]*Table1[[#This Row],[QTY]]","v":0},{"$f":"Table1[[#This Row],[QTY]]*Table1[[#This Row],[S&L Price]]","v":0}]
[null,null,12,"What I Know",1,"I Know Flat and Solid Shapes","Library Bound Book",null,"978-1-5382-1734-4",2019,"August 2018","Library","7.000 X 7.000","Author","Richard Little",null,null,null,null,"B",null,"Grade K","Grade Pre-K - 1","It is not just important for young learners to master familiar shapes like triangles, circles, and squares. Recognizing and identifying two-dimensional (\"flat\") or three-dimensional (\"solid\") shapes is a geometry standard of Common Core math. This helpful book, written to be accessible for our youngest learners, allows readers to compare 2-D shapes with their 3-D counterparts, such as a circle and sphere. Photographs clearly illustrate the qualities that define each. Concluding questions help readers review geometric terms.","English",22.6,16.95,"516/.15--dc23","24 pp.",{"$f":"Table1[[#This Row],['# Books]]*Table1[[#This Row],[QTY]]","v":0},{"$f":"Table1[[#This Row],[QTY]]*Table1[[#This Row],[S&L Price]]","v":0}]
[null,null,12,"What I Know",1,"I Know Flat and Solid Shapes","eBook",null,"978-1-5382-1735-1",2019,"August 2018",null,null,"Author","Richard Little",null,null,null,null,"B",null,"Grade K","Grade Pre-K - 1","It is not just important for young learners to master familiar shapes like triangles, circles, and squares. Recognizing and identifying two-dimensional (\"flat\") or three-dimensional (\"solid\") shapes is a geometry standard of Common Core math. This helpful book, written to be accessible for our youngest learners, allows readers to compare 2-D shapes with their 3-D counterparts, such as a circle and sphere. Photographs clearly illustrate the qualities that define each. Concluding questions help readers review geometric terms.","English",22.6,16.95,"516/.15--dc23","24 pp.",{"$f":"Table1[[#This Row],['# Books]]*Table1[[#This Row],[QTY]]","v":0},{"$f":"Table1[[#This Row],[QTY]]*Table1[[#This Row],[S&L Price]]","v":0}]
[null,null,12,"What I Know",1,"I Know Halves and Wholes","Library Bound Book",null,"978-1-5382-1738-2",2019,"August 2018","Library","7.000 X 7.000","Author","Richard Little",null,null,null,null,"B",null,"Grade K","Grade Pre-K - 1","Identifying half and whole shapes is a fundamental part of geometry. Young learners may practice first with flat shapes, but seeing this idea applied to foods they know is much more enticing! This charming book, full of bright photographs of favorite foods, is a great review of a crucial concept. Readers will practice vocabulary terms through accessible sentences as well as the application of the words \"half\" and \"whole,\" and a final activity allows them to check their understanding.","English",22.6,16.95,"513.2'6--dc23","24 pp.",{"$f":"Table1[[#This Row],['# Books]]*Table1[[#This Row],[QTY]]","v":0},{"$f":"Table1[[#This Row],[QTY]]*Table1[[#This Row],[S&L Price]]","v":0}]
[null,null,12,"What I Know",1,"I Know Halves and Wholes","eBook",null,"978-1-5382-1739-9",2019,"August 2018",null,null,"Author","Richard Little",null,null,null,null,"B",null,"Grade K","Grade Pre-K - 1","Identifying half and whole shapes is a fundamental part of geometry. Young learners may practice first with flat shapes, but seeing this idea applied to foods they know is much more enticing! This charming book, full of bright photographs of favorite foods, is a great review of a crucial concept. Readers will practice vocabulary terms through accessible sentences as well as the application of the words \"half\" and \"whole,\" and a final activity allows them to check their understanding.","English",22.6,16.95,"513.2'6--dc23","24 pp.",{"$f":"Table1[[#This Row],['# Books]]*Table1[[#This Row],[QTY]]","v":0},{"$f":"Table1[[#This Row],[QTY]]*Table1[[#This Row],[S&L Price]]","v":0}]
[null,null,12,"What I Know",1,"I Know Position Words","Library Bound Book",null,"978-1-5382-1742-9",2019,"August 2018","Library","7.000 X 7.000","Author","Rosie Banks",null,null,null,null,"B",null,"Grade K","Grade Pre-K - 1","Positional vocabulary, such as above, below, beside, and behind, are essential to describing spatial relationships. That's why early elementary classrooms focus on these and related words in both math and language arts curricula. This beneficial book reviews important position terms using accessible sentences and familiar, and fun, figures such as animals. Readers will assess their understanding of a positional term in a final activity and prove they've mastered the concept.","English",22.6,16.95,"428.1--dc23","24 pp.",{"$f":"Table1[[#This Row],['# Books]]*Table1[[#This Row],[QTY]]","v":0},{"$f":"Table1[[#This Row],[QTY]]*Table1[[#This Row],[S&L Price]]","v":0}]
[null,null,12,"What I Know",1,"I Know Position Words","eBook",null,"978-1-5382-1743-6",2019,"August 2018",null,null,"Author","Rosie Banks",null,null,null,null,"B",null,"Grade K","Grade Pre-K - 1","Positional vocabulary, such as above, below, beside, and behind, are essential to describing spatial relationships. That's why early elementary classrooms focus on these and related words in both math and language arts curricula. This beneficial book reviews important position terms using accessible sentences and familiar, and fun, figures such as animals. Readers will assess their understanding of a positional term in a final activity and prove they've mastered the concept.","English",22.6,16.95,"428.1--dc23","24 pp.",{"$f":"Table1[[#This Row],['# Books]]*Table1[[#This Row],[QTY]]","v":0},{"$f":"Table1[[#This Row],[QTY]]*Table1[[#This Row],[S&L Price]]","v":0}]
[null,null,12,"What I Know",1,"I Know Size Words","Library Bound Book",null,"978-1-5382-1746-7",2019,"August 2018","Library","7.000 X 7.000","Author","Rosie Banks",null,null,null,null,"B",null,"Grade K","Grade Pre-K - 1","Size words, such as large, small, short, and long, aren't just an important part of a burgeoning bank of vocabulary words. They're a crucial component of learning the skills of comparison and classification, early standards of Common Core math. The size words in this useful book are paired with colorful photographs that will help readers with comprehension of the accessible sentences. A final activity allows them to review the vocabulary and apply their knowledge, an excellent opportunity for assessment.","English",22.6,16.95,"428.1--dc23","24 pp.",{"$f":"Table1[[#This Row],['# Books]]*Table1[[#This Row],[QTY]]","v":0},{"$f":"Table1[[#This Row],[QTY]]*Table1[[#This Row],[S&L Price]]","v":0}]
[null,null,12,"What I Know",1,"I Know Size Words","eBook",null,"978-1-5382-1747-4",2019,"August 2018",null,null,"Author","Rosie Banks",null,null,null,null,"B",null,"Grade K","Grade Pre-K - 1","Size words, such as large, small, short, and long, aren't just an important part of a burgeoning bank of vocabulary words. They're a crucial component of learning the skills of comparison and classification, early standards of Common Core math. The size words in this useful book are paired with colorful photographs that will help readers with comprehension of the accessible sentences. A final activity allows them to review the vocabulary and apply their knowledge, an excellent opportunity for assessment.","English",22.6,16.95,"428.1--dc23","24 pp.",{"$f":"Table1[[#This Row],['# Books]]*Table1[[#This Row],[QTY]]","v":0},{"$f":"Table1[[#This Row],[QTY]]*Table1[[#This Row],[S&L Price]]","v":0}]
[null,null,13,"Our Favorite Shapes",6,"Our Favorite Shapes","Library Set",null,"978-1-5382-1286-8",2018,"January 2018","Library","7.000 X 7.000",null,null,null,null,null,null,null,null,"Grade K","Grade Pre-K - 1","Shapes are a crucial concept for young learners. There's no better way to reinforce this concept than by encouraging them to recognize shapes in our dynamic world. These vibrant, accessible books will motivate and inspire readers to recognize basic shapes, such as triangles, rectangles, and ovals, as well as to acquire vocabulary terms. A final activity will aid in assessing their understanding.","English",135.6,101.7,null,"24 pp.",{"$f":"Table1[[#This Row],['# Books]]*Table1[[#This Row],[QTY]]","v":0},{"$f":"Table1[[#This Row],[QTY]]*Table1[[#This Row],[S&L Price]]","v":0}]
[null,null,13,"Our Favorite Shapes",1,"We Love Circles!","Library Bound Book",null,"978-1-5382-0987-5",2018,"January 2018","Library","7.000 X 7.000","Author","Beatrice Harris",null,null,null,null,"B",null,"Grade K","Grade Pre-K - 1","Pizzas, cookies, Frisbees, some of the best things in life are circles. In the bright pages of this volume, readers will recognize circles in their everyday life. Achievable text is accompanied by carefully chosen photographs, which aid in acquisition of new vocabulary and practice in fluency. Readers are also asked to identify a circle in a concluding activity, a fun assessment of what they’ve learned.","English",22.6,16.95,"516'.152--dc23","24 pp.",{"$f":"Table1[[#This Row],['# Books]]*Table1[[#This Row],[QTY]]","v":0},{"$f":"Table1[[#This Row],[QTY]]*Table1[[#This Row],[S&L Price]]","v":0}]
[null,null,13,"Our Favorite Shapes",1,"We Love Circles!","eBook",null,"978-1-5382-0988-2",2018,"January 2018",null,null,"Author","Beatrice Harris",null,null,null,null,"B",null,"Grade K","Grade Pre-K - 1","Pizzas, cookies, Frisbees, some of the best things in life are circles. In the bright pages of this volume, readers will recognize circles in their everyday life. Achievable text is accompanied by carefully chosen photographs, which aid in acquisition of new vocabulary and practice in fluency. Readers are also asked to identify a circle in a concluding activity, a fun assessment of what they’ve learned.","English",22.6,16.95,"516'.152--dc23","24 pp.",{"$f":"Table1[[#This Row],['# Books]]*Table1[[#This Row],[QTY]]","v":0},{"$f":"Table1[[#This Row],[QTY]]*Table1[[#This Row],[S&L Price]]","v":0}]
[null,null,13,"Our Favorite Shapes",1,"We Love Diamonds!","Library Bound Book",null,"978-1-5382-0991-2",2018,"January 2018","Library","7.000 X 7.000","Author","Beatrice Harris",null,null,null,null,"B",null,"Grade K","Grade Pre-K - 1","Diamonds are similar to squares, but they look a bit “squashed.\" Readers will recognize this special shape in the many bright photographs of this accessible text, which also encourages them to build new vocabulary. They’ll see diamond-shaped kites, cookies, and signs, and learn to spot diamonds in patterns as well. As they develop their knowledge of this elementary geometry concept, they’ll understand how this aspect of math applies to real life.","English",22.6,16.95,"516'.154--dc23","24 pp.",{"$f":"Table1[[#This Row],['# Books]]*Table1[[#This Row],[QTY]]","v":0},{"$f":"Table1[[#This Row],[QTY]]*Table1[[#This Row],[S&L Price]]","v":0}]
[null,null,13,"Our Favorite Shapes",1,"We Love Diamonds!","eBook",null,"978-1-5382-0992-9",2018,"January 2018",null,null,"Author","Beatrice Harris",null,null,null,null,"B",null,"Grade K","Grade Pre-K - 1","Diamonds are similar to squares, but they look a bit “squashed.\" Readers will recognize this special shape in the many bright photographs of this accessible text, which also encourages them to build new vocabulary. They’ll see diamond-shaped kites, cookies, and signs, and learn to spot diamonds in patterns as well. As they develop their knowledge of this elementary geometry concept, they’ll understand how this aspect of math applies to real life.","English",22.6,16.95,"516'.154--dc23","24 pp.",{"$f":"Table1[[#This Row],['# Books]]*Table1[[#This Row],[QTY]]","v":0},{"$f":"Table1[[#This Row],[QTY]]*Table1[[#This Row],[S&L Price]]","v":0}]
[null,null,13,"Our Favorite Shapes",1,"We Love Ovals!","Library Bound Book",null,"978-1-5382-0995-0",2018,"January 2018","Library","7.000 X 7.000","Author","Beatrice Harris",null,null,null,null,"B",null,"Grade K","Grade Pre-K - 1","Ovals aren’t the easiest shape for young learners to spot, but this fun book will give them plenty of practice. They’ll see ovals in mirrors, eggs, and bathtubs, among other recognizable shapes. Vibrant images are coupled with text that features vocabulary accessible to the beginning reader. A final activity asks readers to identify an oval among other shapes, providing a final assessment opportunity.","English",22.6,16.95,"516'.154--dc23","24 pp.",{"$f":"Table1[[#This Row],['# Books]]*Table1[[#This Row],[QTY]]","v":0},{"$f":"Table1[[#This Row],[QTY]]*Table1[[#This Row],[S&L Price]]","v":0}]
[null,null,13,"Our Favorite Shapes",1,"We Love Ovals!","eBook",null,"978-1-5382-0996-7",2018,"January 2018",null,null,"Author","Beatrice Harris",null,null,null,null,"B",null,"Grade K","Grade Pre-K - 1","Ovals aren’t the easiest shape for young learners to spot, but this fun book will give them plenty of practice. They’ll see ovals in mirrors, eggs, and bathtubs, among other recognizable shapes. Vibrant images are coupled with text that features vocabulary accessible to the beginning reader. A final activity asks readers to identify an oval among other shapes, providing a final assessment opportunity.","English",22.6,16.95,"516'.154--dc23","24 pp.",{"$f":"Table1[[#This Row],['# Books]]*Table1[[#This Row],[QTY]]","v":0},{"$f":"Table1[[#This Row],[QTY]]*Table1[[#This Row],[S&L Price]]","v":0}]
[null,null,13,"Our Favorite Shapes",1,"We Love Rectangles!","Library Bound Book",null,"978-1-5382-0999-8",2018,"January 2018","Library","7.000 X 7.000","Author","Beatrice Harris",null,null,null,null,"B",null,"Grade K","Grade Pre-K - 1","Rectangles are everywhere. Exciting packages arrive at the door in rectangular boxes. Favorite photographs are placed in rectangular frames. In summer, everyone loves to take a dip at the local pool, which is usually a rectangle shape, too. Beginning readers and budding mathematicians need to know this useful shape as a foundation to geometric concepts. They'll love the objects and carefully selected, colorful photographs in this inviting volume.","English",22.6,16.95,"516'.154--dc23","24 pp.",{"$f":"Table1[[#This Row],['# Books]]*Table1[[#This Row],[QTY]]","v":0},{"$f":"Table1[[#This Row],[QTY]]*Table1[[#This Row],[S&L Price]]","v":0}]
[null,null,13,"Our Favorite Shapes",1,"We Love Rectangles!","eBook",null,"978-1-5382-1000-0",2018,"January 2018",null,null,"Author","Beatrice Harris",null,null,null,null,"B",null,"Grade K","Grade Pre-K - 1","Rectangles are everywhere. Exciting packages arrive at the door in rectangular boxes. Favorite photographs are placed in rectangular frames. In summer, everyone loves to take a dip at the local pool, which is usually a rectangle shape, too. Beginning readers and budding mathematicians need to know this useful shape as a foundation to geometric concepts. They'll love the objects and carefully selected, colorful photographs in this inviting volume.","English",22.6,16.95,"516'.154--dc23","24 pp.",{"$f":"Table1[[#This Row],['# Books]]*Table1[[#This Row],[QTY]]","v":0},{"$f":"Table1[[#This Row],[QTY]]*Table1[[#This Row],[S&L Price]]","v":0}]
[null,null,13,"Our Favorite Shapes",1,"We Love Squares!","Library Bound Book",null,"978-1-5382-1003-1",2018,"January 2018","Library","7.000 X 7.000","Author","Beatrice Harris",null,null,null,null,"B",null,"Grade K","Grade Pre-K - 1","Square crackers are a tasty snack. A square pillow is a perfect place to rest a head. It might not always occur to us, but our world is full of shapes. This book will hone young readers into recognizing the square, an essential standard of Common Core mathematics. Colorful photographs accompany comprehensible text, supporting readers' budding vocabulary and making this text achievable as well as entertaining.","English",22.6,16.95,"516'.154--dc23","24 pp.",{"$f":"Table1[[#This Row],['# Books]]*Table1[[#This Row],[QTY]]","v":0},{"$f":"Table1[[#This Row],[QTY]]*Table1[[#This Row],[S&L Price]]","v":0}]
[null,null,13,"Our Favorite Shapes",1,"We Love Squares!","eBook",null,"978-1-5382-1004-8",2018,"January 2018",null,null,"Author","Beatrice Harris",null,null,null,null,"B",null,"Grade K","Grade Pre-K - 1","Square crackers are a tasty snack. A square pillow is a perfect place to rest a head. It might not always occur to us, but our world is full of shapes. This book will hone young readers into recognizing the square, an essential standard of Common Core mathematics. Colorful photographs accompany comprehensible text, supporting readers' budding vocabulary and making this text achievable as well as entertaining.","English",22.6,16.95,"516'.154--dc23","24 pp.",{"$f":"Table1[[#This Row],['# Books]]*Table1[[#This Row],[QTY]]","v":0},{"$f":"Table1[[#This Row],[QTY]]*Table1[[#This Row],[S&L Price]]","v":0}]
[null,null,13,"Our Favorite Shapes",1,"We Love Triangles!","Library Bound Book",null,"978-1-5382-1007-9",2018,"January 2018","Library","7.000 X 7.000","Author","Beatrice Harris",null,null,null,null,"B",null,"Grade K","Grade Pre-K - 1","There are all sorts of triangles hidden in our world. This book will guide readers into seeing this shape in commonplace objects as well as help them distinguish triangles from other geometric figures. These simple exercises will encourage young mathematicians to practice identifying shapes in their own lives, reinforcing an important standard of elementary mathematics curricula.","English",22.6,16.95,"516'.154--dc23","24 pp.",{"$f":"Table1[[#This Row],['# Books]]*Table1[[#This Row],[QTY]]","v":0},{"$f":"Table1[[#This Row],[QTY]]*Table1[[#This Row],[S&L Price]]","v":0}]
[null,null,13,"Our Favorite Shapes",1,"We Love Triangles!","eBook",null,"978-1-5382-1008-6",2018,"January 2018",null,null,"Author","Beatrice Harris",null,null,null,null,"B",null,"Grade K","Grade Pre-K - 1","There are all sorts of triangles hidden in our world. This book will guide readers into seeing this shape in commonplace objects as well as help them distinguish triangles from other geometric figures. These simple exercises will encourage young mathematicians to practice identifying shapes in their own lives, reinforcing an important standard of elementary mathematics curricula.","English",22.6,16.95,"516'.154--dc23","24 pp.",{"$f":"Table1[[#This Row],['# Books]]*Table1[[#This Row],[QTY]]","v":0},{"$f":"Table1[[#This Row],[QTY]]*Table1[[#This Row],[S&L Price]]","v":0}]
[null,21,14,"An Animal Family (Set of 12 Titles)",12,"An Animal Family (Set of 12 Titles)","Library Set",null,"978-1-4824-6490-0",2018,"August 2017","Library","7.625 X 7.125",null,null,null,null,null,null,null,null,"Grade K","Grade Pre-K - 2","Baby animals are an important part of an animal family. Watching cubs become bears and foals grow into horses is an important science lesson, but also a good introduction to how animals make their own families, too! This early reader series uses simple but informative text paired with full-color photographs to show different animals caring for their young. From pigs and piglets on a farm to the seals and dolphins that care for their young in the ocean, readers will love exploring how animals of all shapes and sizes live and grow together.","English",271.2,203.4,null,"24 pp.",{"$f":"Table1[[#This Row],['# Books]]*Table1[[#This Row],[QTY]]","v":0},{"$f":"Table1[[#This Row],[QTY]]*Table1[[#This Row],[S&L Price]]","v":0}]
[null,21,14,"An Animal Family (Set of 6 NEW Titles)",6,"An Animal Family (Set of 6 NEW Titles)","Library Set",null,"978-1-4824-6487-0",2018,"August 2017","Library","7.625 X 7.125",null,null,null,null,null,null,null,null,"Grade K","Grade Pre-K - 2","When it comes to cute, the only thing better than animals are baby animals! From baby owlets to bear cubs, the smaller animals are the fuzzier and cuter they look. This innovative early reader series takes a look at the life cycles of some of nature’s most interesting animals, studying ape mothers as they care for their young babies and dolphins tending to their calves in the ocean. Through full-color photographs paired with accessible text, young readers get an up-close look at the animal kingdom they’ll never forget, watching animals of all kinds come together as a family.","English",135.6,101.7,null,"24 pp.",{"$f":"Table1[[#This Row],['# Books]]*Table1[[#This Row],[QTY]]","v":0},{"$f":"Table1[[#This Row],[QTY]]*Table1[[#This Row],[S&L Price]]","v":0}]
[null,21,14,"An Animal Family",1,"Apes and Babies","Library Bound Book",null,"978-1-4824-6367-5",2018,"August 2017","Library","7.625 X 7.125","Author","Adelaide Redwood",null,null,null,null,"C",null,"Grade K","Grade Pre-K - 2","There’s nothing cuter than an animal family, especially a family of adorable apes! This charming book safely puts young learners into the wilds of nature to see how apes take care of their young offspring. Beginning readers will love the full-color photographs of cute baby apes as they learn to play and follow their mothers around. While the adult apes keep them safe, these babies are learning all about the world around them, whether in captivity in a zoo or in the world’s dense jungles.","English",22.6,16.95,"599.8--dc23","24 pp.",{"$f":"Table1[[#This Row],['# Books]]*Table1[[#This Row],[QTY]]","v":0},{"$f":"Table1[[#This Row],[QTY]]*Table1[[#This Row],[S&L Price]]","v":0}]
[null,21,14,"An Animal Family",1,"Apes and Babies","eBook",null,"978-1-4824-6368-2",2018,"August 2017",null,null,"Author","Adelaide Redwood",null,null,null,null,"C",null,"Grade K","Grade Pre-K - 2","There’s nothing cuter than an animal family, especially a family of adorable apes! This charming book safely puts young learners into the wilds of nature to see how apes take care of their young offspring. Beginning readers will love the full-color photographs of cute baby apes as they learn to play and follow their mothers around. While the adult apes keep them safe, these babies are learning all about the world around them, whether in captivity in a zoo or in the world’s dense jungles.","English",22.6,16.95,"599.8--dc23","24 pp.",{"$f":"Table1[[#This Row],['# Books]]*Table1[[#This Row],[QTY]]","v":0},{"$f":"Table1[[#This Row],[QTY]]*Table1[[#This Row],[S&L Price]]","v":0}]
[null,21,14,"An Animal Family",1,"Bears and Cubs","Library Bound Book",null,"978-1-4824-6371-2",2018,"August 2017","Library","7.625 X 7.125","Author","Polly LeChance",null,null,null,null,"C",null,"Grade K","Grade Pre-K - 2","Bears are fierce creatures that hunt with their huge claws and jaws, but much of that hunting is for the benefit of their adorable cubs. These fuzzy woodland cubs are as cute as can be, and their mothers are very protective of these babies as they grow and develop into full-grown bears. Full-color photographs and accessible text aid young readers in their understanding of this furry animal family, both at play and working together to survive in the wilds of nature.","English",22.6,16.95,"599.78--dc23","24 pp.",{"$f":"Table1[[#This Row],['# Books]]*Table1[[#This Row],[QTY]]","v":0},{"$f":"Table1[[#This Row],[QTY]]*Table1[[#This Row],[S&L Price]]","v":0}]
[null,21,14,"An Animal Family",1,"Bears and Cubs","eBook",null,"978-1-4824-6372-9",2018,"August 2017",null,null,"Author","Polly LeChance",null,null,null,null,"C",null,"Grade K","Grade Pre-K - 2","Bears are fierce creatures that hunt with their huge claws and jaws, but much of that hunting is for the benefit of their adorable cubs. These fuzzy woodland cubs are as cute as can be, and their mothers are very protective of these babies as they grow and develop into full-grown bears. Full-color photographs and accessible text aid young readers in their understanding of this furry animal family, both at play and working together to survive in the wilds of nature.","English",22.6,16.95,"599.78--dc23","24 pp.",{"$f":"Table1[[#This Row],['# Books]]*Table1[[#This Row],[QTY]]","v":0},{"$f":"Table1[[#This Row],[QTY]]*Table1[[#This Row],[S&L Price]]","v":0}]
[null,21,14,"An Animal Family",1,"Deer and Fawns","Library Bound Book",null,"978-1-4824-6375-0",2018,"August 2017","Library","7.625 X 7.125","Author","Shep Fields",null,null,null,null,"C",null,"Grade K","Grade Pre-K - 2","Fawns may look delicate, but once these frail young creatures grow up, they become strong bucks and does bounding through the forest searching for food. This exciting book tracks that life journey as mother deer care for their young, teaching them how to become majestic forest creatures. Accessible text paired with amazing full-color photographs of these animal families let young readers explore the world of some of nature’s most interesting—and beautiful—animals.","English",22.6,16.95,"599.65--dc23","24 pp.",{"$f":"Table1[[#This Row],['# Books]]*Table1[[#This Row],[QTY]]","v":0},{"$f":"Table1[[#This Row],[QTY]]*Table1[[#This Row],[S&L Price]]","v":0}]
[null,21,14,"An Animal Family",1,"Deer and Fawns","eBook",null,"978-1-4824-6376-7",2018,"August 2017",null,null,"Author","Shep Fields",null,null,null,null,"C",null,"Grade K","Grade Pre-K - 2","Fawns may look delicate, but once these frail young creatures grow up, they become strong bucks and does bounding through the forest searching for food. This exciting book tracks that life journey as mother deer care for their young, teaching them how to become majestic forest creatures. Accessible text paired with amazing full-color photographs of these animal families let young readers explore the world of some of nature’s most interesting—and beautiful—animals.","English",22.6,16.95,"599.65--dc23","24 pp.",{"$f":"Table1[[#This Row],['# Books]]*Table1[[#This Row],[QTY]]","v":0},{"$f":"Table1[[#This Row],[QTY]]*Table1[[#This Row],[S&L Price]]","v":0}]
[null,21,14,"An Animal Family",1,"Dolphins and Calves","Library Bound Book",null,"978-1-4824-6379-8",2018,"August 2017","Library","7.625 X 7.125","Author","Mike Rodrigo-Gomez",null,null,null,null,"C",null,"Grade K","Grade Pre-K - 2","Dolphins are very smart animals, and that means they know how to take care of their young. This charming book explores the underwater world of these amazing aquatic mammals, showing how dolphin mothers care for their young, how they eat, and how young calves like to play. Through vibrant full-color photographs paired with accessible text, beginning readers embrace the wonders of nature as they discover important facts about the dolphin’s life cycle.","English",22.6,16.95,"599.53’4--dc23","24 pp.",{"$f":"Table1[[#This Row],['# Books]]*Table1[[#This Row],[QTY]]","v":0},{"$f":"Table1[[#This Row],[QTY]]*Table1[[#This Row],[S&L Price]]","v":0}]
[null,21,14,"An Animal Family",1,"Dolphins and Calves","eBook",null,"978-1-4824-6380-4",2018,"August 2017",null,null,"Author","Mike Rodrigo-Gomez",null,null,null,null,"C",null,"Grade K","Grade Pre-K - 2","Dolphins are very smart animals, and that means they know how to take care of their young. This charming book explores the underwater world of these amazing aquatic mammals, showing how dolphin mothers care for their young, how they eat, and how young calves like to play. Through vibrant full-color photographs paired with accessible text, beginning readers embrace the wonders of nature as they discover important facts about the dolphin’s life cycle.","English",22.6,16.95,"599.53’4--dc23","24 pp.",{"$f":"Table1[[#This Row],['# Books]]*Table1[[#This Row],[QTY]]","v":0},{"$f":"Table1[[#This Row],[QTY]]*Table1[[#This Row],[S&L Price]]","v":0}]
[null,21,14,"An Animal Family",1,"Foxes and Kits","Library Bound Book",null,"978-1-4824-6383-5",2018,"August 2017","Library","7.625 X 7.125","Author","Jose Ventana",null,null,null,null,"C",null,"Grade K","Grade Pre-K - 2","Fast forest animals like foxes are often hard to spot, and that's for a good reason. Staying out of sight means staying out of the grasp of fierce predators, and baby foxes are animals that need protecting. Young kits are as cute as they are vulnerable, and they need to stay away from anything that might make it a furry dinner. This book show beginning readers how fox mothers care for their young through accessible text and colorful photographs that show how these animals live their lives on the forest floor.","English",22.6,16.95,"599.775--dc23","24 pp.",{"$f":"Table1[[#This Row],['# Books]]*Table1[[#This Row],[QTY]]","v":0},{"$f":"Table1[[#This Row],[QTY]]*Table1[[#This Row],[S&L Price]]","v":0}]
[null,21,14,"An Animal Family",1,"Foxes and Kits","eBook",null,"978-1-4824-6384-2",2018,"August 2017",null,null,"Author","Jose Ventana",null,null,null,null,"C",null,"Grade K","Grade Pre-K - 2","Fast forest animals like foxes are often hard to spot, and that's for a good reason. Staying out of sight means staying out of the grasp of fierce predators, and baby foxes are animals that need protecting. Young kits are as cute as they are vulnerable, and they need to stay away from anything that might make it a furry dinner. This book show beginning readers how fox mothers care for their young through accessible text and colorful photographs that show how these animals live their lives on the forest floor.","English",22.6,16.95,"599.775--dc23","24 pp.",{"$f":"Table1[[#This Row],['# Books]]*Table1[[#This Row],[QTY]]","v":0},{"$f":"Table1[[#This Row],[QTY]]*Table1[[#This Row],[S&L Price]]","v":0}]
[null,21,14,"An Animal Family",1,"Owls and Owlets","Library Bound Book",null,"978-1-4824-6387-3",2018,"August 2017","Library","7.625 X 7.125","Author","Gustavo Sandoval",null,null,null,null,"C",null,"Grade K","Grade Pre-K - 2","Owls are amazing animals in their own right, but baby owlets are unbelievably cute! These bright-eyed creatures are great nocturnal hunters, stalking prey with their incredible eyesight. This charming book explores how they live their lives and survive in the trees. With vibrant full-color photographs and accessible text, this book brings young readers into the wild world of these feathered creatures, exploring how owlets become owls in an engaging introduction to the concept of life cycles.","English",22.6,16.95,"598.9’7--dc23","24 pp.",{"$f":"Table1[[#This Row],['# Books]]*Table1[[#This Row],[QTY]]","v":0},{"$f":"Table1[[#This Row],[QTY]]*Table1[[#This Row],[S&L Price]]","v":0}]
[null,21,14,"An Animal Family",1,"Owls and Owlets","eBook",null,"978-1-4824-6388-0",2018,"August 2017",null,null,"Author","Gustavo Sandoval",null,null,null,null,"C",null,"Grade K","Grade Pre-K - 2","Owls are amazing animals in their own right, but baby owlets are unbelievably cute! These bright-eyed creatures are great nocturnal hunters, stalking prey with their incredible eyesight. This charming book explores how they live their lives and survive in the trees. With vibrant full-color photographs and accessible text, this book brings young readers into the wild world of these feathered creatures, exploring how owlets become owls in an engaging introduction to the concept of life cycles.","English",22.6,16.95,"598.9’7--dc23","24 pp.",{"$f":"Table1[[#This Row],['# Books]]*Table1[[#This Row],[QTY]]","v":0},{"$f":"Table1[[#This Row],[QTY]]*Table1[[#This Row],[S&L Price]]","v":0}]
[null,21,14,"An Animal Family",1,"Chickens and Chicks","Library Bound Book",null,"978-1-4824-3773-7",2016,"January 2016","Library","7.125 X 7.625","Author","Emilia Hendrix",0.9,0.5,null,null,"C",null,"Grade K","Grade Pre-K - 2","Chickens can’t fly, but they sure know how to raise a family! This exciting book shows how chickens take care of their chicks. From laying eggs to watching them hatch and caring for the newborn chicks, this book takes emerging readers through the life cycle of these interesting animals. Colorful photographs paired with accessible text show how these feathered friends live on farms and how hens take care of their chicks, making sure they grow up to raise a family of their own!","English",22.6,16.95,"636.5—d23","24 pp.",{"$f":"Table1[[#This Row],['# Books]]*Table1[[#This Row],[QTY]]","v":0},{"$f":"Table1[[#This Row],[QTY]]*Table1[[#This Row],[S&L Price]]","v":0}]
[null,21,14,"An Animal Family",1,"Chickens and Chicks","eBook",null,"978-1-4824-3774-4",2016,"January 2016",null,null,"Author","Emilia Hendrix",0.9,0.5,null,null,"C",null,"Grade K","Grade Pre-K - 2","Chickens can’t fly, but they sure know how to raise a family! This exciting book shows how chickens take care of their chicks. From laying eggs to watching them hatch and caring for the newborn chicks, this book takes emerging readers through the life cycle of these interesting animals. Colorful photographs paired with accessible text show how these feathered friends live on farms and how hens take care of their chicks, making sure they grow up to raise a family of their own!","English",22.6,16.95,"636.5—d23","24 pp.",{"$f":"Table1[[#This Row],['# Books]]*Table1[[#This Row],[QTY]]","v":0},{"$f":"Table1[[#This Row],[QTY]]*Table1[[#This Row],[S&L Price]]","v":0}]
[null,21,14,"An Animal Family",1,"Horses and Foals","Library Bound Book",null,"978-1-4824-3777-5",2016,"January 2016","Library","7.125 X 7.625","Author","Emilia Hendrix",0.9,0.5,null,null,"C",null,"Grade K","Grade Pre-K - 2","Horses are very fast, majestic creatures that love taking care of their babies. Early readers learn all about these amazing animals and how they live their lives. Accessible text paired with bright photographs show horses running, eating, and raising their foals. Readers learn fun facts, like how most foals are born in spring. Later, readers take in the sight of foals and horses living together as a family as the babies learn to stand and take their first steps!","English",22.6,16.95,"636.1—d23","24 pp.",{"$f":"Table1[[#This Row],['# Books]]*Table1[[#This Row],[QTY]]","v":0},{"$f":"Table1[[#This Row],[QTY]]*Table1[[#This Row],[S&L Price]]","v":0}]
[null,21,14,"An Animal Family",1,"Horses and Foals","eBook",null,"978-1-4824-3778-2",2016,"January 2016",null,null,"Author","Emilia Hendrix",0.9,0.5,null,null,"C",null,"Grade K","Grade Pre-K - 2","Horses are very fast, majestic creatures that love taking care of their babies. Early readers learn all about these amazing animals and how they live their lives. Accessible text paired with bright photographs show horses running, eating, and raising their foals. Readers learn fun facts, like how most foals are born in spring. Later, readers take in the sight of foals and horses living together as a family as the babies learn to stand and take their first steps!","English",22.6,16.95,"636.1—d23","24 pp.",{"$f":"Table1[[#This Row],['# Books]]*Table1[[#This Row],[QTY]]","v":0},{"$f":"Table1[[#This Row],[QTY]]*Table1[[#This Row],[S&L Price]]","v":0}]
[null,21,14,"An Animal Family",1,"Koalas and Joeys","Library Bound Book",null,"978-1-4824-3781-2",2016,"January 2016","Library","7.125 X 7.625","Author","Emilia Hendrix",0.9,0.5,null,null,"C",null,"Grade K","Grade Pre-K - 2","Koalas are furry animals that spend lots of time in trees. These cute creatures have one joey at a time, which means mother and baby spend lots of time together while the joey grows. This exciting book takes a look at the lives of mother koalas and their tiny joeys, from their first moments alive and every step along the way as they grow in the pouch of their caring mothers. Accessible text paired with colorful photographs takes beginning readers on a journey to see where these amazing animals live in the wild.","English",22.6,16.95,"599.2'5—dc23","24 pp.",{"$f":"Table1[[#This Row],['# Books]]*Table1[[#This Row],[QTY]]","v":0},{"$f":"Table1[[#This Row],[QTY]]*Table1[[#This Row],[S&L Price]]","v":0}]
[null,21,14,"An Animal Family",1,"Koalas and Joeys","eBook",null,"978-1-4824-3782-9",2016,"January 2016",null,null,"Author","Emilia Hendrix",0.9,0.5,null,null,"C",null,"Grade K","Grade Pre-K - 2","Koalas are furry animals that spend lots of time in trees. These cute creatures have one joey at a time, which means mother and baby spend lots of time together while the joey grows. This exciting book takes a look at the lives of mother koalas and their tiny joeys, from their first moments alive and every step along the way as they grow in the pouch of their caring mothers. Accessible text paired with colorful photographs takes beginning readers on a journey to see where these amazing animals live in the wild.","English",22.6,16.95,"599.2'5—dc23","24 pp.",{"$f":"Table1[[#This Row],['# Books]]*Table1[[#This Row],[QTY]]","v":0},{"$f":"Table1[[#This Row],[QTY]]*Table1[[#This Row],[S&L Price]]","v":0}]
[null,21,14,"An Animal Family",1,"Pigs and Piglets","Library Bound Book",null,"978-1-4824-3785-0",2016,"January 2016","Library","7.125 X 7.625","Author","Emilia Hendrix",0.9,0.5,null,null,"C",null,"Grade K","Grade Pre-K - 2","Cute baby piglets are quite a sight to see, and this book gives beginning readers a look at their everyday lives. These super smart animals have a great sense of smell, and readers learn all about how they use that sense of smell to find food. Through accessible text and vivid photographs, readers see how pigs roll in mud to keep cool and how mother sows take care of their piglets, learning lots about these amazing animals along the way.","English",22.6,16.95,"636.4’07—d23","24 pp.",{"$f":"Table1[[#This Row],['# Books]]*Table1[[#This Row],[QTY]]","v":0},{"$f":"Table1[[#This Row],[QTY]]*Table1[[#This Row],[S&L Price]]","v":0}]
[null,21,14,"An Animal Family",1,"Pigs and Piglets","eBook",null,"978-1-4824-3786-7",2016,"January 2016",null,null,"Author","Emilia Hendrix",0.9,0.5,null,null,"C",null,"Grade K","Grade Pre-K - 2","Cute baby piglets are quite a sight to see, and this book gives beginning readers a look at their everyday lives. These super smart animals have a great sense of smell, and readers learn all about how they use that sense of smell to find food. Through accessible text and vivid photographs, readers see how pigs roll in mud to keep cool and how mother sows take care of their piglets, learning lots about these amazing animals along the way.","English",22.6,16.95,"636.4’07—d23","24 pp.",{"$f":"Table1[[#This Row],['# Books]]*Table1[[#This Row],[QTY]]","v":0},{"$f":"Table1[[#This Row],[QTY]]*Table1[[#This Row],[S&L Price]]","v":0}]
[null,21,14,"An Animal Family",1,"Seals and Pups","Library Bound Book",null,"978-1-4824-3789-8",2016,"January 2016","Library","7.125 X 7.625","Author","Emilia Hendrix",0.9,0.5,null,null,"C",null,"Grade K","Grade Pre-K - 2","Seals live on both land and sea, and these adorable animals take special care with their pups. Early readers will discover how seals love to eat fish, and how mother seals bring food to their newborn pups. These playful pups live as part of a colony, meaning these animals often have one big happy family to live in! Through simple text paired with amazing photographs, readers will love diving into the world of seals, watching them play and live their lives on the water.","English",22.6,16.95,"599.79—dc23","24 pp.",{"$f":"Table1[[#This Row],['# Books]]*Table1[[#This Row],[QTY]]","v":0},{"$f":"Table1[[#This Row],[QTY]]*Table1[[#This Row],[S&L Price]]","v":0}]
[null,21,14,"An Animal Family",1,"Seals and Pups","eBook",null,"978-1-4824-3790-4",2016,"January 2016",null,null,"Author","Emilia Hendrix",0.9,0.5,null,null,"C",null,"Grade K","Grade Pre-K - 2","Seals live on both land and sea, and these adorable animals take special care with their pups. Early readers will discover how seals love to eat fish, and how mother seals bring food to their newborn pups. These playful pups live as part of a colony, meaning these animals often have one big happy family to live in! Through simple text paired with amazing photographs, readers will love diving into the world of seals, watching them play and live their lives on the water.","English",22.6,16.95,"599.79—dc23","24 pp.",{"$f":"Table1[[#This Row],['# Books]]*Table1[[#This Row],[QTY]]","v":0},{"$f":"Table1[[#This Row],[QTY]]*Table1[[#This Row],[S&L Price]]","v":0}]
[null,21,14,"An Animal Family",1,"Tigers and Cubs","Library Bound Book",null,"978-1-4824-3793-5",2016,"January 2016","Library","7.125 X 7.625","Author","Emilia Hendrix",1,0.5,null,null,"C",null,"Grade K","Grade Pre-K - 2","Tiger cubs may be cute, but give them a couple years and they’re just as fierce as their protective mothers! This exciting book gives budding readers a first look at the lives these incredible cats live, searching for food and guarding their territory. Readers learn that mother tigers take care of their cubs, who can’t even see at birth! Colorful photographs also show tigers in zoos, where readers learn that people take care of and study these cubs as they grow older.","English",22.6,16.95,"599.756—dc23","24 pp.",{"$f":"Table1[[#This Row],['# Books]]*Table1[[#This Row],[QTY]]","v":0},{"$f":"Table1[[#This Row],[QTY]]*Table1[[#This Row],[S&L Price]]","v":0}]
[null,21,14,"An Animal Family",1,"Tigers and Cubs","eBook",null,"978-1-4824-3794-2",2016,"January 2016",null,null,"Author","Emilia Hendrix",1,0.5,null,null,"C",null,"Grade K","Grade Pre-K - 2","Tiger cubs may be cute, but give them a couple years and they’re just as fierce as their protective mothers! This exciting book gives budding readers a first look at the lives these incredible cats live, searching for food and guarding their territory. Readers learn that mother tigers take care of their cubs, who can’t even see at birth! Colorful photographs also show tigers in zoos, where readers learn that people take care of and study these cubs as they grow older.","English",22.6,16.95,"599.756—dc23","24 pp.",{"$f":"Table1[[#This Row],['# Books]]*Table1[[#This Row],[QTY]]","v":0},{"$f":"Table1[[#This Row],[QTY]]*Table1[[#This Row],[S&L Price]]","v":0}]
[null,29,15,"Great Big Animals (Set of 12 Titles)",12,"Great Big Animals (Set of 12 Titles)","Library Set",null,"978-1-5382-1415-2",2018,"January 2018","Library","7.625 X 7.125",null,null,null,null,null,null,null,null,"Grade K","Grade Pre-K - 2","The biggest animals on Earth often live the most exciting lives. Whether exploring the lives of gigantic blue whales or enormous elephants, early readers will be fascinated by the lives of the biggest animals on Earth. Incredibly tall giraffes and great, big grizzly bears highlight early science concepts for beginning readers, while fun facts about enthralling creatures, such as ostriches and hippos, fill every exciting page. Through the use of full-color photographs and easy-to-read text, readers will see how huge animals live their lives in Earth's many biomes.","English",271.2,203.4,null,"24 pp.",{"$f":"Table1[[#This Row],['# Books]]*Table1[[#This Row],[QTY]]","v":0},{"$f":"Table1[[#This Row],[QTY]]*Table1[[#This Row],[S&L Price]]","v":0}]
[null,29,15,"Great Big Animals (Set of 6 NEW Titles)",6,"Great Big Animals (Set of 6 NEW Titles)","Library Set",null,"978-1-5382-1281-3",2018,"January 2018","Library","7.625 X 7.125",null,null,null,null,null,null,null,null,"Grade K","Grade Pre-K - 2","Some of the coolest animals on Earth are huge. This series brings early readers up close and personal with crocodiles, whale sharks, and even the gigantic blue whale. Readers explore the world of massive mammals such as huge rhinos and arctic polar bears through full-color photographs and easy-to-read text that offers an accessible yet scientific look at their lives. Fun facts about large crocodiles lurking in swamp water and slithering anacondas highlight early concepts for beginning readers and engage them in the exciting world of humongous animals, creating lifelong readers.","English",135.6,101.7,null,"24 pp.",{"$f":"Table1[[#This Row],['# Books]]*Table1[[#This Row],[QTY]]","v":0},{"$f":"Table1[[#This Row],[QTY]]*Table1[[#This Row],[S&L Price]]","v":0}]
[null,29,15,"Great Big Animals",1,"Colossal Crocodiles","Library Bound Book",null,"978-1-5382-0897-7",2018,"January 2018","Library","7.625 X 7.125","Author","Francis MacIntire",null,null,null,null,"C",null,"Grade K","Grade Pre-K - 2","Crocodiles are massive eating machines that lurk in shallow waters. Their big, powerful jaws make them fearsome creatures to all kinds of animals, even humans. Through full-color photographs and easy-to-read text, young readers explore the aquatic world of these huge animals and see just how they live and eat. From their skin to their sharp teeth, they'll learn how these animals catch prey and the special advantages their bodies have that make these big creatures to survive. Early readers will love exploring the world of this unique animal in its home habitat.","English",22.6,16.95,"597.98'2--dc23","24 pp.",{"$f":"Table1[[#This Row],['# Books]]*Table1[[#This Row],[QTY]]","v":0},{"$f":"Table1[[#This Row],[QTY]]*Table1[[#This Row],[S&L Price]]","v":0}]
[null,29,15,"Great Big Animals",1,"Colossal Crocodiles","eBook",null,"978-1-5382-0898-4",2018,"January 2018",null,null,"Author","Francis MacIntire",null,null,null,null,"C",null,"Grade K","Grade Pre-K - 2","Crocodiles are massive eating machines that lurk in shallow waters. Their big, powerful jaws make them fearsome creatures to all kinds of animals, even humans. Through full-color photographs and easy-to-read text, young readers explore the aquatic world of these huge animals and see just how they live and eat. From their skin to their sharp teeth, they'll learn how these animals catch prey and the special advantages their bodies have that make these big creatures to survive. Early readers will love exploring the world of this unique animal in its home habitat.","English",22.6,16.95,"597.98'2--dc23","24 pp.",{"$f":"Table1[[#This Row],['# Books]]*Table1[[#This Row],[QTY]]","v":0},{"$f":"Table1[[#This Row],[QTY]]*Table1[[#This Row],[S&L Price]]","v":0}]
[null,29,15,"Great Big Animals",1,"Gigantic Whale Sharks","Library Bound Book",null,"978-1-5382-0901-1",2018,"January 2018","Library","7.625 X 7.125","Author","Stephanie Carrington",null,null,null,null,"C",null,"Grade K","Grade Pre-K - 2","Whale sharks live in an ocean full of amazing creatures, but these massive aquatic beasts stand apart because of their size, and with that comes fascinating features, such as having 3,000 tiny teeth. Through full-color photographs and easy-to-read text, young readers explore the seas through their eyes, seeing for themselves how these astonishingly large animals survive in the wild. These fascinating animals truly are the largest fish in the sea, and readers will explore the habitats and habits of these strange sharks with ease thanks to this innovative book.","English",22.6,16.95,"597.3--dc23","24 pp.",{"$f":"Table1[[#This Row],['# Books]]*Table1[[#This Row],[QTY]]","v":0},{"$f":"Table1[[#This Row],[QTY]]*Table1[[#This Row],[S&L Price]]","v":0}]
[null,29,15,"Great Big Animals",1,"Gigantic Whale Sharks","eBook",null,"978-1-5382-0902-8",2018,"January 2018",null,null,"Author","Stephanie Carrington",null,null,null,null,"C",null,"Grade K","Grade Pre-K - 2","Whale sharks live in an ocean full of amazing creatures, but these massive aquatic beasts stand apart because of their size, and with that comes fascinating features, such as having 3,000 tiny teeth. Through full-color photographs and easy-to-read text, young readers explore the seas through their eyes, seeing for themselves how these astonishingly large animals survive in the wild. These fascinating animals truly are the largest fish in the sea, and readers will explore the habitats and habits of these strange sharks with ease thanks to this innovative book.","English",22.6,16.95,"597.3--dc23","24 pp.",{"$f":"Table1[[#This Row],['# Books]]*Table1[[#This Row],[QTY]]","v":0},{"$f":"Table1[[#This Row],[QTY]]*Table1[[#This Row],[S&L Price]]","v":0}]
[null,29,15,"Great Big Animals",1,"Huge Polar Bears","Library Bound Book",null,"978-1-5382-0905-9",2018,"January 2018","Library","7.625 X 7.125","Author","Stephanie Carrington",null,null,null,null,"C",null,"Grade K","Grade Pre-K - 2","Polar bears are some of the most interesting animals in the world. Though their territory is shrinking, these fierce creatures are fighting for survival with all their might. Young readers will be wowed by this book full of colorful photographs paired with accessible text describing these massive mammals. They'll experience what it's like to live in a polar wilderness searching for food, on the hunt with some of the largest and most fearsome predators on the planet.","English",22.6,16.95,"599.786--dc23","24 pp.",{"$f":"Table1[[#This Row],['# Books]]*Table1[[#This Row],[QTY]]","v":0},{"$f":"Table1[[#This Row],[QTY]]*Table1[[#This Row],[S&L Price]]","v":0}]
[null,29,15,"Great Big Animals",1,"Huge Polar Bears","eBook",null,"978-1-5382-0906-6",2018,"January 2018",null,null,"Author","Stephanie Carrington",null,null,null,null,"C",null,"Grade K","Grade Pre-K - 2","Polar bears are some of the most interesting animals in the world. Though their territory is shrinking, these fierce creatures are fighting for survival with all their might. Young readers will be wowed by this book full of colorful photographs paired with accessible text describing these massive mammals. They'll experience what it's like to live in a polar wilderness searching for food, on the hunt with some of the largest and most fearsome predators on the planet.","English",22.6,16.95,"599.786--dc23","24 pp.",{"$f":"Table1[[#This Row],['# Books]]*Table1[[#This Row],[QTY]]","v":0},{"$f":"Table1[[#This Row],[QTY]]*Table1[[#This Row],[S&L Price]]","v":0}]
[null,29,15,"Great Big Animals",1,"Jumbo Blue Whales","Library Bound Book",null,"978-1-5382-0909-7",2018,"January 2018","Library","7.625 X 7.125","Author","Francis MacIntire",null,null,null,null,"C",null,"Grade K","Grade Pre-K - 2","Imagine an animal whose tongue can weigh as much as an elephant, and whose heart can weigh as much as a car. Blue whales are amazing animals that we have to weigh in tons, not pounds. This book explores the aquatic lives of the largest animals on Earth, from what they eat to where they live and just how big they really are. Through full-color photographs paired with accessible text, young readers will be amazed to learn that these massive animals survive by eating tiny plankton.","English",22.6,16.95,"599.5'248--dc23","24 pp.",{"$f":"Table1[[#This Row],['# Books]]*Table1[[#This Row],[QTY]]","v":0},{"$f":"Table1[[#This Row],[QTY]]*Table1[[#This Row],[S&L Price]]","v":0}]
[null,29,15,"Great Big Animals",1,"Jumbo Blue Whales","eBook",null,"978-1-5382-0910-3",2018,"January 2018",null,null,"Author","Francis MacIntire",null,null,null,null,"C",null,"Grade K","Grade Pre-K - 2","Imagine an animal whose tongue can weigh as much as an elephant, and whose heart can weigh as much as a car. Blue whales are amazing animals that we have to weigh in tons, not pounds. This book explores the aquatic lives of the largest animals on Earth, from what they eat to where they live and just how big they really are. Through full-color photographs paired with accessible text, young readers will be amazed to learn that these massive animals survive by eating tiny plankton.","English",22.6,16.95,"599.5'248--dc23","24 pp.",{"$f":"Table1[[#This Row],['# Books]]*Table1[[#This Row],[QTY]]","v":0},{"$f":"Table1[[#This Row],[QTY]]*Table1[[#This Row],[S&L Price]]","v":0}]
[null,29,15,"Great Big Animals",1,"Massive Rhinos","Library Bound Book",null,"978-1-5382-0913-4",2018,"January 2018","Library","7.625 X 7.125","Author","Charles M. Jones",null,null,null,null,"C",null,"Grade K","Grade Pre-K - 2","Rhinoceroses look powerful and scary, but they need our help to stay alive despite their massive size. This book is all about these great big creatures roaming free in Africa. From their amazing horns to their huge size, rhinos are full of amazing features. Young readers learn about these creatures and why they need to be kept safe to save the species. With amazing full-color photographs paired with accessible text, readers discover the difference between black and white rhinos and what they like to eat.","English",22.6,16.95,"599.66'8--dc23","24 pp.",{"$f":"Table1[[#This Row],['# Books]]*Table1[[#This Row],[QTY]]","v":0},{"$f":"Table1[[#This Row],[QTY]]*Table1[[#This Row],[S&L Price]]","v":0}]
[null,29,15,"Great Big Animals",1,"Massive Rhinos","eBook",null,"978-1-5382-0914-1",2018,"January 2018",null,null,"Author","Charles M. Jones",null,null,null,null,"C",null,"Grade K","Grade Pre-K - 2","Rhinoceroses look powerful and scary, but they need our help to stay alive despite their massive size. This book is all about these great big creatures roaming free in Africa. From their amazing horns to their huge size, rhinos are full of amazing features. Young readers learn about these creatures and why they need to be kept safe to save the species. With amazing full-color photographs paired with accessible text, readers discover the difference between black and white rhinos and what they like to eat.","English",22.6,16.95,"599.66'8--dc23","24 pp.",{"$f":"Table1[[#This Row],['# Books]]*Table1[[#This Row],[QTY]]","v":0},{"$f":"Table1[[#This Row],[QTY]]*Table1[[#This Row],[S&L Price]]","v":0}]
[null,29,15,"Great Big Animals",1,"Superlong Anacondas","Library Bound Book",null,"978-1-5382-0917-2",2018,"January 2018","Library","7.625 X 7.125","Author","Charles M. Jones",null,null,null,null,"C",null,"Grade K","Grade Pre-K - 2","Anacondas are some of the most interesting snake species on the planet. These long, slithering serpents are big and more than a bit scary. Young readers experience the world through snake eyes with this book featuring full-color photographs that show off these scaly snakes in all their glory. From what they eat to how they slither from place to place searching for that meal, readers get up close and personal with one of the largest animals in the world.","English",22.6,16.95,"597.96'7--dc23","24 pp.",{"$f":"Table1[[#This Row],['# Books]]*Table1[[#This Row],[QTY]]","v":0},{"$f":"Table1[[#This Row],[QTY]]*Table1[[#This Row],[S&L Price]]","v":0}]
[null,29,15,"Great Big Animals",1,"Superlong Anacondas","eBook",null,"978-1-5382-0918-9",2018,"January 2018",null,null,"Author","Charles M. Jones",null,null,null,null,"C",null,"Grade K","Grade Pre-K - 2","Anacondas are some of the most interesting snake species on the planet. These long, slithering serpents are big and more than a bit scary. Young readers experience the world through snake eyes with this book featuring full-color photographs that show off these scaly snakes in all their glory. From what they eat to how they slither from place to place searching for that meal, readers get up close and personal with one of the largest animals in the world.","English",22.6,16.95,"597.96'7--dc23","24 pp.",{"$f":"Table1[[#This Row],['# Books]]*Table1[[#This Row],[QTY]]","v":0},{"$f":"Table1[[#This Row],[QTY]]*Table1[[#This Row],[S&L Price]]","v":0}]
[null,29,15,"Great Big Animals",1,"Awesome Ostriches","Library Bound Book",null,"978-1-4339-9416-6",2014,"August 2013","Library","7.625 X 7.125","Author","Ryan Nagelhout",0.7,0.5,2,2,"B",null,"Grade K","Grade K - 2","Ostriches are the biggest birds on Earth, and they’re also some of the strangest. Early readers will learn more about a herd of ostrich with the help of full-color photographs and easy-to-read text. What does an ostrich eat? How many toes does it have? Why does it kick other animals? Readers discover what these flightless birds do with their wings and other facts that highlight early life science concepts. Accessible text gives early learners plenty of facts about these big birds, while a picture glossary reinforces vocabulary with colorful imagery.  • High-interest topic engages young readers • Strong picture-text correlation aids in comprehension • Reading level supports beginning readers • Picture glossary helps develop vocabulary skills • Comprehendible index guides readers through each book  ","English",22.6,16.95,"598.524","24 pp.",{"$f":"Table1[[#This Row],['# Books]]*Table1[[#This Row],[QTY]]","v":0},{"$f":"Table1[[#This Row],[QTY]]*Table1[[#This Row],[S&L Price]]","v":0}]
[null,29,15,"Great Big Animals",1,"Awesome Ostriches","eBook",null,"978-1-4339-9419-7",2014,"August 2013",null,null,"Author","Ryan Nagelhout",0.7,0.5,2,2,"B",null,"Grade K","Grade K - 2","Ostriches are the biggest birds on Earth, and they’re also some of the strangest. Early readers will learn more about a herd of ostrich with the help of full-color photographs and easy-to-read text. What does an ostrich eat? How many toes does it have? Why does it kick other animals? Readers discover what these flightless birds do with their wings and other facts that highlight early life science concepts. Accessible text gives early learners plenty of facts about these big birds, while a picture glossary reinforces vocabulary with colorful imagery.  • High-interest topic engages young readers • Strong picture-text correlation aids in comprehension • Reading level supports beginning readers • Picture glossary helps develop vocabulary skills • Comprehendible index guides readers through each book  ","English",22.6,16.95,"598.524","24 pp.",{"$f":"Table1[[#This Row],['# Books]]*Table1[[#This Row],[QTY]]","v":0},{"$f":"Table1[[#This Row],[QTY]]*Table1[[#This Row],[S&L Price]]","v":0}]
[null,29,15,"Great Big Animals",1,"Big Bison","Library Bound Book",null,"978-1-4339-9420-3",2014,"August 2013","Library","7.625 X 7.125","Author","Ryan Nagelhout",0.9,0.5,3,4,"C",null,"Grade K","Grade K - 2","Bison are huge animals, but that doesn’t mean they are slow! Some bison run up to 40 miles per hour, and with sharp horns on their head they can be dangerous, too. Filled with full-color photographs and accessible text, early readers will be fascinated by the lives and habits of a bison herd. Facts and figures will captivate even the most reluctant of readers, as they discover where bison live, what they eat, and the special term for a female bison in this exciting book.  • High-interest topic engages young readers • Strong picture-text correlation aids in comprehension • Reading level supports beginning readers • Picture glossary helps develop vocabulary skills • Comprehendible index guides readers through each book    ","English",22.6,16.95,"599.643","24 pp.",{"$f":"Table1[[#This Row],['# Books]]*Table1[[#This Row],[QTY]]","v":0},{"$f":"Table1[[#This Row],[QTY]]*Table1[[#This Row],[S&L Price]]","v":0}]
[null,29,15,"Great Big Animals",1,"Big Bison","eBook",null,"978-1-4339-9423-4",2014,"August 2013",null,null,"Author","Ryan Nagelhout",0.9,0.5,3,4,"C",null,"Grade K","Grade K - 2","Bison are huge animals, but that doesn’t mean they are slow! Some bison run up to 40 miles per hour, and with sharp horns on their head they can be dangerous, too. Filled with full-color photographs and accessible text, early readers will be fascinated by the lives and habits of a bison herd. Facts and figures will captivate even the most reluctant of readers, as they discover where bison live, what they eat, and the special term for a female bison in this exciting book.  • High-interest topic engages young readers • Strong picture-text correlation aids in comprehension • Reading level supports beginning readers • Picture glossary helps develop vocabulary skills • Comprehendible index guides readers through each book    ","English",22.6,16.95,"599.643","24 pp.",{"$f":"Table1[[#This Row],['# Books]]*Table1[[#This Row],[QTY]]","v":0},{"$f":"Table1[[#This Row],[QTY]]*Table1[[#This Row],[S&L Price]]","v":0}]
[null,29,15,"Great Big Animals",1,"Enormous Elephants","Library Bound Book",null,"978-1-4339-9424-1",2014,"August 2013","Library","7.625 X 7.125","Author","Ryan Nagelhout",0.9,0.5,3,4,"C",null,"Grade K","Grade K - 2","Why are elephants’ ears so big? Early readers will learn that and more in this exciting first concepts book filled with fun information and full-color photographs. Through easy-to-read text, readers will discover the difference between African and Asian elephants, and what they do with their large trunks. The biggest land animals on Earth will captivate even the most reluctant of readers as they come along on this exciting elephant adventure!    • High-interest topic engages young readers • Strong picture-text correlation aids in comprehension • Reading level supports beginning readers • Picture glossary helps develop vocabulary skills • Comprehendible index guides readers through each book    ","English",22.6,16.95,"599.61","24 pp.",{"$f":"Table1[[#This Row],['# Books]]*Table1[[#This Row],[QTY]]","v":0},{"$f":"Table1[[#This Row],[QTY]]*Table1[[#This Row],[S&L Price]]","v":0}]
[null,29,15,"Great Big Animals",1,"Enormous Elephants","eBook",null,"978-1-4339-9427-2",2014,"August 2013",null,null,"Author","Ryan Nagelhout",0.9,0.5,3,4,"C",null,"Grade K","Grade K - 2","Why are elephants’ ears so big? Early readers will learn that and more in this exciting first concepts book filled with fun information and full-color photographs. Through easy-to-read text, readers will discover the difference between African and Asian elephants, and what they do with their large trunks. The biggest land animals on Earth will captivate even the most reluctant of readers as they come along on this exciting elephant adventure!    • High-interest topic engages young readers • Strong picture-text correlation aids in comprehension • Reading level supports beginning readers • Picture glossary helps develop vocabulary skills • Comprehendible index guides readers through each book    ","English",22.6,16.95,"599.61","24 pp.",{"$f":"Table1[[#This Row],['# Books]]*Table1[[#This Row],[QTY]]","v":0},{"$f":"Table1[[#This Row],[QTY]]*Table1[[#This Row],[S&L Price]]","v":0}]
[null,29,15,"Great Big Animals",1,"Giant Giraffes","Library Bound Book",null,"978-1-4339-9428-9",2014,"August 2013","Library","7.625 X 7.125","Author","Ryan Nagelhout",0.9,0.5,3,4,"C",null,"Grade K","Grade K - 2","Giraffes are the tallest animals on Earth. Through the use of bright photographs and easy-to-read text, early readers will be fascinated by the lives of these big mammals. They'll discover how giraffes use their long necks, and how they use their giant tongues to reach leaves on tall trees! The exciting lives of these giant animals will offer plenty of facts that highlight early life science concepts for beginning readers.   • High-interest topic engages young readers • Strong picture-text correlation aids in comprehension • Reading level supports beginning readers • Picture glossary helps develop vocabulary skills • Comprehendible index guides readers through each book    ","English",22.6,16.95,"599.638","24 pp.",{"$f":"Table1[[#This Row],['# Books]]*Table1[[#This Row],[QTY]]","v":0},{"$f":"Table1[[#This Row],[QTY]]*Table1[[#This Row],[S&L Price]]","v":0}]
[null,29,15,"Great Big Animals",1,"Giant Giraffes","eBook",null,"978-1-4339-9431-9",2014,"August 2013",null,null,"Author","Ryan Nagelhout",0.9,0.5,3,4,"C",null,"Grade K","Grade K - 2","Giraffes are the tallest animals on Earth. Through the use of bright photographs and easy-to-read text, early readers will be fascinated by the lives of these big mammals. They'll discover how giraffes use their long necks, and how they use their giant tongues to reach leaves on tall trees! The exciting lives of these giant animals will offer plenty of facts that highlight early life science concepts for beginning readers.   • High-interest topic engages young readers • Strong picture-text correlation aids in comprehension • Reading level supports beginning readers • Picture glossary helps develop vocabulary skills • Comprehendible index guides readers through each book    ","English",22.6,16.95,"599.638","24 pp.",{"$f":"Table1[[#This Row],['# Books]]*Table1[[#This Row],[QTY]]","v":0},{"$f":"Table1[[#This Row],[QTY]]*Table1[[#This Row],[S&L Price]]","v":0}]
[null,29,15,"Great Big Animals",1,"Great Big Grizzlies","Library Bound Book",null,"978-1-4339-9432-6",2014,"August 2013","Library","7.625 X 7.125","Author","Ryan Nagelhout",0.9,0.5,3,3,"C",null,"Grade K","Grade K - 2","A great big grizzly is much different than your ordinary teddy bear! Grizzlies are huge and hungry. With the help of full-color photographs and easy-to-read text, early readers will be fascinated by the lives of these big bears, and will discover what they like to eat and what they like to do in winter when the weather gets cold. Accessible text gives early learners basic but fun facts about grizzlies while highlighting early life science concepts in an engaging way.  • High-interest topic engages young readers • Strong picture-text correlation aids in comprehension • Reading level supports beginning readers • Picture glossary helps develop vocabulary skills • Comprehendible index guides readers through each book    ","English",22.6,16.95,"599.784","24 pp.",{"$f":"Table1[[#This Row],['# Books]]*Table1[[#This Row],[QTY]]","v":0},{"$f":"Table1[[#This Row],[QTY]]*Table1[[#This Row],[S&L Price]]","v":0}]
[null,29,15,"Great Big Animals",1,"Great Big Grizzlies","eBook",null,"978-1-4339-9435-7",2014,"August 2013",null,null,"Author","Ryan Nagelhout",0.9,0.5,3,3,"C",null,"Grade K","Grade K - 2","A great big grizzly is much different than your ordinary teddy bear! Grizzlies are huge and hungry. With the help of full-color photographs and easy-to-read text, early readers will be fascinated by the lives of these big bears, and will discover what they like to eat and what they like to do in winter when the weather gets cold. Accessible text gives early learners basic but fun facts about grizzlies while highlighting early life science concepts in an engaging way.  • High-interest topic engages young readers • Strong picture-text correlation aids in comprehension • Reading level supports beginning readers • Picture glossary helps develop vocabulary skills • Comprehendible index guides readers through each book    ","English",22.6,16.95,"599.784","24 pp.",{"$f":"Table1[[#This Row],['# Books]]*Table1[[#This Row],[QTY]]","v":0},{"$f":"Table1[[#This Row],[QTY]]*Table1[[#This Row],[S&L Price]]","v":0}]
[null,29,15,"Great Big Animals",1,"Huge Hippos","Library Bound Book",null,"978-1-4339-9436-4",2014,"August 2013","Library","7.625 X 7.125","Author","Ryan Nagelhout",0.9,0.5,3,4,"C",null,"Grade K","Grade K - 2","Hippos love to lie in the water, and they lounge for hours at a time! Through easy-to-read text and vivid full-color photographs, early readers will learn why these huge animals love to lounge as well as why they hunt at night, and just how much food can fill their big bellies! Accessible text offers facts that highlight early life science concepts for beginning readers, and makes learning about these great big animals fun and educational. A picture glossary reinforces vocabulary with colorful photographs to further enhance reading comprehension.    • High-interest topic engages young readers • Strong picture-text correlation aids in comprehension • Reading level supports beginning readers • Picture glossary helps develop vocabulary skills • Comprehendible index guides readers through each book","English",22.6,16.95,"599.635","24 pp.",{"$f":"Table1[[#This Row],['# Books]]*Table1[[#This Row],[QTY]]","v":0},{"$f":"Table1[[#This Row],[QTY]]*Table1[[#This Row],[S&L Price]]","v":0}]
[null,29,15,"Great Big Animals",1,"Huge Hippos","eBook",null,"978-1-4339-9439-5",2014,"August 2013",null,null,"Author","Ryan Nagelhout",0.9,0.5,3,4,"C",null,"Grade K","Grade K - 2","Hippos love to lie in the water, and they lounge for hours at a time! Through easy-to-read text and vivid full-color photographs, early readers will learn why these huge animals love to lounge as well as why they hunt at night, and just how much food can fill their big bellies! Accessible text offers facts that highlight early life science concepts for beginning readers, and makes learning about these great big animals fun and educational. A picture glossary reinforces vocabulary with colorful photographs to further enhance reading comprehension.    • High-interest topic engages young readers • Strong picture-text correlation aids in comprehension • Reading level supports beginning readers • Picture glossary helps develop vocabulary skills • Comprehendible index guides readers through each book","English",22.6,16.95,"599.635","24 pp.",{"$f":"Table1[[#This Row],['# Books]]*Table1[[#This Row],[QTY]]","v":0},{"$f":"Table1[[#This Row],[QTY]]*Table1[[#This Row],[S&L Price]]","v":0}]
[null,null,16,"Our Exciting Earth!",6,"Our Exciting Earth!","Library Set",null,"978-1-5382-1285-1",2018,"January 2018","Library","7.625 X 7.125",null,null,null,null,null,null,null,null,"Grade K","Grade Pre-K - 2","Our Earth is an incredibly dynamic planet. It's continually changing, always breathtaking, and often mysterious. Elementary curricula require that learners understand natural features of regions such as mountains, valleys, and deserts. This exciting series will take the mystery out of some of Earth's most recognizable landforms. Readers will not only learn what these places look like, but also gain an understanding of their conditions and the types of organisms that call them home. Young geographers will love this lively exploration of their planet.","English",135.6,101.7,null,"24 pp.",{"$f":"Table1[[#This Row],['# Books]]*Table1[[#This Row],[QTY]]","v":0},{"$f":"Table1[[#This Row],[QTY]]*Table1[[#This Row],[S&L Price]]","v":0}]
[null,null,16,"Our Exciting Earth!",1,"Deserts","Library Bound Book",null,"978-1-5382-0963-9",2018,"January 2018","Library","7.625 X 7.125","Author","Claire Romaine",null,null,null,null,"C",null,"Grade K","Grade Pre-K - 2","Many people have preconceptions about biomes, especially deserts. They picture only hot, barren wastelands where nothing lives. This valuable volume teaches young Earth explorers some surprising facts about desert habitats. For example, some deserts don’t have sand, and some are quite cold. They’ll also learn how some resilient plants and animals survive in these arid environments. Beautiful images accompany the accessible low-ATOS text.","English",22.6,16.95,"577.54--dc23","24 pp.",{"$f":"Table1[[#This Row],['# Books]]*Table1[[#This Row],[QTY]]","v":0},{"$f":"Table1[[#This Row],[QTY]]*Table1[[#This Row],[S&L Price]]","v":0}]
[null,null,16,"Our Exciting Earth!",1,"Deserts","eBook",null,"978-1-5382-0964-6",2018,"January 2018",null,null,"Author","Claire Romaine",null,null,null,null,"C",null,"Grade K","Grade Pre-K - 2","Many people have preconceptions about biomes, especially deserts. They picture only hot, barren wastelands where nothing lives. This valuable volume teaches young Earth explorers some surprising facts about desert habitats. For example, some deserts don’t have sand, and some are quite cold. They’ll also learn how some resilient plants and animals survive in these arid environments. Beautiful images accompany the accessible low-ATOS text.","English",22.6,16.95,"577.54--dc23","24 pp.",{"$f":"Table1[[#This Row],['# Books]]*Table1[[#This Row],[QTY]]","v":0},{"$f":"Table1[[#This Row],[QTY]]*Table1[[#This Row],[S&L Price]]","v":0}]
[null,null,16,"Our Exciting Earth!",1,"Mountains","Library Bound Book",null,"978-1-5382-0967-7",2018,"January 2018","Library","7.625 X 7.125","Author","Jagger Youssef",null,null,null,null,"C",null,"Grade K","Grade Pre-K - 2","Mountains are some of Earth’s most arresting landforms. There’s no need to scale Mount Everest to discover important facts about mountains. Budding geographers can use this eye-catching book to learn about animals and plants that live on mountains as well as how people use these landforms as homes, and places to have fun. Beautiful images correlate with essential vocabulary in this special low-ATOS volume.","English",22.6,16.95,"551.43'2--dc23","24 pp.",{"$f":"Table1[[#This Row],['# Books]]*Table1[[#This Row],[QTY]]","v":0},{"$f":"Table1[[#This Row],[QTY]]*Table1[[#This Row],[S&L Price]]","v":0}]
[null,null,16,"Our Exciting Earth!",1,"Mountains","eBook",null,"978-1-5382-0968-4",2018,"January 2018",null,null,"Author","Jagger Youssef",null,null,null,null,"C",null,"Grade K","Grade Pre-K - 2","Mountains are some of Earth’s most arresting landforms. There’s no need to scale Mount Everest to discover important facts about mountains. Budding geographers can use this eye-catching book to learn about animals and plants that live on mountains as well as how people use these landforms as homes, and places to have fun. Beautiful images correlate with essential vocabulary in this special low-ATOS volume.","English",22.6,16.95,"551.43'2--dc23","24 pp.",{"$f":"Table1[[#This Row],['# Books]]*Table1[[#This Row],[QTY]]","v":0},{"$f":"Table1[[#This Row],[QTY]]*Table1[[#This Row],[S&L Price]]","v":0}]
[null,null,16,"Our Exciting Earth!",1,"Oceans","Library Bound Book",null,"978-1-5382-0971-4",2018,"January 2018","Library","7.625 X 7.125","Author","Claire Romaine",null,null,null,null,"C",null,"Grade K","Grade Pre-K - 2","The ocean is certainly a mysterious place, and this volume takes readers on a grand tour of the deep. They’ll meet ocean animals, such as sea turtles and blue whales, learn about ocean plants, and discover they can encounter marine creatures for themselves at low tide. This informative guide introduces aspiring oceanographers to some important elementary science vocabulary and concepts, supported by colorful photographs that perfectly match the accessible text.","English",22.6,16.95,"551.46--dc23","24 pp.",{"$f":"Table1[[#This Row],['# Books]]*Table1[[#This Row],[QTY]]","v":0},{"$f":"Table1[[#This Row],[QTY]]*Table1[[#This Row],[S&L Price]]","v":0}]
[null,null,16,"Our Exciting Earth!",1,"Oceans","eBook",null,"978-1-5382-0972-1",2018,"January 2018",null,null,"Author","Claire Romaine",null,null,null,null,"C",null,"Grade K","Grade Pre-K - 2","The ocean is certainly a mysterious place, and this volume takes readers on a grand tour of the deep. They’ll meet ocean animals, such as sea turtles and blue whales, learn about ocean plants, and discover they can encounter marine creatures for themselves at low tide. This informative guide introduces aspiring oceanographers to some important elementary science vocabulary and concepts, supported by colorful photographs that perfectly match the accessible text.","English",22.6,16.95,"551.46--dc23","24 pp.",{"$f":"Table1[[#This Row],['# Books]]*Table1[[#This Row],[QTY]]","v":0},{"$f":"Table1[[#This Row],[QTY]]*Table1[[#This Row],[S&L Price]]","v":0}]
[null,null,16,"Our Exciting Earth!",1,"Ponds","Library Bound Book",null,"978-1-5382-0975-2",2018,"January 2018","Library","7.625 X 7.125","Author","Jagger Youssef",null,null,null,null,"C",null,"Grade K","Grade Pre-K - 2","Even the smallest pond is a home for a myriad of plants and animals. This easy-to-follow volume demonstrates that accessible text and dynamic photographs are a perfect combination for introducing young readers to essential science topics. Readers will be delighted to meet the inhabitants of a pond, including frogs, minnows, ducklings, and even algae, which they’ll learn can make a pond turn green. They’ll be able to apply this valuable information to their next journey into the wild.","English",22.6,16.95,"577.63'6--dc23","24 pp.",{"$f":"Table1[[#This Row],['# Books]]*Table1[[#This Row],[QTY]]","v":0},{"$f":"Table1[[#This Row],[QTY]]*Table1[[#This Row],[S&L Price]]","v":0}]
[null,null,16,"Our Exciting Earth!",1,"Ponds","eBook",null,"978-1-5382-0976-9",2018,"January 2018",null,null,"Author","Jagger Youssef",null,null,null,null,"C",null,"Grade K","Grade Pre-K - 2","Even the smallest pond is a home for a myriad of plants and animals. This easy-to-follow volume demonstrates that accessible text and dynamic photographs are a perfect combination for introducing young readers to essential science topics. Readers will be delighted to meet the inhabitants of a pond, including frogs, minnows, ducklings, and even algae, which they’ll learn can make a pond turn green. They’ll be able to apply this valuable information to their next journey into the wild.","English",22.6,16.95,"577.63'6--dc23","24 pp.",{"$f":"Table1[[#This Row],['# Books]]*Table1[[#This Row],[QTY]]","v":0},{"$f":"Table1[[#This Row],[QTY]]*Table1[[#This Row],[S&L Price]]","v":0}]
[null,null,16,"Our Exciting Earth!",1,"Rainforests","Library Bound Book",null,"978-1-5382-0979-0",2018,"January 2018","Library","7.625 X 7.125","Author","Jagger Youssef",null,null,null,null,"C",null,"Grade K","Grade Pre-K - 2","There’s no need to get wet hiking into a rainforest to find out what lies under the canopy. In the pages of this entertaining, yet accessible, volume, readers will learn about conditions in the rainforest, a habitat that’s home to half of all species of animals and plants on Earth. Vivid photographs reveal tropical rainforests as lively and vibrant places, while simple text encourages beginning readers to become explorers of Earth’s wonders.","English",22.6,16.95,"577.34--dc23","24 pp.",{"$f":"Table1[[#This Row],['# Books]]*Table1[[#This Row],[QTY]]","v":0},{"$f":"Table1[[#This Row],[QTY]]*Table1[[#This Row],[S&L Price]]","v":0}]
[null,null,16,"Our Exciting Earth!",1,"Rainforests","eBook",null,"978-1-5382-0980-6",2018,"January 2018",null,null,"Author","Jagger Youssef",null,null,null,null,"C",null,"Grade K","Grade Pre-K - 2","There’s no need to get wet hiking into a rainforest to find out what lies under the canopy. In the pages of this entertaining, yet accessible, volume, readers will learn about conditions in the rainforest, a habitat that’s home to half of all species of animals and plants on Earth. Vivid photographs reveal tropical rainforests as lively and vibrant places, while simple text encourages beginning readers to become explorers of Earth’s wonders.","English",22.6,16.95,"577.34--dc23","24 pp.",{"$f":"Table1[[#This Row],['# Books]]*Table1[[#This Row],[QTY]]","v":0},{"$f":"Table1[[#This Row],[QTY]]*Table1[[#This Row],[S&L Price]]","v":0}]
[null,null,16,"Our Exciting Earth!",1,"Rivers","Library Bound Book",null,"978-1-5382-0983-7",2018,"January 2018","Library","7.625 X 7.125","Author","Claire Romaine",null,null,null,null,"C",null,"Grade K","Grade Pre-K - 2","Rivers are such an essential part of Earth’s geography. They bring freshwater for drinking, for irrigation, and for transportation, and don’t forget fishing. This low-ATOS introduction to this critical water source explains many aspects about rivers and their inhabitants, aided by colorful photographs that will make readers want to explore these indispensable natural resources for themselves.","English",22.6,16.95,"910.916'93--dc23","24 pp.",{"$f":"Table1[[#This Row],['# Books]]*Table1[[#This Row],[QTY]]","v":0},{"$f":"Table1[[#This Row],[QTY]]*Table1[[#This Row],[S&L Price]]","v":0}]
[null,null,16,"Our Exciting Earth!",1,"Rivers","eBook",null,"978-1-5382-0984-4",2018,"January 2018",null,null,"Author","Claire Romaine",null,null,null,null,"C",null,"Grade K","Grade Pre-K - 2","Rivers are such an essential part of Earth’s geography. They bring freshwater for drinking, for irrigation, and for transportation, and don’t forget fishing. This low-ATOS introduction to this critical water source explains many aspects about rivers and their inhabitants, aided by colorful photographs that will make readers want to explore these indispensable natural resources for themselves.","English",22.6,16.95,"910.916'93--dc23","24 pp.",{"$f":"Table1[[#This Row],['# Books]]*Table1[[#This Row],[QTY]]","v":0},{"$f":"Table1[[#This Row],[QTY]]*Table1[[#This Row],[S&L Price]]","v":0}]
[null,24,17,"I Can Be Anything!",6,"I Can Be Anything!","Library Set",null,"978-1-5382-0240-1",2018,"August 2017","Library","7.625 X 7.125",null,null,null,null,null,null,null,null,"Grade K","Grade Pre-K - 2","The world is full of exciting and important jobs, and many people have ideal careers they’d like to explore from an early age. Whether readers want to fight fires, write stories, or teach, every occupation is something to dream about. This series brings those jobs into clearer focus, showing readers what those fantasy jobs are like in real life. Vivid photographs display workers in detail, giving readers on-site training, while a colorful picture glossary reinforces understanding of key vocabulary.","English",135.6,101.7,null,"24 pp.",{"$f":"Table1[[#This Row],['# Books]]*Table1[[#This Row],[QTY]]","v":0},{"$f":"Table1[[#This Row],[QTY]]*Table1[[#This Row],[S&L Price]]","v":0}]
[null,24,17,"I Can Be Anything!",1,"I Can Be a Doctor","Library Bound Book",null,"978-1-4824-6319-4",2018,"August 2017","Library","7.625 X 7.125","Author","Audrey Charles",null,null,null,null,"B",null,"Grade K","Grade Pre-K - 2","Many young people love the idea of becoming a doctor so they can help others. In this entertaining narrative, readers will meet Dr. Jones and learn about the many things she does for her patients. They’ll also find out what happens when they go to checkups and be encouraged to consider a medical career for themselves. Low-ATOS text and bright photographs make this instructive volume an engaging read for doctors-in-training!","English",22.6,16.95,"610.69--dc23","24 pp.",{"$f":"Table1[[#This Row],['# Books]]*Table1[[#This Row],[QTY]]","v":0},{"$f":"Table1[[#This Row],[QTY]]*Table1[[#This Row],[S&L Price]]","v":0}]
[null,24,17,"I Can Be Anything!",1,"I Can Be a Doctor","eBook",null,"978-1-4824-6320-0",2018,"August 2017",null,null,"Author","Audrey Charles",null,null,null,null,"B",null,"Grade K","Grade Pre-K - 2","Many young people love the idea of becoming a doctor so they can help others. In this entertaining narrative, readers will meet Dr. Jones and learn about the many things she does for her patients. They’ll also find out what happens when they go to checkups and be encouraged to consider a medical career for themselves. Low-ATOS text and bright photographs make this instructive volume an engaging read for doctors-in-training!","English",22.6,16.95,"610.69--dc23","24 pp.",{"$f":"Table1[[#This Row],['# Books]]*Table1[[#This Row],[QTY]]","v":0},{"$f":"Table1[[#This Row],[QTY]]*Table1[[#This Row],[S&L Price]]","v":0}]
[null,24,17,"I Can Be Anything!",1,"I Can Be a Firefighter","Library Bound Book",null,"978-1-4824-6323-1",2018,"August 2017","Library","7.625 X 7.125","Author","Audrey Charles",null,null,null,null,"C",null,"Grade K","Grade Pre-K - 2","It’s time to get in the fire engine and sound the alarm. In this book, beginning readers head to the station to meet the heroes who help our communities: firefighters. Readers will love this lively look at the many duties and tools of firefighters. Achievable, low-ATOS text and exciting photographs combine to create an accessible volume about this career, one that continues to fascinate many young people.","English",22.6,16.95,"628.9’2--dc23","24 pp.",{"$f":"Table1[[#This Row],['# Books]]*Table1[[#This Row],[QTY]]","v":0},{"$f":"Table1[[#This Row],[QTY]]*Table1[[#This Row],[S&L Price]]","v":0}]
[null,24,17,"I Can Be Anything!",1,"I Can Be a Firefighter","eBook",null,"978-1-4824-6324-8",2018,"August 2017",null,null,"Author","Audrey Charles",null,null,null,null,"C",null,"Grade K","Grade Pre-K - 2","It’s time to get in the fire engine and sound the alarm. In this book, beginning readers head to the station to meet the heroes who help our communities: firefighters. Readers will love this lively look at the many duties and tools of firefighters. Achievable, low-ATOS text and exciting photographs combine to create an accessible volume about this career, one that continues to fascinate many young people.","English",22.6,16.95,"628.9’2--dc23","24 pp.",{"$f":"Table1[[#This Row],['# Books]]*Table1[[#This Row],[QTY]]","v":0},{"$f":"Table1[[#This Row],[QTY]]*Table1[[#This Row],[S&L Price]]","v":0}]
[null,24,17,"I Can Be Anything!",1,"I Can Be a Police Officer","Library Bound Book",null,"978-1-4824-6327-9",2018,"August 2017","Library","7.625 X 7.125","Author","Audrey Charles",null,null,null,null,"C",null,"Grade K","Grade Pre-K - 2","There’s so much more to police officers than what we see on TV or in the movies. Police officers are truly community helpers who serve the public in so many ways. Readers of this concise and entertaining volume will learn how police officers help children as well as about the cool ways they get around—including on horseback! Accessible vocabulary terms are paired with carefully chosen images to support beginning readers. After learning facts about police officers, readers can decide if they, too, would consider a future career in law enforcement.","English",22.6,16.95,"363.2’3--dc23","24 pp.",{"$f":"Table1[[#This Row],['# Books]]*Table1[[#This Row],[QTY]]","v":0},{"$f":"Table1[[#This Row],[QTY]]*Table1[[#This Row],[S&L Price]]","v":0}]
[null,24,17,"I Can Be Anything!",1,"I Can Be a Police Officer","eBook",null,"978-1-4824-6328-6",2018,"August 2017",null,null,"Author","Audrey Charles",null,null,null,null,"C",null,"Grade K","Grade Pre-K - 2","There’s so much more to police officers than what we see on TV or in the movies. Police officers are truly community helpers who serve the public in so many ways. Readers of this concise and entertaining volume will learn how police officers help children as well as about the cool ways they get around—including on horseback! Accessible vocabulary terms are paired with carefully chosen images to support beginning readers. After learning facts about police officers, readers can decide if they, too, would consider a future career in law enforcement.","English",22.6,16.95,"363.2’3--dc23","24 pp.",{"$f":"Table1[[#This Row],['# Books]]*Table1[[#This Row],[QTY]]","v":0},{"$f":"Table1[[#This Row],[QTY]]*Table1[[#This Row],[S&L Price]]","v":0}]
[null,24,17,"I Can Be Anything!",1,"I Can Be a Scientist","Library Bound Book",null,"978-1-4824-6331-6",2018,"August 2017","Library","7.625 X 7.125","Author","Michou Franco",null,null,null,null,"C",null,"Grade K","Grade Pre-K - 2","It can be hard to picture what a scientist does. Some might imagine the archetypal mad scientist mixing explosive chemicals in a lab! While that's an amusing image, it's not reality. In this brainy book, an early introduction to STEM careers, aspiring young scientists will discover the wide-reaching disciplines of science in a comprehensible and fun narrative. They’ll see photographs of scientists at work in many settings and even picture themselves in a profession in the sciences, too.","English",22.6,16.95,"502.3--dc23","24 pp.",{"$f":"Table1[[#This Row],['# Books]]*Table1[[#This Row],[QTY]]","v":0},{"$f":"Table1[[#This Row],[QTY]]*Table1[[#This Row],[S&L Price]]","v":0}]
[null,24,17,"I Can Be Anything!",1,"I Can Be a Scientist","eBook",null,"978-1-4824-6332-3",2018,"August 2017",null,null,"Author","Michou Franco",null,null,null,null,"C",null,"Grade K","Grade Pre-K - 2","It can be hard to picture what a scientist does. Some might imagine the archetypal mad scientist mixing explosive chemicals in a lab! While that's an amusing image, it's not reality. In this brainy book, an early introduction to STEM careers, aspiring young scientists will discover the wide-reaching disciplines of science in a comprehensible and fun narrative. They’ll see photographs of scientists at work in many settings and even picture themselves in a profession in the sciences, too.","English",22.6,16.95,"502.3--dc23","24 pp.",{"$f":"Table1[[#This Row],['# Books]]*Table1[[#This Row],[QTY]]","v":0},{"$f":"Table1[[#This Row],[QTY]]*Table1[[#This Row],[S&L Price]]","v":0}]
[null,24,17,"I Can Be Anything!",1,"I Can Be a Teacher","Library Bound Book",null,"978-1-4824-6335-4",2018,"August 2017","Library","7.625 X 7.125","Author","Michou Franco",null,null,null,null,"C",null,"Grade K","Grade Pre-K - 2","School’s in session! Most teachers not only teach multiple subjects, they often juggle many other responsibilities, including discipline, grading, and the students’ favorite—field trips. This volume uses at-level text and photographs to show teachers in action and open young readers’ eyes to the rewarding career of teaching and all it entails. Readers will come to appreciate their teachers’ many skills and perhaps even be inspired to become a teacher themselves.","English",22.6,16.95,"371.102--dc23","24 pp.",{"$f":"Table1[[#This Row],['# Books]]*Table1[[#This Row],[QTY]]","v":0},{"$f":"Table1[[#This Row],[QTY]]*Table1[[#This Row],[S&L Price]]","v":0}]
[null,24,17,"I Can Be Anything!",1,"I Can Be a Teacher","eBook",null,"978-1-4824-6336-1",2018,"August 2017",null,null,"Author","Michou Franco",null,null,null,null,"C",null,"Grade K","Grade Pre-K - 2","School’s in session! Most teachers not only teach multiple subjects, they often juggle many other responsibilities, including discipline, grading, and the students’ favorite—field trips. This volume uses at-level text and photographs to show teachers in action and open young readers’ eyes to the rewarding career of teaching and all it entails. Readers will come to appreciate their teachers’ many skills and perhaps even be inspired to become a teacher themselves.","English",22.6,16.95,"371.102--dc23","24 pp.",{"$f":"Table1[[#This Row],['# Books]]*Table1[[#This Row],[QTY]]","v":0},{"$f":"Table1[[#This Row],[QTY]]*Table1[[#This Row],[S&L Price]]","v":0}]
[null,24,17,"I Can Be Anything!",1,"I Can Be a Writer","Library Bound Book",null,"978-1-4824-6339-2",2018,"August 2017","Library","7.625 X 7.125","Author","Michou Franco",null,null,null,null,"C",null,"Grade K","Grade Pre-K - 2","No one appreciates a good writer as much as younger readers. They’re honest critics of what makes them laugh, surprised, and happy. Favorite books are also motivation for young people to try their hand at imaginative writing. This low-ATOS career volume introduces aspiring authors to different genres of writing and writers. Photographs provide visual clues for key vocabulary, while brightly written text encourages readers to start writing now!","English",22.6,16.95,"808.02--dc23","24 pp.",{"$f":"Table1[[#This Row],['# Books]]*Table1[[#This Row],[QTY]]","v":0},{"$f":"Table1[[#This Row],[QTY]]*Table1[[#This Row],[S&L Price]]","v":0}]
[null,24,17,"I Can Be Anything!",1,"I Can Be a Writer","eBook",null,"978-1-4824-6340-8",2018,"August 2017",null,null,"Author","Michou Franco",null,null,null,null,"C",null,"Grade K","Grade Pre-K - 2","No one appreciates a good writer as much as younger readers. They’re honest critics of what makes them laugh, surprised, and happy. Favorite books are also motivation for young people to try their hand at imaginative writing. This low-ATOS career volume introduces aspiring authors to different genres of writing and writers. Photographs provide visual clues for key vocabulary, while brightly written text encourages readers to start writing now!","English",22.6,16.95,"808.02--dc23","24 pp.",{"$f":"Table1[[#This Row],['# Books]]*Table1[[#This Row],[QTY]]","v":0},{"$f":"Table1[[#This Row],[QTY]]*Table1[[#This Row],[S&L Price]]","v":0}]
[null,null,17,"I Can Be Anything!",12,"I Can Be Anything!: Sets 1 – 2","Library Set",null,"978-1-5382-2206-5",2019,"August 2018","Library","7.625 X 7.125"," "," ",null,null,null,null,null,null,"Grade K","Grade Pre-K - 2","The world is full of exciting careers for young people to explore and learn about. From writing stories to caring for sick animals, there are so many fun and important jobs to choose from. Each of these inspiring volumes focuses on a particular occupation and gives readers a look into the professional world. Vivid photographs correlate closely with age-appropriate text and help readers understand what each job would be like in real life. This engaging series helps readers decide how their interests might someday turn into a career. Features include: A colorful picture glossary reinforces the understanding of key vocabulary. Each book includes low-ATOS level text (below 1.0). Accessible text and bright photographs engage readers, while simultaneously building their reading comprehension skills.","English",271.2,203.4,null,"24 pp.",{"$f":"Table1[[#This Row],['# Books]]*Table1[[#This Row],[QTY]]","v":0},{"$f":"Table1[[#This Row],[QTY]]*Table1[[#This Row],[S&L Price]]","v":0}]
[null,null,17,"I Can Be Anything!",6,"I Can Be Anything!: Set 2","Library Set",null,"978-1-5382-1844-0",2019,"August 2018","Library","7.625 X 7.125"," "," ",null,null,null,null,null,null,"Grade K","Grade Pre-K - 2","Exploring potential career options can be fun, even from a young age. Whether readers dream about landing the starring role in a movie, flying planes around the world, or kicking the game-winning goal, this series has something for everyone. Each book focuses on an interesting and exciting occupation and shows readers what it would be like to have that job. A colorful picture glossary reinforces key terms, while bright photographs and accessible text create an enjoyable reading experience. Features include: Close picture-text correlation helps develop reading comprehension skills. Each exciting book features low-ATOS level text (below 1.0). Engaging content will inspire readers to learn new skills and explore different fields.","English",135.6,101.7,null,"24 pp.",{"$f":"Table1[[#This Row],['# Books]]*Table1[[#This Row],[QTY]]","v":0},{"$f":"Table1[[#This Row],[QTY]]*Table1[[#This Row],[S&L Price]]","v":0}]
[null,null,17,"I Can Be Anything!",1,"I Can Be a Chef","Library Bound Book",null,"978-1-5382-1753-5",2019,"August 2018","Library","7.625 X 7.125","Author","Miller Slenzak",null,null,null,null,"C",null,"Grade K","Grade Pre-K - 2","For many, a love of cooking great cuisine starts early. Some find this passion by helping a parent in the kitchen, others may find it by reading about it. With the help of this fun volume, readers learn what it takes to work in a busy restaurant kitchen. Colorful photographs are paired with engaging, low-ATOS text to support beginning readers. After reading about the tools they use and the responsibilities they have, readers can decide if being a chef is a career they would like to pursue.","English",22.6,16.95,"641.5023--dc23","24 pp.",{"$f":"Table1[[#This Row],['# Books]]*Table1[[#This Row],[QTY]]","v":0},{"$f":"Table1[[#This Row],[QTY]]*Table1[[#This Row],[S&L Price]]","v":0}]
[null,null,17,"I Can Be Anything!",1,"I Can Be a Chef","eBook",null,"978-1-5382-1757-3",2019,"August 2018",null,null,"Author","Miller Slenzak",null,null,null,null,"C",null,"Grade K","Grade Pre-K - 2","For many, a love of cooking great cuisine starts early. Some find this passion by helping a parent in the kitchen, others may find it by reading about it. With the help of this fun volume, readers learn what it takes to work in a busy restaurant kitchen. Colorful photographs are paired with engaging, low-ATOS text to support beginning readers. After reading about the tools they use and the responsibilities they have, readers can decide if being a chef is a career they would like to pursue.","English",22.6,16.95,"641.5023--dc23","24 pp.",{"$f":"Table1[[#This Row],['# Books]]*Table1[[#This Row],[QTY]]","v":0},{"$f":"Table1[[#This Row],[QTY]]*Table1[[#This Row],[S&L Price]]","v":0}]
[null,null,17,"I Can Be Anything!",1,"I Can Be a Librarian","Library Bound Book",null,"978-1-5382-1760-3",2019,"August 2018","Library","7.625 X 7.125","Author","Anthony Ardely",null,null,null,null,"C",null,"Grade K","Grade Pre-K - 2","For those who love reading, the library is often a favorite place to spend time. For many young readers, working in a library might sound like the perfect job. In addition to learning about the hard work that goes into being a librarian, readers will learn about important concepts, such as borrowing. Bright photographs that are closely related to the text help create an accessible, engaging book for beginning readers. Those who already love libraries will come to respect the hard work their librarians do, while others may be inspired to take a trip to their local library.","English",22.6,16.95,"020.92--dc23","24 pp.",{"$f":"Table1[[#This Row],['# Books]]*Table1[[#This Row],[QTY]]","v":0},{"$f":"Table1[[#This Row],[QTY]]*Table1[[#This Row],[S&L Price]]","v":0}]
[null,null,17,"I Can Be Anything!",1,"I Can Be a Librarian","eBook",null,"978-1-5382-1761-0",2019,"August 2018",null,null,"Author","Anthony Ardely",null,null,null,null,"C",null,"Grade K","Grade Pre-K - 2","For those who love reading, the library is often a favorite place to spend time. For many young readers, working in a library might sound like the perfect job. In addition to learning about the hard work that goes into being a librarian, readers will learn about important concepts, such as borrowing. Bright photographs that are closely related to the text help create an accessible, engaging book for beginning readers. Those who already love libraries will come to respect the hard work their librarians do, while others may be inspired to take a trip to their local library.","English",22.6,16.95,"020.92--dc23","24 pp.",{"$f":"Table1[[#This Row],['# Books]]*Table1[[#This Row],[QTY]]","v":0},{"$f":"Table1[[#This Row],[QTY]]*Table1[[#This Row],[S&L Price]]","v":0}]
[null,null,17,"I Can Be Anything!",1,"I Can Be a Pilot","Library Bound Book",null,"978-1-5382-1764-1",2019,"August 2018","Library","7.625 X 7.125","Author","Miller Slenzak",null,null,null,null,"C",null,"Grade K","Grade Pre-K - 2","To many young readers, there are few things that sound more exciting than flying over the sea and around the world. This exciting book explores what the life of a pilot is like and introduces some of the different parts of a plane. Close picture-text correlation help readers understand key concepts and develop important reading comprehension skills. Accessible, low-ATOS text will help young readers learn about this fascinating career, while colorful photographs help readers entertain the idea that someday, they may become a pilot.","English",22.6,16.95,"387.7092--dc23","24 pp.",{"$f":"Table1[[#This Row],['# Books]]*Table1[[#This Row],[QTY]]","v":0},{"$f":"Table1[[#This Row],[QTY]]*Table1[[#This Row],[S&L Price]]","v":0}]
[null,null,17,"I Can Be Anything!",1,"I Can Be a Pilot","eBook",null,"978-1-5382-1765-8",2019,"August 2018",null,null,"Author","Miller Slenzak",null,null,null,null,"C",null,"Grade K","Grade Pre-K - 2","To many young readers, there are few things that sound more exciting than flying over the sea and around the world. This exciting book explores what the life of a pilot is like and introduces some of the different parts of a plane. Close picture-text correlation help readers understand key concepts and develop important reading comprehension skills. Accessible, low-ATOS text will help young readers learn about this fascinating career, while colorful photographs help readers entertain the idea that someday, they may become a pilot.","English",22.6,16.95,"387.7092--dc23","24 pp.",{"$f":"Table1[[#This Row],['# Books]]*Table1[[#This Row],[QTY]]","v":0},{"$f":"Table1[[#This Row],[QTY]]*Table1[[#This Row],[S&L Price]]","v":0}]
[null,null,17,"I Can Be Anything!",1,"I Can Be a Soccer Player","Library Bound Book",null,"978-1-5382-1768-9",2019,"August 2018","Library","7.625 X 7.125","Author","Miller Slenzak",null,null,null,null,"C",null,"Grade K","Grade Pre-K - 2","Soccer is one of the most popular sports around the world, so it's no wonder many young people dream of someday playing the game professionally. With the help of this exciting book, readers learn what it takes to play the game as more than just a hobby. Age-appropriate text correlates closely to bright photographs and supports beginning readers. Readers learn the different positions there are in the game, and how playing the sport now could help them become better players down the road.","English",22.6,16.95,"796.334--dc23","24 pp.",{"$f":"Table1[[#This Row],['# Books]]*Table1[[#This Row],[QTY]]","v":0},{"$f":"Table1[[#This Row],[QTY]]*Table1[[#This Row],[S&L Price]]","v":0}]
[null,null,17,"I Can Be Anything!",1,"I Can Be a Soccer Player","eBook",null,"978-1-5382-1769-6",2019,"August 2018",null,null,"Author","Miller Slenzak",null,null,null,null,"C",null,"Grade K","Grade Pre-K - 2","Soccer is one of the most popular sports around the world, so it's no wonder many young people dream of someday playing the game professionally. With the help of this exciting book, readers learn what it takes to play the game as more than just a hobby. Age-appropriate text correlates closely to bright photographs and supports beginning readers. Readers learn the different positions there are in the game, and how playing the sport now could help them become better players down the road.","English",22.6,16.95,"796.334--dc23","24 pp.",{"$f":"Table1[[#This Row],['# Books]]*Table1[[#This Row],[QTY]]","v":0},{"$f":"Table1[[#This Row],[QTY]]*Table1[[#This Row],[S&L Price]]","v":0}]
[null,null,17,"I Can Be Anything!",1,"I Can Be a Veterinarian","Library Bound Book",null,"978-1-5382-1772-6",2019,"August 2018","Library","7.625 X 7.125","Author","Anthony Ardely",null,null,null,null,"C",null,"Grade K","Grade Pre-K - 2","Working with animals would be a dream come true for many young people. This book explores the many different jobs veterinarians perform and shows readers that they, too, can become a veterinarian if they want to. It also teaches readers about the concept of proper pet care, and gives examples of how readers can help care for their own pets. Close picture-text correlation makes for engaging content that will inspire young animal lovers and veterinarians-in-training to start learning new skills.","English",22.6,16.95,"636.089--dc23","24 pp.",{"$f":"Table1[[#This Row],['# Books]]*Table1[[#This Row],[QTY]]","v":0},{"$f":"Table1[[#This Row],[QTY]]*Table1[[#This Row],[S&L Price]]","v":0}]
[null,null,17,"I Can Be Anything!",1,"I Can Be a Veterinarian","eBook",null,"978-1-5382-1773-3",2019,"August 2018",null,null,"Author","Anthony Ardely",null,null,null,null,"C",null,"Grade K","Grade Pre-K - 2","Working with animals would be a dream come true for many young people. This book explores the many different jobs veterinarians perform and shows readers that they, too, can become a veterinarian if they want to. It also teaches readers about the concept of proper pet care, and gives examples of how readers can help care for their own pets. Close picture-text correlation makes for engaging content that will inspire young animal lovers and veterinarians-in-training to start learning new skills.","English",22.6,16.95,"636.089--dc23","24 pp.",{"$f":"Table1[[#This Row],['# Books]]*Table1[[#This Row],[QTY]]","v":0},{"$f":"Table1[[#This Row],[QTY]]*Table1[[#This Row],[S&L Price]]","v":0}]
[null,null,17,"I Can Be Anything!",1,"I Can Be an Actor","Library Bound Book",null,"978-1-5382-1776-4",2019,"August 2018","Library","7.625 X 7.125","Author","Anthony Ardely",null,null,null,null,"C",null,"Grade K","Grade Pre-K - 2","When watching a movie, many young people have pictured themselves on the big screen. This exciting book introduces young readers to the many ways people get involved with acting and describes the different jobs an actor has. Accessible vocabulary and vibrant photographs support the development of reading comprehension skills. Those interested in creative careers, or who have ever dreamt of taking the stage or starring in a TV show, will love this entertaining glimpse into the fast-paced world of acting.","English",22.6,16.95,"792.028--dc23","24 pp.",{"$f":"Table1[[#This Row],['# Books]]*Table1[[#This Row],[QTY]]","v":0},{"$f":"Table1[[#This Row],[QTY]]*Table1[[#This Row],[S&L Price]]","v":0}]
[null,null,17,"I Can Be Anything!",1,"I Can Be an Actor","eBook",null,"978-1-5382-1777-1",2019,"August 2018",null,null,"Author","Anthony Ardely",null,null,null,null,"C",null,"Grade K","Grade Pre-K - 2","When watching a movie, many young people have pictured themselves on the big screen. This exciting book introduces young readers to the many ways people get involved with acting and describes the different jobs an actor has. Accessible vocabulary and vibrant photographs support the development of reading comprehension skills. Those interested in creative careers, or who have ever dreamt of taking the stage or starring in a TV show, will love this entertaining glimpse into the fast-paced world of acting.","English",22.6,16.95,"792.028--dc23","24 pp.",{"$f":"Table1[[#This Row],['# Books]]*Table1[[#This Row],[QTY]]","v":0},{"$f":"Table1[[#This Row],[QTY]]*Table1[[#This Row],[S&L Price]]","v":0}]
[null,null,18,"Ways to Go",6,"Ways to Go","Library Set",null,"978-1-5382-1287-5",2018,"January 2018","Library","7.625 X 7.125",null,null,null,null,null,null,null,null,"Grade K","Grade Pre-K - 2","There are so many ways to get from here to there. This series puts beginning readers in the driver's seat as they explore the many ways we use transportation in our daily lives. Whether it's driving trucks, flying planes across the country, or just riding a bike around the neighborhood, readers will learn how many ways there are to go through full-color photographs and accessible text. Strong picture-to-text correlation introduces all major forms of transportation and their importance, covering bikes, boats, cars, planes, trains, and trucks.","English",135.6,101.7,null,"24 pp.",{"$f":"Table1[[#This Row],['# Books]]*Table1[[#This Row],[QTY]]","v":0},{"$f":"Table1[[#This Row],[QTY]]*Table1[[#This Row],[S&L Price]]","v":0}]
[null,null,18,"Ways to Go",1,"Bikes Go!","Library Bound Book",null,"978-1-5382-1011-6",2018,"January 2018","Library","7.625 X 7.125","Author","Sean MacDumont",null,null,null,null,"C",null,"Grade K","Grade Pre-K - 2","Learning to ride a bike is an important part of growing up. Those first pedals down the sidewalk open up a new world on the wheels of a young reader's bike. This book puts beginning readers behind the handlebars of these machines and all the places they can go. From a trip to the park to a ride to school, bikes are the perfect way to travel the neighborhood. Young readers experience these joys through accessible text paired with vibrant full-color photographs that show off all the places the wheels of a bike can take those willing to do a bit of pedaling.","English",22.6,16.95,"629.227'2--dc23","24 pp.",{"$f":"Table1[[#This Row],['# Books]]*Table1[[#This Row],[QTY]]","v":0},{"$f":"Table1[[#This Row],[QTY]]*Table1[[#This Row],[S&L Price]]","v":0}]
[null,null,18,"Ways to Go",1,"Bikes Go!","eBook",null,"978-1-5382-1012-3",2018,"January 2018",null,null,"Author","Sean MacDumont",null,null,null,null,"C",null,"Grade K","Grade Pre-K - 2","Learning to ride a bike is an important part of growing up. Those first pedals down the sidewalk open up a new world on the wheels of a young reader's bike. This book puts beginning readers behind the handlebars of these machines and all the places they can go. From a trip to the park to a ride to school, bikes are the perfect way to travel the neighborhood. Young readers experience these joys through accessible text paired with vibrant full-color photographs that show off all the places the wheels of a bike can take those willing to do a bit of pedaling.","English",22.6,16.95,"629.227'2--dc23","24 pp.",{"$f":"Table1[[#This Row],['# Books]]*Table1[[#This Row],[QTY]]","v":0},{"$f":"Table1[[#This Row],[QTY]]*Table1[[#This Row],[S&L Price]]","v":0}]
[null,null,18,"Ways to Go",1,"Boats Go!","Library Bound Book",null,"978-1-5382-1015-4",2018,"January 2018","Library","7.625 X 7.125","Author","Sean MacDumont",null,null,null,null,"C",null,"Grade K","Grade Pre-K - 2","Boats are amazing machines that let us travel from place to play on water. Boats big and small all help us get around, navigating waters we couldn't travel without the aid of these helpful crafts. Young readers learn that boats are an exciting way to go in this book full of full-color photographs paired with accessible text. From visiting islands in the sea to crossing rivers and streams, they'll see how boats of all shapes and sizes are used by people to go from here to there.","English",22.6,16.95,"623.82--dc23","24 pp.",{"$f":"Table1[[#This Row],['# Books]]*Table1[[#This Row],[QTY]]","v":0},{"$f":"Table1[[#This Row],[QTY]]*Table1[[#This Row],[S&L Price]]","v":0}]
[null,null,18,"Ways to Go",1,"Boats Go!","eBook",null,"978-1-5382-1016-1",2018,"January 2018",null,null,"Author","Sean MacDumont",null,null,null,null,"C",null,"Grade K","Grade Pre-K - 2","Boats are amazing machines that let us travel from place to play on water. Boats big and small all help us get around, navigating waters we couldn't travel without the aid of these helpful crafts. Young readers learn that boats are an exciting way to go in this book full of full-color photographs paired with accessible text. From visiting islands in the sea to crossing rivers and streams, they'll see how boats of all shapes and sizes are used by people to go from here to there.","English",22.6,16.95,"623.82--dc23","24 pp.",{"$f":"Table1[[#This Row],['# Books]]*Table1[[#This Row],[QTY]]","v":0},{"$f":"Table1[[#This Row],[QTY]]*Table1[[#This Row],[S&L Price]]","v":0}]
[null,null,18,"Ways to Go",1,"Cars Go!","Library Bound Book",null,"978-1-5382-1018-5",2018,"January 2018","Library","7.625 X 7.125","Author","John Matthew Williams",null,null,null,null,"C",null,"Grade K","Grade Pre-K - 2","Cars are everywhere people want to be. Motor vehicles zip around highways and through cities taking people from place to place with ease. This book features dazzling full-color photographs and accessible text that show cars on the move. From long drives across the country to short scoots to the store, readers learn that cars are an important part of daily life for many people.","English",22.6,16.95,"629.222--dc23","24 pp.",{"$f":"Table1[[#This Row],['# Books]]*Table1[[#This Row],[QTY]]","v":0},{"$f":"Table1[[#This Row],[QTY]]*Table1[[#This Row],[S&L Price]]","v":0}]
[null,null,18,"Ways to Go",1,"Cars Go!","eBook",null,"978-1-5382-1019-2",2018,"January 2018",null,null,"Author","John Matthew Williams",null,null,null,null,"C",null,"Grade K","Grade Pre-K - 2","Cars are everywhere people want to be. Motor vehicles zip around highways and through cities taking people from place to place with ease. This book features dazzling full-color photographs and accessible text that show cars on the move. From long drives across the country to short scoots to the store, readers learn that cars are an important part of daily life for many people.","English",22.6,16.95,"629.222--dc23","24 pp.",{"$f":"Table1[[#This Row],['# Books]]*Table1[[#This Row],[QTY]]","v":0},{"$f":"Table1[[#This Row],[QTY]]*Table1[[#This Row],[S&L Price]]","v":0}]
[null,null,18,"Ways to Go",1,"Planes Go!","Library Bound Book",null,"978-1-5382-1023-9",2018,"January 2018","Library","7.625 X 7.125","Author","John Matthew Williams",null,null,null,null,"C",null,"Grade K","Grade Pre-K - 2","Exploring the skies is easy when you have an airport nearby. This book takes an exciting look at the world of plane travel, taking young readers on an exhilarating journey through the air, from the inside of a plane. Whether a small private plane at a local airport or a massive jet taking hundreds of people from city to city, full-color photographs and accessible text explain the rules of the skies to early readers with ease.","English",22.6,16.95,"629.13--dc23","24 pp.",{"$f":"Table1[[#This Row],['# Books]]*Table1[[#This Row],[QTY]]","v":0},{"$f":"Table1[[#This Row],[QTY]]*Table1[[#This Row],[S&L Price]]","v":0}]
[null,null,18,"Ways to Go",1,"Planes Go!","eBook",null,"978-1-5382-1024-6",2018,"January 2018",null,null,"Author","John Matthew Williams",null,null,null,null,"C",null,"Grade K","Grade Pre-K - 2","Exploring the skies is easy when you have an airport nearby. This book takes an exciting look at the world of plane travel, taking young readers on an exhilarating journey through the air, from the inside of a plane. Whether a small private plane at a local airport or a massive jet taking hundreds of people from city to city, full-color photographs and accessible text explain the rules of the skies to early readers with ease.","English",22.6,16.95,"629.13--dc23","24 pp.",{"$f":"Table1[[#This Row],['# Books]]*Table1[[#This Row],[QTY]]","v":0},{"$f":"Table1[[#This Row],[QTY]]*Table1[[#This Row],[S&L Price]]","v":0}]
[null,null,18,"Ways to Go",1,"Trains Go!","Library Bound Book",null,"978-1-5382-1027-7",2018,"January 2018","Library","7.625 X 7.125","Author","John Matthew Williams",null,null,null,null,"C",null,"Grade K","Grade Pre-K - 2","Whether riding the intricate web of rails that cross the country, or just taking the subway in the big city, trains are an amazing way to get from place to place. Original, creative text paired with vibrant full-color photographs show these amazing trains moving from here to there, giving riders an easy trip to wherever they're going. Trains crossing the countryside or moving underground in big metropolises all share the same characteristics, quickly giving riders a way to get around.","English",22.6,16.95,"385--dc23","24 pp.",{"$f":"Table1[[#This Row],['# Books]]*Table1[[#This Row],[QTY]]","v":0},{"$f":"Table1[[#This Row],[QTY]]*Table1[[#This Row],[S&L Price]]","v":0}]
[null,null,18,"Ways to Go",1,"Trains Go!","eBook",null,"978-1-5382-1028-4",2018,"January 2018",null,null,"Author","John Matthew Williams",null,null,null,null,"C",null,"Grade K","Grade Pre-K - 2","Whether riding the intricate web of rails that cross the country, or just taking the subway in the big city, trains are an amazing way to get from place to place. Original, creative text paired with vibrant full-color photographs show these amazing trains moving from here to there, giving riders an easy trip to wherever they're going. Trains crossing the countryside or moving underground in big metropolises all share the same characteristics, quickly giving riders a way to get around.","English",22.6,16.95,"385--dc23","24 pp.",{"$f":"Table1[[#This Row],['# Books]]*Table1[[#This Row],[QTY]]","v":0},{"$f":"Table1[[#This Row],[QTY]]*Table1[[#This Row],[S&L Price]]","v":0}]
[null,null,18,"Ways to Go",1,"Trucks Go!","Library Bound Book",null,"978-1-5382-1030-7",2018,"January 2018","Library","7.625 X 7.125","Author","Sean MacDumont",null,null,null,null,"C",null,"Grade K","Grade Pre-K - 2","Readers may get scared when enormous trucks zoom by their car on the highway, but these big vehicles are doing an important job. These amazing machines are hauling lots of things from one place to another, bringing food and other goods to homes around the country. Through full-color photographs and accessible text, beginning readers get behind the wheel of these massive moving machines to see what it's like on the road, and learn how important these vehicles are to our everyday life.","English",22.6,16.95,"629.224--dc23","24 pp.",{"$f":"Table1[[#This Row],['# Books]]*Table1[[#This Row],[QTY]]","v":0},{"$f":"Table1[[#This Row],[QTY]]*Table1[[#This Row],[S&L Price]]","v":0}]
[null,null,18,"Ways to Go",1,"Trucks Go!","eBook",null,"978-1-5382-1031-4",2018,"January 2018",null,null,"Author","Sean MacDumont",null,null,null,null,"C",null,"Grade K","Grade Pre-K - 2","Readers may get scared when enormous trucks zoom by their car on the highway, but these big vehicles are doing an important job. These amazing machines are hauling lots of things from one place to another, bringing food and other goods to homes around the country. Through full-color photographs and accessible text, beginning readers get behind the wheel of these massive moving machines to see what it's like on the road, and learn how important these vehicles are to our everyday life.","English",22.6,16.95,"629.224--dc23","24 pp.",{"$f":"Table1[[#This Row],['# Books]]*Table1[[#This Row],[QTY]]","v":0},{"$f":"Table1[[#This Row],[QTY]]*Table1[[#This Row],[S&L Price]]","v":0}]
[null,25,19,"Ways to Play",6,"Ways to Play","Library Set",null,"978-1-5382-0229-6",2018,"August 2017","Library","7.625 X 7.125",null,null,null,null,null,null,null,null,"Grade K","Grade Pre-K - 2","It’s time to play—and read! This motivating series shows early readers that books are a gateway to fun, while they read about the different ways that young people play every day. Whether that play involves pets, sports, music, or crafts, readers will connect with accessible text and photographs on each page, which will aid them in reviewing sight words as well as deciphering new vocabulary. Each high-interest volume encourages both creative and physical play and will have readers enthusiastically turning the pages!","English",135.6,101.7,null,"24 pp.",{"$f":"Table1[[#This Row],['# Books]]*Table1[[#This Row],[QTY]]","v":0},{"$f":"Table1[[#This Row],[QTY]]*Table1[[#This Row],[S&L Price]]","v":0}]
[null,25,19,"Ways to Play",1,"We Do Crafts!","Library Bound Book",null,"978-1-4824-6343-9",2018,"August 2017","Library","7.625 X 7.125","Author","Leonard Atlantic",null,null,null,null,"C",null,"Grade K","Grade Pre-K - 2","No matter what the weather's like outside, crafts are an easy and fun way to spend an afternoon. Whether painting with friends or making flowers out of paper, crafts can turn the day into an awesome adventure. Using simple craft supplies like paper and drawing tools, even the youngest of children can find engaging ways to play. With the help of accessible text paired with colorful photographs, early readers will experience the creative world of arts and crafts.","English",22.6,16.95,"745.5--dc23","24 pp.",{"$f":"Table1[[#This Row],['# Books]]*Table1[[#This Row],[QTY]]","v":0},{"$f":"Table1[[#This Row],[QTY]]*Table1[[#This Row],[S&L Price]]","v":0}]
[null,25,19,"Ways to Play",1,"We Do Crafts!","eBook",null,"978-1-4824-6344-6",2018,"August 2017",null,null,"Author","Leonard Atlantic",null,null,null,null,"C",null,"Grade K","Grade Pre-K - 2","No matter what the weather's like outside, crafts are an easy and fun way to spend an afternoon. Whether painting with friends or making flowers out of paper, crafts can turn the day into an awesome adventure. Using simple craft supplies like paper and drawing tools, even the youngest of children can find engaging ways to play. With the help of accessible text paired with colorful photographs, early readers will experience the creative world of arts and crafts.","English",22.6,16.95,"745.5--dc23","24 pp.",{"$f":"Table1[[#This Row],['# Books]]*Table1[[#This Row],[QTY]]","v":0},{"$f":"Table1[[#This Row],[QTY]]*Table1[[#This Row],[S&L Price]]","v":0}]
[null,25,19,"Ways to Play",1,"We Play Dress-Up!","Library Bound Book",null,"978-1-4824-6347-7",2018,"August 2017","Library","7.625 X 7.125","Author","Leonard Atlantic",null,null,null,null,"C",null,"Grade K","Grade Pre-K - 2","Growing up, it’s important to learn that there are countless ways to play with friends. Just a few pieces of clothing and a couple of hats can help create an imaginary world full of wonder. Early readers will discover how much fun that world can be, thanks to full-color photographs paired with accessible text that shows children enjoying dress-up in a variety of ways. Whether trying on dresses or playing like a cowboy, readers learn there are lots of ways to have fun with just the clothes in your closet!","English",22.6,16.95,"391--dc23","24 pp.",{"$f":"Table1[[#This Row],['# Books]]*Table1[[#This Row],[QTY]]","v":0},{"$f":"Table1[[#This Row],[QTY]]*Table1[[#This Row],[S&L Price]]","v":0}]
[null,25,19,"Ways to Play",1,"We Play Dress-Up!","eBook",null,"978-1-4824-6348-4",2018,"August 2017",null,null,"Author","Leonard Atlantic",null,null,null,null,"C",null,"Grade K","Grade Pre-K - 2","Growing up, it’s important to learn that there are countless ways to play with friends. Just a few pieces of clothing and a couple of hats can help create an imaginary world full of wonder. Early readers will discover how much fun that world can be, thanks to full-color photographs paired with accessible text that shows children enjoying dress-up in a variety of ways. Whether trying on dresses or playing like a cowboy, readers learn there are lots of ways to have fun with just the clothes in your closet!","English",22.6,16.95,"391--dc23","24 pp.",{"$f":"Table1[[#This Row],['# Books]]*Table1[[#This Row],[QTY]]","v":0},{"$f":"Table1[[#This Row],[QTY]]*Table1[[#This Row],[S&L Price]]","v":0}]
[null,25,19,"Ways to Play",1,"We Play Music!","Library Bound Book",null,"978-1-4824-6351-4",2018,"August 2017","Library","7.625 X 7.125","Author","Leonard Atlantic",null,null,null,null,"C",null,"Grade K","Grade Pre-K - 2","Learning an instrument is a great way to explore the fun and wonder of music. Whether it’s the drums or the piano, learning how to play an instrument is an amazing and empowering creative experience that instills a sense of discipline, even for early learners. It’s also a great way to write unique songs and play inspiring music with friends. From jamming out in a bedroom to learning an instrument at school, beginning readers will love exploring the world of music through full-color photographs and engaging, age-appropriate text.","English",22.6,16.95,"784.19--dc23","24 pp.",{"$f":"Table1[[#This Row],['# Books]]*Table1[[#This Row],[QTY]]","v":0},{"$f":"Table1[[#This Row],[QTY]]*Table1[[#This Row],[S&L Price]]","v":0}]
[null,25,19,"Ways to Play",1,"We Play Music!","eBook",null,"978-1-4824-6352-1",2018,"August 2017",null,null,"Author","Leonard Atlantic",null,null,null,null,"C",null,"Grade K","Grade Pre-K - 2","Learning an instrument is a great way to explore the fun and wonder of music. Whether it’s the drums or the piano, learning how to play an instrument is an amazing and empowering creative experience that instills a sense of discipline, even for early learners. It’s also a great way to write unique songs and play inspiring music with friends. From jamming out in a bedroom to learning an instrument at school, beginning readers will love exploring the world of music through full-color photographs and engaging, age-appropriate text.","English",22.6,16.95,"784.19--dc23","24 pp.",{"$f":"Table1[[#This Row],['# Books]]*Table1[[#This Row],[QTY]]","v":0},{"$f":"Table1[[#This Row],[QTY]]*Table1[[#This Row],[S&L Price]]","v":0}]
[null,25,19,"Ways to Play",1,"We Play Sports!","Library Bound Book",null,"978-1-4824-6355-2",2018,"August 2017","Library","7.625 X 7.125","Author","Leonard Atlantic",null,null,null,null,"C",null,"Grade K","Grade Pre-K - 2","With the help of just a few friends, beginning readers can play some of the most fun games there are—sports! Kids of all ages only need a ball and a handful of fellow sports enthusiasts to unlock a world of fun. Whether it’s baseball or basketball, everyone has a favorite sport. From kicking around a soccer ball to playing catch with friends, this book shows the many ways young readers can play through colorful photographs and age-appropriate text. Even reluctant athletes will learn that getting outside and playing is as easy as it is fun!","English",22.6,16.95,"796--dc23","24 pp.",{"$f":"Table1[[#This Row],['# Books]]*Table1[[#This Row],[QTY]]","v":0},{"$f":"Table1[[#This Row],[QTY]]*Table1[[#This Row],[S&L Price]]","v":0}]
[null,25,19,"Ways to Play",1,"We Play Sports!","eBook",null,"978-1-4824-6356-9",2018,"August 2017",null,null,"Author","Leonard Atlantic",null,null,null,null,"C",null,"Grade K","Grade Pre-K - 2","With the help of just a few friends, beginning readers can play some of the most fun games there are—sports! Kids of all ages only need a ball and a handful of fellow sports enthusiasts to unlock a world of fun. Whether it’s baseball or basketball, everyone has a favorite sport. From kicking around a soccer ball to playing catch with friends, this book shows the many ways young readers can play through colorful photographs and age-appropriate text. Even reluctant athletes will learn that getting outside and playing is as easy as it is fun!","English",22.6,16.95,"796--dc23","24 pp.",{"$f":"Table1[[#This Row],['# Books]]*Table1[[#This Row],[QTY]]","v":0},{"$f":"Table1[[#This Row],[QTY]]*Table1[[#This Row],[S&L Price]]","v":0}]
[null,25,19,"Ways to Play",1,"We Play with Pets!","Library Bound Book",null,"978-1-4824-6359-0",2018,"August 2017","Library","7.625 X 7.125","Author","Leonard Atlantic",null,null,null,null,"C",null,"Grade K","Grade Pre-K - 2","In this charming book, beginning readers learn there’s always something fun to do with your pets! Taking walks with the family dog or petting the family kitten are important steps in teaching caretaking and responsibility to young learners. Even feeding a pet goldfish is a great way to play with the family pet! This book, which pairs full-color photographs with accessible, age-appropriate text, shows that every interaction with a pet is a new way to help out and have fun!","English",22.6,16.95,"636--dc23","24 pp.",{"$f":"Table1[[#This Row],['# Books]]*Table1[[#This Row],[QTY]]","v":0},{"$f":"Table1[[#This Row],[QTY]]*Table1[[#This Row],[S&L Price]]","v":0}]
[null,25,19,"Ways to Play",1,"We Play with Pets!","eBook",null,"978-1-4824-6360-6",2018,"August 2017",null,null,"Author","Leonard Atlantic",null,null,null,null,"C",null,"Grade K","Grade Pre-K - 2","In this charming book, beginning readers learn there’s always something fun to do with your pets! Taking walks with the family dog or petting the family kitten are important steps in teaching caretaking and responsibility to young learners. Even feeding a pet goldfish is a great way to play with the family pet! This book, which pairs full-color photographs with accessible, age-appropriate text, shows that every interaction with a pet is a new way to help out and have fun!","English",22.6,16.95,"636--dc23","24 pp.",{"$f":"Table1[[#This Row],['# Books]]*Table1[[#This Row],[QTY]]","v":0},{"$f":"Table1[[#This Row],[QTY]]*Table1[[#This Row],[S&L Price]]","v":0}]
[null,25,19,"Ways to Play",1,"We Play with Things Around the House!","Library Bound Book",null,"978-1-4824-6363-7",2018,"August 2017","Library","7.625 X 7.125","Author","Leonard Atlantic",null,null,null,null,"C",null,"Grade K","Grade Pre-K - 2","There’s never a shortage of ways to play when you get creative! Even without fancy sports or craft supplies, letting young readers explore the treasures found at home is a great way to invent a brand-new game. Allowing readers’ imaginations to take over engages them in creative improvisation and builds confidence in their own logic. This book pairs full-color photographs with accessible text to show budding readers just how easy it is to turn ordinary household objects into an endless fountain of fun!","English",22.6,16.95,"790--dc23","24 pp.",{"$f":"Table1[[#This Row],['# Books]]*Table1[[#This Row],[QTY]]","v":0},{"$f":"Table1[[#This Row],[QTY]]*Table1[[#This Row],[S&L Price]]","v":0}]
[null,25,19,"Ways to Play",1,"We Play with Things Around the House!","eBook",null,"978-1-4824-6364-4",2018,"August 2017",null,null,"Author","Leonard Atlantic",null,null,null,null,"C",null,"Grade K","Grade Pre-K - 2","There’s never a shortage of ways to play when you get creative! Even without fancy sports or craft supplies, letting young readers explore the treasures found at home is a great way to invent a brand-new game. Allowing readers’ imaginations to take over engages them in creative improvisation and builds confidence in their own logic. This book pairs full-color photographs with accessible text to show budding readers just how easy it is to turn ordinary household objects into an endless fountain of fun!","English",22.6,16.95,"790--dc23","24 pp.",{"$f":"Table1[[#This Row],['# Books]]*Table1[[#This Row],[QTY]]","v":0},{"$f":"Table1[[#This Row],[QTY]]*Table1[[#This Row],[S&L Price]]","v":0}]
[null,38,20,"Let's Get a Pet!",6,"Let's Get a Pet!","Library Set",null,"978-1-5382-0200-5",2018,"August 2017","Library","7.000 X 7.000",null,null,null,null,null,null,null,null,"Grade 1 - 2","Grade 1 - 3","Having a pet is an exciting adventure! Young readers can learn about responsibility, science, and nature by having an animal in the home, or even have their curiosity sparked by a pet in a friend or family member’s home! This series will help readers understand and connect to their new little friend, whatever the kind—bird, bunny, cat, dog, fish, or hamster! They’ll also learn the essentials of pet care and the many rewards of pet ownership. Full-color photographs give life to the age-appropriate content for any young pet lover.","English",135.6,101.7,null,"24 pp.",{"$f":"Table1[[#This Row],['# Books]]*Table1[[#This Row],[QTY]]","v":0},{"$f":"Table1[[#This Row],[QTY]]*Table1[[#This Row],[S&L Price]]","v":0}]
[null,38,20,"Let's Get a Pet!",1,"My First Bird","Library Bound Book",null,"978-1-4824-6439-9",2018,"August 2017","Library","7.000 X 7.000","Author","Joan Stoltman",null,null,null,null,"H",null,"Grade 1 - 2","Grade 1 - 3","Getting a pet for the first time is so much fun, but also means new responsibilities. Birds are a popular pet to choose, especially if parents have prior experience. But how does a young reader learn bird care? With the help of this practical, helpful book! This volume provides everything a new bird owner needs to care for and bond with their new feathered friend! From bathing to whistling and everything in between, all the needs of a bird are communicated to young readers through fun facts, colorful graphic organizers, and concise step-by-step instructions. All that’s missing now is the bird!","English",22.6,16.95,"636.6’8--dc23","24 pp.",{"$f":"Table1[[#This Row],['# Books]]*Table1[[#This Row],[QTY]]","v":0},{"$f":"Table1[[#This Row],[QTY]]*Table1[[#This Row],[S&L Price]]","v":0}]
[null,38,20,"Let's Get a Pet!",1,"My First Bird","eBook",null,"978-1-4824-6440-5",2018,"August 2017",null,null,"Author","Joan Stoltman",null,null,null,null,"H",null,"Grade 1 - 2","Grade 1 - 3","Getting a pet for the first time is so much fun, but also means new responsibilities. Birds are a popular pet to choose, especially if parents have prior experience. But how does a young reader learn bird care? With the help of this practical, helpful book! This volume provides everything a new bird owner needs to care for and bond with their new feathered friend! From bathing to whistling and everything in between, all the needs of a bird are communicated to young readers through fun facts, colorful graphic organizers, and concise step-by-step instructions. All that’s missing now is the bird!","English",22.6,16.95,"636.6’8--dc23","24 pp.",{"$f":"Table1[[#This Row],['# Books]]*Table1[[#This Row],[QTY]]","v":0},{"$f":"Table1[[#This Row],[QTY]]*Table1[[#This Row],[S&L Price]]","v":0}]
[null,38,20,"Let's Get a Pet!",1,"My First Bunny","Library Bound Book",null,"978-1-4824-6443-6",2018,"August 2017","Library","7.000 X 7.000","Author","Joan Stoltman",null,null,null,null,"H",null,"Grade 1 - 2","Grade 1 - 3","Bunnies are a great first pet! This book teaches young, first-time pet owners how to care for and bond with their new furry, hopping friend! It details in simple, clean text exactly what a young reader should do to help their bunny friend thrive in a new home, including information about food and treats, activity and sleep, cage environment and cleanup! From the amusing—such as popular names for pet rabbits—to the useful—such as safety around rabbits— this book provides all the essential rabbit care information in one concise, engaging book!","English",22.6,16.95,"636.9’322--dc23","24 pp.",{"$f":"Table1[[#This Row],['# Books]]*Table1[[#This Row],[QTY]]","v":0},{"$f":"Table1[[#This Row],[QTY]]*Table1[[#This Row],[S&L Price]]","v":0}]
[null,38,20,"Let's Get a Pet!",1,"My First Bunny","eBook",null,"978-1-4824-6444-3",2018,"August 2017",null,null,"Author","Joan Stoltman",null,null,null,null,"H",null,"Grade 1 - 2","Grade 1 - 3","Bunnies are a great first pet! This book teaches young, first-time pet owners how to care for and bond with their new furry, hopping friend! It details in simple, clean text exactly what a young reader should do to help their bunny friend thrive in a new home, including information about food and treats, activity and sleep, cage environment and cleanup! From the amusing—such as popular names for pet rabbits—to the useful—such as safety around rabbits— this book provides all the essential rabbit care information in one concise, engaging book!","English",22.6,16.95,"636.9’322--dc23","24 pp.",{"$f":"Table1[[#This Row],['# Books]]*Table1[[#This Row],[QTY]]","v":0},{"$f":"Table1[[#This Row],[QTY]]*Table1[[#This Row],[S&L Price]]","v":0}]
[null,38,20,"Let's Get a Pet!",1,"My First Cat","Library Bound Book",null,"978-1-4824-6447-4",2018,"August 2017","Library","7.000 X 7.000","Author","Joan Stoltman",null,null,null,null,"H",null,"Grade 1 - 2","Grade 1 - 3","Cats are commonly one of the first animals young readers will encounter in their lives, often in their own homes! Learning to care for, live with, and understand the needs of a cat requires guidance, and that’s where this essential book comes in! Easily understood, clear instructions and explanations of their food, sleep, play, and other needs are included in this book in practical, age-appropriate language. A full-color guide to popular cat breeds is included, as well as a fun and funny list of popular cat names!","English",22.6,16.95,"636.8--dc23","24 pp.",{"$f":"Table1[[#This Row],['# Books]]*Table1[[#This Row],[QTY]]","v":0},{"$f":"Table1[[#This Row],[QTY]]*Table1[[#This Row],[S&L Price]]","v":0}]
[null,38,20,"Let's Get a Pet!",1,"My First Cat","eBook",null,"978-1-4824-6448-1",2018,"August 2017",null,null,"Author","Joan Stoltman",null,null,null,null,"H",null,"Grade 1 - 2","Grade 1 - 3","Cats are commonly one of the first animals young readers will encounter in their lives, often in their own homes! Learning to care for, live with, and understand the needs of a cat requires guidance, and that’s where this essential book comes in! Easily understood, clear instructions and explanations of their food, sleep, play, and other needs are included in this book in practical, age-appropriate language. A full-color guide to popular cat breeds is included, as well as a fun and funny list of popular cat names!","English",22.6,16.95,"636.8--dc23","24 pp.",{"$f":"Table1[[#This Row],['# Books]]*Table1[[#This Row],[QTY]]","v":0},{"$f":"Table1[[#This Row],[QTY]]*Table1[[#This Row],[S&L Price]]","v":0}]
[null,38,20,"Let's Get a Pet!",1,"My First Dog","Library Bound Book",null,"978-1-4824-6451-1",2018,"August 2017","Library","7.000 X 7.000","Author","Joan Stoltman",null,null,null,null,"H",null,"Grade 1 - 2","Grade 1 - 3","According to the ASPCA, 37 to 47 percent of all US households have a dog, so there couldn’t be a more topical pet to learn about than dogs. This book is an essential read for any reader preparing to bring a dog into their home, connecting them in new ways to their pet through both understanding the dog’s needs and their own, new responsibilities. Full-color photographs and graphic organizers are paired with concise, practical information about caring for all a dog’s needs from morning to night, and birth to old age. The book includes a chart of popular dog breeds from largest to smallest and accompanying text on popular names for dogs!","English",22.6,16.95,"636.7--dc23","24 pp.",{"$f":"Table1[[#This Row],['# Books]]*Table1[[#This Row],[QTY]]","v":0},{"$f":"Table1[[#This Row],[QTY]]*Table1[[#This Row],[S&L Price]]","v":0}]
[null,38,20,"Let's Get a Pet!",1,"My First Dog","eBook",null,"978-1-4824-6452-8",2018,"August 2017",null,null,"Author","Joan Stoltman",null,null,null,null,"H",null,"Grade 1 - 2","Grade 1 - 3","According to the ASPCA, 37 to 47 percent of all US households have a dog, so there couldn’t be a more topical pet to learn about than dogs. This book is an essential read for any reader preparing to bring a dog into their home, connecting them in new ways to their pet through both understanding the dog’s needs and their own, new responsibilities. Full-color photographs and graphic organizers are paired with concise, practical information about caring for all a dog’s needs from morning to night, and birth to old age. The book includes a chart of popular dog breeds from largest to smallest and accompanying text on popular names for dogs!","English",22.6,16.95,"636.7--dc23","24 pp.",{"$f":"Table1[[#This Row],['# Books]]*Table1[[#This Row],[QTY]]","v":0},{"$f":"Table1[[#This Row],[QTY]]*Table1[[#This Row],[S&L Price]]","v":0}]
[null,38,20,"Let's Get a Pet!",1,"My First Fish","Library Bound Book",null,"978-1-4824-6455-9",2018,"August 2017","Library","7.000 X 7.000","Author","Joan Stoltman",null,null,null,null,"H",null,"Grade 1 - 2","Grade 1 - 3","Several recent animated movies have sparked fervor in young readers to have an aquarium in their own home. But maintaining a fish tank ecosystem isn’t a walk in the park. This book can help! Age-appropriate information on what fish need abounds in this practical yet engaging book, a valuable part of any library collection. Advice and instructions—on everything from cleaning the tank to feeding schedules to choosing a name—fill the pages of this colorful book that every young fish lover is sure to enjoy!","English",22.6,16.95,"639.34--dc23","24 pp.",{"$f":"Table1[[#This Row],['# Books]]*Table1[[#This Row],[QTY]]","v":0},{"$f":"Table1[[#This Row],[QTY]]*Table1[[#This Row],[S&L Price]]","v":0}]
[null,38,20,"Let's Get a Pet!",1,"My First Fish","eBook",null,"978-1-4824-6456-6",2018,"August 2017",null,null,"Author","Joan Stoltman",null,null,null,null,"H",null,"Grade 1 - 2","Grade 1 - 3","Several recent animated movies have sparked fervor in young readers to have an aquarium in their own home. But maintaining a fish tank ecosystem isn’t a walk in the park. This book can help! Age-appropriate information on what fish need abounds in this practical yet engaging book, a valuable part of any library collection. Advice and instructions—on everything from cleaning the tank to feeding schedules to choosing a name—fill the pages of this colorful book that every young fish lover is sure to enjoy!","English",22.6,16.95,"639.34--dc23","24 pp.",{"$f":"Table1[[#This Row],['# Books]]*Table1[[#This Row],[QTY]]","v":0},{"$f":"Table1[[#This Row],[QTY]]*Table1[[#This Row],[S&L Price]]","v":0}]
[null,38,20,"Let's Get a Pet!",1,"My First Hamster","Library Bound Book",null,"978-1-4824-6459-7",2018,"August 2017","Library","7.000 X 7.000","Author","Joan Stoltman",null,null,null,null,"H",null,"Grade 1 - 2","Grade 1 - 3","Having a classroom hamster is one thing, but having one at home as a pet requires young readers to have a more mature understanding of the rodent’s needs. This book provides information perfect to fill that gap. An essential guide for any library, this book gives concise, easy explanations of the needs of a hamster and how readers can meet them. Full-color photographs are paired with understandable, age-appropriate information and instructions on how to care for this new furry friend, including explanations of how it sleeps, eats, plays, and more!","English",22.6,16.95,"636.935--dc23","24 pp.",{"$f":"Table1[[#This Row],['# Books]]*Table1[[#This Row],[QTY]]","v":0},{"$f":"Table1[[#This Row],[QTY]]*Table1[[#This Row],[S&L Price]]","v":0}]
[null,38,20,"Let's Get a Pet!",1,"My First Hamster","eBook",null,"978-1-4824-6460-3",2018,"August 2017",null,null,"Author","Joan Stoltman",null,null,null,null,"H",null,"Grade 1 - 2","Grade 1 - 3","Having a classroom hamster is one thing, but having one at home as a pet requires young readers to have a more mature understanding of the rodent’s needs. This book provides information perfect to fill that gap. An essential guide for any library, this book gives concise, easy explanations of the needs of a hamster and how readers can meet them. Full-color photographs are paired with understandable, age-appropriate information and instructions on how to care for this new furry friend, including explanations of how it sleeps, eats, plays, and more!","English",22.6,16.95,"636.935--dc23","24 pp.",{"$f":"Table1[[#This Row],['# Books]]*Table1[[#This Row],[QTY]]","v":0},{"$f":"Table1[[#This Row],[QTY]]*Table1[[#This Row],[S&L Price]]","v":0}]
[null,null,21,"Little Biographies of Big People",6,"Little Biographies of Big People","Library Set",null,"978-1-5382-1283-7",2018,"January 2018","Library","7.000 X 7.000",null,null,null,null,null,null,null,null,"Grade 1 - 2","Grade 1 - 3","Within every generation exists extraordinary people who strive to make the world a better place. This series tells the stories of famous role models who, despite their struggles, worked tirelessly to bring a positive change to society. Young readers will be inspired to make a difference and pursue their dreams as they learn about important values such as hard work, perseverance, selflessness, doing what's right, and never quitting. The big people making big changes include Cesar Chavez, Michelle Obama, Hillary Clinton, Harriet Tubman, Walt Disney, and Rosa Parks.","English",135.6,101.7,null,"24 pp.",{"$f":"Table1[[#This Row],['# Books]]*Table1[[#This Row],[QTY]]","v":0},{"$f":"Table1[[#This Row],[QTY]]*Table1[[#This Row],[S&L Price]]","v":0}]
[null,null,21,"Little Biographies of Big People",1,"Cesar Chavez","Library Bound Book",null,"978-1-5382-0921-9",2018,"January 2018","Library","7.000 X 7.000","Author","Joan Stoltman",null,null,null,null,"J",null,"Grade 1 - 2","Grade 1 - 3","The story of Cesar Chavez is as topical and vital a story today as it was when it was an integral part of current events and not a story in history. This volume, dedicated to passing on the story of Chavez’s life to young readers, provides educators with an essential tool to teach social justice, workers’ rights, and how to stand up for your convictions through age-appropriate language and explanation of concepts. This inspiring biography follows Chavez’s journey from humble beginnings to becoming one of the most vital civil rights activists of our time.","English",22.6,16.95,"331.88'13092--dc23","24 pp.",{"$f":"Table1[[#This Row],['# Books]]*Table1[[#This Row],[QTY]]","v":0},{"$f":"Table1[[#This Row],[QTY]]*Table1[[#This Row],[S&L Price]]","v":0}]
[null,null,21,"Little Biographies of Big People",1,"Cesar Chavez","eBook",null,"978-1-5382-0922-6",2018,"January 2018",null,null,"Author","Joan Stoltman",null,null,null,null,"J",null,"Grade 1 - 2","Grade 1 - 3","The story of Cesar Chavez is as topical and vital a story today as it was when it was an integral part of current events and not a story in history. This volume, dedicated to passing on the story of Chavez’s life to young readers, provides educators with an essential tool to teach social justice, workers’ rights, and how to stand up for your convictions through age-appropriate language and explanation of concepts. This inspiring biography follows Chavez’s journey from humble beginnings to becoming one of the most vital civil rights activists of our time.","English",22.6,16.95,"331.88'13092--dc23","24 pp.",{"$f":"Table1[[#This Row],['# Books]]*Table1[[#This Row],[QTY]]","v":0},{"$f":"Table1[[#This Row],[QTY]]*Table1[[#This Row],[S&L Price]]","v":0}]
[null,null,21,"Little Biographies of Big People",1,"Harriet Tubman","Library Bound Book",null,"978-1-5382-0925-7",2018,"January 2018","Library","7.000 X 7.000","Author","Joan Stoltman",null,null,null,null,"H",null,"Grade 1 - 2","Grade 1 - 3","Of course, Harriet Tubman is a women whose story every young reader would benefit from learning about, but where are the books that tell her life story in an accessible, captivating way with age-appropriate language for young readers? Finally, here’s a book that explores her childhood, life, cause, and work in a way that gives perspective, introduces weighty topics, and facilitates further exploration of America’s history, all for early elementary readers. This volume captures readers in the story of one inspiring, notable, remarkable life, giving social studies and history curriculums a chance to excite, interest, and motivate readers to initiate a lifelong quest of learning.","English",22.6,16.95,"326/.8092--dc23","24 pp.",{"$f":"Table1[[#This Row],['# Books]]*Table1[[#This Row],[QTY]]","v":0},{"$f":"Table1[[#This Row],[QTY]]*Table1[[#This Row],[S&L Price]]","v":0}]
[null,null,21,"Little Biographies of Big People",1,"Harriet Tubman","eBook",null,"978-1-5382-0926-4",2018,"January 2018",null,null,"Author","Joan Stoltman",null,null,null,null,"H",null,"Grade 1 - 2","Grade 1 - 3","Of course, Harriet Tubman is a women whose story every young reader would benefit from learning about, but where are the books that tell her life story in an accessible, captivating way with age-appropriate language for young readers? Finally, here’s a book that explores her childhood, life, cause, and work in a way that gives perspective, introduces weighty topics, and facilitates further exploration of America’s history, all for early elementary readers. This volume captures readers in the story of one inspiring, notable, remarkable life, giving social studies and history curriculums a chance to excite, interest, and motivate readers to initiate a lifelong quest of learning.","English",22.6,16.95,"326/.8092--dc23","24 pp.",{"$f":"Table1[[#This Row],['# Books]]*Table1[[#This Row],[QTY]]","v":0},{"$f":"Table1[[#This Row],[QTY]]*Table1[[#This Row],[S&L Price]]","v":0}]
[null,null,21,"Little Biographies of Big People",1,"Hillary Clinton","Library Bound Book",null,"978-1-5382-1241-7",2018,"January 2018","Library","7.000 X 7.000","Author","Joan Stoltman",null,null,null,null,"J",null,"Grade 1 - 2","Grade 1 - 3","Even young readers were likely saturated with exposure to Hillary Clinton over the course of the 2016 presidential election. But do they really know who she is and what she has accomplished? This volume bridges the gap between current news stories and what elementary readers really know about the first female presidential candidate. By illuminating the life and story of this powerhouse of politics, young readers can learn and be inspired by a story of perseverance, service to others, and commitment to beliefs. With a vivid, age-appropriate narrative, this much-needed volume is sure to be right at home in any library or classroom.","English",22.6,16.95,"327.730092--dc23","24 pp.",{"$f":"Table1[[#This Row],['# Books]]*Table1[[#This Row],[QTY]]","v":0},{"$f":"Table1[[#This Row],[QTY]]*Table1[[#This Row],[S&L Price]]","v":0}]
[null,null,21,"Little Biographies of Big People",1,"Hillary Clinton","eBook",null,"978-1-5382-1242-4",2018,"January 2018",null,null,"Author","Joan Stoltman",null,null,null,null,"J",null,"Grade 1 - 2","Grade 1 - 3","Even young readers were likely saturated with exposure to Hillary Clinton over the course of the 2016 presidential election. But do they really know who she is and what she has accomplished? This volume bridges the gap between current news stories and what elementary readers really know about the first female presidential candidate. By illuminating the life and story of this powerhouse of politics, young readers can learn and be inspired by a story of perseverance, service to others, and commitment to beliefs. With a vivid, age-appropriate narrative, this much-needed volume is sure to be right at home in any library or classroom.","English",22.6,16.95,"327.730092--dc23","24 pp.",{"$f":"Table1[[#This Row],['# Books]]*Table1[[#This Row],[QTY]]","v":0},{"$f":"Table1[[#This Row],[QTY]]*Table1[[#This Row],[S&L Price]]","v":0}]
[null,null,21,"Little Biographies of Big People",1,"Michelle Obama","Library Bound Book",null,"978-1-5382-0931-8",2018,"January 2018","Library","7.000 X 7.000","Author","Joan Stoltman",null,null,null,null,"H",null,"Grade 1 - 2","Grade 1 - 3","Michelle Obama is easily recognizable to young readers, but has had a life few children have had the chance to learn about. This topical, engaging volume brings the story of an incredibly intelligent, motivated, deeply dedicated person to vivid life. Young readers will easily engage in Michelle Obama’s life through the meticulously uncomplicated, age-appropriate language and explanation of concepts provided throughout this inspiring story. This highly requested biography is sure to be a quick hit in any collection, educating and inspiring readers to achieve their maximum potential.","English",22.6,16.95,"973.932092--dc23","24 pp.",{"$f":"Table1[[#This Row],['# Books]]*Table1[[#This Row],[QTY]]","v":0},{"$f":"Table1[[#This Row],[QTY]]*Table1[[#This Row],[S&L Price]]","v":0}]
[null,null,21,"Little Biographies of Big People",1,"Michelle Obama","eBook",null,"978-1-5382-0932-5",2018,"January 2018",null,null,"Author","Joan Stoltman",null,null,null,null,"H",null,"Grade 1 - 2","Grade 1 - 3","Michelle Obama is easily recognizable to young readers, but has had a life few children have had the chance to learn about. This topical, engaging volume brings the story of an incredibly intelligent, motivated, deeply dedicated person to vivid life. Young readers will easily engage in Michelle Obama’s life through the meticulously uncomplicated, age-appropriate language and explanation of concepts provided throughout this inspiring story. This highly requested biography is sure to be a quick hit in any collection, educating and inspiring readers to achieve their maximum potential.","English",22.6,16.95,"973.932092--dc23","24 pp.",{"$f":"Table1[[#This Row],['# Books]]*Table1[[#This Row],[QTY]]","v":0},{"$f":"Table1[[#This Row],[QTY]]*Table1[[#This Row],[S&L Price]]","v":0}]
[null,null,21,"Little Biographies of Big People",1,"Rosa Parks","Library Bound Book",null,"978-1-5382-0935-6",2018,"January 2018","Library","7.000 X 7.000","Author","Joan Stoltman",null,null,null,null,"H",null,"Grade 1 - 2","Grade 1 - 3","Rosa Parks is not just a lady who stayed seated on a bus. Her life is a relevant, important story that was notable, inspirational, and much-needed both in its time and today. This essential volume introduces young readers to a woman of quiet strength and resilience who did not waver in her convictions and beliefs. For younger readers, this is a rare opportunity to read age-appropriate text that incorporates complex issues using accessible, straightforward, engaging language that they can grasp, connect to, and be motivated by.","English",22.6,16.95,"323.092--dc23","24 pp.",{"$f":"Table1[[#This Row],['# Books]]*Table1[[#This Row],[QTY]]","v":0},{"$f":"Table1[[#This Row],[QTY]]*Table1[[#This Row],[S&L Price]]","v":0}]
[null,null,21,"Little Biographies of Big People",1,"Rosa Parks","eBook",null,"978-1-5382-0936-3",2018,"January 2018",null,null,"Author","Joan Stoltman",null,null,null,null,"H",null,"Grade 1 - 2","Grade 1 - 3","Rosa Parks is not just a lady who stayed seated on a bus. Her life is a relevant, important story that was notable, inspirational, and much-needed both in its time and today. This essential volume introduces young readers to a woman of quiet strength and resilience who did not waver in her convictions and beliefs. For younger readers, this is a rare opportunity to read age-appropriate text that incorporates complex issues using accessible, straightforward, engaging language that they can grasp, connect to, and be motivated by.","English",22.6,16.95,"323.092--dc23","24 pp.",{"$f":"Table1[[#This Row],['# Books]]*Table1[[#This Row],[QTY]]","v":0},{"$f":"Table1[[#This Row],[QTY]]*Table1[[#This Row],[S&L Price]]","v":0}]
[null,null,21,"Little Biographies of Big People",1,"Walt Disney","Library Bound Book",null,"978-1-5382-1245-5",2018,"January 2018","Library","7.000 X 7.000","Author","Joan Stoltman",null,null,null,null,"H",null,"Grade 1 - 2","Grade 1 - 3","Young readers finally have an opportunity to step back from the gigantic, ubiquitous entity of the Disney Company as it exists today and discover the story of the singular, remarkable man who started it all. His biography is the perfect way to tell the story of an artist with the vision, drive, and passion to share his art with the world, a rare, modern success story that is vital to every collection. This volume motivates and inspires young readers to explore their own artistic voice and vision with captivating photography and focused, age-appropriate language.","English",22.6,16.95,"741.58092--dc23","24 pp.",{"$f":"Table1[[#This Row],['# Books]]*Table1[[#This Row],[QTY]]","v":0},{"$f":"Table1[[#This Row],[QTY]]*Table1[[#This Row],[S&L Price]]","v":0}]
[null,null,21,"Little Biographies of Big People",1,"Walt Disney","eBook",null,"978-1-5382-1246-2",2018,"January 2018",null,null,"Author","Joan Stoltman",null,null,null,null,"H",null,"Grade 1 - 2","Grade 1 - 3","Young readers finally have an opportunity to step back from the gigantic, ubiquitous entity of the Disney Company as it exists today and discover the story of the singular, remarkable man who started it all. His biography is the perfect way to tell the story of an artist with the vision, drive, and passion to share his art with the world, a rare, modern success story that is vital to every collection. This volume motivates and inspires young readers to explore their own artistic voice and vision with captivating photography and focused, age-appropriate language.","English",22.6,16.95,"741.58092--dc23","24 pp.",{"$f":"Table1[[#This Row],['# Books]]*Table1[[#This Row],[QTY]]","v":0},{"$f":"Table1[[#This Row],[QTY]]*Table1[[#This Row],[S&L Price]]","v":0}]
[null,null,21,"Little Biographies of Big People",12,"Little Biographies of Big People: Sets 1 – 2","Library Set",null,"978-1-5382-2187-7",2019,"August 2018","Library","7.000 X 7.000"," "," ",null,null,null,null,null,null,"Grade 1 - 2","Grade 1 - 3","Race, women's rights, slavery, human rights, discrimination. These difficult topics can finally be introduced and discussed in early elementary school using this innovative, age-appropriate series. Each book begins with several pages about the ordinary, and sometimes difficult, childhood of a person who became great, allowing young reader's to easily make parallels to their own lives. These books also feature inspirational quotes from each subject, giving opportunity for further reflection. Readers will learn how important values are put into action, like hard work, giving selflessly, doing what's right, and never quitting. These books are an important resource for any library or classroom. Features include: Important subjects are introduced in an accessible way. Encourages further interest in history. Engages readers in exploring different cultures.","English",271.2,203.4,null,"24 pp.",{"$f":"Table1[[#This Row],['# Books]]*Table1[[#This Row],[QTY]]","v":0},{"$f":"Table1[[#This Row],[QTY]]*Table1[[#This Row],[S&L Price]]","v":0}]
[null,null,21,"Little Biographies of Big People",6,"Little Biographies of Big People: Set 2","Library Set",null,"978-1-5382-2186-0",2019,"August 2018","Library","7.000 X 7.000"," "," ",null,null,null,null,null,null,"Grade 1 - 2","Grade 1 - 3","Ellen Ochoa, Elizabeth Cady Stanton, Eleanor Roosevelt, Barack Obama, Mohandas Gandhi, Jim Henson. These are stories of triumph and perseverance. This series gives young readers a chance to be exposed to backgrounds and time periods that are very different from their own. The opportunities for reflection and discussion abound in these pages, especially when each person is quoted. Perhaps most importantly, by telling these role models' stories, young readers learn how they too can push boundaries, demand change, and make a difference. Features include: Important historical topics, like women's rights and activism, are introduced in an accessible way. Encourages thought about concepts like perseverance, self-confidence, peace, and more. Exposes readers to how other people live, promoting empathy.","English",135.6,101.7,null,"24 pp.",{"$f":"Table1[[#This Row],['# Books]]*Table1[[#This Row],[QTY]]","v":0},{"$f":"Table1[[#This Row],[QTY]]*Table1[[#This Row],[S&L Price]]","v":0}]
[null,null,21,"Little Biographies of Big People",1,"Barack Obama","Library Bound Book",null,"978-1-5382-1828-0",2019,"August 2018","Library","7.000 X 7.000","Author","Joan Stoltman",null,null,14,null,"H",null,"Grade 1 - 2","Grade 1 - 3","In 2008, Barack Obama became the first African American president of the United States. Just one year later in 2009, he won the Nobel Peace Prize for his incredible efforts to create international diplomacy. This biography introduces readers to Obama's extraordinary story, including significant moments from his youth. Even before his presidency, Obama accomplished amazing things, such as becoming the first African American president of the Harvard Review. Striking photographs and images illustrate Obama's compelling biography. Fact boxes provide bite-sized chunks of interesting information. This inspiring book is sure to encourage readers to explore activism and politics.","English",22.6,16.95,null,"24 pp.",{"$f":"Table1[[#This Row],['# Books]]*Table1[[#This Row],[QTY]]","v":0},{"$f":"Table1[[#This Row],[QTY]]*Table1[[#This Row],[S&L Price]]","v":0}]
[null,null,21,"Little Biographies of Big People",1,"Barack Obama","eBook",null,"978-1-5382-1829-7",2019,"August 2018",null,null,"Author","Joan Stoltman",null,null,14,null,"H",null,"Grade 1 - 2","Grade 1 - 3","In 2008, Barack Obama became the first African American president of the United States. Just one year later in 2009, he won the Nobel Peace Prize for his incredible efforts to create international diplomacy. This biography introduces readers to Obama's extraordinary story, including significant moments from his youth. Even before his presidency, Obama accomplished amazing things, such as becoming the first African American president of the Harvard Review. Striking photographs and images illustrate Obama's compelling biography. Fact boxes provide bite-sized chunks of interesting information. This inspiring book is sure to encourage readers to explore activism and politics.","English",22.6,16.95,null,"24 pp.",{"$f":"Table1[[#This Row],['# Books]]*Table1[[#This Row],[QTY]]","v":0},{"$f":"Table1[[#This Row],[QTY]]*Table1[[#This Row],[S&L Price]]","v":0}]
[null,null,21,"Little Biographies of Big People",1,"Eleanor Roosevelt","Library Bound Book",null,"978-1-5382-1832-7",2019,"August 2018","Library","7.000 X 7.000","Author","Joan Stoltman",null,null,14,null,"H",null,"Grade 1 - 2","Grade 1 - 3","Eleanor Roosevelt was not just a U.S. president's wife. Her life is a relevant, important story that is notable, inspirational, and much needed, both in its time and today. This essential volume introduces young readers to a woman who wasn't afraid to speak her mind or voice her opinion, even though she lived in a time when most women stayed quiet. Through accessible, straightforward, engaging language readers can grasp, connect to, and be motivated by Ochoa's life story. For younger readers, this is a rare opportunity to read age-appropriate text and first-hand quotes that incorporate the issues of her times.","English",22.6,16.95,null,"24 pp.",{"$f":"Table1[[#This Row],['# Books]]*Table1[[#This Row],[QTY]]","v":0},{"$f":"Table1[[#This Row],[QTY]]*Table1[[#This Row],[S&L Price]]","v":0}]
[null,null,21,"Little Biographies of Big People",1,"Eleanor Roosevelt","eBook",null,"978-1-5382-1833-4",2019,"August 2018",null,null,"Author","Joan Stoltman",null,null,14,null,"H",null,"Grade 1 - 2","Grade 1 - 3","Eleanor Roosevelt was not just a U.S. president's wife. Her life is a relevant, important story that is notable, inspirational, and much needed, both in its time and today. This essential volume introduces young readers to a woman who wasn't afraid to speak her mind or voice her opinion, even though she lived in a time when most women stayed quiet. Through accessible, straightforward, engaging language readers can grasp, connect to, and be motivated by Ochoa's life story. For younger readers, this is a rare opportunity to read age-appropriate text and first-hand quotes that incorporate the issues of her times.","English",22.6,16.95,null,"24 pp.",{"$f":"Table1[[#This Row],['# Books]]*Table1[[#This Row],[QTY]]","v":0},{"$f":"Table1[[#This Row],[QTY]]*Table1[[#This Row],[S&L Price]]","v":0}]
[null,null,21,"Little Biographies of Big People",1,"Elizabeth Cady Stanton","Library Bound Book",null,"978-1-5382-1836-5",2019,"August 2018","Library","7.000 X 7.000","Author","Joan Stoltman",null,null,18,null,"J",null,"Grade 1 - 2","Grade 1 - 3","Elizabeth Cady Stanton was one of the most influential leaders of the women's rights movement of the 19th century. From her work for the women's rights convention of 1848 and friendship with Susan B. Anthony to her connection with the antislavery movement, her life story brings an important social movement and part of world history to life. Interesting photographs and quotes from her writing and speaking further enhance the reading experience for young readers.","English",22.6,16.95,null,"24 pp.",{"$f":"Table1[[#This Row],['# Books]]*Table1[[#This Row],[QTY]]","v":0},{"$f":"Table1[[#This Row],[QTY]]*Table1[[#This Row],[S&L Price]]","v":0}]
[null,null,21,"Little Biographies of Big People",1,"Elizabeth Cady Stanton","eBook",null,"978-1-5382-1837-2",2019,"August 2018",null,null,"Author","Joan Stoltman",null,null,18,null,"J",null,"Grade 1 - 2","Grade 1 - 3","Elizabeth Cady Stanton was one of the most influential leaders of the women's rights movement of the 19th century. From her work for the women's rights convention of 1848 and friendship with Susan B. Anthony to her connection with the antislavery movement, her life story brings an important social movement and part of world history to life. Interesting photographs and quotes from her writing and speaking further enhance the reading experience for young readers.","English",22.6,16.95,null,"24 pp.",{"$f":"Table1[[#This Row],['# Books]]*Table1[[#This Row],[QTY]]","v":0},{"$f":"Table1[[#This Row],[QTY]]*Table1[[#This Row],[S&L Price]]","v":0}]
[null,null,21,"Little Biographies of Big People",1,"Ellen Ochoa","Library Bound Book",null,"978-1-5382-1840-2",2019,"August 2018","Library","7.000 X 7.000","Author","Joan Stoltman",null,null,18,null,"J",null,"Grade 1 - 2","Grade 1 - 3","There are few books that tell Ellen Ochoa's life story in an accessible, captivating way with age-appropriate language for young readers. Finally, here's a book that explores her barrier-breaking work as an astronaut and science administrator in a way that gives perspective about her struggle as a woman and Hispanic person in the world of science. This book facilitates exploration of America's space program for early elementary readers, capturing readers through the story of one inspiring, remarkable life. Give science curricula a chance to excite, interest, and motivate readers to initiate a lifelong quest of learning by adding this book to your collection.","English",22.6,16.95,null,"24 pp.",{"$f":"Table1[[#This Row],['# Books]]*Table1[[#This Row],[QTY]]","v":0},{"$f":"Table1[[#This Row],[QTY]]*Table1[[#This Row],[S&L Price]]","v":0}]
[null,null,21,"Little Biographies of Big People",1,"Ellen Ochoa","eBook",null,"978-1-5382-1841-9",2019,"August 2018",null,null,"Author","Joan Stoltman",null,null,18,null,"J",null,"Grade 1 - 2","Grade 1 - 3","There are few books that tell Ellen Ochoa's life story in an accessible, captivating way with age-appropriate language for young readers. Finally, here's a book that explores her barrier-breaking work as an astronaut and science administrator in a way that gives perspective about her struggle as a woman and Hispanic person in the world of science. This book facilitates exploration of America's space program for early elementary readers, capturing readers through the story of one inspiring, remarkable life. Give science curricula a chance to excite, interest, and motivate readers to initiate a lifelong quest of learning by adding this book to your collection.","English",22.6,16.95,null,"24 pp.",{"$f":"Table1[[#This Row],['# Books]]*Table1[[#This Row],[QTY]]","v":0},{"$f":"Table1[[#This Row],[QTY]]*Table1[[#This Row],[S&L Price]]","v":0}]
[null,null,21,"Little Biographies of Big People",1,"Jim Henson","Library Bound Book",null,"978-1-5382-1847-1",2019,"August 2018","Library","7.000 X 7.000","Author","Joan Stoltman",null,null,14,null,"H",null,"Grade 1 - 2","Grade 1 - 3","Young readers finally have an opportunity to hear the story of the man behind Kermit the Frog, Yoda, Big Bird, and many other timeless, world famous puppet sensations. The life of Jim Henson is the story of a singular, remarkable artist with a vision, drive, and passion to educate. Through captivating photography, quotes from the man himself, and focused, age-appropriate language, readers have the chance to learn this modern television success story and be motivated and inspired to explore their own artistic voice and vision.","English",22.6,16.95,null,"24 pp.",{"$f":"Table1[[#This Row],['# Books]]*Table1[[#This Row],[QTY]]","v":0},{"$f":"Table1[[#This Row],[QTY]]*Table1[[#This Row],[S&L Price]]","v":0}]
[null,null,21,"Little Biographies of Big People",1,"Jim Henson","eBook",null,"978-1-5382-1848-8",2019,"August 2018",null,null,"Author","Joan Stoltman",null,null,14,null,"H",null,"Grade 1 - 2","Grade 1 - 3","Young readers finally have an opportunity to hear the story of the man behind Kermit the Frog, Yoda, Big Bird, and many other timeless, world famous puppet sensations. The life of Jim Henson is the story of a singular, remarkable artist with a vision, drive, and passion to educate. Through captivating photography, quotes from the man himself, and focused, age-appropriate language, readers have the chance to learn this modern television success story and be motivated and inspired to explore their own artistic voice and vision.","English",22.6,16.95,null,"24 pp.",{"$f":"Table1[[#This Row],['# Books]]*Table1[[#This Row],[QTY]]","v":0},{"$f":"Table1[[#This Row],[QTY]]*Table1[[#This Row],[S&L Price]]","v":0}]
[null,null,21,"Little Biographies of Big People",1,"Mohandas Gandhi","Library Bound Book",null,"978-1-5382-1851-8",2019,"August 2018","Library","7.000 X 7.000","Author","Joan Stoltman",null,null,18,null,"J",null,"Grade 1 - 2","Grade 1 - 3","The story of Mohandas Gandhi is as topical, vital, and necessary a teaching opportunity today as it was when it was an integral part of current events and not a story in history. This volume, dedicated to passing on the story of Gandhi's words, work, and life to young readers, provides educators with an essential tool to teach social justice, human rights, and how to stand up for your convictions through age-appropriate language and explanation of concepts. This inspiring biography follows Gandhi's journey from humble beginnings to becoming one of the most important activists of all time.","English",22.6,16.95,null,"24 pp.",{"$f":"Table1[[#This Row],['# Books]]*Table1[[#This Row],[QTY]]","v":0},{"$f":"Table1[[#This Row],[QTY]]*Table1[[#This Row],[S&L Price]]","v":0}]
[null,null,21,"Little Biographies of Big People",1,"Mohandas Gandhi","eBook",null,"978-1-5382-1852-5",2019,"August 2018",null,null,"Author","Joan Stoltman",null,null,18,null,"J",null,"Grade 1 - 2","Grade 1 - 3","The story of Mohandas Gandhi is as topical, vital, and necessary a teaching opportunity today as it was when it was an integral part of current events and not a story in history. This volume, dedicated to passing on the story of Gandhi's words, work, and life to young readers, provides educators with an essential tool to teach social justice, human rights, and how to stand up for your convictions through age-appropriate language and explanation of concepts. This inspiring biography follows Gandhi's journey from humble beginnings to becoming one of the most important activists of all time.","English",22.6,16.95,null,"24 pp.",{"$f":"Table1[[#This Row],['# Books]]*Table1[[#This Row],[QTY]]","v":0},{"$f":"Table1[[#This Row],[QTY]]*Table1[[#This Row],[S&L Price]]","v":0}]
[null,49,22,"Animal Math (Set of 18 Titles)",18,"Animal Math (Set of 18 Titles)","Library Set",null,"978-1-5382-1294-3",2018,"January 2018","Library","7.000 X 7.000",null,null,null,null,null,null,null,null,"Grade 1 - 2","Grade 1 - 3","Math is integrated into every aspect of life. Recognizing the shapes of road signs, paying money for a treat, and inviting a certain number of friends to a party are all activities that require knowledge of math. Animals can help us practice and understand math, too. This popular collection of books incorporates math concepts with animal facts. There's something to learn on every page through accessible text and at-level math strategies, which are accompanied by delightful photographs of favorite animals in action.\n\n","English",406.8,305.10000000000002,null,"24 pp.",{"$f":"Table1[[#This Row],['# Books]]*Table1[[#This Row],[QTY]]","v":0},{"$f":"Table1[[#This Row],[QTY]]*Table1[[#This Row],[S&L Price]]","v":0}]
[null,49,22,"Animal Math (Set of 6 NEW Titles)",6,"Animal Math (Set of 6 NEW Titles)","Library Set",null,"978-1-5382-1278-3",2018,"January 2018","Library","7.000 X 7.000",null,null,null,null,null,null,null,null,"Grade 1 - 2","Grade 1 - 3","When doing math, some people count on their fingers, others use blocks, and still others use pencil and paper. Wouldn't math be a lot more fun using animals to solve problems? Of course. This series celebrates a unique method of modeling math strategies: utilizing high-interest animals such as elephants and otters. The accessible text includes information about the featured animals as well as displaying at-level math problems in a visual way. Young mathematicians will be motivated to check their answers using the answer key provided.","English",135.6,101.7,null,"24 pp.",{"$f":"Table1[[#This Row],['# Books]]*Table1[[#This Row],[QTY]]","v":0},{"$f":"Table1[[#This Row],[QTY]]*Table1[[#This Row],[S&L Price]]","v":0}]
[null,49,22,"Animal Math",1,"Estimating with Elephants","Library Bound Book",null,"978-1-5382-0849-6",2018,"January 2018","Library","7.000 X 7.000","Author","Rory McDonnell",null,null,null,null,"G",null,"Grade 1 - 2","Grade 1 - 3","Estimation isn’t just a math standard, it’s a life skill. Young learners need practice honing this skill so they can apply it to many situations in the classroom and in the real world. This unique math book introduces estimation using fun facts about elephants. Readers will learn about the different species and their extraordinary sizes, while completing estimation exercises with the help of colorful photographs. They can check their answers with an answer key located in the back of the book.","English",22.6,16.95,"519.5'44--dc23","24 pp.",{"$f":"Table1[[#This Row],['# Books]]*Table1[[#This Row],[QTY]]","v":0},{"$f":"Table1[[#This Row],[QTY]]*Table1[[#This Row],[S&L Price]]","v":0}]
[null,49,22,"Animal Math",1,"Estimating with Elephants","eBook",null,"978-1-5382-0850-2",2018,"January 2018",null,null,"Author","Rory McDonnell",null,null,null,null,"G",null,"Grade 1 - 2","Grade 1 - 3","Estimation isn’t just a math standard, it’s a life skill. Young learners need practice honing this skill so they can apply it to many situations in the classroom and in the real world. This unique math book introduces estimation using fun facts about elephants. Readers will learn about the different species and their extraordinary sizes, while completing estimation exercises with the help of colorful photographs. They can check their answers with an answer key located in the back of the book.","English",22.6,16.95,"519.5'44--dc23","24 pp.",{"$f":"Table1[[#This Row],['# Books]]*Table1[[#This Row],[QTY]]","v":0},{"$f":"Table1[[#This Row],[QTY]]*Table1[[#This Row],[S&L Price]]","v":0}]
[null,49,22,"Animal Math",1,"Odd and Even with Otters","Library Bound Book",null,"978-1-5382-0853-3",2018,"January 2018","Library","7.000 X 7.000","Author","Rory McDonnell",null,null,null,null,"F",null,"Grade 1 - 2","Grade 1 - 3","Playful otters are some of the most high-interest animals in the zoo and in the wild. Finding out about otters while also learning about odd and even numbers makes math seem like play. The concept of odd and even is an important one in the elementary math curriculum. Readers will be motivated to count the otters in the colorful photographs and figure out if the sums are odd or even. Math questions are paired with an answer key for easy self-assessment.","English",22.6,16.95,"513--dc23","24 pp.",{"$f":"Table1[[#This Row],['# Books]]*Table1[[#This Row],[QTY]]","v":0},{"$f":"Table1[[#This Row],[QTY]]*Table1[[#This Row],[S&L Price]]","v":0}]
[null,49,22,"Animal Math",1,"Odd and Even with Otters","eBook",null,"978-1-5382-0854-0",2018,"January 2018",null,null,"Author","Rory McDonnell",null,null,null,null,"F",null,"Grade 1 - 2","Grade 1 - 3","Playful otters are some of the most high-interest animals in the zoo and in the wild. Finding out about otters while also learning about odd and even numbers makes math seem like play. The concept of odd and even is an important one in the elementary math curriculum. Readers will be motivated to count the otters in the colorful photographs and figure out if the sums are odd or even. Math questions are paired with an answer key for easy self-assessment.","English",22.6,16.95,"513--dc23","24 pp.",{"$f":"Table1[[#This Row],['# Books]]*Table1[[#This Row],[QTY]]","v":0},{"$f":"Table1[[#This Row],[QTY]]*Table1[[#This Row],[S&L Price]]","v":0}]
[null,49,22,"Animal Math",1,"Shapes with Sheep","Library Bound Book",null,"978-1-5382-0857-1",2018,"January 2018","Library","7.000 X 7.000","Author","Mary Grace Osburn",null,null,null,null,"F",null,"Grade 1 - 2","Grade 1 - 3","Shapes are an essential part of the elementary mathematics curriculum, a standard upon which students build their knowledge of geometry. It’s important to recognize both two-dimensional and three-dimensional shapes and their attributes. This beneficial and entertaining volume uses a high-interest animal, sheep, to introduce and review shape concepts, with the help of questions and an answer key. It encourages readers to see shapes in the world around them, so they will continuously reinforce what they learn in their everyday lives.","English",22.6,16.95,"516'.15--dc23","24 pp.",{"$f":"Table1[[#This Row],['# Books]]*Table1[[#This Row],[QTY]]","v":0},{"$f":"Table1[[#This Row],[QTY]]*Table1[[#This Row],[S&L Price]]","v":0}]
[null,49,22,"Animal Math",1,"Shapes with Sheep","eBook",null,"978-1-5382-0858-8",2018,"January 2018",null,null,"Author","Mary Grace Osburn",null,null,null,null,"F",null,"Grade 1 - 2","Grade 1 - 3","Shapes are an essential part of the elementary mathematics curriculum, a standard upon which students build their knowledge of geometry. It’s important to recognize both two-dimensional and three-dimensional shapes and their attributes. This beneficial and entertaining volume uses a high-interest animal, sheep, to introduce and review shape concepts, with the help of questions and an answer key. It encourages readers to see shapes in the world around them, so they will continuously reinforce what they learn in their everyday lives.","English",22.6,16.95,"516'.15--dc23","24 pp.",{"$f":"Table1[[#This Row],['# Books]]*Table1[[#This Row],[QTY]]","v":0},{"$f":"Table1[[#This Row],[QTY]]*Table1[[#This Row],[S&L Price]]","v":0}]
[null,49,22,"Animal Math",1,"Two-Digit Numbers with Tadpoles","Library Bound Book",null,"978-1-5382-0862-5",2018,"January 2018","Library","7.000 X 7.000","Author","Mary Rose Osburn",null,null,null,null,"G",null,"Grade 1 - 2","Grade 1 - 3","Learning what the two digits of a two-digit number represent is a key standard of Common Core math. Seeing these numbers represented as tadpoles will make the idea even more concrete to young mathematicians, and appealing. This valuable volume, a blending of science and math information, helps readers understand the key concept of two-digit numbers as well as helps them assess their understanding through questions in the text and an answer key.","English",22.6,16.95,"513--dc23","24 pp.",{"$f":"Table1[[#This Row],['# Books]]*Table1[[#This Row],[QTY]]","v":0},{"$f":"Table1[[#This Row],[QTY]]*Table1[[#This Row],[S&L Price]]","v":0}]
[null,49,22,"Animal Math",1,"Two-Digit Numbers with Tadpoles","eBook",null,"978-1-5382-0863-2",2018,"January 2018",null,null,"Author","Mary Rose Osburn",null,null,null,null,"G",null,"Grade 1 - 2","Grade 1 - 3","Learning what the two digits of a two-digit number represent is a key standard of Common Core math. Seeing these numbers represented as tadpoles will make the idea even more concrete to young mathematicians, and appealing. This valuable volume, a blending of science and math information, helps readers understand the key concept of two-digit numbers as well as helps them assess their understanding through questions in the text and an answer key.","English",22.6,16.95,"513--dc23","24 pp.",{"$f":"Table1[[#This Row],['# Books]]*Table1[[#This Row],[QTY]]","v":0},{"$f":"Table1[[#This Row],[QTY]]*Table1[[#This Row],[S&L Price]]","v":0}]
[null,49,22,"Animal Math",1,"Using Money at the Zoo","Library Bound Book",null,"978-1-5382-0866-3",2018,"January 2018","Library","7.000 X 7.000","Author","Mary Rose Osburn",null,null,null,null,"G",null,"Grade 1 - 2","Grade 1 - 3","Money and keeping track of spending are vital life skills as well as math standards. This curriculum-based book uses an entertaining setting, a zoo, and an appealing narrative to introduce and strengthen readers’ understanding of money concepts. Readers will be delighted by the many animals featured throughout, as well as the fun facts revealed about them. The cheerful text is accompanied by questions about coin values and addition with money, which can be used in combination with an answer key to assess understanding.","English",22.6,16.95,"332.024--dc23","24 pp.",{"$f":"Table1[[#This Row],['# Books]]*Table1[[#This Row],[QTY]]","v":0},{"$f":"Table1[[#This Row],[QTY]]*Table1[[#This Row],[S&L Price]]","v":0}]
[null,49,22,"Animal Math",1,"Using Money at the Zoo","eBook",null,"978-1-5382-0867-0",2018,"January 2018",null,null,"Author","Mary Rose Osburn",null,null,null,null,"G",null,"Grade 1 - 2","Grade 1 - 3","Money and keeping track of spending are vital life skills as well as math standards. This curriculum-based book uses an entertaining setting, a zoo, and an appealing narrative to introduce and strengthen readers’ understanding of money concepts. Readers will be delighted by the many animals featured throughout, as well as the fun facts revealed about them. The cheerful text is accompanied by questions about coin values and addition with money, which can be used in combination with an answer key to assess understanding.","English",22.6,16.95,"332.024--dc23","24 pp.",{"$f":"Table1[[#This Row],['# Books]]*Table1[[#This Row],[QTY]]","v":0},{"$f":"Table1[[#This Row],[QTY]]*Table1[[#This Row],[S&L Price]]","v":0}]
[null,49,22,"Animal Math",1,"Word Problems with Wolves","Library Bound Book",null,"978-1-5382-0870-0",2018,"January 2018","Library","7.000 X 7.000","Author","Rory McDonnell",null,null,null,null,"F",null,"Grade 1 - 2","Grade 1 - 3","Word problems are a major part of the elementary school curriculum. When word problems are paired with enlightening information about wolves, they become a major source of fun, too. This valuable book combines a high-interest topic, wolves, with accessible word problems that will motivate young mathematicians to tackle each problem, while an answer key provides assessment opportunities. Readers will especially love the many striking photographs of wolves in the wild.","English",22.6,16.95,"513.2--dc23","24 pp.",{"$f":"Table1[[#This Row],['# Books]]*Table1[[#This Row],[QTY]]","v":0},{"$f":"Table1[[#This Row],[QTY]]*Table1[[#This Row],[S&L Price]]","v":0}]
[null,49,22,"Animal Math",1,"Word Problems with Wolves","eBook",null,"978-1-5382-0871-7",2018,"January 2018",null,null,"Author","Rory McDonnell",null,null,null,null,"F",null,"Grade 1 - 2","Grade 1 - 3","Word problems are a major part of the elementary school curriculum. When word problems are paired with enlightening information about wolves, they become a major source of fun, too. This valuable book combines a high-interest topic, wolves, with accessible word problems that will motivate young mathematicians to tackle each problem, while an answer key provides assessment opportunities. Readers will especially love the many striking photographs of wolves in the wild.","English",22.6,16.95,"513.2--dc23","24 pp.",{"$f":"Table1[[#This Row],['# Books]]*Table1[[#This Row],[QTY]]","v":0},{"$f":"Table1[[#This Row],[QTY]]*Table1[[#This Row],[S&L Price]]","v":0}]
[null,49,23,"Animal Math",1,"Adding with Apes","Library Bound Book",null,"978-1-4339-5654-6",2012,"August 2011","Library","7.000 X 7.000","Author","Adele James",2,0.5,8,9,"F",null,"Grade 1 - 2","Grade 1 - 3","Gorillas, chimpanzees, orangutans, and other apes are intelligent animals. They share many characteristics with each other, and with us. This similarity, plus the charming expressions and energy of the great apes, is used here to teach readers about addition. Engaging photographs and number sentences guide explorers through the fascinating primate world while helping them seamlessly learn about one of the most necessary math concepts.","English",23.6,17.7,"513.2/11","24 pp.",{"$f":"Table1[[#This Row],['# Books]]*Table1[[#This Row],[QTY]]","v":0},{"$f":"Table1[[#This Row],[QTY]]*Table1[[#This Row],[S&L Price]]","v":0}]
[null,49,23,"Animal Math",1,"Adding with Apes","eBook",null,"978-1-4339-5655-3",2012,"August 2011",null,null,"Author","Adele James",2,0.5,8,9,"F",null,"Grade 1 - 2","Grade 1 - 3","Gorillas, chimpanzees, orangutans, and other apes are intelligent animals. They share many characteristics with each other, and with us. This similarity, plus the charming expressions and energy of the great apes, is used here to teach readers about addition. Engaging photographs and number sentences guide explorers through the fascinating primate world while helping them seamlessly learn about one of the most necessary math concepts.","English",23.6,17.7,"513.2/11","24 pp.",{"$f":"Table1[[#This Row],['# Books]]*Table1[[#This Row],[QTY]]","v":0},{"$f":"Table1[[#This Row],[QTY]]*Table1[[#This Row],[S&L Price]]","v":0}]
[null,49,23,"Animal Math",1,"Compare with Bears","Library Bound Book",null,"978-1-4339-5658-4",2012,"August 2011","Library","7.000 X 7.000","Author","Kate Mineo",1.9,0.5,8,9,"F",null,"Grade 1 - 2","Grade 1 - 3","Powerful grizzlies, foraging polar bears, and serene-seeming pandas . . . bears are fascinating to watch and read about. This book uses our natural interest in bears to help readers understand the basic math concept of comparison. Vibrant photographs help students juxtapose various bears and sizes. From cute cubs to ferocious full-grown carnivores, learning about math is finally fun!","English",23.6,17.7,"511.3","24 pp.",{"$f":"Table1[[#This Row],['# Books]]*Table1[[#This Row],[QTY]]","v":0},{"$f":"Table1[[#This Row],[QTY]]*Table1[[#This Row],[S&L Price]]","v":0}]
[null,49,23,"Animal Math",1,"Compare with Bears","eBook",null,"978-1-4339-5659-1",2012,"August 2011",null,null,"Author","Kate Mineo",1.9,0.5,8,9,"F",null,"Grade 1 - 2","Grade 1 - 3","Powerful grizzlies, foraging polar bears, and serene-seeming pandas . . . bears are fascinating to watch and read about. This book uses our natural interest in bears to help readers understand the basic math concept of comparison. Vibrant photographs help students juxtapose various bears and sizes. From cute cubs to ferocious full-grown carnivores, learning about math is finally fun!","English",23.6,17.7,"511.3","24 pp.",{"$f":"Table1[[#This Row],['# Books]]*Table1[[#This Row],[QTY]]","v":0},{"$f":"Table1[[#This Row],[QTY]]*Table1[[#This Row],[S&L Price]]","v":0}]
[null,49,23,"Animal Math",1,"Counting Lions","Library Bound Book",null,"978-1-4339-5662-1",2012,"August 2011","Library","7.000 X 7.000","Author","Adeline Zubek",1.2,0.5,8,9,"F",null,"Grade 1 - 2","Grade 1 - 3","Predatory lions prowl the plains of Africa looking for their next meal. People have long been awestruck by these big cats. This book provides a colorful expedition into the lives of these dangerous but beautiful animals while also teaching readers how to count. Students will be able to recite interesting facts about lions while also being able to count, compare, and add whole numbers easily.","English",23.6,17.7,"513.2","24 pp.",{"$f":"Table1[[#This Row],['# Books]]*Table1[[#This Row],[QTY]]","v":0},{"$f":"Table1[[#This Row],[QTY]]*Table1[[#This Row],[S&L Price]]","v":0}]
[null,49,23,"Animal Math",1,"Counting Lions","eBook",null,"978-1-4339-5663-8",2012,"August 2011",null,null,"Author","Adeline Zubek",1.2,0.5,8,9,"F",null,"Grade 1 - 2","Grade 1 - 3","Predatory lions prowl the plains of Africa looking for their next meal. People have long been awestruck by these big cats. This book provides a colorful expedition into the lives of these dangerous but beautiful animals while also teaching readers how to count. Students will be able to recite interesting facts about lions while also being able to count, compare, and add whole numbers easily.","English",23.6,17.7,"513.2","24 pp.",{"$f":"Table1[[#This Row],['# Books]]*Table1[[#This Row],[QTY]]","v":0},{"$f":"Table1[[#This Row],[QTY]]*Table1[[#This Row],[S&L Price]]","v":0}]
[null,49,23,"Animal Math",1,"Dolphin Doubles","Library Bound Book",null,"978-1-4339-9306-0",2014,"August 2013","Library","7.000 X 7.000","Author","Grace Vail",null,null,10,10,"F",null,"Grade 1 - 2","Grade 1 - 3","Dolphins are cute, friendly, and smart. They're so smart they can help readers learn to add and subtract doubles. This book pairs fun dolphin facts with doubles number sentences. Different kinds of dolphins are featured, including orcas and bottlenose dolphins, and vibrant photographs offer support for math problems. Math, science, and dolphins are the perfect high-interest, educational combination.","English",22.6,16.95,"513.211","24 pp.",{"$f":"Table1[[#This Row],['# Books]]*Table1[[#This Row],[QTY]]","v":0},{"$f":"Table1[[#This Row],[QTY]]*Table1[[#This Row],[S&L Price]]","v":0}]
[null,49,23,"Animal Math",1,"Dolphin Doubles","eBook",null,"978-1-4339-9305-3",2014,"August 2013",null,null,"Author","Grace Vail",null,null,10,10,"F",null,"Grade 1 - 2","Grade 1 - 3","Dolphins are cute, friendly, and smart. They're so smart they can help readers learn to add and subtract doubles. This book pairs fun dolphin facts with doubles number sentences. Different kinds of dolphins are featured, including orcas and bottlenose dolphins, and vibrant photographs offer support for math problems. Math, science, and dolphins are the perfect high-interest, educational combination.","English",22.6,16.95,"513.211","24 pp.",{"$f":"Table1[[#This Row],['# Books]]*Table1[[#This Row],[QTY]]","v":0},{"$f":"Table1[[#This Row],[QTY]]*Table1[[#This Row],[S&L Price]]","v":0}]
[null,49,23,"Animal Math",1,"Dolphin Doubles","Interactive eBook","HTML5","978-1-4339-9307-7",2014,"August 2013",null,null,"Author","Grace Vail",null,null,10,10,"F",null,"Grade 1 - 2","Grade 1 - 3","Dolphins are cute, friendly, and smart. They're so smart they can help readers learn to add and subtract doubles. This book pairs fun dolphin facts with doubles number sentences. Different kinds of dolphins are featured, including orcas and bottlenose dolphins, and vibrant photographs offer support for math problems. Math, science, and dolphins are the perfect high-interest, educational combination.","English",33.25,24.95,"513.211","24 pp.",{"$f":"Table1[[#This Row],['# Books]]*Table1[[#This Row],[QTY]]","v":0},{"$f":"Table1[[#This Row],[QTY]]*Table1[[#This Row],[S&L Price]]","v":0}]
[null,49,23,"Animal Math",1,"Fractions with Fish","Library Bound Book",null,"978-1-4339-9308-4",2014,"August 2013","Library","7.000 X 7.000","Author","Maeve T. Sisk ",null,null,10,10,"F",null,"Grade 1 - 2","Grade 1 - 3","Fascinating fish are a fun way to teach about fractions. Readers will love learning about their favorite kinds of fish, such as clownfish, and be in awe of some fish they may not know about, including the gigantic whale shark. While learning fishy facts, they'll also learn about fractions and how to identify parts of a whole.","English",22.6,16.95,"513.26","24 pp.",{"$f":"Table1[[#This Row],['# Books]]*Table1[[#This Row],[QTY]]","v":0},{"$f":"Table1[[#This Row],[QTY]]*Table1[[#This Row],[S&L Price]]","v":0}]
[null,49,23,"Animal Math",1,"Fractions with Fish","eBook",null,"978-1-4339-9311-4",2014,"August 2013",null,null,"Author","Maeve T. Sisk ",null,null,10,10,"F",null,"Grade 1 - 2","Grade 1 - 3","Fascinating fish are a fun way to teach about fractions. Readers will love learning about their favorite kinds of fish, such as clownfish, and be in awe of some fish they may not know about, including the gigantic whale shark. While learning fishy facts, they'll also learn about fractions and how to identify parts of a whole.","English",22.6,16.95,"513.26","24 pp.",{"$f":"Table1[[#This Row],['# Books]]*Table1[[#This Row],[QTY]]","v":0},{"$f":"Table1[[#This Row],[QTY]]*Table1[[#This Row],[S&L Price]]","v":0}]
[null,49,23,"Animal Math",1,"Fractions with Fish","Interactive eBook","HTML5","978-1-4339-9312-1",2014,"August 2013",null,null,"Author","Maeve T. Sisk ",null,null,10,10,"F",null,"Grade 1 - 2","Grade 1 - 3","Fascinating fish are a fun way to teach about fractions. Readers will love learning about their favorite kinds of fish, such as clownfish, and be in awe of some fish they may not know about, including the gigantic whale shark. While learning fishy facts, they'll also learn about fractions and how to identify parts of a whole.","English",33.25,24.95,"513.26","24 pp.",{"$f":"Table1[[#This Row],['# Books]]*Table1[[#This Row],[QTY]]","v":0},{"$f":"Table1[[#This Row],[QTY]]*Table1[[#This Row],[S&L Price]]","v":0}]
[null,49,23,"Animal Math",1,"Graphs with Giraffes","Library Bound Book",null,"978-1-4339-9313-8",2014,"August 2013","Library","7.000 X 7.000","Author","E. T. Weingarten ",null,null,10,10,"F",null,"Grade 1 - 2","Grade 1 - 3","Giraffes are the tallest animals on land. It's easy to see how tall they are by comparing heights on a graph. This book introduces readers to several kinds of graphs, including bar graphs, pie graphs, and tally charts. While learning information about these towering African animals, readers will practice using graphs and charts to answer questions. Animals are an entertaining way to show how math is part of the real world.","English",22.6,16.95,"518.23","24 pp.",{"$f":"Table1[[#This Row],['# Books]]*Table1[[#This Row],[QTY]]","v":0},{"$f":"Table1[[#This Row],[QTY]]*Table1[[#This Row],[S&L Price]]","v":0}]
[null,49,23,"Animal Math",1,"Graphs with Giraffes","eBook",null,"978-1-4339-9316-9",2014,"August 2013",null,null,"Author","E. T. Weingarten ",null,null,10,10,"F",null,"Grade 1 - 2","Grade 1 - 3","Giraffes are the tallest animals on land. It's easy to see how tall they are by comparing heights on a graph. This book introduces readers to several kinds of graphs, including bar graphs, pie graphs, and tally charts. While learning information about these towering African animals, readers will practice using graphs and charts to answer questions. Animals are an entertaining way to show how math is part of the real world.","English",22.6,16.95,"518.23","24 pp.",{"$f":"Table1[[#This Row],['# Books]]*Table1[[#This Row],[QTY]]","v":0},{"$f":"Table1[[#This Row],[QTY]]*Table1[[#This Row],[S&L Price]]","v":0}]
[null,49,23,"Animal Math",1,"Graphs with Giraffes","Interactive eBook","HTML5","978-1-4339-9317-6",2014,"August 2013",null,null,"Author","E. T. Weingarten ",null,null,10,10,"F",null,"Grade 1 - 2","Grade 1 - 3","Giraffes are the tallest animals on land. It's easy to see how tall they are by comparing heights on a graph. This book introduces readers to several kinds of graphs, including bar graphs, pie graphs, and tally charts. While learning information about these towering African animals, readers will practice using graphs and charts to answer questions. Animals are an entertaining way to show how math is part of the real world.","English",33.25,24.95,"518.23","24 pp.",{"$f":"Table1[[#This Row],['# Books]]*Table1[[#This Row],[QTY]]","v":0},{"$f":"Table1[[#This Row],[QTY]]*Table1[[#This Row],[S&L Price]]","v":0}]
[null,49,23,"Animal Math",1,"Near and Far with Birds","Library Bound Book",null,"978-1-4339-5666-9",2012,"August 2011","Library","7.000 X 7.000","Author","Tyrone Mineo",1.3,0.5,8,9,"F",null,"Grade 1 - 2","Grade 1 - 3","The math concept of near and far is much more interesting when wildlife is involved! Ducks, ostriches, parrots, and bald eagles are just some of the colorful, appealing birds displayed in their native habitats. Readers learn many bird facts while developing a better understanding of spatial differences.","English",23.6,17.7,"153.7","24 pp.",{"$f":"Table1[[#This Row],['# Books]]*Table1[[#This Row],[QTY]]","v":0},{"$f":"Table1[[#This Row],[QTY]]*Table1[[#This Row],[S&L Price]]","v":0}]
[null,49,23,"Animal Math",1,"Near and Far with Birds","eBook",null,"978-1-4339-5667-6",2012,"August 2011",null,null,"Author","Tyrone Mineo",1.3,0.5,8,9,"F",null,"Grade 1 - 2","Grade 1 - 3","The math concept of near and far is much more interesting when wildlife is involved! Ducks, ostriches, parrots, and bald eagles are just some of the colorful, appealing birds displayed in their native habitats. Readers learn many bird facts while developing a better understanding of spatial differences.","English",23.6,17.7,"153.7","24 pp.",{"$f":"Table1[[#This Row],['# Books]]*Table1[[#This Row],[QTY]]","v":0},{"$f":"Table1[[#This Row],[QTY]]*Table1[[#This Row],[S&L Price]]","v":0}]
[null,49,23,"Animal Math",1,"Patterns with Pandas","Library Bound Book",null,"978-1-4339-9318-3",2014,"August 2013","Library","7.000 X 7.000","Author","Bobby Kennedy Shea",null,null,10,10,"F",null,"Grade 1 - 2","Grade 1 - 3"," Pandas are a top attraction at zoos, and the pandas in this book show us why. Cute, furry, and playful, pandas seem like real-life teddy bears. While discovering many facts about these Asian animals, readers learn how to recognize what comes next in a pattern. Panda patterns are a fun way to practice an important part of the elementary math curriculum. Colorful photographs are carefully chosen to reflect the text. ","English",22.6,16.95,"516.15","24 pp.",{"$f":"Table1[[#This Row],['# Books]]*Table1[[#This Row],[QTY]]","v":0},{"$f":"Table1[[#This Row],[QTY]]*Table1[[#This Row],[S&L Price]]","v":0}]
[null,49,23,"Animal Math",1,"Patterns with Pandas","eBook",null,"978-1-4339-9321-3",2014,"August 2013",null,null,"Author","Bobby Kennedy Shea",null,null,10,10,"F",null,"Grade 1 - 2","Grade 1 - 3"," Pandas are a top attraction at zoos, and the pandas in this book show us why. Cute, furry, and playful, pandas seem like real-life teddy bears. While discovering many facts about these Asian animals, readers learn how to recognize what comes next in a pattern. Panda patterns are a fun way to practice an important part of the elementary math curriculum. Colorful photographs are carefully chosen to reflect the text. ","English",22.6,16.95,"516.15","24 pp.",{"$f":"Table1[[#This Row],['# Books]]*Table1[[#This Row],[QTY]]","v":0},{"$f":"Table1[[#This Row],[QTY]]*Table1[[#This Row],[S&L Price]]","v":0}]
[null,49,23,"Animal Math",1,"Patterns with Pandas","Interactive eBook","HTML5","978-1-4339-9322-0",2014,"August 2013",null,null,"Author","Bobby Kennedy Shea",null,null,10,10,"F",null,"Grade 1 - 2","Grade 1 - 3"," Pandas are a top attraction at zoos, and the pandas in this book show us why. Cute, furry, and playful, pandas seem like real-life teddy bears. While discovering many facts about these Asian animals, readers learn how to recognize what comes next in a pattern. Panda patterns are a fun way to practice an important part of the elementary math curriculum. Colorful photographs are carefully chosen to reflect the text. ","English",33.25,24.95,"516.15","24 pp.",{"$f":"Table1[[#This Row],['# Books]]*Table1[[#This Row],[QTY]]","v":0},{"$f":"Table1[[#This Row],[QTY]]*Table1[[#This Row],[S&L Price]]","v":0}]
[null,49,23,"Animal Math",1,"Problem Solving with Pigs","Library Bound Book",null,"978-1-4339-9323-7",2014,"August 2013","Library","7.000 X 7.000","Author","R.P. Harasymiw",null,null,10,10,"F",null,"Grade 1 - 2","Grade 1 - 3","Word problems and problem solving are a crucial component of the elementary math classroom. Engaging readers is imperative in successfully introducing certain concepts. Readers of this book will love learning about cute pigs as they solve pig word problems. They'll find out why pigs get dirty and that they actually like to be clean. Readers can check their answers in the answer key for self-evaluation.","English",22.6,16.95,"513","24 pp.",{"$f":"Table1[[#This Row],['# Books]]*Table1[[#This Row],[QTY]]","v":0},{"$f":"Table1[[#This Row],[QTY]]*Table1[[#This Row],[S&L Price]]","v":0}]
[null,49,23,"Animal Math",1,"Problem Solving with Pigs","eBook",null,"978-1-4339-9326-8",2014,"August 2013",null,null,"Author","R.P. Harasymiw",null,null,10,10,"F",null,"Grade 1 - 2","Grade 1 - 3","Word problems and problem solving are a crucial component of the elementary math classroom. Engaging readers is imperative in successfully introducing certain concepts. Readers of this book will love learning about cute pigs as they solve pig word problems. They'll find out why pigs get dirty and that they actually like to be clean. Readers can check their answers in the answer key for self-evaluation.","English",22.6,16.95,"513","24 pp.",{"$f":"Table1[[#This Row],['# Books]]*Table1[[#This Row],[QTY]]","v":0},{"$f":"Table1[[#This Row],[QTY]]*Table1[[#This Row],[S&L Price]]","v":0}]
[null,49,23,"Animal Math",1,"Problem Solving with Pigs","Interactive eBook","HTML5","978-1-4339-9327-5",2014,"August 2013",null,null,"Author","R.P. Harasymiw",null,null,10,10,"F",null,"Grade 1 - 2","Grade 1 - 3","Word problems and problem solving are a crucial component of the elementary math classroom. Engaging readers is imperative in successfully introducing certain concepts. Readers of this book will love learning about cute pigs as they solve pig word problems. They'll find out why pigs get dirty and that they actually like to be clean. Readers can check their answers in the answer key for self-evaluation.","English",33.25,24.95,"513","24 pp.",{"$f":"Table1[[#This Row],['# Books]]*Table1[[#This Row],[QTY]]","v":0},{"$f":"Table1[[#This Row],[QTY]]*Table1[[#This Row],[S&L Price]]","v":0}]
[null,49,23,"Animal Math",1,"Sorting with Snakes","Library Bound Book",null,"978-1-4339-9328-2",2014,"August 2013","Library","7.000 X 7.000","Author","Mary Rose McDonnell",null,null,10,10,"F",null,"Grade 1 - 2","Grade 1 - 3","Snakes, whether fat, skinny, long, or deadly, are always fascinating. In this fact-filled book, as readers practice their sorting math skills, they'll learn about different kinds of snakes. They'll find out that snakes shed their skin. They'll learn that some snakes jump from trees. And as they read, they'll consider which snakes belong in some groups and which belong in others. Sorting is a math skill best practiced while learning about something fun.","English",22.6,16.95,"511.322","24 pp.",{"$f":"Table1[[#This Row],['# Books]]*Table1[[#This Row],[QTY]]","v":0},{"$f":"Table1[[#This Row],[QTY]]*Table1[[#This Row],[S&L Price]]","v":0}]
[null,49,23,"Animal Math",1,"Sorting with Snakes","eBook",null,"978-1-4339-9331-2",2014,"August 2013",null,null,"Author","Mary Rose McDonnell",null,null,10,10,"F",null,"Grade 1 - 2","Grade 1 - 3","Snakes, whether fat, skinny, long, or deadly, are always fascinating. In this fact-filled book, as readers practice their sorting math skills, they'll learn about different kinds of snakes. They'll find out that snakes shed their skin. They'll learn that some snakes jump from trees. And as they read, they'll consider which snakes belong in some groups and which belong in others. Sorting is a math skill best practiced while learning about something fun.","English",22.6,16.95,"511.322","24 pp.",{"$f":"Table1[[#This Row],['# Books]]*Table1[[#This Row],[QTY]]","v":0},{"$f":"Table1[[#This Row],[QTY]]*Table1[[#This Row],[S&L Price]]","v":0}]
[null,49,23,"Animal Math",1,"Sorting with Snakes","Interactive eBook","HTML5","978-1-4339-9332-9",2014,"August 2013",null,null,"Author","Mary Rose McDonnell",null,null,10,10,"F",null,"Grade 1 - 2","Grade 1 - 3","Snakes, whether fat, skinny, long, or deadly, are always fascinating. In this fact-filled book, as readers practice their sorting math skills, they'll learn about different kinds of snakes. They'll find out that snakes shed their skin. They'll learn that some snakes jump from trees. And as they read, they'll consider which snakes belong in some groups and which belong in others. Sorting is a math skill best practiced while learning about something fun.","English",33.25,24.95,"511.322","24 pp.",{"$f":"Table1[[#This Row],['# Books]]*Table1[[#This Row],[QTY]]","v":0},{"$f":"Table1[[#This Row],[QTY]]*Table1[[#This Row],[S&L Price]]","v":0}]
[null,49,23,"Animal Math",1,"Subtracting with Seals","Library Bound Book",null,"978-1-4339-5670-6",2012,"August 2011","Library","7.000 X 7.000","Author","Charles Sellers",1.8,0.5,8,9,"F",null,"Grade 1 - 2","Grade 1 - 3","The shiny nose and playful spirit of seals is combined with fun facts to present a clever way to learn subtraction. Each spread not only shows these cute creatures in their natural environment, but presents a subtraction problem that seems a natural part of learning about this jolly aquatic mammal. Photographs and pictures aid readers in better understanding this basic math concept.","English",23.6,17.7,"513.2","24 pp.",{"$f":"Table1[[#This Row],['# Books]]*Table1[[#This Row],[QTY]]","v":0},{"$f":"Table1[[#This Row],[QTY]]*Table1[[#This Row],[S&L Price]]","v":0}]
[null,49,23,"Animal Math",1,"Subtracting with Seals","eBook",null,"978-1-4339-5671-3",2012,"August 2011",null,null,"Author","Charles Sellers",1.8,0.5,8,9,"F",null,"Grade 1 - 2","Grade 1 - 3","The shiny nose and playful spirit of seals is combined with fun facts to present a clever way to learn subtraction. Each spread not only shows these cute creatures in their natural environment, but presents a subtraction problem that seems a natural part of learning about this jolly aquatic mammal. Photographs and pictures aid readers in better understanding this basic math concept.","English",23.6,17.7,"513.2","24 pp.",{"$f":"Table1[[#This Row],['# Books]]*Table1[[#This Row],[QTY]]","v":0},{"$f":"Table1[[#This Row],[QTY]]*Table1[[#This Row],[S&L Price]]","v":0}]
[null,49,23,"Animal Math",1,"Tell Time with Turtles","Library Bound Book",null,"978-1-4339-5674-4",2012,"August 2011","Library","7.000 X 7.000","Author","Mary Rose McDonnell",1.6,0.5,8,9,"F",null,"Grade 1 - 2","Grade 1 - 3","Learning to tell time using a clock is a basic math skill. Learning what turtles do at certain times of the day makes this math lesson a whole lot more fun! In this book, readers spend a day at the zoo learning about turtles while also practicing how to read a clock. More advanced time concepts such as adding hours and half hours are also integrated into the text. ","English",23.6,17.7,"529","24 pp.",{"$f":"Table1[[#This Row],['# Books]]*Table1[[#This Row],[QTY]]","v":0},{"$f":"Table1[[#This Row],[QTY]]*Table1[[#This Row],[S&L Price]]","v":0}]
[null,49,23,"Animal Math",1,"Tell Time with Turtles","eBook",null,"978-1-4339-5675-1",2012,"August 2011",null,null,"Author","Mary Rose McDonnell",1.6,0.5,8,9,"F",null,"Grade 1 - 2","Grade 1 - 3","Learning to tell time using a clock is a basic math skill. Learning what turtles do at certain times of the day makes this math lesson a whole lot more fun! In this book, readers spend a day at the zoo learning about turtles while also practicing how to read a clock. More advanced time concepts such as adding hours and half hours are also integrated into the text. ","English",23.6,17.7,"529","24 pp.",{"$f":"Table1[[#This Row],['# Books]]*Table1[[#This Row],[QTY]]","v":0},{"$f":"Table1[[#This Row],[QTY]]*Table1[[#This Row],[S&L Price]]","v":0}]
[null,46,24,"Nature's Grossest (Set of 12 Titles)",12,"Nature's Grossest (Set of 12 Titles)","Library Set",null,"978-1-5382-1295-0",2018,"January 2018","Library","7.000 X 7.000",null,null,null,null,null,null,null,null,"Grade 1 - 2","Grade 1 - 3","Animals can be cute, deadly. . .and gross. In this amusing and informative collection, readers will be drawn to entertaining STEM topics and discover much about animal adaptations, an important theme in elementary science curricula. They'll learn that whales use poop to protect themselves, hyenas eat bones for nutrition, and many other crazy facts they'll be eager to share with others. Carefully chosen photographs accompany the engaging text.","English",271.2,203.4,null,"24 pp.",{"$f":"Table1[[#This Row],['# Books]]*Table1[[#This Row],[QTY]]","v":0},{"$f":"Table1[[#This Row],[QTY]]*Table1[[#This Row],[S&L Price]]","v":0}]
[null,46,24,"Nature's Grossest (Set of 6 NEW Titles)",6,"Nature's Grossest (Set of 6 NEW Titles)","Library Set",null,"978-1-5382-1284-4",2018,"January 2018","Library","7.000 X 7.000",null,null,null,null,null,null,null,null,"Grade 1 - 2","Grade 1 - 3","Nature is a constant source of wonder, excitement, and astonishment, but it can also be disgusting. Yes, some of the animals we know and love, such as downy rabbits and fuzzy chicks, have behaviors that people find pretty gross. Young readers will find them totally captivating, though. They'll learn not only that rabbits eat excrement and chicks gobble up vomit, but, more importantly, why they have these strange adaptations. This high-interest set, a continuation of our popular series, will truly delight young zoologists.","English",135.6,101.7,null,"24 pp.",{"$f":"Table1[[#This Row],['# Books]]*Table1[[#This Row],[QTY]]","v":0},{"$f":"Table1[[#This Row],[QTY]]*Table1[[#This Row],[S&L Price]]","v":0}]
[null,46,24,"Nature's Grossest",1,"Caterpillars Eat Their Skin!","Library Bound Book",null,"978-1-5382-0939-4",2018,"January 2018","Library","7.000 X 7.000","Author","Bert Wilberforce",null,null,null,null,"J",null,"Grade 1 - 2","Grade 1 - 3","Young naturalists learn early that when butterflies and moths first hatch from an egg, they’re in the form of caterpillars. They probably don’t know that as caterpillars grow, they shed skin, and then eat it. Readers will find this entertaining and accessible look at these ubiquitous larvae exceptionally informative. Carefully chosen photographs support the text and key science vocabulary.","English",22.6,16.95,"595.78'139--dc23","24 pp.",{"$f":"Table1[[#This Row],['# Books]]*Table1[[#This Row],[QTY]]","v":0},{"$f":"Table1[[#This Row],[QTY]]*Table1[[#This Row],[S&L Price]]","v":0}]
[null,46,24,"Nature's Grossest",1,"Caterpillars Eat Their Skin!","eBook",null,"978-1-5382-0940-0",2018,"January 2018",null,null,"Author","Bert Wilberforce",null,null,null,null,"J",null,"Grade 1 - 2","Grade 1 - 3","Young naturalists learn early that when butterflies and moths first hatch from an egg, they’re in the form of caterpillars. They probably don’t know that as caterpillars grow, they shed skin, and then eat it. Readers will find this entertaining and accessible look at these ubiquitous larvae exceptionally informative. Carefully chosen photographs support the text and key science vocabulary.","English",22.6,16.95,"595.78'139--dc23","24 pp.",{"$f":"Table1[[#This Row],['# Books]]*Table1[[#This Row],[QTY]]","v":0},{"$f":"Table1[[#This Row],[QTY]]*Table1[[#This Row],[S&L Price]]","v":0}]
[null,46,24,"Nature's Grossest",1,"Chicks Eat Puke!","Library Bound Book",null,"978-1-5382-0943-1",2018,"January 2018","Library","7.000 X 7.000","Author","Bert Wilberforce",null,null,null,null,"I",null,"Grade 1 - 2","Grade 1 - 3","Everyone finds some kind of food distasteful. That might be broccoli for some or olives for others. This book puts those foods into perspective, and young readers will eat it up. They’ll learn that bird parents will do anything to bring their chicks the nutrition they need and in a form they can ingest. That sometimes means chicks eat vomit. The accessible text explains this “fowl” behavior as well as other captivating facts that will motivate even reluctant readers.","English",22.6,16.95,"598.13'92--dc23","24 pp.",{"$f":"Table1[[#This Row],['# Books]]*Table1[[#This Row],[QTY]]","v":0},{"$f":"Table1[[#This Row],[QTY]]*Table1[[#This Row],[S&L Price]]","v":0}]
[null,46,24,"Nature's Grossest",1,"Chicks Eat Puke!","eBook",null,"978-1-5382-0944-8",2018,"January 2018",null,null,"Author","Bert Wilberforce",null,null,null,null,"I",null,"Grade 1 - 2","Grade 1 - 3","Everyone finds some kind of food distasteful. That might be broccoli for some or olives for others. This book puts those foods into perspective, and young readers will eat it up. They’ll learn that bird parents will do anything to bring their chicks the nutrition they need and in a form they can ingest. That sometimes means chicks eat vomit. The accessible text explains this “fowl” behavior as well as other captivating facts that will motivate even reluctant readers.","English",22.6,16.95,"598.13'92--dc23","24 pp.",{"$f":"Table1[[#This Row],['# Books]]*Table1[[#This Row],[QTY]]","v":0},{"$f":"Table1[[#This Row],[QTY]]*Table1[[#This Row],[S&L Price]]","v":0}]
[null,46,24,"Nature's Grossest",1,"Hyenas Eat Bones!","Library Bound Book",null,"978-1-5382-0947-9",2018,"January 2018","Library","7.000 X 7.000","Author","Roberto Betances",null,null,null,null,"I",null,"Grade 1 - 2","Grade 1 - 3","Hyenas are some of nature’s grossest creatures. These vicious creatures will claw and fight each other over a carcass, stripping an animal of its meat in under an hour. They have no problem eating other animals’ leftovers, even if that means eating hair and bones. Readers will love learning these distasteful facts and more about these gross, but intelligent, creatures in this captivating volume, full of vivid photographs that feature hyenas in their native habitats.","English",22.6,16.95,"599.74'3--dc23","24 pp.",{"$f":"Table1[[#This Row],['# Books]]*Table1[[#This Row],[QTY]]","v":0},{"$f":"Table1[[#This Row],[QTY]]*Table1[[#This Row],[S&L Price]]","v":0}]
[null,46,24,"Nature's Grossest",1,"Hyenas Eat Bones!","eBook",null,"978-1-5382-0948-6",2018,"January 2018",null,null,"Author","Roberto Betances",null,null,null,null,"I",null,"Grade 1 - 2","Grade 1 - 3","Hyenas are some of nature’s grossest creatures. These vicious creatures will claw and fight each other over a carcass, stripping an animal of its meat in under an hour. They have no problem eating other animals’ leftovers, even if that means eating hair and bones. Readers will love learning these distasteful facts and more about these gross, but intelligent, creatures in this captivating volume, full of vivid photographs that feature hyenas in their native habitats.","English",22.6,16.95,"599.74'3--dc23","24 pp.",{"$f":"Table1[[#This Row],['# Books]]*Table1[[#This Row],[QTY]]","v":0},{"$f":"Table1[[#This Row],[QTY]]*Table1[[#This Row],[S&L Price]]","v":0}]
[null,46,24,"Nature's Grossest",1,"Rabbits Eat Poop!","Library Bound Book",null,"978-1-5382-0951-6",2018,"January 2018","Library","7.000 X 7.000","Author","Roberto Betances",null,null,null,null,"I",null,"Grade 1 - 2","Grade 1 - 3","Everyone loves petting a rabbit. They’re so cute and fluffy . . . and gross? Readers will be delighted to find out why their favorite downy mammal actually eats its own excrement. Hint: It’s full of nutrients. This accessible volume excels at explaining rabbits’ unique digestive system, which helps them get the most vitamins possible from their herbivorous diet. This high-interest text, full of adorable images, is a fun introduction to several important elementary science topics.","English",22.6,16.95,"599.32--dc23","24 pp.",{"$f":"Table1[[#This Row],['# Books]]*Table1[[#This Row],[QTY]]","v":0},{"$f":"Table1[[#This Row],[QTY]]*Table1[[#This Row],[S&L Price]]","v":0}]
[null,46,24,"Nature's Grossest",1,"Rabbits Eat Poop!","eBook",null,"978-1-5382-0952-3",2018,"January 2018",null,null,"Author","Roberto Betances",null,null,null,null,"I",null,"Grade 1 - 2","Grade 1 - 3","Everyone loves petting a rabbit. They’re so cute and fluffy . . . and gross? Readers will be delighted to find out why their favorite downy mammal actually eats its own excrement. Hint: It’s full of nutrients. This accessible volume excels at explaining rabbits’ unique digestive system, which helps them get the most vitamins possible from their herbivorous diet. This high-interest text, full of adorable images, is a fun introduction to several important elementary science topics.","English",22.6,16.95,"599.32--dc23","24 pp.",{"$f":"Table1[[#This Row],['# Books]]*Table1[[#This Row],[QTY]]","v":0},{"$f":"Table1[[#This Row],[QTY]]*Table1[[#This Row],[S&L Price]]","v":0}]
[null,46,24,"Nature's Grossest",1,"Rats Eat Toenails!","Library Bound Book",null,"978-1-5382-0955-4",2018,"January 2018","Library","7.000 X 7.000","Author","Roberto Betances",null,null,null,null,"J",null,"Grade 1 - 2","Grade 1 - 3","Most people think rats are gross. So it might not be a surprise that they eat some gross things, such as paper, glue, and even toenails, but rats do this because they’re great survivors. This attention-grabbing book will motivate readers to find out about the bizarre behaviors of this remarkable rodent. Vivid photographs shed further light on the secret lives of these curious creatures.","English",22.6,16.95,"599.35'2--dc23","24 pp.",{"$f":"Table1[[#This Row],['# Books]]*Table1[[#This Row],[QTY]]","v":0},{"$f":"Table1[[#This Row],[QTY]]*Table1[[#This Row],[S&L Price]]","v":0}]
[null,46,24,"Nature's Grossest",1,"Rats Eat Toenails!","eBook",null,"978-1-5382-0956-1",2018,"January 2018",null,null,"Author","Roberto Betances",null,null,null,null,"J",null,"Grade 1 - 2","Grade 1 - 3","Most people think rats are gross. So it might not be a surprise that they eat some gross things, such as paper, glue, and even toenails, but rats do this because they’re great survivors. This attention-grabbing book will motivate readers to find out about the bizarre behaviors of this remarkable rodent. Vivid photographs shed further light on the secret lives of these curious creatures.","English",22.6,16.95,"599.35'2--dc23","24 pp.",{"$f":"Table1[[#This Row],['# Books]]*Table1[[#This Row],[QTY]]","v":0},{"$f":"Table1[[#This Row],[QTY]]*Table1[[#This Row],[S&L Price]]","v":0}]
[null,46,24,"Nature's Grossest",1,"Vampire Bats Drink Blood!","Library Bound Book",null,"978-1-5382-0959-2",2018,"January 2018","Library","7.000 X 7.000","Author","Bert Wilberforce",null,null,null,null,"J",null,"Grade 1 - 2","Grade 1 - 3","Certain species of bats get their chilling name from a legendary monster, the vampire, and like these revolting fantasy creatures, these bats really do drink the blood of animals. Luckily, vampire bats don’t harm people; they’re much more interested in the blood of livestock and forest animals. Their bites are so small that they’re often undetected by the animals they feed on. Readers will be fascinated by these eerie creatures as well as the awesome photographs of vampire bats in the wild.","English",22.6,16.95,"599.4'5--dc23","24 pp.",{"$f":"Table1[[#This Row],['# Books]]*Table1[[#This Row],[QTY]]","v":0},{"$f":"Table1[[#This Row],[QTY]]*Table1[[#This Row],[S&L Price]]","v":0}]
[null,46,24,"Nature's Grossest",1,"Vampire Bats Drink Blood!","eBook",null,"978-1-5382-0960-8",2018,"January 2018",null,null,"Author","Bert Wilberforce",null,null,null,null,"J",null,"Grade 1 - 2","Grade 1 - 3","Certain species of bats get their chilling name from a legendary monster, the vampire, and like these revolting fantasy creatures, these bats really do drink the blood of animals. Luckily, vampire bats don’t harm people; they’re much more interested in the blood of livestock and forest animals. Their bites are so small that they’re often undetected by the animals they feed on. Readers will be fascinated by these eerie creatures as well as the awesome photographs of vampire bats in the wild.","English",22.6,16.95,"599.4'5--dc23","24 pp.",{"$f":"Table1[[#This Row],['# Books]]*Table1[[#This Row],[QTY]]","v":0},{"$f":"Table1[[#This Row],[QTY]]*Table1[[#This Row],[S&L Price]]","v":0}]
[null,46,24,"Nature's Grossest",1,"Lizard Blood","Library Bound Book",null,"978-1-4824-1843-9",2015,"January 2015","Library","7.000 X 7.000","Author","Roberto Betances",3.2,0.5,16,null,"I",null,"Grade 1 - 2","Grade 1 - 3","The horned lizard has one of the most astonishing ways of defending itself in the wild. It can shoot blood out of its eyes at its enemies! And that's not the only trick that this remarkable reptile performs. Readers will love learning about lizard adaptations in this entertaining look at one of nature's coolest, and weirdest, animals. Important science content is linked with fun, informative photographs and brightly written, achievable text.","English",22.6,16.95,"567.913","24 pp.",{"$f":"Table1[[#This Row],['# Books]]*Table1[[#This Row],[QTY]]","v":0},{"$f":"Table1[[#This Row],[QTY]]*Table1[[#This Row],[S&L Price]]","v":0}]
[null,46,24,"Nature's Grossest",1,"Lizard Blood","eBook",null,"978-1-4824-1844-6",2015,"January 2015",null,null,"Author","Roberto Betances",3.2,0.5,16,null,"I",null,"Grade 1 - 2","Grade 1 - 3","The horned lizard has one of the most astonishing ways of defending itself in the wild. It can shoot blood out of its eyes at its enemies! And that's not the only trick that this remarkable reptile performs. Readers will love learning about lizard adaptations in this entertaining look at one of nature's coolest, and weirdest, animals. Important science content is linked with fun, informative photographs and brightly written, achievable text.","English",22.6,16.95,"567.913","24 pp.",{"$f":"Table1[[#This Row],['# Books]]*Table1[[#This Row],[QTY]]","v":0},{"$f":"Table1[[#This Row],[QTY]]*Table1[[#This Row],[S&L Price]]","v":0}]
[null,46,24,"Nature's Grossest",1,"Octopus Ink","Library Bound Book",null,"978-1-4824-1845-3",2015,"January 2015","Library","7.000 X 7.000","Author","Kate Shoemaker",3.3,0.5,16,null,"I",null,"Grade 1 - 2","Grade 1 - 3","The octopus is a perfect animal to demonstrate the extraordinary adaptations that some animals possess to help them survive in their habitats. An octopus's abilities to camouflage itself and squeeze into tight places are great ways to hide from fearsome predators. They even have a few more bizarre talents. They can squirt ink clouds to screen their getaway or even create an inky image of another octopus! Readers will want to learn even more high-interest octopus facts after this colorful look at one of nature's grossest, and coolest, marine creatures.","English",22.6,16.95,"594","24 pp.",{"$f":"Table1[[#This Row],['# Books]]*Table1[[#This Row],[QTY]]","v":0},{"$f":"Table1[[#This Row],[QTY]]*Table1[[#This Row],[S&L Price]]","v":0}]
[null,46,24,"Nature's Grossest",1,"Octopus Ink","eBook",null,"978-1-4824-1848-4",2015,"January 2015",null,null,"Author","Kate Shoemaker",3.3,0.5,16,null,"I",null,"Grade 1 - 2","Grade 1 - 3","The octopus is a perfect animal to demonstrate the extraordinary adaptations that some animals possess to help them survive in their habitats. An octopus's abilities to camouflage itself and squeeze into tight places are great ways to hide from fearsome predators. They even have a few more bizarre talents. They can squirt ink clouds to screen their getaway or even create an inky image of another octopus! Readers will want to learn even more high-interest octopus facts after this colorful look at one of nature's grossest, and coolest, marine creatures.","English",22.6,16.95,"594","24 pp.",{"$f":"Table1[[#This Row],['# Books]]*Table1[[#This Row],[QTY]]","v":0},{"$f":"Table1[[#This Row],[QTY]]*Table1[[#This Row],[S&L Price]]","v":0}]
[null,46,24,"Nature's Grossest",1,"Skunk Stench","Library Bound Book",null,"978-1-4824-1851-4",2015,"January 2015","Library","7.000 X 7.000","Author","Kate Shoemaker",2.9,0.5,16,null,"I",null,"Grade 1 - 2","Grade 1 - 3","Phew! Luckily, a skunk's infamous stench isn't the way it smells all the time. Instead, it's a secret weapon. The black and white mammal can actually aim and squirt its stinky liquid at its enemy or create a cloud of disgusting smell as it runs away. Readers of this amusing and informative peek into one of nature's stinkiest creatures will learn there are several species of skunks and what to do to avoid being sprayed.","English",22.6,16.95,"599.76","24 pp.",{"$f":"Table1[[#This Row],['# Books]]*Table1[[#This Row],[QTY]]","v":0},{"$f":"Table1[[#This Row],[QTY]]*Table1[[#This Row],[S&L Price]]","v":0}]
[null,46,24,"Nature's Grossest",1,"Skunk Stench","eBook",null,"978-1-4824-1852-1",2015,"January 2015",null,null,"Author","Kate Shoemaker",2.9,0.5,16,null,"I",null,"Grade 1 - 2","Grade 1 - 3","Phew! Luckily, a skunk's infamous stench isn't the way it smells all the time. Instead, it's a secret weapon. The black and white mammal can actually aim and squirt its stinky liquid at its enemy or create a cloud of disgusting smell as it runs away. Readers of this amusing and informative peek into one of nature's stinkiest creatures will learn there are several species of skunks and what to do to avoid being sprayed.","English",22.6,16.95,"599.76","24 pp.",{"$f":"Table1[[#This Row],['# Books]]*Table1[[#This Row],[QTY]]","v":0},{"$f":"Table1[[#This Row],[QTY]]*Table1[[#This Row],[S&L Price]]","v":0}]
[null,46,24,"Nature's Grossest",1,"Snail Slime","Library Bound Book",null,"978-1-4824-1854-5",2015,"January 2015","Library","7.000 X 7.000","Author","Roberto Betances",3.3,0.5,18,null,"J",null,"Grade 1 - 2","Grade 1 - 3","Snails are definitely peculiar animals. They travel around on one foot with a spiral shell to protect them and leave a trail of slime as they go. Ew! Readers will find out why snails have this important adaptation, one that even helps them hang upside down. Vivid photographs of snails in action in the wild will help readers understand why some things we think are gross about animals are actually integral to their survival.","English",22.6,16.95,"594.3","24 pp.",{"$f":"Table1[[#This Row],['# Books]]*Table1[[#This Row],[QTY]]","v":0},{"$f":"Table1[[#This Row],[QTY]]*Table1[[#This Row],[S&L Price]]","v":0}]
[null,46,24,"Nature's Grossest",1,"Snail Slime","eBook",null,"978-1-4824-1856-9",2015,"January 2015",null,null,"Author","Roberto Betances",3.3,0.5,18,null,"J",null,"Grade 1 - 2","Grade 1 - 3","Snails are definitely peculiar animals. They travel around on one foot with a spiral shell to protect them and leave a trail of slime as they go. Ew! Readers will find out why snails have this important adaptation, one that even helps them hang upside down. Vivid photographs of snails in action in the wild will help readers understand why some things we think are gross about animals are actually integral to their survival.","English",22.6,16.95,"594.3","24 pp.",{"$f":"Table1[[#This Row],['# Books]]*Table1[[#This Row],[QTY]]","v":0},{"$f":"Table1[[#This Row],[QTY]]*Table1[[#This Row],[S&L Price]]","v":0}]
[null,46,24,"Nature's Grossest",1,"Vulture Vomit","Library Bound Book",null,"978-1-4824-1858-3",2015,"January 2015","Library","7.000 X 7.000","Author","Bert Wilberforce",3.3,0.5,18,null,"J",null,"Grade 1 - 2","Grade 1 - 3","Vultures have some pretty disgusting habits. Their idea of a yummy meal is carrion, or rotting meat. But they have an even grosser idea of how to protect themselves from their predators. They throw up on them! Vultures can make their acidic vomit fly several feet to burn their enemy. This also makes them lighter so they can fly away. Readers may think these adaptations are gross, but they'll keep turning the page to find out even more in this entertaining and brightly designed book.","English",22.6,16.95,"598.9","24 pp.",{"$f":"Table1[[#This Row],['# Books]]*Table1[[#This Row],[QTY]]","v":0},{"$f":"Table1[[#This Row],[QTY]]*Table1[[#This Row],[S&L Price]]","v":0}]
[null,46,24,"Nature's Grossest",1,"Vulture Vomit","eBook",null,"978-1-4824-1860-6",2015,"January 2015",null,null,"Author","Bert Wilberforce",3.3,0.5,18,null,"J",null,"Grade 1 - 2","Grade 1 - 3","Vultures have some pretty disgusting habits. Their idea of a yummy meal is carrion, or rotting meat. But they have an even grosser idea of how to protect themselves from their predators. They throw up on them! Vultures can make their acidic vomit fly several feet to burn their enemy. This also makes them lighter so they can fly away. Readers may think these adaptations are gross, but they'll keep turning the page to find out even more in this entertaining and brightly designed book.","English",22.6,16.95,"598.9","24 pp.",{"$f":"Table1[[#This Row],['# Books]]*Table1[[#This Row],[QTY]]","v":0},{"$f":"Table1[[#This Row],[QTY]]*Table1[[#This Row],[S&L Price]]","v":0}]
[null,46,24,"Nature's Grossest",1,"Whale Poop","Library Bound Book",null,"978-1-4824-1862-0",2015,"January 2015","Library","7.000 X 7.000","Author","Bert Wilberforce",3.3,0.5,18,null,"J",null,"Grade 1 - 2","Grade 1 - 3","Whales are awe-inspiring creatures. They move their gigantic bodies through water gracefully. But some of these majestic marine animals have an odd way of protecting themselves from bloodthirsty sharks and other predators. They can create a cloud of waste, or poop, to hide in or to confuse their pursuer. While that's amazing, perhaps it's even more incredible that one kind of whale poop is so valuable it's called \"floating gold\"! Readers will love all these facts and more in this fun, accessible book about these beautiful mammals.","English",22.6,16.95,"599.5","24 pp.",{"$f":"Table1[[#This Row],['# Books]]*Table1[[#This Row],[QTY]]","v":0},{"$f":"Table1[[#This Row],[QTY]]*Table1[[#This Row],[S&L Price]]","v":0}]
[null,46,24,"Nature's Grossest",1,"Whale Poop","eBook",null,"978-1-4824-1864-4",2015,"January 2015",null,null,"Author","Bert Wilberforce",3.3,0.5,18,null,"J",null,"Grade 1 - 2","Grade 1 - 3","Whales are awe-inspiring creatures. They move their gigantic bodies through water gracefully. But some of these majestic marine animals have an odd way of protecting themselves from bloodthirsty sharks and other predators. They can create a cloud of waste, or poop, to hide in or to confuse their pursuer. While that's amazing, perhaps it's even more incredible that one kind of whale poop is so valuable it's called \"floating gold\"! Readers will love all these facts and more in this fun, accessible book about these beautiful mammals.","English",22.6,16.95,"599.5","24 pp.",{"$f":"Table1[[#This Row],['# Books]]*Table1[[#This Row],[QTY]]","v":0},{"$f":"Table1[[#This Row],[QTY]]*Table1[[#This Row],[S&L Price]]","v":0}]
[null,41,25,"Super Science Tools",6,"Super Science Tools","Library Set",null,"978-1-5382-0227-2",2018,"August 2017","Library","7.000 X 7.000",null,null,null,null,null,null,null,null,"Grade 1 - 2","Grade 1 - 3","Instilling a passion for science and curiosity for technology lays a solid foundation for future STEM education. This important and accessible series introduces some of the basic tools of science and how scientists—professional and amateur—use them every day. After learning about these key instruments, including scales, thermometers, and measuring cups, readers will want to explore them in their own experiments, encouraging fun hands-on learning experiences.","English",135.6,101.7,null,"24 pp.",{"$f":"Table1[[#This Row],['# Books]]*Table1[[#This Row],[QTY]]","v":0},{"$f":"Table1[[#This Row],[QTY]]*Table1[[#This Row],[S&L Price]]","v":0}]
[null,41,25,"Super Science Tools",1,"Using a Ruler","Library Bound Book",null,"978-1-4824-6403-0",2018,"August 2017","Library","7.000 X 7.000","Author","Nora Roman",null,null,null,null,"H",null,"Grade 1 - 2","Grade 1 - 3","Rulers seem like such simple tools, but their importance can’t be overstated. Without rulers—and the knowledge of how to use them—so many inventions, buildings, and other man-made achievements would just fall apart. In this volume, readers will review the basics of rulers and observe them being used by young student-scientists as well as by professionals in the working world. They’ll even test out their own ruler skills as they find out that rulers rule the world of science!","English",22.6,16.95,"530.8--dc23","24 pp.",{"$f":"Table1[[#This Row],['# Books]]*Table1[[#This Row],[QTY]]","v":0},{"$f":"Table1[[#This Row],[QTY]]*Table1[[#This Row],[S&L Price]]","v":0}]
[null,41,25,"Super Science Tools",1,"Using a Ruler","eBook",null,"978-1-4824-6404-7",2018,"August 2017",null,null,"Author","Nora Roman",null,null,null,null,"H",null,"Grade 1 - 2","Grade 1 - 3","Rulers seem like such simple tools, but their importance can’t be overstated. Without rulers—and the knowledge of how to use them—so many inventions, buildings, and other man-made achievements would just fall apart. In this volume, readers will review the basics of rulers and observe them being used by young student-scientists as well as by professionals in the working world. They’ll even test out their own ruler skills as they find out that rulers rule the world of science!","English",22.6,16.95,"530.8--dc23","24 pp.",{"$f":"Table1[[#This Row],['# Books]]*Table1[[#This Row],[QTY]]","v":0},{"$f":"Table1[[#This Row],[QTY]]*Table1[[#This Row],[S&L Price]]","v":0}]
[null,41,25,"Super Science Tools",1,"Using a Scale","Library Bound Book",null,"978-1-4824-6407-8",2018,"August 2017","Library","7.000 X 7.000","Author","Nora Roman",null,null,null,null,"I",null,"Grade 1 - 2","Grade 1 - 3","We use scales more than we might notice in our daily lives. We weigh our food at stores, weigh our packages at the post office, and even weigh ourselves. Scientists use scales for important experiments, too. In this essential introduction to this super science tool, future scientists will learn about different kinds of scales. They’ll learn how to use scales to investigate objects in their everyday lives and come to appreciate how this often-used instrument helps us in so many ways.","English",22.6,16.95,"681.2--dc23","24 pp.",{"$f":"Table1[[#This Row],['# Books]]*Table1[[#This Row],[QTY]]","v":0},{"$f":"Table1[[#This Row],[QTY]]*Table1[[#This Row],[S&L Price]]","v":0}]
[null,41,25,"Super Science Tools",1,"Using a Scale","eBook",null,"978-1-4824-6408-5",2018,"August 2017",null,null,"Author","Nora Roman",null,null,null,null,"I",null,"Grade 1 - 2","Grade 1 - 3","We use scales more than we might notice in our daily lives. We weigh our food at stores, weigh our packages at the post office, and even weigh ourselves. Scientists use scales for important experiments, too. In this essential introduction to this super science tool, future scientists will learn about different kinds of scales. They’ll learn how to use scales to investigate objects in their everyday lives and come to appreciate how this often-used instrument helps us in so many ways.","English",22.6,16.95,"681.2--dc23","24 pp.",{"$f":"Table1[[#This Row],['# Books]]*Table1[[#This Row],[QTY]]","v":0},{"$f":"Table1[[#This Row],[QTY]]*Table1[[#This Row],[S&L Price]]","v":0}]
[null,41,25,"Super Science Tools",1,"Using a Thermometer","Library Bound Book",null,"978-1-4824-6411-5",2018,"August 2017","Library","7.000 X 7.000","Author","Abigail B. Roberts",null,null,null,null,"I",null,"Grade 1 - 2","Grade 1 - 3","Thermometers are so important in our daily lives. We consult them to know how to dress before going outside. We check our temperature when we think we’re sick. We even use thermometers when we’re cooking and baking in the kitchen. Thermometers are everywhere, but they’re also important tools of science. In this engaging volume, with the aid of appealing photographs and an instructive activity, readers will learn how scientists of all ages use thermometers and how they can, too.","English",22.6,16.95,"536’.50287--dc23","24 pp.",{"$f":"Table1[[#This Row],['# Books]]*Table1[[#This Row],[QTY]]","v":0},{"$f":"Table1[[#This Row],[QTY]]*Table1[[#This Row],[S&L Price]]","v":0}]
[null,41,25,"Super Science Tools",1,"Using a Thermometer","eBook",null,"978-1-4824-6412-2",2018,"August 2017",null,null,"Author","Abigail B. Roberts",null,null,null,null,"I",null,"Grade 1 - 2","Grade 1 - 3","Thermometers are so important in our daily lives. We consult them to know how to dress before going outside. We check our temperature when we think we’re sick. We even use thermometers when we’re cooking and baking in the kitchen. Thermometers are everywhere, but they’re also important tools of science. In this engaging volume, with the aid of appealing photographs and an instructive activity, readers will learn how scientists of all ages use thermometers and how they can, too.","English",22.6,16.95,"536’.50287--dc23","24 pp.",{"$f":"Table1[[#This Row],['# Books]]*Table1[[#This Row],[QTY]]","v":0},{"$f":"Table1[[#This Row],[QTY]]*Table1[[#This Row],[S&L Price]]","v":0}]
[null,41,25,"Super Science Tools",1,"Using Lenses","Library Bound Book",null,"978-1-4824-6391-0",2018,"August 2017","Library","7.000 X 7.000","Author","Abigail B. Roberts",null,null,null,null,"I",null,"Grade 1 - 2","Grade 1 - 3","Observing objects closely is an important part of being a scientist. That’s why lenses are so important in the laboratory and in the science classroom. Young scientists may be surprised to learn that they’ve probably already used lenses—in the form of a magnifying glass. This tool and others, such as microscopes, help scientists see details of objects up close. This invaluable book introduces lenses and the concept of optics in an easy to understand way and encourages readers to experiment with lenses themselves!","English",22.6,16.95,"535--dc23","24 pp.",{"$f":"Table1[[#This Row],['# Books]]*Table1[[#This Row],[QTY]]","v":0},{"$f":"Table1[[#This Row],[QTY]]*Table1[[#This Row],[S&L Price]]","v":0}]
[null,41,25,"Super Science Tools",1,"Using Lenses","eBook",null,"978-1-4824-6392-7",2018,"August 2017",null,null,"Author","Abigail B. Roberts",null,null,null,null,"I",null,"Grade 1 - 2","Grade 1 - 3","Observing objects closely is an important part of being a scientist. That’s why lenses are so important in the laboratory and in the science classroom. Young scientists may be surprised to learn that they’ve probably already used lenses—in the form of a magnifying glass. This tool and others, such as microscopes, help scientists see details of objects up close. This invaluable book introduces lenses and the concept of optics in an easy to understand way and encourages readers to experiment with lenses themselves!","English",22.6,16.95,"535--dc23","24 pp.",{"$f":"Table1[[#This Row],['# Books]]*Table1[[#This Row],[QTY]]","v":0},{"$f":"Table1[[#This Row],[QTY]]*Table1[[#This Row],[S&L Price]]","v":0}]
[null,41,25,"Super Science Tools",1,"Using Magnets","Library Bound Book",null,"978-1-4824-6395-8",2018,"August 2017","Library","7.000 X 7.000","Author","Nora Roman",null,null,null,null,"I",null,"Grade 1 - 2","Grade 1 - 3","Few natural forces seem as much like magic as magnets. Perhaps that’s why magnets are so fun! Young scientists will love learning about amazing magnets, both natural and man-made. They’ll discover how magnetism is harnessed to help us in many ways. This STEM-supportive volume contains comprehensible text and photographs of students and scientists utilizing magnets. It also includes a simple, fun concluding activity to encourage readers to use this super science tool themselves.","English",22.6,16.95,"538--dc23","24 pp.",{"$f":"Table1[[#This Row],['# Books]]*Table1[[#This Row],[QTY]]","v":0},{"$f":"Table1[[#This Row],[QTY]]*Table1[[#This Row],[S&L Price]]","v":0}]
[null,41,25,"Super Science Tools",1,"Using Magnets","eBook",null,"978-1-4824-6396-5",2018,"August 2017",null,null,"Author","Nora Roman",null,null,null,null,"I",null,"Grade 1 - 2","Grade 1 - 3","Few natural forces seem as much like magic as magnets. Perhaps that’s why magnets are so fun! Young scientists will love learning about amazing magnets, both natural and man-made. They’ll discover how magnetism is harnessed to help us in many ways. This STEM-supportive volume contains comprehensible text and photographs of students and scientists utilizing magnets. It also includes a simple, fun concluding activity to encourage readers to use this super science tool themselves.","English",22.6,16.95,"538--dc23","24 pp.",{"$f":"Table1[[#This Row],['# Books]]*Table1[[#This Row],[QTY]]","v":0},{"$f":"Table1[[#This Row],[QTY]]*Table1[[#This Row],[S&L Price]]","v":0}]
[null,41,25,"Super Science Tools",1,"Using Measuring Cups","Library Bound Book",null,"978-1-4824-6399-6",2018,"August 2017","Library","7.000 X 7.000","Author","Abigail B. Roberts",null,null,null,null,"H",null,"Grade 1 - 2","Grade 1 - 3","Measuring cups are essential in the kitchen, but they’re also crucial in the science lab. Scientists need to be precise in their experiments to test their hypotheses, and science tools such as cylinders for measuring volume aid them in their important research. This appealing book shows that young scientists, too, can use measuring containers for their own science experiments. Important STEM concepts such as volume and units of measurement are explained in a comprehensible manner.","English",22.6,16.95,"681’.2--dc23","24 pp.",{"$f":"Table1[[#This Row],['# Books]]*Table1[[#This Row],[QTY]]","v":0},{"$f":"Table1[[#This Row],[QTY]]*Table1[[#This Row],[S&L Price]]","v":0}]
[null,41,25,"Super Science Tools",1,"Using Measuring Cups","eBook",null,"978-1-4824-6400-9",2018,"August 2017",null,null,"Author","Abigail B. Roberts",null,null,null,null,"H",null,"Grade 1 - 2","Grade 1 - 3","Measuring cups are essential in the kitchen, but they’re also crucial in the science lab. Scientists need to be precise in their experiments to test their hypotheses, and science tools such as cylinders for measuring volume aid them in their important research. This appealing book shows that young scientists, too, can use measuring containers for their own science experiments. Important STEM concepts such as volume and units of measurement are explained in a comprehensible manner.","English",22.6,16.95,"681’.2--dc23","24 pp.",{"$f":"Table1[[#This Row],['# Books]]*Table1[[#This Row],[QTY]]","v":0},{"$f":"Table1[[#This Row],[QTY]]*Table1[[#This Row],[S&L Price]]","v":0}]
[null,42,26,"Your Body at Its Grossest",6,"Your Body at Its Grossest","Library Set",null,"978-1-5382-0480-1",2018,"August 2017","Library","7.000 X 7.000",null,null,null,null,null,null,null,null,"Grade 1 - 2","Grade 1 - 3","If there’s one thing we all have in common, it’s that our bodies do some truly weird things. Whether readers are sick and throwing up, watching cuts heal with pus and scabs, or wondering why they sweat when it’s hot, there are lots of questions they need answered about their bodies. Readers will love getting gross with this series that covers the odd noises and smelly things that come out of us all. From the scientific purposes behind spit and phlegm to the reasons we all pee and poop, young readers will pair learning with laughing as full-color photographs help chart the human experience.","English",135.6,101.7,null,"24 pp.",{"$f":"Table1[[#This Row],['# Books]]*Table1[[#This Row],[QTY]]","v":0},{"$f":"Table1[[#This Row],[QTY]]*Table1[[#This Row],[S&L Price]]","v":0}]
[null,42,26,"Your Body at Its Grossest",1,"Earwax and Boogers!","Library Bound Book",null,"978-1-4824-6463-4",2018,"August 2017","Library","7.000 X 7.000","Author","Melvin Hightower",null,null,null,null,"H",null,"Grade 1 - 2","Grade 1 - 3","Earwax and boogers come from different places, but they’re equally gross. This book explores why the body makes these icky, sticky substances and what it means when you find more than usual hanging around your ears and nose. Whether it means someone is getting sick or they just haven’t taken a bath in a few days, this book explores good hygiene while also explaining the scientific reasons behind these important body processes.","English",22.6,16.95,"612.8--dc23","24 pp.",{"$f":"Table1[[#This Row],['# Books]]*Table1[[#This Row],[QTY]]","v":0},{"$f":"Table1[[#This Row],[QTY]]*Table1[[#This Row],[S&L Price]]","v":0}]
[null,42,26,"Your Body at Its Grossest",1,"Earwax and Boogers!","eBook",null,"978-1-4824-6464-1",2018,"August 2017",null,null,"Author","Melvin Hightower",null,null,null,null,"H",null,"Grade 1 - 2","Grade 1 - 3","Earwax and boogers come from different places, but they’re equally gross. This book explores why the body makes these icky, sticky substances and what it means when you find more than usual hanging around your ears and nose. Whether it means someone is getting sick or they just haven’t taken a bath in a few days, this book explores good hygiene while also explaining the scientific reasons behind these important body processes.","English",22.6,16.95,"612.8--dc23","24 pp.",{"$f":"Table1[[#This Row],['# Books]]*Table1[[#This Row],[QTY]]","v":0},{"$f":"Table1[[#This Row],[QTY]]*Table1[[#This Row],[S&L Price]]","v":0}]
[null,42,26,"Your Body at Its Grossest",1,"Pee and Poop!","Library Bound Book",null,"978-1-4824-6467-2",2018,"August 2017","Library","7.000 X 7.000","Author","Sam Crispin",null,null,null,null,"H",null,"Grade 1 - 2","Grade 1 - 3","It’s true: everyone poops. While urine and feces may be good for gross-out fun, these body functions are an important way we stay healthy. Readers will put toilet humor aside and explore the science of bowel movements in a fun and interesting way, learning about the digestive system, kidneys, and more. Through tasteful images and fun graphics, this title allows readers to look at the science behind the taboos and learn more about how their bodies work.","English",22.6,16.95,"612.4’6--dc23","24 pp.",{"$f":"Table1[[#This Row],['# Books]]*Table1[[#This Row],[QTY]]","v":0},{"$f":"Table1[[#This Row],[QTY]]*Table1[[#This Row],[S&L Price]]","v":0}]
[null,42,26,"Your Body at Its Grossest",1,"Pee and Poop!","eBook",null,"978-1-4824-6468-9",2018,"August 2017",null,null,"Author","Sam Crispin",null,null,null,null,"H",null,"Grade 1 - 2","Grade 1 - 3","It’s true: everyone poops. While urine and feces may be good for gross-out fun, these body functions are an important way we stay healthy. Readers will put toilet humor aside and explore the science of bowel movements in a fun and interesting way, learning about the digestive system, kidneys, and more. Through tasteful images and fun graphics, this title allows readers to look at the science behind the taboos and learn more about how their bodies work.","English",22.6,16.95,"612.4’6--dc23","24 pp.",{"$f":"Table1[[#This Row],['# Books]]*Table1[[#This Row],[QTY]]","v":0},{"$f":"Table1[[#This Row],[QTY]]*Table1[[#This Row],[S&L Price]]","v":0}]
[null,42,26,"Your Body at Its Grossest",1,"Pus and Scabs!","Library Bound Book",null,"978-1-4824-6493-1",2018,"August 2017","Library","7.000 X 7.000","Author","Melvin Hightower",null,null,null,null,"H",null,"Grade 1 - 2","Grade 1 - 3","Cuts and scrapes are no fun, and their end result can be gross. Wounds can leak pus and scabs are often tempting to pull and tear, but these gross by-products of cuts are an important part of the healing process. In this book, readers pair the science with the gross to discover just why the body makes and leaks pus. It also explores ways to prevent permanent scarring and the proper way to take care of skin injuries with bandages and other medicine to help the body heal correctly.","English",22.6,16.95,"617.1--dc23","24 pp.",{"$f":"Table1[[#This Row],['# Books]]*Table1[[#This Row],[QTY]]","v":0},{"$f":"Table1[[#This Row],[QTY]]*Table1[[#This Row],[S&L Price]]","v":0}]
[null,42,26,"Your Body at Its Grossest",1,"Pus and Scabs!","eBook",null,"978-1-4824-6471-9",2018,"August 2017",null,null,"Author","Melvin Hightower",null,null,null,null,"H",null,"Grade 1 - 2","Grade 1 - 3","Cuts and scrapes are no fun, and their end result can be gross. Wounds can leak pus and scabs are often tempting to pull and tear, but these gross by-products of cuts are an important part of the healing process. In this book, readers pair the science with the gross to discover just why the body makes and leaks pus. It also explores ways to prevent permanent scarring and the proper way to take care of skin injuries with bandages and other medicine to help the body heal correctly.","English",22.6,16.95,"617.1--dc23","24 pp.",{"$f":"Table1[[#This Row],['# Books]]*Table1[[#This Row],[QTY]]","v":0},{"$f":"Table1[[#This Row],[QTY]]*Table1[[#This Row],[S&L Price]]","v":0}]
[null,42,26,"Your Body at Its Grossest",1,"Spit and Phlegm!","Library Bound Book",null,"978-1-4824-6474-0",2018,"August 2017","Library","7.000 X 7.000","Author","Anthony Capicola",null,null,null,null,"H",null,"Grade 1 - 2","Grade 1 - 3","The human body is pretty gross when it gets sick. The nose gets stuffed up, and some people go through boxes of tissues trying to get it clear. But what is all that stuff in the ears, nose, and throat anyway? It’s phlegm! This sometimes gross and always fascinating book explores why our bodies make spit and phlegm through colorful photographs and insightful explanations of bodily functions. Readers will discover the science behind the gross—studying why we need saliva to eat and phlegm to protect ourselves from bacteria and illness.","English",22.6,16.95,"612.3’13--dc23","24 pp.",{"$f":"Table1[[#This Row],['# Books]]*Table1[[#This Row],[QTY]]","v":0},{"$f":"Table1[[#This Row],[QTY]]*Table1[[#This Row],[S&L Price]]","v":0}]
[null,42,26,"Your Body at Its Grossest",1,"Spit and Phlegm!","eBook",null,"978-1-4824-6475-7",2018,"August 2017",null,null,"Author","Anthony Capicola",null,null,null,null,"H",null,"Grade 1 - 2","Grade 1 - 3","The human body is pretty gross when it gets sick. The nose gets stuffed up, and some people go through boxes of tissues trying to get it clear. But what is all that stuff in the ears, nose, and throat anyway? It’s phlegm! This sometimes gross and always fascinating book explores why our bodies make spit and phlegm through colorful photographs and insightful explanations of bodily functions. Readers will discover the science behind the gross—studying why we need saliva to eat and phlegm to protect ourselves from bacteria and illness.","English",22.6,16.95,"612.3’13--dc23","24 pp.",{"$f":"Table1[[#This Row],['# Books]]*Table1[[#This Row],[QTY]]","v":0},{"$f":"Table1[[#This Row],[QTY]]*Table1[[#This Row],[S&L Price]]","v":0}]
[null,42,26,"Your Body at Its Grossest",1,"Sweat!","Library Bound Book",null,"978-1-4824-6478-8",2018,"August 2017","Library","7.000 X 7.000","Author","Anthony Capicola",null,null,null,null,"H",null,"Grade 1 - 2","Grade 1 - 3","No matter what the temperature is outside, some people just can’t stop sweating. This book explores the how and why of a natural body process that is entirely normal but is still a bit gross. From the sweat bodies expel when they’re exercising to the sweaty palms caused by nerves, readers explore all the ways the body perspires. Through simple but informative explanations to drive home scientific insight in a fun way, readers will love exploring the gross while learning about important body functions.","English",22.6,16.95,"612.7’93--dc23","24 pp.",{"$f":"Table1[[#This Row],['# Books]]*Table1[[#This Row],[QTY]]","v":0},{"$f":"Table1[[#This Row],[QTY]]*Table1[[#This Row],[S&L Price]]","v":0}]
[null,42,26,"Your Body at Its Grossest",1,"Sweat!","eBook",null,"978-1-4824-6479-5",2018,"August 2017",null,null,"Author","Anthony Capicola",null,null,null,null,"H",null,"Grade 1 - 2","Grade 1 - 3","No matter what the temperature is outside, some people just can’t stop sweating. This book explores the how and why of a natural body process that is entirely normal but is still a bit gross. From the sweat bodies expel when they’re exercising to the sweaty palms caused by nerves, readers explore all the ways the body perspires. Through simple but informative explanations to drive home scientific insight in a fun way, readers will love exploring the gross while learning about important body functions.","English",22.6,16.95,"612.7’93--dc23","24 pp.",{"$f":"Table1[[#This Row],['# Books]]*Table1[[#This Row],[QTY]]","v":0},{"$f":"Table1[[#This Row],[QTY]]*Table1[[#This Row],[S&L Price]]","v":0}]
[null,42,26,"Your Body at Its Grossest",1,"Vomit!","Library Bound Book",null,"978-1-4824-6482-5",2018,"August 2017","Library","7.000 X 7.000","Author","Sam Crispin",null,null,null,null,"H",null,"Grade 1 - 2","Grade 1 - 3","No one likes vomit. It smells, it gets everywhere, and it means someone definitely isn’t feeling well. But hidden in all that grossness is a human necessity—if a body is throwing up, it needs to get something out, and fast. This book looks at the how and why of vomit, taking readers through the reasons people spew and what to do when it feels like they need to hurl. With full-color photographs and graphics illustrating the science behind the gross, this book is sure to wow readers curious about bodily functions.","English",22.6,16.95,"616.047--dc23","24 pp.",{"$f":"Table1[[#This Row],['# Books]]*Table1[[#This Row],[QTY]]","v":0},{"$f":"Table1[[#This Row],[QTY]]*Table1[[#This Row],[S&L Price]]","v":0}]
[null,42,26,"Your Body at Its Grossest",1,"Vomit!","eBook",null,"978-1-4824-6483-2",2018,"August 2017",null,null,"Author","Sam Crispin",null,null,null,null,"H",null,"Grade 1 - 2","Grade 1 - 3","No one likes vomit. It smells, it gets everywhere, and it means someone definitely isn’t feeling well. But hidden in all that grossness is a human necessity—if a body is throwing up, it needs to get something out, and fast. This book looks at the how and why of vomit, taking readers through the reasons people spew and what to do when it feels like they need to hurl. With full-color photographs and graphics illustrating the science behind the gross, this book is sure to wow readers curious about bodily functions.","English",22.6,16.95,"616.047--dc23","24 pp.",{"$f":"Table1[[#This Row],['# Books]]*Table1[[#This Row],[QTY]]","v":0},{"$f":"Table1[[#This Row],[QTY]]*Table1[[#This Row],[S&L Price]]","v":0}]
[null,44,27,"Where on Earth? Mapping Parts of the World",6,"Where on Earth? Mapping Parts of the World","Library Set",null,"978-1-5382-0238-8",2018,"August 2017","Library","7.000 X 7.000",null,null,null,null,null,null,null,null,"Grade 1 - 2","Grade 1 - 3","It’s exciting to learn just where you are in the world—literally! Developing an understanding of geography and maps is key to grasping more advanced topics such as cultures, economics, politics, and current events. This series explores the hemispheres, continents, equator, and poles in a unique and exciting way that is perfect for young readers.","English",135.6,101.7,null,"24 pp.",{"$f":"Table1[[#This Row],['# Books]]*Table1[[#This Row],[QTY]]","v":0},{"$f":"Table1[[#This Row],[QTY]]*Table1[[#This Row],[S&L Price]]","v":0}]
[null,44,27,"Where on Earth? Mapping Parts of the World",1,"Earth's Continents","Library Bound Book",null,"978-1-4824-6415-3",2018,"August 2017","Library","7.000 X 7.000","Author","Todd Bluthenthal",null,null,null,null,"H",null,"Grade 1 - 2","Grade 1 - 3","Why do continents matter? From economics to weather science—and everything in between—knowing the characteristics of the continents expands readers’ perspectives in every school subject. This fundamental information is a building block of many future lessons and an essential part of elementary education. This book presents a focused, clear, age-appropriate look at Earth’s continents that young readers are sure to find both informative and interesting. This volume is also packed with colorful maps that are labeled and explained to foster young readers’ comprehension of this important topic.","English",22.6,16.95,"551.41--dc23","24 pp.",{"$f":"Table1[[#This Row],['# Books]]*Table1[[#This Row],[QTY]]","v":0},{"$f":"Table1[[#This Row],[QTY]]*Table1[[#This Row],[S&L Price]]","v":0}]
[null,44,27,"Where on Earth? Mapping Parts of the World",1,"Earth's Continents","eBook",null,"978-1-4824-6416-0",2018,"August 2017",null,null,"Author","Todd Bluthenthal",null,null,null,null,"H",null,"Grade 1 - 2","Grade 1 - 3","Why do continents matter? From economics to weather science—and everything in between—knowing the characteristics of the continents expands readers’ perspectives in every school subject. This fundamental information is a building block of many future lessons and an essential part of elementary education. This book presents a focused, clear, age-appropriate look at Earth’s continents that young readers are sure to find both informative and interesting. This volume is also packed with colorful maps that are labeled and explained to foster young readers’ comprehension of this important topic.","English",22.6,16.95,"551.41--dc23","24 pp.",{"$f":"Table1[[#This Row],['# Books]]*Table1[[#This Row],[QTY]]","v":0},{"$f":"Table1[[#This Row],[QTY]]*Table1[[#This Row],[S&L Price]]","v":0}]
[null,44,27,"Where on Earth? Mapping Parts of the World",1,"Earth's Hemispheres","Library Bound Book",null,"978-1-4824-6419-1",2018,"August 2017","Library","7.000 X 7.000","Author","Todd Bluthenthal",null,null,null,null,"I",null,"Grade 1 - 2","Grade 1 - 3","The division of the Earth into hemispheres isn’t the easiest concept to teach or grasp. It involves geography, spatial awareness, map-reading abilities, and more. This volume makes it easy for any reader to develop a solid comprehension of this critical social studies lesson! Vivid, full-color maps and photographs are integrated with accessible main text to aid young readers’ understanding of this sometimes-tough topic. This essential book is a useful and valuable addition to any library’s collection!","English",22.6,16.95,"526’.61--dc23","24 pp.",{"$f":"Table1[[#This Row],['# Books]]*Table1[[#This Row],[QTY]]","v":0},{"$f":"Table1[[#This Row],[QTY]]*Table1[[#This Row],[S&L Price]]","v":0}]
[null,44,27,"Where on Earth? Mapping Parts of the World",1,"Earth's Hemispheres","eBook",null,"978-1-4824-6420-7",2018,"August 2017",null,null,"Author","Todd Bluthenthal",null,null,null,null,"I",null,"Grade 1 - 2","Grade 1 - 3","The division of the Earth into hemispheres isn’t the easiest concept to teach or grasp. It involves geography, spatial awareness, map-reading abilities, and more. This volume makes it easy for any reader to develop a solid comprehension of this critical social studies lesson! Vivid, full-color maps and photographs are integrated with accessible main text to aid young readers’ understanding of this sometimes-tough topic. This essential book is a useful and valuable addition to any library’s collection!","English",22.6,16.95,"526’.61--dc23","24 pp.",{"$f":"Table1[[#This Row],['# Books]]*Table1[[#This Row],[QTY]]","v":0},{"$f":"Table1[[#This Row],[QTY]]*Table1[[#This Row],[S&L Price]]","v":0}]
[null,44,27,"Where on Earth? Mapping Parts of the World",1,"Making Maps","Library Bound Book",null,"978-1-4824-6427-6",2018,"August 2017","Library","7.000 X 7.000","Author","Todd Bluthenthal",null,null,null,null,"H",null,"Grade 1 - 2","Grade 1 - 3","Is there such a thing as a fun way to develop spatial awareness? Yes—and readers can do so by reading this book! Readers will engage in and expand their understanding of the world around them through a creative, rewarding map-making activity developed with learning and fun in mind! Step-by-step instructions guide them through this rewarding exercise, while a simple history and explanation of cartography allows them to feel a part of something both fascinating and epic.","English",22.6,16.95,"526--dc23","24 pp.",{"$f":"Table1[[#This Row],['# Books]]*Table1[[#This Row],[QTY]]","v":0},{"$f":"Table1[[#This Row],[QTY]]*Table1[[#This Row],[S&L Price]]","v":0}]
[null,44,27,"Where on Earth? Mapping Parts of the World",1,"Making Maps","eBook",null,"978-1-4824-6428-3",2018,"August 2017",null,null,"Author","Todd Bluthenthal",null,null,null,null,"H",null,"Grade 1 - 2","Grade 1 - 3","Is there such a thing as a fun way to develop spatial awareness? Yes—and readers can do so by reading this book! Readers will engage in and expand their understanding of the world around them through a creative, rewarding map-making activity developed with learning and fun in mind! Step-by-step instructions guide them through this rewarding exercise, while a simple history and explanation of cartography allows them to feel a part of something both fascinating and epic.","English",22.6,16.95,"526--dc23","24 pp.",{"$f":"Table1[[#This Row],['# Books]]*Table1[[#This Row],[QTY]]","v":0},{"$f":"Table1[[#This Row],[QTY]]*Table1[[#This Row],[S&L Price]]","v":0}]
[null,44,27,"Where on Earth? Mapping Parts of the World",1,"The Equator","Library Bound Book",null,"978-1-4824-6423-8",2018,"August 2017","Library","7.000 X 7.000","Author","Todd Bluthenthal",null,null,null,null,"I",null,"Grade 1 - 2","Grade 1 - 3","“The Earth is wearing a belt” is an age-old visual device teachers have used to explain the equator. In this volume, young readers will expand their comprehension of this important concept. With an understanding of the equator comes a grasping of the rotation of the Earth, climate, weather, and many other age-appropriate science concepts. Clean, accessible art on every spread—including diagrams, maps, and full-color photographs—help readers grasp these curriculum topics. That important main line of latitude we call the equator is made familiar through clean text and graphics in a way that every elementary reader is sure to understand!","English",22.6,16.95,"526’.6--dc23","24 pp.",{"$f":"Table1[[#This Row],['# Books]]*Table1[[#This Row],[QTY]]","v":0},{"$f":"Table1[[#This Row],[QTY]]*Table1[[#This Row],[S&L Price]]","v":0}]
[null,44,27,"Where on Earth? Mapping Parts of the World",1,"The Equator","eBook",null,"978-1-4824-6424-5",2018,"August 2017",null,null,"Author","Todd Bluthenthal",null,null,null,null,"I",null,"Grade 1 - 2","Grade 1 - 3","“The Earth is wearing a belt” is an age-old visual device teachers have used to explain the equator. In this volume, young readers will expand their comprehension of this important concept. With an understanding of the equator comes a grasping of the rotation of the Earth, climate, weather, and many other age-appropriate science concepts. Clean, accessible art on every spread—including diagrams, maps, and full-color photographs—help readers grasp these curriculum topics. That important main line of latitude we call the equator is made familiar through clean text and graphics in a way that every elementary reader is sure to understand!","English",22.6,16.95,"526’.6--dc23","24 pp.",{"$f":"Table1[[#This Row],['# Books]]*Table1[[#This Row],[QTY]]","v":0},{"$f":"Table1[[#This Row],[QTY]]*Table1[[#This Row],[S&L Price]]","v":0}]
[null,44,27,"Where on Earth? Mapping Parts of the World",1,"The North Pole","Library Bound Book",null,"978-1-4824-6431-3",2018,"August 2017","Library","7.000 X 7.000","Author","Todd Bluthenthal",null,null,null,null,"H",null,"Grade 1 - 2","Grade 1 - 3","Many young readers think of the North Pole as the place where Santa Claus lives with his wife, reindeer, and elves. The North Pole presents the geography and science of this polar region to young readers in an age-appropriate way. The clear language and easy-to-read, colorful maps and photographs of the North Pole will engage and expand any young reader’s grasp on the concepts of continents, climate, Earth’s rotation, and more! The fascinating history of the remarkable explorers of this frigid landscape is also included in the main text, introducing a part of history that’s sure to inspire!","English",22.6,16.95,"971.9--dc23","24 pp.",{"$f":"Table1[[#This Row],['# Books]]*Table1[[#This Row],[QTY]]","v":0},{"$f":"Table1[[#This Row],[QTY]]*Table1[[#This Row],[S&L Price]]","v":0}]
[null,44,27,"Where on Earth? Mapping Parts of the World",1,"The North Pole","eBook",null,"978-1-4824-6432-0",2018,"August 2017",null,null,"Author","Todd Bluthenthal",null,null,null,null,"H",null,"Grade 1 - 2","Grade 1 - 3","Many young readers think of the North Pole as the place where Santa Claus lives with his wife, reindeer, and elves. The North Pole presents the geography and science of this polar region to young readers in an age-appropriate way. The clear language and easy-to-read, colorful maps and photographs of the North Pole will engage and expand any young reader’s grasp on the concepts of continents, climate, Earth’s rotation, and more! The fascinating history of the remarkable explorers of this frigid landscape is also included in the main text, introducing a part of history that’s sure to inspire!","English",22.6,16.95,"971.9--dc23","24 pp.",{"$f":"Table1[[#This Row],['# Books]]*Table1[[#This Row],[QTY]]","v":0},{"$f":"Table1[[#This Row],[QTY]]*Table1[[#This Row],[S&L Price]]","v":0}]
[null,44,27,"Where on Earth? Mapping Parts of the World",1,"The South Pole","Library Bound Book",null,"978-1-4824-6435-1",2018,"August 2017","Library","7.000 X 7.000","Author","Todd Bluthenthal",null,null,null,null,"H",null,"Grade 1 - 2","Grade 1 - 3","The South Pole is cold, but there’s more to it than that! This book presents the cartography and earth science of this polar region to young readers in an engaging yet informative way. Several spreads are dedicated to the fascinating history of the brave explorers of this icy landscape, a part of history that is sure to impress all elementary readers! The colorful, easily understood maps and vivid photographs of the South Pole will expand reader’s grasp on the concepts of poles, continents, climate, Earth’s rotation, and so much more!","English",22.6,16.95,"919.89--dc23","24 pp.",{"$f":"Table1[[#This Row],['# Books]]*Table1[[#This Row],[QTY]]","v":0},{"$f":"Table1[[#This Row],[QTY]]*Table1[[#This Row],[S&L Price]]","v":0}]
[null,44,27,"Where on Earth? Mapping Parts of the World",1,"The South Pole","eBook",null,"978-1-4824-6436-8",2018,"August 2017",null,null,"Author","Todd Bluthenthal",null,null,null,null,"H",null,"Grade 1 - 2","Grade 1 - 3","The South Pole is cold, but there’s more to it than that! This book presents the cartography and earth science of this polar region to young readers in an engaging yet informative way. Several spreads are dedicated to the fascinating history of the brave explorers of this icy landscape, a part of history that is sure to impress all elementary readers! The colorful, easily understood maps and vivid photographs of the South Pole will expand reader’s grasp on the concepts of poles, continents, climate, Earth’s rotation, and so much more!","English",22.6,16.95,"919.89--dc23","24 pp.",{"$f":"Table1[[#This Row],['# Books]]*Table1[[#This Row],[QTY]]","v":0},{"$f":"Table1[[#This Row],[QTY]]*Table1[[#This Row],[S&L Price]]","v":0}]
[null,60,28,"A Look at Earth's Rocks",6,"A Look at Earth's Rocks","Library Set",null,"978-1-4824-6281-4",2018,"August 2017","Library","6.500 X 9.125",null,null,null,null,null,null,null,null,"Grade 2","Grade 3 - 6","One of the central concepts of Earth science is the rock cycle. But in order to understand that, readers need to know all about igneous, metamorphic, and sedimentary rocks—as well as erosion! This series offers exactly the introduction many readers need. The main content is written in clear, accessible language, making each volume an asset to readers in need of help or those looking for a concise overview of the topic. Fact boxes add simple explanations of key terms and ideas.","English",159.6,119.7,null,"32 pp.",{"$f":"Table1[[#This Row],['# Books]]*Table1[[#This Row],[QTY]]","v":0},{"$f":"Table1[[#This Row],[QTY]]*Table1[[#This Row],[S&L Price]]","v":0}]
[null,60,28,"A Look at Earth's Rocks",1,"What Are Igneous Rocks?","Library Bound Book",null,"978-1-4824-6254-8",2018,"August 2017","Library","6.500 X 9.125","Author","Kristen Rajczak Nelson",null,null,null,null,"K",null,"Grade 2","Grade 3 - 6","Igneous rocks are often portrayed as the result of one of Earth’s most exciting events—a volcanic eruption. While some may form that way, igneous rock on Earth can form much more quietly, and even underground. This volume presents readers with all the ways igneous rock can form, as well as the names and full-color photographs of some of the most common types. Written to be a simple but thorough review of the topic, the main content is suited to readers of all levels.","English",26.6,19.95,"552’.1--dc23","32 pp.",{"$f":"Table1[[#This Row],['# Books]]*Table1[[#This Row],[QTY]]","v":0},{"$f":"Table1[[#This Row],[QTY]]*Table1[[#This Row],[S&L Price]]","v":0}]
[null,60,28,"A Look at Earth's Rocks",1,"What Are Igneous Rocks?","eBook",null,"978-1-4824-6251-7",2018,"August 2017",null,null,"Author","Kristen Rajczak Nelson",null,null,null,null,"K",null,"Grade 2","Grade 3 - 6","Igneous rocks are often portrayed as the result of one of Earth’s most exciting events—a volcanic eruption. While some may form that way, igneous rock on Earth can form much more quietly, and even underground. This volume presents readers with all the ways igneous rock can form, as well as the names and full-color photographs of some of the most common types. Written to be a simple but thorough review of the topic, the main content is suited to readers of all levels.","English",26.6,19.95,"552’.1--dc23","32 pp.",{"$f":"Table1[[#This Row],['# Books]]*Table1[[#This Row],[QTY]]","v":0},{"$f":"Table1[[#This Row],[QTY]]*Table1[[#This Row],[S&L Price]]","v":0}]
[null,60,28,"A Look at Earth's Rocks",1,"What Are Metamorphic Rocks?","Library Bound Book",null,"978-1-4824-6249-4",2018,"August 2017","Library","6.500 X 9.125","Author","Kristen Rajczak Nelson",null,null,null,null,"K",null,"Grade 2","Grade 3 - 6","Within the rock cycle, the formation of metamorphic rock can be the most confusing. It’s not only formed from existing rock, but also can be formed in a few different ways. Readers learn the basics of metamorphic rock, including how to tell the difference between foliated and non-foliated varieties. The main content addresses key points of the Earth science curriculum using accessible language and brief, clear explanations, which make this book helpful to struggling readers or those just looking for a review.","English",26.6,19.95,"552/.4--dc23","32 pp.",{"$f":"Table1[[#This Row],['# Books]]*Table1[[#This Row],[QTY]]","v":0},{"$f":"Table1[[#This Row],[QTY]]*Table1[[#This Row],[S&L Price]]","v":0}]
[null,60,28,"A Look at Earth's Rocks",1,"What Are Metamorphic Rocks?","eBook",null,"978-1-4824-6247-0",2018,"August 2017",null,null,"Author","Kristen Rajczak Nelson",null,null,null,null,"K",null,"Grade 2","Grade 3 - 6","Within the rock cycle, the formation of metamorphic rock can be the most confusing. It’s not only formed from existing rock, but also can be formed in a few different ways. Readers learn the basics of metamorphic rock, including how to tell the difference between foliated and non-foliated varieties. The main content addresses key points of the Earth science curriculum using accessible language and brief, clear explanations, which make this book helpful to struggling readers or those just looking for a review.","English",26.6,19.95,"552/.4--dc23","32 pp.",{"$f":"Table1[[#This Row],['# Books]]*Table1[[#This Row],[QTY]]","v":0},{"$f":"Table1[[#This Row],[QTY]]*Table1[[#This Row],[S&L Price]]","v":0}]
[null,60,28,"A Look at Earth's Rocks",1,"What Are Minerals?","Library Bound Book",null,"978-1-4824-6244-9",2018,"August 2017","Library","6.500 X 9.125","Author","Kristen Rajczak Nelson",null,null,null,null,"K",null,"Grade 2","Grade 3 - 6","Minerals are an essential part of the Earth science curriculum since silicate minerals make up more than 90 percent of Earth’s crust! In order to understand this fact, though, students need to know the difference between minerals and rocks, how minerals form, and how minerals are structured. This book breaks down these topics and more in simple, clear language ideal for struggling readers or those looking to review an important topic. Fact boxes elaborate on difficult concepts and define scientific terms, complementing the main content’s curriculum focus and full-color photographs of common minerals.","English",26.6,19.95,"549--dc23","32 pp.",{"$f":"Table1[[#This Row],['# Books]]*Table1[[#This Row],[QTY]]","v":0},{"$f":"Table1[[#This Row],[QTY]]*Table1[[#This Row],[S&L Price]]","v":0}]
[null,60,28,"A Look at Earth's Rocks",1,"What Are Minerals?","eBook",null,"978-1-4824-6243-2",2018,"August 2017",null,null,"Author","Kristen Rajczak Nelson",null,null,null,null,"K",null,"Grade 2","Grade 3 - 6","Minerals are an essential part of the Earth science curriculum since silicate minerals make up more than 90 percent of Earth’s crust! In order to understand this fact, though, students need to know the difference between minerals and rocks, how minerals form, and how minerals are structured. This book breaks down these topics and more in simple, clear language ideal for struggling readers or those looking to review an important topic. Fact boxes elaborate on difficult concepts and define scientific terms, complementing the main content’s curriculum focus and full-color photographs of common minerals.","English",26.6,19.95,"549--dc23","32 pp.",{"$f":"Table1[[#This Row],['# Books]]*Table1[[#This Row],[QTY]]","v":0},{"$f":"Table1[[#This Row],[QTY]]*Table1[[#This Row],[S&L Price]]","v":0}]
[null,60,28,"A Look at Earth's Rocks",1,"What Are Sedimentary Rocks?","Library Bound Book",null,"978-1-4824-6240-1",2018,"August 2017","Library","6.500 X 9.125","Author","Frances Nagle",null,null,null,null,"K",null,"Grade 2","Grade 3 - 6","One of the primary areas in the Earth science curriculum is learning about the rocks that make up Earth’s crust. However, remembering each type and how it forms may be a challenge for some. This volume presents readers with a simple but full overview of the formation of sedimentary rock. Full-color photographs display common types of sedimentary rock, including sandstone, shale, and breccia. Including explanations of key terms such as sediment and stratification, the main content and fact boxes will greatly complement classroom learning for readers of all levels.","English",26.6,19.95,"552.5--dc23","32 pp.",{"$f":"Table1[[#This Row],['# Books]]*Table1[[#This Row],[QTY]]","v":0},{"$f":"Table1[[#This Row],[QTY]]*Table1[[#This Row],[S&L Price]]","v":0}]
[null,60,28,"A Look at Earth's Rocks",1,"What Are Sedimentary Rocks?","eBook",null,"978-1-4824-6239-5",2018,"August 2017",null,null,"Author","Frances Nagle",null,null,null,null,"K",null,"Grade 2","Grade 3 - 6","One of the primary areas in the Earth science curriculum is learning about the rocks that make up Earth’s crust. However, remembering each type and how it forms may be a challenge for some. This volume presents readers with a simple but full overview of the formation of sedimentary rock. Full-color photographs display common types of sedimentary rock, including sandstone, shale, and breccia. Including explanations of key terms such as sediment and stratification, the main content and fact boxes will greatly complement classroom learning for readers of all levels.","English",26.6,19.95,"552.5--dc23","32 pp.",{"$f":"Table1[[#This Row],['# Books]]*Table1[[#This Row],[QTY]]","v":0},{"$f":"Table1[[#This Row],[QTY]]*Table1[[#This Row],[S&L Price]]","v":0}]
[null,60,28,"A Look at Earth's Rocks",1,"What Is Erosion?","Library Bound Book",null,"978-1-4824-6017-9",2018,"August 2017","Library","6.500 X 9.125","Author","Frances Nagle",null,null,null,null,"K",null,"Grade 2","Grade 3 - 6","Erosion has shaped the landscape all over the world. It occurs in small ways every day as wind and water move soil, rock, and other materials from place to place. Readers learn the specifics of how erosion happens and its place in the rock cycle. Full-color photographs showcase the amazing results of erosion from around the world, including waterfalls, canyons, and coastlines. Readers of all levels can use this volume to review or better understand a key area of Earth science through accessible language and simple definitions and explanations.","English",26.6,19.95,"551.3/02--dc23","32 pp.",{"$f":"Table1[[#This Row],['# Books]]*Table1[[#This Row],[QTY]]","v":0},{"$f":"Table1[[#This Row],[QTY]]*Table1[[#This Row],[S&L Price]]","v":0}]
[null,60,28,"A Look at Earth's Rocks",1,"What Is Erosion?","eBook",null,"978-1-4824-6018-6",2018,"August 2017",null,null,"Author","Frances Nagle",null,null,null,null,"K",null,"Grade 2","Grade 3 - 6","Erosion has shaped the landscape all over the world. It occurs in small ways every day as wind and water move soil, rock, and other materials from place to place. Readers learn the specifics of how erosion happens and its place in the rock cycle. Full-color photographs showcase the amazing results of erosion from around the world, including waterfalls, canyons, and coastlines. Readers of all levels can use this volume to review or better understand a key area of Earth science through accessible language and simple definitions and explanations.","English",26.6,19.95,"551.3/02--dc23","32 pp.",{"$f":"Table1[[#This Row],['# Books]]*Table1[[#This Row],[QTY]]","v":0},{"$f":"Table1[[#This Row],[QTY]]*Table1[[#This Row],[S&L Price]]","v":0}]
[null,60,28,"A Look at Earth's Rocks",1,"What Is the Rock Cycle?","Library Bound Book",null,"978-1-4824-6021-6",2018,"August 2017","Library","6.500 X 9.125","Author","Frances Nagle",null,null,null,null,"K",null,"Grade 2","Grade 3 - 6","The science curriculum is full of processes that students need to understand and they can seem complicated when taken as a whole. This volume breaks down the rock cycle step by step, including brief explanations of the three kinds of rocks, erosion, and many key terms. Clear language and simple sentences present the information in an accessible way for readers of all levels. Complete with full-color photographs and a diagram showing the whole process, this book complements classroom learning and offers a great resource for readers in need of review.","English",26.6,19.95,"552--dc23","32 pp.",{"$f":"Table1[[#This Row],['# Books]]*Table1[[#This Row],[QTY]]","v":0},{"$f":"Table1[[#This Row],[QTY]]*Table1[[#This Row],[S&L Price]]","v":0}]
[null,60,28,"A Look at Earth's Rocks",1,"What Is the Rock Cycle?","eBook",null,"978-1-4824-6022-3",2018,"August 2017",null,null,"Author","Frances Nagle",null,null,null,null,"K",null,"Grade 2","Grade 3 - 6","The science curriculum is full of processes that students need to understand and they can seem complicated when taken as a whole. This volume breaks down the rock cycle step by step, including brief explanations of the three kinds of rocks, erosion, and many key terms. Clear language and simple sentences present the information in an accessible way for readers of all levels. Complete with full-color photographs and a diagram showing the whole process, this book complements classroom learning and offers a great resource for readers in need of review.","English",26.6,19.95,"552--dc23","32 pp.",{"$f":"Table1[[#This Row],['# Books]]*Table1[[#This Row],[QTY]]","v":0},{"$f":"Table1[[#This Row],[QTY]]*Table1[[#This Row],[S&L Price]]","v":0}]
[null,null,29,"A Look at Life Cycles",6,"A Look at Life Cycles","Library Set",null,"978-1-5382-1277-6",2018,"January 2018","Library","6.500 X 9.125",null,null,null,null,null,null,null,null,"Grade 2","Grade 3 - 6","The circle of life is constantly turning. Within the animal kingdom, there are egg layers and those that give birth to live young. Mammal families tend to stay together; fish families don't. Because of the many differences, animal life cycles can be both interesting and confusing to learn about. This series offers a clear overview of the typical life cycles of amphibians, birds, fish, insects, mammals, and reptiles. Its accessible language and science curriculum content makes it perfect for both struggling readers and those looking to review the topic.","English",159.6,119.7,null,"32 pp.",{"$f":"Table1[[#This Row],['# Books]]*Table1[[#This Row],[QTY]]","v":0},{"$f":"Table1[[#This Row],[QTY]]*Table1[[#This Row],[S&L Price]]","v":0}]
[null,null,29,"A Look at Life Cycles",1,"Amphibian Life Cycles","Library Bound Book",null,"978-1-5382-1033-8",2018,"January 2018","Library","6.500 X 9.125","Author","Bray Jacobson",null,null,null,null,"I",null,"Grade 2","Grade 3 - 6","Amphibians have some of the most interesting life cycles on Earth. The metamorphosis frogs, toads, salamanders, newts, and caecilians go through has many steps that readers need to understand and remember. This book offers a concise overview of the general amphibian life cycle as well as representative examples of the many species within the animal group. Most importantly, the accessible language is paired with diagrams of the steps of the life cycle to augment readers’ understanding of this topic often found in the science curriculum.","English",26.6,19.95,"597.8'9--dc23","32 pp.",{"$f":"Table1[[#This Row],['# Books]]*Table1[[#This Row],[QTY]]","v":0},{"$f":"Table1[[#This Row],[QTY]]*Table1[[#This Row],[S&L Price]]","v":0}]
[null,null,29,"A Look at Life Cycles",1,"Amphibian Life Cycles","eBook",null,"978-1-5382-1034-5",2018,"January 2018",null,null,"Author","Bray Jacobson",null,null,null,null,"I",null,"Grade 2","Grade 3 - 6","Amphibians have some of the most interesting life cycles on Earth. The metamorphosis frogs, toads, salamanders, newts, and caecilians go through has many steps that readers need to understand and remember. This book offers a concise overview of the general amphibian life cycle as well as representative examples of the many species within the animal group. Most importantly, the accessible language is paired with diagrams of the steps of the life cycle to augment readers’ understanding of this topic often found in the science curriculum.","English",26.6,19.95,"597.8'9--dc23","32 pp.",{"$f":"Table1[[#This Row],['# Books]]*Table1[[#This Row],[QTY]]","v":0},{"$f":"Table1[[#This Row],[QTY]]*Table1[[#This Row],[S&L Price]]","v":0}]
[null,null,29,"A Look at Life Cycles",1,"Bird Life Cycles","Library Bound Book",null,"978-1-5382-1038-3",2018,"January 2018","Library","6.500 X 9.125","Author","Bray Jacobson",null,null,null,null,"I",null,"Grade 2","Grade 3 - 6","All birds lay eggs, but the size, shape, and colors are very different. Do these differences change the bird life cycle? Readers learn about the general life cycle of a bird from when the egg is laid to the different life-spans of various types of birds. Written specifically for students in need of review or extra help, this book gives a concise overview of a topic commonly included in science curricula. Alongside the main content’s simple explanations, colorful diagrams provide readers another way to learn about bird life cycles.","English",26.6,19.95,"598.156--dc23","32 pp.",{"$f":"Table1[[#This Row],['# Books]]*Table1[[#This Row],[QTY]]","v":0},{"$f":"Table1[[#This Row],[QTY]]*Table1[[#This Row],[S&L Price]]","v":0}]
[null,null,29,"A Look at Life Cycles",1,"Bird Life Cycles","eBook",null,"978-1-5382-1039-0",2018,"January 2018",null,null,"Author","Bray Jacobson",null,null,null,null,"I",null,"Grade 2","Grade 3 - 6","All birds lay eggs, but the size, shape, and colors are very different. Do these differences change the bird life cycle? Readers learn about the general life cycle of a bird from when the egg is laid to the different life-spans of various types of birds. Written specifically for students in need of review or extra help, this book gives a concise overview of a topic commonly included in science curricula. Alongside the main content’s simple explanations, colorful diagrams provide readers another way to learn about bird life cycles.","English",26.6,19.95,"598.156--dc23","32 pp.",{"$f":"Table1[[#This Row],['# Books]]*Table1[[#This Row],[QTY]]","v":0},{"$f":"Table1[[#This Row],[QTY]]*Table1[[#This Row],[S&L Price]]","v":0}]
[null,null,29,"A Look at Life Cycles",1,"Fish Life Cycles","Library Bound Book",null,"978-1-5382-1042-0",2018,"January 2018","Library","6.500 X 9.125","Author","Bray Jacobson",null,null,null,null,"I",null,"Grade 2","Grade 3 - 6","From the candiru to the lionfish, there are so many kinds of fish on Earth. While all have different methods of production, the basic life cycle is the same, from egg to spawning swimmers. Readers are introduced to this general cycle as well as the important vocabulary needed to talk about it, such as “fry” and “spawning.” Accessible language and simple diagrams throughout the book provide a way for struggling readers to tackle science curriculum content.","English",26.6,19.95,"597.156--dc23","32 pp.",{"$f":"Table1[[#This Row],['# Books]]*Table1[[#This Row],[QTY]]","v":0},{"$f":"Table1[[#This Row],[QTY]]*Table1[[#This Row],[S&L Price]]","v":0}]
[null,null,29,"A Look at Life Cycles",1,"Fish Life Cycles","eBook",null,"978-1-5382-1043-7",2018,"January 2018",null,null,"Author","Bray Jacobson",null,null,null,null,"I",null,"Grade 2","Grade 3 - 6","From the candiru to the lionfish, there are so many kinds of fish on Earth. While all have different methods of production, the basic life cycle is the same, from egg to spawning swimmers. Readers are introduced to this general cycle as well as the important vocabulary needed to talk about it, such as “fry” and “spawning.” Accessible language and simple diagrams throughout the book provide a way for struggling readers to tackle science curriculum content.","English",26.6,19.95,"597.156--dc23","32 pp.",{"$f":"Table1[[#This Row],['# Books]]*Table1[[#This Row],[QTY]]","v":0},{"$f":"Table1[[#This Row],[QTY]]*Table1[[#This Row],[S&L Price]]","v":0}]
[null,null,29,"A Look at Life Cycles",1,"Insect Life Cycles","Library Bound Book",null,"978-1-5382-1046-8",2018,"January 2018","Library","6.500 X 9.125","Author","Bray Jacobson",null,null,null,null,"I",null,"Grade 2","Grade 3 - 6","Many insects hatch from eggs and molt several times as they grow bigger. Others, such as butterflies, undergo a complete metamorphosis. A common science curriculum topic, insect life cycles may be confusing because of these differences. However, this book breaks down these cycles into easy-to-understand steps in both accessible language and colorful diagrams readers can turn to for review again and again. The most important vocabulary needed to talk about insect life cycles is further explained in fact boxes and an extended glossary.","English",26.6,19.95,"595.7156--dc23","32 pp.",{"$f":"Table1[[#This Row],['# Books]]*Table1[[#This Row],[QTY]]","v":0},{"$f":"Table1[[#This Row],[QTY]]*Table1[[#This Row],[S&L Price]]","v":0}]
[null,null,29,"A Look at Life Cycles",1,"Insect Life Cycles","eBook",null,"978-1-5382-1047-5",2018,"January 2018",null,null,"Author","Bray Jacobson",null,null,null,null,"I",null,"Grade 2","Grade 3 - 6","Many insects hatch from eggs and molt several times as they grow bigger. Others, such as butterflies, undergo a complete metamorphosis. A common science curriculum topic, insect life cycles may be confusing because of these differences. However, this book breaks down these cycles into easy-to-understand steps in both accessible language and colorful diagrams readers can turn to for review again and again. The most important vocabulary needed to talk about insect life cycles is further explained in fact boxes and an extended glossary.","English",26.6,19.95,"595.7156--dc23","32 pp.",{"$f":"Table1[[#This Row],['# Books]]*Table1[[#This Row],[QTY]]","v":0},{"$f":"Table1[[#This Row],[QTY]]*Table1[[#This Row],[S&L Price]]","v":0}]
[null,null,29,"A Look at Life Cycles",1,"Mammal Life Cycles","Library Bound Book",null,"978-1-5382-1050-5",2018,"January 2018","Library","6.500 X 9.125","Author","Bray Jacobson",null,null,null,null,"I",null,"Grade 2","Grade 3 - 6","Mammals are a very diverse group. From whales and dolphins that give birth in the water to platypuses that lay eggs, these life cycles can often seem very different. However, they’re very similar. Readers learn the basic structure of the mammal life cycle through simple language and accompanying diagrams that show the cycle step by step. The main content offers a way for struggling readers to more easily learn an important science curriculum topic, but can also be a great review tool for any reader.","English",26.6,19.95,"599.156--dc23","32 pp.",{"$f":"Table1[[#This Row],['# Books]]*Table1[[#This Row],[QTY]]","v":0},{"$f":"Table1[[#This Row],[QTY]]*Table1[[#This Row],[S&L Price]]","v":0}]
[null,null,29,"A Look at Life Cycles",1,"Mammal Life Cycles","eBook",null,"978-1-5382-1051-2",2018,"January 2018",null,null,"Author","Bray Jacobson",null,null,null,null,"I",null,"Grade 2","Grade 3 - 6","Mammals are a very diverse group. From whales and dolphins that give birth in the water to platypuses that lay eggs, these life cycles can often seem very different. However, they’re very similar. Readers learn the basic structure of the mammal life cycle through simple language and accompanying diagrams that show the cycle step by step. The main content offers a way for struggling readers to more easily learn an important science curriculum topic, but can also be a great review tool for any reader.","English",26.6,19.95,"599.156--dc23","32 pp.",{"$f":"Table1[[#This Row],['# Books]]*Table1[[#This Row],[QTY]]","v":0},{"$f":"Table1[[#This Row],[QTY]]*Table1[[#This Row],[S&L Price]]","v":0}]
[null,null,29,"A Look at Life Cycles",1,"Reptile Life Cycles","Library Bound Book",null,"978-1-5382-1054-3",2018,"January 2018","Library","6.500 X 9.125","Author","Bray Jacobson",null,null,null,null,"I",null,"Grade 2","Grade 3 - 6","Some reptiles lay eggs and some give birth to live young. In this book, readers learn about the reptile life cycle beginning in both ways. The main content gives a simple overview of the steps included in the reptile life cycle accompanied by helpful diagrams to aid readers’ understanding of this common science curriculum topic. Written with struggling readers in mind, this volume gives explanations in accessible language, which also makes it an excellent source for any reader to review the topic.","English",26.6,19.95,"597.9'156--dc23","32 pp.",{"$f":"Table1[[#This Row],['# Books]]*Table1[[#This Row],[QTY]]","v":0},{"$f":"Table1[[#This Row],[QTY]]*Table1[[#This Row],[S&L Price]]","v":0}]
[null,null,29,"A Look at Life Cycles",1,"Reptile Life Cycles","eBook",null,"978-1-5382-1055-0",2018,"January 2018",null,null,"Author","Bray Jacobson",null,null,null,null,"I",null,"Grade 2","Grade 3 - 6","Some reptiles lay eggs and some give birth to live young. In this book, readers learn about the reptile life cycle beginning in both ways. The main content gives a simple overview of the steps included in the reptile life cycle accompanied by helpful diagrams to aid readers’ understanding of this common science curriculum topic. Written with struggling readers in mind, this volume gives explanations in accessible language, which also makes it an excellent source for any reader to review the topic.","English",26.6,19.95,"597.9'156--dc23","32 pp.",{"$f":"Table1[[#This Row],['# Books]]*Table1[[#This Row],[QTY]]","v":0},{"$f":"Table1[[#This Row],[QTY]]*Table1[[#This Row],[S&L Price]]","v":0}]
[null,null,29,"A Look at Physical Science",6,"A Look at Physical Science","Library Set",null,"978-1-5382-2173-0",2019,"August 2018","Library","6.500 X 9.125"," "," ",null,null,null,null,null,null,"Grade 2","Grade 3 - 6","Comprehending how magnetism, electricity, and forces work is tough enough without having reading struggles. This series tackles key topics found in the physical science curriculum in easy-to-understand language for students in need of help reading, processing the ideas, or a good resource to review what they've learned. Each volume follows the Next Generation Science Standards in order to cover just what students will encounter in the classroom. Diagrams and other graphic organizers aid in explaining the topic of each book, including light and color, sound, and heat. Features include: Provides readers a resource to turn to when preparing for a test or struggling through a brand-new physical science topic. Written with the progression of knowledge in mind, starting with simpler ideas and building upon them as readers would in the classroom. Offers an expanded glossary of important vocabulary terms vital to the topic area.","English",159.6,119.7,null,"32 pp.",{"$f":"Table1[[#This Row],['# Books]]*Table1[[#This Row],[QTY]]","v":0},{"$f":"Table1[[#This Row],[QTY]]*Table1[[#This Row],[S&L Price]]","v":0}]
[null,null,29,"A Look at Physical Science",1,"Electricity","Library Bound Book",null,"978-1-5382-2139-6",2019,"August 2018","Library","6.500 X 9.125","Author","Kathleen Connors",null,null,null,null,"J",null,"Grade 2","Grade 3 - 6","As technology improves, scientists find more and more ways to create electricity. Kids might wonder what exactly electricity is, which is a great question since it's part of the science curriculum. This volume covers everything readers need to know to master the topic of electricity. Diagrams and fact boxes help explain the most complex parts of the main text, and an extended glossary familiarizes readers with the vocabulary needed to talk about the topic in science class. This volume offers struggling readers an accessible overview of electricity and students in need of a review a chance to revisit key points.","English",26.6,19.95,"537--dc23","32 pp.",{"$f":"Table1[[#This Row],['# Books]]*Table1[[#This Row],[QTY]]","v":0},{"$f":"Table1[[#This Row],[QTY]]*Table1[[#This Row],[S&L Price]]","v":0}]
[null,null,29,"A Look at Physical Science",1,"Electricity","eBook",null,"978-1-5382-2140-2",2019,"August 2018",null,null,"Author","Kathleen Connors",null,null,null,null,"J",null,"Grade 2","Grade 3 - 6","As technology improves, scientists find more and more ways to create electricity. Kids might wonder what exactly electricity is, which is a great question since it's part of the science curriculum. This volume covers everything readers need to know to master the topic of electricity. Diagrams and fact boxes help explain the most complex parts of the main text, and an extended glossary familiarizes readers with the vocabulary needed to talk about the topic in science class. This volume offers struggling readers an accessible overview of electricity and students in need of a review a chance to revisit key points.","English",26.6,19.95,"537--dc23","32 pp.",{"$f":"Table1[[#This Row],['# Books]]*Table1[[#This Row],[QTY]]","v":0},{"$f":"Table1[[#This Row],[QTY]]*Table1[[#This Row],[S&L Price]]","v":0}]
[null,null,29,"A Look at Physical Science",1,"Forces and Motion","Library Bound Book",null,"978-1-5382-2143-3",2019,"August 2018","Library","6.500 X 9.125","Author","Kathleen Connors",null,null,null,null,"J",null,"Grade 2","Grade 3 - 6","Newton's laws aren't the easiest science topics to digest. Struggling readers likely find understanding them even harder. This volume breaks down the topics of force and motion to its most basic and understandable parts, perfect to introduce to readers having a hard time or students looking to review for class. Written in succinct language, each chapter contains fact boxes and graphic organizers to aid all readers as they move from speed, to velocity and on.","English",26.6,19.95,"531'.6--dc23","32 pp.",{"$f":"Table1[[#This Row],['# Books]]*Table1[[#This Row],[QTY]]","v":0},{"$f":"Table1[[#This Row],[QTY]]*Table1[[#This Row],[S&L Price]]","v":0}]
[null,null,29,"A Look at Physical Science",1,"Forces and Motion","eBook",null,"978-1-5382-2144-0",2019,"August 2018",null,null,"Author","Kathleen Connors",null,null,null,null,"J",null,"Grade 2","Grade 3 - 6","Newton's laws aren't the easiest science topics to digest. Struggling readers likely find understanding them even harder. This volume breaks down the topics of force and motion to its most basic and understandable parts, perfect to introduce to readers having a hard time or students looking to review for class. Written in succinct language, each chapter contains fact boxes and graphic organizers to aid all readers as they move from speed, to velocity and on.","English",26.6,19.95,"531'.6--dc23","32 pp.",{"$f":"Table1[[#This Row],['# Books]]*Table1[[#This Row],[QTY]]","v":0},{"$f":"Table1[[#This Row],[QTY]]*Table1[[#This Row],[S&L Price]]","v":0}]
[null,null,29,"A Look at Physical Science",1,"Heat","Library Bound Book",null,"978-1-5382-2147-1",2019,"August 2018","Library","6.500 X 9.125","Author","Kathleen Connors",null,null,null,null,"J",null,"Grade 2","Grade 3 - 6","There's so much more to heat than hot and cold! How it moves, keeps us warm in the winter, and helps us cook our food is all part of this key science topic. Inside a colorful layout, the main text is written with struggling readers in mind, giving clear, concise explanations in understandable language to propel these readers to classroom success. Graphic organizers reinforce important topics for visual learners and those using the books as a \"crash course\" review of heat.","English",26.6,19.95,"536--dc23","32 pp.",{"$f":"Table1[[#This Row],['# Books]]*Table1[[#This Row],[QTY]]","v":0},{"$f":"Table1[[#This Row],[QTY]]*Table1[[#This Row],[S&L Price]]","v":0}]
[null,null,29,"A Look at Physical Science",1,"Heat","eBook",null,"978-1-5382-2148-8",2019,"August 2018",null,null,"Author","Kathleen Connors",null,null,null,null,"J",null,"Grade 2","Grade 3 - 6","There's so much more to heat than hot and cold! How it moves, keeps us warm in the winter, and helps us cook our food is all part of this key science topic. Inside a colorful layout, the main text is written with struggling readers in mind, giving clear, concise explanations in understandable language to propel these readers to classroom success. Graphic organizers reinforce important topics for visual learners and those using the books as a \"crash course\" review of heat.","English",26.6,19.95,"536--dc23","32 pp.",{"$f":"Table1[[#This Row],['# Books]]*Table1[[#This Row],[QTY]]","v":0},{"$f":"Table1[[#This Row],[QTY]]*Table1[[#This Row],[S&L Price]]","v":0}]
[null,null,29,"A Look at Physical Science",1,"Light and Color","Library Bound Book",null,"978-1-5382-2151-8",2019,"August 2018","Library","6.500 X 9.125","Author","Kathleen Connors",null,null,null,null,"J",null,"Grade 2","Grade 3 - 6","Understanding light and color might seem impossible, but if readers already know the colors of the rainbow, they're part of the way there. Including the light spectrum, wavelengths, and other key concepts, this book tackles light and color for those falling behind in class because of their reading skills. The main text is written with these struggling readers in mind, accompanied by full-color photographs and diagrams to aid understanding. An extended glossary introduces and explains all the vocabulary readers need to continue learning about light and color.","English",26.6,19.95,"535--dc23","32 pp.",{"$f":"Table1[[#This Row],['# Books]]*Table1[[#This Row],[QTY]]","v":0},{"$f":"Table1[[#This Row],[QTY]]*Table1[[#This Row],[S&L Price]]","v":0}]
[null,null,29,"A Look at Physical Science",1,"Light and Color","eBook",null,"978-1-5382-2152-5",2019,"August 2018",null,null,"Author","Kathleen Connors",null,null,null,null,"J",null,"Grade 2","Grade 3 - 6","Understanding light and color might seem impossible, but if readers already know the colors of the rainbow, they're part of the way there. Including the light spectrum, wavelengths, and other key concepts, this book tackles light and color for those falling behind in class because of their reading skills. The main text is written with these struggling readers in mind, accompanied by full-color photographs and diagrams to aid understanding. An extended glossary introduces and explains all the vocabulary readers need to continue learning about light and color.","English",26.6,19.95,"535--dc23","32 pp.",{"$f":"Table1[[#This Row],['# Books]]*Table1[[#This Row],[QTY]]","v":0},{"$f":"Table1[[#This Row],[QTY]]*Table1[[#This Row],[S&L Price]]","v":0}]
[null,null,29,"A Look at Physical Science",1,"Magnetism","Library Bound Book",null,"978-1-5382-2155-6",2019,"August 2018","Library","6.500 X 9.125","Author","Kathleen Connors",null,null,null,null,"J",null,"Grade 2","Grade 3 - 6","Kids often play with magnets, yet they don't learn how these playthings work for many years. Practical knowledge from their play can help them learn more about magnetism, and so can this book. Specially written for those with reading challenges or readers looking for a review, the main text covers important vocabulary, magnetic fields, and a discussion of why metals and magnets come together. Diagrams and succinct fact boxes offer additional ways to learn each concept and explain some ideas in greater detail.","English",26.6,19.95,null,"32 pp.",{"$f":"Table1[[#This Row],['# Books]]*Table1[[#This Row],[QTY]]","v":0},{"$f":"Table1[[#This Row],[QTY]]*Table1[[#This Row],[S&L Price]]","v":0}]
[null,null,29,"A Look at Physical Science",1,"Magnetism","eBook",null,"978-1-5382-2156-3",2019,"August 2018",null,null,"Author","Kathleen Connors",null,null,null,null,"J",null,"Grade 2","Grade 3 - 6","Kids often play with magnets, yet they don't learn how these playthings work for many years. Practical knowledge from their play can help them learn more about magnetism, and so can this book. Specially written for those with reading challenges or readers looking for a review, the main text covers important vocabulary, magnetic fields, and a discussion of why metals and magnets come together. Diagrams and succinct fact boxes offer additional ways to learn each concept and explain some ideas in greater detail.","English",26.6,19.95,null,"32 pp.",{"$f":"Table1[[#This Row],['# Books]]*Table1[[#This Row],[QTY]]","v":0},{"$f":"Table1[[#This Row],[QTY]]*Table1[[#This Row],[S&L Price]]","v":0}]
[null,null,29,"A Look at Physical Science",1,"Sound","Library Bound Book",null,"978-1-5382-2159-4",2019,"August 2018","Library","6.500 X 9.125","Author","Kathleen Connors",null,null,null,null,"J",null,"Grade 2","Grade 3 - 6","The fact that sound travels as a vibration might really blow readers' minds, especially those in need of help understanding this science curriculum topic. Including simple discussions of the sound barrier and volume, the main content covers all aspects of sound readers might need to know for science class. Accessible language and colorful diagrams make this volume perfect for those struggling readers or other students in need of review. Key vocabulary terms are included in an extended glossary or fact box so all readers have the knowledge to discuss sound whenever they need to.","English",26.6,19.95,null,"32 pp.",{"$f":"Table1[[#This Row],['# Books]]*Table1[[#This Row],[QTY]]","v":0},{"$f":"Table1[[#This Row],[QTY]]*Table1[[#This Row],[S&L Price]]","v":0}]
[null,null,29,"A Look at Physical Science",1,"Sound","eBook",null,"978-1-5382-2161-7",2019,"August 2018",null,null,"Author","Kathleen Connors",null,null,null,null,"J",null,"Grade 2","Grade 3 - 6","The fact that sound travels as a vibration might really blow readers' minds, especially those in need of help understanding this science curriculum topic. Including simple discussions of the sound barrier and volume, the main content covers all aspects of sound readers might need to know for science class. Accessible language and colorful diagrams make this volume perfect for those struggling readers or other students in need of review. Key vocabulary terms are included in an extended glossary or fact box so all readers have the knowledge to discuss sound whenever they need to.","English",26.6,19.95,null,"32 pp.",{"$f":"Table1[[#This Row],['# Books]]*Table1[[#This Row],[QTY]]","v":0},{"$f":"Table1[[#This Row],[QTY]]*Table1[[#This Row],[S&L Price]]","v":0}]
[null,61,30,"A Look at US History",6,"A Look at US History","Library Set",null,"978-1-4824-6284-5",2018,"August 2017","Library","6.500 X 9.125",null,null,null,null,null,null,null,null,"Grade 2","Grade 3 - 6","It’s essential to understand the founding and early history of the United States when learning about other US history. Why the American Revolution happened, what the US Constitution says, and the consequences of the Civil War all influenced more recent history and how the country is run today. Each book in this series presents an overview of one event or time in early US history, specially simplified and condensed for readers in need of help or review. Full-color photographs and historical images highlight important people and events included in the main content.","English",159.6,119.7,null,"32 pp.",{"$f":"Table1[[#This Row],['# Books]]*Table1[[#This Row],[QTY]]","v":0},{"$f":"Table1[[#This Row],[QTY]]*Table1[[#This Row],[S&L Price]]","v":0}]
[null,61,30,"A Look at US History",1,"The American Revolution","Library Bound Book",null,"978-1-4824-6025-4",2018,"August 2017","Library","6.500 X 9.125","Author","Peter Castellano",null,null,null,null,"J",null,"Grade 2","Grade 3 - 6","Understanding the events of the American Revolution is key to learning more about the history of the United States. When readers encounter this important topic in social studies classes, they often must be able to explain the causes, main events, and results of the war. Through simple explanations and language, this book gives readers of all levels an overview of these aspects of the Revolutionary War in a format perfect for test review or quick reference. A timeline helps readers keep events in order, and fact boxes explain more difficult terms and subject matter.","English",26.6,19.95,"973.3--dc23","32 pp.",{"$f":"Table1[[#This Row],['# Books]]*Table1[[#This Row],[QTY]]","v":0},{"$f":"Table1[[#This Row],[QTY]]*Table1[[#This Row],[S&L Price]]","v":0}]
[null,61,30,"A Look at US History",1,"The American Revolution","eBook",null,"978-1-4824-6026-1",2018,"August 2017",null,null,"Author","Peter Castellano",null,null,null,null,"J",null,"Grade 2","Grade 3 - 6","Understanding the events of the American Revolution is key to learning more about the history of the United States. When readers encounter this important topic in social studies classes, they often must be able to explain the causes, main events, and results of the war. Through simple explanations and language, this book gives readers of all levels an overview of these aspects of the Revolutionary War in a format perfect for test review or quick reference. A timeline helps readers keep events in order, and fact boxes explain more difficult terms and subject matter.","English",26.6,19.95,"973.3--dc23","32 pp.",{"$f":"Table1[[#This Row],['# Books]]*Table1[[#This Row],[QTY]]","v":0},{"$f":"Table1[[#This Row],[QTY]]*Table1[[#This Row],[S&L Price]]","v":0}]
[null,61,30,"A Look at US History",1,"The Articles of Confederation","Library Bound Book",null,"978-1-4824-6037-7",2018,"August 2017","Library","6.500 X 9.125","Author","Bray Jacobson",null,null,null,null,"J",null,"Grade 2","Grade 3 - 6","It can be confusing to learn that the US Constitution wasn’t the first document governing the United States. The Articles of Confederation was a problematic document, and the social studies curriculum commonly asks students to understand why and its effect on the Constitution. This volume simply breaks down the writing of the Articles as well as its problems for readers unfamiliar with the document or in need of reviewing it. Key definitions and explanations are offered in short fact boxes, ensuring that readers of all levels can understand the Articles of Confederation.","English",26.6,19.95,"342.7302--dc23","32 pp.",{"$f":"Table1[[#This Row],['# Books]]*Table1[[#This Row],[QTY]]","v":0},{"$f":"Table1[[#This Row],[QTY]]*Table1[[#This Row],[S&L Price]]","v":0}]
[null,61,30,"A Look at US History",1,"The Articles of Confederation","eBook",null,"978-1-4824-6038-4",2018,"August 2017",null,null,"Author","Bray Jacobson",null,null,null,null,"J",null,"Grade 2","Grade 3 - 6","It can be confusing to learn that the US Constitution wasn’t the first document governing the United States. The Articles of Confederation was a problematic document, and the social studies curriculum commonly asks students to understand why and its effect on the Constitution. This volume simply breaks down the writing of the Articles as well as its problems for readers unfamiliar with the document or in need of reviewing it. Key definitions and explanations are offered in short fact boxes, ensuring that readers of all levels can understand the Articles of Confederation.","English",26.6,19.95,"342.7302--dc23","32 pp.",{"$f":"Table1[[#This Row],['# Books]]*Table1[[#This Row],[QTY]]","v":0},{"$f":"Table1[[#This Row],[QTY]]*Table1[[#This Row],[S&L Price]]","v":0}]
[null,61,30,"A Look at US History",1,"The Civil War","Library Bound Book",null,"978-1-4824-6029-2",2018,"August 2017","Library","6.500 X 9.125","Author","Peter Castellano",null,null,null,null,"J",null,"Grade 2","Grade 3 - 6","The Civil War is a major part of the social studies curriculum. However, it can be overwhelming to cover the causes of the war, its main events, and the immediate results. This book summarizes the most important points of the Civil War in an accessible way appropriate for many reading levels. Fact boxes explain key terms and add crucial details to the main content. Historical images and a concluding timeline help both new readers and those reviewing the topic to better understand a complex sequence of events easily.","English",26.6,19.95,"973.7--dc23","32 pp.",{"$f":"Table1[[#This Row],['# Books]]*Table1[[#This Row],[QTY]]","v":0},{"$f":"Table1[[#This Row],[QTY]]*Table1[[#This Row],[S&L Price]]","v":0}]
[null,61,30,"A Look at US History",1,"The Civil War","eBook",null,"978-1-4824-6030-8",2018,"August 2017",null,null,"Author","Peter Castellano",null,null,null,null,"J",null,"Grade 2","Grade 3 - 6","The Civil War is a major part of the social studies curriculum. However, it can be overwhelming to cover the causes of the war, its main events, and the immediate results. This book summarizes the most important points of the Civil War in an accessible way appropriate for many reading levels. Fact boxes explain key terms and add crucial details to the main content. Historical images and a concluding timeline help both new readers and those reviewing the topic to better understand a complex sequence of events easily.","English",26.6,19.95,"973.7--dc23","32 pp.",{"$f":"Table1[[#This Row],['# Books]]*Table1[[#This Row],[QTY]]","v":0},{"$f":"Table1[[#This Row],[QTY]]*Table1[[#This Row],[S&L Price]]","v":0}]
[null,61,30,"A Look at US History",1,"The Declaration of Independence","Library Bound Book",null,"978-1-4824-6033-9",2018,"August 2017","Library","6.500 X 9.125","Author","Peter Castellano",null,null,null,null,"J",null,"Grade 2","Grade 3 - 6","Not only did the Declaration of Independence help set U.S. history in motion, the document was influential to other revolutions around the world. Therefore, it’s crucial to understand the meaning of the Declaration of Independence in order to continue exploring the social studies curriculum. Readers are presented with the most important aspects of the document, including why it was written, the writing process, and its impact on American independence. Written in simple language, this volume will be useful in test review or as an introduction to the history of the Declaration of Independence.","English",26.6,19.95,"973.3'13--dc23","32 pp.",{"$f":"Table1[[#This Row],['# Books]]*Table1[[#This Row],[QTY]]","v":0},{"$f":"Table1[[#This Row],[QTY]]*Table1[[#This Row],[S&L Price]]","v":0}]
[null,61,30,"A Look at US History",1,"The Declaration of Independence","eBook",null,"978-1-4824-6034-6",2018,"August 2017",null,null,"Author","Peter Castellano",null,null,null,null,"J",null,"Grade 2","Grade 3 - 6","Not only did the Declaration of Independence help set U.S. history in motion, the document was influential to other revolutions around the world. Therefore, it’s crucial to understand the meaning of the Declaration of Independence in order to continue exploring the social studies curriculum. Readers are presented with the most important aspects of the document, including why it was written, the writing process, and its impact on American independence. Written in simple language, this volume will be useful in test review or as an introduction to the history of the Declaration of Independence.","English",26.6,19.95,"973.3'13--dc23","32 pp.",{"$f":"Table1[[#This Row],['# Books]]*Table1[[#This Row],[QTY]]","v":0},{"$f":"Table1[[#This Row],[QTY]]*Table1[[#This Row],[S&L Price]]","v":0}]
[null,61,30,"A Look at US History",1,"The Thirteen Colonies","Library Bound Book",null,"978-1-4824-6041-4",2018,"August 2017","Library","6.500 X 9.125","Author","Bray Jacobson",null,null,null,null,"J",null,"Grade 2","Grade 3 - 6","Students often spend a long time learning about the early European settlements, such as Jamestown, and the founding the 13 British colonies that became the United States. Remembering and digesting so much information can be difficult, especially for struggling readers. Through accessible language and simple sentences, this book allows readers to review the history of the 13 colonies no matter the level at which they read. A concluding timeline helps readers chronologically order main events of the social studies curriculum while fact boxes offer explanations for important terms and more detail when needed.","English",26.6,19.95,"973.2--dc23","32 pp.",{"$f":"Table1[[#This Row],['# Books]]*Table1[[#This Row],[QTY]]","v":0},{"$f":"Table1[[#This Row],[QTY]]*Table1[[#This Row],[S&L Price]]","v":0}]
[null,61,30,"A Look at US History",1,"The Thirteen Colonies","eBook",null,"978-1-4824-6042-1",2018,"August 2017",null,null,"Author","Bray Jacobson",null,null,null,null,"J",null,"Grade 2","Grade 3 - 6","Students often spend a long time learning about the early European settlements, such as Jamestown, and the founding the 13 British colonies that became the United States. Remembering and digesting so much information can be difficult, especially for struggling readers. Through accessible language and simple sentences, this book allows readers to review the history of the 13 colonies no matter the level at which they read. A concluding timeline helps readers chronologically order main events of the social studies curriculum while fact boxes offer explanations for important terms and more detail when needed.","English",26.6,19.95,"973.2--dc23","32 pp.",{"$f":"Table1[[#This Row],['# Books]]*Table1[[#This Row],[QTY]]","v":0},{"$f":"Table1[[#This Row],[QTY]]*Table1[[#This Row],[S&L Price]]","v":0}]
[null,61,30,"A Look at US History",1,"The U.S. Constitution","Library Bound Book",null,"978-1-4824-6045-2",2018,"August 2017","Library","6.500 X 9.125","Author","Bray Jacobson",null,null,null,null,"J",null,"Grade 2","Grade 3 - 6","The highest law in the United States isn't written in modern English. Yet students are expected to know and understand much of what it says, as well as facts about how and why it was written. Readers are presented with the most important points of the history of the Constitution and its contents in this book. The main content gives simple explanations of important social studies curriculum topics, from the compromises needed to write the Constitution to the Bill of Rights. Fact boxes, a concluding timeline, and historical images offer readers even more detail needed for a full overview of the document.","English",26.6,19.95,"342.7302/9--dc23","32 pp.",{"$f":"Table1[[#This Row],['# Books]]*Table1[[#This Row],[QTY]]","v":0},{"$f":"Table1[[#This Row],[QTY]]*Table1[[#This Row],[S&L Price]]","v":0}]
[null,61,30,"A Look at US History",1,"The U.S. Constitution","eBook",null,"978-1-4824-6046-9",2018,"August 2017",null,null,"Author","Bray Jacobson",null,null,null,null,"J",null,"Grade 2","Grade 3 - 6","The highest law in the United States isn't written in modern English. Yet students are expected to know and understand much of what it says, as well as facts about how and why it was written. Readers are presented with the most important points of the history of the Constitution and its contents in this book. The main content gives simple explanations of important social studies curriculum topics, from the compromises needed to write the Constitution to the Bill of Rights. Fact boxes, a concluding timeline, and historical images offer readers even more detail needed for a full overview of the document.","English",26.6,19.95,"342.7302/9--dc23","32 pp.",{"$f":"Table1[[#This Row],['# Books]]*Table1[[#This Row],[QTY]]","v":0},{"$f":"Table1[[#This Row],[QTY]]*Table1[[#This Row],[S&L Price]]","v":0}]
[null,null,30,"A Look at US History",12,"A Look at US History: Sets 1 – 2","Library Set",null,"978-1-5382-2175-4",2019,"August 2018","Library","6.500 X 9.125"," "," ",null,null,null,null,null,null,"Grade 2","Grade 3 - 6","Understanding U.S. history becomes increasingly important as students proceed through the upper elementary grades and into middle school. However, if their reading skills can't keep up with complex topics, such as the cause and effect of wars, they'll miss out on key points of the curriculum. This 12-book set offers detailed, but accessible, overviews of the most essential topics of the social studies curriculum, including the Constitution, the American Revolution, the Emancipation Proclamation, and much more. Each book offers a concluding timeline for a helpful review of important dates. Features include: An extended glossary defines key vocabulary terms important to the discussion of U.S. history topics. The most important historical figures, documents, and events are introduced in context within each volume. Also a great resource for at-level readers to review these topics as well.","English",319.2,239.4,null,"32 pp.",{"$f":"Table1[[#This Row],['# Books]]*Table1[[#This Row],[QTY]]","v":0},{"$f":"Table1[[#This Row],[QTY]]*Table1[[#This Row],[S&L Price]]","v":0}]
[null,null,30,"A Look at US History",6,"A Look at US History: Set 2","Library Set",null,"978-1-5382-2174-7",2019,"August 2018","Library","6.500 X 9.125"," "," ",null,null,null,null,null,null,"Grade 2","Grade 3 - 6","In a continuation of the excellent first set, this series adds overviews of several more important topics found in the social studies curriculum. Each is covered in accessible language for struggling readers without skimping on the details needed to fully understand each time period, event, or document, including the French and Indian War, women's suffrage, and the Bill of Rights. The most significant names, dates, battles, and documents are seamlessly woven into the main text of each book, giving readers an introduction or to review of subject matter sure to be on their classroom and state tests. Features include: An extended glossary provides more chances to learn vocabulary germane to U.S. history topics. Easy-to-read text breaks down historical events and time periods into the most essential knowledge. Supports students' understanding of cause and effect by describing reasons events occurred and their long-term results.","English",159.6,119.7,null,"32 pp.",{"$f":"Table1[[#This Row],['# Books]]*Table1[[#This Row],[QTY]]","v":0},{"$f":"Table1[[#This Row],[QTY]]*Table1[[#This Row],[S&L Price]]","v":0}]
[null,null,30,"A Look at US History",1,"The Bill of Rights","Library Bound Book",null,"978-1-5382-2115-0",2019,"August 2018","Library","6.500 X 9.125","Author","Seth Lynch",null,null,null,null,"J",null,"Grade 2","Grade 3 - 6","Though it was written more than 200 years ago, the first 10 amendments included in the Bill of Rights are still being interpreted today. Understanding how these additions to the Constitution came about is a key topic of the social studies curriculum, and it's also essential for understanding the modern political conversation. All readers can benefit from the concise explanation of why the Bill of Rights was written and what each amendment states. Students struggling with reading are better able to grasp knowledge needed in the classroom by using this excellent volume as a review.","English",26.6,19.95,"342.7308'5--dc23","32 pp.",{"$f":"Table1[[#This Row],['# Books]]*Table1[[#This Row],[QTY]]","v":0},{"$f":"Table1[[#This Row],[QTY]]*Table1[[#This Row],[S&L Price]]","v":0}]
[null,null,30,"A Look at US History",1,"The Bill of Rights","eBook",null,"978-1-5382-2116-7",2019,"August 2018",null,null,"Author","Seth Lynch",null,null,null,null,"J",null,"Grade 2","Grade 3 - 6","Though it was written more than 200 years ago, the first 10 amendments included in the Bill of Rights are still being interpreted today. Understanding how these additions to the Constitution came about is a key topic of the social studies curriculum, and it's also essential for understanding the modern political conversation. All readers can benefit from the concise explanation of why the Bill of Rights was written and what each amendment states. Students struggling with reading are better able to grasp knowledge needed in the classroom by using this excellent volume as a review.","English",26.6,19.95,"342.7308'5--dc23","32 pp.",{"$f":"Table1[[#This Row],['# Books]]*Table1[[#This Row],[QTY]]","v":0},{"$f":"Table1[[#This Row],[QTY]]*Table1[[#This Row],[S&L Price]]","v":0}]
[null,null,30,"A Look at US History",1,"The Emancipation Proclamation","Library Bound Book",null,"978-1-5382-2119-8",2019,"August 2018","Library","6.500 X 9.125","Author","Seth Lynch",null,null,null,null,"J",null,"Grade 2","Grade 3 - 6","In 1862, the American Civil War was underway, actively tearing the United States apart. At the start of the war, President Abraham Lincoln's main goal was preserving the Union, but he was now ready to make a stand on slavery. The Emancipation Proclamation was one of the most important documents of its time, but its contents can be confusing. This volume gives readers context for the proclamation, as well as explains what it says and its results, in clear language appropriate for those reading below level and those looking to the book for review.","English",26.6,19.95,"973.7092--dc23","32 pp.",{"$f":"Table1[[#This Row],['# Books]]*Table1[[#This Row],[QTY]]","v":0},{"$f":"Table1[[#This Row],[QTY]]*Table1[[#This Row],[S&L Price]]","v":0}]
[null,null,30,"A Look at US History",1,"The Emancipation Proclamation","eBook",null,"978-1-5382-2120-4",2019,"August 2018",null,null,"Author","Seth Lynch",null,null,null,null,"J",null,"Grade 2","Grade 3 - 6","In 1862, the American Civil War was underway, actively tearing the United States apart. At the start of the war, President Abraham Lincoln's main goal was preserving the Union, but he was now ready to make a stand on slavery. The Emancipation Proclamation was one of the most important documents of its time, but its contents can be confusing. This volume gives readers context for the proclamation, as well as explains what it says and its results, in clear language appropriate for those reading below level and those looking to the book for review.","English",26.6,19.95,"973.7092--dc23","32 pp.",{"$f":"Table1[[#This Row],['# Books]]*Table1[[#This Row],[QTY]]","v":0},{"$f":"Table1[[#This Row],[QTY]]*Table1[[#This Row],[S&L Price]]","v":0}]
[null,null,30,"A Look at US History",1,"The French and Indian War","Library Bound Book",null,"978-1-5382-2123-5",2019,"August 2018","Library","6.500 X 9.125","Author","Seth Lynch",null,null,null,null,"J",null,"Grade 2","Grade 3 - 6","The French and Indian War was just one part of a global conflict between France and Great Britain and their allies. However, for U.S. citizens, it marked the beginning of the revolutionary era. As one of the causes of the American Revolution, the French and Indian War is a staple of social studies curriculums. In this volume, its complexities are pared down to the most important facts to give struggling readers a better chance to understand them. A concluding timeline provides all readers a way to review the major points of this history-making war.","English",26.6,19.95,"973.2/6--dc23","32 pp.",{"$f":"Table1[[#This Row],['# Books]]*Table1[[#This Row],[QTY]]","v":0},{"$f":"Table1[[#This Row],[QTY]]*Table1[[#This Row],[S&L Price]]","v":0}]
[null,null,30,"A Look at US History",1,"The French and Indian War","eBook",null,"978-1-5382-2124-2",2019,"August 2018",null,null,"Author","Seth Lynch",null,null,null,null,"J",null,"Grade 2","Grade 3 - 6","The French and Indian War was just one part of a global conflict between France and Great Britain and their allies. However, for U.S. citizens, it marked the beginning of the revolutionary era. As one of the causes of the American Revolution, the French and Indian War is a staple of social studies curriculums. In this volume, its complexities are pared down to the most important facts to give struggling readers a better chance to understand them. A concluding timeline provides all readers a way to review the major points of this history-making war.","English",26.6,19.95,"973.2/6--dc23","32 pp.",{"$f":"Table1[[#This Row],['# Books]]*Table1[[#This Row],[QTY]]","v":0},{"$f":"Table1[[#This Row],[QTY]]*Table1[[#This Row],[S&L Price]]","v":0}]
[null,null,30,"A Look at US History",1,"The Industrial Revolution","Library Bound Book",null,"978-1-5382-2127-3",2019,"August 2018","Library","6.500 X 9.125","Author","Seth Lynch",null,null,null,null,"J",null,"Grade 2","Grade 3 - 6","Once the Industrial Revolution made it to the United States, the workforce changed forever. Not only that, family life, childhood, and the economy changed, too! A complex topic with many facets, the Industrial Revolution is covered in clear, accessible language in this book. Written with social studies curricula in mind, the main content includes age-appropriate detail, such as important dates, people, and vocabulary readers will likely need in the classroom. Struggling readers and those in need of review need look no further than this volume to enhance or refresh their knowledge of this key time period in U.S. history.","English",26.6,19.95,"330.973'08--dc23","32 pp.",{"$f":"Table1[[#This Row],['# Books]]*Table1[[#This Row],[QTY]]","v":0},{"$f":"Table1[[#This Row],[QTY]]*Table1[[#This Row],[S&L Price]]","v":0}]
[null,null,30,"A Look at US History",1,"The Industrial Revolution","eBook",null,"978-1-5382-2128-0",2019,"August 2018",null,null,"Author","Seth Lynch",null,null,null,null,"J",null,"Grade 2","Grade 3 - 6","Once the Industrial Revolution made it to the United States, the workforce changed forever. Not only that, family life, childhood, and the economy changed, too! A complex topic with many facets, the Industrial Revolution is covered in clear, accessible language in this book. Written with social studies curricula in mind, the main content includes age-appropriate detail, such as important dates, people, and vocabulary readers will likely need in the classroom. Struggling readers and those in need of review need look no further than this volume to enhance or refresh their knowledge of this key time period in U.S. history.","English",26.6,19.95,"330.973'08--dc23","32 pp.",{"$f":"Table1[[#This Row],['# Books]]*Table1[[#This Row],[QTY]]","v":0},{"$f":"Table1[[#This Row],[QTY]]*Table1[[#This Row],[S&L Price]]","v":0}]
[null,null,30,"A Look at US History",1,"The Louisiana Purchase","Library Bound Book",null,"978-1-5382-2131-0",2019,"August 2018","Library","6.500 X 9.125","Author","Seth Lynch",null,null,null,null,"J",null,"Grade 2","Grade 3 - 6","When the Louisiana Territory was added to the United States in 1803, it about doubled the size of the young nation. It took years to clarify its boundaries and explore every square mile. How this momentous purchase came to be and its implications on the future of the United States are explained in detail in this book. Simple maps and clear language help struggling readers and those in need of review to understand the many changes in the United States' land that started with this purchase in 1803.","English",26.6,19.95,"973.4/6--dc23","32 pp.",{"$f":"Table1[[#This Row],['# Books]]*Table1[[#This Row],[QTY]]","v":0},{"$f":"Table1[[#This Row],[QTY]]*Table1[[#This Row],[S&L Price]]","v":0}]
[null,null,30,"A Look at US History",1,"The Louisiana Purchase","eBook",null,"978-1-5382-2132-7",2019,"August 2018",null,null,"Author","Seth Lynch",null,null,null,null,"J",null,"Grade 2","Grade 3 - 6","When the Louisiana Territory was added to the United States in 1803, it about doubled the size of the young nation. It took years to clarify its boundaries and explore every square mile. How this momentous purchase came to be and its implications on the future of the United States are explained in detail in this book. Simple maps and clear language help struggling readers and those in need of review to understand the many changes in the United States' land that started with this purchase in 1803.","English",26.6,19.95,"973.4/6--dc23","32 pp.",{"$f":"Table1[[#This Row],['# Books]]*Table1[[#This Row],[QTY]]","v":0},{"$f":"Table1[[#This Row],[QTY]]*Table1[[#This Row],[S&L Price]]","v":0}]
[null,null,30,"A Look at US History",1,"Women's Suffrage","Library Bound Book",null,"978-1-5382-2135-8",2019,"August 2018","Library","6.500 X 9.125","Author","Seth Lynch",null,null,null,null,"J",null,"Grade 2","Grade 3 - 6","From the formal beginning of the women's suffrage movement in the United States to the passage of the Nineteenth Amendment, the journey to women's right to vote is endlessly fascinating. Leaders such as Elizabeth Cady Stanton and Alice Paul are part of this volume, which covers important curriculum points, including the Seneca Falls Convention and its Declaration of Sentiments. The main text succinctly introduces important events and groups as well as provides historical context outside of the suffrage movement. A concluding timeline aids readers in need of further review.","English",26.6,19.95,"324.6/230973--dc23","32 pp.",{"$f":"Table1[[#This Row],['# Books]]*Table1[[#This Row],[QTY]]","v":0},{"$f":"Table1[[#This Row],[QTY]]*Table1[[#This Row],[S&L Price]]","v":0}]
[null,null,30,"A Look at US History",1,"Women's Suffrage","eBook",null,"978-1-5382-2136-5",2019,"August 2018",null,null,"Author","Seth Lynch",null,null,null,null,"J",null,"Grade 2","Grade 3 - 6","From the formal beginning of the women's suffrage movement in the United States to the passage of the Nineteenth Amendment, the journey to women's right to vote is endlessly fascinating. Leaders such as Elizabeth Cady Stanton and Alice Paul are part of this volume, which covers important curriculum points, including the Seneca Falls Convention and its Declaration of Sentiments. The main text succinctly introduces important events and groups as well as provides historical context outside of the suffrage movement. A concluding timeline aids readers in need of further review.","English",26.6,19.95,"324.6/230973--dc23","32 pp.",{"$f":"Table1[[#This Row],['# Books]]*Table1[[#This Row],[QTY]]","v":0},{"$f":"Table1[[#This Row],[QTY]]*Table1[[#This Row],[S&L Price]]","v":0}]
[null,62,31,"A Look at Your Government",6,"A Look at Your Government","Library Set",null,"978-1-4824-6287-6",2018,"August 2017","Library","6.500 X 9.125",null,null,null,null,null,null,null,null,"Grade 2","Grade 3 - 6","There’s a lot readers need to know about how the US government works. From the division of power between three branches to the Electoral College, it can seem complicated and overwhelming. This series breaks down how the government is run to the most important points covered in the social studies curriculum. Written in accessible language for readers of all abilities, an overview of the job of the House of Representatives, Senate, Supreme Court, and president can help clarify the system for readers or simply aid in test preparation.","English",159.6,119.7,null,"32 pp.",{"$f":"Table1[[#This Row],['# Books]]*Table1[[#This Row],[QTY]]","v":0},{"$f":"Table1[[#This Row],[QTY]]*Table1[[#This Row],[S&L Price]]","v":0}]
[null,62,31,"A Look at Your Government",1,"How Does a Bill Become a Law?","Library Bound Book",null,"978-1-4824-6057-5",2018,"August 2017","Library","6.500 X 9.125","Author","Kathleen Connors",null,null,null,null,"K",null,"Grade 2","Grade 3 - 6","Our nation’s laws go through a long process before they are enacted. Bills are scrutinized and researched by committees in both the House and Senate and may be rewritten several times before they pass. This book breaks down the complicated process into digestible steps for readers looking to better understand an important component of the social studies curriculum. Fact boxes further clarify how the government works, supply key terms, and give more detail about congressional committees. A concluding flowchart allows readers to review the process even more easily.","English",26.6,19.95,"328.73/077--dc23","32 pp.",{"$f":"Table1[[#This Row],['# Books]]*Table1[[#This Row],[QTY]]","v":0},{"$f":"Table1[[#This Row],[QTY]]*Table1[[#This Row],[S&L Price]]","v":0}]
[null,62,31,"A Look at Your Government",1,"How Does a Bill Become a Law?","eBook",null,"978-1-4824-6058-2",2018,"August 2017",null,null,"Author","Kathleen Connors",null,null,null,null,"K",null,"Grade 2","Grade 3 - 6","Our nation’s laws go through a long process before they are enacted. Bills are scrutinized and researched by committees in both the House and Senate and may be rewritten several times before they pass. This book breaks down the complicated process into digestible steps for readers looking to better understand an important component of the social studies curriculum. Fact boxes further clarify how the government works, supply key terms, and give more detail about congressional committees. A concluding flowchart allows readers to review the process even more easily.","English",26.6,19.95,"328.73/077--dc23","32 pp.",{"$f":"Table1[[#This Row],['# Books]]*Table1[[#This Row],[QTY]]","v":0},{"$f":"Table1[[#This Row],[QTY]]*Table1[[#This Row],[S&L Price]]","v":0}]
[null,62,31,"A Look at Your Government",1,"What Does Congress Do?","Library Bound Book",null,"978-1-4824-6049-0",2018,"August 2017","Library","6.500 X 9.125","Author","Kathleen Connors",null,null,null,null,"K",null,"Grade 2","Grade 3 - 6","The Founding Fathers made Congress two houses for a reason. The Senate gives every state equal representation, while the House of Representatives allows states with a larger population a bigger voice in government. Learning how this system works is an important piece of understanding how laws are made in the United States. This book breaks down the many jobs of Congress as well as the specific qualifications needed to be a representative or senator. Written simply and clearly, the social studies content can aid any student looking to better understand how Congress works.","English",26.6,19.95,"328.73--dc23","32 pp.",{"$f":"Table1[[#This Row],['# Books]]*Table1[[#This Row],[QTY]]","v":0},{"$f":"Table1[[#This Row],[QTY]]*Table1[[#This Row],[S&L Price]]","v":0}]
[null,62,31,"A Look at Your Government",1,"What Does Congress Do?","eBook",null,"978-1-4824-6050-6",2018,"August 2017",null,null,"Author","Kathleen Connors",null,null,null,null,"K",null,"Grade 2","Grade 3 - 6","The Founding Fathers made Congress two houses for a reason. The Senate gives every state equal representation, while the House of Representatives allows states with a larger population a bigger voice in government. Learning how this system works is an important piece of understanding how laws are made in the United States. This book breaks down the many jobs of Congress as well as the specific qualifications needed to be a representative or senator. Written simply and clearly, the social studies content can aid any student looking to better understand how Congress works.","English",26.6,19.95,"328.73--dc23","32 pp.",{"$f":"Table1[[#This Row],['# Books]]*Table1[[#This Row],[QTY]]","v":0},{"$f":"Table1[[#This Row],[QTY]]*Table1[[#This Row],[S&L Price]]","v":0}]
[null,62,31,"A Look at Your Government",1,"What Does the President Do?","Library Bound Book",null,"978-1-4824-6053-7",2018,"August 2017","Library","6.500 X 9.125","Author","Kathleen Connors",null,null,null,null,"K",null,"Grade 2","Grade 3 - 6","The US president is the face of the United States to the rest of the world. However, he or she doesn’t have unlimited power within the country. The president has certain powers given by the Constitution, including the ability to make treaties, appoint some important government officials, and veto laws. Readers learn the many duties of the president in simple, clear language appropriate for both younger readers and older readers looking for a succinct review of the topic. Fact boxes supplement the main content with important details about checks and balances, amendments, and more that affect the presidency today.","English",26.6,19.95,"352.23’0973--dc23","32 pp.",{"$f":"Table1[[#This Row],['# Books]]*Table1[[#This Row],[QTY]]","v":0},{"$f":"Table1[[#This Row],[QTY]]*Table1[[#This Row],[S&L Price]]","v":0}]
[null,62,31,"A Look at Your Government",1,"What Does the President Do?","eBook",null,"978-1-4824-6054-4",2018,"August 2017",null,null,"Author","Kathleen Connors",null,null,null,null,"K",null,"Grade 2","Grade 3 - 6","The US president is the face of the United States to the rest of the world. However, he or she doesn’t have unlimited power within the country. The president has certain powers given by the Constitution, including the ability to make treaties, appoint some important government officials, and veto laws. Readers learn the many duties of the president in simple, clear language appropriate for both younger readers and older readers looking for a succinct review of the topic. Fact boxes supplement the main content with important details about checks and balances, amendments, and more that affect the presidency today.","English",26.6,19.95,"352.23’0973--dc23","32 pp.",{"$f":"Table1[[#This Row],['# Books]]*Table1[[#This Row],[QTY]]","v":0},{"$f":"Table1[[#This Row],[QTY]]*Table1[[#This Row],[S&L Price]]","v":0}]
[null,62,31,"A Look at Your Government",1,"What Does the US Supreme Court Do?","Library Bound Book",null,"978-1-4824-6061-2",2018,"August 2017","Library","6.500 X 9.125","Author","Santana Hunt",null,null,null,null,"K",null,"Grade 2","Grade 3 - 6","The Supreme Court is the highest court in the United States. While it only hears about 80 cases out of the thousands that petition to be heard, the court’s decisions have a big impact. The most important job of the Supreme Court is to decide the constitutionality of laws and actions. This process is broken down for readers in simple terms that support their understanding of the judicial branch. The main content offers curriculum-based information about the court’s relationship with the Constitution, justice appointments, and how justices write opinions. Fact boxes supply definitions and further explanations of more complicated ideas.","English",26.6,19.95,"347.73/26--dc23","32 pp.",{"$f":"Table1[[#This Row],['# Books]]*Table1[[#This Row],[QTY]]","v":0},{"$f":"Table1[[#This Row],[QTY]]*Table1[[#This Row],[S&L Price]]","v":0}]
[null,62,31,"A Look at Your Government",1,"What Does the US Supreme Court Do?","eBook",null,"978-1-4824-6062-9",2018,"August 2017",null,null,"Author","Santana Hunt",null,null,null,null,"K",null,"Grade 2","Grade 3 - 6","The Supreme Court is the highest court in the United States. While it only hears about 80 cases out of the thousands that petition to be heard, the court’s decisions have a big impact. The most important job of the Supreme Court is to decide the constitutionality of laws and actions. This process is broken down for readers in simple terms that support their understanding of the judicial branch. The main content offers curriculum-based information about the court’s relationship with the Constitution, justice appointments, and how justices write opinions. Fact boxes supply definitions and further explanations of more complicated ideas.","English",26.6,19.95,"347.73/26--dc23","32 pp.",{"$f":"Table1[[#This Row],['# Books]]*Table1[[#This Row],[QTY]]","v":0},{"$f":"Table1[[#This Row],[QTY]]*Table1[[#This Row],[S&L Price]]","v":0}]
[null,62,31,"A Look at Your Government",1,"What Is the Electoral College?","Library Bound Book",null,"978-1-4824-6065-0",2018,"August 2017","Library","6.500 X 9.125","Author","Kathleen Connors",null,null,null,null,"K",null,"Grade 2","Grade 3 - 6","When the Constitution was written, some of the Founding Fathers wanted to include a provision that only those in Congress vote for president. Others felt it was important that the former colonists got to vote directly for their president. The Electoral College was the compromise reached—and it’s still how the president and vice president are elected today. This often-confusing topic is broken down step by step for readers. Simple, clear language and elaborating fact boxes target readers new to understanding the Electoral College system and those looking for a thorough but succinct review.","English",26.6,19.95,"324.6’3--dc23","32 pp.",{"$f":"Table1[[#This Row],['# Books]]*Table1[[#This Row],[QTY]]","v":0},{"$f":"Table1[[#This Row],[QTY]]*Table1[[#This Row],[S&L Price]]","v":0}]
[null,62,31,"A Look at Your Government",1,"What Is the Electoral College?","eBook",null,"978-1-4824-6066-7",2018,"August 2017",null,null,"Author","Kathleen Connors",null,null,null,null,"K",null,"Grade 2","Grade 3 - 6","When the Constitution was written, some of the Founding Fathers wanted to include a provision that only those in Congress vote for president. Others felt it was important that the former colonists got to vote directly for their president. The Electoral College was the compromise reached—and it’s still how the president and vice president are elected today. This often-confusing topic is broken down step by step for readers. Simple, clear language and elaborating fact boxes target readers new to understanding the Electoral College system and those looking for a thorough but succinct review.","English",26.6,19.95,"324.6’3--dc23","32 pp.",{"$f":"Table1[[#This Row],['# Books]]*Table1[[#This Row],[QTY]]","v":0},{"$f":"Table1[[#This Row],[QTY]]*Table1[[#This Row],[S&L Price]]","v":0}]
[null,62,31,"A Look at Your Government",1,"Why Do We Vote?","Library Bound Book",null,"978-1-4824-6069-8",2018,"August 2017","Library","6.500 X 9.125","Author","Santana Hunt",null,null,null,null,"K",null,"Grade 2","Grade 3 - 6","Many Americans believe it is their civic duty to vote. However, in most elections, less than half of eligible voters show up at the polls. Readers are introduced to the many reasons why voting is an important, including how voting allows the voice of the people to be heard. The main content tackles a complex idea of citizenship with accessible language and age-appropriate subject matter. Briefly covering social studies curriculum topics such as the Electoral College, disenfranchisement, and the Voting Rights Act of 1965, this book serves as an excellent companion to classroom learning.","English",26.6,19.95,"324.60973--dc23","32 pp.",{"$f":"Table1[[#This Row],['# Books]]*Table1[[#This Row],[QTY]]","v":0},{"$f":"Table1[[#This Row],[QTY]]*Table1[[#This Row],[S&L Price]]","v":0}]
[null,62,31,"A Look at Your Government",1,"Why Do We Vote?","eBook",null,"978-1-4824-6070-4",2018,"August 2017",null,null,"Author","Santana Hunt",null,null,null,null,"K",null,"Grade 2","Grade 3 - 6","Many Americans believe it is their civic duty to vote. However, in most elections, less than half of eligible voters show up at the polls. Readers are introduced to the many reasons why voting is an important, including how voting allows the voice of the people to be heard. The main content tackles a complex idea of citizenship with accessible language and age-appropriate subject matter. Briefly covering social studies curriculum topics such as the Electoral College, disenfranchisement, and the Voting Rights Act of 1965, this book serves as an excellent companion to classroom learning.","English",26.6,19.95,"324.60973--dc23","32 pp.",{"$f":"Table1[[#This Row],['# Books]]*Table1[[#This Row],[QTY]]","v":0},{"$f":"Table1[[#This Row],[QTY]]*Table1[[#This Row],[S&L Price]]","v":0}]
[null,58,32,"Daredevil Sports (Set of 12 Titles)",12,"Daredevil Sports (Set of 12 Titles)","Library Set",null,"978-1-5382-1327-8",2018,"January 2018","Library","6.500 X 9.125",null,null,null,null,null,null,null,null,"Grade 1 - 2","Grade 3 - 6","Mixed martial arts, parkour, and cave diving are just a few of the extreme sports reaching a growing fan base. Participants of all ages looking for a new thrill are discovering some very different and often dangerous sports. Readers explore some increasingly popular sports through descriptions of their history and an introduction to the styles and competitions each involve. Full-color images bring readers right to the top of a hill, whether on a longboard, out on a motocross course, or giving snowkiting a try, and guarantee an adrenaline-charged adventure.","English",319.2,239.4,null,"32 pp.",{"$f":"Table1[[#This Row],['# Books]]*Table1[[#This Row],[QTY]]","v":0},{"$f":"Table1[[#This Row],[QTY]]*Table1[[#This Row],[S&L Price]]","v":0}]
[null,58,32,"Daredevil Sports (Set of 6 NEW Titles)",6,"Daredevil Sports (Set of 6 NEW Titles)","Library Set",null,"978-1-5382-1290-5",2018,"January 2018","Library","6.500 X 9.125",null,null,null,null,null,null,null,null,"Grade 1 - 2","Grade 3 - 6","Far from the school playgrounds where most people learn their favorite sports, these extreme adventures require lots of safety training and a bit of guts to go out and be a daredevil. Readers learn about the incredible dangers of high-octane sports such as BASE jumping and snowkiting, making sure that even the most reluctant of readers move to the edge of their seat. From the thrill of bull riding to the dark wonders of cave exploration, these books are guaranteed to make a big splash.","English",159.6,119.7,null,"32 pp.",{"$f":"Table1[[#This Row],['# Books]]*Table1[[#This Row],[QTY]]","v":0},{"$f":"Table1[[#This Row],[QTY]]*Table1[[#This Row],[S&L Price]]","v":0}]
[null,58,32,"Daredevil Sports",1,"Barrel Racing","Library Bound Book",null,"978-1-5382-1103-8",2018,"January 2018","Library","6.500 X 9.125","Author","Hal Garrison",null,null,null,null,"I",null,"Grade 1 - 2","Grade 3 - 6","Experiencing the thrill of rodeo events like bull riding up close and personal is quite the thrill. The fastest rodeo event involves skilled people, talented horses, and barrels. Barrel racing is a fast-paced thrill ride unlike any other. Readers learn that barrel racing success depends on getting as close to the barrel as possible to ensure the fastest time. They learn about the history of the event, the role that women played in its early days, and how riders execute the cloverleaf pattern around the barrels.","English",26.6,19.95,"791.8'4--dc23","32 pp.",{"$f":"Table1[[#This Row],['# Books]]*Table1[[#This Row],[QTY]]","v":0},{"$f":"Table1[[#This Row],[QTY]]*Table1[[#This Row],[S&L Price]]","v":0}]
[null,58,32,"Daredevil Sports",1,"Barrel Racing","eBook",null,"978-1-5382-1104-5",2018,"January 2018",null,null,"Author","Hal Garrison",null,null,null,null,"I",null,"Grade 1 - 2","Grade 3 - 6","Experiencing the thrill of rodeo events like bull riding up close and personal is quite the thrill. The fastest rodeo event involves skilled people, talented horses, and barrels. Barrel racing is a fast-paced thrill ride unlike any other. Readers learn that barrel racing success depends on getting as close to the barrel as possible to ensure the fastest time. They learn about the history of the event, the role that women played in its early days, and how riders execute the cloverleaf pattern around the barrels.","English",26.6,19.95,"791.8'4--dc23","32 pp.",{"$f":"Table1[[#This Row],['# Books]]*Table1[[#This Row],[QTY]]","v":0},{"$f":"Table1[[#This Row],[QTY]]*Table1[[#This Row],[S&L Price]]","v":0}]
[null,58,32,"Daredevil Sports",1,"BASE Jumping","Library Bound Book",null,"978-1-5382-1107-6",2018,"January 2018","Library","6.500 X 9.125","Author","Hal Garrison",null,null,null,null,"I",null,"Grade 1 - 2","Grade 3 - 6","Jumping from a long way up is incredibly dangerous. That's why BASE jumping is a sport saved for the experts. These amazing athletes take leaps from fixed places like antennas and bridges and feel the wind through their hair before using safety equipment like parachutes to make it back to Earth without harm. Sometimes these daredevils will don wingsuits and actually fly while they fall back to earth. Full-color photographs and riveting text capture this sport up close and personal and take readers into the skies.","English",26.6,19.95,"797.5--dc23","32 pp.",{"$f":"Table1[[#This Row],['# Books]]*Table1[[#This Row],[QTY]]","v":0},{"$f":"Table1[[#This Row],[QTY]]*Table1[[#This Row],[S&L Price]]","v":0}]
[null,58,32,"Daredevil Sports",1,"BASE Jumping","eBook",null,"978-1-5382-1108-3",2018,"January 2018",null,null,"Author","Hal Garrison",null,null,null,null,"I",null,"Grade 1 - 2","Grade 3 - 6","Jumping from a long way up is incredibly dangerous. That's why BASE jumping is a sport saved for the experts. These amazing athletes take leaps from fixed places like antennas and bridges and feel the wind through their hair before using safety equipment like parachutes to make it back to Earth without harm. Sometimes these daredevils will don wingsuits and actually fly while they fall back to earth. Full-color photographs and riveting text capture this sport up close and personal and take readers into the skies.","English",26.6,19.95,"797.5--dc23","32 pp.",{"$f":"Table1[[#This Row],['# Books]]*Table1[[#This Row],[QTY]]","v":0},{"$f":"Table1[[#This Row],[QTY]]*Table1[[#This Row],[S&L Price]]","v":0}]
[null,58,32,"Daredevil Sports",1,"Bull Riding","Library Bound Book",null,"978-1-5382-1111-3",2018,"January 2018","Library","6.500 X 9.125","Author","Hal Garrison",null,null,null,null,"I",null,"Grade 1 - 2","Grade 3 - 6","Professional bull riding is one of the toughest sports out there. This exciting event pits man against bovine, strapping cowboys onto the backs of thousand-pound animals who don't appreciate the rider on their back. These cowboys travel around the country with bulls ready to buck them off at every turn. Fly off in the wrong spot and the bull might go after a rider. Readers learn how these amazing athletes stay safe while performing for crowds of thousands, and the skills it takes to ride like a pro.","English",26.6,19.95,"791.84--dc23","32 pp.",{"$f":"Table1[[#This Row],['# Books]]*Table1[[#This Row],[QTY]]","v":0},{"$f":"Table1[[#This Row],[QTY]]*Table1[[#This Row],[S&L Price]]","v":0}]
[null,58,32,"Daredevil Sports",1,"Bull Riding","eBook",null,"978-1-5382-1112-0",2018,"January 2018",null,null,"Author","Hal Garrison",null,null,null,null,"I",null,"Grade 1 - 2","Grade 3 - 6","Professional bull riding is one of the toughest sports out there. This exciting event pits man against bovine, strapping cowboys onto the backs of thousand-pound animals who don't appreciate the rider on their back. These cowboys travel around the country with bulls ready to buck them off at every turn. Fly off in the wrong spot and the bull might go after a rider. Readers learn how these amazing athletes stay safe while performing for crowds of thousands, and the skills it takes to ride like a pro.","English",26.6,19.95,"791.84--dc23","32 pp.",{"$f":"Table1[[#This Row],['# Books]]*Table1[[#This Row],[QTY]]","v":0},{"$f":"Table1[[#This Row],[QTY]]*Table1[[#This Row],[S&L Price]]","v":0}]
[null,58,32,"Daredevil Sports",1,"Cave Diving","Library Bound Book",null,"978-1-5382-1115-1",2018,"January 2018","Library","6.500 X 9.125","Author","Hal Garrison",null,null,null,null,"I",null,"Grade 1 - 2","Grade 3 - 6","For some, exploring the depths of a dark cave is the ultimate rush of excitement. But what if the cave was filled with water? Readers get to experience this dangerous thrill from the safe pages of this exciting book. Readers splash through the dark and explore the world hidden deep in the water. From the equipment needed to safely participate to a few of the amazing places divers explore, this book explores the unseen and often unexplored parts of a world full of wonder.","English",26.6,19.95,"796.52/5--dc23","32 pp.",{"$f":"Table1[[#This Row],['# Books]]*Table1[[#This Row],[QTY]]","v":0},{"$f":"Table1[[#This Row],[QTY]]*Table1[[#This Row],[S&L Price]]","v":0}]
[null,58,32,"Daredevil Sports",1,"Cave Diving","eBook",null,"978-1-5382-1116-8",2018,"January 2018",null,null,"Author","Hal Garrison",null,null,null,null,"I",null,"Grade 1 - 2","Grade 3 - 6","For some, exploring the depths of a dark cave is the ultimate rush of excitement. But what if the cave was filled with water? Readers get to experience this dangerous thrill from the safe pages of this exciting book. Readers splash through the dark and explore the world hidden deep in the water. From the equipment needed to safely participate to a few of the amazing places divers explore, this book explores the unseen and often unexplored parts of a world full of wonder.","English",26.6,19.95,"796.52/5--dc23","32 pp.",{"$f":"Table1[[#This Row],['# Books]]*Table1[[#This Row],[QTY]]","v":0},{"$f":"Table1[[#This Row],[QTY]]*Table1[[#This Row],[S&L Price]]","v":0}]
[null,58,32,"Daredevil Sports",1,"Ice Climbing","Library Bound Book",null,"978-1-5382-1119-9",2018,"January 2018","Library","6.500 X 9.125","Author","Hal Garrison",null,null,null,null,"I",null,"Grade 1 - 2","Grade 3 - 6","Climbing is an exciting way to stay in shape. Ice climbing adds the thrills of rock climbing to the dangers of snow and cold, to create a brand new sport. Strapping on crampons, using ice-climbing axes, and scaling a sheer cliff of ice brings an incredible rush unlike any other. Readers dig into the thrilling world of climbing up cliffs and rock slabs in the middle of winter. From more dangerous climbs like frozen waterfalls to other ice formations, this book explores the equipment needed to safely ice climb and the history behind this amazing sport.","English",26.6,19.95,"796.9--dc23","32 pp.",{"$f":"Table1[[#This Row],['# Books]]*Table1[[#This Row],[QTY]]","v":0},{"$f":"Table1[[#This Row],[QTY]]*Table1[[#This Row],[S&L Price]]","v":0}]
[null,58,32,"Daredevil Sports",1,"Ice Climbing","eBook",null,"978-1-5382-1120-5",2018,"January 2018",null,null,"Author","Hal Garrison",null,null,null,null,"I",null,"Grade 1 - 2","Grade 3 - 6","Climbing is an exciting way to stay in shape. Ice climbing adds the thrills of rock climbing to the dangers of snow and cold, to create a brand new sport. Strapping on crampons, using ice-climbing axes, and scaling a sheer cliff of ice brings an incredible rush unlike any other. Readers dig into the thrilling world of climbing up cliffs and rock slabs in the middle of winter. From more dangerous climbs like frozen waterfalls to other ice formations, this book explores the equipment needed to safely ice climb and the history behind this amazing sport.","English",26.6,19.95,"796.9--dc23","32 pp.",{"$f":"Table1[[#This Row],['# Books]]*Table1[[#This Row],[QTY]]","v":0},{"$f":"Table1[[#This Row],[QTY]]*Table1[[#This Row],[S&L Price]]","v":0}]
[null,58,32,"Daredevil Sports",1,"Snowkiting","Library Bound Book",null,"978-1-5382-1123-6",2018,"January 2018","Library","6.500 X 9.125","Author","Hal Garrison",null,null,null,null,"I",null,"Grade 1 - 2","Grade 3 - 6","Skiing and snowboarding are dangerous enough. Bringing the unpredictableness of the wind into it is truly for daredevils. Snowkiting provides an incredible new kind of rush to the snow sports. Catching the wind with a kite gives extreme athletes a chance to take flight for a bit while using a snowboard-like blade to cut through the snow. From learning the basics to watching the pros in action, readers see how dangerous and thrilling snowkiting is, and how they can learn it for themselves, if they dare.","English",26.6,19.95,"797.3--dc23","32 pp.",{"$f":"Table1[[#This Row],['# Books]]*Table1[[#This Row],[QTY]]","v":0},{"$f":"Table1[[#This Row],[QTY]]*Table1[[#This Row],[S&L Price]]","v":0}]
[null,58,32,"Daredevil Sports",1,"Snowkiting","eBook",null,"978-1-5382-1124-3",2018,"January 2018",null,null,"Author","Hal Garrison",null,null,null,null,"I",null,"Grade 1 - 2","Grade 3 - 6","Skiing and snowboarding are dangerous enough. Bringing the unpredictableness of the wind into it is truly for daredevils. Snowkiting provides an incredible new kind of rush to the snow sports. Catching the wind with a kite gives extreme athletes a chance to take flight for a bit while using a snowboard-like blade to cut through the snow. From learning the basics to watching the pros in action, readers see how dangerous and thrilling snowkiting is, and how they can learn it for themselves, if they dare.","English",26.6,19.95,"797.3--dc23","32 pp.",{"$f":"Table1[[#This Row],['# Books]]*Table1[[#This Row],[QTY]]","v":0},{"$f":"Table1[[#This Row],[QTY]]*Table1[[#This Row],[S&L Price]]","v":0}]
[null,58,32,"Daredevil Sports",1,"Longboard Skateboarding","Library Bound Book",null,"978-1-4824-2978-7",2016,"August 2015","Library","6.500 X 9.125","Author","Peter Castellano",4.7,0.5,16,null,"I","850L","Grade 1","Grade 3 - 6","In 2012, a skateboarder riding a longboard traveled more than 80 miles (129 km) per hour downhill to break the world record for fastest longboard speed. On the other hand, the longboard skateboard is likely the best skateboard to ride for just getting around via skateboard! Readers are introduced to the many ways of riding a longboard, including in downhill competitions and freeriding. Full-color photographs highlight the fast action of the sport, while the main content encourages caution when beginning a new, daredevil sport. Safety tips and fact boxes add even more detail about this fun emerging sport.","English",26.6,19.95,"796.22","32 pp.",{"$f":"Table1[[#This Row],['# Books]]*Table1[[#This Row],[QTY]]","v":0},{"$f":"Table1[[#This Row],[QTY]]*Table1[[#This Row],[S&L Price]]","v":0}]
[null,58,32,"Daredevil Sports",1,"Longboard Skateboarding","eBook",null,"978-1-4824-2979-4",2016,"August 2015",null,null,"Author","Peter Castellano",4.7,0.5,16,null,"I","850L","Grade 1","Grade 3 - 6","In 2012, a skateboarder riding a longboard traveled more than 80 miles (129 km) per hour downhill to break the world record for fastest longboard speed. On the other hand, the longboard skateboard is likely the best skateboard to ride for just getting around via skateboard! Readers are introduced to the many ways of riding a longboard, including in downhill competitions and freeriding. Full-color photographs highlight the fast action of the sport, while the main content encourages caution when beginning a new, daredevil sport. Safety tips and fact boxes add even more detail about this fun emerging sport.","English",26.6,19.95,"796.22","32 pp.",{"$f":"Table1[[#This Row],['# Books]]*Table1[[#This Row],[QTY]]","v":0},{"$f":"Table1[[#This Row],[QTY]]*Table1[[#This Row],[S&L Price]]","v":0}]
[null,58,32,"Daredevil Sports",1,"MMA","Library Bound Book",null,"978-1-4824-2982-4",2016,"August 2015","Library","6.500 X 9.125","Author","Peter Castellano",5,0.5,16,null,"I","920L","Grade 1","Grade 3 - 6","Mixed martial arts, or MMA, has a long history since it includes techniques from older fighting styles like tae kwon do, muay thai, and Greco-Roman wrestling. But the popular sport is truly a modern invention that may result in blood, sweat, and tears. Readers learn about the fearless fighters who enter the cage for each bout, as well as MMA history and the formation of the UFC. MMA safety and rules are emphasized, including the need for specific training and great physical fitness. Full-color images highlight the intensity and drama of bouts for both the fighters and the crowd.","English",26.6,19.95,"796.815","32 pp.",{"$f":"Table1[[#This Row],['# Books]]*Table1[[#This Row],[QTY]]","v":0},{"$f":"Table1[[#This Row],[QTY]]*Table1[[#This Row],[S&L Price]]","v":0}]
[null,58,32,"Daredevil Sports",1,"MMA","eBook",null,"978-1-4824-2983-1",2016,"August 2015",null,null,"Author","Peter Castellano",5,0.5,16,null,"I","920L","Grade 1","Grade 3 - 6","Mixed martial arts, or MMA, has a long history since it includes techniques from older fighting styles like tae kwon do, muay thai, and Greco-Roman wrestling. But the popular sport is truly a modern invention that may result in blood, sweat, and tears. Readers learn about the fearless fighters who enter the cage for each bout, as well as MMA history and the formation of the UFC. MMA safety and rules are emphasized, including the need for specific training and great physical fitness. Full-color images highlight the intensity and drama of bouts for both the fighters and the crowd.","English",26.6,19.95,"796.815","32 pp.",{"$f":"Table1[[#This Row],['# Books]]*Table1[[#This Row],[QTY]]","v":0},{"$f":"Table1[[#This Row],[QTY]]*Table1[[#This Row],[S&L Price]]","v":0}]
[null,58,32,"Daredevil Sports",1,"Motocross","Library Bound Book",null,"978-1-4824-2985-5",2016,"August 2015","Library","6.500 X 9.125","Author","Peter Castellano",4.7,0.5,16,null,"I","890L","Grade 1","Grade 3 - 6","Likely the most physically difficult motorcycle sport, motocross challenges its riders with rough terrain and high-speed competition. With events taking place on courses 1 to 3 miles long, motocross riders need to have endurance as well as the fearlessness characteristic of daredevil athletes. Readers enter the fast-paced world of motocross through accessible language and exciting information that will appeal to even reluctant readers. A colorful layout and photographs showcase on-course action, while the main content introduces the rules of the sport as well as safety. Full of high-octane fact boxes, this volume is a ride readers can enjoy without a helmet.","English",26.6,19.95,"796.7","32 pp.",{"$f":"Table1[[#This Row],['# Books]]*Table1[[#This Row],[QTY]]","v":0},{"$f":"Table1[[#This Row],[QTY]]*Table1[[#This Row],[S&L Price]]","v":0}]
[null,58,32,"Daredevil Sports",1,"Motocross","eBook",null,"978-1-4824-2986-2",2016,"August 2015",null,null,"Author","Peter Castellano",4.7,0.5,16,null,"I","890L","Grade 1","Grade 3 - 6","Likely the most physically difficult motorcycle sport, motocross challenges its riders with rough terrain and high-speed competition. With events taking place on courses 1 to 3 miles long, motocross riders need to have endurance as well as the fearlessness characteristic of daredevil athletes. Readers enter the fast-paced world of motocross through accessible language and exciting information that will appeal to even reluctant readers. A colorful layout and photographs showcase on-course action, while the main content introduces the rules of the sport as well as safety. Full of high-octane fact boxes, this volume is a ride readers can enjoy without a helmet.","English",26.6,19.95,"796.7","32 pp.",{"$f":"Table1[[#This Row],['# Books]]*Table1[[#This Row],[QTY]]","v":0},{"$f":"Table1[[#This Row],[QTY]]*Table1[[#This Row],[S&L Price]]","v":0}]
[null,58,32,"Daredevil Sports",1,"Paintball","Library Bound Book",null,"978-1-4824-2991-6",2016,"August 2015","Library","6.500 X 9.125","Author","Demi Jackson",4.3,0.5,16,null,"I","850L","Grade 1","Grade 3 - 6","Paintball isn’t a sport for the faint of heart. Often used as military and police training, paintball involves stalking and shooting an opposing team—and getting hit can hurt! Readers find out all about rule variation, gear, and different game play before having to hit the field, or get hit by capsules full of paint! Written in accessible language and with a colorful layout, this high-interest topic will appeal to readers of all abilities. Full-color photographs of intense paintball games and fun fact boxes highlight this daredevil sport’s most extreme moments.","English",26.6,19.95,"796.2","32 pp.",{"$f":"Table1[[#This Row],['# Books]]*Table1[[#This Row],[QTY]]","v":0},{"$f":"Table1[[#This Row],[QTY]]*Table1[[#This Row],[S&L Price]]","v":0}]
[null,58,32,"Daredevil Sports",1,"Paintball","eBook",null,"978-1-4824-2990-9",2016,"August 2015",null,null,"Author","Demi Jackson",4.3,0.5,16,null,"I","850L","Grade 1","Grade 3 - 6","Paintball isn’t a sport for the faint of heart. Often used as military and police training, paintball involves stalking and shooting an opposing team—and getting hit can hurt! Readers find out all about rule variation, gear, and different game play before having to hit the field, or get hit by capsules full of paint! Written in accessible language and with a colorful layout, this high-interest topic will appeal to readers of all abilities. Full-color photographs of intense paintball games and fun fact boxes highlight this daredevil sport’s most extreme moments.","English",26.6,19.95,"796.2","32 pp.",{"$f":"Table1[[#This Row],['# Books]]*Table1[[#This Row],[QTY]]","v":0},{"$f":"Table1[[#This Row],[QTY]]*Table1[[#This Row],[S&L Price]]","v":0}]
[null,58,32,"Daredevil Sports",1,"Parkour","Library Bound Book",null,"978-1-4824-2994-7",2016,"August 2015","Library","6.500 X 9.125","Author","Demi Jackson",4.7,0.5,16,null,"I","850L","Grade 1","Grade 3 - 6","As a sport, parkour has only been around since the 1980s. However, it promotes a frame of mind often encouraged by snowboarders, skateboarders, and other extreme sports enthusiasts: see your environment differently and use it. Parkour athletes use their sport to get around doing anything but walking! Reader learns how parkour developed and also how it’s practiced around the world. Full-color photographs showcase different moves, styles, and events. Readers are sure to be inspired by the free-spirited daredevils of parkour, highlighted by a playful layout and exciting fact boxes.","English",26.6,19.95,"796.04","32 pp.",{"$f":"Table1[[#This Row],['# Books]]*Table1[[#This Row],[QTY]]","v":0},{"$f":"Table1[[#This Row],[QTY]]*Table1[[#This Row],[S&L Price]]","v":0}]
[null,58,32,"Daredevil Sports",1,"Parkour","eBook",null,"978-1-4824-2995-4",2016,"August 2015",null,null,"Author","Demi Jackson",4.7,0.5,16,null,"I","850L","Grade 1","Grade 3 - 6","As a sport, parkour has only been around since the 1980s. However, it promotes a frame of mind often encouraged by snowboarders, skateboarders, and other extreme sports enthusiasts: see your environment differently and use it. Parkour athletes use their sport to get around doing anything but walking! Reader learns how parkour developed and also how it’s practiced around the world. Full-color photographs showcase different moves, styles, and events. Readers are sure to be inspired by the free-spirited daredevils of parkour, highlighted by a playful layout and exciting fact boxes.","English",26.6,19.95,"796.04","32 pp.",{"$f":"Table1[[#This Row],['# Books]]*Table1[[#This Row],[QTY]]","v":0},{"$f":"Table1[[#This Row],[QTY]]*Table1[[#This Row],[S&L Price]]","v":0}]
[null,58,32,"Daredevil Sports",1,"Roller Derby","Library Bound Book",null,"978-1-4824-2999-2",2016,"August 2015","Library","6.500 X 9.125","Author","Demi Jackson",4.8,0.5,16,null,"I","900L","Grade 1","Grade 3 - 6","Roller derby is an extreme sport making a comeback! With a history that dates back to the 1930s, in the last decade, roller derby teams have grown in number and popularity. Readers take a turn around the track and discover that, from hard hits to fast breaks, the action in roller derby is nonstop.  Full-color photographs highlight the mostly female teams who dominate the sport and the theatrical quality of each jam, or matchup. Safety tips offer help to new skaters, as this sport can get aggressive fast.","English",26.6,19.95,"796.21","32 pp.",{"$f":"Table1[[#This Row],['# Books]]*Table1[[#This Row],[QTY]]","v":0},{"$f":"Table1[[#This Row],[QTY]]*Table1[[#This Row],[S&L Price]]","v":0}]
[null,58,32,"Daredevil Sports",1,"Roller Derby","eBook",null,"978-1-4824-3000-4",2016,"August 2015",null,null,"Author","Demi Jackson",4.8,0.5,16,null,"I","900L","Grade 1","Grade 3 - 6","Roller derby is an extreme sport making a comeback! With a history that dates back to the 1930s, in the last decade, roller derby teams have grown in number and popularity. Readers take a turn around the track and discover that, from hard hits to fast breaks, the action in roller derby is nonstop.  Full-color photographs highlight the mostly female teams who dominate the sport and the theatrical quality of each jam, or matchup. Safety tips offer help to new skaters, as this sport can get aggressive fast.","English",26.6,19.95,"796.21","32 pp.",{"$f":"Table1[[#This Row],['# Books]]*Table1[[#This Row],[QTY]]","v":0},{"$f":"Table1[[#This Row],[QTY]]*Table1[[#This Row],[S&L Price]]","v":0}]
[null,56,33,"US Armed Forces",6,"US Armed Forces","Library Set",null,"978-1-5382-0479-5",2018,"August 2017","Library","6.500 X 9.125",null,null,null,null,null,null,null,null,"Grade 1 - 2","Grade 3 - 6","Many readers have someone in their life who has served or is currently serving in the military. This series helps explain how that person got the job as well as the duties involved, encouraging a deeper, more mature understanding of someone they care about. It can also help readers take the path into the armed forces themselves, providing insight into the process and guidelines for joining the air force, army, coast guard, marines, navy, and national guard. A brief overview of each of the types of service is included in each book.","English",159.6,119.7,null,"32 pp.",{"$f":"Table1[[#This Row],['# Books]]*Table1[[#This Row],[QTY]]","v":0},{"$f":"Table1[[#This Row],[QTY]]*Table1[[#This Row],[S&L Price]]","v":0}]
[null,56,33,"US Armed Forces",1,"Join the Air Force","Library Bound Book",null,"978-1-5382-0532-7",2018,"August 2017","Library","6.500 X 9.125","Author","P. P. Mitchell",null,null,null,null,"I",null,"Grade 1 - 2","Grade 3 - 6","Most readers will at least have a cursory awareness of the air force, the awesome, flying arm of the US military fleet. This book is the next step for readers to learn and understand how to become part of this fighting force. Readers will enter the exciting world of the air force through accessible language and focused information that appeals to even reluctant readers. Full-color photographs—and a bonus diagram of the uniforms—bring the content to life, while fact boxes throughout provide a historical frame of reference.","English",26.6,19.95,"358.40023/73--dc23","32 pp.",{"$f":"Table1[[#This Row],['# Books]]*Table1[[#This Row],[QTY]]","v":0},{"$f":"Table1[[#This Row],[QTY]]*Table1[[#This Row],[S&L Price]]","v":0}]
[null,56,33,"US Armed Forces",1,"Join the Air Force","eBook",null,"978-1-5382-0533-4",2018,"August 2017",null,null,"Author","P. P. Mitchell",null,null,null,null,"I",null,"Grade 1 - 2","Grade 3 - 6","Most readers will at least have a cursory awareness of the air force, the awesome, flying arm of the US military fleet. This book is the next step for readers to learn and understand how to become part of this fighting force. Readers will enter the exciting world of the air force through accessible language and focused information that appeals to even reluctant readers. Full-color photographs—and a bonus diagram of the uniforms—bring the content to life, while fact boxes throughout provide a historical frame of reference.","English",26.6,19.95,"358.40023/73--dc23","32 pp.",{"$f":"Table1[[#This Row],['# Books]]*Table1[[#This Row],[QTY]]","v":0},{"$f":"Table1[[#This Row],[QTY]]*Table1[[#This Row],[S&L Price]]","v":0}]
[null,56,33,"US Armed Forces",1,"Join the Army","Library Bound Book",null,"978-1-5382-0536-5",2018,"August 2017","Library","6.500 X 9.125","Author","P. P. Mitchell",null,null,null,null,"I",null,"Grade 1 - 2","Grade 3 - 6","Everyone’s heard of the army, but how do you join? What’s it like being in the army? How do the rankings work? Written in accessible language and with a colorful layout, this high-interest book will appeal to readers of all abilities! Full-color photography, and even a diagram explaining the uniform, bring each spread of this book to life, while focused, useful fact boxes develop a deeper understanding of the army by providing historical information.","English",26.6,19.95,"355.0023/73--dc23","32 pp.",{"$f":"Table1[[#This Row],['# Books]]*Table1[[#This Row],[QTY]]","v":0},{"$f":"Table1[[#This Row],[QTY]]*Table1[[#This Row],[S&L Price]]","v":0}]
[null,56,33,"US Armed Forces",1,"Join the Army","eBook",null,"978-1-5382-0537-2",2018,"August 2017",null,null,"Author","P. P. Mitchell",null,null,null,null,"I",null,"Grade 1 - 2","Grade 3 - 6","Everyone’s heard of the army, but how do you join? What’s it like being in the army? How do the rankings work? Written in accessible language and with a colorful layout, this high-interest book will appeal to readers of all abilities! Full-color photography, and even a diagram explaining the uniform, bring each spread of this book to life, while focused, useful fact boxes develop a deeper understanding of the army by providing historical information.","English",26.6,19.95,"355.0023/73--dc23","32 pp.",{"$f":"Table1[[#This Row],['# Books]]*Table1[[#This Row],[QTY]]","v":0},{"$f":"Table1[[#This Row],[QTY]]*Table1[[#This Row],[S&L Price]]","v":0}]
[null,56,33,"US Armed Forces",1,"Join the Coast Guard","Library Bound Book",null,"978-1-5382-0542-6",2018,"August 2017","Library","6.500 X 9.125","Author","P. P. Mitchell",null,null,null,null,"I",null,"Grade 1 - 2","Grade 3 - 6","The coast guard is a unique branch of the US military, operating under the Department of Homeland Security during peacetime, but able to be transferred to the navy by the president or Congress. They are organized in a way that allows for quick response to crises such as Hurricane Katrina and Tropical Storm Rita. Learning about this special part of the US military will appeal to readers of all abilities! Artwork including full-color photographs and diagrams bring this book to life, and a historical frame of reference is provided on each spread through fascinating fact boxes.","English",26.6,19.95,"363.28/602373--dc23","32 pp.",{"$f":"Table1[[#This Row],['# Books]]*Table1[[#This Row],[QTY]]","v":0},{"$f":"Table1[[#This Row],[QTY]]*Table1[[#This Row],[S&L Price]]","v":0}]
[null,56,33,"US Armed Forces",1,"Join the Coast Guard","eBook",null,"978-1-5382-0543-3",2018,"August 2017",null,null,"Author","P. P. Mitchell",null,null,null,null,"I",null,"Grade 1 - 2","Grade 3 - 6","The coast guard is a unique branch of the US military, operating under the Department of Homeland Security during peacetime, but able to be transferred to the navy by the president or Congress. They are organized in a way that allows for quick response to crises such as Hurricane Katrina and Tropical Storm Rita. Learning about this special part of the US military will appeal to readers of all abilities! Artwork including full-color photographs and diagrams bring this book to life, and a historical frame of reference is provided on each spread through fascinating fact boxes.","English",26.6,19.95,"363.28/602373--dc23","32 pp.",{"$f":"Table1[[#This Row],['# Books]]*Table1[[#This Row],[QTY]]","v":0},{"$f":"Table1[[#This Row],[QTY]]*Table1[[#This Row],[S&L Price]]","v":0}]
[null,56,33,"US Armed Forces",1,"Join the Marines","Library Bound Book",null,"978-1-5382-0546-4",2018,"August 2017","Library","6.500 X 9.125","Author","P. P. Mitchell",null,null,null,null,"I",null,"Grade 1 - 2","Grade 3 - 6","The marines make headlines frequently for their daring missions and bravery. There’s no better time than now to offer this inside look into how one becomes a marine and into the life of these incredible heroes in a way that will appeal to even reluctant readers! Through age-appropriate content about duties, rankings, special ops, and even uniforms, this book fosters a deeper understanding of the men and women who serve our country at an accessible reading level. Fact boxes on each spread expand the experience by providing historical context.","English",26.6,19.95,"359.9/602373--dc23","32 pp.",{"$f":"Table1[[#This Row],['# Books]]*Table1[[#This Row],[QTY]]","v":0},{"$f":"Table1[[#This Row],[QTY]]*Table1[[#This Row],[S&L Price]]","v":0}]
[null,56,33,"US Armed Forces",1,"Join the Marines","eBook",null,"978-1-5382-0547-1",2018,"August 2017",null,null,"Author","P. P. Mitchell",null,null,null,null,"I",null,"Grade 1 - 2","Grade 3 - 6","The marines make headlines frequently for their daring missions and bravery. There’s no better time than now to offer this inside look into how one becomes a marine and into the life of these incredible heroes in a way that will appeal to even reluctant readers! Through age-appropriate content about duties, rankings, special ops, and even uniforms, this book fosters a deeper understanding of the men and women who serve our country at an accessible reading level. Fact boxes on each spread expand the experience by providing historical context.","English",26.6,19.95,"359.9/602373--dc23","32 pp.",{"$f":"Table1[[#This Row],['# Books]]*Table1[[#This Row],[QTY]]","v":0},{"$f":"Table1[[#This Row],[QTY]]*Table1[[#This Row],[S&L Price]]","v":0}]
[null,56,33,"US Armed Forces",1,"Join the National Guard","Library Bound Book",null,"978-1-5382-0553-2",2018,"August 2017","Library","6.500 X 9.125","Author","P. P. Mitchell",null,null,null,null,"I",null,"Grade 1 - 2","Grade 3 - 6","Many readers know or have heard of someone who’s served in the US National Guard, but they likely don’t have an understanding of what this home defense force does for our country. This volume blends interesting, focused information about a high-interest topic with accessible language to create a reading experience that even struggling readers will enjoy! Full-color photographs and even a diagram breaking down the uniform bring to life engaging content, while fact boxes develop a deeper understanding of the national guard by providing a historical frame of reference.","English",26.6,19.95,"355.3/702373--dc23","32 pp.",{"$f":"Table1[[#This Row],['# Books]]*Table1[[#This Row],[QTY]]","v":0},{"$f":"Table1[[#This Row],[QTY]]*Table1[[#This Row],[S&L Price]]","v":0}]
[null,56,33,"US Armed Forces",1,"Join the National Guard","eBook",null,"978-1-5382-0554-9",2018,"August 2017",null,null,"Author","P. P. Mitchell",null,null,null,null,"I",null,"Grade 1 - 2","Grade 3 - 6","Many readers know or have heard of someone who’s served in the US National Guard, but they likely don’t have an understanding of what this home defense force does for our country. This volume blends interesting, focused information about a high-interest topic with accessible language to create a reading experience that even struggling readers will enjoy! Full-color photographs and even a diagram breaking down the uniform bring to life engaging content, while fact boxes develop a deeper understanding of the national guard by providing a historical frame of reference.","English",26.6,19.95,"355.3/702373--dc23","32 pp.",{"$f":"Table1[[#This Row],['# Books]]*Table1[[#This Row],[QTY]]","v":0},{"$f":"Table1[[#This Row],[QTY]]*Table1[[#This Row],[S&L Price]]","v":0}]
[null,56,33,"US Armed Forces",1,"Join the Navy","Library Bound Book",null,"978-1-5382-0550-1",2018,"August 2017","Library","6.500 X 9.125","Author","P. P. Mitchell",null,null,null,null,"I",null,"Grade 1 - 2","Grade 3 - 6","How is the navy different than the coast guard or marines? Don’t they all work on boats? This book combines a high-interest topic with an accessible reading level that will grab the attention of even struggling readers. Helpful and captivating full-color photographs and diagrams illuminate the main content, while fact boxes help readers develop a deeper understanding of the navy by providing a historical frame of reference. Readers will explore the Navy’s missions, uniforms, special ops, ranks, equipment, and so much more!","English",26.6,19.95,"359.0023/73--dc23","32 pp.",{"$f":"Table1[[#This Row],['# Books]]*Table1[[#This Row],[QTY]]","v":0},{"$f":"Table1[[#This Row],[QTY]]*Table1[[#This Row],[S&L Price]]","v":0}]
[null,56,33,"US Armed Forces",1,"Join the Navy","eBook",null,"978-1-5382-0551-8",2018,"August 2017",null,null,"Author","P. P. Mitchell",null,null,null,null,"I",null,"Grade 1 - 2","Grade 3 - 6","How is the navy different than the coast guard or marines? Don’t they all work on boats? This book combines a high-interest topic with an accessible reading level that will grab the attention of even struggling readers. Helpful and captivating full-color photographs and diagrams illuminate the main content, while fact boxes help readers develop a deeper understanding of the navy by providing a historical frame of reference. Readers will explore the Navy’s missions, uniforms, special ops, ranks, equipment, and so much more!","English",26.6,19.95,"359.0023/73--dc23","32 pp.",{"$f":"Table1[[#This Row],['# Books]]*Table1[[#This Row],[QTY]]","v":0},{"$f":"Table1[[#This Row],[QTY]]*Table1[[#This Row],[S&L Price]]","v":0}]
[null,63,34,"Fun Fact File: Earth Science",6,"Fun Fact File: Earth Science","Library Set",null,"978-1-5382-1288-2",2018,"January 2018","Library","8.500 X 8.500",null,null,null,null,null,null,null,null,"Grade 2 - 3","Grade 2 - 5","What better way to learn about the world than through fascinating facts? From rocks and fossils to world wonders, children love learning new and surprising tidbits that they can share with their friends and family. The books in this series cover dozens of topics on a wide range of interests; there is no shortage of cool, interesting, and wacky facts to keep young readers engaged from beginning to end. Teachers and parents will love that science, social studies, and history are being taught in the process. There is something for every young reader in this collection.","English",151.5,113.7,null,"32 pp.",{"$f":"Table1[[#This Row],['# Books]]*Table1[[#This Row],[QTY]]","v":0},{"$f":"Table1[[#This Row],[QTY]]*Table1[[#This Row],[S&L Price]]","v":0}]
[null,63,34,"Fun Fact File: Earth Science",1,"20 Fun Facts About Astronomy","Library Bound Book",null,"978-1-5382-1175-5",2018,"January 2018","Library","8.500 X 8.500","Author","Jill Keppeler",null,null,null,null,"N",null,"Grade 2 - 3","Grade 2 - 5","From black holes to dark matter, galaxies to supernovas, nothing could be more fascinating than outer space, especially to young readers. Every day, scientists are discovering new, mind-blowing facts about the universe's infinite mysteries. This engaging volume is filled with amazing astronomical science concepts presented at an age-appropriate level via an entertaining fun-fact layout . Brilliant, full-color photography and clear graphic organizers accompany accessible text for a reading experience that's out of this world.","English",25.25,18.95,"520--dc23","32 pp.",{"$f":"Table1[[#This Row],['# Books]]*Table1[[#This Row],[QTY]]","v":0},{"$f":"Table1[[#This Row],[QTY]]*Table1[[#This Row],[S&L Price]]","v":0}]
[null,63,34,"Fun Fact File: Earth Science",1,"20 Fun Facts About Astronomy","eBook",null,"978-1-5382-1176-2",2018,"January 2018",null,null,"Author","Jill Keppeler",null,null,null,null,"N",null,"Grade 2 - 3","Grade 2 - 5","From black holes to dark matter, galaxies to supernovas, nothing could be more fascinating than outer space, especially to young readers. Every day, scientists are discovering new, mind-blowing facts about the universe's infinite mysteries. This engaging volume is filled with amazing astronomical science concepts presented at an age-appropriate level via an entertaining fun-fact layout . Brilliant, full-color photography and clear graphic organizers accompany accessible text for a reading experience that's out of this world.","English",25.25,18.95,"520--dc23","32 pp.",{"$f":"Table1[[#This Row],['# Books]]*Table1[[#This Row],[QTY]]","v":0},{"$f":"Table1[[#This Row],[QTY]]*Table1[[#This Row],[S&L Price]]","v":0}]
[null,63,34,"Fun Fact File: Earth Science",1,"20 Fun Facts About Earth's Resources","Library Bound Book",null,"978-1-5382-1179-3",2018,"January 2018","Library","8.500 X 8.500","Author","Sarah Machajewski",null,null,null,null,"N",null,"Grade 2 - 3","Grade 2 - 5","Geothermal heat, made by the disintegration of the radioactive atoms in Earth's core, is not a subject young readers often get to learn about. Heavy metals and solar energy, two topics that are constantly appearing in technology news today, are typically left for more advanced readers to discover and understand. By using accessible yet exciting language and bold, colorful photography and art, this book lets young readers explore a plethora of fascinating yet digestible facts about what our planet naturally provides and how we harness it.","English",25.25,18.95,"333.7--dc23","32 pp.",{"$f":"Table1[[#This Row],['# Books]]*Table1[[#This Row],[QTY]]","v":0},{"$f":"Table1[[#This Row],[QTY]]*Table1[[#This Row],[S&L Price]]","v":0}]
[null,63,34,"Fun Fact File: Earth Science",1,"20 Fun Facts About Earth's Resources","eBook",null,"978-1-5382-1180-9",2018,"January 2018",null,null,"Author","Sarah Machajewski",null,null,null,null,"N",null,"Grade 2 - 3","Grade 2 - 5","Geothermal heat, made by the disintegration of the radioactive atoms in Earth's core, is not a subject young readers often get to learn about. Heavy metals and solar energy, two topics that are constantly appearing in technology news today, are typically left for more advanced readers to discover and understand. By using accessible yet exciting language and bold, colorful photography and art, this book lets young readers explore a plethora of fascinating yet digestible facts about what our planet naturally provides and how we harness it.","English",25.25,18.95,"333.7--dc23","32 pp.",{"$f":"Table1[[#This Row],['# Books]]*Table1[[#This Row],[QTY]]","v":0},{"$f":"Table1[[#This Row],[QTY]]*Table1[[#This Row],[S&L Price]]","v":0}]
[null,63,34,"Fun Fact File: Earth Science",1,"20 Fun Facts About Fossils","Library Bound Book",null,"978-1-5382-1183-0",2018,"January 2018","Library","8.500 X 8.500","Author","Janey Levy",null,null,null,null,"N",null,"Grade 2 - 3","Grade 2 - 5","In this dynamic volume on a perpetually popular subject, budding paleontologists learn about a birdlike dinosaur in China, a fossilized dinosaur brain in England, and dinosaur feathers trapped in amber in Myanmar. They'll also come face-to-face with the largest dinosaur ever found, a reptile heavier than a Boeing 737, in Argentina. All of these amazing things have been discovered in just the past few years. Fossils are truly some of the most exciting things science has to offer, especially to young readers. This volume is jam-packed with the most up-to-date unearthings, all complemented by colorful art that brings these creatures to life. A detailed graphic organizer provides visual reinforcement to summarize fascinating new discoveries.","English",25.25,18.95,"560--dc23","32 pp.",{"$f":"Table1[[#This Row],['# Books]]*Table1[[#This Row],[QTY]]","v":0},{"$f":"Table1[[#This Row],[QTY]]*Table1[[#This Row],[S&L Price]]","v":0}]
[null,63,34,"Fun Fact File: Earth Science",1,"20 Fun Facts About Fossils","eBook",null,"978-1-5382-1184-7",2018,"January 2018",null,null,"Author","Janey Levy",null,null,null,null,"N",null,"Grade 2 - 3","Grade 2 - 5","In this dynamic volume on a perpetually popular subject, budding paleontologists learn about a birdlike dinosaur in China, a fossilized dinosaur brain in England, and dinosaur feathers trapped in amber in Myanmar. They'll also come face-to-face with the largest dinosaur ever found, a reptile heavier than a Boeing 737, in Argentina. All of these amazing things have been discovered in just the past few years. Fossils are truly some of the most exciting things science has to offer, especially to young readers. This volume is jam-packed with the most up-to-date unearthings, all complemented by colorful art that brings these creatures to life. A detailed graphic organizer provides visual reinforcement to summarize fascinating new discoveries.","English",25.25,18.95,"560--dc23","32 pp.",{"$f":"Table1[[#This Row],['# Books]]*Table1[[#This Row],[QTY]]","v":0},{"$f":"Table1[[#This Row],[QTY]]*Table1[[#This Row],[S&L Price]]","v":0}]
[null,63,34,"Fun Fact File: Earth Science",1,"20 Fun Facts About Geology","Library Bound Book",null,"978-1-5382-1187-8",2018,"January 2018","Library","8.500 X 8.500","Author","Sarah Machajewski",null,null,null,null,"N",null,"Grade 2 - 3","Grade 2 - 5","Learning how Earth, mountains, oceans, and other fantastic landforms were formed millions of years ago truly expands a young reader's concept of their own life and the world around them. This geology-themed book full of fun, easily digestible facts provides engaging insights into the planet we call home. Essential earth science concepts are explained in accessible language and accompanied by fantastic, full-color photographs and dynamic graphic organizers, making this volume invaluable for visual learners and a value to any library collection.","English",25.25,18.95,"551.02--dc23","32 pp.",{"$f":"Table1[[#This Row],['# Books]]*Table1[[#This Row],[QTY]]","v":0},{"$f":"Table1[[#This Row],[QTY]]*Table1[[#This Row],[S&L Price]]","v":0}]
[null,63,34,"Fun Fact File: Earth Science",1,"20 Fun Facts About Geology","eBook",null,"978-1-5382-1188-5",2018,"January 2018",null,null,"Author","Sarah Machajewski",null,null,null,null,"N",null,"Grade 2 - 3","Grade 2 - 5","Learning how Earth, mountains, oceans, and other fantastic landforms were formed millions of years ago truly expands a young reader's concept of their own life and the world around them. This geology-themed book full of fun, easily digestible facts provides engaging insights into the planet we call home. Essential earth science concepts are explained in accessible language and accompanied by fantastic, full-color photographs and dynamic graphic organizers, making this volume invaluable for visual learners and a value to any library collection.","English",25.25,18.95,"551.02--dc23","32 pp.",{"$f":"Table1[[#This Row],['# Books]]*Table1[[#This Row],[QTY]]","v":0},{"$f":"Table1[[#This Row],[QTY]]*Table1[[#This Row],[S&L Price]]","v":0}]
[null,63,34,"Fun Fact File: Earth Science",1,"20 Fun Facts About Rocks and Gems","Library Bound Book",null,"978-1-5382-1191-5",2018,"January 2018","Library","8.500 X 8.500","Author","Theresa Morlock",null,null,null,null,"N",null,"Grade 2 - 3","Grade 2 - 5","The glittering shapes of gems and crystals, the strange glowing of phosphorescent rocks, these objects mesmerize young audiences. This volume of fascinating and accessible factoids introduces young readers to strange rocks and gems like tourmaline, which comes in every color and has been mistaken for other gems for centuries. It also explains the essential science concept of rock and gem formation in easy, age-appropriate language. Fantastic photographs compliment each fun fact, and a detailed graphic organizer provides a convenient summary of some of the coolest gems and rocks Earth has to offer.","English",25.25,18.95,"552.002--dc23","32 pp.",{"$f":"Table1[[#This Row],['# Books]]*Table1[[#This Row],[QTY]]","v":0},{"$f":"Table1[[#This Row],[QTY]]*Table1[[#This Row],[S&L Price]]","v":0}]
[null,63,34,"Fun Fact File: Earth Science",1,"20 Fun Facts About Rocks and Gems","eBook",null,"978-1-5382-1192-2",2018,"January 2018",null,null,"Author","Theresa Morlock",null,null,null,null,"N",null,"Grade 2 - 3","Grade 2 - 5","The glittering shapes of gems and crystals, the strange glowing of phosphorescent rocks, these objects mesmerize young audiences. This volume of fascinating and accessible factoids introduces young readers to strange rocks and gems like tourmaline, which comes in every color and has been mistaken for other gems for centuries. It also explains the essential science concept of rock and gem formation in easy, age-appropriate language. Fantastic photographs compliment each fun fact, and a detailed graphic organizer provides a convenient summary of some of the coolest gems and rocks Earth has to offer.","English",25.25,18.95,"552.002--dc23","32 pp.",{"$f":"Table1[[#This Row],['# Books]]*Table1[[#This Row],[QTY]]","v":0},{"$f":"Table1[[#This Row],[QTY]]*Table1[[#This Row],[S&L Price]]","v":0}]
[null,63,34,"Fun Fact File: Earth Science",1,"20 Fun Facts About Weather","Library Bound Book",null,"978-1-5382-1195-3",2018,"January 2018","Library","8.500 X 8.500","Author","Caitie McAneney",null,null,null,null,"N",null,"Grade 2 - 3","Grade 2 - 5","News of wild, unprecedented tornado systems and freaky blizzards in Texas fill the airwaves regularly. How does Earth's weather really work? Readers will love each jam-packed page of this book, filled with not only fascinating and digestible facts, but also vibrant, full-color photography that brings Earth's atmosphere and wild weather to life. The accessible text is accompanied by age-appropriate graphic organizers to make learning about this essential science topic a breeze for readers of all levels.","English",25.25,18.95,"551.5--dc23","32 pp.",{"$f":"Table1[[#This Row],['# Books]]*Table1[[#This Row],[QTY]]","v":0},{"$f":"Table1[[#This Row],[QTY]]*Table1[[#This Row],[S&L Price]]","v":0}]
[null,63,34,"Fun Fact File: Earth Science",1,"20 Fun Facts About Weather","eBook",null,"978-1-5382-1196-0",2018,"January 2018",null,null,"Author","Caitie McAneney",null,null,null,null,"N",null,"Grade 2 - 3","Grade 2 - 5","News of wild, unprecedented tornado systems and freaky blizzards in Texas fill the airwaves regularly. How does Earth's weather really work? Readers will love each jam-packed page of this book, filled with not only fascinating and digestible facts, but also vibrant, full-color photography that brings Earth's atmosphere and wild weather to life. The accessible text is accompanied by age-appropriate graphic organizers to make learning about this essential science topic a breeze for readers of all levels.","English",25.25,18.95,"551.5--dc23","32 pp.",{"$f":"Table1[[#This Row],['# Books]]*Table1[[#This Row],[QTY]]","v":0},{"$f":"Table1[[#This Row],[QTY]]*Table1[[#This Row],[S&L Price]]","v":0}]
[null,63,35,"Fun Fact File: Founding Fathers",6,"Fun Fact File: Founding Fathers","Library Set",null,"978-1-5382-0469-6",2018,"August 2017","Library","8.500 X 8.500",null,null,null,null,null,null,null,null,"Grade 2 - 3","Grade 2 - 5","The men responsible for creating the United States were certainly not boring. Some were inventors, lawyers, or owned lots of land. Others, like George Washington, were famous military leaders, and many went on to become the nation’s president. Some—like Alexander Hamilton and Aaron Burr, were bitter rivals! From duels and policy fights to battles for the White House itself, these American icons led exciting lives full of fun facts. Readers will discover just what made these founding fathers so special through colorful images and illustrations paired with unique facts in the latest iteration of this long-running series.","English",151.5,113.7,null,"32 pp.",{"$f":"Table1[[#This Row],['# Books]]*Table1[[#This Row],[QTY]]","v":0},{"$f":"Table1[[#This Row],[QTY]]*Table1[[#This Row],[S&L Price]]","v":0}]
[null,63,35,"Fun Fact File: Founding Fathers",1,"20 Fun Facts About Aaron Burr","Library Bound Book",null,"978-1-5382-0281-4",2018,"August 2017","Library","8.500 X 8.500","Author","M. H. Seeley",null,null,null,null,"N",null,"Grade 2 - 3","Grade 2 - 5","Aaron Burr is likely best known as the person who killed Alexander Hamilton in a duel, but there’s so much more to this Founding Father’s life. For starters, most people don’t know that he almost became president! He was also charged with treason. This book full of fun facts takes history buffs deep into the life of one of the most interesting Founding Fathers, presenting a unique biography that provides color to a life led at the birth of America. The book also focuses on Burr’s political career and explains why he killed Hamilton in a duel in New Jersey, forever changing American history.","English",25.25,18.95,"973.4/6092--dc23","32 pp.",{"$f":"Table1[[#This Row],['# Books]]*Table1[[#This Row],[QTY]]","v":0},{"$f":"Table1[[#This Row],[QTY]]*Table1[[#This Row],[S&L Price]]","v":0}]
[null,63,35,"Fun Fact File: Founding Fathers",1,"20 Fun Facts About Aaron Burr","eBook",null,"978-1-5382-0275-3",2018,"August 2017",null,null,"Author","M. H. Seeley",null,null,null,null,"N",null,"Grade 2 - 3","Grade 2 - 5","Aaron Burr is likely best known as the person who killed Alexander Hamilton in a duel, but there’s so much more to this Founding Father’s life. For starters, most people don’t know that he almost became president! He was also charged with treason. This book full of fun facts takes history buffs deep into the life of one of the most interesting Founding Fathers, presenting a unique biography that provides color to a life led at the birth of America. The book also focuses on Burr’s political career and explains why he killed Hamilton in a duel in New Jersey, forever changing American history.","English",25.25,18.95,"973.4/6092--dc23","32 pp.",{"$f":"Table1[[#This Row],['# Books]]*Table1[[#This Row],[QTY]]","v":0},{"$f":"Table1[[#This Row],[QTY]]*Table1[[#This Row],[S&L Price]]","v":0}]
[null,63,35,"Fun Fact File: Founding Fathers",1,"20 Fun Facts About Alexander Hamilton","Library Bound Book",null,"978-1-5382-0282-1",2018,"August 2017","Library","8.500 X 8.500","Author","M. H. Seeley",null,null,null,null,"N",null,"Grade 2 - 3","Grade 2 - 5","Alexander Hamilton is a familiar name in American history because of the amazing life he led. From his early life as an orphan to traveling to New York City and becoming an influential Founding Father, Hamilton’s life was full of drama and achievements. This book looks at some of the most remarkable things about his life, giving a glimpse into his life in the Caribbean as well as the battles he had with other Founding Fathers to pass his financial plan for the new nation. Though his life ended in tragedy, readers will love learning about the man whose face appears on the ten-dollar bill in this engaging work full of fascinating trivia.","English",25.25,18.95,"973.4092--dc23","32 pp.",{"$f":"Table1[[#This Row],['# Books]]*Table1[[#This Row],[QTY]]","v":0},{"$f":"Table1[[#This Row],[QTY]]*Table1[[#This Row],[S&L Price]]","v":0}]
[null,63,35,"Fun Fact File: Founding Fathers",1,"20 Fun Facts About Alexander Hamilton","eBook",null,"978-1-5382-0276-0",2018,"August 2017",null,null,"Author","M. H. Seeley",null,null,null,null,"N",null,"Grade 2 - 3","Grade 2 - 5","Alexander Hamilton is a familiar name in American history because of the amazing life he led. From his early life as an orphan to traveling to New York City and becoming an influential Founding Father, Hamilton’s life was full of drama and achievements. This book looks at some of the most remarkable things about his life, giving a glimpse into his life in the Caribbean as well as the battles he had with other Founding Fathers to pass his financial plan for the new nation. Though his life ended in tragedy, readers will love learning about the man whose face appears on the ten-dollar bill in this engaging work full of fascinating trivia.","English",25.25,18.95,"973.4092--dc23","32 pp.",{"$f":"Table1[[#This Row],['# Books]]*Table1[[#This Row],[QTY]]","v":0},{"$f":"Table1[[#This Row],[QTY]]*Table1[[#This Row],[S&L Price]]","v":0}]
[null,63,35,"Fun Fact File: Founding Fathers",1,"20 Fun Facts About Benjamin Franklin","Library Bound Book",null,"978-1-5382-0283-8",2018,"August 2017","Library","8.500 X 8.500","Author","Theresa Morlock",null,null,null,null,"N",null,"Grade 2 - 3","Grade 2 - 5","Benjamin Franklin was one of America’s most inventive Founding Fathers. He wrote books, tinkered with machines, and created entire new professions with his work. This book is full of fun facts and tantalizing trivia about his inventions, his ideas, and how he became one of the most influential Founding Fathers involved in the birth of America. The book also explores some of his strange medical beliefs, his printing industry, and some of the friendships he made during his time in America, giving readers a fuller appreciation for one of America’s most famous—and cherished—citizens.","English",25.25,18.95,"973.3092--dc23","32 pp.",{"$f":"Table1[[#This Row],['# Books]]*Table1[[#This Row],[QTY]]","v":0},{"$f":"Table1[[#This Row],[QTY]]*Table1[[#This Row],[S&L Price]]","v":0}]
[null,63,35,"Fun Fact File: Founding Fathers",1,"20 Fun Facts About Benjamin Franklin","eBook",null,"978-1-5382-0277-7",2018,"August 2017",null,null,"Author","Theresa Morlock",null,null,null,null,"N",null,"Grade 2 - 3","Grade 2 - 5","Benjamin Franklin was one of America’s most inventive Founding Fathers. He wrote books, tinkered with machines, and created entire new professions with his work. This book is full of fun facts and tantalizing trivia about his inventions, his ideas, and how he became one of the most influential Founding Fathers involved in the birth of America. The book also explores some of his strange medical beliefs, his printing industry, and some of the friendships he made during his time in America, giving readers a fuller appreciation for one of America’s most famous—and cherished—citizens.","English",25.25,18.95,"973.3092--dc23","32 pp.",{"$f":"Table1[[#This Row],['# Books]]*Table1[[#This Row],[QTY]]","v":0},{"$f":"Table1[[#This Row],[QTY]]*Table1[[#This Row],[S&L Price]]","v":0}]
[null,63,35,"Fun Fact File: Founding Fathers",1,"20 Fun Facts About George Washington","Library Bound Book",null,"978-1-5382-0284-5",2018,"August 2017","Library","8.500 X 8.500","Author","Katie Kawa",null,null,null,null,"N",null,"Grade 2 - 3","Grade 2 - 5","George Washington is unmistakably America’s most famous Founding Father. He led the Continental Army during the American Revolution and later served as America’s first president. But Washington’s life is full of fun facts that many still don’t know. From his relationships with other Founding Fathers to his early history as a general, there’s much to discuss about one of America’s most famous citizens. This book separates the myths from fact, delving into his famous cherry tree story and other commonly held beliefs about this American icon that many mistake as fact.","English",25.25,18.95,"973.4/1092--dc23","32 pp.",{"$f":"Table1[[#This Row],['# Books]]*Table1[[#This Row],[QTY]]","v":0},{"$f":"Table1[[#This Row],[QTY]]*Table1[[#This Row],[S&L Price]]","v":0}]
[null,63,35,"Fun Fact File: Founding Fathers",1,"20 Fun Facts About George Washington","eBook",null,"978-1-5382-0278-4",2018,"August 2017",null,null,"Author","Katie Kawa",null,null,null,null,"N",null,"Grade 2 - 3","Grade 2 - 5","George Washington is unmistakably America’s most famous Founding Father. He led the Continental Army during the American Revolution and later served as America’s first president. But Washington’s life is full of fun facts that many still don’t know. From his relationships with other Founding Fathers to his early history as a general, there’s much to discuss about one of America’s most famous citizens. This book separates the myths from fact, delving into his famous cherry tree story and other commonly held beliefs about this American icon that many mistake as fact.","English",25.25,18.95,"973.4/1092--dc23","32 pp.",{"$f":"Table1[[#This Row],['# Books]]*Table1[[#This Row],[QTY]]","v":0},{"$f":"Table1[[#This Row],[QTY]]*Table1[[#This Row],[S&L Price]]","v":0}]
[null,63,35,"Fun Fact File: Founding Fathers",1,"20 Fun Facts About James Madison","Library Bound Book",null,"978-1-5382-0285-2",2018,"August 2017","Library","8.500 X 8.500","Author","Arthur K. Britton ",null,null,null,null,"N",null,"Grade 2 - 3","Grade 2 - 5","James Madison helped to ratify America’s constitution and later served as president. But there are many things readers may not know about this Founding Father. Madison, for example, was a prolific writer—helping Alexander Hamilton and John Jay in writing the Federalist Papers. From Madison’s short stature to his early days in the White House, there are plenty of fun facts and stories about America’s fourth president that readers will love. They’ll also be introduced to Madison’s wife—Dolley—who was very influential during his presidency.","English",25.25,18.95,"973.51092092--dc23","32 pp.",{"$f":"Table1[[#This Row],['# Books]]*Table1[[#This Row],[QTY]]","v":0},{"$f":"Table1[[#This Row],[QTY]]*Table1[[#This Row],[S&L Price]]","v":0}]
[null,63,35,"Fun Fact File: Founding Fathers",1,"20 Fun Facts About James Madison","eBook",null,"978-1-5382-0279-1",2018,"August 2017",null,null,"Author","Arthur K. Britton ",null,null,null,null,"N",null,"Grade 2 - 3","Grade 2 - 5","James Madison helped to ratify America’s constitution and later served as president. But there are many things readers may not know about this Founding Father. Madison, for example, was a prolific writer—helping Alexander Hamilton and John Jay in writing the Federalist Papers. From Madison’s short stature to his early days in the White House, there are plenty of fun facts and stories about America’s fourth president that readers will love. They’ll also be introduced to Madison’s wife—Dolley—who was very influential during his presidency.","English",25.25,18.95,"973.51092092--dc23","32 pp.",{"$f":"Table1[[#This Row],['# Books]]*Table1[[#This Row],[QTY]]","v":0},{"$f":"Table1[[#This Row],[QTY]]*Table1[[#This Row],[S&L Price]]","v":0}]
[null,63,35,"Fun Fact File: Founding Fathers",1,"20 Fun Facts About Thomas Jefferson","Library Bound Book",null,"978-1-5382-0286-9",2018,"August 2017","Library","8.500 X 8.500","Author","Jill Keppeler",null,null,null,null,"N",null,"Grade 2 - 3","Grade 2 - 5","Thomas Jefferson is known as the writer of the Declaration of Independence and a champion of democracy, but there was much more to his life than just his writing. From his early life in Virginia to his later presidency and the Louisiana Purchase, the story of Jefferson’s life is full of fun facts readers will love learning. Whether exploring the details of his time in France or in George Washington’s cabinet as the Founding Fathers created the framework for America, readers will get an in-depth look at Jefferson’s role in the creation of their country in this exciting book.","English",25.25,18.95,"973.4/6092--dc23","32 pp.",{"$f":"Table1[[#This Row],['# Books]]*Table1[[#This Row],[QTY]]","v":0},{"$f":"Table1[[#This Row],[QTY]]*Table1[[#This Row],[S&L Price]]","v":0}]
[null,63,35,"Fun Fact File: Founding Fathers",1,"20 Fun Facts About Thomas Jefferson","eBook",null,"978-1-5382-0280-7",2018,"August 2017",null,null,"Author","Jill Keppeler",null,null,null,null,"N",null,"Grade 2 - 3","Grade 2 - 5","Thomas Jefferson is known as the writer of the Declaration of Independence and a champion of democracy, but there was much more to his life than just his writing. From his early life in Virginia to his later presidency and the Louisiana Purchase, the story of Jefferson’s life is full of fun facts readers will love learning. Whether exploring the details of his time in France or in George Washington’s cabinet as the Founding Fathers created the framework for America, readers will get an in-depth look at Jefferson’s role in the creation of their country in this exciting book.","English",25.25,18.95,"973.4/6092--dc23","32 pp.",{"$f":"Table1[[#This Row],['# Books]]*Table1[[#This Row],[QTY]]","v":0},{"$f":"Table1[[#This Row],[QTY]]*Table1[[#This Row],[S&L Price]]","v":0}]
[null,null,35,"Fun Fact File",72,"Fun Fact File: Complete Set","Library Set",null,"978-1-5382-2861-6",2019,"August 2018","Library","8.500 X 8.500"," "," ",null,null,null,null,null,null,"Grade 2 - 3","Grade 2 - 5","What better way to learn about the world than through fascinating facts. From bugs to fossils to world wonders, children love learning new and surprising tidbits that they can share with their friends and family. While teachers and parents will love that science, social studies, and history is being taught in the process. There is no shortage of cool, interesting, wacky facts to keep young readers engaged from beginning to end, while these books cover dozens of topics on a wide range of interests. There's something for every young reader in this collection.","English",1836,1377.9,null,"32 pp.",{"$f":"Table1[[#This Row],['# Books]]*Table1[[#This Row],[QTY]]","v":0},{"$f":"Table1[[#This Row],[QTY]]*Table1[[#This Row],[S&L Price]]","v":0}]
[null,null,35,"Fun Fact File: US History!",6,"Fun Fact File: US History!: Sets 1 – 2","Library Set",null,"978-1-5382-2183-9",2019,"August 2018","Library","8.500 X 8.500"," "," ",null,null,null,null,null,null,"Grade 2 - 3","Grade 2 - 5","Young readers will be so engaged in the fun, wacky, and weird facts on every page of these books that they'll barely notice they're learning and reading. This huge set of books presents so many curriculum-related topics, from bugs to beasts, fossils to fish, the ancient world to present, and so much more, that every young reader is sure to find a volume they'll enjoy. There's no library or classroom that couldn't use this accessible, fun set of books on covering a wide range of interests. Features include: Age-appropriate language explains many important concepts. Opens up a deeper understanding of the world to young readers. Charts, maps, and graphic organizers provide visual learning experiences.","English",303,227.4,null,"32 pp.",{"$f":"Table1[[#This Row],['# Books]]*Table1[[#This Row],[QTY]]","v":0},{"$f":"Table1[[#This Row],[QTY]]*Table1[[#This Row],[S&L Price]]","v":0}]
[null,null,35,"Fun Fact File: US History!",6,"Fun Fact File: US History!: Set 2","Library Set",null,"978-1-5382-2182-2",2019,"August 2018","Library","8.500 X 8.500"," "," ",null,null,null,null,null,null,"Grade 2 - 3","Grade 2 - 5","Did you know that part of San Francisco is built on top of ships from all over the world that were abandoned during the Gold Rush? It took 4 to 6 months to travel the Oregon Trail, and most people walked the whole way. Fun facts like these fill every page of every book of this series. Charts, diagrams, maps, and incredible, full-color imagery enhance comprehension of the facts. Let U.S. history become a welcomed, thrilling topic for young readers through wild, weird, and sometimes unbelievable factoids. Features include: Carefully researched by a trained historian for maximum accuracy, and maximum fun. Breathes new life into history lessons. Curriculum topics are presented in an entertaining way.","English",151.5,113.7,null,"32 pp.",{"$f":"Table1[[#This Row],['# Books]]*Table1[[#This Row],[QTY]]","v":0},{"$f":"Table1[[#This Row],[QTY]]*Table1[[#This Row],[S&L Price]]","v":0}]
[null,null,35,"Fun Fact File: US History!",1,"20 Fun Facts About Congress","Library Bound Book",null,"978-1-5382-1901-0",2019,"August 2018","Library","8.500 X 8.500","Author","Joan Stoltman",null,null,30,null,"N",null,"Grade 2 - 3","Grade 2 - 5","Who makes the laws for our country? Congress does. Readers learning about Congress in school will get a much-needed jolt of excitement thanks to this book. Filled with factoids about strange members of Congress, unbelievable laws, fascinating fights, and other events from the history of Congress, this book draws even the most reluctant readers into history. Each fact is accompanied by an image that allows for further visual comprehension and a caption that adds a splash more of learning and fun.","English",25.25,18.95,null,"32 pp.",{"$f":"Table1[[#This Row],['# Books]]*Table1[[#This Row],[QTY]]","v":0},{"$f":"Table1[[#This Row],[QTY]]*Table1[[#This Row],[S&L Price]]","v":0}]
[null,null,35,"Fun Fact File: US History!",1,"20 Fun Facts About Congress","eBook",null,"978-1-5382-1902-7",2019,"August 2018",null,null,"Author","Joan Stoltman",null,null,30,null,"N",null,"Grade 2 - 3","Grade 2 - 5","Who makes the laws for our country? Congress does. Readers learning about Congress in school will get a much-needed jolt of excitement thanks to this book. Filled with factoids about strange members of Congress, unbelievable laws, fascinating fights, and other events from the history of Congress, this book draws even the most reluctant readers into history. Each fact is accompanied by an image that allows for further visual comprehension and a caption that adds a splash more of learning and fun.","English",25.25,18.95,null,"32 pp.",{"$f":"Table1[[#This Row],['# Books]]*Table1[[#This Row],[QTY]]","v":0},{"$f":"Table1[[#This Row],[QTY]]*Table1[[#This Row],[S&L Price]]","v":0}]
[null,null,35,"Fun Fact File: US History!",1,"20 Fun Facts About the 13 Colonies","Library Bound Book",null,"978-1-5382-1905-8",2019,"August 2018","Library","8.500 X 8.500","Author","Joan Stoltman",null,null,30,null,"N",null,"Grade 2 - 3","Grade 2 - 5","If young readers think that the colonies are just a boring part of America's past, this book will surely change their minds. Each spread is packed with weird, funny, or insightful factoids about how the earliest European settlers came to this strange land and made a home. Vivid, full-color illustrations and photographs on every page add to the comprehension of the facts, while their captions pop even more history tidbits into this book. The fun content and accessible language is sure to engage even the most reluctant readers.","English",25.25,18.95,null,"32 pp.",{"$f":"Table1[[#This Row],['# Books]]*Table1[[#This Row],[QTY]]","v":0},{"$f":"Table1[[#This Row],[QTY]]*Table1[[#This Row],[S&L Price]]","v":0}]
[null,null,35,"Fun Fact File: US History!",1,"20 Fun Facts About the 13 Colonies","eBook",null,"978-1-5382-1906-5",2019,"August 2018",null,null,"Author","Joan Stoltman",null,null,30,null,"N",null,"Grade 2 - 3","Grade 2 - 5","If young readers think that the colonies are just a boring part of America's past, this book will surely change their minds. Each spread is packed with weird, funny, or insightful factoids about how the earliest European settlers came to this strange land and made a home. Vivid, full-color illustrations and photographs on every page add to the comprehension of the facts, while their captions pop even more history tidbits into this book. The fun content and accessible language is sure to engage even the most reluctant readers.","English",25.25,18.95,null,"32 pp.",{"$f":"Table1[[#This Row],['# Books]]*Table1[[#This Row],[QTY]]","v":0},{"$f":"Table1[[#This Row],[QTY]]*Table1[[#This Row],[S&L Price]]","v":0}]
[null,null,35,"Fun Fact File: US History!",1,"20 Fun Facts About the Gold Rush","Library Bound Book",null,"978-1-5382-1909-6",2019,"August 2018","Library","8.500 X 8.500","Author","Joan Stoltman",null,null,30,null,"N",null,"Grade 2 - 3","Grade 2 - 5","Did you know that part of San Francisco was built on top of ships from all over the world that were abandoned during the Gold Rush? Even the most reluctant readers will love discovering history through these strange, awesome, and unbelievable tidbits about the hundreds of thousands of people who left their lives behind and trekked out to California to strike it rich. Incredible early photographs and vivid illustrations bring each factoid into sharp focus, while captions add extra information to each page.","English",25.25,18.95,null,"32 pp.",{"$f":"Table1[[#This Row],['# Books]]*Table1[[#This Row],[QTY]]","v":0},{"$f":"Table1[[#This Row],[QTY]]*Table1[[#This Row],[S&L Price]]","v":0}]
[null,null,35,"Fun Fact File: US History!",1,"20 Fun Facts About the Gold Rush","eBook",null,"978-1-5382-1910-2",2019,"August 2018",null,null,"Author","Joan Stoltman",null,null,30,null,"N",null,"Grade 2 - 3","Grade 2 - 5","Did you know that part of San Francisco was built on top of ships from all over the world that were abandoned during the Gold Rush? Even the most reluctant readers will love discovering history through these strange, awesome, and unbelievable tidbits about the hundreds of thousands of people who left their lives behind and trekked out to California to strike it rich. Incredible early photographs and vivid illustrations bring each factoid into sharp focus, while captions add extra information to each page.","English",25.25,18.95,null,"32 pp.",{"$f":"Table1[[#This Row],['# Books]]*Table1[[#This Row],[QTY]]","v":0},{"$f":"Table1[[#This Row],[QTY]]*Table1[[#This Row],[S&L Price]]","v":0}]
[null,null,35,"Fun Fact File: US History!",1,"20 Fun Facts About the Industrial Revolution","Library Bound Book",null,"978-1-5382-1913-3",2019,"August 2018","Library","8.500 X 8.500","Author","Joan Stoltman",null,null,30,null,"N",null,"Grade 2 - 3","Grade 2 - 5","The Industrial Revolution was one of the most dramatic eras of all time, filled with fascinating people, strange events, and incredible stories. This period of great change comes into sharp focus through each spread with detailed, accessible language. Each fact is complemented with vivid, carefully-chosen historical images and illustrations, and a caption that adds just a touch more history. Readers are drawn deep into the facts not covered in history textbooks, like working conditions, inventions, failures, and characters, to make this important history lesson fun and engaging.","English",25.25,18.95,null,"32 pp.",{"$f":"Table1[[#This Row],['# Books]]*Table1[[#This Row],[QTY]]","v":0},{"$f":"Table1[[#This Row],[QTY]]*Table1[[#This Row],[S&L Price]]","v":0}]
[null,null,35,"Fun Fact File: US History!",1,"20 Fun Facts About the Industrial Revolution","eBook",null,"978-1-5382-1914-0",2019,"August 2018",null,null,"Author","Joan Stoltman",null,null,30,null,"N",null,"Grade 2 - 3","Grade 2 - 5","The Industrial Revolution was one of the most dramatic eras of all time, filled with fascinating people, strange events, and incredible stories. This period of great change comes into sharp focus through each spread with detailed, accessible language. Each fact is complemented with vivid, carefully-chosen historical images and illustrations, and a caption that adds just a touch more history. Readers are drawn deep into the facts not covered in history textbooks, like working conditions, inventions, failures, and characters, to make this important history lesson fun and engaging.","English",25.25,18.95,null,"32 pp.",{"$f":"Table1[[#This Row],['# Books]]*Table1[[#This Row],[QTY]]","v":0},{"$f":"Table1[[#This Row],[QTY]]*Table1[[#This Row],[S&L Price]]","v":0}]
[null,null,35,"Fun Fact File: US History!",1,"20 Fun Facts About the Supreme Court","Library Bound Book",null,"978-1-5382-1917-1",2019,"August 2018","Library","8.500 X 8.500","Author","Joan Stoltman",null,null,30,null,"N",null,"Grade 2 - 3","Grade 2 - 5","Did you know that the Supreme Court only hears about 80 cases out of the thousands that petition every year to be heard? Many of the cases, decisions, and even judges throughout the history of this high court have been fascinating, and some even controversial. This book infuses fun and interest into this common social studies topic through cool factoids and vivid photography on every page. Carefully researched by a trained historian for maximum accuracy, even the most reluctant reader will find this supplement to the curriculum entertaining and engaging.","English",25.25,18.95,null,"32 pp.",{"$f":"Table1[[#This Row],['# Books]]*Table1[[#This Row],[QTY]]","v":0},{"$f":"Table1[[#This Row],[QTY]]*Table1[[#This Row],[S&L Price]]","v":0}]
[null,null,35,"Fun Fact File: US History!",1,"20 Fun Facts About the Supreme Court","eBook",null,"978-1-5382-1918-8",2019,"August 2018",null,null,"Author","Joan Stoltman",null,null,30,null,"N",null,"Grade 2 - 3","Grade 2 - 5","Did you know that the Supreme Court only hears about 80 cases out of the thousands that petition every year to be heard? Many of the cases, decisions, and even judges throughout the history of this high court have been fascinating, and some even controversial. This book infuses fun and interest into this common social studies topic through cool factoids and vivid photography on every page. Carefully researched by a trained historian for maximum accuracy, even the most reluctant reader will find this supplement to the curriculum entertaining and engaging.","English",25.25,18.95,null,"32 pp.",{"$f":"Table1[[#This Row],['# Books]]*Table1[[#This Row],[QTY]]","v":0},{"$f":"Table1[[#This Row],[QTY]]*Table1[[#This Row],[S&L Price]]","v":0}]
[null,null,35,"Fun Fact File: US History!",1,"20 Fun Facts About Westward Expansion","Library Bound Book",null,"978-1-5382-1921-8",2019,"August 2018","Library","8.500 X 8.500","Author","Joan Stoltman",null,null,30,null,"N",null,"Grade 2 - 3","Grade 2 - 5","Did you know that no one really knows how many men it took to build the Transcontinental Railroad? Or how many died while building it? This book fills young readers heads with fascinating tidbits, all the while teaching them about the people, places, and events that not only changed the size of our country, but also shaped its character forever. Each spread is packed with accessible text, vivid art that compliments the narrative, and captions that add even more information.","English",25.25,18.95,null,"32 pp.",{"$f":"Table1[[#This Row],['# Books]]*Table1[[#This Row],[QTY]]","v":0},{"$f":"Table1[[#This Row],[QTY]]*Table1[[#This Row],[S&L Price]]","v":0}]
[null,null,35,"Fun Fact File: US History!",1,"20 Fun Facts About Westward Expansion","eBook",null,"978-1-5382-1922-5",2019,"August 2018",null,null,"Author","Joan Stoltman",null,null,30,null,"N",null,"Grade 2 - 3","Grade 2 - 5","Did you know that no one really knows how many men it took to build the Transcontinental Railroad? Or how many died while building it? This book fills young readers heads with fascinating tidbits, all the while teaching them about the people, places, and events that not only changed the size of our country, but also shaped its character forever. Each spread is packed with accessible text, vivid art that compliments the narrative, and captions that add even more information.","English",25.25,18.95,null,"32 pp.",{"$f":"Table1[[#This Row],['# Books]]*Table1[[#This Row],[QTY]]","v":0},{"$f":"Table1[[#This Row],[QTY]]*Table1[[#This Row],[S&L Price]]","v":0}]
[null,70,36,"How to Draw Zentangle® Art",6,"How to Draw Zentangle® Art","Library Set",null,"978-1-5382-0613-3",2018,"August 2017","Library","8.500 X 11.00",null,null,null,null,null,null,null,null,"Grade 3","Grade 3 - 5","In the midst of our busy, high-tech culture, it’s comforting to put pen to paper and unwind. Zentangle® is a pioneer of the modern art therapy phenomenon, and this series introduces readers to the basics of this mindful practice. Certified Zentangle® Teacher Hannah Geddes illustrated these beautiful books and introduces readers to Zentangle® patterns they can mix and match for their own original creations. The magic of Zentangle® lies in its simple, accessible steps that everyone can easily follow. Even readers who aren’t as confident in their artistic abilities will be amazed at the gorgeous, elaborate designs they’ll create.","English",159.6,119.7,null,"32 pp.",{"$f":"Table1[[#This Row],['# Books]]*Table1[[#This Row],[QTY]]","v":0},{"$f":"Table1[[#This Row],[QTY]]*Table1[[#This Row],[S&L Price]]","v":0}]
[null,70,36,"How to Draw Zentangle® Art",1,"Drawing Zentangle® Animals","Library Bound Book",null,"978-1-5382-0715-4",2018,"August 2017","Library","8.500 X 11.00","Author, Illustrated by","Catherine Ard, Hannah Geddes",null,null,null,null,"M",null,"Grade 3","Grade 3 - 5","The animal kingdom is full of fascinating textures, patterns, and shapes. This Zentangle® guide teaches readers how to tap into nature’s beauty through simple design. Readers will learn basic Zentangle® patterns they can mix and match to create uniquely tangled animals. Up-close visuals teach readers complex patterns in small, easy chunks. Step-by-step instructions show readers how to divide animal outlines into smaller shapes. They’ll learn how to use repetitive patterns to create different looks, such as scales for a crocodile or funky jaguar fur. This peaceful art form allows readers to relax as they doodle. They’ll be amazed at the intricate animals they create using repetitive patterns.","English",26.6,19.95,"741.201’9--dc23","32 pp.",{"$f":"Table1[[#This Row],['# Books]]*Table1[[#This Row],[QTY]]","v":0},{"$f":"Table1[[#This Row],[QTY]]*Table1[[#This Row],[S&L Price]]","v":0}]
[null,70,36,"How to Draw Zentangle® Art",1,"Drawing Zentangle® Animals","eBook",null,"978-1-5382-0726-0",2018,"August 2017",null,null,"Author, Illustrated by","Catherine Ard, Hannah Geddes",null,null,null,null,"M",null,"Grade 3","Grade 3 - 5","The animal kingdom is full of fascinating textures, patterns, and shapes. This Zentangle® guide teaches readers how to tap into nature’s beauty through simple design. Readers will learn basic Zentangle® patterns they can mix and match to create uniquely tangled animals. Up-close visuals teach readers complex patterns in small, easy chunks. Step-by-step instructions show readers how to divide animal outlines into smaller shapes. They’ll learn how to use repetitive patterns to create different looks, such as scales for a crocodile or funky jaguar fur. This peaceful art form allows readers to relax as they doodle. They’ll be amazed at the intricate animals they create using repetitive patterns.","English",26.6,19.95,"741.201’9--dc23","32 pp.",{"$f":"Table1[[#This Row],['# Books]]*Table1[[#This Row],[QTY]]","v":0},{"$f":"Table1[[#This Row],[QTY]]*Table1[[#This Row],[S&L Price]]","v":0}]
[null,70,36,"How to Draw Zentangle® Art",1,"Drawing Zentangle® Birds","Library Bound Book",null,"978-1-5382-0727-7",2018,"August 2017","Library","8.500 X 11.00","Author, Illustrated by","Catherine Ard, Hannah Geddes",null,null,null,null,"M",null,"Grade 3","Grade 3 - 5","From swooping owls to floating swans, birds are elegant creatures. This gorgeous guide teaches readers how to create Zentangle® birds of all shapes and sizes. Readers will love doodling in the beautiful outlines for penguins, hummingbirds, and other beloved birds. Step-by-step instructions help readers divide outlines into smaller shapes. They’ll learn basic Zentangle® patterns they can mix and match to fill their birds with unique designs. Up-close visuals break down complex patterns into easy parts. This relaxing art form will leave readers feeling peaceful, and they’ll love the intricate results.","English",26.6,19.95,"741.201’9--dc23","32 pp.",{"$f":"Table1[[#This Row],['# Books]]*Table1[[#This Row],[QTY]]","v":0},{"$f":"Table1[[#This Row],[QTY]]*Table1[[#This Row],[S&L Price]]","v":0}]
[null,70,36,"How to Draw Zentangle® Art",1,"Drawing Zentangle® Birds","eBook",null,"978-1-5382-0714-7",2018,"August 2017",null,null,"Author, Illustrated by","Catherine Ard, Hannah Geddes",null,null,null,null,"M",null,"Grade 3","Grade 3 - 5","From swooping owls to floating swans, birds are elegant creatures. This gorgeous guide teaches readers how to create Zentangle® birds of all shapes and sizes. Readers will love doodling in the beautiful outlines for penguins, hummingbirds, and other beloved birds. Step-by-step instructions help readers divide outlines into smaller shapes. They’ll learn basic Zentangle® patterns they can mix and match to fill their birds with unique designs. Up-close visuals break down complex patterns into easy parts. This relaxing art form will leave readers feeling peaceful, and they’ll love the intricate results.","English",26.6,19.95,"741.201’9--dc23","32 pp.",{"$f":"Table1[[#This Row],['# Books]]*Table1[[#This Row],[QTY]]","v":0},{"$f":"Table1[[#This Row],[QTY]]*Table1[[#This Row],[S&L Price]]","v":0}]
[null,70,36,"How to Draw Zentangle® Art",1,"Drawing Zentangle® Bugs and Butterflies","Library Bound Book",null,"978-1-5382-0843-4",2018,"August 2017","Library","8.500 X 11.00","Author, Illustrated by","Catherine Ard, Hannah Geddes",null,null,null,null,"M",null,"Grade 3","Grade 3 - 5","Billions of insects buzz, swoop, and crawl all over the world, but we rarely take the time to notice their bizarre beauty. This Zentangle® guide uses the strange shapes of bees, butterflies, stage beetles, and other bugs as the basis for beautiful designs. Step-by-step instructions help readers divide the outlines of these unusual creatures into smaller shapes. Readers learn basic Zentangle® patterns they can mix and match as they fill in their insects. They’ll use essential art techniques, such as shading, to make their creatures pop off the page. This therapeutic art form relaxes readers as they doodle unique creations. They’ll be thrilled as patterns build on each other to create intricate insects.","English",26.6,19.95,"741.201’9--dc23","32 pp.",{"$f":"Table1[[#This Row],['# Books]]*Table1[[#This Row],[QTY]]","v":0},{"$f":"Table1[[#This Row],[QTY]]*Table1[[#This Row],[S&L Price]]","v":0}]
[null,70,36,"How to Draw Zentangle® Art",1,"Drawing Zentangle® Bugs and Butterflies","eBook",null,"978-1-5382-0842-7",2018,"August 2017",null,null,"Author, Illustrated by","Catherine Ard, Hannah Geddes",null,null,null,null,"M",null,"Grade 3","Grade 3 - 5","Billions of insects buzz, swoop, and crawl all over the world, but we rarely take the time to notice their bizarre beauty. This Zentangle® guide uses the strange shapes of bees, butterflies, stage beetles, and other bugs as the basis for beautiful designs. Step-by-step instructions help readers divide the outlines of these unusual creatures into smaller shapes. Readers learn basic Zentangle® patterns they can mix and match as they fill in their insects. They’ll use essential art techniques, such as shading, to make their creatures pop off the page. This therapeutic art form relaxes readers as they doodle unique creations. They’ll be thrilled as patterns build on each other to create intricate insects.","English",26.6,19.95,"741.201’9--dc23","32 pp.",{"$f":"Table1[[#This Row],['# Books]]*Table1[[#This Row],[QTY]]","v":0},{"$f":"Table1[[#This Row],[QTY]]*Table1[[#This Row],[S&L Price]]","v":0}]
[null,70,36,"How to Draw Zentangle® Art",1,"Drawing Zentangle® Fantasy Worlds","Library Bound Book",null,"978-1-5382-0717-8",2018,"August 2017","Library","8.500 X 11.00","Author, Illustrated by","Catherine Ard, Hannah Geddes",null,null,null,null,"M",null,"Grade 3","Grade 3 - 5","Dragons, fairies, unicorns, and other fantastical beasts come to life with the magic of Zentangle® in this detailed guide. Readers will master basic Zentangle® patterns they can mix and match to create unique mythical beasts. Up-close visuals break down dizzying patterns into simple parts. Step-by-step instructions help readers divide creature outlines into smaller shapes and fill them in with diverse designs. They'll learn how to use contrast and shading to make their fantasies pop off the page. This peaceful pastime results in elaborate works of art readers will cherish.","English",26.6,19.95,"741.201’9--dc23","32 pp.",{"$f":"Table1[[#This Row],['# Books]]*Table1[[#This Row],[QTY]]","v":0},{"$f":"Table1[[#This Row],[QTY]]*Table1[[#This Row],[S&L Price]]","v":0}]
[null,70,36,"How to Draw Zentangle® Art",1,"Drawing Zentangle® Fantasy Worlds","eBook",null,"978-1-5382-0713-0",2018,"August 2017",null,null,"Author, Illustrated by","Catherine Ard, Hannah Geddes",null,null,null,null,"M",null,"Grade 3","Grade 3 - 5","Dragons, fairies, unicorns, and other fantastical beasts come to life with the magic of Zentangle® in this detailed guide. Readers will master basic Zentangle® patterns they can mix and match to create unique mythical beasts. Up-close visuals break down dizzying patterns into simple parts. Step-by-step instructions help readers divide creature outlines into smaller shapes and fill them in with diverse designs. They'll learn how to use contrast and shading to make their fantasies pop off the page. This peaceful pastime results in elaborate works of art readers will cherish.","English",26.6,19.95,"741.201’9--dc23","32 pp.",{"$f":"Table1[[#This Row],['# Books]]*Table1[[#This Row],[QTY]]","v":0},{"$f":"Table1[[#This Row],[QTY]]*Table1[[#This Row],[S&L Price]]","v":0}]
[null,70,36,"How to Draw Zentangle® Art",1,"Drawing Zentangle® Holidays","Library Bound Book",null,"978-1-5382-0718-5",2018,"August 2017","Library","8.500 X 11.00","Author, Illustrated by","Catherine Ard, Hannah Geddes",null,null,null,null,"M",null,"Grade 3","Grade 3 - 5","Every holiday is full of special symbols and decorations, and this Zentangle® guide teaches readers how to bring design into the festivities. Step-by-step instructions help readers divide holiday shapes, such as jack-o-lanterns, Christmas trees, and Easter chicks, into smaller parts. Readers will learn basic Zentangle® designs they can mix and match in unique ways as they doodle each holiday symbol. Up-close visuals help readers master patterns in simple steps. This calming exercise is a perfect way to relax any time of year, and readers will love the elaborate decorative art they are able to create following these engaging instructions.","English",26.6,19.95,"741.201’9--dc23","32 pp.",{"$f":"Table1[[#This Row],['# Books]]*Table1[[#This Row],[QTY]]","v":0},{"$f":"Table1[[#This Row],[QTY]]*Table1[[#This Row],[S&L Price]]","v":0}]
[null,70,36,"How to Draw Zentangle® Art",1,"Drawing Zentangle® Holidays","eBook",null,"978-1-5382-0712-3",2018,"August 2017",null,null,"Author, Illustrated by","Catherine Ard, Hannah Geddes",null,null,null,null,"M",null,"Grade 3","Grade 3 - 5","Every holiday is full of special symbols and decorations, and this Zentangle® guide teaches readers how to bring design into the festivities. Step-by-step instructions help readers divide holiday shapes, such as jack-o-lanterns, Christmas trees, and Easter chicks, into smaller parts. Readers will learn basic Zentangle® designs they can mix and match in unique ways as they doodle each holiday symbol. Up-close visuals help readers master patterns in simple steps. This calming exercise is a perfect way to relax any time of year, and readers will love the elaborate decorative art they are able to create following these engaging instructions.","English",26.6,19.95,"741.201’9--dc23","32 pp.",{"$f":"Table1[[#This Row],['# Books]]*Table1[[#This Row],[QTY]]","v":0},{"$f":"Table1[[#This Row],[QTY]]*Table1[[#This Row],[S&L Price]]","v":0}]
[null,70,36,"How to Draw Zentangle® Art",1,"Drawing Zentangle® Sea Life","Library Bound Book",null,"978-1-5382-0719-2",2018,"August 2017","Library","8.500 X 11.00","Author, Illustrated by","Catherine Ard, Hannah Geddes",null,null,null,null,"M",null,"Grade 3","Grade 3 - 5","Sea creatures are some of the most bizarre and beautiful life-forms on our planet. Readers will learn to create Zentangle® seals, jellyfish, dolphins and other marine creatures that look as intricately gorgeous as their living counterparts. This hands-on guide introduces readers to basic Zentangle® patterns they can mix and match in original designs. Simple step-by-step instructions show readers a basic outline for each creature, how to divide into smaller shapes, and suggested patterns. A therapeutic art form, Zentangle® will give readers a sense of peace as they doodle original works. They’ll be amazed at how combining patterns can lead to complex, sea-inspired designs.","English",26.6,19.95,"741.201’9--dc23","32 pp.",{"$f":"Table1[[#This Row],['# Books]]*Table1[[#This Row],[QTY]]","v":0},{"$f":"Table1[[#This Row],[QTY]]*Table1[[#This Row],[S&L Price]]","v":0}]
[null,70,36,"How to Draw Zentangle® Art",1,"Drawing Zentangle® Sea Life","eBook",null,"978-1-5382-0711-6",2018,"August 2017",null,null,"Author, Illustrated by","Catherine Ard, Hannah Geddes",null,null,null,null,"M",null,"Grade 3","Grade 3 - 5","Sea creatures are some of the most bizarre and beautiful life-forms on our planet. Readers will learn to create Zentangle® seals, jellyfish, dolphins and other marine creatures that look as intricately gorgeous as their living counterparts. This hands-on guide introduces readers to basic Zentangle® patterns they can mix and match in original designs. Simple step-by-step instructions show readers a basic outline for each creature, how to divide into smaller shapes, and suggested patterns. A therapeutic art form, Zentangle® will give readers a sense of peace as they doodle original works. They’ll be amazed at how combining patterns can lead to complex, sea-inspired designs.","English",26.6,19.95,"741.201’9--dc23","32 pp.",{"$f":"Table1[[#This Row],['# Books]]*Table1[[#This Row],[QTY]]","v":0},{"$f":"Table1[[#This Row],[QTY]]*Table1[[#This Row],[S&L Price]]","v":0}]
[null,72,37,"Design It!",6,"Design It!","Library Set",null,"978-1-5382-0777-2",2018,"August 2017","Library","8.500 X 11.00",null,null,null,null,null,null,null,null,"Grade 3 - 4","Grade 3 - 5","Nothing instills pride as much as creating a masterpiece! Readers are encouraged to become artists and designers in this inspired – and inspiring – series. Volumes span a variety of design disciplines, including books, hairstyles, food, clothing, and even fairy gardens! There's something for every interest, and each fun project is made achievable through clearly stated, step-by-step instructions and a colorful photo of the finished product. Design tips, advice, and techniques lay a foundation for future creative endeavors – and perhaps even a career in design!","English",159.6,119.7,null,"32 pp.",{"$f":"Table1[[#This Row],['# Books]]*Table1[[#This Row],[QTY]]","v":0},{"$f":"Table1[[#This Row],[QTY]]*Table1[[#This Row],[S&L Price]]","v":0}]
[null,72,37,"Design It!",1,"Book Design","Library Bound Book",null,"978-1-5382-0791-8",2018,"August 2017","Library","8.500 X 11.00","Author","Alix Wood",null,null,null,null,"O",null,"Grade 3 - 4","Grade 3 - 5","Books come in all shapes and sizes. Anyone who has ever shopped for a book knows that sometimes appearances count. This fun project-filled volume invites readers to make their own books, beginning with striking covers and delving into inner design concepts such as fonts, colors, lift-the-flap components, and even—everyone’s favorite—pop-ups! Whether designers are interested in illustrating, writing, or creating a work of art, the perfect achievable activity is awaiting them.","English",26.6,19.95,"686.3--dc23","32 pp.",{"$f":"Table1[[#This Row],['# Books]]*Table1[[#This Row],[QTY]]","v":0},{"$f":"Table1[[#This Row],[QTY]]*Table1[[#This Row],[S&L Price]]","v":0}]
[null,72,37,"Design It!",1,"Book Design","eBook",null,"978-1-5382-0790-1",2018,"August 2017",null,null,"Author","Alix Wood",null,null,null,null,"O",null,"Grade 3 - 4","Grade 3 - 5","Books come in all shapes and sizes. Anyone who has ever shopped for a book knows that sometimes appearances count. This fun project-filled volume invites readers to make their own books, beginning with striking covers and delving into inner design concepts such as fonts, colors, lift-the-flap components, and even—everyone’s favorite—pop-ups! Whether designers are interested in illustrating, writing, or creating a work of art, the perfect achievable activity is awaiting them.","English",26.6,19.95,"686.3--dc23","32 pp.",{"$f":"Table1[[#This Row],['# Books]]*Table1[[#This Row],[QTY]]","v":0},{"$f":"Table1[[#This Row],[QTY]]*Table1[[#This Row],[S&L Price]]","v":0}]
[null,72,37,"Design It!",1,"Fairy Garden Design","Library Bound Book",null,"978-1-5382-0792-5",2018,"August 2017","Library","8.500 X 11.00","Author","Alix Wood",null,null,null,null,"O",null,"Grade 3 - 4","Grade 3 - 5","A beautiful garden is a delight – and takes quite a bit of skill and knowledge to design. However, creating a garden that attracts fairies and other magical creatures takes some real know-how! This fun book demonstrates through numerous creative projects and step-by-step instructions how to create arresting miniature landscapes of objects and plants and encourages young gardeners to exercise their green thumbs with artistic outdoor activities.","English",26.6,19.95,"635.083--dc23","32 pp.",{"$f":"Table1[[#This Row],['# Books]]*Table1[[#This Row],[QTY]]","v":0},{"$f":"Table1[[#This Row],[QTY]]*Table1[[#This Row],[S&L Price]]","v":0}]
[null,72,37,"Design It!",1,"Fairy Garden Design","eBook",null,"978-1-5382-0789-5",2018,"August 2017",null,null,"Author","Alix Wood",null,null,null,null,"O",null,"Grade 3 - 4","Grade 3 - 5","A beautiful garden is a delight – and takes quite a bit of skill and knowledge to design. However, creating a garden that attracts fairies and other magical creatures takes some real know-how! This fun book demonstrates through numerous creative projects and step-by-step instructions how to create arresting miniature landscapes of objects and plants and encourages young gardeners to exercise their green thumbs with artistic outdoor activities.","English",26.6,19.95,"635.083--dc23","32 pp.",{"$f":"Table1[[#This Row],['# Books]]*Table1[[#This Row],[QTY]]","v":0},{"$f":"Table1[[#This Row],[QTY]]*Table1[[#This Row],[S&L Price]]","v":0}]
[null,72,37,"Design It!",1,"Fashion Design","Library Bound Book",null,"978-1-5382-0793-2",2018,"August 2017","Library","8.500 X 11.00","Author","Alix Wood",null,null,null,null,"O",null,"Grade 3 - 4","Grade 3 - 5","Some are content to simply follow the trends of fashion, but the bold are the designers who start the fads—the true fashionistas. This how-to guide presents creative readers with professional fashion designs as inspirations as well as step-by-step projects to make their own clothing and accessories. Each imaginative task utilizes easy-to-find everyday items and is accompanied by full-color photographs as visual aids.","English",26.6,19.95,"746.9'2--dc23","32 pp.",{"$f":"Table1[[#This Row],['# Books]]*Table1[[#This Row],[QTY]]","v":0},{"$f":"Table1[[#This Row],[QTY]]*Table1[[#This Row],[S&L Price]]","v":0}]
[null,72,37,"Design It!",1,"Fashion Design","eBook",null,"978-1-5382-0788-8",2018,"August 2017",null,null,"Author","Alix Wood",null,null,null,null,"O",null,"Grade 3 - 4","Grade 3 - 5","Some are content to simply follow the trends of fashion, but the bold are the designers who start the fads—the true fashionistas. This how-to guide presents creative readers with professional fashion designs as inspirations as well as step-by-step projects to make their own clothing and accessories. Each imaginative task utilizes easy-to-find everyday items and is accompanied by full-color photographs as visual aids.","English",26.6,19.95,"746.9'2--dc23","32 pp.",{"$f":"Table1[[#This Row],['# Books]]*Table1[[#This Row],[QTY]]","v":0},{"$f":"Table1[[#This Row],[QTY]]*Table1[[#This Row],[S&L Price]]","v":0}]
[null,72,37,"Design It!",1,"Food Design","Library Bound Book",null,"978-1-5382-0794-9",2018,"August 2017","Library","8.500 X 11.00","Author","Alix Wood",null,null,null,null,"O",null,"Grade 3 - 4","Grade 3 - 5","Food in advertisements and cookbooks can look mouthwateringly good—or not like food at all! Food designers are skilled in molding their medium—food—into works of art. This compelling book, packed with hints, tips and fun projects, explores the work of food designers and the variety of work they do, such as preparing food for photography and film sets. Young foodies will love the easy-to-follow directions to make treats that taste and look great for their family and friends.","English",26.6,19.95,"745.5--dc23","32 pp.",{"$f":"Table1[[#This Row],['# Books]]*Table1[[#This Row],[QTY]]","v":0},{"$f":"Table1[[#This Row],[QTY]]*Table1[[#This Row],[S&L Price]]","v":0}]
[null,72,37,"Design It!",1,"Food Design","eBook",null,"978-1-5382-0787-1",2018,"August 2017",null,null,"Author","Alix Wood",null,null,null,null,"O",null,"Grade 3 - 4","Grade 3 - 5","Food in advertisements and cookbooks can look mouthwateringly good—or not like food at all! Food designers are skilled in molding their medium—food—into works of art. This compelling book, packed with hints, tips and fun projects, explores the work of food designers and the variety of work they do, such as preparing food for photography and film sets. Young foodies will love the easy-to-follow directions to make treats that taste and look great for their family and friends.","English",26.6,19.95,"745.5--dc23","32 pp.",{"$f":"Table1[[#This Row],['# Books]]*Table1[[#This Row],[QTY]]","v":0},{"$f":"Table1[[#This Row],[QTY]]*Table1[[#This Row],[S&L Price]]","v":0}]
[null,72,37,"Design It!",1,"Hair and Makeup Design","Library Bound Book",null,"978-1-5382-0795-6",2018,"August 2017","Library","8.500 X 11.00","Author","Alix Wood",null,null,null,null,"O",null,"Grade 3 - 4","Grade 3 - 5","Yes, hair and makeup designers can make people look beautiful—but they can also make them look like terrifying zombies! Truly, this inspiring book provides an entertaining and hands-on experience for readers of all ages and interests. The many included activities are presented with comprehensible directions paired with photographs that illustrate each concept. Whether young designers want to learn something for their everyday use or acquire career skills for a future career in the movies, there’s inspiration in this high-interest guide.","English",26.6,19.95,"646.7'24--dc23","32 pp.",{"$f":"Table1[[#This Row],['# Books]]*Table1[[#This Row],[QTY]]","v":0},{"$f":"Table1[[#This Row],[QTY]]*Table1[[#This Row],[S&L Price]]","v":0}]
[null,72,37,"Design It!",1,"Hair and Makeup Design","eBook",null,"978-1-5382-0786-4",2018,"August 2017",null,null,"Author","Alix Wood",null,null,null,null,"O",null,"Grade 3 - 4","Grade 3 - 5","Yes, hair and makeup designers can make people look beautiful—but they can also make them look like terrifying zombies! Truly, this inspiring book provides an entertaining and hands-on experience for readers of all ages and interests. The many included activities are presented with comprehensible directions paired with photographs that illustrate each concept. Whether young designers want to learn something for their everyday use or acquire career skills for a future career in the movies, there’s inspiration in this high-interest guide.","English",26.6,19.95,"646.7'24--dc23","32 pp.",{"$f":"Table1[[#This Row],['# Books]]*Table1[[#This Row],[QTY]]","v":0},{"$f":"Table1[[#This Row],[QTY]]*Table1[[#This Row],[S&L Price]]","v":0}]
[null,72,37,"Design It!",1,"Interior Design","Library Bound Book",null,"978-1-5382-0796-3",2018,"August 2017","Library","8.500 X 11.00","Author","Alix Wood",null,null,null,null,"O",null,"Grade 3 - 4","Grade 3 - 5","Personalizing a space means decorating it or arranging it in a unique way. The space should reflect the designer’s personal aesthetic. Interior design isn’t just something to marvel at on TV, and people of all ages can grasp designers’ key principles. This motivating book offers plenty of practical interior design projects, as well as vibrant photographs to illustrate them, and expert tips that creative readers can apply to their home or classroom.","English",26.6,19.95,"747.7’7--dc23","32 pp.",{"$f":"Table1[[#This Row],['# Books]]*Table1[[#This Row],[QTY]]","v":0},{"$f":"Table1[[#This Row],[QTY]]*Table1[[#This Row],[S&L Price]]","v":0}]
[null,72,37,"Design It!",1,"Interior Design","eBook",null,"978-1-5382-0785-7",2018,"August 2017",null,null,"Author","Alix Wood",null,null,null,null,"O",null,"Grade 3 - 4","Grade 3 - 5","Personalizing a space means decorating it or arranging it in a unique way. The space should reflect the designer’s personal aesthetic. Interior design isn’t just something to marvel at on TV, and people of all ages can grasp designers’ key principles. This motivating book offers plenty of practical interior design projects, as well as vibrant photographs to illustrate them, and expert tips that creative readers can apply to their home or classroom.","English",26.6,19.95,"747.7’7--dc23","32 pp.",{"$f":"Table1[[#This Row],['# Books]]*Table1[[#This Row],[QTY]]","v":0},{"$f":"Table1[[#This Row],[QTY]]*Table1[[#This Row],[S&L Price]]","v":0}]
[null,null,38,"Holiday Baking Party",6,"Holiday Baking Party","Library Set",null,"978-1-5382-1414-5",2018,"January 2018","Library","8.500 X 11.00",null,null,null,null,null,null,null,null,"Grade 3 - 4","Grade 3 - 6","One of the best parts of the holidays is the fun, decadent foods that families make together. Whether you're having a big party or a small dinner, planning the menu is an important step of the process. With this series of recipe books, kids can join in the holiday baking fun. Themed treats for Christmas, Halloween, St. Patrick's Day, Thanksgiving, Valentine's Day, and the Fourth of July are awaiting your future bakers. This series provides equipment and ingredients lists and easy-to-follow instructions so that readers can try their hand at creating festive foods for the whole family.","English",159.6,119.7,null,"32 pp.",{"$f":"Table1[[#This Row],['# Books]]*Table1[[#This Row],[QTY]]","v":0},{"$f":"Table1[[#This Row],[QTY]]*Table1[[#This Row],[S&L Price]]","v":0}]
[null,null,38,"Holiday Baking Party",1,"Let's Bake Christmas Treats!","Library Bound Book",null,"978-1-5382-1325-4",2018,"January 2018","Library","8.500 X 11.00","Author","Ruth Owen",null,null,null,null,"P",null,"Grade 3 - 4","Grade 3 - 6","Christmas just wouldn't be the same without cookies to leave for Santa, gingerbread houses, and other tasty baked treats. Full of complete recipes specially chosen for young bakers, readers can refer to this book year after year for their Christmas baking projects. Each recipe includes an ingredient and equipment list and simple step-by-step instructions that will guide readers to impressive, and yummy, results. Whether new to baking or a holiday baking veteran, all readers can enjoy the great variety of recipes offered in this volume.","English",26.6,19.95,"641.5'686--dc23","32 pp.",{"$f":"Table1[[#This Row],['# Books]]*Table1[[#This Row],[QTY]]","v":0},{"$f":"Table1[[#This Row],[QTY]]*Table1[[#This Row],[S&L Price]]","v":0}]
[null,null,38,"Holiday Baking Party",1,"Let's Bake Christmas Treats!","eBook",null,"978-1-5382-1326-1",2018,"January 2018",null,null,"Author","Ruth Owen",null,null,null,null,"P",null,"Grade 3 - 4","Grade 3 - 6","Christmas just wouldn't be the same without cookies to leave for Santa, gingerbread houses, and other tasty baked treats. Full of complete recipes specially chosen for young bakers, readers can refer to this book year after year for their Christmas baking projects. Each recipe includes an ingredient and equipment list and simple step-by-step instructions that will guide readers to impressive, and yummy, results. Whether new to baking or a holiday baking veteran, all readers can enjoy the great variety of recipes offered in this volume.","English",26.6,19.95,"641.5'686--dc23","32 pp.",{"$f":"Table1[[#This Row],['# Books]]*Table1[[#This Row],[QTY]]","v":0},{"$f":"Table1[[#This Row],[QTY]]*Table1[[#This Row],[S&L Price]]","v":0}]
[null,null,38,"Holiday Baking Party",1,"Let's Bake Fourth of July Treats!","Library Bound Book",null,"978-1-5382-1330-8",2018,"January 2018","Library","8.500 X 11.00","Author","Ruth Owen",null,null,null,null,"P",null,"Grade 3 - 4","Grade 3 - 6","What better way to celebrate America's birthday than with delicious baked treats? Whether baking for a daytime barbeque or a late-night picnic that ends with fireworks, there are lots of fun ways to theme the food served. Simple step-by-step instructions, accompanied by ingredient and equipment lists, help young bakers see each tasty treat through to completion. Safety tips are included throughout the book to remind readers to ask for an adult's help with sharp and hot baking tools. Each recipe is easily followed by new and experienced bakers alike.","English",26.6,19.95,"641.5'68--dc23","32 pp.",{"$f":"Table1[[#This Row],['# Books]]*Table1[[#This Row],[QTY]]","v":0},{"$f":"Table1[[#This Row],[QTY]]*Table1[[#This Row],[S&L Price]]","v":0}]
[null,null,38,"Holiday Baking Party",1,"Let's Bake Fourth of July Treats!","eBook",null,"978-1-5382-1331-5",2018,"January 2018",null,null,"Author","Ruth Owen",null,null,null,null,"P",null,"Grade 3 - 4","Grade 3 - 6","What better way to celebrate America's birthday than with delicious baked treats? Whether baking for a daytime barbeque or a late-night picnic that ends with fireworks, there are lots of fun ways to theme the food served. Simple step-by-step instructions, accompanied by ingredient and equipment lists, help young bakers see each tasty treat through to completion. Safety tips are included throughout the book to remind readers to ask for an adult's help with sharp and hot baking tools. Each recipe is easily followed by new and experienced bakers alike.","English",26.6,19.95,"641.5'68--dc23","32 pp.",{"$f":"Table1[[#This Row],['# Books]]*Table1[[#This Row],[QTY]]","v":0},{"$f":"Table1[[#This Row],[QTY]]*Table1[[#This Row],[S&L Price]]","v":0}]
[null,null,38,"Holiday Baking Party",1,"Let's Bake Halloween Treats!","Library Bound Book",null,"978-1-5382-1334-6",2018,"January 2018","Library","8.500 X 11.00","Author","Ruth Owen",null,null,null,null,"P",null,"Grade 3 - 4","Grade 3 - 6","Ghosts, witches, pumpkins, and candy are great baking inspiration. This book is chock-full of themed Halloween recipes for young bakers to tackle during the spookiest time of the year. Including baked items for every taste preference, this book breaks down each yummy recipe into an easy-to-follow set of instructions, as well as provides an ingredient and equipment list. Safety tips remind readers to ask for help with sharp or hot baking tools, but recipes have been specially chosen to be appropriate for young bakers of all experience levels.","English",26.6,19.95,"641.5'68--dc23","32 pp.",{"$f":"Table1[[#This Row],['# Books]]*Table1[[#This Row],[QTY]]","v":0},{"$f":"Table1[[#This Row],[QTY]]*Table1[[#This Row],[S&L Price]]","v":0}]
[null,null,38,"Holiday Baking Party",1,"Let's Bake Halloween Treats!","eBook",null,"978-1-5382-1335-3",2018,"January 2018",null,null,"Author","Ruth Owen",null,null,null,null,"P",null,"Grade 3 - 4","Grade 3 - 6","Ghosts, witches, pumpkins, and candy are great baking inspiration. This book is chock-full of themed Halloween recipes for young bakers to tackle during the spookiest time of the year. Including baked items for every taste preference, this book breaks down each yummy recipe into an easy-to-follow set of instructions, as well as provides an ingredient and equipment list. Safety tips remind readers to ask for help with sharp or hot baking tools, but recipes have been specially chosen to be appropriate for young bakers of all experience levels.","English",26.6,19.95,"641.5'68--dc23","32 pp.",{"$f":"Table1[[#This Row],['# Books]]*Table1[[#This Row],[QTY]]","v":0},{"$f":"Table1[[#This Row],[QTY]]*Table1[[#This Row],[S&L Price]]","v":0}]
[null,null,38,"Holiday Baking Party",1,"Let's Bake St. Patrick's Day Treats!","Library Bound Book",null,"978-1-5382-1338-4",2018,"January 2018","Library","8.500 X 11.00","Author","Ruth Owen",null,null,null,null,"P",null,"Grade 3 - 4","Grade 3 - 6","The first trick to baking successful St. Patrick's Day treats is to make them green. The second way to make excellent treats for this March holiday is to make enough to feed everyone at the party. Readers can find excellent St. Patrick's Day baking inspiration by paging through this book's many themed recipes. Step-by-step instructions guide both new and experienced bakers through the recipe, and a full-color photograph of each finished product shows what they have to look forward to sharing with friends and family.","English",26.6,19.95,"641.5'68--dc23","32 pp.",{"$f":"Table1[[#This Row],['# Books]]*Table1[[#This Row],[QTY]]","v":0},{"$f":"Table1[[#This Row],[QTY]]*Table1[[#This Row],[S&L Price]]","v":0}]
[null,null,38,"Holiday Baking Party",1,"Let's Bake St. Patrick's Day Treats!","eBook",null,"978-1-5382-1339-1",2018,"January 2018",null,null,"Author","Ruth Owen",null,null,null,null,"P",null,"Grade 3 - 4","Grade 3 - 6","The first trick to baking successful St. Patrick's Day treats is to make them green. The second way to make excellent treats for this March holiday is to make enough to feed everyone at the party. Readers can find excellent St. Patrick's Day baking inspiration by paging through this book's many themed recipes. Step-by-step instructions guide both new and experienced bakers through the recipe, and a full-color photograph of each finished product shows what they have to look forward to sharing with friends and family.","English",26.6,19.95,"641.5'68--dc23","32 pp.",{"$f":"Table1[[#This Row],['# Books]]*Table1[[#This Row],[QTY]]","v":0},{"$f":"Table1[[#This Row],[QTY]]*Table1[[#This Row],[S&L Price]]","v":0}]
[null,null,38,"Holiday Baking Party",1,"Let's Bake Thanksgiving Treats!","Library Bound Book",null,"978-1-5382-1342-1",2018,"January 2018","Library","8.500 X 11.00","Author","Ruth Owen",null,null,null,null,"P",null,"Grade 3 - 4","Grade 3 - 6","There can never be too many treats on Thanksgiving Day. From pies to pumpkin cookies, readers are sure to be familiar with the wonderful baked goods often served at their family's dinner. With this book in hand, they'll be able to find the inspiration they need to bake up a themed surprise. With simply written ingredients and equipment lists and easy-to-follow instructions, each recipe was specially formatted and chosen for young bakers eager to take on part of the Thanksgiving meal.","English",26.6,19.95,"641.5'68--dc23","32 pp.",{"$f":"Table1[[#This Row],['# Books]]*Table1[[#This Row],[QTY]]","v":0},{"$f":"Table1[[#This Row],[QTY]]*Table1[[#This Row],[S&L Price]]","v":0}]
[null,null,38,"Holiday Baking Party",1,"Let's Bake Thanksgiving Treats!","eBook",null,"978-1-5382-1343-8",2018,"January 2018",null,null,"Author","Ruth Owen",null,null,null,null,"P",null,"Grade 3 - 4","Grade 3 - 6","There can never be too many treats on Thanksgiving Day. From pies to pumpkin cookies, readers are sure to be familiar with the wonderful baked goods often served at their family's dinner. With this book in hand, they'll be able to find the inspiration they need to bake up a themed surprise. With simply written ingredients and equipment lists and easy-to-follow instructions, each recipe was specially formatted and chosen for young bakers eager to take on part of the Thanksgiving meal.","English",26.6,19.95,"641.5'68--dc23","32 pp.",{"$f":"Table1[[#This Row],['# Books]]*Table1[[#This Row],[QTY]]","v":0},{"$f":"Table1[[#This Row],[QTY]]*Table1[[#This Row],[S&L Price]]","v":0}]
[null,null,38,"Holiday Baking Party",1,"Let's Bake Valentine's Day Treats!","Library Bound Book",null,"978-1-5382-1346-9",2018,"January 2018","Library","8.500 X 11.00","Author","Ruth Owen",null,null,null,null,"P",null,"Grade 3 - 4","Grade 3 - 6","In many cultures, making food for those you love is common practice. Since we celebrate those special people on Valentine's Day, it's the perfect holiday to make some amazing baked treats. Each themed recipe is written especially for young bakers, including safety tips, ingredients and equipment lists, and step-by-step instructions. A full-color photograph accompanies each recipe so readers can page through the book to find just the treat they want to make. Whether it's sweet for a sweetheart or has the traditional red in it, whatever recipe readers choose will stand up to the inclusion of an extra ingredient, love.","English",26.6,19.95,"641.5'68--dc23","32 pp.",{"$f":"Table1[[#This Row],['# Books]]*Table1[[#This Row],[QTY]]","v":0},{"$f":"Table1[[#This Row],[QTY]]*Table1[[#This Row],[S&L Price]]","v":0}]
[null,null,38,"Holiday Baking Party",1,"Let's Bake Valentine's Day Treats!","eBook",null,"978-1-5382-1347-6",2018,"January 2018",null,null,"Author","Ruth Owen",null,null,null,null,"P",null,"Grade 3 - 4","Grade 3 - 6","In many cultures, making food for those you love is common practice. Since we celebrate those special people on Valentine's Day, it's the perfect holiday to make some amazing baked treats. Each themed recipe is written especially for young bakers, including safety tips, ingredients and equipment lists, and step-by-step instructions. A full-color photograph accompanies each recipe so readers can page through the book to find just the treat they want to make. Whether it's sweet for a sweetheart or has the traditional red in it, whatever recipe readers choose will stand up to the inclusion of an extra ingredient, love.","English",26.6,19.95,"641.5'68--dc23","32 pp.",{"$f":"Table1[[#This Row],['# Books]]*Table1[[#This Row],[QTY]]","v":0},{"$f":"Table1[[#This Row],[QTY]]*Table1[[#This Row],[S&L Price]]","v":0}]
[null,null,39,"Before They Were President",6,"Before They Were President","Library Set",null,"978-1-5382-1279-0",2018,"January 2018","Library","8.500 X 8.500",null,null,null,null,null,null,null,null,"Grade 2 - 3","Grade 2 - 5","The path to the presidency is different for everyone. This timely series explores that path and the many reasons why people aspire to become President. Readers learn how an ordinary person gains the trust of the American people, and about their lives before becoming Commander in Chief. From Teddy Roosevelt's service in the military to Abraham Lincoln's incredible debate skills, every president's past is remarkable and shapes the future of the United States under their presidency.","English",135.6,101.7,null,"24 pp.",{"$f":"Table1[[#This Row],['# Books]]*Table1[[#This Row],[QTY]]","v":0},{"$f":"Table1[[#This Row],[QTY]]*Table1[[#This Row],[S&L Price]]","v":0}]
[null,null,39,"Before They Were President",1,"Before Abraham Lincoln Was President","Library Bound Book",null,"978-1-5382-1058-1",2018,"January 2018","Library","8.500 X 8.500","Author","Theresa Morlock",null,null,null,null,"L",null,"Grade 2 - 3","Grade 2 - 5","Before he was president Abraham Lincoln, he was a lawyer in a large hat. Following his rise to the presidency offers readers an inside look at how the signer of the Emancipation Proclamation came to run the nation. From Lincoln's birth in a one-room log cabin to his early days practicing law and working in politics, his life is full of triumphs and tragedy. The places he lived and the people he loved are all chronicled in this exciting work, filling in the blanks in the life story that often starts for many when he assumed the role as America's 16th president.","English",22.6,16.95,"973.7092--dc23","24 pp.",{"$f":"Table1[[#This Row],['# Books]]*Table1[[#This Row],[QTY]]","v":0},{"$f":"Table1[[#This Row],[QTY]]*Table1[[#This Row],[S&L Price]]","v":0}]
[null,null,39,"Before They Were President",1,"Before Abraham Lincoln Was President","eBook",null,"978-1-5382-1059-8",2018,"January 2018",null,null,"Author","Theresa Morlock",null,null,null,null,"L",null,"Grade 2 - 3","Grade 2 - 5","Before he was president Abraham Lincoln, he was a lawyer in a large hat. Following his rise to the presidency offers readers an inside look at how the signer of the Emancipation Proclamation came to run the nation. From Lincoln's birth in a one-room log cabin to his early days practicing law and working in politics, his life is full of triumphs and tragedy. The places he lived and the people he loved are all chronicled in this exciting work, filling in the blanks in the life story that often starts for many when he assumed the role as America's 16th president.","English",22.6,16.95,"973.7092--dc23","24 pp.",{"$f":"Table1[[#This Row],['# Books]]*Table1[[#This Row],[QTY]]","v":0},{"$f":"Table1[[#This Row],[QTY]]*Table1[[#This Row],[S&L Price]]","v":0}]
[null,null,39,"Before They Were President",1,"Before Andrew Jackson Was President","Library Bound Book",null,"978-1-5382-1062-8",2018,"January 2018","Library","8.500 X 8.500","Author","Michael Rajczak",null,null,null,null,"L",null,"Grade 2 - 3","Grade 2 - 5","Andrew Jackson took his fame from the War of 1812 and became the people's president. But before his inauguration lay a fascinating story waiting to be told, from Jackson's military career to his origins as an orphan from South Carolina. After losing much of his family during the American Revolution, Jackson followed his family into a military life and became famous for his efforts in New Orleans during the second war with the British. Through timelines and other exciting graphical elements, Jackson's life is brought into sharp focus for readers looking for a fuller picture of presidential history.","English",22.6,16.95,"973.56092--dc23","24 pp.",{"$f":"Table1[[#This Row],['# Books]]*Table1[[#This Row],[QTY]]","v":0},{"$f":"Table1[[#This Row],[QTY]]*Table1[[#This Row],[S&L Price]]","v":0}]
[null,null,39,"Before They Were President",1,"Before Andrew Jackson Was President","eBook",null,"978-1-5382-1063-5",2018,"January 2018",null,null,"Author","Michael Rajczak",null,null,null,null,"L",null,"Grade 2 - 3","Grade 2 - 5","Andrew Jackson took his fame from the War of 1812 and became the people's president. But before his inauguration lay a fascinating story waiting to be told, from Jackson's military career to his origins as an orphan from South Carolina. After losing much of his family during the American Revolution, Jackson followed his family into a military life and became famous for his efforts in New Orleans during the second war with the British. Through timelines and other exciting graphical elements, Jackson's life is brought into sharp focus for readers looking for a fuller picture of presidential history.","English",22.6,16.95,"973.56092--dc23","24 pp.",{"$f":"Table1[[#This Row],['# Books]]*Table1[[#This Row],[QTY]]","v":0},{"$f":"Table1[[#This Row],[QTY]]*Table1[[#This Row],[S&L Price]]","v":0}]
[null,null,39,"Before They Were President",1,"Before Donald Trump Was President","Library Bound Book",null,"978-1-5382-1066-6",2018,"January 2018","Library","8.500 X 8.500","Author","Ryan Nagelhout",null,null,null,null,"L",null,"Grade 2 - 3","Grade 2 - 5","Donald Trump's path to the presidency is unlike any other in the nation's history. Before Trump's stunning rise to the presidency, he was a businessman and hotelier. After a million-dollar loan from his father, he got his own business off the ground and invested in casinos, hotels, and other real estate like golf courses. With unique biographical content and a timeline of his life, readers explore Trump's path through the business world, and see the business skills that made millions of Americans think a reality television star was fit to lead the United States of America.","English",22.6,16.95,"973.933092--dc23","24 pp.",{"$f":"Table1[[#This Row],['# Books]]*Table1[[#This Row],[QTY]]","v":0},{"$f":"Table1[[#This Row],[QTY]]*Table1[[#This Row],[S&L Price]]","v":0}]
[null,null,39,"Before They Were President",1,"Before Donald Trump Was President","eBook",null,"978-1-5382-1071-0",2018,"January 2018",null,null,"Author","Ryan Nagelhout",null,null,null,null,"L",null,"Grade 2 - 3","Grade 2 - 5","Donald Trump's path to the presidency is unlike any other in the nation's history. Before Trump's stunning rise to the presidency, he was a businessman and hotelier. After a million-dollar loan from his father, he got his own business off the ground and invested in casinos, hotels, and other real estate like golf courses. With unique biographical content and a timeline of his life, readers explore Trump's path through the business world, and see the business skills that made millions of Americans think a reality television star was fit to lead the United States of America.","English",22.6,16.95,"973.933092--dc23","24 pp.",{"$f":"Table1[[#This Row],['# Books]]*Table1[[#This Row],[QTY]]","v":0},{"$f":"Table1[[#This Row],[QTY]]*Table1[[#This Row],[S&L Price]]","v":0}]
[null,null,39,"Before They Were President",1,"Before John Adams Was President","Library Bound Book",null,"978-1-5382-1070-3",2018,"January 2018","Library","8.500 X 8.500","Author","M. H. Seeley",null,null,null,null,"L",null,"Grade 2 - 3","Grade 2 - 5","Readers might think they might have heard everything there is to know about the American Revolution, but each Founding Father has a unique story worth telling. Before John Adams became America's second president, for example, he often skipped school to hunt and fish. This book gives readers an inside look at life before the presidency which, of course, included creating the nation he became president of later. From his early days north of Boston to his time as a lawyer, readers explore the inner life of the man who took office after George Washington and solidified the presidency.","English",22.6,16.95,"973.4'4092--dc23","24 pp.",{"$f":"Table1[[#This Row],['# Books]]*Table1[[#This Row],[QTY]]","v":0},{"$f":"Table1[[#This Row],[QTY]]*Table1[[#This Row],[S&L Price]]","v":0}]
[null,null,39,"Before They Were President",1,"Before John Adams Was President","eBook",null,"978-1-5382-1069-7",2018,"January 2018",null,null,"Author","M. H. Seeley",null,null,null,null,"L",null,"Grade 2 - 3","Grade 2 - 5","Readers might think they might have heard everything there is to know about the American Revolution, but each Founding Father has a unique story worth telling. Before John Adams became America's second president, for example, he often skipped school to hunt and fish. This book gives readers an inside look at life before the presidency which, of course, included creating the nation he became president of later. From his early days north of Boston to his time as a lawyer, readers explore the inner life of the man who took office after George Washington and solidified the presidency.","English",22.6,16.95,"973.4'4092--dc23","24 pp.",{"$f":"Table1[[#This Row],['# Books]]*Table1[[#This Row],[QTY]]","v":0},{"$f":"Table1[[#This Row],[QTY]]*Table1[[#This Row],[S&L Price]]","v":0}]
[null,null,39,"Before They Were President",1,"Before John F. Kennedy Was President","Library Bound Book",null,"978-1-5382-1074-1",2018,"January 2018","Library","8.500 X 8.500","Author","Katie Kawa",null,null,null,null,"L",null,"Grade 2 - 3","Grade 2 - 5","The story of Kennedy's presidency ends in tragedy, but his young life is full of amazing stories. From his strict upbringing in a house of nine children to meeting his future wife Jacqueline, Kennedy's life before he took office was as exciting as his presidency. Through engaging graphic elements and a thorough timeline, readers experience Kennedy's youth and rise to political power. From a house in Brookline, Massachusetts, to 1600 Pennsylvania Avenue, Kennedy's story is one of the great American legends that actually happened.","English",22.6,16.95,"973.922092--dc23","24 pp.",{"$f":"Table1[[#This Row],['# Books]]*Table1[[#This Row],[QTY]]","v":0},{"$f":"Table1[[#This Row],[QTY]]*Table1[[#This Row],[S&L Price]]","v":0}]
[null,null,39,"Before They Were President",1,"Before John F. Kennedy Was President","eBook",null,"978-1-5382-1075-8",2018,"January 2018",null,null,"Author","Katie Kawa",null,null,null,null,"L",null,"Grade 2 - 3","Grade 2 - 5","The story of Kennedy's presidency ends in tragedy, but his young life is full of amazing stories. From his strict upbringing in a house of nine children to meeting his future wife Jacqueline, Kennedy's life before he took office was as exciting as his presidency. Through engaging graphic elements and a thorough timeline, readers experience Kennedy's youth and rise to political power. From a house in Brookline, Massachusetts, to 1600 Pennsylvania Avenue, Kennedy's story is one of the great American legends that actually happened.","English",22.6,16.95,"973.922092--dc23","24 pp.",{"$f":"Table1[[#This Row],['# Books]]*Table1[[#This Row],[QTY]]","v":0},{"$f":"Table1[[#This Row],[QTY]]*Table1[[#This Row],[S&L Price]]","v":0}]
[null,null,39,"Before They Were President",1,"Before Teddy Roosevelt Was President","Library Bound Book",null,"978-1-5382-1078-9",2018,"January 2018","Library","8.500 X 8.500","Author","Therese M. Shea",null,null,null,null,"L",null,"Grade 2 - 3","Grade 2 - 5","The rugged image of Teddy Roosevelt might not appear to include the bustle of New York City, but there's much people don't know about the 26th president of the United States. Before Roosevelt founded the Bull Moose Party and ran for office, he was a weight lifter and practiced gymnastics. Readers explore the early life of this larger-than-life political figure, exploring his military career, hobbies, and writings in a book full of images and facts about one of America's most fascinating presidents.","English",22.6,16.95,"973.91/1092--dc23","24 pp.",{"$f":"Table1[[#This Row],['# Books]]*Table1[[#This Row],[QTY]]","v":0},{"$f":"Table1[[#This Row],[QTY]]*Table1[[#This Row],[S&L Price]]","v":0}]
[null,null,39,"Before They Were President",1,"Before Teddy Roosevelt Was President","eBook",null,"978-1-5382-1079-6",2018,"January 2018",null,null,"Author","Therese M. Shea",null,null,null,null,"L",null,"Grade 2 - 3","Grade 2 - 5","The rugged image of Teddy Roosevelt might not appear to include the bustle of New York City, but there's much people don't know about the 26th president of the United States. Before Roosevelt founded the Bull Moose Party and ran for office, he was a weight lifter and practiced gymnastics. Readers explore the early life of this larger-than-life political figure, exploring his military career, hobbies, and writings in a book full of images and facts about one of America's most fascinating presidents.","English",22.6,16.95,"973.91/1092--dc23","24 pp.",{"$f":"Table1[[#This Row],['# Books]]*Table1[[#This Row],[QTY]]","v":0},{"$f":"Table1[[#This Row],[QTY]]*Table1[[#This Row],[S&L Price]]","v":0}]
[null,null,40,"Superwomen in STEM",6,"Superwomen in STEM","Library Set",null,"978-1-5382-1435-0",2018,"January 2018","Library","7.250 X 9.250",null,null,null,null,null,null,null,null,"Grade 5","Grade 4 - 8","History is rich with the incredible accomplishments of women in STEM fields, but their stories often go untold. This innovative series shines a spotlight on remarkable women pioneers throughout history, from the ancient mathematician Hypatia of Alexandria to contemporary figures such as Sally Ride, the first American woman in space. Each book features inspiring biographies of real-life superwomen in science, focusing on the challenges they overcame and how their work has shaped the world. Quotes from the scientists themselves and their contemporaries will resonate with readers, while playful illustrations and photographs emphasize key concepts. Feature boxes highlight each scientist's major discoveries. A gallery spread introduces readers to further accomplishments of additional famous women scientists who are not covered in the main text. Timelines mark the impressive progress of women in STEM, and a \"Science Now\" spread shows readers what women in science are working on today. A fascinating combination of history and STEM, this immersive series will be an essential addition to any library.","English",191.7,143.69999999999999,null,"48 pp.",{"$f":"Table1[[#This Row],['# Books]]*Table1[[#This Row],[QTY]]","v":0},{"$f":"Table1[[#This Row],[QTY]]*Table1[[#This Row],[S&L Price]]","v":0}]
[null,null,40,"Superwomen in STEM",1,"Women Scientists in Astronomy and Space","Library Bound Book",null,"978-1-5382-1403-9",2018,"January 2018","Library","7.250 X 9.250","Author","Nancy Dickmann",null,null,null,null,"U",null,"Grade 5","Grade 4 - 8","Exploring and studying space are among humanity's greatest accomplishments, but history books have too often neglected the incredible work of women astronomers and scientists. This informative book illuminates the lives and achievements of astronomical geniuses, from Wang Zhenyi of the Qing dynasty, to Sally Ride, the first American woman in space. Mini bio and feature boxes provide fast facts on each featured scientist, and a gallery spread introduces readers to even more crucial women astronomers. Quotes from each scientist and their contemporaries inspire readers to develop their own love of STEM. Beautiful original illustrations and vibrant photographs pull readers into this thoughtful book. A thorough timeline gives readers a view of women's progress in the field of astronomy, and a \"Science Now\" spread shows readers the wonders of modern day astronomy.","English",31.95,23.95,"305.43'5--dc23","48 pp.",{"$f":"Table1[[#This Row],['# Books]]*Table1[[#This Row],[QTY]]","v":0},{"$f":"Table1[[#This Row],[QTY]]*Table1[[#This Row],[S&L Price]]","v":0}]
[null,null,40,"Superwomen in STEM",1,"Women Scientists in Astronomy and Space","eBook",null,"978-1-5382-1404-6",2018,"January 2018",null,null,"Author","Nancy Dickmann",null,null,null,null,"U",null,"Grade 5","Grade 4 - 8","Exploring and studying space are among humanity's greatest accomplishments, but history books have too often neglected the incredible work of women astronomers and scientists. This informative book illuminates the lives and achievements of astronomical geniuses, from Wang Zhenyi of the Qing dynasty, to Sally Ride, the first American woman in space. Mini bio and feature boxes provide fast facts on each featured scientist, and a gallery spread introduces readers to even more crucial women astronomers. Quotes from each scientist and their contemporaries inspire readers to develop their own love of STEM. Beautiful original illustrations and vibrant photographs pull readers into this thoughtful book. A thorough timeline gives readers a view of women's progress in the field of astronomy, and a \"Science Now\" spread shows readers the wonders of modern day astronomy.","English",31.95,23.95,"305.43'5--dc23","48 pp.",{"$f":"Table1[[#This Row],['# Books]]*Table1[[#This Row],[QTY]]","v":0},{"$f":"Table1[[#This Row],[QTY]]*Table1[[#This Row],[S&L Price]]","v":0}]
[null,null,40,"Superwomen in STEM",1,"Women Scientists in Chemistry","Library Bound Book",null,"978-1-5382-1405-3",2018,"January 2018","Library","7.250 X 9.250","Author","Tracey Kelly",null,null,null,null,"U",null,"Grade 5","Grade 4 - 8","Marie Curie is one of the most famous chemists in history for her groundbreaking discoveries in radioactivity, but many people don't know that her daughter, Irène Joliot-Curie, also pioneered the field of chemistry and received the Nobel Prize in 1935. This engaging book sheds light on incredible women chemists, the obstacles they overcame, and their groundbreaking accomplishments. Mini bio boxes of each featured scientist give readers fast facts, and quotes from the scientists and their contemporaries inspire readers to explore the wonders of STEM for themselves. A gallery spread introduces to even more famous women chemists, while a thorough timeline marks the progress of women in chemistry. A concluding \"Science Now\" spread gives readers a view of where the field of chemistry is at today. Charmingly illustrated and full of stunning photographs, this book will be an inspiring addition to any library or classroom.","English",31.95,23.95,"540.92'52--dc23","48 pp.",{"$f":"Table1[[#This Row],['# Books]]*Table1[[#This Row],[QTY]]","v":0},{"$f":"Table1[[#This Row],[QTY]]*Table1[[#This Row],[S&L Price]]","v":0}]
[null,null,40,"Superwomen in STEM",1,"Women Scientists in Chemistry","eBook",null,"978-1-5382-1437-4",2018,"January 2018",null,null,"Author","Tracey Kelly",null,null,null,null,"U",null,"Grade 5","Grade 4 - 8","Marie Curie is one of the most famous chemists in history for her groundbreaking discoveries in radioactivity, but many people don't know that her daughter, Irène Joliot-Curie, also pioneered the field of chemistry and received the Nobel Prize in 1935. This engaging book sheds light on incredible women chemists, the obstacles they overcame, and their groundbreaking accomplishments. Mini bio boxes of each featured scientist give readers fast facts, and quotes from the scientists and their contemporaries inspire readers to explore the wonders of STEM for themselves. A gallery spread introduces to even more famous women chemists, while a thorough timeline marks the progress of women in chemistry. A concluding \"Science Now\" spread gives readers a view of where the field of chemistry is at today. Charmingly illustrated and full of stunning photographs, this book will be an inspiring addition to any library or classroom.","English",31.95,23.95,"540.92'52--dc23","48 pp.",{"$f":"Table1[[#This Row],['# Books]]*Table1[[#This Row],[QTY]]","v":0},{"$f":"Table1[[#This Row],[QTY]]*Table1[[#This Row],[S&L Price]]","v":0}]
[null,null,40,"Superwomen in STEM",1,"Women Scientists in Life Science","Library Bound Book",null,"978-1-5382-1406-0",2018,"January 2018","Library","7.250 X 9.250","Author","Nancy Dickmann",null,null,null,null,"U",null,"Grade 5","Grade 4 - 8","The phenomenal work of archeologist Mary Anning led to crucial discoveries and theories, such as Darwin's groundbreaking theory of evolution, yet her story is often overshadowed by men scientists whose work she inspired. This enlightening book explores the lives, accomplishments, and obstacles of vital women scientists in life sciences such as Anning. Mini bio and feature boxes give readers fast facts, while quotes from scientists and their contemporaries inspire readers to explore the wonders of STEM for themselves. A gallery spread introduces readers to even more women scientists. Readers will see the accomplishments of women in life sciences in a thorough timeline, while a \"Science Now\" section introduces readers to the where life sciences are at today.","English",31.95,23.95,"305.43'5--dc23","48 pp.",{"$f":"Table1[[#This Row],['# Books]]*Table1[[#This Row],[QTY]]","v":0},{"$f":"Table1[[#This Row],[QTY]]*Table1[[#This Row],[S&L Price]]","v":0}]
[null,null,40,"Superwomen in STEM",1,"Women Scientists in Life Science","eBook",null,"978-1-5382-1407-7",2018,"January 2018",null,null,"Author","Nancy Dickmann",null,null,null,null,"U",null,"Grade 5","Grade 4 - 8","The phenomenal work of archeologist Mary Anning led to crucial discoveries and theories, such as Darwin's groundbreaking theory of evolution, yet her story is often overshadowed by men scientists whose work she inspired. This enlightening book explores the lives, accomplishments, and obstacles of vital women scientists in life sciences such as Anning. Mini bio and feature boxes give readers fast facts, while quotes from scientists and their contemporaries inspire readers to explore the wonders of STEM for themselves. A gallery spread introduces readers to even more women scientists. Readers will see the accomplishments of women in life sciences in a thorough timeline, while a \"Science Now\" section introduces readers to the where life sciences are at today.","English",31.95,23.95,"305.43'5--dc23","48 pp.",{"$f":"Table1[[#This Row],['# Books]]*Table1[[#This Row],[QTY]]","v":0},{"$f":"Table1[[#This Row],[QTY]]*Table1[[#This Row],[S&L Price]]","v":0}]
[null,null,40,"Superwomen in STEM",1,"Women Scientists in Math and Coding","Library Bound Book",null,"978-1-5382-1408-4",2018,"January 2018","Library","7.250 X 9.250","Author","Catherine Brereton",null,null,null,null,"U",null,"Grade 5","Grade 4 - 8","Before modern day desktops and laptops, there were human \"computers\" or mathematicians who handled complex calculations. Katherine Johnson, Mary Jackson, and Dorothy Vaughan were among the greatest computers, but their vital work at NASA has been largely left out of history. This immersive book explores the lives and accomplishments of ingenious women mathematicians and coders throughout history, such as Johnson, Jackson, and Vaughan. Mini bio and feature boxes provide fast facts; while quotes from featured mathematicians, coders, and their contemporaries inspire readers to develop their own love for STEM. Original illustrations and stunning photographs bring the lives of these incredible women into exciting focus. A thorough timeline highlights the progress of women in STEM and lists Nobel Prize winners. A gallery spread introduces readers to even more women mathematicians and coders, while a \"Science Now\" spread shows readers the modern world of math and coding.","English",31.95,23.95,"509.2'520973--dc23","48 pp.",{"$f":"Table1[[#This Row],['# Books]]*Table1[[#This Row],[QTY]]","v":0},{"$f":"Table1[[#This Row],[QTY]]*Table1[[#This Row],[S&L Price]]","v":0}]
[null,null,40,"Superwomen in STEM",1,"Women Scientists in Math and Coding","eBook",null,"978-1-5382-1409-1",2018,"January 2018",null,null,"Author","Catherine Brereton",null,null,null,null,"U",null,"Grade 5","Grade 4 - 8","Before modern day desktops and laptops, there were human \"computers\" or mathematicians who handled complex calculations. Katherine Johnson, Mary Jackson, and Dorothy Vaughan were among the greatest computers, but their vital work at NASA has been largely left out of history. This immersive book explores the lives and accomplishments of ingenious women mathematicians and coders throughout history, such as Johnson, Jackson, and Vaughan. Mini bio and feature boxes provide fast facts; while quotes from featured mathematicians, coders, and their contemporaries inspire readers to develop their own love for STEM. Original illustrations and stunning photographs bring the lives of these incredible women into exciting focus. A thorough timeline highlights the progress of women in STEM and lists Nobel Prize winners. A gallery spread introduces readers to even more women mathematicians and coders, while a \"Science Now\" spread shows readers the modern world of math and coding.","English",31.95,23.95,"509.2'520973--dc23","48 pp.",{"$f":"Table1[[#This Row],['# Books]]*Table1[[#This Row],[QTY]]","v":0},{"$f":"Table1[[#This Row],[QTY]]*Table1[[#This Row],[S&L Price]]","v":0}]
[null,null,40,"Superwomen in STEM",1,"Women Scientists in Medicine","Library Bound Book",null,"978-1-5382-1410-7",2018,"January 2018","Library","7.250 X 9.250","Author","Nancy Dickmann",null,null,null,null,"U",null,"Grade 5","Grade 4 - 8","The field of medicine is crucial to the advancement of society, but many groundbreaking achievements have been left out of the history books. This insightful book illuminates the lives and accomplishments of women in the fields of medicine and health, from Elizabeth Blackwell to Virginia Apgar. Quotes from featured scientists and their contemporaries empower readers to explore the world of STEM for themselves. Beautiful illustrations and photographs immerse even reluctant readers. A gallery spread introduces readers to even more ingenious women scientists, while a timeline highlights the progress of women in medicine and health throughout history and lists Nobel Prize winners. Readers will see the state of contemporary medicine in a captivating \"Science Now\" spread.","English",31.95,23.95,"610.82--dc23","48 pp.",{"$f":"Table1[[#This Row],['# Books]]*Table1[[#This Row],[QTY]]","v":0},{"$f":"Table1[[#This Row],[QTY]]*Table1[[#This Row],[S&L Price]]","v":0}]
[null,null,40,"Superwomen in STEM",1,"Women Scientists in Medicine","eBook",null,"978-1-5382-1411-4",2018,"January 2018",null,null,"Author","Nancy Dickmann",null,null,null,null,"U",null,"Grade 5","Grade 4 - 8","The field of medicine is crucial to the advancement of society, but many groundbreaking achievements have been left out of the history books. This insightful book illuminates the lives and accomplishments of women in the fields of medicine and health, from Elizabeth Blackwell to Virginia Apgar. Quotes from featured scientists and their contemporaries empower readers to explore the world of STEM for themselves. Beautiful illustrations and photographs immerse even reluctant readers. A gallery spread introduces readers to even more ingenious women scientists, while a timeline highlights the progress of women in medicine and health throughout history and lists Nobel Prize winners. Readers will see the state of contemporary medicine in a captivating \"Science Now\" spread.","English",31.95,23.95,"610.82--dc23","48 pp.",{"$f":"Table1[[#This Row],['# Books]]*Table1[[#This Row],[QTY]]","v":0},{"$f":"Table1[[#This Row],[QTY]]*Table1[[#This Row],[S&L Price]]","v":0}]
[null,null,40,"Superwomen in STEM",1,"Women Scientists in Physics and Engineering","Library Bound Book",null,"978-1-5382-1412-1",2018,"January 2018","Library","7.250 X 9.250","Author","Catherine Brereton",null,null,null,null,"U",null,"Grade 5","Grade 4 - 8","Despite innumerable obstacles, women have been making crucial discoveries and contributions to science throughout history. This illuminating book shines a light on women physicists and engineers, their accomplishments and the hurdles they overcame. Mini bio and feature boxes offer fast and fascinating facts. Quotes from each featured scientist and their contemporaries inspire readers to explore STEM on their own, while charming illustrations and photographs immerse even reluctant readers. An information-rich timeline overviews the progress of women in physics and engineering, and a gallery spread introduces readers to even more ingenious women in STEM. Full of key scientific discoveries and inspiration, this unique combination of history and science will be perfect in any library and classroom.","English",31.95,23.95,"620.0082--dc23","48 pp.",{"$f":"Table1[[#This Row],['# Books]]*Table1[[#This Row],[QTY]]","v":0},{"$f":"Table1[[#This Row],[QTY]]*Table1[[#This Row],[S&L Price]]","v":0}]
[null,null,40,"Superwomen in STEM",1,"Women Scientists in Physics and Engineering","eBook",null,"978-1-5382-1413-8",2018,"January 2018",null,null,"Author","Catherine Brereton",null,null,null,null,"U",null,"Grade 5","Grade 4 - 8","Despite innumerable obstacles, women have been making crucial discoveries and contributions to science throughout history. This illuminating book shines a light on women physicists and engineers, their accomplishments and the hurdles they overcame. Mini bio and feature boxes offer fast and fascinating facts. Quotes from each featured scientist and their contemporaries inspire readers to explore STEM on their own, while charming illustrations and photographs immerse even reluctant readers. An information-rich timeline overviews the progress of women in physics and engineering, and a gallery spread introduces readers to even more ingenious women in STEM. Full of key scientific discoveries and inspiration, this unique combination of history and science will be perfect in any library and classroom.","English",31.95,23.95,"620.0082--dc23","48 pp.",{"$f":"Table1[[#This Row],['# Books]]*Table1[[#This Row],[QTY]]","v":0},{"$f":"Table1[[#This Row],[QTY]]*Table1[[#This Row],[S&L Price]]","v":0}]
[null,79,41,"Gareth Guides to an Extraordinary Life",6,"Gareth Guides to an Extraordinary Life","Library Set",null,"978-1-5382-0471-9",2018,"August 2017","Library","6.500 X 9.125",null,null,null,null,null,null,null,null,"Grade 4 - 5","Grade 4 - 6","Some endeavors seem so perplexing, so demanding, or so awe-inspiring that it’s amazing that anyone actually accomplishes such feats. But people do—and readers of this compelling series will be ready to as well! Gareth Guides are a fun take on perennially popular how-to books. Each attention-grabbing volume tackles an extremely high-interest topic and breaks it down into comprehensible and useful information. Whether the subject is building a space probe, digging up dinosaur fossils, or becoming a star athlete, readers will discover the facts behind each challenge, related in the most motivating and entertaining way.","English",159.6,119.7,null,"32 pp.",{"$f":"Table1[[#This Row],['# Books]]*Table1[[#This Row],[QTY]]","v":0},{"$f":"Table1[[#This Row],[QTY]]*Table1[[#This Row],[S&L Price]]","v":0}]
[null,79,41,"Gareth Guides to an Extraordinary Life",1,"Gareth's Guide to Becoming a Brain Surgeon","Library Bound Book",null,"978-1-5382-0346-0",2018,"August 2017","Library","6.500 X 9.125","Author","Joan Stoltman",null,null,null,null,"U",null,"Grade 4 - 5","Grade 4 - 6","The human brain is a powerful organ. There’s so much we don’t know about how it works; what we do know is astounding. For example, information in your brain can move as fast as 265 miles (425 km) per hour—faster than a racecar! This truly entertaining and informative volume is full of fascinating facts about the human brain for the brain surgeons of tomorrow. They’ll learn how we know about the brain, what we’re trying to learn, and even the basics of neurosurgery, preparing them to be the scientists and doctors who will crack the mysteries of the human brain!","English",26.6,19.95,"617.4’810233--dc23","32 pp.",{"$f":"Table1[[#This Row],['# Books]]*Table1[[#This Row],[QTY]]","v":0},{"$f":"Table1[[#This Row],[QTY]]*Table1[[#This Row],[S&L Price]]","v":0}]
[null,79,41,"Gareth Guides to an Extraordinary Life",1,"Gareth's Guide to Becoming a Brain Surgeon","eBook",null,"978-1-5382-0340-8",2018,"August 2017",null,null,"Author","Joan Stoltman",null,null,null,null,"U",null,"Grade 4 - 5","Grade 4 - 6","The human brain is a powerful organ. There’s so much we don’t know about how it works; what we do know is astounding. For example, information in your brain can move as fast as 265 miles (425 km) per hour—faster than a racecar! This truly entertaining and informative volume is full of fascinating facts about the human brain for the brain surgeons of tomorrow. They’ll learn how we know about the brain, what we’re trying to learn, and even the basics of neurosurgery, preparing them to be the scientists and doctors who will crack the mysteries of the human brain!","English",26.6,19.95,"617.4’810233--dc23","32 pp.",{"$f":"Table1[[#This Row],['# Books]]*Table1[[#This Row],[QTY]]","v":0},{"$f":"Table1[[#This Row],[QTY]]*Table1[[#This Row],[S&L Price]]","v":0}]
[null,79,41,"Gareth Guides to an Extraordinary Life",1,"Gareth's Guide to Becoming a Pop Star","Library Bound Book",null,"978-1-5382-0347-7",2018,"August 2017","Library","6.500 X 9.125","Author","Caitie McAneney",null,null,null,null,"S",null,"Grade 4 - 5","Grade 4 - 6","In this age of YouTube sensations and televised music competitions, it can seem like pop stars actually “pop” up overnight. However, it’s rare that someone can truly become a music sensation without first logging many hours of hard work. Luckily, this guide, featuring many famous pop stars, can take readers behind the scenes to find out the many ways that pop stars have been discovered as well as tips readers can use to prepare themselves for a life in music. A fun design featuring infographics make this high-interest topic even more appealing.","English",26.6,19.95,"781.64023--dc23","32 pp.",{"$f":"Table1[[#This Row],['# Books]]*Table1[[#This Row],[QTY]]","v":0},{"$f":"Table1[[#This Row],[QTY]]*Table1[[#This Row],[S&L Price]]","v":0}]
[null,79,41,"Gareth Guides to an Extraordinary Life",1,"Gareth's Guide to Becoming a Pop Star","eBook",null,"978-1-5382-0341-5",2018,"August 2017",null,null,"Author","Caitie McAneney",null,null,null,null,"S",null,"Grade 4 - 5","Grade 4 - 6","In this age of YouTube sensations and televised music competitions, it can seem like pop stars actually “pop” up overnight. However, it’s rare that someone can truly become a music sensation without first logging many hours of hard work. Luckily, this guide, featuring many famous pop stars, can take readers behind the scenes to find out the many ways that pop stars have been discovered as well as tips readers can use to prepare themselves for a life in music. A fun design featuring infographics make this high-interest topic even more appealing.","English",26.6,19.95,"781.64023--dc23","32 pp.",{"$f":"Table1[[#This Row],['# Books]]*Table1[[#This Row],[QTY]]","v":0},{"$f":"Table1[[#This Row],[QTY]]*Table1[[#This Row],[S&L Price]]","v":0}]
[null,79,41,"Gareth Guides to an Extraordinary Life",1,"Gareth's Guide to Becoming a Rock Star Coder","Library Bound Book",null,"978-1-5382-0359-0",2018,"August 2017","Library","6.500 X 9.125","Author","Patricia Harris, Ph.D.",null,null,null,null,"T",null,"Grade 4 - 5","Grade 4 - 6","Computer literacy is nothing short of imperative, and many educators are advocating for students to understand code and even to become coders themselves. This motivating volume doesn’t just introduce different kinds of coding, it instills readers with an excitement for coding themselves. They’ll learn about special languages and programs that make coding achievable at all levels of proficiency. They’ll be introduced to professional coders and learn how coding requires practical knowledge as well as creativity in solving problems. An appealing design adds interest to this already high-interest topic, which supports STEM curricula.","English",26.6,19.95,"005.1023--dc23","32 pp.",{"$f":"Table1[[#This Row],['# Books]]*Table1[[#This Row],[QTY]]","v":0},{"$f":"Table1[[#This Row],[QTY]]*Table1[[#This Row],[S&L Price]]","v":0}]
[null,79,41,"Gareth Guides to an Extraordinary Life",1,"Gareth's Guide to Becoming a Rock Star Coder","eBook",null,"978-1-5382-0344-6",2018,"August 2017",null,null,"Author","Patricia Harris, Ph.D.",null,null,null,null,"T",null,"Grade 4 - 5","Grade 4 - 6","Computer literacy is nothing short of imperative, and many educators are advocating for students to understand code and even to become coders themselves. This motivating volume doesn’t just introduce different kinds of coding, it instills readers with an excitement for coding themselves. They’ll learn about special languages and programs that make coding achievable at all levels of proficiency. They’ll be introduced to professional coders and learn how coding requires practical knowledge as well as creativity in solving problems. An appealing design adds interest to this already high-interest topic, which supports STEM curricula.","English",26.6,19.95,"005.1023--dc23","32 pp.",{"$f":"Table1[[#This Row],['# Books]]*Table1[[#This Row],[QTY]]","v":0},{"$f":"Table1[[#This Row],[QTY]]*Table1[[#This Row],[S&L Price]]","v":0}]
[null,79,41,"Gareth Guides to an Extraordinary Life",1,"Gareth's Guide to Becoming a Star Athlete","Library Bound Book",null,"978-1-5382-0357-6",2018,"August 2017","Library","6.500 X 9.125","Author","Ryan Nagelhout",null,null,null,null,"S",null,"Grade 4 - 5","Grade 4 - 6","Whether young athletes aspire to be football, basketball, soccer, baseball, or some other kind of sports star, this guide to all things athletic can give them a true picture of the life of a superstar athlete. It’s not all autographs and interviews! Long hours of training and even study take place off the field, often for years. This engaging volume offers plenty of advice—some from renowned athletes themselves—about how to avoid injury, hone your skills, and make a splash in the world of sports.","English",26.6,19.95,"796--dc23","32 pp.",{"$f":"Table1[[#This Row],['# Books]]*Table1[[#This Row],[QTY]]","v":0},{"$f":"Table1[[#This Row],[QTY]]*Table1[[#This Row],[S&L Price]]","v":0}]
[null,79,41,"Gareth Guides to an Extraordinary Life",1,"Gareth's Guide to Becoming a Star Athlete","eBook",null,"978-1-5382-0342-2",2018,"August 2017",null,null,"Author","Ryan Nagelhout",null,null,null,null,"S",null,"Grade 4 - 5","Grade 4 - 6","Whether young athletes aspire to be football, basketball, soccer, baseball, or some other kind of sports star, this guide to all things athletic can give them a true picture of the life of a superstar athlete. It’s not all autographs and interviews! Long hours of training and even study take place off the field, often for years. This engaging volume offers plenty of advice—some from renowned athletes themselves—about how to avoid injury, hone your skills, and make a splash in the world of sports.","English",26.6,19.95,"796--dc23","32 pp.",{"$f":"Table1[[#This Row],['# Books]]*Table1[[#This Row],[QTY]]","v":0},{"$f":"Table1[[#This Row],[QTY]]*Table1[[#This Row],[S&L Price]]","v":0}]
[null,79,41,"Gareth Guides to an Extraordinary Life",1,"Gareth's Guide to Building a Space Probe","Library Bound Book",null,"978-1-5382-0358-3",2018,"August 2017","Library","6.500 X 9.125","Author","Therese M. Shea",null,null,null,null,"T",null,"Grade 4 - 5","Grade 4 - 6","Unmanned spacecraft have collected much valuable information about the planets in our solar system. It seems almost miraculous that something man-made could travel thousands of miles per hour to places millions of miles away. But it’s not a miracle—it’s science! This wide-ranging book reveals the extraordinary careers of aerospace engineers and space scientists and the extraordinary technology they collaborate on. Readers will gather numerous tips about how to lead their own extraordinary tech-savvy life as they absorb STEM-related vocabulary and concepts.","English",26.6,19.95,"629.43’54--dc23","32 pp.",{"$f":"Table1[[#This Row],['# Books]]*Table1[[#This Row],[QTY]]","v":0},{"$f":"Table1[[#This Row],[QTY]]*Table1[[#This Row],[S&L Price]]","v":0}]
[null,79,41,"Gareth Guides to an Extraordinary Life",1,"Gareth's Guide to Building a Space Probe","eBook",null,"978-1-5382-0343-9",2018,"August 2017",null,null,"Author","Therese M. Shea",null,null,null,null,"T",null,"Grade 4 - 5","Grade 4 - 6","Unmanned spacecraft have collected much valuable information about the planets in our solar system. It seems almost miraculous that something man-made could travel thousands of miles per hour to places millions of miles away. But it’s not a miracle—it’s science! This wide-ranging book reveals the extraordinary careers of aerospace engineers and space scientists and the extraordinary technology they collaborate on. Readers will gather numerous tips about how to lead their own extraordinary tech-savvy life as they absorb STEM-related vocabulary and concepts.","English",26.6,19.95,"629.43’54--dc23","32 pp.",{"$f":"Table1[[#This Row],['# Books]]*Table1[[#This Row],[QTY]]","v":0},{"$f":"Table1[[#This Row],[QTY]]*Table1[[#This Row],[S&L Price]]","v":0}]
[null,79,41,"Gareth Guides to an Extraordinary Life",1,"Gareth's Guide to Unearthing a Dinosaur","Library Bound Book",null,"978-1-5382-0360-6",2018,"August 2017","Library","6.500 X 9.125","Author","Melissa Raé Shofner",null,null,null,null,"T",null,"Grade 4 - 5","Grade 4 - 6","Paleontology is one of the most intriguing careers for those who have a passion for prehistoric life—or just dinosaurs! While we get to see the fruits of a successful excavation at museums, it’s extremely challenging to locate fossils, unearth them, and identify the remains. In this remarkable book, future fossil hunters will discover how paleontologists do what they do—and learn about opportunities for getting started early on this awesome profession. Fun infographics, interesting fact boxes, and captivating sidebars abound in this beautifully designed volume, which supports the elementary science curriculum.","English",26.6,19.95,"560--dc23","32 pp.",{"$f":"Table1[[#This Row],['# Books]]*Table1[[#This Row],[QTY]]","v":0},{"$f":"Table1[[#This Row],[QTY]]*Table1[[#This Row],[S&L Price]]","v":0}]
[null,79,41,"Gareth Guides to an Extraordinary Life",1,"Gareth's Guide to Unearthing a Dinosaur","eBook",null,"978-1-5382-0345-3",2018,"August 2017",null,null,"Author","Melissa Raé Shofner",null,null,null,null,"T",null,"Grade 4 - 5","Grade 4 - 6","Paleontology is one of the most intriguing careers for those who have a passion for prehistoric life—or just dinosaurs! While we get to see the fruits of a successful excavation at museums, it’s extremely challenging to locate fossils, unearth them, and identify the remains. In this remarkable book, future fossil hunters will discover how paleontologists do what they do—and learn about opportunities for getting started early on this awesome profession. Fun infographics, interesting fact boxes, and captivating sidebars abound in this beautifully designed volume, which supports the elementary science curriculum.","English",26.6,19.95,"560--dc23","32 pp.",{"$f":"Table1[[#This Row],['# Books]]*Table1[[#This Row],[QTY]]","v":0},{"$f":"Table1[[#This Row],[QTY]]*Table1[[#This Row],[S&L Price]]","v":0}]
[null,null,41,"Gareth Guides to an Extraordinary Life",12,"Gareth Guides to an Extraordinary Life: Sets 1 – 2","Library Set",null,"978-1-5382-2185-3",2019,"August 2018","Library","6.500 X 9.125"," "," ",null,null,null,null,null,null,"Grade 4 - 5","Grade 4 - 6","Students are often told to \"shoot for the stars\" when it comes to career choices, but giving them a comprehensive guide to achieving their dreams is much more valuable. This popular collection is a high-interest approach to career exploration, illuminating readers about the many aspects of a profession as well as highlighting incomparable achievements in the occupation. Perhaps most importantly, readers will discover what they can do now to prepare themselves for future success. Each striking volume is stylishly designed to engage readers and includes sidebars, fact boxes, and infographics. Features include: Information about careers is interwoven with science, history, and social studies concepts where relevant. Vibrant photographs depict people on the job and add to the interest of the text. Comprehension of informational texts such as these are a standard of the English Language Arts Common Core.","English",319.2,239.4,null,"32 pp.",{"$f":"Table1[[#This Row],['# Books]]*Table1[[#This Row],[QTY]]","v":0},{"$f":"Table1[[#This Row],[QTY]]*Table1[[#This Row],[S&L Price]]","v":0}]
[null,null,41,"Gareth Guides to an Extraordinary Life",6,"Gareth Guides to an Extraordinary Life: Set 2","Library Set",null,"978-1-5382-2184-6",2019,"August 2018","Library","6.500 X 9.125"," "," ",null,null,null,null,null,null,"Grade 4 - 5","Grade 4 - 6","People who reach the top of their fields have one thing in common, they dreamed big and aimed high. The key to an extraordinary life is an extraordinary belief in oneself. These volumes seek to instill that conviction in readers. They can succeed at these remarkable career paths, whether they want to be authors or engineers. Each engrossing book contains not just the basics of a profession, but also the most motivating details, inspiring stories, and greatest feats. An extraordinary path in life may start with these exceptional books. Features include: The stimulating design includes graphic organizers, infographics, sidebars, and fact boxes. Each thoughtful volume contains plenty of curricular content alongside career information. The English Language Arts Common Core encourages exposure to a wide array of informational texts for career readiness.","English",159.6,119.7,null,"32 pp.",{"$f":"Table1[[#This Row],['# Books]]*Table1[[#This Row],[QTY]]","v":0},{"$f":"Table1[[#This Row],[QTY]]*Table1[[#This Row],[S&L Price]]","v":0}]
[null,null,41,"Gareth Guides to an Extraordinary Life",1,"Gareth's Guide to Becoming a Deep-Sea Explorer","Library Bound Book",null,"978-1-5382-2043-6",2019,"August 2018","Library","6.500 X 9.125","Author","Barbara M. Linde",null,null,null,null,"S",null,"Grade 4 - 5","Grade 4 - 6","Scientists maintain that we've only explored 5 percent of Earth's oceans. These incredible expanses contain so many resources that many of us take for granted. Readers of this adventurous guide will be eager to find out how they can be explorers of Earth's final frontier. Whether they're seeking treasure in a wreck or searching for yet-unknown sea creatures, they'll learn what they need to do to prepare for a life in the water. Sidebars and fact boxes highlight information about real-life deep-sea explorers, while vivid photographs capture some truly captivating scenes of the undersea world.","English",26.6,19.95,null,"32 pp.",{"$f":"Table1[[#This Row],['# Books]]*Table1[[#This Row],[QTY]]","v":0},{"$f":"Table1[[#This Row],[QTY]]*Table1[[#This Row],[S&L Price]]","v":0}]
[null,null,41,"Gareth Guides to an Extraordinary Life",1,"Gareth's Guide to Becoming a Deep-Sea Explorer","eBook",null,"978-1-5382-2044-3",2019,"August 2018",null,null,"Author","Barbara M. Linde",null,null,null,null,"S",null,"Grade 4 - 5","Grade 4 - 6","Scientists maintain that we've only explored 5 percent of Earth's oceans. These incredible expanses contain so many resources that many of us take for granted. Readers of this adventurous guide will be eager to find out how they can be explorers of Earth's final frontier. Whether they're seeking treasure in a wreck or searching for yet-unknown sea creatures, they'll learn what they need to do to prepare for a life in the water. Sidebars and fact boxes highlight information about real-life deep-sea explorers, while vivid photographs capture some truly captivating scenes of the undersea world.","English",26.6,19.95,null,"32 pp.",{"$f":"Table1[[#This Row],['# Books]]*Table1[[#This Row],[QTY]]","v":0},{"$f":"Table1[[#This Row],[QTY]]*Table1[[#This Row],[S&L Price]]","v":0}]
[null,null,41,"Gareth Guides to an Extraordinary Life",1,"Gareth's Guide to Becoming a World-Renowned Chef","Library Bound Book",null,"978-1-5382-2047-4",2019,"August 2018","Library","6.500 X 9.125","Author","Kate Mikoley",null,null,null,null,"S",null,"Grade 4 - 5","Grade 4 - 6","Interest in the world of cooking has only risen since the advent of television shows and competitions that invite us all to try our hand at the culinary arts. This entertaining volume, which includes several biographies of world-famous chefs, lets readers know how to make the jump from grilled-cheese master to professional cook. Foodies will be delighted to find out they can start on their path today as they learn some tips and tricks in the pages of this guide to all things gourmet.","English",26.6,19.95,null,"32 pp.",{"$f":"Table1[[#This Row],['# Books]]*Table1[[#This Row],[QTY]]","v":0},{"$f":"Table1[[#This Row],[QTY]]*Table1[[#This Row],[S&L Price]]","v":0}]
[null,null,41,"Gareth Guides to an Extraordinary Life",1,"Gareth's Guide to Becoming a World-Renowned Chef","eBook",null,"978-1-5382-2048-1",2019,"August 2018",null,null,"Author","Kate Mikoley",null,null,null,null,"S",null,"Grade 4 - 5","Grade 4 - 6","Interest in the world of cooking has only risen since the advent of television shows and competitions that invite us all to try our hand at the culinary arts. This entertaining volume, which includes several biographies of world-famous chefs, lets readers know how to make the jump from grilled-cheese master to professional cook. Foodies will be delighted to find out they can start on their path today as they learn some tips and tricks in the pages of this guide to all things gourmet.","English",26.6,19.95,null,"32 pp.",{"$f":"Table1[[#This Row],['# Books]]*Table1[[#This Row],[QTY]]","v":0},{"$f":"Table1[[#This Row],[QTY]]*Table1[[#This Row],[S&L Price]]","v":0}]
[null,null,41,"Gareth Guides to an Extraordinary Life",1,"Gareth's Guide to Building a Robot","Library Bound Book",null,"978-1-5382-2051-1",2019,"August 2018","Library","6.500 X 9.125","Author","Therese M. Shea",null,null,null,null,"T",null,"Grade 4 - 5","Grade 4 - 6","An exploration of robotics has never been timelier. In schools, students sign up for robotics clubs and competitions. More and more robotics technology is being introduced in the workplace. Many people are wondering what the future relationship between robots and humans will be. Readers might think building a robot, or becoming the kind of engineer who does, is out of reach. They couldn't be more wrong! This carefully researched volume explains the parts of a robot, how it functions, and its many uses in our world today. It's sure to inspire an appreciation for robotics and the technology of today, and tomorrow.","English",26.6,19.95,"629.8/92--dc23","32 pp.",{"$f":"Table1[[#This Row],['# Books]]*Table1[[#This Row],[QTY]]","v":0},{"$f":"Table1[[#This Row],[QTY]]*Table1[[#This Row],[S&L Price]]","v":0}]
[null,null,41,"Gareth Guides to an Extraordinary Life",1,"Gareth's Guide to Building a Robot","eBook",null,"978-1-5382-2052-8",2019,"August 2018",null,null,"Author","Therese M. Shea",null,null,null,null,"T",null,"Grade 4 - 5","Grade 4 - 6","An exploration of robotics has never been timelier. In schools, students sign up for robotics clubs and competitions. More and more robotics technology is being introduced in the workplace. Many people are wondering what the future relationship between robots and humans will be. Readers might think building a robot, or becoming the kind of engineer who does, is out of reach. They couldn't be more wrong! This carefully researched volume explains the parts of a robot, how it functions, and its many uses in our world today. It's sure to inspire an appreciation for robotics and the technology of today, and tomorrow.","English",26.6,19.95,"629.8/92--dc23","32 pp.",{"$f":"Table1[[#This Row],['# Books]]*Table1[[#This Row],[QTY]]","v":0},{"$f":"Table1[[#This Row],[QTY]]*Table1[[#This Row],[S&L Price]]","v":0}]
[null,null,41,"Gareth Guides to an Extraordinary Life",1,"Gareth's Guide to Building a Skyscraper","Library Bound Book",null,"978-1-5382-2055-9",2019,"August 2018","Library","6.500 X 9.125","Author","Ryan Nagelhout",null,null,null,null,"T",null,"Grade 4 - 5","Grade 4 - 6","If you've ever stood on the observation deck of the Empire State Building or viewed a photograph of the 163-storey-tall Burj Khalifa, you know what an extraordinary feat of engineering a skyscraper is. It isn't an easy task to design or build one. This authoritative volume delves into the career paths involved with constructing the gravity-defying structures called skyscrapers, including engineering and architecture. The valuable text, supported by photographs, sidebars, fact boxes, infographics, and graphic organizers, contains plenty of information on careers as well as STEM-related concepts relevant to the elementary science curriculum.","English",26.6,19.95,null,"32 pp.",{"$f":"Table1[[#This Row],['# Books]]*Table1[[#This Row],[QTY]]","v":0},{"$f":"Table1[[#This Row],[QTY]]*Table1[[#This Row],[S&L Price]]","v":0}]
[null,null,41,"Gareth Guides to an Extraordinary Life",1,"Gareth's Guide to Building a Skyscraper","eBook",null,"978-1-5382-2056-6",2019,"August 2018",null,null,"Author","Ryan Nagelhout",null,null,null,null,"T",null,"Grade 4 - 5","Grade 4 - 6","If you've ever stood on the observation deck of the Empire State Building or viewed a photograph of the 163-storey-tall Burj Khalifa, you know what an extraordinary feat of engineering a skyscraper is. It isn't an easy task to design or build one. This authoritative volume delves into the career paths involved with constructing the gravity-defying structures called skyscrapers, including engineering and architecture. The valuable text, supported by photographs, sidebars, fact boxes, infographics, and graphic organizers, contains plenty of information on careers as well as STEM-related concepts relevant to the elementary science curriculum.","English",26.6,19.95,null,"32 pp.",{"$f":"Table1[[#This Row],['# Books]]*Table1[[#This Row],[QTY]]","v":0},{"$f":"Table1[[#This Row],[QTY]]*Table1[[#This Row],[S&L Price]]","v":0}]
[null,null,41,"Gareth Guides to an Extraordinary Life",1,"Gareth's Guide to Saving the Environment","Library Bound Book",null,"978-1-5382-2059-7",2019,"August 2018","Library","6.500 X 9.125","Author","Jill Keppeler",null,null,null,null,"S",null,"Grade 4 - 5","Grade 4 - 6","\"Save Earth!\" If that sounds daunting, look no further. There are things we can all do each day to aid the environmental movement. This comprehensive guide for future environmentalists is an engaging exploration of the race to save habitats, animals, and resources that are currently in peril. Readers will learn about the people who have dedicated their lives to stopping destruction around the globe and about the careers available for those with a passion for our planet. Earth science topics abound in this beautifully designed volume full of significant sidebars, fascinating fact boxes, and interesting infographics.","English",26.6,19.95,null,"32 pp.",{"$f":"Table1[[#This Row],['# Books]]*Table1[[#This Row],[QTY]]","v":0},{"$f":"Table1[[#This Row],[QTY]]*Table1[[#This Row],[S&L Price]]","v":0}]
[null,null,41,"Gareth Guides to an Extraordinary Life",1,"Gareth's Guide to Saving the Environment","eBook",null,"978-1-5382-2060-3",2019,"August 2018",null,null,"Author","Jill Keppeler",null,null,null,null,"S",null,"Grade 4 - 5","Grade 4 - 6","\"Save Earth!\" If that sounds daunting, look no further. There are things we can all do each day to aid the environmental movement. This comprehensive guide for future environmentalists is an engaging exploration of the race to save habitats, animals, and resources that are currently in peril. Readers will learn about the people who have dedicated their lives to stopping destruction around the globe and about the careers available for those with a passion for our planet. Earth science topics abound in this beautifully designed volume full of significant sidebars, fascinating fact boxes, and interesting infographics.","English",26.6,19.95,null,"32 pp.",{"$f":"Table1[[#This Row],['# Books]]*Table1[[#This Row],[QTY]]","v":0},{"$f":"Table1[[#This Row],[QTY]]*Table1[[#This Row],[S&L Price]]","v":0}]
[null,null,41,"Gareth Guides to an Extraordinary Life",1,"Gareth's Guide to Writing a Best Seller","Library Bound Book",null,"978-1-5382-2063-4",2019,"August 2018","Library","6.500 X 9.125","Author","Kristen Rajczak Nelson",null,null,null,null,"S",null,"Grade 4 - 5","Grade 4 - 6","It's time to book the talk shows and literary journals, everyone wants to know how a best-selling author gets their ideas and crafts a masterpiece! This engrossing guide to becoming a successful writer explains the painstaking work behind beloved books. Readers will discover what they can do now to prepare for a literary triumph as well as how some of their favorite authors broke into the scene. The appealing design includes sidebars, fact boxes, infographics, and a graphic organizer to better organize the reader's path to fame.","English",26.6,19.95,null,"32 pp.",{"$f":"Table1[[#This Row],['# Books]]*Table1[[#This Row],[QTY]]","v":0},{"$f":"Table1[[#This Row],[QTY]]*Table1[[#This Row],[S&L Price]]","v":0}]
[null,null,41,"Gareth Guides to an Extraordinary Life",1,"Gareth's Guide to Writing a Best Seller","eBook",null,"978-1-5382-2064-1",2019,"August 2018",null,null,"Author","Kristen Rajczak Nelson",null,null,null,null,"S",null,"Grade 4 - 5","Grade 4 - 6","It's time to book the talk shows and literary journals, everyone wants to know how a best-selling author gets their ideas and crafts a masterpiece! This engrossing guide to becoming a successful writer explains the painstaking work behind beloved books. Readers will discover what they can do now to prepare for a literary triumph as well as how some of their favorite authors broke into the scene. The appealing design includes sidebars, fact boxes, infographics, and a graphic organizer to better organize the reader's path to fame.","English",26.6,19.95,null,"32 pp.",{"$f":"Table1[[#This Row],['# Books]]*Table1[[#This Row],[QTY]]","v":0},{"$f":"Table1[[#This Row],[QTY]]*Table1[[#This Row],[S&L Price]]","v":0}]
[null,null,42,"The Unofficial Minecraft ™ Tool Kit",5,"The Unofficial Minecraft ™ Tool Kit","Library Set",null,"978-1-5382-1717-7",2018,"January 2018","Library","8.500 X 11.00",null,null,null,null,null,null,null,null,"Grade 3 - 4","Grade 3 - 6","Night is approaching, and soon the monsters will be on the prowl. Better make a shelter, before it's too late. Welcome to Minecraft, a game of survival and creation. This series gives readers insider tips to survive and thrive in this virtual universe. Readers will explore the forests, waters, skies, tundra, and mountains of Minecraft, and the unique materials and monsters hiding in each biome. Each book provides three projects at different levels of difficulty: beginner, intermediate, and master. Step-by-step instructions with visuals and lists of necessary materials ensure each project is accessible. This immersive series helps Minecrafters develop STEM and problem-solving skills, encourages creative thinking, and fosters a love for engineering, coding, and architecture.","English",113,84.75,null,"24 pp.",{"$f":"Table1[[#This Row],['# Books]]*Table1[[#This Row],[QTY]]","v":0},{"$f":"Table1[[#This Row],[QTY]]*Table1[[#This Row],[S&L Price]]","v":0}]
[null,null,42,"The Unofficial Minecraft ™ Tool Kit",1,"Forest Fun with Minecraft™","Library Bound Book",null,"978-1-5382-1707-8",2018,"January 2018","Library","8.500 X 11.00","Author, Author","Joey Davey, Jonathan Green",null,null,null,null,"R",null,"Grade 3 - 4","Grade 3 - 6","In a strange new wilderness, what does it take to survive and thrive? This inside guide to the world of Minecraft gives readers tips, tricks, and step-by-step instructions to help them create their own forest fortresses. Fun and accessible, this book is broken down into three projects at different difficulty levels: beginner, intermediate, and master. Readers will gain confidence as they construct a comfy camp, a magnificent mushroom mansion, and a towering treetop lodge. Each project provides a time-to-completion estimate, visuals of each step, and a handy materials list so readers can stock up on all the supplies they'll need. Creative tips encourage readers to unleash their imaginations to make their Minecraft masterpieces unique.","English",22.6,16.95,"794.8--dc23","24 pp.",{"$f":"Table1[[#This Row],['# Books]]*Table1[[#This Row],[QTY]]","v":0},{"$f":"Table1[[#This Row],[QTY]]*Table1[[#This Row],[S&L Price]]","v":0}]
[null,null,42,"The Unofficial Minecraft ™ Tool Kit",1,"On Top of the World with Minecraft™","Library Bound Book",null,"978-1-5382-1708-5",2018,"January 2018","Library","8.500 X 11.00","Author, Author","Joey Davey, Jonathan Green",null,null,null,null,"R",null,"Grade 3 - 4","Grade 3 - 6","What does it take to make it on a Minecraft mountain? Readers of this handy guide will find out as they create their own civilizations on the top of the world. Expert tips help readers navigate the mountainous terrain, find and use materials in this environment, and much more. They'll gain confidence in their engineering skills as they complete three amazing projects at different levels of difficulty; beginner, intermediate, and master. They'll design a specialized farm, a thrilling roller coaster, and a majestic castle. Each project includes a list of necessary materials, step-by-step instructions with visuals, and an estimate on how much time it will take to complete.","English",22.6,16.95,"794.8--dc23","24 pp.",{"$f":"Table1[[#This Row],['# Books]]*Table1[[#This Row],[QTY]]","v":0},{"$f":"Table1[[#This Row],[QTY]]*Table1[[#This Row],[S&L Price]]","v":0}]
[null,null,42,"The Unofficial Minecraft ™ Tool Kit",1,"Ride the Waves with Minecraft™","Library Bound Book",null,"978-1-5382-1709-2",2018,"January 2018","Library","8.500 X 11.00","Author, Author","Joey Davey, Jonathan Green",null,null,null,null,"R",null,"Grade 3 - 4","Grade 3 - 6","What secrets are lurking beneath the pixelated waters of Minecraft? Readers of this behind-the-scenes guide will learn about the unique creatures and crafting materials they'll encounter underwater in this virtual universe. Expert tips teach readers how to master their own aquatic domain, from breathing underwater to building a squid farm and harvesting ink sacs. Three awesome projects of varying levels, beginner, intermediate, and master, help readers gain confidence in their construction skills. Readers will build their own wild water ride, secret underwater base, and epic aircraft carrier. Each project provides a time-to-completion estimate, a list of necessary materials, and step-by-step instructions with handy visuals.","English",22.6,16.95,"794.8--dc23","24 pp.",{"$f":"Table1[[#This Row],['# Books]]*Table1[[#This Row],[QTY]]","v":0},{"$f":"Table1[[#This Row],[QTY]]*Table1[[#This Row],[S&L Price]]","v":0}]
[null,null,42,"The Unofficial Minecraft ™ Tool Kit",1,"Sky's the Limit with Minecraft™","Library Bound Book",null,"978-1-5382-1710-8",2018,"January 2018","Library","8.500 X 11.00","Author, Author","Joey Davey, Jonathan Green",null,null,null,null,"R",null,"Grade 3 - 4","Grade 3 - 6","Gravity-defying blocks, floating stairs, and castles in the clouds? In the virtual universe of Minecraft, anything is possible, with the right tips and tricks. Beginner, intermediate, and master projects help readers gain confidence in their engineering skills. They'll construct a powerful plane, an epic sky fortress, and a towering skyscraper. Each project provides a list of necessary materials and step-by-step instructions with visuals. Time estimates let readers know how long each project will take to complete. From accessing Sneak mode to piloting their own aerial vehicles, readers will rule the pixelated skies in no time.","English",22.6,16.95,"794.8--dc23","24 pp.",{"$f":"Table1[[#This Row],['# Books]]*Table1[[#This Row],[QTY]]","v":0},{"$f":"Table1[[#This Row],[QTY]]*Table1[[#This Row],[S&L Price]]","v":0}]
[null,null,42,"The Unofficial Minecraft ™ Tool Kit",1,"Snow Stopping You with Minecraft™","Library Bound Book",null,"978-1-5382-1711-5",2018,"January 2018","Library","8.500 X 11.00","Author, Author","Joey Davey, Jonathan Green",null,null,null,null,"R",null,"Grade 3 - 4","Grade 3 - 6","Polar bears, snowstorms, and zombies? Welcome to the wintery world of Minecraft. This handy guide gives readers the tools they'll need to survive in Minecraft's icy landscapes, and three epic projects to begin their own snow kingdom. Each project includes a list of necessary materials and step-by-step instructions with visuals. Readers will gain confidence in their engineering skills as they progress through beginner, intermediate, and master builds. They'll construct a cozy igloo library, a massive polar outpost, and a fancy ice hotel. Expert tips help readers create snow golem armies, find fish and other crucial materials.","English",22.6,16.95,"794.8--dc23","24 pp.",{"$f":"Table1[[#This Row],['# Books]]*Table1[[#This Row],[QTY]]","v":0},{"$f":"Table1[[#This Row],[QTY]]*Table1[[#This Row],[S&L Price]]","v":0}]
[null,null,43,"Geek Out!",6,"Geek Out!","Library Set",null,"978-1-5382-1293-6",2018,"January 2018","Library","8.500 X 11.00",null,null,null,null,null,null,null,null,"Grade 3 - 4","Grade 3 - 6","The word 'nerd' sure doesn’t mean what it used to. Nowadays, our world is awash with leagues, competitions, clubs, and events for modern kids to let their geek flag proudly fly. Covering subjects from robot battles to cosplay, this series is action-packed, high energy, bold, graphic, and most of all, fun. Readers will be guided through the world of brainiac competitions and learn what it takes to enter and win. Each book includes instructions to help readers get their creative juices flowing and sets kids up for success through enhancing and celebrating their nerd skills.","English",159.6,119.7,null,"32 pp.",{"$f":"Table1[[#This Row],['# Books]]*Table1[[#This Row],[QTY]]","v":0},{"$f":"Table1[[#This Row],[QTY]]*Table1[[#This Row],[S&L Price]]","v":0}]
[null,null,43,"Geek Out!",1,"The Modern Nerd's Guide to Cosplay","Library Bound Book",null,"978-1-5382-1199-1",2018,"January 2018","Library","8.500 X 11.00","Author","Kristen Rajczak Nelson",null,null,34,null,"O",null,"Grade 3 - 4","Grade 3 - 6","The detailed craft of creating a unique costume, props, and makeup to bring both beloved and reviled characters to life has become a serious art form in the past decade. Today, cosplay is one of the hottest hobbies around, with huge international conventions and competitions making headlines around the world. In this volume, filled with insider info, helpful tips, spectacular color photographs, and dynamic graphics, readers learn not only how to enter the world of cosplay, but how to conquer it.","English",26.6,19.95,"793.93--dc23","32 pp.",{"$f":"Table1[[#This Row],['# Books]]*Table1[[#This Row],[QTY]]","v":0},{"$f":"Table1[[#This Row],[QTY]]*Table1[[#This Row],[S&L Price]]","v":0}]
[null,null,43,"Geek Out!",1,"The Modern Nerd's Guide to Cosplay","eBook",null,"978-1-5382-1200-4",2018,"January 2018",null,null,"Author","Kristen Rajczak Nelson",null,null,34,null,"O",null,"Grade 3 - 4","Grade 3 - 6","The detailed craft of creating a unique costume, props, and makeup to bring both beloved and reviled characters to life has become a serious art form in the past decade. Today, cosplay is one of the hottest hobbies around, with huge international conventions and competitions making headlines around the world. In this volume, filled with insider info, helpful tips, spectacular color photographs, and dynamic graphics, readers learn not only how to enter the world of cosplay, but how to conquer it.","English",26.6,19.95,"793.93--dc23","32 pp.",{"$f":"Table1[[#This Row],['# Books]]*Table1[[#This Row],[QTY]]","v":0},{"$f":"Table1[[#This Row],[QTY]]*Table1[[#This Row],[S&L Price]]","v":0}]
[null,null,43,"Geek Out!",1,"The Modern Nerd's Guide to Drone Racing","Library Bound Book",null,"978-1-5382-1203-5",2018,"January 2018","Library","8.500 X 11.00","Author","Ryan Nagelhout",null,null,34,null,"O",null,"Grade 3 - 4","Grade 3 - 6","Drones, those radio-controlled flying machines that everyone's abuzz about nowadays, provide many people with an exciting opportunity to navigate and modulate. The newly developed sport of drone racing, however, brings excitement and competition to the air like never before. Live-streaming directly from a camera mounted onto the drone even makes drone racing a spectator sport. This colorful, dynamic book not only introduces readers to drone racing, but gives them tips and insider information about to how to participate themselves.","English",26.6,19.95,"797.5'2--dc23","32 pp.",{"$f":"Table1[[#This Row],['# Books]]*Table1[[#This Row],[QTY]]","v":0},{"$f":"Table1[[#This Row],[QTY]]*Table1[[#This Row],[S&L Price]]","v":0}]
[null,null,43,"Geek Out!",1,"The Modern Nerd's Guide to Drone Racing","eBook",null,"978-1-5382-1204-2",2018,"January 2018",null,null,"Author","Ryan Nagelhout",null,null,34,null,"O",null,"Grade 3 - 4","Grade 3 - 6","Drones, those radio-controlled flying machines that everyone's abuzz about nowadays, provide many people with an exciting opportunity to navigate and modulate. The newly developed sport of drone racing, however, brings excitement and competition to the air like never before. Live-streaming directly from a camera mounted onto the drone even makes drone racing a spectator sport. This colorful, dynamic book not only introduces readers to drone racing, but gives them tips and insider information about to how to participate themselves.","English",26.6,19.95,"797.5'2--dc23","32 pp.",{"$f":"Table1[[#This Row],['# Books]]*Table1[[#This Row],[QTY]]","v":0},{"$f":"Table1[[#This Row],[QTY]]*Table1[[#This Row],[S&L Price]]","v":0}]
[null,null,43,"Geek Out!",1,"The Modern Nerd's Guide to Esports","Library Bound Book",null,"978-1-5382-1207-3",2018,"January 2018","Library","8.500 X 11.00","Author","Matthew Jankowski",null,null,null,null,"O",null,"Grade 3 - 4","Grade 3 - 6","Pro-gaming, or e-sports, has an enormous and dedicated following; almost a billion people worldwide. It's even covered on ESPN. It boasts international tournaments, big-name stars, massive prize money, and tons of action and excitement. This book unpacks the world of eSports for readers, encouraging them to enter, compete, and conquer by giving them insider knowledge directly from a real-life eSports journalist. Filled with essential terminology, bold graphic elements, and vivid photographs, this book is sure to be a hot commodity in any collection.","English",26.6,19.95,"794.8--dc23","32 pp.",{"$f":"Table1[[#This Row],['# Books]]*Table1[[#This Row],[QTY]]","v":0},{"$f":"Table1[[#This Row],[QTY]]*Table1[[#This Row],[S&L Price]]","v":0}]
[null,null,43,"Geek Out!",1,"The Modern Nerd's Guide to Esports","eBook",null,"978-1-5382-1208-0",2018,"January 2018",null,null,"Author","Matthew Jankowski",null,null,null,null,"O",null,"Grade 3 - 4","Grade 3 - 6","Pro-gaming, or e-sports, has an enormous and dedicated following; almost a billion people worldwide. It's even covered on ESPN. It boasts international tournaments, big-name stars, massive prize money, and tons of action and excitement. This book unpacks the world of eSports for readers, encouraging them to enter, compete, and conquer by giving them insider knowledge directly from a real-life eSports journalist. Filled with essential terminology, bold graphic elements, and vivid photographs, this book is sure to be a hot commodity in any collection.","English",26.6,19.95,"794.8--dc23","32 pp.",{"$f":"Table1[[#This Row],['# Books]]*Table1[[#This Row],[QTY]]","v":0},{"$f":"Table1[[#This Row],[QTY]]*Table1[[#This Row],[S&L Price]]","v":0}]
[null,null,43,"Geek Out!",1,"The Modern Nerd's Guide to LARPing","Library Bound Book",null,"978-1-5382-1211-0",2018,"January 2018","Library","8.500 X 11.00","Author","Mike Sciandra",null,null,34,null,"O",null,"Grade 3 - 4","Grade 3 - 6","LARPing, or live-action role playing, is one of the hottest hobbies today. Its devoted participants develop detailed characters, inventing names and personalities, as well as costumes and props. The improvisational nature and opportunity for creativity at LARP events makes for a new experience every time. Readers will dive headfirst into this fascinating pastime, guided by experienced LARPer and writer Michael Sciandra through the ins and outs of participation. Age-appropriate engaging text and full-color photography from actual LARPers brings readers into this whole new exciting world.","English",26.6,19.95,"793.93--dc23","32 pp.",{"$f":"Table1[[#This Row],['# Books]]*Table1[[#This Row],[QTY]]","v":0},{"$f":"Table1[[#This Row],[QTY]]*Table1[[#This Row],[S&L Price]]","v":0}]
[null,null,43,"Geek Out!",1,"The Modern Nerd's Guide to LARPing","eBook",null,"978-1-5382-1212-7",2018,"January 2018",null,null,"Author","Mike Sciandra",null,null,34,null,"O",null,"Grade 3 - 4","Grade 3 - 6","LARPing, or live-action role playing, is one of the hottest hobbies today. Its devoted participants develop detailed characters, inventing names and personalities, as well as costumes and props. The improvisational nature and opportunity for creativity at LARP events makes for a new experience every time. Readers will dive headfirst into this fascinating pastime, guided by experienced LARPer and writer Michael Sciandra through the ins and outs of participation. Age-appropriate engaging text and full-color photography from actual LARPers brings readers into this whole new exciting world.","English",26.6,19.95,"793.93--dc23","32 pp.",{"$f":"Table1[[#This Row],['# Books]]*Table1[[#This Row],[QTY]]","v":0},{"$f":"Table1[[#This Row],[QTY]]*Table1[[#This Row],[S&L Price]]","v":0}]
[null,null,43,"Geek Out!",1,"The Modern Nerd's Guide to Robot Battles","Library Bound Book",null,"978-1-5382-1215-8",2018,"January 2018","Library","8.500 X 11.00","Author","Melissa Raé Shofner",null,null,null,null,"O",null,"Grade 3 - 4","Grade 3 - 6","Robot battling is one of the hottest hobbies out there, with dedicated television shows, international stars, and crazy, freaky, metal creations. Now, the inside scoop on the wild world of robot battling is available to budding enthusiasts everywhere. Filled with insider know-how, action-packed graphics, and dynamic color photographs, this volume guides readers through this imaginative world of automated competition. The exciting yet accessible language inspires and engages with every turn of the page, ensuring this book will be a hit in any collection.","English",26.6,19.95,"629.8'92--dc23","32 pp.",{"$f":"Table1[[#This Row],['# Books]]*Table1[[#This Row],[QTY]]","v":0},{"$f":"Table1[[#This Row],[QTY]]*Table1[[#This Row],[S&L Price]]","v":0}]
[null,null,43,"Geek Out!",1,"The Modern Nerd's Guide to Robot Battles","eBook",null,"978-1-5382-1216-5",2018,"January 2018",null,null,"Author","Melissa Raé Shofner",null,null,null,null,"O",null,"Grade 3 - 4","Grade 3 - 6","Robot battling is one of the hottest hobbies out there, with dedicated television shows, international stars, and crazy, freaky, metal creations. Now, the inside scoop on the wild world of robot battling is available to budding enthusiasts everywhere. Filled with insider know-how, action-packed graphics, and dynamic color photographs, this volume guides readers through this imaginative world of automated competition. The exciting yet accessible language inspires and engages with every turn of the page, ensuring this book will be a hit in any collection.","English",26.6,19.95,"629.8'92--dc23","32 pp.",{"$f":"Table1[[#This Row],['# Books]]*Table1[[#This Row],[QTY]]","v":0},{"$f":"Table1[[#This Row],[QTY]]*Table1[[#This Row],[S&L Price]]","v":0}]
[null,null,43,"Geek Out!",1,"The Modern Nerd's Guide to Tabletop and Card Games","Library Bound Book",null,"978-1-5382-1220-2",2018,"January 2018","Library","8.500 X 11.00","Author","Jill Keppeler",null,null,34,null,"O",null,"Grade 3 - 4","Grade 3 - 6","There's no denying it: board and card games are hot right now. In fact, they're one of the most popular leisure activities around. Kickstarter, the largest funding platform for creative projects in the world, is packed with entrepreneurs developing new, innovative experiences, and the industry has become a multibillion-dollar giant in gaming and collectibles in a short amount of time. Readers no doubt have seen or heard of one or perhaps many of these games, but in this volume, they'll get the inside scoop needed to join, play, and win.","English",26.6,19.95,"794--dc23","32 pp.",{"$f":"Table1[[#This Row],['# Books]]*Table1[[#This Row],[QTY]]","v":0},{"$f":"Table1[[#This Row],[QTY]]*Table1[[#This Row],[S&L Price]]","v":0}]
[null,null,43,"Geek Out!",1,"The Modern Nerd's Guide to Tabletop and Card Games","eBook",null,"978-1-5382-1221-9",2018,"January 2018",null,null,"Author","Jill Keppeler",null,null,34,null,"O",null,"Grade 3 - 4","Grade 3 - 6","There's no denying it: board and card games are hot right now. In fact, they're one of the most popular leisure activities around. Kickstarter, the largest funding platform for creative projects in the world, is packed with entrepreneurs developing new, innovative experiences, and the industry has become a multibillion-dollar giant in gaming and collectibles in a short amount of time. Readers no doubt have seen or heard of one or perhaps many of these games, but in this volume, they'll get the inside scoop needed to join, play, and win.","English",26.6,19.95,"794--dc23","32 pp.",{"$f":"Table1[[#This Row],['# Books]]*Table1[[#This Row],[QTY]]","v":0},{"$f":"Table1[[#This Row],[QTY]]*Table1[[#This Row],[S&L Price]]","v":0}]
[null,null,44,"Surviving the Impossible",6,"Surviving the Impossible","Library Set",null,"978-1-5382-1436-7",2018,"January 2018","Library","8.500 X 11.00",null,null,null,null,null,null,null,null,"Grade 4 - 5","Grade 4 - 6","Apocalyptic catastrophes are frequent television and movie themes for a reason; people are fascinated by them. This extraordinary series invites readers to escape from the everyday and leap into the realm of the impossible. It arms readers with the skills and know-how to be survivors of unthinkable calamities, such as a robot revolution, a zombie apocalypse, and an alien invasion. The fun, spine-chilling design includes remarkable, imaginative images, while the entertaining text encourages creativity in problem-solving.","English",159.6,119.7,null,"32 pp.",{"$f":"Table1[[#This Row],['# Books]]*Table1[[#This Row],[QTY]]","v":0},{"$f":"Table1[[#This Row],[QTY]]*Table1[[#This Row],[S&L Price]]","v":0}]
[null,null,44,"Surviving the Impossible",1,"Surviving a Killer Virus","Library Bound Book",null,"978-1-5382-1416-9",2018,"January 2018","Library","8.500 X 11.00","Author","Charlie Ogden",null,null,null,null,"Q",null,"Grade 4 - 5","Grade 4 - 6","Killer viruses are just the focus of movies in the experience of most readers, but they're not out of the realm of possibility. Viruses can spread at unbelievably fast rates and with frightening consequences. After reading this inventive volume, young virologists will picture themselves as the hero of their own story. They'll learn how viruses spread, how to avoid contamination, and the best way to battle and perhaps conquer an invisible killer. Science meets science fiction in this motivating look at what happens when deadly viruses rage out of control.","English",26.6,19.95,"614.5'8--dc23","32 pp.",{"$f":"Table1[[#This Row],['# Books]]*Table1[[#This Row],[QTY]]","v":0},{"$f":"Table1[[#This Row],[QTY]]*Table1[[#This Row],[S&L Price]]","v":0}]
[null,null,44,"Surviving the Impossible",1,"Surviving a Killer Virus","eBook",null,"978-1-5382-1417-6",2018,"January 2018",null,null,"Author","Charlie Ogden",null,null,null,null,"Q",null,"Grade 4 - 5","Grade 4 - 6","Killer viruses are just the focus of movies in the experience of most readers, but they're not out of the realm of possibility. Viruses can spread at unbelievably fast rates and with frightening consequences. After reading this inventive volume, young virologists will picture themselves as the hero of their own story. They'll learn how viruses spread, how to avoid contamination, and the best way to battle and perhaps conquer an invisible killer. Science meets science fiction in this motivating look at what happens when deadly viruses rage out of control.","English",26.6,19.95,"614.5'8--dc23","32 pp.",{"$f":"Table1[[#This Row],['# Books]]*Table1[[#This Row],[QTY]]","v":0},{"$f":"Table1[[#This Row],[QTY]]*Table1[[#This Row],[S&L Price]]","v":0}]
[null,null,44,"Surviving the Impossible",1,"Surviving a Robot Revolution","Library Bound Book",null,"978-1-5382-1420-6",2018,"January 2018","Library","8.500 X 11.00","Author","Charlie Ogden",null,null,null,null,"Q",null,"Grade 4 - 5","Grade 4 - 6","Many people have maintained a certain suspicion toward robots, especially as they've become more integrated into our lives. They work in factories and hospitals, aid in law enforcement, and even vacuum our homes. Some wonder: What would happen if robots take over? Keep calm. All the answers to surviving the robot revolution are in this electrifying volume, which describes the best strategies to battle the malevolent forces of artificial intelligence. Readers will love this page-turning experience, which includes accessible text and thrilling images that stir the imagination.","English",26.6,19.95,"006.3--dc23","32 pp.",{"$f":"Table1[[#This Row],['# Books]]*Table1[[#This Row],[QTY]]","v":0},{"$f":"Table1[[#This Row],[QTY]]*Table1[[#This Row],[S&L Price]]","v":0}]
[null,null,44,"Surviving the Impossible",1,"Surviving a Robot Revolution","eBook",null,"978-1-5382-1421-3",2018,"January 2018",null,null,"Author","Charlie Ogden",null,null,null,null,"Q",null,"Grade 4 - 5","Grade 4 - 6","Many people have maintained a certain suspicion toward robots, especially as they've become more integrated into our lives. They work in factories and hospitals, aid in law enforcement, and even vacuum our homes. Some wonder: What would happen if robots take over? Keep calm. All the answers to surviving the robot revolution are in this electrifying volume, which describes the best strategies to battle the malevolent forces of artificial intelligence. Readers will love this page-turning experience, which includes accessible text and thrilling images that stir the imagination.","English",26.6,19.95,"006.3--dc23","32 pp.",{"$f":"Table1[[#This Row],['# Books]]*Table1[[#This Row],[QTY]]","v":0},{"$f":"Table1[[#This Row],[QTY]]*Table1[[#This Row],[S&L Price]]","v":0}]
[null,null,44,"Surviving the Impossible",1,"Surviving a Zombie Apocalypse","Library Bound Book",null,"978-1-5382-1422-0",2018,"January 2018","Library","8.500 X 11.00","Author","Charlie Ogden",null,null,null,null,"Q",null,"Grade 4 - 5","Grade 4 - 6","When the zombie apocalypse starts, it's imperative to be ready. After the panic ensues and people are running in every direction, survivors will need to make split-second decisions that will lead them to safety or into the clutches of brain-hungry zombies. Luckily, readers have this survival guide to know how to spot zombies, choose the best hiding places, and discern what to do when a hoard finally sniffs them out. This exhilarating book is an action-packed adventure, full of creepy images and entertaining text.","English",26.6,19.95,"398.21--dc23","32 pp.",{"$f":"Table1[[#This Row],['# Books]]*Table1[[#This Row],[QTY]]","v":0},{"$f":"Table1[[#This Row],[QTY]]*Table1[[#This Row],[S&L Price]]","v":0}]
[null,null,44,"Surviving the Impossible",1,"Surviving a Zombie Apocalypse","eBook",null,"978-1-5382-1423-7",2018,"January 2018",null,null,"Author","Charlie Ogden",null,null,null,null,"Q",null,"Grade 4 - 5","Grade 4 - 6","When the zombie apocalypse starts, it's imperative to be ready. After the panic ensues and people are running in every direction, survivors will need to make split-second decisions that will lead them to safety or into the clutches of brain-hungry zombies. Luckily, readers have this survival guide to know how to spot zombies, choose the best hiding places, and discern what to do when a hoard finally sniffs them out. This exhilarating book is an action-packed adventure, full of creepy images and entertaining text.","English",26.6,19.95,"398.21--dc23","32 pp.",{"$f":"Table1[[#This Row],['# Books]]*Table1[[#This Row],[QTY]]","v":0},{"$f":"Table1[[#This Row],[QTY]]*Table1[[#This Row],[S&L Price]]","v":0}]
[null,null,44,"Surviving the Impossible",1,"Surviving an Alien Invasion","Library Bound Book",null,"978-1-5382-1418-3",2018,"January 2018","Library","8.500 X 11.00","Author","Charlie Ogden",null,null,null,null,"Q",null,"Grade 4 - 5","Grade 4 - 6","Why waste time wondering if aliens could invade? It's better to prepare for their arrival, and while it would be nice if they were friendly, it's best to plan for a hostile takeover. It could mean the difference between life and certain doom. Readers will snatch up this high-interest survival guide, whether they're believers in UFOs or not. Its imaginative solutions to all problems an alien conquest might bring will make them confident of their own survival in the most challenging situations. Comprehensible text is coupled with an engaging design notable for its entertaining and vivid images.","English",26.6,19.95,"001.942--dc23","32 pp.",{"$f":"Table1[[#This Row],['# Books]]*Table1[[#This Row],[QTY]]","v":0},{"$f":"Table1[[#This Row],[QTY]]*Table1[[#This Row],[S&L Price]]","v":0}]
[null,null,44,"Surviving the Impossible",1,"Surviving an Alien Invasion","eBook",null,"978-1-5382-1419-0",2018,"January 2018",null,null,"Author","Charlie Ogden",null,null,null,null,"Q",null,"Grade 4 - 5","Grade 4 - 6","Why waste time wondering if aliens could invade? It's better to prepare for their arrival, and while it would be nice if they were friendly, it's best to plan for a hostile takeover. It could mean the difference between life and certain doom. Readers will snatch up this high-interest survival guide, whether they're believers in UFOs or not. Its imaginative solutions to all problems an alien conquest might bring will make them confident of their own survival in the most challenging situations. Comprehensible text is coupled with an engaging design notable for its entertaining and vivid images.","English",26.6,19.95,"001.942--dc23","32 pp.",{"$f":"Table1[[#This Row],['# Books]]*Table1[[#This Row],[QTY]]","v":0},{"$f":"Table1[[#This Row],[QTY]]*Table1[[#This Row],[S&L Price]]","v":0}]
[null,null,44,"Surviving the Impossible",1,"Surviving in a World Without Power","Library Bound Book",null,"978-1-5382-1424-4",2018,"January 2018","Library","8.500 X 11.00","Author","Charlie Ogden",null,null,null,null,"Q",null,"Grade 4 - 5","Grade 4 - 6","It may seem unbearable to consider living in a world without television, video games, computers, or smartphones, but all these devices require power. What would happen if electricity could no longer be produced? It's time to start planning for this possibility. This ingenious guide walks readers off the grid and instructs about how to maintain a power-free lifestyle. Besides learning how to solve problems for a long-term, worldwide emergency event, young survivalists will also learn some tips and tricks for temporary power outages.","English",26.6,19.95,"621.319--dc23","32 pp.",{"$f":"Table1[[#This Row],['# Books]]*Table1[[#This Row],[QTY]]","v":0},{"$f":"Table1[[#This Row],[QTY]]*Table1[[#This Row],[S&L Price]]","v":0}]
[null,null,44,"Surviving the Impossible",1,"Surviving in a World Without Power","eBook",null,"978-1-5382-1425-1",2018,"January 2018",null,null,"Author","Charlie Ogden",null,null,null,null,"Q",null,"Grade 4 - 5","Grade 4 - 6","It may seem unbearable to consider living in a world without television, video games, computers, or smartphones, but all these devices require power. What would happen if electricity could no longer be produced? It's time to start planning for this possibility. This ingenious guide walks readers off the grid and instructs about how to maintain a power-free lifestyle. Besides learning how to solve problems for a long-term, worldwide emergency event, young survivalists will also learn some tips and tricks for temporary power outages.","English",26.6,19.95,"621.319--dc23","32 pp.",{"$f":"Table1[[#This Row],['# Books]]*Table1[[#This Row],[QTY]]","v":0},{"$f":"Table1[[#This Row],[QTY]]*Table1[[#This Row],[S&L Price]]","v":0}]
[null,null,44,"Surviving the Impossible",1,"Surviving the Yellowstone Supervolcano","Library Bound Book",null,"978-1-5382-1426-8",2018,"January 2018","Library","8.500 X 11.00","Author","Charlie Ogden",null,null,null,null,"Q",null,"Grade 4 - 5","Grade 4 - 6","Many people are surprised by the existence of a volcano in Yellowstone Park, so they might be even more alarmed to learn that some scientists think the area is home to a \"supervolcano.\" It's entirely possible that this opening in Earth's crust will erupt with mind-boggling results. Volcanologists closely monitor the seismic activity in this region, but it can't hurt to be prepared. This high-interest book combines science knowledge with survival know-how and explains the best way to survive a volcanic eruption and its aftermath. After researching the accessible advice, readers will develop their own fail-safe strategy to survive the Yellowstone supervolcano and similar disasters.","English",26.6,19.95,"551.21--dc23","32 pp.",{"$f":"Table1[[#This Row],['# Books]]*Table1[[#This Row],[QTY]]","v":0},{"$f":"Table1[[#This Row],[QTY]]*Table1[[#This Row],[S&L Price]]","v":0}]
[null,null,44,"Surviving the Impossible",1,"Surviving the Yellowstone Supervolcano","eBook",null,"978-1-5382-1427-5",2018,"January 2018",null,null,"Author","Charlie Ogden",null,null,null,null,"Q",null,"Grade 4 - 5","Grade 4 - 6","Many people are surprised by the existence of a volcano in Yellowstone Park, so they might be even more alarmed to learn that some scientists think the area is home to a \"supervolcano.\" It's entirely possible that this opening in Earth's crust will erupt with mind-boggling results. Volcanologists closely monitor the seismic activity in this region, but it can't hurt to be prepared. This high-interest book combines science knowledge with survival know-how and explains the best way to survive a volcanic eruption and its aftermath. After researching the accessible advice, readers will develop their own fail-safe strategy to survive the Yellowstone supervolcano and similar disasters.","English",26.6,19.95,"551.21--dc23","32 pp.",{"$f":"Table1[[#This Row],['# Books]]*Table1[[#This Row],[QTY]]","v":0},{"$f":"Table1[[#This Row],[QTY]]*Table1[[#This Row],[S&L Price]]","v":0}]
[null,87,45,"Famous Legends (Set of 12 Titles)",12,"Famous Legends (Set of 12 Titles)","Library Set",null,"978-1-5382-0467-2",2018,"August 2017","Library","8.500 X 8.500",null,null,null,null,null,null,null,null,"Grade 2 - 3","Grade 2 - 5","Legends are a significant part of many cultures around the world, which is why some have been passed down hundreds of years. They’re also essential to literary studies and promote both creative and critical thinking. This absorbing series, which includes tales of Robin Hood, Dracula, Johnny Appleseed, and Paul Bunyan, truly has something for everyone. Whether readers have never heard of the legend or are familiar with its characters, each retelling is an engaging and imaginative experience replete with beautiful images that aid in reading comprehension. Readers will also discover the background stories of many of these tales are rooted in history.","English",303,227.4,null,"32 pp.",{"$f":"Table1[[#This Row],['# Books]]*Table1[[#This Row],[QTY]]","v":0},{"$f":"Table1[[#This Row],[QTY]]*Table1[[#This Row],[S&L Price]]","v":0}]
[null,87,45,"Famous Legends (Set of 6 NEW Titles)",6,"Famous Legends (Set of 6 NEW Titles)","Library Set",null,"978-1-5382-0466-5",2018,"August 2017","Library","8.500 X 8.500",null,null,null,null,null,null,null,null,"Grade 2 - 3","Grade 2 - 5","People of all ages never tire of reading legends. There’s something captivating about them, whether they’re about the magical, outlandish, creepy, or just plain weird. Some mix fact and fiction and make us wonder if they could be true. The tales in this continuation of our wildly popular series will truly captivate readers, whether they’re interested in fairies, pirates, or even Bigfoot. Each tale is presented along with fascinating facts about its origins and effects on popular culture today.","English",151.5,113.7,null,"32 pp.",{"$f":"Table1[[#This Row],['# Books]]*Table1[[#This Row],[QTY]]","v":0},{"$f":"Table1[[#This Row],[QTY]]*Table1[[#This Row],[S&L Price]]","v":0}]
[null,87,45,"Famous Legends",1,"Fairy and Leprechaun Legends","Library Bound Book",null,"978-1-5382-0355-2",2018,"August 2017","Library","8.500 X 8.500","Author","Theresa Morlock",null,null,null,null,"O",null,"Grade 2 - 3","Grade 2 - 5","Thanks to popular icons such as Tinkerbell, everyone knows what a fairy looks like—or do they? Many people might be surprised to discover that there are different kinds of fairies. In fact, leprechauns are a type of fairy! There are more surprises and plenty of magical myths and lore in this enchanting, high-interest volume, full of beautiful images of bewitching creatures.","English",25.25,18.95,"398.2109417--dc23","32 pp.",{"$f":"Table1[[#This Row],['# Books]]*Table1[[#This Row],[QTY]]","v":0},{"$f":"Table1[[#This Row],[QTY]]*Table1[[#This Row],[S&L Price]]","v":0}]
[null,87,45,"Famous Legends",1,"Fairy and Leprechaun Legends","eBook",null,"978-1-5382-0356-9",2018,"August 2017",null,null,"Author","Theresa Morlock",null,null,null,null,"O",null,"Grade 2 - 3","Grade 2 - 5","Thanks to popular icons such as Tinkerbell, everyone knows what a fairy looks like—or do they? Many people might be surprised to discover that there are different kinds of fairies. In fact, leprechauns are a type of fairy! There are more surprises and plenty of magical myths and lore in this enchanting, high-interest volume, full of beautiful images of bewitching creatures.","English",25.25,18.95,"398.2109417--dc23","32 pp.",{"$f":"Table1[[#This Row],['# Books]]*Table1[[#This Row],[QTY]]","v":0},{"$f":"Table1[[#This Row],[QTY]]*Table1[[#This Row],[S&L Price]]","v":0}]
[null,87,45,"Famous Legends",1,"Mermaid Legends","Library Bound Book",null,"978-1-5382-0381-1",2018,"August 2017","Library","8.500 X 8.500","Author","Kate Light",null,null,null,null,"O",null,"Grade 2 - 3","Grade 2 - 5","Mermaid sightings pop up again and again in seafarers’ accounts. Could there be some truth to the legends? This captivating book takes readers on a high seas’ search for mermaids. They’ll read some fascinating tales of mermaids, both beautiful and hideous. They’ll learn the true story of Hans Christian Andersen’s “The Little Mermaid,” too. This high-interest volume is packed with legends and lore as well as awesome artwork.","English",25.25,18.95,"398.21--dc23","32 pp.",{"$f":"Table1[[#This Row],['# Books]]*Table1[[#This Row],[QTY]]","v":0},{"$f":"Table1[[#This Row],[QTY]]*Table1[[#This Row],[S&L Price]]","v":0}]
[null,87,45,"Famous Legends",1,"Mermaid Legends","eBook",null,"978-1-5382-0382-8",2018,"August 2017",null,null,"Author","Kate Light",null,null,null,null,"O",null,"Grade 2 - 3","Grade 2 - 5","Mermaid sightings pop up again and again in seafarers’ accounts. Could there be some truth to the legends? This captivating book takes readers on a high seas’ search for mermaids. They’ll read some fascinating tales of mermaids, both beautiful and hideous. They’ll learn the true story of Hans Christian Andersen’s “The Little Mermaid,” too. This high-interest volume is packed with legends and lore as well as awesome artwork.","English",25.25,18.95,"398.21--dc23","32 pp.",{"$f":"Table1[[#This Row],['# Books]]*Table1[[#This Row],[QTY]]","v":0},{"$f":"Table1[[#This Row],[QTY]]*Table1[[#This Row],[S&L Price]]","v":0}]
[null,87,45,"Famous Legends",1,"Pirate Legends","Library Bound Book",null,"978-1-5382-0384-2",2018,"August 2017","Library","8.500 X 8.500","Author","Jill Keppeler",null,null,null,null,"O",null,"Grade 2 - 3","Grade 2 - 5","Sorting the facts from the fiction in pirate legends can be tricky. Perhaps that’s why pirates have never lost their appeal for readers; they’re larger than life. This swashbuckling book presents some of the most exhilarating pirate lore, including historical legends, such as William Kidd and Grace O’Malley. Fact boxes provide extra information about tales, while specially chosen images will truly captivate young buccaneers’ imaginations.","English",25.25,18.95,"910.45--dc23","32 pp.",{"$f":"Table1[[#This Row],['# Books]]*Table1[[#This Row],[QTY]]","v":0},{"$f":"Table1[[#This Row],[QTY]]*Table1[[#This Row],[S&L Price]]","v":0}]
[null,87,45,"Famous Legends",1,"Pirate Legends","eBook",null,"978-1-5382-0385-9",2018,"August 2017",null,null,"Author","Jill Keppeler",null,null,null,null,"O",null,"Grade 2 - 3","Grade 2 - 5","Sorting the facts from the fiction in pirate legends can be tricky. Perhaps that’s why pirates have never lost their appeal for readers; they’re larger than life. This swashbuckling book presents some of the most exhilarating pirate lore, including historical legends, such as William Kidd and Grace O’Malley. Fact boxes provide extra information about tales, while specially chosen images will truly captivate young buccaneers’ imaginations.","English",25.25,18.95,"910.45--dc23","32 pp.",{"$f":"Table1[[#This Row],['# Books]]*Table1[[#This Row],[QTY]]","v":0},{"$f":"Table1[[#This Row],[QTY]]*Table1[[#This Row],[S&L Price]]","v":0}]
[null,87,45,"Famous Legends",1,"The Legend of Bigfoot","Library Bound Book",null,"978-1-5382-0370-5",2018,"August 2017","Library","8.500 X 8.500","Author","Katie Kawa",null,null,null,null,"N",null,"Grade 2 - 3","Grade 2 - 5","No matter how many times sightings of Bigfoot have been discredited, this legend won’t be debunked. Diehard believers in the apelike beast take this as support that something is out there that doesn’t want to be found! Readers are invited along on the journey to track down Bigfoot. They’ll learn about some of the most famous encounters, photographic and video evidence, and recent theories. Armed with facts and lore, they can decide for themselves if they believe in Bigfoot.","English",25.25,18.95,"001.944--dc23","32 pp.",{"$f":"Table1[[#This Row],['# Books]]*Table1[[#This Row],[QTY]]","v":0},{"$f":"Table1[[#This Row],[QTY]]*Table1[[#This Row],[S&L Price]]","v":0}]
[null,87,45,"Famous Legends",1,"The Legend of Bigfoot","eBook",null,"978-1-5382-0371-2",2018,"August 2017",null,null,"Author","Katie Kawa",null,null,null,null,"N",null,"Grade 2 - 3","Grade 2 - 5","No matter how many times sightings of Bigfoot have been discredited, this legend won’t be debunked. Diehard believers in the apelike beast take this as support that something is out there that doesn’t want to be found! Readers are invited along on the journey to track down Bigfoot. They’ll learn about some of the most famous encounters, photographic and video evidence, and recent theories. Armed with facts and lore, they can decide for themselves if they believe in Bigfoot.","English",25.25,18.95,"001.944--dc23","32 pp.",{"$f":"Table1[[#This Row],['# Books]]*Table1[[#This Row],[QTY]]","v":0},{"$f":"Table1[[#This Row],[QTY]]*Table1[[#This Row],[S&L Price]]","v":0}]
[null,87,45,"Famous Legends",1,"The Legend of Johnny Appleseed","Library Bound Book",null,"978-1-5382-0374-3",2018,"August 2017","Library","8.500 X 8.500","Author","Mark J. Harasymiw ",null,null,null,null,"N",null,"Grade 2 - 3","Grade 2 - 5","Though Johnny Appleseed is a folk hero, he was also a real person—John Chapman. Chapman’s life became legendary as he planted apple trees across the Midwest of the United States in the 1800s. In this entertaining volume, readers will learn about an extraordinary man and his love of nature as well as the parts of the legend that probably aren’t true. Historic images and fun fact boxes add to the appealing content.","English",25.25,18.95,"634.11092--dc23","32 pp.",{"$f":"Table1[[#This Row],['# Books]]*Table1[[#This Row],[QTY]]","v":0},{"$f":"Table1[[#This Row],[QTY]]*Table1[[#This Row],[S&L Price]]","v":0}]
[null,87,45,"Famous Legends",1,"The Legend of Johnny Appleseed","eBook",null,"978-1-5382-0375-0",2018,"August 2017",null,null,"Author","Mark J. Harasymiw ",null,null,null,null,"N",null,"Grade 2 - 3","Grade 2 - 5","Though Johnny Appleseed is a folk hero, he was also a real person—John Chapman. Chapman’s life became legendary as he planted apple trees across the Midwest of the United States in the 1800s. In this entertaining volume, readers will learn about an extraordinary man and his love of nature as well as the parts of the legend that probably aren’t true. Historic images and fun fact boxes add to the appealing content.","English",25.25,18.95,"634.11092--dc23","32 pp.",{"$f":"Table1[[#This Row],['# Books]]*Table1[[#This Row],[QTY]]","v":0},{"$f":"Table1[[#This Row],[QTY]]*Table1[[#This Row],[S&L Price]]","v":0}]
[null,87,45,"Famous Legends",1,"The Legend of Paul Bunyan","Library Bound Book",null,"978-1-5382-0378-1",2018,"August 2017","Library","8.500 X 8.500","Author","Julia McDonnell",null,null,null,null,"N",null,"Grade 2 - 3","Grade 2 - 5","Legendary lumberjack Paul Bunyan is often depicted as larger than life. Many places around the United States claim Bunyan really lived there. Scholars are still trying to discover whether Bunyan was an actual person or not. According to many stories, he was basically one of the first superheroes of fiction! Readers will love the folk tales describing the exploits of Bunyan and his pet, Babe the Blue Ox. Amusing images accompany the lively text, while fact boxes shed some light on each story’s origins.","English",25.25,18.95,"398.20973’02--dc23","32 pp.",{"$f":"Table1[[#This Row],['# Books]]*Table1[[#This Row],[QTY]]","v":0},{"$f":"Table1[[#This Row],[QTY]]*Table1[[#This Row],[S&L Price]]","v":0}]
[null,87,45,"Famous Legends",1,"The Legend of Paul Bunyan","eBook",null,"978-1-5382-0379-8",2018,"August 2017",null,null,"Author","Julia McDonnell",null,null,null,null,"N",null,"Grade 2 - 3","Grade 2 - 5","Legendary lumberjack Paul Bunyan is often depicted as larger than life. Many places around the United States claim Bunyan really lived there. Scholars are still trying to discover whether Bunyan was an actual person or not. According to many stories, he was basically one of the first superheroes of fiction! Readers will love the folk tales describing the exploits of Bunyan and his pet, Babe the Blue Ox. Amusing images accompany the lively text, while fact boxes shed some light on each story’s origins.","English",25.25,18.95,"398.20973’02--dc23","32 pp.",{"$f":"Table1[[#This Row],['# Books]]*Table1[[#This Row],[QTY]]","v":0},{"$f":"Table1[[#This Row],[QTY]]*Table1[[#This Row],[S&L Price]]","v":0}]
[null,87,45,"Famous Legends",1,"The Legend of Dracula","Library Bound Book",null,"978-1-4824-2734-9",2016,"August 2015","Library","8.500 X 8.500","Author","Michael Sabatino",5.3,0.5,34,null,"O",null,"Grade 2 - 3","Grade 2 - 5","Dracula, the blood-thirsty Transylvanian who terrorized England, was a character in an 1897 horror novel. However, the author, Bram Stoker, based his infamous creature on a real-life prince from the 1400s named Vlad III. Though Vlad wasn't a vampire, he was known for some very gory exploits. Legends of vampires stretch back even further than this. Thrilled readers will devour this legend, its possible sources, and details about its contribution to popular culture. Spooky photographs and illustrations set the mood and enhance the spine-tingling text.","English",25.25,18.95,"823","32 pp.",{"$f":"Table1[[#This Row],['# Books]]*Table1[[#This Row],[QTY]]","v":0},{"$f":"Table1[[#This Row],[QTY]]*Table1[[#This Row],[S&L Price]]","v":0}]
[null,87,45,"Famous Legends",1,"The Legend of Dracula","eBook",null,"978-1-4824-2735-6",2016,"August 2015",null,null,"Author","Michael Sabatino",5.3,0.5,34,null,"O",null,"Grade 2 - 3","Grade 2 - 5","Dracula, the blood-thirsty Transylvanian who terrorized England, was a character in an 1897 horror novel. However, the author, Bram Stoker, based his infamous creature on a real-life prince from the 1400s named Vlad III. Though Vlad wasn't a vampire, he was known for some very gory exploits. Legends of vampires stretch back even further than this. Thrilled readers will devour this legend, its possible sources, and details about its contribution to popular culture. Spooky photographs and illustrations set the mood and enhance the spine-tingling text.","English",25.25,18.95,"823","32 pp.",{"$f":"Table1[[#This Row],['# Books]]*Table1[[#This Row],[QTY]]","v":0},{"$f":"Table1[[#This Row],[QTY]]*Table1[[#This Row],[S&L Price]]","v":0}]
[null,87,45,"Famous Legends",1,"The Legend of King Arthur","Library Bound Book",null,"978-1-4824-2738-7",2016,"August 2015","Library","8.500 X 8.500","Author","Shalini Saxena",4.5999999999999996,0.5,30,null,"N","NC760L","Grade 2 - 3","Grade 2 - 5","Stories of King Arthur and his Knights of the Round Table are rife with adventure and romance. People never tire of the many legendary exploits of the ancient king of Britain. However, readers might be surprised that many historians believe Arthur was a real person. This accessible volume includes some of the most famous tales of the legend as well as their foundations in both history and myth. Beautiful artwork and intriguing fact boxes make this a unique and valuable addition to any fiction or nonfiction collection.","English",25.25,18.95,"942.01","32 pp.",{"$f":"Table1[[#This Row],['# Books]]*Table1[[#This Row],[QTY]]","v":0},{"$f":"Table1[[#This Row],[QTY]]*Table1[[#This Row],[S&L Price]]","v":0}]
[null,87,45,"Famous Legends",1,"The Legend of King Arthur","eBook",null,"978-1-4824-2739-4",2016,"August 2015",null,null,"Author","Shalini Saxena",4.5999999999999996,0.5,30,null,"N","NC760L","Grade 2 - 3","Grade 2 - 5","Stories of King Arthur and his Knights of the Round Table are rife with adventure and romance. People never tire of the many legendary exploits of the ancient king of Britain. However, readers might be surprised that many historians believe Arthur was a real person. This accessible volume includes some of the most famous tales of the legend as well as their foundations in both history and myth. Beautiful artwork and intriguing fact boxes make this a unique and valuable addition to any fiction or nonfiction collection.","English",25.25,18.95,"942.01","32 pp.",{"$f":"Table1[[#This Row],['# Books]]*Table1[[#This Row],[QTY]]","v":0},{"$f":"Table1[[#This Row],[QTY]]*Table1[[#This Row],[S&L Price]]","v":0}]
[null,87,45,"Famous Legends",1,"The Legend of Rip Van Winkle","Library Bound Book",null,"978-1-4824-2746-2",2016,"August 2015","Library","8.500 X 8.500","Author","Mark J. Harasymiw ",4.5999999999999996,0.5,30,null,"N","NC830L","Grade 2 - 3","Grade 2 - 5","Rip Van Winkle, the incorrigible character from the early American short story, lived in the years before and after the American Revolution. However, he slept through the war, thanks to some mysterious bearded men in the Catskill Mountains! This compelling retelling of the famous legend, first published in 1819, will entertain readers as well as inform them about the life of storyteller Washington Irving. The engaging design and text are supported by colorful photographs and illustrations of Irving's famous creation.","English",25.25,18.95,"818","32 pp.",{"$f":"Table1[[#This Row],['# Books]]*Table1[[#This Row],[QTY]]","v":0},{"$f":"Table1[[#This Row],[QTY]]*Table1[[#This Row],[S&L Price]]","v":0}]
[null,87,45,"Famous Legends",1,"The Legend of Rip Van Winkle","eBook",null,"978-1-4824-2747-9",2016,"August 2015",null,null,"Author","Mark J. Harasymiw ",4.5999999999999996,0.5,30,null,"N","NC830L","Grade 2 - 3","Grade 2 - 5","Rip Van Winkle, the incorrigible character from the early American short story, lived in the years before and after the American Revolution. However, he slept through the war, thanks to some mysterious bearded men in the Catskill Mountains! This compelling retelling of the famous legend, first published in 1819, will entertain readers as well as inform them about the life of storyteller Washington Irving. The engaging design and text are supported by colorful photographs and illustrations of Irving's famous creation.","English",25.25,18.95,"818","32 pp.",{"$f":"Table1[[#This Row],['# Books]]*Table1[[#This Row],[QTY]]","v":0},{"$f":"Table1[[#This Row],[QTY]]*Table1[[#This Row],[S&L Price]]","v":0}]
[null,87,45,"Famous Legends",1,"The Legend of Robin Hood","Library Bound Book",null,"978-1-4824-2750-9",2016,"August 2015","Library","8.500 X 8.500","Author","Julia McDonnell",5.0999999999999996,0.5,30,null,"N","NC910L","Grade 2 - 3","Grade 2 - 5","Stories of the outlaw archer Robin Hood reach back to medieval times. However, movies, books, comic books, and television shows about him still populate our popular culture. Readers will not only become absorbed by the legend of the folk hero, complete with his Merry Men and the evil Sheriff of Nottingham, they'll be intrigued by the debate about whether Robin Hood is based on a real person. Famous illustrations and fun facts abound in this high-interest volume.","English",25.25,18.95,"398.22—d23","32 pp.",{"$f":"Table1[[#This Row],['# Books]]*Table1[[#This Row],[QTY]]","v":0},{"$f":"Table1[[#This Row],[QTY]]*Table1[[#This Row],[S&L Price]]","v":0}]
[null,87,45,"Famous Legends",1,"The Legend of Robin Hood","eBook",null,"978-1-4824-2751-6",2016,"August 2015",null,null,"Author","Julia McDonnell",5.0999999999999996,0.5,30,null,"N","NC910L","Grade 2 - 3","Grade 2 - 5","Stories of the outlaw archer Robin Hood reach back to medieval times. However, movies, books, comic books, and television shows about him still populate our popular culture. Readers will not only become absorbed by the legend of the folk hero, complete with his Merry Men and the evil Sheriff of Nottingham, they'll be intrigued by the debate about whether Robin Hood is based on a real person. Famous illustrations and fun facts abound in this high-interest volume.","English",25.25,18.95,"398.22—d23","32 pp.",{"$f":"Table1[[#This Row],['# Books]]*Table1[[#This Row],[QTY]]","v":0},{"$f":"Table1[[#This Row],[QTY]]*Table1[[#This Row],[S&L Price]]","v":0}]
[null,87,45,"Famous Legends",1,"The Legend of Sleepy Hollow","Library Bound Book",null,"978-1-4824-2754-7",2016,"August 2015","Library","8.500 X 8.500","Author","Shalini Saxena",4.8,0.5,34,null,"O",null,"Grade 2 - 3","Grade 2 - 5","Washington Irving's scary Headless Horseman has become a notorious fictional character. This appealing book, highlighting a popular example of early American fiction, features fun facts about the legend and its author as well as carefully chosen photographs and illustrations. Readers will love getting to know Ichabod Crane, the superstitious schoolteacher; Brom Bones, his adversary; and the beautiful Katrina Van Tassel in this gripping retelling of the early nineteenth century story.","English",25.25,18.95,"133.109747'277—d23","32 pp.",{"$f":"Table1[[#This Row],['# Books]]*Table1[[#This Row],[QTY]]","v":0},{"$f":"Table1[[#This Row],[QTY]]*Table1[[#This Row],[S&L Price]]","v":0}]
[null,87,45,"Famous Legends",1,"The Legend of Sleepy Hollow","eBook",null,"978-1-4824-2755-4",2016,"August 2015",null,null,"Author","Shalini Saxena",4.8,0.5,34,null,"O",null,"Grade 2 - 3","Grade 2 - 5","Washington Irving's scary Headless Horseman has become a notorious fictional character. This appealing book, highlighting a popular example of early American fiction, features fun facts about the legend and its author as well as carefully chosen photographs and illustrations. Readers will love getting to know Ichabod Crane, the superstitious schoolteacher; Brom Bones, his adversary; and the beautiful Katrina Van Tassel in this gripping retelling of the early nineteenth century story.","English",25.25,18.95,"133.109747'277—d23","32 pp.",{"$f":"Table1[[#This Row],['# Books]]*Table1[[#This Row],[QTY]]","v":0},{"$f":"Table1[[#This Row],[QTY]]*Table1[[#This Row],[S&L Price]]","v":0}]
[null,87,45,"Famous Legends",1,"The Legend of the Pied Piper","Library Bound Book",null,"978-1-4824-2742-4",2016,"August 2015","Library","8.500 X 8.500","Author","Katherine Ponka",4.9000000000000004,0.5,30,null,"N","NC890L","Grade 2 - 3","Grade 2 - 5","Most of us know something about the legend of the Pied Piper of Hamlin, but few know that it may be based on a true story. This spellbinding account tells the story according to the Brothers Grimm as well as gives details of the historic records that support it. Throughout this high-interest volume, readers will remain engaged with surprising facts such as the possible connections to the plague and the Crusades. Colorful illustrations and photographs of the actual German town will leave readers pondering what's true and what's fiction.","English",25.25,18.95,"809","32 pp.",{"$f":"Table1[[#This Row],['# Books]]*Table1[[#This Row],[QTY]]","v":0},{"$f":"Table1[[#This Row],[QTY]]*Table1[[#This Row],[S&L Price]]","v":0}]
[null,87,45,"Famous Legends",1,"The Legend of the Pied Piper","eBook",null,"978-1-4824-2743-1",2016,"August 2015",null,null,"Author","Katherine Ponka",4.9000000000000004,0.5,30,null,"N","NC890L","Grade 2 - 3","Grade 2 - 5","Most of us know something about the legend of the Pied Piper of Hamlin, but few know that it may be based on a true story. This spellbinding account tells the story according to the Brothers Grimm as well as gives details of the historic records that support it. Throughout this high-interest volume, readers will remain engaged with surprising facts such as the possible connections to the plague and the Crusades. Colorful illustrations and photographs of the actual German town will leave readers pondering what's true and what's fiction.","English",25.25,18.95,"809","32 pp.",{"$f":"Table1[[#This Row],['# Books]]*Table1[[#This Row],[QTY]]","v":0},{"$f":"Table1[[#This Row],[QTY]]*Table1[[#This Row],[S&L Price]]","v":0}]
[null,null,46,"Do Math with Sports Stats!",6,"Do Math with Sports Stats!","Library Set",null,"978-1-5382-1291-2",2018,"January 2018","Library","8.500 X 11.00",null,null,null,null,null,null,null,null,"Grade 3 - 4","Grade 3 - 6","The excitement of sports doesn't end at the final whistle. This innovative math series explores the numbers behind the game, showing savvy students that math really is everywhere. From tracking the speed of a NASCAR pit stop to figuring out a pitcher's innings pitched, readers get the excitement of sports with the important math curriculum necessary to become an avid learner. Along the way they learn that math is crucial to the game, and even discover whether their favorite pro athletes are truly at the top of their game.","English",159.6,119.7,null,"32 pp.",{"$f":"Table1[[#This Row],['# Books]]*Table1[[#This Row],[QTY]]","v":0},{"$f":"Table1[[#This Row],[QTY]]*Table1[[#This Row],[S&L Price]]","v":0}]
[null,null,46,"Do Math with Sports Stats!",1,"Baseball: Stats, Facts, and Figures","Library Bound Book",null,"978-1-5382-1127-4",2018,"January 2018","Library","8.500 X 11.00","Author","Kate Mikoley",null,null,null,null,"O",null,"Grade 3 - 4","Grade 3 - 6","Math may have its difficult reputation, but with this book you can support curriculum-based mathematics while your students learn about baseball. Baseball is a game filled with numbers. Hitting, pitching, and fielding all come with a mathematical element that's essential to the game. From the numbers attached to the positions on the field to the progress of the game in its fractions of innings, America's pastime is full of math. Readers learn how to do math exclusive to baseball, computing batting averages and learning how the stats in the box score are calculated.","English",26.6,19.95,"796.357--dc23","32 pp.",{"$f":"Table1[[#This Row],['# Books]]*Table1[[#This Row],[QTY]]","v":0},{"$f":"Table1[[#This Row],[QTY]]*Table1[[#This Row],[S&L Price]]","v":0}]
[null,null,46,"Do Math with Sports Stats!",1,"Baseball: Stats, Facts, and Figures","eBook",null,"978-1-5382-1128-1",2018,"January 2018",null,null,"Author","Kate Mikoley",null,null,null,null,"O",null,"Grade 3 - 4","Grade 3 - 6","Math may have its difficult reputation, but with this book you can support curriculum-based mathematics while your students learn about baseball. Baseball is a game filled with numbers. Hitting, pitching, and fielding all come with a mathematical element that's essential to the game. From the numbers attached to the positions on the field to the progress of the game in its fractions of innings, America's pastime is full of math. Readers learn how to do math exclusive to baseball, computing batting averages and learning how the stats in the box score are calculated.","English",26.6,19.95,"796.357--dc23","32 pp.",{"$f":"Table1[[#This Row],['# Books]]*Table1[[#This Row],[QTY]]","v":0},{"$f":"Table1[[#This Row],[QTY]]*Table1[[#This Row],[S&L Price]]","v":0}]
[null,null,46,"Do Math with Sports Stats!",1,"Basketball: Stats, Facts, and Figures","Library Bound Book",null,"978-1-5382-1131-1",2018,"January 2018","Library","8.500 X 11.00","Author","Kate Mikoley",null,null,null,null,"O",null,"Grade 3 - 4","Grade 3 - 6","Basketball is a sport dominated by the stat sheet. Readers explore what these numbers mean and how they work together in this exciting book that pairs curriculum-based math with the basic rules and statistics of basketball. Basketball is full of ways to learn how numbers and athletics are intertwined in a fascinating and educational way. Students read about superstar players scoring points, registering assists, scoring the elusive triple-double, and how team stats and shooting numbers are calculated.","English",26.6,19.95,"796.323--dc23","32 pp.",{"$f":"Table1[[#This Row],['# Books]]*Table1[[#This Row],[QTY]]","v":0},{"$f":"Table1[[#This Row],[QTY]]*Table1[[#This Row],[S&L Price]]","v":0}]
[null,null,46,"Do Math with Sports Stats!",1,"Basketball: Stats, Facts, and Figures","eBook",null,"978-1-5382-1132-8",2018,"January 2018",null,null,"Author","Kate Mikoley",null,null,null,null,"O",null,"Grade 3 - 4","Grade 3 - 6","Basketball is a sport dominated by the stat sheet. Readers explore what these numbers mean and how they work together in this exciting book that pairs curriculum-based math with the basic rules and statistics of basketball. Basketball is full of ways to learn how numbers and athletics are intertwined in a fascinating and educational way. Students read about superstar players scoring points, registering assists, scoring the elusive triple-double, and how team stats and shooting numbers are calculated.","English",26.6,19.95,"796.323--dc23","32 pp.",{"$f":"Table1[[#This Row],['# Books]]*Table1[[#This Row],[QTY]]","v":0},{"$f":"Table1[[#This Row],[QTY]]*Table1[[#This Row],[S&L Price]]","v":0}]
[null,null,46,"Do Math with Sports Stats!",1,"Football: Stats, Facts, and Figures","Library Bound Book",null,"978-1-5382-1135-9",2018,"January 2018","Library","8.500 X 11.00","Author","Kate Mikoley",null,null,null,null,"O",null,"Grade 3 - 4","Grade 3 - 6","Yards and points are the lifeblood of football. As those numbers add up on the scoreboard and in the stat sheet, a whole world of mathematics is there to uncover. From yards passing and receiving to the averages teams have converting third downs, the gridiron's numbers are easy to explore while conveying important math concepts in the process. Readers learn how stars measure themselves against other players with rushing and receiving stats, and how those stats are calculated in the first place.","English",26.6,19.95,"796.332--dc23","32 pp.",{"$f":"Table1[[#This Row],['# Books]]*Table1[[#This Row],[QTY]]","v":0},{"$f":"Table1[[#This Row],[QTY]]*Table1[[#This Row],[S&L Price]]","v":0}]
[null,null,46,"Do Math with Sports Stats!",1,"Football: Stats, Facts, and Figures","eBook",null,"978-1-5382-1136-6",2018,"January 2018",null,null,"Author","Kate Mikoley",null,null,null,null,"O",null,"Grade 3 - 4","Grade 3 - 6","Yards and points are the lifeblood of football. As those numbers add up on the scoreboard and in the stat sheet, a whole world of mathematics is there to uncover. From yards passing and receiving to the averages teams have converting third downs, the gridiron's numbers are easy to explore while conveying important math concepts in the process. Readers learn how stars measure themselves against other players with rushing and receiving stats, and how those stats are calculated in the first place.","English",26.6,19.95,"796.332--dc23","32 pp.",{"$f":"Table1[[#This Row],['# Books]]*Table1[[#This Row],[QTY]]","v":0},{"$f":"Table1[[#This Row],[QTY]]*Table1[[#This Row],[S&L Price]]","v":0}]
[null,null,46,"Do Math with Sports Stats!",1,"Hockey: Stats, Facts, and Figures","Library Bound Book",null,"978-1-5382-1139-7",2018,"January 2018","Library","8.500 X 11.00","Author","Kate Mikoley",null,null,null,null,"O",null,"Grade 3 - 4","Grade 3 - 6","Hockey is an exciting sport that takes place entirely on ice. It's also full of math. From the goals and assists that fill the scoresheet to the fractions and other math concepts that come from percentages, hockey has a litany of numbers to explore. Readers take the ice for themselves and solve problems that puzzle scorekeepers and hockey superfans, learning the math they need to keep up with their favorite sport.","English",26.6,19.95,"796.9620151--dc23","32 pp.",{"$f":"Table1[[#This Row],['# Books]]*Table1[[#This Row],[QTY]]","v":0},{"$f":"Table1[[#This Row],[QTY]]*Table1[[#This Row],[S&L Price]]","v":0}]
[null,null,46,"Do Math with Sports Stats!",1,"Hockey: Stats, Facts, and Figures","eBook",null,"978-1-5382-1140-3",2018,"January 2018",null,null,"Author","Kate Mikoley",null,null,null,null,"O",null,"Grade 3 - 4","Grade 3 - 6","Hockey is an exciting sport that takes place entirely on ice. It's also full of math. From the goals and assists that fill the scoresheet to the fractions and other math concepts that come from percentages, hockey has a litany of numbers to explore. Readers take the ice for themselves and solve problems that puzzle scorekeepers and hockey superfans, learning the math they need to keep up with their favorite sport.","English",26.6,19.95,"796.9620151--dc23","32 pp.",{"$f":"Table1[[#This Row],['# Books]]*Table1[[#This Row],[QTY]]","v":0},{"$f":"Table1[[#This Row],[QTY]]*Table1[[#This Row],[S&L Price]]","v":0}]
[null,null,46,"Do Math with Sports Stats!",1,"NASCAR: Stats, Facts, and Figures","Library Bound Book",null,"978-1-5382-1143-4",2018,"January 2018","Library","8.500 X 11.00","Author","Kate Mikoley",null,null,null,null,"O",null,"Grade 3 - 4","Grade 3 - 6","Auto racing is a sport of metal and rubber, but it's also a game of numbers. From lap times around a track to the speed of each car at qualifying, NASCAR's unique brand of racing is an easy place to see math in action. Readers learn that different types of tracks are built in different lengths, and how differences in road courses and superspeedways impact speeds. All of these factors are ways to turn those numbers into innovative tools to learn about mathematics in new and exciting ways.","English",26.6,19.95,"796.720151--dc23","32 pp.",{"$f":"Table1[[#This Row],['# Books]]*Table1[[#This Row],[QTY]]","v":0},{"$f":"Table1[[#This Row],[QTY]]*Table1[[#This Row],[S&L Price]]","v":0}]
[null,null,46,"Do Math with Sports Stats!",1,"NASCAR: Stats, Facts, and Figures","eBook",null,"978-1-5382-1144-1",2018,"January 2018",null,null,"Author","Kate Mikoley",null,null,null,null,"O",null,"Grade 3 - 4","Grade 3 - 6","Auto racing is a sport of metal and rubber, but it's also a game of numbers. From lap times around a track to the speed of each car at qualifying, NASCAR's unique brand of racing is an easy place to see math in action. Readers learn that different types of tracks are built in different lengths, and how differences in road courses and superspeedways impact speeds. All of these factors are ways to turn those numbers into innovative tools to learn about mathematics in new and exciting ways.","English",26.6,19.95,"796.720151--dc23","32 pp.",{"$f":"Table1[[#This Row],['# Books]]*Table1[[#This Row],[QTY]]","v":0},{"$f":"Table1[[#This Row],[QTY]]*Table1[[#This Row],[S&L Price]]","v":0}]
[null,null,46,"Do Math with Sports Stats!",1,"Soccer: Stats, Facts, and Figures","Library Bound Book",null,"978-1-5382-1147-2",2018,"January 2018","Library","8.500 X 11.00","Author","Kate Mikoley",null,null,null,null,"O",null,"Grade 3 - 4","Grade 3 - 6","Soccer may be considered a low-scoring sport by some, but learning its intricacies allows readers to see the world of math that is hidden inside what is known as The Beautiful Game. Readers will learn basics like goals and assists as well as higher numbers like caps. They'll even learn how league standings work, and how more complex equations like goal differential can sometimes determine league champions.","English",26.6,19.95,"796.334--dc23","32 pp.",{"$f":"Table1[[#This Row],['# Books]]*Table1[[#This Row],[QTY]]","v":0},{"$f":"Table1[[#This Row],[QTY]]*Table1[[#This Row],[S&L Price]]","v":0}]
[null,null,46,"Do Math with Sports Stats!",1,"Soccer: Stats, Facts, and Figures","eBook",null,"978-1-5382-1148-9",2018,"January 2018",null,null,"Author","Kate Mikoley",null,null,null,null,"O",null,"Grade 3 - 4","Grade 3 - 6","Soccer may be considered a low-scoring sport by some, but learning its intricacies allows readers to see the world of math that is hidden inside what is known as The Beautiful Game. Readers will learn basics like goals and assists as well as higher numbers like caps. They'll even learn how league standings work, and how more complex equations like goal differential can sometimes determine league champions.","English",26.6,19.95,"796.334--dc23","32 pp.",{"$f":"Table1[[#This Row],['# Books]]*Table1[[#This Row],[QTY]]","v":0},{"$f":"Table1[[#This Row],[QTY]]*Table1[[#This Row],[S&L Price]]","v":0}]
[null,93,47,"Fairy Tale Fixers: Fixing Fairy Tale Problems with STEM",4,"Fairy Tale Fixers: Fixing Fairy Tale Problems with STEM","Library Set",null,"978-1-5382-0616-4",2018,"August 2017","Library","8.500 X 11.00",null,null,null,null,null,null,null,null,"Grade 3 - 4","Grade 3 - 5","What if Rapunzel let down a zip wire instead of her hair? In this hands-on series, readers will tackle classic fairy tale conundrums with the magic of STEM! Beautiful illustrations immerse the reader in their favorite tales: Rapunzel, The Princess and the Pea, Goldilocks and the Three Bears, and Jack and the Beanstalk. Problem-solving activities allow readers to engage with each story and hone their critical thinking skills. Each book includes several STEM puzzles, such as testing the strength of a strand of hair against cotton thread and calculating the math of a zip line! Even readers who are reluctant to learn science and math will love engineering their way to a happily ever after. This rich, creative series will be a popular addition to any library.","English",106.4,79.8,null,"32 pp.",{"$f":"Table1[[#This Row],['# Books]]*Table1[[#This Row],[QTY]]","v":0},{"$f":"Table1[[#This Row],[QTY]]*Table1[[#This Row],[S&L Price]]","v":0}]
[null,93,47,"Fairy Tale Fixers: Fixing Fairy Tale Problems with STEM",1,"Goldilocks and the Three Bears: Take the Temperature Test and Solve the Porridge Puzzle!","Library Bound Book",null,"978-1-5382-0673-7",2018,"August 2017","Library","8.500 X 11.00","Author","Jasmine Brooke",null,null,null,null,"O",null,"Grade 3 - 4","Grade 3 - 5","Too hot! Too cold! Goldilocks is one picky eater. In this retelling of Goldilocks’ classic conundrums, readers will use science, technology, engineering, and math to solve problems – such as finding that perfect porridge temperature! This unique story-driven format is “just right” for readers who are reluctant to learn STEM materials. They’ll love engineering their way to a happily ever after using critical thinking and creativity. Adorable illustrations immerse readers in this beloved fairy tale, while engaging activities allow them to strengthen their STEM skills. Unlike a certain blonde intruder, this versatile combination of literature and STEM will be at home in any library.","English",26.6,19.95,"[E]--dc23","32 pp.",{"$f":"Table1[[#This Row],['# Books]]*Table1[[#This Row],[QTY]]","v":0},{"$f":"Table1[[#This Row],[QTY]]*Table1[[#This Row],[S&L Price]]","v":0}]
[null,93,47,"Fairy Tale Fixers: Fixing Fairy Tale Problems with STEM",1,"Goldilocks and the Three Bears: Take the Temperature Test and Solve the Porridge Puzzle!","eBook",null,"978-1-5382-0672-0",2018,"August 2017",null,null,"Author","Jasmine Brooke",null,null,null,null,"O",null,"Grade 3 - 4","Grade 3 - 5","Too hot! Too cold! Goldilocks is one picky eater. In this retelling of Goldilocks’ classic conundrums, readers will use science, technology, engineering, and math to solve problems – such as finding that perfect porridge temperature! This unique story-driven format is “just right” for readers who are reluctant to learn STEM materials. They’ll love engineering their way to a happily ever after using critical thinking and creativity. Adorable illustrations immerse readers in this beloved fairy tale, while engaging activities allow them to strengthen their STEM skills. Unlike a certain blonde intruder, this versatile combination of literature and STEM will be at home in any library.","English",26.6,19.95,"[E]--dc23","32 pp.",{"$f":"Table1[[#This Row],['# Books]]*Table1[[#This Row],[QTY]]","v":0},{"$f":"Table1[[#This Row],[QTY]]*Table1[[#This Row],[S&L Price]]","v":0}]
[null,93,47,"Fairy Tale Fixers: Fixing Fairy Tale Problems with STEM",1,"Jack and the Beanstalk: Chart Your Magic Bean's Life Cycle!","Library Bound Book",null,"978-1-5382-0674-4",2018,"August 2017","Library","8.500 X 11.00","Author","Jasmine Brooke",null,null,null,null,"O",null,"Grade 3 - 4","Grade 3 - 5","Fee, fi, fo, fum! How will Jack and his beanstalk fare against a hungry giant? This interactive book retells the classic story of Jack, but this time, readers will use science, technology, engineering, and math to help the mischievous hero reach his happily ever after! Engaging STEM activities, such as charting the life cycle of beans, make these important curriculum materials fun and accessible. This unique, story-driven approach will attract even readers who are reluctant to learn science and math. They’ll love using critical thinking and creativity to engineer solutions to this famous fairy tale, making this book a valuable addition to any library.","English",26.6,19.95,"[E]--dc23","32 pp.",{"$f":"Table1[[#This Row],['# Books]]*Table1[[#This Row],[QTY]]","v":0},{"$f":"Table1[[#This Row],[QTY]]*Table1[[#This Row],[S&L Price]]","v":0}]
[null,93,47,"Fairy Tale Fixers: Fixing Fairy Tale Problems with STEM",1,"Jack and the Beanstalk: Chart Your Magic Bean's Life Cycle!","eBook",null,"978-1-5382-0671-3",2018,"August 2017",null,null,"Author","Jasmine Brooke",null,null,null,null,"O",null,"Grade 3 - 4","Grade 3 - 5","Fee, fi, fo, fum! How will Jack and his beanstalk fare against a hungry giant? This interactive book retells the classic story of Jack, but this time, readers will use science, technology, engineering, and math to help the mischievous hero reach his happily ever after! Engaging STEM activities, such as charting the life cycle of beans, make these important curriculum materials fun and accessible. This unique, story-driven approach will attract even readers who are reluctant to learn science and math. They’ll love using critical thinking and creativity to engineer solutions to this famous fairy tale, making this book a valuable addition to any library.","English",26.6,19.95,"[E]--dc23","32 pp.",{"$f":"Table1[[#This Row],['# Books]]*Table1[[#This Row],[QTY]]","v":0},{"$f":"Table1[[#This Row],[QTY]]*Table1[[#This Row],[S&L Price]]","v":0}]
[null,93,47,"Fairy Tale Fixers: Fixing Fairy Tale Problems with STEM",1,"Rapunzel: Let Down Your Zip Wire!","Library Bound Book",null,"978-1-5382-0676-8",2018,"August 2017","Library","8.500 X 11.00","Author","Jasmine Brooke",null,null,null,null,"O",null,"Grade 3 - 4","Grade 3 - 5","Trapped in her tower, Rapunzel has nothing but time to kill and hair to brush. But what if she could use her long locks to engineer an escape? In this retelling of the classic fairy tale, readers will use STEM problem-solving activities to help Rapunzel reach her happy ending! Engaging projects, such as testing a strand of hair’s strength against cotton thread and designing a zip wire, introduce readers to key STEM concepts. Readers will love exercising their critical thinking and creativity to play a part in Rapunzel’s story. Charming illustrations and the interactive format make this innovative book a valuable addition to any library.","English",26.6,19.95,"[E]--dc23","32 pp.",{"$f":"Table1[[#This Row],['# Books]]*Table1[[#This Row],[QTY]]","v":0},{"$f":"Table1[[#This Row],[QTY]]*Table1[[#This Row],[S&L Price]]","v":0}]
[null,93,47,"Fairy Tale Fixers: Fixing Fairy Tale Problems with STEM",1,"Rapunzel: Let Down Your Zip Wire!","eBook",null,"978-1-5382-0669-0",2018,"August 2017",null,null,"Author","Jasmine Brooke",null,null,null,null,"O",null,"Grade 3 - 4","Grade 3 - 5","Trapped in her tower, Rapunzel has nothing but time to kill and hair to brush. But what if she could use her long locks to engineer an escape? In this retelling of the classic fairy tale, readers will use STEM problem-solving activities to help Rapunzel reach her happy ending! Engaging projects, such as testing a strand of hair’s strength against cotton thread and designing a zip wire, introduce readers to key STEM concepts. Readers will love exercising their critical thinking and creativity to play a part in Rapunzel’s story. Charming illustrations and the interactive format make this innovative book a valuable addition to any library.","English",26.6,19.95,"[E]--dc23","32 pp.",{"$f":"Table1[[#This Row],['# Books]]*Table1[[#This Row],[QTY]]","v":0},{"$f":"Table1[[#This Row],[QTY]]*Table1[[#This Row],[S&L Price]]","v":0}]
[null,93,47,"Fairy Tale Fixers: Fixing Fairy Tale Problems with STEM",1,"The Princess and the Pea: Pass the Pea Pressure Test!","Library Bound Book",null,"978-1-5382-0675-1",2018,"August 2017","Library","8.500 X 11.00","Author","Jasmine Brooke",null,null,null,null,"O",null,"Grade 3 - 4","Grade 3 - 5","To prove her royalty, the princess must pass an impossible test: to feel a single pea under layers of mattresses! In this innovative retelling of the classic fairy tale, readers will problem-solve the princess out of her predicament! Fun activities introduce key science, technology, engineering, and mathematics concepts and challenge readers’ critical thinking. Readers will build confidence in their abilities and take interest in STEM material. Original illustrations and hands-on activities give readers an interactive experience. Even readers reluctant to learn STEM materials will love this immersive format, ensuring this book will be a popular addition to any library.","English",26.6,19.95,"[E]--dc23","32 pp.",{"$f":"Table1[[#This Row],['# Books]]*Table1[[#This Row],[QTY]]","v":0},{"$f":"Table1[[#This Row],[QTY]]*Table1[[#This Row],[S&L Price]]","v":0}]
[null,93,47,"Fairy Tale Fixers: Fixing Fairy Tale Problems with STEM",1,"The Princess and the Pea: Pass the Pea Pressure Test!","eBook",null,"978-1-5382-0670-6",2018,"August 2017",null,null,"Author","Jasmine Brooke",null,null,null,null,"O",null,"Grade 3 - 4","Grade 3 - 5","To prove her royalty, the princess must pass an impossible test: to feel a single pea under layers of mattresses! In this innovative retelling of the classic fairy tale, readers will problem-solve the princess out of her predicament! Fun activities introduce key science, technology, engineering, and mathematics concepts and challenge readers’ critical thinking. Readers will build confidence in their abilities and take interest in STEM material. Original illustrations and hands-on activities give readers an interactive experience. Even readers reluctant to learn STEM materials will love this immersive format, ensuring this book will be a popular addition to any library.","English",26.6,19.95,"[E]--dc23","32 pp.",{"$f":"Table1[[#This Row],['# Books]]*Table1[[#This Row],[QTY]]","v":0},{"$f":"Table1[[#This Row],[QTY]]*Table1[[#This Row],[S&L Price]]","v":0}]
[null,94,48,"Odd Adaptations",6,"Odd Adaptations","Library Set",null,"978-1-5382-0474-0",2018,"August 2017","Library","8.500 X 11.00",null,null,null,null,null,null,null,null,"Grade 3 - 4","Grade 3 - 6","Platypuses and echidnas are the only mammals that lay eggs. Mudskippers are a kind of fish—but they can walk! The reasons for these odd and fascinating adaptations are just some of what readers learn about in this fun take on an important science concept. Each book focuses on one animal group’s weird and wonderful adaptations—including humans! Full-color photographs highlight some of the most bizarre facts included, such as a frog’s teeth. Sidebars give even more information about each animal, satisfying readers curious about the “whys” of the world around them.","English",159.6,119.7,null,"32 pp.",{"$f":"Table1[[#This Row],['# Books]]*Table1[[#This Row],[QTY]]","v":0},{"$f":"Table1[[#This Row],[QTY]]*Table1[[#This Row],[S&L Price]]","v":0}]
[null,94,48,"Odd Adaptations",1,"Why Are Ostriches So Big?: And Other Curious Bird Adaptations","Library Bound Book",null,"978-1-5382-0387-3",2018,"August 2017","Library","8.500 X 11.00","Author","Patricia Fletcher",null,null,null,null,"L",null,"Grade 3 - 4","Grade 3 - 6","Ostriches are the biggest birds on Earth. Not only that, they can run distances at about the same speed as a car on a city street! These adaptations are extraordinary, but other birds have even more bizarre adaptations! From gizzards to the many colorful mating displays, bird adaptations are covered in fun, engaging detail throughout this volume. The main content addresses curriculum topics such as animal body systems, life cycles, and more with an emphasis on the most fun information out there about birds and their odd adaptations.","English",26.6,19.95,"598.5’24--dc23","32 pp.",{"$f":"Table1[[#This Row],['# Books]]*Table1[[#This Row],[QTY]]","v":0},{"$f":"Table1[[#This Row],[QTY]]*Table1[[#This Row],[S&L Price]]","v":0}]
[null,94,48,"Odd Adaptations",1,"Why Are Ostriches So Big?: And Other Curious Bird Adaptations","eBook",null,"978-1-5382-0388-0",2018,"August 2017",null,null,"Author","Patricia Fletcher",null,null,null,null,"L",null,"Grade 3 - 4","Grade 3 - 6","Ostriches are the biggest birds on Earth. Not only that, they can run distances at about the same speed as a car on a city street! These adaptations are extraordinary, but other birds have even more bizarre adaptations! From gizzards to the many colorful mating displays, bird adaptations are covered in fun, engaging detail throughout this volume. The main content addresses curriculum topics such as animal body systems, life cycles, and more with an emphasis on the most fun information out there about birds and their odd adaptations.","English",26.6,19.95,"598.5’24--dc23","32 pp.",{"$f":"Table1[[#This Row],['# Books]]*Table1[[#This Row],[QTY]]","v":0},{"$f":"Table1[[#This Row],[QTY]]*Table1[[#This Row],[S&L Price]]","v":0}]
[null,94,48,"Odd Adaptations",1,"Why Do Frogs Have Teeth?: And Other Curious Amphibian Adaptations","Library Bound Book",null,"978-1-5382-0391-0",2018,"August 2017","Library","8.500 X 11.00","Author","Patricia Fletcher",null,null,null,null,"P",null,"Grade 3 - 4","Grade 3 - 6","Not many people report being bitten by a frog. But many will notice the weird ooze that seeps out of a toad’s skin when they’re picked up. These are just two strange adaptations that have helped amphibians survive in their environment. That’s also why salamanders need the ability to regrow limbs—or even part of their brain! Curious future scientists learn all about these awesome adaptations as well as other important topics such as the unique amphibian life cycle, all complemented by full-color, up-close photographs.","English",26.6,19.95,"597.8’9--dc23","32 pp.",{"$f":"Table1[[#This Row],['# Books]]*Table1[[#This Row],[QTY]]","v":0},{"$f":"Table1[[#This Row],[QTY]]*Table1[[#This Row],[S&L Price]]","v":0}]
[null,94,48,"Odd Adaptations",1,"Why Do Frogs Have Teeth?: And Other Curious Amphibian Adaptations","eBook",null,"978-1-5382-0392-7",2018,"August 2017",null,null,"Author","Patricia Fletcher",null,null,null,null,"P",null,"Grade 3 - 4","Grade 3 - 6","Not many people report being bitten by a frog. But many will notice the weird ooze that seeps out of a toad’s skin when they’re picked up. These are just two strange adaptations that have helped amphibians survive in their environment. That’s also why salamanders need the ability to regrow limbs—or even part of their brain! Curious future scientists learn all about these awesome adaptations as well as other important topics such as the unique amphibian life cycle, all complemented by full-color, up-close photographs.","English",26.6,19.95,"597.8’9--dc23","32 pp.",{"$f":"Table1[[#This Row],['# Books]]*Table1[[#This Row],[QTY]]","v":0},{"$f":"Table1[[#This Row],[QTY]]*Table1[[#This Row],[S&L Price]]","v":0}]
[null,94,48,"Odd Adaptations",1,"Why Do Mudskippers Walk?: And Other Curious Fish Adaptations","Library Bound Book",null,"978-1-5382-0395-8",2018,"August 2017","Library","8.500 X 11.00","Author","Patricia Fletcher",null,null,null,null,"P",null,"Grade 3 - 4","Grade 3 - 6","Fish are some of the weirdest animals on Earth. Some can walk as well as swim. Others have body parts that have helped them adapt to the deepest, darkest parts of the ocean. And then there are the many amazing kinds of sharks! This book contains the most bizarre adaptations fish can have—and includes up-close, full-color photographs for readers to ogle. This framework provides a way fun way to introduce why and how adaptations happen, as well as other science curriculum topics such as ecosystems and predator-prey relationships.","English",26.6,19.95,"597.14--dc23","32 pp.",{"$f":"Table1[[#This Row],['# Books]]*Table1[[#This Row],[QTY]]","v":0},{"$f":"Table1[[#This Row],[QTY]]*Table1[[#This Row],[S&L Price]]","v":0}]
[null,94,48,"Odd Adaptations",1,"Why Do Mudskippers Walk?: And Other Curious Fish Adaptations","eBook",null,"978-1-5382-0396-5",2018,"August 2017",null,null,"Author","Patricia Fletcher",null,null,null,null,"P",null,"Grade 3 - 4","Grade 3 - 6","Fish are some of the weirdest animals on Earth. Some can walk as well as swim. Others have body parts that have helped them adapt to the deepest, darkest parts of the ocean. And then there are the many amazing kinds of sharks! This book contains the most bizarre adaptations fish can have—and includes up-close, full-color photographs for readers to ogle. This framework provides a way fun way to introduce why and how adaptations happen, as well as other science curriculum topics such as ecosystems and predator-prey relationships.","English",26.6,19.95,"597.14--dc23","32 pp.",{"$f":"Table1[[#This Row],['# Books]]*Table1[[#This Row],[QTY]]","v":0},{"$f":"Table1[[#This Row],[QTY]]*Table1[[#This Row],[S&L Price]]","v":0}]
[null,94,48,"Odd Adaptations",1,"Why Do People Have Chins?: And Other Curious Human Adaptations","Library Bound Book",null,"978-1-5382-0399-6",2018,"August 2017","Library","8.500 X 11.00","Author","Patricia Fletcher",null,null,null,null,"P",null,"Grade 3 - 4","Grade 3 - 6","The appendix seems useless. Most people’s baby toes are so small, they seem unimportant. There are so many odd parts of the human body, each page of this volume is able to reveal fascinating adaptations of the body readers didn’t even know they wanted to know! Including up-to-date scientific findings explained in understandable and age-appropriate language, the main content satisfies readers’ curiosity as well as parts of the science curriculum. Full-color photographs, diagrams, and supplementary sidebars help readers understand human body systems, evolution, and even why people have chins!","English",26.6,19.95,"612--dc23","32 pp.",{"$f":"Table1[[#This Row],['# Books]]*Table1[[#This Row],[QTY]]","v":0},{"$f":"Table1[[#This Row],[QTY]]*Table1[[#This Row],[S&L Price]]","v":0}]
[null,94,48,"Odd Adaptations",1,"Why Do People Have Chins?: And Other Curious Human Adaptations","eBook",null,"978-1-5382-0400-9",2018,"August 2017",null,null,"Author","Patricia Fletcher",null,null,null,null,"P",null,"Grade 3 - 4","Grade 3 - 6","The appendix seems useless. Most people’s baby toes are so small, they seem unimportant. There are so many odd parts of the human body, each page of this volume is able to reveal fascinating adaptations of the body readers didn’t even know they wanted to know! Including up-to-date scientific findings explained in understandable and age-appropriate language, the main content satisfies readers’ curiosity as well as parts of the science curriculum. Full-color photographs, diagrams, and supplementary sidebars help readers understand human body systems, evolution, and even why people have chins!","English",26.6,19.95,"612--dc23","32 pp.",{"$f":"Table1[[#This Row],['# Books]]*Table1[[#This Row],[QTY]]","v":0},{"$f":"Table1[[#This Row],[QTY]]*Table1[[#This Row],[S&L Price]]","v":0}]
[null,94,48,"Odd Adaptations",1,"Why Do Platypuses Lay Eggs?: And Other Curious Mammal Adaptations","Library Bound Book",null,"978-1-5382-0403-0",2018,"August 2017","Library","8.500 X 11.00","Author","Patricia Fletcher",null,null,null,null,"P",null,"Grade 3 - 4","Grade 3 - 6","The dictionary definition of a mammal says that mammals give birth to live young, but that’s not always true. Echidnas and platypuses, while still technically mammals, lay eggs. Why they do so is one of the strangest adaptations of mammals on Earth. Readers explore this and many other incredible and bizarre adaptations of all kinds of mammals, including the purpose of milk teeth and the hairy truth about camouflage and the coats of many animals. Full-color photographs showcase each adaptation for curious readers as they absorb information about life cycles, predator-prey relationships, and more from the main content.","English",26.6,19.95,"599.2’9--dc23","32 pp.",{"$f":"Table1[[#This Row],['# Books]]*Table1[[#This Row],[QTY]]","v":0},{"$f":"Table1[[#This Row],[QTY]]*Table1[[#This Row],[S&L Price]]","v":0}]
[null,94,48,"Odd Adaptations",1,"Why Do Platypuses Lay Eggs?: And Other Curious Mammal Adaptations","eBook",null,"978-1-5382-0404-7",2018,"August 2017",null,null,"Author","Patricia Fletcher",null,null,null,null,"P",null,"Grade 3 - 4","Grade 3 - 6","The dictionary definition of a mammal says that mammals give birth to live young, but that’s not always true. Echidnas and platypuses, while still technically mammals, lay eggs. Why they do so is one of the strangest adaptations of mammals on Earth. Readers explore this and many other incredible and bizarre adaptations of all kinds of mammals, including the purpose of milk teeth and the hairy truth about camouflage and the coats of many animals. Full-color photographs showcase each adaptation for curious readers as they absorb information about life cycles, predator-prey relationships, and more from the main content.","English",26.6,19.95,"599.2’9--dc23","32 pp.",{"$f":"Table1[[#This Row],['# Books]]*Table1[[#This Row],[QTY]]","v":0},{"$f":"Table1[[#This Row],[QTY]]*Table1[[#This Row],[S&L Price]]","v":0}]
[null,94,48,"Odd Adaptations",1,"Why Do Thorny Devils Have Two Heads?: And Other Curious Reptile Adaptations","Library Bound Book",null,"978-1-5382-0407-8",2018,"August 2017","Library","8.500 X 11.00","Author","Patricia Fletcher",null,null,null,null,"P",null,"Grade 3 - 4","Grade 3 - 6","There’s a good reason why the thorny devil has a “false head” on its shoulders. It’s an adaptation that developed to help protect the thorny devil when the reptile feels threatened. Most adaptations have a good explanation—but that doesn’t make some of them any less odd! From snakes shedding their skin a few times a year to the almost unbreakable shells of reptile eggs, reptile adaptations are made even more fascinating in this book through full-color, up-close photographs. In addition to cool adaptations, readers learn science curriculum topics such as the main features of reptiles, evolution, and life cycles.","English",26.6,19.95,"597.95’5--dc23","32 pp.",{"$f":"Table1[[#This Row],['# Books]]*Table1[[#This Row],[QTY]]","v":0},{"$f":"Table1[[#This Row],[QTY]]*Table1[[#This Row],[S&L Price]]","v":0}]
[null,94,48,"Odd Adaptations",1,"Why Do Thorny Devils Have Two Heads?: And Other Curious Reptile Adaptations","eBook",null,"978-1-5382-0408-5",2018,"August 2017",null,null,"Author","Patricia Fletcher",null,null,null,null,"P",null,"Grade 3 - 4","Grade 3 - 6","There’s a good reason why the thorny devil has a “false head” on its shoulders. It’s an adaptation that developed to help protect the thorny devil when the reptile feels threatened. Most adaptations have a good explanation—but that doesn’t make some of them any less odd! From snakes shedding their skin a few times a year to the almost unbreakable shells of reptile eggs, reptile adaptations are made even more fascinating in this book through full-color, up-close photographs. In addition to cool adaptations, readers learn science curriculum topics such as the main features of reptiles, evolution, and life cycles.","English",26.6,19.95,"597.95’5--dc23","32 pp.",{"$f":"Table1[[#This Row],['# Books]]*Table1[[#This Row],[QTY]]","v":0},{"$f":"Table1[[#This Row],[QTY]]*Table1[[#This Row],[S&L Price]]","v":0}]
[null,null,48,"Odd Adaptations",12,"Odd Adaptations: Sets 1 – 2","Library Set",null,"978-1-5382-2189-1",2019,"August 2018","Library","8.500 X 11.00"," "," ",null,null,null,null,null,null,"Grade 3 - 4","Grade 3 - 6","Animal adaptations aren't just physical, such as the camouflaged skin of a snake, or physiological, such as the venom made in a spider's body. Adaptations can be behavioral, as exhibited by whales migrating thousands of miles each year to calve their young. A wide range of adaptations is addressed in this remarkable collection, focusing on the oddest adaptation facts concerning a wide variety of animals, including humans. This high-interest take on a crucial elementary science concept is as instructive as it is compelling. Each volume's vibrant design will draw in readers, while colorful photographs reinforce concepts. Features include: Engaging content correlates to the elementary science curriculum. Topics are meticulously researched, including the latest scientific discoveries, and presented in a comprehensive and cohesive way. Graphic organizers in each volume allow readers to interpret information visually, a standard of the English Language Arts Common Core.","English",319.2,239.4,null,"32 pp.",{"$f":"Table1[[#This Row],['# Books]]*Table1[[#This Row],[QTY]]","v":0},{"$f":"Table1[[#This Row],[QTY]]*Table1[[#This Row],[S&L Price]]","v":0}]
[null,null,48,"Odd Adaptations",6,"Odd Adaptations: Set 2","Library Set",null,"978-1-5382-2188-4",2019,"August 2018","Library","8.500 X 11.00"," "," ",null,null,null,null,null,null,"Grade 3 - 4","Grade 3 - 6","Many adaptations seem to just make sense. It's easy to see how these evolutionary traits help an animal stay alive and even thrive in its native environment. Just watch a monkey hang from its tail while it's eating a piece of fruit, but some adaptations aren't so easy to decipher. In this continuation of our engrossing series, readers will dive into odd adaptations of the insect, arachnid, crustacean, invertebrate, plant, and fungi worlds. Especially striking facts are highlighted within the text. Each compelling topic introduces an array of life science concepts, which makes every volume an essential component of any elementary science collection. Features include: Each book, bursting with vivid photographs, contains a wide variety of information on many creatures. Sidebars and graphic organizers offer further enriching information about key concepts. Understanding of science texts is a key tenet of the English Language Arts Common Core.","English",159.6,119.7,null,"32 pp.",{"$f":"Table1[[#This Row],['# Books]]*Table1[[#This Row],[QTY]]","v":0},{"$f":"Table1[[#This Row],[QTY]]*Table1[[#This Row],[S&L Price]]","v":0}]
[null,null,48,"Odd Adaptations",1,"Why Do Fungi Feed on Dead Plants?: And Other Odd Fungi Adaptations","Library Bound Book",null,"978-1-5382-2019-1",2019,"August 2018","Library","8.500 X 11.00","Author","Janey Levy",null,null,null,null,"P",null,"Grade 3 - 4","Grade 3 - 6","Fungi seem mysterious, they're not animals and they're not plants. Some aren't even visible to the human eye. Yet, they're constantly at work breaking down dead organisms. Our world would be cluttered without them. This beneficial book sheds much-needed light on the fungi kingdom, explaining what a fungus is as well as some the weirdest adaptations that have made it a successful survivor in the natural world. Graphic organizers summarize essential points, while vivid photographs display how bright and beautiful these organisms can be.","English",26.6,19.95,"579.5--dc23","32 pp.",{"$f":"Table1[[#This Row],['# Books]]*Table1[[#This Row],[QTY]]","v":0},{"$f":"Table1[[#This Row],[QTY]]*Table1[[#This Row],[S&L Price]]","v":0}]
[null,null,48,"Odd Adaptations",1,"Why Do Fungi Feed on Dead Plants?: And Other Odd Fungi Adaptations","eBook",null,"978-1-5382-2020-7",2019,"August 2018",null,null,"Author","Janey Levy",null,null,null,null,"P",null,"Grade 3 - 4","Grade 3 - 6","Fungi seem mysterious, they're not animals and they're not plants. Some aren't even visible to the human eye. Yet, they're constantly at work breaking down dead organisms. Our world would be cluttered without them. This beneficial book sheds much-needed light on the fungi kingdom, explaining what a fungus is as well as some the weirdest adaptations that have made it a successful survivor in the natural world. Graphic organizers summarize essential points, while vivid photographs display how bright and beautiful these organisms can be.","English",26.6,19.95,"579.5--dc23","32 pp.",{"$f":"Table1[[#This Row],['# Books]]*Table1[[#This Row],[QTY]]","v":0},{"$f":"Table1[[#This Row],[QTY]]*Table1[[#This Row],[S&L Price]]","v":0}]
[null,null,48,"Odd Adaptations",1,"Why Do Lobsters Eat Each Other?: And Other Odd Crustacean Adaptations","Library Bound Book",null,"978-1-5382-2023-8",2019,"August 2018","Library","8.500 X 11.00","Author","Therese M. Shea",null,null,null,null,"P",null,"Grade 3 - 4","Grade 3 - 6","There are few behavioral adaptations that seem more odd to us than cannibalism. Scientists have noticed the rising incidence of lobster cannibals in recent years, and the reason may be connected to global warming. Readers will find the odd information about these and other crustaceans to be a fascinating study in animal adaptations, a crucial component of the elementary science curriculum. Vivid photographs and informative sidebars reinforce the engaging text.","English",26.6,19.95,"595.3--dc23","32 pp.",{"$f":"Table1[[#This Row],['# Books]]*Table1[[#This Row],[QTY]]","v":0},{"$f":"Table1[[#This Row],[QTY]]*Table1[[#This Row],[S&L Price]]","v":0}]
[null,null,48,"Odd Adaptations",1,"Why Do Lobsters Eat Each Other?: And Other Odd Crustacean Adaptations","eBook",null,"978-1-5382-2024-5",2019,"August 2018",null,null,"Author","Therese M. Shea",null,null,null,null,"P",null,"Grade 3 - 4","Grade 3 - 6","There are few behavioral adaptations that seem more odd to us than cannibalism. Scientists have noticed the rising incidence of lobster cannibals in recent years, and the reason may be connected to global warming. Readers will find the odd information about these and other crustaceans to be a fascinating study in animal adaptations, a crucial component of the elementary science curriculum. Vivid photographs and informative sidebars reinforce the engaging text.","English",26.6,19.95,"595.3--dc23","32 pp.",{"$f":"Table1[[#This Row],['# Books]]*Table1[[#This Row],[QTY]]","v":0},{"$f":"Table1[[#This Row],[QTY]]*Table1[[#This Row],[S&L Price]]","v":0}]
[null,null,48,"Odd Adaptations",1,"Why Do Pitcher Plants Eat Bugs?: And Other Odd Plant Adaptations","Library Bound Book",null,"978-1-5382-2031-3",2019,"August 2018","Library","8.500 X 11.00","Author","Brianna Battista",null,null,null,null,"O",null,"Grade 3 - 4","Grade 3 - 6","Because of plants' sedentary lives, they're not often placed among the more bizarre organisms on Earth. This beguiling book contains plenty of peculiar plants to entice future botanists. They'll find out about carnivorous pitcher plants as well as many other kinds of valuable vegetation and why they've developed similarly strange adaptations. This is a perfect way to delve into the study of plants and plant parts, a key part of life science curricula. Readers will never look at plants the same way again.","English",26.6,19.95,null,"32 pp.",{"$f":"Table1[[#This Row],['# Books]]*Table1[[#This Row],[QTY]]","v":0},{"$f":"Table1[[#This Row],[QTY]]*Table1[[#This Row],[S&L Price]]","v":0}]
[null,null,48,"Odd Adaptations",1,"Why Do Pitcher Plants Eat Bugs?: And Other Odd Plant Adaptations","eBook",null,"978-1-5382-2032-0",2019,"August 2018",null,null,"Author","Brianna Battista",null,null,null,null,"O",null,"Grade 3 - 4","Grade 3 - 6","Because of plants' sedentary lives, they're not often placed among the more bizarre organisms on Earth. This beguiling book contains plenty of peculiar plants to entice future botanists. They'll find out about carnivorous pitcher plants as well as many other kinds of valuable vegetation and why they've developed similarly strange adaptations. This is a perfect way to delve into the study of plants and plant parts, a key part of life science curricula. Readers will never look at plants the same way again.","English",26.6,19.95,null,"32 pp.",{"$f":"Table1[[#This Row],['# Books]]*Table1[[#This Row],[QTY]]","v":0},{"$f":"Table1[[#This Row],[QTY]]*Table1[[#This Row],[S&L Price]]","v":0}]
[null,null,48,"Odd Adaptations",1,"Why Do Some Moths Mimic Wasps?: And Other Odd Insect Adaptations","Library Bound Book",null,"978-1-5382-2027-6",2019,"August 2018","Library","8.500 X 11.00","Author","Kate Light",null,null,null,null,"P",null,"Grade 3 - 4","Grade 3 - 6","Mimicry is an awesome, and sometimes slightly weird, adaptation that many animals have developed. In many instances, it's a lifesaver, encouraging possible predators to stay away. That's the case with some kinds of harmless moths. They really look like stinging insects such as wasps and hornets, and sometimes even sound like them, which is effective for scaring away enemies like birds. Young entomologists will learn so much more about the amazing world of insects in the intriguing text and photographs in this valuable volume, a wonderful addition to any science collection.","English",26.6,19.95,null,"32 pp.",{"$f":"Table1[[#This Row],['# Books]]*Table1[[#This Row],[QTY]]","v":0},{"$f":"Table1[[#This Row],[QTY]]*Table1[[#This Row],[S&L Price]]","v":0}]
[null,null,48,"Odd Adaptations",1,"Why Do Some Moths Mimic Wasps?: And Other Odd Insect Adaptations","eBook",null,"978-1-5382-2028-3",2019,"August 2018",null,null,"Author","Kate Light",null,null,null,null,"P",null,"Grade 3 - 4","Grade 3 - 6","Mimicry is an awesome, and sometimes slightly weird, adaptation that many animals have developed. In many instances, it's a lifesaver, encouraging possible predators to stay away. That's the case with some kinds of harmless moths. They really look like stinging insects such as wasps and hornets, and sometimes even sound like them, which is effective for scaring away enemies like birds. Young entomologists will learn so much more about the amazing world of insects in the intriguing text and photographs in this valuable volume, a wonderful addition to any science collection.","English",26.6,19.95,null,"32 pp.",{"$f":"Table1[[#This Row],['# Books]]*Table1[[#This Row],[QTY]]","v":0},{"$f":"Table1[[#This Row],[QTY]]*Table1[[#This Row],[S&L Price]]","v":0}]
[null,null,48,"Odd Adaptations",1,"Why Do Wolf Spiders Make Burrows?: And Other Odd Arachnid Adaptations","Library Bound Book",null,"978-1-5382-2035-1",2019,"August 2018","Library","8.500 X 11.00","Author","Meghan Sharif",null,null,null,null,"O",null,"Grade 3 - 4","Grade 3 - 6","It isn't unusual to see a spider hanging out in the middle of its complex silk web, just waiting for a tasty bug to come by. Less well-known is a spider that digs a burrow in the ground. Several species are known for doing this, and the reason why isn't as odd as it seems. Arachnid aficionados will love finding out about the weird adaptations that these creatures have developed. Intriguing text and in-depth sidebars are supported by remarkable photographs of all kinds of arachnids in their wild habitats.","English",26.6,19.95,null,"32 pp.",{"$f":"Table1[[#This Row],['# Books]]*Table1[[#This Row],[QTY]]","v":0},{"$f":"Table1[[#This Row],[QTY]]*Table1[[#This Row],[S&L Price]]","v":0}]
[null,null,48,"Odd Adaptations",1,"Why Do Wolf Spiders Make Burrows?: And Other Odd Arachnid Adaptations","eBook",null,"978-1-5382-2036-8",2019,"August 2018",null,null,"Author","Meghan Sharif",null,null,null,null,"O",null,"Grade 3 - 4","Grade 3 - 6","It isn't unusual to see a spider hanging out in the middle of its complex silk web, just waiting for a tasty bug to come by. Less well-known is a spider that digs a burrow in the ground. Several species are known for doing this, and the reason why isn't as odd as it seems. Arachnid aficionados will love finding out about the weird adaptations that these creatures have developed. Intriguing text and in-depth sidebars are supported by remarkable photographs of all kinds of arachnids in their wild habitats.","English",26.6,19.95,null,"32 pp.",{"$f":"Table1[[#This Row],['# Books]]*Table1[[#This Row],[QTY]]","v":0},{"$f":"Table1[[#This Row],[QTY]]*Table1[[#This Row],[S&L Price]]","v":0}]
[null,null,48,"Odd Adaptations",1,"Why Don’t Jellyfish Have Brains?: And Other Odd Invertebrate Adaptations","Library Bound Book",null,"978-1-5382-2039-9",2019,"August 2018","Library","8.500 X 11.00","Author","Caitie McAneney",null,null,null,null,"P",null,"Grade 3 - 4","Grade 3 - 6","Jellyfish are some of the creepiest creatures out there. They're about 95 percent water and basically evaporate when they wash up on a beach, and, they don't have brains! This absorbing book details how these animals survive without this important organ and other weird facts about the invertebrate world. Even more fascinating than the freaky facts are the eye-catching images that illustrate each crucial concept. Sidebars and graphic organizers present more valuable information.","English",26.6,19.95,null,"32 pp.",{"$f":"Table1[[#This Row],['# Books]]*Table1[[#This Row],[QTY]]","v":0},{"$f":"Table1[[#This Row],[QTY]]*Table1[[#This Row],[S&L Price]]","v":0}]
[null,null,48,"Odd Adaptations",1,"Why Don’t Jellyfish Have Brains?: And Other Odd Invertebrate Adaptations","eBook",null,"978-1-5382-2040-5",2019,"August 2018",null,null,"Author","Caitie McAneney",null,null,null,null,"P",null,"Grade 3 - 4","Grade 3 - 6","Jellyfish are some of the creepiest creatures out there. They're about 95 percent water and basically evaporate when they wash up on a beach, and, they don't have brains! This absorbing book details how these animals survive without this important organ and other weird facts about the invertebrate world. Even more fascinating than the freaky facts are the eye-catching images that illustrate each crucial concept. Sidebars and graphic organizers present more valuable information.","English",26.6,19.95,null,"32 pp.",{"$f":"Table1[[#This Row],['# Books]]*Table1[[#This Row],[QTY]]","v":0},{"$f":"Table1[[#This Row],[QTY]]*Table1[[#This Row],[S&L Price]]","v":0}]
[null,95,49,"Flowchart Smart (Set of 12 Titles) ",12,"Flowchart Smart (Set of 12 Titles) ","Library Set",null,"978-1-5382-0845-8",2018,"August 2017","Library","7.250 X 9.250",null,null,null,null,null,null,null,null,"Grade 4 - 5","Grade 4 - 6","Science is a fascinating subject - from the innermost workings of the human body to the forces that shape our reality - but it can also be intimidating! The Flowchart Smart collection combats this by introducing readers to vital science curriculum concepts through engaging graphic organizers. This unique, visually rich approach to learning ensures they understand and retain information, while having fun! Flowcharts located at the end of each chapter break complex systems and processes down into manageable parts, giving readers an accessible yet comprehensive look at key science topics. Readers will foster a love of science as they explore the wonders of human anatomy, electricity, forces, heat, light, magnetism, and sound!","English",383.4,287.39999999999998,null,"48 pp.",{"$f":"Table1[[#This Row],['# Books]]*Table1[[#This Row],[QTY]]","v":0},{"$f":"Table1[[#This Row],[QTY]]*Table1[[#This Row],[S&L Price]]","v":0}]
[null,95,49,"Flowchart Smart (Set of 6 NEW Titles)",6,"Flowchart Smart (Set of 6 NEW Titles)","Library Set",null,"978-1-5382-0612-6",2018,"August 2017","Library","7.250 X 9.250",null,null,null,null,null,null,null,null,"Grade 4 - 5","Grade 4 - 6","What makes the heart pump? How does oxygen circulate the body? Prepare to be swept away in a flow of anatomical knowledge! Readers of this innovative series will learn about crucial organs and systems of the human body. Flowcharts at the end of each chapter recap important information in bite-sized chunks and help the reader visualize bodily processes. Colorful graphics will entice even reluctant readers. The unique combination of text and visuals allows readers to grasp complicated concepts in a fun and engaging way. This expansion of the popular Flowchart Smart series offers a new round of accessible, information-rich books.","English",191.7,143.69999999999999,null,"48 pp.",{"$f":"Table1[[#This Row],['# Books]]*Table1[[#This Row],[QTY]]","v":0},{"$f":"Table1[[#This Row],[QTY]]*Table1[[#This Row],[S&L Price]]","v":0}]
[null,95,49,"Flowchart Smart",1,"The Science of the Brain","Library Bound Book",null,"978-1-5382-0698-0",2018,"August 2017","Library","7.250 X 9.250","Author","Louise Spilsbury",null,null,null,null,"T",null,"Grade 4 - 5","Grade 4 - 6","The human mind is more complex and powerful than any technology humanity has ever created. How much do we really know about these incredible organic computers that power our bodies? This engaging book explores the human brain using clean, simple flowcharts to break down difficult concepts into accessible chunks. Each chapter condenses key concepts into flowcharts to help readers retain essential information. Curious readers will love learning about this high-interest topic through fun graphics and clear, easy-to-understand language. This innovative format makes important science curriculum material fun and easy to absorb, making this book an invaluable addition to any library.","English",31.95,23.95,"612.8’2--dc23","48 pp.",{"$f":"Table1[[#This Row],['# Books]]*Table1[[#This Row],[QTY]]","v":0},{"$f":"Table1[[#This Row],[QTY]]*Table1[[#This Row],[S&L Price]]","v":0}]
[null,95,49,"Flowchart Smart",1,"The Science of the Brain","eBook",null,"978-1-5382-0687-4",2018,"August 2017",null,null,"Author","Louise Spilsbury",null,null,null,null,"T",null,"Grade 4 - 5","Grade 4 - 6","The human mind is more complex and powerful than any technology humanity has ever created. How much do we really know about these incredible organic computers that power our bodies? This engaging book explores the human brain using clean, simple flowcharts to break down difficult concepts into accessible chunks. Each chapter condenses key concepts into flowcharts to help readers retain essential information. Curious readers will love learning about this high-interest topic through fun graphics and clear, easy-to-understand language. This innovative format makes important science curriculum material fun and easy to absorb, making this book an invaluable addition to any library.","English",31.95,23.95,"612.8’2--dc23","48 pp.",{"$f":"Table1[[#This Row],['# Books]]*Table1[[#This Row],[QTY]]","v":0},{"$f":"Table1[[#This Row],[QTY]]*Table1[[#This Row],[S&L Price]]","v":0}]
[null,95,49,"Flowchart Smart",1,"The Science of the Digestive System","Library Bound Book",null,"978-1-5382-0697-3",2018,"August 2017","Library","7.250 X 9.250","Author, Author","Louise Spilsbury, Richard Spilsbury",null,null,null,null,"T",null,"Grade 4 - 5","Grade 4 - 6","Every munch and crunch of our lunch makes its way through our digestive systems! How does our body break down food into energy? This innovative book gives readers an inside look at this essential bodily process. Flowcharts reiterate key concepts at the end of each chapter, allowing readers to visualize and retain complex information in a fun way. Colorful graphics and easy-to-understand language ensure this book is both fun and accessible. Even readers who are reluctant to study science will enjoy this visually rich, playful exploration of the human digestive system. This unique approach to science curriculum materials is sure to make this book a favorite in any library.","English",31.95,23.95,"612.3’2--dc23","48 pp.",{"$f":"Table1[[#This Row],['# Books]]*Table1[[#This Row],[QTY]]","v":0},{"$f":"Table1[[#This Row],[QTY]]*Table1[[#This Row],[S&L Price]]","v":0}]
[null,95,49,"Flowchart Smart",1,"The Science of the Digestive System","eBook",null,"978-1-5382-0692-8",2018,"August 2017",null,null,"Author, Author","Louise Spilsbury, Richard Spilsbury",null,null,null,null,"T",null,"Grade 4 - 5","Grade 4 - 6","Every munch and crunch of our lunch makes its way through our digestive systems! How does our body break down food into energy? This innovative book gives readers an inside look at this essential bodily process. Flowcharts reiterate key concepts at the end of each chapter, allowing readers to visualize and retain complex information in a fun way. Colorful graphics and easy-to-understand language ensure this book is both fun and accessible. Even readers who are reluctant to study science will enjoy this visually rich, playful exploration of the human digestive system. This unique approach to science curriculum materials is sure to make this book a favorite in any library.","English",31.95,23.95,"612.3’2--dc23","48 pp.",{"$f":"Table1[[#This Row],['# Books]]*Table1[[#This Row],[QTY]]","v":0},{"$f":"Table1[[#This Row],[QTY]]*Table1[[#This Row],[S&L Price]]","v":0}]
[null,95,49,"Flowchart Smart",1,"The Science of the Heart and Circulatory System","Library Bound Book",null,"978-1-5382-0693-5",2018,"August 2017","Library","7.250 X 9.250","Author, Author","Louise Spilsbury, Richard Spilsbury",null,null,null,null,"T",null,"Grade 4 - 5","Grade 4 - 6","What makes our hearts pump? How does blood circulate throughout our bodies? Curious readers will love this innovative look at the human heart and circulatory system. Clean, simple flowcharts located at the end of each chapter break down complex processes into bite-sized information. This allows readers to visualize and retain essential curriculum materials while having fun. Colorful graphics and clear language further ensure the accessibility of this important information. Even readers who are reluctant to study science will be eager to explore this unique, visually rich book. All libraries will have a place for this engaging look at the human heart and circulatory system.","English",31.95,23.95,"612.1--dc23","48 pp.",{"$f":"Table1[[#This Row],['# Books]]*Table1[[#This Row],[QTY]]","v":0},{"$f":"Table1[[#This Row],[QTY]]*Table1[[#This Row],[S&L Price]]","v":0}]
[null,95,49,"Flowchart Smart",1,"The Science of the Heart and Circulatory System","eBook",null,"978-1-5382-0691-1",2018,"August 2017",null,null,"Author, Author","Louise Spilsbury, Richard Spilsbury",null,null,null,null,"T",null,"Grade 4 - 5","Grade 4 - 6","What makes our hearts pump? How does blood circulate throughout our bodies? Curious readers will love this innovative look at the human heart and circulatory system. Clean, simple flowcharts located at the end of each chapter break down complex processes into bite-sized information. This allows readers to visualize and retain essential curriculum materials while having fun. Colorful graphics and clear language further ensure the accessibility of this important information. Even readers who are reluctant to study science will be eager to explore this unique, visually rich book. All libraries will have a place for this engaging look at the human heart and circulatory system.","English",31.95,23.95,"612.1--dc23","48 pp.",{"$f":"Table1[[#This Row],['# Books]]*Table1[[#This Row],[QTY]]","v":0},{"$f":"Table1[[#This Row],[QTY]]*Table1[[#This Row],[S&L Price]]","v":0}]
[null,95,49,"Flowchart Smart",1,"The Science of the Lungs and Respiratory System","Library Bound Book",null,"978-1-5382-0694-2",2018,"August 2017","Library","7.250 X 9.250","Author, Author","Louise Spilsbury, Richard Spilsbury",null,null,null,null,"T",null,"Grade 4 - 5","Grade 4 - 6","How does oxygen reach our cells? What does our body do with the carbon dioxide it produces? Each breath we take demonstrates the marvel of the human lungs and respiratory system. This accessible book gives inquisitive readers an inside look at this essential bodily function. Engaging graphics and concise language create a reader-friendly experience that will attract even those who are reluctant to study science materials. Fun, easy-to-follow flowcharts summarize key concepts at the end of each chapter, ensuring that readers are able to visualize and retain essential information. This unique, visually rich approach to learning will make this book stand out in any library.","English",31.95,23.95,"612.2--dc23","48 pp.",{"$f":"Table1[[#This Row],['# Books]]*Table1[[#This Row],[QTY]]","v":0},{"$f":"Table1[[#This Row],[QTY]]*Table1[[#This Row],[S&L Price]]","v":0}]
[null,95,49,"Flowchart Smart",1,"The Science of the Lungs and Respiratory System","eBook",null,"978-1-5382-0690-4",2018,"August 2017",null,null,"Author, Author","Louise Spilsbury, Richard Spilsbury",null,null,null,null,"T",null,"Grade 4 - 5","Grade 4 - 6","How does oxygen reach our cells? What does our body do with the carbon dioxide it produces? Each breath we take demonstrates the marvel of the human lungs and respiratory system. This accessible book gives inquisitive readers an inside look at this essential bodily function. Engaging graphics and concise language create a reader-friendly experience that will attract even those who are reluctant to study science materials. Fun, easy-to-follow flowcharts summarize key concepts at the end of each chapter, ensuring that readers are able to visualize and retain essential information. This unique, visually rich approach to learning will make this book stand out in any library.","English",31.95,23.95,"612.2--dc23","48 pp.",{"$f":"Table1[[#This Row],['# Books]]*Table1[[#This Row],[QTY]]","v":0},{"$f":"Table1[[#This Row],[QTY]]*Table1[[#This Row],[S&L Price]]","v":0}]
[null,95,49,"Flowchart Smart",1,"The Science of the Senses","Library Bound Book",null,"978-1-5382-0695-9",2018,"August 2017","Library","7.250 X 9.250","Author, Author","Louise Spilsbury, Richard Spilsbury",null,null,null,null,"T",null,"Grade 4 - 5","Grade 4 - 6","Taste, touch, sight, hearing, and smell: these five senses help us navigate the world, process information about our surroundings, and stimulate responses in our bodies. Readers will learn the science behind our amazing senses in this innovative book. Each chapter recaps essential information through clean, simple flowcharts. This helps readers visualize and retain crucial material while having fun. Even readers who are reluctant to engage with science curriculum will gravitate to this accessible and intriguing look at the human senses. Colorful graphics, clear language, and a unique format ensure this book will be popular in any library.","English",31.95,23.95,"612.8--dc23","48 pp.",{"$f":"Table1[[#This Row],['# Books]]*Table1[[#This Row],[QTY]]","v":0},{"$f":"Table1[[#This Row],[QTY]]*Table1[[#This Row],[S&L Price]]","v":0}]
[null,95,49,"Flowchart Smart",1,"The Science of the Senses","eBook",null,"978-1-5382-0689-8",2018,"August 2017",null,null,"Author, Author","Louise Spilsbury, Richard Spilsbury",null,null,null,null,"T",null,"Grade 4 - 5","Grade 4 - 6","Taste, touch, sight, hearing, and smell: these five senses help us navigate the world, process information about our surroundings, and stimulate responses in our bodies. Readers will learn the science behind our amazing senses in this innovative book. Each chapter recaps essential information through clean, simple flowcharts. This helps readers visualize and retain crucial material while having fun. Even readers who are reluctant to engage with science curriculum will gravitate to this accessible and intriguing look at the human senses. Colorful graphics, clear language, and a unique format ensure this book will be popular in any library.","English",31.95,23.95,"612.8--dc23","48 pp.",{"$f":"Table1[[#This Row],['# Books]]*Table1[[#This Row],[QTY]]","v":0},{"$f":"Table1[[#This Row],[QTY]]*Table1[[#This Row],[S&L Price]]","v":0}]
[null,95,49,"Flowchart Smart",1,"The Science of the Skeleton and Muscles","Library Bound Book",null,"978-1-5382-0696-6",2018,"August 2017","Library","7.250 X 9.250","Author, Author","Louise Spilsbury, Richard Spilsbury",null,null,null,null,"T",null,"Grade 4 - 5","Grade 4 - 6","Skeletons are more than classic Halloween décor – they’re intricate structures inside every human being! In this innovative book, readers will learn how bones and muscles work together to support the human body and enable its many movements. Fun graphics and easy-to-comprehend language makes this important topic accessible to all readers. Concise flowcharts emphasize key concepts at the end of each chapter, helping readers visualize and retain essential science curriculum material. Even readers who are reluctant to engage with science will enjoy this unique, visually based approach to learning. Any library will have a home for this reader-friendly look at the human skeleton and muscles.","English",31.95,23.95,"611--dc23","48 pp.",{"$f":"Table1[[#This Row],['# Books]]*Table1[[#This Row],[QTY]]","v":0},{"$f":"Table1[[#This Row],[QTY]]*Table1[[#This Row],[S&L Price]]","v":0}]
[null,95,49,"Flowchart Smart",1,"The Science of the Skeleton and Muscles","eBook",null,"978-1-5382-0688-1",2018,"August 2017",null,null,"Author, Author","Louise Spilsbury, Richard Spilsbury",null,null,null,null,"T",null,"Grade 4 - 5","Grade 4 - 6","Skeletons are more than classic Halloween décor – they’re intricate structures inside every human being! In this innovative book, readers will learn how bones and muscles work together to support the human body and enable its many movements. Fun graphics and easy-to-comprehend language makes this important topic accessible to all readers. Concise flowcharts emphasize key concepts at the end of each chapter, helping readers visualize and retain essential science curriculum material. Even readers who are reluctant to engage with science will enjoy this unique, visually based approach to learning. Any library will have a home for this reader-friendly look at the human skeleton and muscles.","English",31.95,23.95,"611--dc23","48 pp.",{"$f":"Table1[[#This Row],['# Books]]*Table1[[#This Row],[QTY]]","v":0},{"$f":"Table1[[#This Row],[QTY]]*Table1[[#This Row],[S&L Price]]","v":0}]
[null,95,49,"Flowchart Smart",1,"The Science of Electricity","Library Bound Book",null,"978-1-4824-4133-8",2016,"January 2016","Library","7.250 X 9.250","Author","Louise Spilsbury",null,null,null,null,"T",null,"Grade 4 - 5","Grade 4 - 6","Modern living wouldn’t be possible without electricity. The history of electricity is interesting because we are constantly finding new ways to use it and searching for better ways to produce it. This book takes a look at how electricity travels, how it is stored in batteries, and the many different types of power plants that produce the electricity needed to light our homes, schools, and businesses. Bright photographs and fascinating fact boxes are paired together to make flowcharts highlighting how circuits work to move electricity, how different kinds of batteries hold charges, and much more in this fascinating science book.","English",31.95,23.95,"537—d23","48 pp.",{"$f":"Table1[[#This Row],['# Books]]*Table1[[#This Row],[QTY]]","v":0},{"$f":"Table1[[#This Row],[QTY]]*Table1[[#This Row],[S&L Price]]","v":0}]
[null,95,49,"Flowchart Smart",1,"The Science of Electricity","eBook",null,"978-1-4824-4134-5",2016,"January 2016",null,null,"Author","Louise Spilsbury",null,null,null,null,"T",null,"Grade 4 - 5","Grade 4 - 6","Modern living wouldn’t be possible without electricity. The history of electricity is interesting because we are constantly finding new ways to use it and searching for better ways to produce it. This book takes a look at how electricity travels, how it is stored in batteries, and the many different types of power plants that produce the electricity needed to light our homes, schools, and businesses. Bright photographs and fascinating fact boxes are paired together to make flowcharts highlighting how circuits work to move electricity, how different kinds of batteries hold charges, and much more in this fascinating science book.","English",31.95,23.95,"537—d23","48 pp.",{"$f":"Table1[[#This Row],['# Books]]*Table1[[#This Row],[QTY]]","v":0},{"$f":"Table1[[#This Row],[QTY]]*Table1[[#This Row],[S&L Price]]","v":0}]
[null,95,49,"Flowchart Smart",1,"The Science of Forces","Library Bound Book",null,"978-1-4824-4137-6",2016,"January 2016","Library","7.250 X 9.250","Author","Mary  Colson ",null,null,null,null,"T",null,"Grade 4 - 5","Grade 4 - 6","Forces move everything around us. That may sound scary and complicated, but this book shows readers that forces like friction and other laws of motion can be fascinating and fun! Innovative flowcharts bring these abstract concepts to life via brilliant photographs matched with fact boxes showing readers how the moon impacts tides on Earth, and how magnetic forces act on matter throughout the universe. From the tectonic plates that move Earth’s crust to the forces rockets must overcome to leave Earth’s atmosphere and reach outer space, there are plenty of fantastic forces to explore in this informative book.","English",31.95,23.95,"531—d23","48 pp.",{"$f":"Table1[[#This Row],['# Books]]*Table1[[#This Row],[QTY]]","v":0},{"$f":"Table1[[#This Row],[QTY]]*Table1[[#This Row],[S&L Price]]","v":0}]
[null,95,49,"Flowchart Smart",1,"The Science of Forces","eBook",null,"978-1-4824-4138-3",2016,"January 2016",null,null,"Author","Mary  Colson ",null,null,null,null,"T",null,"Grade 4 - 5","Grade 4 - 6","Forces move everything around us. That may sound scary and complicated, but this book shows readers that forces like friction and other laws of motion can be fascinating and fun! Innovative flowcharts bring these abstract concepts to life via brilliant photographs matched with fact boxes showing readers how the moon impacts tides on Earth, and how magnetic forces act on matter throughout the universe. From the tectonic plates that move Earth’s crust to the forces rockets must overcome to leave Earth’s atmosphere and reach outer space, there are plenty of fantastic forces to explore in this informative book.","English",31.95,23.95,"531—d23","48 pp.",{"$f":"Table1[[#This Row],['# Books]]*Table1[[#This Row],[QTY]]","v":0},{"$f":"Table1[[#This Row],[QTY]]*Table1[[#This Row],[S&L Price]]","v":0}]
[null,95,49,"Flowchart Smart",1,"The Science of Heat","Library Bound Book",null,"978-1-4824-4141-3",2016,"January 2016","Library","7.250 X 9.250","Author","Angela Royston",null,null,null,null,"T",null,"Grade 4 - 5","Grade 4 - 6","Heat can do some amazing things, like turn solids into liquids and liquids into gases. But how do these changes happen? This book helps readers understand how heat changes matter, what causes things to burn, and how these changes impact a vast number of objects in our world. Flowcharts filled with vivid photographs and interesting fact boxes visually bring to life the concepts of heat and the changing states of matter, turning readers into eager scientists!","English",31.95,23.95,"536—d23","48 pp.",{"$f":"Table1[[#This Row],['# Books]]*Table1[[#This Row],[QTY]]","v":0},{"$f":"Table1[[#This Row],[QTY]]*Table1[[#This Row],[S&L Price]]","v":0}]
[null,95,49,"Flowchart Smart",1,"The Science of Heat","eBook",null,"978-1-4824-4142-0",2016,"January 2016",null,null,"Author","Angela Royston",null,null,null,null,"T",null,"Grade 4 - 5","Grade 4 - 6","Heat can do some amazing things, like turn solids into liquids and liquids into gases. But how do these changes happen? This book helps readers understand how heat changes matter, what causes things to burn, and how these changes impact a vast number of objects in our world. Flowcharts filled with vivid photographs and interesting fact boxes visually bring to life the concepts of heat and the changing states of matter, turning readers into eager scientists!","English",31.95,23.95,"536—d23","48 pp.",{"$f":"Table1[[#This Row],['# Books]]*Table1[[#This Row],[QTY]]","v":0},{"$f":"Table1[[#This Row],[QTY]]*Table1[[#This Row],[S&L Price]]","v":0}]
[null,95,49,"Flowchart Smart",1,"The Science of Light","Library Bound Book",null,"978-1-4824-4145-1",2016,"January 2016","Library","7.250 X 9.250","Author","Mary  Colson ",null,null,null,null,"T",null,"Grade 4 - 5","Grade 4 - 6","Light is an amazing thing. It allows us to see, sure, but how is it made? This book takes a look at the science behind the creation, travel, and appearance of light. From how fast light travels to the materials that create it, the science behind illumination is fascinating and essential to understanding human life. Informative flowcharts bring the context to life with bright photographs and fact boxes explaining how the human eye sees and reacts to light and how some animals can even see in the dark!","English",31.95,23.95,"535—d23","48 pp.",{"$f":"Table1[[#This Row],['# Books]]*Table1[[#This Row],[QTY]]","v":0},{"$f":"Table1[[#This Row],[QTY]]*Table1[[#This Row],[S&L Price]]","v":0}]
[null,95,49,"Flowchart Smart",1,"The Science of Light","eBook",null,"978-1-4824-4146-8",2016,"January 2016",null,null,"Author","Mary  Colson ",null,null,null,null,"T",null,"Grade 4 - 5","Grade 4 - 6","Light is an amazing thing. It allows us to see, sure, but how is it made? This book takes a look at the science behind the creation, travel, and appearance of light. From how fast light travels to the materials that create it, the science behind illumination is fascinating and essential to understanding human life. Informative flowcharts bring the context to life with bright photographs and fact boxes explaining how the human eye sees and reacts to light and how some animals can even see in the dark!","English",31.95,23.95,"535—d23","48 pp.",{"$f":"Table1[[#This Row],['# Books]]*Table1[[#This Row],[QTY]]","v":0},{"$f":"Table1[[#This Row],[QTY]]*Table1[[#This Row],[S&L Price]]","v":0}]
[null,95,49,"Flowchart Smart",1,"The Science of Magnetism","Library Bound Book",null,"978-1-4824-4149-9",2016,"January 2016","Library","7.250 X 9.250","Author","Louise Spilsbury",null,null,null,null,"T",null,"Grade 4 - 5","Grade 4 - 6","Magnets are all around us, but how do they work? This innovate book delves into that question and many more, showing readers how the pushes and pulls of magnetic force impact both our planet and everyday lives. Informative flowcharts bring magnetism concepts to life with bright colors and insightful fact boxes, giving readers extra incentive to learn more about magnetic materials, how magnets are used in motors, and much more.","English",31.95,23.95,"538—d23","48 pp.",{"$f":"Table1[[#This Row],['# Books]]*Table1[[#This Row],[QTY]]","v":0},{"$f":"Table1[[#This Row],[QTY]]*Table1[[#This Row],[S&L Price]]","v":0}]
[null,95,49,"Flowchart Smart",1,"The Science of Magnetism","eBook",null,"978-1-4824-4154-3",2016,"January 2016",null,null,"Author","Louise Spilsbury",null,null,null,null,"T",null,"Grade 4 - 5","Grade 4 - 6","Magnets are all around us, but how do they work? This innovate book delves into that question and many more, showing readers how the pushes and pulls of magnetic force impact both our planet and everyday lives. Informative flowcharts bring magnetism concepts to life with bright colors and insightful fact boxes, giving readers extra incentive to learn more about magnetic materials, how magnets are used in motors, and much more.","English",31.95,23.95,"538—d23","48 pp.",{"$f":"Table1[[#This Row],['# Books]]*Table1[[#This Row],[QTY]]","v":0},{"$f":"Table1[[#This Row],[QTY]]*Table1[[#This Row],[S&L Price]]","v":0}]
[null,95,49,"Flowchart Smart",1,"The Science of Sound","Library Bound Book",null,"978-1-4824-4152-9",2016,"January 2016","Library","7.250 X 9.250","Author","Louise Spilsbury",null,null,null,null,"T",null,"Grade 4 - 5","Grade 4 - 6","Sound produces some of the greatest joys in our lives. From the music we love to the mere sound of laughter, the vibrations our ears pick up play a major role in our life experience. This book shows readers just what sound is, how it travels, and how our ears understand the sounds that surround us all. Innovative flowcharts throughout the book give readers a fun alternative to plain text, showing the science of sound with vibrant colors and interesting fact boxes.","English",31.95,23.95,"534.078—d23","48 pp.",{"$f":"Table1[[#This Row],['# Books]]*Table1[[#This Row],[QTY]]","v":0},{"$f":"Table1[[#This Row],[QTY]]*Table1[[#This Row],[S&L Price]]","v":0}]
[null,95,49,"Flowchart Smart",1,"The Science of Sound","eBook",null,"978-1-4824-4153-6",2016,"January 2016",null,null,"Author","Louise Spilsbury",null,null,null,null,"T",null,"Grade 4 - 5","Grade 4 - 6","Sound produces some of the greatest joys in our lives. From the music we love to the mere sound of laughter, the vibrations our ears pick up play a major role in our life experience. This book shows readers just what sound is, how it travels, and how our ears understand the sounds that surround us all. Innovative flowcharts throughout the book give readers a fun alternative to plain text, showing the science of sound with vibrant colors and interesting fact boxes.","English",31.95,23.95,"534.078—d23","48 pp.",{"$f":"Table1[[#This Row],['# Books]]*Table1[[#This Row],[QTY]]","v":0},{"$f":"Table1[[#This Row],[QTY]]*Table1[[#This Row],[S&L Price]]","v":0}]
[null,null,50,"Infographics: How It Works",6,"Infographics: How It Works","Library Set",null,"978-1-5382-1431-2",2018,"January 2018","Library","8.500 X 11.00",null,null,null,null,null,null,null,null,"Grade 4 - 5","Grade 4 - 6","Reading a few paragraphs or listening to a lecture isn't the only way to learn about something. In fact, visual approaches to teaching information can be much more engaging. Through creative, colorful infographics, this series offers readers unique ways to understand how the universe, technology, machines and motors, the planet, the human body, and life on Earth work. Including a variety of subjects, each book simplifies complicated concepts, such as how a cell phone works, with diagrams, illustrations, and more, while also presenting clear, concise text to add more context.","English",159.6,119.7,null,"32 pp.",{"$f":"Table1[[#This Row],['# Books]]*Table1[[#This Row],[QTY]]","v":0},{"$f":"Table1[[#This Row],[QTY]]*Table1[[#This Row],[S&L Price]]","v":0}]
[null,null,50,"Infographics: How It Works",1,"Life on Earth","Library Bound Book",null,"978-1-5382-1350-6",2018,"January 2018","Library","8.500 X 11.00","Author, Author","Jon Richards, Ed Simkins",null,null,null,null,"S",null,"Grade 4 - 5","Grade 4 - 6","In order to survive, all living things on Earth must adapt to their environment. They all have certain senses that help them hunt for prey or ways they protect themselves. It's impossible to learn all of it, but through the infographics in this book, readers are sure to understand a great deal. With colorful diagrams and succinct text, each chapter covers a different facet of life on Earth, including how plants protect themselves, cold adaptations, and the carbon cycle. \"Try This\" boxes throughout the book engage readers by suggesting activities and asking questions related to the text.","English",26.6,19.95,"570--dc23","32 pp.",{"$f":"Table1[[#This Row],['# Books]]*Table1[[#This Row],[QTY]]","v":0},{"$f":"Table1[[#This Row],[QTY]]*Table1[[#This Row],[S&L Price]]","v":0}]
[null,null,50,"Infographics: How It Works",1,"Life on Earth","eBook",null,"978-1-5382-1351-3",2018,"January 2018",null,null,"Author, Author","Jon Richards, Ed Simkins",null,null,null,null,"S",null,"Grade 4 - 5","Grade 4 - 6","In order to survive, all living things on Earth must adapt to their environment. They all have certain senses that help them hunt for prey or ways they protect themselves. It's impossible to learn all of it, but through the infographics in this book, readers are sure to understand a great deal. With colorful diagrams and succinct text, each chapter covers a different facet of life on Earth, including how plants protect themselves, cold adaptations, and the carbon cycle. \"Try This\" boxes throughout the book engage readers by suggesting activities and asking questions related to the text.","English",26.6,19.95,"570--dc23","32 pp.",{"$f":"Table1[[#This Row],['# Books]]*Table1[[#This Row],[QTY]]","v":0},{"$f":"Table1[[#This Row],[QTY]]*Table1[[#This Row],[S&L Price]]","v":0}]
[null,null,50,"Infographics: How It Works",1,"Machines and Motors","Library Bound Book",null,"978-1-5382-1354-4",2018,"January 2018","Library","8.500 X 11.00","Author, Author","Jon Richards, Ed Simkins",null,null,null,null,"S",null,"Grade 4 - 5","Grade 4 - 6","One of the most revolutionary machines ever created is one of the most familiar, the car. From huge trucks to two-door coupes, every gas-powered car works the same. Through creative infographics, readers can learn about how a car works as well as the intricacies of many other machines and motors. Simple labels and succinct, informative text accompany each infographic to present readers with facts and processes they can easily use in their STEM classes. Activity suggestions throughout the book add another way readers can connect with the main content and use their infographic knowledge.","English",26.6,19.95,"629.04'6--dc23","32 pp.",{"$f":"Table1[[#This Row],['# Books]]*Table1[[#This Row],[QTY]]","v":0},{"$f":"Table1[[#This Row],[QTY]]*Table1[[#This Row],[S&L Price]]","v":0}]
[null,null,50,"Infographics: How It Works",1,"Machines and Motors","eBook",null,"978-1-5382-1355-1",2018,"January 2018",null,null,"Author, Author","Jon Richards, Ed Simkins",null,null,null,null,"S",null,"Grade 4 - 5","Grade 4 - 6","One of the most revolutionary machines ever created is one of the most familiar, the car. From huge trucks to two-door coupes, every gas-powered car works the same. Through creative infographics, readers can learn about how a car works as well as the intricacies of many other machines and motors. Simple labels and succinct, informative text accompany each infographic to present readers with facts and processes they can easily use in their STEM classes. Activity suggestions throughout the book add another way readers can connect with the main content and use their infographic knowledge.","English",26.6,19.95,"629.04'6--dc23","32 pp.",{"$f":"Table1[[#This Row],['# Books]]*Table1[[#This Row],[QTY]]","v":0},{"$f":"Table1[[#This Row],[QTY]]*Table1[[#This Row],[S&L Price]]","v":0}]
[null,null,50,"Infographics: How It Works",1,"Our Planet","Library Bound Book",null,"978-1-5382-1359-9",2018,"January 2018","Library","8.500 X 11.00","Author, Author","Jon Richards, Ed Simkins",null,null,null,null,"S",null,"Grade 4 - 5","Grade 4 - 6","Earth science is made up of so many topics: weather, landforms, and even natural disasters. It can take a lot of time to learn about the details of each. Infographics are the perfect way to cover a lot of these subject areas in less time, including why earthquakes happen, the water cycle, and how mountains form, as well as many other parts of the Earth science curriculum. Each chapter aims to involve readers in what they're learning through succinct text and colorful, creative diagrams. In addition, \"Try This\" boxes suggest activities and questions through which readers can apply their knowledge.","English",26.6,19.95,"550--dc23","32 pp.",{"$f":"Table1[[#This Row],['# Books]]*Table1[[#This Row],[QTY]]","v":0},{"$f":"Table1[[#This Row],[QTY]]*Table1[[#This Row],[S&L Price]]","v":0}]
[null,null,50,"Infographics: How It Works",1,"Our Planet","eBook",null,"978-1-5382-1357-5",2018,"January 2018",null,null,"Author, Author","Jon Richards, Ed Simkins",null,null,null,null,"S",null,"Grade 4 - 5","Grade 4 - 6","Earth science is made up of so many topics: weather, landforms, and even natural disasters. It can take a lot of time to learn about the details of each. Infographics are the perfect way to cover a lot of these subject areas in less time, including why earthquakes happen, the water cycle, and how mountains form, as well as many other parts of the Earth science curriculum. Each chapter aims to involve readers in what they're learning through succinct text and colorful, creative diagrams. In addition, \"Try This\" boxes suggest activities and questions through which readers can apply their knowledge.","English",26.6,19.95,"550--dc23","32 pp.",{"$f":"Table1[[#This Row],['# Books]]*Table1[[#This Row],[QTY]]","v":0},{"$f":"Table1[[#This Row],[QTY]]*Table1[[#This Row],[S&L Price]]","v":0}]
[null,null,50,"Infographics: How It Works",1,"Our Universe","Library Bound Book",null,"978-1-5382-1362-9",2018,"January 2018","Library","8.500 X 11.00","Author, Author","Jon Richards, Ed Simkins",null,null,null,null,"S",null,"Grade 4 - 5","Grade 4 - 6","Launching a rocket, getting into orbit, and then landing on a planet are all complicated, multi-step processes that can be difficult to comprehend. This book uses simple, well-designed infographics to make complicated ideas accessible. Covering a variety of STEM topics, this book presents unique information about the solar system, stars, and sun in a visual manner that can help both engage readers and reinforce their knowledge. Activities and questions throughout the book offer readers opportunities to synthesize what they've read and perhaps find ways to use their infographic knowledge in the future.","English",26.6,19.95,"520--dc23","32 pp.",{"$f":"Table1[[#This Row],['# Books]]*Table1[[#This Row],[QTY]]","v":0},{"$f":"Table1[[#This Row],[QTY]]*Table1[[#This Row],[S&L Price]]","v":0}]
[null,null,50,"Infographics: How It Works",1,"Our Universe","eBook",null,"978-1-5382-1363-6",2018,"January 2018",null,null,"Author, Author","Jon Richards, Ed Simkins",null,null,null,null,"S",null,"Grade 4 - 5","Grade 4 - 6","Launching a rocket, getting into orbit, and then landing on a planet are all complicated, multi-step processes that can be difficult to comprehend. This book uses simple, well-designed infographics to make complicated ideas accessible. Covering a variety of STEM topics, this book presents unique information about the solar system, stars, and sun in a visual manner that can help both engage readers and reinforce their knowledge. Activities and questions throughout the book offer readers opportunities to synthesize what they've read and perhaps find ways to use their infographic knowledge in the future.","English",26.6,19.95,"520--dc23","32 pp.",{"$f":"Table1[[#This Row],['# Books]]*Table1[[#This Row],[QTY]]","v":0},{"$f":"Table1[[#This Row],[QTY]]*Table1[[#This Row],[S&L Price]]","v":0}]
[null,null,50,"Infographics: How It Works",1,"Today's Technology","Library Bound Book",null,"978-1-5382-1364-3",2018,"January 2018","Library","8.500 X 11.00","Author, Author","Jon Richards, Ed Simkins",null,null,null,null,"S",null,"Grade 4 - 5","Grade 4 - 6","By the time someone turns 21, they'll likely have spent about 200 days of their life playing video games, and even more using a mobile phone. Readers know that technology is a huge part of our lives, but they might not know exactly how some of it works. This book uses labeled infographics accompanied by simple, understandable text to tackle both familiar technology, such as cell phones, and newer technology, like solar panels. Each infographic describes how the technology works, relating to readers' daily lives as well as the STEM curriculum.","English",26.6,19.95,"600--dc23","32 pp.",{"$f":"Table1[[#This Row],['# Books]]*Table1[[#This Row],[QTY]]","v":0},{"$f":"Table1[[#This Row],[QTY]]*Table1[[#This Row],[S&L Price]]","v":0}]
[null,null,50,"Infographics: How It Works",1,"Today's Technology","eBook",null,"978-1-5382-1365-0",2018,"January 2018",null,null,"Author, Author","Jon Richards, Ed Simkins",null,null,null,null,"S",null,"Grade 4 - 5","Grade 4 - 6","By the time someone turns 21, they'll likely have spent about 200 days of their life playing video games, and even more using a mobile phone. Readers know that technology is a huge part of our lives, but they might not know exactly how some of it works. This book uses labeled infographics accompanied by simple, understandable text to tackle both familiar technology, such as cell phones, and newer technology, like solar panels. Each infographic describes how the technology works, relating to readers' daily lives as well as the STEM curriculum.","English",26.6,19.95,"600--dc23","32 pp.",{"$f":"Table1[[#This Row],['# Books]]*Table1[[#This Row],[QTY]]","v":0},{"$f":"Table1[[#This Row],[QTY]]*Table1[[#This Row],[S&L Price]]","v":0}]
[null,null,50,"Infographics: How It Works",1,"Your Body","Library Bound Book",null,"978-1-5382-1366-7",2018,"January 2018","Library","8.500 X 11.00","Author, Author","Jon Richards, Ed Simkins",null,null,null,null,"S",null,"Grade 4 - 5","Grade 4 - 6","What is the body made of? How do eyes and ears work? Questions like these are sure to come to mind when readers learn about the human body. In this book, infographics offer a special and effective way for readers to learn the answers to these questions and more. Simple labels and informative text give each infographic context and connect it to the science curriculum. Readers are further engaged as they read with \"Try This\" boxes that ask them to apply what they've read or suggest activities that they can try right at home.","English",26.6,19.95,"612--dc23","32 pp.",{"$f":"Table1[[#This Row],['# Books]]*Table1[[#This Row],[QTY]]","v":0},{"$f":"Table1[[#This Row],[QTY]]*Table1[[#This Row],[S&L Price]]","v":0}]
[null,null,50,"Infographics: How It Works",1,"Your Body","eBook",null,"978-1-5382-1367-4",2018,"January 2018",null,null,"Author, Author","Jon Richards, Ed Simkins",null,null,null,null,"S",null,"Grade 4 - 5","Grade 4 - 6","What is the body made of? How do eyes and ears work? Questions like these are sure to come to mind when readers learn about the human body. In this book, infographics offer a special and effective way for readers to learn the answers to these questions and more. Simple labels and informative text give each infographic context and connect it to the science curriculum. Readers are further engaged as they read with \"Try This\" boxes that ask them to apply what they've read or suggest activities that they can try right at home.","English",26.6,19.95,"612--dc23","32 pp.",{"$f":"Table1[[#This Row],['# Books]]*Table1[[#This Row],[QTY]]","v":0},{"$f":"Table1[[#This Row],[QTY]]*Table1[[#This Row],[S&L Price]]","v":0}]
[null,null,51,"Science in a Flash",6,"Science in a Flash","Library Set",null,"978-1-5382-1434-3",2018,"January 2018","Library","8.500 X 11.00",null,null,null,null,null,null,null,null,"Grade 5","Grade 4 - 6","Electricity, vibration, gravity, magnetism, and refraction are all science curriculum topics that can seem complicated and even a little boring to many of us. But when paired with colorful diagrams, pop quizzes, and interesting facts, these science subjects can be exciting. These books on electricity, forces, light, sound, and the states of matter cover all the major points of each topic in a relatable and high-energy way. Including simple definitions and everyday examples, each book engages readers with the science all around them, just in time for science class.","English",159.6,119.7,null,"32 pp.",{"$f":"Table1[[#This Row],['# Books]]*Table1[[#This Row],[QTY]]","v":0},{"$f":"Table1[[#This Row],[QTY]]*Table1[[#This Row],[S&L Price]]","v":0}]
[null,null,51,"Science in a Flash",1,"Earth and Space","Library Bound Book",null,"978-1-5382-1392-6",2018,"January 2018","Library","8.500 X 11.00","Author","Georgia Amson-Bradshaw",null,null,null,null,"T",null,"Grade 5","Grade 4 - 6","Earth can seem like a huge place when you think about all the great places you can visit, but in the scope of the universe, Earth is a fairly small planet. Understanding the makeup of Earth and its place in our solar system is an important part of the science curriculum. This book presents the most important information readers should know in an exciting layout full of exciting facts, real-life examples, and colorful diagrams. Riddles and pop quizzes throughout the text offer readers the chance to really think about what they've read and apply it in a different way.","English",26.6,19.95,"525--dc23","32 pp.",{"$f":"Table1[[#This Row],['# Books]]*Table1[[#This Row],[QTY]]","v":0},{"$f":"Table1[[#This Row],[QTY]]*Table1[[#This Row],[S&L Price]]","v":0}]
[null,null,51,"Science in a Flash",1,"Earth and Space","eBook",null,"978-1-5382-1393-3",2018,"January 2018",null,null,"Author","Georgia Amson-Bradshaw",null,null,null,null,"T",null,"Grade 5","Grade 4 - 6","Earth can seem like a huge place when you think about all the great places you can visit, but in the scope of the universe, Earth is a fairly small planet. Understanding the makeup of Earth and its place in our solar system is an important part of the science curriculum. This book presents the most important information readers should know in an exciting layout full of exciting facts, real-life examples, and colorful diagrams. Riddles and pop quizzes throughout the text offer readers the chance to really think about what they've read and apply it in a different way.","English",26.6,19.95,"525--dc23","32 pp.",{"$f":"Table1[[#This Row],['# Books]]*Table1[[#This Row],[QTY]]","v":0},{"$f":"Table1[[#This Row],[QTY]]*Table1[[#This Row],[S&L Price]]","v":0}]
[null,null,51,"Science in a Flash",1,"Electricity","Library Bound Book",null,"978-1-5382-1394-0",2018,"January 2018","Library","8.500 X 11.00","Author","Georgia Amson-Bradshaw",null,null,null,null,"T",null,"Grade 5","Grade 4 - 6","Because most people use electricity every day, it's important to understand how it works and respect its power. From the basics of current and circuits to how electricity is generated, this book covers many concepts included in the science curriculum using relatable examples, straightforward language, and colorful diagrams. Each chapter simply defines key terms and gives thorough explanations, as well as asks the reader questions and riddles to consider as they learn about renewable energy, electricity and magnetism, static electricity and more.","English",26.6,19.95,"537--dc23","32 pp.",{"$f":"Table1[[#This Row],['# Books]]*Table1[[#This Row],[QTY]]","v":0},{"$f":"Table1[[#This Row],[QTY]]*Table1[[#This Row],[S&L Price]]","v":0}]
[null,null,51,"Science in a Flash",1,"Electricity","eBook",null,"978-1-5382-1395-7",2018,"January 2018",null,null,"Author","Georgia Amson-Bradshaw",null,null,null,null,"T",null,"Grade 5","Grade 4 - 6","Because most people use electricity every day, it's important to understand how it works and respect its power. From the basics of current and circuits to how electricity is generated, this book covers many concepts included in the science curriculum using relatable examples, straightforward language, and colorful diagrams. Each chapter simply defines key terms and gives thorough explanations, as well as asks the reader questions and riddles to consider as they learn about renewable energy, electricity and magnetism, static electricity and more.","English",26.6,19.95,"537--dc23","32 pp.",{"$f":"Table1[[#This Row],['# Books]]*Table1[[#This Row],[QTY]]","v":0},{"$f":"Table1[[#This Row],[QTY]]*Table1[[#This Row],[S&L Price]]","v":0}]
[null,null,51,"Science in a Flash",1,"Forces","Library Bound Book",null,"978-1-5382-1396-4",2018,"January 2018","Library","8.500 X 11.00","Author","Georgia Amson-Bradshaw",null,null,null,null,"T",null,"Grade 5","Grade 4 - 6","Anyone who learns about the force of gravity in our lives has probably wondered what it's like to be weightless. In this volume, readers can find out the incredible impact gravity and other forces, such as magnetism, have on their life every day. Each chapter gives an accessible overview of the topic and then invites readers to dive deeper with relatable photographs, diagrams, sidebars, and fun facts. Through riddles, pop quizzes, and simple experiments, the book encourages readers to engage with the information they're learning in order to understand it better for both class and life on Earth.","English",26.6,19.95,"531.6--dc23","32 pp.",{"$f":"Table1[[#This Row],['# Books]]*Table1[[#This Row],[QTY]]","v":0},{"$f":"Table1[[#This Row],[QTY]]*Table1[[#This Row],[S&L Price]]","v":0}]
[null,null,51,"Science in a Flash",1,"Forces","eBook",null,"978-1-5382-1397-1",2018,"January 2018",null,null,"Author","Georgia Amson-Bradshaw",null,null,null,null,"T",null,"Grade 5","Grade 4 - 6","Anyone who learns about the force of gravity in our lives has probably wondered what it's like to be weightless. In this volume, readers can find out the incredible impact gravity and other forces, such as magnetism, have on their life every day. Each chapter gives an accessible overview of the topic and then invites readers to dive deeper with relatable photographs, diagrams, sidebars, and fun facts. Through riddles, pop quizzes, and simple experiments, the book encourages readers to engage with the information they're learning in order to understand it better for both class and life on Earth.","English",26.6,19.95,"531.6--dc23","32 pp.",{"$f":"Table1[[#This Row],['# Books]]*Table1[[#This Row],[QTY]]","v":0},{"$f":"Table1[[#This Row],[QTY]]*Table1[[#This Row],[S&L Price]]","v":0}]
[null,null,51,"Science in a Flash",1,"Light","Library Bound Book",null,"978-1-5382-1398-8",2018,"January 2018","Library","8.500 X 11.00","Author","Georgia Amson-Bradshaw",null,null,null,null,"T",null,"Grade 5","Grade 4 - 6","Light is the fastest thing in the universe. It travels so quickly that to people on Earth it seems to just appear and disappear. Through fun fact boxes, colorful diagrams, and straightforward explanations, this book introduces readers to important science concepts having to do with light such as reflection, refraction, shadows, and how light moves through materials. Riddles, quiz questions, and hands-on experiments engage readers with each chapter's main topic, helping them synthesize the science curriculum information they've read in a new way.","English",26.6,19.95,"535--dc23","32 pp.",{"$f":"Table1[[#This Row],['# Books]]*Table1[[#This Row],[QTY]]","v":0},{"$f":"Table1[[#This Row],[QTY]]*Table1[[#This Row],[S&L Price]]","v":0}]
[null,null,51,"Science in a Flash",1,"Light","eBook",null,"978-1-5382-1399-5",2018,"January 2018",null,null,"Author","Georgia Amson-Bradshaw",null,null,null,null,"T",null,"Grade 5","Grade 4 - 6","Light is the fastest thing in the universe. It travels so quickly that to people on Earth it seems to just appear and disappear. Through fun fact boxes, colorful diagrams, and straightforward explanations, this book introduces readers to important science concepts having to do with light such as reflection, refraction, shadows, and how light moves through materials. Riddles, quiz questions, and hands-on experiments engage readers with each chapter's main topic, helping them synthesize the science curriculum information they've read in a new way.","English",26.6,19.95,"535--dc23","32 pp.",{"$f":"Table1[[#This Row],['# Books]]*Table1[[#This Row],[QTY]]","v":0},{"$f":"Table1[[#This Row],[QTY]]*Table1[[#This Row],[S&L Price]]","v":0}]
[null,null,51,"Science in a Flash",1,"Sound","Library Bound Book",null,"978-1-5382-1400-8",2018,"January 2018","Library","8.500 X 11.00","Author","Georgia Amson-Bradshaw",null,null,null,null,"T",null,"Grade 5","Grade 4 - 6","It seems impossible that the tiny parts of the ear allow us to hear birds chirping, music, and someone speaking. Each sound travels through the air and causes the parts of the ear to vibrate. The brain uses this information to tell us what we've heard. That's just the beginning of what this book can teach readers about sound. Detailed, colorful diagrams and simple explanations show readers how echoes work, how sound is recorded, what ultrasounds are, and more. Riddles and pop quiz questions ask readers to consider what they've read, aiding their understanding of these science curriculum topics.","English",26.6,19.95,"534--dc23","32 pp.",{"$f":"Table1[[#This Row],['# Books]]*Table1[[#This Row],[QTY]]","v":0},{"$f":"Table1[[#This Row],[QTY]]*Table1[[#This Row],[S&L Price]]","v":0}]
[null,null,51,"Science in a Flash",1,"Sound","eBook",null,"978-1-5382-1438-1",2018,"January 2018",null,null,"Author","Georgia Amson-Bradshaw",null,null,null,null,"T",null,"Grade 5","Grade 4 - 6","It seems impossible that the tiny parts of the ear allow us to hear birds chirping, music, and someone speaking. Each sound travels through the air and causes the parts of the ear to vibrate. The brain uses this information to tell us what we've heard. That's just the beginning of what this book can teach readers about sound. Detailed, colorful diagrams and simple explanations show readers how echoes work, how sound is recorded, what ultrasounds are, and more. Riddles and pop quiz questions ask readers to consider what they've read, aiding their understanding of these science curriculum topics.","English",26.6,19.95,"534--dc23","32 pp.",{"$f":"Table1[[#This Row],['# Books]]*Table1[[#This Row],[QTY]]","v":0},{"$f":"Table1[[#This Row],[QTY]]*Table1[[#This Row],[S&L Price]]","v":0}]
[null,null,51,"Science in a Flash",1,"States of Matter","Library Bound Book",null,"978-1-5382-1401-5",2018,"January 2018","Library","8.500 X 11.00","Author","Georgia Amson-Bradshaw",null,null,null,null,"T",null,"Grade 5","Grade 4 - 6","How matter behaves depends on its state. Whether something is a solid, liquid, or gas can change how it may respond to outside forces, including temperature. This topic might seem complicated to some, but in this book, the states of matter are explained through fun, relatable examples and diagrams to reinforce science curriculum content. Hands-on experiments featuring equipment readers can find around the house allow them to apply their knowledge to the topic right away. Straightforward explanations of key concepts and terms will serve them well as they answer quiz questions and riddles throughout the book and in the classroom.","English",26.6,19.95,"530.4--dc23","32 pp.",{"$f":"Table1[[#This Row],['# Books]]*Table1[[#This Row],[QTY]]","v":0},{"$f":"Table1[[#This Row],[QTY]]*Table1[[#This Row],[S&L Price]]","v":0}]
[null,null,51,"Science in a Flash",1,"States of Matter","eBook",null,"978-1-5382-1402-2",2018,"January 2018",null,null,"Author","Georgia Amson-Bradshaw",null,null,null,null,"T",null,"Grade 5","Grade 4 - 6","How matter behaves depends on its state. Whether something is a solid, liquid, or gas can change how it may respond to outside forces, including temperature. This topic might seem complicated to some, but in this book, the states of matter are explained through fun, relatable examples and diagrams to reinforce science curriculum content. Hands-on experiments featuring equipment readers can find around the house allow them to apply their knowledge to the topic right away. Straightforward explanations of key concepts and terms will serve them well as they answer quiz questions and riddles throughout the book and in the classroom.","English",26.6,19.95,"530.4--dc23","32 pp.",{"$f":"Table1[[#This Row],['# Books]]*Table1[[#This Row],[QTY]]","v":0},{"$f":"Table1[[#This Row],[QTY]]*Table1[[#This Row],[S&L Price]]","v":0}]
[null,96,52,"Crime Solvers",6,"Crime Solvers","Library Set",null,"978-1-5382-0609-6",2018,"August 2017","Library","7.250 X 9.250",null,null,null,null,null,null,null,null,"Grade 6","Grade 6 - 8","Television and movies are rife with crime-scene detectives. But this important work—forensic science—is real, and it actually involves science. Future sleuths and scientists alike will find this foray into criminal investigations fascinating. Each truly thrilling title focuses on a branch of forensic science, transporting the reader to a crime scene and inviting them along as detectives to try to close the case. Forensic anthropology, criminal profiling, pathology, and computer forensics are some of the career paths presented with a special emphasis on science concepts used every day to get the job done.","English",191.7,143.69999999999999,null,"48 pp.",{"$f":"Table1[[#This Row],['# Books]]*Table1[[#This Row],[QTY]]","v":0},{"$f":"Table1[[#This Row],[QTY]]*Table1[[#This Row],[S&L Price]]","v":0}]
[null,96,52,"Crime Solvers",1,"Chasing a Serial Killer: Be a Criminal Profiler","Library Bound Book",null,"978-1-5382-0630-0",2018,"August 2017","Library","7.250 X 9.250","Author","Alix Wood",null,null,null,null,"V",null,"Grade 6","Grade 6 - 8","Criminal profilers have the challenging task of building a profile, or description, of an unknown criminal offender. Using clues left behind at a crime scene and various investigative processes, they can discover what the culprit was feeling, planning, and perhaps even their next move. This is especially important when the perpetrator is a serial killer who will likely strike again. Readers will be engrossed in this account of a criminal profiler on a case. Vivid on-the-job photographs and images perfectly match the action of the story and support key attributes of this important career.","English",31.95,23.95,"363.25’8--dc23","48 pp.",{"$f":"Table1[[#This Row],['# Books]]*Table1[[#This Row],[QTY]]","v":0},{"$f":"Table1[[#This Row],[QTY]]*Table1[[#This Row],[S&L Price]]","v":0}]
[null,96,52,"Crime Solvers",1,"Chasing a Serial Killer: Be a Criminal Profiler","eBook",null,"978-1-5382-0624-9",2018,"August 2017",null,null,"Author","Alix Wood",null,null,null,null,"V",null,"Grade 6","Grade 6 - 8","Criminal profilers have the challenging task of building a profile, or description, of an unknown criminal offender. Using clues left behind at a crime scene and various investigative processes, they can discover what the culprit was feeling, planning, and perhaps even their next move. This is especially important when the perpetrator is a serial killer who will likely strike again. Readers will be engrossed in this account of a criminal profiler on a case. Vivid on-the-job photographs and images perfectly match the action of the story and support key attributes of this important career.","English",31.95,23.95,"363.25’8--dc23","48 pp.",{"$f":"Table1[[#This Row],['# Books]]*Table1[[#This Row],[QTY]]","v":0},{"$f":"Table1[[#This Row],[QTY]]*Table1[[#This Row],[S&L Price]]","v":0}]
[null,96,52,"Crime Solvers",1,"Hunting the Cyber Trail: Be a Computer Forensic Scientist","Library Bound Book",null,"978-1-5382-0631-7",2018,"August 2017","Library","7.250 X 9.250","Author","Alix Wood",null,null,null,null,"V",null,"Grade 6","Grade 6 - 8","Forensic science is often associated with dead bodies, but forensics, the use of science to solve crimes, is increasingly needed in the modern world to crack cybercrimes. Computer forensic investigators locate and analyze data that can lead to the arrest of cybercriminals, such as those who plant malicious code and steal personal information. Future forensic scientists will love learning how professionals chase down criminals in the cyber world through a thrilling case in which essential aspects of this career are applied in true-to-life situations. Realistic photographs and images make this volume both gripping and educational.","English",31.95,23.95,"363.25’968--dc23","48 pp.",{"$f":"Table1[[#This Row],['# Books]]*Table1[[#This Row],[QTY]]","v":0},{"$f":"Table1[[#This Row],[QTY]]*Table1[[#This Row],[S&L Price]]","v":0}]
[null,96,52,"Crime Solvers",1,"Hunting the Cyber Trail: Be a Computer Forensic Scientist","eBook",null,"978-1-5382-0625-6",2018,"August 2017",null,null,"Author","Alix Wood",null,null,null,null,"V",null,"Grade 6","Grade 6 - 8","Forensic science is often associated with dead bodies, but forensics, the use of science to solve crimes, is increasingly needed in the modern world to crack cybercrimes. Computer forensic investigators locate and analyze data that can lead to the arrest of cybercriminals, such as those who plant malicious code and steal personal information. Future forensic scientists will love learning how professionals chase down criminals in the cyber world through a thrilling case in which essential aspects of this career are applied in true-to-life situations. Realistic photographs and images make this volume both gripping and educational.","English",31.95,23.95,"363.25’968--dc23","48 pp.",{"$f":"Table1[[#This Row],['# Books]]*Table1[[#This Row],[QTY]]","v":0},{"$f":"Table1[[#This Row],[QTY]]*Table1[[#This Row],[S&L Price]]","v":0}]
[null,96,52,"Crime Solvers",1,"Killer Evidence: Be a Police Detective","Library Bound Book",null,"978-1-5382-0632-4",2018,"August 2017","Library","7.250 X 9.250","Author","Alix Wood",null,null,null,null,"V",null,"Grade 6","Grade 6 - 8","Police detectives have definitely been glamorized on TV, but they truly are crime solvers. What is often not shown in fiction stories is the meticulous work that detectives do in their everyday jobs. To gather evidence in criminal cases, they interview and interrogate, examine documents, observe suspects, and finally – when they've cracked the case – arrest the culprit. Readers are invited along with the crime-solving team in this valuable volume and are encouraged to think like a detective to nab a criminal. Key vocabulary and essential concepts will make readers appreciate and admire this cool career.","English",31.95,23.95,"363.25028’4--dc23","48 pp.",{"$f":"Table1[[#This Row],['# Books]]*Table1[[#This Row],[QTY]]","v":0},{"$f":"Table1[[#This Row],[QTY]]*Table1[[#This Row],[S&L Price]]","v":0}]
[null,96,52,"Crime Solvers",1,"Killer Evidence: Be a Police Detective","eBook",null,"978-1-5382-0626-3",2018,"August 2017",null,null,"Author","Alix Wood",null,null,null,null,"V",null,"Grade 6","Grade 6 - 8","Police detectives have definitely been glamorized on TV, but they truly are crime solvers. What is often not shown in fiction stories is the meticulous work that detectives do in their everyday jobs. To gather evidence in criminal cases, they interview and interrogate, examine documents, observe suspects, and finally – when they've cracked the case – arrest the culprit. Readers are invited along with the crime-solving team in this valuable volume and are encouraged to think like a detective to nab a criminal. Key vocabulary and essential concepts will make readers appreciate and admire this cool career.","English",31.95,23.95,"363.25028’4--dc23","48 pp.",{"$f":"Table1[[#This Row],['# Books]]*Table1[[#This Row],[QTY]]","v":0},{"$f":"Table1[[#This Row],[QTY]]*Table1[[#This Row],[S&L Price]]","v":0}]
[null,96,52,"Crime Solvers",1,"Mystery in the Morgue: Be a Pathologist","Library Bound Book",null,"978-1-5382-0633-1",2018,"August 2017","Library","7.250 X 9.250","Author","Alix Wood",null,null,null,null,"V",null,"Grade 6","Grade 6 - 8","Sometimes detectives get the glory of being the crime solvers, but the true heroes are the scientists who give them the information they need to do their job. Forensic pathologists are experts in determining a person's cause of death. This unique book is part narrative and part science text, explaining how pathologists use their knowledge of the human body to help solve mysteries. Readers will learn about the different aspects of this fascinating job while trailing a pathologist working on an exciting case. The clever and inviting design includes crime-scene photographs and Solve It! quiz boxes.","English",31.95,23.95,"614.1--dc23","48 pp.",{"$f":"Table1[[#This Row],['# Books]]*Table1[[#This Row],[QTY]]","v":0},{"$f":"Table1[[#This Row],[QTY]]*Table1[[#This Row],[S&L Price]]","v":0}]
[null,96,52,"Crime Solvers",1,"Mystery in the Morgue: Be a Pathologist","eBook",null,"978-1-5382-0627-0",2018,"August 2017",null,null,"Author","Alix Wood",null,null,null,null,"V",null,"Grade 6","Grade 6 - 8","Sometimes detectives get the glory of being the crime solvers, but the true heroes are the scientists who give them the information they need to do their job. Forensic pathologists are experts in determining a person's cause of death. This unique book is part narrative and part science text, explaining how pathologists use their knowledge of the human body to help solve mysteries. Readers will learn about the different aspects of this fascinating job while trailing a pathologist working on an exciting case. The clever and inviting design includes crime-scene photographs and Solve It! quiz boxes.","English",31.95,23.95,"614.1--dc23","48 pp.",{"$f":"Table1[[#This Row],['# Books]]*Table1[[#This Row],[QTY]]","v":0},{"$f":"Table1[[#This Row],[QTY]]*Table1[[#This Row],[S&L Price]]","v":0}]
[null,96,52,"Crime Solvers",1,"The Body in the Woods: Be a Crime Scene Investigator","Library Bound Book",null,"978-1-5382-0629-4",2018,"August 2017","Library","7.250 X 9.250","Author","Alix Wood",null,null,null,null,"V",null,"Grade 6","Grade 6 - 8","When crime scene investigators (CSIs) are called to the location of a murder, they document what they see in detail and carefully collect the evidence. Evidence isn't always obvious to the untrained eye. Readers of this remarkable book, which includes dynamic photographs, will become trained to know what to look for at a crime scene as they tag along with scientists on an intriguing case. They'll learn about various kinds of evidence as well as how it's analyzed to provide essential clues about what happened at the scene and how to find the killer.","English",31.95,23.95,"363.25--dc23","48 pp.",{"$f":"Table1[[#This Row],['# Books]]*Table1[[#This Row],[QTY]]","v":0},{"$f":"Table1[[#This Row],[QTY]]*Table1[[#This Row],[S&L Price]]","v":0}]
[null,96,52,"Crime Solvers",1,"The Body in the Woods: Be a Crime Scene Investigator","eBook",null,"978-1-5382-0623-2",2018,"August 2017",null,null,"Author","Alix Wood",null,null,null,null,"V",null,"Grade 6","Grade 6 - 8","When crime scene investigators (CSIs) are called to the location of a murder, they document what they see in detail and carefully collect the evidence. Evidence isn't always obvious to the untrained eye. Readers of this remarkable book, which includes dynamic photographs, will become trained to know what to look for at a crime scene as they tag along with scientists on an intriguing case. They'll learn about various kinds of evidence as well as how it's analyzed to provide essential clues about what happened at the scene and how to find the killer.","English",31.95,23.95,"363.25--dc23","48 pp.",{"$f":"Table1[[#This Row],['# Books]]*Table1[[#This Row],[QTY]]","v":0},{"$f":"Table1[[#This Row],[QTY]]*Table1[[#This Row],[S&L Price]]","v":0}]
[null,96,52,"Crime Solvers",1,"The Unmarked Grave: Be a Forensic Anthropologist","Library Bound Book",null,"978-1-5382-0634-8",2018,"August 2017","Library","7.250 X 9.250","Author","Alix Wood",null,null,null,null,"V",null,"Grade 6","Grade 6 - 8","A skeleton is found at a construction site. Authorities call in the person who can unearth the truth about who this was and what happened to them. This remarkable individual, a scientist, is called a forensic anthropologist. Forensic anthropology is the application of scientific methods to solve crimes involving human bodies. The impressive career is rooted in knowledge of anatomy and physiology. Readers will be riveted as they follow professional crime solvers in this book, collecting evidence to help them crack the case wide open. Important concepts are reviewed through thought-provoking quizzes and interesting activities.","English",31.95,23.95,"614.17--dc23","48 pp.",{"$f":"Table1[[#This Row],['# Books]]*Table1[[#This Row],[QTY]]","v":0},{"$f":"Table1[[#This Row],[QTY]]*Table1[[#This Row],[S&L Price]]","v":0}]
[null,96,52,"Crime Solvers",1,"The Unmarked Grave: Be a Forensic Anthropologist","eBook",null,"978-1-5382-0628-7",2018,"August 2017",null,null,"Author","Alix Wood",null,null,null,null,"V",null,"Grade 6","Grade 6 - 8","A skeleton is found at a construction site. Authorities call in the person who can unearth the truth about who this was and what happened to them. This remarkable individual, a scientist, is called a forensic anthropologist. Forensic anthropology is the application of scientific methods to solve crimes involving human bodies. The impressive career is rooted in knowledge of anatomy and physiology. Readers will be riveted as they follow professional crime solvers in this book, collecting evidence to help them crack the case wide open. Important concepts are reviewed through thought-provoking quizzes and interesting activities.","English",31.95,23.95,"614.17--dc23","48 pp.",{"$f":"Table1[[#This Row],['# Books]]*Table1[[#This Row],[QTY]]","v":0},{"$f":"Table1[[#This Row],[QTY]]*Table1[[#This Row],[S&L Price]]","v":0}]
[null,97,53,"Backyard Bird Watchers (Set of 12 Titles)",12,"Backyard Bird Watchers (Set of 12 Titles)","Library Set",null,"978-1-5382-0224-1",2018,"August 2017","Library","8.500 X 8.500",null,null,null,null,null,null,null,null,"Grade 2 - 3","Grade 2 - 5","There’s no need to go to the zoo to learn about animals—just look in your backyard! Readers of this high-flying series will find out about beautiful birds and their extraordinary lives in the confines of backyards, city parks, and other common places. These aren’t just nonfiction books, though. Rather, they take the form of a young bird watcher’s journal, charmingly cluing readers in on the most important facts about each bird while sharing photographs and even jokes and sketches! Readers will want to take their newfound knowledge outside with a pair of binoculars to spy these winged wonders for themselves.\n\n\n\n","English",303,227.4,null,"32 pp.",{"$f":"Table1[[#This Row],['# Books]]*Table1[[#This Row],[QTY]]","v":0},{"$f":"Table1[[#This Row],[QTY]]*Table1[[#This Row],[S&L Price]]","v":0}]
[null,97,53,"Backyard Bird Watchers (Set of 6 NEW Titles)",6,"Backyard Bird Watchers (Set of 6 NEW Titles)","Library Set",null,"978-1-5382-0221-0",2018,"August 2017","Library","8.500 X 8.500",null,null,null,null,null,null,null,null,"Grade 2 - 3","Grade 2 - 5","Bird watchers—or “birders”—are passionate about their hobby. They develop an ear for a bird’s call and an eye for its characteristic markings. Young birders will catch bird-watching fever after reading these entertaining books, a continuation of our popular series. Each book is uniquely formatted as a young person’s journal. The narrator engagingly explains important features of backyard birds, such as orioles, woodpeckers, and hummingbirds. Science concepts such as life cycles, development, and predator-prey relationships are included as well as photographs and fun facts chosen to really “wow” the reader.","English",151.5,113.7,null,"32 pp.",{"$f":"Table1[[#This Row],['# Books]]*Table1[[#This Row],[QTY]]","v":0},{"$f":"Table1[[#This Row],[QTY]]*Table1[[#This Row],[S&L Price]]","v":0}]
[null,97,53,"Backyard Bird Watchers",1,"A Bird Watcher's Guide to Hummingbirds","Library Bound Book",null,"978-1-5382-0317-0",2018,"August 2017","Library","8.500 X 8.500","Author","Aife Arnim",null,null,null,null,"M",null,"Grade 2 - 3","Grade 2 - 5","Hummingbirds may be the most jaw-dropping birds. Their wings flap 80 times per second and they can also hover. Astonishing facts like these abound in this guide to the diminutive bird, in the appealing guise of a young bird watcher's journal. The narrator takes readers under his wing, showing them how they, too, can be bird watchers while addressing important science concepts accompanied by beautiful photographs of hummingbirds in flight.","English",25.25,18.95,"598.7/64--dc23","32 pp.",{"$f":"Table1[[#This Row],['# Books]]*Table1[[#This Row],[QTY]]","v":0},{"$f":"Table1[[#This Row],[QTY]]*Table1[[#This Row],[S&L Price]]","v":0}]
[null,97,53,"Backyard Bird Watchers",1,"A Bird Watcher's Guide to Hummingbirds","eBook",null,"978-1-5382-0318-7",2018,"August 2017",null,null,"Author","Aife Arnim",null,null,null,null,"M",null,"Grade 2 - 3","Grade 2 - 5","Hummingbirds may be the most jaw-dropping birds. Their wings flap 80 times per second and they can also hover. Astonishing facts like these abound in this guide to the diminutive bird, in the appealing guise of a young bird watcher's journal. The narrator takes readers under his wing, showing them how they, too, can be bird watchers while addressing important science concepts accompanied by beautiful photographs of hummingbirds in flight.","English",25.25,18.95,"598.7/64--dc23","32 pp.",{"$f":"Table1[[#This Row],['# Books]]*Table1[[#This Row],[QTY]]","v":0},{"$f":"Table1[[#This Row],[QTY]]*Table1[[#This Row],[S&L Price]]","v":0}]
[null,97,53,"Backyard Bird Watchers",1,"A Bird Watcher's Guide to Mockingbirds","Library Bound Book",null,"978-1-5382-0321-7",2018,"August 2017","Library","8.500 X 8.500","Author","Aife Arnim",null,null,null,null,"M",null,"Grade 2 - 3","Grade 2 - 5","If there’s one bird that might win the “best actor” award in the feathered world, it’s the mockingbird. This winged wonder can learn more than 180 songs in just a few months, imitating the calls of other birds but also dog-barking and even car alarms! This is truly one bird to watch and one that readers will love learning about in the pages of this fascinating volume. The journal-like format unites a cheerful narrative about the bird-watching hobby with life-science facts about the mockingbird.","English",25.25,18.95,"598.8’44--dc23","32 pp.",{"$f":"Table1[[#This Row],['# Books]]*Table1[[#This Row],[QTY]]","v":0},{"$f":"Table1[[#This Row],[QTY]]*Table1[[#This Row],[S&L Price]]","v":0}]
[null,97,53,"Backyard Bird Watchers",1,"A Bird Watcher's Guide to Mockingbirds","eBook",null,"978-1-5382-0322-4",2018,"August 2017",null,null,"Author","Aife Arnim",null,null,null,null,"M",null,"Grade 2 - 3","Grade 2 - 5","If there’s one bird that might win the “best actor” award in the feathered world, it’s the mockingbird. This winged wonder can learn more than 180 songs in just a few months, imitating the calls of other birds but also dog-barking and even car alarms! This is truly one bird to watch and one that readers will love learning about in the pages of this fascinating volume. The journal-like format unites a cheerful narrative about the bird-watching hobby with life-science facts about the mockingbird.","English",25.25,18.95,"598.8’44--dc23","32 pp.",{"$f":"Table1[[#This Row],['# Books]]*Table1[[#This Row],[QTY]]","v":0},{"$f":"Table1[[#This Row],[QTY]]*Table1[[#This Row],[S&L Price]]","v":0}]
[null,97,53,"Backyard Bird Watchers",1,"A Bird Watcher's Guide to Mourning Doves","Library Bound Book",null,"978-1-5382-0325-5",2018,"August 2017","Library","8.500 X 8.500","Author","Aife Arnim",null,null,null,null,"M",null,"Grade 2 - 3","Grade 2 - 5","If you hear a mourning dove’s gentle cooing, don’t look up—look down. These graceful creatures like to forage for seeds on the ground. They’ve been known to gobble up as many as 17,000 seeds in a sitting! Young bird watchers will be fascinated by the hidden life of these birds including migration habits, habitats, mating rituals, and some awesome adaptations for survival. Their guide to all-things-birds is a young bird watcher, encouraging readers to get outside and try this hobby themselves.","English",25.25,18.95,"598.6’5--dc23","32 pp.",{"$f":"Table1[[#This Row],['# Books]]*Table1[[#This Row],[QTY]]","v":0},{"$f":"Table1[[#This Row],[QTY]]*Table1[[#This Row],[S&L Price]]","v":0}]
[null,97,53,"Backyard Bird Watchers",1,"A Bird Watcher's Guide to Mourning Doves","eBook",null,"978-1-5382-0326-2",2018,"August 2017",null,null,"Author","Aife Arnim",null,null,null,null,"M",null,"Grade 2 - 3","Grade 2 - 5","If you hear a mourning dove’s gentle cooing, don’t look up—look down. These graceful creatures like to forage for seeds on the ground. They’ve been known to gobble up as many as 17,000 seeds in a sitting! Young bird watchers will be fascinated by the hidden life of these birds including migration habits, habitats, mating rituals, and some awesome adaptations for survival. Their guide to all-things-birds is a young bird watcher, encouraging readers to get outside and try this hobby themselves.","English",25.25,18.95,"598.6’5--dc23","32 pp.",{"$f":"Table1[[#This Row],['# Books]]*Table1[[#This Row],[QTY]]","v":0},{"$f":"Table1[[#This Row],[QTY]]*Table1[[#This Row],[S&L Price]]","v":0}]
[null,97,53,"Backyard Bird Watchers",1,"A Bird Watcher's Guide to Orioles","Library Bound Book",null,"978-1-5382-0329-3",2018,"August 2017","Library","8.500 X 8.500","Author","Grace Elora",null,null,null,null,"L",null,"Grade 2 - 3","Grade 2 - 5","Orioles are beloved backyard birds; they’re always looking for something sweet to eat. In this attractive volume, future birders will learn about the many kinds of orioles and even take a trip to a Baltimore Orioles baseball game. Like bird-watching itself, this book mixes fun—an entertaining story-like narrative—with essential science concepts, such as habitats and life cycles. Sidebars include funny comments, interesting statistics, and amazing facts about these feathered creatures. Readers will be inspired to keep their own bird-watching journal.","English",25.25,18.95,"598.8’81--dc23","32 pp.",{"$f":"Table1[[#This Row],['# Books]]*Table1[[#This Row],[QTY]]","v":0},{"$f":"Table1[[#This Row],[QTY]]*Table1[[#This Row],[S&L Price]]","v":0}]
[null,97,53,"Backyard Bird Watchers",1,"A Bird Watcher's Guide to Orioles","eBook",null,"978-1-5382-0330-9",2018,"August 2017",null,null,"Author","Grace Elora",null,null,null,null,"L",null,"Grade 2 - 3","Grade 2 - 5","Orioles are beloved backyard birds; they’re always looking for something sweet to eat. In this attractive volume, future birders will learn about the many kinds of orioles and even take a trip to a Baltimore Orioles baseball game. Like bird-watching itself, this book mixes fun—an entertaining story-like narrative—with essential science concepts, such as habitats and life cycles. Sidebars include funny comments, interesting statistics, and amazing facts about these feathered creatures. Readers will be inspired to keep their own bird-watching journal.","English",25.25,18.95,"598.8’81--dc23","32 pp.",{"$f":"Table1[[#This Row],['# Books]]*Table1[[#This Row],[QTY]]","v":0},{"$f":"Table1[[#This Row],[QTY]]*Table1[[#This Row],[S&L Price]]","v":0}]
[null,97,53,"Backyard Bird Watchers",1,"A Bird Watcher's Guide to Woodpeckers","Library Bound Book",null,"978-1-5382-0333-0",2018,"August 2017","Library","8.500 X 8.500","Author","Grace Elora",null,null,null,null,"L",null,"Grade 2 - 3","Grade 2 - 5","Woodpeckers are usually easier to hear than they are to spot. Their pointed beak hammers into tree bark at a speed of 25 miles (40 km) per hour. They’re looking for some tasty bugs to eat in the inner layers of a tree. There’s so much more to a woodpecker’s interesting life, and readers will find all they need to know in this instructive and entertaining book, a bird-watcher’s journal of woodpecker info. Cool facts and amazing photographs are the stars of this must-read.","English",25.25,18.95,"598.7’2--dc23","32 pp.",{"$f":"Table1[[#This Row],['# Books]]*Table1[[#This Row],[QTY]]","v":0},{"$f":"Table1[[#This Row],[QTY]]*Table1[[#This Row],[S&L Price]]","v":0}]
[null,97,53,"Backyard Bird Watchers",1,"A Bird Watcher's Guide to Woodpeckers","eBook",null,"978-1-5382-0348-4",2018,"August 2017",null,null,"Author","Grace Elora",null,null,null,null,"L",null,"Grade 2 - 3","Grade 2 - 5","Woodpeckers are usually easier to hear than they are to spot. Their pointed beak hammers into tree bark at a speed of 25 miles (40 km) per hour. They’re looking for some tasty bugs to eat in the inner layers of a tree. There’s so much more to a woodpecker’s interesting life, and readers will find all they need to know in this instructive and entertaining book, a bird-watcher’s journal of woodpecker info. Cool facts and amazing photographs are the stars of this must-read.","English",25.25,18.95,"598.7’2--dc23","32 pp.",{"$f":"Table1[[#This Row],['# Books]]*Table1[[#This Row],[QTY]]","v":0},{"$f":"Table1[[#This Row],[QTY]]*Table1[[#This Row],[S&L Price]]","v":0}]
[null,97,53,"Backyard Bird Watchers",1,"A Bird Watcher's Guide to Wrens","Library Bound Book",null,"978-1-5382-0351-4",2018,"August 2017","Library","8.500 X 8.500","Author","Grace Elora",null,null,null,null,"L",null,"Grade 2 - 3","Grade 2 - 5","The fat bundle of feathers called the house wren is a cute bird. It often cheerfully trills its sweet songs. However, this little fowl’s mood can turn really foul when another bird has a nesting site it wants! It may peck at larger birds to get them to move—and even push eggs out of a nest. Readers of this absorbing book will find that, with all kinds of wrens, looks can be deceiving. They’ll love the diverting narrative and fun fact boxes and especially the up-close look at wrens in their native habitats.","English",25.25,18.95,"598.072’34--dc23","32 pp.",{"$f":"Table1[[#This Row],['# Books]]*Table1[[#This Row],[QTY]]","v":0},{"$f":"Table1[[#This Row],[QTY]]*Table1[[#This Row],[S&L Price]]","v":0}]
[null,97,53,"Backyard Bird Watchers",1,"A Bird Watcher's Guide to Wrens","eBook",null,"978-1-5382-0352-1",2018,"August 2017",null,null,"Author","Grace Elora",null,null,null,null,"L",null,"Grade 2 - 3","Grade 2 - 5","The fat bundle of feathers called the house wren is a cute bird. It often cheerfully trills its sweet songs. However, this little fowl’s mood can turn really foul when another bird has a nesting site it wants! It may peck at larger birds to get them to move—and even push eggs out of a nest. Readers of this absorbing book will find that, with all kinds of wrens, looks can be deceiving. They’ll love the diverting narrative and fun fact boxes and especially the up-close look at wrens in their native habitats.","English",25.25,18.95,"598.072’34--dc23","32 pp.",{"$f":"Table1[[#This Row],['# Books]]*Table1[[#This Row],[QTY]]","v":0},{"$f":"Table1[[#This Row],[QTY]]*Table1[[#This Row],[S&L Price]]","v":0}]
[null,97,53,"Backyard Bird Watchers",1,"A Bird Watcher's Guide to Blue Jays","Library Bound Book",null,"978-1-4824-3838-3",2016,"January 2016","Library","8.500 X 8.500","Author","Katherine Ponka",3.6,0.5,null,null,"L",null,"Grade 2 - 3","Grade 2 - 5","Birds can be beautiful creatures—with some pretty quirky habits. Blue jays, for example, rub ants on themselves when they molt to soothe their skin. They can also mimic other animals’ voices, such as a hawk’s cry. This volume, presented in journal format, offers a wealth of information about the backyard life of a blue jay. Science curriculum topics such as habitats, adaptations, predators, and more are included in this engaging account. Readers will want to begin bird-watching themselves after finding out more about this brightly colored bird.","English",25.25,18.95,"598.8'64—dc23","32 pp.",{"$f":"Table1[[#This Row],['# Books]]*Table1[[#This Row],[QTY]]","v":0},{"$f":"Table1[[#This Row],[QTY]]*Table1[[#This Row],[S&L Price]]","v":0}]
[null,97,53,"Backyard Bird Watchers",1,"A Bird Watcher's Guide to Blue Jays","eBook",null,"978-1-4824-3839-0",2016,"January 2016",null,null,"Author","Katherine Ponka",3.6,0.5,null,null,"L",null,"Grade 2 - 3","Grade 2 - 5","Birds can be beautiful creatures—with some pretty quirky habits. Blue jays, for example, rub ants on themselves when they molt to soothe their skin. They can also mimic other animals’ voices, such as a hawk’s cry. This volume, presented in journal format, offers a wealth of information about the backyard life of a blue jay. Science curriculum topics such as habitats, adaptations, predators, and more are included in this engaging account. Readers will want to begin bird-watching themselves after finding out more about this brightly colored bird.","English",25.25,18.95,"598.8'64—dc23","32 pp.",{"$f":"Table1[[#This Row],['# Books]]*Table1[[#This Row],[QTY]]","v":0},{"$f":"Table1[[#This Row],[QTY]]*Table1[[#This Row],[S&L Price]]","v":0}]
[null,97,53,"Backyard Bird Watchers",1,"A Bird Watcher's Guide to Cardinals","Library Bound Book",null,"978-1-4824-3842-0",2016,"January 2016","Library","8.500 X 8.500","Author","Therese M. Shea",3.8,0.5,null,null,"L",null,"Grade 2 - 3","Grade 2 - 5","Cardinals are some of the most recognizable birds. Males are a vibrant red, and both males and females sport feathered crests on their head. There’s a lot to discover about these small songbirds. Their urge to nourish their young is so strong that they’ve been observed feeding other birds and even goldfish! This volume, written in the style of a young bird watcher’s journal, is an entertaining way to learn about the behaviors and life cycle of the cardinal. Essential science vocabulary, interesting facts, and beautiful photographs will enchant readers and inspire them to bird-watch themselves.","English",25.25,18.95,"598.8'83—dc23","32 pp.",{"$f":"Table1[[#This Row],['# Books]]*Table1[[#This Row],[QTY]]","v":0},{"$f":"Table1[[#This Row],[QTY]]*Table1[[#This Row],[S&L Price]]","v":0}]
[null,97,53,"Backyard Bird Watchers",1,"A Bird Watcher's Guide to Cardinals","eBook",null,"978-1-4824-3843-7",2016,"January 2016",null,null,"Author","Therese M. Shea",3.8,0.5,null,null,"L",null,"Grade 2 - 3","Grade 2 - 5","Cardinals are some of the most recognizable birds. Males are a vibrant red, and both males and females sport feathered crests on their head. There’s a lot to discover about these small songbirds. Their urge to nourish their young is so strong that they’ve been observed feeding other birds and even goldfish! This volume, written in the style of a young bird watcher’s journal, is an entertaining way to learn about the behaviors and life cycle of the cardinal. Essential science vocabulary, interesting facts, and beautiful photographs will enchant readers and inspire them to bird-watch themselves.","English",25.25,18.95,"598.8'83—dc23","32 pp.",{"$f":"Table1[[#This Row],['# Books]]*Table1[[#This Row],[QTY]]","v":0},{"$f":"Table1[[#This Row],[QTY]]*Table1[[#This Row],[S&L Price]]","v":0}]
[null,97,53,"Backyard Bird Watchers",1,"A Bird Watcher's Guide to Chickadees","Library Bound Book",null,"978-1-4824-3901-4",2016,"January 2016","Library","8.500 X 8.500","Author","Mark J. Harasymiw ",4,0.5,null,null,"L",null,"Grade 2 - 3","Grade 2 - 5","“Chick-a-dee-dee-dee!” That’s the call of the chickadee! This amazing little creature is a favorite of many bird watchers. It can remember thousands of places where it hides its food, and its heart beats about 500 times a minute! These facts and more are presented in the form of a young bird watcher’s journal as he discovers the delights of the natural world in his own backyard. Readers will be entertained and educated by this unique presentation of nonfiction science themes such as life cycles and habitats. Fact boxes and diagrams abound in this valuable volume.","English",25.25,18.95,"598.8'24—dc23","32 pp.",{"$f":"Table1[[#This Row],['# Books]]*Table1[[#This Row],[QTY]]","v":0},{"$f":"Table1[[#This Row],[QTY]]*Table1[[#This Row],[S&L Price]]","v":0}]
[null,97,53,"Backyard Bird Watchers",1,"A Bird Watcher's Guide to Chickadees","eBook",null,"978-1-4824-3902-1",2016,"January 2016",null,null,"Author","Mark J. Harasymiw ",4,0.5,null,null,"L",null,"Grade 2 - 3","Grade 2 - 5","“Chick-a-dee-dee-dee!” That’s the call of the chickadee! This amazing little creature is a favorite of many bird watchers. It can remember thousands of places where it hides its food, and its heart beats about 500 times a minute! These facts and more are presented in the form of a young bird watcher’s journal as he discovers the delights of the natural world in his own backyard. Readers will be entertained and educated by this unique presentation of nonfiction science themes such as life cycles and habitats. Fact boxes and diagrams abound in this valuable volume.","English",25.25,18.95,"598.8'24—dc23","32 pp.",{"$f":"Table1[[#This Row],['# Books]]*Table1[[#This Row],[QTY]]","v":0},{"$f":"Table1[[#This Row],[QTY]]*Table1[[#This Row],[S&L Price]]","v":0}]
[null,97,53,"Backyard Bird Watchers",1,"A Bird Watcher's Guide to Goldfinches","Library Bound Book",null,"978-1-4824-3905-2",2016,"January 2016","Library","8.500 X 8.500","Author","Shalini Saxena",4.2,0.5,null,null,"M",null,"Grade 2 - 3","Grade 2 - 5","American goldfinches are much beloved across North America, as evidenced by their status as state bird of Iowa, New Jersey, and Washington. These acrobatic little creatures seem to bounce through the air, making them a popular subject for backyard bird watchers. The narrator of this fun journal-styled volume offers a wealth of information about these little yellow-feathered birds as well as how readers can observe their behaviors for themselves. Cool facts, diagrams, and photographs show how interesting the hobby of bird-watching can be.","English",25.25,18.95,"598.8’85—d23","32 pp.",{"$f":"Table1[[#This Row],['# Books]]*Table1[[#This Row],[QTY]]","v":0},{"$f":"Table1[[#This Row],[QTY]]*Table1[[#This Row],[S&L Price]]","v":0}]
[null,97,53,"Backyard Bird Watchers",1,"A Bird Watcher's Guide to Goldfinches","eBook",null,"978-1-4824-3906-9",2016,"January 2016",null,null,"Author","Shalini Saxena",4.2,0.5,null,null,"M",null,"Grade 2 - 3","Grade 2 - 5","American goldfinches are much beloved across North America, as evidenced by their status as state bird of Iowa, New Jersey, and Washington. These acrobatic little creatures seem to bounce through the air, making them a popular subject for backyard bird watchers. The narrator of this fun journal-styled volume offers a wealth of information about these little yellow-feathered birds as well as how readers can observe their behaviors for themselves. Cool facts, diagrams, and photographs show how interesting the hobby of bird-watching can be.","English",25.25,18.95,"598.8’85—d23","32 pp.",{"$f":"Table1[[#This Row],['# Books]]*Table1[[#This Row],[QTY]]","v":0},{"$f":"Table1[[#This Row],[QTY]]*Table1[[#This Row],[S&L Price]]","v":0}]
[null,97,53,"Backyard Bird Watchers",1,"A Bird Watcher's Guide to Robins","Library Bound Book",null,"978-1-4824-3909-0",2016,"January 2016","Library","8.500 X 8.500","Author","Rebecca Carey Rohan",3.9,0.5,null,null,"M",null,"Grade 2 - 3","Grade 2 - 5","Winter-weary people everywhere rejoice when they finally spy robins, an early sign of spring. These cheery birds can be seen hopping on lawns, tugging worms out of the ground. This delightful account of a young bird watcher’s discoveries about robins will both entertain and educate future ornithologists about the robin’s habitat, nest-making behaviors, migratory habits, and other adaptations. Beautifully designed, this volume enthusiastically promotes the hobby of bird-watching.","English",25.25,18.95,"598.8’42—d23","32 pp.",{"$f":"Table1[[#This Row],['# Books]]*Table1[[#This Row],[QTY]]","v":0},{"$f":"Table1[[#This Row],[QTY]]*Table1[[#This Row],[S&L Price]]","v":0}]
[null,97,53,"Backyard Bird Watchers",1,"A Bird Watcher's Guide to Robins","eBook",null,"978-1-4824-3910-6",2016,"January 2016",null,null,"Author","Rebecca Carey Rohan",3.9,0.5,null,null,"M",null,"Grade 2 - 3","Grade 2 - 5","Winter-weary people everywhere rejoice when they finally spy robins, an early sign of spring. These cheery birds can be seen hopping on lawns, tugging worms out of the ground. This delightful account of a young bird watcher’s discoveries about robins will both entertain and educate future ornithologists about the robin’s habitat, nest-making behaviors, migratory habits, and other adaptations. Beautifully designed, this volume enthusiastically promotes the hobby of bird-watching.","English",25.25,18.95,"598.8’42—d23","32 pp.",{"$f":"Table1[[#This Row],['# Books]]*Table1[[#This Row],[QTY]]","v":0},{"$f":"Table1[[#This Row],[QTY]]*Table1[[#This Row],[S&L Price]]","v":0}]
[null,97,53,"Backyard Bird Watchers",1,"A Bird Watcher's Guide to Sparrows","Library Bound Book",null,"978-1-4824-3913-7",2016,"January 2016","Library","8.500 X 8.500","Author","Grace Vail",4.0999999999999996,0.5,null,null,"M",null,"Grade 2 - 3","Grade 2 - 5","There are many kinds of songbirds that are called sparrows across North America. The song sparrow in particular is a melodious, yet secretive creature. Young bird watchers will love learning how to lure these sparrows to feeders, so they can observe them more closely. They’ll also learn fascinating information about this bird’s life cycle, habitats, behaviors, adaptations, and more. This volume, designed in journal format, is full of fun facts, gorgeous photographs, attention-grabbing graphics, and more that will inspire readers to appreciate the natural world around them.","English",25.25,18.95,"598.8/83--dc23","32 pp.",{"$f":"Table1[[#This Row],['# Books]]*Table1[[#This Row],[QTY]]","v":0},{"$f":"Table1[[#This Row],[QTY]]*Table1[[#This Row],[S&L Price]]","v":0}]
[null,97,53,"Backyard Bird Watchers",1,"A Bird Watcher's Guide to Sparrows","eBook",null,"978-1-4824-3914-4",2016,"January 2016",null,null,"Author","Grace Vail",4.0999999999999996,0.5,null,null,"M",null,"Grade 2 - 3","Grade 2 - 5","There are many kinds of songbirds that are called sparrows across North America. The song sparrow in particular is a melodious, yet secretive creature. Young bird watchers will love learning how to lure these sparrows to feeders, so they can observe them more closely. They’ll also learn fascinating information about this bird’s life cycle, habitats, behaviors, adaptations, and more. This volume, designed in journal format, is full of fun facts, gorgeous photographs, attention-grabbing graphics, and more that will inspire readers to appreciate the natural world around them.","English",25.25,18.95,"598.8/83--dc23","32 pp.",{"$f":"Table1[[#This Row],['# Books]]*Table1[[#This Row],[QTY]]","v":0},{"$f":"Table1[[#This Row],[QTY]]*Table1[[#This Row],[S&L Price]]","v":0}]
[null,110,54,"Cutest Animals...That Could Kill You! (Set of 12 Titles)",12,"Cutest Animals...That Could Kill You! (Set of 12 Titles)","Library Set",null,"978-1-5382-1297-4",2018,"January 2018","Library","8.500 X 8.500",null,null,null,null,null,null,null,null,"Grade 2 - 3","Grade 2 - 5","No one can resist a cute and cuddly animal, but not every sweet-looking creature should be cuddled. In fact, it's wise to keep a good distance away from wildlife, and this gripping collection enlightens why that's the case. Some adorable animals, such as moose, pumas, and anteaters, are downright dangerous. Most wildlife are adapted to survive in their habitat, and some of those adaptations make them deadly. Each fascinating book, full of arresting images, focuses on one unique animal and what makes it so dangerous, but also so important, in their ecosystem.","English",271.2,203.4,null,"24 pp.",{"$f":"Table1[[#This Row],['# Books]]*Table1[[#This Row],[QTY]]","v":0},{"$f":"Table1[[#This Row],[QTY]]*Table1[[#This Row],[S&L Price]]","v":0}]
[null,110,54,"Cutest Animals...That Could Kill You! (Set of 6 NEW Titles)",6,"Cutest Animals...That Could Kill You! (Set of 6 NEW Titles)","Library Set",null,"978-1-5382-1280-6",2018,"January 2018","Library","8.500 X 8.500",null,null,null,null,null,null,null,null,"Grade 2 - 3","Grade 2 - 5","They're baaack. This continuation of our popular series features more of the most adorable animals on Earth, such as monkeys and pandas, but these same animals should strike fear into the hearts of humans and wildlife everywhere. Each book reads like a thrilling tale of survival as well as providing fundamental details about animals' life cycles and adaptations. Stunning, full-color photographs support central themes, while the accessible text will make young wildlife biologists imagine themselves gathering facts in the field.","English",135.6,101.7,null,"24 pp.",{"$f":"Table1[[#This Row],['# Books]]*Table1[[#This Row],[QTY]]","v":0},{"$f":"Table1[[#This Row],[QTY]]*Table1[[#This Row],[S&L Price]]","v":0}]
[null,110,54,"Cutest Animals...That Could Kill You!",1,"Deadly Pandas","Library Bound Book",null,"978-1-5382-1082-6",2018,"January 2018","Library","8.500 X 8.500","Author","Mary Molly Shea",null,null,null,null,"L",null,"Grade 2 - 3","Grade 2 - 5","Pandas are undeniably adorable. Their fluffy fur and big eyes look just like a teddy bear’s, but don’t even think of snuggling with them. They have one of the most powerful bites of any carnivore. Though they usually reserve their teeth for chewing tough pieces of bamboo, they’ve bitten people, too. This compelling volume, full of beautiful photographs and gripping facts, tells readers all about pandas’ life cycle as well as why it’s wise to keep a wary distance from these awesome animals.","English",22.6,16.95,"599.789--dc23","24 pp.",{"$f":"Table1[[#This Row],['# Books]]*Table1[[#This Row],[QTY]]","v":0},{"$f":"Table1[[#This Row],[QTY]]*Table1[[#This Row],[S&L Price]]","v":0}]
[null,110,54,"Cutest Animals...That Could Kill You!",1,"Deadly Pandas","eBook",null,"978-1-5382-1083-3",2018,"January 2018",null,null,"Author","Mary Molly Shea",null,null,null,null,"L",null,"Grade 2 - 3","Grade 2 - 5","Pandas are undeniably adorable. Their fluffy fur and big eyes look just like a teddy bear’s, but don’t even think of snuggling with them. They have one of the most powerful bites of any carnivore. Though they usually reserve their teeth for chewing tough pieces of bamboo, they’ve bitten people, too. This compelling volume, full of beautiful photographs and gripping facts, tells readers all about pandas’ life cycle as well as why it’s wise to keep a wary distance from these awesome animals.","English",22.6,16.95,"599.789--dc23","24 pp.",{"$f":"Table1[[#This Row],['# Books]]*Table1[[#This Row],[QTY]]","v":0},{"$f":"Table1[[#This Row],[QTY]]*Table1[[#This Row],[S&L Price]]","v":0}]
[null,110,54,"Cutest Animals...That Could Kill You!",1,"Ferocious Cassowaries","Library Bound Book",null,"978-1-5382-1086-4",2018,"January 2018","Library","8.500 X 8.500","Author","Rosie Banks",null,null,null,null,"M",null,"Grade 2 - 3","Grade 2 - 5","The cassowary is a large, flightless bird. It’s cute, though a bit clumsy-looking. Like other birds that can’t fly to escape danger, cassowaries have defensive mechanisms that help them survive in the wild, including long, sharp claws. Their terrible kick can slice open their enemies. This high-interest book reveals much more fascinating information about this interesting bird and its life in its native habitat. Wildlife enthusiasts will love the vivid photographs of the colorful creature.","English",22.6,16.95,"598.5--dc23","24 pp.",{"$f":"Table1[[#This Row],['# Books]]*Table1[[#This Row],[QTY]]","v":0},{"$f":"Table1[[#This Row],[QTY]]*Table1[[#This Row],[S&L Price]]","v":0}]
[null,110,54,"Cutest Animals...That Could Kill You!",1,"Ferocious Cassowaries","eBook",null,"978-1-5382-1087-1",2018,"January 2018",null,null,"Author","Rosie Banks",null,null,null,null,"M",null,"Grade 2 - 3","Grade 2 - 5","The cassowary is a large, flightless bird. It’s cute, though a bit clumsy-looking. Like other birds that can’t fly to escape danger, cassowaries have defensive mechanisms that help them survive in the wild, including long, sharp claws. Their terrible kick can slice open their enemies. This high-interest book reveals much more fascinating information about this interesting bird and its life in its native habitat. Wildlife enthusiasts will love the vivid photographs of the colorful creature.","English",22.6,16.95,"598.5--dc23","24 pp.",{"$f":"Table1[[#This Row],['# Books]]*Table1[[#This Row],[QTY]]","v":0},{"$f":"Table1[[#This Row],[QTY]]*Table1[[#This Row],[S&L Price]]","v":0}]
[null,110,54,"Cutest Animals...That Could Kill You!",1,"Nasty Swans","Library Bound Book",null,"978-1-5382-1089-5",2018,"January 2018","Library","8.500 X 8.500","Author","Rosie Banks",null,null,null,null,"L",null,"Grade 2 - 3","Grade 2 - 5","Swans are gorgeous, graceful, and seriously not to be trusted. These birds can be surprisingly aggressive, especially when defending their nests. They’ve even been known to attack people. Young ornithologists will be motivated to learn more about the curious behaviors of swans in this approachable text with colorful photographs of swans in action. A graphic organizer and fact boxes support the main concepts and emphasize the need to respect and protect wildlife.","English",22.6,16.95,"598.4'18--dc23","24 pp.",{"$f":"Table1[[#This Row],['# Books]]*Table1[[#This Row],[QTY]]","v":0},{"$f":"Table1[[#This Row],[QTY]]*Table1[[#This Row],[S&L Price]]","v":0}]
[null,110,54,"Cutest Animals...That Could Kill You!",1,"Nasty Swans","eBook",null,"978-1-5382-1090-1",2018,"January 2018",null,null,"Author","Rosie Banks",null,null,null,null,"L",null,"Grade 2 - 3","Grade 2 - 5","Swans are gorgeous, graceful, and seriously not to be trusted. These birds can be surprisingly aggressive, especially when defending their nests. They’ve even been known to attack people. Young ornithologists will be motivated to learn more about the curious behaviors of swans in this approachable text with colorful photographs of swans in action. A graphic organizer and fact boxes support the main concepts and emphasize the need to respect and protect wildlife.","English",22.6,16.95,"598.4'18--dc23","24 pp.",{"$f":"Table1[[#This Row],['# Books]]*Table1[[#This Row],[QTY]]","v":0},{"$f":"Table1[[#This Row],[QTY]]*Table1[[#This Row],[S&L Price]]","v":0}]
[null,110,54,"Cutest Animals...That Could Kill You!",1,"Perilous Pumas","Library Bound Book",null,"978-1-5382-1093-2",2018,"January 2018","Library","8.500 X 8.500","Author","Mary Molly Shea",null,null,null,null,"L",null,"Grade 2 - 3","Grade 2 - 5","Pumas, mountain lions, cougars, panthers, catamounts, they’re all the same big, breathtaking cat, but don’t even think about petting one. No matter how cute these cats are, they kill. This wild guide tracks down these fascinating felines in their native habitats and reveals to readers their hunting strategies as well as their essential role in their ecosystems. Jaw-dropping fact boxes and a graphic organizer provide further support for the important science concepts in this valuable volume.","English",22.6,16.95,"599.75'24--dc23","24 pp.",{"$f":"Table1[[#This Row],['# Books]]*Table1[[#This Row],[QTY]]","v":0},{"$f":"Table1[[#This Row],[QTY]]*Table1[[#This Row],[S&L Price]]","v":0}]
[null,110,54,"Cutest Animals...That Could Kill You!",1,"Perilous Pumas","eBook",null,"978-1-5382-1094-9",2018,"January 2018",null,null,"Author","Mary Molly Shea",null,null,null,null,"L",null,"Grade 2 - 3","Grade 2 - 5","Pumas, mountain lions, cougars, panthers, catamounts, they’re all the same big, breathtaking cat, but don’t even think about petting one. No matter how cute these cats are, they kill. This wild guide tracks down these fascinating felines in their native habitats and reveals to readers their hunting strategies as well as their essential role in their ecosystems. Jaw-dropping fact boxes and a graphic organizer provide further support for the important science concepts in this valuable volume.","English",22.6,16.95,"599.75'24--dc23","24 pp.",{"$f":"Table1[[#This Row],['# Books]]*Table1[[#This Row],[QTY]]","v":0},{"$f":"Table1[[#This Row],[QTY]]*Table1[[#This Row],[S&L Price]]","v":0}]
[null,110,54,"Cutest Animals...That Could Kill You!",1,"Poisonous Slow Lorises","Library Bound Book",null,"978-1-5382-1272-1",2018,"January 2018","Library","8.500 X 8.500","Author","Mary Molly Shea",null,null,null,null,"M",null,"Grade 2 - 3","Grade 2 - 5","Slow lorises are big-eyed primates. They look so sweet that it might be tempting to approach these cute creatures, but don’t touch, slow lorises are very poisonous. When they think they’re in danger, they may deliver a toxic bite. Readers will find out much more about these fascinating creatures, including details about their habitat, diet, and life cycle. The entertaining text coupled with appealing photographs make this volume a high-interest experience for all levels of readers.","English",22.6,16.95,"591.47--dc23","24 pp.",{"$f":"Table1[[#This Row],['# Books]]*Table1[[#This Row],[QTY]]","v":0},{"$f":"Table1[[#This Row],[QTY]]*Table1[[#This Row],[S&L Price]]","v":0}]
[null,110,54,"Cutest Animals...That Could Kill You!",1,"Poisonous Slow Lorises","eBook",null,"978-1-5382-1273-8",2018,"January 2018",null,null,"Author","Mary Molly Shea",null,null,null,null,"M",null,"Grade 2 - 3","Grade 2 - 5","Slow lorises are big-eyed primates. They look so sweet that it might be tempting to approach these cute creatures, but don’t touch, slow lorises are very poisonous. When they think they’re in danger, they may deliver a toxic bite. Readers will find out much more about these fascinating creatures, including details about their habitat, diet, and life cycle. The entertaining text coupled with appealing photographs make this volume a high-interest experience for all levels of readers.","English",22.6,16.95,"591.47--dc23","24 pp.",{"$f":"Table1[[#This Row],['# Books]]*Table1[[#This Row],[QTY]]","v":0},{"$f":"Table1[[#This Row],[QTY]]*Table1[[#This Row],[S&L Price]]","v":0}]
[null,110,54,"Cutest Animals...That Could Kill You!",1,"Vicious Monkeys","Library Bound Book",null,"978-1-5382-1099-4",2018,"January 2018","Library","8.500 X 8.500","Author","Rosie Banks",null,null,null,null,"M",null,"Grade 2 - 3","Grade 2 - 5","Monkeys are some of the most popular animals at the zoo, and with good reason. They’re mischievous, funny, and endearing, but these charming beings can be very dangerous, too. Like all animals, when they feel threatened, they lash out. Monkeys have large, piercing teeth they can use as deadly weapons. They’re also surprisingly strong. There’s so much to learn about these primates, and this accessible volume contains the most important facts readers will want to know.","English",22.6,16.95,"599.8--dc23","24 pp.",{"$f":"Table1[[#This Row],['# Books]]*Table1[[#This Row],[QTY]]","v":0},{"$f":"Table1[[#This Row],[QTY]]*Table1[[#This Row],[S&L Price]]","v":0}]
[null,110,54,"Cutest Animals...That Could Kill You!",1,"Vicious Monkeys","eBook",null,"978-1-5382-1100-7",2018,"January 2018",null,null,"Author","Rosie Banks",null,null,null,null,"M",null,"Grade 2 - 3","Grade 2 - 5","Monkeys are some of the most popular animals at the zoo, and with good reason. They’re mischievous, funny, and endearing, but these charming beings can be very dangerous, too. Like all animals, when they feel threatened, they lash out. Monkeys have large, piercing teeth they can use as deadly weapons. They’re also surprisingly strong. There’s so much to learn about these primates, and this accessible volume contains the most important facts readers will want to know.","English",22.6,16.95,"599.8--dc23","24 pp.",{"$f":"Table1[[#This Row],['# Books]]*Table1[[#This Row],[QTY]]","v":0},{"$f":"Table1[[#This Row],[QTY]]*Table1[[#This Row],[S&L Price]]","v":0}]
[null,110,54,"Cutest Animals...That Could Kill You!",1,"Alarming Leopard Seals","Library Bound Book",null,"978-1-4824-4909-9",2017,"August 2016","Library","8.500 X 8.500","Author","Eleanor Snyder",4.2,0.5,null,null,"L",null,"Grade 2 - 3","Grade 2 - 5","Leopard seals look so cute, but even their name gives us a clue about their true nature: They’re carnivores with a taste for penguin meat! The marine mammals’ size, sometimes exceeding 12 feet (3.7 m), makes them dangerous—even to people. This absorbing volume combines attention-grabbing text with exciting photographs of leopard seals in their native habitats. Young marine biologists will learn about the sneaky behaviors of these sea creatures as well as about other adaptations that make them such toothy terrors.","English",22.6,16.95,"599.79/6--dc23","24 pp.",{"$f":"Table1[[#This Row],['# Books]]*Table1[[#This Row],[QTY]]","v":0},{"$f":"Table1[[#This Row],[QTY]]*Table1[[#This Row],[S&L Price]]","v":0}]
[null,110,54,"Cutest Animals...That Could Kill You!",1,"Alarming Leopard Seals","eBook",null,"978-1-4824-4903-7",2017,"August 2016",null,null,"Author","Eleanor Snyder",4.2,0.5,null,null,"L",null,"Grade 2 - 3","Grade 2 - 5","Leopard seals look so cute, but even their name gives us a clue about their true nature: They’re carnivores with a taste for penguin meat! The marine mammals’ size, sometimes exceeding 12 feet (3.7 m), makes them dangerous—even to people. This absorbing volume combines attention-grabbing text with exciting photographs of leopard seals in their native habitats. Young marine biologists will learn about the sneaky behaviors of these sea creatures as well as about other adaptations that make them such toothy terrors.","English",22.6,16.95,"599.79/6--dc23","24 pp.",{"$f":"Table1[[#This Row],['# Books]]*Table1[[#This Row],[QTY]]","v":0},{"$f":"Table1[[#This Row],[QTY]]*Table1[[#This Row],[S&L Price]]","v":0}]
[null,110,54,"Cutest Animals...That Could Kill You!",1,"Angry Anteaters","Library Bound Book",null,"978-1-4824-4910-5",2017,"August 2016","Library","8.500 X 8.500","Author","Eleanor Snyder",4.3,0.5,null,null,"L",null,"Grade 2 - 3","Grade 2 - 5","It might be hard to believe that the silly-looking creature called the anteater could be deadly, but it’s true. These mammals primarily eat insects—lots of insects. Their tongue flies in and out of their mouth up to 160 times a minute! But they’re equipped with some deadly claws that come in handy when they’re defending themselves. Incredibly, giant anteaters have even killed people. This book is filled with surprising information about anteaters as well as mesmerizing photographs and interesting fact boxes.","English",22.6,16.95,"599.3/14--dc23","24 pp.",{"$f":"Table1[[#This Row],['# Books]]*Table1[[#This Row],[QTY]]","v":0},{"$f":"Table1[[#This Row],[QTY]]*Table1[[#This Row],[S&L Price]]","v":0}]
[null,110,54,"Cutest Animals...That Could Kill You!",1,"Angry Anteaters","eBook",null,"978-1-4824-4904-4",2017,"August 2016",null,null,"Author","Eleanor Snyder",4.3,0.5,null,null,"L",null,"Grade 2 - 3","Grade 2 - 5","It might be hard to believe that the silly-looking creature called the anteater could be deadly, but it’s true. These mammals primarily eat insects—lots of insects. Their tongue flies in and out of their mouth up to 160 times a minute! But they’re equipped with some deadly claws that come in handy when they’re defending themselves. Incredibly, giant anteaters have even killed people. This book is filled with surprising information about anteaters as well as mesmerizing photographs and interesting fact boxes.","English",22.6,16.95,"599.3/14--dc23","24 pp.",{"$f":"Table1[[#This Row],['# Books]]*Table1[[#This Row],[QTY]]","v":0},{"$f":"Table1[[#This Row],[QTY]]*Table1[[#This Row],[S&L Price]]","v":0}]
[null,110,54,"Cutest Animals...That Could Kill You!",1,"Fierce Frogs","Library Bound Book",null,"978-1-4824-4911-2",2017,"August 2016","Library","8.500 X 8.500","Author","Eleanor Snyder",4.9000000000000004,0.5,null,null,"L",null,"Grade 2 - 3","Grade 2 - 5","Tiny colorful frogs seem like they’d make the cutest pets—until you learn that they’re poisonous! In this riveting volume, readers head into the rainforest to meet tiny amphibians with a most deadly adaptation. They’ll learn where frog poison comes from and how perhaps just 0.0000004 ounce is enough to kill an adult man! They’ll also find out about the newly discovered species of venomous frogs that inject poison using their spiny head. Vivid photographs highlight the beauty of these creatures, while text stresses the need to keep a safe distance from all such fierce frogs.","English",22.6,16.95,"597.8/77--dc23","24 pp.",{"$f":"Table1[[#This Row],['# Books]]*Table1[[#This Row],[QTY]]","v":0},{"$f":"Table1[[#This Row],[QTY]]*Table1[[#This Row],[S&L Price]]","v":0}]
[null,110,54,"Cutest Animals...That Could Kill You!",1,"Fierce Frogs","eBook",null,"978-1-4824-4905-1",2017,"August 2016",null,null,"Author","Eleanor Snyder",4.9000000000000004,0.5,null,null,"L",null,"Grade 2 - 3","Grade 2 - 5","Tiny colorful frogs seem like they’d make the cutest pets—until you learn that they’re poisonous! In this riveting volume, readers head into the rainforest to meet tiny amphibians with a most deadly adaptation. They’ll learn where frog poison comes from and how perhaps just 0.0000004 ounce is enough to kill an adult man! They’ll also find out about the newly discovered species of venomous frogs that inject poison using their spiny head. Vivid photographs highlight the beauty of these creatures, while text stresses the need to keep a safe distance from all such fierce frogs.","English",22.6,16.95,"597.8/77--dc23","24 pp.",{"$f":"Table1[[#This Row],['# Books]]*Table1[[#This Row],[QTY]]","v":0},{"$f":"Table1[[#This Row],[QTY]]*Table1[[#This Row],[S&L Price]]","v":0}]
[null,110,54,"Cutest Animals...That Could Kill You!",1,"Intimidating Elephants","Library Bound Book",null,"978-1-4824-4912-9",2017,"August 2016","Library","8.500 X 8.500","Author","Mary Molly Shea",4.3,0.5,null,null,"M",null,"Grade 2 - 3","Grade 2 - 5","Elephants are the largest land animals and a favorite at the zoo. They’re so loved it’s hard to imagine the gentle creatures can be very dangerous at times. In fact, they’re responsible for killing over a hundred people each year in India. This riveting book explains why such tragedies occur. As readers learn the answer, they’ll discover more about elephant trunks, tusks, behaviors, and habitats and how some of these put the mammal at risk. Beautiful photographs enhance the ideas presented in this notable volume, which supports the science curriculum.","English",22.6,16.95,"599.6’1--dc23","24 pp.",{"$f":"Table1[[#This Row],['# Books]]*Table1[[#This Row],[QTY]]","v":0},{"$f":"Table1[[#This Row],[QTY]]*Table1[[#This Row],[S&L Price]]","v":0}]
[null,110,54,"Cutest Animals...That Could Kill You!",1,"Intimidating Elephants","eBook",null,"978-1-4824-4906-8",2017,"August 2016",null,null,"Author","Mary Molly Shea",4.3,0.5,null,null,"M",null,"Grade 2 - 3","Grade 2 - 5","Elephants are the largest land animals and a favorite at the zoo. They’re so loved it’s hard to imagine the gentle creatures can be very dangerous at times. In fact, they’re responsible for killing over a hundred people each year in India. This riveting book explains why such tragedies occur. As readers learn the answer, they’ll discover more about elephant trunks, tusks, behaviors, and habitats and how some of these put the mammal at risk. Beautiful photographs enhance the ideas presented in this notable volume, which supports the science curriculum.","English",22.6,16.95,"599.6’1--dc23","24 pp.",{"$f":"Table1[[#This Row],['# Books]]*Table1[[#This Row],[QTY]]","v":0},{"$f":"Table1[[#This Row],[QTY]]*Table1[[#This Row],[S&L Price]]","v":0}]
[null,110,54,"Cutest Animals...That Could Kill You!",1,"Massive Moose","Library Bound Book",null,"978-1-4824-4913-6",2017,"August 2016","Library","8.500 X 8.500","Author","Mary Molly Shea",4.2,0.5,null,null,"L",null,"Grade 2 - 3","Grade 2 - 5","Moose are the largest members of the deer family—and they are large! The most massive moose are 7 feet (2 m) tall at the shoulder and weigh 1,300 pounds (600 kg). These herbivores aren’t always gentle. They can use their colossal bodies to defend themselves from black bears, wolves, and other carnivores. Even hunters fear moose because angry moose sometimes can’t be stopped by guns! This informative book, including a graphic organizer and essential science vocabulary, is a fresh look at the magnificent mammal called the moose.","English",22.6,16.95,"599.65/7--dc23","24 pp.",{"$f":"Table1[[#This Row],['# Books]]*Table1[[#This Row],[QTY]]","v":0},{"$f":"Table1[[#This Row],[QTY]]*Table1[[#This Row],[S&L Price]]","v":0}]
[null,110,54,"Cutest Animals...That Could Kill You!",1,"Massive Moose","eBook",null,"978-1-4824-4907-5",2017,"August 2016",null,null,"Author","Mary Molly Shea",4.2,0.5,null,null,"L",null,"Grade 2 - 3","Grade 2 - 5","Moose are the largest members of the deer family—and they are large! The most massive moose are 7 feet (2 m) tall at the shoulder and weigh 1,300 pounds (600 kg). These herbivores aren’t always gentle. They can use their colossal bodies to defend themselves from black bears, wolves, and other carnivores. Even hunters fear moose because angry moose sometimes can’t be stopped by guns! This informative book, including a graphic organizer and essential science vocabulary, is a fresh look at the magnificent mammal called the moose.","English",22.6,16.95,"599.65/7--dc23","24 pp.",{"$f":"Table1[[#This Row],['# Books]]*Table1[[#This Row],[QTY]]","v":0},{"$f":"Table1[[#This Row],[QTY]]*Table1[[#This Row],[S&L Price]]","v":0}]
[null,110,54,"Cutest Animals...That Could Kill You!",1,"Menacing Chimpanzees","Library Bound Book",null,"978-1-4824-4914-3",2017,"August 2016","Library","8.500 X 8.500","Author","Mary Molly Shea",4.5,0.5,null,null,"M",null,"Grade 2 - 3","Grade 2 - 5","The apes called chimpanzees are closely related to humans. These intelligent primates share many characteristics with their human counterparts, including sympathy, grief, and curiosity. They can solve problems and even use some tools. They also share another feature with us: they can be dangerous. Chimps are known to attack each other, and even people, with deadly results. This book answers why these mostly gentle creatures can turn violent and the dangers they face in their native habitats that have led to their endangered status. Arresting photographs and stunning facts make this high-interest volume especially appealing.","English",22.6,16.95,"599.885--dc23","24 pp.",{"$f":"Table1[[#This Row],['# Books]]*Table1[[#This Row],[QTY]]","v":0},{"$f":"Table1[[#This Row],[QTY]]*Table1[[#This Row],[S&L Price]]","v":0}]
[null,110,54,"Cutest Animals...That Could Kill You!",1,"Menacing Chimpanzees","eBook",null,"978-1-4824-4908-2",2017,"August 2016",null,null,"Author","Mary Molly Shea",4.5,0.5,null,null,"M",null,"Grade 2 - 3","Grade 2 - 5","The apes called chimpanzees are closely related to humans. These intelligent primates share many characteristics with their human counterparts, including sympathy, grief, and curiosity. They can solve problems and even use some tools. They also share another feature with us: they can be dangerous. Chimps are known to attack each other, and even people, with deadly results. This book answers why these mostly gentle creatures can turn violent and the dangers they face in their native habitats that have led to their endangered status. Arresting photographs and stunning facts make this high-interest volume especially appealing.","English",22.6,16.95,"599.885--dc23","24 pp.",{"$f":"Table1[[#This Row],['# Books]]*Table1[[#This Row],[QTY]]","v":0},{"$f":"Table1[[#This Row],[QTY]]*Table1[[#This Row],[S&L Price]]","v":0}]
[null,99,55,"Freaky Fish",6,"Freaky Fish","Library Set",null,"978-1-5382-0468-9",2018,"August 2017","Library","8.500 X 8.500",null,null,null,null,null,null,null,null,"Grade 2 - 3","Grade 2 - 5","The waters of the world are filled with strange, fantastic creatures that readers are sure to enjoy learning about! From the high-voltage electric eel to the poisonous pufferfish, this series has the inside scoop on the bizarre lives, shapes, and habitats of some of the freakiest ocean creatures! Each book is brought to vivid life with vibrant photographs and fact boxes full of wacky tidbits.","English",135.6,101.7,null,"24 pp.",{"$f":"Table1[[#This Row],['# Books]]*Table1[[#This Row],[QTY]]","v":0},{"$f":"Table1[[#This Row],[QTY]]*Table1[[#This Row],[S&L Price]]","v":0}]
[null,99,55,"Freaky Fish",1,"Electric Eels","Library Bound Book",null,"978-1-5382-0257-9",2018,"August 2017","Library","8.500 X 8.500","Author","Theresa Morlock",null,null,null,null,"L",null,"Grade 2 - 3","Grade 2 - 5","It’s electrifying! But it’s not lightning, it’s an electric eel! Filled with up-close and full-color photographs, readers of this book will get up close and personal with this freaky, long fish. Even readers who don’t love science class will find electric eels’ air-breathing and unusual breeding behavior (saliva is involved) fascinating! Learning about the electric eel is an engaging introduction to ecosystems, habitats, anatomy, biology, electricity, and so much more! Fact boxes throughout the text point out bizarre tidbits sure to make any reader think twice before swimming in the Amazon and Orinoco river basins of South America!","English",22.6,16.95,"597’.43--dc23","24 pp.",{"$f":"Table1[[#This Row],['# Books]]*Table1[[#This Row],[QTY]]","v":0},{"$f":"Table1[[#This Row],[QTY]]*Table1[[#This Row],[S&L Price]]","v":0}]
[null,99,55,"Freaky Fish",1,"Electric Eels","eBook",null,"978-1-5382-0251-7",2018,"August 2017",null,null,"Author","Theresa Morlock",null,null,null,null,"L",null,"Grade 2 - 3","Grade 2 - 5","It’s electrifying! But it’s not lightning, it’s an electric eel! Filled with up-close and full-color photographs, readers of this book will get up close and personal with this freaky, long fish. Even readers who don’t love science class will find electric eels’ air-breathing and unusual breeding behavior (saliva is involved) fascinating! Learning about the electric eel is an engaging introduction to ecosystems, habitats, anatomy, biology, electricity, and so much more! Fact boxes throughout the text point out bizarre tidbits sure to make any reader think twice before swimming in the Amazon and Orinoco river basins of South America!","English",22.6,16.95,"597’.43--dc23","24 pp.",{"$f":"Table1[[#This Row],['# Books]]*Table1[[#This Row],[QTY]]","v":0},{"$f":"Table1[[#This Row],[QTY]]*Table1[[#This Row],[S&L Price]]","v":0}]
[null,99,55,"Freaky Fish",1,"Fangtooth Fish","Library Bound Book",null,"978-1-5382-0258-6",2018,"August 2017","Library","8.500 X 8.500","Author","Kristen Rajczak Nelson",null,null,null,null,"L",null,"Grade 2 - 3","Grade 2 - 5","Fangtooth fish never shut their mouth—literally! Their fangs are too long to close their mouths all the way. There are many more freaky facts where that came from throughout this especially freaky animal book, sure to be enjoyed by all readers. Educators can use the bizarre fangtooth fish as a vehicle for presenting concepts such as habitats, anatomy, evolution, ecosystems, food webs, and biology. Full-color, up-close photographs bring these freaky-looking fish to life, while fact boxes pop cool tidbits onto each spread, making for a lively, engaging reading experience.","English",22.6,16.95,"591.77--dc23","24 pp.",{"$f":"Table1[[#This Row],['# Books]]*Table1[[#This Row],[QTY]]","v":0},{"$f":"Table1[[#This Row],[QTY]]*Table1[[#This Row],[S&L Price]]","v":0}]
[null,99,55,"Freaky Fish",1,"Fangtooth Fish","eBook",null,"978-1-5382-0252-4",2018,"August 2017",null,null,"Author","Kristen Rajczak Nelson",null,null,null,null,"L",null,"Grade 2 - 3","Grade 2 - 5","Fangtooth fish never shut their mouth—literally! Their fangs are too long to close their mouths all the way. There are many more freaky facts where that came from throughout this especially freaky animal book, sure to be enjoyed by all readers. Educators can use the bizarre fangtooth fish as a vehicle for presenting concepts such as habitats, anatomy, evolution, ecosystems, food webs, and biology. Full-color, up-close photographs bring these freaky-looking fish to life, while fact boxes pop cool tidbits onto each spread, making for a lively, engaging reading experience.","English",22.6,16.95,"591.77--dc23","24 pp.",{"$f":"Table1[[#This Row],['# Books]]*Table1[[#This Row],[QTY]]","v":0},{"$f":"Table1[[#This Row],[QTY]]*Table1[[#This Row],[S&L Price]]","v":0}]
[null,99,55,"Freaky Fish",1,"Frogfish","Library Bound Book",null,"978-1-5382-0259-3",2018,"August 2017","Library","8.500 X 8.500","Edited by, Author","Joan Stoltman, Tanya Dellaccio",null,null,null,null,"L",null,"Grade 2 - 3","Grade 2 - 5","They can change color. They can strike in as little as 6 milliseconds. They can regenerate parts of their body. They are frogfish! Even reluctant readers are sure to enjoy learning all about these wacky, weird, and wonderful fish. Full-color photographs and exciting, age-appropriate text show just how varied the frogfish can be in shape, size, and color. This book provides a great opportunity to learn about evolution, ecosystems, and so much more. Fact boxes pop exciting, sensationally strange tidbits onto every page, making the readers’ experience both fun and educational.","English",22.6,16.95,"597’.62--dc23","24 pp.",{"$f":"Table1[[#This Row],['# Books]]*Table1[[#This Row],[QTY]]","v":0},{"$f":"Table1[[#This Row],[QTY]]*Table1[[#This Row],[S&L Price]]","v":0}]
[null,99,55,"Freaky Fish",1,"Frogfish","eBook",null,"978-1-5382-0253-1",2018,"August 2017",null,null,"Edited by, Author","Joan Stoltman, Tanya Dellaccio",null,null,null,null,"L",null,"Grade 2 - 3","Grade 2 - 5","They can change color. They can strike in as little as 6 milliseconds. They can regenerate parts of their body. They are frogfish! Even reluctant readers are sure to enjoy learning all about these wacky, weird, and wonderful fish. Full-color photographs and exciting, age-appropriate text show just how varied the frogfish can be in shape, size, and color. This book provides a great opportunity to learn about evolution, ecosystems, and so much more. Fact boxes pop exciting, sensationally strange tidbits onto every page, making the readers’ experience both fun and educational.","English",22.6,16.95,"597’.62--dc23","24 pp.",{"$f":"Table1[[#This Row],['# Books]]*Table1[[#This Row],[QTY]]","v":0},{"$f":"Table1[[#This Row],[QTY]]*Table1[[#This Row],[S&L Price]]","v":0}]
[null,99,55,"Freaky Fish",1,"Leafy Sea Dragons","Library Bound Book",null,"978-1-5382-0261-6",2018,"August 2017","Library","8.500 X 8.500","Author","Jill Keppeler",null,null,null,null,"L",null,"Grade 2 - 3","Grade 2 - 5","Off the southern and western coasts of Australia lives a fish with transparent fins shaped like seaweed, undulating slowly in the water, mimicking its plant surroundings to survive. This incredible example of evolution is an endangered species, a sad reality but a great opportunity to teach. This book highlights the incredible physical attributes of the leafy sea dragon through astonishing full-color photographs, and includes wacky tidbits on every page to entice readers of all ages into learning about biology, ecosystems, and more!","English",22.6,16.95,"597’.679--dc23","24 pp.",{"$f":"Table1[[#This Row],['# Books]]*Table1[[#This Row],[QTY]]","v":0},{"$f":"Table1[[#This Row],[QTY]]*Table1[[#This Row],[S&L Price]]","v":0}]
[null,99,55,"Freaky Fish",1,"Leafy Sea Dragons","eBook",null,"978-1-5382-0254-8",2018,"August 2017",null,null,"Author","Jill Keppeler",null,null,null,null,"L",null,"Grade 2 - 3","Grade 2 - 5","Off the southern and western coasts of Australia lives a fish with transparent fins shaped like seaweed, undulating slowly in the water, mimicking its plant surroundings to survive. This incredible example of evolution is an endangered species, a sad reality but a great opportunity to teach. This book highlights the incredible physical attributes of the leafy sea dragon through astonishing full-color photographs, and includes wacky tidbits on every page to entice readers of all ages into learning about biology, ecosystems, and more!","English",22.6,16.95,"597’.679--dc23","24 pp.",{"$f":"Table1[[#This Row],['# Books]]*Table1[[#This Row],[QTY]]","v":0},{"$f":"Table1[[#This Row],[QTY]]*Table1[[#This Row],[S&L Price]]","v":0}]
[null,99,55,"Freaky Fish",1,"Pufferfish","Library Bound Book",null,"978-1-5382-0260-9",2018,"August 2017","Library","8.500 X 8.500","Author","Therese M. Shea",null,null,null,null,"L",null,"Grade 2 - 3","Grade 2 - 5","What has 4 teeth, 120 different species, spines all over its body, and is one of the most poisonous animals in the world? The pufferfish! Avid and reluctant readers alike will quickly devour the fascinating facts about the habitat, life cycle, evolution, and more of this strange family of fish. Each spread is filled with lively, full-color photography of this incredibly diverse family of bizarre fish. Fact boxes add to the exciting learning experience by providing quick, wacky tidbits! For instance, pufferfish defend themselves by filling up like a water balloon! Biology does not get any cooler than this!","English",22.6,16.95,"597/.64--dc23","24 pp.",{"$f":"Table1[[#This Row],['# Books]]*Table1[[#This Row],[QTY]]","v":0},{"$f":"Table1[[#This Row],[QTY]]*Table1[[#This Row],[S&L Price]]","v":0}]
[null,99,55,"Freaky Fish",1,"Pufferfish","eBook",null,"978-1-5382-0255-5",2018,"August 2017",null,null,"Author","Therese M. Shea",null,null,null,null,"L",null,"Grade 2 - 3","Grade 2 - 5","What has 4 teeth, 120 different species, spines all over its body, and is one of the most poisonous animals in the world? The pufferfish! Avid and reluctant readers alike will quickly devour the fascinating facts about the habitat, life cycle, evolution, and more of this strange family of fish. Each spread is filled with lively, full-color photography of this incredibly diverse family of bizarre fish. Fact boxes add to the exciting learning experience by providing quick, wacky tidbits! For instance, pufferfish defend themselves by filling up like a water balloon! Biology does not get any cooler than this!","English",22.6,16.95,"597/.64--dc23","24 pp.",{"$f":"Table1[[#This Row],['# Books]]*Table1[[#This Row],[QTY]]","v":0},{"$f":"Table1[[#This Row],[QTY]]*Table1[[#This Row],[S&L Price]]","v":0}]
[null,99,55,"Freaky Fish",1,"Sea Horses","Library Bound Book",null,"978-1-5382-0262-3",2018,"August 2017","Library","8.500 X 8.500","Author","Melissa Raé Shofner",null,null,null,null,"L",null,"Grade 2 - 3","Grade 2 - 5","The sea horse is commonly included in the menagerie of many aquariums and animated fish movies, so most readers can recognize their distinctive shape easily. But what do they really know about the sea horse? This book provides the perfect opportunity to dive into the wonderful world of the sea horse, that peculiar fish we’ve all come to recognize. Using incredible, full-color photographs and understandable, curriculum-based text, this book plunges readers into the strange world and life cycle of the sea horse, exposing them to lessons in biology, ecosystems, reproduction, and more along the way!","English",22.6,16.95,"597.6798--dc23","24 pp.",{"$f":"Table1[[#This Row],['# Books]]*Table1[[#This Row],[QTY]]","v":0},{"$f":"Table1[[#This Row],[QTY]]*Table1[[#This Row],[S&L Price]]","v":0}]
[null,99,55,"Freaky Fish",1,"Sea Horses","eBook",null,"978-1-5382-0256-2",2018,"August 2017",null,null,"Author","Melissa Raé Shofner",null,null,null,null,"L",null,"Grade 2 - 3","Grade 2 - 5","The sea horse is commonly included in the menagerie of many aquariums and animated fish movies, so most readers can recognize their distinctive shape easily. But what do they really know about the sea horse? This book provides the perfect opportunity to dive into the wonderful world of the sea horse, that peculiar fish we’ve all come to recognize. Using incredible, full-color photographs and understandable, curriculum-based text, this book plunges readers into the strange world and life cycle of the sea horse, exposing them to lessons in biology, ecosystems, reproduction, and more along the way!","English",22.6,16.95,"597.6798--dc23","24 pp.",{"$f":"Table1[[#This Row],['# Books]]*Table1[[#This Row],[QTY]]","v":0},{"$f":"Table1[[#This Row],[QTY]]*Table1[[#This Row],[S&L Price]]","v":0}]
[null,null,56,"Insects: Six-Legged Nightmares",6,"Insects: Six-Legged Nightmares","Library Set",null,"978-1-5382-1282-0",2018,"January 2018","Library","8.500 X 8.500",null,null,null,null,null,null,null,null,"Grade 2 - 3","Grade 2 - 5","There are creepy-crawly creatures all around us. Some of these are harmless, but others are a true nightmare. This coruscating collection introduces readers to some of the most dangerous insects on the planet. From land-based assassin bugs to flying menaces like the Jewel wasp and Japanese giant hornets, these creatures are as interesting as they are scary. Through a scientific exploration of these wild bugs, readers learn more about how and where they live.","English",135.6,101.7,null,"24 pp.",{"$f":"Table1[[#This Row],['# Books]]*Table1[[#This Row],[QTY]]","v":0},{"$f":"Table1[[#This Row],[QTY]]*Table1[[#This Row],[S&L Price]]","v":0}]
[null,null,56,"Insects: Six-Legged Nightmares",1,"Assassin Bugs Kill!","Library Bound Book",null,"978-1-5382-1249-3",2018,"January 2018","Library","8.500 X 8.500","Author","Kristen Rajczak Nelson",null,null,null,null,"M",null,"Grade 2 - 3","Grade 2 - 5","Assassin bugs are amazing creatures that use their long mouthparts to kill their prey. These ambushing bugs wait on flowers, where other bugs will land while looking for a meal. Unfortunately for them, however, they become the assassin bug's meal. Assassin bugs snatch their prey and drink their body fluids as if through a straw. With vivid photographs showing these creepy killers in action, readers experience the wild world bugs live in where no potential meal is safe.","English",22.6,16.95,"595--dc23","24 pp.",{"$f":"Table1[[#This Row],['# Books]]*Table1[[#This Row],[QTY]]","v":0},{"$f":"Table1[[#This Row],[QTY]]*Table1[[#This Row],[S&L Price]]","v":0}]
[null,null,56,"Insects: Six-Legged Nightmares",1,"Assassin Bugs Kill!","eBook",null,"978-1-5382-1250-9",2018,"January 2018",null,null,"Author","Kristen Rajczak Nelson",null,null,null,null,"M",null,"Grade 2 - 3","Grade 2 - 5","Assassin bugs are amazing creatures that use their long mouthparts to kill their prey. These ambushing bugs wait on flowers, where other bugs will land while looking for a meal. Unfortunately for them, however, they become the assassin bug's meal. Assassin bugs snatch their prey and drink their body fluids as if through a straw. With vivid photographs showing these creepy killers in action, readers experience the wild world bugs live in where no potential meal is safe.","English",22.6,16.95,"595--dc23","24 pp.",{"$f":"Table1[[#This Row],['# Books]]*Table1[[#This Row],[QTY]]","v":0},{"$f":"Table1[[#This Row],[QTY]]*Table1[[#This Row],[S&L Price]]","v":0}]
[null,null,56,"Insects: Six-Legged Nightmares",1,"Botflies Terrify!","Library Bound Book",null,"978-1-5382-1253-0",2018,"January 2018","Library","8.500 X 8.500","Author","M. H. Seeley",null,null,null,null,"M",null,"Grade 2 - 3","Grade 2 - 5","There's no way around it, botflies are super gross. These winged insects start as larvae that need a host to live, and sometimes that host is human. Readers learn how these maggots live their parasitic lives with the help of some hosts that certainly don't appreciate their company. With full-color photographs showing these gross creatures up close and personal, readers will enjoy, or maybe revile, these creatures at work, laying eggs that become the next larvae burrowing into flesh before they become full-grown botflies.","English",22.6,16.95,"595.7--dc23","24 pp.",{"$f":"Table1[[#This Row],['# Books]]*Table1[[#This Row],[QTY]]","v":0},{"$f":"Table1[[#This Row],[QTY]]*Table1[[#This Row],[S&L Price]]","v":0}]
[null,null,56,"Insects: Six-Legged Nightmares",1,"Botflies Terrify!","eBook",null,"978-1-5382-1254-7",2018,"January 2018",null,null,"Author","M. H. Seeley",null,null,null,null,"M",null,"Grade 2 - 3","Grade 2 - 5","There's no way around it, botflies are super gross. These winged insects start as larvae that need a host to live, and sometimes that host is human. Readers learn how these maggots live their parasitic lives with the help of some hosts that certainly don't appreciate their company. With full-color photographs showing these gross creatures up close and personal, readers will enjoy, or maybe revile, these creatures at work, laying eggs that become the next larvae burrowing into flesh before they become full-grown botflies.","English",22.6,16.95,"595.7--dc23","24 pp.",{"$f":"Table1[[#This Row],['# Books]]*Table1[[#This Row],[QTY]]","v":0},{"$f":"Table1[[#This Row],[QTY]]*Table1[[#This Row],[S&L Price]]","v":0}]
[null,null,56,"Insects: Six-Legged Nightmares",1,"Bullet Ants Sting!","Library Bound Book",null,"978-1-5382-1257-8",2018,"January 2018","Library","8.500 X 8.500","Author","Melissa Raé Shofner",null,null,null,null,"M",null,"Grade 2 - 3","Grade 2 - 5","Ouch! Bullet ants cause a sting that actually hurts like a gunshot. If that is not scary enough, these feisty ants can live in a colony of 3,000. Full-color photographs show off in vivid detail how these insects live, with maps and other amazing graphics to wow every one of your readers. Readers get to explore the science of why the sting hurts so much and why it lasts for hours.","English",22.6,16.95,"595.79'6--dc23","24 pp.",{"$f":"Table1[[#This Row],['# Books]]*Table1[[#This Row],[QTY]]","v":0},{"$f":"Table1[[#This Row],[QTY]]*Table1[[#This Row],[S&L Price]]","v":0}]
[null,null,56,"Insects: Six-Legged Nightmares",1,"Bullet Ants Sting!","eBook",null,"978-1-5382-1258-5",2018,"January 2018",null,null,"Author","Melissa Raé Shofner",null,null,null,null,"M",null,"Grade 2 - 3","Grade 2 - 5","Ouch! Bullet ants cause a sting that actually hurts like a gunshot. If that is not scary enough, these feisty ants can live in a colony of 3,000. Full-color photographs show off in vivid detail how these insects live, with maps and other amazing graphics to wow every one of your readers. Readers get to explore the science of why the sting hurts so much and why it lasts for hours.","English",22.6,16.95,"595.79'6--dc23","24 pp.",{"$f":"Table1[[#This Row],['# Books]]*Table1[[#This Row],[QTY]]","v":0},{"$f":"Table1[[#This Row],[QTY]]*Table1[[#This Row],[S&L Price]]","v":0}]
[null,null,56,"Insects: Six-Legged Nightmares",1,"Giant Wetas Shock!","Library Bound Book",null,"978-1-5382-1261-5",2018,"January 2018","Library","8.500 X 8.500","Author","Janey Levy",null,null,null,null,"M",null,"Grade 2 - 3","Grade 2 - 5","Giant wetas can't jump, which is a good thing because they're gigantic. This ancient animal is the heaviest insect ever found and can weigh as much as a mouse. Its name means 'God of ugly things.' Though these creepy-crawlies are huge and scary-looking, readers learn they aren't dangerous to humans. In fact, these giant insects mostly love carrots. Through colorful photographs of these supersized insects, readers get an up close and personal look at these oversized but harmless bugs.","English",22.6,16.95,"595.7'26--dc23","24 pp.",{"$f":"Table1[[#This Row],['# Books]]*Table1[[#This Row],[QTY]]","v":0},{"$f":"Table1[[#This Row],[QTY]]*Table1[[#This Row],[S&L Price]]","v":0}]
[null,null,56,"Insects: Six-Legged Nightmares",1,"Giant Wetas Shock!","eBook",null,"978-1-5382-1262-2",2018,"January 2018",null,null,"Author","Janey Levy",null,null,null,null,"M",null,"Grade 2 - 3","Grade 2 - 5","Giant wetas can't jump, which is a good thing because they're gigantic. This ancient animal is the heaviest insect ever found and can weigh as much as a mouse. Its name means 'God of ugly things.' Though these creepy-crawlies are huge and scary-looking, readers learn they aren't dangerous to humans. In fact, these giant insects mostly love carrots. Through colorful photographs of these supersized insects, readers get an up close and personal look at these oversized but harmless bugs.","English",22.6,16.95,"595.7'26--dc23","24 pp.",{"$f":"Table1[[#This Row],['# Books]]*Table1[[#This Row],[QTY]]","v":0},{"$f":"Table1[[#This Row],[QTY]]*Table1[[#This Row],[S&L Price]]","v":0}]
[null,null,56,"Insects: Six-Legged Nightmares",1,"Japanese Giant Hornets Horrify!","Library Bound Book",null,"978-1-5382-1265-3",2018,"January 2018","Library","8.500 X 8.500","Author","Jill Keppeler",null,null,null,null,"M",null,"Grade 2 - 3","Grade 2 - 5","All hornets are scary, but Japanese giant hornets are downright deadly. These massive flying insects are much bigger than the hornets in your backyard and can turn an ordinary day outside into a fight for survival. Readers will marvel at these horrible hornets, how they live, and how other animals try to fight them off. Full-color photographs show these terrifying creatures up close and personal, displaying just how large they are and what makes them so deadly to animals of all kinds.","English",22.6,16.95,"595.79'8--dc23","24 pp.",{"$f":"Table1[[#This Row],['# Books]]*Table1[[#This Row],[QTY]]","v":0},{"$f":"Table1[[#This Row],[QTY]]*Table1[[#This Row],[S&L Price]]","v":0}]
[null,null,56,"Insects: Six-Legged Nightmares",1,"Japanese Giant Hornets Horrify!","eBook",null,"978-1-5382-1266-0",2018,"January 2018",null,null,"Author","Jill Keppeler",null,null,null,null,"M",null,"Grade 2 - 3","Grade 2 - 5","All hornets are scary, but Japanese giant hornets are downright deadly. These massive flying insects are much bigger than the hornets in your backyard and can turn an ordinary day outside into a fight for survival. Readers will marvel at these horrible hornets, how they live, and how other animals try to fight them off. Full-color photographs show these terrifying creatures up close and personal, displaying just how large they are and what makes them so deadly to animals of all kinds.","English",22.6,16.95,"595.79'8--dc23","24 pp.",{"$f":"Table1[[#This Row],['# Books]]*Table1[[#This Row],[QTY]]","v":0},{"$f":"Table1[[#This Row],[QTY]]*Table1[[#This Row],[S&L Price]]","v":0}]
[null,null,56,"Insects: Six-Legged Nightmares",1,"Jewel Wasps Take Over!","Library Bound Book",null,"978-1-5382-1269-1",2018,"January 2018","Library","8.500 X 8.500","Author","Caitie McAneney",null,null,null,null,"M",null,"Grade 2 - 3","Grade 2 - 5","The jewel wasp is a unique creature that is not afraid to take advantage of the bugs around it. This creepy insect, also known as the emerald cockroach wasp, actually takes over the body of its cockroach victims to make them zombies. Jewel wasps use their unique venom to control a cockroach and use it as a nest for their eggs. With full-color photographs of these jewel wasps showcasing their amazing abilities, readers learn how they survive with the unwilling help of other creatures.","English",22.6,16.95,"595.79'8--dc23","24 pp.",{"$f":"Table1[[#This Row],['# Books]]*Table1[[#This Row],[QTY]]","v":0},{"$f":"Table1[[#This Row],[QTY]]*Table1[[#This Row],[S&L Price]]","v":0}]
[null,null,56,"Insects: Six-Legged Nightmares",1,"Jewel Wasps Take Over!","eBook",null,"978-1-5382-1270-7",2018,"January 2018",null,null,"Author","Caitie McAneney",null,null,null,null,"M",null,"Grade 2 - 3","Grade 2 - 5","The jewel wasp is a unique creature that is not afraid to take advantage of the bugs around it. This creepy insect, also known as the emerald cockroach wasp, actually takes over the body of its cockroach victims to make them zombies. Jewel wasps use their unique venom to control a cockroach and use it as a nest for their eggs. With full-color photographs of these jewel wasps showcasing their amazing abilities, readers learn how they survive with the unwilling help of other creatures.","English",22.6,16.95,"595.79'8--dc23","24 pp.",{"$f":"Table1[[#This Row],['# Books]]*Table1[[#This Row],[QTY]]","v":0},{"$f":"Table1[[#This Row],[QTY]]*Table1[[#This Row],[S&L Price]]","v":0}]
[null,101,57,"Spiders: Eight-Legged Terrors",6,"Spiders: Eight-Legged Terrors","Library Set",null,"978-1-5382-0475-7",2018,"August 2017","Library","8.500 X 8.500",null,null,null,null,null,null,null,null,"Grade 2 - 3","Grade 2 - 5","Spiders are amazing creatures that live unique lives. But some spiders are truly terrifying. These murderous monsters live all over the world, building webs and catching prey. This series puts readers on the hunt with some of the world’s most interesting arthropods. Some of these spiders’ names speak for themselves—bird-eating spiders and funnel web spiders, to name a few. Others, like the black widow and trapdoor spider, just sound plain scary. With colorful photographs showing these eight-legged arachnids up close and personal, readers will love getting an in-depth look at some of the scariest-looking animals on Earth.","English",135.6,101.7,null,"24 pp.",{"$f":"Table1[[#This Row],['# Books]]*Table1[[#This Row],[QTY]]","v":0},{"$f":"Table1[[#This Row],[QTY]]*Table1[[#This Row],[S&L Price]]","v":0}]
[null,101,57,"Spiders: Eight-Legged Terrors",1,"Bird-Eating Spiders","Library Bound Book",null,"978-1-4824-6486-3",2018,"August 2017","Library","8.500 X 8.500","Author","P. V. Knight",null,null,null,null,"M",null,"Grade 2 - 3","Grade 2 - 5","Skeptical readers may not think a spider could take down and eat a bird, but this book certainly proves it. These menacing monsters stalk their flying prey, though they mostly stick to insects and other, easier-to-hunt victims. One of the most amazing things readers discover about this fierce predator is that—much like other scary, hairy tarantulas—they’re mostly harmless to humans! Bird-eating spiders will only bite when they’re scared or feel they’re under attack, and it’s only as bad as a wasp sting!","English",22.6,16.95,"595.4/4--dc23","24 pp.",{"$f":"Table1[[#This Row],['# Books]]*Table1[[#This Row],[QTY]]","v":0},{"$f":"Table1[[#This Row],[QTY]]*Table1[[#This Row],[S&L Price]]","v":0}]
[null,101,57,"Spiders: Eight-Legged Terrors",1,"Bird-Eating Spiders","eBook",null,"978-1-4824-6494-8",2018,"August 2017",null,null,"Author","P. V. Knight",null,null,null,null,"M",null,"Grade 2 - 3","Grade 2 - 5","Skeptical readers may not think a spider could take down and eat a bird, but this book certainly proves it. These menacing monsters stalk their flying prey, though they mostly stick to insects and other, easier-to-hunt victims. One of the most amazing things readers discover about this fierce predator is that—much like other scary, hairy tarantulas—they’re mostly harmless to humans! Bird-eating spiders will only bite when they’re scared or feel they’re under attack, and it’s only as bad as a wasp sting!","English",22.6,16.95,"595.4/4--dc23","24 pp.",{"$f":"Table1[[#This Row],['# Books]]*Table1[[#This Row],[QTY]]","v":0},{"$f":"Table1[[#This Row],[QTY]]*Table1[[#This Row],[S&L Price]]","v":0}]
[null,101,57,"Spiders: Eight-Legged Terrors",1,"Black Widows","Library Bound Book",null,"978-1-4824-6497-9",2018,"August 2017","Library","8.500 X 8.500","Author","Jill Keppeler",null,null,null,null,"M",null,"Grade 2 - 3","Grade 2 - 5","The name “black widow” strikes fear into hearts of those living where these spiders reside. These fearsome arachnids have venom about 15 times more powerful than that of a rattlesnake! With their distinctive black bodies and red mark on their abdomens, black widows terrorize those afraid of spiders and their poisonous bites. This book explores how these creatures live, where to find them, and what they use all that venom for. It also gives readers a look at why these spiders are so feared, and what to do if they bite humans.","English",22.6,16.95,"595.4’4--dc23","24 pp.",{"$f":"Table1[[#This Row],['# Books]]*Table1[[#This Row],[QTY]]","v":0},{"$f":"Table1[[#This Row],[QTY]]*Table1[[#This Row],[S&L Price]]","v":0}]
[null,101,57,"Spiders: Eight-Legged Terrors",1,"Black Widows","eBook",null,"978-1-4824-6498-6",2018,"August 2017",null,null,"Author","Jill Keppeler",null,null,null,null,"M",null,"Grade 2 - 3","Grade 2 - 5","The name “black widow” strikes fear into hearts of those living where these spiders reside. These fearsome arachnids have venom about 15 times more powerful than that of a rattlesnake! With their distinctive black bodies and red mark on their abdomens, black widows terrorize those afraid of spiders and their poisonous bites. This book explores how these creatures live, where to find them, and what they use all that venom for. It also gives readers a look at why these spiders are so feared, and what to do if they bite humans.","English",22.6,16.95,"595.4’4--dc23","24 pp.",{"$f":"Table1[[#This Row],['# Books]]*Table1[[#This Row],[QTY]]","v":0},{"$f":"Table1[[#This Row],[QTY]]*Table1[[#This Row],[S&L Price]]","v":0}]
[null,101,57,"Spiders: Eight-Legged Terrors",1,"Brown Recluse Spiders","Library Bound Book",null,"978-1-5382-0203-6",2018,"August 2017","Library","8.500 X 8.500","Author","Sarah Machajewski",null,null,null,null,"M",null,"Grade 2 - 3","Grade 2 - 5","These killer spiders don’t like to be bothered, and most people will gladly keep their distance. When they do get close to humans, however, it can be very dangerous. A brown recluse bite is full of venom and needs immediate medical attention. This book is full of facts about these fierce arachnids, how they live, and what to do if you find yourself face-to-face with the feared brown recluse. Readers will also discover how the changing climate on Earth is harming these animals and what can be done to protect its habitats.","English",22.6,16.95,"595.4’4--dc23","24 pp.",{"$f":"Table1[[#This Row],['# Books]]*Table1[[#This Row],[QTY]]","v":0},{"$f":"Table1[[#This Row],[QTY]]*Table1[[#This Row],[S&L Price]]","v":0}]
[null,101,57,"Spiders: Eight-Legged Terrors",1,"Brown Recluse Spiders","eBook",null,"978-1-5382-0204-3",2018,"August 2017",null,null,"Author","Sarah Machajewski",null,null,null,null,"M",null,"Grade 2 - 3","Grade 2 - 5","These killer spiders don’t like to be bothered, and most people will gladly keep their distance. When they do get close to humans, however, it can be very dangerous. A brown recluse bite is full of venom and needs immediate medical attention. This book is full of facts about these fierce arachnids, how they live, and what to do if you find yourself face-to-face with the feared brown recluse. Readers will also discover how the changing climate on Earth is harming these animals and what can be done to protect its habitats.","English",22.6,16.95,"595.4’4--dc23","24 pp.",{"$f":"Table1[[#This Row],['# Books]]*Table1[[#This Row],[QTY]]","v":0},{"$f":"Table1[[#This Row],[QTY]]*Table1[[#This Row],[S&L Price]]","v":0}]
[null,101,57,"Spiders: Eight-Legged Terrors",1,"Funnel-Web Spiders","Library Bound Book",null,"978-1-5382-0207-4",2018,"August 2017","Library","8.500 X 8.500","Author","Amy Hayes",null,null,null,null,"M",null,"Grade 2 - 3","Grade 2 - 5","The good news is that unless you live in Australia, you likely won’t encounter funnel-web spiders in your backyard. Vacationing there, though, exposes you to more than 40 kinds of funnel-web spiders, and many are extremely poisonous. This book takes a look at many of these amazing creatures, exploring how they build their funnel-shaped burrows and where they like to live. With full-color photographs of these amazing arachnids in their foliage-filled habitats, readers will discover the wild world of these small but dangerous creatures.","English",22.6,16.95,"595.4’4--dc23","24 pp.",{"$f":"Table1[[#This Row],['# Books]]*Table1[[#This Row],[QTY]]","v":0},{"$f":"Table1[[#This Row],[QTY]]*Table1[[#This Row],[S&L Price]]","v":0}]
[null,101,57,"Spiders: Eight-Legged Terrors",1,"Funnel-Web Spiders","eBook",null,"978-1-5382-0208-1",2018,"August 2017",null,null,"Author","Amy Hayes",null,null,null,null,"M",null,"Grade 2 - 3","Grade 2 - 5","The good news is that unless you live in Australia, you likely won’t encounter funnel-web spiders in your backyard. Vacationing there, though, exposes you to more than 40 kinds of funnel-web spiders, and many are extremely poisonous. This book takes a look at many of these amazing creatures, exploring how they build their funnel-shaped burrows and where they like to live. With full-color photographs of these amazing arachnids in their foliage-filled habitats, readers will discover the wild world of these small but dangerous creatures.","English",22.6,16.95,"595.4’4--dc23","24 pp.",{"$f":"Table1[[#This Row],['# Books]]*Table1[[#This Row],[QTY]]","v":0},{"$f":"Table1[[#This Row],[QTY]]*Table1[[#This Row],[S&L Price]]","v":0}]
[null,101,57,"Spiders: Eight-Legged Terrors",1,"Giant Huntsman Spiders","Library Bound Book",null,"978-1-5382-0211-1",2018,"August 2017","Library","8.500 X 8.500","Author","Melissa Raé Shofner",null,null,null,null,"M",null,"Grade 2 - 3","Grade 2 - 5","If a spider has “giant” in its name, it’s bound to terrorize people of all ages. These large arachnids are the world’s largest spider by leg span. What’s more—they don’t build webs! Instead, they hunt down their prey like so many other predators. Through full-color photographs of these dazzling creatures and engaging text, readers explore the world of the giant huntsman to learn how and where they live, and just how large these monster creatures can grow.","English",22.6,16.95,"595.4’4--dc23","24 pp.",{"$f":"Table1[[#This Row],['# Books]]*Table1[[#This Row],[QTY]]","v":0},{"$f":"Table1[[#This Row],[QTY]]*Table1[[#This Row],[S&L Price]]","v":0}]
[null,101,57,"Spiders: Eight-Legged Terrors",1,"Giant Huntsman Spiders","eBook",null,"978-1-5382-0212-8",2018,"August 2017",null,null,"Author","Melissa Raé Shofner",null,null,null,null,"M",null,"Grade 2 - 3","Grade 2 - 5","If a spider has “giant” in its name, it’s bound to terrorize people of all ages. These large arachnids are the world’s largest spider by leg span. What’s more—they don’t build webs! Instead, they hunt down their prey like so many other predators. Through full-color photographs of these dazzling creatures and engaging text, readers explore the world of the giant huntsman to learn how and where they live, and just how large these monster creatures can grow.","English",22.6,16.95,"595.4’4--dc23","24 pp.",{"$f":"Table1[[#This Row],['# Books]]*Table1[[#This Row],[QTY]]","v":0},{"$f":"Table1[[#This Row],[QTY]]*Table1[[#This Row],[S&L Price]]","v":0}]
[null,101,57,"Spiders: Eight-Legged Terrors",1,"Trap-Door Spiders","Library Bound Book",null,"978-1-5382-0215-9",2018,"August 2017","Library","8.500 X 8.500","Author","M. H. Seeley",null,null,null,null,"M",null,"Grade 2 - 3","Grade 2 - 5","It’s a good thing this spider’s prey can’t read, because this spider’s name gives away its secret. Trap-door spiders build burrows that double as slick traps they use to catch a tasty meal. These cunning eight-legged terrors hide at the bottom of the burrow and wait for dinner to show up at its door. Through incredible photographs showing the building and use of these nests, readers explore the world of trap-door spiders and see how they differ from other relatives in the arachnid family.","English",22.6,16.95,"595.4’4--dc23","24 pp.",{"$f":"Table1[[#This Row],['# Books]]*Table1[[#This Row],[QTY]]","v":0},{"$f":"Table1[[#This Row],[QTY]]*Table1[[#This Row],[S&L Price]]","v":0}]
[null,101,57,"Spiders: Eight-Legged Terrors",1,"Trap-Door Spiders","eBook",null,"978-1-5382-0216-6",2018,"August 2017",null,null,"Author","M. H. Seeley",null,null,null,null,"M",null,"Grade 2 - 3","Grade 2 - 5","It’s a good thing this spider’s prey can’t read, because this spider’s name gives away its secret. Trap-door spiders build burrows that double as slick traps they use to catch a tasty meal. These cunning eight-legged terrors hide at the bottom of the burrow and wait for dinner to show up at its door. Through incredible photographs showing the building and use of these nests, readers explore the world of trap-door spiders and see how they differ from other relatives in the arachnid family.","English",22.6,16.95,"595.4’4--dc23","24 pp.",{"$f":"Table1[[#This Row],['# Books]]*Table1[[#This Row],[QTY]]","v":0},{"$f":"Table1[[#This Row],[QTY]]*Table1[[#This Row],[S&L Price]]","v":0}]
[null,null,58,"Earth Under Attack!",6,"Earth Under Attack!","Library Set",null,"978-1-5382-1430-5",2018,"January 2018","Library","7.250 X 9.250",null,null,null,null,null,null,null,null,"Grade 5","Grade 4 - 8","Natural disasters are powerful forces of nature that deeply affect the lives of those who live through them. This series explores both the science behind these disasters as well as the often tragic aftermath of earthquakes, forest fires, hurricanes, tornadoes, tsunamis, and volcanoes. Each book uses a news-style layout complete with attention-grabbing headlines and eyewitness accounts to introduce key science curriculum material while telling the harrowing tales of recent disasters, including the cleanup process and long-lasting effects of each.","English",191.7,143.69999999999999,null,"48 pp.",{"$f":"Table1[[#This Row],['# Books]]*Table1[[#This Row],[QTY]]","v":0},{"$f":"Table1[[#This Row],[QTY]]*Table1[[#This Row],[S&L Price]]","v":0}]
[null,null,58,"Earth Under Attack!",1,"Earthquake Shatters Country","Library Bound Book",null,"978-1-5382-1300-1",2018,"January 2018","Library","7.250 X 9.250","Author, Author","Louise Spilsbury, Richard Spilsbury",null,null,null,null,"T",null,"Grade 5","Grade 4 - 8","In many parts of the world, earthquakes are a fact of life. From slight tremors to destructive quakes measuring above 5.5 on the Richter scale, earthquakes all start the same way. Readers explore the causes and effects of earthquakes throughout this book, studying recent major earthquakes that have happened around the world along the way. Presented in an exciting news magazine style complete with splashy headlines and eyewitness accounts of devastating quakes, the main content and statistics boxes complement STEM curriculums through detailed earth science information and discussion of the technology used before, during, and after earthquakes.","English",31.95,23.95,"551.22--dc23","48 pp.",{"$f":"Table1[[#This Row],['# Books]]*Table1[[#This Row],[QTY]]","v":0},{"$f":"Table1[[#This Row],[QTY]]*Table1[[#This Row],[S&L Price]]","v":0}]
[null,null,58,"Earth Under Attack!",1,"Earthquake Shatters Country","eBook",null,"978-1-5382-1302-5",2018,"January 2018",null,null,"Author, Author","Louise Spilsbury, Richard Spilsbury",null,null,null,null,"T",null,"Grade 5","Grade 4 - 8","In many parts of the world, earthquakes are a fact of life. From slight tremors to destructive quakes measuring above 5.5 on the Richter scale, earthquakes all start the same way. Readers explore the causes and effects of earthquakes throughout this book, studying recent major earthquakes that have happened around the world along the way. Presented in an exciting news magazine style complete with splashy headlines and eyewitness accounts of devastating quakes, the main content and statistics boxes complement STEM curriculums through detailed earth science information and discussion of the technology used before, during, and after earthquakes.","English",31.95,23.95,"551.22--dc23","48 pp.",{"$f":"Table1[[#This Row],['# Books]]*Table1[[#This Row],[QTY]]","v":0},{"$f":"Table1[[#This Row],[QTY]]*Table1[[#This Row],[S&L Price]]","v":0}]
[null,null,58,"Earth Under Attack!",1,"Forest Fire Creates Inferno","Library Bound Book",null,"978-1-5382-1305-6",2018,"January 2018","Library","7.250 X 9.250","Author, Author","Louise Spilsbury, Richard Spilsbury",null,null,null,null,"T",null,"Grade 5","Grade 4 - 8","Forest fires can happen naturally, but the truth is that people cause them, too, often to terrible consequences. Readers learn how they start in both cases as well as how these fires spread, the damage they cause the environment, and how firefighters fight them on the ground and in the air. Case studies of recent forest fires, including the 2016 fires in California, provide readers with real-life examples to encourage connections between the book's STEM content and social studies concepts of conservation, community engagement, and the huge project of cleaning up a natural disaster like a forest fire.","English",31.95,23.95,"634.9'618--dc23","48 pp.",{"$f":"Table1[[#This Row],['# Books]]*Table1[[#This Row],[QTY]]","v":0},{"$f":"Table1[[#This Row],[QTY]]*Table1[[#This Row],[S&L Price]]","v":0}]
[null,null,58,"Earth Under Attack!",1,"Forest Fire Creates Inferno","eBook",null,"978-1-5382-1306-3",2018,"January 2018",null,null,"Author, Author","Louise Spilsbury, Richard Spilsbury",null,null,null,null,"T",null,"Grade 5","Grade 4 - 8","Forest fires can happen naturally, but the truth is that people cause them, too, often to terrible consequences. Readers learn how they start in both cases as well as how these fires spread, the damage they cause the environment, and how firefighters fight them on the ground and in the air. Case studies of recent forest fires, including the 2016 fires in California, provide readers with real-life examples to encourage connections between the book's STEM content and social studies concepts of conservation, community engagement, and the huge project of cleaning up a natural disaster like a forest fire.","English",31.95,23.95,"634.9'618--dc23","48 pp.",{"$f":"Table1[[#This Row],['# Books]]*Table1[[#This Row],[QTY]]","v":0},{"$f":"Table1[[#This Row],[QTY]]*Table1[[#This Row],[S&L Price]]","v":0}]
[null,null,58,"Earth Under Attack!",1,"Hurricane Hits the Coast","Library Bound Book",null,"978-1-5382-1309-4",2018,"January 2018","Library","7.250 X 9.250","Author, Author","Louise Spilsbury, Richard Spilsbury",null,null,null,null,"T",null,"Grade 5","Grade 4 - 8","The Atlantic coast of the United States faces high winds, torrential rain, and more during hurricane season from about August to October. When these huge storms hit land, the streets may flood and buildings can be completely leveled. Seeing devastation like that on the news can leave readers with a lot of questions. This book introduces readers to how hurricanes form, why they can be so strong, and what communities do to prepare for them. Stories of recent hurricanes make these huge storms seem more real to readers and help them understand the consequences of natural disasters.","English",31.95,23.95,"551.55'2--dc23","48 pp.",{"$f":"Table1[[#This Row],['# Books]]*Table1[[#This Row],[QTY]]","v":0},{"$f":"Table1[[#This Row],[QTY]]*Table1[[#This Row],[S&L Price]]","v":0}]
[null,null,58,"Earth Under Attack!",1,"Hurricane Hits the Coast","eBook",null,"978-1-5382-1310-0",2018,"January 2018",null,null,"Author, Author","Louise Spilsbury, Richard Spilsbury",null,null,null,null,"T",null,"Grade 5","Grade 4 - 8","The Atlantic coast of the United States faces high winds, torrential rain, and more during hurricane season from about August to October. When these huge storms hit land, the streets may flood and buildings can be completely leveled. Seeing devastation like that on the news can leave readers with a lot of questions. This book introduces readers to how hurricanes form, why they can be so strong, and what communities do to prepare for them. Stories of recent hurricanes make these huge storms seem more real to readers and help them understand the consequences of natural disasters.","English",31.95,23.95,"551.55'2--dc23","48 pp.",{"$f":"Table1[[#This Row],['# Books]]*Table1[[#This Row],[QTY]]","v":0},{"$f":"Table1[[#This Row],[QTY]]*Table1[[#This Row],[S&L Price]]","v":0}]
[null,null,58,"Earth Under Attack!",1,"Tornado Rips Up City","Library Bound Book",null,"978-1-5382-1313-1",2018,"January 2018","Library","7.250 X 9.250","Author, Author","Louise Spilsbury, Richard Spilsbury",null,null,null,null,"T",null,"Grade 5","Grade 4 - 8","It's important for students to understand how tornadoes form, their structure, and when and where they're likely to strike. Perhaps even more important is learning the damage they cause and how they affect communities around the world. This book offers readers both important STEM content they'll need for science class as well as real stories of recent tornadoes, including eye-opening photographs of the devastation they may cause and statistics boxes quantifying the damage. A news magazine style layout makes each section seem fresh and exciting, while also allowing for the inclusion of witness quotes and headlines.","English",31.95,23.95,"551.55'3--dc23","48 pp.",{"$f":"Table1[[#This Row],['# Books]]*Table1[[#This Row],[QTY]]","v":0},{"$f":"Table1[[#This Row],[QTY]]*Table1[[#This Row],[S&L Price]]","v":0}]
[null,null,58,"Earth Under Attack!",1,"Tornado Rips Up City","eBook",null,"978-1-5382-1314-8",2018,"January 2018",null,null,"Author, Author","Louise Spilsbury, Richard Spilsbury",null,null,null,null,"T",null,"Grade 5","Grade 4 - 8","It's important for students to understand how tornadoes form, their structure, and when and where they're likely to strike. Perhaps even more important is learning the damage they cause and how they affect communities around the world. This book offers readers both important STEM content they'll need for science class as well as real stories of recent tornadoes, including eye-opening photographs of the devastation they may cause and statistics boxes quantifying the damage. A news magazine style layout makes each section seem fresh and exciting, while also allowing for the inclusion of witness quotes and headlines.","English",31.95,23.95,"551.55'3--dc23","48 pp.",{"$f":"Table1[[#This Row],['# Books]]*Table1[[#This Row],[QTY]]","v":0},{"$f":"Table1[[#This Row],[QTY]]*Table1[[#This Row],[S&L Price]]","v":0}]
[null,null,58,"Earth Under Attack!",1,"Tsunami Crushes Coastline","Library Bound Book",null,"978-1-5382-1317-9",2018,"January 2018","Library","7.250 X 9.250","Author, Author","Louise Spilsbury, Richard Spilsbury",null,null,null,null,"T",null,"Grade 5","Grade 4 - 8","The Fukushima nuclear power plant was seriously damaged by a tsunami in 2011. Today, environmental problems continue, showing just how far-reaching damage from the massive waves of a tsunami can be. Other headline-grabbing tsunamis are profiled in this volume, providing readers with true-life examples as they learn about what causes tsunamis, where they are likely to hit, and how areas prepare for them throughout the main content. Full-color photographs of tsunami-caused devastation accompany the STEM content, boxes of real disaster statistics, and quotes from those who lived through a tsunami.","English",31.95,23.95,"551.46'37--dc23","48 pp.",{"$f":"Table1[[#This Row],['# Books]]*Table1[[#This Row],[QTY]]","v":0},{"$f":"Table1[[#This Row],[QTY]]*Table1[[#This Row],[S&L Price]]","v":0}]
[null,null,58,"Earth Under Attack!",1,"Tsunami Crushes Coastline","eBook",null,"978-1-5382-1318-6",2018,"January 2018",null,null,"Author, Author","Louise Spilsbury, Richard Spilsbury",null,null,null,null,"T",null,"Grade 5","Grade 4 - 8","The Fukushima nuclear power plant was seriously damaged by a tsunami in 2011. Today, environmental problems continue, showing just how far-reaching damage from the massive waves of a tsunami can be. Other headline-grabbing tsunamis are profiled in this volume, providing readers with true-life examples as they learn about what causes tsunamis, where they are likely to hit, and how areas prepare for them throughout the main content. Full-color photographs of tsunami-caused devastation accompany the STEM content, boxes of real disaster statistics, and quotes from those who lived through a tsunami.","English",31.95,23.95,"551.46'37--dc23","48 pp.",{"$f":"Table1[[#This Row],['# Books]]*Table1[[#This Row],[QTY]]","v":0},{"$f":"Table1[[#This Row],[QTY]]*Table1[[#This Row],[S&L Price]]","v":0}]
[null,null,58,"Earth Under Attack!",1,"Volcano Melts Village","Library Bound Book",null,"978-1-5382-1321-6",2018,"January 2018","Library","7.250 X 9.250","Author, Author","Louise Spilsbury, Richard Spilsbury",null,null,null,null,"T",null,"Grade 5","Grade 4 - 8","In 1999, about 15,000 people who lived within the range of the Tungurahua volcano in Ecuador were evacuated. They weren't allowed to return home for a year. Since then, the volcanic activity there has been dangerous enough to cause more evacuations, including in 2010 and 2016. Tungurahua is just one recent volcanic eruption included in this book, used as an example of the devastation this natural disaster can cause. The main content, presented in an exciting news magazine style, offers readers a thorough look at how volcanoes form, how scientists use technology to predict eruptions, and terrifying statistics showing volcanoes' aftermath.","English",31.95,23.95,"551.21--dc23","48 pp.",{"$f":"Table1[[#This Row],['# Books]]*Table1[[#This Row],[QTY]]","v":0},{"$f":"Table1[[#This Row],[QTY]]*Table1[[#This Row],[S&L Price]]","v":0}]
[null,null,58,"Earth Under Attack!",1,"Volcano Melts Village","eBook",null,"978-1-5382-1322-3",2018,"January 2018",null,null,"Author, Author","Louise Spilsbury, Richard Spilsbury",null,null,null,null,"T",null,"Grade 5","Grade 4 - 8","In 1999, about 15,000 people who lived within the range of the Tungurahua volcano in Ecuador were evacuated. They weren't allowed to return home for a year. Since then, the volcanic activity there has been dangerous enough to cause more evacuations, including in 2010 and 2016. Tungurahua is just one recent volcanic eruption included in this book, used as an example of the devastation this natural disaster can cause. The main content, presented in an exciting news magazine style, offers readers a thorough look at how volcanoes form, how scientists use technology to predict eruptions, and terrifying statistics showing volcanoes' aftermath.","English",31.95,23.95,"551.21--dc23","48 pp.",{"$f":"Table1[[#This Row],['# Books]]*Table1[[#This Row],[QTY]]","v":0},{"$f":"Table1[[#This Row],[QTY]]*Table1[[#This Row],[S&L Price]]","v":0}]
[null,103,59,"Unnatural Disasters",6,"Unnatural Disasters","Library Set",null,"978-1-5382-0478-8",2018,"August 2017","Library","6.500 X 9.125",null,null,null,null,null,null,null,null,"Grade 4 - 5","Grade 4 - 6","Today’s readers have grown up on a planet increasingly ravaged by industrial accidents and abuses. This series explores several of the dire examples of humans’ impact on Earth, including smog, chemical spills, and more. This series sounds the alarm to readers, calling for increased stewardship of the planet and giving them an environmental perspective that will help reinforce lessons on nature, recycling, community, and activism. Notably, each book ends with a specific directive on how the reader can help the planet.","English",159.6,119.7,null,"32 pp.",{"$f":"Table1[[#This Row],['# Books]]*Table1[[#This Row],[QTY]]","v":0},{"$f":"Table1[[#This Row],[QTY]]*Table1[[#This Row],[S&L Price]]","v":0}]
[null,103,59,"Unnatural Disasters",1,"Chemical Catastrophes","Library Bound Book",null,"978-1-5382-0418-4",2018,"August 2017","Library","6.500 X 9.125","Author","Danielle Haynes",null,null,null,null,"T",null,"Grade 4 - 5","Grade 4 - 6","DDT, Agent Orange, and asbestos are just some of the many frightening examples used in this book to illustrate how people's disastrous decisions impact human life. Along with compelling main text and arresting historical photographs, sidebars of harrowing statistics help readers understand the scope of the damage more fully. Each spread also includes a fact box that tells the lasting effects of each disaster and chronicles the legal changes made, and not made, in the wake of these events. This book concludes with a discussion of what work still needs to be done to reverse and prevent chemical disasters.","English",26.6,19.95,"363.11’09--dc23","32 pp.",{"$f":"Table1[[#This Row],['# Books]]*Table1[[#This Row],[QTY]]","v":0},{"$f":"Table1[[#This Row],[QTY]]*Table1[[#This Row],[S&L Price]]","v":0}]
[null,103,59,"Unnatural Disasters",1,"Chemical Catastrophes","eBook",null,"978-1-5382-0419-1",2018,"August 2017",null,null,"Author","Danielle Haynes",null,null,null,null,"T",null,"Grade 4 - 5","Grade 4 - 6","DDT, Agent Orange, and asbestos are just some of the many frightening examples used in this book to illustrate how people's disastrous decisions impact human life. Along with compelling main text and arresting historical photographs, sidebars of harrowing statistics help readers understand the scope of the damage more fully. Each spread also includes a fact box that tells the lasting effects of each disaster and chronicles the legal changes made, and not made, in the wake of these events. This book concludes with a discussion of what work still needs to be done to reverse and prevent chemical disasters.","English",26.6,19.95,"363.11’09--dc23","32 pp.",{"$f":"Table1[[#This Row],['# Books]]*Table1[[#This Row],[QTY]]","v":0},{"$f":"Table1[[#This Row],[QTY]]*Table1[[#This Row],[S&L Price]]","v":0}]
[null,103,59,"Unnatural Disasters",1,"Hazardous Trash","Library Bound Book",null,"978-1-5382-0438-2",2018,"August 2017","Library","6.500 X 9.125","Author","Melissa Raé Shofner",null,null,null,null,"S",null,"Grade 4 - 5","Grade 4 - 6","People have accumulated a frightening and environmentally devastating amount of garbage—even in outer space! This book rips from the headlines the powerful stories of some of the world’s worst dumps, including Mumbai in India, Dandora in Kenya, and more. Fact boxes chronicle the legal changes made—and not made—in each place with regard to waste management. Statistics presented in sidebars on each spread illuminate the problem for readers using frighteningly true numbers. This book reinforces lessons on recycling, littering, and community activism, and concludes with instructions on how to help with Earth’s garbage problem.","English",26.6,19.95,"363.72/88--dc23","32 pp.",{"$f":"Table1[[#This Row],['# Books]]*Table1[[#This Row],[QTY]]","v":0},{"$f":"Table1[[#This Row],[QTY]]*Table1[[#This Row],[S&L Price]]","v":0}]
[null,103,59,"Unnatural Disasters",1,"Hazardous Trash","eBook",null,"978-1-5382-0439-9",2018,"August 2017",null,null,"Author","Melissa Raé Shofner",null,null,null,null,"S",null,"Grade 4 - 5","Grade 4 - 6","People have accumulated a frightening and environmentally devastating amount of garbage—even in outer space! This book rips from the headlines the powerful stories of some of the world’s worst dumps, including Mumbai in India, Dandora in Kenya, and more. Fact boxes chronicle the legal changes made—and not made—in each place with regard to waste management. Statistics presented in sidebars on each spread illuminate the problem for readers using frighteningly true numbers. This book reinforces lessons on recycling, littering, and community activism, and concludes with instructions on how to help with Earth’s garbage problem.","English",26.6,19.95,"363.72/88--dc23","32 pp.",{"$f":"Table1[[#This Row],['# Books]]*Table1[[#This Row],[QTY]]","v":0},{"$f":"Table1[[#This Row],[QTY]]*Table1[[#This Row],[S&L Price]]","v":0}]
[null,103,59,"Unnatural Disasters",1,"Lethal Leaks and Spills","Library Bound Book",null,"978-1-5382-0442-9",2018,"August 2017","Library","6.500 X 9.125","Author","Danielle Haynes",null,null,null,null,"T",null,"Grade 4 - 5","Grade 4 - 6","Industrial accidents occur all over the world at an alarming rate, and readers have no doubt heard of at least one in their lifetime. This topical book chronicles the frightening stories of several of the world’s worst examples of chemical leaks and spills, detailing the environmental impact not only in the text, but also through graphic, full-color images, and through sidebars full of real statistics. Fact boxes chronicle the legal response in the direct wake of disasters like Bhopal, Amoco Cadiz, Exxon Valdez, Deepwater Horizon, and more. The book closes with a note about activism and how to help.","English",26.6,19.95,"363.17--dc23","32 pp.",{"$f":"Table1[[#This Row],['# Books]]*Table1[[#This Row],[QTY]]","v":0},{"$f":"Table1[[#This Row],[QTY]]*Table1[[#This Row],[S&L Price]]","v":0}]
[null,103,59,"Unnatural Disasters",1,"Lethal Leaks and Spills","eBook",null,"978-1-5382-0443-6",2018,"August 2017",null,null,"Author","Danielle Haynes",null,null,null,null,"T",null,"Grade 4 - 5","Grade 4 - 6","Industrial accidents occur all over the world at an alarming rate, and readers have no doubt heard of at least one in their lifetime. This topical book chronicles the frightening stories of several of the world’s worst examples of chemical leaks and spills, detailing the environmental impact not only in the text, but also through graphic, full-color images, and through sidebars full of real statistics. Fact boxes chronicle the legal response in the direct wake of disasters like Bhopal, Amoco Cadiz, Exxon Valdez, Deepwater Horizon, and more. The book closes with a note about activism and how to help.","English",26.6,19.95,"363.17--dc23","32 pp.",{"$f":"Table1[[#This Row],['# Books]]*Table1[[#This Row],[QTY]]","v":0},{"$f":"Table1[[#This Row],[QTY]]*Table1[[#This Row],[S&L Price]]","v":0}]
[null,103,59,"Unnatural Disasters",1,"Ravaged Landscapes","Library Bound Book",null,"978-1-5382-0521-1",2018,"August 2017","Library","6.500 X 9.125","Author","Sarah Machajewski",null,null,null,null,"T",null,"Grade 4 - 5","Grade 4 - 6","Is there a more terrifying example than the “Door to Hell” in Turkmenistan of the negative impact of people on Earth? But there are many, many more. This and several other frightening examples serve as prime and telling true stories in this book. Each spread has a fact box illuminating legal changes made—and not made—as a response to the disaster, and a statistics sidebar that reinforces the immense impact of each disaster through numbers. The book ends with a discussion of increased stewardship of the planet, calling readers to activism in specific ways.","English",26.6,19.95,"363.34--dc23","32 pp.",{"$f":"Table1[[#This Row],['# Books]]*Table1[[#This Row],[QTY]]","v":0},{"$f":"Table1[[#This Row],[QTY]]*Table1[[#This Row],[S&L Price]]","v":0}]
[null,103,59,"Unnatural Disasters",1,"Ravaged Landscapes","eBook",null,"978-1-5382-0522-8",2018,"August 2017",null,null,"Author","Sarah Machajewski",null,null,null,null,"T",null,"Grade 4 - 5","Grade 4 - 6","Is there a more terrifying example than the “Door to Hell” in Turkmenistan of the negative impact of people on Earth? But there are many, many more. This and several other frightening examples serve as prime and telling true stories in this book. Each spread has a fact box illuminating legal changes made—and not made—as a response to the disaster, and a statistics sidebar that reinforces the immense impact of each disaster through numbers. The book ends with a discussion of increased stewardship of the planet, calling readers to activism in specific ways.","English",26.6,19.95,"363.34--dc23","32 pp.",{"$f":"Table1[[#This Row],['# Books]]*Table1[[#This Row],[QTY]]","v":0},{"$f":"Table1[[#This Row],[QTY]]*Table1[[#This Row],[S&L Price]]","v":0}]
[null,103,59,"Unnatural Disasters",1,"Smothered in Smog","Library Bound Book",null,"978-1-5382-0524-2",2018,"August 2017","Library","6.500 X 9.125","Author","Kate Light",null,null,null,null,"S",null,"Grade 4 - 5","Grade 4 - 6","Smog is in today’s headlines regularly, with vivid photographs of hoards of people wearing masks as they commute. There aren’t many things that acutely threaten the human ecosystem like smog, as the death tolls of the London, Donora, Shanghai, and Meuse Valley disasters show. This is an unfortunately topical book, chronicling several historic episodes—some lasting days, some years—through both focused text and powerful sidebars showing real statistics. Each spread has a fact box discussing what legal changes were made—and not made—following these events. The final chapter cites specific ways readers can help.","English",26.6,19.95,"363.739’2--dc23","32 pp.",{"$f":"Table1[[#This Row],['# Books]]*Table1[[#This Row],[QTY]]","v":0},{"$f":"Table1[[#This Row],[QTY]]*Table1[[#This Row],[S&L Price]]","v":0}]
[null,103,59,"Unnatural Disasters",1,"Smothered in Smog","eBook",null,"978-1-5382-0526-6",2018,"August 2017",null,null,"Author","Kate Light",null,null,null,null,"S",null,"Grade 4 - 5","Grade 4 - 6","Smog is in today’s headlines regularly, with vivid photographs of hoards of people wearing masks as they commute. There aren’t many things that acutely threaten the human ecosystem like smog, as the death tolls of the London, Donora, Shanghai, and Meuse Valley disasters show. This is an unfortunately topical book, chronicling several historic episodes—some lasting days, some years—through both focused text and powerful sidebars showing real statistics. Each spread has a fact box discussing what legal changes were made—and not made—following these events. The final chapter cites specific ways readers can help.","English",26.6,19.95,"363.739’2--dc23","32 pp.",{"$f":"Table1[[#This Row],['# Books]]*Table1[[#This Row],[QTY]]","v":0},{"$f":"Table1[[#This Row],[QTY]]*Table1[[#This Row],[S&L Price]]","v":0}]
[null,103,59,"Unnatural Disasters",1,"Wasted Waters","Library Bound Book",null,"978-1-5382-0529-7",2018,"August 2017","Library","6.500 X 9.125","Author","Emily Mahoney",null,null,null,null,"T",null,"Grade 4 - 5","Grade 4 - 6","Disasters like Love Canal and more recently in Flint, Michigan, happened slowly over years, and caused lasting damage. A powerful way to demonstrate cause and effect in ecosystems, this book chronicles each disaster’s story, and even the resulting legal battles. This book is lamentably timely, and all readers will easily be drawn in by these morality stories of corporations’ terrible impact in the effort to save money. Statistics on each spread communicate the impact of the disasters, another way to drive home to readers the damage they cause. The final pages aim to engage readers in environmental conversation and good citizenship through specific ways that affect our water.","English",26.6,19.95,"363.739’4--dc23","32 pp.",{"$f":"Table1[[#This Row],['# Books]]*Table1[[#This Row],[QTY]]","v":0},{"$f":"Table1[[#This Row],[QTY]]*Table1[[#This Row],[S&L Price]]","v":0}]
[null,103,59,"Unnatural Disasters",1,"Wasted Waters","eBook",null,"978-1-5382-0530-3",2018,"August 2017",null,null,"Author","Emily Mahoney",null,null,null,null,"T",null,"Grade 4 - 5","Grade 4 - 6","Disasters like Love Canal and more recently in Flint, Michigan, happened slowly over years, and caused lasting damage. A powerful way to demonstrate cause and effect in ecosystems, this book chronicles each disaster’s story, and even the resulting legal battles. This book is lamentably timely, and all readers will easily be drawn in by these morality stories of corporations’ terrible impact in the effort to save money. Statistics on each spread communicate the impact of the disasters, another way to drive home to readers the damage they cause. The final pages aim to engage readers in environmental conversation and good citizenship through specific ways that affect our water.","English",26.6,19.95,"363.739’4--dc23","32 pp.",{"$f":"Table1[[#This Row],['# Books]]*Table1[[#This Row],[QTY]]","v":0},{"$f":"Table1[[#This Row],[QTY]]*Table1[[#This Row],[S&L Price]]","v":0}]
[null,106,60,"Mind-Blowing Science Experiments",6,"Mind-Blowing Science Experiments","Library Set",null,"978-1-5382-0827-4",2018,"August 2017","Library","8.500 X 11.00",null,null,null,null,null,null,null,null,"Grade 4 - 5","Grade 4 - 6","From homemade lava lamps to do-it-yourself pizza ovens, this series is bursting with brilliant experiments readers can easily do at home! Readers will learn how to apply scientific principles to the world around them. Along the way, they’ll be introduced to science curriculum topics such as forces, photosynthesis, and electricity! All of the experiments use readily available household items and are safe to carry out at home. The easy-to-follow instructions and engaging text are illustrated with clear step-by-step diagrams and exciting photographs. This hands-on series full of activities will be a perfect addition to any STEM curriculum.","English",159.6,119.7,null,"32 pp.",{"$f":"Table1[[#This Row],['# Books]]*Table1[[#This Row],[QTY]]","v":0},{"$f":"Table1[[#This Row],[QTY]]*Table1[[#This Row],[S&L Price]]","v":0}]
[null,106,60,"Mind-Blowing Science Experiments",1,"Awesome Experiments with Living Things","Library Bound Book",null,"978-1-5382-0740-6",2018,"August 2017","Library","8.500 X 11.00","Author, Illustrated by","Thomas Canavan, Adam Linley",null,null,null,null,"T",null,"Grade 4 - 5","Grade 4 - 6","Yeast can burp? Plants can solve mazes? Readers won’t believe the amazing results of these fantastic experiments! This book introduces readers to the science behind plants and other living things through fun hands-on activities. Simple language explains complex concepts, and step-by-step instructions with accompanying photographs make experiments accessible. Nifty tips help readers safely reach the best results. They’ll love trying recommended tweaks and additions to experiments for even cooler outcomes. Real-life examples of the same scientific principles at play in each activity will get readers excited about the science at work in their everyday world.","English",26.6,19.95,"580.78--dc23","32 pp.",{"$f":"Table1[[#This Row],['# Books]]*Table1[[#This Row],[QTY]]","v":0},{"$f":"Table1[[#This Row],[QTY]]*Table1[[#This Row],[S&L Price]]","v":0}]
[null,106,60,"Mind-Blowing Science Experiments",1,"Awesome Experiments with Living Things","eBook",null,"978-1-5382-0739-0",2018,"August 2017",null,null,"Author, Illustrated by","Thomas Canavan, Adam Linley",null,null,null,null,"T",null,"Grade 4 - 5","Grade 4 - 6","Yeast can burp? Plants can solve mazes? Readers won’t believe the amazing results of these fantastic experiments! This book introduces readers to the science behind plants and other living things through fun hands-on activities. Simple language explains complex concepts, and step-by-step instructions with accompanying photographs make experiments accessible. Nifty tips help readers safely reach the best results. They’ll love trying recommended tweaks and additions to experiments for even cooler outcomes. Real-life examples of the same scientific principles at play in each activity will get readers excited about the science at work in their everyday world.","English",26.6,19.95,"580.78--dc23","32 pp.",{"$f":"Table1[[#This Row],['# Books]]*Table1[[#This Row],[QTY]]","v":0},{"$f":"Table1[[#This Row],[QTY]]*Table1[[#This Row],[S&L Price]]","v":0}]
[null,106,60,"Mind-Blowing Science Experiments",1,"Cool Experiments with Heat and Cold","Library Bound Book",null,"978-1-5382-0741-3",2018,"August 2017","Library","8.500 X 11.00","Author, Illustrated by","Thomas Canavan, Adam Linley",null,null,null,null,"T",null,"Grade 4 - 5","Grade 4 - 6","Reading about heat and cold is just the tip of the iceberg – this book lets readers create their own icebergs! Hands-on activities make learning about heat and cold both tangible and fun. Simple explanations help readers grasp complex concepts while step-by-step instructions and accompanying photographs ensure they will master each experiment. Helpful tips keep readers safe and offer suggestions for improvements! Aspiring young scientists will enjoy trying the recommended additions and twists to activities. They’ll also learn real-life applications for the same scientific principles they’re working with at home, such as how air pockets in igloos work as insulation!","English",26.6,19.95,"536.078--dc23","32 pp.",{"$f":"Table1[[#This Row],['# Books]]*Table1[[#This Row],[QTY]]","v":0},{"$f":"Table1[[#This Row],[QTY]]*Table1[[#This Row],[S&L Price]]","v":0}]
[null,106,60,"Mind-Blowing Science Experiments",1,"Cool Experiments with Heat and Cold","eBook",null,"978-1-5382-0738-3",2018,"August 2017",null,null,"Author, Illustrated by","Thomas Canavan, Adam Linley",null,null,null,null,"T",null,"Grade 4 - 5","Grade 4 - 6","Reading about heat and cold is just the tip of the iceberg – this book lets readers create their own icebergs! Hands-on activities make learning about heat and cold both tangible and fun. Simple explanations help readers grasp complex concepts while step-by-step instructions and accompanying photographs ensure they will master each experiment. Helpful tips keep readers safe and offer suggestions for improvements! Aspiring young scientists will enjoy trying the recommended additions and twists to activities. They’ll also learn real-life applications for the same scientific principles they’re working with at home, such as how air pockets in igloos work as insulation!","English",26.6,19.95,"536.078--dc23","32 pp.",{"$f":"Table1[[#This Row],['# Books]]*Table1[[#This Row],[QTY]]","v":0},{"$f":"Table1[[#This Row],[QTY]]*Table1[[#This Row],[S&L Price]]","v":0}]
[null,106,60,"Mind-Blowing Science Experiments",1,"Excellent Experiments with Electricity and Magnetism","Library Bound Book",null,"978-1-5382-0742-0",2018,"August 2017","Library","8.500 X 11.00","Author","Thomas Canavan",null,null,null,null,"T",null,"Grade 4 - 5","Grade 4 - 6","Ever wonder how astronauts are able to breathe a continuous supply of oxygen in space? This hands-on approach to electricity and magnetism lets readers conduct experiments to answer this and other fascinating questions! Readers will love learning that the scientific principles they’re applying at home have real-world applications. For example, they’ll rock out on their own “electric drums” while learning about technological advances in professional instruments. Simple step-by-step instructions accompanied by detailed photographs make each activity accessible, while handy tips ensure readers’ safety and fun. Budding scientists will enjoy exploring the recommended twists and additions to experiments.","English",26.6,19.95,"537’.078--dc23","32 pp.",{"$f":"Table1[[#This Row],['# Books]]*Table1[[#This Row],[QTY]]","v":0},{"$f":"Table1[[#This Row],[QTY]]*Table1[[#This Row],[S&L Price]]","v":0}]
[null,106,60,"Mind-Blowing Science Experiments",1,"Excellent Experiments with Electricity and Magnetism","eBook",null,"978-1-5382-0737-6",2018,"August 2017",null,null,"Author","Thomas Canavan",null,null,null,null,"T",null,"Grade 4 - 5","Grade 4 - 6","Ever wonder how astronauts are able to breathe a continuous supply of oxygen in space? This hands-on approach to electricity and magnetism lets readers conduct experiments to answer this and other fascinating questions! Readers will love learning that the scientific principles they’re applying at home have real-world applications. For example, they’ll rock out on their own “electric drums” while learning about technological advances in professional instruments. Simple step-by-step instructions accompanied by detailed photographs make each activity accessible, while handy tips ensure readers’ safety and fun. Budding scientists will enjoy exploring the recommended twists and additions to experiments.","English",26.6,19.95,"537’.078--dc23","32 pp.",{"$f":"Table1[[#This Row],['# Books]]*Table1[[#This Row],[QTY]]","v":0},{"$f":"Table1[[#This Row],[QTY]]*Table1[[#This Row],[S&L Price]]","v":0}]
[null,106,60,"Mind-Blowing Science Experiments",1,"Fantastic Experiments with Forces","Library Bound Book",null,"978-1-5382-0743-7",2018,"August 2017","Library","8.500 X 11.00","Author, Illustrated by","Thomas Canavan, Adam Linley",null,null,null,null,"T",null,"Grade 4 - 5","Grade 4 - 6","Even reluctant readers will be pulled into these engaging experiments about force! Cool activities, like constructing different types of ping-pong catapults, make science concepts both tangible and fun. Enthusiastic readers will love trying recommended additional twists to activities. They’ll learn amazing real-life examples of the same forces they are studying at home, such as how tightrope walkers use poles to keep their mass over their center of gravity. Easy-to-understand language explains the forces at play and answers curious readers’ questions, while step-by-step instructions and photographs make activities accessible. Helpful tips ensure they safely conduct experiments with ease.","English",26.6,19.95,"531.113--dc23","32 pp.",{"$f":"Table1[[#This Row],['# Books]]*Table1[[#This Row],[QTY]]","v":0},{"$f":"Table1[[#This Row],[QTY]]*Table1[[#This Row],[S&L Price]]","v":0}]
[null,106,60,"Mind-Blowing Science Experiments",1,"Fantastic Experiments with Forces","eBook",null,"978-1-5382-0736-9",2018,"August 2017",null,null,"Author, Illustrated by","Thomas Canavan, Adam Linley",null,null,null,null,"T",null,"Grade 4 - 5","Grade 4 - 6","Even reluctant readers will be pulled into these engaging experiments about force! Cool activities, like constructing different types of ping-pong catapults, make science concepts both tangible and fun. Enthusiastic readers will love trying recommended additional twists to activities. They’ll learn amazing real-life examples of the same forces they are studying at home, such as how tightrope walkers use poles to keep their mass over their center of gravity. Easy-to-understand language explains the forces at play and answers curious readers’ questions, while step-by-step instructions and photographs make activities accessible. Helpful tips ensure they safely conduct experiments with ease.","English",26.6,19.95,"531.113--dc23","32 pp.",{"$f":"Table1[[#This Row],['# Books]]*Table1[[#This Row],[QTY]]","v":0},{"$f":"Table1[[#This Row],[QTY]]*Table1[[#This Row],[S&L Price]]","v":0}]
[null,106,60,"Mind-Blowing Science Experiments",1,"Magnificent Experiments with Materials","Library Bound Book",null,"978-1-5382-0744-4",2018,"August 2017","Library","8.500 X 11.00","Author, Illustrated by","Thomas Canavan, Adam Linley",null,null,null,null,"T",null,"Grade 4 - 5","Grade 4 - 6","Plastic milk? Carbon dragons? Readers will explore these and other whacky experiments in this awesome book on the science of materials! Accessible language breaks down complex concepts, and hands-on activities allow readers to experience science firsthand. Using supplies from around the house, they’ll stack liquids, slice ice, and build a tower on a base of eggshells! Readers will love learning about the real-life applications of scientific principles. They’ll launch vinegar rockets using the same science behind car engines! Step-by-step instructions with accompanying photographs and helpful tips make activities safe and easy to follow.","English",26.6,19.95,"530.4078--dc23","32 pp.",{"$f":"Table1[[#This Row],['# Books]]*Table1[[#This Row],[QTY]]","v":0},{"$f":"Table1[[#This Row],[QTY]]*Table1[[#This Row],[S&L Price]]","v":0}]
[null,106,60,"Mind-Blowing Science Experiments",1,"Magnificent Experiments with Materials","eBook",null,"978-1-5382-0735-2",2018,"August 2017",null,null,"Author, Illustrated by","Thomas Canavan, Adam Linley",null,null,null,null,"T",null,"Grade 4 - 5","Grade 4 - 6","Plastic milk? Carbon dragons? Readers will explore these and other whacky experiments in this awesome book on the science of materials! Accessible language breaks down complex concepts, and hands-on activities allow readers to experience science firsthand. Using supplies from around the house, they’ll stack liquids, slice ice, and build a tower on a base of eggshells! Readers will love learning about the real-life applications of scientific principles. They’ll launch vinegar rockets using the same science behind car engines! Step-by-step instructions with accompanying photographs and helpful tips make activities safe and easy to follow.","English",26.6,19.95,"530.4078--dc23","32 pp.",{"$f":"Table1[[#This Row],['# Books]]*Table1[[#This Row],[QTY]]","v":0},{"$f":"Table1[[#This Row],[QTY]]*Table1[[#This Row],[S&L Price]]","v":0}]
[null,106,60,"Mind-Blowing Science Experiments",1,"Super Experiments with Light and Sound","Library Bound Book",null,"978-1-5382-0745-1",2018,"August 2017","Library","8.500 X 11.00","Author, Illustrated by","Thomas Canavan, Adam Linley",null,null,null,null,"T",null,"Grade 4 - 5","Grade 4 - 6","Disappearing coins, balloon megaphones, CD rainbows – the science of light and sound sometimes seems like magic! Readers will learn the amazing facts behind these phenomena that are more fascinating than fiction. Simple language explains the properties of light and sound, while hands-on activities give readers tangible examples to help them retain crucial science information. Helpful tips make experiments easy and safe, and step-by-step instructions with photographs ensure accessibility. Readers will love focusing light to pop balloons, talking to friends over plastic cup telephones, and other whacky adventures in scientific principles. They’ll learn incredible real-life examples of the same concepts they’re exploring at home, such as how laser beams focus light to produce heat!","English",26.6,19.95,"535.078--dc23","32 pp.",{"$f":"Table1[[#This Row],['# Books]]*Table1[[#This Row],[QTY]]","v":0},{"$f":"Table1[[#This Row],[QTY]]*Table1[[#This Row],[S&L Price]]","v":0}]
[null,106,60,"Mind-Blowing Science Experiments",1,"Super Experiments with Light and Sound","eBook",null,"978-1-5382-0734-5",2018,"August 2017",null,null,"Author, Illustrated by","Thomas Canavan, Adam Linley",null,null,null,null,"T",null,"Grade 4 - 5","Grade 4 - 6","Disappearing coins, balloon megaphones, CD rainbows – the science of light and sound sometimes seems like magic! Readers will learn the amazing facts behind these phenomena that are more fascinating than fiction. Simple language explains the properties of light and sound, while hands-on activities give readers tangible examples to help them retain crucial science information. Helpful tips make experiments easy and safe, and step-by-step instructions with photographs ensure accessibility. Readers will love focusing light to pop balloons, talking to friends over plastic cup telephones, and other whacky adventures in scientific principles. They’ll learn incredible real-life examples of the same concepts they’re exploring at home, such as how laser beams focus light to produce heat!","English",26.6,19.95,"535.078--dc23","32 pp.",{"$f":"Table1[[#This Row],['# Books]]*Table1[[#This Row],[QTY]]","v":0},{"$f":"Table1[[#This Row],[QTY]]*Table1[[#This Row],[S&L Price]]","v":0}]
[null,null,61,"Science Fiction to Science Fact",6,"Science Fiction to Science Fact","Library Set",null,"978-1-5382-1433-6",2018,"January 2018","Library","6.500 X 9.125",null,null,null,null,null,null,null,null,"Grade 4 - 5","Grade 4 - 6","Science fiction and fantasy stories are a huge part of popular culture. Futuristic space travel, robots, and advanced technology have been a part of books, movies, and TV shows for decades. In many ways, science is catching up with science fiction. This innovative series examines incredible ideas and technology, including bionic limbs, faster-than-light space travel, invisibility cloaks, replicators, solar sails, and tractor beams. Each idea's history is traced from mere fantasy to the reality of cutting-edge technology being developed today. Accessible language and relatable examples guide readers through some of the coolest engineering marvels and science discoveries ever made.\n\nFeatures include: Integrates STEM topics with history, literature, and popular culture. High-interest topics engage readers interested in technology and science as well as science fiction. Each book offers perspectives on how the technology could continue to improve and become even more like its science fiction counterpart.","English",159.6,119.7,null,"32 pp.",{"$f":"Table1[[#This Row],['# Books]]*Table1[[#This Row],[QTY]]","v":0},{"$f":"Table1[[#This Row],[QTY]]*Table1[[#This Row],[S&L Price]]","v":0}]
[null,null,61,"Science Fiction to Science Fact",1,"Bionic Limbs","Library Bound Book",null,"978-1-5382-1380-3",2018,"January 2018","Library","6.500 X 9.125","Author","Holly Duhig",null,null,null,null,"S",null,"Grade 4 - 5","Grade 4 - 6","Cyborgs, heroes with missing hands, and prosthetics that allow sight in the blind are just some of the unbelievable plot points in science fiction that began years ago. Today, much of this technology exists. Those without legs can be fitted with bionic limbs so well made they can run marathons. Readers learn the history of bionic limbs in science fiction and popular culture and connect it to the real, amazing science of today. Full of interesting STEM content, each chapter engages readers with the ideas behind, execution, and future of this technology.","English",26.6,19.95,"617.9--dc23","32 pp.",{"$f":"Table1[[#This Row],['# Books]]*Table1[[#This Row],[QTY]]","v":0},{"$f":"Table1[[#This Row],[QTY]]*Table1[[#This Row],[S&L Price]]","v":0}]
[null,null,61,"Science Fiction to Science Fact",1,"Bionic Limbs","eBook",null,"978-1-5382-1381-0",2018,"January 2018",null,null,"Author","Holly Duhig",null,null,null,null,"S",null,"Grade 4 - 5","Grade 4 - 6","Cyborgs, heroes with missing hands, and prosthetics that allow sight in the blind are just some of the unbelievable plot points in science fiction that began years ago. Today, much of this technology exists. Those without legs can be fitted with bionic limbs so well made they can run marathons. Readers learn the history of bionic limbs in science fiction and popular culture and connect it to the real, amazing science of today. Full of interesting STEM content, each chapter engages readers with the ideas behind, execution, and future of this technology.","English",26.6,19.95,"617.9--dc23","32 pp.",{"$f":"Table1[[#This Row],['# Books]]*Table1[[#This Row],[QTY]]","v":0},{"$f":"Table1[[#This Row],[QTY]]*Table1[[#This Row],[S&L Price]]","v":0}]
[null,null,61,"Science Fiction to Science Fact",1,"Faster-Than-Light Space Travel","Library Bound Book",null,"978-1-5382-1382-7",2018,"January 2018","Library","6.500 X 9.125","Author","Holly Duhig",null,null,null,null,"S",null,"Grade 4 - 5","Grade 4 - 6","Whether it’s hyperdrive in Star Wars or warp speed in Star Trek, most science-fiction lovers know that in order to travel anywhere in space in a timely manner, you’ve got to go faster than the speed of light. Much of that idea isn’t possible, but space scientists have found many ways to speed up human space travel. Through easily understandable explanations and examples of real, cutting-edge technology, this book’s main content guides readers from the fantasy of science fiction to the incredible reality of today’s science fact.","English",26.6,19.95,"530.11--dc23","32 pp.",{"$f":"Table1[[#This Row],['# Books]]*Table1[[#This Row],[QTY]]","v":0},{"$f":"Table1[[#This Row],[QTY]]*Table1[[#This Row],[S&L Price]]","v":0}]
[null,null,61,"Science Fiction to Science Fact",1,"Faster-Than-Light Space Travel","eBook",null,"978-1-5382-1383-4",2018,"January 2018",null,null,"Author","Holly Duhig",null,null,null,null,"S",null,"Grade 4 - 5","Grade 4 - 6","Whether it’s hyperdrive in Star Wars or warp speed in Star Trek, most science-fiction lovers know that in order to travel anywhere in space in a timely manner, you’ve got to go faster than the speed of light. Much of that idea isn’t possible, but space scientists have found many ways to speed up human space travel. Through easily understandable explanations and examples of real, cutting-edge technology, this book’s main content guides readers from the fantasy of science fiction to the incredible reality of today’s science fact.","English",26.6,19.95,"530.11--dc23","32 pp.",{"$f":"Table1[[#This Row],['# Books]]*Table1[[#This Row],[QTY]]","v":0},{"$f":"Table1[[#This Row],[QTY]]*Table1[[#This Row],[S&L Price]]","v":0}]
[null,null,61,"Science Fiction to Science Fact",1,"Invisibility Cloaks","Library Bound Book",null,"978-1-5382-1384-1",2018,"January 2018","Library","6.500 X 9.125","Author","Holly Duhig",null,null,null,null,"S",null,"Grade 4 - 5","Grade 4 - 6","From Harry Potter to King Arthur, stories about invisibility cloaks have been around for hundreds or possibly thousands of years. It seems mere fantasy that something like that could exist, but today there are several different kinds of technology that could be used to make someone appear invisible, or at least very inconspicuous. Through direct explanations, this book covers the history of invisibility cloak stories and connects some of the coolest recent technology to these tales. Covering both STEM and literature components, this book will enchant sci-fi lovers and scientists alike.","English",26.6,19.95,"621.36--dc23","32 pp.",{"$f":"Table1[[#This Row],['# Books]]*Table1[[#This Row],[QTY]]","v":0},{"$f":"Table1[[#This Row],[QTY]]*Table1[[#This Row],[S&L Price]]","v":0}]
[null,null,61,"Science Fiction to Science Fact",1,"Invisibility Cloaks","eBook",null,"978-1-5382-1385-8",2018,"January 2018",null,null,"Author","Holly Duhig",null,null,null,null,"S",null,"Grade 4 - 5","Grade 4 - 6","From Harry Potter to King Arthur, stories about invisibility cloaks have been around for hundreds or possibly thousands of years. It seems mere fantasy that something like that could exist, but today there are several different kinds of technology that could be used to make someone appear invisible, or at least very inconspicuous. Through direct explanations, this book covers the history of invisibility cloak stories and connects some of the coolest recent technology to these tales. Covering both STEM and literature components, this book will enchant sci-fi lovers and scientists alike.","English",26.6,19.95,"621.36--dc23","32 pp.",{"$f":"Table1[[#This Row],['# Books]]*Table1[[#This Row],[QTY]]","v":0},{"$f":"Table1[[#This Row],[QTY]]*Table1[[#This Row],[S&L Price]]","v":0}]
[null,null,61,"Science Fiction to Science Fact",1,"Replicators","eBook",null,"978-1-5382-1387-2",2018,"January 2018",null,null,"Author","Holly Duhig",null,null,null,null,"S",null,"Grade 4 - 5","Grade 4 - 6","Imagine if scientists had a tool that could make food or a chair seemingly out of thin air. Star Trek fans might recognize this piece of technology as \"replicator,\" a concept that was also used in other science fiction stories. Readers learn that similar technology does exist, and it could eventually be used just like Star Trek replicators. Including STEM content as well as connections to popular culture, each chapter introduces readers to the latest in replicating technology, from 3D printers to lasers, through accessible language and explanations of this fascinating technology.","English",26.6,19.95,"621.9'88--dc23","32 pp.",{"$f":"Table1[[#This Row],['# Books]]*Table1[[#This Row],[QTY]]","v":0},{"$f":"Table1[[#This Row],[QTY]]*Table1[[#This Row],[S&L Price]]","v":0}]
[null,121,62,"My Place in History (Set of 12 Titles)",12,"My Place in History (Set of 12 Titles)","Library Set",null,"978-1-5382-0473-3",2018,"August 2017","Library","8.500 X 8.500",null,null,null,null,null,null,null,null,"Grade 2 - 3","Grade 2 - 5","This series explores American history through unique, first-person accounts of many remarkable aspects of our country’s past. From Ellis Island to the Plymouth Colony, the Underground Railroad to the Trail of Tears, young readers can learn the social studies curriculum through the fictional narrations of young characters pulled right from these moments in history. An inventive layout of journal entries, letters, and more offers readers a deeper understanding of the life of children in each time period.","English",271.2,203.4,null,"24 pp.",{"$f":"Table1[[#This Row],['# Books]]*Table1[[#This Row],[QTY]]","v":0},{"$f":"Table1[[#This Row],[QTY]]*Table1[[#This Row],[S&L Price]]","v":0}]
[null,121,62,"My Place in History",1,"My Life as a Chinese Immigrant","eBook",null,"978-1-5382-0296-8",2018,"August 2017",null,null,"Author","Max Caswell",null,null,null,null,"M",null,"Grade 2 - 3","Grade 2 - 5","The progress of America after the Industrial Revolution came at the cost of many unnamed lives, and there's no story more indicative of this than the plight of the Chinese men who built the Transcontinental Railroad. Young readers will be transported through first-person accounts, and even a Western Union telegram, into the Central Pacific camp, learning how track was laid, how perilous the job was, and how deeply racism affected these men who thanklessly connected the coasts. Black-and-white photography brings historical details into sharp focus, while a table of powerful statistics exposes the incredible reality of the epic project.","English",22.6,16.95,"973/.04951--dc23","24 pp.",{"$f":"Table1[[#This Row],['# Books]]*Table1[[#This Row],[QTY]]","v":0},{"$f":"Table1[[#This Row],[QTY]]*Table1[[#This Row],[S&L Price]]","v":0}]
[null,121,62,"My Place in History",1,"My Life During the Gold Rush","Library Bound Book",null,"978-1-5382-0299-9",2018,"August 2017","Library","8.500 X 8.500","Author","Max Caswell",null,null,null,null,"L",null,"Grade 2 - 3","Grade 2 - 5","In 1848, thousands of people from all over the world dropped their mundane lives and embarked on sometimes deadly journeys with hopes of striking gold in the American West. This book chronicles this fascinating period of American history through an intriguing mix of fictional \"found\" ephemera. This content was created through meticulous research and adherence to facts, to provide a very personal yet realistic look into the life and struggle of the forty-niners. Captivating black-and-white photography of the miners illustrates their powerful story. Maps of the Gold Rush main routes and destinations are included. This book is sure to engage even reluctant readers of American history.","English",22.6,16.95,"979.4/03--dc23","24 pp.",{"$f":"Table1[[#This Row],['# Books]]*Table1[[#This Row],[QTY]]","v":0},{"$f":"Table1[[#This Row],[QTY]]*Table1[[#This Row],[S&L Price]]","v":0}]
[null,121,62,"My Place in History",1,"My Life in the Plymouth Colony","eBook",null,"978-1-5382-0308-8",2018,"August 2017",null,null,"Author","Max Caswell",null,null,null,null,"L",null,"Grade 2 - 3","Grade 2 - 5","The world of the pilgrims is presented here through a captivating mixture of fact and fiction. This accessible volume chronicles how the earliest American pilgrims lived, exploring their clothing, hobbies, sleep, food, and more through carefully researched fictional \"found\" ephemera. Fact boxes throughout the text present historical events, places, and people, connecting the fiction of the main text to the social studies curriculum. The book abounds with opportunity for thoughtful comparison to modern life that young readers are sure to enjoy.","English",22.6,16.95,"974.4/02--dc23","24 pp.",{"$f":"Table1[[#This Row],['# Books]]*Table1[[#This Row],[QTY]]","v":0},{"$f":"Table1[[#This Row],[QTY]]*Table1[[#This Row],[S&L Price]]","v":0}]
[null,121,62,"My Place in History",1,"My Journey Through Ellis Island","Library Bound Book",null,"978-1-4824-4000-3",2016,"January 2016","Library","8.500 X 8.500","Author","Lynda Arnéz",4.8,0.5,null,null,"L",null,"Grade 2 - 3","Grade 2 - 5","Traveling to live in a new country can be terrifying, especially to a child. Leaving behind family, friends, and places you know and love is something everyone can relate to. In this book, readers board a boat with an immigrant child going to the United States for the first time. The first-person narration introduces readers to Ellis Island and the many immigrants coming to America during the late 1800s and early 1900s, including their reasons for doing so. Historical images and fact boxes add context to this important social studies topic.","English",22.6,16.95,"304.8'73—dc23","24 pp.",{"$f":"Table1[[#This Row],['# Books]]*Table1[[#This Row],[QTY]]","v":0},{"$f":"Table1[[#This Row],[QTY]]*Table1[[#This Row],[S&L Price]]","v":0}]
[null,121,62,"My Place in History",1,"My Life in an Algonquian Village","eBook",null,"978-1-4824-3987-8",2016,"January 2016",null,null,"Author","Lynda Arnéz",4.5999999999999996,0.5,null,null,"L",null,"Grade 2 - 3","Grade 2 - 5","Childhood has changed exponentially since the early 1600s. From what chores one must do to the roles of men and women, children today don’t have much in common with children of Algonquian tribes. Readers learn from a unique first-person narrator about growing up as a Powhatan child. Food, clothing, and shelter are covered in the main content, as well as historical context of tribes living near the Jamestown settlement. Readers will feel transported to a different time and a whole new, exciting culture.","English",22.6,16.95,"973.04'973—dc23","24 pp.",{"$f":"Table1[[#This Row],['# Books]]*Table1[[#This Row],[QTY]]","v":0},{"$f":"Table1[[#This Row],[QTY]]*Table1[[#This Row],[S&L Price]]","v":0}]
[null,121,62,"My Place in History",1,"My Life in the American Colonies","eBook",null,"978-1-4824-3995-3",2016,"January 2016",null,null,"Author","Lynda Arnéz",4.8,0.5,null,null,"L",null,"Grade 2 - 3","Grade 2 - 5","Living in the American colonies was difficult at times as towns were built, governance was established, and people from many different backgrounds, including Native Americans, learned to live together. By the 1770s, many colonists were asserting their belief in a new country free from English rule. Readers meet a young colonist growing up during the tumult of the pre-Revolutionary era. This unique, first-person perspective introduces readers to a period important to the social studies curriculum. Historical images and fact boxes add context to the main content, which focuses more on the chores, schooling, and family life of colonial children.","English",22.6,16.95,"973.2—dc23","24 pp.",{"$f":"Table1[[#This Row],['# Books]]*Table1[[#This Row],[QTY]]","v":0},{"$f":"Table1[[#This Row],[QTY]]*Table1[[#This Row],[S&L Price]]","v":0}]
[null,null,63,"Eyewitness to History",1,"Inside the Civil Rights Movement","Library Bound Book",null,"978-1-5382-1155-7",2018,"January 2018","Library","6.500 X 9.125","Author","Kristen Rajczak Nelson",null,null,null,null,"T",null,"Grade 4 - 5","Grade 4 - 6","The U.S. civil rights movement rose to prominence in the 1950s, with protests finally compelling civil rights legislation in the mid-1960s. But activists still contended with institutional racism embedded in America’s economic, political, and cultural systems. This important, wide-ranging volume tells the story of the early movement and the figures who fought for equality, such as Martin Luther King, Rosa Parks, and Malcolm X. It also includes discussion of the ramifications of the movement and the actions of its leaders today. Historical photographs, primary sources, and powerful quotes from eyewitnesses of events will resonate with readers.","English",26.6,19.95,"323.1196/0730904--dc23","32 pp.",{"$f":"Table1[[#This Row],['# Books]]*Table1[[#This Row],[QTY]]","v":0},{"$f":"Table1[[#This Row],[QTY]]*Table1[[#This Row],[S&L Price]]","v":0}]
[null,null,63,"Eyewitness to History",1,"Inside the Labor Movement","eBook",null,"978-1-5382-1164-9",2018,"January 2018",null,null,"Author","Therese M. Shea",null,null,null,null,"U",null,"Grade 4 - 5","Grade 4 - 6","It’s difficult for many young people to imagine not being able to go to school and instead having to work in a hot, smelly, sometimes dangerous factory for more than 12 hours a day. There was a time in U.S. history when young people had to do just that. Thankfully, many people involved in the labor movement fought against child labor. This was just one of many ways the movement improved rights for working people. This important volume presents a significant slice of American history, using primary sources, first-person narratives, and historical photographs to enlighten readers.","English",26.6,19.95,"331.880973--dc23","32 pp.",{"$f":"Table1[[#This Row],['# Books]]*Table1[[#This Row],[QTY]]","v":0},{"$f":"Table1[[#This Row],[QTY]]*Table1[[#This Row],[S&L Price]]","v":0}]
[null,null,63,"Eyewitness to History",1,"Inside the Women's Rights Movement","Library Bound Book",null,"978-1-5382-1171-7",2018,"January 2018","Library","6.500 X 9.125","Author","Jill Keppeler",null,null,null,null,"T",null,"Grade 4 - 5","Grade 4 - 6","The women’s rights movement is sometimes abbreviated in history books, but it’s crucial that today’s generation understands the many key moments that led not only to the 19th Amendment to the Constitution, but also the other hard-fought victories. And the movement didn’t stop in the 20th century, both women and men are still fighting for women’s equality in the workplace. This well-researched book features quotes by significant players in the women’s rights movement and primary sources that show an insider’s views of events. Fact boxes, sidebars, and historical images add more valuable material to explore.","English",26.6,19.95,"305.42'0973--dc23","32 pp.",{"$f":"Table1[[#This Row],['# Books]]*Table1[[#This Row],[QTY]]","v":0},{"$f":"Table1[[#This Row],[QTY]]*Table1[[#This Row],[S&L Price]]","v":0}]
[null,null,63,"Eyewitness to History",1,"Inside the Women's Rights Movement","eBook",null,"978-1-5382-1172-4",2018,"January 2018",null,null,"Author","Jill Keppeler",null,null,null,null,"T",null,"Grade 4 - 5","Grade 4 - 6","The women’s rights movement is sometimes abbreviated in history books, but it’s crucial that today’s generation understands the many key moments that led not only to the 19th Amendment to the Constitution, but also the other hard-fought victories. And the movement didn’t stop in the 20th century, both women and men are still fighting for women’s equality in the workplace. This well-researched book features quotes by significant players in the women’s rights movement and primary sources that show an insider’s views of events. Fact boxes, sidebars, and historical images add more valuable material to explore.","English",26.6,19.95,"305.42'0973--dc23","32 pp.",{"$f":"Table1[[#This Row],['# Books]]*Table1[[#This Row],[QTY]]","v":0},{"$f":"Table1[[#This Row],[QTY]]*Table1[[#This Row],[S&L Price]]","v":0}]
[null,76,64,"Eyewitness to History",1,"Cesar Chavez in His Own Words","Library Bound Book",null,"978-1-4824-4060-7",2016,"January 2016","Library","6.500 X 9.125","Author","Sarah Machajewski",6,1,null,null,"U",null,"Grade 4 - 5","Grade 4 - 6","Cesar Chavez was one of the most influential labor leaders of the twentieth century. His story, from migrant field worker to champion of the voiceless, is a fascinating one that resonates today. Readers will be able to learn about the man Robert F. Kennedy called one of the “heroic figures of our time” through this account which interweaves Chavez’s own words throughout the biographical text. Historic photographs bring the man to life, while sidebars and fact boxes offer more background information on his important work.","English",26.6,19.95,"331.88'13092—dc23","32 pp.",{"$f":"Table1[[#This Row],['# Books]]*Table1[[#This Row],[QTY]]","v":0},{"$f":"Table1[[#This Row],[QTY]]*Table1[[#This Row],[S&L Price]]","v":0}]
[null,76,64,"Eyewitness to History",1,"Eleanor Roosevelt in Her Own Words","eBook",null,"978-1-4824-4065-2",2016,"January 2016",null,null,"Author","John M. Shea ",6,1,null,null,"U",null,"Grade 4 - 5","Grade 4 - 6","Eleanor Roosevelt wasn’t content to be a seldom-seen, never-heard First Lady. Instead, she worked tirelessly for the many causes dear to her heart, including the rights of African Americans, women, and the poor. After Franklin D. Roosevelt’s death, she traveled the world promoting peace in the aftermath of World War II. Roosevelt was so beloved she became known as the “First Lady of the World.” This extraordinary woman’s life and work is presented in this charming biography that utilizes her own words from her prolific writings. Roosevelt’s wit, charm, and intelligence shine in each passage, while carefully chosen photographs reflect important moments in her life.","English",26.6,19.95,"973.917092—dc23","32 pp.",{"$f":"Table1[[#This Row],['# Books]]*Table1[[#This Row],[QTY]]","v":0},{"$f":"Table1[[#This Row],[QTY]]*Table1[[#This Row],[S&L Price]]","v":0}]
[null,76,64,"Eyewitness to History",1,"Harriet Tubman in Her Own Words","eBook",null,"978-1-4824-4069-0",2016,"January 2016",null,null,"Author","Julia McDonnell",6.2,1,null,null,"T",null,"Grade 4 - 5","Grade 4 - 6","Harriet Tubman’s fame as a conductor on the Underground Railroad led to her nickname: Moses. She displayed considerable courage leading fugitive slaves to freedom and, incredibly, never lost a “passenger.” Less well known is Tubman’s service in the Union army as a scout and spy during the Civil War. This captivating volume uses Tubman’s own remembrances as well as other primary sources to provide a greater understanding of her astonishing life story as well as major issues of the United States in the 1800s. Historic photographs, fact boxes, and sidebars add valuable information to the main text and appealing design.","English",26.6,19.95,"973.7115092—dc23","32 pp.",{"$f":"Table1[[#This Row],['# Books]]*Table1[[#This Row],[QTY]]","v":0},{"$f":"Table1[[#This Row],[QTY]]*Table1[[#This Row],[S&L Price]]","v":0}]
[null,76,64,"Eyewitness to History",1,"Helen Keller in Her Own Words","Library Bound Book",null,"978-1-4824-1479-0",2015,"August 2014","Library","6.500 X 9.000","Author","Caroline Kennon",null,null,44,null,"T",null,"Grade 4 - 5","Grade 4 - 6","Though Helen Keller became deaf and blind after a childhood illness in 1882, she grew up to be a renowned author, activist, and speaker. With the help of her teacher, Anne Sullivan, Keller overcame major obstacles in her life and used them to become an advocate for those experiencing discrimination and hardship. This inspiring biography uses Keller's own words as a primary source, so that readers can better know and understand this amazing woman and leader.","English",26.6,19.95,"362.4","32 pp.",{"$f":"Table1[[#This Row],['# Books]]*Table1[[#This Row],[QTY]]","v":0},{"$f":"Table1[[#This Row],[QTY]]*Table1[[#This Row],[S&L Price]]","v":0}]
[null,76,64,"Eyewitness to History",1,"Laura Ingalls Wilder in Her Own Words","eBook",null,"978-1-4824-4073-7",2016,"January 2016",null,null,"Author","Kristen Rajczak Nelson",5.8,1,null,null,"T",null,"Grade 4 - 5","Grade 4 - 6","As the author of the popular “Little House on the Prairie” books, Laura Ingalls Wilder found fame by sharing her experiences growing up on the American frontier in the late 1800s. Her works became instant classics of children’s literature and a valued teaching tool for comprehending the obstacles facing settlers in that time, including malaria outbreaks, droughts and blizzards, and conflicts with Native Americans. This absorbing biographical account interweaves Wilder’s own words, historical paintings and photographs, and insightful text to reflect an extraordinary time in the United States.","English",26.6,19.95,"813'.52—dc23","32 pp.",{"$f":"Table1[[#This Row],['# Books]]*Table1[[#This Row],[QTY]]","v":0},{"$f":"Table1[[#This Row],[QTY]]*Table1[[#This Row],[S&L Price]]","v":0}]
[null,76,64,"Eyewitness to History",1,"Malcolm X in His Own Words","Library Bound Book",null,"978-1-4824-1481-3",2015,"August 2014","Library","6.500 X 9.000","Author","Sarah Machajewski",null,null,44,null,"U",null,"Grade 4 - 5","Grade 4 - 6","Malcolm X, the famous African American activist, remains a figure of controversy years after his assassination in 1965. This book uses the embattled leader's own words to explore his life, from the early death of his father to his own untimely death. It also examines Malcolm's teachings, which at times countered the civil rights movement of Martin Luther King Jr. This biography uses primary sources to reveal a period of great turbulence and social discontent in the United States.","English",26.6,19.95,"320.54","32 pp.",{"$f":"Table1[[#This Row],['# Books]]*Table1[[#This Row],[QTY]]","v":0},{"$f":"Table1[[#This Row],[QTY]]*Table1[[#This Row],[S&L Price]]","v":0}]
[null,76,64,"Eyewitness to History",1,"Neil Armstrong in His Own Words","eBook",null,"978-1-4824-4081-2",2016,"January 2016",null,null,"Author","Ryan Nagelhout",6.1,1,null,null,"U",null,"Grade 4 - 5","Grade 4 - 6","Neil Armstrong, the first person to step on the moon, uttered the legendary statement: “That’s one small step for a man, one giant leap for mankind.” This thrilling book explains how a young boy from Ohio became arguably the most famous astronaut of all time. A pilot by the time he was 16, Armstrong served in the Korean War before joining the US space program. Readers will learn the amazing story of the journey to the moon and gain an understanding of how perilous that mission really was. Armstrong’s interviews, writings, and other insights are interspersed throughout this must-read volume.","English",26.6,19.95,"629.450092—dc23","32 pp.",{"$f":"Table1[[#This Row],['# Books]]*Table1[[#This Row],[QTY]]","v":0},{"$f":"Table1[[#This Row],[QTY]]*Table1[[#This Row],[S&L Price]]","v":0}]
[null,76,64,"Eyewitness to History",1,"Sitting Bull in His Own Words","Library Bound Book",null,"978-1-4824-1482-0",2015,"August 2014","Library","6.500 X 9.000","Author","Julia McDonnell",null,null,44,null,"U",null,"Grade 4 - 5","Grade 4 - 6","Sitting Bull, the well-known Native American chief, united the Lakota Sioux in the northern Great Plains and led a mighty resistance of tribes who refused to be placed on reservations. This struggle resulted in violence, most famously at Little Bighorn in 1876. Though Sitting Bull fled to Canada, he ultimately returned to the United States in 1881. This book uses Sitting Bull's powerful words to examine the leader's considerable courage and determination as well as his aspirations for Native Americans.","English",26.6,19.95,"978.004","32 pp.",{"$f":"Table1[[#This Row],['# Books]]*Table1[[#This Row],[QTY]]","v":0},{"$f":"Table1[[#This Row],[QTY]]*Table1[[#This Row],[S&L Price]]","v":0}]
[null,null,65,"Myths Across the Map",1,"Fairy Myths","Library Bound Book",null,"978-1-5382-1370-4",2018,"January 2018","Library","7.250 X 9.250","Author","Cynthia O'Brien",null,null,null,null,"U",null,"Grade 5 - 6","Grade 4 - 8","Fairies are found in the lore of countless countries, including Russia, Croatia, Ireland, Germany, and Iceland. And fairies aren't just pretty little creatures with wings; elves, dwarfs, and goblins are all fairies, too. This field guide to fairies around the world introduces the many different kinds of diminutive creatures. Readers will be particularly delighted to learn more about fairies they can encounter in popular culture, including in Shakespeare's works and Arthurian legends, and where fairies are said to be waiting in nature. Amazing artwork is coupled with fun facts and plenty of cultural and historical information in this wide-ranging volume.","English",31.95,23.95,"398.45--dc23","48 pp.",{"$f":"Table1[[#This Row],['# Books]]*Table1[[#This Row],[QTY]]","v":0},{"$f":"Table1[[#This Row],[QTY]]*Table1[[#This Row],[S&L Price]]","v":0}]
[null,null,65,"Myths Across the Map",1,"Vampire Myths","Library Bound Book",null,"978-1-5382-1374-2",2018,"January 2018","Library","7.250 X 9.250","Author","Jennifer Mason",null,null,null,null,"U",null,"Grade 5 - 6","Grade 4 - 8","Whether characters in movies, books, or nightmares, vampires are among the most recognizable monsters in the world. Today, vampires are characterized by fangs and an unshakable lust for human blood, but some vampire myths differ from these notions. Vampire lore around the world is an entertaining introduction to a variety of cultures. Readers will be thrilled to discover that some ancient myths are actually scarier than modern stories. They'll also find several explanations for vampire behavior to be entertainingly bizarre, such as people clawing their way out of graves because they weren't quite dead yet.","English",31.95,23.95,"398.21--dc23","48 pp.",{"$f":"Table1[[#This Row],['# Books]]*Table1[[#This Row],[QTY]]","v":0},{"$f":"Table1[[#This Row],[QTY]]*Table1[[#This Row],[S&L Price]]","v":0}]
[null,null,65,"Myths Across the Map",1,"Zombie Myths","eBook",null,"978-1-5382-1379-7",2018,"January 2018",null,null,"Author","Jennifer Mason",null,null,null,null,"U",null,"Grade 5 - 6","Grade 4 - 8","Today, thanks to movies, video games, comic books, graphic novels, and television series, the world has a pretty distinct idea about what zombies are. Hundreds of years ago, the word \"zombie\" may have been handed down from jumbie, a West Indian term for ghost, or nzambi, meaning \"spirit of the dead,\" in Congo, Africa. Brainless, reanimated corpses have long haunted the myths of many cultures around the world. The most shocking and fascinating zombie origins and lore are compiled in the unnerving pages of this high-interest volume, which also includes intriguing scientific roots of the zombie myth.","English",31.95,23.95,"398.21--dc23","48 pp.",{"$f":"Table1[[#This Row],['# Books]]*Table1[[#This Row],[QTY]]","v":0},{"$f":"Table1[[#This Row],[QTY]]*Table1[[#This Row],[S&L Price]]","v":0}]
[null,136,66,"Native American Cultures (Set of 12 Titles)",12,"Native American Cultures (Set of 12 Titles)","Library Set",null,"978-1-5382-1296-7",2018,"January 2018","Library","8.500 X 8.500",null,null,null,null,null,null,null,null,"Grade 2 - 3","Grade 2 - 5","There are hundreds of native cultures in the United States and Canada today. Each proudly has its own distinct history and traditions. This important collection puts the spotlight on some of these remarkable peoples and their ways of life, from sacred ceremonies to extraordinary art. Each elegantly designed volume includes fact boxes and carefully chosen historical and present-day images to accompany the accessible text. Readers will attain an in-depth understanding and appreciation of the rich legacy of native cultures.","English",303,227.4,null,"32 pp.",{"$f":"Table1[[#This Row],['# Books]]*Table1[[#This Row],[QTY]]","v":0},{"$f":"Table1[[#This Row],[QTY]]*Table1[[#This Row],[S&L Price]]","v":0}]
[null,136,66,"Native American Cultures",1,"Native American Ceremonies and Celebrations: From Potlatches to Powwows","eBook",null,"978-1-5382-0891-5",2018,"January 2018",null,null,"Author","Kate Mikoley",null,null,null,null,"O",null,"Grade 2 - 3","Grade 2 - 5","Native American celebrations are packed with symbolic gestures and intriguing details. A kind of party called a potlatch, staged by native peoples of the Pacific Northwest, was marked by guests receiving gifts, not giving them, and were sometimes put on to get back at an enemy. This appealing volume about a high-interest aspect of native cultures highlights several celebrations and ceremonies important to Native Americans across North America. Thought-provoking fact boxes, historical images, and modern-day customs will engage readers of all levels.","English",25.25,18.95,"970.004'97--dc23","32 pp.",{"$f":"Table1[[#This Row],['# Books]]*Table1[[#This Row],[QTY]]","v":0},{"$f":"Table1[[#This Row],[QTY]]*Table1[[#This Row],[S&L Price]]","v":0}]
[null,136,66,"Native American Cultures",1,"Native American Governments: From Tribal Councils to Constitutions","Library Bound Book",null,"978-1-5382-0886-1",2018,"January 2018","Library","8.500 X 8.500","Author","Sarah Machajewski",null,null,null,null,"O",null,"Grade 2 - 3","Grade 2 - 5","Since ancient times, many native peoples across America governed themselves with a tribal council or another system of government. Many developed constitutions to codify their laws as well. This important aspect of Native American history is carefully explained in this well-researched and accessible book, which focuses on the governments of several native peoples. Historical images, interesting fact boxes, and a colorful design make this significant subject even more appealing to young historians.","English",25.25,18.95,"970.004/97--dc23","32 pp.",{"$f":"Table1[[#This Row],['# Books]]*Table1[[#This Row],[QTY]]","v":0},{"$f":"Table1[[#This Row],[QTY]]*Table1[[#This Row],[S&L Price]]","v":0}]
[null,136,66,"Native American Cultures",1,"The Apache People","eBook",null,"978-1-4824-1976-4",2015,"January 2015",null,null,"Author","Mark J. Harasymiw ",null,null,30,null,"N",null,"Grade 2 - 3","Grade 2 - 5","From hunting buffalo on the plains to harvesting the bulb of the agave plant in the rocky desert, the Apache have shown great resourcefulness throughout their history. This volume allows readers a glimpse into the rich culture of this native people, including the significant and sometimes tragic events that changed their traditional way of life forever. Famous Apache leaders Cochise and Geronimo are highlighted in the text as well as life on modern Apache reservations. Carefully chosen photographs and graphic organizers emphasize key ideas about Apache customs and history.","English",25.25,18.95,"979.004","32 pp.",{"$f":"Table1[[#This Row],['# Books]]*Table1[[#This Row],[QTY]]","v":0},{"$f":"Table1[[#This Row],[QTY]]*Table1[[#This Row],[S&L Price]]","v":0}]
[null,136,66,"Native American Cultures",1,"The Cherokee People","eBook",null,"978-1-4824-1980-1",2015,"January 2015",null,null,"Author","Sarah Machajewski",null,null,30,null,"N",null,"Grade 2 - 3","Grade 2 - 5","The Cherokee is the largest native tribe in the United States today. Their history dates back 15,000 years, when their ancestors made the long trek to North America from Asia. Readers will find out where the Cherokee originally settled, where and why they migrated, and what happened when European settlers encroached on Cherokee land, with special attention to the infamous Trail of Tears march of 1838-1839. This valuable account makes note of the Cherokee people's extraordinary resilience in rebuilding their culture on reservations and beyond, despite great obstacles.","English",25.25,18.95,"975.004","32 pp.",{"$f":"Table1[[#This Row],['# Books]]*Table1[[#This Row],[QTY]]","v":0},{"$f":"Table1[[#This Row],[QTY]]*Table1[[#This Row],[S&L Price]]","v":0}]
[null,136,66,"Native American Cultures",1,"The Mohawk People","Library Bound Book",null,"978-1-4824-1991-7",2015,"January 2015","Library","8.500 X 8.500","Author","Ryan Nagelhout",null,null,30,null,"N",null,"Grade 2 - 3","Grade 2 - 5","As the easternmost tribe of the Iroquois Confederacy, the Mohawk people were called the \"keepers of the eastern door.\" Their villages were sustained by hunting, fishing, and agriculture, and their people lived in communal dwellings called longhouses. Their lives changed forever with the arrival of European settlers. Readers will learn the history of the Mohawk, including their involvement with the Iroquois Confederacy and their roles in the French and Indian War as well as the American Revolution. The contributions of the Mohawk to modern society, such as the building of the Empire State Building, may surprise readers and encourage them to find out more about this amazing tribe.","English",25.25,18.95,"974.7004","32 pp.",{"$f":"Table1[[#This Row],['# Books]]*Table1[[#This Row],[QTY]]","v":0},{"$f":"Table1[[#This Row],[QTY]]*Table1[[#This Row],[S&L Price]]","v":0}]
[null,126,67,"Crypts, Tombs, and Secret Rooms",1,"Newgrange Burial Chamber","Library Bound Book",null,"978-1-5382-0653-9",2018,"August 2017","Library","7.250 X 9.250","Author","Enzo  George ",null,null,null,null,"T",null,"Grade 4 - 5","Grade 4 - 6","The Irish tomb called Newgrange dates back 5,000 years. It’s no ordinary tomb. The impressive mound is surrounded by 97 stones, is decorated with artwork, and seems to have passages built for a purpose. Readers are invited on a tour of this mysterious monument, on which they’ll discover the latest theories about the builders of Newgrange, who was buried there, and what these ancient people believed about the afterlife. Archaeology and history lovers will find plenty to love in the dynamic images and insightful text.","English",31.95,23.95,"936.2--dc23","48 pp.",{"$f":"Table1[[#This Row],['# Books]]*Table1[[#This Row],[QTY]]","v":0},{"$f":"Table1[[#This Row],[QTY]]*Table1[[#This Row],[S&L Price]]","v":0}]
[null,126,67,"Crypts, Tombs, and Secret Rooms",1,"The Pyramids of Giza","eBook",null,"978-1-5382-0648-5",2018,"August 2017",null,null,"Author","Enzo  George ",null,null,null,null,"T",null,"Grade 4 - 5","Grade 4 - 6","The Pyramids of Giza are 4,000-year-old tombs built for three Egyptian pharaohs. Though all have been looted over the years, they still hold many surprises and curiosities. And they reflect much about Egyptian culture at that time. This comprehensive volume covers the structures’ histories, including still-controversial theories about how they were built, and the latest excavations and discoveries. Modern photographs will give readers an idea of the pyramids’ magnitude, while a timeline will make them realize how truly enduring these extraordinary monuments are.","English",31.95,23.95,"932--dc23","48 pp.",{"$f":"Table1[[#This Row],['# Books]]*Table1[[#This Row],[QTY]]","v":0},{"$f":"Table1[[#This Row],[QTY]]*Table1[[#This Row],[S&L Price]]","v":0}]
[null,126,67,"Crypts, Tombs, and Secret Rooms",1,"The Roman Catacombs","Library Bound Book",null,"978-1-5382-0655-3",2018,"August 2017","Library","7.250 X 9.250","Author","Enzo  George ",null,null,null,null,"T",null,"Grade 4 - 5","Grade 4 - 6","The subterranean tombs known as the Roman Catacombs are truly time capsules. Some tunnels date to the first century. Both Jewish and Christian graves are found there, including cremated and skeletal remains, and some have only been discovered recently. It’s challenging to receive permission to explore these tunnels. Luckily, young historians can find all they need to know in the well-researched pages of this intriguing book, full of extraordinary images and facts. They’ll learn much about the history of Rome and the different cultures that sought to bury their dead beneath the living in this ancient city.","English",31.95,23.95,"937--dc23","48 pp.",{"$f":"Table1[[#This Row],['# Books]]*Table1[[#This Row],[QTY]]","v":0},{"$f":"Table1[[#This Row],[QTY]]*Table1[[#This Row],[S&L Price]]","v":0}]
[null,126,67,"Crypts, Tombs, and Secret Rooms",1,"Westminster Abbey","eBook",null,"978-1-5382-0652-2",2018,"August 2017",null,null,"Author","Enzo  George ",null,null,null,null,"T",null,"Grade 4 - 5","Grade 4 - 6","Westminster Abbey is a breathtakingly beautiful church in London, England—that happens to hold more than a thousand tombs! Many of the most famous British personalities were laid to rest in Westminster, including Charles Darwin, Isaac Newton, and Charles Dickens. Readers will learn about both British history and architecture as they investigate the church through the appealing pages of this well-designed volume, complete with interesting sidebars, vivid photographs, and a summarizing timeline.","English",31.95,23.95,"942.1'32--dc23","48 pp.",{"$f":"Table1[[#This Row],['# Books]]*Table1[[#This Row],[QTY]]","v":0},{"$f":"Table1[[#This Row],[QTY]]*Table1[[#This Row],[S&L Price]]","v":0}]
[null,127,68,"The Great Race: Fight to the Finish",1,"Crazy Road Races","eBook",null,"978-1-5382-0812-0",2018,"August 2017",null,null,"Author","Jennifer Mason",null,null,null,null,"T",null,"Grade 4 - 5","Grade 4 - 6","The popularity of motorsports hasn’t waned since the advent of the automobile. In fact, some races began for the sole purpose of getting people interested in driving cars for the first time, such as the Peking-to-Paris race of 1907. This wide-ranging book, full of dynamic photographs, is an intriguing historical look at the world of racing, but also offers valuable information about the competitions of today, such as the Indy 500. Readers will love finding out about the famous figures of the racing circuit as well as learning about different kinds of races and racecars.","English",31.95,23.95,"796--dc23","48 pp.",{"$f":"Table1[[#This Row],['# Books]]*Table1[[#This Row],[QTY]]","v":0},{"$f":"Table1[[#This Row],[QTY]]*Table1[[#This Row],[S&L Price]]","v":0}]
[null,127,68,"The Great Race: Fight to the Finish",1,"The Race to Sail Around the World","Library Bound Book",null,"978-1-5382-0819-9",2018,"August 2017","Library","7.250 X 9.250","Author","Kelly Wittmann",null,null,null,null,"T",null,"Grade 4 - 5","Grade 4 - 6","Historians are often divided into two camps when asked to name the first person to circumnavigate the world; there are those who say Ferdinand Magellan was, while others argue the victor was Francis Drake. Readers will learn the controversies surrounding these 16th-century captains and their infamous journeys. They’ll learn about the political intrigues and economic incentives to find a route and the lasting effects of the expeditions. Besides containing the thrilling accounts of Magellan’s and Drake’s adventures, this beguiling book’s historical images, maps, sidebars, and timeline complement social studies and geography curricula.","English",31.95,23.95,"910.4’10922--dc23","48 pp.",{"$f":"Table1[[#This Row],['# Books]]*Table1[[#This Row],[QTY]]","v":0},{"$f":"Table1[[#This Row],[QTY]]*Table1[[#This Row],[S&L Price]]","v":0}]
[null,127,68,"The Great Race: Fight to the Finish",1,"The Space Race","Library Bound Book",null,"978-1-5382-0820-5",2018,"August 2017","Library","7.250 X 9.250","Author","Jennifer Mason",null,null,null,null,"T",null,"Grade 4 - 5","Grade 4 - 6","When the Soviet Union’s satellite Sputnik 1 entered Earth’s orbit in 1957, people in the United States demanded that Americans “catch up” with space technology. The Space Race between the two world superpowers had begun. This authoritative volume explains how the technology developed, who developed it, and the tragedies and triumphs that led to the success of Apollo 11 and subsequent missions. It also addresses the advances of space travel today and the possibility of colonization in outer space. Readers will appreciate the many crucial STEM concepts and eye-catching images included in this gripping account.","English",31.95,23.95,"629.4’109046--dc23","48 pp.",{"$f":"Table1[[#This Row],['# Books]]*Table1[[#This Row],[QTY]]","v":0},{"$f":"Table1[[#This Row],[QTY]]*Table1[[#This Row],[S&L Price]]","v":0}]
[null,128,69,"Rebellions, Revolts, and Uprisings",1,"Shays' Rebellion","Library Bound Book",null,"978-1-5382-0768-0",2018,"August 2017","Library","7.250 X 9.250","Author","Ellis Roxburgh",null,null,null,null,"T",null,"Grade 5","Grade 5 - 6","The early years of the United States weren’t wholly tranquil. The new nation was on rocky economic ground. Though paper money was in circulation, it wasn’t worth much. Many people were suffering and didn’t have a voice in government. These conditions gave rise to the rebellion led by former Continental army captain Daniel Shays, beginning in 1786. This volume explains what happened when Shays and more than one thousand followers attempted to capture a Massachusetts arsenal and how this rebellion led to the formation of a new and stronger federal government.","English",31.95,23.95,"974.4'03--dc23","48 pp.",{"$f":"Table1[[#This Row],['# Books]]*Table1[[#This Row],[QTY]]","v":0},{"$f":"Table1[[#This Row],[QTY]]*Table1[[#This Row],[S&L Price]]","v":0}]
[null,128,69,"Rebellions, Revolts, and Uprisings",1,"The Raid on Harpers Ferry","eBook",null,"978-1-5382-0761-1",2018,"August 2017",null,null,"Author","Ellis Roxburgh",null,null,null,null,"T",null,"Grade 5","Grade 5 - 6","No study of the American Civil War is complete without an understanding of the events that unfolded in Harpers Ferry, Virginia, in 1859. Abolitionist John Brown became a martyr to many through his raid on the federal arsenal there, in support of a slave rebellion. But he became a reviled enemy to those opposed to abolition. This in-depth account provides many fascinating details of the planning of the raid, such as Brown’s attempt to recruit Frederick Douglass to the cause. It also explains the aftershocks of the attack in a nation truly on the brink of war.","English",31.95,23.95,"973.7'116--dc23","48 pp.",{"$f":"Table1[[#This Row],['# Books]]*Table1[[#This Row],[QTY]]","v":0},{"$f":"Table1[[#This Row],[QTY]]*Table1[[#This Row],[S&L Price]]","v":0}]
[null,145,70,"Sports: What's Your Position?",6,"Sports: What's Your Position?","Library Set",null,"978-1-5382-0476-4",2018,"August 2017","Library","8.500 X 11.00",null,null,null,null,null,null,null,null,"Grade 3 - 4","Grade 3 - 6","Playing sports is a great way to get some exercise with friends. But knowing what to do can often be tough. Learning the proper positions in sports is an important way sports fans and players learn the games they love. From the special techniques goaltenders need to know in sports like soccer, hockey, and lacrosse to the many positions on the football field, there’s lots to know about the unique positions athletes play. Full-color photographs show both professionals and kids playing these roles on a team and show readers how teams work together to win and have fun!","English",159.6,119.7,null,"32 pp.",{"$f":"Table1[[#This Row],['# Books]]*Table1[[#This Row],[QTY]]","v":0},{"$f":"Table1[[#This Row],[QTY]]*Table1[[#This Row],[S&L Price]]","v":0}]
[null,145,70,"Sports: What's Your Position?",1,"Baseball: Who Does What?","Library Bound Book",null,"978-1-5382-0420-7",2018,"August 2017","Library","8.500 X 11.00","Author","Ryan Nagelhout",null,null,null,null,"R",null,"Grade 3 - 4","Grade 3 - 6","Nine is the magic number in baseball. It’s the number of innings in a standard game and the number of players each team fields when on defense. But every player on the field is different, and this book studies each unique position to explore those differences and the skills needed to play there. From turning double plays at shortstop to throwing off the pitcher’s mound, each spot on the diamond has its quirks. Readers learn how catchers help pitchers know what pitch to throw and catch runners stealing second base in this exciting title that puts them on the diamond and in the midst of this exciting game.","English",26.6,19.95,"796.357--dc23","32 pp.",{"$f":"Table1[[#This Row],['# Books]]*Table1[[#This Row],[QTY]]","v":0},{"$f":"Table1[[#This Row],[QTY]]*Table1[[#This Row],[S&L Price]]","v":0}]
[null,145,70,"Sports: What's Your Position?",1,"Football: Who Does What?","eBook",null,"978-1-5382-0427-6",2018,"August 2017",null,null,"Author","Ryan Nagelhout",null,null,null,null,"R",null,"Grade 3 - 4","Grade 3 - 6","The game of football has many rules, and each position on the field is different. Whether lining up in the trenches to protect the quarterback or running the ball out of the backfield, the 11 players on each team each have special jobs to do. This book gives readers a look at each position on the gridiron, showing how cornerbacks and safeties cover wide receivers and how linebackers try to sack the quarterback. With a detailed look at each position, readers will be ready to take the field themselves and play America’s most popular game with their friends.","English",26.6,19.95,"796.332--dc23","32 pp.",{"$f":"Table1[[#This Row],['# Books]]*Table1[[#This Row],[QTY]]","v":0},{"$f":"Table1[[#This Row],[QTY]]*Table1[[#This Row],[S&L Price]]","v":0}]
[null,145,70,"Sports: What's Your Position?",1,"Soccer: Who Does What?","eBook",null,"978-1-5382-0416-0",2018,"August 2017",null,null,"Author","Ryan Nagelhout",null,null,null,null,"R",null,"Grade 3 - 4","Grade 3 - 6","Taking the soccer pitch can be intimidating if you’re not sure where to go. It’s a big field and each position on the “starting 11” has a big responsibility. Whether exploring all the ways a keeper makes saves or how the defense works in front of them, readers will love experiencing the game of soccer in this exciting title. Filled with golden goals and brilliant passes, readers take a deep dive into “the beautiful game” and learn important ways they can succeed with their friends on the pitch.","English",26.6,19.95,"796.334--dc23","32 pp.",{"$f":"Table1[[#This Row],['# Books]]*Table1[[#This Row],[QTY]]","v":0},{"$f":"Table1[[#This Row],[QTY]]*Table1[[#This Row],[S&L Price]]","v":0}]
[null,148,71,"¿Dónde está…? Mapas del mundo (Where on Earth? Mapping Parts of the World)",1,"Continentes de la Tierra (Earth’s Continents)","eBook",null,"978-1-5382-0503-7",2018,"August 2017",null,null,"Author, Translated by","Todd Bluthenthal, Esther Sarfatti",null,null,null,null,null,null,"Grade 1 - 2","Grade 1 - 3","Why do continents matter? From economics to weather science—and everything in between—knowing the characteristics of the continents expands readers’ perspectives in every school subject. This fundamental information is a building block of many future lessons and an essential part of elementary education. This book presents a focused, clear, age-appropriate look at Earth’s continents that young readers are sure to find both informative and interesting. This volume is also packed with colorful maps that are labeled and explained to foster young readers’ comprehension of this important topic.","Spanish",22.6,16.95,"551.41--dc23","24 pp.",{"$f":"Table1[[#This Row],['# Books]]*Table1[[#This Row],[QTY]]","v":0},{"$f":"Table1[[#This Row],[QTY]]*Table1[[#This Row],[S&L Price]]","v":0}]
[null,148,71,"¿Dónde está…? Mapas del mundo (Where on Earth? Mapping Parts of the World)",1,"El ecuador (The Equator)","Library Bound Book",null,"978-1-5382-0512-9",2018,"August 2017","Library","7.000 X 7.000","Author, Translated by","Todd Bluthenthal, Esther Sarfatti",null,null,null,null,null,null,"Grade 1 - 2","Grade 1 - 3","“The Earth is wearing a belt” is an age-old visual device teachers have used to explain the equator. In this volume, young readers will expand their comprehension of this important concept. With an understanding of the equator comes a grasping of the rotation of the Earth, climate, weather, and many other age-appropriate science concepts. Clean, accessible art on every spread—including diagrams, maps, and full-color photographs—help readers grasp these curriculum topics. That important main line of latitude we call the equator is made familiar through clean text and graphics in a way that every elementary reader is sure to understand!","Spanish",22.6,16.95,"526’.6--dc23","24 pp.",{"$f":"Table1[[#This Row],['# Books]]*Table1[[#This Row],[QTY]]","v":0},{"$f":"Table1[[#This Row],[QTY]]*Table1[[#This Row],[S&L Price]]","v":0}]
[null,148,71,"¿Dónde está…? Mapas del mundo (Where on Earth? Mapping Parts of the World)",1,"El polo sur (The South Pole)","eBook",null,"978-1-5382-0502-0",2018,"August 2017",null,null,"Author, Translated by","Todd Bluthenthal, Esther Sarfatti",null,null,null,null,null,null,"Grade 1 - 2","Grade 1 - 3","The South Pole is cold, but there’s more to it than that! This book presents the cartography and earth science of this polar region to young readers in an engaging yet informative way. Several spreads are dedicated to the fascinating history of the brave explorers of this icy landscape, a part of history that is sure to impress all elementary readers! The colorful, easily understood maps and vivid photographs of the South Pole will expand reader’s grasp on the concepts of poles, continents, climate, Earth’s rotation, and so much more!","Spanish",22.6,16.95,"919.89--dc23","24 pp.",{"$f":"Table1[[#This Row],['# Books]]*Table1[[#This Row],[QTY]]","v":0},{"$f":"Table1[[#This Row],[QTY]]*Table1[[#This Row],[S&L Price]]","v":0}]
[null,null,72,"Pequeñas biografías de grandes personajes (Little Biographies of Big People)",1,"César Chávez (Cesar Chavez)","eBook",null,"978-1-5382-1506-7",2018,"January 2018",null,null,"Author, Translated by","Joan Stoltman, Ana Maria Garcia",null,null,null,null,"J",null,"Grade 1 - 2","Grade 1 - 3","The story of Cesar Chavez is as topical and vital a story today as it was when it was an integral part of current events and not a story in history. This volume, dedicated to passing on the story of Chavez’s life to young readers, provides educators with an essential tool to teach social justice, workers’ rights, and how to stand up for your convictions through age-appropriate language and explanation of concepts. This inspiring biography follows Chavez’s journey from humble beginnings to becoming one of the most vital civil rights activists of our time.","Spanish",22.6,16.95,"331.88'13092--dc23","24 pp.",{"$f":"Table1[[#This Row],['# Books]]*Table1[[#This Row],[QTY]]","v":0},{"$f":"Table1[[#This Row],[QTY]]*Table1[[#This Row],[S&L Price]]","v":0}]
[null,null,72,"Pequeñas biografías de grandes personajes (Little Biographies of Big People)",1,"Michelle Obama","Library Bound Book",null,"978-1-5382-1528-9",2018,"January 2018","Library","7.000 X 7.000","Author, Translated by","Joan Stoltman, Ana Maria Garcia",null,null,null,null,"H",null,"Grade 1 - 2","Grade 1 - 3","Michelle Obama is easily recognizable to young readers, but has had a life few children have had the chance to learn about. This topical, engaging volume brings the story of an incredibly intelligent, motivated, deeply dedicated person to vivid life. Young readers will easily engage in Michelle Obama’s life through the meticulously uncomplicated, age-appropriate language and explanation of concepts provided throughout this inspiring story. This highly requested biography is sure to be a quick hit in any collection, educating and inspiring readers to achieve their maximum potential.","Spanish",22.6,16.95,"973.932092--dc23","24 pp.",{"$f":"Table1[[#This Row],['# Books]]*Table1[[#This Row],[QTY]]","v":0},{"$f":"Table1[[#This Row],[QTY]]*Table1[[#This Row],[S&L Price]]","v":0}]
[null,null,72,"Pequeñas biografías de grandes personajes (Little Biographies of Big People)",1,"Walt Disney","Library Bound Book",null,"978-1-5382-1527-2",2018,"January 2018","Library","7.000 X 7.000","Author, Translated by","Joan Stoltman, Ana Maria Garcia",null,null,null,null,"H",null,"Grade 1 - 2","Grade 1 - 3","Young readers finally have an opportunity to step back from the gigantic, ubiquitous entity of the Disney Company as it exists today and discover the story of the singular, remarkable man who started it all. His biography is the perfect way to tell the story of an artist with the vision, drive, and passion to share his art with the world, a rare, modern success story that is vital to every collection. This volume motivates and inspires young readers to explore their own artistic voice and vision with captivating photography and focused, age-appropriate language.","Spanish",22.6,16.95,"741.58092--dc23","24 pp.",{"$f":"Table1[[#This Row],['# Books]]*Table1[[#This Row],[QTY]]","v":0},{"$f":"Table1[[#This Row],[QTY]]*Table1[[#This Row],[S&L Price]]","v":0}]
[null,149,73,"Superherramientas científicas (Super Science Tools)",1,"Cómo utilizar imanes (Using Magnets)","Library Bound Book",null,"978-1-5382-0582-2",2018,"August 2017","Library","7.000 X 7.000","Author, Translated by","Nora Roman, Alberto Jiménez",null,null,null,null,null,null,"Grade 1 - 2","Grade 1 - 3","Few natural forces seem as much like magic as magnets. Perhaps that’s why magnets are so fun! Young scientists will love learning about amazing magnets, both natural and man-made. They’ll discover how magnetism is harnessed to help us in many ways. This STEM-supportive volume contains comprehensible text and photographs of students and scientists utilizing magnets. It also includes a simple, fun concluding activity to encourage readers to use this super science tool themselves.","Spanish",22.6,16.95,"538--dc23","24 pp.",{"$f":"Table1[[#This Row],['# Books]]*Table1[[#This Row],[QTY]]","v":0},{"$f":"Table1[[#This Row],[QTY]]*Table1[[#This Row],[S&L Price]]","v":0}]
[null,149,73,"Superherramientas científicas (Super Science Tools)",1,"Cómo utilizar un termómetro (Using a Thermometer)","eBook",null,"978-1-5382-0595-2",2018,"August 2017",null,null,"Author, Translated by","Abigail B. Roberts, Alberto Jiménez",null,null,null,null,null,null,"Grade 1 - 2","Grade 1 - 3","Thermometers are so important in our daily lives. We consult them to know how to dress before going outside. We check our temperature when we think we're sick. We even use thermometers when weﾒre cooking and baking in the kitchen. Thermometers are everywhere, but they're also important tools of science. In this engaging volume, with the aid of appealing photographs and an instructive activity, readers will learn how scientists of all ages use thermometers and how they can, too.","Spanish",22.6,16.95,"536’.50287--dc23","24 pp.",{"$f":"Table1[[#This Row],['# Books]]*Table1[[#This Row],[QTY]]","v":0},{"$f":"Table1[[#This Row],[QTY]]*Table1[[#This Row],[S&L Price]]","v":0}]
[null,149,73,"Superherramientas científicas (Super Science Tools)",1,"Cómo utilizar una regla (Using a Ruler)","Library Bound Book",null,"978-1-5382-0586-0",2018,"August 2017","Library","7.000 X 7.000","Author, Translated by","Nora Roman, Alberto Jiménez",null,null,null,null,null,null,"Grade 1 - 2","Grade 1 - 3","Rulers seem like such simple tools, but their importance can’t be overstated. Without rulers—and the knowledge of how to use them—so many inventions, buildings, and other man-made achievements would just fall apart. In this volume, readers will review the basics of rulers and observe them being used by young student-scientists as well as by professionals in the working world. They’ll even test out their own ruler skills as they find out that rulers rule the world of science!","Spanish",22.6,16.95,"530.8--dc23","24 pp.",{"$f":"Table1[[#This Row],['# Books]]*Table1[[#This Row],[QTY]]","v":0},{"$f":"Table1[[#This Row],[QTY]]*Table1[[#This Row],[S&L Price]]","v":0}]
[null,149,73,"Superherramientas científicas (Super Science Tools)",1,"Cómo utilizar una regla (Using a Ruler)","eBook",null,"978-1-5382-0587-7",2018,"August 2017",null,null,"Author, Translated by","Nora Roman, Alberto Jiménez",null,null,null,null,null,null,"Grade 1 - 2","Grade 1 - 3","Rulers seem like such simple tools, but their importance can’t be overstated. Without rulers—and the knowledge of how to use them—so many inventions, buildings, and other man-made achievements would just fall apart. In this volume, readers will review the basics of rulers and observe them being used by young student-scientists as well as by professionals in the working world. They’ll even test out their own ruler skills as they find out that rulers rule the world of science!","Spanish",22.6,16.95,"530.8--dc23","24 pp.",{"$f":"Table1[[#This Row],['# Books]]*Table1[[#This Row],[QTY]]","v":0},{"$f":"Table1[[#This Row],[QTY]]*Table1[[#This Row],[S&L Price]]","v":0}]
[null,151,74,"Conoce tu gobierno (A Look at Your Government)",1,"¿Por qué votamos? (Why Do We Vote?)","eBook",null,"978-1-4824-6273-9",2018,"August 2017",null,null,"Author, Translated by","Santana Hunt, Esther Sarfatti",null,null,null,null,null,null,"Grade 2","Grade 3 - 6","Many Americans believe it is their civic duty to vote. However, in most elections, less than half of eligible voters show up at the polls. Readers are introduced to the many reasons why voting is an important, including how voting allows the voice of the people to be heard. The main content tackles a complex idea of citizenship with accessible language and age-appropriate subject matter. Briefly covering social studies curriculum topics such as the Electoral College, disenfranchisement, and the Voting Rights Act of 1965, this book serves as an excellent companion to classroom learning.","Spanish",26.6,19.95,"324.60973--dc23","32 pp.",{"$f":"Table1[[#This Row],['# Books]]*Table1[[#This Row],[QTY]]","v":0},{"$f":"Table1[[#This Row],[QTY]]*Table1[[#This Row],[S&L Price]]","v":0}]
[null,151,74,"Conoce tu gobierno (A Look at Your Government)",1,"¿Qué hace el presidente? (What Does the President Do?)","Library Bound Book",null,"978-1-4824-6259-3",2018,"August 2017","Library","6.500 X 9.125","Author, Translated by","Kathleen Connors, Esther Sarfatti",null,null,null,null,null,null,"Grade 2","Grade 3 - 6","The US president is the face of the United States to the rest of the world. However, he or she doesn’t have unlimited power within the country. The president has certain powers given by the Constitution, including the ability to make treaties, appoint some important government officials, and veto laws. Readers learn the many duties of the president in simple, clear language appropriate for both younger readers and older readers looking for a succinct review of the topic. Fact boxes supplement the main content with important details about checks and balances, amendments, and more that affect the presidency today.","Spanish",26.6,19.95,"352.23’0973--dc23","32 pp.",{"$f":"Table1[[#This Row],['# Books]]*Table1[[#This Row],[QTY]]","v":0},{"$f":"Table1[[#This Row],[QTY]]*Table1[[#This Row],[S&L Price]]","v":0}]
[null,151,74,"Conoce tu gobierno (A Look at Your Government)",1,"¿Qué hace el Tribunal Supremo de Justicia? (What Does the US Supreme Court Do?)","eBook",null,"978-1-4824-6258-6",2018,"August 2017",null,null,"Author, Translated by","Santana Hunt, Esther Sarfatti",null,null,null,null,null,null,"Grade 2","Grade 3 - 6","The Supreme Court is the highest court in the United States. While it only hears about 80 cases out of the thousands that petition to be heard, the court’s decisions have a big impact. The most important job of the Supreme Court is to decide the constitutionality of laws and actions. This process is broken down for readers in simple terms that support their understanding of the judicial branch. The main content offers curriculum-based information about the court’s relationship with the Constitution, justice appointments, and how justices write opinions. Fact boxes supply definitions and further explanations of more complicated ideas.","Spanish",26.6,19.95,"347.73/26--dc23","32 pp.",{"$f":"Table1[[#This Row],['# Books]]*Table1[[#This Row],[QTY]]","v":0},{"$f":"Table1[[#This Row],[QTY]]*Table1[[#This Row],[S&L Price]]","v":0}]
[null,null,75,"Veamos los ciclos de vida (A Look at Life Cycles)",1,"Los ciclos de vida de los anfibios (Amphibian Life Cycles)","Library Bound Book",null,"978-1-5382-1526-5",2018,"January 2018","Library","6.500 X 9.125","Author, Translated by","Bray Jacobson, Alberto Jiménez",null,null,null,null,"I",null,"Grade 2","Grade 3 - 6","Amphibians have some of the most interesting life cycles on Earth. The metamorphosis frogs, toads, salamanders, newts, and caecilians go through has many steps that readers need to understand and remember. This book offers a concise overview of the general amphibian life cycle as well as representative examples of the many species within the animal group. Most importantly, the accessible language is paired with diagrams of the steps of the life cycle to augment readers’ understanding of this topic often found in the science curriculum.","Spanish",26.6,19.95,"597.8'9--dc23","32 pp.",{"$f":"Table1[[#This Row],['# Books]]*Table1[[#This Row],[QTY]]","v":0},{"$f":"Table1[[#This Row],[QTY]]*Table1[[#This Row],[S&L Price]]","v":0}]
[null,null,75,"Veamos los ciclos de vida (A Look at Life Cycles)",1,"Los ciclos de vida de los mamíferos (Mammal Life Cycles)","eBook",null,"978-1-5382-1517-3",2018,"January 2018",null,null,"Author, Translated by","Bray Jacobson, Alberto Jiménez",null,null,null,null,"I",null,"Grade 2","Grade 3 - 6","Mammals are a very diverse group. From whales and dolphins that give birth in the water to platypuses that lay eggs, these life cycles can often seem very different. However, they’re very similar. Readers learn the basic structure of the mammal life cycle through simple language and accompanying diagrams that show the cycle step by step. The main content offers a way for struggling readers to more easily learn an important science curriculum topic, but can also be a great review tool for any reader.","Spanish",26.6,19.95,"599.156--dc23","32 pp.",{"$f":"Table1[[#This Row],['# Books]]*Table1[[#This Row],[QTY]]","v":0},{"$f":"Table1[[#This Row],[QTY]]*Table1[[#This Row],[S&L Price]]","v":0}]
[null,158,76,"¡A jugar! / Ways to Play",6,"¡A jugar! / Ways to Play","Library Set",null,"978-1-5382-0237-1",2018,"August 2017","Library","7.625 X 7.125",null,null,null,null,null,null,null,null,"Grade K","Grade Pre-K - 2","It’s time to play—and read! This motivating series shows early readers that books are a gateway to fun, while they read about the different ways that young people play every day. Whether that play involves pets, sports, music, or crafts, readers will connect with accessible text and photographs on each page, which will aid them in reviewing sight words as well as deciphering new vocabulary. Each high-interest volume encourages both creative and physical play and will have readers enthusiastically turning the pages!","Bilingual",135.6,101.7,null,"24 pp.",{"$f":"Table1[[#This Row],['# Books]]*Table1[[#This Row],[QTY]]","v":0},{"$f":"Table1[[#This Row],[QTY]]*Table1[[#This Row],[S&L Price]]","v":0}]
[null,158,76,"¡A jugar! / Ways to Play",1,"¡A hacer manualidades! / We Do Crafts!","Library Bound Book",null,"978-1-5382-0568-6",2018,"August 2017","Library","7.625 X 7.125","Author, Translated by","Leonard Atlantic, Eida de la Vega",null,null,null,null,"C",null,"Grade K","Grade Pre-K - 2","No matter what the weather's like outside, crafts are an easy and fun way to spend an afternoon. Whether painting with friends or making flowers out of paper, crafts can turn the day into an awesome adventure. Using simple craft supplies like paper and drawing tools, even the youngest of children can find engaging ways to play. With the help of accessible text paired with colorful photographs, early readers will experience the creative world of arts and crafts.","Bilingual",22.6,16.95,"745.5--dc23","24 pp.",{"$f":"Table1[[#This Row],['# Books]]*Table1[[#This Row],[QTY]]","v":0},{"$f":"Table1[[#This Row],[QTY]]*Table1[[#This Row],[S&L Price]]","v":0}]
[null,158,76,"¡A jugar! / Ways to Play",1,"¡A hacer manualidades! / We Do Crafts!","eBook",null,"978-1-5382-0569-3",2018,"August 2017",null,null,"Author, Translated by","Leonard Atlantic, Eida de la Vega",null,null,null,null,"C",null,"Grade K","Grade Pre-K - 2","No matter what the weather's like outside, crafts are an easy and fun way to spend an afternoon. Whether painting with friends or making flowers out of paper, crafts can turn the day into an awesome adventure. Using simple craft supplies like paper and drawing tools, even the youngest of children can find engaging ways to play. With the help of accessible text paired with colorful photographs, early readers will experience the creative world of arts and crafts.","Bilingual",22.6,16.95,"745.5--dc23","24 pp.",{"$f":"Table1[[#This Row],['# Books]]*Table1[[#This Row],[QTY]]","v":0},{"$f":"Table1[[#This Row],[QTY]]*Table1[[#This Row],[S&L Price]]","v":0}]
[null,158,76,"¡A jugar! / Ways to Play",1,"¡A jugar en casa! / We Play with Things Around the House!","Library Bound Book",null,"978-1-5382-0578-5",2018,"August 2017","Library","7.625 X 7.125","Author, Translated by","Leonard Atlantic, Eida de la Vega",null,null,null,null,"C",null,"Grade K","Grade Pre-K - 2","There’s never a shortage of ways to play when you get creative! Even without fancy sports or craft supplies, letting young readers explore the treasures found at home is a great way to invent a brand-new game. Allowing readers’ imaginations to take over engages them in creative improvisation and builds confidence in their own logic. This book pairs full-color photographs with accessible text to show budding readers just how easy it is to turn ordinary household objects into an endless fountain of fun!","Bilingual",22.6,16.95,"790--dc23","24 pp.",{"$f":"Table1[[#This Row],['# Books]]*Table1[[#This Row],[QTY]]","v":0},{"$f":"Table1[[#This Row],[QTY]]*Table1[[#This Row],[S&L Price]]","v":0}]
[null,null,77,"¡Nuestra maravillosa Tierra! / Our Exciting Earth!",1,"Lagunas / Ponds","Library Bound Book",null,"978-1-5382-1536-4",2018,"January 2018","Library","7.625 X 7.125","Author, Translated by","Jagger Youssef, Eida de la Vega",null,null,null,null,"C",null,"Grade K","Grade Pre-K - 2","Even the smallest pond is a home for a myriad of plants and animals. This easy-to-follow volume demonstrates that accessible text and dynamic photographs are a perfect combination for introducing young readers to essential science topics. Readers will be delighted to meet the inhabitants of a pond, including frogs, minnows, ducklings, and even algae, which they'll learn can make a pond turn green. They'll be able to apply this valuable information to their next journey into the wild.","Bilingual",22.6,16.95,"577.63'6--dc23","24 pp.",{"$f":"Table1[[#This Row],['# Books]]*Table1[[#This Row],[QTY]]","v":0},{"$f":"Table1[[#This Row],[QTY]]*Table1[[#This Row],[S&L Price]]","v":0}]
[null,null,77,"¡Nuestra maravillosa Tierra! / Our Exciting Earth!",1,"Océanos / Oceans","Library Bound Book",null,"978-1-5382-1534-0",2018,"January 2018","Library","7.625 X 7.125","Author, Translated by","Claire Romaine, Eida de la Vega",null,null,null,null,"C",null,"Grade K","Grade Pre-K - 2","The ocean is certainly a mysterious place, and this volume takes readers on a grand tour of the deep. They'll meet ocean animals, such as sea turtles and blue whales, learn about ocean plants, and discover they can encounter marine creatures for themselves at low tide. This informative guide introduces aspiring oceanographers to some important elementary science vocabulary and concepts, supported by colorful photographs that perfectly match the accessible text.","Bilingual",22.6,16.95,"551.46--dc23","24 pp.",{"$f":"Table1[[#This Row],['# Books]]*Table1[[#This Row],[QTY]]","v":0},{"$f":"Table1[[#This Row],[QTY]]*Table1[[#This Row],[S&L Price]]","v":0}]
[null,null,77,"¡Nuestra maravillosa Tierra! / Our Exciting Earth!",1,"Océanos / Oceans","eBook",null,"978-1-5382-1510-4",2018,"January 2018",null,null,"Author, Translated by","Claire Romaine, Eida de la Vega",null,null,null,null,"C",null,"Grade K","Grade Pre-K - 2","The ocean is certainly a mysterious place, and this volume takes readers on a grand tour of the deep. They'll meet ocean animals, such as sea turtles and blue whales, learn about ocean plants, and discover they can encounter marine creatures for themselves at low tide. This informative guide introduces aspiring oceanographers to some important elementary science vocabulary and concepts, supported by colorful photographs that perfectly match the accessible text.","Bilingual",22.6,16.95,"551.46--dc23","24 pp.",{"$f":"Table1[[#This Row],['# Books]]*Table1[[#This Row],[QTY]]","v":0},{"$f":"Table1[[#This Row],[QTY]]*Table1[[#This Row],[S&L Price]]","v":0}]
[null,157,78,"Lo que conozco / What I Know",1,"Conozco cosas que se mueven / I Know Things That Go","Library Bound Book",null,"978-1-5382-0564-8",2018,"August 2017","Library","7.000 X 7.000","Author, Translated by","Trisha James, Eida de la Vega",null,null,null,null,"B",null,"Grade K","Grade Pre-K - 1","There are so many ways to travel, and now on-the-go readers can review the vocabulary of vehicles in this appealing and vibrant volume. Trains, airplanes, and even scooters are some of the fun modes of transportation featured. At-level text is paired with colorful photographs, and both aid readers in deciding which way they would choose to travel to go someplace fun!","Bilingual",22.6,16.95,"629.04--dc23","24 pp.",{"$f":"Table1[[#This Row],['# Books]]*Table1[[#This Row],[QTY]]","v":0},{"$f":"Table1[[#This Row],[QTY]]*Table1[[#This Row],[S&L Price]]","v":0}]
[null,157,78,"Lo que conozco / What I Know",1,"Conozco la gente donde vivo / I Know People Around Town","eBook",null,"978-1-5382-0561-7",2018,"August 2017",null,null,"Author, Translated by","Colin Matthews, Eida de la Vega",null,null,null,null,"B",null,"Grade K","Grade Pre-K - 1","Young people are always interested in those in the community who make it run—especially uniformed heroes such as firefighters and police officers. This fun volume walks readers around town introducing them to community workers, including the mail carrier, dentist, and librarian. Carefully chosen photographs correlate with the achievable vocabulary and illustrate characteristics of each job.","Bilingual",22.6,16.95,"331.7--dc23","24 pp.",{"$f":"Table1[[#This Row],['# Books]]*Table1[[#This Row],[QTY]]","v":0},{"$f":"Table1[[#This Row],[QTY]]*Table1[[#This Row],[S&L Price]]","v":0}]
[null,157,78,"Lo que conozco / What I Know",1,"Conozco los opuestos / I Know Opposites","Library Bound Book",null,"978-1-5382-0558-7",2018,"August 2017","Library","7.000 X 7.000","Author, Translated by","Colin Matthews, Eida de la Vega",null,null,null,null,"B",null,"Grade K","Grade Pre-K - 1","The concept of opposites is a crucial one at the early elementary level. Learning opposites opens up a reader’s vocabulary and ability to communicate. This colorful volume is a helpful aid for teaching and reviewing opposites, displaying opposite pairs visually next to the accompanying accessible text. Readers are encouraged to identify opposites in their own world, reinforcing these essential ideas in their daily lives.","Bilingual",22.6,16.95,"428.1--dc23","24 pp.",{"$f":"Table1[[#This Row],['# Books]]*Table1[[#This Row],[QTY]]","v":0},{"$f":"Table1[[#This Row],[QTY]]*Table1[[#This Row],[S&L Price]]","v":0}]
[null,157,78,"Lo que conozco / What I Know",1,"Conozco los opuestos / I Know Opposites","eBook",null,"978-1-5382-0559-4",2018,"August 2017",null,null,"Author, Translated by","Colin Matthews, Eida de la Vega",null,null,null,null,"B",null,"Grade K","Grade Pre-K - 1","The concept of opposites is a crucial one at the early elementary level. Learning opposites opens up a reader’s vocabulary and ability to communicate. This colorful volume is a helpful aid for teaching and reviewing opposites, displaying opposite pairs visually next to the accompanying accessible text. Readers are encouraged to identify opposites in their own world, reinforcing these essential ideas in their daily lives.","Bilingual",22.6,16.95,"428.1--dc23","24 pp.",{"$f":"Table1[[#This Row],['# Books]]*Table1[[#This Row],[QTY]]","v":0},{"$f":"Table1[[#This Row],[QTY]]*Table1[[#This Row],[S&L Price]]","v":0}]
[null,157,78,"Lo que conozco / What I Know",1,"Conozco las partes del cuerpo / I Know Body Parts","Library Bound Book",null,"978-1-4824-6201-2",2017,"January 2017","Library","7.000 X 7.000","Author, Translated by","Mary Rose Osburn, Fatima Rateb",null,null,null,null,"B",null,"Grade K","Grade Pre-K - 1","Knowing body parts and accompanying vocabulary are essential topics in both health and science elementary curricula. In this helpful volume, close text and image correlation make fundamental concepts comprehensible. Readers will recognize the body parts in each colorful photograph and associate them with their own. Finally, they’ll consider how they use their many body parts in their daily lives.","Bilingual",22.6,16.95,"612--dc23","24 pp.",{"$f":"Table1[[#This Row],['# Books]]*Table1[[#This Row],[QTY]]","v":0},{"$f":"Table1[[#This Row],[QTY]]*Table1[[#This Row],[S&L Price]]","v":0}]
[null,157,78,"Lo que conozco / What I Know",1,"Conozco los números / I Know Numbers","Library Bound Book",null,"978-1-4824-6203-6",2017,"January 2017","Library","7.000 X 7.000","Author, Translated by","Jon Welzen, Fatima Rateb",null,null,null,null,"B",null,"Grade K","Grade Pre-K - 1","Ten toes on our feet, four bases in baseball, two wheels on a bicycle—numbers are all around! This sunny book demonstrates how readers can identify numbers in familiar objects and situations, aided by carefully selected images, and encourages them to practice number recognition in their everyday lives. Number names, quantities, and counting are among the essential skills addressed in this valuable volume.","Bilingual",22.6,16.95,"513.2--dc23","24 pp.",{"$f":"Table1[[#This Row],['# Books]]*Table1[[#This Row],[QTY]]","v":0},{"$f":"Table1[[#This Row],[QTY]]*Table1[[#This Row],[S&L Price]]","v":0}]
[null,17,null,"Our Favorite Colors",1,"We Love Green!","Library Bound Book",null,"978-1-4824-3729-4",2016,"January 2016","Library","7.000 X 7.000","Author","Emma O'Connell",null,null,null,null,"B",null,"Grade K","Grade K - 1","Grasping the concept of colors is an important step in early education. In this book, readers can dive into the color green through vibrant photographs and bright text. Turtles, snakes, grapes, leaves, and more familiar objects aid them in both understanding varying hues of this color as well as recognizing vocabulary words of the depicted items. The end of the volume provides an opportunity for evaluation.","English",22.6,16.95,"535.6—dc23","24 pp.",{"$f":"Table1[[#This Row],['# Books]]*Table1[[#This Row],[QTY]]","v":0},{"$f":"Table1[[#This Row],[QTY]]*Table1[[#This Row],[S&L Price]]","v":0}]
[null,17,null,"Our Favorite Colors",1,"We Love Green!","eBook",null,"978-1-4824-3730-0",2016,"January 2016",null,null,"Author","Emma O'Connell",null,null,null,null,"B",null,"Grade K","Grade K - 1","Grasping the concept of colors is an important step in early education. In this book, readers can dive into the color green through vibrant photographs and bright text. Turtles, snakes, grapes, leaves, and more familiar objects aid them in both understanding varying hues of this color as well as recognizing vocabulary words of the depicted items. The end of the volume provides an opportunity for evaluation.","English",22.6,16.95,"535.6—dc23","24 pp.",{"$f":"Table1[[#This Row],['# Books]]*Table1[[#This Row],[QTY]]","v":0},{"$f":"Table1[[#This Row],[QTY]]*Table1[[#This Row],[S&L Price]]","v":0}]
[null,17,null,"Our Favorite Colors",1,"We Love Red!","Library Bound Book",null,"978-1-4824-3741-6",2016,"January 2016","Library","7.000 X 7.000","Author","Richard Little",null,null,null,null,"B",null,"Grade K","Grade K - 1","The eye-catching color of red tints delicious apples, shiny toy cars, juicy tomatoes, and so much more in the world around us. Readers of this cheerful volume are invited to recognize red in well-known objects in each photograph as well as to review important vocabulary words in at-level sentences. A simple activity at the end of the book allows them to self-evaluate their mastery of this color concept.","English",22.6,16.95,"535.6—dc23","24 pp.",{"$f":"Table1[[#This Row],['# Books]]*Table1[[#This Row],[QTY]]","v":0},{"$f":"Table1[[#This Row],[QTY]]*Table1[[#This Row],[S&L Price]]","v":0}]
[null,18,null,"Dinosaur School",1,"Big and Small","Library Bound Book",null,"978-1-4339-8083-1",2013,"January 2013","Library","7.000 X 7.000","Author","Joyce Jeffries",null,null,1,1,"A",null,"Grade K","Grade K - 1","Beginning readers will find a fun-filled learning experience through easy-to-follow text and colorful illustrations. Charming illustrations, featuring dinosaurs interacting with a variety of objects and animals, show the difference between things that are big and those that are small—introducing students to the concept of comparing things by size. A concluding graphic organizer reinforces the concept, separating big and small objects through pictures and words in a way that is accessible for beginning readers. This engaging book also helps early learners develop vocabulary skills with its strong picture-text correlation.","English",22.6,16.95,"153.7","24 pp.",{"$f":"Table1[[#This Row],['# Books]]*Table1[[#This Row],[QTY]]","v":0},{"$f":"Table1[[#This Row],[QTY]]*Table1[[#This Row],[S&L Price]]","v":0}]
[null,18,null,"Dinosaur School",1,"Dinosaur Colors","Library Bound Book",null,"978-1-4339-7139-6",2013,"August 2012","Library","7.000 X 7.000","Author","Ava Saviola",null,null,1,2,"A",null,"Grade K","Grade K - 1","Early learners are introduced to the concept of colors and their respective names with the visual aid of dinosaurs. Each vibrantly colored dinosaur is simply labeled to bring this important first concept to life. Similarly colored and easily identifiable items, such as a red apple and an orange pumpkin, are also featured for further reinforcement. A summary page of dinosaurs labeled by color presents an additional opportunity for learning.","English",22.6,16.95,"535.6","24 pp.",{"$f":"Table1[[#This Row],['# Books]]*Table1[[#This Row],[QTY]]","v":0},{"$f":"Table1[[#This Row],[QTY]]*Table1[[#This Row],[S&L Price]]","v":0}]
[null,18,null,"Dinosaur School",1,"Dinosaur Colors","eBook",null,"978-1-4339-7142-6",2013,"August 2012",null,null,"Author","Ava Saviola",null,null,1,2,"A",null,"Grade K","Grade K - 1","Early learners are introduced to the concept of colors and their respective names with the visual aid of dinosaurs. Each vibrantly colored dinosaur is simply labeled to bring this important first concept to life. Similarly colored and easily identifiable items, such as a red apple and an orange pumpkin, are also featured for further reinforcement. A summary page of dinosaurs labeled by color presents an additional opportunity for learning.","English",22.6,16.95,"535.6","24 pp.",{"$f":"Table1[[#This Row],['# Books]]*Table1[[#This Row],[QTY]]","v":0},{"$f":"Table1[[#This Row],[QTY]]*Table1[[#This Row],[S&L Price]]","v":0}]
[null,18,null,"Dinosaur School",1,"Dinosaur Goes to the Fire Station","Library Bound Book",null,"978-1-4824-4559-6",2017,"August 2016","Library","7.000 X 7.000","Author","Ken Alside",0.9,0.5,null,null,"B",null,"Grade K","Grade K - 1","The fire station is full of fun in this exciting title. Trying on a fire helmet, sliding down the fire pole, and checking out a big red fire truck are all on tap when this dino visits his fireman brother at the station. Beginning readers will love watching their dinosaur friend try on a fireman’s outfit and watching him learn what dinos do at a fire station when they’re on the clock. But what happens at the station when a call comes in? For these dinos, it’s time for action!","English",22.6,16.95,"[E]--dc23","24 pp.",{"$f":"Table1[[#This Row],['# Books]]*Table1[[#This Row],[QTY]]","v":0},{"$f":"Table1[[#This Row],[QTY]]*Table1[[#This Row],[S&L Price]]","v":0}]
[null,18,null,"Dinosaur School",1,"Dinosaur Goes to the Store","eBook",null,"978-1-4824-4555-8",2017,"August 2016",null,null,"Author","Ken Alside",0.8,0.5,null,null,"B",null,"Grade K","Grade K - 1","One little dinosaur is having a birthday, and it’s his family’s job to get ready for the big party. This book takes beginning readers on a trip to the store the day before the big day, as two dinosaurs grab a shopping cart and make sure they have everything they need to host a great gathering of friends and family. From the ingredients needed to bake a cake to birthday presents and decorations, these dinos are on a mission to make it the best birthday party ever!","English",22.6,16.95,"[E]--dc23","24 pp.",{"$f":"Table1[[#This Row],['# Books]]*Table1[[#This Row],[QTY]]","v":0},{"$f":"Table1[[#This Row],[QTY]]*Table1[[#This Row],[S&L Price]]","v":0}]
[null,18,null,"Dinosaur School",1,"Dinosaur Shapes","Library Bound Book",null,"978-1-4339-7147-1",2013,"August 2012","Library","7.000 X 7.000","Author","Ava Saviola",null,null,1,2,"A",null,"Grade K","Grade K - 1","Beginning learners are introduced to an important first concept, shape. With the help of fun cartoon dinosaurs, who proudly display each simple shape, readers will discover basic shape vocabulary. Clear labels and bold black outlines further reinforce understanding by showing where these shapes can be found all around us every day, such as the square shape of a window or the circle shape of a clock. A final page features an engaging summary of this very important concept—the dinosaur characters holding each shape labeled with its respective name.","English",22.6,16.95,"516","24 pp.",{"$f":"Table1[[#This Row],['# Books]]*Table1[[#This Row],[QTY]]","v":0},{"$f":"Table1[[#This Row],[QTY]]*Table1[[#This Row],[S&L Price]]","v":0}]
[null,18,null,"Dinosaur School",1,"Dinosaur Shapes","eBook",null,"978-1-4339-7150-1",2013,"August 2012",null,null,"Author","Ava Saviola",null,null,1,2,"A",null,"Grade K","Grade K - 1","Beginning learners are introduced to an important first concept, shape. With the help of fun cartoon dinosaurs, who proudly display each simple shape, readers will discover basic shape vocabulary. Clear labels and bold black outlines further reinforce understanding by showing where these shapes can be found all around us every day, such as the square shape of a window or the circle shape of a clock. A final page features an engaging summary of this very important concept—the dinosaur characters holding each shape labeled with its respective name.","English",22.6,16.95,"516","24 pp.",{"$f":"Table1[[#This Row],['# Books]]*Table1[[#This Row],[QTY]]","v":0},{"$f":"Table1[[#This Row],[QTY]]*Table1[[#This Row],[S&L Price]]","v":0}]
[null,18,null,"Dinosaur School",1,"Dinosaurs at the Zoo","Library Bound Book",null,"978-1-4339-9045-8",2014,"August 2013","Library","7.000 X 7.000","Author","Alex Appleby",null,null,1,1,"A",null,"Grade K","Grade K - 1","What happens when dinosaurs take a field trip to the zoo? Matching accessible text with bright cartoon dinosaurs, readers can explore primary concepts while checking out the lions, tigers, and even snakes that call the zoo home! With the help of some dinosaur friends, budding learners will go on a fun zoo adventure that introduces them to many members of the animal kingdom while building their vocabulary.  • Colorful dinosaur illustrations will engage young learners • Accessible, large-type text promotes sight recognition of words • Strong picture-text correlation reinforces basic concepts • Age-appropriate and achievable content • Words to Know provides additional reinforcement  ","English",22.6,16.95,"590.73","24 pp.",{"$f":"Table1[[#This Row],['# Books]]*Table1[[#This Row],[QTY]]","v":0},{"$f":"Table1[[#This Row],[QTY]]*Table1[[#This Row],[S&L Price]]","v":0}]
[null,19,null,"Dinosaur School",1,"Dinosaur's Five Senses","Library Bound Book",null,"978-1-4339-9049-6",2014,"August 2013","Library","7.000 X 7.000","Author","Alex Appleby",null,null,1,1,"A",null,"Grade K","Grade K - 1","What can we do with our five senses? Young readers discover the answer to this question in this engaging book, which pairs an important early learning concept with charming illustrations of dinosaurs. Each page features a colorful cartoon dinosaur using one of the five senses in a way that makes exploring this topic fun for beginning readers. From tasting ice cream to hearing a drum, examples of the five senses at work are presented through accessible text, allowing beginning readers to learn all on their own!   • Age-appropriate and achievable content • Accessible, large-type text promotes sight recognition of words • Colorful dinosaur illustrations engage young learners • Strong picture-text correlation reinforces basic concepts • Words to Know provides additional reinforcement  ","English",22.6,16.95,"612.8","24 pp.",{"$f":"Table1[[#This Row],['# Books]]*Table1[[#This Row],[QTY]]","v":0},{"$f":"Table1[[#This Row],[QTY]]*Table1[[#This Row],[S&L Price]]","v":0}]
[null,19,null,"Dinosaur School",1,"Dinosaurs in the Fall","eBook",null,"978-1-4824-0740-2",2015,"August 2014",null,null,"Author","Joyce Jeffries",null,null,1,null,"A",null,"Grade K","Grade K - 1","When the weather starts to get colder, dinosaurs find new ways to have fun. In this innovative first concepts book, dinosaurs dive into autumn in a variety of ways. Readers will see dinos take walks, watch leaves fall, and pick apples off of trees with the help of colorful illustrations that add picture-text correlation to an engaging look at the changing seasons. With text designed to establish a foundation for future reading success, this book is sure to be a hit with readers year-round.","English",22.6,16.95,"508.2","24 pp.",{"$f":"Table1[[#This Row],['# Books]]*Table1[[#This Row],[QTY]]","v":0},{"$f":"Table1[[#This Row],[QTY]]*Table1[[#This Row],[S&L Price]]","v":0}]
[null,19,null,"Dinosaur School",1,"Dinosaurs in the Spring","Library Bound Book",null,"978-1-4824-0713-6",2015,"August 2014","Library","7.000 X 7.000","Author","Joyce Jeffries",null,null,1,null,"A",null,"Grade K","Grade K - 1","Dinosaurs know how to have a good time when winter is over! As the snow melts and the flowers start to grow, readers will love watching dinos have fun in the spring. From watching the snow melt to watching the rain fall, dinos know there’s lots to do as the weather starts to get warmer. Readers will love seeing dinos explore nature in the springtime, seeing birds come back and have babies and even planting trees! This innovative first concepts book will establish early literacy skills in readers, providing a foundation for future reading success.","English",22.6,16.95,"508.2","24 pp.",{"$f":"Table1[[#This Row],['# Books]]*Table1[[#This Row],[QTY]]","v":0},{"$f":"Table1[[#This Row],[QTY]]*Table1[[#This Row],[S&L Price]]","v":0}]
[null,19,null,"Dinosaur School",1,"Dinosaurs in the Winter","eBook",null,"978-1-4824-0718-1",2015,"August 2014",null,null,"Author","Joyce Jeffries",null,null,1,null,"A",null,"Grade K","Grade K - 1","Wintertime means lots of time indoors, but that doesn’t stop dinosaurs from having fun. Whether it’s a trip outside to play in the snow, or some hot chocolate by a warm fire, dinos know how to get their fill of excitement in winter. With the help of strong picture-text correlation from colorful illustrations and simple text, readers will follow along with dinos as they ice-skate, have a snowball fight, and sled their way through a winter wonderland.","English",22.6,16.95,"508.2","24 pp.",{"$f":"Table1[[#This Row],['# Books]]*Table1[[#This Row],[QTY]]","v":0},{"$f":"Table1[[#This Row],[QTY]]*Table1[[#This Row],[S&L Price]]","v":0}]
[null,19,null,"Dinosaur School",1,"Heavy and Light","Library Bound Book",null,"978-1-4339-8087-9",2013,"January 2013","Library","7.000 X 7.000","Author","Joyce Jeffries",null,null,1,1,"A",null,"Grade K","Grade K - 1","Beginning readers explore the important concept of comparing and contrasting objects by weight in a way that is both fun and educational. Bright illustrations featuring cartoon dinosaurs accompany easy-to-follow text that introduces early learners to the distinction between “heavy” and “light.” Readers will be drawn to the colorful pages featuring dinosaurs interacting with common objects and animals in a way that clearly shows the difference between those that are heavy and those that are light. This essential concept is reinforced in a concluding graphic organizer that highlights these antonyms as well as the other vocabulary words introduced throughout the book. ","English",22.6,16.95,"531","24 pp.",{"$f":"Table1[[#This Row],['# Books]]*Table1[[#This Row],[QTY]]","v":0},{"$f":"Table1[[#This Row],[QTY]]*Table1[[#This Row],[S&L Price]]","v":0}]
[null,19,null,"Dinosaur School",1,"Long and Short","eBook",null,"978-1-4339-8098-5",2013,"January 2013",null,null,"Author","Joyce Jeffries",null,null,1,1,"A",null,"Grade K","Grade K - 1","Beginning readers learn how to distinguish between “long” and “short” with the aid of helpful cartoon dinosaurs. Antonyms are introduced in a way that makes their difference clear for early learners through the use of accessible text and bright illustrations. Emerging readers discover how to compare objects by length in an engaging way as they learn about this essential concept. The strong picture-text correlation on each page helps beginning readers strengthen their vocabulary skills, and a useful graphic organizer is included to aid in the learning process.","English",22.6,16.95,"153.7","24 pp.",{"$f":"Table1[[#This Row],['# Books]]*Table1[[#This Row],[QTY]]","v":0},{"$f":"Table1[[#This Row],[QTY]]*Table1[[#This Row],[S&L Price]]","v":0}]
[null,19,null,"Dinosaur School",1,"Near and Far","Library Bound Book",null,"978-1-4339-8099-2",2013,"January 2013","Library","7.000 X 7.000","Author","Joyce Jeffries",null,null,1,1,"A",null,"Grade K","Grade K - 1","The essential concept of distance is taught through easy-to-follow text and illustrations featuring colorful dinosaurs. Beginning readers discover the difference between “near” and “far” with the help of this book’s accessible text and vibrant cartoon dinosaurs, which are shown interacting with common vocabulary words—including cars and horses. Strong picture-text correlation helps early learners enhance their vocabularies and their understanding of these antonyms.","English",22.6,16.95,"153.7","24 pp.",{"$f":"Table1[[#This Row],['# Books]]*Table1[[#This Row],[QTY]]","v":0},{"$f":"Table1[[#This Row],[QTY]]*Table1[[#This Row],[S&L Price]]","v":0}]
[null,20,null,"Sort It Out!",1,"Sort It by Shape","eBook",null,"978-1-4824-2572-7",2016,"August 2015",null,null,"Author","Emmett Alexander",null,null,4,null,"D","380L","Grade K - 1","Grade K - 2","Our world is made up of shapes. This colorful book will enable beginning readers to visualize that as they examine photographs of objects in their daily lives, such as books, clocks, and sandwiches. They'll also learn how to sort certain shapes from other shapes through clear text and supporting photographs. This valuable book is a beneficial introduction to essential concepts in the early elementary mathematics curriculum.","English",22.6,16.95,"512.2","24 pp.",{"$f":"Table1[[#This Row],['# Books]]*Table1[[#This Row],[QTY]]","v":0},{"$f":"Table1[[#This Row],[QTY]]*Table1[[#This Row],[S&L Price]]","v":0}]
[null,20,null,"Sort It Out!",1,"Sort It by Sound","Library Bound Book",null,"978-1-4824-2579-6",2016,"August 2015","Library","7.000 X 7.000","Author","Nicholas O'Hara",null,null,3,null,"C",null,"Grade K - 1","Grade K - 2","People sort and classify using several kinds of categories, including sound. Readers of this accessible book will consider what's loud and what's quiet in the world around them. They'll discover some things, like music and people, can be loud or quiet. Sorting one from another is perfectly illustrated with carefully chosen photographs throughout this inviting book.","English",22.6,16.95,"534","24 pp.",{"$f":"Table1[[#This Row],['# Books]]*Table1[[#This Row],[QTY]]","v":0},{"$f":"Table1[[#This Row],[QTY]]*Table1[[#This Row],[S&L Price]]","v":0}]
[null,20,null,"Sort It Out!",1,"Sort It by Weight","eBook",null,"978-1-4824-2588-8",2016,"August 2015",null,null,"Author","Nicholas O'Hara",null,null,3,null,"C",null,"Grade K - 1","Grade K - 2","Weight is an important concept in the elementary math classroom as is learning how to sort and classify objects. This colorful book uses familiar objects to exhibit the differences between the adjectives \"heavy\" and \"light\" and how objects that match these descriptions can be sorted from one another. After reviewing the concepts, readers can demonstrate their understanding at the conclusion of the book and apply their knowledge to situations outside the classroom, too.","English",22.6,16.95,"530.8","24 pp.",{"$f":"Table1[[#This Row],['# Books]]*Table1[[#This Row],[QTY]]","v":0},{"$f":"Table1[[#This Row],[QTY]]*Table1[[#This Row],[S&L Price]]","v":0}]
[null,20,null,"Minding Our Manners",6,"Minding Our Manners","Library Set",null,"978-1-4824-1628-2",2015,"January 2015","Library","7.000 X 7.000",null,"",null,null,null,null,null,null,"Grade Pre-K - K","Grade Pre-K - 1","Learning to play nicely with others, being respectful of those around us, and being truthful are important first concepts to understand. Sometimes the emotions surrounding social manners are difficult to deal with. Through understandable, clear language, beginning readers are introduced to jealousy, bullying, sharing, and other common social situations. Examples guide readers through the feelings they may have. They learn how to handle saying “I’m sorry” and are reminded of the importance of “please” and “thank you.” Put into practice, this series offers invaluable character-building content.    • Full-color photographs enhance clear examples of proper behavior   • Simple language and sentence structure allow beginning readers a chance to read on their own   • Titles in this series complement and reinforce each other  • Clear explanations of domain-specific words and phrases","English",135.6,101.7,null,"24 pp.",{"$f":"Table1[[#This Row],['# Books]]*Table1[[#This Row],[QTY]]","v":0},{"$f":"Table1[[#This Row],[QTY]]*Table1[[#This Row],[S&L Price]]","v":0}]
[null,20,null,"Minding Our Manners",1,"Let's Share!","Library Bound Book",null,"978-1-4824-1624-4",2015,"January 2015","Library","7.000 X 7.000","Author","Walter LaPlante",null,null,2,null,"B","410L","Grade Pre-K - K","Grade Pre-K - 1","No matter their age, sharing is one of the most important skills children can learn and practice. It’s something they will do at school, home, and even later in life. Through understandable and age-appropriate language, readers learn what sharing is and how to do it. Common feelings associated with sharing are addressed, including the difficulties of sharing and why it’s important. Photographs add color and enhance the ideas of friendship that are an integral part of sharing.","English",22.6,16.95,"177","24 pp.",{"$f":"Table1[[#This Row],['# Books]]*Table1[[#This Row],[QTY]]","v":0},{"$f":"Table1[[#This Row],[QTY]]*Table1[[#This Row],[S&L Price]]","v":0}]
[null,20,null,"Minding Our Manners",1,"Saying Please and Thank You","eBook",null,"978-1-4824-1729-6",2015,"January 2015",null,null,"Author","Maria Nelson",null,null,2,null,"B","490L","Grade Pre-K - K","Grade Pre-K - 1","Learning to speak in a polite manner can be tough. Sometimes, people receive gifts they don’t like, don’t want to help out at home, or are just in a hurry! Readers learn that politeness is easy to spread with just a few simple words—“please” and “thank you.” Taking the time to thank someone lets him or her know they are appreciated. Saying “please” shows a similar respect. Easy-to-read language aids beginning readers navigating both text and good manners for the first time.","English",22.6,16.95,"395.1","24 pp.",{"$f":"Table1[[#This Row],['# Books]]*Table1[[#This Row],[QTY]]","v":0},{"$f":"Table1[[#This Row],[QTY]]*Table1[[#This Row],[S&L Price]]","v":0}]
[null,22,null,"Math Is Everywhere!",1,"Math at the Game","Library Bound Book",null,"978-1-4824-5484-0",2017,"January 2017","Library","7.625 X 7.125","Author","Elizabeth Powell",0.9,0.5,null,null,"C",null,"Grade K","Grade Pre-K - 2","Mathematics is a major part of sports, from scores to spatial relationships. In this fun narrative, readers tag along to a soccer game and are invited to count objects, identify shapes, and compare quantities. Simple text, along with colorful photographs, aid in reading comprehension and help readers focus on the achievable concepts.","English",22.6,16.95,"513--dc23","24 pp.",{"$f":"Table1[[#This Row],['# Books]]*Table1[[#This Row],[QTY]]","v":0},{"$f":"Table1[[#This Row],[QTY]]*Table1[[#This Row],[S&L Price]]","v":0}]
[null,22,null,"Math Is Everywhere!",1,"Math at the Park","eBook",null,"978-1-4824-4611-1",2017,"August 2016",null,null,"Author","Claire Romaine",0.9,0.5,null,null,"C",null,"Grade K","Grade Pre-K - 2","Every day, we’re faced with mathematical situations, so much so that we don’t even recognize them. This fun volume opens readers’ eyes to the math in their world through a walk in the park. They’ll find shapes, use numbers, compare sizes, and identify the positions of objects with help from a friendly narrator. Carefully selected photographs support the comprehensible text.","English",22.6,16.95,"510--dc23","24 pp.",{"$f":"Table1[[#This Row],['# Books]]*Table1[[#This Row],[QTY]]","v":0},{"$f":"Table1[[#This Row],[QTY]]*Table1[[#This Row],[S&L Price]]","v":0}]
[null,22,null,"Math Is Everywhere!",1,"Math at the Zoo","eBook",null,"978-1-4824-5504-5",2017,"January 2017",null,null,"Author","Elizabeth Powell",0.9,0.5,null,null,"B",null,"Grade K","Grade Pre-K - 2","In this entertaining volume, a class trip to the zoo is the backdrop for introducing and reviewing foundational math concepts such as comparing quantities, sizes, and lengths. Readers will love seeing their favorite animals such as tigers, giraffes, penguins, monkeys, and even a baby koala! They’ll be encouraged to recognize mathematics in similar situations in their own lives.","English",22.6,16.95,"513--dc23","24 pp.",{"$f":"Table1[[#This Row],['# Books]]*Table1[[#This Row],[QTY]]","v":0},{"$f":"Table1[[#This Row],[QTY]]*Table1[[#This Row],[S&L Price]]","v":0}]
[null,22,null,"Math Is Everywhere!",1,"Math in the Kitchen","Library Bound Book",null,"978-1-4824-5451-2",2017,"January 2017","Library","7.625 X 7.125","Author","Keiran Shah",0.9,0.5,null,null,"C",null,"Grade K","Grade Pre-K - 2","Can math be delicious? It is when math skills are used to make cookies! Bakers are mathematicians when they add eggs and tablespoons of butter, measure flour and sugar, and mix them all together to make delectable treats. Readers will love this volume’s tempting photos and instructive, yet accessible text.","English",22.6,16.95,"513--dc23","24 pp.",{"$f":"Table1[[#This Row],['# Books]]*Table1[[#This Row],[QTY]]","v":0},{"$f":"Table1[[#This Row],[QTY]]*Table1[[#This Row],[S&L Price]]","v":0}]
[null,22,null,"Math Is Everywhere!",1,"Math with Pets","eBook",null,"978-1-4824-4613-5",2017,"August 2016",null,null,"Author","Claire Romaine",0.9,0.5,null,null,"C",null,"Grade K","Grade Pre-K - 2","The pet store is a perfect place to exercise math concepts! Readers will be delighted as this fun volume introduces them to parrots, kittens, puppies, and other animals while reviewing important standards of the math curriculum, such as size comparison, sorting, and numbers and counting. The high-interest topic—and the vivid accompanying photographs—is an accessible and enjoyable introduction or review of elementary math skills.","English",22.6,16.95,"510--dc23","24 pp.",{"$f":"Table1[[#This Row],['# Books]]*Table1[[#This Row],[QTY]]","v":0},{"$f":"Table1[[#This Row],[QTY]]*Table1[[#This Row],[S&L Price]]","v":0}]
[null,22,null,"Math Is Everywhere!",1,"Math with Toys","Library Bound Book",null,"978-1-4824-4620-3",2017,"August 2016","Library","7.625 X 7.125","Author","Rory McDonnell",0.8,0.5,null,null,"B",null,"Grade K","Grade Pre-K - 2","Math and toys—a perfect combination! This volume, full of high-interest and familiar toys, demonstrates to young readers how they can see mathematical concepts even in the midst of playtime. They’ll review Common Core math standards such as counting, sorting, comparing sizes, and identifying shapes and two-dimensional and three-dimensional objects. The bright, at-level text is mirrored by colorful photographs.","English",22.6,16.95,"510--dc23","24 pp.",{"$f":"Table1[[#This Row],['# Books]]*Table1[[#This Row],[QTY]]","v":0},{"$f":"Table1[[#This Row],[QTY]]*Table1[[#This Row],[S&L Price]]","v":0}]
[null,22,null,"Math Is Everywhere!",1,"Math with Wheels","eBook",null,"978-1-4824-4616-6",2017,"August 2016",null,null,"Author","Rory McDonnell",0.9,0.5,null,null,"C",null,"Grade K","Grade Pre-K - 2","Grab your bike—it’s time to ride. That’s the fun activity that begins this inviting book. The narrator looks for wheels in a ride around town, adding them as he goes and encouraging readers to do the same. He encounters friends on bikes with training wheels, a unicycle, and even a policeman on a motorcycle. Math is everywhere, even on wheels!","English",22.6,16.95,"510--dc23","24 pp.",{"$f":"Table1[[#This Row],['# Books]]*Table1[[#This Row],[QTY]]","v":0},{"$f":"Table1[[#This Row],[QTY]]*Table1[[#This Row],[S&L Price]]","v":0}]
[null,23,null,"Fun on the Farm",1,"At the Dairy Farm","eBook",null,"978-1-4824-5519-9",2017,"January 2017",null,null,"Author","George Pendergast",0.9,0.5,null,null,"C",null,"Grade K","Grade Pre-K - 2","Taking care of cows isn’t always easy, but the reward is great: milk! Dairy farms are an important food source. This book takes a look at how cows live on dairy farms. From grazing in fields to life in the barn and how they are milked, young readers will love learning about these amazing animals and how they help give us food. Using full-color photographs and accessible text, readers learn what cows eat, where milk comes from, and many of the foods we eat that come from milk.","English",22.6,16.95,"636.2’142--dc23","24 pp.",{"$f":"Table1[[#This Row],['# Books]]*Table1[[#This Row],[QTY]]","v":0},{"$f":"Table1[[#This Row],[QTY]]*Table1[[#This Row],[S&L Price]]","v":0}]
[null,23,null,"Fun on the Farm",1,"At the Orchard","eBook",null,"978-1-4824-5531-1",2017,"January 2017",null,null,"Author","Bruce Esseltine",0.9,0.5,null,null,"C",null,"Grade K","Grade Pre-K - 2","Fruit farmers don’t take care of animals, they take care of trees! These orchards are full of delicious treats like apples, oranges, cherries, and even pears. Early readers learn how farmers plant these trees in rows, then take care of them until the trees bear fruit. Through accessible text paired with full-color photographs, readers learn how different orchards grow different fruits and what farmers do when the fruit gets ripe.","English",22.6,16.95,"634--dc23","24 pp.",{"$f":"Table1[[#This Row],['# Books]]*Table1[[#This Row],[QTY]]","v":0},{"$f":"Table1[[#This Row],[QTY]]*Table1[[#This Row],[S&L Price]]","v":0}]
[null,23,null,"Fun on the Farm",1,"At the Sheep Farm","Library Bound Book",null,"978-1-4824-5534-2",2017,"January 2017","Library","7.625 X 7.125","Author","Bruce Esseltine",0.9,0.5,null,null,"C",null,"Grade K","Grade Pre-K - 2","Sheep are useful farm animals because they help keep us warm! Through colorful photographs and accessible text, beginning readers will learn how these animals are raised by farmers to grow wool, how farmers cut it off them safely, and how that wool is used to make clothes! They’ll also learn how dogs help farmers herd these sheep and keep them safe on the farm, and how baby lambs are born in this exciting title that explores the lives of these special farm animals.","English",22.6,16.95,"636.3--dc23","24 pp.",{"$f":"Table1[[#This Row],['# Books]]*Table1[[#This Row],[QTY]]","v":0},{"$f":"Table1[[#This Row],[QTY]]*Table1[[#This Row],[S&L Price]]","v":0}]
[null,26,null,"We Love Spring!",1,"Baby Animals Are Born","Library Bound Book",null,"978-1-4824-5471-0",2017,"January 2017","Library","7.625 X 7.125","Author","Delores Soltaire",1,0.5,null,null,"C",null,"Grade K","Grade Pre-K - 2","Spring is a time of birth and change. Flowers and trees come back to life, and new animals are born. From baby deer spending their first days in the forest to geese taking care of their furry babies, spring is full of brand new baby animals. Amazing full-color photos and accessible text show young readers how baby black bears come out of hibernation and how other animals like seals have springtime babies even in cold climates in this easy-to-read book full of fun animal facts.","English",22.6,16.95,"591.3’9--dc23","24 pp.",{"$f":"Table1[[#This Row],['# Books]]*Table1[[#This Row],[QTY]]","v":0},{"$f":"Table1[[#This Row],[QTY]]*Table1[[#This Row],[S&L Price]]","v":0}]
[null,26,null,"We Love Spring!",1,"First Spring Flowers","eBook",null,"978-1-4824-5492-5",2017,"January 2017",null,null,"Author","Stanley Hollow",0.8,0.5,null,null,"C",null,"Grade K","Grade Pre-K - 2","Spring is a time for flowers to bloom. The first flowers of spring are a sign that the long winter is finally over. These amazing flowers can often push through snow still on the ground, showing how hearty plants can be. From seed to bloom, vivid full-color photos will dazzle beginning readers exploring how these amazing early-season plants survive in harsh conditions. While some bloom early and are gone by mid spring, others begin a long life of looking—and smelling—wonderful in someone’s garden.","English",22.6,16.95,"582.13--dc23","24 pp.",{"$f":"Table1[[#This Row],['# Books]]*Table1[[#This Row],[QTY]]","v":0},{"$f":"Table1[[#This Row],[QTY]]*Table1[[#This Row],[S&L Price]]","v":0}]
[null,27,null,"Animals from Head to Tail",6,"Animals from Head to Tail","Library Set",null,"978-1-4824-4516-9",2017,"August 2016","Library","7.625 X 7.125",null,"",null,null,null,null,null,null,"Grade K","Grade K - 2","Animals have body parts just like us, but not every animal looks alike. A cat’s toes look very different than a dog or bird’s. This innovative series tackles those differences using vivid full-color photographs and age-appropriate text to explain how an animal’s body parts make it truly unique. With scientific content exploring how a bird’s wings work and how turtles use their shells to keep safe, this series gives young readers an exciting and fun new way to look at their favorite animals.","English",135.6,101.7,null,"24 pp.",{"$f":"Table1[[#This Row],['# Books]]*Table1[[#This Row],[QTY]]","v":0},{"$f":"Table1[[#This Row],[QTY]]*Table1[[#This Row],[S&L Price]]","v":0}]
[null,27,null,"Animals from Head to Tail",1,"Birds from Head to Tail","Library Bound Book",null,"978-1-4824-4535-0",2017,"August 2016","Library","7.625 X 7.125","Author","Reese Archer",0.9,0.5,null,null,"C",null,"Grade K","Grade K - 2","Birds are truly remarkable creatures. Though they all have the same basic body parts, there is so much variety between each type of bird. For instance, the feet of a duck are much different than the feet of a robin, and birds’ feathers come in every color of the rainbow! Through accessible language and vibrant photographs, this book introduces beginning readers to some of the similarities and differences of our feathered friends, showing them that although birds share many standard features, each kind is also wonderfully unique!","English",22.6,16.95,"598--dc23","24 pp.",{"$f":"Table1[[#This Row],['# Books]]*Table1[[#This Row],[QTY]]","v":0},{"$f":"Table1[[#This Row],[QTY]]*Table1[[#This Row],[S&L Price]]","v":0}]
[null,27,null,"Animals from Head to Tail",1,"Fish from Head to Tail","Library Bound Book",null,"978-1-4824-4538-1",2017,"August 2016","Library","7.625 X 7.125","Author","Bill Spunter",0.9,0.5,null,null,"C",null,"Grade K","Grade K - 2","Fish are at home in the water, but that doesn’t mean we can’t get up close and personal with these colorful creatures. From the goldfish we keep as pets to the big fish that live in our oceans, there is plenty of variety to be found among the fins and gills these animals all have. This book for beginning readers explores the watery world of fish both big and small, using accessible language and vivid photographs to show that although fish all share similar features, they are all distinct in amazing ways.","English",22.6,16.95,"597--dc23","24 pp.",{"$f":"Table1[[#This Row],['# Books]]*Table1[[#This Row],[QTY]]","v":0},{"$f":"Table1[[#This Row],[QTY]]*Table1[[#This Row],[S&L Price]]","v":0}]
[null,27,null,"Animals from Head to Tail",1,"Turtles from Head to Tail","eBook",null,"978-1-4824-4534-3",2017,"August 2016",null,null,"Author","Jen Trifer",0.9,0.5,null,null,"C",null,"Grade K","Grade K - 2","Some turtles make great pets, but others do not. So how can people tell the difference? Through accessible text paired with colorful photographs, this book allows beginning readers to explore the world of turtles, taking a close look at the physical attributes that make these slow-moving creatures unique. From their hard shells—called carapaces—to their different kinds of feet, turtles are as varied in physical makeup as they are in temperament. Young readers will learn that while a box turtle is a pet-friendly choice, they’ll want to stay far away from the sharp bite of an alligator snapping turtle!","English",22.6,16.95,"597.92--dc23","24 pp.",{"$f":"Table1[[#This Row],['# Books]]*Table1[[#This Row],[QTY]]","v":0},{"$f":"Table1[[#This Row],[QTY]]*Table1[[#This Row],[S&L Price]]","v":0}]
[null,27,null,"Jungle Animals",1,"Crocodiles","eBook",null,"978-1-4824-1751-7",2015,"January 2015",null,null,"Author","Rob Ryndak",0.9,0.5,null,null,"C",null,"Grade K","Grade K - 2","Crocodiles spend lots of time in the water, which makes them perfect jungle animals. Whether on land or in rivers and streams, these fierce animals love to hunt whatever jungle critters get in their way. With their sharp teeth and strong, long bodies, these crocs are waiting to make a meal out of anything unfortunate enough to get close to their strong jaws. Readers will love diving into the jungle waters and getting a look at crocodiles with the help of detailed photographs that show just how dangerous—and interesting—these jungle animals really are.","English",22.6,16.95,"597.98","24 pp.",{"$f":"Table1[[#This Row],['# Books]]*Table1[[#This Row],[QTY]]","v":0},{"$f":"Table1[[#This Row],[QTY]]*Table1[[#This Row],[S&L Price]]","v":0}]
[null,27,null,"Jungle Animals",1,"Monkeys","Library Bound Book",null,"978-1-4824-1752-4",2015,"January 2015","Library","7.625 X 7.125","Author","Rob Ryndak",0.9,0.5,null,null,"C",null,"Grade K","Grade K - 2","Many different kinds of monkeys call the trees in the jungle home. Beginning readers will love the amazing photographs of the many varieties featured in this book. From the loud howler monkeys to the distinctive colors and behaviors of the many other jungle primates, this book will take readers deep into the heart of the jungle environment and show them what’s living among the dense foliage.","English",22.6,16.95,"599.8","24 pp.",{"$f":"Table1[[#This Row],['# Books]]*Table1[[#This Row],[QTY]]","v":0},{"$f":"Table1[[#This Row],[QTY]]*Table1[[#This Row],[S&L Price]]","v":0}]
[null,27,null,"Jungle Animals",1,"Sloths","eBook",null,"978-1-4824-1763-0",2015,"January 2015",null,null,"Author","Rob Ryndak",0.9,0.5,null,null,"C",null,"Grade K","Grade K - 2","Long ago, giant sloths taller than humans roamed the Earth. Today’s much smaller sloths are just as interesting—and very cute! Through great photographs and accessible text, beginning readers will love exploring the world of sloths. That means spending lots of time in the jungle’s dense trees because sloths’ legs aren’t very strong! These animals love to hang out and find food for their babies in the trees they call home. Readers will learn that these sleepy creatures do leave trees sometimes: they love to go for a swim!","English",22.6,16.95,"599.3","24 pp.",{"$f":"Table1[[#This Row],['# Books]]*Table1[[#This Row],[QTY]]","v":0},{"$f":"Table1[[#This Row],[QTY]]*Table1[[#This Row],[S&L Price]]","v":0}]
[null,28,null,"Itty Bitty Animals",1,"Itty Bitty Ants","eBook",null,"978-1-4339-9875-1",2014,"January 2014",null,null,"Author","Jasper Baer",1.1000000000000001,0.5,3,null,"C",null,"Grade K","Grade K - 2","Ants are some of the most interesting—and bountiful—animals on the planet. With thousands of different kinds, there’s plenty to learn about these little insects. Learn how army ants work together to find food, how fire ants can float on water, and how these animals group together to survive in this engaging book for young readers. With great science content and a fun picture gallery, early readers will love learning about the tiny world below their feet.    • Strong picture-text correlation aids in comprehension • Reading level supports beginning readers • Picture glossary helps develop vocabulary skills • Comprehendible index guides readers through each book  ","English",22.6,16.95,"597.878","24 pp.",{"$f":"Table1[[#This Row],['# Books]]*Table1[[#This Row],[QTY]]","v":0},{"$f":"Table1[[#This Row],[QTY]]*Table1[[#This Row],[S&L Price]]","v":0}]
[null,28,null,"Itty Bitty Animals",1,"Itty Bitty Hummingbirds","Library Bound Book",null,"978-1-4339-9886-7",2014,"January 2014","Library","7.625 X 7.125","Author","Peter Griff",1.2,0.5,3,null,"C",null,"Grade K","Grade K - 2","Hummingbirds are some of the smallest and most interesting animals on the planet. With more than 300 kinds floating and fluttering, there’s lots to learn about these tiny birds. Learn what causes them to hum and what they like to eat. The smallest birds on earth are full of fun facts, and an awesome picture glossary will help young readers learn concepts and definitions with this great book.    • Strong picture-text correlation aids in comprehension • Reading level supports beginning readers • Picture glossary helps develop vocabulary skills • Comprehendible index guides readers through each book  ","English",22.6,16.95,"598.764","24 pp.",{"$f":"Table1[[#This Row],['# Books]]*Table1[[#This Row],[QTY]]","v":0},{"$f":"Table1[[#This Row],[QTY]]*Table1[[#This Row],[S&L Price]]","v":0}]
[null,28,null,"Itty Bitty Animals",1,"Itty Bitty Tree Frogs","eBook",null,"978-1-4339-9895-9",2014,"January 2014",null,null,"Author","Gunner Quick",1.1000000000000001,0.5,3,null,"C",null,"Grade K","Grade K - 2","Tree frogs are some of the smallest—and most dangerous—animals in a rain forest. Learn more about these bright creatures and how they use their long legs to leap all over the place. Toxic poison dart frogs are dangerous, but many of these itty bitty creatures are kept as pets and admired for their sticky feet and ability to change colors!    • Strong picture-text correlation aids in comprehension • Reading level supports beginning readers • Picture glossary helps develop vocabulary skills • Comprehendible index guides readers through each book  ","English",22.6,16.95,"597.878","24 pp.",{"$f":"Table1[[#This Row],['# Books]]*Table1[[#This Row],[QTY]]","v":0},{"$f":"Table1[[#This Row],[QTY]]*Table1[[#This Row],[S&L Price]]","v":0}]
[null,28,null,"Zoo Animals",1,"Elephants at the Zoo","Library Bound Book",null,"978-1-4824-2591-8",2016,"August 2015","Library","7.625 X 7.125","Author","Finn Ward",0.9,0.5,null,null,"C",null,"Grade K","Grade K - 2","Elephants are incredibly large animals that need lots of space to roam. Making them feel at home in a zoo is a tough job, but lots of people work hard every day to keep these amazing creatures happy. Through accessible text and vibrant photographs, budding readers will learn about the zookeepers that feed and care for elephants, as well as help them raise their young. From their big ears to their big appetites, there’s a lot to learn about elephants at the zoo.","English",22.6,16.95,"599.67","24 pp.",{"$f":"Table1[[#This Row],['# Books]]*Table1[[#This Row],[QTY]]","v":0},{"$f":"Table1[[#This Row],[QTY]]*Table1[[#This Row],[S&L Price]]","v":0}]
[null,28,null,"Zoo Animals",1,"Gorillas at the Zoo","eBook",null,"978-1-4824-2600-7",2016,"August 2015",null,null,"Author","Finn Ward",0.9,0.5,null,null,"C",null,"Grade K","Grade K - 2","Giraffes are the tallest land animals on Earth, and these big creatures have a lot to teach readers about zoo life. Through simple text and well-chosen photographs, beginning readers will love learning about a day in the life of a giraffe at the zoo. From their love of munching leaves to raising their young, giraffes are some of young readers’ favorite animals to see at the zoo.","English",22.6,16.95,"599.884","24 pp.",{"$f":"Table1[[#This Row],['# Books]]*Table1[[#This Row],[QTY]]","v":0},{"$f":"Table1[[#This Row],[QTY]]*Table1[[#This Row],[S&L Price]]","v":0}]
[null,28,null,"Zoo Animals",1,"Polar Bears at the Zoo","Library Bound Book",null,"978-1-4824-2611-3",2016,"August 2015","Library","7.625 X 7.125","Author","Finn Ward",0.8,0.5,null,null,"C",null,"Grade K","Grade K - 2","Polar bears are huge, menacing mammals that hunt for food in the wild. In the zoo, though, these big, furry animals are almost cute! Beginning readers will love learning about these big bears as trainers take care of them and their adorable bear cubs. Polar bears love to spend their time in zoos munching on carrots and fish, or even playing on rocks before going for a swim. Through simple text and supporting photographs, readers discover fun facts about these impressive predators within the safe setting of a hometown zoo. Learning about these great animals is an exciting way to gain a better understanding of nature from the comfort of your hometown zoo.","English",22.6,16.95,"599.786","24 pp.",{"$f":"Table1[[#This Row],['# Books]]*Table1[[#This Row],[QTY]]","v":0},{"$f":"Table1[[#This Row],[QTY]]*Table1[[#This Row],[S&L Price]]","v":0}]
[null,28,null,"Zoo Animals",1,"Polar Bears at the Zoo","eBook",null,"978-1-4824-2612-0",2016,"August 2015",null,null,"Author","Finn Ward",0.8,0.5,null,null,"C",null,"Grade K","Grade K - 2","Polar bears are huge, menacing mammals that hunt for food in the wild. In the zoo, though, these big, furry animals are almost cute! Beginning readers will love learning about these big bears as trainers take care of them and their adorable bear cubs. Polar bears love to spend their time in zoos munching on carrots and fish, or even playing on rocks before going for a swim. Through simple text and supporting photographs, readers discover fun facts about these impressive predators within the safe setting of a hometown zoo. Learning about these great animals is an exciting way to gain a better understanding of nature from the comfort of your hometown zoo.","English",22.6,16.95,"599.786","24 pp.",{"$f":"Table1[[#This Row],['# Books]]*Table1[[#This Row],[QTY]]","v":0},{"$f":"Table1[[#This Row],[QTY]]*Table1[[#This Row],[S&L Price]]","v":0}]
[null,29,null,"Farm Animals",1,"Cows on the Farm","Library Bound Book",null,"978-1-4339-7348-2",2013,"August 2012","Library","7.625 X 7.125","Author","Rose Carraway",0.9,0.5,3,4,"C",null,"Grade K","Grade K - 2","Beginning readers will discover that the milk we drink comes mainly from cows, as well as other fun facts about these animals. Engaging and accessible text describes what life is like for cows on a farm as well as why cows are important to people. A picture glossary is included to help readers build strong vocabularies. Colorful photographs show a variety of farm cows, including small calves and spotted dairy cows.","English",22.6,16.95,"636.2","24 pp.",{"$f":"Table1[[#This Row],['# Books]]*Table1[[#This Row],[QTY]]","v":0},{"$f":"Table1[[#This Row],[QTY]]*Table1[[#This Row],[S&L Price]]","v":0}]
[null,29,null,"Farm Animals",1,"Goats on the Farm","Interactive eBook","Flash","978-1-4339-7929-3",2013,"August 2012",null,null,"Author","Rose Carraway",0.9,0.5,3,4,"C",null,"Grade K","Grade K - 2","Readers will discover what life is like on a farm for goats and about how they provide milk to make cheese and wool to make clothes. Readers learn what goats look like, what they eat, and even what their babies are called. Accessible text allows readers to learn these fun facts on their own, and a picture glossary helps clarify new words and strengthen vocabulary skills. Bright photographs illustrate the world of these smart animals and the farms they call home.","English",33.25,24.95,"636.3","24 pp.",{"$f":"Table1[[#This Row],['# Books]]*Table1[[#This Row],[QTY]]","v":0},{"$f":"Table1[[#This Row],[QTY]]*Table1[[#This Row],[S&L Price]]","v":0}]
[null,29,null,"Farm Animals",1,"Pigs on the Farm","Library Bound Book",null,"978-1-4339-7360-4",2013,"August 2012","Library","7.625 X 7.125","Author","Rose Carraway",0.9,0.5,3,4,"C",null,"Grade K","Grade K - 2","Beginning readers learn what life is like for pigs on a farm, including what they eat, why they like to roll in the mud, and how to they communicate with each other. Fun facts are presented in simple text to allow readers the chance to discover new information about these well-known farm animals. Detailed photographs of a variety of pigs, as well as a picture glossary designed to aid in vocabulary development, accompany the informative text.","English",22.6,16.95,"636.4","24 pp.",{"$f":"Table1[[#This Row],['# Books]]*Table1[[#This Row],[QTY]]","v":0},{"$f":"Table1[[#This Row],[QTY]]*Table1[[#This Row],[S&L Price]]","v":0}]
[null,29,null,"Farm Animals",1,"Sheep on the Farm","Library Bound Book",null,"978-1-4339-7364-2",2013,"August 2012","Library","7.625 X 7.125","Author","Rose Carraway",0.9,0.5,3,4,"C",null,"Grade K","Grade K - 2","Beginning readers get up-close to shy sheep in this engaging and educational book. They discover the important things that farmers get from sheep, such as wool for clothing. They also learn fun facts including what they eat and when their babies are born. Simple, accessible text and a picture glossary help beginning readers build their vocabularies with each turn of the page. Bright photographs make readers feel as if they are on a farm alongside a variety of sheep.","English",22.6,16.95,"636.3","24 pp.",{"$f":"Table1[[#This Row],['# Books]]*Table1[[#This Row],[QTY]]","v":0},{"$f":"Table1[[#This Row],[QTY]]*Table1[[#This Row],[S&L Price]]","v":0}]
[null,30,null,"In My Backyard",1,"I See a Bird","eBook",null,"978-1-4339-8542-3",2013,"January 2013",null,null,"Author","Alex Appleby",0.9,0.5,3,4,"C",null,"Grade K","Grade K - 2","Birds of every shape and color soar through the sky, and many like to rest in backyards. Through the use of accessible text, readers take an exciting trip through the skies and into the lives of these bright creatures. A picture glossary helps beginning readers strengthen their vocabulary skills, and vibrant, full-color photographs show birds in flight and in the nest.","English",22.6,16.95,"598","24 pp.",{"$f":"Table1[[#This Row],['# Books]]*Table1[[#This Row],[QTY]]","v":0},{"$f":"Table1[[#This Row],[QTY]]*Table1[[#This Row],[S&L Price]]","v":0}]
[null,30,null,"In My Backyard",1,"I See a Frog","Library Bound Book",null,"978-1-4339-8551-5",2013,"January 2013","Library","7.625 X 7.125","Author","Alex Appleby",0.9,0.5,3,4,"C",null,"Grade K","Grade K - 2","Hopping from house to house, frogs are one of the most interesting animals you’ll find in a neighborhood. Through the use of accessible text, readers take an exciting look at the life of these dynamic animals in their backyard. A picture glossary helps beginning readers strengthen their vocabulary skills, and vibrant, full-color photographs show the life cycle of a frog and how they interact with the world around them.","English",22.6,16.95,"597.8","24 pp.",{"$f":"Table1[[#This Row],['# Books]]*Table1[[#This Row],[QTY]]","v":0},{"$f":"Table1[[#This Row],[QTY]]*Table1[[#This Row],[S&L Price]]","v":0}]
[null,30,null,"In My Backyard",1,"I See a Squirrel","eBook",null,"978-1-4339-8562-1",2013,"January 2013",null,null,"Author","Alex Appleby",0.9,0.5,3,4,"C",null,"Grade K","Grade K - 2","Squirrels are some of the more versatile creatures you’ll find in a backyard. Through the use of accessible text, readers take an exciting look at the life of these quick little rodents. A picture glossary helps beginning readers strengthen their vocabulary skills, and vibrant, full-color photographs show the many ways squirrels can live. From flying through trees to nursing their young in dens, this book is sure to educate and excite.","English",22.6,16.95,"599.36","24 pp.",{"$f":"Table1[[#This Row],['# Books]]*Table1[[#This Row],[QTY]]","v":0},{"$f":"Table1[[#This Row],[QTY]]*Table1[[#This Row],[S&L Price]]","v":0}]
[null,30,null,"Underwater World",6,"Underwater World","Library Set",null,"978-1-4339-8586-7",2013,"January 2013","Library","7.625 X 7.125",null,"",null,null,null,null,null,null,"Grade K","Grade K - 2","Beginning readers unlock the mysteries of the ocean in this exciting series featuring the most fascinating aquatic life on Earth. Through the use of accessible text, they discover fun facts about amazing animals such as sea stars, crabs, and turtles. Whale tales and shark stories highlight an engaging look at the cast of characters living in the depths of the sea, while colorful photos give readers an up-close look at each creature and the waters they call home.  • Strong picture-text correlation aids in comprehension • Reading level provides support for beginning readers • High-interest topic excites readers • Picture glossary helps develop vocabulary • Index guides readers through each book ","English",135.6,101.7,null,"24 pp.",{"$f":"Table1[[#This Row],['# Books]]*Table1[[#This Row],[QTY]]","v":0},{"$f":"Table1[[#This Row],[QTY]]*Table1[[#This Row],[S&L Price]]","v":0}]
[null,30,null,"Underwater World",1,"Sea Stars","Library Bound Book",null,"978-1-4339-8571-3",2013,"January 2013","Library","7.625 X 7.125","Author","Ryan Nagelhout",0.9,0.5,3,4,"C","180L","Grade K","Grade K - 2","A sea star is one of the most durable creatures in the world. Through the use of accessible text, readers take an exciting look at the wet world these curious creatures call home. A picture glossary helps beginning readers strengthen their vocabulary skills, and vibrant, full-color photographs shows how these stunning animals survive under the waves.","English",22.6,16.95,"593.9","24 pp.",{"$f":"Table1[[#This Row],['# Books]]*Table1[[#This Row],[QTY]]","v":0},{"$f":"Table1[[#This Row],[QTY]]*Table1[[#This Row],[S&L Price]]","v":0}]
[null,30,null,"Underwater World",1,"Sharks","eBook",null,"978-1-4339-8847-9",2013,"January 2013",null,null,"Author","Ryan Nagelhout",0.9,0.5,3,4,"C",null,"Grade K","Grade K - 2","Sharks are famous for their bite, but there’s plenty of variety in these dangerous creatures. Through the use of accessible text, readers take an exciting look at the wet world these toothy creatures call home. A picture glossary helps beginning readers strengthen their vocabulary skills, and vibrant, full-color photographs shows how these stunning animals make a home under the waves.","English",22.6,16.95,"597.3","24 pp.",{"$f":"Table1[[#This Row],['# Books]]*Table1[[#This Row],[QTY]]","v":0},{"$f":"Table1[[#This Row],[QTY]]*Table1[[#This Row],[S&L Price]]","v":0}]
[null,31,null,"Four Super Seasons",1,"What Happens in Spring?","Library Bound Book",null,"978-1-4824-0105-9",2014,"January 2014","Library","7.625 X 7.125","Author","Alex Appleby",1,0.5,3,null,"C","200L","Grade K","Grade K - 2","After a cold winter, spring is an exciting season no matter where you live. Young readers learn about the science behind spring in simple, easily accessible text. Readers will explore the growth of new plants, animals coming out of hibernation, and the regrowth of nature that occurs when the weather starts to get warmer in this fun book.    • Strong picture-text correlation aids in comprehension • Reading level supports beginning readers • Picture glossary helps develop vocabulary skills   ","English",22.6,16.95,"508.2","24 pp.",{"$f":"Table1[[#This Row],['# Books]]*Table1[[#This Row],[QTY]]","v":0},{"$f":"Table1[[#This Row],[QTY]]*Table1[[#This Row],[S&L Price]]","v":0}]
[null,31,null,"Four Super Seasons",1,"What Happens in Spring?","eBook",null,"978-1-4824-0107-3",2014,"January 2014",null,null,"Author","Alex Appleby",1,0.5,3,null,"C","200L","Grade K","Grade K - 2","After a cold winter, spring is an exciting season no matter where you live. Young readers learn about the science behind spring in simple, easily accessible text. Readers will explore the growth of new plants, animals coming out of hibernation, and the regrowth of nature that occurs when the weather starts to get warmer in this fun book.    • Strong picture-text correlation aids in comprehension • Reading level supports beginning readers • Picture glossary helps develop vocabulary skills   ","English",22.6,16.95,"508.2","24 pp.",{"$f":"Table1[[#This Row],['# Books]]*Table1[[#This Row],[QTY]]","v":0},{"$f":"Table1[[#This Row],[QTY]]*Table1[[#This Row],[S&L Price]]","v":0}]
[null,31,null,"How Do I Feel?",6,"How Do I Feel?","Library Set",null,"978-1-4339-8191-3",2013,"January 2013","Library","7.625 X 7.125",null,"",null,null,null,null,null,null,"Grade K","Grade K - 2","Young readers experience a variety of strong emotions in their everyday lives. In this charming series, they are introduced to engaging stories about children dealing with their feelings in realistic ways. Using a fictionalized approach, this series explores the ways children express their feelings—from anger and happiness to fear and loneliness—in a relatable manner. With the help of accessible text, beginning readers learn for themselves what can cause them to feel certain emotions and how to best deal with the feelings they experience during common situations, such as a birthday party and the first day of school. Colorful illustrations are sure to captivate young readers, keeping them entertained as they learn.     • Strong picture-text correlation aids in comprehension • High-interest topic appeals to young readers • Reading level supports beginning readers  ","English",135.6,101.7,null,"24 pp.",{"$f":"Table1[[#This Row],['# Books]]*Table1[[#This Row],[QTY]]","v":0},{"$f":"Table1[[#This Row],[QTY]]*Table1[[#This Row],[S&L Price]]","v":0}]
[null,31,null,"How Do I Feel?",1,"I Feel Mad","Library Bound Book",null,"978-1-4339-8115-9",2013,"January 2013","Library","7.625 X 7.125","Author","Katie Kawa",0.9,0.5,3,4,"C",null,"Grade K","Grade K - 2","Young readers discover the healthy and unhealthy ways we deal with feeling mad in this educational and engaging book. Using accessible text and fictional approach, this story of a fight between siblings is a relatable situation that teaches young readers about how to handle anger in a healthy way. This approach keeps beginning readers entertained as they learn about powerful emotions. Colorful illustrations and a vocabulary-building picture glossary guide readers through this helpful book.","English",22.6,16.95,"152.4","24 pp.",{"$f":"Table1[[#This Row],['# Books]]*Table1[[#This Row],[QTY]]","v":0},{"$f":"Table1[[#This Row],[QTY]]*Table1[[#This Row],[S&L Price]]","v":0}]
[null,31,null,"How Do I Feel?",1,"I Feel Scared","eBook",null,"978-1-4339-8126-5",2013,"January 2013",null,null,"Author","Katie Kawa",0.9,0.5,3,4,"C",null,"Grade K","Grade K - 2","Beginning readers discover that it’s normal to feel scared sometimes, and they learn that others can help us when we feel afraid. Using a fictionalized approach, this book presents young readers with the story of a relatable child on a stormy night. Darkness, thunder, and lightning are common fears for children, and this helpful book allows readers to see a child like them work through these fears with the help of a parent. Accessible text allows readers to follow the story all by themselves, and a helpful picture glossary builds strong vocabulary skills. Bright illustrations accompany these other features to provide a reading experience that is as enjoyable as it is enlightening.","English",22.6,16.95,"152.4","24 pp.",{"$f":"Table1[[#This Row],['# Books]]*Table1[[#This Row],[QTY]]","v":0},{"$f":"Table1[[#This Row],[QTY]]*Table1[[#This Row],[S&L Price]]","v":0}]
[null,31,null,"How Do I Feel?",1,"I Feel Worried","Library Bound Book",null,"978-1-4339-8127-2",2013,"January 2013","Library","7.625 X 7.125","Author","Katie Kawa",0.9,0.5,3,4,"C",null,"Grade K","Grade K - 2","The first day of school is a situation that often makes children nervous. Beginning readers discover ways to work through those feelings of worry to see that starting school can be a fun experience. Using a fictionalized approach, this book introduces children to common anxieties about school–from meeting the teacher to making friends. Told through the eyes of a relatable young narrator, this story helps beginning readers work through these worries by themselves with the help of accessible text. A picture glossary aids in the development of strong vocabulary skills as well. Colorful illustrations enhance the learning experience for all young readers.","English",22.6,16.95,"616.85","24 pp.",{"$f":"Table1[[#This Row],['# Books]]*Table1[[#This Row],[QTY]]","v":0},{"$f":"Table1[[#This Row],[QTY]]*Table1[[#This Row],[S&L Price]]","v":0}]
[null,32,null,"My Favorite Sports",1,"I Love Basketball","eBook",null,"978-1-4824-0723-5",2015,"August 2014",null,null,"Author","Ryan Nagelhout",0.9,0.5,3,null,"C",null,"Grade K","Grade K - 2","Basketball is the perfect sport for a young sports enthusiast to dive into. The fast-paced game makes for an exciting sport, and early readers will jump right in and experience a big game atmosphere in this exciting book. Readers learn the basics of the game such as dribbling and shooting, readers will experience the joys of sports and establish early ideas about teamwork while establishing literacy skills that will help them develop new skills with every page!","English",22.6,16.95,"796.323","24 pp.",{"$f":"Table1[[#This Row],['# Books]]*Table1[[#This Row],[QTY]]","v":0},{"$f":"Table1[[#This Row],[QTY]]*Table1[[#This Row],[S&L Price]]","v":0}]
[null,32,null,"My Favorite Sports",1,"I Love Hockey","Library Bound Book",null,"978-1-4824-0731-0",2015,"August 2014","Library","7.625 X 7.125","Author","Ryan Nagelhout",0.9,0.5,3,null,"C",null,"Grade K","Grade K - 2","The sights and sounds of ice hockey are unlike any other sport. From the playing surface to the big cheers from a goal, hockey is an easy sport to fall in love with. In this exhilarating book, readers will establish first concepts while exploring the world of ice hockey. From the pucks and sticks a player needs to play and the teamwork it takes to win, readers will fall for the fast pace of the game while building literacy skills and establishing a strong skill set for future reading success.","English",22.6,16.95,"796.962","24 pp.",{"$f":"Table1[[#This Row],['# Books]]*Table1[[#This Row],[QTY]]","v":0},{"$f":"Table1[[#This Row],[QTY]]*Table1[[#This Row],[S&L Price]]","v":0}]
[null,32,null,"My Five Senses",1,"What I Hear","Library Bound Book",null,"978-1-4824-0778-5",2015,"August 2014","Library","7.625 X 7.125","Author","Alex Appleby",0.8,0.5,3,null,"C",null,"Grade K","Grade K - 2","Hearing is an important sense for those just beginning to explore the world. From the chirping of birds to the sound of cars and trucks, a good sense of hearing can teach people a lot about the beauty and dangers of the world around them. In this exciting book, early readers learn how hearing impacts their world. Full-color photographs also provide a strong picture-text correlation, while a picture glossary helps enhance vocabulary skills.","English",22.6,16.95,"612.8","24 pp.",{"$f":"Table1[[#This Row],['# Books]]*Table1[[#This Row],[QTY]]","v":0},{"$f":"Table1[[#This Row],[QTY]]*Table1[[#This Row],[S&L Price]]","v":0}]
[null,32,null,"My Five Senses",1,"What I Hear","eBook",null,"978-1-4824-0777-8",2015,"August 2014",null,null,"Author","Alex Appleby",0.8,0.5,3,null,"C",null,"Grade K","Grade K - 2","Hearing is an important sense for those just beginning to explore the world. From the chirping of birds to the sound of cars and trucks, a good sense of hearing can teach people a lot about the beauty and dangers of the world around them. In this exciting book, early readers learn how hearing impacts their world. Full-color photographs also provide a strong picture-text correlation, while a picture glossary helps enhance vocabulary skills.","English",22.6,16.95,"612.8","24 pp.",{"$f":"Table1[[#This Row],['# Books]]*Table1[[#This Row],[QTY]]","v":0},{"$f":"Table1[[#This Row],[QTY]]*Table1[[#This Row],[S&L Price]]","v":0}]
[null,32,null,"My Five Senses",1,"What I Taste","Library Bound Book",null,"978-1-4824-0818-8",2015,"August 2014","Library","7.625 X 7.125","Author","Alex Appleby",0.8,0.5,3,null,"C",null,"Grade K","Grade K - 2","Who doesn’t love to dive into a good meal? Our sense of taste is important—without it, how would we know what we like to eat? Early readers take a tour of their taste buds and explore worlds of flavor. From a fresh, sweet orange to a yummy slice of pizza, readers will learn all about this savory sense. Strong picture-text correlation enhanced by full-color photographs helps build early reading skills in budding, hungry readers.","English",22.6,16.95,"612.8","24 pp.",{"$f":"Table1[[#This Row],['# Books]]*Table1[[#This Row],[QTY]]","v":0},{"$f":"Table1[[#This Row],[QTY]]*Table1[[#This Row],[S&L Price]]","v":0}]
[null,32,null,"What's the Weather?",1,"It's Hailing!","Library Bound Book",null,"978-1-4339-9392-3",2014,"August 2013","Library","7.625 X 7.125","Author","Alex Appleby",0.7,0.5,2,1,"B",null,"Grade K","Grade K - 2","Rain and snow can be fun, but hail can be downright dangerous! Big balls of ice falling from the clouds onto your head means it’s time to get inside. Colorful illustrated characters show early readers what hail is made from, and what to do when the sky gets dark and golf ball-sized hail starts to fall. Through accessible text, early readers will explore the sometimes-strange weather in the world around them.   • High-interest topic engages young readers • Strong picture-text correlation aids in comprehension • Reading level supports beginning readers • Picture glossary helps develop vocabulary skills • Comprehendible index guides readers through each book    ","English",22.6,16.95,"551.57","24 pp.",{"$f":"Table1[[#This Row],['# Books]]*Table1[[#This Row],[QTY]]","v":0},{"$f":"Table1[[#This Row],[QTY]]*Table1[[#This Row],[S&L Price]]","v":0}]
[null,32,null,"What's the Weather?",1,"It's Rainy!","Library Bound Book",null,"978-1-4339-9396-1",2014,"August 2013","Library","7.625 X 7.125","Author","Alex Appleby",0.8,0.5,2,3,"C",null,"Grade K","Grade K - 2","Dark skies usually mean bad weather is coming. When it’s warm out, that usually means rain! Early readers learn about rainstorms through colorful illustrated characters that splash through puddles and make the most out of a rainy afternoon. This exciting fictional approach to the topic of weather introduces the water cycle, and shows how rainwater makes flowers grow. Easy-to-read text helps early readers comprehend the sights and sounds of a rainstorm.  • High-interest topic engages young readers • Strong picture-text correlation aids in comprehension • Reading level supports beginning readers • Picture glossary helps develop vocabulary skills • Comprehendible index guides readers through each book    ","English",22.6,16.95,"551.577","24 pp.",{"$f":"Table1[[#This Row],['# Books]]*Table1[[#This Row],[QTY]]","v":0},{"$f":"Table1[[#This Row],[QTY]]*Table1[[#This Row],[S&L Price]]","v":0}]
[null,32,null,"What's the Weather?",1,"It's Stormy!","eBook",null,"978-1-4339-9407-4",2014,"August 2013",null,null,"Author","Alex Appleby",0.8,0.5,3,3,"C",null,"Grade K","Grade K - 2","Some days it’s just not safe to go outside! Stormy weather is best enjoyed indoors, where we can watch the lightning, hear thunder, and not get wet. Colorful illustrations and accessible text introduces early readers to the basics of stormy weather, showing a big storm in action. Readers learn that when dark clouds appear, it’s time to go inside!   • High-interest topic engages young readers • Strong picture-text correlation aids in comprehension • Reading level supports beginning readers • Picture glossary helps develop vocabulary skills • Comprehendible index guides readers through each book    ","English",22.6,16.95,"551.55","24 pp.",{"$f":"Table1[[#This Row],['# Books]]*Table1[[#This Row],[QTY]]","v":0},{"$f":"Table1[[#This Row],[QTY]]*Table1[[#This Row],[S&L Price]]","v":0}]
[null,33,null,"To the Rescue!",6,"To the Rescue!","Library Set",null,"978-1-4824-4522-0",2017,"August 2016","Library","7.625 X 7.125",null,"",null,null,null,null,null,null,"Grade K","Grade K - 2","When there’s trouble, we call for help. But how does help get to where the trouble is? They use rescue vehicles! From ambulances to fire trucks, emergency workers need wheels to help those in need. This series pairs accessible, kindergarten-level text with vibrant photographs to show the these great machines in action. Whether braving winter weather to reach difficult places in a snowmobile or soaring overhead in a rescue helicopter, this exciting series brings the intense world of search and rescue to readers’ fingertips.","English",135.6,101.7,null,"24 pp.",{"$f":"Table1[[#This Row],['# Books]]*Table1[[#This Row],[QTY]]","v":0},{"$f":"Table1[[#This Row],[QTY]]*Table1[[#This Row],[S&L Price]]","v":0}]
[null,33,null,"To the Rescue!",1,"Police Cars","Library Bound Book",null,"978-1-4824-4661-6",2017,"August 2016","Library","7.625 X 7.125","Author","Lois Fortuna",0.9,0.5,null,null,"C",null,"Grade K","Grade K - 2","Police cars are a common sight in cities, but not many people know just how they work. From their supercharged engines to their special equipment for chasing down vehicles, police cars are full of unique features. From patrol cars policing the streets to vehicles used on highways to chase down speeding drivers, beginning readers learn that there are many different makes and models of these important vehicles.","English",22.6,16.95,"629.225--dc23","24 pp.",{"$f":"Table1[[#This Row],['# Books]]*Table1[[#This Row],[QTY]]","v":0},{"$f":"Table1[[#This Row],[QTY]]*Table1[[#This Row],[S&L Price]]","v":0}]
[null,33,null,"To the Rescue!",1,"Rescue Helicopters","eBook",null,"978-1-4824-4657-9",2017,"August 2016",null,null,"Author","Lois Fortuna",0.9,0.5,null,null,"C",null,"Grade K","Grade K - 2","Helicopters are important assets for emergency crews when things go wrong. Taking to the air, helicopters use a different angle to get to those in trouble. Whether because of bad weather or natural disasters like earthquakes or forest fires, the brave crews working with rescue helicopters often put their own lives at risk to help those in need. This book for beginning readers looks at these special helicopters, explaining some important design features that make them different from ordinary helicopters.","English",22.6,16.95,"629.133/352--dc23","24 pp.",{"$f":"Table1[[#This Row],['# Books]]*Table1[[#This Row],[QTY]]","v":0},{"$f":"Table1[[#This Row],[QTY]]*Table1[[#This Row],[S&L Price]]","v":0}]
[null,33,null,"To the Rescue!",1,"Snowmobiles","Library Bound Book",null,"978-1-4824-5199-3",2017,"August 2016","Library","7.625 X 7.125","Author","Lois Fortuna",0.9,0.5,null,null,"C",null,"Grade K","Grade K - 2","Snowmobiles might not immediately come to mind when thinking of rescue vehicles, but these motorized sleds are important tools for rescue workers when the weather outside gets frightful. When trouble strikes in remote, snowy areas, snowmobiles are there to cut through the powdery stuff and rescue those in need. This book for early readers explores the unique features of snowmobiles and how emergency crews utilize them to get to an accident and transport people back to safety.","English",22.6,16.95,"796.94--dc23","24 pp.",{"$f":"Table1[[#This Row],['# Books]]*Table1[[#This Row],[QTY]]","v":0},{"$f":"Table1[[#This Row],[QTY]]*Table1[[#This Row],[S&L Price]]","v":0}]
[null,33,null,"We Can Do It!",1,"Getting Ready for School","Library Bound Book",null,"978-1-4824-3801-7",2016,"January 2016","Library","7.625 X 7.125","Author","Lois Fortuna",0.9,0.5,null,null,"C",null,"Grade K","Grade K - 2","Whether wearing a uniform or picking out their own clothes, it’s not always easy for children to get up and get ready in the morning. In this book, early readers learn about this essential part of everyday life, learning how they can help their own families get the day started. This glimpse at a typical morning in a house sending its two children off to school is aided by colorful photographs matched with accessible text, showing readers how peers prepare for school by getting dressed and taking care of basic hygiene like brushing their hair.","English",22.6,16.95,"372—dc23","24 pp.",{"$f":"Table1[[#This Row],['# Books]]*Table1[[#This Row],[QTY]]","v":0},{"$f":"Table1[[#This Row],[QTY]]*Table1[[#This Row],[S&L Price]]","v":0}]
[null,33,null,"We Can Do It!",1,"Helping a Friend","eBook",null,"978-1-4824-3810-9",2016,"January 2016",null,null,"Author","Lois Fortuna",0.9,0.5,null,null,"C",null,"Grade K","Grade K - 2","Whether they’re stuck on a homework question or just need a push on a swing, friends need each other! This book shows budding readers that not only could friends use a hand, but it can be rewarding and even fun to help out. Pairing accessible text with colorful photographs of friends lending others their time and effort, readers learn how their peers help their friends clean up their neighborhood or learn how to read. They even discover how they can team up with their own friends to stay safe or clean up trash in their neighborhood.","English",22.6,16.95,"177'.62—dc23","24 pp.",{"$f":"Table1[[#This Row],['# Books]]*Table1[[#This Row],[QTY]]","v":0},{"$f":"Table1[[#This Row],[QTY]]*Table1[[#This Row],[S&L Price]]","v":0}]
[null,34,null,"Fun in Fall",1,"A Fall Festival","Library Bound Book",null,"978-1-4824-1768-5",2015,"January 2015","Library","7.625 X 7.125","Author","Cliff Griswold",0.9,0.5,null,null,"C",null,"Grade K","Grade K - 2","When the weather gets cooler, it’s time to celebrate the change in seasons! From picking out fall crops or eating great festival food like popcorn to fun music and dancing, there’s something for everyone at a fall festival. Captivating photographs paired with rich and age-appropriate text guide early readers through a fun trip to the local town fall festival loaded with exciting sights and sounds. As a family takes in the scenery at the fall festival, they’ll learn just how much fun fall can be in this exciting book.","English",22.6,16.95,"394.2","24 pp.",{"$f":"Table1[[#This Row],['# Books]]*Table1[[#This Row],[QTY]]","v":0},{"$f":"Table1[[#This Row],[QTY]]*Table1[[#This Row],[S&L Price]]","v":0}]
[null,34,null,"Fun in Fall",1,"A Fall Festival","eBook",null,"978-1-4824-1771-5",2015,"January 2015",null,null,"Author","Cliff Griswold",0.9,0.5,null,null,"C",null,"Grade K","Grade K - 2","When the weather gets cooler, it’s time to celebrate the change in seasons! From picking out fall crops or eating great festival food like popcorn to fun music and dancing, there’s something for everyone at a fall festival. Captivating photographs paired with rich and age-appropriate text guide early readers through a fun trip to the local town fall festival loaded with exciting sights and sounds. As a family takes in the scenery at the fall festival, they’ll learn just how much fun fall can be in this exciting book.","English",22.6,16.95,"394.2","24 pp.",{"$f":"Table1[[#This Row],['# Books]]*Table1[[#This Row],[QTY]]","v":0},{"$f":"Table1[[#This Row],[QTY]]*Table1[[#This Row],[S&L Price]]","v":0}]
[null,34,null,"Fun in Fall",1,"Let's Go Apple Picking!","Library Bound Book",null,"978-1-4824-1780-7",2015,"January 2015","Library","7.625 X 7.125","Author","Cliff Griswold",0.8,0.5,null,null,"C",null,"Grade K","Grade K - 2","It may get cooler when the season changes from summer to fall, but everyone knows that the food gets better and better. Going apple picking is a great fall activity, and it sure is delicious! Whether you use a ladder, climb a tree, or grab them off some low branches, there’s nothing like biting into a fresh apple. With accessible text and exciting color photographs, beginning readers will head to the apple orchards and see what it’s like to go apple picking for themselves in this exciting book.","English",22.6,16.95,"634","24 pp.",{"$f":"Table1[[#This Row],['# Books]]*Table1[[#This Row],[QTY]]","v":0},{"$f":"Table1[[#This Row],[QTY]]*Table1[[#This Row],[S&L Price]]","v":0}]
[null,34,null,"Fun in Fall",1,"The Pumpkin Patch","eBook",null,"978-1-4824-1790-6",2015,"January 2015",null,null,"Author","Cliff Griswold",0.9,0.5,null,null,"C",null,"Grade K","Grade K - 2","One of the best things about fall is going to the farm and picking out a pumpkin. Whether making pumpkin pie or decorating for the harvest season, pumpkins are a fun way to get into the fall spirit. Deciding what size pumpkin is important when going to a pumpkin patch. From huge pumpkins too heavy to lift to those just right for carving into jack-o-lanterns, farms have everything needed to make the most of fall. With accessible text and great photographs, this book will show readers that no trip to the pumpkin patch is boring in fall.","English",22.6,16.95,"635","24 pp.",{"$f":"Table1[[#This Row],['# Books]]*Table1[[#This Row],[QTY]]","v":0},{"$f":"Table1[[#This Row],[QTY]]*Table1[[#This Row],[S&L Price]]","v":0}]
[null,34,null,"Winter Fun",1,"Dressing for the Cold","eBook",null,"978-1-4824-3754-6",2016,"January 2016",null,null,"Author","Jasper Bix",0.9,0.5,null,null,"C",null,"Grade K","Grade K - 2","Getting ready for a trip outside can take a little extra time in the winter months. This book helps budding readers understand how important dressing warmly is, but also how it can be fun! Hats, scarfs, and gloves all play a part in staying warm in the snow. Through colorful photographs and simple text, beginning readers learn why we bundle up in the cold, staying safe and warm in even the most extreme winter weather.","English",22.6,16.95,"391—d23","24 pp.",{"$f":"Table1[[#This Row],['# Books]]*Table1[[#This Row],[QTY]]","v":0},{"$f":"Table1[[#This Row],[QTY]]*Table1[[#This Row],[S&L Price]]","v":0}]
[null,34,null,"Winter Fun",1,"Let's Go Ice-Skating!","Library Bound Book",null,"978-1-4824-3757-7",2016,"January 2016","Library","7.625 X 7.125","Author","Jasper Bix",0.9,0.5,null,null,"C",null,"Grade K","Grade K - 2","Even on the coldest winter days it’s easy to have fun outside! Early readers learn all they need is a pair of ice skates and a bit of patience, and they can enjoy the winter weather in style. From lacing up a pair of skates tightly to wearing a helmet for safety, readers learn all the basics needed to get on the ice and give skating a try for themselves! Accessible text presented alongside colorful photographs showing young children skating helps budding readers get motivated to stay active and have fun no matter what the weather outside.","English",22.6,16.95,"796.91—dc23","24 pp.",{"$f":"Table1[[#This Row],['# Books]]*Table1[[#This Row],[QTY]]","v":0},{"$f":"Table1[[#This Row],[QTY]]*Table1[[#This Row],[S&L Price]]","v":0}]
[null,34,null,"Winter Fun",1,"Winter Holidays","Library Bound Book",null,"978-1-4824-3765-2",2016,"January 2016","Library","7.625 X 7.125","Author","Jasper Bix",0.8,0.5,null,null,"C",null,"Grade K","Grade K - 2","Even in winter, there’s always something to celebrate! Budding readers are immersed in a variety of winter holidays and their traditions, from the cards and candy of Valentine’s Day to the New Year’s Eve parties that precede New Year’s Day. Color photographs paired with accessible text help early readers understand how others celebrate Christmas with evergreen trees and presents, adding holiday cheer to the snowy days that fill our coldest months.","English",22.6,16.95,"508.2—d23","24 pp.",{"$f":"Table1[[#This Row],['# Books]]*Table1[[#This Row],[QTY]]","v":0},{"$f":"Table1[[#This Row],[QTY]]*Table1[[#This Row],[S&L Price]]","v":0}]
[null,35,null,"Going Places",1,"In a Car","Interactive eBook","Flash","978-1-4339-6874-7",2012,"January 2012",null,null,"Author","Robert M. Hamilton",0.9,0.5,2,3,"C",null,"Grade K","Grade K - 2","Beginning readers learn new facts about cars, including how cars work, the gasoline that makes them run, and the speed limits that help to keep drivers, passengers, and pedestrians safe. Through the use of easy-to-follow text, beginning readers also explore the parts of a car. Colorful photographs show these machines in great detail allowing beginning readers to see a familiar vehicle in a new light.","English",33.25,24.95,"388.3","24 pp.",{"$f":"Table1[[#This Row],['# Books]]*Table1[[#This Row],[QTY]]","v":0},{"$f":"Table1[[#This Row],[QTY]]*Table1[[#This Row],[S&L Price]]","v":0}]
[null,35,null,"Going Places",1,"On a Boat","eBook",null,"978-1-4339-6270-7",2012,"January 2012",null,null,"Author","Robert M. Hamilton",0.9,0.5,2,3,"C","200L","Grade K","Grade K - 2","There are many kinds of boats that work on the water, and beginning readers are able to see exactly how they work in this fun and informative book. Small sailboats and huge ships are a few that readers discover as they learn how different boats move, look, and help people around the world. Accessible text helps beginning readers uncover fun facts about the parts and purposes of various boats, and vibrant photographs make these facts even more exciting.","English",22.6,16.95,"623.82","24 pp.",{"$f":"Table1[[#This Row],['# Books]]*Table1[[#This Row],[QTY]]","v":0},{"$f":"Table1[[#This Row],[QTY]]*Table1[[#This Row],[S&L Price]]","v":0}]
[null,35,null,"Going Places",1,"On a Boat","Interactive eBook","Flash","978-1-4339-6876-1",2012,"January 2012",null,null,"Author","Robert M. Hamilton",0.9,0.5,2,3,"C",null,"Grade K","Grade K - 2","There are many kinds of boats that work on the water, and beginning readers are able to see exactly how they work in this fun and informative book. Small sailboats and huge ships are a few that readers discover as they learn how different boats move, look, and help people around the world. Accessible text helps beginning readers uncover fun facts about the parts and purposes of various boats, and vibrant photographs make these facts even more exciting.","English",33.25,24.95,"623.82","24 pp.",{"$f":"Table1[[#This Row],['# Books]]*Table1[[#This Row],[QTY]]","v":0},{"$f":"Table1[[#This Row],[QTY]]*Table1[[#This Row],[S&L Price]]","v":0}]
[null,35,null,"Going Places",1,"On a Plane","eBook",null,"978-1-4339-6278-3",2012,"January 2012",null,null,"Author","Robert M. Hamilton",0.9,0.5,2,3,"C","130L","Grade K","Grade K - 2","Beginning readers will feel the excitement with the turn of every page as they learn to answer the question of how planes make their way into the sky. Accessible text will help readers explore how planes work—from takeoff to landing. Colorful photographs show readers a variety of planes, including biplanes and seaplanes.","English",22.6,16.95,"387.7","24 pp.",{"$f":"Table1[[#This Row],['# Books]]*Table1[[#This Row],[QTY]]","v":0},{"$f":"Table1[[#This Row],[QTY]]*Table1[[#This Row],[S&L Price]]","v":0}]
[null,35,null,"Inside My World",6,"Inside My World","Library Set",null,"978-1-4824-1632-9",2015,"January 2015","Library","7.625 X 7.125",null,"",null,null,null,null,null,null,"Grade K","Grade K - 2","With fun and relatable themes like school, family, and neighborhoods, young readers will dive into the everyday world and learn about the lives of others. Colorful photographs and accessible content combine to bring to life ordinary places and set the stage for learning early concepts and improving vocabulary. From exploring first pets to experiencing a birthday party, readers will be eager to take a look Inside My World.    • ATOS reading level below 1.0  • High-interest topic that will appeal to even reluctant readers  • Introduction to informational-text features, such as an index and table of contents  • Clear explanations of domain-specific words and phrases  ","English",135.6,101.7,null,"24 pp.",{"$f":"Table1[[#This Row],['# Books]]*Table1[[#This Row],[QTY]]","v":0},{"$f":"Table1[[#This Row],[QTY]]*Table1[[#This Row],[S&L Price]]","v":0}]
[null,35,null,"Inside My World",1,"My Day at School","Library Bound Book",null,"978-1-4824-1801-9",2015,"January 2015","Library","7.625 X 7.125","Author","Tina Benjamin",0.8,0.5,null,null,"C","70L","Grade K","Grade K - 2","There’s so much to explore at a school. From the books, backpacks, and classrooms to the friends made while in class, a trip to school is a great way for engaged readers to take a look inside a familiar world. With the help of accessible text and vibrant color photographs, readers will love taking a walk in someone else’s shoes to explore their lunchroom, gym class, and even a bus ride home!","English",22.6,16.95,"372","24 pp.",{"$f":"Table1[[#This Row],['# Books]]*Table1[[#This Row],[QTY]]","v":0},{"$f":"Table1[[#This Row],[QTY]]*Table1[[#This Row],[S&L Price]]","v":0}]
[null,35,null,"Inside My World",1,"My Piggy Bank","Library Bound Book",null,"978-1-4824-1808-8",2015,"January 2015","Library","7.625 X 7.125","Author","Tina Benjamin",0.9,0.5,null,null,"C","220L","Grade K","Grade K - 2","Why are piggy banks shaped like pigs? And more importantly, do they help us save money? Early readers will learn all about piggy banks in this fun book that takes a look at saving money with the help of a tiny pig-shaped friend. From coins like nickels and dimes to larger amounts of money, color photographs and accessible text explore one child’s quest to save for and buy a baseball glove. Readers will learn that sometimes you have to break the bank if you want to buy something new!","English",22.6,16.95,"332.024","24 pp.",{"$f":"Table1[[#This Row],['# Books]]*Table1[[#This Row],[QTY]]","v":0},{"$f":"Table1[[#This Row],[QTY]]*Table1[[#This Row],[S&L Price]]","v":0}]
[null,35,null,"Inside My World",1,"Where I Live","eBook",null,"978-1-4824-1815-6",2015,"January 2015",null,null,"Author","Tina Benjamin",0.9,0.5,null,null,"C","120L","Grade K","Grade K - 2","Exploring your hometown can be like a vacation in your backyard, and learning about someone else’s city is a great way to expand your concept of home. This fun book takes a trip through the narrator’s town, complete with a trip through their backyard pool, school, and even the fire station. From the fountain in the town square to shopping on Main Street, beginning readers will love the accessible text and color photographs that leap off the page and bring a narrator’s hometown to life.","English",22.6,16.95,"307.76","24 pp.",{"$f":"Table1[[#This Row],['# Books]]*Table1[[#This Row],[QTY]]","v":0},{"$f":"Table1[[#This Row],[QTY]]*Table1[[#This Row],[S&L Price]]","v":0}]
[null,36,null,"Happy Holidays!",1,"Happy Fourth of July!","eBook",null,"978-1-4824-0208-7",2014,"January 2014",null,null,"Author","Alex Appleby",1,0.5,3,null,"C",null,"Grade K","Grade K - 2","The Fourth of July is one of the most important holidays of the year. Readers will learn why we set off fireworks to celebrate America’s birthday and what other people do to honor the country on this fun holiday. From sparklers and hot dogs to parades and fun floats, readers will learn why the Fourth of July is a great holiday.    • Strong picture-text correlation aids in comprehension • Reading level supports beginning readers • Picture glossary helps develop vocabulary skills  ","English",22.6,16.95,"394.263","24 pp.",{"$f":"Table1[[#This Row],['# Books]]*Table1[[#This Row],[QTY]]","v":0},{"$f":"Table1[[#This Row],[QTY]]*Table1[[#This Row],[S&L Price]]","v":0}]
[null,36,null,"Happy Holidays!",1,"Happy Thanksgiving!","Library Bound Book",null,"978-1-4339-9947-5",2014,"January 2014","Library","7.625 X 7.125","Author","Alex Appleby",1,0.5,3,null,"C",null,"Grade K","Grade K - 2","Thanksgiving is a tradition passed down by people for hundreds of years. This great book explores why a day of thanks in November has become an American tradition. Why do we eat turkey on Thanksgiving? Why do we play football? Find out all this, and more about this great holiday while developing early reading skills and vocabulary thanks to a colorful picture glossary.    • Strong picture-text correlation aids in comprehension • Reading level supports beginning readers • Picture glossary helps develop vocabulary skills  ","English",22.6,16.95,"394.2618","24 pp.",{"$f":"Table1[[#This Row],['# Books]]*Table1[[#This Row],[QTY]]","v":0},{"$f":"Table1[[#This Row],[QTY]]*Table1[[#This Row],[S&L Price]]","v":0}]
[null,36,null,"Happy Holidays!",1,"Happy Thanksgiving!","eBook",null,"978-1-4339-9948-2",2014,"January 2014",null,null,"Author","Alex Appleby",1,0.5,3,null,"C",null,"Grade K","Grade K - 2","Thanksgiving is a tradition passed down by people for hundreds of years. This great book explores why a day of thanks in November has become an American tradition. Why do we eat turkey on Thanksgiving? Why do we play football? Find out all this, and more about this great holiday while developing early reading skills and vocabulary thanks to a colorful picture glossary.    • Strong picture-text correlation aids in comprehension • Reading level supports beginning readers • Picture glossary helps develop vocabulary skills  ","English",22.6,16.95,"394.2618","24 pp.",{"$f":"Table1[[#This Row],['# Books]]*Table1[[#This Row],[QTY]]","v":0},{"$f":"Table1[[#This Row],[QTY]]*Table1[[#This Row],[S&L Price]]","v":0}]
[null,36,null,"My First Adventures",1,"My First Trip on an Airplane","eBook",null,"978-1-4339-7299-7",2013,"August 2012",null,null,"Author","Katie Kawa",0.9,0.5,3,4,"C",null,"Grade K","Grade K - 2","Using a fictionalized approach, readers follow one family’s journey from the airport to the air, learning new words and fun facts with each turn of the page. Colorful illustrations and accessible text show readers how much fun it is to fly in an airplane. A picture glossary helps strengthen vocabulary skills and encourages deeper learning development.","English",22.6,16.95,"387.7","24 pp.",{"$f":"Table1[[#This Row],['# Books]]*Table1[[#This Row],[QTY]]","v":0},{"$f":"Table1[[#This Row],[QTY]]*Table1[[#This Row],[S&L Price]]","v":0}]
[null,36,null,"My First Adventures",1,"My First Trip to the Aquarium","Library Bound Book",null,"978-1-4339-7300-0",2013,"August 2012","Library","7.625 X 7.125","Author","Katie Kawa",0.9,0.5,3,4,"C",null,"Grade K","Grade K - 2","Beginning readers take an exciting and educational look at sea creatures using a fictionalized approach. Readers will follow along as one family visits an aquarium and discovers the incredible marine life that is waiting to be seen inside. Through the use of accessible text and a helpful picture glossary, early learners are introduced to the world of animals such as turtles, dolphins, and blue crabs. Vibrant illustrations give readers the incredible experience of seeing these amazing animals up close.","English",22.6,16.95,"597.073","24 pp.",{"$f":"Table1[[#This Row],['# Books]]*Table1[[#This Row],[QTY]]","v":0},{"$f":"Table1[[#This Row],[QTY]]*Table1[[#This Row],[S&L Price]]","v":0}]
[null,36,null,"My First Adventures",1,"My First Trip to the Aquarium","Interactive eBook","Flash","978-1-4339-7939-2",2013,"August 2012",null,null,"Author","Katie Kawa",0.9,0.5,3,4,"C",null,"Grade K","Grade K - 2","Beginning readers take an exciting and educational look at sea creatures using a fictionalized approach. Readers will follow along as one family visits an aquarium and discovers the incredible marine life that is waiting to be seen inside. Through the use of accessible text and a helpful picture glossary, early learners are introduced to the world of animals such as turtles, dolphins, and blue crabs. Vibrant illustrations give readers the incredible experience of seeing these amazing animals up close.","English",33.25,24.95,"597.073","24 pp.",{"$f":"Table1[[#This Row],['# Books]]*Table1[[#This Row],[QTY]]","v":0},{"$f":"Table1[[#This Row],[QTY]]*Table1[[#This Row],[S&L Price]]","v":0}]
[null,36,null,"My First Adventures",1,"My First Trip to the Beach","eBook",null,"978-1-4339-7311-6",2013,"August 2012",null,null,"Author","Katie Kawa",0.8,0.5,3,4,"C",null,"Grade K","Grade K - 2","Using a fictionalized approach, readers join a family as they explore the sand, sun, and waves at the beach for the first time. Colorful illustrations capture the vibrancy of the beach in a way that is sure to captivate beginning readers. Easy-to-follow, accessible text and a useful picture glossary aid in the development of vocabulary skills and the retention of new facts.","English",22.6,16.95,"551.45","24 pp.",{"$f":"Table1[[#This Row],['# Books]]*Table1[[#This Row],[QTY]]","v":0},{"$f":"Table1[[#This Row],[QTY]]*Table1[[#This Row],[S&L Price]]","v":0}]
[null,36,null,"My First Adventures",1,"My First Trip to the Doctor","Library Bound Book",null,"978-1-4339-6245-5",2012,"January 2012","Library","7.625 X 7.125","Author, Illustrated by","Katie Kawa, Jessica Livingston",0.9,0.5,3,4,"C",null,"Grade K","Grade K - 2","Beginning readers visit the doctor in a fictionalized approach to this common childhood experience. Readers will follow a child through the process of getting an annual checkup, an easily relatable experience for young readers. Easy-to-follow text explains the steps taken by both doctors and nurses to make sure children are growing healthy and strong. Illustrations help beginning readers view a trip to the doctor as a fun and educational experience.","English",22.6,16.95,"618.92","24 pp.",{"$f":"Table1[[#This Row],['# Books]]*Table1[[#This Row],[QTY]]","v":0},{"$f":"Table1[[#This Row],[QTY]]*Table1[[#This Row],[S&L Price]]","v":0}]
[null,36,null,"My First Adventures",1,"My First Trip to the Farm","Interactive eBook","Flash","978-1-4339-7945-3",2013,"August 2012",null,null,"Author","Katie Kawa",0.8,0.5,3,4,"C",null,"Grade K","Grade K - 2","A farm is a very busy place, and beginning readers discover why with the story of one class’s visit to a working farm. They learn fun facts about the food that we get from farms and the animals that call a farm their home. Using a fictionalized approach, readers discover all that this exciting place has to offer, including a trip to a pumpkin patch and a hayride. Accessible text and a picture glossary allow beginning readers to see for themselves what a trip to a farm is like, and bright illustrations guide them through this charming book.","English",33.25,24.95,"636","24 pp.",{"$f":"Table1[[#This Row],['# Books]]*Table1[[#This Row],[QTY]]","v":0},{"$f":"Table1[[#This Row],[QTY]]*Table1[[#This Row],[S&L Price]]","v":0}]
[null,36,null,"My First Adventures",1,"My First Trip to the Library","eBook",null,"978-1-4339-6250-9",2012,"January 2012",null,null,"Author, Illustrated by","Katie Kawa, Jessica Livingston",0.9,0.5,3,4,"C",null,"Grade K","Grade K - 2","Readers learn how fascinating a trip to the library can be as they read about one child’s exciting visit. This fictionalized approach to a popular childhood experience allows readers to learn important facts about the library in an accessible way. Easy-to-follow text and colorful illustrations keep readers entertained as they learn. Beginning readers will be eager to go to the library to find more books.","English",22.6,16.95,"020","24 pp.",{"$f":"Table1[[#This Row],['# Books]]*Table1[[#This Row],[QTY]]","v":0},{"$f":"Table1[[#This Row],[QTY]]*Table1[[#This Row],[S&L Price]]","v":0}]
[null,36,null,"My First Adventures",1,"My First Trip to the Library","Interactive eBook","Flash","978-1-4339-7852-4",2012,"January 2012",null,null,"Author, Illustrated by","Katie Kawa, Jessica Livingston",0.9,0.5,3,4,"C",null,"Grade K","Grade K - 2","Readers learn how fascinating a trip to the library can be as they read about one child’s exciting visit. This fictionalized approach to a popular childhood experience allows readers to learn important facts about the library in an accessible way. Easy-to-follow text and colorful illustrations keep readers entertained as they learn. Beginning readers will be eager to go to the library to find more books.","English",33.25,24.95,"020","24 pp.",{"$f":"Table1[[#This Row],['# Books]]*Table1[[#This Row],[QTY]]","v":0},{"$f":"Table1[[#This Row],[QTY]]*Table1[[#This Row],[S&L Price]]","v":0}]
[null,37,null,"People Around Town",12,"People Around Town","Library Set",null,"978-1-4339-9694-8",2014,"August 2013","Library","7.625 X 7.125",null,"",null,null,null,null,null,null,"Grade K","Grade K - 2","Our cities and towns are filled with hardworking people doing important jobs. In this series, beginning readers get the opportunity to meet many of these community helpers, and learn just how essential they are to our everyday lives.  Accessible text paired with colorful, carefully correlated photographs shows community helpers such as pilots, farmers, construction workers, and veterinarians in action and hard at work, and introduce readers to this important part of the early elementary curriculum.  • High-interest topic engages young readers • Strong picture-text correlation aids in comprehension • Reading level supports beginning readers • Picture glossary helps develop vocabulary skills • Comprehendible index guides readers through each book","English",271.2,203.4,null,"24 pp.",{"$f":"Table1[[#This Row],['# Books]]*Table1[[#This Row],[QTY]]","v":0},{"$f":"Table1[[#This Row],[QTY]]*Table1[[#This Row],[S&L Price]]","v":0}]
[null,37,null,"People Around Town",1,"Meet the Bus Driver","Library Bound Book",null,"978-1-4339-7324-6",2013,"August 2012","Library","7.625 X 7.125","Author","Joyce Jeffries",0.9,0.5,3,4,"C","220L","Grade K","Grade K - 2","Beginning readers discover why bus drivers are a very important part of a community. A variety of bus drivers are introduced with their own special job, including a school bus driver and a tour bus driver. Through fun, accessible text and a helpful picture glossary, young readers learn important facts about bus drivers and the vehicles they drive. Colorful photographs allow early learners to feel as if they are on an exciting bus ride, making this a reading experience they are sure to enjoy.","English",22.6,16.95,"388.3","24 pp.",{"$f":"Table1[[#This Row],['# Books]]*Table1[[#This Row],[QTY]]","v":0},{"$f":"Table1[[#This Row],[QTY]]*Table1[[#This Row],[S&L Price]]","v":0}]
[null,37,null,"People Around Town",1,"Meet the Farmer","Library Bound Book",null,"978-1-4339-9367-1",2014,"August 2013","Library","7.625 X 7.125","Author","Joyce Jeffries",0.9,0.5,3,4,"C","250L","Grade K","Grade K - 2","Farmers know how to get the most out of the land, whether with crops or big farm animals. Readers learn more about the lives of these important community helpers with the help of full-color photographs and easy-to-read text. Readers discover how big tractors help farmers work quickly, and what kinds of animals call a farm home. Accessible text helps early readers grasp concepts, while a picture glossary pairs vocabulary with colorful photographs to help enhance comprehension.     • High-interest topic engages young readers • Strong picture-text correlation aids in comprehension • Reading level supports beginning readers • Picture glossary helps develop vocabulary skills • Comprehendible index guides readers through each book    ","English",22.6,16.95,"331.7","24 pp.",{"$f":"Table1[[#This Row],['# Books]]*Table1[[#This Row],[QTY]]","v":0},{"$f":"Table1[[#This Row],[QTY]]*Table1[[#This Row],[S&L Price]]","v":0}]
[null,37,null,"People Around Town",1,"Meet the Farmer","eBook",null,"978-1-4339-9370-1",2014,"August 2013",null,null,"Author","Joyce Jeffries",0.9,0.5,3,4,"C","250L","Grade K","Grade K - 2","Farmers know how to get the most out of the land, whether with crops or big farm animals. Readers learn more about the lives of these important community helpers with the help of full-color photographs and easy-to-read text. Readers discover how big tractors help farmers work quickly, and what kinds of animals call a farm home. Accessible text helps early readers grasp concepts, while a picture glossary pairs vocabulary with colorful photographs to help enhance comprehension.     • High-interest topic engages young readers • Strong picture-text correlation aids in comprehension • Reading level supports beginning readers • Picture glossary helps develop vocabulary skills • Comprehendible index guides readers through each book    ","English",22.6,16.95,"331.7","24 pp.",{"$f":"Table1[[#This Row],['# Books]]*Table1[[#This Row],[QTY]]","v":0},{"$f":"Table1[[#This Row],[QTY]]*Table1[[#This Row],[S&L Price]]","v":0}]
[null,37,null,"People Around Town",1,"Meet the Librarian","eBook",null,"978-1-4339-9375-6",2014,"August 2013",null,null,"Author","Joyce Jeffries",0.9,0.5,3,4,"C","220L","Grade K","Grade K - 2","Librarians love working with books, but people can find all kinds of things at the library! Beginning readers will learn all about life among the stacks in this engaging first concepts book. Readers discover how a library is organized and what kinds of things people can borrow from the library. They’ll also find out where the name “librarian” comes from and learn all about lending with the help of full-color photographs and accessible text. A picture glossary helps reinforce concepts and vocabulary with colorful photographs, while strong picture-text correlation aids in reading comprehension.    • High-interest topic engages young readers • Strong picture-text correlation aids in comprehension • Reading level supports beginning readers • Picture glossary helps develop vocabulary skills • Comprehendible index guides readers through each book    ","English",22.6,16.95,"371.425","24 pp.",{"$f":"Table1[[#This Row],['# Books]]*Table1[[#This Row],[QTY]]","v":0},{"$f":"Table1[[#This Row],[QTY]]*Table1[[#This Row],[S&L Price]]","v":0}]
[null,37,null,"People Around Town",1,"Meet the Nurse","Interactive eBook","Flash","978-1-4339-7955-2",2013,"August 2012",null,null,"Author","Joyce Jeffries",0.9,0.5,3,4,"C",null,"Grade K","Grade K - 2","Beginning readers discover the many ways nurses work to help people stay healthy. Nurses work with doctors and on their own in diverse environments. Achievable content introduces readers to some of the important tools nurses use every day. Easy-to-follow text and a helpful picture glossary aid in the retention of fun facts about nurses and the development of strong vocabulary skills. Colorful photographs provide young readers with a detailed look at nurses and the valuable work they do.","English",33.25,24.95,"610.73","24 pp.",{"$f":"Table1[[#This Row],['# Books]]*Table1[[#This Row],[QTY]]","v":0},{"$f":"Table1[[#This Row],[QTY]]*Table1[[#This Row],[S&L Price]]","v":0}]
[null,37,null,"People Around Town",1,"Meet the Policeman","Interactive eBook","Flash","978-1-4339-7957-6",2013,"August 2012",null,null,"Author","Joyce Jeffries",0.9,0.5,3,4,"C",null,"Grade K","Grade K - 2","Beginning readers discover what a day at work is like for a policeman and many more exciting and educational facts of a police officer’s duties. Readers get a detailed look at the way policemen work to keep people safe—including the special cars they drive and the special animals they occasionally work with. Through the use of achievable text, readers learn fun facts about these important community workers. A detailed picture glossary strengthens vocabulary skills, and bright photographs make this a thrilling and educational reading experience for learners.","English",33.25,24.95,"363.2","24 pp.",{"$f":"Table1[[#This Row],['# Books]]*Table1[[#This Row],[QTY]]","v":0},{"$f":"Table1[[#This Row],[QTY]]*Table1[[#This Row],[S&L Price]]","v":0}]
[null,37,null,"People Around Town",1,"Meet the Teacher","Library Bound Book",null,"978-1-4339-7340-6",2013,"August 2012","Library","7.625 X 7.125","Author","Joyce Jeffries",0.9,0.5,3,4,"C","130L","Grade K","Grade K - 2","A teacher is a familiar figure in the lives of many readers, but readers discover new information about the hard work teachers do every day through achievable content. Beginning readers are introduced to a variety of teachers and the tools they use to help their students learn. Accessible text and a picture glossary allow readers to see for themselves what a teacher’s job is like as they learn fun facts and build a stronger vocabulary with each turn of the page. Colorful photographs show teachers working hard in the classroom.","English",22.6,16.95,"371.1","24 pp.",{"$f":"Table1[[#This Row],['# Books]]*Table1[[#This Row],[QTY]]","v":0},{"$f":"Table1[[#This Row],[QTY]]*Table1[[#This Row],[S&L Price]]","v":0}]
[null,37,null,"When I Grow Up",1,"I Can Be a Ballerina","Library Bound Book",null,"978-1-4824-0745-7",2015,"August 2014","Library","7.625 X 7.125","Author","Alex Appleby",0.9,0.5,3,null,"C",null,"Grade K","Grade K - 2","Being a ballerina requires lots of hard work and dedication, but early readers learn that you can be anything you want when you grow up. Full-color photographs of a ballerina’s graceful steps provide strong picture-text correlation, and accessible text helps readers establish early reading skills in this dynamic look at the world of ballet. This title published subject to a trademark license with WIGU Publishing, LLC.","English",22.6,16.95,"792.8","24 pp.",{"$f":"Table1[[#This Row],['# Books]]*Table1[[#This Row],[QTY]]","v":0},{"$f":"Table1[[#This Row],[QTY]]*Table1[[#This Row],[S&L Price]]","v":0}]
[null,37,null,"When I Grow Up",1,"I Can Be a Singer","eBook",null,"978-1-4824-0759-4",2015,"August 2014",null,null,"Author","Alex Appleby",0.8,0.5,3,null,"C",null,"Grade K","Grade K - 2","Many people dream of singing in front of millions of people. In this book, early readers see they can stop singing in their showers and can bring their voice to the stage. With strong picture-text correlation and an innovative approach to learning basic vocabulary and literacy skills, readers learn that they can be anything they want when they grow up. This title published subject to a trademark license with WIGU Publishing, LLC.","English",22.6,16.95,"784","24 pp.",{"$f":"Table1[[#This Row],['# Books]]*Table1[[#This Row],[QTY]]","v":0},{"$f":"Table1[[#This Row],[QTY]]*Table1[[#This Row],[S&L Price]]","v":0}]
[null,37,null,"When I Grow Up",1,"I Can Be the President","Library Bound Book",null,"978-1-4824-1030-3",2015,"August 2014","Library","7.625 X 7.125","Author","Alex Appleby",0.9,0.5,3,null,"C",null,"Grade K","Grade K - 2","Being the president isn’t easy, and neither is getting elected! For young readers hoping for a future in politics, this exciting book takes them on a journey all the way to the White House. Through accessible text and great full-color photographs showing life inside the White House, readers will get a great look at what the president does each day. This title published subject to a trademark license with WIGU Publishing, LLC.","English",22.6,16.95,"352.23","24 pp.",{"$f":"Table1[[#This Row],['# Books]]*Table1[[#This Row],[QTY]]","v":0},{"$f":"Table1[[#This Row],[QTY]]*Table1[[#This Row],[S&L Price]]","v":0}]
[null,37,null,"When I Grow Up",1,"I Can Be the President","eBook",null,"978-1-4824-1033-4",2015,"August 2014",null,null,"Author","Alex Appleby",0.9,0.5,3,null,"C",null,"Grade K","Grade K - 2","Being the president isn’t easy, and neither is getting elected! For young readers hoping for a future in politics, this exciting book takes them on a journey all the way to the White House. Through accessible text and great full-color photographs showing life inside the White House, readers will get a great look at what the president does each day. This title published subject to a trademark license with WIGU Publishing, LLC.","English",22.6,16.95,"352.23","24 pp.",{"$f":"Table1[[#This Row],['# Books]]*Table1[[#This Row],[QTY]]","v":0},{"$f":"Table1[[#This Row],[QTY]]*Table1[[#This Row],[S&L Price]]","v":0}]
[null,39,null,"World's Longest-Living Animals",1,"100-Year-Old Tuataras!","eBook",null,"978-1-4824-5629-5",2017,"January 2017",null,null,"Author","Topper Evans",3.7,0.5,null,null,"H",null,"Grade 1 - 2","Grade 1 - 3","Tuataras are special animals because they’re old in many ways. They’re part of an order of reptiles that first appeared more than 200 million years ago! They can also live more than 100 years! Readers fascinated by these odd animals will love learning why they’re only found in New Zealand and how they adapted characteristics of many different kinds of animals, including amphibians, reptiles, and even fish! With full-color photographs showing off these features in great detail, this book is sure to impress young readers.","English",22.6,16.95,"597.9’45--dc23","24 pp.",{"$f":"Table1[[#This Row],['# Books]]*Table1[[#This Row],[QTY]]","v":0},{"$f":"Table1[[#This Row],[QTY]]*Table1[[#This Row],[S&L Price]]","v":0}]
[null,39,null,"World's Longest-Living Animals",1,"80-Year-Old Elephants!","Library Bound Book",null,"978-1-4824-5613-4",2017,"January 2017","Library","7.000 X 7.000","Author","Leonard Atlantic",3.4,0.5,null,null,"H",null,"Grade 1 - 2","Grade 1 - 3","Elephants are smart animals often put in danger because of their large ivory tusks. Left alone, however, these amazing creatures can live for more than 80 years! Through innovative graphics and colorful photographs bringing the lives of these stunning animals into sharp focus, readers explore the differences between Asian and African elephants, their diets, and how they live their lives in different parts of the world.","English",22.6,16.95,"599.67--dc23","24 pp.",{"$f":"Table1[[#This Row],['# Books]]*Table1[[#This Row],[QTY]]","v":0},{"$f":"Table1[[#This Row],[QTY]]*Table1[[#This Row],[S&L Price]]","v":0}]
[null,40,null,"Backyard Biomes",1,"There Are Grasslands in My Backyard!","Library Bound Book",null,"978-1-4824-5553-3",2017,"January 2017","Library","7.000 X 7.000","Author","Walter LaPlante",3.5,0.5,null,null,"H",null,"Grade 1 - 2","Grade 1 - 3","In North America, grasslands are called the “prairie.” In South America, they’re called the “pampas.” Whatever they’re called, grasslands are a vibrant biome! Readers are introduced to grasslands through their unique features, climate, and the plants and animals that live there. With information on both tropical and temperate grasslands, the main content includes themes of conservation and ecosystem balance. Full-color photographs supplement the science content with examples of grasslands from around the world. Accessible language makes this book a perfect supplement to classroom learning about biomes.","English",22.6,16.95,"578.75/54--dc23","24 pp.",{"$f":"Table1[[#This Row],['# Books]]*Table1[[#This Row],[QTY]]","v":0},{"$f":"Table1[[#This Row],[QTY]]*Table1[[#This Row],[S&L Price]]","v":0}]
[null,40,null,"Backyard Biomes",1,"There's a Desert in My Backyard!","Library Bound Book",null,"978-1-4824-5557-1",2017,"January 2017","Library","7.000 X 7.000","Author","Walter LaPlante",3.2,0.5,null,null,"H",null,"Grade 1 - 2","Grade 1 - 3","Deserts are the driest places on Earth, but they’re full of life! Cacti, kangaroo rats, shrubs, foxes, and more have found ways to adapt to the extreme temperatures and dry conditions of deserts around the world. Readers learn about many of these adaptations as well as the major features of the desert biome. Simple maps highlight some of the biggest deserts, helping readers learn map skills. Full-color photographs reinforce accessible information about the desert ecosystem, including a concluding message of conservation.","English",22.6,16.95,"577.54--dc23","24 pp.",{"$f":"Table1[[#This Row],['# Books]]*Table1[[#This Row],[QTY]]","v":0},{"$f":"Table1[[#This Row],[QTY]]*Table1[[#This Row],[S&L Price]]","v":0}]
[null,40,null,"Backyard Biomes",1,"There's a Lake in My Backyard!","eBook",null,"978-1-4824-5566-3",2017,"January 2017",null,null,"Author","Seth Lynch",3,0.5,null,null,"H",null,"Grade 1 - 2","Grade 1 - 3","Lakes can be hundreds of miles long and thousands of miles deep—or small enough to swim across! It’s common for homes and roads to be built near lakes because they offer such beautiful scenery as well as needed resources. Readers are introduced to the lake biome that may be in their backyard through lakes’ main features, animals and plants that may live there, and examples of some of the largest lakes on Earth. Full-color photographs and small maps highlight this special biome as the main content simply touches on key science curriculum topics including food webs and water conservation.","English",22.6,16.95,"577.63--dc23","24 pp.",{"$f":"Table1[[#This Row],['# Books]]*Table1[[#This Row],[QTY]]","v":0},{"$f":"Table1[[#This Row],[QTY]]*Table1[[#This Row],[S&L Price]]","v":0}]
[null,43,null,"Adventures in Culture",6,"Adventures in Culture","Library Set",null,"978-1-4824-5866-4",2017,"January 2017","Library","7.000 X 7.000",null,"",null,null,null,null,null,null,"Grade 1 - 2","Grade 1 - 3","In today’s interconnected world, it's vital for students to understand and embrace cultural diversity, both around the globe and in their own community. Each vibrant volume of this valuable series is an appreciation of various customs, traditions, and ways of life. Readers will immerse themselves in different cultures in the context of familiar topics such as clothing, foods, and schools, supported by attractive photographs that aid in reading comprehension. They’ll discover that there’s adventure to experience in every culture.","English",135.6,101.7,null,"24 pp.",{"$f":"Table1[[#This Row],['# Books]]*Table1[[#This Row],[QTY]]","v":0},{"$f":"Table1[[#This Row],[QTY]]*Table1[[#This Row],[S&L Price]]","v":0}]
[null,43,null,"Adventures in Culture",1,"Food Around the World","Library Bound Book",null,"978-1-4824-5584-7",2017,"January 2017","Library","7.000 X 7.000","Author","Charles Murphy",null,null,null,null,"K",null,"Grade 1 - 2","Grade 1 - 3","Tamales, falafel, moussaka, Peking duck . . . hungry yet? These culinary treasures are traditional dishes in various countries, though they have gained popularity in other regions as well. Readers will be ravenous to find out more about these delicacies and ones less familiar. They’ll discover through appetizing, accessible text and mouth-watering photographs that their sense of taste is a great way to ingest cultural concepts!","English",22.6,16.95,"394.1’2 --dc23","24 pp.",{"$f":"Table1[[#This Row],['# Books]]*Table1[[#This Row],[QTY]]","v":0},{"$f":"Table1[[#This Row],[QTY]]*Table1[[#This Row],[S&L Price]]","v":0}]
[null,43,null,"Adventures in Culture",1,"Food Around the World","eBook",null,"978-1-4824-5585-4",2017,"January 2017",null,null,"Author","Charles Murphy",null,null,null,null,"K",null,"Grade 1 - 2","Grade 1 - 3","Tamales, falafel, moussaka, Peking duck . . . hungry yet? These culinary treasures are traditional dishes in various countries, though they have gained popularity in other regions as well. Readers will be ravenous to find out more about these delicacies and ones less familiar. They’ll discover through appetizing, accessible text and mouth-watering photographs that their sense of taste is a great way to ingest cultural concepts!","English",22.6,16.95,"394.1’2 --dc23","24 pp.",{"$f":"Table1[[#This Row],['# Books]]*Table1[[#This Row],[QTY]]","v":0},{"$f":"Table1[[#This Row],[QTY]]*Table1[[#This Row],[S&L Price]]","v":0}]
[null,43,null,"Adventures in Culture",1,"Transportation Around the World","Library Bound Book",null,"978-1-4824-5595-3",2017,"January 2017","Library","7.000 X 7.000","Author","Eleanor O'Connell",null,null,null,null,"J",null,"Grade 1 - 2","Grade 1 - 3","Traveling a distance for many means taking a bus, car, train, or maybe a bicycle. In other parts of the world, however, forms of transportation may include rickshaws, gondolas, hovercraft, or cable cars. This fast-paced volume invites readers to hop aboard on a journey to test out some of the most fascinating modes of travel around the globe. Lively, accessible text and vivid photographs emphasize this interesting aspect of world cultures.","English",22.6,16.95,"388--dc23","24 pp.",{"$f":"Table1[[#This Row],['# Books]]*Table1[[#This Row],[QTY]]","v":0},{"$f":"Table1[[#This Row],[QTY]]*Table1[[#This Row],[S&L Price]]","v":0}]
[null,45,null,"A Look at Dinosaurs",1,"Allosaurus","eBook",null,"978-1-4824-1820-0",2015,"January 2015",null,null,"Author","Nina Theresa",3.1,0.5,null,null,"J",null,"Grade 1 - 2","Grade 1 - 3","Allosaurus lived a long time ago, but scientists have learned a lot about how this creature lived and what it looked like. “Allosaurus” means “different lizard,” and this creature’s bones are different than those of other dinosaurs. Unlike some dinosaurs, it also lived all over the world. Readers will love exploring the prehistoric world of dinosaurs and find out just what’s so “different” about Allosaurus in this exciting book with amazing illustrations.","English",22.6,16.95,"567.912","24 pp.",{"$f":"Table1[[#This Row],['# Books]]*Table1[[#This Row],[QTY]]","v":0},{"$f":"Table1[[#This Row],[QTY]]*Table1[[#This Row],[S&L Price]]","v":0}]
[null,45,null,"A Look at Dinosaurs",1,"Tyrannosaurus Rex","Library Bound Book",null,"978-1-4824-1834-7",2015,"January 2015","Library","7.000 X 7.000","Author","Daisy Allyn",3.6,0.5,null,null,"J",null,"Grade 1 - 2","Grade 1 - 3","Scientists consider Tyrannosaurus rex the king of dinosaurs, and readers will find out exactly why in this exciting book. With amazing color illustrations showing the fierce Tyrannosaurus rex hunting and eating on two legs, readers will see just how powerful and scary this prehistoric creature was. With razor-sharp teeth and more than 40 feet long, readers will be happy the T-rex lived long ago and isn’t around to snack on anything today!","English",22.6,16.95,"567.912","24 pp.",{"$f":"Table1[[#This Row],['# Books]]*Table1[[#This Row],[QTY]]","v":0},{"$f":"Table1[[#This Row],[QTY]]*Table1[[#This Row],[S&L Price]]","v":0}]
[null,45,null,"A Look at Dinosaurs",1,"Tyrannosaurus Rex","eBook",null,"978-1-4824-1836-1",2015,"January 2015",null,null,"Author","Daisy Allyn",3.6,0.5,null,null,"J",null,"Grade 1 - 2","Grade 1 - 3","Scientists consider Tyrannosaurus rex the king of dinosaurs, and readers will find out exactly why in this exciting book. With amazing color illustrations showing the fierce Tyrannosaurus rex hunting and eating on two legs, readers will see just how powerful and scary this prehistoric creature was. With razor-sharp teeth and more than 40 feet long, readers will be happy the T-rex lived long ago and isn’t around to snack on anything today!","English",22.6,16.95,"567.912","24 pp.",{"$f":"Table1[[#This Row],['# Books]]*Table1[[#This Row],[QTY]]","v":0},{"$f":"Table1[[#This Row],[QTY]]*Table1[[#This Row],[S&L Price]]","v":0}]
[null,45,null,"Guess That Animal!",1,"Name That Amphibian!","eBook",null,"978-1-4824-4722-4",2017,"August 2016",null,null,"Author","Demi Jackson",3,0.5,null,null,"H","530L","Grade 1 - 2","Grade 1 - 3","Amphibians share many characteristics, including slimy-looking skin and a life cycle that includes time in the water and time on land. Many species of these fascinating animals have their own unique look. In this book, readers are introduced to the amphibian group and then are shown a super close-up of an animal. The following spread reveals what amphibian it is as well as more information about it. With cool images of amphibians such as the purple frog and the mysterious caecilian, this book is sure to intrigue readers with awesome, understandable biology information.","English",22.6,16.95,"597.8--dc23","24 pp.",{"$f":"Table1[[#This Row],['# Books]]*Table1[[#This Row],[QTY]]","v":0},{"$f":"Table1[[#This Row],[QTY]]*Table1[[#This Row],[S&L Price]]","v":0}]
[null,45,null,"Guess That Animal!",1,"Name That Fish!","Library Bound Book",null,"978-1-4824-4745-3",2017,"August 2016","Library","7.000 X 7.000","Author","Santana Hunt",2.8,0.5,null,null,"H","580L","Grade 1 - 2","Grade 1 - 3","Fish come in all shapes, sizes, and colors. Their fins are uniquely shaped for what kind of swimming they do, and other body parts are adapted to shallow water habitats or life deep in the ocean. Through hints and close-up photographs of one feature of a fish, readers are introduced to many kinds of fish from all over the world. All they need to do is turn the page to find out which fish it is! Full-color photographs highlight the amazing marine environments fish are found in as well as the special parts of each species.","English",22.6,16.95,"597--dc23","24 pp.",{"$f":"Table1[[#This Row],['# Books]]*Table1[[#This Row],[QTY]]","v":0},{"$f":"Table1[[#This Row],[QTY]]*Table1[[#This Row],[S&L Price]]","v":0}]
[null,45,null,"Guess That Animal!",1,"Name That Reptile!","eBook",null,"978-1-4824-4740-8",2017,"August 2016",null,null,"Author","Santana Hunt",2.8,0.5,null,null,"H","580L","Grade 1 - 2","Grade 1 - 3","If you saw a reptile’s scales up close, could you guess what animal they belonged to? What about sharp teeth or long claws? In this uniquely laid out book, readers learn the characteristics of reptiles and then are introduced to several different kinds. First, an up-close photograph highlight some special feature of the reptile, such as a fat tail or long snout, and fun facts start to describe the reptile’s habits and home. Readers only need to turn the page to find out what animal it is and even more great science information about it!","English",22.6,16.95,"597.9--dc23","24 pp.",{"$f":"Table1[[#This Row],['# Books]]*Table1[[#This Row],[QTY]]","v":0},{"$f":"Table1[[#This Row],[QTY]]*Table1[[#This Row],[S&L Price]]","v":0}]
[null,46,null,"Animal Look-Alikes",6,"Animal Look-Alikes","Library Set",null,"978-1-4824-2544-4",2016,"August 2015","Library","7.000 X 7.000",null,"",null,null,null,null,null,null,"Grade 1 - 2","Grade 1 - 3","Lots of animals are easy to spot, but sometimes it can get a bit tricky. Readers will take a close look at similar-looking creatures and learn what makes each unique. Readers will dive into the sea and explore the differences between dolphins and porpoises as well as seals and sea lions. They’ll also explore the depths of the jungle and learn how to tell a jaguar and leopard apart with the help of vibrant photographs that show every detail of these amazing animals.\n\n\n\n•\tAccessible graphics and charts show differences between animals\n\n•\tHigh-interest subjects address topics of the elementary life science curriculum\n\n• \tComprehension of science texts is a benchmark of the Common Core Standards\n\n","English",135.6,101.7,null,"24 pp.",{"$f":"Table1[[#This Row],['# Books]]*Table1[[#This Row],[QTY]]","v":0},{"$f":"Table1[[#This Row],[QTY]]*Table1[[#This Row],[S&L Price]]","v":0}]
[null,46,null,"Animal Look-Alikes",1,"Leopard or Jaguar?","Library Bound Book",null,"978-1-4824-2722-6",2016,"August 2015","Library","7.000 X 7.000","Author","Rob Ryndak",3.2,0.5,null,null,"I","690L","Grade 1 - 2","Grade 1 - 3","Jungle cats can be tough to tell apart, but often it’s the spots that give an animal away. With leopards and jaguars, knowing where the animal lives can be a big hint as to which cat is stalking its prey. Telling the two animals apart is easy once we take a closer look. Jaguars are heavier than leopards and their features are unique when you take a good look at their heads. Amazing full-color photographs ensure readers don’t have to tell these magnificent animals apart!","English",22.6,16.95,"599.75","24 pp.",{"$f":"Table1[[#This Row],['# Books]]*Table1[[#This Row],[QTY]]","v":0},{"$f":"Table1[[#This Row],[QTY]]*Table1[[#This Row],[S&L Price]]","v":0}]
[null,46,null,"Animal Look-Alikes",1,"Turtle or Tortoise?","Library Bound Book",null,"978-1-4824-2730-1",2016,"August 2015","Library","7.000 X 7.000","Author","Rob Ryndak",3.2,0.5,null,null,"J","660L","Grade 1 - 2","Grade 1 - 3","Both turtles and tortoises have shells and move pretty slowly. So what makes them different? And where to terrapins fit in? There’s much more going on with these amazing creatures than just carapaces and plastrons. From their family ties and foot size to their habitats, these animals look, live, and even eat differently. Some of these awesome animals can live for centuries! Readers will discover which of these reptiles can survive hundreds of years longer than humans, along with a host of other fun facts. Vivid photographs of turtles and tortoises in their natural habitat add further fascination for readers ready to tackle the differences between these two reptiles.","English",22.6,16.95,"597.92—dc23","24 pp.",{"$f":"Table1[[#This Row],['# Books]]*Table1[[#This Row],[QTY]]","v":0},{"$f":"Table1[[#This Row],[QTY]]*Table1[[#This Row],[S&L Price]]","v":0}]
[null,47,null,"Famous Lives",1,"The Life of Abraham Lincoln","Library Bound Book",null,"978-1-4339-6341-4",2012,"January 2012","Library","7.000 X 7.000","Author","Maria Nelson",2.9,0.5,20,20,"G",null,"Grade 1 - 2","Grade 1 - 4","Many consider Abraham Lincoln to be the greatest US president. This book explores Lincoln’s early life, including his self-taught education, law career, and influential presidency. Through age-appropriate language and content, beginning readers will learn about the Civil War and Lincoln’s inspiring leadership. Historical images and an informative timeline will enhance readers’ introduction to Lincoln’s extraordinary achievements and connect them to an important era in American history.","English",22.6,16.95,"973.7092","24 pp.",{"$f":"Table1[[#This Row],['# Books]]*Table1[[#This Row],[QTY]]","v":0},{"$f":"Table1[[#This Row],[QTY]]*Table1[[#This Row],[S&L Price]]","v":0}]
[null,47,null,"Famous Lives",1,"The Life of Abraham Lincoln","eBook",null,"978-1-4339-6342-1",2012,"January 2012",null,null,"Author","Maria Nelson",2.9,0.5,20,20,"G",null,"Grade 1 - 2","Grade 1 - 4","Many consider Abraham Lincoln to be the greatest US president. This book explores Lincoln’s early life, including his self-taught education, law career, and influential presidency. Through age-appropriate language and content, beginning readers will learn about the Civil War and Lincoln’s inspiring leadership. Historical images and an informative timeline will enhance readers’ introduction to Lincoln’s extraordinary achievements and connect them to an important era in American history.","English",22.6,16.95,"973.7092","24 pp.",{"$f":"Table1[[#This Row],['# Books]]*Table1[[#This Row],[QTY]]","v":0},{"$f":"Table1[[#This Row],[QTY]]*Table1[[#This Row],[S&L Price]]","v":0}]
[null,47,null,"Famous Lives",1,"The Life of Clara Barton","Interactive eBook","Flash","978-1-4824-0377-0",2014,"January 2014",null,null,"Author","Kathleen Connors",3.1,0.5,16,15,"I",null,"Grade 1 - 2","Grade 1 - 4","Clara Barton made a difference in the lives of many wounded soldiers during the American Civil War. She not only cared for them in hospitals, but also helped families identify those who died or went missing during battle. As founder of the American Red Cross, Clara Barton’s life continues to affect the United States for the better. Readers will find her story engaging and inspiring. Historical images enhance accessible social studies content and language, while a timeline aids readers in biographical understanding.","English",33.25,24.95,"361.7634","24 pp.",{"$f":"Table1[[#This Row],['# Books]]*Table1[[#This Row],[QTY]]","v":0},{"$f":"Table1[[#This Row],[QTY]]*Table1[[#This Row],[S&L Price]]","v":0}]
[null,47,null,"Famous Lives",1,"The Life of Florence Nightingale","eBook",null,"978-1-4824-0406-7",2014,"January 2014",null,null,"Author","Kathleen Connors",3.5,0.5,16,15,"I",null,"Grade 1 - 2","Grade 1 - 4","Florence Nightingale’s parents believed the nursing profession was beneath her, but she felt a calling to help the sick. By the end of her life, Florence had bettered nurses’ training around the world and elevated nursing to a noble pursuit for women of all social classes. Including social studies information and a helpful timeline, the biography of Florence Nightingale will engage readers in a world very different from their own. Historical images immerse them in Victorian England and the hospital wards so marked by the good work of the “lady with the lamp.”","English",22.6,16.95,"610.73092","24 pp.",{"$f":"Table1[[#This Row],['# Books]]*Table1[[#This Row],[QTY]]","v":0},{"$f":"Table1[[#This Row],[QTY]]*Table1[[#This Row],[S&L Price]]","v":0}]
[null,47,null,"Famous Lives",1,"The Life of George Washington","eBook",null,"978-1-4339-6350-6",2012,"January 2012",null,null,"Author","Maria Nelson",3.1,0.5,18,20,"H",null,"Grade 1 - 2","Grade 1 - 4","George Washington wasn’t just the first US president. He was also the general who led the Continental army to victory over the British. Historic images will assist beginning readers in learning about Washington’s life, including his role in the founding of the United States and his presidency. Age-appropriate language and content will engage readers who are learning about Washington’s impact on the nation for the first time.","English",22.6,16.95,"973.4","24 pp.",{"$f":"Table1[[#This Row],['# Books]]*Table1[[#This Row],[QTY]]","v":0},{"$f":"Table1[[#This Row],[QTY]]*Table1[[#This Row],[S&L Price]]","v":0}]
[null,47,null,"Famous Lives",1,"The Life of Paul Revere","Library Bound Book",null,"978-1-4339-6353-7",2012,"January 2012","Library","7.000 X 7.000","Author","Maria Nelson",2.7,0.5,24,20,"H",null,"Grade 1 - 2","Grade 1 - 4","When Paul Revere warned colonists the British army was coming, he helped prepare a nation for battle. This exciting book will take readers through Revere’s life as a silver- and goldsmith and on his midnight ride at the start of the American Revolution. Through achievable content and language, beginning readers will engage with important historical facts and ideas. A helpful timeline of events and colorful images enhance the story of one of American history’s most famous folk heroes.","English",22.6,16.95,"974.4","24 pp.",{"$f":"Table1[[#This Row],['# Books]]*Table1[[#This Row],[QTY]]","v":0},{"$f":"Table1[[#This Row],[QTY]]*Table1[[#This Row],[S&L Price]]","v":0}]
[null,47,null,"Famous Lives",1,"The Life of Sacagawea","Library Bound Book",null,"978-1-4339-6357-5",2012,"January 2012","Library","7.000 X 7.000","Author","Maria Nelson",2.8,0.5,24,20,"H",null,"Grade 1 - 2","Grade 1 - 4","The gold dollar coin bears the image of one of the most famous Native Americans in US history—Sacagawea. Though much of her life remains a mystery, this book will explore the story of the extraordinary woman who helped Lewis and Clark explore the American West. Age-appropriate language and content will help beginning readers understand this fascinating time in American history and introduce them to Sacagawea’s captivating story. Exciting photographs help draw readers in, and a timeline of important events will reinforce what they’ve learned.","English",22.6,16.95,"978.04","24 pp.",{"$f":"Table1[[#This Row],['# Books]]*Table1[[#This Row],[QTY]]","v":0},{"$f":"Table1[[#This Row],[QTY]]*Table1[[#This Row],[S&L Price]]","v":0}]
[null,47,null,"Sports MVPs",6,"Sports MVPs","Library Set",null,"978-1-4824-4521-3",2017,"August 2016","Library","7.000 X 7.000",null,"",null,null,null,null,null,null,"Grade 1 - 2","Grade 1 - 3","Today’s most exciting athletes dominate their respective fields. Whether taking the court, the field, or hitting the slopes, athletes make the extraordinary seem ordinary when they top the competition. This series takes a look at the lives of today’s greatest athletes from Serena Williams’s dominance of women’s tennis to the amazing goals and great on-ice moments of Sidney Crosby. Chronicling the amazing careers of star athletes, this series takes readers inside their favorite sports.","English",135.6,101.7,null,"24 pp.",{"$f":"Table1[[#This Row],['# Books]]*Table1[[#This Row],[QTY]]","v":0},{"$f":"Table1[[#This Row],[QTY]]*Table1[[#This Row],[S&L Price]]","v":0}]
[null,47,null,"Sports MVPs",1,"LeBron James","Library Bound Book",null,"978-1-4824-4640-1",2017,"August 2016","Library","7.000 X 7.000","Author","Ryan Nagelhout",3.1,0.5,null,null,"J",null,"Grade 1 - 2","Grade 1 - 3","LeBron James joined the NBA out of high school and was immediately one of the most exciting players in basketball. His fascinating career has been full of titles and individual awards, from the NBA’s most valuable player to Olympic gold medals and even NBA titles. This superstar’s career from Cleveland to Miami and back to his hometown Cavaliers has captivated sports fans, and this book chronicles the latest in King James’ illustrious career. Readers will love learning more about LeBron and what makes him special both on and off the court.","English",22.6,16.95,"796.323092--dc23","24 pp.",{"$f":"Table1[[#This Row],['# Books]]*Table1[[#This Row],[QTY]]","v":0},{"$f":"Table1[[#This Row],[QTY]]*Table1[[#This Row],[S&L Price]]","v":0}]
[null,47,null,"Sports MVPs",1,"LeBron James","eBook",null,"978-1-4824-4635-7",2017,"August 2016",null,null,"Author","Ryan Nagelhout",3.1,0.5,null,null,"J",null,"Grade 1 - 2","Grade 1 - 3","LeBron James joined the NBA out of high school and was immediately one of the most exciting players in basketball. His fascinating career has been full of titles and individual awards, from the NBA’s most valuable player to Olympic gold medals and even NBA titles. This superstar’s career from Cleveland to Miami and back to his hometown Cavaliers has captivated sports fans, and this book chronicles the latest in King James’ illustrious career. Readers will love learning more about LeBron and what makes him special both on and off the court.","English",22.6,16.95,"796.323092--dc23","24 pp.",{"$f":"Table1[[#This Row],['# Books]]*Table1[[#This Row],[QTY]]","v":0},{"$f":"Table1[[#This Row],[QTY]]*Table1[[#This Row],[S&L Price]]","v":0}]
[null,47,null,"Sports MVPs",1,"Sidney Crosby","Library Bound Book",null,"978-1-4824-4643-2",2017,"August 2016","Library","7.000 X 7.000","Author","Ryan Nagelhout",3.7,0.5,null,null,"J",null,"Grade 1 - 2","Grade 1 - 3","Sidney Crosby is a living hockey legend. A superstar for the Pittsburgh Penguins, Crosby is a Stanley Cup Champion and a Canadian Olympic hero. Sid the Kid’s career has featured big goals, serious injuries, and even bigger moments. This book takes a look at some big events in Crosby’s life, from his time playing junior hockey in Canada to draft day and playoff glory with the Penguins, and gives readers a look inside the trophy case of one of the most exciting athletes on the planet.","English",22.6,16.95,"796.962092--dc23","24 pp.",{"$f":"Table1[[#This Row],['# Books]]*Table1[[#This Row],[QTY]]","v":0},{"$f":"Table1[[#This Row],[QTY]]*Table1[[#This Row],[S&L Price]]","v":0}]
[null,48,null,"Graph It!",1,"Making Circle Graphs","eBook",null,"978-1-4824-0832-4",2015,"August 2014",null,null,"Author","Nora Dee",null,null,14,null,"H",null,"Grade 1 - 2","Grade 1 - 3","Understanding circle graphs, also known as pie charts, is an important math skill. This book investigates the topic using engaging and accessible examples such as sports. Readers examine several circle graphs closely and are guided step-by-step through the process of making their own. A bright design, clear text, and a self-evaluation quiz make this a valuable resource for any classroom.","English",22.6,16.95,"510","24 pp.",{"$f":"Table1[[#This Row],['# Books]]*Table1[[#This Row],[QTY]]","v":0},{"$f":"Table1[[#This Row],[QTY]]*Table1[[#This Row],[S&L Price]]","v":0}]
[null,48,null,"Graph It!",1,"Making Tally Charts","Library Bound Book",null,"978-1-4824-0844-7",2015,"August 2014","Library","7.000 X 7.000","Author","Elizabeth Whyte",null,null,12,null,"G",null,"Grade 1 - 2","Grade 1 - 3","Tally charts are an excellent way to organize, represent, and interpret data, a key skill in today's math classrooms. Readers will learn the components of a tally chart and how each is essential in understanding the information the chart holds. Entertaining topics, questions and answers, and a colorful design make this book a comprehensible companion to the mathematics curriculum.","English",22.6,16.95,"510","24 pp.",{"$f":"Table1[[#This Row],['# Books]]*Table1[[#This Row],[QTY]]","v":0},{"$f":"Table1[[#This Row],[QTY]]*Table1[[#This Row],[S&L Price]]","v":0}]
[null,48,null,"Graph It!",1,"Making Tally Charts","eBook",null,"978-1-4824-0880-5",2015,"August 2014",null,null,"Author","Elizabeth Whyte",null,null,12,null,"G",null,"Grade 1 - 2","Grade 1 - 3","Tally charts are an excellent way to organize, represent, and interpret data, a key skill in today's math classrooms. Readers will learn the components of a tally chart and how each is essential in understanding the information the chart holds. Entertaining topics, questions and answers, and a colorful design make this book a comprehensible companion to the mathematics curriculum.","English",22.6,16.95,"510","24 pp.",{"$f":"Table1[[#This Row],['# Books]]*Table1[[#This Row],[QTY]]","v":0},{"$f":"Table1[[#This Row],[QTY]]*Table1[[#This Row],[S&L Price]]","v":0}]
[null,48,null,"Learn My Language! Spanish",1,"Spanish Words at School","eBook",null,"978-1-4824-0335-0",2014,"January 2014",null,null,"Author","Sydney Salazar",null,null,14,14,"H",null,"Grade 1 - 2","Grade 1 - 3","It's time for clase. That means \"class\" in Spanish. Readers of this book will find it easy to learn school-oriented Spanish vocabulary in the context of a day at school. Spanish words are introduced in an accessible way amid English text, reinforcing their meaning. A key on each page aids readers in proper pronunciation, and images labeled in Spanish add further support.","English",22.6,16.95,"468","24 pp.",{"$f":"Table1[[#This Row],['# Books]]*Table1[[#This Row],[QTY]]","v":0},{"$f":"Table1[[#This Row],[QTY]]*Table1[[#This Row],[S&L Price]]","v":0}]
[null,48,null,"Learn My Language! Spanish",1,"Spanish Words at the Post Office","Library Bound Book",null,"978-1-4824-0350-3",2014,"January 2014","Library","7.000 X 7.000","Author","Roman Patrick",null,null,14,14,"H",null,"Grade 1 - 2","Grade 1 - 3","Using new vocabulary in everyday situations is a great way to strengthen one's understanding of a language. And a trip to the post office, or oficina de correos, provides just that kind of situation in this book, an introduction to Spanish. Readers will tag along as the narrator takes mail to the post office and teaches various Spanish terms along the way. Pronunciations for each term are provided in a key in each chapter.","English",22.6,16.95,"468","24 pp.",{"$f":"Table1[[#This Row],['# Books]]*Table1[[#This Row],[QTY]]","v":0},{"$f":"Table1[[#This Row],[QTY]]*Table1[[#This Row],[S&L Price]]","v":0}]
[null,48,null,"Learn My Language! Spanish",1,"Spanish Words at the Zoo","Interactive eBook","Flash","978-1-4824-0357-2",2014,"January 2014",null,null,"Author","Nora Dee",null,null,14,14,"H",null,"Grade 1 - 2","Grade 1 - 3","A school trip to the zoo is the entertaining setting for learning high-interest Spanish vocabulary in this fun book. Readers will love knowing the Spanish words for their favorite animals, such as the jirafa (giraffe) and oso (bear). Pronunciations and a word key in each chapter further reinforce the terms, as well as carefully chosen, labeled photographs.","English",33.25,24.95,"468","24 pp.",{"$f":"Table1[[#This Row],['# Books]]*Table1[[#This Row],[QTY]]","v":0},{"$f":"Table1[[#This Row],[QTY]]*Table1[[#This Row],[S&L Price]]","v":0}]
[null,48,null,"Learn My Language! Spanish",1,"Spanish Words in the House","Library Bound Book",null,"978-1-4824-0360-2",2014,"January 2014","Library","7.000 X 7.000","Author","Robert Kennedy",null,null,14,14,"H",null,"Grade 1 - 2","Grade 1 - 3","The easiest way to learn a new language is to use the vocabulary in real life as often as possible. In this book, readers are invited into a casa, or house, and learn Spanish terms that they can practice every day in their own casa. Spanish words are introduced in an accessible way, reinforced with a pronunciation guide, and featured in photographs.","English",22.6,16.95,"468","24 pp.",{"$f":"Table1[[#This Row],['# Books]]*Table1[[#This Row],[QTY]]","v":0},{"$f":"Table1[[#This Row],[QTY]]*Table1[[#This Row],[S&L Price]]","v":0}]
[null,48,null,"Learn My Language! Spanish",1,"Spanish Words on the Road","Interactive eBook","Flash","978-1-4824-0367-1",2014,"January 2014",null,null,"Author","Julia Salazar",null,null,14,14,"H",null,"Grade 1 - 2","Grade 1 - 3","Spanish is especially fun to learn on vacation. Readers are invited to hit the road in this introduction to some key Spanish vocabulary. They'll see a motocicleta (motorcycle), a lago (lake), and a venado (deer) on the way to their destination. Pronunciations, word keys, and labeled photographs add support for the accessible text. Readers will be practicing Spanish whenever they're on the road.","English",33.25,24.95,"468","24 pp.",{"$f":"Table1[[#This Row],['# Books]]*Table1[[#This Row],[QTY]]","v":0},{"$f":"Table1[[#This Row],[QTY]]*Table1[[#This Row],[S&L Price]]","v":0}]
[null,49,null,"Measure It!",1,"Measuring Speed","Library Bound Book",null,"978-1-4824-3866-6",2016,"January 2016","Library","7.000 X 7.000","Author","T. Baer",3.4,0.5,null,null,"H",null,"Grade 1 - 2","Grade 1 - 3","When a bird flies by a window or a car zooms by on the highway, we often wonder how fast the two objects traveled. This book explains the concept of speed to readers while showing them accessible ways to measure it for themselves. Learning the amount of distance traveled, and how quickly that distance was covered, is a great way to implement a variety of STEM topics while practicing this essential mathematical skill.","English",22.6,16.95,"531'.112—dc23","24 pp.",{"$f":"Table1[[#This Row],['# Books]]*Table1[[#This Row],[QTY]]","v":0},{"$f":"Table1[[#This Row],[QTY]]*Table1[[#This Row],[S&L Price]]","v":0}]
[null,49,null,"Measure It!",1,"Measuring Volume","eBook",null,"978-1-4824-3875-8",2016,"January 2016",null,null,"Author","T. Baer",3.9,0.5,null,null,"H",null,"Grade 1 - 2","Grade 1 - 3","Volume is the amount of space a liquid takes up in a container. This engaging book takes a look at how to measure volume and why it’s useful. Whether using the displacement method or simple containers marked with measurements, there are many different ways to measure liquids. Readers will learn to measure volume in both U.S. and International measurements to further their learning and ensure they can measure volume no matter what kind of container they use.","English",22.6,16.95,"516.1—dc23","24 pp.",{"$f":"Table1[[#This Row],['# Books]]*Table1[[#This Row],[QTY]]","v":0},{"$f":"Table1[[#This Row],[QTY]]*Table1[[#This Row],[S&L Price]]","v":0}]
[null,49,null,"Measure It!",1,"Measuring Weight","Library Bound Book",null,"978-1-4824-3878-9",2016,"January 2016","Library","7.000 X 7.000","Author","T. Baer",3.3,0.5,null,null,"H",null,"Grade 1 - 2","Grade 1 - 3","It’s usually rude to ask how much someone weighs, but in science it’s an important thing to know! Readers learn how to measure weight in a variety of different ways, from ounces or grams used for small measurements, pounds or kilograms used to measure people, and tons and metric tons we used to measure larger loads. Using simple text to explain scientific and engineering principles fulfills STEM course requirements in a fun and engaging way and colorful photographs and graphics make the content even more accessible.","English",22.6,16.95,"530.8--dc23","24 pp.",{"$f":"Table1[[#This Row],['# Books]]*Table1[[#This Row],[QTY]]","v":0},{"$f":"Table1[[#This Row],[QTY]]*Table1[[#This Row],[S&L Price]]","v":0}]
[null,50,null,"Everyday Mysteries",1,"How Is Paper Made?","Library Bound Book",null,"978-1-4824-3823-9",2016,"January 2016","Library","7.000 X 7.000","Author","Demi Jackson",3.1,0.5,null,null,"H",null,"Grade 1 - 2","Grade 1 - 3","The ancient Chinese began making paper about 2,000 years ago. The basic process they created has been used throughout history. However, paper companies today use machines and can make a lot of paper at once instead of just one sheet at a time. Readers track papermaking from cutting down trees and making pulp with the wood to the final product we can use for writing. Full-color photographs show the papermaking process step by step, and an illustrated diagram simplifies it further for readers to review after reading the main content.","English",22.6,16.95,"676—dc23","24 pp.",{"$f":"Table1[[#This Row],['# Books]]*Table1[[#This Row],[QTY]]","v":0},{"$f":"Table1[[#This Row],[QTY]]*Table1[[#This Row],[S&L Price]]","v":0}]
[null,50,null,"Everyday Mysteries",1,"What Makes Fire Burn?","eBook",null,"978-1-4824-3847-5",2016,"January 2016",null,null,"Author","Walter LaPlante",2.9,0.5,null,null,"J",null,"Grade 1 - 2","Grade 1 - 3","There are a lot of ways to start a fire: flint and steel, matches, a magnifying glass and sunlight. However it starts, all fire needs oxygen, fuel, and heat. To some, it may almost seem like magic, but there’s a complicated chemical reaction taking place when a fire is lit! Readers learn what makes fire burn simply through age-appropriate language and content. Full-color photographs complement the main content and are followed by an illustrated graphic organizer that shows the process step-by-step.","English",22.6,16.95,"541.361—dc23","24 pp.",{"$f":"Table1[[#This Row],['# Books]]*Table1[[#This Row],[QTY]]","v":0},{"$f":"Table1[[#This Row],[QTY]]*Table1[[#This Row],[S&L Price]]","v":0}]
[null,50,null,"Everyday Mysteries",1,"Where Does the Bathwater Go?","Library Bound Book",null,"978-1-4339-6321-6",2012,"January 2012","Library","7.000 X 7.000","Author","Daisy Allyn",3,0.5,18,20,"J","680L","Grade 2","Grade 2 - 4","Running water is something many people take for granted. Readers will learn where our clean water comes from, where the bathwater goes, and more with the help of this valuable resource. Colorful photographs and clarifying diagrams take readers where they never thought they’d ever go—down the drain and beneath the neighborhood.","English",22.6,16.95,"628.3","24 pp.",{"$f":"Table1[[#This Row],['# Books]]*Table1[[#This Row],[QTY]]","v":0},{"$f":"Table1[[#This Row],[QTY]]*Table1[[#This Row],[S&L Price]]","v":0}]
[null,50,null,"Everyday Mysteries",1,"Where Does the Mail Go?","eBook",null,"978-1-4339-6330-8",2012,"January 2012",null,null,"Author","Koston Meyer",3.1,0.5,18,20,"I",null,"Grade 2","Grade 2 - 4","Readers will follow the mail as it goes through the post office and processing plant, where it’s prepared for the rest of its journey. The informative text and accompanying photographs in this book bring readers along for the incredible trip. A concluding diagram helps readers summarize what they’ve read using fun and colorful images.","English",22.6,16.95,"383","24 pp.",{"$f":"Table1[[#This Row],['# Books]]*Table1[[#This Row],[QTY]]","v":0},{"$f":"Table1[[#This Row],[QTY]]*Table1[[#This Row],[S&L Price]]","v":0}]
[null,50,null,"Everyday Mysteries",1,"Where Does the Recycling Go?","eBook",null,"978-1-4339-6334-6",2012,"January 2012",null,null,"Author","John M. Shea",3.5,0.5,18,20,"J","730L","Grade 2","Grade 2 - 4","Recycling is a great way to help take care of the planet. Many people recycle glass, paper, metal, and plastic instead of throwing it into the garbage. Inside this informative volume, readers will see up-close how recyclable garbage is transformed into new products. A fast-fact chart helps readers understand the importance of recycling.","English",22.6,16.95,"628.4","24 pp.",{"$f":"Table1[[#This Row],['# Books]]*Table1[[#This Row],[QTY]]","v":0},{"$f":"Table1[[#This Row],[QTY]]*Table1[[#This Row],[S&L Price]]","v":0}]
[null,51,null,"Fantastic Farm Machines",6,"Fantastic Farm Machines","Library Set",null,"978-1-4824-4519-0",2017,"August 2016","Library","7.000 X 7.000",null,"",null,null,null,null,null,null,"Grade 1 - 2","Grade 1 - 3","When farm machines get to work, the roar of the engines and the immensity of moving parts transfix passersby. Essential equipment such as cultivators, planters, and tractors are among young readers’ favorite big machines. In combination with vivid, instructive photographs, these fun books inform on how certain pieces of farm equipment operate, as well as why they’re so important to farming today. This motivating series will become a favorite for future farmers and lovers of all things that go!","English",135.6,101.7,null,"24 pp.",{"$f":"Table1[[#This Row],['# Books]]*Table1[[#This Row],[QTY]]","v":0},{"$f":"Table1[[#This Row],[QTY]]*Table1[[#This Row],[S&L Price]]","v":0}]
[null,51,null,"Fantastic Farm Machines",1,"Harvesters","Library Bound Book",null,"978-1-4824-4583-1",2017,"August 2016","Library","7.000 X 7.000","Author","S. M. Maimone",3.3,0.5,null,null,"K",null,"Grade 1 - 2","Grade 1 - 3","After the crops are grown, it’s harvest time. On large farms, this is a huge job. Luckily, there are some huge machines to help out. Harvesters are devices that pick crops and sometimes even sort the parts of the plant we use from those we don’t. Readers will enjoy learning about these ingenious farm machines almost as much as they’ll love seeing them at work in the field in the bright photos of this fun volume.","English",22.6,16.95,"631.3--dc23","24 pp.",{"$f":"Table1[[#This Row],['# Books]]*Table1[[#This Row],[QTY]]","v":0},{"$f":"Table1[[#This Row],[QTY]]*Table1[[#This Row],[S&L Price]]","v":0}]
[null,51,null,"Fantastic Farm Machines",1,"Harvesters","eBook",null,"978-1-4824-4577-0",2017,"August 2016",null,null,"Author","S. M. Maimone",3.3,0.5,null,null,"K",null,"Grade 1 - 2","Grade 1 - 3","After the crops are grown, it’s harvest time. On large farms, this is a huge job. Luckily, there are some huge machines to help out. Harvesters are devices that pick crops and sometimes even sort the parts of the plant we use from those we don’t. Readers will enjoy learning about these ingenious farm machines almost as much as they’ll love seeing them at work in the field in the bright photos of this fun volume.","English",22.6,16.95,"631.3--dc23","24 pp.",{"$f":"Table1[[#This Row],['# Books]]*Table1[[#This Row],[QTY]]","v":0},{"$f":"Table1[[#This Row],[QTY]]*Table1[[#This Row],[S&L Price]]","v":0}]
[null,51,null,"Fantastic Farm Machines",1,"Tractors","Library Bound Book",null,"978-1-4824-4586-2",2017,"August 2016","Library","7.000 X 7.000","Author","E. T. Weingarten",3.2,0.5,null,null,"I",null,"Grade 1 - 2","Grade 1 - 3","Tractors are one of the most useful and utilized machines on a farm. These valuable vehicles are designed to pull heavy loads as well as other machines that help farmers in a variety of ways. Readers will love seeing some impressive tractors at work in this accessible volume. They’ll learn the essential parts of tractors and a few of their important loads and attachments. Colorful photographs and key agricultural ideas help make this book a beneficial resource.","English",22.6,16.95,"631.3/72--dc23","24 pp.",{"$f":"Table1[[#This Row],['# Books]]*Table1[[#This Row],[QTY]]","v":0},{"$f":"Table1[[#This Row],[QTY]]*Table1[[#This Row],[S&L Price]]","v":0}]
[null,51,null,"Know Your Body",1,"Your Brain","Library Bound Book",null,"978-1-4824-4436-0",2017,"August 2016","Library","7.000 X 7.000","Author","Cyril Bassington",3.2,0.5,null,null,"K",null,"Grade 1 - 2","Grade 1 - 3","The amazing brain can send signals to body parts at a speed of 200 miles (322 km) per hour! That comes in handy when someone is in danger or needs to move fast. Readers will appreciate the mysterious, fascinating organ in their skull known as the brain as they learn about the five main parts of the brain and their special functions. They’ll also find out what they can do to keep their brain working well. Simple illustrations and bright photographs make this volume a fun and informative introduction to the nervous system.","English",22.6,16.95,"612.8'2—dc23","24 pp.",{"$f":"Table1[[#This Row],['# Books]]*Table1[[#This Row],[QTY]]","v":0},{"$f":"Table1[[#This Row],[QTY]]*Table1[[#This Row],[S&L Price]]","v":0}]
[null,51,null,"Know Your Body",1,"Your Heart","eBook",null,"978-1-4824-4417-9",2017,"August 2016",null,null,"Author","Cyril Bassington",3.1,0.5,null,null,"K",null,"Grade 1 - 2","Grade 1 - 3","The heart carries oxygen-rich blood to our cells every second of our lives, and we don’t even have to do much to keep this muscular organ moving. Incredibly, it only takes about 60 seconds to pump blood to every cell in the entire body! This fun fact and many more are found in this informative volume. Readers will learn about the different chambers of the heart, the path of blood through it, and how it works with blood vessels. Supportive illustrations, vivid photographs, and essential vocabulary make this a must-read introduction to the circulatory system.","English",22.6,16.95,"612.1'7—dc23","24 pp.",{"$f":"Table1[[#This Row],['# Books]]*Table1[[#This Row],[QTY]]","v":0},{"$f":"Table1[[#This Row],[QTY]]*Table1[[#This Row],[S&L Price]]","v":0}]
[null,51,null,"Know Your Body",1,"Your Muscles","eBook",null,"978-1-4824-4419-3",2017,"August 2016",null,null,"Author","George Fittleworth",3.1,0.5,null,null,"J",null,"Grade 1 - 2","Grade 1 - 3","All our movements depend on our amazing muscles. In this lively volume, readers will discover how the three kinds of muscles—skeletal, cardiac, and smooth—work in collaboration with their other body parts to keep them moving. They’ll learn what extraordinary machines the human body’s more than 600 muscles are as well as how to keep them healthy and toned. Accessible text and supporting diagrams and photographs make this book a valuable tool in addressing an important topic of the elementary science curriculum.","English",22.6,16.95,"612.7'4—dc23","24 pp.",{"$f":"Table1[[#This Row],['# Books]]*Table1[[#This Row],[QTY]]","v":0},{"$f":"Table1[[#This Row],[QTY]]*Table1[[#This Row],[S&L Price]]","v":0}]
[null,52,null,"Cycles in Nature",1,"A Butterfly's Life Cycle","eBook",null,"978-1-4824-1653-4",2016,"August 2015",null,null,"Author","George Pendergast",3.1,0.5,null,null,"J","660L","Grade 1 - 2","Grade 1 - 3","The life cycle of a butterfly makes for a captivating journey, and readers will love learning the step-by-step process each creature takes to go from caterpillar to butterfly in this exciting book. Each stage is explained in detail, with photographs to show the incredible change each caterpillar undergoes before flying away from its cocoon. Learning about the chrysalis and other scientific terms that describe the life cycle will help expand science vocabulary and further readers’ understanding of the patterns and cycles of the world around them.","English",22.6,16.95,"595.78","24 pp.",{"$f":"Table1[[#This Row],['# Books]]*Table1[[#This Row],[QTY]]","v":0},{"$f":"Table1[[#This Row],[QTY]]*Table1[[#This Row],[S&L Price]]","v":0}]
[null,52,null,"Cycles in Nature",1,"The Phases of the Moon","Library Bound Book",null,"978-1-4824-1662-6",2016,"August 2015","Library","7.000 X 7.000","Author","George Pendergast",3.1,0.5,null,null,"I","660L","Grade 1 - 2","Grade 1 - 3","For many years people wondered why the moon seemed to change shape. Now we know that the moon isn’t changing, but rather what we can see of it is constantly changing. It, too, follows a pattern we see over and over again from month to month. Readers will love learning about the eight phases of the moon and why, even though the sun always lights the moon, we can’t always see it!","English",22.6,16.95,"523.3","24 pp.",{"$f":"Table1[[#This Row],['# Books]]*Table1[[#This Row],[QTY]]","v":0},{"$f":"Table1[[#This Row],[QTY]]*Table1[[#This Row],[S&L Price]]","v":0}]
[null,52,null,"Cycles in Nature",1,"The Water Cycle at Work","eBook",null,"978-1-4824-1673-2",2016,"August 2015",null,null,"Author","George Pendergast",3.1,0.5,null,null,"J","670L","Grade 1 - 2","Grade 1 - 3","Water is essential for life, but where does it come from? This exciting book dives into that question to explain to readers exactly what happens in the water cycle. From underground springs that feed rivers and lakes to ocean water, it all helps create the clouds that move water particles from place to place. The way water moves around changes the landscape, temperature, and climate all around the world, and readers learn how this much-needed cycle impacts their lives every day.","English",22.6,16.95,"551.48","24 pp.",{"$f":"Table1[[#This Row],['# Books]]*Table1[[#This Row],[QTY]]","v":0},{"$f":"Table1[[#This Row],[QTY]]*Table1[[#This Row],[S&L Price]]","v":0}]
[null,52,null,"Stories in the Stars",6,"Stories in the Stars","Library Set",null,"978-1-4824-2542-0",2016,"August 2015","Library","7.000 X 7.000",null,"",null,null,null,null,null,null,"Grade 1 - 2","Grade 1 - 3","Stargazing is taken to the next level when the spectator can locate constellations in the night sky and remember the epic heroes and intriguing legends behind each. This illuminating series highlights some of the most celebrated constellations, such as Hercules, the Great Bear, and Cassiopeia. Readers will learn what the constellation looks like and the stories connected to each through accessible text, vivid photos, and intriguing illustrations. Astronomy and mythology intermingle in these fascinating volumes.\n\n\n\n\n•\tIdentifying stars and other celestial objects are an important part of the elementary science curriculum\n\n\n•\tHigh-interest stories and comprehensible text attract readers of all levels\n\n\n• \tProvides opportunities to consider how images contribute to and clarify text, a facet of the Common Core English/Language Arts Standards\n","English",135.6,101.7,null,"24 pp.",{"$f":"Table1[[#This Row],['# Books]]*Table1[[#This Row],[QTY]]","v":0},{"$f":"Table1[[#This Row],[QTY]]*Table1[[#This Row],[S&L Price]]","v":0}]
[null,52,null,"Stories in the Stars",1,"The Story of Pegasus","eBook",null,"978-1-4824-2680-9",2016,"August 2015",null,null,"Author","Blanche Roesser",3.2,0.5,18,null,"J",null,"Grade 1 - 2","Grade 1 - 3","Many people can identify Pegasus, the winged horse from Greek myths, but they may not know that he sprung from the head of the monster Medusa! Pegasus's important roles in myths of the heroes Perseus and Bellerophon are featured in this thrilling retelling of the famous stories. Pegasus isn't just in the pages of books, though. The Pegasus constellation is one of the largest in the night sky from the end of summer through fall. Readers will learn what the constellation looks like through photographs as well as delight in the illustrations of the myths.","English",22.6,16.95,"292.1","24 pp.",{"$f":"Table1[[#This Row],['# Books]]*Table1[[#This Row],[QTY]]","v":0},{"$f":"Table1[[#This Row],[QTY]]*Table1[[#This Row],[S&L Price]]","v":0}]
[null,52,null,"Stories in the Stars",1,"The Story of the Great Bear","Library Bound Book",null,"978-1-4824-2667-0",2016,"August 2015","Library","7.000 X 7.000","Author","Ingrid Griffin",2.9,0.5,16,null,"I",null,"Grade 1 - 2","Grade 1 - 3","Ursa Major, also known as the Great Bear, is one of the most famous constellations in the night sky. Ancient cultures thought the star formation looked like a bear, and the ancient Greeks connected the constellation to their myth of Callisto, a lovely woman who was transformed into a bear by the jealous goddess Hera. This exciting book provides an accessible introduction to the world of mythology and stargazing. Readers will also learn how to identify the Big Dipper within the Great Bear.","English",22.6,16.95,"398.20937","24 pp.",{"$f":"Table1[[#This Row],['# Books]]*Table1[[#This Row],[QTY]]","v":0},{"$f":"Table1[[#This Row],[QTY]]*Table1[[#This Row],[S&L Price]]","v":0}]
[null,53,null,"Confusing Creature Names",1,"Glowworms Are Not Worms!","Library Bound Book",null,"978-1-4824-0941-3",2015,"August 2014","Library","7.000 X 7.000","Author","Daisy Allyn",3.1,0.5,null,null,"J",null,"Grade 1 - 2","Grade 1 - 3","Glowworms are actually many different kinds of insects, and they live all over the world. While you’re probably most familiar with the glowing larvae and female adults we call fireflies, there are many other kinds of glowworms. Inside this informative and exciting guide, readers will learn where glowworms live, what they look like, and why they glow. Amazing and vivid photographs of numerous glowworms, as well as a graphic organizer, help readers comprehend the scientific text.","English",22.6,16.95,"595.76","24 pp.",{"$f":"Table1[[#This Row],['# Books]]*Table1[[#This Row],[QTY]]","v":0},{"$f":"Table1[[#This Row],[QTY]]*Table1[[#This Row],[S&L Price]]","v":0}]
[null,53,null,"Confusing Creature Names",1,"Glowworms Are Not Worms!","eBook",null,"978-1-4824-0944-4",2015,"August 2014",null,null,"Author","Daisy Allyn",3.1,0.5,null,null,"J",null,"Grade 1 - 2","Grade 1 - 3","Glowworms are actually many different kinds of insects, and they live all over the world. While you’re probably most familiar with the glowing larvae and female adults we call fireflies, there are many other kinds of glowworms. Inside this informative and exciting guide, readers will learn where glowworms live, what they look like, and why they glow. Amazing and vivid photographs of numerous glowworms, as well as a graphic organizer, help readers comprehend the scientific text.","English",22.6,16.95,"595.76","24 pp.",{"$f":"Table1[[#This Row],['# Books]]*Table1[[#This Row],[QTY]]","v":0},{"$f":"Table1[[#This Row],[QTY]]*Table1[[#This Row],[S&L Price]]","v":0}]
[null,53,null,"Confusing Creature Names",1,"Horned Toads Are Not Toads!","Library Bound Book",null,"978-1-4824-0956-7",2015,"August 2014","Library","7.000 X 7.000","Author","Wes Flynn",3,0.5,null,null,"J",null,"Grade 1 - 2","Grade 1 - 3","The horned toad has become a symbol of the southwestern United States, living mainly in desert areas. However, this misnamed creature can be found from Central Mexico all the way up to Southern Canada. Many people think it’s a toad because of its wide body and short snout, but it’s really a lizard. Readers will enjoy learning about the horned toad and the crazy ways it stays safe from predators. Color photographs of horned toads in the wild are sure to amaze readers.","English",22.6,16.95,"597.95","24 pp.",{"$f":"Table1[[#This Row],['# Books]]*Table1[[#This Row],[QTY]]","v":0},{"$f":"Table1[[#This Row],[QTY]]*Table1[[#This Row],[S&L Price]]","v":0}]
[null,53,null,"I'm Allergic",1,"I'm Allergic to Bees","Library Bound Book",null,"978-1-4824-0787-7",2015,"August 2014","Library","7.000 X 7.000","Author","Kristen Rajczak Nelson",null,null,16,null,"I",null,"Grade 1 - 2","Grade 1 - 3","In the United States, about 2 million people are allergic to bee stings. If not treated properly and promptly, serious reactions can be life threatening. Readers learn what to do if they or a friend are stung by a bee and have a normal reaction, as well as what to look for if an allergic reaction is occurring. The basics of allergies are clearly explained through age-appropriate science content, and the seriousness of these conditions is emphasized. Full-color photographs of normal and allergic reactions to bee stings prepare readers further for any situation they may face.","English",22.6,16.95,"616.97","24 pp.",{"$f":"Table1[[#This Row],['# Books]]*Table1[[#This Row],[QTY]]","v":0},{"$f":"Table1[[#This Row],[QTY]]*Table1[[#This Row],[S&L Price]]","v":0}]
[null,53,null,"I'm Allergic",1,"I'm Allergic to Peanuts","eBook",null,"978-1-4824-0977-2",2015,"August 2014",null,null,"Author","Maria Nelson",null,null,16,null,"I",null,"Grade 1 - 2","Grade 1 - 3","Peanut allergies can be very serious. They’re the most common food allergy to cause anaphylaxis in children. There is a blood test and a skin prick test to confirm a peanut allergy, but no cure. The only way to avoid a reaction is to stay away from peanuts altogether. Readers learn the potential severity of peanut allergies and the symptoms one might experience. Full-color images alert them to food packaging labels and the possibility of peanuts on ingredients lists. Readers’ new understanding of peanut allergies and knowledge of symptoms could help save a friend’s or family member’s life.","English",22.6,16.95,"618.92","24 pp.",{"$f":"Table1[[#This Row],['# Books]]*Table1[[#This Row],[QTY]]","v":0},{"$f":"Table1[[#This Row],[QTY]]*Table1[[#This Row],[S&L Price]]","v":0}]
[null,53,null,"I'm Allergic",1,"I'm Allergic to Pets","eBook",null,"978-1-4824-0982-6",2015,"August 2014",null,null,"Author","Maria Nelson",null,null,16,null,"I",null,"Grade 1 - 2","Grade 1 - 3","Millions of people have cats and dogs. Still, many people have pet allergies. While these allergies can often be treated by medicines or allergy shots, it’s tough to find out the cause of your sneezing is the beloved family pet! Readers learn the causes of pet allergies and the common reactions they cause. Colorful photographs of cute and cuddly pets accompany practical advice on living with pet allergies, including some ways to decrease reactions.","English",22.6,16.95,"616.97","24 pp.",{"$f":"Table1[[#This Row],['# Books]]*Table1[[#This Row],[QTY]]","v":0},{"$f":"Table1[[#This Row],[QTY]]*Table1[[#This Row],[S&L Price]]","v":0}]
[null,54,null,"My Body Does Strange Stuff!",12,"My Body Does Strange Stuff!","Library Set",null,"978-1-4824-0609-2",2014,"January 2014","Library","7.000 X 7.000",null,"",null,null,null,null,null,null,"Grade 1 - 2","Grade 1 - 3","Our bodies do some pretty strange things—yawning, crying, sneezing, burps and bruises. Our bodies may seem gross at times, but they do all these things for very good reasons. Inside the books in this series, manageable, scientific text guides reader through a crash course in human physiology. Color photographs and illustrations help readers grasp potentially difficult topics.   • Simple diagrams guide readers in understanding main topic   • Graphic organizers aid comprehension  • Science topics are presented in clear, easy-to-understand language    ","English",271.2,203.4,null,"24 pp.",{"$f":"Table1[[#This Row],['# Books]]*Table1[[#This Row],[QTY]]","v":0},{"$f":"Table1[[#This Row],[QTY]]*Table1[[#This Row],[S&L Price]]","v":0}]
[null,54,null,"My Body Does Strange Stuff!",1,"How Do Hair and Nails Grow?","eBook",null,"978-1-4824-0248-3",2014,"January 2014",null,null,"Author","Thomas Young",null,null,16,15,"I",null,"Grade 1 - 2","Grade 1 - 3","Did you know that hair and nails are actually forms of skin? In this book, readers will learn this and many other intriguing facts about our nails and hair. Colorful photographs and illustrations help readers understand this important science topic, and a graphic organizer helps them remember important facts from the text.","English",22.6,16.95,"612.7","24 pp.",{"$f":"Table1[[#This Row],['# Books]]*Table1[[#This Row],[QTY]]","v":0},{"$f":"Table1[[#This Row],[QTY]]*Table1[[#This Row],[S&L Price]]","v":0}]
[null,54,null,"My Body Does Strange Stuff!",1,"What Happens When I Cough?","Library Bound Book",null,"978-1-4339-9333-6",2014,"August 2013","Library","7.000 X 7.000","Author","Benjamin Herbst",3.2,0.5,16,15,"I",null,"Grade 1 - 2","Grade 1 - 3","Having a cough that won’t go away can be really annoying. Sometimes it’s a cold that makes you cough, and some people with allergies cough a lot! However, there are other reasons for coughing, too. Readers learn about the human body and what causes us to cough. The accessible text is paired with relatable photographs to help readers better understand the topic, and in turn, their bodies.","English",22.6,16.95,"612.7","24 pp.",{"$f":"Table1[[#This Row],['# Books]]*Table1[[#This Row],[QTY]]","v":0},{"$f":"Table1[[#This Row],[QTY]]*Table1[[#This Row],[S&L Price]]","v":0}]
[null,54,null,"My Body Does Strange Stuff!",1,"What Happens When I Cough?","eBook",null,"978-1-4339-9336-7",2014,"August 2013",null,null,"Author","Benjamin Herbst",3.2,0.5,16,15,"I",null,"Grade 1 - 2","Grade 1 - 3","Having a cough that won’t go away can be really annoying. Sometimes it’s a cold that makes you cough, and some people with allergies cough a lot! However, there are other reasons for coughing, too. Readers learn about the human body and what causes us to cough. The accessible text is paired with relatable photographs to help readers better understand the topic, and in turn, their bodies.","English",22.6,16.95,"612.7","24 pp.",{"$f":"Table1[[#This Row],['# Books]]*Table1[[#This Row],[QTY]]","v":0},{"$f":"Table1[[#This Row],[QTY]]*Table1[[#This Row],[S&L Price]]","v":0}]
[null,54,null,"My Body Does Strange Stuff!",1,"What Happens When I Hiccup?","Library Bound Book",null,"978-1-4339-9338-1",2014,"August 2013","Library","7.000 X 7.000","Author","Daisy Allyn",3.1,0.5,18,17,"J",null,"Grade 1 - 2","Grade 1 - 3","Everybody knows how annoying hiccups can be. They interrupt us when we’re trying to talk, read, do homework, and even sleep! But what causes hiccups? Readers discover the answer to that question inside this book. They also learn some interesting ways to cure hiccups. Colorful photographs are paired with accessible text to help readers understand this relatable scientific topic.","English",22.6,16.95,"612.74","24 pp.",{"$f":"Table1[[#This Row],['# Books]]*Table1[[#This Row],[QTY]]","v":0},{"$f":"Table1[[#This Row],[QTY]]*Table1[[#This Row],[S&L Price]]","v":0}]
[null,54,null,"My Body Does Strange Stuff!",1,"What Happens When I Sneeze?","Interactive eBook","HTML5","978-1-4339-9346-6",2014,"August 2013",null,null,"Author","Madison Miller",3.2,0.5,18,17,"J",null,"Grade 1 - 2","Grade 1 - 3","Ah-CHOO! That’s right—everybody sneezes, whether its because of smoke, a cold, allergies, or just too much pepper on your food. Through accessible text, readers learn the science behind sneezing, and what goes on inside their bodies when they sneeze. Also addressed is why it's so important to your health to cover your mouth when you sneeze. Vibrant photographs and diagrams help readers further understand the scientific yet relatable text.","English",33.25,24.95,"612.2","24 pp.",{"$f":"Table1[[#This Row],['# Books]]*Table1[[#This Row],[QTY]]","v":0},{"$f":"Table1[[#This Row],[QTY]]*Table1[[#This Row],[S&L Price]]","v":0}]
[null,54,null,"My Body Does Strange Stuff!",1,"What Happens When I Throw Up?","Interactive eBook","HTML5","978-1-4339-9356-5",2014,"August 2013",null,null,"Author","Greg Roza",3.4,0.5,16,15,"I",null,"Grade 1 - 2","Grade 1 - 3","There are many colorful terms for throwing up: puke, upchuck, spew, and lose your lunch, to name just a few. The words may sound funny, but anyone who has ever been sick will tell you there’s nothing funny about throwing up! This \"gross\" topic will fascinate readers, teaching them the science behind vomit and what causes it. Appropriate, relatable photographs and helpful diagrams complement the scientific yet accessible text.","English",33.25,24.95,"612.3","24 pp.",{"$f":"Table1[[#This Row],['# Books]]*Table1[[#This Row],[QTY]]","v":0},{"$f":"Table1[[#This Row],[QTY]]*Table1[[#This Row],[S&L Price]]","v":0}]
[null,54,null,"My Body Does Strange Stuff!",1,"What Happens When I Yawn?","Library Bound Book",null,"978-1-4339-9357-2",2014,"August 2013","Library","7.000 X 7.000","Author","Aleaha Schwinn",3.4,0.5,18,17,"J",null,"Grade 1 - 2","Grade 1 - 3","Why do people yawn? Is it because we need oxygen? Or do we yawn to cool off our brain? The answer is, scientists aren’t totally sure just yet, but they have many great theories. The vibrant photographs and diagrams in this book help demonstrate what happens in the body when we yawn. The scientific yet accessible text was designed to both interest and enlighten readers of all ages.","English",22.6,16.95,"612.8","24 pp.",{"$f":"Table1[[#This Row],['# Books]]*Table1[[#This Row],[QTY]]","v":0},{"$f":"Table1[[#This Row],[QTY]]*Table1[[#This Row],[S&L Price]]","v":0}]
[null,54,null,"My Body Does Strange Stuff!",1,"What Makes Me Stinky?","Interactive eBook","Flash","978-1-4824-0303-9",2014,"January 2014",null,null,"Author","Wes Flynn",null,null,16,15,"I",null,"Grade 1 - 2","Grade 1 - 3","As people grow up, they become more active and often get involved in physical activities. This can make us sweat, and sweating can make us stink! In this book, readers will discover how exactly sweat can make us stinky. Straightforward images of age-appropriate kids, as well as a helpful graphic organizer, helps make a potentially difficult science topic accessible and fun.","English",33.25,24.95,"613","24 pp.",{"$f":"Table1[[#This Row],['# Books]]*Table1[[#This Row],[QTY]]","v":0},{"$f":"Table1[[#This Row],[QTY]]*Table1[[#This Row],[S&L Price]]","v":0}]
[null,55,null,"The History of Our Holidays",1,"April Fools' Day: What a Joke!","Library Bound Book",null,"978-1-4824-3884-0",2016,"January 2016","Library","7.000 X 7.000","Author","Theodore Jones",3,0.5,null,null,"I",null,"Grade 1 - 2","Grade 1 - 3","“April Fools!” For anyone who’s even been the victim of an April Fools’ Day joke or who’s planning to pull the best prank yet, this fun book takes them inside the possible origins of an amusing holiday. Similar holidays have been practiced for centuries by several cultures, including the ancient Romans. Colorful photographs of celebrations around the world as well as snapshots of the funniest pranks will have readers laughing. No fooling!","English",22.6,16.95,"394.262—dc23","24 pp.",{"$f":"Table1[[#This Row],['# Books]]*Table1[[#This Row],[QTY]]","v":0},{"$f":"Table1[[#This Row],[QTY]]*Table1[[#This Row],[S&L Price]]","v":0}]
[null,55,null,"The History of Our Holidays",1,"Halloween's Spooky History","eBook",null,"978-1-4824-3893-2",2016,"January 2016",null,null,"Author","Theodore Jones",3.1,0.5,null,null,"I",null,"Grade 1 - 2","Grade 1 - 3","Costumes, jack-o’-lanterns, and trick-or-treating—these are all parts of the modern traditions of Halloween. Readers might wonder where this strange but fun holiday came from. This informative volume has the surprising answers. Both ancient beliefs and modern customs are covered in this comprehensible guide to Halloween’s history. Colorful, informative photographs support and enhance the text.","English",22.6,16.95,"394.2646—dc23","32 pp.",{"$f":"Table1[[#This Row],['# Books]]*Table1[[#This Row],[QTY]]","v":0},{"$f":"Table1[[#This Row],[QTY]]*Table1[[#This Row],[S&L Price]]","v":0}]
[null,55,null,"The History of Our Holidays",1,"The History of Juneteenth","Library Bound Book",null,"978-1-4824-3896-3",2016,"January 2016","Library","7.000 X 7.000","Author","Maximilian Smith",3.8,0.5,null,null,"J",null,"Grade 1 - 2","Grade 1 - 3","Juneteenth is usually celebrated on June 19. It honors the day in 1865 when Union troops swept into Galveston, Texas, and told the elated slaves there that they were free. This accessible volume delves into the American Civil War, the Emancipation Proclamation, and the events that led to this special holiday for African Americans and everyone who celebrates the end of slavery in the United States. Carefully chosen photographs reflect this special commemoration, both in the past and today.","English",22.6,16.95,"394.263—dc23","32 pp.",{"$f":"Table1[[#This Row],['# Books]]*Table1[[#This Row],[QTY]]","v":0},{"$f":"Table1[[#This Row],[QTY]]*Table1[[#This Row],[S&L Price]]","v":0}]
[null,55,null,"The History of Our Holidays",1,"What Is Groundhog Day?","eBook",null,"978-1-4824-3835-2",2016,"January 2016",null,null,"Author","Maximilian Smith",null,null,null,null,"J",null,"Grade 1 - 2","Grade 1 - 3","Each year on February 2, thousands of people descend on the small town of Punxsutawney, Pennsylvania. They await the weather predictions of a furry little groundhog called Punxsutawney Phil. He’s said to be able to correctly forecast if there will be 6 more weeks of winter or if spring will come early. Readers of this charming volume will learn how this tradition got started and just how accurate Phil has been over the years.","English",22.6,16.95,"394.261—dc23","32 pp.",{"$f":"Table1[[#This Row],['# Books]]*Table1[[#This Row],[QTY]]","v":0},{"$f":"Table1[[#This Row],[QTY]]*Table1[[#This Row],[S&L Price]]","v":0}]
[null,57,null,"Would You Dare?",1,"Would You Dare Fly a Fighter Jet?","eBook",null,"978-1-4824-5813-8",2017,"January 2017",null,null,"Author","Robert Kennedy",4.5999999999999996,0.5,null,null,"K",null,"Grade 1 - 2","Grade 3 - 6","From the ground, piloting a fighter jet seems thrilling—but it also requires a lot of training and body conditioning. Readers’ awe for aeronautical acrobatics will only increase as they learn about the forces at work to keep a fighter jet aloft. They’ll also learn about g-forces, ejection seats, and incredible speeds that future fighter jets may achieve. Exhilarating images, stimulating STEM concepts, and fascinating fact boxes make this high-interest volume a fun and motivating experience.","English",26.6,19.95,"623.74’64--d23","32 pp.",{"$f":"Table1[[#This Row],['# Books]]*Table1[[#This Row],[QTY]]","v":0},{"$f":"Table1[[#This Row],[QTY]]*Table1[[#This Row],[S&L Price]]","v":0}]
[null,57,null,"Would You Dare?",1,"Would You Dare Sail Around the World?","eBook",null,"978-1-4824-5829-9",2017,"January 2017",null,null,"Author","Siobhan Sisk",4.3,0.5,null,null,"K",null,"Grade 1 - 2","Grade 3 - 6","Every once in a while someone who is attempting to sail around the world is in the news—often because they need to be rescued! Navigating around the globe is not an easy task, as this adventurous volume explains. The essential equipment to conquer the seas, nautical vocabulary, and exhilarating true stories are all included in this comprehensible and exciting text, accompanied by illuminating and impressive images.","English",26.6,19.95,"797.1’24--dc23","32 pp.",{"$f":"Table1[[#This Row],['# Books]]*Table1[[#This Row],[QTY]]","v":0},{"$f":"Table1[[#This Row],[QTY]]*Table1[[#This Row],[S&L Price]]","v":0}]
[null,57,null,"Would You Dare?",1,"Would You Dare Walk Across Niagara Falls?","Library Bound Book",null,"978-1-4824-5832-9",2017,"January 2017","Library","6.500 X 9.125","Author","Siobhan Sisk",4.2,0.5,null,null,"J",null,"Grade 1 - 2","Grade 3 - 6","In 2012, Nik Wallenda became the first person to tightrope-walk over Niagara Falls. He braved high winds and spray from the mighty flowing waters while doing so. Many marveled at the feat and wondered how it was possible. Wallenda’s story as well as tales of others who attempted the jaw-dropping deed are included in this high-interest text. Spine-tingling photographs and fun fact boxes are sure to amaze and delight readers.","English",26.6,16.95,"971.3’39--dc23","32 pp.",{"$f":"Table1[[#This Row],['# Books]]*Table1[[#This Row],[QTY]]","v":0},{"$f":"Table1[[#This Row],[QTY]]*Table1[[#This Row],[S&L Price]]","v":0}]
[null,58,null,"Mighty Military Machines",1,"Aircraft Carriers","Library Bound Book",null,"978-1-4824-2107-1",2015,"January 2015","Library","6.500 X 9.125","Author","Ryan Nagelhout",4.7,0.5,null,null,"I",null,"Grade 1","Grade 3 - 6","Aircraft carriers are gigantic ships that thousands of people call home. These huge floating cities have their own barbershops and are used to move people and planes all around the world. Readers will love exploring the decks of these monstrous military machines, learning how planes take off and land on the flight deck, and how everything is controlled from the “island.” They’ll also explore the newest model of aircraft carrier and what has kept these big ships moving for more than half a century!","English",25.25,18.95,"623.825","32 pp.",{"$f":"Table1[[#This Row],['# Books]]*Table1[[#This Row],[QTY]]","v":0},{"$f":"Table1[[#This Row],[QTY]]*Table1[[#This Row],[S&L Price]]","v":0}]
[null,58,null,"Mighty Military Machines",1,"Fighter Planes","eBook",null,"978-1-4824-2120-0",2015,"January 2015",null,null,"Author","Ryan Nagelhout",5.0999999999999996,0.5,null,null,"I",null,"Grade 1","Grade 3 - 6","Some of the most advanced airplanes in the world are called fighter planes. From early biplanes to supersonic jets, fighters are built to shoot planes out of the sky and move with ease at high speeds. Readers will learn about the introduction of airplanes into the army, World War II dogfights, and the incredible features of modern jets such as stealth technology. They’ll also learn about the flexibility of the latest military jets and see what’s coming next for fighter planes.","English",25.25,18.95,"623.7","32 pp.",{"$f":"Table1[[#This Row],['# Books]]*Table1[[#This Row],[QTY]]","v":0},{"$f":"Table1[[#This Row],[QTY]]*Table1[[#This Row],[S&L Price]]","v":0}]
[null,59,null,"Monsters!",12,"Monsters!","Library Set",null,"978-1-4824-4664-7",2017,"August 2016","Library","6.500 X 9.125",null,"",null,null,null,null,null,null,"Grade 1 - 2","Grade 3 - 6","There’s something universal about fearing the unknown! Tales of terrifying zombies, monstrous sea creatures, and villainous vampires exist in cultures around the world. Many monster stories can be traced to classic myths and even literature, such as Mary Wollstonecraft Shelley’s Frankenstein. Readers learn where some of the most popular monster stories come from and the differences in tales from around the world. The high-interest topics, such as Dracula and Bigfoot, are aided by colorful, imaginative images that engage even reluctant readers.","English",319.2,239.4,null,"32 pp.",{"$f":"Table1[[#This Row],['# Books]]*Table1[[#This Row],[QTY]]","v":0},{"$f":"Table1[[#This Row],[QTY]]*Table1[[#This Row],[S&L Price]]","v":0}]
[null,59,null,"Monsters!",1,"Bigfoot","Library Bound Book",null,"978-1-4824-4857-3",2017,"August 2016","Library","6.500 X 9.125","Author","Frances Nagle",null,null,null,null,"I",null,"Grade 1 - 2","Grade 3 - 6","It seems incredible that a huge, hairy human-ape could live in the forests of the Pacific Northwest without anyone knowing it’s there for sure. However, there’s still no real evidence for the existence of Bigfoot! Readers learn about the most famous Bigfoot sighting from 1967, which still hasn’t been proved to be a hoax. Full-color images illustrate how many envision Bigfoot today, as well as similar cryptids found around the world, such as the Yeti. Accessible language paired with fascinating content about a modern monster draws in even unenthusiastic readers.","English",26.6,19.95,"001.944--dc23","32 pp.",{"$f":"Table1[[#This Row],['# Books]]*Table1[[#This Row],[QTY]]","v":0},{"$f":"Table1[[#This Row],[QTY]]*Table1[[#This Row],[S&L Price]]","v":0}]
[null,59,null,"Monsters!",1,"Medusa","Library Bound Book",null,"978-1-4824-4869-6",2017,"August 2016","Library","6.500 X 9.125","Author","Frances Nagle",null,null,null,null,"I",null,"Grade 1 - 2","Grade 3 - 6","The story of Perseus beheading Medusa has been told for more than 2,000 years. Even today, images of Medusa can be found in popular culture. Through accessible language and content, readers learn the story of Medusa and the Gorgons in monstrous detail, including how Medusa may have gotten her hair turned to snakes! Full-color photographs show modern and historic depictions of this famous myth while fun fact boxes give readers context for one of the greatest monster stories in Greek mythology.","English",26.6,19.95,"398.2’0938’01--dc23","32 pp.",{"$f":"Table1[[#This Row],['# Books]]*Table1[[#This Row],[QTY]]","v":0},{"$f":"Table1[[#This Row],[QTY]]*Table1[[#This Row],[S&L Price]]","v":0}]
[null,59,null,"Monsters!",1,"Sea Creatures","eBook",null,"978-1-4824-4094-2",2016,"January 2016",null,null,"Author","Peter Castellano",null,null,null,null,"I",null,"Grade 1 - 2","Grade 3 - 6","It’s easy to imagine something lurking beneath the deep, dark waters of a loch, river, or sea. Since even today we don’t know every animal that lives deep underwater, historical accounts of fearful creatures swimming below the surface seem to have simple explanations. This book explores the many myths and legends about sea creatures, some of which are centuries old! Full-color illustrations, paintings, and more from cultures around the world showcase the extraordinary imaginations behind some of these stories. In addition, fact boxes offer readers a chance to debunk historical accounts and understand why these tales began at all.","English",26.6,19.95,"591.77—d23","32 pp.",{"$f":"Table1[[#This Row],['# Books]]*Table1[[#This Row],[QTY]]","v":0},{"$f":"Table1[[#This Row],[QTY]]*Table1[[#This Row],[S&L Price]]","v":0}]
[null,59,null,"Monsters!",1,"Vampires","Library Bound Book",null,"978-1-4824-4113-0",2016,"January 2016","Library","6.500 X 9.125","Author","Peter Castellano",null,null,null,null,"I",null,"Grade 1 - 2","Grade 3 - 6","There’s a very clear line from Bram Stoker’s Dracula to the glut of vampire stories available in bookstores today. However, tales of bloodsucking creatures predate Dracula and exist in the mythology of many cultures. Covering the history of the vampire myth as well as how it’s used today, the main content engages even reluctant readers with a high-interest topic. Full-color photographs and other images of vampires through the ages show how the depiction of this chilling creature has changed over time. Additional fact boxes add a dose of reality to a tale that’s so well known, it sometimes feels like it could be true!","English",26.6,19.95,"398'.45—dc23","32 pp.",{"$f":"Table1[[#This Row],['# Books]]*Table1[[#This Row],[QTY]]","v":0},{"$f":"Table1[[#This Row],[QTY]]*Table1[[#This Row],[S&L Price]]","v":0}]
[null,59,null,"Monsters!",1,"Vampires","eBook",null,"978-1-4824-4097-3",2016,"January 2016",null,null,"Author","Peter Castellano",null,null,null,null,"I",null,"Grade 1 - 2","Grade 3 - 6","There’s a very clear line from Bram Stoker’s Dracula to the glut of vampire stories available in bookstores today. However, tales of bloodsucking creatures predate Dracula and exist in the mythology of many cultures. Covering the history of the vampire myth as well as how it’s used today, the main content engages even reluctant readers with a high-interest topic. Full-color photographs and other images of vampires through the ages show how the depiction of this chilling creature has changed over time. Additional fact boxes add a dose of reality to a tale that’s so well known, it sometimes feels like it could be true!","English",26.6,19.95,"398'.45—dc23","32 pp.",{"$f":"Table1[[#This Row],['# Books]]*Table1[[#This Row],[QTY]]","v":0},{"$f":"Table1[[#This Row],[QTY]]*Table1[[#This Row],[S&L Price]]","v":0}]
[null,59,null,"Monsters!",1,"Zombies","Library Bound Book",null,"978-1-4824-4882-5",2017,"August 2016","Library","6.500 X 9.125","Author","Frances Nagle",null,null,null,null,"I",null,"Grade 1 - 2","Grade 3 - 6","There’s little more terrifying than being chased by a moaning creature that wants to eat your flesh! Though zombies are currently popular on TV and in movies, stories of the undead have been around for centuries. The main content introduces readers to zombie tales from many cultures around the world in grisly detail via accessible language for reluctant readers. Full-color illustrations and photographs help readers imagine these monstrous myths while fun fact boxes debunk common beliefs and offer additional context for each terrifying tale.","English",26.6,19.95,"398’.45--dc23","32 pp.",{"$f":"Table1[[#This Row],['# Books]]*Table1[[#This Row],[QTY]]","v":0},{"$f":"Table1[[#This Row],[QTY]]*Table1[[#This Row],[S&L Price]]","v":0}]
[null,59,null,"Outdoor Adventure",1,"Deer Hunting","Library Bound Book",null,"978-1-4824-1490-5",2015,"August 2014","Library","6.500 X 9.000","Author","George Pendergast",2.7,0.5,16,null,"I",null,"Grade 1","Grade 3 - 6","Patience and extreme quiet are two of the most important things needed to hunt deer. Being a good shot doesn’t hurt, either. Readers learn all about deer hunting, from the tools and equipment they’ll need to get set up to the skills necessary to bring home a big prize. With important safety information and an overview of rules and regulations, this book is a great resource for readers to develop a base knowledge of deer hunting before heading out on their own outdoor adventures!","English",25.25,18.95,"799.2","32 pp.",{"$f":"Table1[[#This Row],['# Books]]*Table1[[#This Row],[QTY]]","v":0},{"$f":"Table1[[#This Row],[QTY]]*Table1[[#This Row],[S&L Price]]","v":0}]
[null,59,null,"Outdoor Adventure",1,"Fly Fishing","Library Bound Book",null,"978-1-4824-1492-9",2015,"August 2014","Library","6.500 X 9.000","Author","George Pendergast",3.2,0.5,16,null,"I",null,"Grade 1","Grade 3 - 6","There are lots of ways to catch a fish, and fly fishing is one of the most exciting. Readers grab their wading boots and hit the shores in search of bass, trout, salmon, and more. With safety tips and an explanation of the gear they’ll need, readers learn about the different rods and equipment it takes to fly fish. Whether they’re fishing in salt or freshwater, fly fishing is a great way to spend a day, and this book is sure to get readers excited about hitting the water in search of the big one!","English",25.25,18.95,"799.12","32 pp.",{"$f":"Table1[[#This Row],['# Books]]*Table1[[#This Row],[QTY]]","v":0},{"$f":"Table1[[#This Row],[QTY]]*Table1[[#This Row],[S&L Price]]","v":0}]
[null,59,null,"Outdoor Adventure",1,"Freshwater Fishing","eBook",null,"978-1-4824-1390-8",2015,"August 2014",null,null,"Author","George Pendergast",3.4,0.5,16,null,"I",null,"Grade 1","Grade 3 - 6","Freshwater fishing is a great way to cast a line when you’re far away from the ocean. There are plenty of big fish to be found in lakes and rivers, and this exciting book will teach readers how to have a great time on the beautiful waterways where freshwater fish are found. With important safety tips and a thorough explanation of what readers will need to cast off, this book is a must-read for any outdoorsman in training!","English",25.25,18.95,"799.1","32 pp.",{"$f":"Table1[[#This Row],['# Books]]*Table1[[#This Row],[QTY]]","v":0},{"$f":"Table1[[#This Row],[QTY]]*Table1[[#This Row],[S&L Price]]","v":0}]
[null,64,null,"Fun Fact File: Animal Adaptations",1,"20 Fun Facts About Amphibian Adaptations","Library Bound Book",null,"978-1-4824-4429-2",2017,"August 2016","Library","8.500 X 8.500","Author","Emily Mahoney",5.2,0.5,null,null,"N",null,"Grade 2 - 3","Grade 2 - 5","Reptiles lay their eggs on land and most spend a lot of their time out of the water. While this is a fact today, it wasn’t always this way! Living on land is an adaptation reptiles underwent millions of years ago. Even more adaptations, such as how reptiles regulate their body temperature and their scaly skin, are more apparent to those studying crocodiles, turtles, and other reptiles in modern times. Using a unique format of short facts, this book introduces readers to the science concepts of evolution as well as the features that classify an animal as a reptile.","English",25.25,18.95,"597.802—dc23","32 pp.",{"$f":"Table1[[#This Row],['# Books]]*Table1[[#This Row],[QTY]]","v":0},{"$f":"Table1[[#This Row],[QTY]]*Table1[[#This Row],[S&L Price]]","v":0}]
[null,64,null,"Fun Fact File: Animal Adaptations",1,"20 Fun Facts About Insect Adaptations","eBook",null,"978-1-4824-4411-7",2017,"August 2016",null,null,"Author","Kristen Rajczak Nelson",5.0999999999999996,0.5,null,null,"N",null,"Grade 2 - 3","Grade 2 - 5","Insects are often the same color as their surroundings. Their mouthparts developed for exactly the food they like to eat. Grasshoppers have long, strong back legs for hopping over grass, whereas the cockroach’s long, thin legs let them run very quickly. None of this is an accident! Insects have many incredible adaptations that have made them the perfect residents of their environment. Short, easily digestible information draws readers into the insect world and introduces important science concepts. Full-color photographs allow readers to see adaptations and more up close.","English",25.25,18.95,"595.702—dc23","32 pp.",{"$f":"Table1[[#This Row],['# Books]]*Table1[[#This Row],[QTY]]","v":0},{"$f":"Table1[[#This Row],[QTY]]*Table1[[#This Row],[S&L Price]]","v":0}]
[null,64,null,"Fun Fact File: Animal Adaptations",1,"20 Fun Facts About Reptile Adaptations","Library Bound Book",null,"978-1-4824-4434-6",2017,"August 2016","Library","8.500 X 8.500","Author","Barbara M. Linde",4.5999999999999996,0.5,null,null,"N",null,"Grade 2 - 3","Grade 2 - 5","Reptiles lay their eggs on land and most spend a lot of their time out of the water. While this is a fact today, it wasn’t always this way! Living on land is an adaptation reptiles underwent millions of years ago. Even more adaptations, such as how reptiles regulate their body temperature and their scaly skin, are more apparent to those studying crocodiles, turtles, and other reptiles in modern times. Using a unique format of short facts, this book introduces readers to the science concepts of evolution as well as the features that classify an animal as a reptile.","English",25.25,18.95,"597.9—d23","32 pp.",{"$f":"Table1[[#This Row],['# Books]]*Table1[[#This Row],[QTY]]","v":0},{"$f":"Table1[[#This Row],[QTY]]*Table1[[#This Row],[S&L Price]]","v":0}]
[null,64,null,"Fun Fact File: Animal Adaptations",1,"20 Fun Facts About Reptile Adaptations","eBook",null,"978-1-4824-4414-8",2017,"August 2016",null,null,"Author","Barbara M. Linde",4.5999999999999996,0.5,null,null,"N",null,"Grade 2 - 3","Grade 2 - 5","Reptiles lay their eggs on land and most spend a lot of their time out of the water. While this is a fact today, it wasn’t always this way! Living on land is an adaptation reptiles underwent millions of years ago. Even more adaptations, such as how reptiles regulate their body temperature and their scaly skin, are more apparent to those studying crocodiles, turtles, and other reptiles in modern times. Using a unique format of short facts, this book introduces readers to the science concepts of evolution as well as the features that classify an animal as a reptile.","English",25.25,18.95,"597.9—d23","32 pp.",{"$f":"Table1[[#This Row],['# Books]]*Table1[[#This Row],[QTY]]","v":0},{"$f":"Table1[[#This Row],[QTY]]*Table1[[#This Row],[S&L Price]]","v":0}]
[null,64,null,"Fun Fact File: Sports!",1,"20 Fun Facts About Baseball","eBook",null,"978-1-4824-3968-7",2016,"January 2016",null,null,"Author","Ryan Nagelhout",null,null,null,null,"M","NC1030L","Grade 2 - 3","Grade 2 - 5","Baseball is known as America’s pastime, and it has plenty of history to explore. Readers will love learning wacky facts about baseball and discover who holds some of its most elusive records, like the rare unassisted triple play! The longest game in Major League history and some of its most amazing seasons are also explored with exciting photographs and engaging graphics to help chronicle these feats. This fast-paced book delivers readers fact after fact—just like the hardest fastball pitchers pound the strike zone with ease.","English",25.25,18.95,"796.357—dc23","32 pp.",{"$f":"Table1[[#This Row],['# Books]]*Table1[[#This Row],[QTY]]","v":0},{"$f":"Table1[[#This Row],[QTY]]*Table1[[#This Row],[S&L Price]]","v":0}]
[null,64,null,"Fun Fact File: Sports!",1,"20 Fun Facts About Soccer","Library Bound Book",null,"978-1-4824-3982-3",2016,"January 2016","Library","8.500 X 8.500","Author","Ryan Nagelhout",null,null,null,null,"M",null,"Grade 2 - 3","Grade 2 - 5","Soccer is called “the beautiful game” for a reason. It’s an amazing sport full of interesting players, teams, and records. This book takes readers onto the pitch with the greatest players ever to lace up their cleats. From the club teams of England to America’s Major League Soccer, there are great games and fascinating teams all over the world. This book covers every aspect of the game—from World Cup to FA Cup—with interesting facts and colorful photographs to reinforce the beauty of the world’s most popular sport.","English",25.25,18.95,"796.334—dc23","32 pp.",{"$f":"Table1[[#This Row],['# Books]]*Table1[[#This Row],[QTY]]","v":0},{"$f":"Table1[[#This Row],[QTY]]*Table1[[#This Row],[S&L Price]]","v":0}]
[null,64,null,"Fun Fact File: Women in History",1,"20 Fun Facts About Native American Women","eBook",null,"978-1-4824-2811-7",2016,"August 2015",null,null,"Author","Caitie McAneney",null,null,30,null,"N",null,"Grade 2 - 3","Grade 2 - 5","Many people know that some Native American tribes are matrilineal. That means that historically, women had power in governance and some control in her home life. For the European patriarchs that came to North America, that was quite a shock! Through short, surprising, and often amusing facts, readers learn the role of Native American women in their tribes. Including tribes from across North America, the main content emphasizes their daily lives, clothing, and marriage customs, and introduces important female figures in history. A colorful layout and full-color photographs showcase the power of the Native American woman, a power that still resonates today.","English",25.25,18.95,"305.48","32 pp.",{"$f":"Table1[[#This Row],['# Books]]*Table1[[#This Row],[QTY]]","v":0},{"$f":"Table1[[#This Row],[QTY]]*Table1[[#This Row],[S&L Price]]","v":0}]
[null,64,null,"Fun Fact File: Women in History",1,"20 Fun Facts About Pioneer Women","Library Bound Book",null,"978-1-4824-2806-3",2016,"August 2015","Library","8.500 X 8.500","Author","Kristen Rajczak Nelson",null,null,30,null,"N",null,"Grade 2 - 3","Grade 2 - 5","Pioneer women faced hard winters, few supplies, and loneliness once they settled on the American frontier—and that doesn’t even account for the months-long journey to their new home! During the mid-1800s, hundreds of thousands of Americans moved west as the United States expanded. From the women settling in Ohio to those striking out on their own during the California gold rush, pioneer women were a strong, courageous group. In this volume, readers encounter fun, surprising facts about pioneer women’s unique place in history. Historical images enhance this fun spin on an often overlooked era of women’s history.","English",25.25,18.95,"978","32 pp.",{"$f":"Table1[[#This Row],['# Books]]*Table1[[#This Row],[QTY]]","v":0},{"$f":"Table1[[#This Row],[QTY]]*Table1[[#This Row],[S&L Price]]","v":0}]
[null,64,null,"Fun Fact File: Women in History",1,"20 Fun Facts About Women in Ancient Greece and Rome","eBook",null,"978-1-4824-2819-3",2016,"August 2015",null,null,"Author","Kristen Rajczak Nelson",null,null,30,null,"N",null,"Grade 2 - 3","Grade 2 - 5","In recent years, scholars have taken a closer look at the women of the ancient world and found poets, landowners, athletes, and more—not just wives. However, for most women, their household was their domain and their husband their master. Readers learn about both perspectives in an engaging format of fun facts, as well as about famous women in power, important goddesses, and many other interesting details of the time period. Historical images of women in ancient Greece and Rome and full-color photographs of the places they lived enhance curriculum-supporting content and graphic organizers that further explore important concepts.","English",25.25,18.95,"305.40938","32 pp.",{"$f":"Table1[[#This Row],['# Books]]*Table1[[#This Row],[QTY]]","v":0},{"$f":"Table1[[#This Row],[QTY]]*Table1[[#This Row],[S&L Price]]","v":0}]
[null,65,null,"Fun Fact File: Space!",6,"Fun Fact File: Space!","Library Set",null,"978-1-4824-0995-6",2015,"August 2014","Library","8.500 X 8.500",null,"",null,null,null,null,null,null,"Grade 2 - 3","Grade 2 - 5","Outer space is full of mysteries. For centuries, stargazers and astronomers have struggled to discover the secrets of the cosmos, and they have made many groundbreaking discoveries. The volumes in this series are sure to amaze and educate young readers with stunning facts about the planets, the stars, moons, and more. Images of cosmic scenes and scientific tools were carefully selected to aid readers in understanding at-level yet potentially difficult science topics. Charts, diagrams, and captions also help readers get the most out of these fascinating tours of the solar system and beyond.  • Graphic organizers help readers retain and recall information  • High-interest topic paired with stunning photographs and illustrations   • Challenging but manageable scientific text   • Fun approach promotes reader interest   ","English",151.5,113.7,null,"32 pp.",{"$f":"Table1[[#This Row],['# Books]]*Table1[[#This Row],[QTY]]","v":0},{"$f":"Table1[[#This Row],[QTY]]*Table1[[#This Row],[S&L Price]]","v":0}]
[null,65,null,"Fun Fact File: Space!",1,"20 Fun Facts About Gas Giants","Library Bound Book",null,"978-1-4824-1001-3",2015,"August 2014","Library","8.500 X 8.500","Author, Author","Arielle Chiger, Matthew Elkin",4.7,0.5,null,null,"N",null,"Grade 2 - 3","Grade 2 - 5","You might think that Earth is a big planet, but it’s nothing compared to our solar system’s gas giants—Jupiter, Saturn, Uranus, and Neptune. Jupiter itself could hold 1,300 Earths! With their beautiful colors, many moons, and planetary rings, the gas giants are some of the most fascinating space topics for readers to explore. The manageable text, aligned to the science curriculum, is made more accessible by the inclusion of amazing images, diagrams, and graphic organizers.","English",25.25,18.95,"523.4","32 pp.",{"$f":"Table1[[#This Row],['# Books]]*Table1[[#This Row],[QTY]]","v":0},{"$f":"Table1[[#This Row],[QTY]]*Table1[[#This Row],[S&L Price]]","v":0}]
[null,65,null,"Fun Fact File: Space!",1,"20 Fun Facts About Gas Giants","eBook",null,"978-1-4824-1004-4",2015,"August 2014",null,null,"Author, Author","Arielle Chiger, Matthew Elkin",4.7,0.5,null,null,"N",null,"Grade 2 - 3","Grade 2 - 5","You might think that Earth is a big planet, but it’s nothing compared to our solar system’s gas giants—Jupiter, Saturn, Uranus, and Neptune. Jupiter itself could hold 1,300 Earths! With their beautiful colors, many moons, and planetary rings, the gas giants are some of the most fascinating space topics for readers to explore. The manageable text, aligned to the science curriculum, is made more accessible by the inclusion of amazing images, diagrams, and graphic organizers.","English",25.25,18.95,"523.4","32 pp.",{"$f":"Table1[[#This Row],['# Books]]*Table1[[#This Row],[QTY]]","v":0},{"$f":"Table1[[#This Row],[QTY]]*Table1[[#This Row],[S&L Price]]","v":0}]
[null,65,null,"Fun Fact File: Space!",1,"20 Fun Facts About the Moon","eBook",null,"978-1-4824-1021-1",2015,"August 2014",null,null,"Author","Ryan Nagelhout",4.5999999999999996,0.5,null,null,"M",null,"Grade 2 - 3","Grade 2 - 5","The moon has fascinated people for centuries, as demonstrated by the numerous myths and stories told about it. Although no one has visited the moon since the early 1970s, scientists are still very interested in learning more about it. This volume takes readers on an exciting trip to our only natural satellite. The text is aligned with science curricula and features numerous engaging facts. Stunning images of the moon, as well as detailed diagrams, are sure to amaze readers.","English",25.25,18.95,"523.3","32 pp.",{"$f":"Table1[[#This Row],['# Books]]*Table1[[#This Row],[QTY]]","v":0},{"$f":"Table1[[#This Row],[QTY]]*Table1[[#This Row],[S&L Price]]","v":0}]
[null,65,null,"Fun Fact File: US History!",1,"20 Fun Facts About the Presidency","Library Bound Book",null,"978-1-4339-9188-2",2014,"August 2013","Library","8.500 X 8.500","Author","Janey Levy",5.5,0.5,28,null,"M",null,"Grade 2 - 3","Grade 2 - 5","Which president had the shortest term, and which was the first to be born in the United States? Which president was the tallest? Who was the shortest? These are just a few of the fun facts readers will find the answers to inside this book. The at-level text is specially designed to make learning about the presidency engaging and fun as well as informative. The fascinating text is augmented with historical images, helpful graphic organizers, and full-color photographs.","English",25.25,18.95,"973.099","32 pp.",{"$f":"Table1[[#This Row],['# Books]]*Table1[[#This Row],[QTY]]","v":0},{"$f":"Table1[[#This Row],[QTY]]*Table1[[#This Row],[S&L Price]]","v":0}]
[null,65,null,"Fun Fact File: US History!",1,"20 Fun Facts About the US Constitution","Interactive eBook","HTML5","978-1-4339-9202-5",2014,"August 2013",null,null,"Author","Therese M. Shea",6.2,0.5,30,null,"N",null,"Grade 2 - 3","Grade 2 - 5","The US Constitution is the oldest, shortest, one-document constitution in the world. But this ground-breaking document is much more than that—it proved to be the driving force behind the fight for independence all over the world. Readers are sure to be surprised and entertained by the numerous fun facts featured in this book. The text is accompanied by helpful graphic organizers, historic images, maps, and photographs of the Constitution itself.","English",33.25,24.95,"342.73","32 pp.",{"$f":"Table1[[#This Row],['# Books]]*Table1[[#This Row],[QTY]]","v":0},{"$f":"Table1[[#This Row],[QTY]]*Table1[[#This Row],[S&L Price]]","v":0}]
[null,65,null,"Fun Fact File: US History!",1,"20 Fun Facts About the US Flag","Library Bound Book",null,"978-1-4339-9193-6",2014,"August 2013","Library","8.500 X 8.500","Author","Maria Nelson",5.6,0.5,28,null,"M",null,"Grade 2 - 3","Grade 2 - 5","The Stars and Stripes, with its iconic colors and patterns, has long been a symbol of freedom in the United States and all over the world. But the US flag we’re familiar with today has only been around since 1959. Before that, the flag took on many different arrangements. Readers will learn about the many versions of the US flag that came before our current version. Colorful, patriotic photographs aid readers in understanding the text, as do informative graphic organizers.","English",25.25,18.95,"352.23","32 pp.",{"$f":"Table1[[#This Row],['# Books]]*Table1[[#This Row],[QTY]]","v":0},{"$f":"Table1[[#This Row],[QTY]]*Table1[[#This Row],[S&L Price]]","v":0}]
[null,65,null,"Fun Fact File: US History!",1,"20 Fun Facts About the White House","Interactive eBook","HTML5","978-1-4339-9207-0",2014,"August 2013",null,null,"Author","Ryan Nagelhout",4.9000000000000004,0.5,28,null,"M",null,"Grade 2 - 3","Grade 2 - 5","Many US citizens know that the White House has been home to US presidents for over 200 years. But few people know that the \"President’s Mansion\" has experienced two large fires, or that everything but the outer walls was removed and rebuilt in the 1950s. Readers are sure to enjoy exploring the White House like never before. At-level text is paired with helpful graphic organizers and amazing photographs of the White House throughout its history.","English",33.25,24.95,"975.3","32 pp.",{"$f":"Table1[[#This Row],['# Books]]*Table1[[#This Row],[QTY]]","v":0},{"$f":"Table1[[#This Row],[QTY]]*Table1[[#This Row],[S&L Price]]","v":0}]
[null,65,null,"Fun Fact File: World Wonders!",1,"20 Fun Facts About Easter Island","Library Bound Book",null,"978-1-4824-0447-0",2014,"January 2014","Library","8.500 X 8.500","Author","Heather Moore Niver",5,0.5,28,null,"M",null,"Grade 2 - 3","Grade 2 - 5","On an island in the Pacific Ocean more than 1,000 miles from the nearest habitable location, ancient people constructed hundreds of enormous stone heads. No one is sure exactly how they moved the giant statues into place. In fact, no one really knows how people got there in the first place! Readers are sure to enjoy learning about the mystery surrounding Easter Island. Colorful images of the moai, flora, fauna, and more help transport readers to this amazing world wonder.","English",25.25,18.95,"996.18","32 pp.",{"$f":"Table1[[#This Row],['# Books]]*Table1[[#This Row],[QTY]]","v":0},{"$f":"Table1[[#This Row],[QTY]]*Table1[[#This Row],[S&L Price]]","v":0}]
[null,65,null,"Fun Fact File: World Wonders!",1,"20 Fun Facts About Machu Picchu","Interactive eBook","Flash","978-1-4824-0454-8",2014,"January 2014",null,null,"Author","Janey Levy",null,null,28,null,"M",null,"Grade 2 - 3","Grade 2 - 5","Hundreds of years ago, the Inca of South America created an influential and lasting culture. They constructed miles of highways and bridges. Perhaps most fascinating is the mountain city of Macchu Pichu with its many technological marvels. Even today, experts are still amazed by the builders’ techniques and accomplishments. Inside this volume, educational and engaging text is paired with illustrations and color photographs. Readers will delight in learning about this rare mountain treasure.","English",33.25,24.95,"985.019","32 pp.",{"$f":"Table1[[#This Row],['# Books]]*Table1[[#This Row],[QTY]]","v":0},{"$f":"Table1[[#This Row],[QTY]]*Table1[[#This Row],[S&L Price]]","v":0}]
[null,65,null,"Fun Fact File: World Wonders!",1,"20 Fun Facts About Stonehenge","Library Bound Book",null,"978-1-4824-0457-9",2014,"January 2014","Library","8.500 X 8.500","Author","Michael Sabatino",null,null,30,null,"N",null,"Grade 2 - 3","Grade 2 - 5","The mysterious megaliths of Stonehenge have long intrigued and mystified people. Even today, opinions on the use and building of Stonehenge still differ. Most agree, however, that Stonehenge is one of the world’s greatest ancient wonders. The detailed history and archaeological evidence provided by this book are sure to engage and entertain readers, and carefully chosen photographs reinforce the text. Illustrations and graphic organizers help readers understand this absorbing topic in even more depth.","English",25.25,18.95,"936.2","32 pp.",{"$f":"Table1[[#This Row],['# Books]]*Table1[[#This Row],[QTY]]","v":0},{"$f":"Table1[[#This Row],[QTY]]*Table1[[#This Row],[S&L Price]]","v":0}]
[null,65,null,"Fun Fact File: World Wonders!",1,"20 Fun Facts About the Great Pyramid","Library Bound Book",null,"978-1-4824-0467-8",2014,"January 2014","Library","8.500 X 8.500","Author","Kristen Rajczak Nelson",null,null,30,null,"N",null,"Grade 2 - 3","Grade 2 - 5","There are many ancient pyramids in Egypt, but there’s only one Great Pyramid. Completed around 2550 BC, it is the largest pyramid of the ancient world. Although it was originally a tomb for an Egyptian emperor, today the pyramid is a link to the past, as well as a highly popular destination for world travelers. Dazzling photographs of the Great Pyramid and others from around the world are sure to intrigue and educate readers, and illustrations and graphic organizers help readers learn more from the text.","English",25.25,18.95,"932","32 pp.",{"$f":"Table1[[#This Row],['# Books]]*Table1[[#This Row],[QTY]]","v":0},{"$f":"Table1[[#This Row],[QTY]]*Table1[[#This Row],[S&L Price]]","v":0}]
[null,65,null,"Fun Fact File: World Wonders!",1,"20 Fun Facts About the Great Wall of China","Interactive eBook","Flash","978-1-4824-0474-6",2014,"January 2014",null,null,"Author","Therese M. Shea",null,null,28,null,"M",null,"Grade 2 - 3","Grade 2 - 5","The Great Wall of China has been an important symbol of Chinese culture for centuries. While it once served as a form of protection from enemies, today the Great Wall is one of the world’s most thrilling ancient tourist attractions. The informative text is paired with vivid photographs of the different sections of the wall, as well as helpful illustrations and graphic organizers.","English",33.25,24.95,"931","32 pp.",{"$f":"Table1[[#This Row],['# Books]]*Table1[[#This Row],[QTY]]","v":0},{"$f":"Table1[[#This Row],[QTY]]*Table1[[#This Row],[S&L Price]]","v":0}]
[null,66,null,"Fun Fact File: Animals!",1,"20 Fun Facts About Crocodiles","Library Bound Book",null,"978-1-4339-6509-8",2012,"January 2012","Library","8.500 X 8.500","Author","Heather Moore Niver",4.2,0.5,28,26,"L","620L","Grade 2 - 3","Grade 2 - 5","Crocodiles are the strongest and most dangerous reptiles on the planet. They’re also the smartest. They can remember what time animals come to the water to drink every day. Being both big and smart helps crocodiles rule their habitat. These are just a few of the fun facts about crocodiles readers will learn in this volume. Straightforward text is paired with dazzling photographs to give readers the chance to gain knowledge about these deadly creatures like never before.","English",25.25,18.95,"597.98/2","32 pp.",{"$f":"Table1[[#This Row],['# Books]]*Table1[[#This Row],[QTY]]","v":0},{"$f":"Table1[[#This Row],[QTY]]*Table1[[#This Row],[S&L Price]]","v":0}]
[null,66,null,"Fun Fact File: Animals!",1,"20 Fun Facts About Crocodiles","eBook",null,"978-1-4339-6510-4",2012,"January 2012",null,null,"Author","Heather Moore Niver",4.2,0.5,28,26,"L","620L","Grade 2 - 3","Grade 2 - 5","Crocodiles are the strongest and most dangerous reptiles on the planet. They’re also the smartest. They can remember what time animals come to the water to drink every day. Being both big and smart helps crocodiles rule their habitat. These are just a few of the fun facts about crocodiles readers will learn in this volume. Straightforward text is paired with dazzling photographs to give readers the chance to gain knowledge about these deadly creatures like never before.","English",25.25,18.95,"597.98/2","32 pp.",{"$f":"Table1[[#This Row],['# Books]]*Table1[[#This Row],[QTY]]","v":0},{"$f":"Table1[[#This Row],[QTY]]*Table1[[#This Row],[S&L Price]]","v":0}]
[null,66,null,"Fun Fact File: Animals!",1,"20 Fun Facts About Hippos","Library Bound Book",null,"978-1-4339-6517-3",2012,"January 2012","Library","8.500 X 8.500","Author","Therese M. Shea",4.0999999999999996,0.5,28,26,"M","600L","Grade 2 - 3","Grade 2 - 5","Hippos are one of the largest animals in the world. Hippos also have something in common with ducks, they make their own sunscreen, and they can hear underwater. Many other hippo facts are found inside this book. The fun and informative text is paired with stunning close-up photographs of hippos at home in the wild.","English",25.25,18.95,"599.63/5","32 pp.",{"$f":"Table1[[#This Row],['# Books]]*Table1[[#This Row],[QTY]]","v":0},{"$f":"Table1[[#This Row],[QTY]]*Table1[[#This Row],[S&L Price]]","v":0}]
[null,66,null,"Fun Fact File: Animals!",1,"20 Fun Facts About Penguins","Interactive eBook","Flash","978-1-4339-7632-2",2012,"January 2012",null,null,"Author","Heather Moore Niver",4,0.5,28,26,"L","610L","Grade 2 - 3","Grade 2 - 5","Penguins have wings but can’t fly. They’re excellent swimmers, and they live where it’s very cold. However, penguins’ ancient relatives were very different. They had feathers and could fly. Some ancient penguins were even about 6 feet tall. Readers will find these fun facts and many more inside this volume. Accompanying the text are fun, captivating photographs of penguins in their natural habitats.","English",33.25,24.95,"598.47","32 pp.",{"$f":"Table1[[#This Row],['# Books]]*Table1[[#This Row],[QTY]]","v":0},{"$f":"Table1[[#This Row],[QTY]]*Table1[[#This Row],[S&L Price]]","v":0}]
[null,66,null,"Fun Fact File: Bugs!",6,"Fun Fact File: Bugs!","Library Set",null,"978-1-4339-8256-9",2013,"January 2013","Library","8.500 X 8.500",null,"",null,null,null,null,null,null,"Grade 2 - 3","Grade 2 - 5","It’s hard to hide from bugs—they live just about everywhere on the planet. In fact, more than half of the creatures on Earth are insects. Readers will be entranced by this series—filled with fascinating facts and stunning photographs of Earth’s bodacious bugs. Readers of all ages will enjoy learning about the creepy centipede, the crafty stick bug, and many more. ","English",151.5,113.7,null,"32 pp.",{"$f":"Table1[[#This Row],['# Books]]*Table1[[#This Row],[QTY]]","v":0},{"$f":"Table1[[#This Row],[QTY]]*Table1[[#This Row],[S&L Price]]","v":0}]
[null,66,null,"Fun Fact File: Bugs!",1,"20 Fun Facts About Beetles","Interactive eBook","HTML5","978-1-4339-8229-3",2013,"January 2013",null,null,"Author","Arielle Chiger",null,null,28,20,"M","860L","Grade 2 - 3","Grade 2 - 5","Beetles are the most common animal species on the planet. They live almost everywhere on Earth, and come in many shapes and sizes. You are probably familiar with the beautiful ladybird beetle—or ladybug. But there are many others, including the colorful Japanese beetle and the enormous rhinoceros beetle. Readers will be amazed to learn the bizarre habits of Earth’s most plentiful species. Colorful close-up photographs of these amazing bugs are sure to thrill readers.","English",33.25,24.95,"595.76","32 pp.",{"$f":"Table1[[#This Row],['# Books]]*Table1[[#This Row],[QTY]]","v":0},{"$f":"Table1[[#This Row],[QTY]]*Table1[[#This Row],[S&L Price]]","v":0}]
[null,66,null,"Fun Fact File: Bugs!",1,"20 Fun Facts About Dragonflies","eBook",null,"978-1-4339-8238-5",2013,"January 2013",null,null,"Author","Maria Nelson",null,null,28,20,"M","850L","Grade 2 - 3","Grade 2 - 5","Few bugs can fly with the skill and precision of a dragonfly. If you have ever seen dragonflies zigzagging their way trough tall grass near a lake, it can be like watching colorfully costumed ballet dancers on stage. Spectacular photographs show colorful dragonflies soaring and hunting for food. Readers will surely enjoy discovering fascinating facts about dragonflies, including how fast they fly, what they eat, and how baby dragonflies survive underwater.","English",25.25,18.95,"595.7/33","32 pp.",{"$f":"Table1[[#This Row],['# Books]]*Table1[[#This Row],[QTY]]","v":0},{"$f":"Table1[[#This Row],[QTY]]*Table1[[#This Row],[S&L Price]]","v":0}]
[null,66,null,"Fun Fact File: Bugs!",1,"20 Fun Facts About Spiders","Library Bound Book",null,"978-1-4339-8245-3",2013,"January 2013","Library","8.500 X 8.500","Author","Therese M. Shea",null,null,28,20,"M","630L","Grade 2 - 3","Grade 2 - 5","Most people know that spiders have eight legs, and that they spin intricate webs. However, many people don’t know that many spiders can smell with their legs, or that spiders make different kinds of silk depending on the job it’s used for. They also come in many shapes and sizes. The smallest can sit on the head of a pin, while the biggest would fill up a dinner plate. Numerous stunning photographs of many kinds of spiders in the wild are sure to delight readers while fun facts keep them engaged.","English",25.25,18.95,"595.4","32 pp.",{"$f":"Table1[[#This Row],['# Books]]*Table1[[#This Row],[QTY]]","v":0},{"$f":"Table1[[#This Row],[QTY]]*Table1[[#This Row],[S&L Price]]","v":0}]
[null,66,null,"Fun Fact File: Bugs!",1,"20 Fun Facts About Stick Bugs","Interactive eBook","HTML5","978-1-4339-8255-2",2013,"January 2013",null,null,"Author","Heather Moore Niver",null,null,30,22,"N","610L","Grade 2 - 3","Grade 2 - 5","Stick bugs are masters of disguise. They can look like a twig on a tree, or a leaf on the ground. If they stand perfectly still you may not even notice them. Chances are you’ve seen one and just didn’t know it. Readers get the perfect opportunity to spy these sneaky creatures blending in with their natural habitat while learning many fun facts about stick bugs—including which is the longest, which resembles a lobster, and the many devious ways they avoid being caught by predators.","English",33.25,24.95,"595.7","32 pp.",{"$f":"Table1[[#This Row],['# Books]]*Table1[[#This Row],[QTY]]","v":0},{"$f":"Table1[[#This Row],[QTY]]*Table1[[#This Row],[S&L Price]]","v":0}]
[null,66,null,"Fun Fact File: Fierce Fish!",6,"Fun Fact File: Fierce Fish!","Library Set",null,"978-1-4339-7689-6",2013,"August 2012","Library","8.500 X 8.500",null,"",null,null,null,null,null,null,"Grade 2 - 3","Grade 2 - 5","Some anglerfish make their own light to attract prey. The beautiful lionfish makes venom that is very painful to people. Although they may not look like it, stingrays are related to sharks. Animal lovers of all ages will discover these and many other fun facts about the fierce fish in this engaging series. Inviting, accessible text and mesmerizing images of these creatures in the wild are sure to thrill readers.  • High-interest topics appeal to young readers • Supports elementary science curriculum • Includes diagrams and charts to aid comprehension • Vibrant photos provide close-up views of wild animals • Further reading and age-appropriate websites • Table of Contents, Glossary, Index  ","English",151.5,113.7,null,"32 pp.",{"$f":"Table1[[#This Row],['# Books]]*Table1[[#This Row],[QTY]]","v":0},{"$f":"Table1[[#This Row],[QTY]]*Table1[[#This Row],[S&L Price]]","v":0}]
[null,66,null,"Fun Fact File: Fierce Fish!",1,"20 Fun Facts About Barracudas","Library Bound Book",null,"978-1-4339-6975-1",2013,"August 2012","Library","8.500 X 8.500","Author","Heather Moore Niver",null,null,34,34,"N",null,"Grade 2 - 3","Grade 2 - 5","The barracuda is a long, slender fish that swims with power and grace. However, it’s also strong and aggressive. Barracudas use two sets of razor-sharp teeth to catch prey and tear them to pieces. Although they usually feed on smaller fish, barracudas fearsome teeth allow them to chop larger fish in half. The fun, informative text in this book is paired with stunning photographs to give readers a unique perspective of these frightening fish. ","English",25.25,18.95,"597/.7","32 pp.",{"$f":"Table1[[#This Row],['# Books]]*Table1[[#This Row],[QTY]]","v":0},{"$f":"Table1[[#This Row],[QTY]]*Table1[[#This Row],[S&L Price]]","v":0}]
[null,66,null,"Fun Fact File: Fierce Fish!",1,"20 Fun Facts About Moray Eels","eBook",null,"978-1-4339-6986-7",2013,"August 2012",null,null,"Author","Heather Moore Niver",null,null,34,24,"M",null,"Grade 2 - 3","Grade 2 - 5","Moray eels hide their long, slippery bodies among coral reefs in tropical waters all over the world. The sight of a moray eel’s head peeking out of a crevice —with its beady eyes and sharp teeth—is enough to make prey turn and flee. The amazing, full-color photographs inside this book provide readers with an up-close view of these fish. The fun facts are sure to educate and entertain fish enthusiasts of any age.","English",25.25,18.95,"597/.43","48 pp.",{"$f":"Table1[[#This Row],['# Books]]*Table1[[#This Row],[QTY]]","v":0},{"$f":"Table1[[#This Row],[QTY]]*Table1[[#This Row],[S&L Price]]","v":0}]
[null,66,null,"Fun Fact File: Fierce Fish!",1,"20 Fun Facts About Stingrays","Library Bound Book",null,"978-1-4339-6991-1",2013,"August 2012","Library","8.500 X 8.500","Author","Heather Moore Niver",null,null,34,24,"M",null,"Grade 2 - 3","Grade 2 - 5","Stingray’s glide gracefully through the water; they seem like alien creatures with their wide, flat bodies and slender tails. They drift to the sea floor and use their flat bodies to stir up the sand and bury themselves. Many stingrays use their deadly stingers to catch prey. Some have powerful mouths for crushing shells. Astonishing photographs allow readers to see these fierce fish in their natural habitat. ","English",25.25,18.95,"597.3/5","48 pp.",{"$f":"Table1[[#This Row],['# Books]]*Table1[[#This Row],[QTY]]","v":0},{"$f":"Table1[[#This Row],[QTY]]*Table1[[#This Row],[S&L Price]]","v":0}]
[null,66,null,"Fun Fact File: Fierce Fish!",1,"20 Fun Facts About Stingrays","eBook",null,"978-1-4339-6994-2",2013,"August 2012",null,null,"Author","Heather Moore Niver",null,null,34,24,"M",null,"Grade 2 - 3","Grade 2 - 5","Stingray’s glide gracefully through the water; they seem like alien creatures with their wide, flat bodies and slender tails. They drift to the sea floor and use their flat bodies to stir up the sand and bury themselves. Many stingrays use their deadly stingers to catch prey. Some have powerful mouths for crushing shells. Astonishing photographs allow readers to see these fierce fish in their natural habitat. ","English",25.25,18.95,"597.3/5","48 pp.",{"$f":"Table1[[#This Row],['# Books]]*Table1[[#This Row],[QTY]]","v":0},{"$f":"Table1[[#This Row],[QTY]]*Table1[[#This Row],[S&L Price]]","v":0}]
[null,67,null,"100 Facts You Should Know",1,"Astronomy","Library Bound Book",null,"978-1-4824-5133-7",2017,"August 2016","Library","8.500 X 11.00","Author","Sue Becklake",6.2,1,null,null,"T",null,"Grade 4 - 5","Grade 4 - 6","Astronomy is both a study and a skill, and both aspects of astronomy are thoughtfully presented in this beautiful volume that encourages readers to look to the sky. Even though our universe is vast, readers can travel to points around the solar system and galaxy through the stunning photographs and illustrations on each page. They’ll understand key points about space science through 100 interesting and accessible facts and hone their understanding through fun quizzes and activities, including making a sundial and demonstrating an eclipse for themselves and their friends!","English",31.95,23.95,"520--dc23","48 pp.",{"$f":"Table1[[#This Row],['# Books]]*Table1[[#This Row],[QTY]]","v":0},{"$f":"Table1[[#This Row],[QTY]]*Table1[[#This Row],[S&L Price]]","v":0}]
[null,67,null,"100 Facts You Should Know",1,"Dinosaurs","eBook",null,"978-1-4824-3197-1",2016,"August 2015",null,null,"Author","Steve Parker",null,null,40,null,"S",null,"Grade 4 - 5","Grade 4 - 6","The \"Age of Dinosaurs\" lasted from about 230 million to 65 million years ago. And yet, these formidable reptiles continue to captivate us even today. One hundred high-interest facts about the extinct creatures called dinosaurs cover many topics, such as evolution, adaptations, and fossils, and many species, including Spinosaurus, Tyrannosaurus rex, and Stegosaurus. Fun quizzes, clever crafts and activities, beneficial diagrams, and vivid photographs and illustrations keep readers actively engaged as they turn the colorful pages. This attention-grabbing volume is a must-read in any science collection.","English",31.95,23.95,"567.9","48 pp.",{"$f":"Table1[[#This Row],['# Books]]*Table1[[#This Row],[QTY]]","v":0},{"$f":"Table1[[#This Row],[QTY]]*Table1[[#This Row],[S&L Price]]","v":0}]
[null,67,null,"100 Facts You Should Know",1,"Insects and Spiders","Library Bound Book",null,"978-1-4824-3204-6",2016,"August 2015","Library","8.500 X 11.00","Author","Steve Parker",null,null,40,null,"S",null,"Grade 4 - 5","Grade 4 - 6","As the largest animal group in the world, with millions of species, insects should be a significant focus in the science classroom. And while spiders are often grouped with bugs, they aren't insects. This notable book explains why within its 100 facts about both groups that will astound, entertain, and perhaps even gross out readers! Discussion of the life cycles of these creatures offers need-to-know vocabulary words and concepts such as larva, pupa, and molting. Images throughout the book support the accessible text, while activities and quizzes keep readers assessing and building on their understanding.","English",31.95,23.95,"595.7","48 pp.",{"$f":"Table1[[#This Row],['# Books]]*Table1[[#This Row],[QTY]]","v":0},{"$f":"Table1[[#This Row],[QTY]]*Table1[[#This Row],[S&L Price]]","v":0}]
[null,67,null,"100 Facts You Should Know",1,"Kings and Queens","eBook",null,"978-1-4824-2172-9",2015,"January 2015",null,null,"Author","Fiona Macdonald",null,null,40,null,"S",null,"Grade 4 - 5","Grade 4 - 6","Royalty are always in the news, because people's imaginations continue to be piqued by their wealth, power, and lifestyles. In this book, which focuses mostly on Great Britain, readers will learn of early kings, such as Alfred the Great, and modern rulers, such as Elizabeth II, and the impact they've made on the world. They'll find out that King Arthur might not have been real, but Shakespeare's infamous Macbeth was! Much history is discussed as well as the wars that made and slayed rulers over the centuries. Brief quizzes, useful activities, and colorful illustrations make this regal volume an appealing look at these historical figures.","English",31.95,23.95,"941.009","48 pp.",{"$f":"Table1[[#This Row],['# Books]]*Table1[[#This Row],[QTY]]","v":0},{"$f":"Table1[[#This Row],[QTY]]*Table1[[#This Row],[S&L Price]]","v":0}]
[null,67,null,"100 Facts You Should Know",1,"Magic and Mystery","eBook",null,"978-1-4824-5128-3",2017,"August 2016",null,null,"Author","Carey Scott",7,1,null,null,"S",null,"Grade 4 - 5","Grade 4 - 6","Magic and mystery are compelling topics to readers, and this high-interest guide meets the challenge of providing 100 of the most extraordinary and informative facts about the enchanted, the mysterious, and the unexplained. Different cultures, time periods, and events are presented in a fun and accessible format, which includes such topics as medieval witch hunts, runes of ancient people, and magicians of today. Photographs and illustrations aid explanations as well as enhance the inviting design. Activity boxes and quizzes add even more appeal to this wonderful volume.","English",31.95,23.95,"133.4’3--dc23","48 pp.",{"$f":"Table1[[#This Row],['# Books]]*Table1[[#This Row],[QTY]]","v":0},{"$f":"Table1[[#This Row],[QTY]]*Table1[[#This Row],[S&L Price]]","v":0}]
[null,67,null,"100 Facts You Should Know",1,"Myths and Legends","Library Bound Book",null,"978-1-4824-5135-1",2017,"August 2016","Library","8.500 X 11.00","Author","Fiona Macdonald",6.4,1,null,null,"S",null,"Grade 4 - 5","Grade 4 - 6","Myths and legends reveal much about a culture, including its most prized values and significant beliefs. Fables may feature animal characters, but they offer morals for real life. This fascinating book is bursting with 100 facts about the stories that have been handed down by different cultures around the world as well as accompanying images, quizzes, and activities, including crafts. Not only is each bite-sized topic interesting in itself, but readers will find connections to modern life, such as the origin of Valentine’s Day. These myths and legends offer unique opportunities for a truly entertaining and educational reading experience.","English",31.95,23.95,"398.2--dc23","48 pp.",{"$f":"Table1[[#This Row],['# Books]]*Table1[[#This Row],[QTY]]","v":0},{"$f":"Table1[[#This Row],[QTY]]*Table1[[#This Row],[S&L Price]]","v":0}]
[null,67,null,"100 Facts You Should Know",1,"Pirates","eBook",null,"978-1-4824-2184-2",2015,"January 2015",null,null,"Author","Andrew Langley",null,null,40,null,"S",null,"Grade 4 - 5","Grade 4 - 6","Many of us gathered our knowledge of pirates from books and movies. But real-life pirates were even more savage and dangerous. Through 100 facts, readers can sneak aboard various pirate ships, from ancient Greece to modern day. They'll discover pirate hideouts and how they hid their treasures. They'll learn about famous pirates, such as Black Bart, Edward Teach, Mary Read, Grace O'Malley, and others. Picture puzzles, \"I Don't Believe It!\" fact boxes, and instructive and amusing illustrations present an engrossing view of life on a pirate ship as well as a unique glimpse into several time periods of history.","English",31.95,23.95,"910.4","48 pp.",{"$f":"Table1[[#This Row],['# Books]]*Table1[[#This Row],[QTY]]","v":0},{"$f":"Table1[[#This Row],[QTY]]*Table1[[#This Row],[S&L Price]]","v":0}]
[null,67,null,"100 Facts You Should Know",1,"Prehistoric Life","Library Bound Book",null,"978-1-4824-5136-8",2017,"August 2016","Library","8.500 X 11.00","Author","Rupert Matthews",5.7,1,null,null,"T",null,"Grade 4 - 5","Grade 4 - 6","What do future paleontologists love even more than reading about prehistoric life? They're crazy about seeing imaginative illustrations of ferocious dinosaurs, giant insects, and other incredible organisms! This high-interest volume combines 100 facts about prehistoric life with vivid illustrations and instructive photographs. Among the appealing science topics featured are fossils, extinction, and the appearance of human ancestors. Connected activities (such as making an edible reptile!) supply an interactive experience, while fun quizzes allow readers to assess their comprehension of the intriguing subject matter.","English",31.95,23.95,"560--dc23","48 pp.",{"$f":"Table1[[#This Row],['# Books]]*Table1[[#This Row],[QTY]]","v":0},{"$f":"Table1[[#This Row],[QTY]]*Table1[[#This Row],[S&L Price]]","v":0}]
[null,67,null,"100 Facts You Should Know",1,"Science","eBook",null,"978-1-4824-1357-1",2015,"August 2014",null,null,"Author","Steve Parker",null,null,44,null,"T",null,"Grade 4 - 5","Grade 4 - 6","Science buffs will find the topics that pique their curiosity in this book that spans the science spectrum, including simple machines, elements, computers, and sound, electrical, and light energy. Fun, easy projects demonstrate key concepts, while quizzes test reading comprehension. Bright diagrams, photographs, and illustrations offer support for each fact and contribute to the appeal of this wide-ranging reference.","English",31.95,23.95,"500","48 pp.",{"$f":"Table1[[#This Row],['# Books]]*Table1[[#This Row],[QTY]]","v":0},{"$f":"Table1[[#This Row],[QTY]]*Table1[[#This Row],[S&L Price]]","v":0}]
[null,67,null,"100 Facts You Should Know",1,"Volcanoes","Library Bound Book",null,"978-1-4824-1468-4",2015,"August 2014","Library","8.500 X 11.00","Author","Chris Oxlade",null,null,40,null,"S",null,"Grade 4 - 5","Grade 4 - 6","Few natural events are as formidable and fascinating as an erupting volcano. Volcanoes are reminders of the constant processes taking place below the surface of Earth. While readers may have heard of the eruptions of Mount Vesuvius and Mount St. Helens, they may not know that Yellowstone National Park is due to erupt, too! The mechanics of plate tectonics, the kinds of volcanoes, historical eruptions, and geothermal energy are the diverse topics of these 100 facts. Awe-inspiring photographs and fun quizzes add to the valuable information.  ","English",31.95,23.95,"551.21","48 pp.",{"$f":"Table1[[#This Row],['# Books]]*Table1[[#This Row],[QTY]]","v":0},{"$f":"Table1[[#This Row],[QTY]]*Table1[[#This Row],[S&L Price]]","v":0}]
[null,67,null,"100 Facts You Should Know",1,"Weapons and Armor","Library Bound Book",null,"978-1-4824-2193-4",2015,"January 2015","Library","8.500 X 11.00","Author","Rupert Matthews",null,null,44,null,"T",null,"Grade 4 - 5","Grade 4 - 6","Weapons and armor have been used to hunt and wage war since the first humans walked the planet. The earliest spears date back 400,000 years! As civilizations and technologies advanced, so did weapons and armor. Through this unique lens, readers delve into some exciting periods of history in many different cultures. Egyptian shields, Greek helmets, Roman gladiatorial garb, and more are examined in this wide-ranging book. In addition, Chinese armor, African clubs, Middle Eastern weaponry, and Samurai swords are discussed as well as modern arms. The high-interest text and colorful images are a perfect complement to any social studies and history collection.","English",31.95,23.95,"623.4","32 pp.",{"$f":"Table1[[#This Row],['# Books]]*Table1[[#This Row],[QTY]]","v":0},{"$f":"Table1[[#This Row],[QTY]]*Table1[[#This Row],[S&L Price]]","v":0}]
[null,67,null,"100 Facts You Should Know",1,"Whales and Dolphins","eBook",null,"978-1-4824-3213-8",2016,"August 2015",null,null,"Author","Steve Parker",null,null,44,null,"T",null,"Grade 4 - 5","Grade 4 - 6","Whales and dolphins are part of a group of marine mammals called cetaceans. Many species within this group are truly amazing, thanks to their sheer size, surprising intelligence, or bizarre adaptations. Readers of this in-depth volume will learn about these topics and more, including why narwhals fence with their tusks and the role of echolocation in cetacean sea life. Other notable issues including conservation are also included among the 100 essential facts in this enjoyable book, filled with fun photographs, illustrations, diagrams, activities, and quizzes.","English",31.95,23.95,"599.5","32 pp.",{"$f":"Table1[[#This Row],['# Books]]*Table1[[#This Row],[QTY]]","v":0},{"$f":"Table1[[#This Row],[QTY]]*Table1[[#This Row],[S&L Price]]","v":0}]
[null,68,null,"Amazing Origami",1,"Arctic Origami","Library Bound Book",null,"978-1-4824-5922-7",2017,"January 2017","Library","8.500 X 11.00","Author","Joe Fullman",null,null,null,null,"L",null,"Grade 2 - 3","Grade 2 - 5","Making a polar bear out of paper might seem difficult at first. But through the ancient art of origami, readers are able to bring this white-furred bear to life with just one piece of paper! In this book, readers can work step-by-step through creating arctic animals out of paper. An introduction including common terms and origami folds helps readers get started in making an arctic fox, penguin, and narwhal. Projects range from easy to hard, but each contains full-color photographs guiding readers through each step, allowing them to complete the project whether they’re seasoned origamists or new to the craft.","English",26.6,19.95,"736.982--dc23","32 pp.",{"$f":"Table1[[#This Row],['# Books]]*Table1[[#This Row],[QTY]]","v":0},{"$f":"Table1[[#This Row],[QTY]]*Table1[[#This Row],[S&L Price]]","v":0}]
[null,68,null,"Amazing Origami",1,"Jungle Origami","eBook",null,"978-1-4824-5931-9",2017,"January 2017",null,null,"Author","Joe Fullman",null,null,null,null,"L",null,"Grade 2 - 3","Grade 2 - 5","From tigers to butterflies, jungle animals are some of the most beautiful in the world. They’re almost as beautiful when fashioned out of paper through origami! In this book, readers choose from a gorilla, frog, parrot, and more jungle animals to practice their paper-folding skills. An introduction shows common folds and explains terms used in the book to help new origamists complete their first project. Each craft contains step-by-step instructions and full-color photographs of each step to guide readers through the folds to create their animal.","English",26.6,19.95,"736.982--dc23","32 pp.",{"$f":"Table1[[#This Row],['# Books]]*Table1[[#This Row],[QTY]]","v":0},{"$f":"Table1[[#This Row],[QTY]]*Table1[[#This Row],[S&L Price]]","v":0}]
[null,68,null,"Amazing Origami",1,"Woodland Origami","Library Bound Book",null,"978-1-4824-5942-5",2017,"January 2017","Library","8.500 X 11.00","Author","Joe Fullman",null,null,null,null,"L",null,"Grade 2 - 3","Grade 2 - 5","Foxes, squirrels, and raccoons are just some of the animals found in the woodland habitat. Usually fur-covered, these animals are just as cute when made out of paper. Readers are introduced to key terms and common folds in order to complete several origami projects in this book. Full-color photographs accompany simple step-by-step instructions to guide readers as they create paper bats, mice, and other woodland animals. Rated easy, medium, or hard, the crafts are designed to help both new and seasoned origamists enjoy this ancient art.","English",26.6,19.95,"736.982--dc23","32 pp.",{"$f":"Table1[[#This Row],['# Books]]*Table1[[#This Row],[QTY]]","v":0},{"$f":"Table1[[#This Row],[QTY]]*Table1[[#This Row],[S&L Price]]","v":0}]
[null,68,null,"Amazing Origami",1,"Woodland Origami","eBook",null,"978-1-4824-5943-2",2017,"January 2017",null,null,"Author","Joe Fullman",null,null,null,null,"L",null,"Grade 2 - 3","Grade 2 - 5","Foxes, squirrels, and raccoons are just some of the animals found in the woodland habitat. Usually fur-covered, these animals are just as cute when made out of paper. Readers are introduced to key terms and common folds in order to complete several origami projects in this book. Full-color photographs accompany simple step-by-step instructions to guide readers as they create paper bats, mice, and other woodland animals. Rated easy, medium, or hard, the crafts are designed to help both new and seasoned origamists enjoy this ancient art.","English",26.6,19.95,"736.982--dc23","32 pp.",{"$f":"Table1[[#This Row],['# Books]]*Table1[[#This Row],[QTY]]","v":0},{"$f":"Table1[[#This Row],[QTY]]*Table1[[#This Row],[S&L Price]]","v":0}]
[null,69,null,"Amazing Origami",1,"Flying Origami","Library Bound Book",null,"978-1-4824-4157-4",2016,"January 2016","Library","8.500 X 11.00","Author","Joe Fullman",null,null,null,null,"L",null,"Grade 2 - 3","Grade 2 - 5","Most people have tried to make a paper airplane at one time or another. But there are many other flying creations one can make out of paper. From the traditional flapping crane to a high-flying helicopter, the origami crafts in this book will put simple paper airplanes to shame! Step-by-step instructions guide readers through each project and include full-color images of the instructions as well as the finished product. Even experienced origamists will enjoy new ways to fashion an airplane, flying heart, kite, and butterfly!","English",26.6,19.95,"736’.982—d23","32 pp.",{"$f":"Table1[[#This Row],['# Books]]*Table1[[#This Row],[QTY]]","v":0},{"$f":"Table1[[#This Row],[QTY]]*Table1[[#This Row],[S&L Price]]","v":0}]
[null,69,null,"Amazing Origami",1,"Origami Dinosaurs","Library Bound Book",null,"978-1-4339-9648-1",2014,"August 2013","Library","8.500 X 11.00","Author","Lisa Miles",null,null,24,20,"L",null,"Grade 2 - 3","Grade 2 - 5","What could be more exciting than learning about dinosaurs? Creating these fearsome creatures! Using the cool art of origami, readers will craft dinosaurs from just a piece of paper. Readers will be introduced to basic folding concepts as well as the bases used for many origami projects. Ranked from easy to hard, the projects are presented in an understandable, step-by-step format to help readers make paper diplodocuses and plesiosauruses, among others. Colorful pictures of each dinosaur, as well as pictures of each step of the process, complement the instructions, and captivating fact boxes enhance readers’ knowledge with information about each featured dinosaur.","English",26.6,19.95,"736","32 pp.",{"$f":"Table1[[#This Row],['# Books]]*Table1[[#This Row],[QTY]]","v":0},{"$f":"Table1[[#This Row],[QTY]]*Table1[[#This Row],[S&L Price]]","v":0}]
[null,69,null,"Amazing Origami",1,"Origami Games","eBook",null,"978-1-4824-4162-8",2016,"January 2016",null,null,"Author","Joe Fullman",null,null,null,null,"L",null,"Grade 2 - 3","Grade 2 - 5","Some of the best games are played using a few simple objects and a lot of imagination. Dice, dominoes, and even a basketball hoop are possible to make using origami techniques and a bit of paper! Clear instructions complete with full-color photographs guide readers through the folds and flaps needed to make fun origami games. An introductory section introduces those new to origami to the skills needed to make a spinning top and even a fortune-telling game!","English",26.6,19.95,"736’.982—d23","32 pp.",{"$f":"Table1[[#This Row],['# Books]]*Table1[[#This Row],[QTY]]","v":0},{"$f":"Table1[[#This Row],[QTY]]*Table1[[#This Row],[S&L Price]]","v":0}]
[null,69,null,"Amazing Origami",1,"Origami Holidays","Library Bound Book",null,"978-1-4824-2200-9",2015,"January 2015","Library","8.500 X 11.00","Author","Catherine Ard",null,null,24,null,"L",null,"Grade 2 - 3","Grade 2 - 5","Holidays are some of the most creative times of the year. Young artists often want to celebrate using their creations. This high-interest book will allow readers and artists alike to start their festivities with the Japanese paper folding art of origami. Cute Easter chicks, spooky Halloween skulls, and clever Christmas stockings are some of the inventive projects they'll want to try. They'll learn the basic folds and techniques of paper folding and build upon their skills until they can complete the most challenging project. Origami is for everyone!","English",26.6,19.95,"736.982","32 pp.",{"$f":"Table1[[#This Row],['# Books]]*Table1[[#This Row],[QTY]]","v":0},{"$f":"Table1[[#This Row],[QTY]]*Table1[[#This Row],[S&L Price]]","v":0}]
[null,69,null,"Amazing Origami",1,"Origami Monsters","eBook",null,"978-1-4824-2261-0",2015,"January 2015",null,null,"Author","Catherine Ard",null,null,24,null,"L",null,"Grade 2 - 3","Grade 2 - 5","Monsters are high-interest topics for today's readers, and activities about monsters make this book irresistible! In this entertaining volume, monster enthusiasts will love learning how to create origami figures of Dracula, Frankenstein, the Loch Ness Monster, and more. They'll become skilled at the basic folds and techniques needed for each project through illustrations and easy-to-follow instructions. After completing the fun activities in this book, readers can design and make their own ghoulish creations using the ancient art of paper folding.","English",26.6,19.95,"736.982","32 pp.",{"$f":"Table1[[#This Row],['# Books]]*Table1[[#This Row],[QTY]]","v":0},{"$f":"Table1[[#This Row],[QTY]]*Table1[[#This Row],[S&L Price]]","v":0}]
[null,69,null,"Amazing Origami",1,"Origami Planes","Library Bound Book",null,"978-1-4824-2203-0",2015,"January 2015","Library","8.500 X 11.00","Author","Catherine Ard",null,null,24,null,"L",null,"Grade 2 - 3","Grade 2 - 5","The angles and curves of aircraft are paramount components in their flight. Airplane enthusiasts will love the action photographs of their favorite planes and then creating their own with some paper and the art of origami. After learning just a few kinds of folds, they can produce their own models, including an orbiter, a stunt plane, and a spy aircraft. Accessible directions accompanied by labeled illustrations make this book a fantastic introduction to the revered Japanese art form.","English",26.6,19.95,"736.982","32 pp.",{"$f":"Table1[[#This Row],['# Books]]*Table1[[#This Row],[QTY]]","v":0},{"$f":"Table1[[#This Row],[QTY]]*Table1[[#This Row],[S&L Price]]","v":0}]
[null,69,null,"Amazing Origami",1,"Origami Space","eBook",null,"978-1-4824-2269-6",2015,"January 2015",null,null,"Author","Catherine Ard",null,null,24,null,"L",null,"Grade 2 - 3","Grade 2 - 5","Future engineers will love using their hands to create the space-related projects in this fun book, including a rocket, a space shuttle, and even an alien and its spacecraft. They'll be amazed that a simple piece of paper can transform into such cool shapes, all through the Japanese art of paper folding. Numerous visual aids and thoughtfully explained directions guide readers through different challenges. The folds and methods they'll learn will help them establish a solid understanding for further origami endeavors. Science and art collide in this accessible and entertaining activity guide.","English",26.6,19.95,"736.982","32 pp.",{"$f":"Table1[[#This Row],['# Books]]*Table1[[#This Row],[QTY]]","v":0},{"$f":"Table1[[#This Row],[QTY]]*Table1[[#This Row],[S&L Price]]","v":0}]
[null,69,null,"Amazing Origami",1,"Origami Wild Animals","Library Bound Book",null,"978-1-4339-9664-1",2014,"August 2013","Library","8.500 X 11.00","Author","Lisa Miles",null,null,24,20,"L",null,"Grade 2 - 3","Grade 2 - 5","Wild animals have some cool physical characteristics. A giraffe’s long neck, a snake’s slithery body, and a panda’s black-and-white coat are all on display when readers create them using the folding techniques of origami! Including an introduction to basic folds and common paper-art bases, step-by-step instructions will guide readers through making origami wild animals. Pictures illustrate each step of the process so readers know just what to do. Ranked from easy to hard, the projects will engage readers with cool facts about each featured animal and amazing full-color photographs.","English",26.6,19.95,"736","32 pp.",{"$f":"Table1[[#This Row],['# Books]]*Table1[[#This Row],[QTY]]","v":0},{"$f":"Table1[[#This Row],[QTY]]*Table1[[#This Row],[S&L Price]]","v":0}]
[null,71,null,"Handmade Holiday Crafts",6,"Handmade Holiday Crafts","Library Set",null,"978-1-4824-6194-7",2017,"January 2017","Library","8.500 X 11.00",null,"",null,null,null,null,null,null,"Grade 3","Grade 3 - 6","Inexpensive yet beautiful decorations, greetings cards, and gifts can all be made using just a few basic craft supplies and even recycled materials from around the home. For kids who love crafting, this series offers a range of fantastic projects with holiday themes. Each project includes detailed step-by-step instructions and lots of opportunities for readers to use their own creativity. Getting ready for the holidays will be more fun than ever as readers create their own unique, handmade holiday crafts.","English",159.6,119.7,null,"32 pp.",{"$f":"Table1[[#This Row],['# Books]]*Table1[[#This Row],[QTY]]","v":0},{"$f":"Table1[[#This Row],[QTY]]*Table1[[#This Row],[S&L Price]]","v":0}]
[null,71,null,"Handmade Holiday Crafts",1,"Handmade St. Patrick's Day Crafts","Library Bound Book",null,"978-1-4824-6158-9",2017,"January 2017","Library","8.500 X 11.00","Author","Ruth Owen",null,null,null,null,"L",null,"Grade 3","Grade 3 - 6","There’s more to making St. Patrick’s Day crafts than the color green! Of course, this craft book with a St. Patrick’s Day theme features plenty of green, but readers are also led through making shamrock necklaces and bracelets, leprechaun hats filled with candy gold coins, and a “reach the rainbow” marble maze game made from Q-tips! Each project includes detailed step-by-step instructions and lots of opportunities for readers to use their own creativity to make designs that are special and individual.","English",26.6,19.95,"745.594’166--dc23","32 pp.",{"$f":"Table1[[#This Row],['# Books]]*Table1[[#This Row],[QTY]]","v":0},{"$f":"Table1[[#This Row],[QTY]]*Table1[[#This Row],[S&L Price]]","v":0}]
[null,71,null,"Handmade Holiday Crafts",1,"Handmade Valentine's Day Crafts","eBook",null,"978-1-4824-6142-8",2017,"January 2017",null,null,"Author","Ruth Owen",null,null,null,null,"L",null,"Grade 3","Grade 3 - 6","Christmas can be made even more fun with lovely decorations and homemade gifts. For readers who love crafting, this book of fantastic, easy projects with a Christmas theme is perfect. With just a few basic craft supplies and even recycled materials from around the house, readers can create special crafts such as Christmas tree decorations, a homemade Advent calendar, and even snowmen made from socks. Each project includes detailed step-by-step instructions and lots of opportunities for readers to use their own creativity to make truly unique designs.","English",26.6,19.95,"745.594’1618--dc23","32 pp.",{"$f":"Table1[[#This Row],['# Books]]*Table1[[#This Row],[QTY]]","v":0},{"$f":"Table1[[#This Row],[QTY]]*Table1[[#This Row],[S&L Price]]","v":0}]
[null,73,null,"But Is It Art?",6,"But Is It Art?","Library Set",null,"978-1-4824-2297-9",2015,"January 2015","Library","8.000 X 10.00",null,"",null,null,null,null,null,null,"Grade 4 - 5","Grade 4 - 6","Graffiti has been found on monuments in ancient Egypt and ancient Greece. Body art is an important practice in cultures around the world, such as henna in India and tribal tattooing in Africa. This innovative series introduces these and several other kinds of creation that may be considered art today, including junk sculptures and performance art. The main content explains the concepts behind each, and fact boxes offer historical context and other perspectives. Full-color photographs engage readers with the topics they are considering while sidebars ask pertinent questions for readers to think about as they read.    • High-interest, unique topics attract readers  • Funky, colorful layout reflects the creative content  • Thoughtful questions asked in the text encourage critical-thinking skills  • Age-appropriate content and high-interest subject matter that captivates readers’ attention  ","English",159.6,119.7,null,"32 pp.",{"$f":"Table1[[#This Row],['# Books]]*Table1[[#This Row],[QTY]]","v":0},{"$f":"Table1[[#This Row],[QTY]]*Table1[[#This Row],[S&L Price]]","v":0}]
[null,73,null,"But Is It Art?",1,"Graffiti","Library Bound Book",null,"978-1-4824-2281-8",2015,"January 2015","Library","8.000 X 10.00","Author","Alix Wood",null,null,40,null,"S",null,"Grade 4 - 5","Grade 4 - 6","The most well-known graffiti artist today is Banksy. No one knows who he really is, but his graffiti has appeared in many cities around the world. Sometimes, his work is protected. Other times, city officials mark him as a vandal. Readers are asked to make their own decision about Banksy and other graffiti artists. Both sides of the controversy are introduced for readers to contemplate. Full-color examples of graffiti—both intentionally artistic and simple tagging—give readers a chance to see that art to some people isn’t art to everyone.","English",26.6,19.95,"751.7","32 pp.",{"$f":"Table1[[#This Row],['# Books]]*Table1[[#This Row],[QTY]]","v":0},{"$f":"Table1[[#This Row],[QTY]]*Table1[[#This Row],[S&L Price]]","v":0}]
[null,73,null,"But Is It Art?",1,"Performance Art","eBook",null,"978-1-4824-2290-0",2015,"January 2015",null,null,"Author","Alix Wood",null,null,40,null,"S",null,"Grade 4 - 5","Grade 4 - 6","Performance art encompasses a wide variety of artistic pursuits, from modern dance to artists presenting something about themselves as art. It’s another form of art that divides the art community: some say it’s art, others say it isn’t. Readers consider both sides of the coin through an introduction to the topic, informational sidebars, and full-color photographs. A colorful, fun layout invites readers into the vibrant world of performance art while the main content engages their brains with critical thinking questions which ultimately ask—is it art?","English",26.6,19.95,"709.04","32 pp.",{"$f":"Table1[[#This Row],['# Books]]*Table1[[#This Row],[QTY]]","v":0},{"$f":"Table1[[#This Row],[QTY]]*Table1[[#This Row],[S&L Price]]","v":0}]
[null,73,null,"Create It!",1,"Abstract Art","eBook",null,"978-1-4824-5046-0",2017,"August 2016",null,null,"Author","Alix Wood",null,null,null,null,"Q",null,"Grade 4 - 5","Grade 4 - 6","Abstract art might seem hard to define. But, by introducing readers to the major artists of the style, they’ll have a good idea of the general characteristics of an abstract piece. In addition to biographical information about Henri Matisse, Jasper Johns, Paul Klee, and more important abstract artists, readers learn about each master’s most famous pieces and ways they were able to achieve the look of the work. Fun, colorful projects accompany each artist’s spreads, showing readers how they, too, can make cool abstract art!","English",26.6,19.95,"709.04’052--dc23","32 pp.",{"$f":"Table1[[#This Row],['# Books]]*Table1[[#This Row],[QTY]]","v":0},{"$f":"Table1[[#This Row],[QTY]]*Table1[[#This Row],[S&L Price]]","v":0}]
[null,73,null,"Create It!",1,"Cubist Art","eBook",null,"978-1-4824-5042-2",2017,"August 2016",null,null,"Author","Alix Wood",null,null,null,null,"Q",null,"Grade 4 - 5","Grade 4 - 6","One artist that comes to mind in connection with cubist art is Pablo Picasso. Picasso famously painted in a cubist style from about 1909 to 1912. Readers can try out Picasso’s techniques as well as those of Paul Cezanne, Juan Gris, and others in this introduction to cubism. Biographical information of these master cubists is paired with a colorful layout sure to engage young artists. Step-by-step instructions and tip boxes guide readers through creating several cubist masterpieces based on techniques and the best-known works of these famous cubists.","English",26.6,19.95,"709’.04’032--dc23","32 pp.",{"$f":"Table1[[#This Row],['# Books]]*Table1[[#This Row],[QTY]]","v":0},{"$f":"Table1[[#This Row],[QTY]]*Table1[[#This Row],[S&L Price]]","v":0}]
[null,73,null,"Create It!",1,"Pop Art","Library Bound Book",null,"978-1-4824-5026-2",2017,"August 2016","Library","8.500 X 11.00","Author","Alix Wood",null,null,null,null,"Q",null,"Grade 4 - 5","Grade 4 - 6","What made pop art special? Readers can find out the answer to this question through the colorful, fun pages of this book, which highlights the major features and figures of pop art. Profiles of Andy Warhol, Roy Lichtenstein, Richard Hamilton, and more pop artists introduce readers to famous pop art works as well as major techniques each artist used. Then, they can put this knowledge to work in accompanying art projects inspired by the work of the pop artist in that chapter. From using newspaper to make a collage to using benday dots, young artists have a multitude of styles to learn from!","English",26.6,19.95,"709.04’071--dc23","32 pp.",{"$f":"Table1[[#This Row],['# Books]]*Table1[[#This Row],[QTY]]","v":0},{"$f":"Table1[[#This Row],[QTY]]*Table1[[#This Row],[S&L Price]]","v":0}]
[null,73,null,"Ready, Set, Draw!",1,"Animals","Library Bound Book",null,"978-1-4824-0907-9",2015,"August 2014","Library","8.500 X 11.00","Author","Ailin Chambers",null,null,20,null,"K",null,"Grade 2 - 3","Grade 2 - 5","Drawing animals can be hard. From body shape to details like teeth and claws, it’s tough to make a drawing look distinctly like the animal you want it to. Clear step-by-step instructions take all the guesswork out of drawing animals! Readers can take on drawing a grinning shark, suspicious snake, cute panda, and more. An introduction to the needed equipment and extra tips along the way help readers draw in a simple, cartoon style. A colorful layout and final drawing example encourage readers to finish their project with flair!","English",26.6,19.95,"743.6","32 pp.",{"$f":"Table1[[#This Row],['# Books]]*Table1[[#This Row],[QTY]]","v":0},{"$f":"Table1[[#This Row],[QTY]]*Table1[[#This Row],[S&L Price]]","v":0}]
[null,73,null,"Ready, Set, Draw!",1,"Fairies and Princesses","eBook",null,"978-1-4824-0917-8",2015,"August 2014",null,null,"Author","Ailin Chambers",null,null,20,null,"K",null,"Grade 2 - 3","Grade 2 - 5","Drawing is a great way for readers to use their imagination! And princesses and fairies are two common characters in fantasy stories. Readers work through clear directions on 13 different drawing projects to create a colorful cartoon wood fairy, pirate princess, fairy godmother, and more. The step-by-step instructions include both an example of the step and a description of it, aiding readers in each part of the drawing process. Tips and an introduction to the drawing tools needed give readers knowledge they can use in other drawings, too.","English",26.6,19.95,"743.4","48 pp.",{"$f":"Table1[[#This Row],['# Books]]*Table1[[#This Row],[QTY]]","v":0},{"$f":"Table1[[#This Row],[QTY]]*Table1[[#This Row],[S&L Price]]","v":0}]
[null,73,null,"Ready, Set, Draw!",1,"Manga","Library Bound Book",null,"978-1-4824-0918-5",2015,"August 2014","Library","8.500 X 11.00","Author","Ailin Chambers",null,null,20,null,"K",null,"Grade 2 - 3","Grade 2 - 5","The art of manga is unique and inspiring to would-be artists. With help from step-by-step instructions, readers can create standard manga cartoon characters, such as a wizard, samurai, and sumo wrestler. Even beginning artists can follow the six steps to create each drawing by copying the example accompanying each step’s explanation. A look at the needed drawing equipment and overview of the genre, coupled with the colorful projects, give readers a great start in drawing. Then, they can use their new drawing skills to make manga of their own!","English",26.6,19.95,"741.5","48 pp.",{"$f":"Table1[[#This Row],['# Books]]*Table1[[#This Row],[QTY]]","v":0},{"$f":"Table1[[#This Row],[QTY]]*Table1[[#This Row],[S&L Price]]","v":0}]
[null,73,null,"Ready, Set, Draw!",1,"Superheroes","eBook",null,"978-1-4824-0927-7",2015,"August 2014",null,null,"Author","Ailin Chambers",null,null,20,null,"K",null,"Grade 2 - 3","Grade 2 - 5","Superheroes aren’t just awesome because of their powers. Many are awesome because of the great artists who drew their capes, weapons, and battles in cartoons and comic books. Learning to draw inventive superheroes such as Captain Twilight and Kid Comet is a great place for readers to start their journey to comic book author. Step-by-step instructions lead readers from a sketch to a completed, colorful cartoon, including Miss Magnifico and the Blue Dragon. An introduction to drawing tools and tip boxes aid new artists while they eagerly create these sensational superheroes.","English",26.6,19.95,"743.4","48 pp.",{"$f":"Table1[[#This Row],['# Books]]*Table1[[#This Row],[QTY]]","v":0},{"$f":"Table1[[#This Row],[QTY]]*Table1[[#This Row],[S&L Price]]","v":0}]
[null,74,null,"Meet the Greats",1,"Amelia Earhart","eBook",null,"978-1-4824-5947-0",2017,"January 2017",null,null,"Author","Tim Cooke",5.9,1,null,null,"U",null,"Grade 5","Grade 4 - 6","Amelia Earhart, the pioneering pilot of the early 20th century, had a remarkable spirit and great tenacity. Her story has something to teach us all about perseverance in the face of adversity. This superb biography takes readers aboard the cockpit with Earhart on a journey through her life, from her first encounter with an airplane to her unsolved disappearance over the Pacific Ocean. Future aviation experts will be especially interested in the current theories about her fate and impressed by historic photographs and details about Earhart’s extraordinary achievements.","English",31.95,23.95,"629.13092--dc23","48 pp.",{"$f":"Table1[[#This Row],['# Books]]*Table1[[#This Row],[QTY]]","v":0},{"$f":"Table1[[#This Row],[QTY]]*Table1[[#This Row],[S&L Price]]","v":0}]
[null,74,null,"Meet the Greats",1,"Sacagawea","eBook",null,"978-1-4824-5963-0",2017,"January 2017",null,null,"Author","Tim Cooke",5.9,1,null,null,"U",null,"Grade 5","Grade 4 - 6","Sacagawea’s critical role in the Lewis and Clark Expedition of 1804 to 1806 is irrefutable. Without her, the Corps of Discovery’s exploration of the newly acquired western territory might not have been successful. However, her life before that celebrated journey is just as absorbing. This volume, with a colorful design, fun fact boxes, and historical artwork, tells the intriguing story of this Shoshone woman, including such life-changing events as her kidnapping at a young age and marriage to a French fur trapper. Readers will undoubtedly admire this woman as they learn of her courageous acts and of the Native American cultures to which she belonged.","English",31.95,23.95,"978.0049745740092--dc23","32 pp.",{"$f":"Table1[[#This Row],['# Books]]*Table1[[#This Row],[QTY]]","v":0},{"$f":"Table1[[#This Row],[QTY]]*Table1[[#This Row],[S&L Price]]","v":0}]
[null,74,null,"Meet the Greats",1,"William Shakespeare","Library Bound Book",null,"978-1-4824-5966-1",2017,"January 2017","Library","7.250 X 9.250","Author","Tim Cooke",5.7,1,null,null,"U",null,"Grade 5","Grade 4 - 6","William Shakespeare’s influence on drama and literature—and even the English language itself—is unprecedented. Surprisingly, the renowned playwright’s life is full of mystery. This biography presents what is known about Shakespeare as well as the current theories about the unknown, even touching on the controversies about the authorship of some of his plays. Readers will also become familiar with 16th-century England, the monarchs Shakespeare entertained, and what being an actor was like at that time. Doubtless, the introduction to his masterpieces will inspire young thespians to read or attend one of the dramatist’s great works.","English",31.95,23.95,"822.3’3--dc23","32 pp.",{"$f":"Table1[[#This Row],['# Books]]*Table1[[#This Row],[QTY]]","v":0},{"$f":"Table1[[#This Row],[QTY]]*Table1[[#This Row],[S&L Price]]","v":0}]
[null,75,null,"Great Artists",1,"Georges Seurat","Library Bound Book",null,"978-1-4824-1455-4",2015,"August 2014","Library","8.500 X 11.00","Author","Iain Zaczek",null,null,40,null,"R",null,"Grade 4","Grade 3 - 6","When one thinks of Georges Seurat, one artistic technique should come to mind: pointillism. Through Seurat’s study of color and light, he came to use tiny dots to create gorgeous, unique colors. Readers see full-color photographs of some of his most famous pieces, such as A Sunday Afternoon on La Grande Jatte. Close-up images of small parts of the works call readers’ attention to interesting details, like the child in this painting who’s looking straight out of the canvas. Through clear instructions, readers can learn how to do a pointillist painting, too—if they have the patience!","English",26.6,19.95,"759.4","32 pp.",{"$f":"Table1[[#This Row],['# Books]]*Table1[[#This Row],[QTY]]","v":0},{"$f":"Table1[[#This Row],[QTY]]*Table1[[#This Row],[S&L Price]]","v":0}]
[null,75,null,"Great Artists",1,"Mary Cassatt","eBook",null,"978-1-4824-1379-3",2015,"August 2014",null,null,"Author","Iain Zaczek",null,null,40,null,"R",null,"Grade 4","Grade 3 - 6","Mary Cassatt said, “There are two ways for a painter: the broad and easy one or the narrow and hard one.” Though born in Pennsylvania, Cassatt studied traditional art in Europe, but was eventually influenced by the Impressionists and Japanese prints. Full-color photographs of her works, including At the Opera, demonstrate her techniques, which readers can learn to emulate. Details and interesting trivia about her pieces are called out, such as the reason the figure in Young Woman Sewing in a Garden is wearing white. Cassatt wanted other colors to be reflected on it!","English",26.6,19.95,"759.13","32 pp.",{"$f":"Table1[[#This Row],['# Books]]*Table1[[#This Row],[QTY]]","v":0},{"$f":"Table1[[#This Row],[QTY]]*Table1[[#This Row],[S&L Price]]","v":0}]
[null,75,null,"Heroes of Black History",6,"Heroes of Black History","Library Set",null,"978-1-4824-2552-9",2016,"August 2015","Library","8.500 X 11.00",null,"",null,null,null,null,null,null,"Grade 3 - 4","Grade 3 - 6","The intriguing lives of the greatest heroes of black history hold lessons, inspiration, and hope for the future of race relations in our world. Each volume of this valuable series contains both biographical and historical information about some of the most important black leaders, reformers, and pioneers. The Buffalo Soldiers, Nelson Mandela, and Sojourner Truth are just a few of the people featured in this essential collection. The impact of their actions and ideas on people of all races around the world is a focal point of each text, while historical photographs and illustrations provide a visual understanding of the era. \n\n\n\n\n\n• \tSidebars offer additional information and contribute to eye-catching layout\n\n\n• \tGraphic organizers summarize and stress significant elements of the text\n\n\n• \tAn effective way to address Common Core informational text skills through history and social studies content\n","English",159.6,119.7,null,"32 pp.",{"$f":"Table1[[#This Row],['# Books]]*Table1[[#This Row],[QTY]]","v":0},{"$f":"Table1[[#This Row],[QTY]]*Table1[[#This Row],[S&L Price]]","v":0}]
[null,75,null,"Heroes of Black History",1,"Buffalo Soldiers","Library Bound Book",null,"978-1-4824-2902-2",2016,"August 2015","Library","8.500 X 11.00","Author","Christine Honders",6.3,0.5,40,null,"Q",null,"Grade 3 - 4","Grade 3 - 6","In the mid-1880s, the first black regiments of the US Army were nicknamed \"buffalo soldiers\" by Native Americans, a name that stuck. In the nearly 85 years of service that followed, buffalo soldiers served on the western frontier as well as in conflicts in Cuba, the Philippines, and Mexico. These courageous men became known for their discipline, among other admirable qualities. Sadly, they continued to face great prejudice in their own country despite stellar military records. Photographs of the soldiers, accounts of their exploits, and a timeline highlighting important moments of service further reveal the bravery of these troops.","English",26.6,19.95,"973.8","32 pp.",{"$f":"Table1[[#This Row],['# Books]]*Table1[[#This Row],[QTY]]","v":0},{"$f":"Table1[[#This Row],[QTY]]*Table1[[#This Row],[S&L Price]]","v":0}]
[null,75,null,"Heroes of Black History",1,"Sojourner Truth","eBook",null,"978-1-4824-2915-2",2016,"August 2015",null,null,"Author","Heather Moore Niver",5.3,0.5,40,null,"R",null,"Grade 3 - 4","Grade 3 - 6","Sojourner Truth is best known for her famous speech at the Ohio Women's Rights Convention in 1851 in which she asked, \"Ain't I a woman?\"  Born into slavery in 1797, she escaped to freedom with her baby daughter by 1826. But freedom held hardships for Truth, too. Despite all odds, this extraordinary woman fought for rights for both blacks and women as well as other disenfranchised populations. This in-depth account of the fascinating life of the abolitionist is a must-read in any social studies collection.","English",26.6,19.95,"306.3","32 pp.",{"$f":"Table1[[#This Row],['# Books]]*Table1[[#This Row],[QTY]]","v":0},{"$f":"Table1[[#This Row],[QTY]]*Table1[[#This Row],[S&L Price]]","v":0}]
[null,75,null,"Heroes of Black History",1,"W. E. B. Du Bois","eBook",null,"978-1-4824-2923-7",2016,"August 2015",null,null,"Author","Hilary Lochte",6.9,0.5,40,null,"R",null,"Grade 3 - 4","Grade 3 - 6","W. E. B. DuBois tackled the great question of the early twentieth century: How could African Americans gain equal footing with whites in the United States? He studied the social conditions of blacks for more than a decade before espousing protest and agitation as vehicles for change. This stand and black nationalist ideas put him at odds with other reformers of the day, such as Booker T. Washington. This outstanding biography of the great leader details his life as well as his roles in the Niagara Movement and the NAACP.","English",26.6,19.95,"323.092—dc23","32 pp.",{"$f":"Table1[[#This Row],['# Books]]*Table1[[#This Row],[QTY]]","v":0},{"$f":"Table1[[#This Row],[QTY]]*Table1[[#This Row],[S&L Price]]","v":0}]
[null,77,null,"Dynamic Duos of Science",1,"Charles Darwin and Alfred Russel Wallace","eBook",null,"978-1-4824-1350-2",2015,"August 2014",null,null,"Author","Mary Colson",null,null,44,null,"V",null,"Grade 5 - 6","Grade 5 - 8","While Charles Darwin is familiar to so many, Alfred Wallace's contribution to science and especially to the theory of evolution was invaluable. The two traveled the world separately and developed their ideas separately, but Darwin published his theory first. Rather than become enemies, they both worked to promote acceptance of the controversial ideas. Readers will be interested in the biographies of these globetrotting scientists as well as actual quotes that aid in a better understanding of the men and their motivations.","English",31.95,23.95,"576.8","48 pp.",{"$f":"Table1[[#This Row],['# Books]]*Table1[[#This Row],[QTY]]","v":0},{"$f":"Table1[[#This Row],[QTY]]*Table1[[#This Row],[S&L Price]]","v":0}]
[null,77,null,"Dynamic Duos of Science",1,"James Watson and Francis Crick","Library Bound Book",null,"978-1-4824-1471-4",2015,"August 2014","Library","8.000 X 10.00","Author","Matt Anniss",null,null,44,null,"V",null,"Grade 5 - 6","Grade 5 - 8","Watson and Crick are synonymous with DNA, the \"instructions for life.\" But how did these scientists figure out something as elusive and complicated as the structure of DNA? Readers will learn about the different backgrounds of these two gifted scientists and what ultimately led them to each other. Their friendship, shared interests, and common obsessions held them together during the frenzied race to unlock the mysteries of DNA in the mid-twentieth century. Along with explanations about how DNA works, the repercussions of the dynamic duo's eventual discovery will especially fascinate young scientists.","English",31.95,23.95,"574.87","32 pp.",{"$f":"Table1[[#This Row],['# Books]]*Table1[[#This Row],[QTY]]","v":0},{"$f":"Table1[[#This Row],[QTY]]*Table1[[#This Row],[S&L Price]]","v":0}]
[null,77,null,"Dynamic Duos of Science",1,"Nikola Tesla and Thomas Edison","eBook",null,"978-1-4824-1346-5",2015,"August 2014",null,null,"Author","Robyn Hardyman",null,null,44,null,"V",null,"Grade 5 - 6","Grade 5 - 8","Together, Nikola Tesla and Thomas Edison revolutionized electricity, and society, in the late 1800s and early 1900s. Readers will learn how these geniuses did this as well as the science behind many of their inventions and experiments. They'll also discover little-known anecdotes and facts about the inventors. For example, Edison was nearly deaf since childhood, while Tesla may have inherited his ingenuity from his inventor mother! These two scientists might not have often agreed, but perhaps as foils they encouraged each other's best work. Relevant quotes and interesting fact boxes increase the appeal of this fascinating text.","English",31.95,23.95,"621.3","32 pp.",{"$f":"Table1[[#This Row],['# Books]]*Table1[[#This Row],[QTY]]","v":0},{"$f":"Table1[[#This Row],[QTY]]*Table1[[#This Row],[S&L Price]]","v":0}]
[null,77,null,"History's Most Murderous Villains",1,"Attila the Hun: Enemy of Ancient Rome","eBook",null,"978-1-4824-4783-5",2017,"August 2016",null,null,"Author","Arthur K. Britton",6.8,1,null,null,"T",null,"Grade 4 - 5","Grade 4 - 6","The Romans called Attila the Hun the “Scourge of God,” and he stands out as one of the most brutal barbarians of the ancient world. Though historians know surprisingly little about Attila, what they do know confirms that he was an incredibly successful leader. He united bands of his people to conquer large sections of Europe in the fifth century. The vicious tactics of these nomadic peoples are matched only by the storied biography of their leader. This fascinating account of Attila is supported by ancient primary sources as well as imaginative artwork depicting the ruler and his people.","English",26.6,19.95,"936/.03092--dc23","32 pp.",{"$f":"Table1[[#This Row],['# Books]]*Table1[[#This Row],[QTY]]","v":0},{"$f":"Table1[[#This Row],[QTY]]*Table1[[#This Row],[S&L Price]]","v":0}]
[null,77,null,"History's Most Murderous Villains",1,"Ivan the Terrible: Terrifying Tyrant of Russia","Library Bound Book",null,"978-1-4824-4796-5",2017,"August 2016","Library","6.500 X 9.125","Author","Ryan Nagelhout",6.2,1,null,null,"S",null,"Grade 4 - 5","Grade 4 - 6","Does Ivan Vasilyevich, also known as Ivan the Terrible, deserve his menacing moniker? The grand prince of Moscow built an empire in the 16th century to become the first tsar of Russia in 1547. Though his achievements were considerable during his time in power, his suspicions about the loyalty of his subjects led to thousands of executions, casting a bloody pall over his entire reign. This story of an intriguing—though chilling—ruler will captivate readers as well as give them an understanding of the conflicts in Europe and Asia at this time.","English",26.6,19.95,"947/.043092--dc23","48 pp.",{"$f":"Table1[[#This Row],['# Books]]*Table1[[#This Row],[QTY]]","v":0},{"$f":"Table1[[#This Row],[QTY]]*Table1[[#This Row],[S&L Price]]","v":0}]
[null,77,null,"History's Most Murderous Villains",1,"Nero: Ruthless Roman Emperor","Library Bound Book",null,"978-1-4824-4801-6",2017,"August 2016","Library","6.500 X 9.125","Author","Shalini Saxena",6.1,1,null,null,"S",null,"Grade 4 - 5","Grade 4 - 6","Nero was the ruthless ruler who “fiddled while Rome burned”—or was he? The fifth Roman emperor’s reputation is unsavory at best. However, in this detailed biography, Nero’s reign is thoroughly examined, casting doubt on some of the criticisms of the leader. Readers will be fascinated by the machinations of the royal Roman household that led to the rise and fall of the famous emperor. The carefully selected photographs reveal artwork and artifacts of the time period, while sidebars and fact boxes bring more valuable information about ancient Roman culture to light.","English",26.6,19.95,"937/.07092--dc23","48 pp.",{"$f":"Table1[[#This Row],['# Books]]*Table1[[#This Row],[QTY]]","v":0},{"$f":"Table1[[#This Row],[QTY]]*Table1[[#This Row],[S&L Price]]","v":0}]
[null,78,null,"Superheroes of Science",1,"Galileo: Conqueror of the Stars","Library Bound Book",null,"978-1-4824-3138-4",2016,"August 2015","Library","7.250 X 9.250","Author","Nancy Dickmann",7.1,1,null,null,"W",null,"Grade 6","Grade 6 - 8","Questioning established knowledge isn’t usually a popular course of action. Galileo learned this throughout his life as he tested scientific theories using mathematical calculations. He challenged the Catholic Church and Aristotle, which got him into trouble, but also added him to the pantheon of great scientists. Readers learn all about Galileo’s most important discoveries through the story of his life, complete with historical images. Sidebars add detail and understandable explanations to the main content, including concepts such as the scientific method and the planets orbiting the sun.","English",31.95,23.95,"520","48 pp.",{"$f":"Table1[[#This Row],['# Books]]*Table1[[#This Row],[QTY]]","v":0},{"$f":"Table1[[#This Row],[QTY]]*Table1[[#This Row],[S&L Price]]","v":0}]
[null,78,null,"Superheroes of Science",1,"Mary Anning: Fossil Hunter","eBook",null,"978-1-4824-3147-6",2016,"August 2015",null,null,"Author","Robert Snedden",7.6,1,null,null,"W",null,"Grade 6","Grade 6 - 8","In 2010, the Royal Society named Mary Anning one of the 10 British women most influential in the history of science. Though she wasn’t appreciated in her time because she was a woman, Anning certainly earned this distinction. Readers are introduced to one of the premier fossil hunters of 19th century England through biography, historic images, and detailed sidebars. Anning learned how to find and clean fossils from her father and began doing so when she was a child. With this in mind, readers can find inspiration—as well as interesting scientific content—in her story.","English",31.95,23.95,"560","48 pp.",{"$f":"Table1[[#This Row],['# Books]]*Table1[[#This Row],[QTY]]","v":0},{"$f":"Table1[[#This Row],[QTY]]*Table1[[#This Row],[S&L Price]]","v":0}]
[null,78,null,"Superheroes of Science",1,"Stephen Hawking: Master of the Cosmos","Library Bound Book",null,"978-1-4824-3158-2",2016,"August 2015","Library","7.250 X 9.250","Author","Robert Snedden",7.6,1,null,null,"W",null,"Grade 6","Grade 6 - 8","One of the most important physicists of all time, Stephen Hawking isn’t only a brilliant scientist—he’s an inspiration. Hawking was diagnosed with a muscular disease as a young adult, making movement and later speech very difficult. However, he still was able to make discoveries about space and time that no one could have imagined. In this detailed biography, readers learn about Hawking’s life, including his childhood, schooling, and writing of A Brief History of Time. Full-color images and sidebars help readers understand Hawking’s research as well as the inner workings of a legendary scientist.","English",31.95,23.95,"539.092","48 pp.",{"$f":"Table1[[#This Row],['# Books]]*Table1[[#This Row],[QTY]]","v":0},{"$f":"Table1[[#This Row],[QTY]]*Table1[[#This Row],[S&L Price]]","v":0}]
[null,78,null,"Superheroes of Science",1,"Stephen Hawking: Master of the Cosmos","eBook",null,"978-1-4824-3159-9",null,"August 2015",null,null,"Author","Robert Snedden",7.6,1,null,null,"W",null,"Grade 6","Grade 6 - 8","One of the most important physicists of all time, Stephen Hawking isn’t only a brilliant scientist—he’s an inspiration. Hawking was diagnosed with a muscular disease as a young adult, making movement and later speech very difficult. However, he still was able to make discoveries about space and time that no one could have imagined. In this detailed biography, readers learn about Hawking’s life, including his childhood, schooling, and writing of A Brief History of Time. Full-color images and sidebars help readers understand Hawking’s research as well as the inner workings of a legendary scientist.","English",31.95,23.95,"539.092","48 pp.",{"$f":"Table1[[#This Row],['# Books]]*Table1[[#This Row],[QTY]]","v":0},{"$f":"Table1[[#This Row],[QTY]]*Table1[[#This Row],[S&L Price]]","v":0}]
[null,78,null,"Wanted! Famous Outlaws",1,"Blackbeard: A Notorious Pirate in the Caribbean","eBook",null,"978-1-4824-4250-2",2016,"January 2016",null,null,"Author","Tim Cooke",null,null,null,null,"R",null,"Grade 6 - 8","Grade 6 - 8","Edward Teach, otherwise known as the pirate Blackbeard, was a terror of the seas in the 1700s. Merchant ships had little choice but to surrender to his 40-cannon Queen Anne’s Revenge. At one point, Teach accepted a pardon but couldn’t retire from piracy for good. This adventurous volume takes readers into the background of the famous figure, explains the origins of his striking monikor, and describes the bloody skirmish that ended his life. Sidebars and fact boxes offer more information about both pirates and privateers and the perils of each chosen path. Beautiful illustrations and photographs further enhance this high-interest book.","English",31.95,23.95,"910.4'5—dc23","48 pp.",{"$f":"Table1[[#This Row],['# Books]]*Table1[[#This Row],[QTY]]","v":0},{"$f":"Table1[[#This Row],[QTY]]*Table1[[#This Row],[S&L Price]]","v":0}]
[null,78,null,"Wanted! Famous Outlaws",1,"Jesse James: A Notorious Bank Robber of the Wild West","Library Bound Book",null,"978-1-4824-4261-8",2016,"January 2016","Library","7.250 X 9.250","Author","Tim Cooke",null,null,null,null,"R",null,"Grade 6 - 8","Grade 6 - 8","Jesse James’s rise as a notorious outlaw was concurrent with the upheaval the West experienced before, during, and after the American Civil War. In fact, Jesse and his brother Frank became heroes to many who viewed them as Confederates battling the Union more than murderers and thieves. This thought-provoking volume tells the story of Jesse, from childhood to violent death, as well as relates valuable information about events in the United States that cultivated outlaws like the James brothers, including Bleeding Kansas and Reconstruction. The infamous man comes to life through photographs, illustrations, and an exciting narrative.","English",31.95,23.95,"364.1552092—dc23","32 pp.",{"$f":"Table1[[#This Row],['# Books]]*Table1[[#This Row],[QTY]]","v":0},{"$f":"Table1[[#This Row],[QTY]]*Table1[[#This Row],[S&L Price]]","v":0}]
[null,80,null,"Be a Scientist!",1,"Be a Geologist","Library Bound Book",null,"978-1-4824-1440-0",2015,"August 2014","Library","7.750 X 10.00","Author","Ryan Nagelhout",null,null,40,null,"Q",null,"Grade 3 - 4","Grade 3 - 6","While some scientists look to the stars, others look at the ground. Geologists are scientists who study the rocks under our feet, the soil in our gardens, and the many processes that make Earth continuously shape and reshape itself, such as weathering and erosion. This appealing book focuses on the different kinds of geologists and the significant work they do. It also describes the rock cycle, plate tectonics, and some other important earth-science concepts that will inspire readers to consider a career in geology.","English",26.6,19.95,"550","32 pp.",{"$f":"Table1[[#This Row],['# Books]]*Table1[[#This Row],[QTY]]","v":0},{"$f":"Table1[[#This Row],[QTY]]*Table1[[#This Row],[S&L Price]]","v":0}]
[null,80,null,"Be a Scientist!",1,"Be a Meteorologist","Library Bound Book",null,"978-1-4824-1442-4",2015,"August 2014","Library","7.750 X 10.00","Author","Kristen Rajczak Nelson",null,null,40,null,"Q",null,"Grade 3 - 4","Grade 3 - 6","Meteorology is a science that deals with the always changing, always fascinating atmosphere of Earth. Meteorologists don't just deal with rain, wind, and snow; they're also on the lookout for life-altering events such as hurricanes and tornadoes. This accessible book explains the career options of a meteorologist, including television and NASA. It also delves into the past history of meteorology as well as the modern technology that meteorologists now have to aid them.","English",26.6,19.95,"551.5023","32 pp.",{"$f":"Table1[[#This Row],['# Books]]*Table1[[#This Row],[QTY]]","v":0},{"$f":"Table1[[#This Row],[QTY]]*Table1[[#This Row],[S&L Price]]","v":0}]
[null,80,null,"Be a Scientist!",1,"Be a Zoologist","eBook",null,"978-1-4824-1407-3",2015,"August 2014",null,null,"Author","Blair Belton",null,null,40,null,"R",null,"Grade 3 - 4","Grade 3 - 6","People pursuing careers in zoology usually focus on certain groups of animals. Herpetologists study reptiles and amphibians, and entomologists are experts on insects. They don't just work at zoos, either. They're teachers, writers, researchers, and more. Some zoologists work in labs and classrooms, while others travel the oceans and trek over mountains. A deep interest in animals and understanding of biology is needed to succeed in this high-interest career. Animal lovers will enjoy learning about different kinds of animals as well as considering the many facets of this profession.","English",26.6,19.95,"590.92","48 pp.",{"$f":"Table1[[#This Row],['# Books]]*Table1[[#This Row],[QTY]]","v":0},{"$f":"Table1[[#This Row],[QTY]]*Table1[[#This Row],[S&L Price]]","v":0}]
[null,80,null,"Creative Careers",6,"Creative Careers","Library Set",null,"978-1-4824-1184-3",2015,"August 2014","Library","8.000 X 10.00",null,"",null,null,null,null,null,null,"Grade 4 - 5","Grade 4 - 8","Artistic and inventive young people have more career choices than they might think. Imaginative horticulturists might consider a career as a landscape designer. Inspired fashionistas should think about makeup or costume design. Innovative young foodies will want to know how to get started as a chef. This series provides a comprehensive view of these and other creative careers, including the skills, interests, and characteristics someone interested in pursuing such a career should have. Readers will be especially interested in learning what they can do right now to prepare themselves for their future profession.   • Colorful photographs provide glimpses of professionals at work   • \"Did You Know?\" boxes add entertaining facts to the bright layout   • Description of each occupation includes career-specific vocabulary   ","English",191.7,143.69999999999999,null,"48 pp.",{"$f":"Table1[[#This Row],['# Books]]*Table1[[#This Row],[QTY]]","v":0},{"$f":"Table1[[#This Row],[QTY]]*Table1[[#This Row],[S&L Price]]","v":0}]
[null,80,null,"Creative Careers",1,"Interior Designer","Library Bound Book",null,"978-1-4824-1447-9",2015,"August 2014","Library","8.000 X 10.00","Author","Helen Mason",null,null,40,null,"S",null,"Grade 4 - 5","Grade 4 - 8","Interior design involves much more than just making a room look good; it also means creating a space that's comfortable and practical for clients' needs. Interior designers use creativity, organizational skills, and understanding of fabrics, furniture, color schemes, and more to create a perfect space. Readers of this valuable resource will discover the multiple kinds of interior design and find out what a day in the life of an interior designer is like. Those who aspire to this fascinating career will learn if they have what it takes to excel in the world of design.","English",31.95,23.95,"729","24 pp.",{"$f":"Table1[[#This Row],['# Books]]*Table1[[#This Row],[QTY]]","v":0},{"$f":"Table1[[#This Row],[QTY]]*Table1[[#This Row],[S&L Price]]","v":0}]
[null,80,null,"Creative Careers",1,"Interior Designer","eBook",null,"978-1-4824-1340-3",2015,"August 2014",null,null,"Author","Helen Mason",null,null,40,null,"S",null,"Grade 4 - 5","Grade 4 - 8","Interior design involves much more than just making a room look good; it also means creating a space that's comfortable and practical for clients' needs. Interior designers use creativity, organizational skills, and understanding of fabrics, furniture, color schemes, and more to create a perfect space. Readers of this valuable resource will discover the multiple kinds of interior design and find out what a day in the life of an interior designer is like. Those who aspire to this fascinating career will learn if they have what it takes to excel in the world of design.","English",31.95,23.95,"729","24 pp.",{"$f":"Table1[[#This Row],['# Books]]*Table1[[#This Row],[QTY]]","v":0},{"$f":"Table1[[#This Row],[QTY]]*Table1[[#This Row],[S&L Price]]","v":0}]
[null,80,null,"Creative Careers",1,"Urban Planner","Library Bound Book",null,"978-1-4824-1451-6",2015,"August 2014","Library","8.000 X 10.00","Author","Helen Mason",null,null,40,null,"S",null,"Grade 4 - 5","Grade 4 - 8","Urban planners are problem solvers. They find out how housing, transportation, business, and recreational areas can work together to create a successful community. They consult with city officials, developers, and the public during the planning process. This fascinating career can involve restoring historic buildings and conserving natural resources as well as overseeing construction. This book examines the history of urban planning as well as the challenges these resourceful professionals face today. Readers will learn what it takes to prepare for this fascinating and influential career.","English",31.95,23.95,"307.1","24 pp.",{"$f":"Table1[[#This Row],['# Books]]*Table1[[#This Row],[QTY]]","v":0},{"$f":"Table1[[#This Row],[QTY]]*Table1[[#This Row],[S&L Price]]","v":0}]
[null,81,null,"Ingredients for a Healthy Life",1,"Fantastic Fruit Recipes","eBook",null,"978-1-4824-0567-5",2015,"August 2014",null,null,"Author","Kristen Rajczak Nelson",null,null,28,20,"M",null,"Grade 2 - 3","Grade 2 - 5","There are so many different kinds of fruit in the world, it’s hard to choose a favorite. Apples, oranges, and bananas are the fruits most commonly eaten in the United States, but even more exotic varieties like mangoes and star fruit are easily found in many grocery stores. Through colorful photographs and mouthwatering recipes, readers will be reintroduced to some of the tastiest—and healthiest—fruits. Step-by-step instructions will guide readers through each recipe, while fun fact boxes and main content highlight the health benefits and usefulness of strawberries, lemons, and more.","English",22.6,16.95,"641.3","32 pp.",{"$f":"Table1[[#This Row],['# Books]]*Table1[[#This Row],[QTY]]","v":0},{"$f":"Table1[[#This Row],[QTY]]*Table1[[#This Row],[S&L Price]]","v":0}]
[null,81,null,"Ingredients for a Healthy Life",1,"Very Tasty Vegetable Recipes","Library Bound Book",null,"978-1-4824-0575-0",2015,"August 2014","Library","8.500 X 8.500","Author","Kristen Rajczak Nelson",null,null,28,20,"M",null,"Grade 2 - 3","Grade 2 - 5","A diet rich in vegetables is one of the best ways to prevent disease, maintain a healthy weight, and keep all the body’s systems functioning well. Nonetheless, veggies are often met with a resounding “Yuck!” For many people, that’s because they haven’t found the kinds of vegetables they like or learned to cook them well. Readers will learn about many different vegetables and the health benefits of eating a variety every day. Cooking tips, facts boxes, and colorful photographs enhance delicious step-by-step recipes that will have readers asking for cucumber instead of chips and sweet potato instead of sweets!","English",22.6,16.95,"641.6","32 pp.",{"$f":"Table1[[#This Row],['# Books]]*Table1[[#This Row],[QTY]]","v":0},{"$f":"Table1[[#This Row],[QTY]]*Table1[[#This Row],[S&L Price]]","v":0}]
[null,81,null,"Ingredients for a Healthy Life",1,"Very Tasty Vegetable Recipes","eBook",null,"978-1-4824-0577-4",2015,"August 2014",null,null,"Author","Kristen Rajczak Nelson",null,null,28,20,"M",null,"Grade 2 - 3","Grade 2 - 5","A diet rich in vegetables is one of the best ways to prevent disease, maintain a healthy weight, and keep all the body’s systems functioning well. Nonetheless, veggies are often met with a resounding “Yuck!” For many people, that’s because they haven’t found the kinds of vegetables they like or learned to cook them well. Readers will learn about many different vegetables and the health benefits of eating a variety every day. Cooking tips, facts boxes, and colorful photographs enhance delicious step-by-step recipes that will have readers asking for cucumber instead of chips and sweet potato instead of sweets!","English",22.6,16.95,"641.6","32 pp.",{"$f":"Table1[[#This Row],['# Books]]*Table1[[#This Row],[QTY]]","v":0},{"$f":"Table1[[#This Row],[QTY]]*Table1[[#This Row],[S&L Price]]","v":0}]
[null,82,null,"What Would You Choose?",1,"Perilous Places","eBook",null,"978-1-4824-6177-0",2017,"January 2017",null,null,"Author","Helen Greathead",null,null,null,null,"R",null,"Grade 4 - 5","Grade 4 - 6","Both the ocean floor and the moon are dangerous places. The water pressure deep underwater is 1,000 times greater than the pressure at sea level. On the moon, humans can’t survive without a spacesuit and provisions. How could you choose between visiting these places? Throughout this book, readers weigh their options of visiting perilous places such as the Mariana Trench and risky events such as running with the bulls. Exciting facts about each option are presented alongside full-color photographs, highlighting the thrill of each. Readers use decision-making skills to choose—only to find another tough choice on the next page!","English",26.6,19.95,"578.4’7--d23","48 pp.",{"$f":"Table1[[#This Row],['# Books]]*Table1[[#This Row],[QTY]]","v":0},{"$f":"Table1[[#This Row],[QTY]]*Table1[[#This Row],[S&L Price]]","v":0}]
[null,83,null,"Mystery Hunters",6,"Mystery Hunters","Library Set",null,"978-1-4824-5857-2",2017,"January 2017","Library","7.250 X 9.250",null,"",null,null,null,null,null,null,"Grade 5","Grade 4 - 6","Some legends won’t die—which might mean they aren’t just legends! Mysteries involving the Bermuda Triangle, Atlantis, UFOs and aliens, and the tomb of King Tutankhamen are just some of the captivating cases in this intriguing series. Each volume presents legendary accounts as well as the science and history involved in each mystery. Readers are encouraged to use significant details as evidence, eventually deciding for themselves if they believe each mystery is plausible. Both imaginative images and real-life photographs add to the thought-provoking text.","English",191.7,143.69999999999999,null,"48 pp.",{"$f":"Table1[[#This Row],['# Books]]*Table1[[#This Row],[QTY]]","v":0},{"$f":"Table1[[#This Row],[QTY]]*Table1[[#This Row],[S&L Price]]","v":0}]
[null,83,null,"Mystery Hunters",1,"Fakes and Hoaxes","Library Bound Book",null,"978-1-4824-6006-3",2017,"January 2017","Library","7.250 X 9.250","Author","Sarah Levete",6.7,1,null,null,"T",null,"Grade 5","Grade 4 - 6","The best fakes and hoaxes have just enough truth to lure people into the deception. This comprehensive book showcases some infamous hoaxes as well  as supposed-hoaxes that people won’t stop believing—Bigfoot, anyone? There’s so much to explore, from ancient lore of fairies and sea monsters to modern-day hoax baseball players and superhumans! Each high-interest subject is paired with imaginative images and colorful photographs. “Mysterious Facts” boxes list further points of proof. Readers will especially find a chapter on Internet hoaxes and digital forgeries applicable to their lives.","English",31.95,23.95,"001.9’5--dc23","24 pp.",{"$f":"Table1[[#This Row],['# Books]]*Table1[[#This Row],[QTY]]","v":0},{"$f":"Table1[[#This Row],[QTY]]*Table1[[#This Row],[S&L Price]]","v":0}]
[null,83,null,"Mystery Hunters",1,"The Bermuda Triangle and Other Danger Zones","Library Bound Book",null,"978-1-4824-6002-5",2017,"January 2017","Library","7.250 X 9.250","Author","Sarah Levete",6.6,1,null,null,"S",null,"Grade 5","Grade 4 - 6","The Bermuda Triangle is infamous for inexplicably “swallowing” ships and airplanes, never to be seen again. Other areas of the world have similarly ominous reputations, including the aptly named Death Valley and Devil’s Sea. Readers will love the tales in this well-crafted book, which also incorporates impressive information about the geography and climate of these locations. These elements are important to the mysterious events that occur there. With the motivating help of awesome images and photos, readers will critically evaluate the evidence and decide whether they’d dare venture into these “danger zones.”","English",31.95,23.95,"001.94--dc23","24 pp.",{"$f":"Table1[[#This Row],['# Books]]*Table1[[#This Row],[QTY]]","v":0},{"$f":"Table1[[#This Row],[QTY]]*Table1[[#This Row],[S&L Price]]","v":0}]
[null,83,null,"Mystery Hunters",1,"Tombs and Cursed Treasure","eBook",null,"978-1-4824-6014-8",2017,"January 2017",null,null,"Author","Robyn Hardyman",6.7,1,null,null,"S",null,"Grade 5","Grade 4 - 6","Long-told tales of lost tombs and hidden treasure have survived even into today’s atmosphere of skepticism. Some of these artifacts definitely exist—their locations have just been forgotten. Others are truly myths. Readers want to know what is legend and which treasure to pursue. This compelling tome is their guide! There’s plenty of history to explore as they learn about lost Inca gold, cursed Egyptian crypts, poisoned tombs in China, the missing grave of Genghis Khan, and untold amounts of shipwrecked treasure. A beautiful design including historical and fantastical images serves to heighten interest in this must-read volume.","English",31.95,23.95,"930.1--dc23","24 pp.",{"$f":"Table1[[#This Row],['# Books]]*Table1[[#This Row],[QTY]]","v":0},{"$f":"Table1[[#This Row],[QTY]]*Table1[[#This Row],[S&L Price]]","v":0}]
[null,84,null,"Just Kidding!",1,"Jokes and More About Dogs","eBook",null,"978-1-4824-0544-6",2015,"August 2014",null,null,"Author","Maria Nelson",null,null,20,20,"K",null,"Grade 2 - 3","Grade 2 - 5","Every dog owner knows how silly his or her pup can be. Dogs' behavior can be strange—such as barking at the vacuum cleaner—and downright sneaky, like stealing peanut butter sandwiches off the table. Readers will enjoy learning about man’s best friend, while they giggle through playful puns, ridiculous riddles, and wonderful word play. Colorful, cute illustrations and photographs complement facts about dogs—and many happen to be doggone funny!","English",22.6,16.95,"818","24 pp.",{"$f":"Table1[[#This Row],['# Books]]*Table1[[#This Row],[QTY]]","v":0},{"$f":"Table1[[#This Row],[QTY]]*Table1[[#This Row],[S&L Price]]","v":0}]
[null,84,null,"Just Kidding!",1,"Jokes and More About Monkeys and Apes","Library Bound Book",null,"978-1-4824-0550-7",2015,"August 2014","Library","8.500 X 8.500","Author","Maria Nelson",null,null,20,20,"K",null,"Grade 2 - 3","Grade 2 - 5","Monkeys and apes have a reputation for being funny animals. At zoos, the monkey house is one of the most popular places to visit because they do many things that seem awfully silly to people! Readers will enjoy having a whole bunch of jokes to tell about our primate friends. Cool facts, colorful photographs, and illustrations engage readers as they navigate wordplay, puns, and fun. In this case, monkeying around is a good thing!","English",22.6,16.95,"793.735","32 pp.",{"$f":"Table1[[#This Row],['# Books]]*Table1[[#This Row],[QTY]]","v":0},{"$f":"Table1[[#This Row],[QTY]]*Table1[[#This Row],[S&L Price]]","v":0}]
[null,84,null,"Just Kidding!",1,"Jokes and More About Monkeys and Apes","eBook",null,"978-1-4824-0552-1",2015,"August 2014",null,null,"Author","Maria Nelson",null,null,20,20,"K",null,"Grade 2 - 3","Grade 2 - 5","Monkeys and apes have a reputation for being funny animals. At zoos, the monkey house is one of the most popular places to visit because they do many things that seem awfully silly to people! Readers will enjoy having a whole bunch of jokes to tell about our primate friends. Cool facts, colorful photographs, and illustrations engage readers as they navigate wordplay, puns, and fun. In this case, monkeying around is a good thing!","English",22.6,16.95,"793.735","32 pp.",{"$f":"Table1[[#This Row],['# Books]]*Table1[[#This Row],[QTY]]","v":0},{"$f":"Table1[[#This Row],[QTY]]*Table1[[#This Row],[S&L Price]]","v":0}]
[null,84,null,"Q & A: Life's Mysteries Solved!",1,"Do Cows Have Two Stomachs?: And Other FAQs About Animals","eBook",null,"978-1-4824-4779-8",2017,"August 2016",null,null,"Author","Therese M. Shea",5,0.5,null,null,"Q","820L","Grade 3 - 4","Grade 3 - 6","Animals have a lot in common with people: they eat, sleep, and have babies. That’s sometimes where the similarities end! Rabbits, for example, eat their own poop so they can digest even more nutrients than they did the first time around. Readers might find this and other facts gross, but they’ll also love to repeat them! Full-color photographs and diagrams complement a fun design full of surprising and interesting information about animal bodies and behavior. Informal language draws readers into science concepts covering simple biology and environmental adaptation.","English",26.6,19.95,"590--dc23","32 pp.",{"$f":"Table1[[#This Row],['# Books]]*Table1[[#This Row],[QTY]]","v":0},{"$f":"Table1[[#This Row],[QTY]]*Table1[[#This Row],[S&L Price]]","v":0}]
[null,84,null,"Q & A: Life's Mysteries Solved!",1,"How Do You Gain Time When You Fly West?: And Other FAQs About Time and Travel","Library Bound Book",null,"978-1-4824-4754-5",2017,"August 2016","Library","8.500 X 11.00","Author","Kristen Rajczak Nelson",5.3,0.5,null,null,"Q","920L","Grade 3 - 4","Grade 3 - 6","It seems impossible that it could be 6 p.m. in one place and 6 a.m. in another. But, because of time zones and other ideas people around the world have adopted, this happens every day! The most interesting time and travel facts can be complicated. In this book, readers have a chance to figure out how these concepts work in the real world through diagrams, colorful photographs, and conversational language they can understand. Surprising facts and an exciting design will engage readers from the start, but their curiosity will keep them reading!","English",26.6,19.95,"529--dc23","48 pp.",{"$f":"Table1[[#This Row],['# Books]]*Table1[[#This Row],[QTY]]","v":0},{"$f":"Table1[[#This Row],[QTY]]*Table1[[#This Row],[S&L Price]]","v":0}]
[null,84,null,"Q & A: Life's Mysteries Solved!",1,"What Is Earwax Made Of?: And Other FAQs About Your Body","eBook",null,"978-1-4824-4772-9",2017,"August 2016",null,null,"Author","Kristen Rajczak Nelson",4.9000000000000004,0.5,null,null,"Q","840L","Grade 3 - 4","Grade 3 - 6","Earwax is self-cleaning. The only parts of our bodies that don’t have hair are the palms of our hands, the soles of our feet, and our lips. There are so many fascinating facts about our bodies and processes that occur inside it, it’s hard to know everything! Readers learn some of the coolest facts about the human body through a fun and colorful layout. Diagrams, fact boxes, and full-color photographs engage readers with biology concepts presented in an understandable and age-appropriate way.","English",26.6,19.95,"617.8--dc23","48 pp.",{"$f":"Table1[[#This Row],['# Books]]*Table1[[#This Row],[QTY]]","v":0},{"$f":"Table1[[#This Row],[QTY]]*Table1[[#This Row],[S&L Price]]","v":0}]
[null,85,null,"Defend and Protect",1,"Air Force","Library Bound Book",null,"978-1-4824-4108-6",2016,"January 2016","Library","7.250 X 9.250","Author","Robert Snedden",7.5,1,null,null,"S",null,"Grade 4 - 5","Grade 4 - 6","Readers will explore the skies and learn about the diverse jobs performed by a country’s air force personnel. Supplemented with detailed graphics that show the career path from school to a job in the air force, this book shows that there’s more to an air force than just pilots—air crew, technicians, and ground support all play pivotal roles in an air force’s essential duties. Readers also discover how an air force uses cutting-edge technology like GPS in aircraft and weapons systems, and how this technology has trickled down to products readers may use every day and probably take for granted!","English",31.95,23.95,"358.400973—d23","48 pp.",{"$f":"Table1[[#This Row],['# Books]]*Table1[[#This Row],[QTY]]","v":0},{"$f":"Table1[[#This Row],[QTY]]*Table1[[#This Row],[S&L Price]]","v":0}]
[null,85,null,"Defend and Protect",1,"Special Forces","eBook",null,"978-1-4824-4118-5",2016,"January 2016",null,null,"Author","Sarah Levete",7,1,null,null,"S",null,"Grade 4 - 5","Grade 4 - 6","Some men and women in the armed forces shoot right to the top. Special Forces are the elite troops who work alone or in small teams on special and dangerous missions around the world. These high-caliber troops are the best of the best. Green Berets, Delta Force, Navy SEALs, and others perform and engage in secret unseen missions. From training programs and tests through the missions themselves, this book introduces readers to the adventurous and action-filled world of Special Forces, and highlights what it takes to be a part of this exclusive team.","English",31.95,23.95,"356’.160973—d23","96 pp.",{"$f":"Table1[[#This Row],['# Books]]*Table1[[#This Row],[QTY]]","v":0},{"$f":"Table1[[#This Row],[QTY]]*Table1[[#This Row],[S&L Price]]","v":0}]
[null,85,null,"Defend and Protect",1,"Undercover Operations","Library Bound Book",null,"978-1-4824-4129-1",2016,"January 2016","Library","7.250 X 9.250","Author","Sarah Levete",6.9,1,null,null,"S",null,"Grade 4 - 5","Grade 4 - 6","This high-interest book reveals the fascinating and secretive world of undercover operations. Many agencies utilize undercover agents, from local and state police to federal agencies like the CIA, the Secret Service, and the armed forces. Through engaging text, readers learn why there is a need to go undercover and the many clever ways operatives go deep undercover to get information from the enemy. Readers also discover how these agencies use cutting-edge technology to solve cases. Legendary undercover cases from around the world round out this exciting volume and keep readers turning the page.","English",31.95,23.95,"327.12—d23","96 pp.",{"$f":"Table1[[#This Row],['# Books]]*Table1[[#This Row],[QTY]]","v":0},{"$f":"Table1[[#This Row],[QTY]]*Table1[[#This Row],[S&L Price]]","v":0}]
[null,85,null,"Fact or Phony?",1,"The Fact or Fiction Behind Battles and Wars","Library Bound Book",null,"978-1-4824-4268-7",2016,"January 2016","Library","6.000 X 9.000","Author","Kay Barnham",null,null,null,null,"R",null,"Grade 5 - 6","Grade 4 - 6","It has been said that history is written by the victors, but just because someone wins a war doesn’t mean they can keep their facts straight! In this entertaining yet informative book, the facts about history’s greatest wars and battles are separated from fiction with ease. Were elephants really good warriors? This book looks at war stories and decides if they’re solid enough to be called facts. “Battle blunders” highlight some of history’s worst war mistakes, while fact boxes pack this book with information that will dazzle any history buff.","English",33.25,24.95,"133.1—d23","96 pp.",{"$f":"Table1[[#This Row],['# Books]]*Table1[[#This Row],[QTY]]","v":0},{"$f":"Table1[[#This Row],[QTY]]*Table1[[#This Row],[S&L Price]]","v":0}]
[null,85,null,"Fact or Phony?",1,"The Fact or Fiction Behind Battles and Wars","eBook",null,"978-1-4824-4269-4",2016,"January 2016",null,null,"Author","Kay Barnham",null,null,null,null,"R",null,"Grade 5 - 6","Grade 4 - 6","It has been said that history is written by the victors, but just because someone wins a war doesn’t mean they can keep their facts straight! In this entertaining yet informative book, the facts about history’s greatest wars and battles are separated from fiction with ease. Were elephants really good warriors? This book looks at war stories and decides if they’re solid enough to be called facts. “Battle blunders” highlight some of history’s worst war mistakes, while fact boxes pack this book with information that will dazzle any history buff.","English",33.25,24.95,"133.1—d23","96 pp.",{"$f":"Table1[[#This Row],['# Books]]*Table1[[#This Row],[QTY]]","v":0},{"$f":"Table1[[#This Row],[QTY]]*Table1[[#This Row],[S&L Price]]","v":0}]
[null,85,null,"Fact or Phony?",1,"The Fact or Fiction Behind Shakespeare","Library Bound Book",null,"978-1-4824-4277-9",2016,"January 2016","Library","6.000 X 9.000","Author","Kay Barnham",null,null,null,null,"R",null,"Grade 5 - 6","Grade 4 - 6","William Shakespeare wrote some of the most famous plays in history, but there is plenty of misinformation about his life and times. This book dives into those so-called “facts” and discovers what’s real and what’s fake with entertaining ease. Did Shakespeare really burn down the Globe Theatre? Did he write all of his plays on his own? Brilliant fact boxes help provide historical context to Shakespeare’s life and works, while “The Bard’s Best Bits” add Shakespeare quotes and phrases we still use in everyday life to this day.","English",33.25,24.95,"822.33—d23","48 pp.",{"$f":"Table1[[#This Row],['# Books]]*Table1[[#This Row],[QTY]]","v":0},{"$f":"Table1[[#This Row],[QTY]]*Table1[[#This Row],[S&L Price]]","v":0}]
[null,85,null,"Sole Survivor",1,"Surviving the Ice","Library Bound Book",null,"978-1-4824-5089-7",2017,"August 2016","Library","7.250 X 9.250","Author","Louise Spilsbury",null,null,null,null,"R","950L","Grade 4 - 5","Grade 4 - 6","When trekking north or south to Earth's poles, the number one concern of travelers is likely the cold. And it should be! Frostbite, hypothermia, and more are real dangers –but there are even more environmental aspects of the ice to be worried about. Readers are introduced to the coldest places on Earth, including how people like scientists live there and the threatening animals they could encounter. Also included are true stories of people who have had to survive in terrifying situations, highlighting how they did it and when they were rescued. Full-color photographs show the icy beauty of this unforgiving environment.","English",31.95,23.95,"363.34092’211--dc23","48 pp.",{"$f":"Table1[[#This Row],['# Books]]*Table1[[#This Row],[QTY]]","v":0},{"$f":"Table1[[#This Row],[QTY]]*Table1[[#This Row],[S&L Price]]","v":0}]
[null,85,null,"Sole Survivor",1,"Surviving the Rainforest","Library Bound Book",null,"978-1-4824-5081-1",2017,"August 2016","Library","7.250 X 9.250","Author","Louise Spilsbury",null,null,null,null,"R","900L","Grade 4 - 5","Grade 4 - 6","Those lost in the rainforest have a lot to be worried about. From sudden rainstorms to disease-carrying insects, there are a lot of dangers that need to be considered. However, readers of this book will be prepared! Through detailed descriptions of how to build shelter, gather food and water, and how to handle the possibility of wild animals, readers learn about the rainforest ecosystem and how to use it well. Survival stories of real people add a captivating element to the main content, and full-color photographs let readers travel deep into the rainforest without getting lost.","English",31.95,23.95,"613.6’9’09152-dc23","24 pp.",{"$f":"Table1[[#This Row],['# Books]]*Table1[[#This Row],[QTY]]","v":0},{"$f":"Table1[[#This Row],[QTY]]*Table1[[#This Row],[S&L Price]]","v":0}]
[null,85,null,"Sole Survivor",1,"Surviving the Rainforest","eBook",null,"978-1-4824-5082-8",2017,"August 2016",null,null,"Author","Louise Spilsbury",null,null,null,null,"R","900L","Grade 4 - 5","Grade 4 - 6","Those lost in the rainforest have a lot to be worried about. From sudden rainstorms to disease-carrying insects, there are a lot of dangers that need to be considered. However, readers of this book will be prepared! Through detailed descriptions of how to build shelter, gather food and water, and how to handle the possibility of wild animals, readers learn about the rainforest ecosystem and how to use it well. Survival stories of real people add a captivating element to the main content, and full-color photographs let readers travel deep into the rainforest without getting lost.","English",31.95,23.95,"613.6’9’09152-dc23","24 pp.",{"$f":"Table1[[#This Row],['# Books]]*Table1[[#This Row],[QTY]]","v":0},{"$f":"Table1[[#This Row],[QTY]]*Table1[[#This Row],[S&L Price]]","v":0}]
[null,86,null,"Write Right!",12,"Write Right!","Library Set",null,"978-1-4824-1179-9",2015,"August 2014","Library","8.500 X 8.500",null,"",null,null,null,null,null,null,"Grade 2 - 3","Grade 2 - 5","A talented writer takes time to work from the ground up. He or she learns the basics of commas and transition words before building a solid research paper or short story. Readers can draw from the main content of these 12 titles to become better, clearer writers. Readers review important aspects of the Common Core, including sentence-level language arts, as well as learn how to craft a great poem, an informative essay, and a persuasive opinion piece. Colorful images and layout punctuate language arts fundamentals, and fact boxes offer tips readers can put to use in their writing every day.     • Emphasizes the broad usage of good grammar and composition skills across academic subjects  • Offers several examples of each topic and integrates them in a final example  • Calls out tricky language arts skills and offers useable solutions  ","English",271.2,203.4,null,"24 pp.",{"$f":"Table1[[#This Row],['# Books]]*Table1[[#This Row],[QTY]]","v":0},{"$f":"Table1[[#This Row],[QTY]]*Table1[[#This Row],[S&L Price]]","v":0}]
[null,86,null,"Write Right!",1,"Conjunctions with Your Friends","Library Bound Book",null,"978-1-4339-9073-1",2014,"August 2013","Library","8.500 X 8.500","Author","Kristen Rajczak Nelson",null,null,24,20,"L",null,"Grade 2 - 3","Grade 2 - 5","Varying sentence structure is one great way to make writing more interesting. Knowing how to use the three different kinds of conjunctions is a big part of crafting sentences of varying lengths and styles. Readers will learn the basics of conjunctions, including common conjunctions and when to use them. Examples using everyday situations will engage readers as they are introduced to the rules of coordinating, subordinating, and correlative conjunctions. Colorful photographs and fact boxes enhance the main content, which supports the common core English language standards taught in the classroom.","English",22.6,16.95,"428.2","24 pp.",{"$f":"Table1[[#This Row],['# Books]]*Table1[[#This Row],[QTY]]","v":0},{"$f":"Table1[[#This Row],[QTY]]*Table1[[#This Row],[S&L Price]]","v":0}]
[null,86,null,"Write Right!",1,"Subjects and Verbs with Your Neighbors","eBook",null,"978-1-4339-9084-7",2014,"August 2013",null,null,"Author","Kristen Rajczak Nelson",null,null,24,20,"L",null,"Grade 2 - 3","Grade 2 - 5","Just like countries, words can be at war with each other. It’s the writer’s job to sort out what form subjects, verbs, and other parts of speech must take to make a coherent sentence. Readers will learn many of the rules of subject-verb agreement, including those regarding compound subjects and helping verbs. The many examples use familiar situations to introduce the agreement concepts, while fact boxes highlight additional information. Vivid photographs will infuse the main content with color and fun to engage readers with knowledge supporting the common core English language standards.","English",22.6,16.95,"428.2","24 pp.",{"$f":"Table1[[#This Row],['# Books]]*Table1[[#This Row],[QTY]]","v":0},{"$f":"Table1[[#This Row],[QTY]]*Table1[[#This Row],[S&L Price]]","v":0}]
[null,86,null,"Write Right!",1,"Transition Words with Your Team","Library Bound Book",null,"978-1-4339-9085-4",2014,"August 2013","Library","8.500 X 8.500","Author","Kristen Rajczak Nelson",null,null,24,20,"L",null,"Grade 2 - 3","Grade 2 - 5","Writing flows more smoothly when writers use transition words. In addition, they make stories more orderly and often provide more detail. Readers will learn the many kinds of transitions and how to use them in a piece of writing. Relatable examples and fun fact boxes will introduce this key concept in an understandable way while supporting the common core English language standards. Brightly colored photographs will keep readers engaged as they move through transition words of addition, comparison, concession, and more.","English",22.6,16.95,"428.2","24 pp.",{"$f":"Table1[[#This Row],['# Books]]*Table1[[#This Row],[QTY]]","v":0},{"$f":"Table1[[#This Row],[QTY]]*Table1[[#This Row],[S&L Price]]","v":0}]
[null,86,null,"Write Right!",1,"Writing Essays","eBook",null,"978-1-4824-1136-2",2015,"August 2014",null,null,"Author","Benjamin Proudfit",null,null,24,null,"L",null,"Grade 2 - 3","Grade 2 - 5","Some essays are short and written for a specific purpose, such as answering a test question. Others need research, a detailed outline, and should include revision in the writing process. Readers should know how to do it all! The main content takes readers step-by-step through the construction of a strong essay using the Common Core standards, including the basic concepts of grammar, transitions, and vocabulary choice. Colorful photographs and helpful fact boxes engage readers in the process of crafting an essay, especially those based on questions like those commonly encountered in the classroom.","English",22.6,16.95,"808.042","24 pp.",{"$f":"Table1[[#This Row],['# Books]]*Table1[[#This Row],[QTY]]","v":0},{"$f":"Table1[[#This Row],[QTY]]*Table1[[#This Row],[S&L Price]]","v":0}]
[null,86,null,"Write Right!",1,"Writing Poems","eBook",null,"978-1-4824-1127-0",2015,"August 2014",null,null,"Author","Benjamin Proudfit",null,null,24,null,"L",null,"Grade 2 - 3","Grade 2 - 5","Creative writing is a good outlet for fantastical ideas, emotions, and comedy. It’s also a great way to have readers practice their language arts skills in a fun way! Readers learn the different kinds of poems they can write and how to begin crafting one, including use of the descriptive language and proper word choice as outlined in the Common Core. Fact boxes add helpful tips and definitions to aid in choosing a poem’s subject, rhyme, rhythm, and structure. Relatable examples and a colorful layout help readers use their imagination throughout the writing process, from brainstorming to revision.","English",22.6,16.95,"808.1","32 pp.",{"$f":"Table1[[#This Row],['# Books]]*Table1[[#This Row],[QTY]]","v":0},{"$f":"Table1[[#This Row],[QTY]]*Table1[[#This Row],[S&L Price]]","v":0}]
[null,88,null,"Silly Stories",1,"Down the Rabbit Hole and Other Silly Stories","eBook",null,"978-1-4824-4182-6",2016,"January 2016",null,null,"Compiled by","Vic Parker",4.5999999999999996,1,null,null,"N","960L","Grade 2 - 3","Grade 2 - 5","Lewis Carroll’s story of Alice visiting wonderland is the quintessential silly story. With talking rabbits and seemingly never-ending rabbit holes, “Down the Rabbit Hole” introduces readers to Carroll’s incredible detail and invention. Three other amusing takes tickle readers’ funny bones, including “A Silly Question” by E. Nesbit, “Books Who Made the Princess Say ‘That’s a Story’” by Sir George Webbe Dasent, and “The Finest Liar in the World” by Andrew Lang. Colorful illustrations accompany each , adding to readers’ own imaginings of the stories.","English",31.95,23.95,"398.2—d23","40 pp.",{"$f":"Table1[[#This Row],['# Books]]*Table1[[#This Row],[QTY]]","v":0},{"$f":"Table1[[#This Row],[QTY]]*Table1[[#This Row],[S&L Price]]","v":0}]
[null,88,null,"Silly Stories",1,"How the Cow Jumped over the Moon and Other Silly Stories","Library Bound Book",null,"978-1-4824-4185-7",2016,"January 2016","Library","6.500 X 9.125","Compiled by","Vic Parker",5.0999999999999996,1,null,null,"N","NC850L","Grade 2 - 3","Grade 2 - 5","In “How the Cow Jumped Over the Moon,” L. Frank Baum fills out a classic nursery rhyme with a main character named Bobby and a fairly realistic—if very silly—interpretation of how a huge animal could possibly leap the moon! Along with “Master of All Masters” and “The History of the Seven Families of the Lake Pipple-Popple,” Baum’s tale is sure to entertain imaginative readers. An excerpt from a Lewis Carroll book called “A Most Curious Country” rounds out this amusing collection, all made complete with full-color illustrations.","English",31.95,23.95,"398.2—d23","40 pp.",{"$f":"Table1[[#This Row],['# Books]]*Table1[[#This Row],[QTY]]","v":0},{"$f":"Table1[[#This Row],[QTY]]*Table1[[#This Row],[S&L Price]]","v":0}]
[null,88,null,"Silly Stories",1,"How the Leopard Got His Spots and Other Silly Stories","eBook",null,"978-1-4824-4194-9",2016,"January 2016",null,null,"Compiled by","Vic Parker",5.7,1,null,null,"N","NC1160L","Grade 2 - 3","Grade 2 - 5","Rudyard Kipling was truly an innovative children’s author. In “How the Leopard Got His Spots,” Kipling introduces readers to animal adaptation and camouflage through the tale of a confused leopard trying to hunt for his dinner—only to find it hidden to him. Inventive and amusing language use will give readers the giggles, especially those reading out loud! “The Four Little Children Who Went Round the World,” “The Accomplished Lucky Teakettle,” and “Bruin and Reynard” add to the magical amusement. With full-color illustrations complementing each story, this volume adds a bit of whimsy into any reader’s library.","English",31.95,23.95,"398.2—d23","40 pp.",{"$f":"Table1[[#This Row],['# Books]]*Table1[[#This Row],[QTY]]","v":0},{"$f":"Table1[[#This Row],[QTY]]*Table1[[#This Row],[S&L Price]]","v":0}]
[null,88,null,"Silly Stories",1,"The Hare-Brained Crocodiles and Other Silly Stories","Library Bound Book",null,"978-1-4824-4205-2",2016,"January 2016","Library","6.500 X 9.125","Compiled by","Vic Parker",4.9000000000000004,1,null,null,"N","930L","Grade 2 - 3","Grade 2 - 5","In the world of “The Hare-Brained Crocodiles,” hares and crocodiles not only talk, but play together in the sand! Such an imaginative tale of a clever hare and dull-witted crocodile will delight readers and spark their imagination. Other funny tales, including Hans Christian Andersen’s “The Darning Needle,” “The Farmer and the Money-Lender,” and “Mother Hulda,” demonstrate Common Core language arts skills as they amuse readers. Full-color illustrations complement each tale, providing creative depictions of the silly stories’ fantastical elements.","English",31.95,23.95,"398.2—d23","40 pp.",{"$f":"Table1[[#This Row],['# Books]]*Table1[[#This Row],[QTY]]","v":0},{"$f":"Table1[[#This Row],[QTY]]*Table1[[#This Row],[S&L Price]]","v":0}]
[null,88,null,"Silly Stories",1,"The Remarkable Rocket and Other Silly Stories","Library Bound Book",null,"978-1-4824-4217-5",2016,"January 2016","Library","6.500 X 9.125","Compiled by","Vic Parker",4.5999999999999996,1,null,null,"N","720L","Grade 2 - 3","Grade 2 - 5","Tales of princes and princesses are common in fantasy stories. But what makes “The Remarkable Rocket” particularly silly isn’t the royal wedding—it’s the fireworks chatter and personality that put it over the top! Colorful illustrations show the rocket and his fiery friends in great detail, inspiring readers’ imaginations as they continue to page through this book’s full-color illustrations throughout. “Mr. Vinegar,” “The Moon-Cake,” and “A Visitor from Paradise” offer readers additional opportunities to imagine strange characters and fanciful events.","English",31.95,23.95,"398.2—d23","40 pp.",{"$f":"Table1[[#This Row],['# Books]]*Table1[[#This Row],[QTY]]","v":0},{"$f":"Table1[[#This Row],[QTY]]*Table1[[#This Row],[S&L Price]]","v":0}]
[null,88,null,"Silly Stories",1,"The Remarkable Rocket and Other Silly Stories","eBook",null,"978-1-4824-4218-2",2016,"January 2016",null,null,"Compiled by","Vic Parker",4.5999999999999996,1,null,null,"N","720L","Grade 2 - 3","Grade 2 - 5","Tales of princes and princesses are common in fantasy stories. But what makes “The Remarkable Rocket” particularly silly isn’t the royal wedding—it’s the fireworks chatter and personality that put it over the top! Colorful illustrations show the rocket and his fiery friends in great detail, inspiring readers’ imaginations as they continue to page through this book’s full-color illustrations throughout. “Mr. Vinegar,” “The Moon-Cake,” and “A Visitor from Paradise” offer readers additional opportunities to imagine strange characters and fanciful events.","English",31.95,23.95,"398.2—d23","40 pp.",{"$f":"Table1[[#This Row],['# Books]]*Table1[[#This Row],[QTY]]","v":0},{"$f":"Table1[[#This Row],[QTY]]*Table1[[#This Row],[S&L Price]]","v":0}]
[null,89,null,"Favorite Poems",1,"If You Should Meet a Crocodile and Other Poems","eBook",null,"978-1-4824-2153-8",2015,"January 2015",null,null,"Edited by","Tig Thomas",null,null,24,null,"L",null,"Grade 2 - 3","Grade 2 - 5","Animals, such as the crocodile in “If You Should Meet a Crocodile,” make great subjects of poetry. They can be assigned human feelings or even talk and are fun to describe in colorful, interesting language. Readers can not only read about many animals and characters in these poems, but also find inspiration for their own creative writing. Furthermore, this volume contains complementary illustrations with every poem bound to spark readers’ imagination. With more than a dozen poems to read and enjoy, readers are sure to find a new favorite!","English",31.95,23.95,"821.008","40 pp.",{"$f":"Table1[[#This Row],['# Books]]*Table1[[#This Row],[QTY]]","v":0},{"$f":"Table1[[#This Row],[QTY]]*Table1[[#This Row],[S&L Price]]","v":0}]
[null,89,null,"Favorite Poems",1,"My Shadow and Other Poems","Library Bound Book",null,"978-1-4824-2134-7",2015,"January 2015","Library","6.500 X 9.125","Edited by","Tig Thomas",null,null,24,null,"L",null,"Grade 2 - 3","Grade 2 - 5","Young readers learn about the world around them in many ways. Poems such as “My Shadow” express the feelings of novelty readers may have as they go about their days. Including charming illustrations to accompany each poem, this volume presents understandable works by some well-known poets, such as Robert Louis Stevenson, Henry Wadsworth Longfellow, and William Blake. Funny riddles and wordplay introduce readers to the playful side of poetry, while the rhyme and rhythm exposes them to important language arts concepts.","English",31.95,23.95,"821.008","40 pp.",{"$f":"Table1[[#This Row],['# Books]]*Table1[[#This Row],[QTY]]","v":0},{"$f":"Table1[[#This Row],[QTY]]*Table1[[#This Row],[S&L Price]]","v":0}]
[null,89,null,"Favorite Poems",1,"The Cats Have Come to Tea and Other Poems","eBook",null,"978-1-4824-2161-3",2015,"January 2015",null,null,"Edited by","Tig Thomas",null,null,24,null,"L",null,"Grade 2 - 3","Grade 2 - 5","Robert Louis Stevenson wrote a whole book of poems for children. Two are presented here, “The Land of Story Book” and “The Dumb Solider.” However, he’s not the only poet whose work is perfect for young readers. This volume includes poems by Robert Browning and Mary Coleridge and many other works readers will find accessible, fun, and enlightening. Colorful illustrations accompany each poem, giving readers plenty of fuel for their imaginations. Readers also learn some key concepts of writing and poetry, such as the importance of word choice, imagery, and rhythm.","English",31.95,23.95,"821.008","40 pp.",{"$f":"Table1[[#This Row],['# Books]]*Table1[[#This Row],[QTY]]","v":0},{"$f":"Table1[[#This Row],[QTY]]*Table1[[#This Row],[S&L Price]]","v":0}]
[null,89,null,"Favorite Poems",1,"The Four Princesses and Other Poems","Library Bound Book",null,"978-1-4824-2154-5",2015,"January 2015","Library","6.500 X 9.125","Edited by","Tig Thomas",null,null,24,null,"L",null,"Grade 2 - 3","Grade 2 - 5","The bedtime story of three fishermen out in their boat at night has been told through the poem “Wynken, Blynken, and Nod” for generations. Complemented by lovely illustrations of the fishermen and the night sky, it’s presented in this volume along with more than a dozen other poems. Readers new to poetry can enjoy excerpts from Shakespeare, “The Gypsies” by Ben Johnson, and more to pique their interest in a different kind of writing. Exposure to rhyme, rhythm, and creative word choice reinforces parts of the language arts curriculum while encouraging imaginative thinking and writing.","English",31.95,23.95,"821.008","40 pp.",{"$f":"Table1[[#This Row],['# Books]]*Table1[[#This Row],[QTY]]","v":0},{"$f":"Table1[[#This Row],[QTY]]*Table1[[#This Row],[S&L Price]]","v":0}]
[null,89,null,"Favorite Poems",1,"The Owl and the Pussycat and Other Poems","eBook",null,"978-1-4824-2141-5",2015,"January 2015",null,null,"Edited by","Tig Thomas",null,null,24,null,"L",null,"Grade 2 - 3","Grade 2 - 5","Part of poetry’s fun is the combination of an absurd tale with a definite structure. “There Was an Old Lady” tells of a woman swallowing a great many things to rid herself of a fly with a singsong rhyme and rhythm readers of all ages can find entertaining. More than a dozen other poems offer readers a chance to absorb key parts of the language arts curriculum while reading silly poems, serious poems, and those in between! Colorful drawings engage readers as they learn to navigate the structure and imagery of each wonderful work.","English",31.95,23.95,"821.008","40 pp.",{"$f":"Table1[[#This Row],['# Books]]*Table1[[#This Row],[QTY]]","v":0},{"$f":"Table1[[#This Row],[QTY]]*Table1[[#This Row],[S&L Price]]","v":0}]
[null,90,null,"Aesop's Fables",1,"The Dog in the Manger and Other Fables","Library Bound Book",null,"978-1-4824-1511-7",2015,"August 2014","Library","6.500 X 9.000","Edited by","Vic Parker",null,null,24,null,"L",null,"Grade 2 - 3","Grade 2 - 5","Learning lessons, such as the importance of kindness instead of harshness or quality over quantity, is often easier through stories. Immersed in a world of talking animals, gods and goddesses, and well-turned phrases, readers will absorb important life lessons from more than a dozen of Aesop’s fables. Accompanying illustrations in beautiful color add to the magic of stories like “The Dog in the Manger.” As readers are introduced to new fables and read through old favorites, they’ll acquire an understanding of strong character traits to help them navigate successfully in friendships, family life, and treatment of themselves.","English",31.95,23.95,"398.2","40 pp.",{"$f":"Table1[[#This Row],['# Books]]*Table1[[#This Row],[QTY]]","v":0},{"$f":"Table1[[#This Row],[QTY]]*Table1[[#This Row],[S&L Price]]","v":0}]
[null,90,null,"Aesop's Fables",1,"The Goose That Laid the Golden Egg and Other Fables","eBook",null,"978-1-4824-1368-7",2015,"August 2014",null,null,"Edited by","Vic Parker",null,null,24,null,"L",null,"Grade 2 - 3","Grade 2 - 5","Aphorisms like “slow and steady wins the race” often prove true when put to the test. Many of these common phrases are summaries of famous fables like “The Tortoise and the Hare.” Through more than a dozen short fables, readers will be introduced to tried-and-true maxims and morals. Colorful pictures and illustrations accompany each story, enhancing the world of Aesop’s talking animals and extraordinary situations. Each fable offers readers an opportunity to learn a lesson as well as use their imagination.","English",31.95,23.95,"398.2","40 pp.",{"$f":"Table1[[#This Row],['# Books]]*Table1[[#This Row],[QTY]]","v":0},{"$f":"Table1[[#This Row],[QTY]]*Table1[[#This Row],[S&L Price]]","v":0}]
[null,90,null,"Aesop's Fables",1,"The Lion and the Bull and Other Fables","Library Bound Book",null,"978-1-4824-1459-2",2015,"August 2014","Library","6.500 X 9.000","Edited by","Vic Parker",null,null,24,null,"L",null,"Grade 2 - 3","Grade 2 - 5","In “The Athenian and the Theban,” a man from Athens and a man from Thebes discuss whether Hercules or Theseus was a greater hero. Ultimately, the Athenian out-argues the Theban and Theseus’s brain is chosen over Hercules’s brawn. A fable of Aesop, an ancient Greek, this story and the many others like it expose readers to Aesop’s culture while communicating morals that continue to resonate today. Readers will love the succinct, simple structure of the fables and keep turning pages to discover the colorful illustrations complementing each one.","English",31.95,23.95,"398.2","40 pp.",{"$f":"Table1[[#This Row],['# Books]]*Table1[[#This Row],[QTY]]","v":0},{"$f":"Table1[[#This Row],[QTY]]*Table1[[#This Row],[S&L Price]]","v":0}]
[null,90,null,"Aesop's Fables",1,"The Town Mouse and the Country Mouse and Other Fables","eBook",null,"978-1-4824-1365-6",2015,"August 2014",null,null,"Edited by","Vic Parker",null,null,24,null,"L",null,"Grade 2 - 3","Grade 2 - 5","The classic tale of “The Town Mouse and the Country Mouse” highlights that one can live in peace and happiness in a poorer home—and appreciate it! It also shows the virtue of knowing yourself and in what environments you thrive. Such lessons can be hard to learn without living through them, but Aesop’s fables present them to readers in an understandable, lively way. Colorful illustrations spark readers’ imagination as they absorb each lesson through terrific, succinct storytelling like “The Peacock and Hera” and “The Farmer and Fortune.”","English",31.95,23.95,"398.2","40 pp.",{"$f":"Table1[[#This Row],['# Books]]*Table1[[#This Row],[QTY]]","v":0},{"$f":"Table1[[#This Row],[QTY]]*Table1[[#This Row],[S&L Price]]","v":0}]
[null,91,null,"Scary Fairy Tales",10,"Scary Fairy Tales","Library Set",null,"978-1-4824-2559-8",2016,"August 2015","Library","6.500 X 9.125",null,"",null,null,null,null,null,null,"Grade 3 - 4","Grade 3 - 5","From “Little Red Riding Hood” to “The Snow Queen,” many of our best-loved fairy tales started out as dark stories filled with magic, greed, and death. While some provide readers with a moral or lesson, others simply reflect the troubles life can bring. Creepy, colorful images and design enhance the menacing mood of these classic fairy tales for both readers new to the stories and those who only know the happy endings. Each collection is written in accessible language perfect for young readers eager to fill their imaginations with witches, giants, and more. \n\n\n\n•\t\tIncludes stories from a variety of cultures, fulfilling Common Core language arts curriculum standards\n\n•\t\tEach book provides four stories, providing readers with examples of different kinds of storytelling and writing styles\n\n•\t\tFaithful adaptations to original tales allow readers to compare and contrast stories to other versions they may know \n\n","English",319.5,239.5,null,"40 pp.",{"$f":"Table1[[#This Row],['# Books]]*Table1[[#This Row],[QTY]]","v":0},{"$f":"Table1[[#This Row],[QTY]]*Table1[[#This Row],[S&L Price]]","v":0}]
[null,91,null,"Scary Fairy Tales",1,"The Demon with the Matted Hair and Other Stories","Library Bound Book",null,"978-1-4824-3074-5",2016,"August 2015","Library","6.500 X 9.125","Edited by","Vic Parker",5.5,1,null,null,"R",null,"Grade 3 - 4","Grade 3 - 5","“Rapunzel” and “Cinderella” have both been imagined as movies with happy endings and positive morals. However, both stories began as haunting fairy tales long ago. In “Rushen Coatie,” a similar story to “Cinderella,” the wicked stepsisters don’t just end up without the prince, their toes are cut off! And Rapunzel’s witch? She sends Rapunzel to live in the desert! Though old, these tales will enthrall readers familiar with happier fairy tales and stimulate their imaginations with full-color images and illustrations. Other dark fairy tales from around the world, including \"The Dragon of the North\" and \"The Demon with the Matted Hair,\"  introduce readers to new tales of terror and woe.","English",31.95,23.95,"398.2","40 pp.",{"$f":"Table1[[#This Row],['# Books]]*Table1[[#This Row],[QTY]]","v":0},{"$f":"Table1[[#This Row],[QTY]]*Table1[[#This Row],[S&L Price]]","v":0}]
[null,91,null,"Scary Fairy Tales",1,"The Demon with the Matted Hair and Other Stories","eBook",null,"978-1-4824-3075-2",2016,"August 2015",null,null,"Edited by","Vic Parker",5.5,1,null,null,"R",null,"Grade 3 - 4","Grade 3 - 5","“Rapunzel” and “Cinderella” have both been imagined as movies with happy endings and positive morals. However, both stories began as haunting fairy tales long ago. In “Rushen Coatie,” a similar story to “Cinderella,” the wicked stepsisters don’t just end up without the prince, their toes are cut off! And Rapunzel’s witch? She sends Rapunzel to live in the desert! Though old, these tales will enthrall readers familiar with happier fairy tales and stimulate their imaginations with full-color images and illustrations. Other dark fairy tales from around the world, including \"The Dragon of the North\" and \"The Demon with the Matted Hair,\"  introduce readers to new tales of terror and woe.","English",31.95,23.95,"398.2","40 pp.",{"$f":"Table1[[#This Row],['# Books]]*Table1[[#This Row],[QTY]]","v":0},{"$f":"Table1[[#This Row],[QTY]]*Table1[[#This Row],[S&L Price]]","v":0}]
[null,91,null,"Scary Fairy Tales",1,"The Prince and the Dragon and Other Stories","eBook",null,"978-1-4824-3099-8",2016,"August 2015",null,null,"Edited by","Vic Parker",5.2,1,null,null,"R",null,"Grade 3 - 4","Grade 3 - 5","Fire-breathing dragons are the epitome of mystical evil. From guarding princesses in towers to destroying villages with fiery fury, dragons are found in fairy tales from all over the world, including “The Prince and the Dragon.” Equally chilling are tales of “Mr. Miacca” and his penchant for eating little children and “The Singing Bone,” \"The Story of the Fisherman,\" and \"Molly Whuppie,\" which introduce readers to the darker side of fairy tales. Charming, colorful images and illustrations offset some of the more macabre content and encourage readers’ imaginations.","English",31.95,23.95,"398.2","24 pp.",{"$f":"Table1[[#This Row],['# Books]]*Table1[[#This Row],[QTY]]","v":0},{"$f":"Table1[[#This Row],[QTY]]*Table1[[#This Row],[S&L Price]]","v":0}]
[null,91,null,"Scary Fairy Tales",1,"The Snow Queen and Other Stories","Library Bound Book",null,"978-1-4824-3106-3",2016,"August 2015","Library","6.500 X 9.125","Edited by","Vic Parker",5.2,1,null,null,"R",null,"Grade 3 - 4","Grade 3 - 5","Cultures all around the world have told fairy tales for centuries. For many western nations, these have included the tales of Hans Christian Andersen. Retellings of Andersen’s “The Snow Queen” and “The Red Shoes” present some chilling tales for readers, and full-color images and illustrations add beauty to each. Readers are also introduced to a Japanese fairy tale called \"The Goblin of Adachigahara\" and an English story of jealousy, “The Rose Tree.” Though the stories don’t offer happy endings, readers can learn about culture in other places around the world and the art of storytelling through reading these dark tales.","English",31.95,23.95,"398.2","24 pp.",{"$f":"Table1[[#This Row],['# Books]]*Table1[[#This Row],[QTY]]","v":0},{"$f":"Table1[[#This Row],[QTY]]*Table1[[#This Row],[S&L Price]]","v":0}]
[null,92,null,"Solve It! Math in Space",6,"Solve It! Math in Space","Library Set",null,"978-1-4824-4602-9",2017,"August 2016","Library","8.500 X 8.500",null,"",null,null,null,null,null,null,"Grade 2 - 3","Grade 2 - 5","While math is integral for everyday activities on Earth, it’s so much more exciting when it’s out of this world! In this unique and motivating collection, readers are mission commanders exploring the solar system. They’ll learn about planets, moons, the sun, and other space objects through the vibrant text and solving math problems featured in each volume. A dynamic page layout and extraordinary photographs make this series especially appealing to young scientists and mathematicians.","English",135.6,101.7,null,"24 pp.",{"$f":"Table1[[#This Row],['# Books]]*Table1[[#This Row],[QTY]]","v":0},{"$f":"Table1[[#This Row],[QTY]]*Table1[[#This Row],[S&L Price]]","v":0}]
[null,92,null,"Solve It! Math in Space",1,"Math in the Asteroid Belt","Library Bound Book",null,"978-1-4824-4931-0",2017,"August 2016","Library","8.500 X 8.500","Author","Mark J. Harasymiw",5.3,0.5,null,null,"M",null,"Grade 2 - 3","Grade 2 - 5","The asteroid belt between Mars and Jupiter is an intriguing area of our solar system. Scientists have counted over 670,000 known asteroids there, but there could be millions more not yet found. Readers will discover much more about the asteroid belt in this high-interest book, which blends science and math. They’ll read about several topics, such as space missions to the asteroid belt and the difference between an asteroid and a planet, and solve associated math problems—just like actual space scientists do!","English",22.6,16.95,"523.44--dc23","24 pp.",{"$f":"Table1[[#This Row],['# Books]]*Table1[[#This Row],[QTY]]","v":0},{"$f":"Table1[[#This Row],[QTY]]*Table1[[#This Row],[S&L Price]]","v":0}]
[null,92,null,"Solve It! Math in Space",1,"Math on Mars","eBook",null,"978-1-4824-4927-3",2017,"August 2016",null,null,"Author","Mark J. Harasymiw",4.2,0.5,null,null,"M",null,"Grade 2 - 3","Grade 2 - 5","Mars is perhaps the most thrilling planet these days. With rovers exploring its surface and manned missions in the works, people are wondering if Mars is our next home! In this high-interest book, readers will learn more about Earth’s neighbor, including what its climate and surface are like, why it’s called the Red Planet, and about the recent discovery of water on its surface. They’ll learn all this while solving “Your Mission” math problems that complement and support the text. This motivating volume is an engaging way to explore key aspects of science and math curricula.","English",22.6,16.95,"510.76--dc23","32 pp.",{"$f":"Table1[[#This Row],['# Books]]*Table1[[#This Row],[QTY]]","v":0},{"$f":"Table1[[#This Row],[QTY]]*Table1[[#This Row],[S&L Price]]","v":0}]
[null,92,null,"Solve It! Math in Space",1,"Math on the Sun","Library Bound Book",null,"978-1-4824-4936-5",2017,"August 2016","Library","8.500 X 8.500","Author","Katherine Ponka",4.7,0.5,null,null,"N",null,"Grade 2 - 3","Grade 2 - 5","The sun’s importance to Earth and the solar system can’t be exaggerated; it’s the linchpin for life itself. The sun’s structure, atmosphere, and other features are introduced in collaboration with related mathematical problems in this noteworthy companion to the elementary science and math curricula. Readers discover fascinating facts about the sun such as its age—it’s 4.6 billion years old!—through bright text and motivating math problems. Amazing photographs and illustrations highlight the awesome power of the sun and add to the volume’s appeal.","English",22.6,16.95,"523.7--dc23","32 pp.",{"$f":"Table1[[#This Row],['# Books]]*Table1[[#This Row],[QTY]]","v":0},{"$f":"Table1[[#This Row],[QTY]]*Table1[[#This Row],[S&L Price]]","v":0}]
[null,98,null,"Animal Invaders: Destroying Native Habitats",1,"Attack of the Bullfrogs","Library Bound Book",null,"978-1-4824-5666-0",2017,"January 2017","Library","8.500 X 8.500","Author","Therese M. Shea",4.5,0.5,null,null,"M",null,"Grade 2 - 3","Grade 2 - 5","Bullfrogs in the United States started as a way for Californians to eat more frog legs. Now, the bullfrog population grows almost completely unchecked. In many places in the world where bullfrogs have spread, there aren’t predators to eat them! Readers are likely familiar with the bullfrog croak, but in this book, they’ll learn why hearing it is a bad sign! The main content introduces the definition of “invasive species” and explains through the bullfrog’s story the harm these animals cause. Full-color photographs help readers identity bullfrogs, and informative fact boxes add details about conservation, habitats, and food chains.","English",22.6,16.95,"597.8’92--dc23","24 pp.",{"$f":"Table1[[#This Row],['# Books]]*Table1[[#This Row],[QTY]]","v":0},{"$f":"Table1[[#This Row],[QTY]]*Table1[[#This Row],[S&L Price]]","v":0}]
[null,98,null,"Animal Invaders: Destroying Native Habitats",1,"Attack of the Burmese Pythons","eBook",null,"978-1-4824-5670-7",2017,"January 2017",null,null,"Author","Matt Jankowski",5.4,0.5,null,null,"M",null,"Grade 2 - 3","Grade 2 - 5","Burmese pythons are a popular kind of pet snake in the United States. However, they’re meant to live in India and parts of China—not Florida. These huge snakes can harm people and generally disrupt the food chain of southern Florida enough for them to be called an invasive species. This book introduces readers to the concept of “native” and “invasive” animals through the facts surrounding the spread of Burmese pythons. The main content covers how the snakes came to be in southern Florida, their harm to the environment, and modern ways conservation groups are trying to stop their spread.","English",22.6,16.95,"597.96/78--dc23","24 pp.",{"$f":"Table1[[#This Row],['# Books]]*Table1[[#This Row],[QTY]]","v":0},{"$f":"Table1[[#This Row],[QTY]]*Table1[[#This Row],[S&L Price]]","v":0}]
[null,98,null,"Animal Invaders: Destroying Native Habitats",1,"Attack of the Stink Bugs","eBook",null,"978-1-4824-5882-4",2017,"January 2017",null,null,"Author","Michael Rajczak",4.3,0.5,null,null,"M",null,"Grade 2 - 3","Grade 2 - 5","Though stink bugs weren’t introduced to the United States until the 1990s, this invasive species has spread to nearly every state in the country. Their biggest enemies? Farmers who don’t like them feeding on crops and fruits. Readers don’t need to smell a squished stink bug to understand the harm they can cause not only to crops, but also to native species. The main content and fact boxes discuss how the stink bugs ended up in the United States and the efforts being made to stop their population from growing even more.","English",22.6,16.95,"595.7’54--dc23","24 pp.",{"$f":"Table1[[#This Row],['# Books]]*Table1[[#This Row],[QTY]]","v":0},{"$f":"Table1[[#This Row],[QTY]]*Table1[[#This Row],[S&L Price]]","v":0}]
[null,100,null,"Living with the Dinosaurs",1,"Crocodiles Lived with the Dinosaurs!","eBook",null,"978-1-4824-5648-6",2017,"January 2017",null,null,"Author","Melissa Raé Shofner",4.9000000000000004,0.5,null,null,"O",null,"Grade 2 - 3","Grade 2 - 5","It’s incredible to think that crocodiles were contemporaries of the dinosaurs. Not all crocs looked like the creatures we know today, though. Some were real monsters—such as Machimosaurus rex. It was 30 feet (10 m) long! Reptile lovers and dinosaur enthusiasts will love the details and images found in this high-interest book. They’ll also review important science concepts, such as adaptation and extinction, and relish sharing the fascinating facts they absorb with their friends!","English",22.6,16.95,"597.98’2--dc23","24 pp.",{"$f":"Table1[[#This Row],['# Books]]*Table1[[#This Row],[QTY]]","v":0},{"$f":"Table1[[#This Row],[QTY]]*Table1[[#This Row],[S&L Price]]","v":0}]
[null,100,null,"Living with the Dinosaurs",1,"Salamanders Lived with the Dinosaurs!","Library Bound Book",null,"978-1-4824-5663-9",2017,"January 2017","Library","8.500 X 8.500","Author","Heather Moore Niver",5.0999999999999996,0.5,null,null,"O",null,"Grade 2 - 3","Grade 2 - 5","In 2015, scientists found 200-million-year-old fossil remains of a huge salamander-like amphibian, a “super salamander,” that was a top predator of rivers and lakes. It might have even munched on early dinosaurs! Young paleozoologists will love learning about these remarkable creatures that once lived on Earth as well as seeing imaginative images of what they might have looked like. They’ll be amazed how such beasts change and adapt into the animals we know today.","English",22.6,16.95,"597.8’5--dc23","24 pp.",{"$f":"Table1[[#This Row],['# Books]]*Table1[[#This Row],[QTY]]","v":0},{"$f":"Table1[[#This Row],[QTY]]*Table1[[#This Row],[S&L Price]]","v":0}]
[null,100,null,"Living with the Dinosaurs",1,"Salamanders Lived with the Dinosaurs!","eBook",null,"978-1-4824-5665-3",2017,"January 2017",null,null,"Author","Heather Moore Niver",5.0999999999999996,0.5,null,null,"O",null,"Grade 2 - 3","Grade 2 - 5","In 2015, scientists found 200-million-year-old fossil remains of a huge salamander-like amphibian, a “super salamander,” that was a top predator of rivers and lakes. It might have even munched on early dinosaurs! Young paleozoologists will love learning about these remarkable creatures that once lived on Earth as well as seeing imaginative images of what they might have looked like. They’ll be amazed how such beasts change and adapt into the animals we know today.","English",22.6,16.95,"597.8’5--dc23","24 pp.",{"$f":"Table1[[#This Row],['# Books]]*Table1[[#This Row],[QTY]]","v":0},{"$f":"Table1[[#This Row],[QTY]]*Table1[[#This Row],[S&L Price]]","v":0}]
[null,102,null,"Science on Patrol",6,"Science on Patrol","Library Set",null,"978-1-4824-5860-2",2017,"January 2017","Library","8.500 X 11.00",null,"",null,null,null,null,null,null,"Grade 4 - 5","Grade 4 - 6","Brilliant scientists working in Earth’s most extreme places are making incredible discoveries, but the challenges they face in these environments can be met only by using cutting-edge technology and state-of-the-art engineering. Readers find out about scientists at work at the very ends of the Earth and beyond. The main content details their scientific discoveries, the equipment they use, how they communicate with the outside world, and the transportation they use to travel in each environment. Full-color photographs allow readers to see scientists and their work at the poles, in space, underground, and more up close.\n\n","English",191.7,143.69999999999999,null,"48 pp.",{"$f":"Table1[[#This Row],['# Books]]*Table1[[#This Row],[QTY]]","v":0},{"$f":"Table1[[#This Row],[QTY]]*Table1[[#This Row],[S&L Price]]","v":0}]
[null,102,null,"Science on Patrol",1,"In the Desert","Library Bound Book",null,"978-1-4824-5978-4",2017,"January 2017","Library","7.250 X 9.250","Author, Author","Louise Spilsbury, Richard Spilsbury",7.1,1,null,null,"T",null,"Grade 4 - 5","Grade 4 - 6","As global climate change advances, more parts of Earth are becoming desert. How to slow this process is just one area of research scientists study in the desert biome. Like the animals and plants that can survive it, scientists must learn how to work in the hot, dry conditions of the desert. Readers find out their strategies for working in deserts, such as using solar power and even burning human waste! In addition, STEM topics such as robotics, drones, and climate research are described and illustrated through full-color photographs.","English",31.95,23.95,"577.54--dc23","32 pp.",{"$f":"Table1[[#This Row],['# Books]]*Table1[[#This Row],[QTY]]","v":0},{"$f":"Table1[[#This Row],[QTY]]*Table1[[#This Row],[S&L Price]]","v":0}]
[null,102,null,"Science on Patrol",1,"Under the Ocean","Library Bound Book",null,"978-1-4824-5990-6",2017,"January 2017","Library","7.250 X 9.250","Author, Author","Louise Spilsbury, Richard Spilsbury",7.2,1,null,null,"T",null,"Grade 4 - 5","Grade 4 - 6","Scientists estimate that less than 5 percent of the ocean has been explored. That leaves a lot to be discovered—and a large amount of people needed to make those discoveries. Readers dive deep into the research being done under the ocean and the many STEM career possibilities for those interested in such research. Full-color photographs of the latest technology and scientists at work show readers an exciting world they can be part of. In addition, the main content discusses many STEM topics related to the ocean, including habitats, biodiversity, pollution, and climate change.","English",31.95,23.95,"551.46--dc23","32 pp.",{"$f":"Table1[[#This Row],['# Books]]*Table1[[#This Row],[QTY]]","v":0},{"$f":"Table1[[#This Row],[QTY]]*Table1[[#This Row],[S&L Price]]","v":0}]
[null,102,null,"Science on Patrol",1,"Under the Ocean","eBook",null,"978-1-4824-5991-3",2017,"January 2017",null,null,"Author, Author","Louise Spilsbury, Richard Spilsbury",7.2,1,null,null,"T",null,"Grade 4 - 5","Grade 4 - 6","Scientists estimate that less than 5 percent of the ocean has been explored. That leaves a lot to be discovered—and a large amount of people needed to make those discoveries. Readers dive deep into the research being done under the ocean and the many STEM career possibilities for those interested in such research. Full-color photographs of the latest technology and scientists at work show readers an exciting world they can be part of. In addition, the main content discusses many STEM topics related to the ocean, including habitats, biodiversity, pollution, and climate change.","English",31.95,23.95,"551.46--dc23","32 pp.",{"$f":"Table1[[#This Row],['# Books]]*Table1[[#This Row],[QTY]]","v":0},{"$f":"Table1[[#This Row],[QTY]]*Table1[[#This Row],[S&L Price]]","v":0}]
[null,104,null,"World's Weirdest Plants",1,"Cacti Barely Need Water!","eBook",null,"978-1-4824-5606-6",2017,"January 2017",null,null,"Author","Tayler Cole",4.8,0.5,null,null,"L",null,"Grade 2 - 3","Grade 2 - 5","Deserts aren’t home to many plants. Those that live in such dry, hot environments need to have special adaptations to thrive. The many kinds of cacti do! Readers explore the ways cacti conserve water, their unique habitats, and the features that make them a weird plant, compared to the tulips in your garden! From spines to flowers, full-color photographs and a plant diagram show readers what many species of cacti look like. The main content covers many topics included in the science curriculum, including plant life cycles and structures.","English",22.6,16.95,"583’.56--dc23","24 pp.",{"$f":"Table1[[#This Row],['# Books]]*Table1[[#This Row],[QTY]]","v":0},{"$f":"Table1[[#This Row],[QTY]]*Table1[[#This Row],[S&L Price]]","v":0}]
[null,104,null,"World's Weirdest Plants",1,"Pitcher Plants Eat Meat!","Library Bound Book",null,"978-1-4824-5636-3",2017,"January 2017","Library","8.500 X 8.500","Author","Barbara M. Linde",4.5999999999999996,0.5,null,null,"L",null,"Grade 2 - 3","Grade 2 - 5","Plants only make their own food—right? Not pitcher plants! Most pitcher plants draw in insects with their sweet-smelling nectar and slowly digest them. There is one kind of pitcher plant that likes to snack on tree shrews, too. The bizarre eating habits of the pitcher plant are sure to fascinate and delight readers as they learn how this plant’s digestive system works, its habitat, and more. Full-color photographs and a simple diagram allow readers to see clearly the unique structures of this weird plant.","English",22.6,16.95,"581.6--dc23","48 pp.",{"$f":"Table1[[#This Row],['# Books]]*Table1[[#This Row],[QTY]]","v":0},{"$f":"Table1[[#This Row],[QTY]]*Table1[[#This Row],[S&L Price]]","v":0}]
[null,105,null,"Miracles of Medicine",1,"Anesthetics","Library Bound Book",null,"978-1-4824-6161-9",2017,"January 2017","Library","7.250 X 9.250","Author","Vic Kovacs",null,null,null,null,"U",null,"Grade 6","Grade 6 - 8","It’s hard to imagine not having an anesthetic at the dentist or during a major operation! This comprehensive volume begins with the history of anesthetics, including herbs used in ancient times. It details different kinds of anesthetics, how anesthetics work, when and where they’re used, and their complications and side effects. It concludes with some fascinating developments in anesthetics. Readers will gain an appreciation for this pain-reducing innovation, while learning more about the human body and medical technology, aided by instructive images and colorful photographs.","English",31.95,23.95,"617.96--dc23","48 pp.",{"$f":"Table1[[#This Row],['# Books]]*Table1[[#This Row],[QTY]]","v":0},{"$f":"Table1[[#This Row],[QTY]]*Table1[[#This Row],[S&L Price]]","v":0}]
[null,105,null,"Miracles of Medicine",1,"Anesthetics","eBook",null,"978-1-4824-6162-6",2017,"January 2017",null,null,"Author","Vic Kovacs",null,null,null,null,"U",null,"Grade 6","Grade 6 - 8","It’s hard to imagine not having an anesthetic at the dentist or during a major operation! This comprehensive volume begins with the history of anesthetics, including herbs used in ancient times. It details different kinds of anesthetics, how anesthetics work, when and where they’re used, and their complications and side effects. It concludes with some fascinating developments in anesthetics. Readers will gain an appreciation for this pain-reducing innovation, while learning more about the human body and medical technology, aided by instructive images and colorful photographs.","English",31.95,23.95,"617.96--dc23","48 pp.",{"$f":"Table1[[#This Row],['# Books]]*Table1[[#This Row],[QTY]]","v":0},{"$f":"Table1[[#This Row],[QTY]]*Table1[[#This Row],[S&L Price]]","v":0}]
[null,105,null,"Miracles of Medicine",1,"Gene Therapy","eBook",null,"978-1-4824-6169-5",2017,"January 2017",null,null,"Author","Vic Kovacs",null,null,null,null,"V",null,"Grade 6","Grade 6 - 8","Gene therapy is a perennial hot-button issue in today’s news cycle. This relatively new and experimental field involves inserting genetically altered genes into cells to replace defective genes. It can treat genetic disorders or provide a specialized disease-fighting function. The multifaceted topics surrounding gene therapy—DNA, techniques, challenges, and risks—are presented in this clear, understandable text, so that readers can grasp the ramifications and ethical concerns of this incredible technology. While gene therapy is currently only being tested for the treatment of diseases that have no cures, genetic engineering for many ailments and conditions is a very real possibility of the near future.","English",31.95,23.95,"615.8’95--dc23","32 pp.",{"$f":"Table1[[#This Row],['# Books]]*Table1[[#This Row],[QTY]]","v":0},{"$f":"Table1[[#This Row],[QTY]]*Table1[[#This Row],[S&L Price]]","v":0}]
[null,107,null,"Technology Takes on Nature",6,"Technology Takes on Nature","Library Set",null,"978-1-4824-5885-5",2017,"January 2017","Library","8.500 X 11.00",null,"",null,null,null,null,null,null,"Grade 3 - 4","Grade 3 - 6","The natural world comes with some very dangerous problems. Earthquakes, floods, and other natural disasters put lives at risk and often require human solutions to keep people safe. That’s where technology comes in handy. From earthquake-proofing buildings to the levees and seawalls that protect cities from waves and floodwaters, readers will explore the problems Mother Nature presents to scientists and the resulting engineering marvels that help us in so many ways.","English",159.6,119.7,null,"32 pp.",{"$f":"Table1[[#This Row],['# Books]]*Table1[[#This Row],[QTY]]","v":0},{"$f":"Table1[[#This Row],[QTY]]*Table1[[#This Row],[S&L Price]]","v":0}]
[null,107,null,"Technology Takes on Nature",1,"Earthquake-Proof Buildings","Library Bound Book",null,"978-1-4824-5769-8",2017,"January 2017","Library","8.500 X 11.00","Author","Melissa Raé Shofner",6.3,0.5,null,null,"Q",null,"Grade 3 - 4","Grade 3 - 6","There’s no telling when an earthquake can strike, which is why engineers building in earthquake-prone places need to be careful. Earthquake-proofing buildings takes cutting-edge science and lots of testing, but these amazing creations help keep people safe and prevent further chaos in the event of disaster. Full-color photographs that chronicle the construction of simple bunker-like rooms as well as more complex buildings yet to be tested by major geological events will mesmerize readers. They’ll also get a look at how high-rises are built to combat the shaking and swaying that comes with these natural disasters.","English",26.6,19.95,"690--dc23","48 pp.",{"$f":"Table1[[#This Row],['# Books]]*Table1[[#This Row],[QTY]]","v":0},{"$f":"Table1[[#This Row],[QTY]]*Table1[[#This Row],[S&L Price]]","v":0}]
[null,107,null,"Technology Takes on Nature",1,"Earthquake-Proof Buildings","eBook",null,"978-1-4824-5770-4",2017,"January 2017",null,null,"Author","Melissa Raé Shofner",6.3,0.5,null,null,"Q",null,"Grade 3 - 4","Grade 3 - 6","There’s no telling when an earthquake can strike, which is why engineers building in earthquake-prone places need to be careful. Earthquake-proofing buildings takes cutting-edge science and lots of testing, but these amazing creations help keep people safe and prevent further chaos in the event of disaster. Full-color photographs that chronicle the construction of simple bunker-like rooms as well as more complex buildings yet to be tested by major geological events will mesmerize readers. They’ll also get a look at how high-rises are built to combat the shaking and swaying that comes with these natural disasters.","English",26.6,19.95,"690--dc23","48 pp.",{"$f":"Table1[[#This Row],['# Books]]*Table1[[#This Row],[QTY]]","v":0},{"$f":"Table1[[#This Row],[QTY]]*Table1[[#This Row],[S&L Price]]","v":0}]
[null,107,null,"Technology Takes on Nature",1,"Levees and Seawalls","Library Bound Book",null,"978-1-4824-5777-3",2017,"January 2017","Library","8.500 X 11.00","Author","Erika Edwards",6,0.5,null,null,"Q",null,"Grade 3 - 4","Grade 3 - 6","People change the way water moves around them in many different ways. Reclaiming land from rising ocean tides requires levees and seawalls, but few of us know how these amazing engineering tasks are actually carried out. This exciting title takes a look at famous levees on rivers and seawalls on oceans around the world, including the series of projects protecting New Orleans, Louisiana. It also explores what happens when these projects fail, and how engineers today are working to make better levees to battle the growing threat of climate change and rising water levels around the globe.","English",26.6,19.95,"627’.42--dc23","48 pp.",{"$f":"Table1[[#This Row],['# Books]]*Table1[[#This Row],[QTY]]","v":0},{"$f":"Table1[[#This Row],[QTY]]*Table1[[#This Row],[S&L Price]]","v":0}]
[null,108,null,"Amazing World of Science and Math",1,"Chemistry Is Explosive","Library Bound Book",null,"978-1-4824-4992-1",2017,"August 2016","Library","7.250 X 9.250","Author","Lisa Regan",6.4,1,null,null,"T",null,"Grade 5","Grade 5 - 6","Chemical reactions are happening all around us–and inside our bodies! From a scab forming on a cut to the creation of carbon dioxide as a waste product, there are so many ways chemistry plays a part in how the human body works. Each spread of this colorful book offers readers a fascinating or surprising fact about popcorn, flour, or other familiar items and relates it to chemistry in understandable and age-appropriate language. These real-life examples and explanations of chemistry in our world engage readers with important STEM concepts such as states of matter, atoms, acids, and more. \n\n","English",31.95,23.95,"540--dc23","32 pp.",{"$f":"Table1[[#This Row],['# Books]]*Table1[[#This Row],[QTY]]","v":0},{"$f":"Table1[[#This Row],[QTY]]*Table1[[#This Row],[S&L Price]]","v":0}]
[null,108,null,"Amazing World of Science and Math",1,"Physics Is Out of This World","eBook",null,"978-1-4824-4985-3",2017,"August 2016",null,null,"Author","Lisa Regan",6.1,1,null,null,"T",null,"Grade 5","Grade 5 - 6","Some of the coolest science information in our world is out of it—in space! From how the celestial bodies move around our solar system to people’s ability to travel in it, space science is endlessly fascinating. It’s also an incredible vehicle for physics learning! In this book, readers learn about space, light and sound, machines, and forces in an engaging format that introduces each new concept with a real-life, surprising fact. Colorful photographs and understandable language present STEM curriculum topics in a new way, sure to draw readers in with their gravitational pull!","English",31.95,23.95,"530--dc23","32 pp.",{"$f":"Table1[[#This Row],['# Books]]*Table1[[#This Row],[QTY]]","v":0},{"$f":"Table1[[#This Row],[QTY]]*Table1[[#This Row],[S&L Price]]","v":0}]
[null,108,null,"Fantastic Science Journeys",1,"A Trip Through a Coral Reef","eBook",null,"978-1-4824-2004-3",2015,"January 2015",null,null,"Author","Heather Moore Niver",null,null,null,null,"M","890L","Grade 2 - 3","Grade 2 - 5","Amazing ecosystems are often hidden just below the ocean’s surface. A coral reef is teeming with life, and readers will explore that life with the help of a special ship that takes them up close to the fish, coral, and other creatures that call a coral reef home. From the formation of the reefs themselves to the bacteria and plants that help keep the reef healthy, readers will learn everything there is to know about the amazing and colorful creatures that make up one of the world’s most diverse ecosystems.","English",25.25,18.95,"578.77","32 pp.",{"$f":"Table1[[#This Row],['# Books]]*Table1[[#This Row],[QTY]]","v":0},{"$f":"Table1[[#This Row],[QTY]]*Table1[[#This Row],[S&L Price]]","v":0}]
[null,108,null,"Fantastic Science Journeys",1,"A Trip Through the Human Body","eBook",null,"978-1-4824-2008-1",2015,"January 2015",null,null,"Author","Christine Honders",null,null,null,null,"O","770L","Grade 2 - 3","Grade 2 - 5","If it were possible to shrink down and take a tour of a human body, would you want to go? Readers will get that chance when they explore the body of a guy named Marty, who will let them check out the body systems that keep his heart beating and his body moving every day. With the help of a tiny ship that goes through his ears and all the way through his digestive system, readers will learn exactly what they are made of with this great book.","English",25.25,18.95,"612","32 pp.",{"$f":"Table1[[#This Row],['# Books]]*Table1[[#This Row],[QTY]]","v":0},{"$f":"Table1[[#This Row],[QTY]]*Table1[[#This Row],[S&L Price]]","v":0}]
[null,108,null,"Fantastic Science Journeys",1,"A Trip to the Sun","Library Bound Book",null,"978-1-4824-2015-9",2015,"January 2015","Library","8.500 X 8.500","Author","Claire E. Flynn",null,null,null,null,"M","930L","Grade 2 - 3","Grade 2 - 5","The sun is responsible for all life on Earth, but what exactly is it? Our star is an amazing force that can be as dangerous as it is important. From solar flares to the threat of blowing up altogether, the sun is one of the most interesting things in our solar system. Readers take a trip to the sun to see how it works and exactly what it is made of. They’ll learn about the life cycle of a star and see just how long we have until we have to find a new planet to call home. Don’t worry, they’ll be happy to learn that (hopefully) we have millions of years left!","English",25.25,18.95,"523.7","32 pp.",{"$f":"Table1[[#This Row],['# Books]]*Table1[[#This Row],[QTY]]","v":0},{"$f":"Table1[[#This Row],[QTY]]*Table1[[#This Row],[S&L Price]]","v":0}]
[null,109,null,"Freaky True Science",1,"Freaky Science Discoveries","Library Bound Book",null,"978-1-4824-2954-1",2016,"August 2015","Library","6.500 X 9.125","Author","Sarah Machajewski",null,null,null,null,"T",null,"Grade 4 - 5","Grade 4 - 6","Science has helped us make sense of some of the freakiest things about life on Earth, and more amazing discoveries are made every day. This book takes readers on a jaw-dropping journey through some of history’s wildest scientific revelations, such as the existence of black holes, the role of mold in fighting killer diseases, and how maggots—yes, maggots!—are used to treat serious wounds. Astounding full-color images enhance the high-interest text, and will make readers squirm with delight as they learn about some of the most pivotal moments in scientific study. Fascinating fun facts and in-depth sidebars enhance the main content with information readers will not soon forget!","English",26.6,19.95,"509","32 pp.",{"$f":"Table1[[#This Row],['# Books]]*Table1[[#This Row],[QTY]]","v":0},{"$f":"Table1[[#This Row],[QTY]]*Table1[[#This Row],[S&L Price]]","v":0}]
[null,109,null,"Freaky True Science",1,"Freaky Science Discoveries","eBook",null,"978-1-4824-2955-8",2016,"August 2015",null,null,"Author","Sarah Machajewski",null,null,null,null,"T",null,"Grade 4 - 5","Grade 4 - 6","Science has helped us make sense of some of the freakiest things about life on Earth, and more amazing discoveries are made every day. This book takes readers on a jaw-dropping journey through some of history’s wildest scientific revelations, such as the existence of black holes, the role of mold in fighting killer diseases, and how maggots—yes, maggots!—are used to treat serious wounds. Astounding full-color images enhance the high-interest text, and will make readers squirm with delight as they learn about some of the most pivotal moments in scientific study. Fascinating fun facts and in-depth sidebars enhance the main content with information readers will not soon forget!","English",26.6,19.95,"509","32 pp.",{"$f":"Table1[[#This Row],['# Books]]*Table1[[#This Row],[QTY]]","v":0},{"$f":"Table1[[#This Row],[QTY]]*Table1[[#This Row],[S&L Price]]","v":0}]
[null,109,null,"Freaky True Science",1,"Freaky Stories About Inventions","Library Bound Book",null,"978-1-4824-4829-0",2017,"August 2016","Library","6.500 X 9.125","Author","Michael Canfield",6,1,null,null,"T",null,"Grade 4 - 5","Grade 4 - 6","Some of the wildest inventions came from clever minds that wanted to change the world. But some of these inventions are truly strange. From crazy early flying machines to wacky mash-ups like a gun that takes pictures, there are many crazy creations that lived short lives. Even practical inventions of the past—like the phonograph—look strange compared to modern inventions such as televisions and MP3 players. This book takes a look at some of the strangest inventors and inventions made throughout time, as well as why these inventions failed or evolved into something we use today.","English",26.6,19.95,"609--dc23","32 pp.",{"$f":"Table1[[#This Row],['# Books]]*Table1[[#This Row],[QTY]]","v":0},{"$f":"Table1[[#This Row],[QTY]]*Table1[[#This Row],[S&L Price]]","v":0}]
[null,109,null,"Freaky True Science",1,"Freaky Stories About Plants","eBook",null,"978-1-4824-4834-4",2017,"August 2016",null,null,"Author","Janey Levy",5.6,1,null,null,"T",null,"Grade 4 - 5","Grade 4 - 6","There are stories of meat-eating plants, but are they really true? Yes! Plants are just as freaky as animals in many ways. This book dives into jungles, forests, and fields all over the world that contain some of the wildest plants on the planet. From Venus flytraps and pitcher plants to a plant that smells like a rotting corpse, these organisms are as diverse as they are weird. Toxic mosses and poisonous plants like the New Zealand tree nettle show that plants can be just as dangerous—and freaky—as anything in the animal kingdom.","English",26.6,19.95,"580.2--dc23","32 pp.",{"$f":"Table1[[#This Row],['# Books]]*Table1[[#This Row],[QTY]]","v":0},{"$f":"Table1[[#This Row],[QTY]]*Table1[[#This Row],[S&L Price]]","v":0}]
[null,109,null,"Freaky True Science",1,"Freaky Stories About the Paranormal","eBook",null,"978-1-4824-4850-4",2017,"August 2016",null,null,"Author","M. H. Seeley",6.4,1,null,null,"T",null,"Grade 4 - 5","Grade 4 - 6","Aliens, ghosts, and cryptids may all fall under the category of “strange” or “unusual,” but all are classified as paranormal. There are plenty of spooky and scary stories throughout history. From Abraham Lincoln’s doppelganger to the mysteries of the Bermuda Triangle and even the feeling of déjà vu, there are many unexplained phenomena. Even some aspects of history itself are still a mystery, like the Antikythera mechanism found in a Greek shipwreck. This book shows readers that there is often a blurry line between fact and the paranormal, and sometimes fact is even stranger than fiction!","English",26.6,19.95,"130--dc23","24 pp.",{"$f":"Table1[[#This Row],['# Books]]*Table1[[#This Row],[QTY]]","v":0},{"$f":"Table1[[#This Row],[QTY]]*Table1[[#This Row],[S&L Price]]","v":0}]
[null,109,null,"Freaky True Science",1,"Freaky Stories While You Sleep","Library Bound Book",null,"978-1-4824-4853-5",2017,"August 2016","Library","6.500 X 9.125","Author","Caitie McAneney",5.5,1,null,null,"T",null,"Grade 4 - 5","Grade 4 - 6","Everyone needs sleep, but some of the weirdest things about living happen when people try to get some shut-eye. Sleepwalking and lucid dreams are just the start of the odd things that can happen to people when they are asleep. Exploding head syndrome, for instance, is not something people want waking them up in the middle of the night! This book explores all the weird wonders that sleep can bring. From sleep disorders to paralysis and even breathless sleep, there are plenty of freaky facts to explore about life after people close their eyes and say good night.","English",26.6,19.95,"613.7/94--dc23","24 pp.",{"$f":"Table1[[#This Row],['# Books]]*Table1[[#This Row],[QTY]]","v":0},{"$f":"Table1[[#This Row],[QTY]]*Table1[[#This Row],[S&L Price]]","v":0}]
[null,110,null,"Real-Life Vampires",1,"Bloodsucking Birds","Library Bound Book",null,"978-1-4824-3941-0",2016,"January 2016","Library","8.500 X 8.500","Author","Christine Honders",5.2,0.5,null,null,"M",null,"Grade 2 - 3","Grade 2 - 5","The long tradition of vampire myths can be scary to a lot of people. But for birds that evolved on the harsh Galapagos Islands, drinking blood is necessary. That doesn’t make vampire finches and hood mockingbirds any less creepy! Readers learn about the healthy treat blood can be for some kinds of birds as well as how they came to use it as a source of nutrition. Full-color photographs introduce these bloodthirsty birds, and fact boxes provide additional science information to enhance the main content.","English",22.6,16.95,"598--d23","24 pp.",{"$f":"Table1[[#This Row],['# Books]]*Table1[[#This Row],[QTY]]","v":0},{"$f":"Table1[[#This Row],[QTY]]*Table1[[#This Row],[S&L Price]]","v":0}]
[null,110,null,"Real-Life Vampires",1,"Bloodsucking Lampreys","eBook",null,"978-1-4824-3950-2",2016,"January 2016",null,null,"Author","Ryan Nagelhout",5.4,0.5,null,null,"M",null,"Grade 2 - 3","Grade 2 - 5","Lampreys aren’t just freaky because of their funnel-shaped mouth or many species’ appetite for blood. They’re an invasive species slowly entering North American waters and causing harm to native species there. Readers learn about the problems invasive species cause as well as details about the parasitic relationships lampreys engage in with other fish. The gross truth about how they suck blood will fascinate readers as they also learn about lampreys’ life cycle, habitat, and more. Up close photographs of lampreys in action are surely as close as readers will want to get to this real-life vampire!","English",22.6,16.95,"591.53—d23","24 pp.",{"$f":"Table1[[#This Row],['# Books]]*Table1[[#This Row],[QTY]]","v":0},{"$f":"Table1[[#This Row],[QTY]]*Table1[[#This Row],[S&L Price]]","v":0}]
[null,110,null,"Real-Life Vampires",1,"Bloodsucking Vampire Bats","Library Bound Book",null,"978-1-4824-3961-8",2016,"January 2016","Library","8.500 X 8.500","Author","Therese M. Shea",4.5,0.5,null,null,"M",null,"Grade 2 - 3","Grade 2 - 5","Many people know that vampire bats drink blood. But most people don’t know that’s the only food adult vampire bats take in. In addition to milk, mother bats feed their babies regurgitated blood when they’re old enough! Readers learn creepy—but true—facts like these throughout the main content. Full-color photographs take readers through the night with vampire bats on the hunt, including a look at a bat actually drinking from livestock! Fact boxes enhance the main content’s focus on this incredible adaptation, adding information about vampire bats’ life-span, size, and more.","English",22.6,16.95,"599.4'5—dc23","24 pp.",{"$f":"Table1[[#This Row],['# Books]]*Table1[[#This Row],[QTY]]","v":0},{"$f":"Table1[[#This Row],[QTY]]*Table1[[#This Row],[S&L Price]]","v":0}]
[null,110,null,"Real-Life Vampires",1,"Bloodsucking Vampire Bats","eBook",null,"978-1-4824-3962-5",2016,"January 2016",null,null,"Author","Therese M. Shea",4.5,0.5,null,null,"M",null,"Grade 2 - 3","Grade 2 - 5","Many people know that vampire bats drink blood. But most people don’t know that’s the only food adult vampire bats take in. In addition to milk, mother bats feed their babies regurgitated blood when they’re old enough! Readers learn creepy—but true—facts like these throughout the main content. Full-color photographs take readers through the night with vampire bats on the hunt, including a look at a bat actually drinking from livestock! Fact boxes enhance the main content’s focus on this incredible adaptation, adding information about vampire bats’ life-span, size, and more.","English",22.6,16.95,"599.4'5—dc23","24 pp.",{"$f":"Table1[[#This Row],['# Books]]*Table1[[#This Row],[QTY]]","v":0},{"$f":"Table1[[#This Row],[QTY]]*Table1[[#This Row],[S&L Price]]","v":0}]
[null,111,null,"Bad to the Bone: Nastiest Animals",1,"Honey Badgers","eBook",null,"978-1-4824-1956-6",2015,"January 2015",null,null,"Author","Marie Roesser",4.0999999999999996,0.5,28,null,"M",null,"Grade 2 - 3","Grade 2 - 5","A honey badger's reputation as one of the most fearless animals in nature is much deserved. This omnivorous member of the weasel family is well equipped to take on lethal cobras and other predators. Honey badgers, which live in Africa, the Middle East, and India, have special adaptations such as thick skin and sharp teeth that make them fearsome fighters. They even have the ability to release a stinky liquid! Readers will learn much more about honey badgers' abilities and lives in this entertaining look at one of nature's toughest creatures. Colorful photographs make the resilient animal come to life.","English",22.6,16.95,"599.76","24 pp.",{"$f":"Table1[[#This Row],['# Books]]*Table1[[#This Row],[QTY]]","v":0},{"$f":"Table1[[#This Row],[QTY]]*Table1[[#This Row],[S&L Price]]","v":0}]
[null,111,null,"Bad to the Bone: Nastiest Animals",1,"Mongooses","Library Bound Book",null,"978-1-4824-1963-4",2015,"January 2015","Library","8.500 X 8.500","Author","John O'Mara",4.7,0.5,28,null,"M",null,"Grade 2 - 3","Grade 2 - 5","Mongooses, with their long body, short legs, and pointy snouts, are cute furry animals, unless you're an enemy. Then, it doesn't matter how dangerous the situation, they aren't afraid to fight. Mongooses are famous for going head-to-head with venomous king cobras and adders! Readers will discover the adaptations that equip mongooses for these battles, including lightning-quick reflexes and razor-sharp teeth. They'll also learn some odd quirks about some mongoose species, such as how they crack open eggs by throwing them at rocks. A habitat map, graphic organizer, and photographs of mongooses in action will make readers feel like mongoose experts.","English",22.6,16.95,"599.74","24 pp.",{"$f":"Table1[[#This Row],['# Books]]*Table1[[#This Row],[QTY]]","v":0},{"$f":"Table1[[#This Row],[QTY]]*Table1[[#This Row],[S&L Price]]","v":0}]
[null,111,null,"Ultimate Animal Defenses",1,"Animals Undercover: Camouflage","eBook",null,"978-1-4824-4403-2",2017,"August 2016",null,null,"Author","Madeleine Fortescue",4.5999999999999996,0.5,null,null,"N",null,"Grade 2 - 3","Grade 2 - 5","Nature is tricky, and the animals in this book prove it. Camouflage is a remarkable adaptation that manifests itself through coloring, shape, and movement. This entertaining and informative text explains the different forms of camouflage that animals employ to survive in their environments. Arctic hares, octopuses, penguins, praying mantises, polar bears, and zebras are some of the high-interest animals in disguise in this volume packed with essential science concepts and bright photographs.","English",22.6,16.95,"591.47'2—dc23","24 pp.",{"$f":"Table1[[#This Row],['# Books]]*Table1[[#This Row],[QTY]]","v":0},{"$f":"Table1[[#This Row],[QTY]]*Table1[[#This Row],[S&L Price]]","v":0}]
[null,111,null,"Ultimate Animal Defenses",1,"Deadly Animal Poisons","Library Bound Book",null,"978-1-4824-4424-7",2017,"August 2016","Library","8.500 X 8.500","Author","Madeleine Fortescue",4.9000000000000004,0.5,null,null,"N",null,"Grade 2 - 3","Grade 2 - 5","Many animal species have developed a deadly adaptation to thwart their predators: poison! Some infamous spiders and snakes are feared, and rightly so, for their toxic defenses. However, many other animals are just as deadly. In this fascinating volume, readers will find out the difference between poison and venom. They’ll learn about several creatures and the toxins they use to survive in the wild, such as the pufferfish, the poison dart frog, the cone snail, and the blue-ringed octopus. Beautiful color photographs, a graphic organizer, and fact boxes with stunning information augment this exciting volume.","English",22.6,16.95,"591.6'5—dc23","24 pp.",{"$f":"Table1[[#This Row],['# Books]]*Table1[[#This Row],[QTY]]","v":0},{"$f":"Table1[[#This Row],[QTY]]*Table1[[#This Row],[S&L Price]]","v":0}]
[null,111,null,"Ultimate Animal Defenses",1,"Grossest Animal Tricks","eBook",null,"978-1-4824-4407-0",2017,"August 2016",null,null,"Author","Agatha Gregson",4.7,0.5,null,null,"O",null,"Grade 2 - 3","Grade 2 - 5","Stenches, slime, excrement, and vomit are all gross—and very effective—animal defenses. A dog that has been sprayed by a skunk will rarely want to approach the furry animal again. The seabird called the fulmar spews a stinky vomit powerful enough to cause a bird to drown! These are just two of the creatures in the spotlight of this entertaining volume. Readers will learn just how powerful defensive adaptations can be against even the deadliest predators. Essential science vocabulary, demonstrative photographs, and surprising fact boxes augment this book’s motivating and educational content.","English",22.6,16.95,"591.47--dc23","24 pp.",{"$f":"Table1[[#This Row],['# Books]]*Table1[[#This Row],[QTY]]","v":0},{"$f":"Table1[[#This Row],[QTY]]*Table1[[#This Row],[S&L Price]]","v":0}]
[null,112,null,"Bizarre Beast Battles",6,"Bizarre Beast Battles","Library Set",null,"978-1-4824-2547-5",2016,"August 2015","Library","8.500 X 8.500",null,"",null,null,null,null,null,null,"Grade 2 - 3","Grade 2 - 5","This imaginative series will interest readers in matchups between their favorite animals, fascinating, fierce, or just plain gross. These creatures might not ever see each other in real life, never mind fight. However, readers will love speculating about which would be the ultimate victor after battles of strength, size, intelligence, and fighting prowess. Each high-interest volume contains eye-popping graphics, super-fun facts, and vivid images of the animals at their wildest. Whether it's a boa constrictor battling a grizzly bear or a Tyrannosaurus rex wrestling a crocodile, readers will love turning the pages of these action-packed books.\n\n\n\n\n\n•\tDynamic page layout and motivating text will attract animal lovers and readers of all levels\n\n\n•\tInformation about animal adaptations and behaviors supports the elementary science curriculum\n\n\n•\tReaders are encouraged to weigh evidence critically and construct a point of view, both valuable Common Core literacy skills\n","English",135.6,101.7,null,"24 pp.",{"$f":"Table1[[#This Row],['# Books]]*Table1[[#This Row],[QTY]]","v":0},{"$f":"Table1[[#This Row],[QTY]]*Table1[[#This Row],[S&L Price]]","v":0}]
[null,112,null,"Bizarre Beast Battles",1,"Rat vs. Cockroach","Library Bound Book",null,"978-1-4824-2790-5",2016,"August 2015","Library","8.500 X 8.500","Author","Charlotte Herriott",3.9,0.5,28,null,"M","760L","Grade 2 - 3","Grade 2 - 5","Rats and cockroaches are definitely two of the grossest animals around. They spread disease and unfortunately flock to wherever people are living. Readers of this spine-tingling volume with vivid photographs are encouraged to decide what would happen if these two pests did battle. They'll be entertained by facts about how the creatures match up in speed, intelligence, and toughness. For example, a cockroach can move around for weeks without its head! Important science concepts such as adaptations and habitats are discussed on each informative and entertaining page.","English",22.6,16.95,"599.35","24 pp.",{"$f":"Table1[[#This Row],['# Books]]*Table1[[#This Row],[QTY]]","v":0},{"$f":"Table1[[#This Row],[QTY]]*Table1[[#This Row],[S&L Price]]","v":0}]
[null,112,null,"Bizarre Beast Battles",1,"Rat vs. Cockroach","eBook",null,"978-1-4824-2791-2",2016,"August 2015",null,null,"Author","Charlotte Herriott",3.9,0.5,28,null,"M","760L","Grade 2 - 3","Grade 2 - 5","Rats and cockroaches are definitely two of the grossest animals around. They spread disease and unfortunately flock to wherever people are living. Readers of this spine-tingling volume with vivid photographs are encouraged to decide what would happen if these two pests did battle. They'll be entertained by facts about how the creatures match up in speed, intelligence, and toughness. For example, a cockroach can move around for weeks without its head! Important science concepts such as adaptations and habitats are discussed on each informative and entertaining page.","English",22.6,16.95,"599.35","24 pp.",{"$f":"Table1[[#This Row],['# Books]]*Table1[[#This Row],[QTY]]","v":0},{"$f":"Table1[[#This Row],[QTY]]*Table1[[#This Row],[S&L Price]]","v":0}]
[null,112,null,"Bizarre Beast Battles",1,"Tasmanian Devil vs. Hyena","eBook",null,"978-1-4824-2799-8",2016,"August 2015",null,null,"Author","Greg Roza",4.7,0.5,28,null,"M","870L","Grade 2 - 3","Grade 2 - 5","Famously feisty Tasmanian devils and perpetually ravenous hyenas may not seem to have a lot in common. However, both carnivores are ready to kill at a moment's notice. For those who wonder what would happen if one beast was pitted against another, this lively volume has the answers. It breaks down each hunter's adaptations that have helped it survive in its wild habitat, such as the Tasmanian devil's brawny bite and the hyena's staggering stamina. Incredible action photographs demonstrate key points in the text, giving readers a ringside seat to a wild fight to the finish.","English",22.6,16.95,"599","24 pp.",{"$f":"Table1[[#This Row],['# Books]]*Table1[[#This Row],[QTY]]","v":0},{"$f":"Table1[[#This Row],[QTY]]*Table1[[#This Row],[S&L Price]]","v":0}]
[null,112,null,"Things That Sting",1,"Jellyfish","eBook",null,"978-1-4824-1705-0",2016,"August 2015",null,null,"Author","Greg Roza",4.5999999999999996,0.5,28,null,"M","840L","Grade 2 - 3","Grade 2 - 5","Box jellyfish are responsible for about 20 to 40 deaths in the Philippines each year. The sting of one species of box jellyfish can kill a person in 3 minutes! While these are some of the deadliest jellyfish, all species of jellyfish sting, both for defense and to hunt for food. Full-color photographs introduce readers to the growing population of jellyfish in Earth’s oceans. From the strange-but-cool life cycle of the jellyfish to the specifics of their stinging tentacles, the main text includes interesting science content, astonishing fact boxes, and safety information about sharing the oceans with these stinging creatures.","English",22.6,16.95,"593.5","24 pp.",{"$f":"Table1[[#This Row],['# Books]]*Table1[[#This Row],[QTY]]","v":0},{"$f":"Table1[[#This Row],[QTY]]*Table1[[#This Row],[S&L Price]]","v":0}]
[null,112,null,"Things That Sting",1,"Sea Anemones","Library Bound Book",null,"978-1-4824-1710-4",2016,"August 2015","Library","8.500 X 8.500","Author","Walter LaPlante",4.5999999999999996,0.5,28,null,"M","880L","Grade 2 - 3","Grade 2 - 5","Even the most inactive animals can be dangerous! The deadly stinging tentacles of the sea anemone are useful and multifunctional. They’re used to kill and capture food, keep predators away, and protect territory. Readers dive deep into the world of these fascinating invertebrates, learning many facts, including details about their body structure and their symbiotic relationship with clown fish. Brightly colored photographs showcase the beauty of the sea anemone and its marine environment. Fact boxes add even more information to main content that supports the science curriculum.","English",22.6,16.95,"975.3","32 pp.",{"$f":"Table1[[#This Row],['# Books]]*Table1[[#This Row],[QTY]]","v":0},{"$f":"Table1[[#This Row],[QTY]]*Table1[[#This Row],[S&L Price]]","v":0}]
[null,112,null,"Things That Sting",1,"Sea Anemones","eBook",null,"978-1-4824-1713-5",2016,"August 2015",null,null,"Author","Walter LaPlante",4.5999999999999996,0.5,28,null,"M","880L","Grade 2 - 3","Grade 2 - 5","Even the most inactive animals can be dangerous! The deadly stinging tentacles of the sea anemone are useful and multifunctional. They’re used to kill and capture food, keep predators away, and protect territory. Readers dive deep into the world of these fascinating invertebrates, learning many facts, including details about their body structure and their symbiotic relationship with clown fish. Brightly colored photographs showcase the beauty of the sea anemone and its marine environment. Fact boxes add even more information to main content that supports the science curriculum.","English",22.6,16.95,"975.3","32 pp.",{"$f":"Table1[[#This Row],['# Books]]*Table1[[#This Row],[QTY]]","v":0},{"$f":"Table1[[#This Row],[QTY]]*Table1[[#This Row],[S&L Price]]","v":0}]
[null,113,null,"Animals of Mass Destruction",1,"Beavers","eBook",null,"978-1-4824-0798-3",2015,"August 2014",null,null,"Author","Greg Roza",4.5999999999999996,0.5,28,null,"M",null,"Grade 2 - 3","Grade 2 - 5","Beavers might not be very large animals, but they can wipe out whole forests. Beavers need certain trees for sustenance and lodging, but that can mean widespread destruction throughout their habitats, including flooding. However, beavers have a positive role to play in nature, too. They allow certain kinds of trees and animals to thrive. Readers will discover many more fun facts about these rodents, such as how their orange teeth are covered in iron. Fact boxes and graphic organizers make this book an even more valuable source of information for animal enthusiasts.","English",25.25,18.95,"599.37","32 pp.",{"$f":"Table1[[#This Row],['# Books]]*Table1[[#This Row],[QTY]]","v":0},{"$f":"Table1[[#This Row],[QTY]]*Table1[[#This Row],[S&L Price]]","v":0}]
[null,113,null,"Animals of Mass Destruction",1,"Locusts","Library Bound Book",null,"978-1-4824-1051-8",2015,"August 2014","Library","8.500 X 8.500","Author","Caitie McAneney",5.0999999999999996,0.5,30,null,"N",null,"Grade 2 - 3","Grade 2 - 5","Just the mention of locusts can strike fear into the heart of a farmer. Locust plagues wreak havoc on crops and have been the cause of millions of people going hungry. This book examines the life of a locust and what happens to cause a swarm to form. Locust swarms can contain trillions of insects and cover hundreds of miles of land, so locust control is essential to countries dependent on crops. This book offers both historical and scientific information on locusts and impresses just how detrimental these creatures can be.","English",25.25,18.95,"595.7","24 pp.",{"$f":"Table1[[#This Row],['# Books]]*Table1[[#This Row],[QTY]]","v":0},{"$f":"Table1[[#This Row],[QTY]]*Table1[[#This Row],[S&L Price]]","v":0}]
[null,113,null,"Animals of Mass Destruction",1,"Tent Caterpillars","Library Bound Book",null,"978-1-4824-1056-3",2015,"August 2014","Library","8.500 X 8.500","Author","Barbara M. Linde",4.5,0.5,28,null,"M",null,"Grade 2 - 3","Grade 2 - 5","After the tent caterpillar hatches from its egg, it's hungry for leaves. It may emerge with 350 other caterpillars, so a ravenous colony can mean big trouble for a tree. Tent caterpillars are named for the silky, tent-like homes they weave. Their tents function as shelters from the elements as well as predators in the weeks before the caterpillars turn into moths. This book discusses the tent caterpillar life cycle, damaging habits, and habitats as well as how people try to fight them to save their trees.","English",25.25,18.95,"595.78","24 pp.",{"$f":"Table1[[#This Row],['# Books]]*Table1[[#This Row],[QTY]]","v":0},{"$f":"Table1[[#This Row],[QTY]]*Table1[[#This Row],[S&L Price]]","v":0}]
[null,113,null,"Zombie Animals: Parasites Take Control!",1,"Zombie Ants","Library Bound Book",null,"978-1-4824-2830-8",2016,"August 2015","Library","8.500 X 8.500","Author","Frances Nagle",5.2,0.5,28,null,"M",null,"Grade 2 - 3","Grade 2 - 5","Ants are known for being industrious insects. They follow set paths to find food and are often seen walking in a straight line. If you follow them, they’ll lead you right back to their nest. When scientists found ants that were walking off course in tropical forests, they knew something was wrong. Readers learn all the latest information about these fascinating zombie ants, including what causes their strange behavior and what threat it poses to their species. Full-color photographs show the deadly end of these ants, and fact boxes offer more details about a rare parasitic phenomenon.","English",22.6,16.95,"578.6","24 pp.",{"$f":"Table1[[#This Row],['# Books]]*Table1[[#This Row],[QTY]]","v":0},{"$f":"Table1[[#This Row],[QTY]]*Table1[[#This Row],[S&L Price]]","v":0}]
[null,113,null,"Zombie Animals: Parasites Take Control!",1,"Zombie Crabs","eBook",null,"978-1-4824-2839-1",2016,"August 2015",null,null,"Author","Jolene Alessi",5,0.5,28,null,"M",null,"Grade 2 - 3","Grade 2 - 5","A parasite exists that can make a male crab believe it’s a female crab. It forces the crab it infects to care for parasite eggs and even help release the larvae into the ocean to infect other crabs! These zombie crabs are never aware that they are infected nor do they harm the parasite. A fascinating look at the parasite-host relationship, this volume will keep readers turning pages with great interest. Full-color photographs of infected crabs offer captivating examples of how the parasite takes over the crab’s body, while the main content also includes how it takes over the crab’s mind.","English",22.6,16.95,"578.6","40 pp.",{"$f":"Table1[[#This Row],['# Books]]*Table1[[#This Row],[QTY]]","v":0},{"$f":"Table1[[#This Row],[QTY]]*Table1[[#This Row],[S&L Price]]","v":0}]
[null,113,null,"Zombie Animals: Parasites Take Control!",1,"Zombie Snails","Library Bound Book",null,"978-1-4824-2850-6",2016,"August 2015","Library","8.500 X 8.500","Author","Jolene Alessi",5,0.5,28,null,"M",null,"Grade 2 - 3","Grade 2 - 5","A worm call Leucochloridium needs to reach a bird’s stomach in order to reproduce and spread in the bird’s waste. How it gets there sounds like science fiction! By infesting a snail’s eyestalks and controlling its brain, this parasite sends the snail into the open with eyestalks that now resemble caterpillars, which are a bird’s favorite snack. Readers are introduced to the poor zombie snail and its role in the parasite-host relationship. Full-color photographs showcase the incredible changes the snail undergoes once infected by the parasite. Fascinating fact boxes and main content offer readers the gross, but cool, details!","English",22.6,16.95,"594'.3 —d23","40 pp.",{"$f":"Table1[[#This Row],['# Books]]*Table1[[#This Row],[QTY]]","v":0},{"$f":"Table1[[#This Row],[QTY]]*Table1[[#This Row],[S&L Price]]","v":0}]
[null,114,null,"Animals Are Wild!",1,"Deadly Animals","Library Bound Book",null,"978-1-4824-5016-3",2017,"August 2016","Library","8.500 X 11.00","Author","Anna Claybourne",7.3,1,null,null,"N","NC1060L","Grade 3 - 4","Grade 3 - 5","The deadliest animal on Earth is also one of the smallest. The mosquito is a vector, or carrier, of diseases that kill millions of people every year. Readers learn about how and why this is, among other facts about animals with other deadly defenses. Full-color photographs highlight the powerful jaws of the grizzly bear, the huge horn of the rhino, and much more. Readers can see some of the world’s predators closer than would be possible, even in a zoo! In addition, fact boxes describe each animal’s behavior, size, and even endangered status.","English",31.95,23.95,"591.6’5--dc23","40 pp.",{"$f":"Table1[[#This Row],['# Books]]*Table1[[#This Row],[QTY]]","v":0},{"$f":"Table1[[#This Row],[QTY]]*Table1[[#This Row],[S&L Price]]","v":0}]
[null,114,null,"Animals Are Wild!",1,"Deadly Animals","eBook",null,"978-1-4824-5017-0",2017,"August 2016",null,null,"Author","Anna Claybourne",7.3,1,null,null,"N","NC1060L","Grade 3 - 4","Grade 3 - 5","The deadliest animal on Earth is also one of the smallest. The mosquito is a vector, or carrier, of diseases that kill millions of people every year. Readers learn about how and why this is, among other facts about animals with other deadly defenses. Full-color photographs highlight the powerful jaws of the grizzly bear, the huge horn of the rhino, and much more. Readers can see some of the world’s predators closer than would be possible, even in a zoo! In addition, fact boxes describe each animal’s behavior, size, and even endangered status.","English",31.95,23.95,"591.6’5--dc23","40 pp.",{"$f":"Table1[[#This Row],['# Books]]*Table1[[#This Row],[QTY]]","v":0},{"$f":"Table1[[#This Row],[QTY]]*Table1[[#This Row],[S&L Price]]","v":0}]
[null,114,null,"Animals Are Wild!",1,"Strange Bugs","Library Bound Book",null,"978-1-4824-5004-0",2017,"August 2016","Library","8.500 X 11.00","Author","Steve Parker",6.8,1,null,null,"N","NC1130L","Grade 3 - 4","Grade 3 - 5","Bugs are some of the most interesting members of the animal kingdom! Some are brightly colored and quite beautiful. Many have wings, some just have legs, and still others have no limbs at all. Through full-color photographs and detailed fact boxes, readers are introduced to many members of the wonderful world of bugs. This up-close look reveals that spiders have fangs, leg and wing shape can tell a lot about a bug’s behavior, and that people have a lot to learn about bugs!","English",31.95,23.95,"595.7--dc23","32 pp.",{"$f":"Table1[[#This Row],['# Books]]*Table1[[#This Row],[QTY]]","v":0},{"$f":"Table1[[#This Row],[QTY]]*Table1[[#This Row],[S&L Price]]","v":0}]
[null,114,null,"Danger! Dinosaurs",1,"Dinosaur Defenders","Library Bound Book",null,"978-1-4824-3026-4",2016,"August 2015","Library","8.500 X 11.00","Author","Liz Miles",6.9,1,44,null,"V",null,"Grade 4 - 5","Grade 3 - 6","With vicious and violent beasts such as Tyrannosaurus rex on the loose, the odds of a peaceful herbivore surviving an encounter with a carnivorous dinosaur seem long. However, plant-eating dinosaurs had plenty of defenses to help them battle such brutes. Pachycephalosaurids had especially thick bones to head-butt their enemies. Stegosauruses had plates and spikes to deter carnivores. Other dinosaurs, such as Ankylosaurs, had tough, plated bodies, like tanks! This dinosaur-packed volume showcases remarkable details about these creatures as well as touches upon important science topics, such as adaptations and the predator/prey relationship.","English",26.6,19.95,"567.9","32 pp.",{"$f":"Table1[[#This Row],['# Books]]*Table1[[#This Row],[QTY]]","v":0},{"$f":"Table1[[#This Row],[QTY]]*Table1[[#This Row],[S&L Price]]","v":0}]
[null,114,null,"Danger! Dinosaurs",1,"Flying Monsters","Library Bound Book",null,"978-1-4824-3038-7",2016,"August 2015","Library","8.500 X 11.00","Author","Liz Miles",6.6,1,44,null,"V",null,"Grade 4 - 5","Grade 3 - 6","Imagine outrunning a superfast dinosaur, just to be plucked from the ground by a pterosaur in flight. That's probably just what happened to many small prey in the age of the dinosaurs. Pterosaurs were all sizes, from creatures as small as songbirds to the biggest flyer ever known, Quetzalcoatlus. It had a wingspan of 36 feet (11 m)! Readers will get to know much more about various kinds of pterosaurs in this brilliantly illustrated book. A timeline, world map, sidebars, and diagrams further enhance the intriguing text.","English",26.6,19.95,"567.918","24 pp.",{"$f":"Table1[[#This Row],['# Books]]*Table1[[#This Row],[QTY]]","v":0},{"$f":"Table1[[#This Row],[QTY]]*Table1[[#This Row],[S&L Price]]","v":0}]
[null,114,null,"Danger! Dinosaurs",1,"Flying Monsters","eBook",null,"978-1-4824-3039-4",2016,"August 2015",null,null,"Author","Liz Miles",6.6,1,44,null,"V",null,"Grade 4 - 5","Grade 3 - 6","Imagine outrunning a superfast dinosaur, just to be plucked from the ground by a pterosaur in flight. That's probably just what happened to many small prey in the age of the dinosaurs. Pterosaurs were all sizes, from creatures as small as songbirds to the biggest flyer ever known, Quetzalcoatlus. It had a wingspan of 36 feet (11 m)! Readers will get to know much more about various kinds of pterosaurs in this brilliantly illustrated book. A timeline, world map, sidebars, and diagrams further enhance the intriguing text.","English",26.6,19.95,"567.918","24 pp.",{"$f":"Table1[[#This Row],['# Books]]*Table1[[#This Row],[QTY]]","v":0},{"$f":"Table1[[#This Row],[QTY]]*Table1[[#This Row],[S&L Price]]","v":0}]
[null,115,null,"Earth's Most Extreme Places",6,"Earth's Most Extreme Places","Library Set",null,"978-1-4824-1639-8",2015,"January 2015","Library","8.500 X 8.500",null,"",null,null,null,null,null,null,"Grade 2 - 3","Grade 2 - 5","Some locations on Earth seem almost alien because their climate and environment are so different from the places we live. This globetrotting series transports readers to fascinating locales around the world, such as Antarctica, Death Valley, and Mount Everest. Not only will readers learn what makes these places extraordinary, they'll also learn the extraordinary lengths that people go to explore and sometimes live there. Science concepts, geography skills, and social studies topics combine to make each volume a valuable addition to any collection.      • \"That's Extreme!\" text boxes offer astonishing facts about locations  • Graphic organizers demonstrate organizational skills  • Understanding of maps and photographs within an informational text is a requirement of the Common Core standards  • Domain-specific vocabulary words are used in a scientific context to help students understand their meaning and accelerate comprehension    ","English",135.6,101.7,null,"24 pp.",{"$f":"Table1[[#This Row],['# Books]]*Table1[[#This Row],[QTY]]","v":0},{"$f":"Table1[[#This Row],[QTY]]*Table1[[#This Row],[S&L Price]]","v":0}]
[null,115,null,"Earth's Most Extreme Places",1,"Earth's Highest Places","Library Bound Book",null,"978-1-4824-1899-6",2015,"January 2015","Library","8.500 X 8.500","Author","Mary Griffin",null,null,34,null,"O","920L","Grade 2 - 3","Grade 2 - 5","For those who have ever wondered what it's like to stand on top of Mount Everest, this attention-grabbing book is the closest way to visit the world's highest places without getting vertigo. But readers will be surprised to learn that the label \"highest place on Earth\" is a controversial one. They'll find out about the contenders for the prize, including Mount Everest, Hawaii's Mauna Kea, and Ecuador's Mount Chimborazo. They'll also travel to some jaw-dropping tall buildings around the world. Beautiful, vivid photographs give readers a true sense of what it would be like to visit these unique sites.","English",22.6,16.95,"910","24 pp.",{"$f":"Table1[[#This Row],['# Books]]*Table1[[#This Row],[QTY]]","v":0},{"$f":"Table1[[#This Row],[QTY]]*Table1[[#This Row],[S&L Price]]","v":0}]
[null,115,null,"Earth's Most Extreme Places",1,"Earth's Lowest Places","eBook",null,"978-1-4824-1907-8",2015,"January 2015",null,null,"Author","Bailey O'Connell",null,null,34,null,"O","910L","Grade 2 - 3","Grade 2 - 5","Earth's landscape can be vastly different from region to region, and it's always changing! The shifting plates on which the planet's crust sits cause some areas to rise, while others sink. The Dead Sea in the Middle East is the lowest dry place on Earth, about 1,300 feet (396 m) below sea level. In the ocean, Challenger Deep is home to some creepy marine life, much different than anything we see near the surface. These interesting places and others are featured in this book, which interweaves intriguing science and social studies subject matter with many fun facts.","English",22.6,16.95,"551.44","24 pp.",{"$f":"Table1[[#This Row],['# Books]]*Table1[[#This Row],[QTY]]","v":0},{"$f":"Table1[[#This Row],[QTY]]*Table1[[#This Row],[S&L Price]]","v":0}]
[null,115,null,"Earth's Most Extreme Places",1,"Earth's Rainiest Places","Library Bound Book",null,"978-1-4824-1912-2",2015,"January 2015","Library","8.500 X 8.500","Author","Bailey O'Connell",null,null,28,null,"M","960L","Grade 2 - 3","Grade 2 - 5","Readers will want to don their raincoats as they learn about the torrential downpours that pound parts of India, Hawaii, and South America. How this precipitation affects the people, animals, and landscape of these sites will astound readers and remind them of the awesome power of nature. Colorful maps, fun fact boxes, and illustrative photographs support the eye-opening information in this text, which includes such important science curriculum topics as the water cycle and weather-related events such as flooding and monsoons.","English",22.6,16.95,"551.577","24 pp.",{"$f":"Table1[[#This Row],['# Books]]*Table1[[#This Row],[QTY]]","v":0},{"$f":"Table1[[#This Row],[QTY]]*Table1[[#This Row],[S&L Price]]","v":0}]
[null,115,null,"Where's the Water?",1,"Deadly Droughts","eBook",null,"978-1-4824-4683-8",2017,"August 2016",null,null,"Author","Michael Rajczak",5,0.5,null,null,"L",null,"Grade 2 - 3","Grade 2 - 5","The 2015 drought in California continually made national news—but it’s not the only place that’s battled a lack of water in recent years. Droughts disrupt the water cycle, crop production, and the everyday lives of people and animals living in the region. Can they be prevented? Readers are introduced to why droughts happen and how they’re dealt with when they do. An emphasis on conservation and drought-prone regions around the world encourages readers to think about this topic with a global view. Full-color photographs illustrate the devastation droughts can cause, and fascinating fact boxes complement the main content with even more science and social studies information.","English",22.6,16.95,"551.57’73--dc23","24 pp.",{"$f":"Table1[[#This Row],['# Books]]*Table1[[#This Row],[QTY]]","v":0},{"$f":"Table1[[#This Row],[QTY]]*Table1[[#This Row],[S&L Price]]","v":0}]
[null,115,null,"Where's the Water?",1,"Water Conservation","Library Bound Book",null,"978-1-4824-4694-4",2017,"August 2016","Library","8.500 X 8.500","Author","Peter Castellano",5.0999999999999996,0.5,null,null,"M",null,"Grade 2 - 3","Grade 2 - 5","Droughts, acid rain, and pollution are all problems found around the world. Learning about how to conserve and care for the precious water on Earth should be an important part of every person’s science background. This book introduces readers to the fundamental water issues in both first and third world countries. The main content encourages them to think both locally and globally, including real-life examples of conservation efforts complete with full-color photographs to show readers the reality of droughts and pollution. Fact boxes and a graphic organizer help readers understand important science and social studies concepts.","English",22.6,16.95,"333.91/16--dc23","24 pp.",{"$f":"Table1[[#This Row],['# Books]]*Table1[[#This Row],[QTY]]","v":0},{"$f":"Table1[[#This Row],[QTY]]*Table1[[#This Row],[S&L Price]]","v":0}]
[null,116,null,"Gems: Nature's Jewels",1,"Amber","Library Bound Book",null,"978-1-4824-2854-4",2016,"August 2015","Library","8.500 X 8.500","Author","Michael Rajczak",5.0999999999999996,0.5,24,null,"L","950L","Grade 2 - 3","Grade 2 - 5","Like many gems, amber is used to make jewelry and other decorations. But it’s formed unlike any other gem. Amber is actually fossilized tree resin that’s 40 million to 60 million years old! Readers learn how this unique gem forms through accessible science content, including fun fact boxes that add even more detail. Close-up photographs of amber in full color engage readers with the fossilization process, the discovery of amber, and what this beautiful, natural gem teaches scientists about Earth’s past.","English",22.6,16.95,"553.8","24 pp.",{"$f":"Table1[[#This Row],['# Books]]*Table1[[#This Row],[QTY]]","v":0},{"$f":"Table1[[#This Row],[QTY]]*Table1[[#This Row],[S&L Price]]","v":0}]
[null,116,null,"Gems: Nature's Jewels",1,"Amber","eBook",null,"978-1-4824-2855-1",2016,"August 2015",null,null,"Author","Michael Rajczak",5.0999999999999996,0.5,24,null,"L","950L","Grade 2 - 3","Grade 2 - 5","Like many gems, amber is used to make jewelry and other decorations. But it’s formed unlike any other gem. Amber is actually fossilized tree resin that’s 40 million to 60 million years old! Readers learn how this unique gem forms through accessible science content, including fun fact boxes that add even more detail. Close-up photographs of amber in full color engage readers with the fossilization process, the discovery of amber, and what this beautiful, natural gem teaches scientists about Earth’s past.","English",22.6,16.95,"553.8","24 pp.",{"$f":"Table1[[#This Row],['# Books]]*Table1[[#This Row],[QTY]]","v":0},{"$f":"Table1[[#This Row],[QTY]]*Table1[[#This Row],[S&L Price]]","v":0}]
[null,116,null,"Gems: Nature's Jewels",1,"Emeralds","Library Bound Book",null,"978-1-4339-4719-3",2012,"August 2011","Library","8.500 X 8.500","Author","Eric Ethan",4.5,0.5,30,28,"N",null,"Grade 2 - 3","Grade 2 - 5","Emeralds are the most expensive gems in the world, but it takes a lot of time and effort for them to get that way. Readers will discover many interesting facts about this beautiful May birthstone that takes millions of years to form. Vibrant photographs capture emeralds at all stages, from the mines to beautiful pieces of jewelry.","English",22.6,16.95,"553.8","24 pp.",{"$f":"Table1[[#This Row],['# Books]]*Table1[[#This Row],[QTY]]","v":0},{"$f":"Table1[[#This Row],[QTY]]*Table1[[#This Row],[S&L Price]]","v":0}]
[null,116,null,"Gems: Nature's Jewels",1,"Opals","eBook",null,"978-1-4339-4726-1",2012,"August 2011",null,null,"Author","Eric Ethan",4.3,0.5,30,24,"M",null,"Grade 2 - 3","Grade 2 - 5","It’s hard to believe that opals come from the same element that makes sand, but it’s true. This book features that fact and many more about this beautiful gem. From the mines of southern Australia to pieces of very expensive jewelry, readers will see how opals go from raw stones to a fantastic finished product. Beautiful photographs present the rainbow of colors that brilliantly emit from these gems.","English",22.6,16.95,"553.8","24 pp.",{"$f":"Table1[[#This Row],['# Books]]*Table1[[#This Row],[QTY]]","v":0},{"$f":"Table1[[#This Row],[QTY]]*Table1[[#This Row],[S&L Price]]","v":0}]
[null,116,null,"Gems: Nature's Jewels",1,"Sapphires","Library Bound Book",null,"978-1-4339-4731-5",2012,"August 2011","Library","8.500 X 8.500","Author","Eric Ethan",4.5,0.5,30,28,"N",null,"Grade 2 - 3","Grade 2 - 5","There are blue sapphires, clear sapphires, “fancy sapphires,” and star sapphires. All of these valuable gems are featured in this book, with colorful photographs to show readers their beauty. Where do most sapphires come from? How much was the most expensive sapphire worth? These questions and many more are answered in the pages of this book.","English",22.6,16.95,"553.8","32 pp.",{"$f":"Table1[[#This Row],['# Books]]*Table1[[#This Row],[QTY]]","v":0},{"$f":"Table1[[#This Row],[QTY]]*Table1[[#This Row],[S&L Price]]","v":0}]
[null,116,null,"Gems: Nature's Jewels",1,"Turquoise","Library Bound Book",null,"978-1-4339-4711-7",2012,"August 2011","Library","8.500 X 8.500","Author","Eric Ethan",4.5999999999999996,0.5,30,24,"M",null,"Grade 2 - 3","Grade 2 - 5","What gem comes from the Sleeping Beauty mine? What gem was featured on the mask of the Egyptian king Tutankhamen and in Native American jewelry? It’s turquoise. Readers will learn amazing facts about one of the only gems to be mined in North America. Captivating photographs show the variety of turquoise pieces that can be found throughout the world. ","English",22.6,16.95,"553.8","32 pp.",{"$f":"Table1[[#This Row],['# Books]]*Table1[[#This Row],[QTY]]","v":0},{"$f":"Table1[[#This Row],[QTY]]*Table1[[#This Row],[S&L Price]]","v":0}]
[null,117,null,"Eye on the Sky",1,"When Blizzards Blow","Library Bound Book",null,"978-1-4824-2878-0",2016,"August 2015","Library","8.500 X 11.00","Author","Therese M. Shea",null,null,40,null,"R",null,"Grade 3 - 4","Grade 3 - 6","Blizzards can be particularly dangerous weather events, especially for the unprepared. People out in the storm are at risk for hypothermia and frostbite, and those inside have to worry about power and phone outages. Cars may get stuck on the highway, and pilots may feel unsure about landing a plane. Readers learn the severity of blizzards of the past, including 2010’s “Snowmageddon,” as well as how these blizzards form. Dramatic, full-color photographs show readers blizzards’ aftermath, and safety tips help readers prepare for a blizzard should a blizzard watch be issued in their area.","English",26.6,19.95,"551.55","32 pp.",{"$f":"Table1[[#This Row],['# Books]]*Table1[[#This Row],[QTY]]","v":0},{"$f":"Table1[[#This Row],[QTY]]*Table1[[#This Row],[S&L Price]]","v":0}]
[null,117,null,"Eye on the Sky",1,"When Hail Hits","eBook",null,"978-1-4824-2887-2",2016,"August 2015",null,null,"Author","Christine Honders",null,null,40,null,"R",null,"Grade 3 - 4","Grade 3 - 6","Most of the time, hail occurs as tiny pellets not much bigger than gravel or sand. But when the conditions are right, hailstones can be as big as golf balls or even baseballs! They crack car windshields, take down power lines, and even injure people outside when they fall. Readers learn lots of cool science about not just how hail forms, but what conditions need to be for hail to be destructive. Full-color photographs emphasize just how big hailstones can be and how much damage they can cause. Relatable sidebars tackle important details and highlight real-life hail events for interested readers. ","English",26.6,19.95,"551.57","32 pp.",{"$f":"Table1[[#This Row],['# Books]]*Table1[[#This Row],[QTY]]","v":0},{"$f":"Table1[[#This Row],[QTY]]*Table1[[#This Row],[S&L Price]]","v":0}]
[null,117,null,"Eye on the Sky",1,"When Tornadoes Touch Down","Library Bound Book",null,"978-1-4824-2898-8",2016,"August 2015","Library","8.500 X 11.00","Author","Therese M. Shea",null,null,40,null,"R",null,"Grade 3 - 4","Grade 3 - 6","For years, people in “Tornado Alley” were the ones who had to worry most about tornadoes occurring near their homes. However, as climate change occurs, tornadoes have become more common around the United States. Tornado prediction and tracking has gotten increasingly better, too. Readers learn how tornadoes happen, how they are measured, and what to do if a tornado watch or warning is issued. Real-life stories of tornado devastation, such as those that occurred in Joplin, Mississippi, in 2011, emphasize how serious this weather event can be. Full-color photographs and sidebars offer additional perspectives about tornado chasing, destruction, and preparation.","English",26.6,19.95,"551.55'3—d23","32 pp.",{"$f":"Table1[[#This Row],['# Books]]*Table1[[#This Row],[QTY]]","v":0},{"$f":"Table1[[#This Row],[QTY]]*Table1[[#This Row],[S&L Price]]","v":0}]
[null,117,null,"Eye on the Sky",1,"When Tornadoes Touch Down","eBook",null,"978-1-4824-2899-5",2016,"August 2015",null,null,"Author","Therese M. Shea",null,null,40,null,"R",null,"Grade 3 - 4","Grade 3 - 6","For years, people in “Tornado Alley” were the ones who had to worry most about tornadoes occurring near their homes. However, as climate change occurs, tornadoes have become more common around the United States. Tornado prediction and tracking has gotten increasingly better, too. Readers learn how tornadoes happen, how they are measured, and what to do if a tornado watch or warning is issued. Real-life stories of tornado devastation, such as those that occurred in Joplin, Mississippi, in 2011, emphasize how serious this weather event can be. Full-color photographs and sidebars offer additional perspectives about tornado chasing, destruction, and preparation.","English",26.6,19.95,"551.55'3—d23","32 pp.",{"$f":"Table1[[#This Row],['# Books]]*Table1[[#This Row],[QTY]]","v":0},{"$f":"Table1[[#This Row],[QTY]]*Table1[[#This Row],[S&L Price]]","v":0}]
[null,117,null,"From the Earth: How Resources Are Made",1,"How Gems Are Formed","eBook",null,"978-1-4824-4712-5",2017,"August 2016",null,null,"Author","Jill Keppeler",5.7,0.5,null,null,"O",null,"Grade 3 - 4","Grade 3 - 6","They’re sparkly with varied hues. You might see them in a beautiful necklace, a breathtaking ring, or even in a computer. They’re gems! Gems are some of Earth’s most precious resources, and some of them are millions—or even billions—of years in the making. This detailed text, accompanied by colorful photographs, informs readers about the remarkable processes that take place under the surface of Earth to form different kinds of gems. They’ll also learn how some gems are mined, while others are replicated in laboratories. Future lapidaries will also find out how they might find and polish gems for themselves.","English",26.6,19.95,"553.8--dc23","32 pp.",{"$f":"Table1[[#This Row],['# Books]]*Table1[[#This Row],[QTY]]","v":0},{"$f":"Table1[[#This Row],[QTY]]*Table1[[#This Row],[S&L Price]]","v":0}]
[null,117,null,"From the Earth: How Resources Are Made",1,"How Oil Is Formed","Library Bound Book",null,"978-1-4824-4724-8",2017,"August 2016","Library","8.500 X 11.00","Author","Kristen Rajczak Nelson",5.9,0.5,null,null,"O",null,"Grade 3 - 4","Grade 3 - 6","Oil, also known as petroleum, is one of the most significant sources of energy in an energy-hungry world. Every day, more than 80 million barrels of oil are used in people’s homes, businesses, and vehicles. This thorough book covers the important processes of this fossil fuel, from its origins and formation to its extraction and refining, aided by perfectly selected photographs. Readers will weigh in on the controversies surrounding oil’s use as well as learn of its surprising applications—such as a medicine for ancient Egyptians and in materials that make our clothes.","English",26.6,19.95,"553.2/82--dc23","48 pp.",{"$f":"Table1[[#This Row],['# Books]]*Table1[[#This Row],[QTY]]","v":0},{"$f":"Table1[[#This Row],[QTY]]*Table1[[#This Row],[S&L Price]]","v":0}]
[null,117,null,"From the Earth: How Resources Are Made",1,"How Precious Metals Form","Library Bound Book",null,"978-1-4824-4730-9",2017,"August 2016","Library","8.500 X 11.00","Author","Julia McDonnell",5.9,0.5,null,null,"P",null,"Grade 3 - 4","Grade 3 - 6","What makes a metal precious? It’s rare, and it’s useful. When a metal is both these things, like gold, it’s very precious—and expensive. This book takes readers underground where they’ll discover the processes and elements that shape precious metals. They’ll learn about the features of metals that make them desirable, such as luster, ductility, and reactivity, and how certain metals are utilized. While readers may know something about gold and silver, they’ll become acquainted with other important precious metals such as rhodium and palladium. Vivid photographs, helpful graphic organizers, and interesting sidebars make this crucial science topic engaging and accessible.","English",26.6,19.95,"622/.342--dc23","48 pp.",{"$f":"Table1[[#This Row],['# Books]]*Table1[[#This Row],[QTY]]","v":0},{"$f":"Table1[[#This Row],[QTY]]*Table1[[#This Row],[S&L Price]]","v":0}]
[null,118,null,"Extreme Biology",1,"Creeping Killers: Extreme Plants","Library Bound Book",null,"978-1-4824-2234-4",2015,"January 2015","Library","8.000 X 10.00","Author","Louise Spilsbury",null,null,40,null,"R",null,"Grade 4","Grade 4 - 6","The Australian Christmas tree has lovely orange flowers, but don’t be fooled by its pretty exterior. Once fully grown, this tree reaches its roots hundreds of feet out to grab surrounding plants’ roots. It then takes the water and nutrients that plant needs to grow! It’s not the only deadly plant. From lilies’ ability to kill cats to the huge thorns of the whistling thorn acacia, killer plants are found all over the world. Full-color photographs and detailed, understandable text present the oddities of these extreme plants to readers. They’ll never look at a garden the same way again!","English",31.95,23.95,"581.4","48 pp.",{"$f":"Table1[[#This Row],['# Books]]*Table1[[#This Row],[QTY]]","v":0},{"$f":"Table1[[#This Row],[QTY]]*Table1[[#This Row],[S&L Price]]","v":0}]
[null,118,null,"Extreme Biology",1,"Hostile Homes: Extreme Habitats","eBook",null,"978-1-4824-2243-6",2015,"January 2015",null,null,"Author","Angela Royston",null,null,40,null,"R",null,"Grade 4","Grade 4 - 6","Some places on Earth have very little rain. The Arctic and Antarctic are bitterly cold, and parts of the ocean have become devoid of oxygen. Yet Earth remains populated with varied plants and animals even in these horrible habitats! Readers are introduced to unique plants and animals that can exist in places most others can’t. Photographs show off the salt-loving mangrove trees, the incredibly hot Atacama Desert, and more in full color. These interesting examples engage readers with science content in a fun way that also exposes them to extreme places and creatures they might not otherwise learn about.","English",31.95,23.95,"577.58","48 pp.",{"$f":"Table1[[#This Row],['# Books]]*Table1[[#This Row],[QTY]]","v":0},{"$f":"Table1[[#This Row],[QTY]]*Table1[[#This Row],[S&L Price]]","v":0}]
[null,118,null,"Tiny Battlefields",6,"Tiny Battlefields","Library Set",null,"978-1-4824-1185-0",2015,"August 2014","Library","6.500 X 9.000",null,"",null,null,null,null,null,null,"Grade 6","Grade 6 - 8","When someone has a serious illness, people say they're \"fighting\" for their health—or even their lives. This series recognizes that the war against disease doesn't just take place in science labs and doctors' offices but on the tiny battlefields within people's bodies. Each disease and illness is explained in an accessible way, with special attention given to the latest research, treatments, and scientific breakthroughs. The impact of each condition on the world is also highlighted as well as the outlook for eradication.   • Quotes serve as primary sources, reflecting the medical conditions' impact on real-life people  • Key biology concepts are a valuable addition to the science and health curriculum   • Science books are included in the range of informational text types suggested in the Common Core English Language Arts Standards ","English",191.7,143.69999999999999,null,"48 pp.",{"$f":"Table1[[#This Row],['# Books]]*Table1[[#This Row],[QTY]]","v":0},{"$f":"Table1[[#This Row],[QTY]]*Table1[[#This Row],[S&L Price]]","v":0}]
[null,118,null,"Tiny Battlefields",1,"Fighting Malaria","Library Bound Book",null,"978-1-4824-1454-7",2015,"August 2014","Library","6.500 X 9.000","Author","Robyn Hardyman",null,null,44,null,"U",null,"Grade 6","Grade 6 - 8","Malaria is an infectious disease caused by parasites and spread by mosquitoes. Especially dangerous to children, it's the cause of 1 million deaths annually. About half of the world is at risk of catching malaria. This thought-provoking book answers questions including what it's like to contract malaria and the groundbreaking efforts and goals of today's medical and scientific community to both prevent and treat the disease. Mosquito nets, insecticides, and medications are among the many topics featured. Photographs of professionals in action and quotations from specialists add a sense of urgency to address this global crisis.","English",31.95,23.95,"616.9","24 pp.",{"$f":"Table1[[#This Row],['# Books]]*Table1[[#This Row],[QTY]]","v":0},{"$f":"Table1[[#This Row],[QTY]]*Table1[[#This Row],[S&L Price]]","v":0}]
[null,118,null,"Tiny Battlefields",1,"Fighting Malaria","eBook",null,"978-1-4824-1326-7",2015,"August 2014",null,null,"Author","Robyn Hardyman",null,null,44,null,"U",null,"Grade 6","Grade 6 - 8","Malaria is an infectious disease caused by parasites and spread by mosquitoes. Especially dangerous to children, it's the cause of 1 million deaths annually. About half of the world is at risk of catching malaria. This thought-provoking book answers questions including what it's like to contract malaria and the groundbreaking efforts and goals of today's medical and scientific community to both prevent and treat the disease. Mosquito nets, insecticides, and medications are among the many topics featured. Photographs of professionals in action and quotations from specialists add a sense of urgency to address this global crisis.","English",31.95,23.95,"616.9","24 pp.",{"$f":"Table1[[#This Row],['# Books]]*Table1[[#This Row],[QTY]]","v":0},{"$f":"Table1[[#This Row],[QTY]]*Table1[[#This Row],[S&L Price]]","v":0}]
[null,118,null,"Tiny Battlefields",1,"Fighting the Flu","Library Bound Book",null,"978-1-4824-1433-2",2015,"August 2014","Library","6.500 X 9.000","Author","Robyn Hardyman",null,null,44,null,"U",null,"Grade 6","Grade 6 - 8","With an estimated 3 to 5 million cases of the flu reported each year and more than 250,000 of those resulting in death, the flu virus remains a must-know topic. While each patient's body fights the invading virus, scientists around the world are looking for ways to boost immune systems and even eradicate strains. However, with so many different types of flu and mutations, the fight is an uphill one. This fascinating look at the flu and the science of viruses is presented with fact boxes, quotes from experts, and accessible explanations of the cutting-edge treatments being explored today.","English",31.95,23.95,"616.2","24 pp.",{"$f":"Table1[[#This Row],['# Books]]*Table1[[#This Row],[QTY]]","v":0},{"$f":"Table1[[#This Row],[QTY]]*Table1[[#This Row],[S&L Price]]","v":0}]
[null,119,null,"Bloopers of Invention",1,"The Problem with Early Cars","eBook",null,"978-1-4824-2763-9",2016,"August 2015",null,null,"Author","Ryan Nagelhout",null,null,null,null,"N","920L","Grade 2 - 3","Grade 2 - 5","Automobiles are amazing machines that take most of us from place to place on a daily basis. From their earliest days, making them safe to drive took lots of hard work and ingenuity. From early explosions with steam and failed experiments with batteries, automobiles have come a long way. Early cars needed to lug around spare parts and extra tires just to drive a few miles. Readers find out all about the amazing inventors who worked so hard to make motor vehicles the modern marvels they are today.","English",22.6,16.95,"629.222","24 pp.",{"$f":"Table1[[#This Row],['# Books]]*Table1[[#This Row],[QTY]]","v":0},{"$f":"Table1[[#This Row],[QTY]]*Table1[[#This Row],[S&L Price]]","v":0}]
[null,119,null,"Bloopers of Invention",1,"The Problem with Early Flying Machines","Library Bound Book",null,"978-1-4824-2766-0",2016,"August 2015","Library","8.500 X 8.500","Author","Ryan Nagelhout",null,null,null,null,"N","1010L","Grade 2 - 3","Grade 2 - 5","Taking to the skies has always been a dream for human beings. Watching birds and bees take flight while people remained chained to the soil provided the inspiration to experiment with machines capable of flying high overhead. But these experiments proved dangerous—and often deadly. From early helicopter designs and bicycles with wings, learning how to fly was far more than a physics experiment. Often, it was a matter of life and death! Readers are taken on a journey through the history of aviation, and discover the contributions of luminaries such as the Wright brothers and Howard Hughes.","English",22.6,16.95,"629.13","24 pp.",{"$f":"Table1[[#This Row],['# Books]]*Table1[[#This Row],[QTY]]","v":0},{"$f":"Table1[[#This Row],[QTY]]*Table1[[#This Row],[S&L Price]]","v":0}]
[null,119,null,"Bloopers of Invention",1,"The Problem with Early Flying Machines","eBook",null,"978-1-4824-2767-7",2016,"August 2015",null,null,"Author","Ryan Nagelhout",null,null,null,null,"N","1010L","Grade 2 - 3","Grade 2 - 5","Taking to the skies has always been a dream for human beings. Watching birds and bees take flight while people remained chained to the soil provided the inspiration to experiment with machines capable of flying high overhead. But these experiments proved dangerous—and often deadly. From early helicopter designs and bicycles with wings, learning how to fly was far more than a physics experiment. Often, it was a matter of life and death! Readers are taken on a journey through the history of aviation, and discover the contributions of luminaries such as the Wright brothers and Howard Hughes.","English",22.6,16.95,"629.13","24 pp.",{"$f":"Table1[[#This Row],['# Books]]*Table1[[#This Row],[QTY]]","v":0},{"$f":"Table1[[#This Row],[QTY]]*Table1[[#This Row],[S&L Price]]","v":0}]
[null,119,null,"Engineering Our World",1,"How a Bridge Is Built","eBook",null,"978-1-4824-3922-9",2016,"January 2016",null,null,"Author","Sam Aloian",4.9000000000000004,0.5,null,null,"N",null,"Grade 2 - 3","Grade 2 - 5","Bridges are a big part of how people get from place to place. But how do they work and how are they built? In this engaging text, readers will explore these important engineering marvels that link places divided by water. Along the way they’ll learn how to build their own model bridge with a step-by-step guide accompanied by full-color photographs of each step. Accessible text illuminates the science behind every span we drive over—and sometimes under!","English",22.6,16.95,"624.2—dc23","24 pp.",{"$f":"Table1[[#This Row],['# Books]]*Table1[[#This Row],[QTY]]","v":0},{"$f":"Table1[[#This Row],[QTY]]*Table1[[#This Row],[S&L Price]]","v":0}]
[null,119,null,"Engineering Our World",1,"How a Plane Is Made","Library Bound Book",null,"978-1-4824-3933-5",2016,"January 2016","Library","8.500 X 8.500","Author","Amy Hayes",4.5999999999999996,0.5,null,null,"N",null,"Grade 2 - 3","Grade 2 - 5","From the largest cargo planes and passenger jets to the smallest of single-engine crafts, airplanes are modern marvels. But just how do people build planes and what keeps them safe in the air? This exciting book takes readers inside the hangars where bolts and metal are turned into winged creations ready to take people all around the world. Amazing photographs show the aircraft construction process step-by-step, while engaging text gives a strong technical explanation of the science at work during every flight in this innovative STEM book.","English",22.6,16.95,"629.134—d23","48 pp.",{"$f":"Table1[[#This Row],['# Books]]*Table1[[#This Row],[QTY]]","v":0},{"$f":"Table1[[#This Row],[QTY]]*Table1[[#This Row],[S&L Price]]","v":0}]
[null,119,null,"Engineering Our World",1,"How a Skyscraper Is Built","eBook",null,"978-1-4824-3938-0",2016,"January 2016",null,null,"Author","Therese M. Shea",5.3,0.5,null,null,"N",null,"Grade 2 - 3","Grade 2 - 5","The towering buildings that fill our cities definitely weren’t built in a day. Skyscrapers are huge construction projects full of complicated steps. From drilling anchor holes and erecting steel beams to laying acres and acres of concrete, it takes lots of people and lots of smarts to build a vertical city. Readers will love putting on their hard hats and seeing the construction for themselves through vivid photographs and diagrams of a building on its way from its beginning on an empty lot to a monster skyscraper touching the skies.","English",22.6,16.95,"720.483—dc23","48 pp.",{"$f":"Table1[[#This Row],['# Books]]*Table1[[#This Row],[QTY]]","v":0},{"$f":"Table1[[#This Row],[QTY]]*Table1[[#This Row],[S&L Price]]","v":0}]
[null,120,null,"Amazing Robots",6,"Amazing Robots","Library Set",null,"978-1-4824-2556-7",2016,"August 2015","Library","7.250 X 9.250",null,"",null,null,null,null,null,null,"Grade 4 - 5","Grade 4 - 8","As technology improves, scientists are finding more ways to use robots to do things people can’t. It’s risky to send a person to space or to the bottom of the ocean. They must wear special suits and travel in appropriately equipped vehicles. Robots, on the other hand, are made to withstand the toughest scenarios beyond Earth’s atmosphere, deep in the ocean, on the battlefield, and more. Full-color photographs of robotic technology give readers a look at some of the coolest science happening today. Readers learn what these robots can do and how they could change our lives in the future.\n\n\n\n•\tExamples of current robot projects bring readers up to speed on the latest in robotics\n\n•\t\tSTEM content includes robot technology, careers in engineering, and scientific discovery and exploration\n\n•\t\tColorful, lively layout enhances a high-interest topic\n\n","English",191.7,143.69999999999999,null,"48 pp.",{"$f":"Table1[[#This Row],['# Books]]*Table1[[#This Row],[QTY]]","v":0},{"$f":"Table1[[#This Row],[QTY]]*Table1[[#This Row],[S&L Price]]","v":0}]
[null,120,null,"Amazing Robots",1,"Robots in Medicine","eBook",null,"978-1-4824-3011-0",2016,"August 2015",null,null,"Author, Author","Louise Spilsbury, Richard Spilsbury",null,null,null,null,"U",null,"Grade 4 - 5","Grade 4 - 8","In 2000, the FDA approved the Da Vinci surgical robotic system. The Da Vinci is a robot controlled by a surgeon used to do delicate and technical surgeries, and it represents a whole segment of robots used to aid doctors, pharmacists, and others in the medical field. Readers are introduced to cutting-edge medical technology with full-color photographs of robots actually used in hospitals and doctors’ offices today. The main content offers detailed, but understandable, information about the science of these incredible machines. Additionally, readers learn about the integration of these robots into many careers in medicine, technology, and science.","English",31.95,23.95,"629.8","48 pp.",{"$f":"Table1[[#This Row],['# Books]]*Table1[[#This Row],[QTY]]","v":0},{"$f":"Table1[[#This Row],[QTY]]*Table1[[#This Row],[S&L Price]]","v":0}]
[null,120,null,"Amazing Robots",1,"Robots Underwater","Library Bound Book",null,"978-1-4824-3022-6",2016,"August 2015","Library","7.250 X 9.250","Author, Author","Louise Spilsbury, Richard Spilsbury",null,null,null,null,"U",null,"Grade 4 - 5","Grade 4 - 8","Without underwater robots, people never would have been able to explore the shipwreck of the Titanic as much as they have. From mapping the ocean floor to testing water quality, the jobs these robots can do are astounding. Through many examples and full-color photographs, readers dive deep with underwater robots, learning the technology behind these amazing machines and how they help people every day. Sidebars complement the main content with information about robotics engineers, environmental issues underwater, and the truly inventive science of underwater robots.","English",31.95,23.95,"623.8","48 pp.",{"$f":"Table1[[#This Row],['# Books]]*Table1[[#This Row],[QTY]]","v":0},{"$f":"Table1[[#This Row],[QTY]]*Table1[[#This Row],[S&L Price]]","v":0}]
[null,120,null,"Cutting-Edge Technology",1,"Drones","Library Bound Book",null,"978-1-4824-5156-6",2017,"August 2016","Library","7.250 X 9.250","Author, Author","Richard Spilsbury, Louise Spilsbury",null,null,null,null,"W",null,"Grade 6 - 8","Grade 6 - 8","Is it a bird, a plane, or maybe even a drone flying overhead? This amazing book tackles the history of drone technology and where future development will take these exciting aircraft. Known mostly for its use in the military as surveillance equipment or even in combat, these pilotless flying machines are now used all over the world by ordinary people who love remote controlled vehicles. Today, drones of all shapes and sizes can achieve amazing things, even if it’s just taking photos or some video in someone’s backyard. This book investigates the complicated role drone technology plays in our modern lives, and what future development will mean for our privacy and safety.","English",31.95,23.95,"623.74’69--dc23","48 pp.",{"$f":"Table1[[#This Row],['# Books]]*Table1[[#This Row],[QTY]]","v":0},{"$f":"Table1[[#This Row],[QTY]]*Table1[[#This Row],[S&L Price]]","v":0}]
[null,120,null,"Cutting-Edge Technology",1,"Drones","eBook",null,"978-1-4824-5150-4",2017,"August 2016",null,null,"Author, Author","Richard Spilsbury, Louise Spilsbury",null,null,null,null,"W",null,"Grade 6 - 8","Grade 6 - 8","Is it a bird, a plane, or maybe even a drone flying overhead? This amazing book tackles the history of drone technology and where future development will take these exciting aircraft. Known mostly for its use in the military as surveillance equipment or even in combat, these pilotless flying machines are now used all over the world by ordinary people who love remote controlled vehicles. Today, drones of all shapes and sizes can achieve amazing things, even if it’s just taking photos or some video in someone’s backyard. This book investigates the complicated role drone technology plays in our modern lives, and what future development will mean for our privacy and safety.","English",31.95,23.95,"623.74’69--dc23","48 pp.",{"$f":"Table1[[#This Row],['# Books]]*Table1[[#This Row],[QTY]]","v":0},{"$f":"Table1[[#This Row],[QTY]]*Table1[[#This Row],[S&L Price]]","v":0}]
[null,120,null,"Cutting-Edge Technology",1,"Maglev Trains","Library Bound Book",null,"978-1-4824-5159-7",2017,"August 2016","Library","7.250 X 9.250","Author, Author","Louise Spilsbury, Richard Spilsbury",null,null,null,null,"W",null,"Grade 6 - 8","Grade 6 - 8","Maglev trains sound like the stuff of science fiction, but it’s yet another scientific marvel that engineers have made a reality. These superfast trains float above their rails, darting from place to place at remarkable speeds. This book explores how maglev trains work, the science behind the magnets at work, and the history of maglev technology. From train technology first developed in Germany to the fastest maglev trains in the world, readers will love learning about this rapidly developing mode of transportation.","English",31.95,23.95,"385’.2--dc23","24 pp.",{"$f":"Table1[[#This Row],['# Books]]*Table1[[#This Row],[QTY]]","v":0},{"$f":"Table1[[#This Row],[QTY]]*Table1[[#This Row],[S&L Price]]","v":0}]
[null,122,null,"Exposed! Myths About Early American History",1,"Betsy Ross Didn't Create the American Flag: Exposing Myths About US Symbols","Library Bound Book",null,"978-1-4824-5718-6",2017,"January 2017","Library","8.500 X 8.500","Author","Jill Keppeler",5.2,0.5,null,null,"M",null,"Grade 2 - 3","Grade 2 - 5","Betsy Ross is repeatedly credited with creating the first US flag. Students often learn that when they’re first studying American history. However, most historians agree that she probably didn’t! In fact, Ross’s grandson may have made up the story. After reading about this widespread American myth, readers will be eager to learn others. This valuable volume, full of fun fact boxes and beautiful images, exposes historical myths but also explains the facts behind them, making it an excellent resource for any social studies collection.","English",25.25,18.95,"973--dc23","32 pp.",{"$f":"Table1[[#This Row],['# Books]]*Table1[[#This Row],[QTY]]","v":0},{"$f":"Table1[[#This Row],[QTY]]*Table1[[#This Row],[S&L Price]]","v":0}]
[null,122,null,"Exposed! Myths About Early American History",1,"Paul Revere Didn't Say \"The British Are Coming!\": Exposing Myths About the American Revolution","eBook",null,"978-1-4824-5730-8",2017,"January 2017",null,null,"Author","Shalini Saxena",6.1,0.5,null,null,"M",null,"Grade 2 - 3","Grade 2 - 5","Who yelled “The British are coming!” on the night of April 18, 1775? It wasn’t Paul Revere! He also wasn’t the only one riding to warn American patriots that night. It turns out his legendary ride is full of actual legends. This exceptional and fun book focuses on the American Revolution in an entertaining format. Each dispelled myth is paired with accessible, fact-filled information. Info boxes and historical images abound in this well-designed work.","English",25.25,18.95,"973.3--dc23","32 pp.",{"$f":"Table1[[#This Row],['# Books]]*Table1[[#This Row],[QTY]]","v":0},{"$f":"Table1[[#This Row],[QTY]]*Table1[[#This Row],[S&L Price]]","v":0}]
[null,122,null,"Exposed! Myths About Early American History",1,"The Declaration of Independence Wasn't Signed on July 4th: Exposing Myths About Independence Day","eBook",null,"978-1-4824-5723-0",2017,"January 2017",null,null,"Author","Katie Kawa",5.9,0.5,null,null,"M",null,"Grade 2 - 3","Grade 2 - 5","There are many events and ideas to commemorate on the Fourth of July, such as our freedom and the signing of the Declaration of Independence . . . right? Not exactly! Many people are surprised to learn that the Declaration of Independence was signed on July 2, 1776, not July 4. Readers will feel like true historians as they learn the facts behind the sights, sounds, and meaning of the American holiday of Fourth of July. The fun design of this patriotic book includes colorful, carefully selected images and eye-catching, informative fact boxes.","English",25.25,18.95,"973.3’13--dc23","32 pp.",{"$f":"Table1[[#This Row],['# Books]]*Table1[[#This Row],[QTY]]","v":0},{"$f":"Table1[[#This Row],[QTY]]*Table1[[#This Row],[S&L Price]]","v":0}]
[null,123,null,"Weird America (Set of 12 Titles)",12,"Weird America (Set of 12 Titles)","Library Set",null,"978-1-4824-5889-3",2017,"January 2017","Library","8.500 X 11.00",null,"",null,null,null,null,null,null,"Grade 3 - 4","Grade 3 - 6","Some of the weirdest and wildest things on Earth are not that far away: they’re right here in America! From bizarre landmarks and museums along the nation’s winding highways to the crazy foods Americans eat, there’s weirdness spread from Atlantic to Pacific and everywhere in between. Full-color photographs of truly bizarre topics and freaky graphics help tell the fascinating story of America the Weird through the eyes of those who call it home.","English",319.2,239.4,null,"32 pp.",{"$f":"Table1[[#This Row],['# Books]]*Table1[[#This Row],[QTY]]","v":0},{"$f":"Table1[[#This Row],[QTY]]*Table1[[#This Row],[S&L Price]]","v":0}]
[null,123,null,"Weird America",1,"America's Oddest Crimes","eBook",null,"978-1-4824-5746-9",2017,"January 2017",null,null,"Author","Janey Levy",5.3,0.5,null,null,"R",null,"Grade 3 - 4","Grade 3 - 6","Crime and punishment can be a complicated subject, but sometimes it gets downright strange. Robberies gone wrong and attempts to cash billion-dollar checks are just some of the wacky crimes covered in this book. With colorful photographs and graphics bring these crimes to life, readers learn that criminals often have strange motivations for the odd things they do. Some even commit crimes you might never think would be punishable by law—like laughing too loud—or crimes from history that rarely happen today like train robbing.","English",26.6,19.95,"364.152’3--dc23","32 pp.",{"$f":"Table1[[#This Row],['# Books]]*Table1[[#This Row],[QTY]]","v":0},{"$f":"Table1[[#This Row],[QTY]]*Table1[[#This Row],[S&L Price]]","v":0}]
[null,123,null,"Weird America",1,"America's Oddest Historical Moments","Library Bound Book",null,"978-1-4824-5753-7",2017,"January 2017","Library","8.500 X 11.00","Author","M. H. Seeley",6,0.5,null,null,"R",null,"Grade 3 - 4","Grade 3 - 6","America can be a weird place, but thankfully much of that weirdness is long in the past. From failed assassinations to the long stretch of time a town in New Jersey thought tomatoes were deadly poison, readers will love taking a trip through some of America’s strangest stories of yore. Full-color photographs paired with vivid historical retellings bring these stories to life for modern readers eager to relive some of the past’s funniest and oddest tales.","English",26.6,19.95,"973--dc23","32 pp.",{"$f":"Table1[[#This Row],['# Books]]*Table1[[#This Row],[QTY]]","v":0},{"$f":"Table1[[#This Row],[QTY]]*Table1[[#This Row],[S&L Price]]","v":0}]
[null,123,null,"Weird America",1,"America's Oddest Historical Moments","eBook",null,"978-1-4824-5754-4",2017,"January 2017",null,null,"Author","M. H. Seeley",6,0.5,null,null,"R",null,"Grade 3 - 4","Grade 3 - 6","America can be a weird place, but thankfully much of that weirdness is long in the past. From failed assassinations to the long stretch of time a town in New Jersey thought tomatoes were deadly poison, readers will love taking a trip through some of America’s strangest stories of yore. Full-color photographs paired with vivid historical retellings bring these stories to life for modern readers eager to relive some of the past’s funniest and oddest tales.","English",26.6,19.95,"973--dc23","32 pp.",{"$f":"Table1[[#This Row],['# Books]]*Table1[[#This Row],[QTY]]","v":0},{"$f":"Table1[[#This Row],[QTY]]*Table1[[#This Row],[S&L Price]]","v":0}]
[null,123,null,"Weird America",1,"America's Oddest Jobs","Library Bound Book",null,"978-1-4824-5757-5",2017,"January 2017","Library","8.500 X 11.00","Author","Therese M. Shea",5.4,0.5,null,null,"R",null,"Grade 3 - 4","Grade 3 - 6","Some of the weirdest occupations on the planet can be found right in our backyards. For every golf course near our homes, for example, there might be someone diving in its ponds searching for golf balls. Some people even collect snake venom or teach dogs how to surf! Curious readers get to explore the many odd jobs that dot the American landscape through colorful photographs and graphics that highlight some of the strangest things people do for a living.","English",26.6,16.95,"331.702--dc23","32 pp.",{"$f":"Table1[[#This Row],['# Books]]*Table1[[#This Row],[QTY]]","v":0},{"$f":"Table1[[#This Row],[QTY]]*Table1[[#This Row],[S&L Price]]","v":0}]
[null,123,null,"Weird America",1,"America's Oddest Laws","Library Bound Book",null,"978-1-4824-4029-4",2016,"January 2016","Library","8.500 X 11.00","Author","Michael Canfield",5.6,0.5,null,null,"R",null,"Grade 3 - 4","Grade 3 - 6","The law of the land is not always uniform, and this wacky book is proof. Intrigued readers dive into the law books of America’s cities and towns, passing by all the boring stuff and getting down to the just plain weird. Forget jaywalking and other everyday crimes—in West Virginia it’s illegal to use a ferret for hunting! Incredibly engaging text and wild photographs help make sure readers won’t play bingo for too long in North Carolina and stay on the right side of the law when collecting seaweed in New Hampshire.","English",26.6,19.95,"349.73—dc23","32 pp.",{"$f":"Table1[[#This Row],['# Books]]*Table1[[#This Row],[QTY]]","v":0},{"$f":"Table1[[#This Row],[QTY]]*Table1[[#This Row],[S&L Price]]","v":0}]
[null,124,null,"Hidden History",1,"Depots of the Underground Railroad","Library Bound Book",null,"978-1-4824-5796-4",2017,"January 2017","Library","6.500 X 9.125","Author","Caroline Kennon",6.6,1,null,null,"S",null,"Grade 4 - 5","Grade 4 - 6","The Underground Railroad was the massive effort by slaves and free people to secretly bring thousands of blacks to freedom in the North during the 19th century. This thought-provoking book will capture readers’ imaginations and fill them with awe for the brave “conductors” and “passengers” on the Railroad. They’ll learn about the many safe havens, called “depots,” that housed fugitives and the secret passages within them that hid slaves from their pursuers. Information about the American Civil War and the Fugitive Slave Act, biographies of figures vital to the Underground Railroad, and stunning photographs and artwork are included in this important work about a terrible time in American history.","English",26.6,19.95,"973.7/115--dc23","32 pp.",{"$f":"Table1[[#This Row],['# Books]]*Table1[[#This Row],[QTY]]","v":0},{"$f":"Table1[[#This Row],[QTY]]*Table1[[#This Row],[S&L Price]]","v":0}]
[null,124,null,"Hidden History",1,"Depots of the Underground Railroad","eBook",null,"978-1-4824-5797-1",2017,"January 2017",null,null,"Author","Caroline Kennon",6.6,1,null,null,"S",null,"Grade 4 - 5","Grade 4 - 6","The Underground Railroad was the massive effort by slaves and free people to secretly bring thousands of blacks to freedom in the North during the 19th century. This thought-provoking book will capture readers’ imaginations and fill them with awe for the brave “conductors” and “passengers” on the Railroad. They’ll learn about the many safe havens, called “depots,” that housed fugitives and the secret passages within them that hid slaves from their pursuers. Information about the American Civil War and the Fugitive Slave Act, biographies of figures vital to the Underground Railroad, and stunning photographs and artwork are included in this important work about a terrible time in American history.","English",26.6,19.95,"973.7/115--dc23","32 pp.",{"$f":"Table1[[#This Row],['# Books]]*Table1[[#This Row],[QTY]]","v":0},{"$f":"Table1[[#This Row],[QTY]]*Table1[[#This Row],[S&L Price]]","v":0}]
[null,124,null,"Hidden History",1,"Slavery at Mount Vernon","Library Bound Book",null,"978-1-4824-5804-6",2017,"January 2017","Library","6.500 X 9.125","Author","Janey Levy",6.4,1,null,null,"S",null,"Grade 4 - 5","Grade 4 - 6","Mount Vernon, George Washington’s residence, holds a special place in US history and in the hearts of many Americans. But its history of slavery has remained largely hidden until recently. That’s because it’s difficult to accept the contradiction of a Founding Father who fought for liberty, but engaged in the practice of slavery. This thought-provoking volume uses the discoveries of archaeologists as well as the writings of Washington himself to shed light on the lives of the slaves who dwelled on this land. Readers will especially appreciate the illustrative photographs and enlightening sidebars and fact boxes.","English",26.6,19.95,"306.3/6209755291--dc23","48 pp.",{"$f":"Table1[[#This Row],['# Books]]*Table1[[#This Row],[QTY]]","v":0},{"$f":"Table1[[#This Row],[QTY]]*Table1[[#This Row],[S&L Price]]","v":0}]
[null,124,null,"Hidden History",1,"Uncovering the Jamestown Colony","eBook",null,"978-1-4824-5809-1",2017,"January 2017",null,null,"Author","Caitlin McAneney",5.9,1,null,null,"S",null,"Grade 4 - 5","Grade 4 - 6","Jamestown is celebrated as the first permanent English settlement in North America, but underneath the well-known history is a darker past. In its beginning years, Jamestown was far from successful. In fact, most colonists who came to Jamestown never left; they died shortly after arriving. This fascinating book delves into the challenges of the colony, revealing its successes, tragedies, and even horrors—cannibalism! Readers will be surprised to learn about the real-life Pocahontas and John Smith, and eager to find out more about what really happened in this Virginia colony's early days.","English",26.6,19.95,"975.5/4251--dc23","48 pp.",{"$f":"Table1[[#This Row],['# Books]]*Table1[[#This Row],[QTY]]","v":0},{"$f":"Table1[[#This Row],[QTY]]*Table1[[#This Row],[S&L Price]]","v":0}]
[null,125,null,"Our Basic Freedoms",1,"Freedom of Religion","eBook",null,"978-1-4824-6185-5",2017,"January 2017",null,null,"Author","Stephanie Hoover",null,null,null,null,"W",null,"Grade 6","Grade 6 - 8","The freedom to practice religion without government interference predates the founding of the United States. The Puritans and other religions came to the New World partly so they could openly worship without persecution. While persecution certainly still existed, this idea became a big part of the First Amendment to the Constitution. This detailed volume introduces readers to the right to freedom of religion through historical context, challenges to that right, and Supreme Court rulings on cases dealing with freedom of religion. The main content is unbiased and written in clear language appropriate for readers exploring this important topic.","English",31.95,23.95,"323.44’20973--dc23","48 pp.",{"$f":"Table1[[#This Row],['# Books]]*Table1[[#This Row],[QTY]]","v":0},{"$f":"Table1[[#This Row],[QTY]]*Table1[[#This Row],[S&L Price]]","v":0}]
[null,125,null,"Our Basic Freedoms",1,"Freedom of Speech","Library Bound Book",null,"978-1-4824-6186-2",2017,"January 2017","Library","7.250 X 9.250","Author","Jennifer Mason",null,null,null,null,"W",null,"Grade 6","Grade 6 - 8","Sometimes, citizens believe having freedom of speech means they can say anything with no consequences. But over time, laws and Supreme Court rulings have limited the full “freedom” of this right to exclude hate speech and other potentially harmful expressions. Through examples, historical context, and clear explanations, readers learn the full extent of their freedom of speech. Modern court cases, particularly those having to do with students, show the relevance of this right in readers’ lives. Fact boxes, sidebars, historical images, and full-color photographs add even more information about the history of the Bill of Rights and the First Amendment.","English",31.95,23.95,"342.7308’53--dc23","48 pp.",{"$f":"Table1[[#This Row],['# Books]]*Table1[[#This Row],[QTY]]","v":0},{"$f":"Table1[[#This Row],[QTY]]*Table1[[#This Row],[S&L Price]]","v":0}]
[null,125,null,"Our Basic Freedoms",1,"The Right to Petition","eBook",null,"978-1-4824-6193-0",2017,"January 2017",null,null,"Author","Jennifer Mason",null,null,null,null,"W",null,"Grade 6","Grade 6 - 8","The First Amendment is of great importance to Americans because it contains five main civil rights that citizens are guaranteed. These, including the freedom to petition, are the rights most often challenged in Supreme Court cases. Readers learn what freedom of petition entails through the historical context of the Bill of Rights and cases brought before the Supreme Court. Historical images and full-color photographs complement the main content, and fact boxes and sidebars give readers deeper explanations and perspective about this civil right.","English",31.95,23.95,"323.4’8--dc23","48 pp.",{"$f":"Table1[[#This Row],['# Books]]*Table1[[#This Row],[QTY]]","v":0},{"$f":"Table1[[#This Row],[QTY]]*Table1[[#This Row],[S&L Price]]","v":0}]
[null,129,null,"World's Scariest Places",1,"Creepy Cemeteries","Library Bound Book",null,"978-1-4824-5903-6",2017,"January 2017","Library","6.500 X 9.125","Author","Alix Wood",null,null,null,null,"T",null,"Grade 4 - 5","Grade 4 - 6","Cemeteries are the final resting places of our dead. Yet, some swear not all who are resting in cemeteries are resting! The supernatural lore surrounding certain graveyards and burial grounds around the world is abundant, but this bloodcurdling book focuses on the most fascinatingly frightening, including Bachelor’s Grove Cemetery of Chicago, Illinois, and the Hanging Coffins of Sagada in the Philippines. Readers will love learning about the invisible hands that torment visitors of Greyfriars Churchyard in Edinburgh, Scotland, too. Such stories supported by some equally scary photographs will delight all those who love a good scare.","English",26.6,19.95,"133.1’22--dc23","32 pp.",{"$f":"Table1[[#This Row],['# Books]]*Table1[[#This Row],[QTY]]","v":0},{"$f":"Table1[[#This Row],[QTY]]*Table1[[#This Row],[S&L Price]]","v":0}]
[null,129,null,"World's Scariest Places",1,"Haunted Battlefields","eBook",null,"978-1-4824-5911-1",2017,"January 2017",null,null,"Author","Alix Wood",null,null,null,null,"T",null,"Grade 4 - 5","Grade 4 - 6","Even today, more than 150 years after the Battle of Antietam of the American Civil War, visitors to the battleground report hearing gunfire and smelling gun smoke. Others have heard battle cries. In every case, there is no convincing argument about why these things occurred—except that Antietam is haunted! Readers of this thrilling volume, full of superb, striking photographs, can decide if they believe in ghosts as they pay a visit to some famous and infamous battlefields around the globe. They’ll learn about the historic conflicts that took place at each that may have led to their haunted status.","English",26.6,19.95,"133.1’22--dc23","24 pp.",{"$f":"Table1[[#This Row],['# Books]]*Table1[[#This Row],[QTY]]","v":0},{"$f":"Table1[[#This Row],[QTY]]*Table1[[#This Row],[S&L Price]]","v":0}]
[null,129,null,"World's Scariest Places",1,"Haunted Houses","Library Bound Book",null,"978-1-4824-5914-2",2017,"January 2017","Library","6.500 X 9.125","Author","Alix Wood",null,null,null,null,"S",null,"Grade 4 - 5","Grade 4 - 6","Some of the world’s most haunted houses are also the most famous! Riveted readers will be astounded to learn that the White House is among them, as well as China’s Forbidden City. They’ll understand why these and other spooky structures around the world earned their eerie reputations as they learn about the history surrounding each. Thought-provoking sidebars, a helpful map, and an arresting design and photographs make this volume a truly motivating and memorable experience.","English",26.6,19.95,"133.1’22--dc23--dc23","24 pp.",{"$f":"Table1[[#This Row],['# Books]]*Table1[[#This Row],[QTY]]","v":0},{"$f":"Table1[[#This Row],[QTY]]*Table1[[#This Row],[S&L Price]]","v":0}]
[null,130,null,"What You Didn't Know About History",1,"Benjamin Franklin","Library Bound Book",null,"978-1-4824-1927-6",2015,"January 2015","Library","8.500 X 8.500","Author","Benjamin Proudfit",null,null,28,null,"M",null,"Grade 2 - 3","Grade 2 - 5","Benjamin Franklin accomplished more in his 84 years than most others could do in two lifetimes! Some parts of his life were devoted to science and invention, such as the pulley system he invented to lock and unlock his bedroom door while lying in bed. However, he was also the sharp, witty writer and thinker who convinced the French government to back the revolutionaries in the English colonies. Through surprising historical facts and anecdotes, readers learn even more about Franklin than they would in a textbook. Full-color images engage readers with Franklin throughout his life while fun fact boxes give additional interesting details.","English",22.6,16.95,"973.3","24 pp.",{"$f":"Table1[[#This Row],['# Books]]*Table1[[#This Row],[QTY]]","v":0},{"$f":"Table1[[#This Row],[QTY]]*Table1[[#This Row],[S&L Price]]","v":0}]
[null,130,null,"What You Didn't Know About History",1,"Christopher Columbus","eBook",null,"978-1-4824-1948-1",2015,"January 2015",null,null,"Author","Michael Rajczak",null,null,28,null,"M",null,"Grade 2 - 3","Grade 2 - 5","Christopher Columbus most likely wasn’t the person to discover the Americas. He wasn’t even the first European to do so! Despite that, his three trips to the Western Hemisphere led to many more European explorers heading in that direction. In this volume, readers familiar with Columbus’s travels on the Nina, Pinta, and Santa Maria can learn who Columbus was beyond his travels. Supported by full-color and historic images, interesting main content turns what readers think they know about the life of Columbus on its head while expounding on an important period in the history of the world.","English",22.6,16.95,"970.01","24 pp.",{"$f":"Table1[[#This Row],['# Books]]*Table1[[#This Row],[QTY]]","v":0},{"$f":"Table1[[#This Row],[QTY]]*Table1[[#This Row],[S&L Price]]","v":0}]
[null,130,null,"What You Didn't Know About History",1,"Life as a Pioneer","Interactive eBook","HTML5","978-1-4339-8423-5",2013,"January 2013",null,null,"Author","Kristen Rajczak Nelson",null,null,28,20,"M",null,"Grade 2 - 3","Grade 2 - 5","Dust storms. Native American attacks. Poor crop growth. After spending months living in shacks or “soddies,” many pioneers didn’t stay to learn the essentials needed to comfortably establish their lives on the American frontier. Readers will learn about the great efforts put forth by the pioneers to make their new land into a home. Building on the social studies curriculum, readers learn little-known facts and surprising tidbits, including what the pioneers used for toilet paper! Historical photographs and illustrations further depict everyday life on the frontier while fact boxes add more unusual information.","English",33.25,24.95,"970.01","24 pp.",{"$f":"Table1[[#This Row],['# Books]]*Table1[[#This Row],[QTY]]","v":0},{"$f":"Table1[[#This Row],[QTY]]*Table1[[#This Row],[S&L Price]]","v":0}]
[null,130,null,"What You Didn't Know About History",1,"Life During the American Revolution","eBook",null,"978-1-4339-8427-3",2013,"January 2013",null,null,"Author","Kristen Rajczak Nelson",null,null,28,20,"M",null,"Grade 2 - 3","Grade 2 - 5","The American Revolution was full of odd events not usually included in history books. Some of these events include: the tar and feathering of British supporters and battles taking place in farmers’ fields. Readers will find many new—and sometimes funny—facts in this book, such as patriot soldiers leaving the war to harvest their crops. Surprising fact boxes and distinctive historical information engage readers with a unique look at the Revolutionary War. Detailed illustrations further emphasize that whether colonists were for, against, or indifferent about independence, war affected them all.","English",22.6,16.95,"973.3","24 pp.",{"$f":"Table1[[#This Row],['# Books]]*Table1[[#This Row],[QTY]]","v":0},{"$f":"Table1[[#This Row],[QTY]]*Table1[[#This Row],[S&L Price]]","v":0}]
[null,130,null,"What You Didn't Know About History",1,"Life in Jamestown Colony","Library Bound Book",null,"978-1-4824-0586-6",2014,"January 2014","Library","8.500 X 8.500","Author","Janey Levy",null,null,24,20,"L",null,"Grade 2 - 3","Grade 2 - 5","Jamestown Colony is often held up as a great achievement of colonization. It did help start the United States, after all! However, the truth of Jamestown’s beginnings is a less pleasant story of starvation, drought, and frequent quarrels with nearby Powhatans. Readers will learn lots of fascinating—and shocking—information about the settlement to enhance what they learn in the social studies curriculum. Fact boxes full of surprising details will increase interest while historical images help readers picture what life in the first permanent English colony was like.","English",22.6,16.95,"975.5","24 pp.",{"$f":"Table1[[#This Row],['# Books]]*Table1[[#This Row],[QTY]]","v":0},{"$f":"Table1[[#This Row],[QTY]]*Table1[[#This Row],[S&L Price]]","v":0}]
[null,130,null,"What You Didn't Know About History",1,"Life in the American Colonies","Interactive eBook","HTML5","978-1-4339-8438-9",2013,"January 2013",null,null,"Author","Kristen Rajczak Nelson",null,null,28,20,"M",null,"Grade 2 - 3","Grade 2 - 5","Readers will investigate how climate and heritage shaped each colony in the new America—and the important, funny, and strange things colonists did there. Fun fact boxes offer little-known insights and details of colonial life. Detailed illustrations and photographs take readers into colonial lives from Massachusetts to Virginia.","English",33.25,24.95,"973.01","24 pp.",{"$f":"Table1[[#This Row],['# Books]]*Table1[[#This Row],[QTY]]","v":0},{"$f":"Table1[[#This Row],[QTY]]*Table1[[#This Row],[S&L Price]]","v":0}]
[null,130,null,"What You Didn't Know About History",1,"Life on a Wagon Train","eBook",null,"978-1-4339-8447-1",2013,"January 2013",null,null,"Author","Kristen Rajczak Nelson",null,null,28,20,"M",null,"Grade 2 - 3","Grade 2 - 5","Readers set out on a cross-country adventure with emigrants on a wagon train in this book—but they shouldn’t expect an ordinary journey. Including the many pairs of shoes that the travelers wore through and if children had to go to school, readers will learn surprising details about the trying life on a wagon train. Historical illustrations and photographs support accessible content that moves beyond what’s learned in the social studies classroom. Fact boxes give readers even more opportunities to learn about the hardy emigrants and their habits, food, and fun.","English",22.6,16.95,"978/.02","24 pp.",{"$f":"Table1[[#This Row],['# Books]]*Table1[[#This Row],[QTY]]","v":0},{"$f":"Table1[[#This Row],[QTY]]*Table1[[#This Row],[S&L Price]]","v":0}]
[null,130,null,"What You Didn't Know About History",1,"Life on a Wagon Train","Interactive eBook","HTML5","978-1-4339-8448-8",2013,"January 2013",null,null,"Author","Kristen Rajczak Nelson",null,null,28,20,"M",null,"Grade 2 - 3","Grade 2 - 5","Readers set out on a cross-country adventure with emigrants on a wagon train in this book—but they shouldn’t expect an ordinary journey. Including the many pairs of shoes that the travelers wore through and if children had to go to school, readers will learn surprising details about the trying life on a wagon train. Historical illustrations and photographs support accessible content that moves beyond what’s learned in the social studies classroom. Fact boxes give readers even more opportunities to learn about the hardy emigrants and their habits, food, and fun.","English",33.25,24.95,"978/.02","24 pp.",{"$f":"Table1[[#This Row],['# Books]]*Table1[[#This Row],[QTY]]","v":0},{"$f":"Table1[[#This Row],[QTY]]*Table1[[#This Row],[S&L Price]]","v":0}]
[null,130,null,"What You Didn't Know About History",1,"Pocahontas and the Powhatans","eBook",null,"978-1-4824-1940-5",2015,"January 2015",null,null,"Author","Reese Donaghey",null,null,28,null,"M",null,"Grade 2 - 3","Grade 2 - 5","Pocahontas’s name wasn’t originally Pocahontas. “Pocahontas” was a nickname! She was later known by another name, too. Once she began following the religion of the English, she took the name Rebecca. More of her life is uncertain. Readers learn the major accounts of Pocahontas’s life and the discrepancies among them. Full-color images and fun fact boxes help contextualize her life with that of the Powhatan culture in which she grew up. The Powhatans’ relationship with the English colored her life, and the stories that came of her dealings with the English still fascinate today.","English",22.6,16.95,"975.5","24 pp.",{"$f":"Table1[[#This Row],['# Books]]*Table1[[#This Row],[QTY]]","v":0},{"$f":"Table1[[#This Row],[QTY]]*Table1[[#This Row],[S&L Price]]","v":0}]
[null,130,null,"What You Didn't Know About History",1,"The First Thanksgiving","Interactive eBook","Flash","978-1-4824-0585-9",2014,"January 2014",null,null,"Author","Kathleen Connors",null,null,24,20,"L",null,"Grade 2 - 3","Grade 2 - 5","It’s likely that the Pilgrims ate goose or duck at the first Thanksgiving—and didn’t eat pumpkin pie! Readers will be astonished at the myths surrounding one of the most celebrated holidays in the United States. Fun fact boxes add more surprising US history information that complements the social studies curriculum. As readers learn fact from fiction, historical images will fascinate them, especially idealizations of this storied event. As is often the case, the truth of the first Thanksgiving is more interesting than the myth—and readers will pass on their knowledge around the family turkey for many years!","English",33.25,24.95,"394.2649","24 pp.",{"$f":"Table1[[#This Row],['# Books]]*Table1[[#This Row],[QTY]]","v":0},{"$f":"Table1[[#This Row],[QTY]]*Table1[[#This Row],[S&L Price]]","v":0}]
[null,130,null,"What You Didn't Know About History",1,"The Transcontinental Railroad","Interactive eBook","Flash","978-1-4824-0596-5",2014,"January 2014",null,null,"Author","Michael Rajczak",null,null,24,20,"L",null,"Grade 2 - 3","Grade 2 - 5","The transcontinental railroad didn’t really cross North America. In fact, the famed rail building that took place in the 1860s only completed the stretch from Nebraska to California! Readers will learn many new facts about the transcontinental railroad to augment what they learn in the social studies classroom. Historical images drive home the reality of a 12-hour workday, poor treatment of Chinese immigrant workers, and the dangerous tunneling through the Sierra Nevada. Fact boxes will further fascinate readers with one of the greatest industrial marvels of US history.","English",33.25,24.95,"625.261","24 pp.",{"$f":"Table1[[#This Row],['# Books]]*Table1[[#This Row],[QTY]]","v":0},{"$f":"Table1[[#This Row],[QTY]]*Table1[[#This Row],[S&L Price]]","v":0}]
[null,130,null,"What You Didn't Know About History",1,"The Underground Railroad","Library Bound Book",null,"978-1-4824-0601-6",2014,"January 2014","Library","8.500 X 8.500","Author","Michael Rajczak",null,null,24,20,"L",null,"Grade 2 - 3","Grade 2 - 5","The terrible truth of slavery has been well-documented since its end following the Civil War. With the everyday reality of whippings, backbreaking labor, and constant prejudice, it’s no wonder many slaves tried to escape. Fortunately, a network of people and safe houses arose in the late 1770s to help these slaves reach freedom. Readers will learn about the beginning of the Underground Railroad and the many routes slaves traveled. The main content supports readers’ classroom learning with surprising fact boxes and historical images to draw them into the dangerous, terrifying journey many slaves took.","English",22.6,16.95,"973.7115","24 pp.",{"$f":"Table1[[#This Row],['# Books]]*Table1[[#This Row],[QTY]]","v":0},{"$f":"Table1[[#This Row],[QTY]]*Table1[[#This Row],[S&L Price]]","v":0}]
[null,131,null,"White House Insiders",1,"What's It Like to Be the First Lady?","eBook",null,"978-1-4824-1093-8",2015,"August 2014",null,null,"Author","Kathleen Connors",5.4,0.5,28,null,"M",null,"Grade 2 - 3","Grade 2 - 5","The First Lady has no official duties. She doesn’t even have to be the president’s wife! In fact, precedent and the personality of each First Lady have shaped the role of the First Lady. Readers will learn the jobs First Ladies have taken on during the course of US history. Including historical information supporting the social studies curriculum, the main content introduces many past First Ladies. Full-color images add to the historical context. Readers will enjoy a timeline of First Lady firsts as well as entertaining fact boxes.","English",22.6,16.95,"973","24 pp.",{"$f":"Table1[[#This Row],['# Books]]*Table1[[#This Row],[QTY]]","v":0},{"$f":"Table1[[#This Row],[QTY]]*Table1[[#This Row],[S&L Price]]","v":0}]
[null,131,null,"White House Insiders",1,"What's It Like to Be the President's Pet?","Library Bound Book",null,"978-1-4824-1105-8",2015,"August 2014","Library","8.500 X 8.500","Author","Kathleen Connors",5.0999999999999996,0.5,28,null,"M",null,"Grade 2 - 3","Grade 2 - 5","President Abraham Lincoln’s son had a pet turkey named Jack. The Kennedy family kept ponies on the White House grounds. Warren G. Harding threw his dog a birthday party! Presidential pets have always been part of the First Family, from George Washington’s horse Nelson to Bo, the Obamas’ curly pup. While meeting many of these pets, readers get a unique look at past presidents as people, not just leaders. Colorful and historic photographs show the perks of being a presidential pet as well as the joy each brought to the First Family.","English",22.6,16.95,"973","32 pp.",{"$f":"Table1[[#This Row],['# Books]]*Table1[[#This Row],[QTY]]","v":0},{"$f":"Table1[[#This Row],[QTY]]*Table1[[#This Row],[S&L Price]]","v":0}]
[null,131,null,"White House Insiders",1,"What's It Like to Work in the White House?","eBook",null,"978-1-4824-1118-8",2015,"August 2014",null,null,"Author","Kathleen Connors",5.6,0.5,28,null,"M",null,"Grade 2 - 3","Grade 2 - 5","There are several kinds of White House workers. Some work with the president in the West Wing, dealing with laws, the press, and other governmental information. Others take care of the First Family’s needs in the White House Residence, such as maids, chauffeurs, and chefs. Still more patrol the grounds, protecting the most famous house in the United States. Readers will learn to appreciate the many behind-the-scenes workers who make the Executive Mansion run smoothly. Fun fact boxes and colorful photographs entice readers to go experience the White House themselves.","English",22.6,16.95,"975.3","32 pp.",{"$f":"Table1[[#This Row],['# Books]]*Table1[[#This Row],[QTY]]","v":0},{"$f":"Table1[[#This Row],[QTY]]*Table1[[#This Row],[S&L Price]]","v":0}]
[null,131,null,"Who's Your Candidate? Choosing Government Leaders",6,"Who's Your Candidate? Choosing Government Leaders","Library Set",null,"978-1-4824-4299-1",2016,"January 2016","Library","8.500 X 11.00",null,"",null,null,null,null,null,null,"Grade 3 - 4","Grade 3 - 6","Learning about the legislative process is a big part of the social studies curriculum, from the history of the presidency to the amazing paths of Supreme Court justices. While this series features the historical framework of important positions in government and how one achieves them, it also shows readers how they can start becoming involved in their communities and schools right now to prepare for a possible future as a government leader. Sidebars throughout each book encourage working with volunteer organizations, running for positions in student government, and more. Full-color photographs highlight recent examples of those running for office as well as young people making a difference in the world around them—and the laws that govern it.\n\n• Promotes citizenship and addresses civics requirements \n\n• Gives readers contexts in which to relate the legislative process to their own lives\n\n• Discusses the many factors that play into political candidacy including education, prior experience, and campaigning","English",159.6,119.7,null,"32 pp.",{"$f":"Table1[[#This Row],['# Books]]*Table1[[#This Row],[QTY]]","v":0},{"$f":"Table1[[#This Row],[QTY]]*Table1[[#This Row],[S&L Price]]","v":0}]
[null,131,null,"Who's Your Candidate? Choosing Government Leaders",1,"Becoming a State Governor","Library Bound Book",null,"978-1-4824-4049-2",2016,"January 2016","Library","8.500 X 11.00","Author","Emily Mahoney",6.3,0.5,null,null,"Q",null,"Grade 3 - 4","Grade 3 - 6","A state governor is the leader of all the people of a state, just like a leader of an organization speaks for its people. Being a leader in a school or community organization is a great experience, but it takes a lot of work. The road to becoming a politician can seem complicated, especially when you think about being elected. With content that explores the role of the state governor, who is eligible, and how one is elected, this book uniquely relates state governors’ experiences to readers working for student leadership positions.","English",26.6,19.95,"352.23'21302373—dc23","24 pp.",{"$f":"Table1[[#This Row],['# Books]]*Table1[[#This Row],[QTY]]","v":0},{"$f":"Table1[[#This Row],[QTY]]*Table1[[#This Row],[S&L Price]]","v":0}]
[null,131,null,"Who's Your Candidate? Choosing Government Leaders",1,"Becoming Vice President","Library Bound Book",null,"978-1-4824-4057-7",2016,"January 2016","Library","8.500 X 11.00","Author","Maria Nelson",6.1,0.5,null,null,"R",null,"Grade 3 - 4","Grade 3 - 6","When in a position of leadership, there’s almost nothing more valuable than a person who always supports and challenges you. The vice president of an organization, much like the vice president of the United States, aids the president in any way they can, including stepping up to the top role if the president can no longer hold it. Readers learn about how one becomes US vice president and the duties of this sometimes-overlooked position. In addition, specially designated sidebars and content relate this federal process to student elections and organizations to aid readers in pursuing their leadership ambitions.","English",26.6,19.95,"352.23'90973—dc23","24 pp.",{"$f":"Table1[[#This Row],['# Books]]*Table1[[#This Row],[QTY]]","v":0},{"$f":"Table1[[#This Row],[QTY]]*Table1[[#This Row],[S&L Price]]","v":0}]
[null,132,null,"Road Trip: Exploring America's Regions",1,"Let's Explore the Great Basin","eBook",null,"978-1-4339-9127-1",2014,"August 2013",null,null,"Author","Kathleen Connors",5.7,0.5,28,20,"M",null,"Grade 2 - 3","Grade 2 - 5","Including the ancient Lehman caves and the hot, dry expanse of Death Valley, the Great Basin region has many natural wonders for visitors to explore. Salt Lake City, Utah, and old mining towns offer even more cool things to do. This book invites readers along Interstate 80 into the Great Basin with fascinating fact boxes, colorful photographs, and awesome historical content. Detailed descriptions of the diverse landscape and destinations will engage any reader looking to plan a great road trip!","English",22.6,16.95,"917.904","24 pp.",{"$f":"Table1[[#This Row],['# Books]]*Table1[[#This Row],[QTY]]","v":0},{"$f":"Table1[[#This Row],[QTY]]*Table1[[#This Row],[S&L Price]]","v":0}]
[null,132,null,"Road Trip: Exploring America's Regions",1,"Let's Explore the Great Basin","Interactive eBook","HTML5","978-1-4339-9128-8",2014,"August 2013",null,null,"Author","Kathleen Connors",5.7,0.5,28,20,"M",null,"Grade 2 - 3","Grade 2 - 5","Including the ancient Lehman caves and the hot, dry expanse of Death Valley, the Great Basin region has many natural wonders for visitors to explore. Salt Lake City, Utah, and old mining towns offer even more cool things to do. This book invites readers along Interstate 80 into the Great Basin with fascinating fact boxes, colorful photographs, and awesome historical content. Detailed descriptions of the diverse landscape and destinations will engage any reader looking to plan a great road trip!","English",33.25,24.95,"917.904","24 pp.",{"$f":"Table1[[#This Row],['# Books]]*Table1[[#This Row],[QTY]]","v":0},{"$f":"Table1[[#This Row],[QTY]]*Table1[[#This Row],[S&L Price]]","v":0}]
[null,132,null,"Road Trip: Exploring America's Regions",1,"Let's Explore the Northeast","eBook",null,"978-1-4339-9137-0",2014,"August 2013",null,null,"Author","Kathleen Connors",5.3,0.5,28,20,"M",null,"Grade 2 - 3","Grade 2 - 5","Being home to New York City, the most populous city in the United States, is just one claim to fame of the Northeast region. These states boast beautiful Atlantic coasts, picturesque views from the towering ranges of the Appalachian Mountains, and historic sites directly tied to the founding of the nation. Readers explore the region’s fun and fascinating destinations in this book. With detailed locale descriptions, historical tidbits, and great side-trip suggestions, the content introduces readers to the great Northeast. Fact boxes and colorful photographs will persuade readers to hop in the car and really take a trip!","English",22.6,16.95,"917.404","24 pp.",{"$f":"Table1[[#This Row],['# Books]]*Table1[[#This Row],[QTY]]","v":0},{"$f":"Table1[[#This Row],[QTY]]*Table1[[#This Row],[S&L Price]]","v":0}]
[null,132,null,"Road Trip: Exploring America's Regions",1,"Let's Explore the Southeast","Library Bound Book",null,"978-1-4339-9144-8",2014,"August 2013","Library","8.500 X 8.500","Author","Kathleen Connors",5.6,0.5,28,20,"M",null,"Grade 2 - 3","Grade 2 - 5","The rich culture of the southeastern United States boasts great food, bustling cities, and the top-notch music scenes of Memphis, Nashville, and New Orleans. Historically, the region played a big role in the formation of the nation we know today. Readers will take a trip through full-color photographs and detailed content to learn all about the fascinating places found in the Southeast. Fact boxes highlight cool places to check out on a road trip, while the main content complements regional topics within the social studies curriculum. With the beauty of the Appalachians and the draw of ocean beaches, the Southeast will engage readers and make them eager to travel to this growing area of the country.","English",22.6,16.95,"917.504","24 pp.",{"$f":"Table1[[#This Row],['# Books]]*Table1[[#This Row],[QTY]]","v":0},{"$f":"Table1[[#This Row],[QTY]]*Table1[[#This Row],[S&L Price]]","v":0}]
[null,132,null,"Road Trip: Exploring America's Regions",1,"Let's Explore the Southwest","Interactive eBook","HTML5","978-1-4339-9153-0",2014,"August 2013",null,null,"Author","Kathleen Connors",5.5,0.5,28,20,"M",null,"Grade 2 - 3","Grade 2 - 5","The culture of the American Southwest blends Native American, Spanish, and Mexican traditions with a dash of US spice—and not just in the food! Readers will take a road trip across this unique US region through colorful photographs and cool destination recommendations. An introduction to the major geographic features and the region's big, bustling cities will engage readers as well as augment information learned in the classroom. Fact boxes add even more exciting trivia about one of the fastest-growing US regions!","English",33.25,24.95,"979","24 pp.",{"$f":"Table1[[#This Row],['# Books]]*Table1[[#This Row],[QTY]]","v":0},{"$f":"Table1[[#This Row],[QTY]]*Table1[[#This Row],[S&L Price]]","v":0}]
[null,132,null,"Road Trip: Famous Routes",1,"The Appalachian Trail","eBook",null,"978-1-4824-4960-0",2017,"August 2016",null,null,"Author","Walter LaPlante",5.5,0.5,null,null,"L",null,"Grade 2 - 3","Grade 2 - 5","The man who conceived of the Appalachian Trail believed that time outdoors was good for a clear mind. Millions of people couldn’t agree more and hike the trail each year! In addition to the history of this famous trail, readers learn some of the coolest hikes they can go on along the trail as well as the national parks they might find along the way. Fact boxes introduce more information about where to go when on a road trip near the Appalachian Trail, and full-color photographs show a sneak peak of the gorgeous foliage and scenery the trail is known for.","English",22.6,16.95,"796.510974--dc23","24 pp.",{"$f":"Table1[[#This Row],['# Books]]*Table1[[#This Row],[QTY]]","v":0},{"$f":"Table1[[#This Row],[QTY]]*Table1[[#This Row],[S&L Price]]","v":0}]
[null,132,null,"Road Trip: Famous Routes",1,"The Erie Canal","eBook",null,"978-1-4824-4949-5",2017,"August 2016",null,null,"Author","Walter LaPlante",5.5,0.5,null,null,"L",null,"Grade 2 - 3","Grade 2 - 5","During the early 1800s, it was difficult and expensive to transport goods from the East Coast to the Great Lakes region. The Erie Canal connected these two areas, causing a population boom in western New York and encouraging settlement around the Great Lakes. Readers learn the history of this important canal through the main content and fun fact boxes, and also discover the many ways travelers can use and enjoy the canal today. Full-color photographs introduce cool destinations near the canal and showcase the locks and other canal structures still in existence.","English",22.6,16.95,"386/.48/09747--dc23","24 pp.",{"$f":"Table1[[#This Row],['# Books]]*Table1[[#This Row],[QTY]]","v":0},{"$f":"Table1[[#This Row],[QTY]]*Table1[[#This Row],[S&L Price]]","v":0}]
[null,132,null,"Road Trip: Famous Routes",1,"The Pan-American Highway","Library Bound Book",null,"978-1-4824-4669-2",2017,"August 2016","Library","8.500 X 8.500","Author","Benjamin Proudfit",5.5,0.5,null,null,"L",null,"Grade 2 - 3","Grade 2 - 5","It might seem impossible to drive from Alaska to Argentina—but with a passport handy, that’s a road trip people can take! The Pan-American Highway is a system of connected roads and highways that travel roughly north to south through North and South America. Readers learn about the many environments travelers would drive through on such a journey as well as the history of the highway. Full-color photographs illustrate the many cool destinations along the way as fun fact boxes suggest places to see along the route.","English",22.6,16.95,"917.04--dc23","24 pp.",{"$f":"Table1[[#This Row],['# Books]]*Table1[[#This Row],[QTY]]","v":0},{"$f":"Table1[[#This Row],[QTY]]*Table1[[#This Row],[S&L Price]]","v":0}]
[null,132,null,"Road Trip: National Parks",1,"Everglades National Park","Library Bound Book",null,"978-1-4824-1678-7",2016,"August 2015","Library","8.500 X 8.500","Author","Kathleen Connors",null,null,24,null,"L","950L","Grade 2 - 3","Grade 2 - 5","Everglades National Park was established in 1934 to protect one of the most unique ecosystems in the world. From hardwood forests to the estuarine habitat of Florida Bay, the many habitats in the park are home to about 1,000 species of plants and hundreds of animal species, some of which are endangered. Readers learn the park’s history and roots in conservation through the social studies and science content included in the main text. Colorful photographs show the park’s beauty up close, enhancing reader interest through the rare and fascinating flora and fauna of the Everglades.","English",22.6,16.95,"917.59","24 pp.",{"$f":"Table1[[#This Row],['# Books]]*Table1[[#This Row],[QTY]]","v":0},{"$f":"Table1[[#This Row],[QTY]]*Table1[[#This Row],[S&L Price]]","v":0}]
[null,132,null,"Road Trip: National Parks",1,"Everglades National Park","eBook",null,"978-1-4824-1681-7",2016,"August 2015",null,null,"Author","Kathleen Connors",null,null,24,null,"L","950L","Grade 2 - 3","Grade 2 - 5","Everglades National Park was established in 1934 to protect one of the most unique ecosystems in the world. From hardwood forests to the estuarine habitat of Florida Bay, the many habitats in the park are home to about 1,000 species of plants and hundreds of animal species, some of which are endangered. Readers learn the park’s history and roots in conservation through the social studies and science content included in the main text. Colorful photographs show the park’s beauty up close, enhancing reader interest through the rare and fascinating flora and fauna of the Everglades.","English",22.6,16.95,"917.59","24 pp.",{"$f":"Table1[[#This Row],['# Books]]*Table1[[#This Row],[QTY]]","v":0},{"$f":"Table1[[#This Row],[QTY]]*Table1[[#This Row],[S&L Price]]","v":0}]
[null,132,null,"Road Trip: National Parks",1,"Yellowstone National Park","Library Bound Book",null,"978-1-4824-1690-9",2016,"August 2015","Library","8.500 X 8.500","Author","Frances Nagle",null,null,24,null,"L","950L","Grade 2 - 3","Grade 2 - 5","Yellowstone National Park is considered the first national park in the world! Created in 1872, the park encompasses many types of habitats but is best known for its Old Faithful Geyser. Readers join the more than 3 million yearly park visitors in discovering the beauty of Yellowstone National Park. Including important aspects of the social studies curriculum such as geography and conservation, this volume also introduces readers to the plants, wildlife, and attractions of this famous park. Enthralled by the full-color photographs of this lovely landscape, readers will certainly hope their next road trip heads to Yellowstone!","English",22.6,16.95,"979.4","24 pp.",{"$f":"Table1[[#This Row],['# Books]]*Table1[[#This Row],[QTY]]","v":0},{"$f":"Table1[[#This Row],[QTY]]*Table1[[#This Row],[S&L Price]]","v":0}]
[null,133,null,"Map Basics",1,"Latitude and Longitude","Library Bound Book",null,"978-1-4824-1078-5",2015,"August 2014","Library","8.500 X 8.500","Author","Kristen Rajczak Nelson",null,null,24,null,"L",null,"Grade 2 - 3","Grade 2 - 5","Even in such a tech-savvy culture as ours, understanding latitude and longitude coordinates has many uses. Coordinates can help hikers find their way when lost on a difficult trail and geocache enthusiasts locate their treasure. Even more importantly, they can help communicate location no matter what language is being spoken. Readers learn all about the development, use, and accuracy of the grid mapping system of latitude and longitude. Covering the equator, Prime Meridian, and more, the main content complements important topics from the social studies curriculum. Full-color maps aid readers’ understanding as fact boxes clarify key information.","English",22.6,16.95,"526","24 pp.",{"$f":"Table1[[#This Row],['# Books]]*Table1[[#This Row],[QTY]]","v":0},{"$f":"Table1[[#This Row],[QTY]]*Table1[[#This Row],[S&L Price]]","v":0}]
[null,133,null,"Map Basics",1,"Reading Map Keys","eBook",null,"978-1-4824-1076-1",2015,"August 2014",null,null,"Author","Therese M. Shea",null,null,20,null,"K",null,"Grade 2 - 3","Grade 2 - 5","Just as a car can’t be started without the right key, many maps would be indecipherable without their legend, or key. Map keys show what pictures and colors on a map represent and often offer clues as to the kind of map. Readers learn how map keys can illuminate all kinds of maps, from street and political maps to economic and physical maps. Common map key symbols are discussed alongside full-color examples of many kinds of maps and keys to guide readers through the use and importance of each.","English",22.6,16.95,"912.01","24 pp.",{"$f":"Table1[[#This Row],['# Books]]*Table1[[#This Row],[QTY]]","v":0},{"$f":"Table1[[#This Row],[QTY]]*Table1[[#This Row],[S&L Price]]","v":0}]
[null,133,null,"Map Basics",1,"The Compass Rose and Cardinal Directions","eBook",null,"978-1-4824-1086-0",2015,"August 2014",null,null,"Author","Caitie McAneney",null,null,24,null,"L",null,"Grade 2 - 3","Grade 2 - 5","One of the most recognizable map symbols, the compass rose, is also the most useful. It shows the cardinal directions, and, when used with a compass, it can help hikers and orienteers reach their destination. Readers are introduced to the compass rose and the cardinal and intermediate directions it displays. Detailed examples lead readers through using a compass rose on a map. Full-color images accompany important map skills, engaging readers with content consistent with the social studies curriculum.","English",22.6,16.95,"912.01","24 pp.",{"$f":"Table1[[#This Row],['# Books]]*Table1[[#This Row],[QTY]]","v":0},{"$f":"Table1[[#This Row],[QTY]]*Table1[[#This Row],[S&L Price]]","v":0}]
[null,133,null,"Scariest Places on Earth",6,"Scariest Places on Earth","Library Set",null,"978-1-4824-1145-4",2015,"August 2014","Library","8.500 X 8.500",null,"",null,null,null,null,null,null,"Grade 2 - 3","Grade 2 - 5","For those who love the thrill of feeling spooked, this chilling series will excite the imagination. Readers journey around the world visiting aptly named landforms, such as Death Valley and Mount Terror. They'll hunt Bigfoot on the Bigfoot Trail and search for vampires in Transylvania. Besides learning spine-tingling facts, readers will also find out about the plants, animals, and people who live in these places. After seeing vivid photographs of the landscape, they might even want to see them in person!  * Maps will expand readers' knowledge of geography   * \"Frightening or Fun?\" fact boxes offer more entertaining information   * High-interest topics will appeal to reluctant readers ","English",135.6,101.7,null,"24 pp.",{"$f":"Table1[[#This Row],['# Books]]*Table1[[#This Row],[QTY]]","v":0},{"$f":"Table1[[#This Row],[QTY]]*Table1[[#This Row],[S&L Price]]","v":0}]
[null,133,null,"Scariest Places on Earth",1,"Mount Terror","Library Bound Book",null,"978-1-4824-1156-0",2015,"August 2014","Library","8.500 X 8.500","Author","Maeve T. Sisk",4.7,0.5,28,null,"M","NC880L","Grade 2 - 3","Grade 2 - 5","Mount Terror off the coast of Antarctica was named after a ship. While there's plenty to fear about this landform, which is actually a volcano, the scariest facts of all concern the terrifying natural conditions of Antarctica. Readers will learn about Mount Terror and the explorers who risked their lives to learn about it and other parts of the frozen Antarctic. Some, such as Robert Falcon Scott, didn't live to tell the tale. Vivid photographs and frightening facts of this landscape will inspire readers' imaginations.","English",22.6,16.95,"551.2","32 pp.",{"$f":"Table1[[#This Row],['# Books]]*Table1[[#This Row],[QTY]]","v":0},{"$f":"Table1[[#This Row],[QTY]]*Table1[[#This Row],[S&L Price]]","v":0}]
[null,133,null,"Scariest Places on Earth",1,"The Dead Sea","eBook",null,"978-1-4824-1169-0",2015,"August 2014",null,null,"Author","Therese M. Shea",4.7,0.5,28,null,"M","NC870L","Grade 2 - 3","Grade 2 - 5","The Dead Sea might sound like a scary place to cool off on a hot day, but many people flock to its waters. The Dead Sea got its name because its salty waters can kill any fish or plants that try to live in it. However, scientists have just recently found a kind of bacteria that live on the seafloor. Readers will find out that some truly spooky things happen around this Middle Eastern lake, like sinkholes opening around its coastline! They'll also learn the science behind these weird happenings and gain an appreciation for an amazing natural resource.","English",22.6,16.95,"956.94","32 pp.",{"$f":"Table1[[#This Row],['# Books]]*Table1[[#This Row],[QTY]]","v":0},{"$f":"Table1[[#This Row],[QTY]]*Table1[[#This Row],[S&L Price]]","v":0}]
[null,133,null,"Scariest Places on Earth",1,"Transylvania","Library Bound Book",null,"978-1-4824-1161-4",2015,"August 2014","Library","8.500 X 8.500","Author","Ethan Weingarten",5,0.5,30,null,"N","NC920L","Grade 2 - 3","Grade 2 - 5","The Romanian region of Transylvania is overshadowed by the terrifying specter of Dracula. This book delves into the origin of the Dracula legend, including the historic figure of Vlad Dracula, also known as Vlad the Impaler. It also introduces actual places in Transylvania that may be connected to this frightening character. Fact boxes and photographs help provide the perfect, though sometimes spooky, snapshot of this interesting part of Eastern Europe.","English",22.6,16.95,"133.109498","32 pp.",{"$f":"Table1[[#This Row],['# Books]]*Table1[[#This Row],[QTY]]","v":0},{"$f":"Table1[[#This Row],[QTY]]*Table1[[#This Row],[S&L Price]]","v":0}]
[null,134,null,"Exploring the Great Lakes",1,"History of the Great Lakes","Library Bound Book",null,"978-1-4824-1434-9",2015,"August 2014","Library","6.500 X 9.000","Author","Emily Jankowski",null,null,40,null,"Q",null,"Grade 3 - 4","Grade 3 - 6","The historical significance of the Great Lakes region stretches from thousands of years ago to the present day. Home to factories, important historical landmarks, and miles of coastline, the Great Lakes region is steeped in the past, but looking ahead to the future. Readers follow the growth of the Great Lakes, beginning with early battles to settle and control the region. Sidebars add to the main content’s discussion of significant events, while readers travel through the area’s past with the help of photographs and historical images. Colorful maps of the region show readers where history happened and introduce the region’s major rivers, states, and landforms.","English",26.6,19.95,"977","32 pp.",{"$f":"Table1[[#This Row],['# Books]]*Table1[[#This Row],[QTY]]","v":0},{"$f":"Table1[[#This Row],[QTY]]*Table1[[#This Row],[S&L Price]]","v":0}]
[null,134,null,"Exploring the Great Lakes",1,"Visiting the Great Lakes","eBook",null,"978-1-4824-1414-1",2015,"August 2014",null,null,"Author","Michael Rajczak",null,null,40,null,"Q",null,"Grade 3 - 4","Grade 3 - 6","The Great Lakes region offers so many places to visit, it’s hard to pare down the choices! From the natural wonders of Niagara Falls and the Michigan sand dunes to the big-city fun of Chicago and Toronto, there’s a lot to see and do. Readers take a tour of the region, including the beaches, famous lighthouses, and the most populous cities around the Great Lakes. Colorful photographs transport them to each new sight while maps aid in geographical understanding of the Great Lakes watershed. Sidebars augment the main social studies content with further detail and interesting facts.","English",26.6,19.95,"977","32 pp.",{"$f":"Table1[[#This Row],['# Books]]*Table1[[#This Row],[QTY]]","v":0},{"$f":"Table1[[#This Row],[QTY]]*Table1[[#This Row],[S&L Price]]","v":0}]
[null,134,null,"Traveling Wild",1,"Expedition to the Arctic","Library Bound Book",null,"978-1-4824-1506-3",2015,"August 2014","Library","7.750 X 10.00","Author","Alex Woolf",null,null,44,null,"T",null,"Grade 3 - 4","Grade 3 - 6","The Arctic is the opposite of a vacation destination. In this unique book, diary entries of a fictional explorer present exciting glimpses into what it takes to reach the Geographic North Pole. Each entry is accompanied by related scientific and historical information, offering a well-rounded examination of the Arctic climate and landscape. Polar explorers face dangers such as hypothermia, frostbite, whiteouts, and polar bear attacks. However, they also experience the stark beauty of a frozen wilderness. Various kinds of fact boxes and vivid photographs add veracity and interest to this daunting expedition.","English",26.6,19.95,"577.5","48 pp.",{"$f":"Table1[[#This Row],['# Books]]*Table1[[#This Row],[QTY]]","v":0},{"$f":"Table1[[#This Row],[QTY]]*Table1[[#This Row],[S&L Price]]","v":0}]
[null,134,null,"Traveling Wild",1,"Expedition to the Arctic","eBook",null,"978-1-4824-1376-2",2015,"August 2014",null,null,"Author","Alex Woolf",null,null,44,null,"T",null,"Grade 3 - 4","Grade 3 - 6","The Arctic is the opposite of a vacation destination. In this unique book, diary entries of a fictional explorer present exciting glimpses into what it takes to reach the Geographic North Pole. Each entry is accompanied by related scientific and historical information, offering a well-rounded examination of the Arctic climate and landscape. Polar explorers face dangers such as hypothermia, frostbite, whiteouts, and polar bear attacks. However, they also experience the stark beauty of a frozen wilderness. Various kinds of fact boxes and vivid photographs add veracity and interest to this daunting expedition.","English",26.6,19.95,"577.5","48 pp.",{"$f":"Table1[[#This Row],['# Books]]*Table1[[#This Row],[QTY]]","v":0},{"$f":"Table1[[#This Row],[QTY]]*Table1[[#This Row],[S&L Price]]","v":0}]
[null,134,null,"Traveling Wild",1,"Trekking in the Congo Rainforest","Library Bound Book",null,"978-1-4824-1509-4",2015,"August 2014","Library","7.750 X 10.00","Author","Alex Woolf",null,null,44,null,"T",null,"Grade 3 - 4","Grade 3 - 6","With more than 600 tree species and 10,000 animal species, the world's second largest rainforest, the Congo rainforest in Central Africa, is truly a lively place to be. In this thoughtful text, various settlements, villages, and indigenous peoples are introduced to readers as well as fascinating, and sometimes dangerous, forest creatures. In fact, hippos cause the most human deaths of any large animal in Africa! The narrator of this Congo adventure explores not just this wild landscape but also safety tips, natural history, and conservation concerns about this important part of the world.","English",26.6,19.95,"577.34","48 pp.",{"$f":"Table1[[#This Row],['# Books]]*Table1[[#This Row],[QTY]]","v":0},{"$f":"Table1[[#This Row],[QTY]]*Table1[[#This Row],[S&L Price]]","v":0}]
[null,135,null,"The Land and the People",1,"China","Library Bound Book",null,"978-1-4824-5113-9",2017,"August 2016","Library","8.500 X 11.00","Author","Anita Ganeri",null,null,null,null,"S",null,"Grade 5","Grade 5 - 6","China is a land of cultural treasures. The Forbidden City, the Great Wall, and the Terracotta Army are all found within its borders. It’s a country of amazing natural resources, including the mighty river called the Yangtze. It’s also a nation of busy cities, delectable foods, and diverse peoples. Rather than hop on a plane, readers can crack this book open to take a tour of the real China, learning about its history, economy, and geography along the way. Vibrant photographs, surprising statistics, and interesting sidebars and fact boxes make this volume an inviting addition to any social studies collection.","English",31.95,23.95,"951--dc23","48 pp.",{"$f":"Table1[[#This Row],['# Books]]*Table1[[#This Row],[QTY]]","v":0},{"$f":"Table1[[#This Row],[QTY]]*Table1[[#This Row],[S&L Price]]","v":0}]
[null,135,null,"The Land and the People",1,"Japan","eBook",null,"978-1-4824-5106-1",2017,"August 2016",null,null,"Author","Susie Brooks",null,null,null,null,"S",null,"Grade 5","Grade 5 - 6","Sleek skyscrapers, foreboding volcanoes, high-tech transportation systems, and a world-famous cuisine are all unforgettable aspects of a trip to Japan. If readers can’t get there in person, this book, full of thought-provoking sidebars and fact boxes, is the next best thing. In fact, its comprehensive content delves into Japan’s history, economy, and daily life, too. Beautiful photographs transport readers to the very heart of this unique and visually exciting country.","English",31.95,23.95,"952--dc23","32 pp.",{"$f":"Table1[[#This Row],['# Books]]*Table1[[#This Row],[QTY]]","v":0},{"$f":"Table1[[#This Row],[QTY]]*Table1[[#This Row],[S&L Price]]","v":0}]
[null,135,null,"The Land and the People",1,"Mexico","eBook",null,"978-1-4824-5102-3",2017,"August 2016",null,null,"Author","Cath Senker",null,null,null,null,"S",null,"Grade 5","Grade 5 - 6","It’s time to take a tour of the enthralling country called Mexico. Along the way, readers will see rainforests, deserts, mountains, beaches, and wildlife. To understand Mexico’s people, they’ll imagine walking through street fairs, tasting traditional foods, and meet Mexicans of different backgrounds. They’ll learn what daily life is like for Mexicans of all economic backgrounds and celebrate Mexican culture with mariachi music, sugar skulls, and colorful clothes. Enthusiastic and informative text coupled with interesting sidebars and photographs give readers a comprehensive understanding of this stunning nation and its remarkable people.","English",31.95,23.95,"972--dc23","32 pp.",{"$f":"Table1[[#This Row],['# Books]]*Table1[[#This Row],[QTY]]","v":0},{"$f":"Table1[[#This Row],[QTY]]*Table1[[#This Row],[S&L Price]]","v":0}]
[null,136,null,"Native Peoples of North America",1,"Native Peoples of California","eBook",null,"978-1-4824-4770-5",2017,"August 2016",null,null,"Author","Barbara M. Linde",null,null,null,null,"M",null,"Grade 2 - 3","Grade 2 - 5","When the Spanish began colonizing California in the late 1700s, there were more than 300,000 native peoples living there. By 1860, their population had been cut down to 30,000 by the European diseases they were unprepared to fight, poverty, and other hardships. In this book, readers learn about the traditional culture of the native peoples of California, including the time period before European and American settlement as well as its influence on these groups. Full-color photographs and historical images illustrate their lifestyles as the main content and fact boxes introduce specific groups and their unique customs.","English",25.25,18.95,"979.4004/97--dc23","32 pp.",{"$f":"Table1[[#This Row],['# Books]]*Table1[[#This Row],[QTY]]","v":0},{"$f":"Table1[[#This Row],[QTY]]*Table1[[#This Row],[S&L Price]]","v":0}]
[null,136,null,"Native Peoples of North America",1,"Native Peoples of the Northeast","Library Bound Book",null,"978-1-4824-4813-9",2017,"August 2016","Library","8.500 X 8.500","Author","Barbara M. Linde",null,null,null,null,"M",null,"Grade 2 - 3","Grade 2 - 5","A lot of what many people know about the native groups in the northeastern part of North America comes from colonial history. The Wampanoag met the Puritans as they made their home at Plymouth. The Powhatan group of the Algonquin people had a large role in the history of the Jamestown Settlement in Virginia. However, the history of the native groups living in modern New York, Massachusetts, Ohio, Pennsylvania, Maine, and northern Virginia began long before European settlement! Readers meet several individual groups of native peoples and explore the distinguishing features of northeastern life, society, and customs. Historical images and full-color photographs help illustrate the lifestyles of these groups.","English",25.25,18.95,"974.004/97--dc23","32 pp.",{"$f":"Table1[[#This Row],['# Books]]*Table1[[#This Row],[QTY]]","v":0},{"$f":"Table1[[#This Row],[QTY]]*Table1[[#This Row],[S&L Price]]","v":0}]
[null,136,null,"Native Peoples of North America",1,"Native Peoples of the Southeast","eBook",null,"978-1-4824-4959-4",2017,"August 2016",null,null,"Author","Barbara M. Linde",null,null,null,null,"M",null,"Grade 2 - 3","Grade 2 - 5","The American Southeast stretches from the Atlantic Ocean to the Gulf of Mexico, including the states of Georgia, Florida, Louisiana, and Alabama as well as parts of Virginia and Maryland. But before that region was divided into states, native groups lived there. From how they found food to what their spiritual beliefs were, the book’s main content presents the traditional lifestyles of the Seminole, Choctaw, and Creek peoples, and the other groups that lived in the southeast. Readers learn even more from fun fact boxes and the historical images and full-color photographs that show what native peoples’ lives were like, both before and after European colonization.","English",25.25,18.95,"975.004/97--dc23","32 pp.",{"$f":"Table1[[#This Row],['# Books]]*Table1[[#This Row],[QTY]]","v":0},{"$f":"Table1[[#This Row],[QTY]]*Table1[[#This Row],[S&L Price]]","v":0}]
[null,136,null,"Native Peoples of North America",1,"Native Peoples of the Southwest","Library Bound Book",null,"978-1-4824-4820-7",2017,"August 2016","Library","8.500 X 8.500","Author","Amy Hayes",null,null,null,null,"M",null,"Grade 2 - 3","Grade 2 - 5","The Apache, Navajo, and Pueblo peoples are often part of the social studies curriculum. However, they aren’t the only native groups that come from the American southwest! Readers are introduced to some of the largest groups of native peoples in the southwest while learning about the main ways native peoples lived, ate, and dressed in this region. Complemented by full-color photographs, historical images, and fun fact boxes, the main content includes the traditional culture of the groups who lived in parts of the states of Colorado, Utah, Nevada, New Mexico, Texas, and California, in addition to northern Mexico.","English",25.25,18.95,"979.004/97--dc23","32 pp.",{"$f":"Table1[[#This Row],['# Books]]*Table1[[#This Row],[QTY]]","v":0},{"$f":"Table1[[#This Row],[QTY]]*Table1[[#This Row],[S&L Price]]","v":0}]
[null,137,null,"Discovering Ancient Civilizations",1,"The Ancient Egyptians","Library Bound Book",null,"978-1-4824-5069-9",2017,"August 2016","Library","8.500 X 11.00","Author","David West",null,null,null,null,"N",null,"Grade 3","Grade 3 - 5","Fascination with ancient Egypt hasn’t diminished even though 2,000 years have passed since Cleopatra’s tragic concluding reign. The amazing and vibrant Egyptians were intelligent enough to build the pyramids, dedicated to their gods enough to mummify bodies, and skilled enough to leave behind the precious artifacts and artwork that tell us of their legacy. In this striking volume, readers are transported to ancient Egypt through accessible text and gorgeous artwork. Essential topics such as family life, religion, political structure, and economy—in combination with photographs of actual Egyptian artifacts—make this book a must-read for any young historian.","English",26.6,19.95,"932--dc23","32 pp.",{"$f":"Table1[[#This Row],['# Books]]*Table1[[#This Row],[QTY]]","v":0},{"$f":"Table1[[#This Row],[QTY]]*Table1[[#This Row],[S&L Price]]","v":0}]
[null,137,null,"Discovering Ancient Civilizations",1,"The Ancient Romans","eBook",null,"978-1-4824-5062-0",2017,"August 2016",null,null,"Author","David West",null,null,null,null,"N",null,"Grade 3","Grade 3 - 5","The ancient Romans are remembered as triumphant conquerors of much of Europe and Asia, but there’s a lot more to know about them. This entertaining and instructive volume abounds with interesting facts about the ancient Romans that will appeal to a wide range of readers. It includes information young history lovers need to know to understand this important civilization, not only historic events but also cultural characteristics including how they ate (laying down!) and how they had fun (cheering on chariot races!). Beautiful artwork on each page supports the text and offers an imaginative view of these amazing people.","English",26.6,19.95,"937--dc23","32 pp.",{"$f":"Table1[[#This Row],['# Books]]*Table1[[#This Row],[QTY]]","v":0},{"$f":"Table1[[#This Row],[QTY]]*Table1[[#This Row],[S&L Price]]","v":0}]
[null,137,null,"Discovering Ancient Civilizations",1,"The Vikings","eBook",null,"978-1-4824-5050-7",2017,"August 2016",null,null,"Author","David West",null,null,null,null,"N",null,"Grade 3","Grade 3 - 5","The Vikings had a fierce reputation as warriors and raiders. Yet, they were a trading and farming people as well. This well-researched book lets readers visit the Viking world where they’ll glimpse life in a Viking town as well as on a longship, find out about their festivals and feasts, learn about their religion and mythology, and even attend a funeral! A map of the Viking world, from America to the Mediterranean, and stunning artwork and photographs encourage an immersive and instructive experience about the age of the Vikings.","English",26.6,19.95,"948’.022--dc23","32 pp.",{"$f":"Table1[[#This Row],['# Books]]*Table1[[#This Row],[QTY]]","v":0},{"$f":"Table1[[#This Row],[QTY]]*Table1[[#This Row],[S&L Price]]","v":0}]
[null,138,null,"History's Mysteries",6,"History's Mysteries","Library Set",null,"978-1-4824-1648-0",2015,"January 2015","Library","6.500 X 9.125",null,"",null,null,null,null,null,null,"Grade 3","Grade 3 - 5","People young and old never tire of musing about the unexplainable. Unsolved mysteries such as the frequent sightings of Bigfoot or the disappearance of the Roanoke Colony still mesmerize the public. This enthralling series introduces some of the most gripping questions that surface and resurface throughout history, including the possible existence of Atlantis and the unnerving prophecies of Nostradamus. These thought-provoking books present a balanced view of each topic, allowing readers to decide for themselves what they believe after reviewing the facts. Sidebars and fact boxes add further interest and information to already captivating subjects.    • Motivating and entertaining texts include graphic organizers that emphasize key elements of each topic  • Readers are encouraged to weigh evidence critically and construct a point of view, both valuable Common Core literacy skills  • High-interest topics appeal to reluctant readers    ","English",159.6,119.7,null,"32 pp.",{"$f":"Table1[[#This Row],['# Books]]*Table1[[#This Row],[QTY]]","v":0},{"$f":"Table1[[#This Row],[QTY]]*Table1[[#This Row],[S&L Price]]","v":0}]
[null,138,null,"History's Mysteries",1,"Roanoke: The Lost Colony","Library Bound Book",null,"978-1-4824-2099-9",2015,"January 2015","Library","6.500 X 9.125","Author","Janey Levy",null,null,44,null,"T",null,"Grade 4 - 5","Grade 4 - 6","Once John White stepped onto Roanoke Island in 1590, he discovered the English colony he had helped found 3 years earlier completely abandoned. Only two clues hinted at what might have happened. \"CRO\" was carved into a tree, and \"CROATOAN\" was etched into a post. Many explanations of the colony's fate have since been proposed. Young historians will be engrossed by the full account of the settlement of the Roanoke colony as well as the theories of what happened to the settlers. They'll learn much about the colonial period, Native Americans, and one of the great mysteries of American history.","English",26.6,19.95,"975.6","32 pp.",{"$f":"Table1[[#This Row],['# Books]]*Table1[[#This Row],[QTY]]","v":0},{"$f":"Table1[[#This Row],[QTY]]*Table1[[#This Row],[S&L Price]]","v":0}]
[null,138,null,"History's Mysteries",1,"The Prophecies of Nostradamus","eBook",null,"978-1-4824-2092-0",2015,"January 2015",null,null,"Author","Ryan Nagelhout",null,null,44,null,"U",null,"Grade 4 - 5","Grade 4 - 6","The prophecies of sixteenth-century French astrologer Nostradamus still resonate in our world. Many of his predictions have seemed to correlate with major world events. There are more predictions that may yet come to pass. However, there's much controversy surrounding Nostradamus's complicated writings. His use of anagrams and multiple languages make some doubt whether today's translations are even accurate. Believers and nonbelievers both will be fascinated at this look at the mysterious man's life in plague-infested France as well as his most famous predictions. Readers will be able to decide for themselves whether they believe in the mystical powers of Nostradamus.","English",26.6,19.95,"133.3092","32 pp.",{"$f":"Table1[[#This Row],['# Books]]*Table1[[#This Row],[QTY]]","v":0},{"$f":"Table1[[#This Row],[QTY]]*Table1[[#This Row],[S&L Price]]","v":0}]
[null,138,null,"Incredible True Adventures",1,"Breaking the Sound Barrier","eBook",null,"978-1-4824-2032-6",2015,"January 2015",null,null,"Author","Heather Moore Niver",5.3,0.5,40,null,"Q",null,"Grade 3 - 4","Grade 3 - 6","For a long time, aviation experts and pilots thought aircraft couldn’t fly faster than the speed of sound. They believed there was a point where the plane and pilot would just explode! They called it the sound barrier. In 1947, Chuck Yeager proved that to be untrue, and in 2012, a skydiver broke the sound barrier without a plane to fly in! From the challenges of airplane technology to daredevil parachutists, the story of breaking the sound barrier is one that will have readers on the edge of their seat. Full-color images and detailed sidebars take history to new heights.    ","English",26.6,19.95,"629.132","32 pp.",{"$f":"Table1[[#This Row],['# Books]]*Table1[[#This Row],[QTY]]","v":0},{"$f":"Table1[[#This Row],[QTY]]*Table1[[#This Row],[S&L Price]]","v":0}]
[null,138,null,"Incredible True Adventures",1,"Reaching Everest's Summit","Library Bound Book",null,"978-1-4824-2047-0",2015,"January 2015","Library","8.000 X 10.00","Author","Emily Jankowski",6,0.5,38,null,"P",null,"Grade 3 - 4","Grade 3 - 6","Before 1953, no one had ever reached the top of Mount Everest. The highest mountain in the world, Everest was finally conquered by Sir Edmund Hillary and Tenzing Norgay on a May morning. Many people were inspired by their accomplishment and thousands have attempted to replicate the success of their ascent. Readers learn how Hillary and Tenzing climbed this huge peak and how their feat affected future climbers. Sidebars provide information about the dangers of climbing Mount Everest as well as the history of tragedy on the mountain. Full-color photographs of the majestic mountain and their historic climb keep readers engaged throughout this volume.","English",26.6,19.95,"796.522095496","32 pp.",{"$f":"Table1[[#This Row],['# Books]]*Table1[[#This Row],[QTY]]","v":0},{"$f":"Table1[[#This Row],[QTY]]*Table1[[#This Row],[S&L Price]]","v":0}]
[null,138,null,"Incredible True Adventures",1,"The First Moon Walk","eBook",null,"978-1-4824-2040-1",2015,"January 2015",null,null,"Author","Ryan Nagelhout",5.7,0.5,40,null,"Q",null,"Grade 3 - 4","Grade 3 - 6","One of the most historic moments in human history happened in July 1969—the first person walked on the moon! But Neil Armstrong’s steps were only the end result of years of hard work, by both Armstrong and the whole US space program. From the beginning of the space race to the creation of the Apollo program, readers rocket through the events preceding the first moon walk and the uncertainty surrounding its completion. Diagrams of the spacecraft and full-color photographs of the moon landing aid readers’ understanding as detailed text offers interesting facts and historical context.","English",26.6,19.95,"629.45","32 pp.",{"$f":"Table1[[#This Row],['# Books]]*Table1[[#This Row],[QTY]]","v":0},{"$f":"Table1[[#This Row],[QTY]]*Table1[[#This Row],[S&L Price]]","v":0}]
[null,139,null,"Doomed!",6,"Doomed!","Library Set",null,"978-1-4824-2553-6",2016,"August 2015","Library","6.500 X 9.125",null,"",null,null,null,null,null,null,"Grade 4 - 5","Grade 4 - 6","Some historic tragedies, accidents, and disasters seem to have been doomed from the start. The people and events involved in such calamities as the sinking of the Titanic, the volcanic demise of Pompeii, and the horrific journey of the Donner party were on a collision course with their fate. The enthralling accounts in this chilling series include beneficial information about the time period of each event, captivating photographs and illustrations, and motivating and entertaining text about some of the most famous disasters in world history.  \n\n\n\n\n\n• \tUse of primary sources supports the Literacy in History standards of the Common Core\n\n\n• \tGraphic organizers, sidebars, and fact boxes augment and reinforce key ideas\n\n\n• \tHistorical photographs and paintings aid in understanding of time periods and issues\n","English",159.6,119.7,null,"32 pp.",{"$f":"Table1[[#This Row],['# Books]]*Table1[[#This Row],[QTY]]","v":0},{"$f":"Table1[[#This Row],[QTY]]*Table1[[#This Row],[S&L Price]]","v":0}]
[null,139,null,"Doomed!",1,"The Donner Party","eBook",null,"978-1-4824-2931-2",2016,"August 2015",null,null,"Author","Kristen Rajczak Nelson",6,1,44,null,"T",null,"Grade 4 - 5","Grade 4 - 6","In 1846, travelers heading for California became trapped high in the mountains of the Sierra Nevada. Snowdrifts surrounded their shelters, and food supplies dwindled. How they stayed alive remains one of the most gruesome stories in US history. However, some facts that have come to light recently through archaeological digs will surprise even those who think they know the story. This gripping book, including maps and images of the era, tells the true account of the doomed Donner party.","English",26.6,19.95,"978","32 pp.",{"$f":"Table1[[#This Row],['# Books]]*Table1[[#This Row],[QTY]]","v":0},{"$f":"Table1[[#This Row],[QTY]]*Table1[[#This Row],[S&L Price]]","v":0}]
[null,139,null,"Doomed!",1,"The Great Fire of London","Library Bound Book",null,"978-1-4824-2934-3",2016,"August 2015","Library","6.500 X 9.125","Author","Sarah Machajewski",5.8,1,40,null,"S",null,"Grade 4 - 5","Grade 4 - 6","In September 1666, a small fire broke out at the king's bakery in London, England, in the early morning. Several fateful factors worked together to turn this small blaze into a catastrophic conflagration that changed the city forever. This riveting account of a city set ablaze is supported by primary sources such as maps, diaries, and royal proclamations. Readers will be fascinated by old-fashioned firefighting techniques and people's reactions as the fire spread and burned for days. Images of London on fire will ignite their imaginations and further enable them to understand this era and setting in European history.","English",26.6,19.95,"942.1","32 pp.",{"$f":"Table1[[#This Row],['# Books]]*Table1[[#This Row],[QTY]]","v":0},{"$f":"Table1[[#This Row],[QTY]]*Table1[[#This Row],[S&L Price]]","v":0}]
[null,139,null,"Doomed!",1,"The Sinking of the Titanic","eBook",null,"978-1-4824-2947-3",2016,"August 2015",null,null,"Author","Therese M. Shea",6,1,40,null,"S",null,"Grade 4 - 5","Grade 4 - 6","The unsinkable luxury liner known as the Titanic may have sunk on its first transatlantic voyage in 1912, but people remain riveted to its storied legend. The collision with the iceberg in the North Atlantic was not the only mistake that was made that day. In this spellbinding volume, readers will learn about the passengers and crew aboard the doomed ship and what really happened that tragic night. Historical photographs will transport them back to the glamorous era, while the narrative paints an absorbing picture of the Titanic's sad fate.","English",26.6,19.95,"910.9163","32 pp.",{"$f":"Table1[[#This Row],['# Books]]*Table1[[#This Row],[QTY]]","v":0},{"$f":"Table1[[#This Row],[QTY]]*Table1[[#This Row],[S&L Price]]","v":0}]
[null,139,null,"Encounters with the Past",1,"Meet the Ancient Romans","eBook",null,"978-1-4824-0888-1",2015,"August 2014",null,null,"Author","Alex Woolf",null,null,40,null,"R",null,"Grade 3 - 4","Grade 3 - 6","Rome in the year 83 AD is the setting of this fun book, a blend of fiction and history. Readers explore the bustling city, including important Roman landmarks such as the Forum and the Colosseum. They interview a senator, a soldier, a gladiator, a slave, and an engineer among others and learn about many intriguing aspects of their lives. Roman medicines such as boiled liver and foods such as giant snails are just some of the interesting details discussed about this ancient culture.","English",26.6,19.95,"937","32 pp.",{"$f":"Table1[[#This Row],['# Books]]*Table1[[#This Row],[QTY]]","v":0},{"$f":"Table1[[#This Row],[QTY]]*Table1[[#This Row],[S&L Price]]","v":0}]
[null,139,null,"Encounters with the Past",1,"Meet the Tudors","Library Bound Book",null,"978-1-4824-0897-3",2015,"August 2014","Library","8.500 X 11.00","Author","Alex Woolf",null,null,40,null,"R",null,"Grade 3 - 4","Grade 3 - 6","The year is 1585 in Tudor England and someone has stolen the duchess's necklace. It's up to the reader of this inventive book to find it and unmask the thief. Readers will play the role of detective while interrogating various people living and working in a nobleman's house. A kitchen maid, archer, musician, actor, and soldier all provide clues as well as absorbing information about what life was like back then. Illustrations and photographs also aid in a visual understanding of this time in history.","English",26.6,19.95,"942.05","32 pp.",{"$f":"Table1[[#This Row],['# Books]]*Table1[[#This Row],[QTY]]","v":0},{"$f":"Table1[[#This Row],[QTY]]*Table1[[#This Row],[S&L Price]]","v":0}]
[null,139,null,"Encounters with the Past",1,"Meet the Tudors","eBook",null,"978-1-4824-0905-5",2015,"August 2014",null,null,"Author","Alex Woolf",null,null,40,null,"R",null,"Grade 3 - 4","Grade 3 - 6","The year is 1585 in Tudor England and someone has stolen the duchess's necklace. It's up to the reader of this inventive book to find it and unmask the thief. Readers will play the role of detective while interrogating various people living and working in a nobleman's house. A kitchen maid, archer, musician, actor, and soldier all provide clues as well as absorbing information about what life was like back then. Illustrations and photographs also aid in a visual understanding of this time in history.","English",26.6,19.95,"942.05","32 pp.",{"$f":"Table1[[#This Row],['# Books]]*Table1[[#This Row],[QTY]]","v":0},{"$f":"Table1[[#This Row],[QTY]]*Table1[[#This Row],[S&L Price]]","v":0}]
[null,140,null,"Awfully Ancient",1,"Loos, Poos, and Number Twos: A Disgusting Journey Through the Bowels of History!","Library Bound Book",null,"978-1-4824-3118-6",2016,"August 2015","Library","8.500 X 11.00","Author","Peter Hepplewhite",6.4,1,null,null,"U","1030L","Grade 5","Grade 4 - 8","Nothing could be more interesting to young readers than the history of the toilet! From the sewage system of ancient Athens to the muckrakers of the Middle Ages, there’s plenty to learn about history from discovering the “how” and “where” of the loos of many important civilizations. Unique information reframes common social studies topics and time periods including ancient China, Victorian times, and more. Amusing illustrations and a full-color layout enhance the main content as readers traverse the dirty details.","English",26.6,19.95,"392.3","32 pp.",{"$f":"Table1[[#This Row],['# Books]]*Table1[[#This Row],[QTY]]","v":0},{"$f":"Table1[[#This Row],[QTY]]*Table1[[#This Row],[S&L Price]]","v":0}]
[null,140,null,"Awfully Ancient",1,"Mangy Mummies, Menacing Pharaohs, and the Awful Afterlife: A Moth-Eaten History of the Extraordinary Egyptians!","eBook",null,"978-1-4824-3127-8",2016,"August 2015",null,null,"Author","Kay Barnham",5.7,1,null,null,"U","910L","Grade 5","Grade 4 - 8","From feast days of gods and goddesses to victory celebrations, the ancient Egyptians looked for any excuse to throw a party. However, the largest social group included slaves, laborers, and peasants who worked really hard and likely didn’t get to enjoy these occasions as much as the pharaoh or his family. Fun facts about how mummies were created, the ins and outs of the Egyptians gods and goddesses, and more engage readers in an important historical period. A colorful layout, complete with comical illustrations, complements the main content’s lighthearted tone and entertaining take on ancient Egypt.  \n\n\n\n","English",26.6,19.95,"932","32 pp.",{"$f":"Table1[[#This Row],['# Books]]*Table1[[#This Row],[QTY]]","v":0},{"$f":"Table1[[#This Row],[QTY]]*Table1[[#This Row],[S&L Price]]","v":0}]
[null,140,null,"Digging Up the Dead",6,"Digging Up the Dead","Library Set",null,"978-1-4824-1174-4",2015,"August 2014","Library","6.500 X 9.000",null,"",null,null,null,null,null,null,"Grade 4 - 5","Grade 4 - 6","Death is a fact of life that many find hard to deal with. For centuries, people have struggled to understand death and to find ways of coping with the loss and sorrow it brings. Some age-old religious ceremonies may seem natural to some, but bizarre to others. Myths and superstitions have resulted in some of the strangest, cruelest death rituals. These books explore death and death rituals throughout human history—from the mummies of ancient Egypt to modern executions. Historic illustrations and modern photographs are sure to enthrall readers of all ages.   • Graphic organizers and charts help readers recall important information  • Amazing photographs from around the world aid reader comprehension  • At-level social studies themes with challenging but manageable language","English",159.6,119.7,null,"32 pp.",{"$f":"Table1[[#This Row],['# Books]]*Table1[[#This Row],[QTY]]","v":0},{"$f":"Table1[[#This Row],[QTY]]*Table1[[#This Row],[S&L Price]]","v":0}]
[null,140,null,"Digging Up the Dead",1,"Crypts and Tombs","Library Bound Book",null,"978-1-4824-1483-7",2015,"August 2014","Library","6.500 X 9.000","Author","Therese M. Shea",6.4,1,null,null,"T",null,"Grade 4 - 5","Grade 4 - 6","Crypts, tombs, and mausoleums aren’t just the creepy props of a horror movie; they’re the final resting places of the dead. Many are also beautifully designed monuments. This intriguing examination of some of the world’s most prominent tombs includes the elaborate Taj Mahal, the mysterious Newgrange, the mammoth Great Pyramid, and the star-studded Westminster Abbey. Modern tombs and burial customs are also discussed in this thoughtful text, accompanied by vivid, striking photographs. Sidebars and fact boxes offer more—sometimes chilling—details about various tombs and burial rites.","English",26.6,19.95,"393","32 pp.",{"$f":"Table1[[#This Row],['# Books]]*Table1[[#This Row],[QTY]]","v":0},{"$f":"Table1[[#This Row],[QTY]]*Table1[[#This Row],[S&L Price]]","v":0}]
[null,140,null,"Digging Up the Dead",1,"Executions and Sacrifices","eBook",null,"978-1-4824-1398-4",2015,"August 2014",null,null,"Author","Heather Moore Niver",6.3,1,null,null,"U",null,"Grade 4 - 5","Grade 4 - 6","From the walls of the Shaanxi Province in China to the murky red waters of Ireland’s peat bogs, scientists and archaeologists have found spine-chilling evidence of scary sacrifices and rituals. Throughout history, cultures have found some very creative ways of torturing their enemies and pleasing the powers that be. But some of these ghastly practices happened far more recently than we would like to think! This riveting volume offers age-appropriate insight into some of history’s mysterious and gruesome practices. Scintillating sidebars and “Grave Matters” fact boxes highlight details about surprising sacrifices and eye-opening executions.","English",26.6,19.95,"306.4","48 pp.",{"$f":"Table1[[#This Row],['# Books]]*Table1[[#This Row],[QTY]]","v":0},{"$f":"Table1[[#This Row],[QTY]]*Table1[[#This Row],[S&L Price]]","v":0}]
[null,140,null,"Digging Up the Dead",1,"Preserving the Dead","Library Bound Book",null,"978-1-4824-1488-2",2015,"August 2014","Library","6.500 X 9.000","Author","Ryan Nagelhout",null,null,null,null,"T",null,"Grade 4 - 5","Grade 4 - 6","With the help of some chemicals and a bit of hard work, bodies can have a long life well after a person’s death. Early embalming efforts in ancient Egypt were meant to preserve bodies for the afterlife. Today, we preserve bodies in a variety of ways to honor our loved ones after they’re gone. With great facts and figures, readers will get an inside look at the funeral homes and other places where we preserve our dead. From organs in jars to modern embalming, this series offers full-color photographs and lots of information about the various processes that have helped preserve the dead for centuries.","English",26.6,19.95,"393","48 pp.",{"$f":"Table1[[#This Row],['# Books]]*Table1[[#This Row],[QTY]]","v":0},{"$f":"Table1[[#This Row],[QTY]]*Table1[[#This Row],[S&L Price]]","v":0}]
[null,141,null,"Frontline Families",1,"The American Revolution: Frontline Soldiers and Their Families","Library Bound Book",null,"978-1-4824-3054-7",2016,"August 2015","Library","7.250 X 9.250","Author","Sara Howell",null,null,44,null,"T",null,"Grade 5 - 6","Grade 5 - 8","Without the American Revolution, there would be no United States. The impact of the war is undeniable. And yet studies of this conflict, essential in every elementary school, are often cursory. This valuable volume delivers a more complete look of the war, including the real experiences of soldiers on the frontlines as well as their families at home. Readers will be particularly interested in the experiences of young people during the war. Founding Fathers and ordinary colonists both feature in this well-designed book, filled with important dates, facts, maps, and primary sources.","English",31.95,23.95,"973.3","48 pp.",{"$f":"Table1[[#This Row],['# Books]]*Table1[[#This Row],[QTY]]","v":0},{"$f":"Table1[[#This Row],[QTY]]*Table1[[#This Row],[S&L Price]]","v":0}]
[null,141,null,"Frontline Families",1,"The Civil War: Frontline Soldiers and Their Families","eBook",null,"978-1-4824-3059-2",2016,"August 2015",null,null,"Author","Sara Howell",null,null,44,null,"V",null,"Grade 5 - 6","Grade 5 - 8","The American Civil War began in 1861 when a group of Southern states voted to secede. At that point, no one knew what a heavy toll the ensuing war would have on both sides of the conflict. Not only did more than 850,000 die, but millions more would suffer in other ways. Families of soldiers were left behind, just hoping to see their loved ones again. This indispensable book provides important facts about the war as well as critical information about its impact on family life. Abundant primary sources and a timeline enhance the volume's text, photographs, and beautiful design.","English",31.95,23.95,"973.7","48 pp.",{"$f":"Table1[[#This Row],['# Books]]*Table1[[#This Row],[QTY]]","v":0},{"$f":"Table1[[#This Row],[QTY]]*Table1[[#This Row],[S&L Price]]","v":0}]
[null,141,null,"Frontline Families",1,"World War I: Frontline Soldiers and Their Families","eBook",null,"978-1-4824-3067-7",2016,"August 2015",null,null,"Author","Nick Hunter",null,null,44,null,"U",null,"Grade 5 - 6","Grade 5 - 8","In the summer of 1914, life changed dramatically for millions of people. Europe was plunged into a devastating war that persisted for more than 4 years. This conflict, called the Great War or World War I, didn't just change the lives of the millions of soldiers who fought in it. It also had a big impact on families and children far from the frontline. Loved ones were often separated for long, difficult periods of time. This powerful volume explains the toll of the war through perceptive text, historical photographs, and insightful primary sources.","English",31.95,23.95,"940.3","48 pp.",{"$f":"Table1[[#This Row],['# Books]]*Table1[[#This Row],[QTY]]","v":0},{"$f":"Table1[[#This Row],[QTY]]*Table1[[#This Row],[S&L Price]]","v":0}]
[null,141,null,"History's Fearless Fighters",1,"Conquistadors","eBook",null,"978-1-4824-3163-6",2016,"August 2015",null,null,"Author","Rupert Matthews",null,null,null,null,"U",null,"Grade 5 - 6","Grade 5 - 8","The native people of the Americas never had a chance against European soldiers. The troops of the conquistadors had guns and armor, not to mention new diseases! As readers are drawn through the bloody history of early settlement in the New World, they’ll learn about the conquistadors’ wish for gold and to convert the native peoples to Christianity. Chapters focusing on major conquistadors—including de Coronado, Pizarro, Cortes, and more—incorporate major topics from the social studies curriculum. Full-color maps show the European domination of the Americas and enhance the main content’s detailed account of what they found there.","English",31.95,23.95,"970.01","48 pp.",{"$f":"Table1[[#This Row],['# Books]]*Table1[[#This Row],[QTY]]","v":0},{"$f":"Table1[[#This Row],[QTY]]*Table1[[#This Row],[S&L Price]]","v":0}]
[null,141,null,"History's Fearless Fighters",1,"Ninjas","Library Bound Book",null,"978-1-4824-3174-2",2016,"August 2015","Library","7.250 X 9.250","Author","Rupert Matthews",null,null,null,null,"U",null,"Grade 5 - 6","Grade 5 - 8","Today, many people use the word “ninja” to describe being particularly good or stealthy about something. But ninjas were real Japanese fighters! Most active from about 1450 to just after 1600, ninjas were highly trained, silent killers. Readers learn to parse the truth from the legends about ninjas through detailed historical content, including the 18 skills ninjas of the 1700s were taught. A colorful layout and up-close photographs of ninja weapons enhance the high-interest topic and emphasize the amazing truths of these fearless fighters throughout history.","English",31.95,23.95,"355.5","48 pp.",{"$f":"Table1[[#This Row],['# Books]]*Table1[[#This Row],[QTY]]","v":0},{"$f":"Table1[[#This Row],[QTY]]*Table1[[#This Row],[S&L Price]]","v":0}]
[null,141,null,"History's Fearless Fighters",1,"Ninjas","eBook",null,"978-1-4824-3175-9",2016,"August 2015",null,null,"Author","Rupert Matthews",null,null,null,null,"U",null,"Grade 5 - 6","Grade 5 - 8","Today, many people use the word “ninja” to describe being particularly good or stealthy about something. But ninjas were real Japanese fighters! Most active from about 1450 to just after 1600, ninjas were highly trained, silent killers. Readers learn to parse the truth from the legends about ninjas through detailed historical content, including the 18 skills ninjas of the 1700s were taught. A colorful layout and up-close photographs of ninja weapons enhance the high-interest topic and emphasize the amazing truths of these fearless fighters throughout history.","English",31.95,23.95,"355.5","48 pp.",{"$f":"Table1[[#This Row],['# Books]]*Table1[[#This Row],[QTY]]","v":0},{"$f":"Table1[[#This Row],[QTY]]*Table1[[#This Row],[S&L Price]]","v":0}]
[null,142,null,"History's Greatest Rivals",12,"History's Greatest Rivals","Library Set",null,"978-1-4824-4306-6",2016,"January 2016","Library","7.250 X 9.250",null,"",null,null,null,null,null,null,"Grade 6 - 8","Grade 6 - 8","Significant events in history often breed divisions between individuals and groups. This extraordinary collection highlights legendary adversaries during some of the most fascinating periods of history. Each volume seamlessly interweaves biography and history and thoughtfully emphasizes how the rivalries impacted both. “Flashpoints” break down overarching topics into significant events. Such famous pairs as Elizabeth I of England and Mary, Queen of Scots, Alexander Hamilton and Aaron Burr, Abraham Lincoln and Jefferson Davis, and John F. Kennedy and Nikita Khrushchev present the young historian an engaging and informative appreciation of historical time periods.\n\n•Carefully designed volumes allow readers to visually distinguish opposing viewpoints\n\n•Quotations, timelines, and photographs and paintings enhance readers’ understanding of people and events \n\n•Recognizing relationships and interactions between individuals and events is an informational text skill of the Common Core","English",383.4,287.39999999999998,null,"48 pp.",{"$f":"Table1[[#This Row],['# Books]]*Table1[[#This Row],[QTY]]","v":0},{"$f":"Table1[[#This Row],[QTY]]*Table1[[#This Row],[S&L Price]]","v":0}]
[null,142,null,"History's Greatest Rivals",1,"Alexander Hamilton vs. Aaron Burr: Duel to the Death","Library Bound Book",null,"978-1-4824-2213-9",2015,"January 2015","Library","7.250 X 9.250","Author","Ellis Roxburgh",null,null,44,null,"U",null,"Grade 6 - 8","Grade 6 - 8","Alexander Hamilton and Aaron Burr came from differing backgrounds, but rose to great stature in the years following the American Revolution. As Secretary to the Treasury, Hamilton tackled the fragile finances of the new nation. Burr became the third US vice president in 1800. Readers may wonder how two such prominent men wound up in a duel that ultimately took Hamilton's life and ended Burr's political career. This is the engrossing account of the incidents that led to that fateful morning in 1804. Background information of the era, a timeline, quotes, and historical paintings enhance readers' understanding of the post-revolutionary country.","English",31.95,23.95,"973.4","48 pp.",{"$f":"Table1[[#This Row],['# Books]]*Table1[[#This Row],[QTY]]","v":0},{"$f":"Table1[[#This Row],[QTY]]*Table1[[#This Row],[S&L Price]]","v":0}]
[null,142,null,"History's Greatest Rivals",1,"Elizabeth I of England vs. Mary, Queen of Scots: Battle for the Throne","Library Bound Book",null,"978-1-4824-4229-8",2016,"January 2016","Library","7.250 X 9.250","Author","Ellis Roxburgh",null,null,null,null,"U",null,"Grade 6 - 8","Grade 6 - 8","British monarch Elizabeth I’s long reign is remembered as a period of stability for England. Yet, her relationship with her cousin, Mary, Queen of Scots, was contentious at best, leading to a fatal ending for one of the monarchs. This intrigue-filled volume transports readers into the throne rooms of Europe during the 16th century, where they’ll learn of shifting lines of succession, clashes between religions, and assassination plots. Actual quotes from the rulers themselves as well as stunning portraits and paintings mark the pages of this well-designed book, and a timeline summarizes the essential events of this historical rivalry.","English",31.95,23.95,"941.05'50922—dc23","48 pp.",{"$f":"Table1[[#This Row],['# Books]]*Table1[[#This Row],[QTY]]","v":0},{"$f":"Table1[[#This Row],[QTY]]*Table1[[#This Row],[S&L Price]]","v":0}]
[null,142,null,"History's Greatest Rivals",1,"Elizabeth I of England vs. Mary, Queen of Scots: Battle for the Throne","eBook",null,"978-1-4824-4230-4",2016,"January 2016",null,null,"Author","Ellis Roxburgh",null,null,null,null,"U",null,"Grade 6 - 8","Grade 6 - 8","British monarch Elizabeth I’s long reign is remembered as a period of stability for England. Yet, her relationship with her cousin, Mary, Queen of Scots, was contentious at best, leading to a fatal ending for one of the monarchs. This intrigue-filled volume transports readers into the throne rooms of Europe during the 16th century, where they’ll learn of shifting lines of succession, clashes between religions, and assassination plots. Actual quotes from the rulers themselves as well as stunning portraits and paintings mark the pages of this well-designed book, and a timeline summarizes the essential events of this historical rivalry.","English",31.95,23.95,"941.05'50922—dc23","48 pp.",{"$f":"Table1[[#This Row],['# Books]]*Table1[[#This Row],[QTY]]","v":0},{"$f":"Table1[[#This Row],[QTY]]*Table1[[#This Row],[S&L Price]]","v":0}]
[null,142,null,"History's Greatest Rivals",1,"Sitting Bull vs. George Armstrong Custer: The Battle of the Little Bighorn","Library Bound Book",null,"978-1-4824-4237-3",2016,"January 2016","Library","7.250 X 9.250","Author","Ellis Roxburgh",null,null,null,null,"U",null,"Grade 6 - 8","Grade 6 - 8","The outcome of the Battle of the Little Bighorn of 1876 stunned Americans. They were astounded that Native Americans could have defeated a US army force so decidedly. Only after examining the charismatic leaders in this conflict—Sioux chief Sitting Bull and Lieutenant Colonel George Armstrong Custer—can young historians understand how such a brutal battle took place. In this indispensable volume, filled with quotes, photographs, and paintings, many crucial events between Native Americans and the US government are scrutinized as well as the decisions made by the influential leaders that led to their ultimate demise.","English",31.95,23.95,"973.8'2—dc23","48 pp.",{"$f":"Table1[[#This Row],['# Books]]*Table1[[#This Row],[QTY]]","v":0},{"$f":"Table1[[#This Row],[QTY]]*Table1[[#This Row],[S&L Price]]","v":0}]
[null,142,null,"History's Greatest Rivals",1,"Thomas Jefferson vs. John Adams: Founding Fathers and Political Rivals","eBook",null,"978-1-4824-4242-7",2016,"January 2016",null,null,"Author","Ellis Roxburgh",null,null,null,null,"U",null,"Grade 6 - 8","Grade 6 - 8","It may be surprising to even history buffs that Founding Fathers Thomas Jefferson and John Adams were at odds for years after the American Revolution. Each held tightly to their opposing views of how the new nation should be governed. This absorbing text not only reviews many important benchmarks of American history—such as the writing of the US Constitution and the establishment of political parties—it also provides well-rounded analyses of these two powerful men, their relationship, and their eventual reconciliation. Their prolific writings provide many significant quotations throughout this valuable and insightful volume.","English",31.95,23.95,"973.4'6092—dc23","48 pp.",{"$f":"Table1[[#This Row],['# Books]]*Table1[[#This Row],[QTY]]","v":0},{"$f":"Table1[[#This Row],[QTY]]*Table1[[#This Row],[S&L Price]]","v":0}]
[null,143,null,"Why War Happened",1,"What Caused the Afghanistan War?","eBook",null,"978-1-4824-5173-3",2017,"August 2016",null,null,"Author","Sarah Levete",null,null,null,null,"V",null,"Grade 6 - 8","Grade 6 - 8","While witnessing the continuous coverage of violence in Afghanistan, it can be difficult to remember the events that led to the ongoing conflict. However, in order to understand the struggles of today, informed people need to comprehend the events of years past. This invaluable volume, while not simplifying the Afghanistan War, provides a thoughtful and sensitive account of key events, groups, and people involved in the war, including the country’s colonial history, Al Qaeda, and Osama bin Laden. More significant information is presented in sidebars throughout the text, while photographs provide visual support for this most timely and important subject.","English",31.95,23.95,"958.104’7--dc23","48 pp.",{"$f":"Table1[[#This Row],['# Books]]*Table1[[#This Row],[QTY]]","v":0},{"$f":"Table1[[#This Row],[QTY]]*Table1[[#This Row],[S&L Price]]","v":0}]
[null,143,null,"Why War Happened",1,"What Caused the American Revolution?","Library Bound Book",null,"978-1-4824-5179-5",2017,"August 2016","Library","7.250 X 9.250","Author","Sara Howell",null,null,null,null,"V",null,"Grade 6 - 8","Grade 6 - 8","Some accounts of the American Revolution are oversimplified, painting the Founding Fathers as freedom fighters at odds with the unjust British Empire. However, the causes of the war were many and began years before the first shot rang out in 1775. This book, a must for any social studies collection, presents a comprehensive look at the events before, during, and after the War for Independence. From the founding of the colonies to the ratification of the US Constitution, readers examine the most significant moments of early American history. They’ll also consider the effects the revolution had on other struggling nations.","English",31.95,23.95,"973.3--dc23","48 pp.",{"$f":"Table1[[#This Row],['# Books]]*Table1[[#This Row],[QTY]]","v":0},{"$f":"Table1[[#This Row],[QTY]]*Table1[[#This Row],[S&L Price]]","v":0}]
[null,143,null,"Why War Happened",1,"What Caused World War I?","Library Bound Book",null,"978-1-4824-5182-5",2017,"August 2016","Library","7.250 X 9.250","Author","Robyn Hardyman",null,null,null,null,"V",null,"Grade 6 - 8","Grade 6 - 8","For a truly worldwide war to erupt, many conflicts and interests are at work. That’s exactly what happened in the years leading up to World War I, also called the Great War. Conflicts between empires, alliances among nations, fights over boundaries and colonies, and the 1914 assassination of the archduke Franz Ferdinand were among the myriad of causes for this widespread war. This volume, which includes remarkable photographs from the time period, gives a thorough overview of the war and its aftermath, which would pave the way for another terrible world war just two decades later.","English",31.95,23.95,"940.3--dc23","32 pp.",{"$f":"Table1[[#This Row],['# Books]]*Table1[[#This Row],[QTY]]","v":0},{"$f":"Table1[[#This Row],[QTY]]*Table1[[#This Row],[S&L Price]]","v":0}]
[null,144,null,"Let's Talk Sports!",1,"Talk Like a Baseball Player","Library Bound Book",null,"978-1-4824-5692-9",2017,"January 2017","Library","8.500 X 8.500","Author","Ryan Nagelhout",4.7,0.5,null,null,"N",null,"Grade 2 - 3","Grade 2 - 5","Baseball is a great sport full of weird words. Trying to play a game with friends might be hard if you don’t know what anyone is saying! Readers will get a look in the dugout, and even learn why they call it a dugout in the first place. With color photos and other graphics explaining different terms and concepts like a double switch or ground rules, readers are sure to learn everything they need to talk—and play—like a pro.","English",25.25,18.95,"796.357--dc23","32 pp.",{"$f":"Table1[[#This Row],['# Books]]*Table1[[#This Row],[QTY]]","v":0},{"$f":"Table1[[#This Row],[QTY]]*Table1[[#This Row],[S&L Price]]","v":0}]
[null,144,null,"Let's Talk Sports!",1,"Talk Like a Football Player","eBook",null,"978-1-4824-5703-2",2017,"January 2017",null,null,"Author","Ryan Nagelhout",4.5999999999999996,0.5,null,null,"N",null,"Grade 2 - 3","Grade 2 - 5","The game of football has lots of odd language hidden in its history. Why is a field called a “gridiron?” Why are players called “quarterback” and “fullback?” Getting in the game can be intimidating if you don’t know the lingo, which is why this book is full of football terms and their origins. From the difference between a safety—the player—and a safety—a scoring play—to some of the weirder quirks of the rules, full-color photographs and graphic organizers show readers everything they need to watch this exciting sport as an informed fan.","English",25.25,18.95,"796.332’64--dc23","32 pp.",{"$f":"Table1[[#This Row],['# Books]]*Table1[[#This Row],[QTY]]","v":0},{"$f":"Table1[[#This Row],[QTY]]*Table1[[#This Row],[S&L Price]]","v":0}]
[null,144,null,"Let's Talk Sports!",1,"Talk Like a Hockey Player","Library Bound Book",null,"978-1-4824-5706-3",2017,"January 2017","Library","8.500 X 8.500","Author","Ryan Nagelhout",4.5999999999999996,0.5,null,null,"N",null,"Grade 2 - 3","Grade 2 - 5","Can you put the biscuit in the basket? If you don’t know your hockey lingo, that might be a hard question to answer. After reading this book full of colorful graphics and photos explaining the finer points of hockey jargon, readers will be sure to take a shot on net and try scoring a goal for themselves. From technical terms for hockey equipment to explanations of hockey rules and positions, this book has everything readers need to lace up the skates and hit the ice with confidence.","English",25.25,18.95,"796.962--dc23","32 pp.",{"$f":"Table1[[#This Row],['# Books]]*Table1[[#This Row],[QTY]]","v":0},{"$f":"Table1[[#This Row],[QTY]]*Table1[[#This Row],[S&L Price]]","v":0}]
[null,144,null,"Let's Talk Sports!",1,"Talk Like a Soccer Player","eBook",null,"978-1-4824-5715-5",2017,"January 2017",null,null,"Author","Ryan Nagelhout",4.8,0.5,null,null,"N",null,"Grade 2 - 3","Grade 2 - 5","From a distance, soccer may seem like a tough sport to understand. Once you get to the pitch and get running, though, it’s easy to see why it’s so much fun! Readers explore “the beautiful game” in this exciting title full of soccer terms and facts. From an easy explanation of offside rules to the history of red and yellow cards, colorful photos and graphics make soccer history and tactical concepts easy to understand, bringing a new generation to the world’s most popular sport.\n\n\n\n","English",25.25,18.95,"796.334--dc23","32 pp.",{"$f":"Table1[[#This Row],['# Books]]*Table1[[#This Row],[QTY]]","v":0},{"$f":"Table1[[#This Row],[QTY]]*Table1[[#This Row],[S&L Price]]","v":0}]
[null,146,null,"Benched: Dealing with Sports Injuries",1,"What If I Break a Tooth?","eBook",null,"978-1-4824-4877-1",2017,"August 2016",null,null,"Author","Sarah Machajewski",null,null,null,null,"N",null,"Grade 2 - 3","Grade 2 - 5","Dental work is never fun, especially after an accident on the soccer field or basketball court. Whether a tooth is chipped or broken, any sort of dental injury requires immediate attention. Dealing with the pain and blood can be hard for young athletes, but this book will help them understand just what’s happening in their mouth and what dentists need to do to help them get better. From minor capping and tooth fillings to root canals and more serious surgery, this book gives student athletes the basics on taking care of their teeth should they suffer an injury.","English",22.6,16.95,"617.1/027--dc23","24 pp.",{"$f":"Table1[[#This Row],['# Books]]*Table1[[#This Row],[QTY]]","v":0},{"$f":"Table1[[#This Row],[QTY]]*Table1[[#This Row],[S&L Price]]","v":0}]
[null,146,null,"Benched: Dealing with Sports Injuries",1,"What If I Get a Sprain?","Library Bound Book",null,"978-1-4824-4889-4",2017,"August 2016","Library","8.500 X 8.500","Author","Erika Edwards",null,null,null,null,"N",null,"Grade 2 - 3","Grade 2 - 5","When ankles get twisted and turned, the end result might be a sprain. But what does this mean, and how does it get better? This book explores one of the most common sports injuries, helping young readers understand what happens when they need to take a time out to heal up from a sports injury. By learning the proper recovery methods and safety tips on the field, readers will get the most out of their recreation time and learn important lessons about life: it’s not about how you fall, but how you get back up, get healthy, and get back on the field!","English",22.6,16.95,"617.1/7--dc23","32 pp.",{"$f":"Table1[[#This Row],['# Books]]*Table1[[#This Row],[QTY]]","v":0},{"$f":"Table1[[#This Row],[QTY]]*Table1[[#This Row],[S&L Price]]","v":0}]
[null,146,null,"Benched: Dealing with Sports Injuries",1,"What If I Get a Sprain?","eBook",null,"978-1-4824-4881-8",2017,"August 2016",null,null,"Author","Erika Edwards",null,null,null,null,"N",null,"Grade 2 - 3","Grade 2 - 5","When ankles get twisted and turned, the end result might be a sprain. But what does this mean, and how does it get better? This book explores one of the most common sports injuries, helping young readers understand what happens when they need to take a time out to heal up from a sports injury. By learning the proper recovery methods and safety tips on the field, readers will get the most out of their recreation time and learn important lessons about life: it’s not about how you fall, but how you get back up, get healthy, and get back on the field!","English",22.6,16.95,"617.1/7--dc23","32 pp.",{"$f":"Table1[[#This Row],['# Books]]*Table1[[#This Row],[QTY]]","v":0},{"$f":"Table1[[#This Row],[QTY]]*Table1[[#This Row],[S&L Price]]","v":0}]
[null,146,null,"Going Pro",1,"Becoming a Pro Baseball Player","Library Bound Book",null,"978-1-4824-2055-5",2015,"January 2015","Library","8.000 X 10.00","Author","Andrew Pina",5.8,0.5,40,null,"Q",null,"Grade 3 - 4","Grade 3 - 6","Baseball players can make their careers look effortless. They lob balls into the stands and sprint around the bases easily. But behind these actions are years and years of practice honing the skills that got them into the major leagues. This high-interest volume is an insider's guide of the path to the big leagues, from Little League to the MLB. Easy-to-follow drills and essential pro tips will interest the beginner and the seasoned ball player. Photographs of famous players as well as amateurs will further interest and enlighten young athletes.","English",26.6,19.95,"796.357","32 pp.",{"$f":"Table1[[#This Row],['# Books]]*Table1[[#This Row],[QTY]]","v":0},{"$f":"Table1[[#This Row],[QTY]]*Table1[[#This Row],[S&L Price]]","v":0}]
[null,146,null,"Going Pro",1,"Becoming a Pro Football Player","eBook",null,"978-1-4824-2064-7",2015,"January 2015",null,null,"Author","Ryan Nagelhout",5.9,0.5,40,null,"Q",null,"Grade 3 - 4","Grade 3 - 6","Countless young football players dream of breaking into the NFL and scoring the winning touchdown of the Super Bowl. Those on their way to the pros and those who just want to know more about athletes' journeys will appreciate an insider's look at the training and perseverance needed to make it big. Youth, high school, and college teams, the NFL Draft, and women's football are some of the topics covered in this well-researched volume. Readers will love both the appealing text as well as the action-packed color photographs of their favorite players.","English",26.6,19.95,"796.332","96 pp.",{"$f":"Table1[[#This Row],['# Books]]*Table1[[#This Row],[QTY]]","v":0},{"$f":"Table1[[#This Row],[QTY]]*Table1[[#This Row],[S&L Price]]","v":0}]
[null,147,null,"Field & Stream's Guide to the Outdoors",7,"Field & Stream's Guide to the Outdoors","Library Set",null,"978-1-4824-3468-2",2016,"August 2015","Library","5.750 X 8.250",null,"",null,null,null,null,null,null,"Grade 6 - 8","Grade 6 - 8","The outdoors is an immense world to discover with a myriad of ways to enjoy it. Many people find great satisfaction in immersing themselves in nature by becoming highly skilled campers, hunters, fishermen, and survivalists. Readers will find this collection of how-to guides a perfect place to begin their journey or to hone their skills. Each beautifully designed volume is an indispensable manual for the outdoors enthusiast, with advice that hits the mark for both the novice and expert. Charts, diagrams, and labeled illustrations make valuable skills and essential information easy to comprehend and master.\n\n\n\n\n\n•\tPresents opportunity to exercise Common Core reading skill of interpreting information presented visually \n\n\n\n•\tCarefully selected photographs and illustrations reinforce significant concepts \n\n\n\n• \tHighly appealing subjects will attract readers of all levels and interests\n\n\n\n•\tVetted guidance and explanations gathered from and by experts in each field\n","English",251.65,188.65,null,"96 pp.",{"$f":"Table1[[#This Row],['# Books]]*Table1[[#This Row],[QTY]]","v":0},{"$f":"Table1[[#This Row],[QTY]]*Table1[[#This Row],[S&L Price]]","v":0}]
[null,147,null,"Field & Stream's Guide to the Outdoors",1,"Field & Stream's Guide to Camping","Library Bound Book",null,"978-1-4824-2298-6",2015,"January 2015","Library","5.750 X 8.250","Edited by, Author","The Editors of Field & Stream, T. Edward Nickens",null,null,44,null,"V",null,"Grade 6 - 8","Grade 6 - 8","Camping is one activity that's much more fun when one has the right skills and know-how for the outdoors. Field & Stream's editors have collected 87 essential pieces of advice about camping that will make readers into leaders of the campground. Pitching a tent, making knots, building a fire, and cooking a delicious outdoor meal are all part of this wide-ranging guide. Visual aids and numbered directions make each skill comprehensible, while beautiful color photographs will inspire readers to pack up and head outside.","English",35.950000000000003,26.95,"796.54","96 pp.",{"$f":"Table1[[#This Row],['# Books]]*Table1[[#This Row],[QTY]]","v":0},{"$f":"Table1[[#This Row],[QTY]]*Table1[[#This Row],[S&L Price]]","v":0}]
[null,147,null,"Field & Stream's Guide to the Outdoors",1,"Field & Stream's Guide to Fishing","eBook",null,"978-1-4824-2301-3",2015,"January 2015",null,null,"Edited by, Author","The Editors of Field & Stream, T. Edward Nickens",null,null,44,null,"V",null,"Grade 6 - 8","Grade 6 - 8","Whether readers are proficient fishermen or just like to spend time at the end of a dock with a rod, they'll learn something on every page of this user-friendly handbook. Not only will they find out how to \"stick a fish with a fly\" in a stream, they'll also learn some boating skills that will ensure success in deeper waters. Each section is broken down into easy-to-follow segments, steps, or labeled illustrations. No tackle box is complete without the 106 essential fishing skills featured in this beneficial book.","English",35.950000000000003,26.95,"799.1","96 pp.",{"$f":"Table1[[#This Row],['# Books]]*Table1[[#This Row],[QTY]]","v":0},{"$f":"Table1[[#This Row],[QTY]]*Table1[[#This Row],[S&L Price]]","v":0}]
[null,147,null,"Field & Stream's Guide to the Outdoors",1,"Field & Stream's Guide to Outdoor Survival","Library Bound Book",null,"978-1-4824-2304-4",2015,"January 2015","Library","5.750 X 8.250","Edited by, Author","The Editors of Field & Stream, T. Edward Nickens",null,null,44,null,"V",null,"Grade 6 - 8","Grade 6 - 8","Inspired by TV shows and movies, many people wonder how long they could survive in the wild. If they have this entertaining and practical guide with them, they'll be ready to tackle many kinds of challenges. These 95 survival skills will not only get the reader out of trouble, but also teach them to avoid dangerous situations in the wilderness. Map-reading skills, animal attacks, leech removal, and lightning strikes are just some of the varied topics expertly explained in the text and depicted in the illustrations and photographs. High-interest content will attract all levels of readers and outdoors enthusiasts.","English",35.950000000000003,26.95,"796.5","32 pp.",{"$f":"Table1[[#This Row],['# Books]]*Table1[[#This Row],[QTY]]","v":0},{"$f":"Table1[[#This Row],[QTY]]*Table1[[#This Row],[S&L Price]]","v":0}]
[null,147,null,"Wacky World of Sports",6,"Wacky World of Sports","Library Set",null,"978-1-4824-1176-8",2015,"August 2014","Library","8.000 X 10.00",null,"",null,null,null,null,null,null,"Grade 3 - 4","Grade 3 - 6","The world of sports is much wider than just baseball, football, and basketball. In fact, there are hundreds of strange sports practiced all over the world! Some are silly, some can be dangerous, and they all will fascinate readers. Including camel and buffalo racing, elephant polo, and daredevil base jumpers, the main content covers dozens of interesting competitions. Readers will feel like they’re part of the caber tossing or fire jumping as they take in the full-color photographs accompanying each sport. Wacky facts and tons of trivia will give readers even more reason to explore sports beyond their backyard.    • Sports from Australia, Asia, and all over Europe give readers a fresh look at cultures other than their own.  • Readers with unique talents will find inspiration to explore their abilities in new ways.  • Exciting photographs and descriptions of each sport emphasize fun and camaraderie, rather than competition.  ","English",159.6,119.7,null,"32 pp.",{"$f":"Table1[[#This Row],['# Books]]*Table1[[#This Row],[QTY]]","v":0},{"$f":"Table1[[#This Row],[QTY]]*Table1[[#This Row],[S&L Price]]","v":0}]
[null,147,null,"Wacky World of Sports",1,"Wacky in the Water","Library Bound Book",null,"978-1-4824-1496-7",2015,"August 2014","Library","8.000 X 10.00","Author","Alix Wood",null,null,34,null,"O",null,"Grade 3 - 4","Grade 3 - 6","Ice swimming sounds uncomfortable. Bog snorkeling seems gross. Log rolling looks dangerous. Yet many people dive into these water sports! Readers are introduced to some strange ways to enjoy the water, such as the cardboard raft race held at Cambridge University in England each year. Fact boxes and sidebars tell the true tales of participants, and colorful photographs show them in action. Through detailed descriptions of each new sport, readers can imagine riding and diving in the waves with the adventurous spirit of kite surfers and Jet Ski freestylers.","English",26.6,19.95,"797","32 pp.",{"$f":"Table1[[#This Row],['# Books]]*Table1[[#This Row],[QTY]]","v":0},{"$f":"Table1[[#This Row],[QTY]]*Table1[[#This Row],[S&L Price]]","v":0}]
[null,147,null,"Wacky World of Sports",1,"Wacky Races","eBook",null,"978-1-4824-1385-4",2015,"August 2014",null,null,"Author","Alix Wood",null,null,34,null,"O",null,"Grade 3 - 4","Grade 3 - 6","Riding a horse bareback has been done throughout history. But what about buffalo riding? In Thailand, racers hop on the bare back of buffalo and try to circle a racetrack! Readers can see photographs of this strange race and many more, while learning about competitions held all over the world. Some, such as soapbox derbies, may sound familiar, while others, such as outhouse racing, are truly wacky! A colorful layout and fact boxes with additional details keep readers’ attention as they race around the world on the back of a camel, through mud pits, and even dressed as Santa!","English",26.6,19.95,"796.7","24 pp.",{"$f":"Table1[[#This Row],['# Books]]*Table1[[#This Row],[QTY]]","v":0},{"$f":"Table1[[#This Row],[QTY]]*Table1[[#This Row],[S&L Price]]","v":0}]
[null,150,null,"Biomas donde yo vivo (Backyard Biomes)",6,"Biomas donde yo vivo (Backyard Biomes)","Library Set",null,"978-1-4824-6125-1",2017,"January 2017","Library","7.000 X 7.000",null,"",null,null,null,null,null,null,"Grade 1 - 2","Grade 1 - 3","People have found ways to live in most of Earth’s diverse environments. But they’re not the only ones who live there! Birds, bugs, mammals, reptiles, and more make their homes in the dry desert heat, near the ocean, and in swamps all over the world. Readers learn about these biomes and more through understandable language perfect for young readers. The main content includes an introduction to the special features of each biome and where they can be found around the globe. Full-color photographs show readers the unique environments as well as the animals and plants living there.","Spanish",135.6,101.7,null,"24 pp.",{"$f":"Table1[[#This Row],['# Books]]*Table1[[#This Row],[QTY]]","v":0},{"$f":"Table1[[#This Row],[QTY]]*Table1[[#This Row],[S&L Price]]","v":0}]
[null,150,null,"Biomas donde yo vivo (Backyard Biomes)",1,"Vivo cerca de un lago (There's a Lake in My Backyard!)","Library Bound Book",null,"978-1-4824-6236-4",2017,"January 2017","Library","7.000 X 7.000","Author, Translated by","Seth Lynch, Alberto Jiménez",3.7,0.5,null,null,null,null,"Grade 1 - 2","Grade 1 - 3","Lakes can be hundreds of miles long and thousands of miles deep—or small enough to swim across! It’s common for homes and roads to be built near lakes because they offer such beautiful scenery as well as needed resources. Readers are introduced to the lake biome that may be in their backyard through lakes’ main features, animals and plants that may live there, and examples of some of the largest lakes on Earth. Full-color photographs and small maps highlight this special biome as the main content simply touches on key science curriculum topics including food webs and water conservation.","Spanish",22.6,16.95,"577.63--dc23","32 pp.",{"$f":"Table1[[#This Row],['# Books]]*Table1[[#This Row],[QTY]]","v":0},{"$f":"Table1[[#This Row],[QTY]]*Table1[[#This Row],[S&L Price]]","v":0}]
[null,150,null,"Biomas donde yo vivo (Backyard Biomes)",1,"Vivo cerca de un lago (There's a Lake in My Backyard!)","eBook",null,"978-1-4824-6134-3",2017,"January 2017",null,null,"Author, Translated by","Seth Lynch, Alberto Jiménez",3.7,0.5,null,null,null,null,"Grade 1 - 2","Grade 1 - 3","Lakes can be hundreds of miles long and thousands of miles deep—or small enough to swim across! It’s common for homes and roads to be built near lakes because they offer such beautiful scenery as well as needed resources. Readers are introduced to the lake biome that may be in their backyard through lakes’ main features, animals and plants that may live there, and examples of some of the largest lakes on Earth. Full-color photographs and small maps highlight this special biome as the main content simply touches on key science curriculum topics including food webs and water conservation.","Spanish",22.6,16.95,"577.63--dc23","32 pp.",{"$f":"Table1[[#This Row],['# Books]]*Table1[[#This Row],[QTY]]","v":0},{"$f":"Table1[[#This Row],[QTY]]*Table1[[#This Row],[S&L Price]]","v":0}]
[null,150,null,"Biomas donde yo vivo (Backyard Biomes)",1,"Vivo cerca de una pradera (There's a Grassland in My Backyard!)","Library Bound Book",null,"978-1-4824-6210-4",2017,"January 2017","Library","7.000 X 7.000","Author, Translated by","Walter LaPlante, Alberto Jiménez",3.9,0.5,null,null,null,null,"Grade 1 - 2","Grade 1 - 3","In North America, grasslands are called the “prairie.” In South America, they’re called the “pampas.” Whatever they’re called, grasslands are a vibrant biome! Readers are introduced to grasslands through their unique features, climate, and the plants and animals that live there. With information on both tropical and temperate grasslands, the main content includes themes of conservation and ecosystem balance. Full-color photographs supplement the science content with examples of grasslands from around the world. Accessible language makes this book a perfect supplement to classroom learning about biomes.","Spanish",22.6,16.95,"578.75/54--dc23","32 pp.",{"$f":"Table1[[#This Row],['# Books]]*Table1[[#This Row],[QTY]]","v":0},{"$f":"Table1[[#This Row],[QTY]]*Table1[[#This Row],[S&L Price]]","v":0}]
[null,152,null,"La historia oculta (Hidden History)",1,"El Cementerio Africano (The African Burial Ground)","Library Bound Book",null,"978-1-4824-6219-7",2017,"January 2017","Library","6.500 X 9.125","Author, Translated by","Therese M. Shea, Ana Maria Garcia",7.4,1,null,null,null,null,"Grade 4 - 5","Grade 4 - 6","In 1991, preparation for the construction of a new federal office building led to a startling discovery: a skeleton. Further excavation exposed the bones of 420 men, women, and children. This area of New York had been a burial ground set aside for both free and enslaved Africans during the 1600s and 1700s. It’s thought to be one of the most important archaeological discoveries of the 20th century. This noteworthy book—which includes sidebars, fact boxes, a timeline, and maps—fills in the gaps of history books, exposing much about what life was like in colonial New York for Africans.","Spanish",26.6,19.95,"974.7/01--dc23","32 pp.",{"$f":"Table1[[#This Row],['# Books]]*Table1[[#This Row],[QTY]]","v":0},{"$f":"Table1[[#This Row],[QTY]]*Table1[[#This Row],[S&L Price]]","v":0}]
[null,152,null,"La historia oculta (Hidden History)",1,"Los naufragios de los Grandes Lagos (Great Lakes Shipwrecks)","Library Bound Book",null,"978-1-4824-6227-2",2017,"January 2017","Library","6.500 X 9.125","Author, Translated by","Melissa Raé Shofner, Ana Maria Garcia",6.9,1,null,null,null,null,"Grade 4 - 5","Grade 4 - 6","The Great Lakes are the largest group of freshwater lakes on Earth and have always been important channels of shipping and trade. Though they are lakes, their waters have proven to be as challenging as the oceans. That’s why there are more than 6,000 shipwrecks in the Great Lakes! This captivating book relates the stories of some of these wrecks, including the Edmund Fitzgerald, Argo, and Lady Elgin, their survivors, and the not-so-lucky. It also explains how wrecks are found and what happens after their discovery. Amazing photographs and sidebar information will provoke readers’ imaginations about these undersea artifacts.","Spanish",26.6,19.95,"005.1--dc23","24 pp.",{"$f":"Table1[[#This Row],['# Books]]*Table1[[#This Row],[QTY]]","v":0},{"$f":"Table1[[#This Row],[QTY]]*Table1[[#This Row],[S&L Price]]","v":0}]
[null,152,null,"La historia oculta (Hidden History)",1,"Los naufragios de los Grandes Lagos (Great Lakes Shipwrecks)","eBook",null,"978-1-4824-6228-9",2017,"January 2017",null,null,"Author, Translated by","Melissa Raé Shofner, Ana Maria Garcia",6.9,1,null,null,null,null,"Grade 4 - 5","Grade 4 - 6","The Great Lakes are the largest group of freshwater lakes on Earth and have always been important channels of shipping and trade. Though they are lakes, their waters have proven to be as challenging as the oceans. That’s why there are more than 6,000 shipwrecks in the Great Lakes! This captivating book relates the stories of some of these wrecks, including the Edmund Fitzgerald, Argo, and Lady Elgin, their survivors, and the not-so-lucky. It also explains how wrecks are found and what happens after their discovery. Amazing photographs and sidebar information will provoke readers’ imaginations about these undersea artifacts.","Spanish",26.6,19.95,"005.1--dc23","24 pp.",{"$f":"Table1[[#This Row],['# Books]]*Table1[[#This Row],[QTY]]","v":0},{"$f":"Table1[[#This Row],[QTY]]*Table1[[#This Row],[S&L Price]]","v":0}]
[null,153,null,"¡A medir! (Measure It!)",1,"Medir el peso (Measuring Weight)","eBook",null,"978-1-4824-4336-3",2016,"January 2016",null,null,"Author, Translated by","T. H. Baer, Esther Sarfatti",2.8,0.5,null,null,null,null,"Grade 1 - 2","Grade 1 - 3","It’s usually rude to ask how much someone weighs, but in science it’s an important thing to know! Readers learn how to measure weight in a variety of different ways, from ounces or grams used for small measurements, pounds or kilograms used to measure people, and tons and metric tons we used to measure larger loads. Using simple text to explain scientific and engineering principles fulfills STEM course requirements in a fun and engaging way and colorful photographs and graphics make the content even more accessible.","Spanish",22.6,16.95,"530.8--dc23","24 pp.",{"$f":"Table1[[#This Row],['# Books]]*Table1[[#This Row],[QTY]]","v":0},{"$f":"Table1[[#This Row],[QTY]]*Table1[[#This Row],[S&L Price]]","v":0}]
[null,153,null,"¡A medir! (Measure It!)",1,"Medir la distancia (Measuring Distance)","Library Bound Book",null,"978-1-4824-4362-2",2016,"January 2016","Library","7.000 X 7.000","Author, Translated by","T. H. Baer, Esther Sarfatti",2.6,0.5,null,null,null,null,"Grade 1 - 2","Grade 1 - 3","Math is much more than measuring the sides of a triangle. This exciting book makes readers grab their rulers and maybe even their tape measures to explore the concept of distance in exciting and unpredictable ways. Readers learn through simple text the concept of distance, what increments to use when measuring it, and why knowing the distance between two points is an important concept for any student.","Spanish",22.6,16.95,"530.8—dc23","24 pp.",{"$f":"Table1[[#This Row],['# Books]]*Table1[[#This Row],[QTY]]","v":0},{"$f":"Table1[[#This Row],[QTY]]*Table1[[#This Row],[S&L Price]]","v":0}]
[null,153,null,"¡A medir! (Measure It!)",1,"Medir la velocidad (Measuring Speed)","eBook",null,"978-1-4824-4337-0",2016,"January 2016",null,null,"Author, Translated by","T. H. Baer, Esther Sarfatti",3.2,0.5,null,null,null,null,"Grade 1 - 2","Grade 1 - 3","When a bird flies by a window or a car zooms by on the highway, we often wonder how fast the two objects traveled. This book explains the concept of speed to readers while showing them accessible ways to measure it for themselves. Learning the amount of distance traveled, and how quickly that distance was covered, is a great way to implement a variety of STEM topics while practicing this essential mathematical skill.","Spanish",22.6,16.95,"531'.112—dc23","24 pp.",{"$f":"Table1[[#This Row],['# Books]]*Table1[[#This Row],[QTY]]","v":0},{"$f":"Table1[[#This Row],[QTY]]*Table1[[#This Row],[S&L Price]]","v":0}]
[null,153,null,"Similares pero no iguales (Animal Look-Alikes)",1,"¿Caimán o cocodrilo? (Alligator or Crocodile?)","eBook",null,"978-1-4824-3245-9",2016,"August 2015",null,null,"Author","Rob Ryndak",null,null,null,null,null,null,"Grade 1 - 2","Grade 1 - 3","If a person were ever face-to-face with a huge, hungry animal with sharp teeth, they probably wouldn’t care exactly what that animal was! But from a safe location, can we tell whether it was a crocodile or alligator that wanted to take a bite? By examining their jaw structure, teeth, and other physical features, we can easily tell these two animals apart! Graphic organizers and amazing images highlight each animal’s habitat and other small differences between the two fearsome creatures, showing readers just what creature is lurking below the waters.","Spanish",22.6,16.95,"597.98","24 pp.",{"$f":"Table1[[#This Row],['# Books]]*Table1[[#This Row],[QTY]]","v":0},{"$f":"Table1[[#This Row],[QTY]]*Table1[[#This Row],[S&L Price]]","v":0}]
[null,153,null,"Similares pero no iguales (Animal Look-Alikes)",1,"¿Foca o león marino? (Seal or Sea Lion?)","eBook",null,"978-1-4824-3417-0",2016,"August 2015",null,null,"Author","Rob Ryndak",null,null,null,null,null,null,"Grade 1 - 2","Grade 1 - 3","What’s the difference between a seal and a sea lion? These “second cousins” of the sea look similar, but there are many ways to tell these creatures apart. From ear shape to the noises they make to communicate, seals and sea lions are amazing creatures with both shared features and many truly unique attributes. They both share an ocean habitat, but when readers take a closer look, it’s easy to discover how they each fight off predators, mate, and raise their young in different ways. Captivating full-color photographs help to bring these marvelous mammals to vivid life.","Spanish",22.6,16.95,"599.79—dc23","24 pp.",{"$f":"Table1[[#This Row],['# Books]]*Table1[[#This Row],[QTY]]","v":0},{"$f":"Table1[[#This Row],[QTY]]*Table1[[#This Row],[S&L Price]]","v":0}]
[null,153,null,"Similares pero no iguales (Animal Look-Alikes)",1,"¿Tortuga o galápago? (Turtle or Tortoise?)","Library Bound Book",null,"978-1-4824-3420-0",2016,"August 2015","Library","7.000 X 7.000","Author","Rob Ryndak",null,null,null,null,"J",null,"Grade 1 - 2","Grade 1 - 3","Both turtles and tortoises have shells and move pretty slowly. So what makes them different? And where to terrapins fit in? There’s much more going on with these amazing creatures than just carapaces and plastrons. From their family ties and foot size to their habitats, these animals look, live, and even eat differently. Some of these awesome animals can live for centuries! Readers will discover which of these reptiles can survive hundreds of years longer than humans, along with a host of other fun facts. Vivid photographs of turtles and tortoises in their natural habitat add further fascination for readers ready to tackle the differences between these two reptiles.","Spanish",22.6,16.95,"597.92—dc23","24 pp.",{"$f":"Table1[[#This Row],['# Books]]*Table1[[#This Row],[QTY]]","v":0},{"$f":"Table1[[#This Row],[QTY]]*Table1[[#This Row],[S&L Price]]","v":0}]
[null,154,null,"¡Resuelve! Matemáticas en el espacio (Solve It! Math in Space)",1,"Matemáticas en el Sol (Math on the Sun)","Library Bound Book",null,"978-1-4824-5228-0",2017,"August 2016","Library","8.500 X 8.500","Author, Translated by","Mark J. Harasymiw, Alberto Jiménez",4.9000000000000004,0.5,null,null,null,null,"Grade 2 - 3","Grade 2 - 5","The sun's importance to Earth and the solar system can't be exaggerated; it's the linchpin for life itself. The sun's structure, atmosphere, and other features are introduced in collaboration with related mathematical problems in this noteworthy companion to the elementary science and math curricula. Readers discover fascinating facts about the sun such as its age—it's 4.6 billion years old!—through bright text and motivating math problems. Amazing photographs and illustrations highlight the awesome power of the sun and add to the volume's appeal.\n\n","Spanish",22.6,16.95,"523.7--dc23","24 pp.",{"$f":"Table1[[#This Row],['# Books]]*Table1[[#This Row],[QTY]]","v":0},{"$f":"Table1[[#This Row],[QTY]]*Table1[[#This Row],[S&L Price]]","v":0}]
[null,154,null,"¡Resuelve! Matemáticas en el espacio (Solve It! Math in Space)",1,"Matemáticas en el Sol (Math on the Sun)","eBook",null,"978-1-4824-5229-7",2017,"August 2016",null,null,"Author, Translated by","Mark J. Harasymiw, Alberto Jiménez",4.9000000000000004,0.5,null,null,null,null,"Grade 2 - 3","Grade 2 - 5","The sun's importance to Earth and the solar system can't be exaggerated; it's the linchpin for life itself. The sun's structure, atmosphere, and other features are introduced in collaboration with related mathematical problems in this noteworthy companion to the elementary science and math curricula. Readers discover fascinating facts about the sun such as its age—it's 4.6 billion years old!—through bright text and motivating math problems. Amazing photographs and illustrations highlight the awesome power of the sun and add to the volume's appeal.\n\n","Spanish",22.6,16.95,"523.7--dc23","24 pp.",{"$f":"Table1[[#This Row],['# Books]]*Table1[[#This Row],[QTY]]","v":0},{"$f":"Table1[[#This Row],[QTY]]*Table1[[#This Row],[S&L Price]]","v":0}]
[null,154,null,"¡Resuelve! Matemáticas en el espacio (Solve It! Math in Space)",1,"Matemáticas en Marte (Math on Mars)","Library Bound Book",null,"978-1-4824-5240-2",2017,"August 2016","Library","8.500 X 8.500","Author, Translated by","Mark J. Harasymiw, Alberto Jiménez",4.2,0.5,null,null,null,null,"Grade 2 - 3","Grade 2 - 5","Mars is perhaps the most thrilling planet these days. With rovers exploring its surface and manned missions in the works, people are wondering if Mars is our next home! In this highinterest book, readers will learn more about Earth's neighbor, including what its climate and surface are like, why it's called the Red Planet, and about the recent discovery of water on its surface. They'll learn all this while solving \"Your Mission\" math problems that complement and support the text. This motivating volume is an engaging way to explore key aspects of science and math curricula.","Spanish",22.6,16.95,"510.76--dc23","24 pp.",{"$f":"Table1[[#This Row],['# Books]]*Table1[[#This Row],[QTY]]","v":0},{"$f":"Table1[[#This Row],[QTY]]*Table1[[#This Row],[S&L Price]]","v":0}]
[null,154,null,"El mundo y la ingeniería (Engineering our World)",1,"Cómo se construye un auto (How a Car Is Made)","Library Bound Book",null,"978-1-4824-4368-4",2016,"January 2016","Library","8.500 X 8.500","Author","Sam Aloian",5.4,0.5,null,null,null,null,"Grade 2 - 3","Grade 2 - 5","Automobiles are an essential part of life for many, but few really understand how that car arrives in their garage in the first place. This book takes an exciting look at just how interesting that process is, from the design phase in an engineer’s office to the floor of a factory where it is assembled piece by piece by both people and machines. Full-color photographs bring the process to life in vivid detail, and a step-by-step how-to guide explains how readers can even build their very own model car.","Spanish",22.6,16.95,"629.2'3—dc23","24 pp.",{"$f":"Table1[[#This Row],['# Books]]*Table1[[#This Row],[QTY]]","v":0},{"$f":"Table1[[#This Row],[QTY]]*Table1[[#This Row],[S&L Price]]","v":0}]
[null,154,null,"El mundo y la ingeniería (Engineering our World)",1,"Cómo se construye un avión (How a Plane Is Made)","Library Bound Book",null,"978-1-4824-4348-6",2016,"January 2016","Library","8.500 X 8.500","Author","Amy Hayes",5,0.5,null,null,null,null,"Grade 2 - 3","Grade 2 - 5","From the largest cargo planes and passenger jets to the smallest of single-engine crafts, airplanes are modern marvels. But just how do people build planes and what keeps them safe in the air? This exciting book takes readers inside the hangars where bolts and metal are turned into winged creations ready to take people all around the world. Amazing photographs show the aircraft construction process step-by-step, while engaging text gives a strong technical explanation of the science at work during every flight in this innovative STEM book.","Spanish",22.6,16.95,"629.134—d23","24 pp.",{"$f":"Table1[[#This Row],['# Books]]*Table1[[#This Row],[QTY]]","v":0},{"$f":"Table1[[#This Row],[QTY]]*Table1[[#This Row],[S&L Price]]","v":0}]
[null,154,null,"El mundo y la ingeniería (Engineering our World)",1,"Cómo se construye un puente (How a Bridge Is Built)","eBook",null,"978-1-4824-4343-1",2016,"January 2016",null,null,"Author","Sam Aloian",5.4,0.5,null,null,null,null,"Grade 2 - 3","Grade 2 - 5","Bridges are a big part of how people get from place to place. But how do they work and how are they built? In this engaging text, readers will explore these important engineering marvels that link places divided by water. Along the way they’ll learn how to build their own model bridge with a step-by-step guide accompanied by full-color photographs of each step. Accessible text illuminates the science behind every span we drive over—and sometimes under!","Spanish",22.6,16.95,"624.2—dc23","24 pp.",{"$f":"Table1[[#This Row],['# Books]]*Table1[[#This Row],[QTY]]","v":0},{"$f":"Table1[[#This Row],[QTY]]*Table1[[#This Row],[S&L Price]]","v":0}]
[null,155,null,"Lugares extremos de la Tierra (Earth's Most Extreme Places)",6,"Lugares extremos de la Tierra (Earth's Most Extreme Places)","Library Set",null,"978-1-4824-1640-4",2015,"January 2015","Library","8.500 X 8.500",null,"",null,null,null,null,null,null,"Grade 2 - 3","Grade 2 - 5","Some locations on Earth seem almost alien because their climate and environment are so different from the places we live. This globetrotting series transports readers to fascinating locales around the world, such as Antarctica, Death Valley, and Mount Everest. Not only will readers learn what makes these places extraordinary, they'll also learn the extraordinary lengths that people go to explore and sometimes live there. Science concepts, geography skills, and social studies topics combine to make each volume a valuable addition to any collection.      • \"That's Extreme!\" text boxes offer astonishing facts about locations  • Graphic organizers demonstrate organizational skills  • Understanding of maps and photographs within an informational text is a requirement of the Common Core standards  • Domain-specific vocabulary words are used in a scientific context to help students understand their meaning and accelerate comprehension  ","Spanish",135.6,101.7,null,"24 pp.",{"$f":"Table1[[#This Row],['# Books]]*Table1[[#This Row],[QTY]]","v":0},{"$f":"Table1[[#This Row],[QTY]]*Table1[[#This Row],[S&L Price]]","v":0}]
[null,155,null,"Lugares extremos de la Tierra (Earth's Most Extreme Places)",1,"Los lugares más calientes de la Tierra (Earth’s Hottest Places)","Library Bound Book",null,"978-1-4824-1920-7",2015,"January 2015","Library","8.500 X 8.500","Author","Sebastian Witiw",null,null,null,null,null,null,"Grade 2 - 3","Grade 2 - 5","Everyone has experienced hot days in which it's hard to move without sweating. Readers will realize those days were cool compared to some of the sweltering locations vividly described within the pages of this volume. Death Valley, the Sahara, and Ethiopia are highlighted in text and on maps in this trip around the globe in search of Earth's hottest places. Why some locations are so hot, different ways of measuring temperature, and the health risks of extreme heat are just a few of the topics touched upon in this book, compatible with any science and social studies collection.","Spanish",22.6,16.95,"910.915","32 pp.",{"$f":"Table1[[#This Row],['# Books]]*Table1[[#This Row],[QTY]]","v":0},{"$f":"Table1[[#This Row],[QTY]]*Table1[[#This Row],[S&L Price]]","v":0}]
[null,155,null,"Lugares extremos de la Tierra (Earth's Most Extreme Places)",1,"Los lugares más lluviosos de la Tierra (Earth’s Rainiest Places)","eBook",null,"978-1-4824-1924-5",2015,"January 2015",null,null,"Author","Bailey O'Connell",null,null,null,null,null,null,"Grade 2 - 3","Grade 2 - 5","Readers will want to don their raincoats as they learn about the torrential downpours that pound parts of India, Hawaii, and South America. How this precipitation affects the people, animals, and landscape of these sites will astound readers and remind them of the awesome power of nature. Colorful maps, fun fact boxes, and illustrative photographs support the eye-opening information in this text, which includes such important science curriculum topics as the water cycle and weather-related events such as flooding and monsoons.","Spanish",22.6,16.95,"551.577","32 pp.",{"$f":"Table1[[#This Row],['# Books]]*Table1[[#This Row],[QTY]]","v":0},{"$f":"Table1[[#This Row],[QTY]]*Table1[[#This Row],[S&L Price]]","v":0}]
[null,155,null,"Lugares extremos de la Tierra (Earth's Most Extreme Places)",1,"Los lugares más secos de la Tierra (Earth’s Driest Places)","Library Bound Book",null,"978-1-4824-1915-3",2015,"January 2015","Library","8.500 X 8.500","Author","Mary Griffin",null,null,null,null,null,null,"Grade 2 - 3","Grade 2 - 5","Few people enjoy a rainy day, but many places around the globe are in great need of rain. Readers will learn why rain and other forms of precipitation are so important to people, plants, and animals. They'll visit the driest places on Earth, including the Atacama Desert, Antarctica's Dry Valleys, and Death Valley. Maps and photographs of these remarkable sites and others aid in geography skills, while topics such as irrigation, water conservation, and even mummification will further interest and inform readers.","Spanish",22.6,16.95,"551.41","32 pp.",{"$f":"Table1[[#This Row],['# Books]]*Table1[[#This Row],[QTY]]","v":0},{"$f":"Table1[[#This Row],[QTY]]*Table1[[#This Row],[S&L Price]]","v":0}]
[null,155,null,"Pueblos indígenas de Norteamérica (Native Peoples of North America)",1,"Pueblos indígenas de la costa Noroeste (Native Peoples of the Northwest Coast)","Library Bound Book",null,"978-1-4824-5252-5",2017,"August 2016","Library","8.500 X 8.500","Author, Translated by","Janey Levy, Esther Sarfatti",null,null,null,null,null,null,"Grade 2 - 3","Grade 2 - 5","The native peoples of the northwest coast are often known by the totem poles they create. Made from cedar trees, totem poles were painted bright colors and featured both animal and human forms. Why these amazing pieces of art are created is just one of the interesting details readers will learn about the many native peoples who lived in modern-day Alaska, Oregon, Washington, northern California, and British Columbia. The main content features many social studies curriculum topics, including customs, clothing, and spirituality of native peoples. Full-color photographs and historical images enhance each chapter as specific native groups are highlighted throughout the book.","Spanish",25.25,18.95,"978.004/97--dc23","32 pp.",{"$f":"Table1[[#This Row],['# Books]]*Table1[[#This Row],[QTY]]","v":0},{"$f":"Table1[[#This Row],[QTY]]*Table1[[#This Row],[S&L Price]]","v":0}]
[null,155,null,"Pueblos indígenas de Norteamérica (Native Peoples of North America)",1,"Pueblos indígenas del Noreste (Native Peoples of the Northeast)","Library Bound Book",null,"978-1-4824-5264-8",2017,"August 2016","Library","8.500 X 8.500","Author, Translated by","Barbara M. Linde, Esther Sarfatti",null,null,null,null,null,null,"Grade 2 - 3","Grade 2 - 5","A lot of what many people know about the native groups in the northeastern part of North America comes from colonial history. The Wampanoag met the Puritans as they made their home at Plymouth. The Powhatan group of the Algonquin people had a large role in the history of the Jamestown Settlement in Virginia. However, the history of the native groups living in modern New York, Massachusetts, Ohio, Pennsylvania, Maine, and northern Virginia began long before European settlement! Readers meet several individual groups of native peoples and explore the distinguishing features of northeastern life, society, and customs. Historical images and full-color photographs help illustrate the lifestyles of these groups.","Spanish",25.25,18.95,"974.004/97--dc23","32 pp.",{"$f":"Table1[[#This Row],['# Books]]*Table1[[#This Row],[QTY]]","v":0},{"$f":"Table1[[#This Row],[QTY]]*Table1[[#This Row],[S&L Price]]","v":0}]
[null,155,null,"Pueblos indígenas de Norteamérica (Native Peoples of North America)",1,"Pueblos indígenas del Sureste (Native Peoples of the Southeast)","eBook",null,"978-1-4824-5269-3",2017,"August 2016",null,null,"Author, Translated by","Amy Hayes, Esther Sarfatti",null,null,null,null,null,null,"Grade 2 - 3","Grade 2 - 5","The American Southeast stretches from the Atlantic Ocean to the Gulf of Mexico, including the states of Georgia, Florida, Louisiana, and Alabama as well as parts of Virginia and Maryland. But before that region was divided into states, native groups lived there. From how they found food to what their spiritual beliefs were, the book’s main content presents the traditional lifestyles of the Seminole, Choctaw, and Creek peoples, and the other groups that lived in the southeast. Readers learn even more from fun fact boxes and the historical images and full-color photographs that show what native peoples’ lives were like, both before and after European colonization.","Spanish",25.25,18.95,"975.004/97--dc23","32 pp.",{"$f":"Table1[[#This Row],['# Books]]*Table1[[#This Row],[QTY]]","v":0},{"$f":"Table1[[#This Row],[QTY]]*Table1[[#This Row],[S&L Price]]","v":0}]
[null,155,null,"Pueblos indígenas de Norteamérica (Native Peoples of North America)",1,"Pueblos indígenas del Suroeste (Native Peoples of the Southwest)","Library Bound Book",null,"978-1-4824-5272-3",2017,"August 2016","Library","8.500 X 8.500","Author, Translated by","Barbara M. Linde, Esther Sarfatti",null,null,null,null,null,null,"Grade 2 - 3","Grade 2 - 5","The Apache, Navajo, and Pueblo peoples are often part of the social studies curriculum. However, they aren’t the only native groups that come from the American southwest! Readers are introduced to some of the largest groups of native peoples in the southwest while learning about the main ways native peoples lived, ate, and dressed in this region. Complemented by full-color photographs, historical images, and fun fact boxes, the main content includes the traditional culture of the groups who lived in parts of the states of Colorado, Utah, Nevada, New Mexico, Texas, and California, in addition to northern Mexico.","Spanish",25.25,18.95,"979.004/97--dc23","32 pp.",{"$f":"Table1[[#This Row],['# Books]]*Table1[[#This Row],[QTY]]","v":0},{"$f":"Table1[[#This Row],[QTY]]*Table1[[#This Row],[S&L Price]]","v":0}]
[null,156,null,"Desastres",1,"El gran incendio de Londres (The Great Fire of London)","Library Bound Book",null,"978-1-4824-3265-7",2016,"August 2015","Library","6.500 X 9.125","Author, Translated by","Sarah Machajewski, Esther Sarfatti",null,null,40,null,null,null,"Grade 4 - 5","Grade 4 - 6","In September 1666, a small fire broke out at the king's bakery in London, England, in the early morning. Several fateful factors worked together to turn this small blaze into a catastrophic conflagration that changed the city forever. This riveting account of a city set ablaze is supported by primary sources such as maps, diaries, and royal proclamations. Readers will be fascinated by old-fashioned firefighting techniques and people's reactions as the fire spread and burned for days. Images of London on fire will ignite their imaginations and further enable them to understand this era and setting in European history.","Spanish",26.6,19.95,"942.1","32 pp.",{"$f":"Table1[[#This Row],['# Books]]*Table1[[#This Row],[QTY]]","v":0},{"$f":"Table1[[#This Row],[QTY]]*Table1[[#This Row],[S&L Price]]","v":0}]
[null,156,null,"Desastres",1,"La ciudad de Pompeya (The City of Pompeii)","eBook",null,"978-1-4824-3424-8",2016,"August 2015",null,null,"Author, Translated by","Janey Levy, Esther Sarfatti",null,null,44,null,null,null,"Grade 4 - 5","Grade 4 - 6","In AD 79, the residents of the booming Roman city of Pompeii were shocked when a nearby mountain exploded, releasing superhot ash, rock, and gas on the surrounding areas. What happens next is the extraordinary account of a volcano in action. Though the people who didn't flee Pompeii were doomed, the volcano preserved their remains, allowing us to better understand a fascinating time in the Roman Empire. Astonishing photographs of Pompeii, primary source records of the occurrence, and riveting text are just some highlights of this high-interest volume.","Spanish",26.6,19.95,"937","32 pp.",{"$f":"Table1[[#This Row],['# Books]]*Table1[[#This Row],[QTY]]","v":0},{"$f":"Table1[[#This Row],[QTY]]*Table1[[#This Row],[S&L Price]]","v":0}]
[null,156,null,"Maravillosos viajes a través de la ciencia (Fantastic Science Journeys)",6,"Maravillosos viajes a través de la ciencia (Fantastic Science Journeys)","Library Set",null,"978-1-4824-1638-1",2015,"January 2015","Library","8.500 X 8.500",null,"",null,null,null,null,null,null,"Grade 2 - 3","Grade 2 - 5","Besides being a fun chance to get outside school walls, a field trip allows students an opportunity to learn something firsthand in an unforgettable way. Imagine how much people could learn if it were possible to take a field trip into the human body, into the center of Earth, or to the sun! This truly fantastic series can transport readers to these places and beyond. Each volume contains an entertaining narrative filled with facts and clear explanations of key ideas in the science curriculum.      • Topics chosen for appeal as well as importance to elementary science curriculum    • Provides opportunities for examining informational text elements, an important facet of the Common Core English/Language Arts Standards  • Each volume contains numerous “Fun Fact” boxes to supplement information  • Graphic organizers demonstrate organizational skills and enhance text  • High-interest informational text on STEM subject matter that challenges students to analyze the interactions between individuals, events, and ideas   ","Spanish",151.5,113.7,null,"32 pp.",{"$f":"Table1[[#This Row],['# Books]]*Table1[[#This Row],[QTY]]","v":0},{"$f":"Table1[[#This Row],[QTY]]*Table1[[#This Row],[S&L Price]]","v":0}]
[null,156,null,"Maravillosos viajes a través de la ciencia (Fantastic Science Journeys)",1,"Viaje a través de la Vía Láctea (A Trip Through the Milky Way)","Library Bound Book",null,"978-1-4824-2024-1",2015,"January 2015","Library","8.500 X 8.500","Author","Heather Moore Niver",null,null,null,null,null,null,"Grade 2 - 3","Grade 2 - 5","When we look up at the night sky you can see millions of stars, but what do you think we could see in space if we left Earth? If we could hop into a special ship and blast off, traveling billions of miles away from Earth, we’d see the Milky Way galaxy. In this book, readers take an incredible journey through that galaxy, exploring the universe and learning how it was formed and what will one day happen to these enormous groups of stars. From mysterious dark matter to the black holes at the center of galaxies, readers will also dive into the mysteries of the universe scientists have spent years trying to decipher.","Spanish",25.25,18.95,"523.1","32 pp.",{"$f":"Table1[[#This Row],['# Books]]*Table1[[#This Row],[QTY]]","v":0},{"$f":"Table1[[#This Row],[QTY]]*Table1[[#This Row],[S&L Price]]","v":0}]
[null,156,null,"Maravillosos viajes a través de la ciencia (Fantastic Science Journeys)",1,"Viaje al Sol (A Trip to the Sun)","Library Bound Book",null,"978-1-4824-2027-2",2015,"January 2015","Library","8.500 X 8.500","Author","Claire E. Flynn",null,null,null,null,null,null,"Grade 2 - 3","Grade 2 - 5","The sun is responsible for all life on Earth, but what exactly is it? Our star is an amazing force that can be as dangerous as it is important. From solar flares to the threat of blowing up altogether, the sun is one of the most interesting things in our solar system. Readers take a trip to the sun to see how it works and exactly what it is made of. They’ll learn about the life cycle of a star and see just how long we have until we have to find a new planet to call home. Don’t worry, they’ll be happy to learn that (hopefully) we have millions of years left!","Spanish",25.25,18.95,"523.7","24 pp.",{"$f":"Table1[[#This Row],['# Books]]*Table1[[#This Row],[QTY]]","v":0},{"$f":"Table1[[#This Row],[QTY]]*Table1[[#This Row],[S&L Price]]","v":0}]
[null,156,null,"Maravillosos viajes a través de la ciencia (Fantastic Science Journeys)",1,"Viaje dentro del cuerpo humano (A Trip Through the Human Body)","eBook",null,"978-1-4824-2022-7",2015,"January 2015",null,null,"Author","Christine Honders",null,null,null,null,null,null,"Grade 2 - 3","Grade 2 - 5","If it were possible to shrink down and take a tour of a human body, would you want to go? Readers will get that chance when they explore the body of a guy named Marty, who will let them check out the body systems that keep his heart beating and his body moving every day. With the help of a tiny ship that goes through his ears and all the way through his digestive system, readers will learn exactly what they are made of with this great book.","Spanish",25.25,18.95,"612","24 pp.",{"$f":"Table1[[#This Row],['# Books]]*Table1[[#This Row],[QTY]]","v":0},{"$f":"Table1[[#This Row],[QTY]]*Table1[[#This Row],[S&L Price]]","v":0}]
[null,159,null,"¡Matemáticas en todas partes! / Math Is Everywhere!",1,"Matemáticas con el tiempo / Math with Weather","eBook",null,"978-1-4824-5213-6",2017,"August 2016",null,null,"Author, Translated by","Rory McDonnell, Eida de la Vega",1.4,0.5,null,null,"B",null,"Grade K","Grade Pre-K - 2","In this entertaining narrative, arithmetic and weather are connected topics. The story opens as the narrator wonders how to dress for a trip to the zoo. The reader reviews weather concepts as well as addition word problems through accessible text and helpful photographs. This valuable volume is a perfect addition to any elementary science and math collection.","Bilingual",22.6,16.95,"510--dc23","24 pp.",{"$f":"Table1[[#This Row],['# Books]]*Table1[[#This Row],[QTY]]","v":0},{"$f":"Table1[[#This Row],[QTY]]*Table1[[#This Row],[S&L Price]]","v":0}]
[null,159,null,"¡Matemáticas en todas partes! / Math Is Everywhere!",1,"Matemáticas con juguetes / Math with Toys","Library Bound Book",null,"978-1-4824-5214-3",2017,"August 2016","Library","7.625 X 7.125","Author, Translated by","Rory McDonnell, Eida de la Vega",1.9,0.5,null,null,"B",null,"Grade K","Grade Pre-K - 2","Math and toys-a perfect combination! This volume, full of highinterest and familiar toys, demonstrates to young readers how they can see mathematical concepts even in the midst of playtime. They'll review Common Core math standards such as counting, sorting, comparing sizes, and identifying shapes and two-dimensional and three-dimensional objects. The bright, atlevel text is mirrored by colorful photographs.","Bilingual",22.6,16.95,"510--dc23","24 pp.",{"$f":"Table1[[#This Row],['# Books]]*Table1[[#This Row],[QTY]]","v":0},{"$f":"Table1[[#This Row],[QTY]]*Table1[[#This Row],[S&L Price]]","v":0}]
[null,159,null,"¡Matemáticas en todas partes! / Math Is Everywhere!",1,"Matemáticas con ruedas / Math with Wheels","eBook",null,"978-1-4824-5219-8",2017,"August 2016",null,null,"Author, Translated by","Rory McDonnell, Eida de la Vega",1.4,0.5,null,null,"C",null,"Grade K","Grade Pre-K - 2","Grab your bike-it's time to ride. That's the fun activity that begins this inviting book. The narrator looks for wheels in a ride around town, adding them as he goes and encouraging readers to do the same. He encounters friends on bikes with training wheels, a unicycle, and even a policeman on a motorcycle. Math is everywhere, even on wheels!\n\n","Bilingual",22.6,16.95,"510--dc23","24 pp.",{"$f":"Table1[[#This Row],['# Books]]*Table1[[#This Row],[QTY]]","v":0},{"$f":"Table1[[#This Row],[QTY]]*Table1[[#This Row],[S&L Price]]","v":0}]
[null,159,null,"Nuestros colores preferidos / Our Favorite Colors",1,"¡Nos encanta el amarillo! / We Love Yellow!","eBook",null,"978-1-4824-4322-6",2016,"January 2016",null,null,"Author, Translated by","Richard Little, Eida de la Vega",null,null,null,null,"B",null,"Grade K","Grade K - 1","Yellow is an important part of our daily lives. Yellow school buses, traffic lights, bananas, butter, and more populate our day, whether we realize it or not. This accessible text will reveal to readers the many shades of yellow all around them. As they turn each page, they’ll recognize objects in the photos, identify them, and practice the accompanying vocabulary. A concluding activity will help them display their understanding of the concept of yellow.","Bilingual",22.6,16.95,"535.6—dc23","24 pp.",{"$f":"Table1[[#This Row],['# Books]]*Table1[[#This Row],[QTY]]","v":0},{"$f":"Table1[[#This Row],[QTY]]*Table1[[#This Row],[S&L Price]]","v":0}]
[null,159,null,"Nuestros colores preferidos / Our Favorite Colors",1,"¡Nos encanta el morado! / We Love Purple!","Library Bound Book",null,"978-1-4824-4352-3",2016,"January 2016","Library","7.000 X 7.000","Author, Translated by","Richard Little, Eida de la Vega",null,null,null,null,"B",null,"Grade K","Grade K - 1","Grapes, plums, jams . . . some tasty things are the color purple! Readers of this bright volume will discover this fun fact as well as see varying shades of color in common objects from their lives as they turn each page. Recognizable items and comprehensible text make this book a valuable tool for improving reading comprehension and reviewing color concepts.","Bilingual",22.6,16.95,"535.6—dc23","24 pp.",{"$f":"Table1[[#This Row],['# Books]]*Table1[[#This Row],[QTY]]","v":0},{"$f":"Table1[[#This Row],[QTY]]*Table1[[#This Row],[S&L Price]]","v":0}]
[null,159,null,"Nuestros colores preferidos / Our Favorite Colors",1,"¡Nos encanta el verde! / We Love Green!","Library Bound Book",null,"978-1-4824-4354-7",2016,"January 2016","Library","7.000 X 7.000","Author, Translated by","Emma O'Connell, Eida de la Vega",null,null,null,null,"B",null,"Grade K","Grade K - 1","Grasping the concept of colors is an important step in early education. In this book, readers can dive into the color green through vibrant photographs and bright text. Turtles, snakes, grapes, leaves, and more familiar objects aid them in both understanding varying hues of this color as well as recognizing vocabulary words of the depicted items. The end of the volume provides an opportunity for evaluation.","Bilingual",22.6,16.95,"535.6—dc23","24 pp.",{"$f":"Table1[[#This Row],['# Books]]*Table1[[#This Row],[QTY]]","v":0},{"$f":"Table1[[#This Row],[QTY]]*Table1[[#This Row],[S&L Price]]","v":0}]
[null,160,null,"¡Podemos hacerlo! / We Can Do It!",1,"¡A limpiar! / Let's Clean Up!","Library Bound Book",null,"978-1-4824-4355-4",2016,"January 2016","Library","7.625 X 7.125","Author, Translated by","Lois Fortuna, Nathalie Beullens-Maoui",null,null,null,null,"C",null,"Grade K","Grade K - 2","Cleaning sounds like a tough and dirty job, but it can be fun! Budding readers learn how to take the tough task of cleaning up and make the most of it, helping their families and the environment along the way. Through vivid photographs paired with accessible text, readers see how a family cleans up bedrooms, the kitchen, the car, and even the front yard. This engaging book is sure to get readers on a spring cleaning kick, as they learn the value of a clean home and a job well done.","Bilingual",22.6,16.95,"648—dc23","24 pp.",{"$f":"Table1[[#This Row],['# Books]]*Table1[[#This Row],[QTY]]","v":0},{"$f":"Table1[[#This Row],[QTY]]*Table1[[#This Row],[S&L Price]]","v":0}]
[null,160,null,"¡Podemos hacerlo! / We Can Do It!",1,"Ayudar con la cena / Helping with Dinner","eBook",null,"978-1-4824-4329-5",2016,"January 2016",null,null,"Author, Translated by","Lois Fortuna, Nathalie Beullens-Maoui",null,null,null,null,"C",null,"Grade K","Grade K - 2","Everyone loves a good meal, and this book puts the chef’s hat on beginning readers as they get a firsthand look at helping prepare a healthy meal. Colorful photographs paired with simple text lets readers join the fun as peers chop vegetables and prepare a salad. They also get a look at how to make pasta, using a wooden spoon to stir as it cooks. This hands-on look at putting food on the dinner table is sure to excite emerging readers—and maybe even make them hungry!","Bilingual",22.6,16.95,"641.5—dc23","24 pp.",{"$f":"Table1[[#This Row],['# Books]]*Table1[[#This Row],[QTY]]","v":0},{"$f":"Table1[[#This Row],[QTY]]*Table1[[#This Row],[S&L Price]]","v":0}]
[null,160,null,"¡Podemos hacerlo! / We Can Do It!",1,"Sembrar plantas / Growing Plants","Library Bound Book",null,"978-1-4824-4359-2",2016,"January 2016","Library","7.625 X 7.125","Author, Translated by","Lois Fortuna, Nathalie Beullens-Maoui",null,null,null,null,"C",null,"Grade K","Grade K - 2","There are lots of different kinds of plants. From the grass beneath our feet to the fruits and vegetables we eat, plant life surrounds us. This engaging book gives budding readers a guide to growing plants of their own. Whether planting a vegetable garden or planting flowers, most plants come from tiny seeds. From there, readers learn how to water these seeds and tend to what soon comes out of the ground, learning an essential life process with the help of colorful photographs paired with simple text.","Bilingual",22.6,16.95,"630—d23","24 pp.",{"$f":"Table1[[#This Row],['# Books]]*Table1[[#This Row],[QTY]]","v":0},{"$f":"Table1[[#This Row],[QTY]]*Table1[[#This Row],[S&L Price]]","v":0}]
[null,160,null,"¡Podemos hacerlo! / We Can Do It!",1,"Sembrar plantas / Growing Plants","eBook",null,"978-1-4824-4331-8",2016,"January 2016",null,null,"Author, Translated by","Lois Fortuna, Nathalie Beullens-Maoui",null,null,null,null,"C",null,"Grade K","Grade K - 2","There are lots of different kinds of plants. From the grass beneath our feet to the fruits and vegetables we eat, plant life surrounds us. This engaging book gives budding readers a guide to growing plants of their own. Whether planting a vegetable garden or planting flowers, most plants come from tiny seeds. From there, readers learn how to water these seeds and tend to what soon comes out of the ground, learning an essential life process with the help of colorful photographs paired with simple text.","Bilingual",22.6,16.95,"630—d23","24 pp.",{"$f":"Table1[[#This Row],['# Books]]*Table1[[#This Row],[QTY]]","v":0},{"$f":"Table1[[#This Row],[QTY]]*Table1[[#This Row],[S&L Price]]","v":0}]
[null,160,null,"Vamos a agrupar por… / Sort It Out!",1,"Formas / Sort It by Shape","eBook",null,"978-1-4824-3218-3",2016,"August 2015",null,null,"Author, Translated by","Emmett Alexander, Eida de la Vega",null,null,4,null,"D",null,"Grade K - 1","Grade K - 2","Our world is made up of shapes. This colorful book will enable beginning readers to visualize that as they examine photographs of objects in their daily lives, such as books, clocks, and sandwiches. They'll also learn how to sort certain shapes from other shapes through clear text and supporting photographs. This valuable book is a beneficial introduction to essential concepts in the early elementary mathematics curriculum.","Bilingual",22.6,16.95,"512.2","24 pp.",{"$f":"Table1[[#This Row],['# Books]]*Table1[[#This Row],[QTY]]","v":0},{"$f":"Table1[[#This Row],[QTY]]*Table1[[#This Row],[S&L Price]]","v":0}]
[null,160,null,"Vamos a agrupar por… / Sort It Out!",1,"Sonidos / Sort It by Sound","Library Bound Book",null,"978-1-4824-3221-3",2016,"August 2015","Library","7.000 X 7.000","Author, Translated by","Nicholas O'Hara, Eida de la Vega",null,null,3,null,"C",null,"Grade K - 1","Grade K - 2","People sort and classify using several kinds of categories, including sound. Readers of this accessible book will consider what's loud and what's quiet in the world around them. They'll discover some things, like music and people, can be loud or quiet. Sorting one from another is perfectly illustrated with carefully chosen photographs throughout this inviting book.","Bilingual",22.6,16.95,"534","24 pp.",{"$f":"Table1[[#This Row],['# Books]]*Table1[[#This Row],[QTY]]","v":0},{"$f":"Table1[[#This Row],[QTY]]*Table1[[#This Row],[S&L Price]]","v":0}]
[null,161,null,"Animales del zoológico / Zoo Animals",1,"Avestruces / Ostriches at the Zoo","eBook",null,"978-1-4824-3234-3",2016,"August 2015",null,null,"Author","Finn Ward",null,null,null,null,"C",null,"Grade K","Grade K - 2","Ostriches are the largest birds on Earth, and many of these supersized animals call zoos home. These big birds don’t bury their heads in the sand like many believe, but they do all sorts of amazing things. Running more than 40 miles (64.4 km) per hour and using their wings to steer as they go, these big birds will wow beginning readers with their lives inside their zoo habitats. Through simple text and full-color photography readers will also learn how zookeepers take care of ostriches and make sure they live long, happy lives.","Bilingual",22.6,16.95,"598.5","24 pp.",{"$f":"Table1[[#This Row],['# Books]]*Table1[[#This Row],[QTY]]","v":0},{"$f":"Table1[[#This Row],[QTY]]*Table1[[#This Row],[S&L Price]]","v":0}]
[null,161,null,"Animales del zoológico / Zoo Animals",1,"Elefantes / Elephants at the Zoo","Library Bound Book",null,"978-1-4824-3227-5",2016,"August 2015","Library","7.625 X 7.125","Author","Finn Ward",null,null,null,null,"C",null,"Grade K","Grade K - 2","Elephants are incredibly large animals that need lots of space to roam. Making them feel at home in a zoo is a tough job, but lots of people work hard every day to keep these amazing creatures happy. Through accessible text and vibrant photographs, budding readers will learn about the zookeepers that feed and care for elephants, as well as help them raise their young. From their big ears to their big appetites, there’s a lot to learn about elephants at the zoo.","Bilingual",22.6,16.95,"599.67","24 pp.",{"$f":"Table1[[#This Row],['# Books]]*Table1[[#This Row],[QTY]]","v":0},{"$f":"Table1[[#This Row],[QTY]]*Table1[[#This Row],[S&L Price]]","v":0}]
[null,161,null,"Animales del zoológico / Zoo Animals",1,"Jirafas / Giraffes at the Zoo","eBook",null,"978-1-4824-3230-5",2016,"August 2015",null,null,"Author","Finn Ward",null,null,null,null,"C",null,"Grade K","Grade K - 2","Giraffes are the tallest land animals on Earth, and these big creatures have a lot to teach readers about zoo life. Through simple text and well-chosen photographs, beginning readers will love learning about a day in the life of a giraffe at the zoo. From their love of munching leaves to raising their young, giraffes are some of young readers’ favorite animals to see at the zoo.","Bilingual",22.6,16.95,"599.638","24 pp.",{"$f":"Table1[[#This Row],['# Books]]*Table1[[#This Row],[QTY]]","v":0},{"$f":"Table1[[#This Row],[QTY]]*Table1[[#This Row],[S&L Price]]","v":0}]
[null,161,null,"Mi mundo / Inside My World",6,"Mi mundo / Inside My World","Library Set",null,"978-1-4824-2355-6",2015,"January 2015","Library","7.625 X 7.125",null,"",null,null,null,null,null,null,"Grade K","Grade K - 2","With fun and relatable themes like school, family, and neighborhoods, young readers will dive into the everyday world and learn about the lives of others. Colorful photographs and accessible content to bring to life ordinary places and set the stage for learning early concepts and improving vocabulary. From exploring first pets to experiencing a birthday party, readers will be eager to take a look Inside My World.    • ATOS reading level below 1.0  • High-interest topic that will appeal to even reluctant readers  • Introduction to informational-text features, such as an index and table of contents  • Clear explanations of domain-specific words and phrases","Bilingual",135.6,101.7,null,"24 pp.",{"$f":"Table1[[#This Row],['# Books]]*Table1[[#This Row],[QTY]]","v":0},{"$f":"Table1[[#This Row],[QTY]]*Table1[[#This Row],[S&L Price]]","v":0}]
[null,161,null,"Mi mundo / Inside My World",1,"Mi alcancía /My Piggy Bank","Library Bound Book",null,"978-1-4824-2364-8",2015,"January 2015","Library","7.625 X 7.125","Author","Tina Benjamin",null,null,null,null,"C",null,"Grade K","Grade K - 2","Why are piggy banks shaped like pigs? And more importantly, do they help us save money? Early readers will learn all about piggy banks in this fun book that takes a look at saving money with the help of a tiny pig-shaped friend. From coins like nickels and dimes to larger amounts of money, color photographs and accessible text explore one child’s quest to save for and buy a baseball glove. Readers will learn that sometimes you have to break the bank if you want to buy something new!","Bilingual",22.6,16.95,"332.024","24 pp.",{"$f":"Table1[[#This Row],['# Books]]*Table1[[#This Row],[QTY]]","v":0},{"$f":"Table1[[#This Row],[QTY]]*Table1[[#This Row],[S&L Price]]","v":0}]
[null,161,null,"Mi mundo / Inside My World",1,"Mi alcancía /My Piggy Bank","eBook",null,"978-1-4824-2365-5",2015,"January 2015",null,null,"Author","Tina Benjamin",null,null,null,null,"C",null,"Grade K","Grade K - 2","Why are piggy banks shaped like pigs? And more importantly, do they help us save money? Early readers will learn all about piggy banks in this fun book that takes a look at saving money with the help of a tiny pig-shaped friend. From coins like nickels and dimes to larger amounts of money, color photographs and accessible text explore one child’s quest to save for and buy a baseball glove. Readers will learn that sometimes you have to break the bank if you want to buy something new!","Bilingual",22.6,16.95,"332.024","24 pp.",{"$f":"Table1[[#This Row],['# Books]]*Table1[[#This Row],[QTY]]","v":0},{"$f":"Table1[[#This Row],[QTY]]*Table1[[#This Row],[S&L Price]]","v":0}]
[null,162,null,"Cuando sea grande / When I Grow Up",6,"Cuando sea grande / When I Grow Up","Library Set",null,"978-1-4824-1029-7",2015,"August 2014","Library","7.625 X 7.125",null,"",null,null,null,null,null,null,"Grade K","Grade K - 2","In this series, beginning readers get to dig deep into a variety of jobs and decide what career path to explore. Whether they want to go to the moon, run the country, paint beautiful pictures, or serenade an audience, these titles show what it takes to accomplish your goals. Presented in both standard Latin American Spanish and English, readers learn how they can be anything they want when they grow up.     • Introduces job opportunities to young readers  • Focuses on math and science training for job development  • Develops goals for beginning readers  This series published subject to a trademark license with WIGU Publishing, LLC.","Bilingual",135.6,101.7,null,"24 pp.",{"$f":"Table1[[#This Row],['# Books]]*Table1[[#This Row],[QTY]]","v":0},{"$f":"Table1[[#This Row],[QTY]]*Table1[[#This Row],[S&L Price]]","v":0}]
[null,162,null,"Cuando sea grande / When I Grow Up",1,"Puedo ser un artista / I Can Be an Artist","eBook",null,"978-1-4824-0862-1",2015,"August 2014",null,null,"Author","Alex Appleby",null,null,3,null,"C",null,"Grade K","Grade K - 2","Lots of students doodle in the margins of their schoolwork, but the truly creative are destined for a career in the arts. In this exciting book, presented in standard Latin American Spanish and English, early readers learn how make a career out of their artistic talents. Whether they like to draw, paint, or sculpt, readers explore the various arts with the help of vivid full-color photographs. Strong picture-text correlation and accessible text shows readers how they can help make the world a beautiful place. This title published subject to a trademark license with WIGU Publishing, LLC.","Bilingual",22.6,16.95,"709","24 pp.",{"$f":"Table1[[#This Row],['# Books]]*Table1[[#This Row],[QTY]]","v":0},{"$f":"Table1[[#This Row],[QTY]]*Table1[[#This Row],[S&L Price]]","v":0}]
[null,162,null,"Cuando sea grande / When I Grow Up",1,"Puedo ser una bailarina / I Can Be a Ballerina","Library Bound Book",null,"978-1-4824-0857-7",2015,"August 2014","Library","7.625 X 7.125","Author","Alex Appleby",null,null,3,null,"C",null,"Grade K","Grade K - 2","Being a ballerina requires lots of hard work and dedication, but early readers of this book, presented in standard Latin American Spanish and English, learn that you can be anything you want when you grow up. Full-color photographs of a ballerina’s graceful steps provide strong picture-text correlation, and accessible text helps readers establish early reading skills in this dynamic look at the world of ballet. This title published subject to a trademark license with WIGU Publishing, LLC.","Bilingual",22.6,16.95,"792.8","24 pp.",{"$f":"Table1[[#This Row],['# Books]]*Table1[[#This Row],[QTY]]","v":0},{"$f":"Table1[[#This Row],[QTY]]*Table1[[#This Row],[S&L Price]]","v":0}]
[null,162,null,"Cuando sea grande / When I Grow Up",1,"Puedo ser una bailarina / I Can Be a Ballerina","eBook",null,"978-1-4824-0858-4",2015,"August 2014",null,null,"Author","Alex Appleby",null,null,3,null,"C",null,"Grade K","Grade K - 2","Being a ballerina requires lots of hard work and dedication, but early readers of this book, presented in standard Latin American Spanish and English, learn that you can be anything you want when you grow up. Full-color photographs of a ballerina’s graceful steps provide strong picture-text correlation, and accessible text helps readers establish early reading skills in this dynamic look at the world of ballet. This title published subject to a trademark license with WIGU Publishing, LLC.","Bilingual",22.6,16.95,"792.8","24 pp.",{"$f":"Table1[[#This Row],['# Books]]*Table1[[#This Row],[QTY]]","v":0},{"$f":"Table1[[#This Row],[QTY]]*Table1[[#This Row],[S&L Price]]","v":0}]
[null,162,null,"Mis cinco sentidos / My Five Senses",1,"Lo que huelo / What I Smell","eBook",null,"978-1-4824-1034-1",2015,"August 2014",null,null,"Author","Alex Appleby",null,null,3,null,"C",null,"Grade K","Grade K - 2","How do we know when it’s time to eat? Sometimes, it’s because we smell something yummy cooking! Early readers dive nose-first into the world of the smells around them, including bad smells like a garbage dump or good smells like apple pie. Accessible language and strong picture-text correlation, presented in standard Latin American Spanish and English, introduces readers to all of the things the nose knows!","Bilingual",22.6,16.95,"612.8","24 pp.",{"$f":"Table1[[#This Row],['# Books]]*Table1[[#This Row],[QTY]]","v":0},{"$f":"Table1[[#This Row],[QTY]]*Table1[[#This Row],[S&L Price]]","v":0}]
[null,162,null,"Mis cinco sentidos / My Five Senses",1,"Lo que toco / What I Touch","Library Bound Book",null,"978-1-4824-0877-5",2015,"August 2014","Library","7.625 X 7.125","Author","Alex Appleby",null,null,3,null,"C",null,"Grade K","Grade K - 2","Touch is one of the earliest senses we develop. It’s easy to understand: just reach out and grab it! Beginning readers are given an opportunity to explore a world of textures in this book presented in standard Latin American Spanish and English. From rough surfaces like sand to smooth cloths and silks, the contrast between sensations makes for a learning experience at every turn. Full-color photographs provide strong picture-text correlation to enhance comprehension of this basic science concept.","Bilingual",22.6,16.95,"612.8","24 pp.",{"$f":"Table1[[#This Row],['# Books]]*Table1[[#This Row],[QTY]]","v":0},{"$f":"Table1[[#This Row],[QTY]]*Table1[[#This Row],[S&L Price]]","v":0}]
[null,163,null,"Cuida tus modales / Minding Our Manners",1,"¡A compartir! / Let's Share!","Library Bound Book",null,"978-1-4824-1737-1",2015,"January 2015","Library","7.000 X 7.000","Author","Walter LaPlante",null,null,2,null,"B",null,"Grade Pre-K - K","Grade Pre-K - 1","No matter their age, sharing is one of the most important skills children can learn and practice. It’s something they will do at school, home, and even later in life. Through understandable and age-appropriate language, readers learn what sharing is and how to do it. Common feelings associated with sharing are addressed, including the difficulties of sharing and why it’s important. Photographs add color and enhance the ideas of friendship that are an integral part of sharing.","Bilingual",22.6,16.95,"177","24 pp.",{"$f":"Table1[[#This Row],['# Books]]*Table1[[#This Row],[QTY]]","v":0},{"$f":"Table1[[#This Row],[QTY]]*Table1[[#This Row],[S&L Price]]","v":0}]
[null,163,null,"Cuida tus modales / Minding Our Manners",1,"Di la verdad / Telling the Truth","Library Bound Book",null,"978-1-4824-1743-2",2015,"January 2015","Library","7.000 X 7.000","Author","Reese Donaghey",null,null,2,null,"B",null,"Grade Pre-K - K","Grade Pre-K - 1","Telling the truth can be difficult and upsetting, especially if the outcome could cause trouble. A lie might seem the easier course when you’ve broken your brother’s favorite toy or haven’t yet cleaned your room, though you were asked to. Readers are introduced to the definition of a lie through accessible language and real-life examples. Then, the benefits of truth telling are presented to readers in a way that’s easy to understand and apply to their lives immediately. Full-color photographs accompany the text to help readers identify with the outcomes of a lie and the reasons to tell the truth instead.","Bilingual",22.6,16.95,"177","24 pp.",{"$f":"Table1[[#This Row],['# Books]]*Table1[[#This Row],[QTY]]","v":0},{"$f":"Table1[[#This Row],[QTY]]*Table1[[#This Row],[S&L Price]]","v":0}]
[null,163,null,"Cuida tus modales / Minding Our Manners",1,"Los celos / Dealing with Jealousy","eBook",null,"978-1-4824-1735-7",2015,"January 2015",null,null,"Author","Santana Hunt",null,null,2,null,"B",null,"Grade Pre-K - K","Grade Pre-K - 1","Jealousy starts in childhood and doesn’t end there! It’s very hard to understand why others have things that we want—especially when we know we can’t have them. Readers are introduced to this complicated emotion in understandable, age-appropriate language. Full-color photographs illustrate the feeling of jealousy, while the text explains how to deal with situations in which readers might feel jealous. Readers’ feelings are acknowledged so they begin to learn that jealousy isn’t bad—it’s something everyone deals with.","Bilingual",22.6,16.95,"152.4","24 pp.",{"$f":"Table1[[#This Row],['# Books]]*Table1[[#This Row],[QTY]]","v":0},{"$f":"Table1[[#This Row],[QTY]]*Table1[[#This Row],[S&L Price]]","v":0}]
[null,163,null,"Mis deportes favoritos / My Favorite Sports",6,"Mis deportes favoritos / My Favorite Sports","Library Set",null,"978-1-4824-1186-7",2015,"August 2014","Library","7.625 X 7.125",null,"",null,null,null,null,null,null,"Grade K","Grade K - 2","Beginning readers get in the game with this exhilarating series that highlights the fast-paced action and thrills of different sports. They learn how to have fun with their friends no matter what sport they pick. Whether they want to be an Olympic gymnast or a soccer star, these books are sure to engage and inspire. Readers learn how to shoot hoops, get their kicks on the soccer field, and even get their thrills on ice! Presented in both standard Latin American Spanish and English, readers will learn all their favorite sports while colorful photographs make these books a must for any collection.     • Leveled informational text supports the Common Core standards  • Introduces basic sports terminology • Picture glossary helps to develop vocabulary skills","Bilingual",135.6,101.7,null,"24 pp.",{"$f":"Table1[[#This Row],['# Books]]*Table1[[#This Row],[QTY]]","v":0},{"$f":"Table1[[#This Row],[QTY]]*Table1[[#This Row],[S&L Price]]","v":0}]
[null,163,null,"Mis deportes favoritos / My Favorite Sports",1,"Me encanta el fútbol / I Love Soccer","Library Bound Book",null,"978-1-4824-0855-3",2015,"August 2014","Library","7.625 X 7.125","Author","Ryan Nagelhout",null,null,3,null,"C",null,"Grade K","Grade K - 2","Soccer is a fast and fun sport to read about and even more fun to play! From the big saves to the even bigger goals, taking the pitch with friends is a great way to get active and have fun. In this exciting book, presented in standard Latin American Spanish and English, readers will establish first concepts and literacy skills while exploring the world of soccer. Whether you want to play defense, defend the net, or score goals, soccer is a great sport to fall in love with, and full-color photographs and picture glossary helps readers learn about the sport while establishing basic literacy skills to prepare them for a lifetime of fun, both with books and a soccer ball.","Bilingual",22.6,16.95,"796.334","24 pp.",{"$f":"Table1[[#This Row],['# Books]]*Table1[[#This Row],[QTY]]","v":0},{"$f":"Table1[[#This Row],[QTY]]*Table1[[#This Row],[S&L Price]]","v":0}]
[null,163,null,"Mis deportes favoritos / My Favorite Sports",1,"Me encanta el fútbol / I Love Soccer","eBook",null,"978-1-4824-0856-0",2015,"August 2014",null,null,"Author","Ryan Nagelhout",null,null,3,null,"C",null,"Grade K","Grade K - 2","Soccer is a fast and fun sport to read about and even more fun to play! From the big saves to the even bigger goals, taking the pitch with friends is a great way to get active and have fun. In this exciting book, presented in standard Latin American Spanish and English, readers will establish first concepts and literacy skills while exploring the world of soccer. Whether you want to play defense, defend the net, or score goals, soccer is a great sport to fall in love with, and full-color photographs and picture glossary helps readers learn about the sport while establishing basic literacy skills to prepare them for a lifetime of fun, both with books and a soccer ball.","Bilingual",22.6,16.95,"796.334","24 pp.",{"$f":"Table1[[#This Row],['# Books]]*Table1[[#This Row],[QTY]]","v":0},{"$f":"Table1[[#This Row],[QTY]]*Table1[[#This Row],[S&L Price]]","v":0}]
[null,163,null,"Mis deportes favoritos / My Favorite Sports",1,"Me encanta la gimnasia / I Love Gymnastics","Library Bound Book",null,"978-1-4824-0852-2",2015,"August 2014","Library","7.625 X 7.125","Author","Ryan Nagelhout",null,null,3,null,"C",null,"Grade K","Grade K - 2","Gymnastics are a great way for kids to get active at an early age. The rolling, tumbling, and flipping in a safe environment can one day lead to big moves and exciting Olympic performances. Starting small, though, is a great way to build both reading and gymnastic skills and establish the foundation for future greatness. Early readers get an inside look at the gymnastics studio, building strength and learning new moves while also learning about mat safety. Technical terminology presented in standard Latin American Spanish and English and fun, full-color photographs provide strong picture-text correlation and help readers build a love for gymnastics with every page.","Bilingual",22.6,16.95,"796.44","24 pp.",{"$f":"Table1[[#This Row],['# Books]]*Table1[[#This Row],[QTY]]","v":0},{"$f":"Table1[[#This Row],[QTY]]*Table1[[#This Row],[S&L Price]]","v":0}]
[null,164,null,"Big Machines",1,"Cranes","eBook",null,"978-1-4339-5555-6",2012,"August 2011",null,null,"Author","Katie Kawa",0.9,0.5,3,4,"C","220L","Grade K","Grade K - 2","Cranes can be seen hard at work in big cities every day. There are many different sizes and types of cranes that are each tailored for a specific, and very important, job. With the help of easy-to-follow text, beginning readers learn about the many different kinds of cranes—from ones that stand tall to ones that can fly. Detailed pictures show these various cranes on the job in a way that makes learning about machines fascinating and fun.","English",22.6,16.95,"621.8","24 pp.",{"$f":"Table1[[#This Row],['# Books]]*Table1[[#This Row],[QTY]]","v":0},{"$f":"Table1[[#This Row],[QTY]]*Table1[[#This Row],[S&L Price]]","v":0}]
[null,164,null,"Big Machines",1,"Loaders","Library Bound Book",null,"978-1-4339-5566-2",2012,"August 2011","Library","7.625 X 7.125","Author","Katie Kawa",0.9,0.5,3,4,"C","300L","Grade K","Grade K - 2","Life would be a lot harder without loaders. They move snow away so people can get around in the winter, carry materials that are used to build houses, and do many other important jobs. Accessible text presents the mechanics of loaders in a way that is clear for even beginning readers, while a variety of photographs show loaders hard at work. A picture glossary helps readers visualize and remember early vocabulary.","English",22.6,16.95,"621.8/6","24 pp.",{"$f":"Table1[[#This Row],['# Books]]*Table1[[#This Row],[QTY]]","v":0},{"$f":"Table1[[#This Row],[QTY]]*Table1[[#This Row],[S&L Price]]","v":0}]
[null,164,null,"Cute and Cuddly: Baby Animals",1,"Baby Koalas","Library Bound Book",null,"978-1-4339-5526-6",2012,"August 2011","Library","7.625 X 7.125","Author","Katie Kawa",1,0.5,3,4,"C","410L","Grade K","Grade K - 2","Are baby koalas really as small as a jellybean when they’re born? Readers will discover fascinating facts about these adorable animals—from how they get around to what they love to eat. Bright photographs, accessible text, and a picture glossary illuminate the world of baby koalas. From inside a mother koala’s pouch to the branches of tall trees, readers take a journey to see how baby koalas live and grow in the wild.","English",22.6,16.95,"599.2","24 pp.",{"$f":"Table1[[#This Row],['# Books]]*Table1[[#This Row],[QTY]]","v":0},{"$f":"Table1[[#This Row],[QTY]]*Table1[[#This Row],[S&L Price]]","v":0}]
[null,164,null,"Cute and Cuddly: Baby Animals",1,"Baby Seals","eBook",null,"978-1-4339-5535-8",2012,"August 2011",null,null,"Author","Katie Kawa",0.9,0.5,3,4,"C","340L","Grade K","Grade K - 2","There are many kinds of baby seals, in a variety of different sizes and colors. Beginning readers discover that all of these different kinds of baby seals really do have a lot in common. Fun facts, written in accessible language, explain where baby seals are born, what they eat, and even how they swim. Vibrant photographs show the many types of these beautiful baby animals in their natural habitat.","English",22.6,16.95,"599.79","24 pp.",{"$f":"Table1[[#This Row],['# Books]]*Table1[[#This Row],[QTY]]","v":0},{"$f":"Table1[[#This Row],[QTY]]*Table1[[#This Row],[S&L Price]]","v":0}]
[null,164,null,"Cute and Cuddly: Baby Animals",1,"Lambs","Library Bound Book",null,"978-1-4339-5546-4",2012,"August 2011","Library","7.625 X 7.125","Author","Katie Kawa",0.8,0.5,3,4,"C","280L","Grade K","Grade K - 2","Sweet little spring-born lambs are able to walk within minutes after birth, so they can graze and follow the flock. Readers will learn where lambs live, what they eat, and how we have used their fur for hundreds of years. Fascinating facts presented in accessible text explore the lives of these popular baby animals, and bright photographs bring beginning readers face-to-face with lambs at rest and at play.","English",22.6,16.95,"636.3","24 pp.",{"$f":"Table1[[#This Row],['# Books]]*Table1[[#This Row],[QTY]]","v":0},{"$f":"Table1[[#This Row],[QTY]]*Table1[[#This Row],[S&L Price]]","v":0}]
[null,164,null,"Pet Corner",1,"Cuddly Rabbits","eBook",null,"978-1-4339-5616-4",2012,"August 2011",null,null,"Author","Katie Kawa",0.9,0.5,3,4,"C",null,"Grade K","Grade K - 2","How do rabbits play? What kind of treats do they like? Are they really shy? Beginning readers find the answers to these questions and many more in this book! They discover fun facts about rabbits—from what they eat to where they live. Colorful photographs show many kinds of adorable rabbits in action. Accessible text allows beginning readers to discover for themselves how to take care of these hopping pets.","English",22.6,16.95,"636.932","24 pp.",{"$f":"Table1[[#This Row],['# Books]]*Table1[[#This Row],[QTY]]","v":0},{"$f":"Table1[[#This Row],[QTY]]*Table1[[#This Row],[S&L Price]]","v":0}]
[null,164,null,"Pet Corner",1,"Curious Cats","Library Bound Book",null,"978-1-4339-5586-0",2012,"August 2011","Library","7.625 X 7.125","Author","Katie Kawa",0.9,0.5,3,4,"C","240L","Grade K","Grade K - 2","Fans of the domestic feline pay a visit to pet corner, where they learn all about caring for the mysteriously independent but lovable cat. Young readers learn what cats eat, how they play, and how they’re taken care of when sick. They’re shown that even though cats are afraid of the water, they still have an inventive way to keep supremely clean. A picture glossary helps cement understanding of new words.","English",22.6,16.95,"636.8","24 pp.",{"$f":"Table1[[#This Row],['# Books]]*Table1[[#This Row],[QTY]]","v":0},{"$f":"Table1[[#This Row],[QTY]]*Table1[[#This Row],[S&L Price]]","v":0}]
[null,164,null,"Pet Corner",1,"Furry Hamsters","eBook",null,"978-1-4339-5604-1",2012,"August 2011",null,null,"Author","Katie Kawa",0.9,0.5,3,4,"C","350L","Grade K","Grade K - 2","Teeny, meek-seeming hamsters can travel up to 8 miles in one night in the wild. As pets, they provide hours of amusement. They run tirelessly on wheels, snoop around and move sawdust about the cage, and plump up their chubby cheeks with food morsels. From playtime to feeding time, readers learn how to take care of these popular pets.","English",22.6,16.95,"636.935","24 pp.",{"$f":"Table1[[#This Row],['# Books]]*Table1[[#This Row],[QTY]]","v":0},{"$f":"Table1[[#This Row],[QTY]]*Table1[[#This Row],[S&L Price]]","v":0}]
[null,164,null,"Pet Corner",1,"Happy Hermit Crabs","eBook",null,"978-1-4339-6294-3",2012,"January 2012",null,null,"Author","Rose Carraway",0.9,0.5,3,4,"C",null,"Grade K","Grade K - 2","Hermit crabs have 10 legs and switch shells when they get too big for their current shell. The answers to many questions about hermit crabs are found in this bilingual book. English language learners discover how to take care of these fascinating pets through accessible text presented in both English and standard Latin American Spanish. Detailed photographs are presented alongside engaging and informative text in a way that makes learning about these pets educational and entertaining.","English",22.6,16.95,"639","24 pp.",{"$f":"Table1[[#This Row],['# Books]]*Table1[[#This Row],[QTY]]","v":0},{"$f":"Table1[[#This Row],[QTY]]*Table1[[#This Row],[S&L Price]]","v":0}]
[null,164,null,"Pet Corner",1,"Slithering Snakes","Library Bound Book",null,"978-1-4339-6301-8",2012,"January 2012","Library","7.625 X 7.125","Author","Rose Carraway",0.9,0.5,3,4,"C",null,"Grade K","Grade K - 2","Snakes are very popular pets, and beginning readers learn important steps about taking care of them. Through accessible text, young readers are able to discover what pet snakes eat, where they should live, and many other important facts that snake owners need to know. Colorful photographs accompany these fascinating facts, and show a variety of pet snakes in great detail.","English",22.6,16.95,"639.3","24 pp.",{"$f":"Table1[[#This Row],['# Books]]*Table1[[#This Row],[QTY]]","v":0},{"$f":"Table1[[#This Row],[QTY]]*Table1[[#This Row],[S&L Price]]","v":0}]
[null,164,null,"Pet Corner",1,"Slithering Snakes","eBook",null,"978-1-4339-6302-5",2012,"January 2012",null,null,"Author","Rose Carraway",0.9,0.5,3,4,"C",null,"Grade K","Grade K - 2","Snakes are very popular pets, and beginning readers learn important steps about taking care of them. Through accessible text, young readers are able to discover what pet snakes eat, where they should live, and many other important facts that snake owners need to know. Colorful photographs accompany these fascinating facts, and show a variety of pet snakes in great detail.","English",22.6,16.95,"639.3","24 pp.",{"$f":"Table1[[#This Row],['# Books]]*Table1[[#This Row],[QTY]]","v":0},{"$f":"Table1[[#This Row],[QTY]]*Table1[[#This Row],[S&L Price]]","v":0}]
[null,164,null,"Word Play",1,"Homophones at Home","Library Bound Book",null,"978-1-4339-7187-7",2013,"August 2012","Library","7.000 X 7.000","Author","Kathleen Connors",null,null,10,9,"F",null,"Grade 1 - 2","Grade 1 - 3","Readers engage with a key language arts concept in a fun and relatable way. Colorful photographs help explain homophone examples within the context of a familiar environment and support accessible content. The easy-to-follow text makes vocabulary building and spelling exciting for beginning and reluctant readers.","English",22.6,16.95,"428.1","24 pp.",{"$f":"Table1[[#This Row],['# Books]]*Table1[[#This Row],[QTY]]","v":0},{"$f":"Table1[[#This Row],[QTY]]*Table1[[#This Row],[S&L Price]]","v":0}]
[null,164,null,"Word Play",1,"Punctuation at the Game","eBook",null,"978-1-4339-7198-3",2013,"August 2012",null,null,"Author","Kathleen Connors",null,null,10,9,"F",null,"Grade 1 - 2","Grade 1 - 3","Readers explore the many ways punctuation is used at sports games. A helpful introduction to an important language arts skill, the text supports classroom lessons using relatable content and easy-to-read language. Readers learn the many punctuation symbols through fun examples and colorful photographs.","English",22.6,16.95,"428.2","32 pp.",{"$f":"Table1[[#This Row],['# Books]]*Table1[[#This Row],[QTY]]","v":0},{"$f":"Table1[[#This Row],[QTY]]*Table1[[#This Row],[S&L Price]]","v":0}]
[null,164,null,"Hip-Hop Headliners",1,"Ciara","Library Bound Book",null,"978-1-4339-6600-2",2012,"January 2012","Library","6.500 X 9.000","Author","Maeve Griffin",2.5,0.5,16,16,"I",null,"Grade 1","Grade 3 - 8","Learn about Ciara’s musical journey in this book filled with vibrant photographs of one of today’s hottest stars. How did a young girl catch the eye of a major record label in the first place? Starting young as a singer-songwriter, current hip-hop princess, Ciara, was driven to succeed. Her hard work eventually led Billboard to name her Woman of the Year. Ciara continues to set goals and achieve them. ","English",25.25,18.95,"782.42164092","32 pp.",{"$f":"Table1[[#This Row],['# Books]]*Table1[[#This Row],[QTY]]","v":0},{"$f":"Table1[[#This Row],[QTY]]*Table1[[#This Row],[S&L Price]]","v":0}]
[null,164,null,"Hip-Hop Headliners",1,"Eminem","Library Bound Book",null,"978-1-4339-6608-8",2012,"January 2012","Library","6.500 X 9.000","Author","Roman O'Sorus",2.5,0.5,16,16,"I",null,"Grade 1","Grade 3 - 8","Few rappers have encountered as much turmoil in life as Eminem. He’s channeled much of his pain and anger into his music, crafting powerful lyrics and memorable beats. Read how this rapper rose to fame on the streets of Detroit and why he continues to top both pop and hip-hop charts worldwide. Colorful photographs accompany text and highlight the star’s long career in the public eye.","English",25.25,18.95,"782.42164909","32 pp.",{"$f":"Table1[[#This Row],['# Books]]*Table1[[#This Row],[QTY]]","v":0},{"$f":"Table1[[#This Row],[QTY]]*Table1[[#This Row],[S&L Price]]","v":0}]
[null,164,null,"Hip-Hop Headliners",1,"Kanye West","eBook",null,"978-1-4339-6613-2",2012,"January 2012",null,null,"Author","Ethan Grucella",2.4,0.5,16,16,"I",null,"Grade 1","Grade 3 - 8","Kanye West is controversial and undeniably talented. An unlikely hip-hop star from Chicago, he first started as a music producer in New York. Kanye has produced an extraordinary number of hit songs for other superstars of rap. His first chart-topping solo album forever changed the world of hip-hop. In this book, vibrant photographs put the spotlight on Kanye’s unique sense of style while the text focuses on the story of his rise in the music industry.","English",25.25,18.95,"782.42164909","32 pp.",{"$f":"Table1[[#This Row],['# Books]]*Table1[[#This Row],[QTY]]","v":0},{"$f":"Table1[[#This Row],[QTY]]*Table1[[#This Row],[S&L Price]]","v":0}]
[null,164,null,"Rising Stars",1,"Abigail Breslin","Library Bound Book",null,"978-1-4339-7272-0",2013,"August 2012","Library","6.500 X 9.000","Author","Avelyn Davidson",null,null,16,17,"I",null,"Grade 1","Grade 3 - 6","Abigail Breslin is one of the most celebrated and critically acclaimed young actors in Hollywood. Readers explore her rise to fame and the highlights of her busy acting career—including her role in Little Miss Sunshine, New Year's Eve, and beyond. Fun facts about this talented young star are presented in accessible text alongside colorful photographs and a helpful timeline of her life and career. This high-interest book is one that readers of all ages will find entertaining and engaging.","English",25.25,18.95,"791.4302/8092","32 pp.",{"$f":"Table1[[#This Row],['# Books]]*Table1[[#This Row],[QTY]]","v":0},{"$f":"Table1[[#This Row],[QTY]]*Table1[[#This Row],[S&L Price]]","v":0}]
[null,164,null,"Rising Stars",1,"Darren Criss","eBook",null,"978-1-4339-7279-9",2013,"August 2012",null,null,"Author","Avelyn Davidson",null,null,16,17,"I",null,"Grade 1","Grade 3 - 6","Readers discover the incredible story behind Darren Criss’s meteoric rise to fame with this high-interest topic. The multitalented musician and actor is most famous for his role as Blaine Anderson on the hit television show Glee, but this book reveals that there is much more to Darren Criss’s story than just his television career. Readers explore his roles on stage and screen in addition to his work as a singer and songwriter. Accessible text, bright photographs, and a detailed timeline of his life and career keep readers of all ages entertained as they learn fun facts about this up-and-coming star.","English",25.25,18.95,"792.02","32 pp.",{"$f":"Table1[[#This Row],['# Books]]*Table1[[#This Row],[QTY]]","v":0},{"$f":"Table1[[#This Row],[QTY]]*Table1[[#This Row],[S&L Price]]","v":0}]
[null,164,null,"Rising Stars",1,"Demi Lovato","Library Bound Book",null,"978-1-4339-5886-1",2012,"August 2011","Library","6.500 X 9.000","Author","Kristen Rajczak Nelson",2.7,0.5,16,15,"I",null,"Grade 1","Grade 3 - 6","Did you know Demi Lovato got her start on a children’s show starring a big purple dinosaur? From touring with the Jonas Brothers to starring in her own show on the Disney Channel, Demi has come a long way since then. With full-color photographs, a detailed timeline of key events in Demi’s life, and easy-to-read chapters detailing Demi’s acting and music, this book will make a fan of any reader.","English",25.25,18.95,"791.4302","32 pp.",{"$f":"Table1[[#This Row],['# Books]]*Table1[[#This Row],[QTY]]","v":0},{"$f":"Table1[[#This Row],[QTY]]*Table1[[#This Row],[S&L Price]]","v":0}]
[null,164,null,"Rising Stars",1,"Emma Stone","eBook",null,"978-1-4339-8976-6",2014,"August 2013",null,null,"Author","Marty Rueda",null,null,16,16,"I",null,"Grade 1","Grade 3 - 6"," Emma Stone took a big chance. She went to Hollywood at age 15 to try to break into show business. After many unsuccessful auditions, Stone finally got her big break. Since then, her rise to the top has been swift. The Amazing Spider-Man is just one of her blockbuster films. This high-interest, easy-to-follow biography will appeal to movie enthusiasts of all reading levels. Vivid photographs of Stone and her famous friends on the red carpet highlight her appealing star power. ","English",25.25,18.95,"921","32 pp.",{"$f":"Table1[[#This Row],['# Books]]*Table1[[#This Row],[QTY]]","v":0},{"$f":"Table1[[#This Row],[QTY]]*Table1[[#This Row],[S&L Price]]","v":0}]
[null,164,null,"Rising Stars",1,"Jordin Sparks","Library Bound Book",null,"978-1-4339-8981-0",2014,"August 2013","Library","6.500 X 9.000","Author","Michou Kennon",null,null,16,16,"I",null,"Grade 1","Grade 3 - 6"," Jordin Sparks won American Idol at the age of 17. Though young, she already had more than a decade of experience under her belt. In fact, she was singing in song contests when she was just 4 years old. Sparks has released several albums, scoring top-10 hits with each. She's been an actress on Broadway and starred in the movie Sparkle. This vivacious young woman is just beginning her career. Readers can follow Sparks's path from a baby singing her ABCs to one of today's most talented voices belting out heartfelt melodies. ","English",25.25,18.95,"921","32 pp.",{"$f":"Table1[[#This Row],['# Books]]*Table1[[#This Row],[QTY]]","v":0},{"$f":"Table1[[#This Row],[QTY]]*Table1[[#This Row],[S&L Price]]","v":0}]
[null,164,null,"Rising Stars",1,"KeKe Palmer","eBook",null,"978-1-4339-7286-7",2013,"August 2012",null,null,"Author","Avelyn Davidson",null,null,16,17,"I",null,"Grade 1","Grade 3 - 6","The career of KeKe Palmer is already filled with many highlights, and readers trace the path she followed as she rose to become the talented actress and musician she is today. Accessible texts allows readers to explore the life and career of this bright, young star in the worlds of film, television, and music. Fun facts about her career are presented in accessible language, and a helpful timeline summarizes important events in her life and career. Vivid photographs bring readers of all ages into her exciting world.","English",25.25,18.95,"791.4302","32 pp.",{"$f":"Table1[[#This Row],['# Books]]*Table1[[#This Row],[QTY]]","v":0},{"$f":"Table1[[#This Row],[QTY]]*Table1[[#This Row],[S&L Price]]","v":0}]
[null,164,null,"Rising Stars",1,"One Direction","eBook",null,"978-1-4339-8988-9",2014,"August 2013",null,null,"Author","Sam Salazar",null,null,16,16,"I",null,"Grade 1","Grade 3 - 6","One Direction truly took the world by storm. Five young men, appearing first as solo acts on the British show The X Factor, were given the chance to make it big as a boy band. Ever since their auditions in 2010, screaming throngs of fans have been following every move and hanging on every word. This accessible book takes a look at each member of the band (Liam Payne, Louis Tomlinson, Niall Horan, Harry Styles, and Zayn Malik) and their remarkable rise to the top of the charts.","English",25.25,18.95,"921","32 pp.",{"$f":"Table1[[#This Row],['# Books]]*Table1[[#This Row],[QTY]]","v":0},{"$f":"Table1[[#This Row],[QTY]]*Table1[[#This Row],[S&L Price]]","v":0}]
[null,165,null,"Rising Stars",1,"Selena Gomez","Library Bound Book",null,"978-1-4339-5902-8",2012,"August 2011","Library","6.500 X 9.000","Author","Maria Nelson",2.8,0.5,16,15,"I",null,"Grade 1","Grade 3 - 6","Selena Gomez didn’t use magic powers to become a star, even though she has them on TV. Learn more about how Selena got her start in this easy-to-read, high-interest book. Enhanced by photographs of this rising star acting and singing with her band, fun facts about Selena will interest even the most reluctant readers. The book also includes a timeline highlighting Selena’s greatest accomplishments thus far.","English",25.25,18.95,"791.4302","32 pp.",{"$f":"Table1[[#This Row],['# Books]]*Table1[[#This Row],[QTY]]","v":0},{"$f":"Table1[[#This Row],[QTY]]*Table1[[#This Row],[S&L Price]]","v":0}]
[null,165,null,"Rising Stars",1,"Victoria Justice","eBook",null,"978-1-4339-8992-6",2014,"August 2013",null,null,"Author","Abigail Shea",null,null,16,16,"I",null,"Grade 1","Grade 3 - 6","Victoria Justice is a singer, dancer, and actress familiar to fans of the popular television shows Victorious and iCarly. Victoria moved to Hollywood at the age of 10 to make her dream of acting come true. Her early work inspired her love of music and landed her a starring role in Victorious. Readers will love the glamorous photographs of Justice performing and walking the red carpet and learn what it took for her to succeed. A biographical timeline highlights her achievements.","English",25.25,18.95,"921","32 pp.",{"$f":"Table1[[#This Row],['# Books]]*Table1[[#This Row],[QTY]]","v":0},{"$f":"Table1[[#This Row],[QTY]]*Table1[[#This Row],[S&L Price]]","v":0}]
[null,165,null,"Superstars of Wrestling",1,"CM Punk","Library Bound Book",null,"978-1-4339-8522-5",2013,"January 2013","Library","6.500 X 9.000","Author","Ryan Nagelhout",2.7,0.5,16,16,"I",null,"Grade 1","Grade 3 - 6","CM Punk started a revolution in the WWE with his unique style and rebel antics. Detailing his rise as a WWE Superstar, this book is sure to spark interest in any young reader. Featuring full-color photographs, a detailed timeline of key events in Punk’s life, and easy-to-read chapters, this book will take you from his early days in Chicago to his rise at the top of the wrestling world. This book will satisfy even the most dedicated of wrestling fans.","English",25.25,18.95,"796.812092","32 pp.",{"$f":"Table1[[#This Row],['# Books]]*Table1[[#This Row],[QTY]]","v":0},{"$f":"Table1[[#This Row],[QTY]]*Table1[[#This Row],[S&L Price]]","v":0}]
[null,165,null,"Superstars of Wrestling",1,"CM Punk","eBook",null,"978-1-4339-8525-6",2013,"January 2013",null,null,"Author","Ryan Nagelhout",2.7,0.5,16,16,"I",null,"Grade 1","Grade 3 - 6","CM Punk started a revolution in the WWE with his unique style and rebel antics. Detailing his rise as a WWE Superstar, this book is sure to spark interest in any young reader. Featuring full-color photographs, a detailed timeline of key events in Punk’s life, and easy-to-read chapters, this book will take you from his early days in Chicago to his rise at the top of the wrestling world. This book will satisfy even the most dedicated of wrestling fans.","English",25.25,18.95,"796.812092","32 pp.",{"$f":"Table1[[#This Row],['# Books]]*Table1[[#This Row],[QTY]]","v":0},{"$f":"Table1[[#This Row],[QTY]]*Table1[[#This Row],[S&L Price]]","v":0}]
[null,165,null,"Superstars of Wrestling",1,"The Big Show","Library Bound Book",null,"978-1-4339-8535-5",2013,"January 2013","Library","6.500 X 9.000","Author","Ryan Nagelhout",2.8,0.5,16,16,"I",null,"Grade 1","Grade 3 - 6","The Big Show is one of the largest athletes on the planet. Detailing his rise as a WWE Superstar, this book is sure to spark interest in any young reader. Featuring full-color photographs, a detailed timeline of key events in Big Show’s career, and easy-to-read chapters, this book will show readers just how Paul Wight became the biggest and strongest grappler on the globe. It’s sure to satisfy even the most dedicated of wrestling fans.","English",25.25,18.95,"796.812092","32 pp.",{"$f":"Table1[[#This Row],['# Books]]*Table1[[#This Row],[QTY]]","v":0},{"$f":"Table1[[#This Row],[QTY]]*Table1[[#This Row],[S&L Price]]","v":0}]
[null,165,null,"Today's Great Quarterbacks",1,"Joe Flacco","eBook",null,"978-1-4824-0144-8",2014,"January 2014",null,null,"Author","Ryan Nagelhout",2.8,0.5,18,null,"J",null,"Grade 1","Grade 3 - 6","Every major college football team in America passed on Joe Flacco, but he’s a superstar in the NFL. In this book, learn how the Delaware quarterback set school records and worked his way to a Super Bowl championship in 2013. With fun facts about his life and a detailed timeline of his football career, even the most reluctant of readers will love tackling this hard-hitting book.    • High-interest topic attracts reluctant readers • Timeline of key events in the artist’s career • Excellent hi-lo resource  ","English",25.25,18.95,"796.332092","32 pp.",{"$f":"Table1[[#This Row],['# Books]]*Table1[[#This Row],[QTY]]","v":0},{"$f":"Table1[[#This Row],[QTY]]*Table1[[#This Row],[S&L Price]]","v":0}]
[null,165,null,"Today's Great Quarterbacks",1,"Robert Griffin III","eBook",null,"978-1-4824-0483-8",2014,"January 2014",null,null,"Author","Ryan Nagelhout",2.7,0.5,18,null,"J",null,"Grade 1","Grade 3 - 6","Robert Griffin III is one of the most exciting quarterbacks to play in the NFL in years. In 2012, he took the league by storm with an exciting running style and amazing athletic ability. Find out more about this superstar in this awesome high-interest book that will attract even the most reluctant of readers. Learn more about his nickname, how he grew up in a military family, and even his colorful sock collection. Can RG3 lead Washington back to a Super Bowl for the first time in decades? Only time will tell for this NFL superstar.    • High-interest topic attracts reluctant readers • Timeline of key events in the artist’s career • Excellent hi-lo resource  ","English",25.25,18.95,"796.332092","32 pp.",{"$f":"Table1[[#This Row],['# Books]]*Table1[[#This Row],[QTY]]","v":0},{"$f":"Table1[[#This Row],[QTY]]*Table1[[#This Row],[S&L Price]]","v":0}]
[null,165,null,"Today's Great Quarterbacks",1,"Tom Brady","Library Bound Book",null,"978-1-4824-0148-6",2014,"January 2014","Library","6.500 X 9.000","Author","Ryan Nagelhout",3,0.5,18,null,"J",null,"Grade 1","Grade 3 - 6","Tom Brady went from a late pick in the NFL Draft to one of the most dominant quarterbacks in the history of the league. In this high-interest book, learn more about the career of this New England Patriots great. From his time at the University of Michigan to his rise with the Patriots, the story of Tom Brady is one of football’s most famous tales. From his Super Bowl wins to his record-breaking seasons, Brady’s story will excite even the most reluctant of readers.    • High-interest topic attracts reluctant readers • Timeline of key events in the artist’s career • Excellent hi-lo resource  ","English",25.25,18.95,"796.332092","32 pp.",{"$f":"Table1[[#This Row],['# Books]]*Table1[[#This Row],[QTY]]","v":0},{"$f":"Table1[[#This Row],[QTY]]*Table1[[#This Row],[S&L Price]]","v":0}]
[null,165,null,"Drawing Is Fun",1,"Drawing Dinosaurs","eBook",null,"978-1-4339-5943-1",2012,"August 2011",null,null,"Illustrated by, Author","Gareth Editorial Staff, Rebecca Clunes",null,null,16,15,"I",null,"Grade 1 - 2","Grade 1 - 3","Young readers and artists can journey back in time to the Triassic Period as they learn how to draw their favorite prehistoric creatures in this helpful book. In just a few simple steps, readers discover how to create cartoon versions of their favorite dinosaurs—from the fierce Tyrannosaurus rex to the flying pteranodon. Fun facts are presented alongside colorful renderings of these popular dinosaurs, bringing the worlds of science and art together in one fantastic resource.","English",26.6,19.95,"743.6","32 pp.",{"$f":"Table1[[#This Row],['# Books]]*Table1[[#This Row],[QTY]]","v":0},{"$f":"Table1[[#This Row],[QTY]]*Table1[[#This Row],[S&L Price]]","v":0}]
[null,165,null,"You Can Draw",1,"Boats","Library Bound Book",null,"978-1-4339-7465-6",2013,"August 2012","Library","7.750 X 10.75","Author, Illustrated by","Mark Bergin, Mark Bergin",null,null,16,15,"H",null,"Grade 2","Grade 1 - 3","Calling all sailors, fishermen, and racers—the simple, step-by-step instructions teach readers to draw nine different kinds of boats. Readers discover how to make each design colorful and different. As they tackle a tugboat drawing or put the finishing touches on a fishing boat, readers will learn how to use basic drawing materials, terms, and concepts. A cool fact is included in each chapter, providing fun information about the featured boat.","English",26.6,19.95,"743","32 pp.",{"$f":"Table1[[#This Row],['# Books]]*Table1[[#This Row],[QTY]]","v":0},{"$f":"Table1[[#This Row],[QTY]]*Table1[[#This Row],[S&L Price]]","v":0}]
[null,165,null,"You Can Draw",1,"Trucks","Library Bound Book",null,"978-1-4339-7480-9",2013,"August 2012","Library","7.750 X 10.75","Author, Illustrated by","Mark Bergin, Mark Bergin",null,null,16,15,"H",null,"Grade 2","Grade 1 - 3","Whether it’s getting firefighters to a house fire or mixing up cement, trucks often have important jobs to do. This book highlights the many different ways a truck can look, and teaches readers to draw them using concise, step-by-step directions. Starting with a list of materials, this book uses simple instructions and illustrations to help budding artists move from their initial truck inspiration to colorful completion. Fun facts in each chapter will entice readers and keep them engaged from cover to cover.","English",26.6,19.95,"743","32 pp.",{"$f":"Table1[[#This Row],['# Books]]*Table1[[#This Row],[QTY]]","v":0},{"$f":"Table1[[#This Row],[QTY]]*Table1[[#This Row],[S&L Price]]","v":0}]
[null,165,null,"Draw Your Pet!",1,"You Can Draw Birds!","Library Bound Book",null,"978-1-4339-8723-6",2013,"January 2013","Library","8.500 X 11.00","Author, Illustrated by","Katie Dicker, Mike Saunders",null,null,28,22,"M",null,"Grade 2 - 3","Grade 3 - 5","Including the multicolored lovebird and the brightly hued canary, this book features fun and easy-to-follow instructions on how to draw birds. Along with brilliant photographs, readers will enjoy watching a finished picture emerge as they work from a pencil sketch to coloring their picture. Cool facts about each kind will make any reader a bird lover.","English",26.6,19.95,"743.6","32 pp.",{"$f":"Table1[[#This Row],['# Books]]*Table1[[#This Row],[QTY]]","v":0},{"$f":"Table1[[#This Row],[QTY]]*Table1[[#This Row],[S&L Price]]","v":0}]
[null,165,null,"Draw Your Pet!",1,"You Can Draw Dogs!","eBook",null,"978-1-4339-8734-2",2013,"January 2013",null,null,"Author, Illustrated by","Katie Dicker, Mike Saunders",null,null,28,22,"M",null,"Grade 2 - 3","Grade 3 - 5","Dogs come in many shapes, sizes, and colors. Readers will learn the basics of drawing a variety of breeds, including the long-haired Yorkshire terrier and the large German shepherd. Easy-to-follow directions with picture guides help readers sketch, shade, and add color to each dog drawing. Colorful photographs accompany interesting facts, introducing readers to details about owning a dog as well as caring for them.","English",26.6,19.95,"743.6","32 pp.",{"$f":"Table1[[#This Row],['# Books]]*Table1[[#This Row],[QTY]]","v":0},{"$f":"Table1[[#This Row],[QTY]]*Table1[[#This Row],[S&L Price]]","v":0}]
[null,165,null,"Draw Your Pet!",1,"You Can Draw Horses!","eBook",null,"978-1-4339-8746-5",2013,"January 2013",null,null,"Author, Illustrated by","Katie Dicker, Mike Saunders",null,null,28,22,"M",null,"Grade 2 - 3","Grade 3 - 5","From the super-smart Arabian to the ancient Appaloosa, all horse breeds need attention and care. This book not only gives readers essential knowledge about caring for pet horses, it also teaches how to draw them. Colorful photographs accompany step-by-step instructions that guide readers through outlining a horse’s body and shading in muscles and tails. Fun facts about each breed will keep readers turning pages long after a drawing is done.","English",26.6,19.95,"743.6","32 pp.",{"$f":"Table1[[#This Row],['# Books]]*Table1[[#This Row],[QTY]]","v":0},{"$f":"Table1[[#This Row],[QTY]]*Table1[[#This Row],[S&L Price]]","v":0}]
[null,165,null,"Craft Attack!",1,"Paper Crafts","Library Bound Book",null,"978-1-4824-0211-7",2014,"January 2014","Library","8.500 X 11.00","Author","Annalees Lim",null,null,24,20,"L",null,"Grade 3","Grade 3 - 5","Crafts using paper are quick and easy to make. From personalized stationary and envelopes to lovely paper bouquets, these crafts don’t require much more than a little glue, tape, and creativity. Readers follow clear instructions to complete each craft, using full-color photographs of each step to help them. There’s plenty of room for innovation, too, including choosing colors, drawing designs, and using personal photographs. Readers will be cutting and pasting in no time!","English",26.6,19.95,"745.54","32 pp.",{"$f":"Table1[[#This Row],['# Books]]*Table1[[#This Row],[QTY]]","v":0},{"$f":"Table1[[#This Row],[QTY]]*Table1[[#This Row],[S&L Price]]","v":0}]
[null,165,null,"Craft Attack!",1,"Paper Crafts","eBook",null,"978-1-4824-0212-4",2014,"January 2014",null,null,"Author","Annalees Lim",null,null,24,20,"L",null,"Grade 3","Grade 3 - 5","Crafts using paper are quick and easy to make. From personalized stationary and envelopes to lovely paper bouquets, these crafts don’t require much more than a little glue, tape, and creativity. Readers follow clear instructions to complete each craft, using full-color photographs of each step to help them. There’s plenty of room for innovation, too, including choosing colors, drawing designs, and using personal photographs. Readers will be cutting and pasting in no time!","English",26.6,19.95,"745.54","32 pp.",{"$f":"Table1[[#This Row],['# Books]]*Table1[[#This Row],[QTY]]","v":0},{"$f":"Table1[[#This Row],[QTY]]*Table1[[#This Row],[S&L Price]]","v":0}]
[null,165,null,"Craft Attack!",1,"Textile Crafts","Library Bound Book",null,"978-1-4824-0224-7",2014,"January 2014","Library","8.500 X 11.00","Author","Annalees Lim",null,null,24,20,"L",null,"Grade 3","Grade 3 - 5","Knowing how to use a needle and thread well can be a big help when mending clothes and other things around the house. One great way to learn basic sewing technique is through making simple crafts out of fabric, felt, and other textiles. From unique gifts and accessories to room decorations, the many textile crafts will spark readers’ creativity as they practice basic stitches and are introduced to knitting. Colorful photographs accompany step-by-step instructions to guide readers through simple, fun projects, such as knitted phone cases, decorative ribbon accessories, and even a mushroom doorstop.","English",26.6,19.95,"745.5","32 pp.",{"$f":"Table1[[#This Row],['# Books]]*Table1[[#This Row],[QTY]]","v":0},{"$f":"Table1[[#This Row],[QTY]]*Table1[[#This Row],[S&L Price]]","v":0}]
[null,165,null,"Learn to Draw",1,"Drawing Dinosaurs","eBook",null,"978-1-4339-9531-6",2014,"August 2013",null,null,"Author, Illustrated by","Sarah Eason, Jorge Santillan",null,null,24,20,"L",null,"Grade 3","Grade 2 - 5","The fierce dinosaurs of the ancient world had scales and tails of many different colors and sizes. They were big, strong—and fun to draw! Through step-by-step instructions, readers will learn to draw complicated dinosaur forms, from the sharp spines of the stegosaurus to the terrifying teeth of a T-rex. Basic drawing concepts such as outlining, shading, and using color will help readers develop new skills while creating their dino drawings. Cool facts about what dinosaurs ate, where they lived, and their habits accompany each section’s drawing directions, offering readers new science knowledge as well as drawing fun.","English",26.6,19.95,"743.6","32 pp.",{"$f":"Table1[[#This Row],['# Books]]*Table1[[#This Row],[QTY]]","v":0},{"$f":"Table1[[#This Row],[QTY]]*Table1[[#This Row],[S&L Price]]","v":0}]
[null,165,null,"Learn to Draw",1,"Drawing Knights and Castles","Library Bound Book",null,"978-1-4339-9540-8",2014,"August 2013","Library","8.500 X 11.00","Author, Illustrated by","Sarah Eason, Jorge Santillan",null,null,24,20,"L",null,"Grade 3","Grade 2 - 5","Even though knights who fought battles and defended castles lived long ago, they’re still a symbol of honor today. Incredible, true facts about the lives of knights—and the castles they lived in and defended—accompany step-by-step instructions that guide readers through drawing these brave defenders, including their armor and weapons. Readers will learn basic artistic concepts while drawing different kinds of castles, too. Sketches of each step will help readers continue with their drawing while they engage with a cool historical topic.","English",26.6,19.95,"743","24 pp.",{"$f":"Table1[[#This Row],['# Books]]*Table1[[#This Row],[QTY]]","v":0},{"$f":"Table1[[#This Row],[QTY]]*Table1[[#This Row],[S&L Price]]","v":0}]
[null,165,null,"Civil Rights Crusaders",1,"Coretta Scott King","eBook",null,"978-1-4339-5679-9",2012,"August 2011",null,null,"Author","Maria Nelson",4.7,0.5,30,24,"M",null,"Grade 2 - 3","Grade 2 - 5","Martin Luther King, Jr. wasn’t the only influential leader in the King family—his wife Coretta was an important civil rights activist, too. This book introduces readers to Coretta Scott King through her involvement with the African American fight for freedom and her lifelong dedication to equality for all. Filled with historic photographs from the civil rights movement, fascinating facts about her life with Martin Luther King Jr., and a timeline of key events, this book is an important resource for readers learning about civil rights for the first time. ","English",22.6,16.95,"323.092","24 pp.",{"$f":"Table1[[#This Row],['# Books]]*Table1[[#This Row],[QTY]]","v":0},{"$f":"Table1[[#This Row],[QTY]]*Table1[[#This Row],[S&L Price]]","v":0}]
[null,165,null,"Civil Rights Crusaders",1,"Jesse Jackson","eBook",null,"978-1-4339-5683-6",2012,"August 2011",null,null,"Author","Barbara M. Linde",4.7,0.5,30,24,"M",null,"Grade 2 - 3","Grade 2 - 5","Still an active member of the political process today, Jesse Jackson has been a voice for African Americans since the 1960s. This book chronicles Jackson’s journey from humble beginnings in South Carolina to prominent civil rights activist, politician, and leader of the Rainbow PUSH Coalition. Enhanced by a timeline detailing important events, Jackson’s life inspires all readers to make their voices heard. ","English",22.6,16.95,"973.927092","24 pp.",{"$f":"Table1[[#This Row],['# Books]]*Table1[[#This Row],[QTY]]","v":0},{"$f":"Table1[[#This Row],[QTY]]*Table1[[#This Row],[S&L Price]]","v":0}]
[null,166,null,"Civil Rights Crusaders",1,"Rosa Parks","Library Bound Book",null,"978-1-4339-5694-2",2012,"August 2011","Library","8.500 X 8.500","Author","Barbara M. Linde",4.8,0.5,30,24,"M",null,"Grade 2 - 3","Grade 2 - 5","In 1955, Rosa Parks bravely refused to obey a bus driver who ordered her to give up her seat because she was black. While she is best known for this action that sparked the Montgomery Bus Boycott, Parks had actually been involved in civil rights work for years. This book puts Parks’ courageous stance on the bus into the context of her lifelong belief in equality. Readers learn about the Montgomery Bus Boycott in detail, review her life’s most important events in a timeline, and appreciate the brave sacrifices of the “first lady of the civil rights movement.”","English",22.6,16.95,"323.092","32 pp.",{"$f":"Table1[[#This Row],['# Books]]*Table1[[#This Row],[QTY]]","v":0},{"$f":"Table1[[#This Row],[QTY]]*Table1[[#This Row],[S&L Price]]","v":0}]
[null,166,null,"Today's Sports Greats",1,"Dwyane Wade","eBook",null,"978-1-4339-5863-2",2012,"August 2011",null,null,"Author","Jason Glaser",5.8,0.5,38,28,"P",null,"Grade 4 - 5","Grade 4 - 6","Miami Heat shooting guard Dwyane Wade is a superstar of the NBA. Born in Chicago, he idolized Bulls star Michael Jordan. Wade’s talent with the basketball wasn’t obvious in his youth. However, in high school, he became determined to master the skills and strategy he’d need to succeed as a professional athlete. Following Wade’s career from his NCAA years to his hard-earned NBA records, this book examines how the star overcame obstacles to achieve dazzling success on the court.","English",26.6,19.95,"796.323092","32 pp.",{"$f":"Table1[[#This Row],['# Books]]*Table1[[#This Row],[QTY]]","v":0},{"$f":"Table1[[#This Row],[QTY]]*Table1[[#This Row],[S&L Price]]","v":0}]
[null,166,null,"Today's Sports Greats",1,"Peyton Manning","Library Bound Book",null,"978-1-4339-5866-3",2012,"August 2011","Library","6.500 X 9.000","Author","Jason Glaser",5.7,0.5,38,30,"Q",null,"Grade 4 - 5","Grade 4 - 6","Manning is a name synonymous with football. Though Archie Manning began the dynasty, it’s Peyton who now wears the crown. The Pro Bowl quarterback of the Indianapolis Colts has dominated the NFL and made his team a perennial contender in the playoffs. He’s also committed to several charitable causes, including a football camp for young players. This book follows Peyton from his New Orleans childhood to his record-breaking college career and finally to Super Bowl glory. ","English",26.6,19.95,"796.332092","32 pp.",{"$f":"Table1[[#This Row],['# Books]]*Table1[[#This Row],[QTY]]","v":0},{"$f":"Table1[[#This Row],[QTY]]*Table1[[#This Row],[S&L Price]]","v":0}]
[null,166,null,"Today's Sports Greats",1,"Sidney Crosby","eBook",null,"978-1-4339-5875-5",2012,"August 2011",null,null,"Author","Greg Roza",5.8,0.5,38,30,"Q",null,"Grade 4 - 5","Grade 4 - 6","Sidney Crosby is no stranger to attention. He’s attracted it since his days in youth hockey. Stories spread about his prowess with a puck before he was old enough to enter the NHL. Seemingly born with a stick in his hand and skates on his feet, Crosby was a natural goal scorer and leader. The number-one pick by the Pittsburgh Penguins in the 2005 draft, he exceeded expectations. Crosby led the struggling Pens to the Stanley Cup just a few seasons later. Readers get a sheer and thrilling peek at Crosby’s life on and off the ice.","English",26.6,19.95,"796.962092","32 pp.",{"$f":"Table1[[#This Row],['# Books]]*Table1[[#This Row],[QTY]]","v":0},{"$f":"Table1[[#This Row],[QTY]]*Table1[[#This Row],[S&L Price]]","v":0}]
[null,166,null,"Today's Sports Greats",1,"Tom Brady","eBook",null,"978-1-4339-5883-0",2012,"August 2011",null,null,"Author","Jason Glaser",6.1,1,38,30,"Q",null,"Grade 4 - 5","Grade 4 - 6","Tom Brady wasn’t the number-one pick in the 2000 NFL draft. He wasn’t even selected in the first round. It wasn’t until the sixth round that the New England Patriots chose him. Many had doubts about this quarterback’s skills. When Brady finally got his chance on the field, Patriots fans wanted no other leader for their team. He has since risen to become a Super Bowl champion and league MVP. His stellar statistics and leadership seem like gifts, but Brady’s high school, college, and professional careers were born of hard work and determination. This book follows Tom Brady’s story from young 49ers fan to Patriots superstar.","English",26.6,19.95,"796.332092","32 pp.",{"$f":"Table1[[#This Row],['# Books]]*Table1[[#This Row],[QTY]]","v":0},{"$f":"Table1[[#This Row],[QTY]]*Table1[[#This Row],[S&L Price]]","v":0}]
[null,166,null,"Extreme Jobs in Extreme Places",1,"Life on an Aircraft Carrier","Library Bound Book",null,"978-1-4339-8492-1",2013,"January 2013","Library","7.750 X 10.00","Author","Heather Moore Niver",null,null,40,30,"Q",null,"Grade 3 - 4","Grade 3 - 6","Aircraft carriers are truly impressive \"cities at sea.\" Their monstrous size alone can fill visitors with awe. However, the people who live on carriers and the jobs they do every day are just as extraordinary. Pilots who land jets with precision, engineers who piece together weapons, and technicians who fuel vehicles in the midst of dangerous situations are just some of the heroes of the navy highlighted in this book.","English",26.6,19.95,"359.9/435","24 pp.",{"$f":"Table1[[#This Row],['# Books]]*Table1[[#This Row],[QTY]]","v":0},{"$f":"Table1[[#This Row],[QTY]]*Table1[[#This Row],[S&L Price]]","v":0}]
[null,166,null,"Extreme Jobs in Extreme Places",1,"Life on an Aircraft Carrier","eBook",null,"978-1-4339-8495-2",2013,"January 2013",null,null,"Author","Heather Moore Niver",null,null,40,30,"Q",null,"Grade 3 - 4","Grade 3 - 6","Aircraft carriers are truly impressive \"cities at sea.\" Their monstrous size alone can fill visitors with awe. However, the people who live on carriers and the jobs they do every day are just as extraordinary. Pilots who land jets with precision, engineers who piece together weapons, and technicians who fuel vehicles in the midst of dangerous situations are just some of the heroes of the navy highlighted in this book.","English",26.6,19.95,"359.9/435","24 pp.",{"$f":"Table1[[#This Row],['# Books]]*Table1[[#This Row],[QTY]]","v":0},{"$f":"Table1[[#This Row],[QTY]]*Table1[[#This Row],[S&L Price]]","v":0}]
[null,166,null,"A Graphic History of the American West",1,"The Battle of the Alamo","Library Bound Book",null,"978-1-4339-6727-6",2012,"January 2012","Library","6.500 X 9.000","Author, Illustrated by","Gary Jeffrey, Nick Spender",3.9,0.5,34,30,"L",null,"Grade 3","Grade 3 - 8","The defense of the Alamo by an army of Texans is a legendary tale of loyalty and sacrifice. In this exciting book readers explore the incredible story behind the event. They uncover fascinating facts about the brave men who tried to protect the Alamo from Mexican forces even when all hope was lost. Told in the action-packed style of a graphic novel, this story of courage and sacrifice is presented for readers in thrilling detail. Through accessible text and engaging illustrations, this book takes readers into the heart of the Alamo in a way that is both educational and highly entertaining.","English",23.95,17.95,"976.4","24 pp.",{"$f":"Table1[[#This Row],['# Books]]*Table1[[#This Row],[QTY]]","v":0},{"$f":"Table1[[#This Row],[QTY]]*Table1[[#This Row],[S&L Price]]","v":0}]
[null,166,null,"A Graphic History of the American West",1,"The Explorations of Lewis and Clark","eBook",null,"978-1-4339-6736-8",2012,"January 2012",null,null,"Author, Illustrated by","Gary Jeffrey, Terry Riley",4.3,0.5,34,30,"L",null,"Grade 3","Grade 3 - 8","Lewis and Clark are two of the most famous names in the history of the American West. Their adventures exploring early America’s uncharted lands are retold in exhilarating graphic-novel form in this book. Readers discover amazing facts about the lands Lewis and Clark traveled through and the people they met along the way, including their famous guide, Sacagawea. Action and excitement await readers on every page of this thrilling volume while colorful artwork and accessible text make this story of brave exploration engaging for all readers.","English",23.95,17.95,"917.804","24 pp.",{"$f":"Table1[[#This Row],['# Books]]*Table1[[#This Row],[QTY]]","v":0},{"$f":"Table1[[#This Row],[QTY]]*Table1[[#This Row],[S&L Price]]","v":0}]
[null,166,null,"A Graphic History of the American West",1,"The Pony Express","Library Bound Book",null,"978-1-4339-6747-4",2012,"January 2012","Library","6.500 X 9.000","Author, Illustrated by","Gary Jeffrey, Terry Riley",4.0999999999999996,0.5,34,30,"L",null,"Grade 3","Grade 3 - 8","The famous Pony Express is presented to readers in a new, exciting way. The story of brave riders who often risked their lives to deliver much-needed mail is one that will keep readers entertained as they learn new facts about this period in American history. Readers discover the heroic journey taken in the Old West on the longest Pony Express ride, and they see all of the dangers and triumphs unfold before their eyes in thrilling graphic-novel form. Even reluctant readers will be captivated by this book’s accessible language, vivid drawings, and fast-paced storytelling.","English",23.95,17.95,"383","24 pp.",{"$f":"Table1[[#This Row],['# Books]]*Table1[[#This Row],[QTY]]","v":0},{"$f":"Table1[[#This Row],[QTY]]*Table1[[#This Row],[S&L Price]]","v":0}]
[null,166,null,"A Graphic History of the American West",1,"The Pony Express","eBook",null,"978-1-4339-6748-1",2012,"January 2012",null,null,"Author, Illustrated by","Gary Jeffrey, Terry Riley",4.0999999999999996,0.5,34,30,"L",null,"Grade 3","Grade 3 - 8","The famous Pony Express is presented to readers in a new, exciting way. The story of brave riders who often risked their lives to deliver much-needed mail is one that will keep readers entertained as they learn new facts about this period in American history. Readers discover the heroic journey taken in the Old West on the longest Pony Express ride, and they see all of the dangers and triumphs unfold before their eyes in thrilling graphic-novel form. Even reluctant readers will be captivated by this book’s accessible language, vivid drawings, and fast-paced storytelling.","English",23.95,17.95,"383","24 pp.",{"$f":"Table1[[#This Row],['# Books]]*Table1[[#This Row],[QTY]]","v":0},{"$f":"Table1[[#This Row],[QTY]]*Table1[[#This Row],[S&L Price]]","v":0}]
[null,166,null,"A Graphic History of the Civil Rights Movement",1,"Rosa Parks and the Montgomery Bus Boycott","eBook",null,"978-1-4339-7502-8",2013,"August 2012",null,null,"Author","Gary Jeffrey",4.4000000000000004,0.5,30,24,"M",null,"Grade 3","Grade 3 - 8","The Montgomery bus boycott was a pivotal event that launched the civil rights movement and helped transform American society. This epic tale of courage and peaceful resistance began with a simple “No” spoken by an African American seamstress. When Rosa Parks, exhausted after a long day at work, refused to give up her bus seat for a white man, she defied the strict segregation laws that made blacks second-class citizens. What followed was a test of courage and resolve that ultimately reshaped the nation. Using powerful illustrations and accessible text, this exciting graphic novel tells the story of actions, arrests, and the dramatic events that followed.","English",23.95,17.95,"323.092","24 pp.",{"$f":"Table1[[#This Row],['# Books]]*Table1[[#This Row],[QTY]]","v":0},{"$f":"Table1[[#This Row],[QTY]]*Table1[[#This Row],[S&L Price]]","v":0}]
[null,166,null,"A Graphic History of the Civil Rights Movement",1,"Thurgood Marshall: The Supreme Court Rules on \"Separate but Equal\"","Library Bound Book",null,"978-1-4339-7503-5",2013,"August 2012","Library","6.500 X 9.000","Author, Illustrated by","Gary Jeffrey, John Aggs",6,0.5,30,26,"N",null,"Grade 3","Grade 3 - 8","In a landmark case known as Brown v. Board of Education, the US Supreme Court changed American society forever when it ruled that school segregation was unconstitutional. This exciting graphic novel intertwines two tales to illuminate events leading up to this dramatic episode in US history. One is the story of African Americans’ long struggle for equal rights following the Civil War. The other is the account of the personal struggles and triumphs of Thurgood Marshall, the African American lawyer who argued the case before the Supreme Court. Accessible text and lively illustrations engage readers and help them experience the drama of events as if they were there.","English",23.95,17.95,"342.7308","24 pp.",{"$f":"Table1[[#This Row],['# Books]]*Table1[[#This Row],[QTY]]","v":0},{"$f":"Table1[[#This Row],[QTY]]*Table1[[#This Row],[S&L Price]]","v":0}]
[null,166,null,"Graphic Heroes of the American Revolution",1,"John Adams and the Boston Massacre","eBook",null,"978-1-4339-6056-7",2012,"August 2011",null,null,"Author","Gary Jeffrey",4.3,0.5,20,24,"L",null,"Grade 3","Grade 3 - 8","Why did one of the most prominent patriots of his time defend British soldiers for opening fire on a Boston mob? The answer to this probing question can be found in this thought-provoking book. Readers discover the facts behind the Boston Massacre, which ultimately left five colonists dead. The ensuing trial unfolds for readers with great tension, as Adams works to prove that patriots can be trusted to defend the human rights of all people. This story is presented in the style of a graphic novel, with engaging drawings to hold the interest of reluctant readers while teaching them about a very important time in American history.","English",23.95,17.95,"973.3","24 pp.",{"$f":"Table1[[#This Row],['# Books]]*Table1[[#This Row],[QTY]]","v":0},{"$f":"Table1[[#This Row],[QTY]]*Table1[[#This Row],[S&L Price]]","v":0}]
[null,166,null,"Graphic Heroes of the American Revolution",1,"Paul Revere and His Midnight Ride","Library Bound Book",null,"978-1-4339-6019-2",2012,"August 2011","Library","6.500 X 9.000","Author","Gary Jeffrey",3.4,0.5,30,24,"M",null,"Grade 3","Grade 3 - 8","The thrilling story of one of the most famous horse rides in American history awaits readers in this book. Paul Revere’s journey to warn colonial leaders of the coming British invasion is told with illuminating detail, blending important facts with an easy-to-follow narrative. Presented in the form of a graphic novel, this story will engage reluctant readers with vivid drawings and accessible text. This book depicts a historical race against time that readers are sure to enjoy.","English",23.95,17.95,"974.4","24 pp.",{"$f":"Table1[[#This Row],['# Books]]*Table1[[#This Row],[QTY]]","v":0},{"$f":"Table1[[#This Row],[QTY]]*Table1[[#This Row],[S&L Price]]","v":0}]
[null,166,null,"Graphic Heroes of the American Revolution",1,"Thomas Jefferson and the Declaration of Independence","eBook",null,"978-1-4339-6059-8",2012,"August 2011",null,null,"Author","Gary Jeffrey",4.5,0.5,20,24,"L",null,"Grade 3","Grade 3 - 8","The Declaration of Independence is one of the most important documents in American history. In this enthralling book, readers discover the fascinating story behind its creation. They journey into the world of Thomas Jefferson as he struggles to create the words from which America emerged as a new nation. Presented in the popular style of a graphic novel, Jefferson’s struggles and successes come alive for readers through accessible text and vivid drawings. Even reluctant readers are engaged by this exciting story and the unique way it is told. ","English",23.95,17.95,"973.4","24 pp.",{"$f":"Table1[[#This Row],['# Books]]*Table1[[#This Row],[QTY]]","v":0},{"$f":"Table1[[#This Row],[QTY]]*Table1[[#This Row],[S&L Price]]","v":0}]
[null,166,null,"Graphic Mythical Creatures",1,"Firebirds","Library Bound Book",null,"978-1-4339-6755-9",2012,"January 2012","Library","6.500 X 9.000","Author, Illustrated by","Gary Jeffrey, Sara Cappoli",3.8,0.5,24,34,"N",null,"Grade 3","Grade 3 - 5","Readers explore some of the century old legends of firebirds that exist around the world. Readers discover myths from places as different as Russia and Egypt, uncovering incredible tales through simple, accessible text. The featured story of Prince Ivan’s quest for a prized firebird is presented in the engaging style of a graphic novel, with exciting artwork that will make even the most reluctant readers eager to turn each page.","English",23.95,17.95,"598","24 pp.",{"$f":"Table1[[#This Row],['# Books]]*Table1[[#This Row],[QTY]]","v":0},{"$f":"Table1[[#This Row],[QTY]]*Table1[[#This Row],[S&L Price]]","v":0}]
[null,166,null,"Graphic Mythical Creatures",1,"Goblins","eBook",null,"978-1-4339-6760-3",2012,"January 2012",null,null,"Author, Illustrated by","Gary Jeffrey, Dheeraj Verma",3.3,0.5,24,34,"N",null,"Grade 3","Grade 3 - 5","Readers discover why it’s dangerous to take a goblin’s dinner and more in this exciting book. They uncover many fascinating facts about the goblins that have played a role in stories around the world—from the hobgoblins of England to German sprites. The chilling tale “The Goblin at the Mill” is presented in the action-packed style of a graphic novel, with accessible text and vivid drawings. These tiny creatures are the source of much trouble in folklore, and readers see why in this book.","English",23.95,17.95,"398.24","24 pp.",{"$f":"Table1[[#This Row],['# Books]]*Table1[[#This Row],[QTY]]","v":0},{"$f":"Table1[[#This Row],[QTY]]*Table1[[#This Row],[S&L Price]]","v":0}]
[null,166,null,"Graphic Mythical Creatures",1,"Ogres","Library Bound Book",null,"978-1-4339-6037-6",2012,"August 2011","Library","6.500 X 9.000","Author","Gary Jeffrey",3.9,0.5,20,24,"L",null,"Grade 3","Grade 3 - 5","Ogres have been featured in fairy tales and folklore long before the misanthropic, but lovable, Shrek. Fascinating facts teach readers about ogres of many traditions—from Japanese legends to popular fairy tales. The featured legend of Tom Hickathrift and his exciting battle with the ogre of Tilney Marsh is presented in graphic-novel form, which enlivens it through accessible text and engaging drawings. Readers will even find out how ogres are involved in the story of the popular character Puss in Boots.","English",23.95,17.95,"398.21","24 pp.",{"$f":"Table1[[#This Row],['# Books]]*Table1[[#This Row],[QTY]]","v":0},{"$f":"Table1[[#This Row],[QTY]]*Table1[[#This Row],[S&L Price]]","v":0}]
[null,166,null,"Graphic Mythical Creatures",1,"Trolls","Library Bound Book",null,"978-1-4339-6045-1",2012,"August 2011","Library","6.500 X 9.000","Author","Gary Jeffrey",3.6,0.5,30,24,"M",null,"Grade 3","Grade 3 - 5","Who are the trolls of Hedale Woods, and how did two brothers manage to win their treasure? Readers find the answers to these questions and many more in this volume that addresses all things trolls. Told in the popular style of a graphic novel, the story of the Hedale Woods trolls incorporates accessible text and engaging drawings to excite reluctant readers. In addition to the featured tale, fun facts introduce readers to famous trolls from folktales around the world. From mountain trolls to those that stalk the lowlands, readers come face-to-face with some of the creepiest mythical creatures ever imagined.","English",23.95,17.95,"398.2","24 pp.",{"$f":"Table1[[#This Row],['# Books]]*Table1[[#This Row],[QTY]]","v":0},{"$f":"Table1[[#This Row],[QTY]]*Table1[[#This Row],[S&L Price]]","v":0}]
[null,166,null,"Graphic Mythical Creatures",1,"Vampires","eBook",null,"978-1-4339-6772-6",2012,"January 2012",null,null,"Author, Illustrated by","Gary Jeffrey, Dheeraj Verma",3.9,0.5,24,34,"N",null,"Grade 3","Grade 3 - 5","Vampire myths beyond the popular tales of Count Dracula and Edward Cullen exist, and readers uncover many of them in this book. From a Serbian village to an American town, readers go on a journey to discover the most incredible vampire legends ever told. In the book’s featured tale, readers come face-to-face with the horrifying Irish vampire Abhartach. His story is brought to life in the thrilling style of a graphic novel. With accessible text and exciting artwork, even the most reluctant readers will be drawn to the chilling stories that are waiting for them in this book.","English",23.95,17.95,"398.21","24 pp.",{"$f":"Table1[[#This Row],['# Books]]*Table1[[#This Row],[QTY]]","v":0},{"$f":"Table1[[#This Row],[QTY]]*Table1[[#This Row],[S&L Price]]","v":0}]
[null,166,null,"Graphic Mythical Heroes",1,"Hercules Fights the Nemean Lion","Library Bound Book",null,"978-1-4339-7511-0",2013,"August 2012","Library","6.500 X 9.000","Author","Gary Jeffrey",3.8,0.5,24,22,"L",null,"Grade 3","Grade 3 - 5","Hercules is the ultimate mythical hero—this fast-paced, exciting story will keep readers rooting for the heroic Hercules to succeed as the colorful pages bring alive his mythical world. After killing his family in a fit of madness, he strives for redemption through twelve impossible labors. If completed, not only would the gods forgive his terrible actions, but they would also grant him immortality. Action-packed illustrations and accessible content quickly plunge readers into the first two of Hercules’s labors—the killing of the Nemean Lion and beheading of the many-headed hydra.","English",23.95,17.95,"398.20938","24 pp.",{"$f":"Table1[[#This Row],['# Books]]*Table1[[#This Row],[QTY]]","v":0},{"$f":"Table1[[#This Row],[QTY]]*Table1[[#This Row],[S&L Price]]","v":0}]
[null,166,null,"Graphic Mythical Heroes",1,"Hercules Fights the Nemean Lion","eBook",null,"978-1-4339-7514-1",2013,"August 2012",null,null,"Author","Gary Jeffrey",3.8,0.5,24,22,"L",null,"Grade 3","Grade 3 - 5","Hercules is the ultimate mythical hero—this fast-paced, exciting story will keep readers rooting for the heroic Hercules to succeed as the colorful pages bring alive his mythical world. After killing his family in a fit of madness, he strives for redemption through twelve impossible labors. If completed, not only would the gods forgive his terrible actions, but they would also grant him immortality. Action-packed illustrations and accessible content quickly plunge readers into the first two of Hercules’s labors—the killing of the Nemean Lion and beheading of the many-headed hydra.","English",23.95,17.95,"398.20938","24 pp.",{"$f":"Table1[[#This Row],['# Books]]*Table1[[#This Row],[QTY]]","v":0},{"$f":"Table1[[#This Row],[QTY]]*Table1[[#This Row],[S&L Price]]","v":0}]
[null,166,null,"Graphic Mythical Heroes",1,"Perseus Slays the Gorgon Medusa","Library Bound Book",null,"978-1-4339-7523-3",2013,"August 2012","Library","6.500 X 9.000","Author","Gary Jeffrey",3.6,0.5,24,22,"L",null,"Grade 3","Grade 3 - 5","In a gripping tale of honor, kings, and unbelievable creatures, the mythical hero Perseus bests his mother’s suitor—the awful King Phineus. Exciting, vivid illustrations drive this graphic novel’s accessible telling of Perseus’s triumph. Armed with knowledge and gifts given to him by the gods, Perseus uses Medusa’s head to turn Phineus into stone and rescue the maiden Andromeda. Readers will enjoy each informational and engaging panel, and applaud the heroic and cunning end.","English",23.95,17.95,"398.20938","24 pp.",{"$f":"Table1[[#This Row],['# Books]]*Table1[[#This Row],[QTY]]","v":0},{"$f":"Table1[[#This Row],[QTY]]*Table1[[#This Row],[S&L Price]]","v":0}]
[null,167,null,"Monster Machines",1,"Aircraft Carriers","eBook",null,"978-1-4339-7162-4",2013,"August 2012",null,null,"Author","Kenny Allen",3.4,0.5,16,17,"I",null,"Grade 1 - 2","Grade 1 - 3","Aircraft carriers can carry hundreds of jets and thousands of soldiers at a time, and travel all the way around the world. An aircraft carrier is a ship that is as long as a skyscraper is tall, and is often referred to as a “city at sea”. Inside this book, informative text and vivid photographs take readers on an exciting tour of these awesome monster machines—from the control tower down to the nuclear engine room.","English",22.6,16.95,"623.825/5","24 pp.",{"$f":"Table1[[#This Row],['# Books]]*Table1[[#This Row],[QTY]]","v":0},{"$f":"Table1[[#This Row],[QTY]]*Table1[[#This Row],[S&L Price]]","v":0}]
[null,167,null,"Monster Machines",1,"Giant Cranes","eBook",null,"978-1-4339-7174-7",2013,"August 2012",null,null,"Author","Kenny Allen",3.2,0.5,20,19,"J",null,"Grade 1 - 2","Grade 1 - 3","Giant cranes help build enormous structures in our world. Truck-mounted cranes help assemble wind turbines. Tower cranes help build skyscrapers. Gantry cranes help put together oil platforms. Readers will learn about these amazing monster machines and more. The informative text is paired with remarkable, full-color photographs to show readers what it’s like to operate these giant machines.","English",22.6,16.95,"621.8","24 pp.",{"$f":"Table1[[#This Row],['# Books]]*Table1[[#This Row],[QTY]]","v":0},{"$f":"Table1[[#This Row],[QTY]]*Table1[[#This Row],[S&L Price]]","v":0}]
[null,167,null,"Monster Machines",1,"Jumbo Jets","Library Bound Book",null,"978-1-4339-7175-4",2013,"August 2012","Library","7.000 X 7.000","Author","Kenny Allen",3,0.5,20,19,"J","620L","Grade 1 - 2","Grade 1 - 3","The biggest passenger plane in the world can carry more than 800 people and the biggest cargo plane in the world looks like a beluga whale. Readers will learn these fun facts about jumbo jets, and others, as they delve into this book about large, powerful machines. The informative text is paired with stunning photographs of jumbo jets, inside and out—engaging even the most reluctant of readers.","English",22.6,16.95,"629.133","24 pp.",{"$f":"Table1[[#This Row],['# Books]]*Table1[[#This Row],[QTY]]","v":0},{"$f":"Table1[[#This Row],[QTY]]*Table1[[#This Row],[S&L Price]]","v":0}]
[null,167,null,"Fast Lane: Open-Wheel Racing",1,"Formula 1","eBook",null,"978-1-4339-5751-2",2012,"August 2011",null,null,"Author","Tyrone Georgiou",4.8,0.5,30,28,"N",null,"Grade 2 - 3","Grade 2 - 5","Formula 1 is the top open-wheel racing series in the world. Its exciting history includes daring drivers, celebrated teams, and dangerous tracks. Today, fans all over the world eagerly watch F1 stars like Sebastian Vettel race through the twists and turns of famous tracks, such the street course of Monte Carlo and Italy’s Monza. F1 teams and manufacturers are continually looking for ways to make this exciting sport even more exhilarating, with the cars reaching speeds up to 190 miles (305 km) per hour! Readers are sure to be amazed by the up-close photographs of F1 racers and cars. ","English",22.6,16.95,"796.72","24 pp.",{"$f":"Table1[[#This Row],['# Books]]*Table1[[#This Row],[QTY]]","v":0},{"$f":"Table1[[#This Row],[QTY]]*Table1[[#This Row],[S&L Price]]","v":0}]
[null,167,null,"Fast Lane: Open-Wheel Racing",1,"Midget Cars","Library Bound Book",null,"978-1-4339-5762-8",2012,"August 2011","Library","8.500 X 8.500","Author","Heather Moore Niver",4.4000000000000004,0.5,30,24,"M",null,"Grade 2 - 3","Grade 2 - 5","Midget cars might be small and light, but they’re fast, traveling at speeds up to 150 miles (241 km) per hour! Originally called “doodlebugs,” midget cars got their start back in 1919 in Los Angeles, California. Today, midget car fans from the United States to Australia and New Zealand love to watch these speedy little cars race. Midget cars were so popular in the 1950s that several movies were made about them. Inside, dazzling photographs of midget cars tearing up the track are sure to interest readers of all ages.","English",22.6,16.95,"629.222","32 pp.",{"$f":"Table1[[#This Row],['# Books]]*Table1[[#This Row],[QTY]]","v":0},{"$f":"Table1[[#This Row],[QTY]]*Table1[[#This Row],[S&L Price]]","v":0}]
[null,167,null,"Ultimate Trivia Challenge",1,"Awesome Animal Trivia","eBook",null,"978-1-4339-8291-0",2014,"August 2013",null,null,"Author","Lucy Rauker",null,null,28,null,"M",null,"Grade 2 - 3","Grade 2 - 5","Earth is home to millions of animal species—including the enormous blue whale and even the tiny dust mite. These animals all provide a limitless source of awesome trivia. Readers will learn about the biggest and loudest animals, as well as those that live for the longest and shortest amounts of time. Abundant colorful photographs are paired with exciting and accessible text, engaging readers of all ages.","English",25.25,18.95,"590","32 pp.",{"$f":"Table1[[#This Row],['# Books]]*Table1[[#This Row],[QTY]]","v":0},{"$f":"Table1[[#This Row],[QTY]]*Table1[[#This Row],[S&L Price]]","v":0}]
[null,167,null,"Ultimate Trivia Challenge",1,"Fun Food Trivia","Library Bound Book",null,"978-1-4339-8292-7",2014,"August 2013","Library","8.500 X 8.500","Author","Erin Michalek",null,null,28,null,"M",null,"Grade 2 - 3","Grade 2 - 5","Avid trivia hounds will discover what makes popcorn pop, what the most dangerous food in the world is, where the term “baker’s dozen” comes from, and many other fascinating facts about food. The accessible text is matched with vibrant photographs, displaying the wide range of foods discussed in this fun yet thought-provoking volume. Readers' appetites for trivia are sure to be satisfied!","English",25.25,18.95,"394.12","32 pp.",{"$f":"Table1[[#This Row],['# Books]]*Table1[[#This Row],[QTY]]","v":0},{"$f":"Table1[[#This Row],[QTY]]*Table1[[#This Row],[S&L Price]]","v":0}]
[null,167,null,"Ultimate Trivia Challenge",1,"Super Sports Trivia","eBook",null,"978-1-4339-8303-0",2014,"August 2013",null,null,"Author","Jeff Burdick",null,null,28,null,"M",null,"Grade 2 - 3","Grade 2 - 5","Readers learn exciting and little-known facts about athletes and sports from around the world. Sports fans will love this book of trivia as they discover what the highest-scoring football team in history was, what the fastest-moving ball in sports is, when the first modern Olympic Games took place, and many other intriguing facts. Dazzling photographs of numerous sports heroes in action make this volume an exciting and engaging read.","English",25.25,18.95,"796","32 pp.",{"$f":"Table1[[#This Row],['# Books]]*Table1[[#This Row],[QTY]]","v":0},{"$f":"Table1[[#This Row],[QTY]]*Table1[[#This Row],[S&L Price]]","v":0}]
[null,167,null,"Military Machines",1,"Drones","Library Bound Book",null,"978-1-4339-8457-0",2013,"January 2013","Library","7.750 X 10.00","Author","Ryan Nagelhout",6.4,0.5,40,30,"R",null,"Grade 3 - 4","Grade 3 - 6","Movies and TV shows have been predicting the rise of robot intelligence for years. In 2012, the US government finally revealed that the day is here. Militaries around the world have been experimenting with drones since World War I. Today, US forces have thousands of drones ready for surveillance and attack. From tiny UGVs to the huge SolarEagle UAV developed in part by Boeing, readers are introduced to the fascinating science and history of drones in the military. Vivid photographs and engaging sidebars add to the detailed information and important ethical questions surrounding drone research. Young engineers and future spies alike will keep turning the pages, captivated by the secrecy and intrigue of these military machines.","English",26.6,19.95,"623.74","32 pp.",{"$f":"Table1[[#This Row],['# Books]]*Table1[[#This Row],[QTY]]","v":0},{"$f":"Table1[[#This Row],[QTY]]*Table1[[#This Row],[S&L Price]]","v":0}]
[null,167,null,"Military Machines",1,"Spy Planes","Library Bound Book",null,"978-1-4339-8472-3",2013,"January 2013","Library","7.750 X 10.00","Author","Therese M. Shea",6.3,0.5,40,30,"R",null,"Grade 3 - 4","Grade 3 - 6","Today, the US military has spy planes that can fly faster than the speed of sound, take panoramic photographs in the blink of an eye, and fly so high that no bomb can reach them. It’s no wonder they want to keep their technology a secret. Readers take a thrilling peek into the world of secret missions and futuristic tools. They learn about the history of spy planes and the daring pilots that fly them. Accessible content will draw in military enthusiasts and James Bond fans alike. In-depth sidebars augment the text further, and colorful photographs of the latest plane models will engage readers throughout.","English",26.6,19.95,"358.4","32 pp.",{"$f":"Table1[[#This Row],['# Books]]*Table1[[#This Row],[QTY]]","v":0},{"$f":"Table1[[#This Row],[QTY]]*Table1[[#This Row],[S&L Price]]","v":0}]
[null,167,null,"Military Machines",1,"Spy Planes","eBook",null,"978-1-4339-8475-4",2013,"January 2013",null,null,"Author","Therese M. Shea",6.3,0.5,40,30,"R",null,"Grade 3 - 4","Grade 3 - 6","Today, the US military has spy planes that can fly faster than the speed of sound, take panoramic photographs in the blink of an eye, and fly so high that no bomb can reach them. It’s no wonder they want to keep their technology a secret. Readers take a thrilling peek into the world of secret missions and futuristic tools. They learn about the history of spy planes and the daring pilots that fly them. Accessible content will draw in military enthusiasts and James Bond fans alike. In-depth sidebars augment the text further, and colorful photographs of the latest plane models will engage readers throughout.","English",26.6,19.95,"358.4","32 pp.",{"$f":"Table1[[#This Row],['# Books]]*Table1[[#This Row],[QTY]]","v":0},{"$f":"Table1[[#This Row],[QTY]]*Table1[[#This Row],[S&L Price]]","v":0}]
[null,167,null,"Thrill Seekers",1,"Climbing Mount Everest","Library Bound Book",null,"978-1-4824-0142-4",2014,"January 2014","Library","7.750 X 10.00","Author","Kristen Rajczak Nelson",5.8,0.5,38,24,"P",null,"Grade 3 - 4","Grade 3 - 6","Reaching the summit of Earth's highest peak, Mount Everest, is a feat that most will never realize. However, readers will feel like they're gasping for air alongside the extreme athletes featured in this book. This text fully explores the history of expeditions up Everest as well as the intense training and unavoidable dangers that thrill seekers must face. Astounding achievements are included, such as climbing Everest blind and reaching the peak without oxygen, while breathtaking photographs will transport readers to the top of the world.","English",26.6,19.95,"796.522","32 pp.",{"$f":"Table1[[#This Row],['# Books]]*Table1[[#This Row],[QTY]]","v":0},{"$f":"Table1[[#This Row],[QTY]]*Table1[[#This Row],[S&L Price]]","v":0}]
[null,167,null,"Thrill Seekers",1,"Racing the Iditarod","eBook",null,"978-1-4824-6515-0",2014,"January 2014",null,null,"Author","Kristen Rajczak Nelson",null,null,38,24,"P",null,"Grade 3 - 4","Grade 3 - 6","It's hard to fathom what it would be like crossing 1,100 miles (1,770 km) of Alaskan wilderness on a dogsled. The frigid conditions alone would make many adventurers think twice about this challenge. Throw in unexpected encounters with angry moose and dangerous journeys across melting lakes, and readers have an idea of what the remarkable race called the Iditarod is all about. From its heroic beginnings to its most amazing winners, all aspects of this dogsled race are covered with special attention to the real athletes, the dogs!","English",26.6,19.95,"798.8","32 pp.",{"$f":"Table1[[#This Row],['# Books]]*Table1[[#This Row],[QTY]]","v":0},{"$f":"Table1[[#This Row],[QTY]]*Table1[[#This Row],[S&L Price]]","v":0}]
[null,167,null,"US Military Forces",1,"Army","Library Bound Book",null,"978-1-4339-5846-5",2012,"August 2011","Library","7.750 X 10.00","Author","Mark J. Harasymiw",6,0.5,38,28,"P",null,"Grade 3 - 4","Grade 3 - 6","The U.S. Army is our oldest military force, and this exciting volume explores its rich history. Established in 1775 and led by General George Washington, the Continental army was formed to fight the British. Throughout U.S. history, many other notable men served in the army, including Presidents Andrew Jackson, Ulysses S. Grant, and Dwight D. Eisenhower. More than 230 years later, the U.S. Army is considered one of the most powerful forces in the world. In addition to protecting U.S. citizens during times of war across the globe, the U.S. Army also comes to the aid of the victims of disasters. The informative text is paired with both modern photographs and historic images.","English",26.6,19.95,"355.00973","32 pp.",{"$f":"Table1[[#This Row],['# Books]]*Table1[[#This Row],[QTY]]","v":0},{"$f":"Table1[[#This Row],[QTY]]*Table1[[#This Row],[S&L Price]]","v":0}]
[null,167,null,"US Military Forces",1,"Marine Corps","eBook",null,"978-1-4339-5855-7",2012,"August 2011",null,null,"Author","Michael Portman",6.8,0.5,38,28,"P",null,"Grade 3 - 4","Grade 3 - 6","From the halls of Montezuma to the shores of Tripoli, the U.S. Marine Corps is always ready to protect U.S. citizens. Established during the American Revolution as a naval infantry, the Marine Corps has always been closely associated with the U.S. Navy. Marines played a huge role in capturing South Pacific islands during World War II. Today, the Marine Corps is a major force in the war on terror. In this book, colorful photographs and historic images are paired with informative text to teach readers about the U.S. Marine Corps, from its early days fighting pirates to the latest in hi-tech military weaponry.","English",26.6,19.95,"359.9","32 pp.",{"$f":"Table1[[#This Row],['# Books]]*Table1[[#This Row],[QTY]]","v":0},{"$f":"Table1[[#This Row],[QTY]]*Table1[[#This Row],[S&L Price]]","v":0}]
[null,167,null,"US Military Forces",1,"Navy","eBook",null,"978-1-4339-5859-5",2012,"August 2011",null,null,"Author","Jeanne Nagle",6,0.5,38,28,"P",null,"Grade 3 - 4","Grade 3 - 6","In 1898, the U.S. Navy became well known as a superpower after defeating the Spanish Armada during the Spanish-American War. During World War II, US battleships in the South Pacific were an awe-inspiring sight. Today, the U.S. Navy continues to display its nautical strength all over the world. They’ve even helped to capture modern-day pirates off the coasts of Africa and the Middle East. Readers will be amazed by the historic naval images, as well as modern photographs of the massive navy ships that patrol Earth’s oceans and keep U.S. citizens safe.","English",26.6,19.95,"359.00973","32 pp.",{"$f":"Table1[[#This Row],['# Books]]*Table1[[#This Row],[QTY]]","v":0},{"$f":"Table1[[#This Row],[QTY]]*Table1[[#This Row],[S&L Price]]","v":0}]
[null,167,null,"US Special Forces",1,"Navy SEALs","Library Bound Book",null,"978-1-4339-6565-4",2012,"January 2012","Library","7.750 X 10.00","Author","Drew Nelson",6.2,0.5,38,28,"P",null,"Grade 3 - 4","Grade 3 - 6","The Navy SEALs are a unique branch of military men. They can successfully operate at sea, in the air, and on land. Readers will learn how the special group was formed, and about the fascinating missions they take. Thrilling images of Navy SEALs in training enhance the interesting historical content and informative sidebars. Readers will be captivated by underwater demolition, counterterrorism, and much more as heroic actions of the SEALs are recounted in this volume.","English",26.6,19.95,"359.9","32 pp.",{"$f":"Table1[[#This Row],['# Books]]*Table1[[#This Row],[QTY]]","v":0},{"$f":"Table1[[#This Row],[QTY]]*Table1[[#This Row],[S&L Price]]","v":0}]
[null,167,null,"US Special Forces",1,"Rangers","eBook",null,"978-1-4339-6574-6",2012,"January 2012",null,null,"Author","Mark J. Harasymiw",6.6,0.5,38,28,"P",null,"Grade 3 - 4","Grade 3 - 6","Readers will explore the unique history of US Army Rangers. From the beginning of US history in the 1600s, Army Rangers have been ready to take on difficult missions behind enemy lines and are some of the most skilled soldiers in the US military. Readers will discover the intense modern training of a Ranger and trace history to the role of a Ranger in battles during the French and Indian War. Exciting photographs show Rangers in action all over the world. Informative sidebars and a resourceful glossary enhance the book’s account of the thrilling missions of specially trained Army Rangers.","English",26.6,19.95,"356","32 pp.",{"$f":"Table1[[#This Row],['# Books]]*Table1[[#This Row],[QTY]]","v":0},{"$f":"Table1[[#This Row],[QTY]]*Table1[[#This Row],[S&L Price]]","v":0}]
[null,167,null,"Wild Wheels",1,"Corvettes","Library Bound Book",null,"978-1-4339-5818-2",2012,"August 2011","Library","7.750 X 10.00","Author","Heather Moore Niver",4.9000000000000004,0.5,30,28,"N","820L","Grade 3 - 4","Grade 3 - 6","From the Sting Ray to the AstroVette, Corvettes have made an indelible impression on the world of cars. With stunning photographs and fast, fun facts, this book introduces readers to one of the best-known sports cars ever made. Budding car enthusiasts learn more about why so many ’Vettes are zooming around today.","English",26.6,19.95,"629.222","32 pp.",{"$f":"Table1[[#This Row],['# Books]]*Table1[[#This Row],[QTY]]","v":0},{"$f":"Table1[[#This Row],[QTY]]*Table1[[#This Row],[S&L Price]]","v":0}]
[null,167,null,"Wild Wheels",1,"Ferraris","eBook",null,"978-1-4339-5827-4",2012,"August 2011",null,null,"Author","Bob Power",4.5,0.5,34,28,"O","790L","Grade 3 - 4","Grade 3 - 6","How fast do you think a Ferrari can go? Fasten your seat belts, the Enzo Ferrari clocks in at 218 miles (350 km) per hour! Founded first as a race car manufacturer, the Ferrari company has been around since the late 1930s. Packed with stunning photographs and lots of interesting information, this fast-paced book shows readers just what high-performance technology can do!","English",26.6,19.95,"629.222","32 pp.",{"$f":"Table1[[#This Row],['# Books]]*Table1[[#This Row],[QTY]]","v":0},{"$f":"Table1[[#This Row],[QTY]]*Table1[[#This Row],[S&L Price]]","v":0}]
[null,167,null,"Top 10 Worst",1,"Top 10 Worst Things About Ancient Greece","Library Bound Book",null,"978-1-4339-6691-0",2012,"January 2012","Library","7.875 X 10.69","Illustrated by, Author","David Antram, Victoria England",6,1,40,28,"N",null,"Grade 3 - 5","Grade 3 - 6","Readers discover the hardships of ancient Greek life in this book. Costly wars and painful surgical practices, the world of ancient Greece was full of trials and tribulations. Readers learn unbelievable facts about Greek education, slavery, politics, and much more in a highly memorable way. This book’s bright cartoon illustrations and accessible text make learning about history humorous and fun.","English",26.6,19.95,"938","32 pp.",{"$f":"Table1[[#This Row],['# Books]]*Table1[[#This Row],[QTY]]","v":0},{"$f":"Table1[[#This Row],[QTY]]*Table1[[#This Row],[S&L Price]]","v":0}]
[null,167,null,"Monstrous Myths",1,"Terrible Tales of Africa","Library Bound Book",null,"978-1-4824-0194-3",2014,"January 2014","Library","8.500 X 11.00","Illustrated by, Author","Janos Jantner, Clare Hibbert",null,null,40,26,"R",null,"Grade 4 - 5","Grade 4 - 6","Though Africa is a huge continent filled with different cultures, African folktales share some characteristics. One is a love of nature, specifically animals. The other is a respect for cleverness. These two characteristics meet in the tales of Anansi the Spiderman and the Jackal. Both are tricksters who often get the best of their fellow beasts. Readers will love becoming acquainted with these two characters' exploits as well as other famous, engaging, and often funny African tales. Fact boxes and illustrations enhance each story.","English",26.6,19.95,"398.2","32 pp.",{"$f":"Table1[[#This Row],['# Books]]*Table1[[#This Row],[QTY]]","v":0},{"$f":"Table1[[#This Row],[QTY]]*Table1[[#This Row],[S&L Price]]","v":0}]
[null,167,null,"Monstrous Myths",1,"Terrible Tales of Ancient Egypt","eBook",null,"978-1-4824-0178-3",2014,"January 2014",null,null,"Illustrated by, Author","Janos Jantner, Clare Hibbert",null,null,40,26,"R",null,"Grade 4 - 5","Grade 4 - 6","The myths of ancient Egypt are peppered with tales of creation, love, family, trickery, and revenge. Readers will love learning about the famous Egyptian gods and goddesses, including Ra, Osiris, Horus, Isis, and Set. Colorful drawings accompany the engaging text, and fact boxes and sidebars highlight even more interesting information. This book, more than just fictional tales, is a glimpse into an essential part of the Egyptian culture.","English",26.6,19.95,"932","32 pp.",{"$f":"Table1[[#This Row],['# Books]]*Table1[[#This Row],[QTY]]","v":0},{"$f":"Table1[[#This Row],[QTY]]*Table1[[#This Row],[S&L Price]]","v":0}]
[null,168,null,"Monstrous Myths",1,"Terrible Tales of Native America","Library Bound Book",null,"978-1-4824-0190-5",2014,"January 2014","Library","8.500 X 11.00","Illustrated by, Author","Janos Jantner, Clare Hibbert",null,null,40,26,"R",null,"Grade 4 - 5","Grade 4 - 6","The mythology of Native Americans is filled with clever creatures, such as Great Rabbit and Coyote, using their wits to overcome adversity. A reverence for nature, especially animals, is key to understanding these timeless tales. Readers will love the fun way these famous stories are presented, with humor and vivid illustrations. \"Believe it or not!\" boxes offer more facts about Native American cultures.","English",26.6,19.95,"398.2","32 pp.",{"$f":"Table1[[#This Row],['# Books]]*Table1[[#This Row],[QTY]]","v":0},{"$f":"Table1[[#This Row],[QTY]]*Table1[[#This Row],[S&L Price]]","v":0}]
[null,168,null,"The Twilight Realm",1,"Aliens","eBook",null,"978-1-4339-8750-2",2013,"January 2013",null,null,"Author","Jim Pipe",6.7,1,50,30,"U",null,"Grade 4 - 5","Grade 4 - 6","Readers learn about visitors from another planet—aliens. They will learn what happened in the New Mexico desert in 1947 and decide for themselves if they believe it was a weather balloon crash, like the government wants you to think, or something more. Readers discover the close encounters earthlings have had with extraterrestrials, through decades of reported incidents. A “twilight quiz” will ask readers what they would do during a UFO encounter.","English",26.6,19.95,"001.942","32 pp.",{"$f":"Table1[[#This Row],['# Books]]*Table1[[#This Row],[QTY]]","v":0},{"$f":"Table1[[#This Row],[QTY]]*Table1[[#This Row],[S&L Price]]","v":0}]
[null,168,null,"The Twilight Realm",1,"The Undead","Library Bound Book",null,"978-1-4339-8759-5",2013,"January 2013","Library","8.500 X 10.50","Author","Jim Pipe",6.8,1,50,30,"U",null,"Grade 4 - 5","Grade 4 - 6","The world of the supernatural is full of mysteries. Readers will explore the world of the undead and discover the origin of vampires and why people fear them so much. Topics such as how to kill a vampire, how to keep vampires away, and more are brought to light. In this interesting exploration of the undead, reader’s gain knowledge that will keep them safe—even on the darkest of nights.","English",26.6,19.95,"398","32 pp.",{"$f":"Table1[[#This Row],['# Books]]*Table1[[#This Row],[QTY]]","v":0},{"$f":"Table1[[#This Row],[QTY]]*Table1[[#This Row],[S&L Price]]","v":0}]
[null,168,null,"The Twilight Realm",1,"The Undead","eBook",null,"978-1-4339-8762-5",2013,"January 2013",null,null,"Author","Jim Pipe",6.8,1,50,30,"U",null,"Grade 4 - 5","Grade 4 - 6","The world of the supernatural is full of mysteries. Readers will explore the world of the undead and discover the origin of vampires and why people fear them so much. Topics such as how to kill a vampire, how to keep vampires away, and more are brought to light. In this interesting exploration of the undead, reader’s gain knowledge that will keep them safe—even on the darkest of nights.","English",26.6,19.95,"398","32 pp.",{"$f":"Table1[[#This Row],['# Books]]*Table1[[#This Row],[QTY]]","v":0},{"$f":"Table1[[#This Row],[QTY]]*Table1[[#This Row],[S&L Price]]","v":0}]
[null,168,null,"Creepy Chronicles",1,"Maniacal Monsters and Bizarre Beasts","Library Bound Book",null,"978-1-4824-0236-0",2014,"January 2014","Library","8.000 X 10.00","Author, Author","Barbara Cox, Scott Forbes",null,null,40,28,"S",null,"Grade 5 - 6","Grade 5 - 8","Fans of scary movies know something about mummies and werewolves, but they might be surprised at just how many scary monsters and beasts exist in legends and myths. The Honey Island Swamp Monster, Jersey Devil, and Manticore make goosebumps appear even on skeptics. Readers will love this page-turning book and the spooky illustrations will make them think twice about reading it without a friend nearby!","English",26.6,19.95,"001.944","32 pp.",{"$f":"Table1[[#This Row],['# Books]]*Table1[[#This Row],[QTY]]","v":0},{"$f":"Table1[[#This Row],[QTY]]*Table1[[#This Row],[S&L Price]]","v":0}]
[null,168,null,"Creepy Chronicles",1,"Spooky Spirits and Creepy Creatures","eBook",null,"978-1-4824-0244-5",2014,"January 2014",null,null,"Author, Author","Barbara Cox, Scott Forbes",null,null,40,28,"S",null,"Grade 5 - 6","Grade 5 - 8","Trolls, goblins, orcs, and gremlins are familiar creatures to those who love imaginative stories. This in-depth guide to spirits and creatures that populate the fantasy world explains where the ideas for some of these eerie beings came from and more about details of their sinister exploits. Readers will be introduced to lesser known creatures such as the Mngwa and the Gorgons. The inventive text is accompanied by photographs and illustrations that will inspire readers' imaginations.","English",26.6,19.95,"133.1","32 pp.",{"$f":"Table1[[#This Row],['# Books]]*Table1[[#This Row],[QTY]]","v":0},{"$f":"Table1[[#This Row],[QTY]]*Table1[[#This Row],[S&L Price]]","v":0}]
[null,168,null,"Measure Up Math",1,"Distance","eBook",null,"978-1-4339-7440-3",2013,"August 2012",null,null,"Author","Chris Woodford",null,null,30,26,"K",null,"Grade 4","Grade 4 - 6","While the ancient Romans had a hand—and foot—in creating our present system of measuring distance, modern technology has taken the idea much further. Today, scientists can measure insects we can’t see with the naked eye, and even specks of dust, using nanotechnology. Readers will learn about this and other exciting facts, all while exploring distance measurement and the tools used to calculate it. Colorful illustrations accompany both everyday and out-of-this-world topics about distance, such as measuring at sea and in space. Inset math challenges are included throughout, and a concluding activity challenges readers to apply what they've learned.","English",26.6,19.95,"530.8","32 pp.",{"$f":"Table1[[#This Row],['# Books]]*Table1[[#This Row],[QTY]]","v":0},{"$f":"Table1[[#This Row],[QTY]]*Table1[[#This Row],[S&L Price]]","v":0}]
[null,168,null,"Measure Up Math",1,"Height","Library Bound Book",null,"978-1-4339-7441-0",2013,"August 2012","Library","8.000 X 10.00","Author","Chris Woodford",null,null,30,26,"K",null,"Grade 4","Grade 4 - 6","Exciting pictures and interesting facts will help introduce readers to the ideas and units of height measurement. Including measurements of some of the highest places in the world, readers will be guided through understanding altitude, estimating, and the metric system. Featuring a fun concluding activity and relatable examples and problems throughout, this book will reach readers.  ","English",26.6,19.95,"516","32 pp.",{"$f":"Table1[[#This Row],['# Books]]*Table1[[#This Row],[QTY]]","v":0},{"$f":"Table1[[#This Row],[QTY]]*Table1[[#This Row],[S&L Price]]","v":0}]
[null,168,null,"Measure Up Math",1,"Temperature","eBook",null,"978-1-4339-7452-6",2013,"August 2012",null,null,"Author","Chris Woodford",null,null,30,26,"K",null,"Grade 4","Grade 4 - 6","Measuring temperature can help decide whether someone has a fever, if it’s a good day for a picnic, and whether dinner is done cooking. Readers will cover many aspects of measuring temperature, including how a thermometer works and the most common scales of measurement, Celsius and Fahrenheit. Fun facts and related math problems featured throughout will engage readers while they learn a key math concept, and a concluding hands-on activity will give them a chance to test out their new knowledge.","English",26.6,19.95,"536","24 pp.",{"$f":"Table1[[#This Row],['# Books]]*Table1[[#This Row],[QTY]]","v":0},{"$f":"Table1[[#This Row],[QTY]]*Table1[[#This Row],[S&L Price]]","v":0}]
[null,168,null,"Measure Up Math",1,"Weight","Library Bound Book",null,"978-1-4339-7461-8",2013,"August 2012","Library","8.000 X 10.00","Author","Chris Woodford",null,null,30,26,"K",null,"Grade 4","Grade 4 - 6","Two objects can be the same size, but not the same weight. Readers will learn not just about pounds and ounces, but also about how density, gravity, and mass affect weight. Using colorful photographs and illustrations of ancient and modern scales, this book will engage readers with fun facts about how boats float and how weight is used to make cookies. Using a range of familiar animals, including 7-ton elephants and 8-pound cats, readers will enjoy relatable examples and a concluding activity in which they can use their new knowledge.","English",26.6,19.95,"530.8","24 pp.",{"$f":"Table1[[#This Row],['# Books]]*Table1[[#This Row],[QTY]]","v":0},{"$f":"Table1[[#This Row],[QTY]]*Table1[[#This Row],[S&L Price]]","v":0}]
[null,168,null,"Animal Groups",1,"A Kangaroo Mob","eBook",null,"978-1-4339-8202-6",2013,"January 2013",null,null,"Author","Juliet Burke",2.6,0.5,16,15,"I",null,"Grade 1 - 2","Grade 1 - 3","Readers discover engaging, fun, and fascinating facts about kangaroos. Kangaroos are social animals that live in groups called mobs. Except for an occasional boxing match, kangaroos live happily with each other. The vibrant photographs in this book show different species of kangaroos grazing, resting in the shade, and raising their young. Accessible text and a detailed graphic organizer guide readers as they learn how kangaroos grow up and what life is like living in a mob, in Australia.","English",22.6,16.95,"599.2/2","24 pp.",{"$f":"Table1[[#This Row],['# Books]]*Table1[[#This Row],[QTY]]","v":0},{"$f":"Table1[[#This Row],[QTY]]*Table1[[#This Row],[S&L Price]]","v":0}]
[null,168,null,"Animal Groups",1,"A Murder of Crows","Library Bound Book",null,"978-1-4339-8204-0",2013,"January 2013","Library","7.000 X 7.000","Author","Greg Roza",3,0.5,18,17,"J","710L","Grade 1 - 2","Grade 1 - 3","Readers find out what life is like for a murder of crows through the help of accessible text and eye-catching photographs. Crows are some of the smartest animals on the planet. They can remember people’s faces and warn each other of danger. Some crows even know how to use simple tools. These fascinating facts and more are waiting to be discovered by readers. A useful graphic organizer provides additional information about these amazing animals.","English",22.6,16.95,"598.8","24 pp.",{"$f":"Table1[[#This Row],['# Books]]*Table1[[#This Row],[QTY]]","v":0},{"$f":"Table1[[#This Row],[QTY]]*Table1[[#This Row],[S&L Price]]","v":0}]
[null,168,null,"Animal Groups",1,"A Prickle of Porcupines","Library Bound Book",null,"978-1-4339-8219-4",2013,"January 2013","Library","7.000 X 7.000","Author","Lincoln James",2.8,0.5,18,17,"J","700L","Grade 1 - 2","Grade 1 - 3","Porcupines are brown, prickly, and climb trees. Readers explore life in a group of porcupines inside the pages of this educational and enjoyable book. When a group of porcupines gets together, they’re called a prickle. Porcupines often have a bad reputation as dangerous creatures, but they usually just want to be left alone. Thanks to numerous eye-catching photographs, readers get closer to porcupines than ever before. They also learn fascinating facts about prickles of porcupines through accessible text and a helpful graphic organizer.","English",22.6,16.95,"599.35","24 pp.",{"$f":"Table1[[#This Row],['# Books]]*Table1[[#This Row],[QTY]]","v":0},{"$f":"Table1[[#This Row],[QTY]]*Table1[[#This Row],[S&L Price]]","v":0}]
[null,168,null,"Creatures of the Night",1,"Bobcats in the Dark","eBook",null,"978-1-4339-6365-0",2013,"August 2012",null,null,"Author","Therese M. Shea",2.6,0.5,20,19,"J","570L","Grade 1 - 2","Grade 1 - 3","Bobcats look like big housecats, as readers will see in the up-close photographs provided in this book. But these hunters won’t curl up on your lap! They’re much more interested in hiding in trees or behind bushes watching for their next unsuspecting meal. Readers will learn much more about these furry nocturnal animals and the special ways they have adapted to living in the wild.","English",22.6,16.95,"599.75","24 pp.",{"$f":"Table1[[#This Row],['# Books]]*Table1[[#This Row],[QTY]]","v":0},{"$f":"Table1[[#This Row],[QTY]]*Table1[[#This Row],[S&L Price]]","v":0}]
[null,168,null,"Creatures of the Night",1,"Raccoons in the Dark","Library Bound Book",null,"978-1-4339-6376-6",2013,"August 2012","Library","7.000 X 7.000","Author","Jack O'Mara",2.8,0.5,20,19,"I",null,"Grade 1 - 2","Grade 1 - 3","Raccoons are called “nature’s bandits” for some very good reasons. The black “mask” over their eyes and their talent at stealing food are just two. These nocturnal animals can be found nearly everywhere, even your backyard. In this book, readers will learn much more about raccoons, such as how they survive the winter and how they take care of their young. Colorful photographs emphasize the many fascinating behaviors of the raccoon.","English",22.6,16.95,"599.76","24 pp.",{"$f":"Table1[[#This Row],['# Books]]*Table1[[#This Row],[QTY]]","v":0},{"$f":"Table1[[#This Row],[QTY]]*Table1[[#This Row],[S&L Price]]","v":0}]
[null,168,null,"Creatures of the Night",1,"Raccoons in the Dark","eBook",null,"978-1-4339-6377-3",2013,"August 2012",null,null,"Author","Jack O'Mara",2.8,0.5,20,19,"I",null,"Grade 1 - 2","Grade 1 - 3","Raccoons are called “nature’s bandits” for some very good reasons. The black “mask” over their eyes and their talent at stealing food are just two. These nocturnal animals can be found nearly everywhere, even your backyard. In this book, readers will learn much more about raccoons, such as how they survive the winter and how they take care of their young. Colorful photographs emphasize the many fascinating behaviors of the raccoon.","English",22.6,16.95,"599.76","24 pp.",{"$f":"Table1[[#This Row],['# Books]]*Table1[[#This Row],[QTY]]","v":0},{"$f":"Table1[[#This Row],[QTY]]*Table1[[#This Row],[S&L Price]]","v":0}]
[null,168,null,"Nature's Super Secrets",1,"How Do Seeds Sprout?","Library Bound Book",null,"978-1-4339-8165-4",2013,"January 2013","Library","7.000 X 7.000","Author","Evan Rhodes",null,null,14,13,"H","480L","Grade 1 - 2","Grade 1 - 3","Looking at seeds, it can be hard to visualize how something so small can grow into something so big. Readers will uncover the mystery of how seeds grow into the plants we see around us. Colorful photographs and diagrams explain how each part of a seed plays a role in sprouting, while age-appropriate language explains every step of the process. The engaging text will make readers excited about how plants grow and inspire them to uncover more botanical mysteries.","English",22.6,16.95,"571.8","24 pp.",{"$f":"Table1[[#This Row],['# Books]]*Table1[[#This Row],[QTY]]","v":0},{"$f":"Table1[[#This Row],[QTY]]*Table1[[#This Row],[S&L Price]]","v":0}]
[null,168,null,"Nature's Super Secrets",1,"Why Do Animals Hibernate?","eBook",null,"978-1-4339-8178-4",2013,"January 2013",null,null,"Author","Michael Ulinski",null,null,14,13,"H","540L","Grade 1 - 2","Grade 1 - 3","With easy to understand information and fun facts scattered throughout the text, readers will learn everything they need to know about hibernation, from how animals prepare to what happens when they sleep. Full-color photographs accompany the text and give readers a glimpse into the hibernators’ natural environments. A colorful infographic reinforces the information, delighting readers with its additional learning opportunity.","English",22.6,16.95,"591.56","24 pp.",{"$f":"Table1[[#This Row],['# Books]]*Table1[[#This Row],[QTY]]","v":0},{"$f":"Table1[[#This Row],[QTY]]*Table1[[#This Row],[S&L Price]]","v":0}]
[null,168,null,"Simple Machine Science",1,"Inclined Planes","Library Bound Book",null,"978-1-4339-8131-9",2013,"January 2013","Library","7.000 X 7.000","Author","Hope Collander",null,null,16,15,"I",null,"Grade 1 - 2","Grade 1 - 3","If you need to move something heavy from one height to another, you need an inclined plane. These simple machines help us go up, and they help us go down. Moving vans use them, and so do people in wheelchairs. Inclined planes can also help us keep a door open and let us do skateboarding tricks at the skate park. Accessible text and vivid photographs help readers understand this essential science topic. A helpful graphic organizer and a useful glossary allow readers to easily navigate this book, making it a reading experience that is both educational and engaging.","English",22.6,16.95,"621.8","24 pp.",{"$f":"Table1[[#This Row],['# Books]]*Table1[[#This Row],[QTY]]","v":0},{"$f":"Table1[[#This Row],[QTY]]*Table1[[#This Row],[S&L Price]]","v":0}]
[null,168,null,"Simple Machine Science",1,"Inclined Planes","eBook",null,"978-1-4339-8134-0",2013,"January 2013",null,null,"Author","Hope Collander",null,null,16,15,"I",null,"Grade 1 - 2","Grade 1 - 3","If you need to move something heavy from one height to another, you need an inclined plane. These simple machines help us go up, and they help us go down. Moving vans use them, and so do people in wheelchairs. Inclined planes can also help us keep a door open and let us do skateboarding tricks at the skate park. Accessible text and vivid photographs help readers understand this essential science topic. A helpful graphic organizer and a useful glossary allow readers to easily navigate this book, making it a reading experience that is both educational and engaging.","English",22.6,16.95,"621.8","24 pp.",{"$f":"Table1[[#This Row],['# Books]]*Table1[[#This Row],[QTY]]","v":0},{"$f":"Table1[[#This Row],[QTY]]*Table1[[#This Row],[S&L Price]]","v":0}]
[null,168,null,"Simple Machine Science",1,"Screws","eBook",null,"978-1-4339-8149-4",2013,"January 2013",null,null,"Author","Jake Miller",null,null,18,17,"J","630L","Grade 1 - 2","Grade 1 - 3","The answers to what screws are, why we need them, and many more are provided for curious readers. Screws help change a turning motion into an up-and-down movement. Screws, nuts, and bolts help keep many items in our world together. Readers will gain a valuable understanding of these simple machines through accessible text and colorful photographs. A comprehensive glossary and eye-catching graphic organizer aid readers in their exploration of these important science concepts.","English",22.6,16.95,"621.8","24 pp.",{"$f":"Table1[[#This Row],['# Books]]*Table1[[#This Row],[QTY]]","v":0},{"$f":"Table1[[#This Row],[QTY]]*Table1[[#This Row],[S&L Price]]","v":0}]
[null,168,null,"The Incredible World of Insects",1,"Incredible Ants","Library Bound Book",null,"978-1-4339-4571-7",2012,"August 2011","Library","7.000 X 7.000","Author","Susan Ashley",1.9,0.5,16,15,"I",null,"Grade 1 - 2","Grade 1 - 3","What insects have jaws that open like scissors? What insects can carry things 20 times heavier than they are? They’re ants. Readers will learn many interesting facts about where these insects live, how they look, and what they do. They’ll explore an ant colony to see workers, drones, and the queen doing their jobs. Colorful photographs provide a detailed look at these fascinating insects.","English",22.6,16.95,"595.79","24 pp.",{"$f":"Table1[[#This Row],['# Books]]*Table1[[#This Row],[QTY]]","v":0},{"$f":"Table1[[#This Row],[QTY]]*Table1[[#This Row],[S&L Price]]","v":0}]
[null,169,null,"The Incredible World of Insects",1,"Incredible Butterflies","eBook",null,"978-1-4339-4582-3",2012,"August 2011",null,null,"Author","Susan Ashley",1.5,0.5,14,14,"H",null,"Grade 1 - 2","Grade 1 - 3","Butterflies change more during their lives than any other insect. Inside these colorful pages, readers will discover all of these incredible changes for themselves. Brilliant photographs show the amazing life of one of nature’s most beautiful insects. Did you know that butterflies fly when their bodies are warm? This and other amazing facts are waiting for readers inside this book.","English",22.6,16.95,"595.78","24 pp.",{"$f":"Table1[[#This Row],['# Books]]*Table1[[#This Row],[QTY]]","v":0},{"$f":"Table1[[#This Row],[QTY]]*Table1[[#This Row],[S&L Price]]","v":0}]
[null,169,null,"The Incredible World of Insects",1,"Incredible Grasshoppers","Library Bound Book",null,"978-1-4339-4587-8",2012,"August 2011","Library","7.000 X 7.000","Author","Susan Ashley",2,0.5,16,15,"I",null,"Grade 1 - 2","Grade 1 - 3","Did you know that grasshoppers can sing? This amazing fact and many more can be found in this informative book. Readers will explore the world of  these insects that can jump over 20 times their length and hide in the grass for protection from their enemies. Detailed photographs show the different parts of grasshoppers’ bodies and different stages in their life cycles.","English",22.6,16.95,"595.7","24 pp.",{"$f":"Table1[[#This Row],['# Books]]*Table1[[#This Row],[QTY]]","v":0},{"$f":"Table1[[#This Row],[QTY]]*Table1[[#This Row],[S&L Price]]","v":0}]
[null,169,null,"Killer Snakes",1,"Banded Sea Snake","eBook",null,"978-1-4339-5622-5",2012,"August 2011",null,null,"Author","Juliet Figorito",3.8,0.5,16,17,"J","720L","Grade 2","Grade 1 - 3","Not all snakes slither on land—some slither in the seas. The banded sea snake can slither in both places. It hunts for food in warm, shallow water and comes ashore to rest and lay eggs. Also known as the sea krait, this striped snake usually stays away from people, but it has been known to deliver a deadly bite when caught in a fishing net. Colorful photographs help readers get the most out of this informative guide to banded sea snakes.","English",22.6,16.95,"597.96","24 pp.",{"$f":"Table1[[#This Row],['# Books]]*Table1[[#This Row],[QTY]]","v":0},{"$f":"Table1[[#This Row],[QTY]]*Table1[[#This Row],[S&L Price]]","v":0}]
[null,169,null,"Killer Snakes",1,"Cottonmouth","Library Bound Book",null,"978-1-4339-5638-6",2012,"August 2011","Library","7.000 X 7.000","Author","Karlie Gambino",3.1,0.5,16,15,"I",null,"Grade 2","Grade 1 - 3","The cottonmouth, also known as the water moccasin, is the only venomous water snake in North America. When alarmed, the cottonmouth hisses and shows the cotton-white color inside its mouth. That’s enough to scare even the most ferocious predators away. Close-up photographs of cottonmouths in the wild give readers the opportunity to learn all about these deadly creatures—from their lethal venom to their natural hunting abilities.","English",22.6,16.95,"597.96","24 pp.",{"$f":"Table1[[#This Row],['# Books]]*Table1[[#This Row],[QTY]]","v":0},{"$f":"Table1[[#This Row],[QTY]]*Table1[[#This Row],[S&L Price]]","v":0}]
[null,169,null,"Animal Attack!",1,"Hunting with Bald Eagles","Library Bound Book",null,"978-1-4339-7063-4",2013,"August 2012","Library","8.500 X 8.500","Author","Paige Thurnherr",4.2,0.5,28,24,"L",null,"Grade 2 - 3","Grade 2 - 5","The bald eagle is one of the most beautiful and majestic animals in the world. With sharp talons, a hooked beak, and powerful wings, bald eagles are deadly hunters and always ready to attack. Engaging text is paired with amazing photographs of bald eagles soaring, diving, and attacking. Readers of all ages are sure to enjoy flying along with bald eagles on the hunt.  ","English",22.6,16.95,"598.9","24 pp.",{"$f":"Table1[[#This Row],['# Books]]*Table1[[#This Row],[QTY]]","v":0},{"$f":"Table1[[#This Row],[QTY]]*Table1[[#This Row],[S&L Price]]","v":0}]
[null,169,null,"Animal Attack!",1,"Hunting with Bald Eagles","eBook",null,"978-1-4339-7066-5",2013,"August 2012",null,null,"Author","Paige Thurnherr",4.2,0.5,28,24,"L",null,"Grade 2 - 3","Grade 2 - 5","The bald eagle is one of the most beautiful and majestic animals in the world. With sharp talons, a hooked beak, and powerful wings, bald eagles are deadly hunters and always ready to attack. Engaging text is paired with amazing photographs of bald eagles soaring, diving, and attacking. Readers of all ages are sure to enjoy flying along with bald eagles on the hunt.  ","English",22.6,16.95,"598.9","24 pp.",{"$f":"Table1[[#This Row],['# Books]]*Table1[[#This Row],[QTY]]","v":0},{"$f":"Table1[[#This Row],[QTY]]*Table1[[#This Row],[S&L Price]]","v":0}]
[null,169,null,"Animal Attack!",1,"Hunting with Great White Sharks","Library Bound Book",null,"978-1-4339-7075-7",2013,"August 2012","Library","8.500 X 8.500","Author","Hunter Reynolds",4.5,0.5,34,24,"M",null,"Grade 2 - 3","Grade 2 - 5","Great white sharks are commonly given colorful yet scary names. The truth is, great white sharks would much rather dine on other fish than people. Great whites are natural-born hunters with excellent senses. These giant killers can smell a single drop of blood in 25 gallons of water. With amazing close-up photographs of great whites in their natural surroundings, readers are sure to enjoy learning about these ruthless hunters.","English",22.6,16.95,"597.3","32 pp.",{"$f":"Table1[[#This Row],['# Books]]*Table1[[#This Row],[QTY]]","v":0},{"$f":"Table1[[#This Row],[QTY]]*Table1[[#This Row],[S&L Price]]","v":0}]
[null,169,null,"Animal Attack!",1,"Hunting with Hawks","eBook",null,"978-1-4824-6540-2",2014,"January 2014",null,null,"Author","Grace Vail",4.3,0.5,24,20,"L",null,"Grade 2 - 3","Grade 2 - 5","Hawks have a reputation for being keen-eyed hunters. That's where the expression \"hawkeyed\" comes from. These carnivores are often flying high above the earth or sitting still on a towering perch, waiting for movement below. This book allows readers to take flight with many different kinds of hawks. They'll learn the difference between the two groups of hawks, ambushing and soaring, and the adaptations that make each exceptional predators. Fun facts and vivid photographs bring to light the unique features of these birds of prey.","English",22.6,16.95,"598.944","32 pp.",{"$f":"Table1[[#This Row],['# Books]]*Table1[[#This Row],[QTY]]","v":0},{"$f":"Table1[[#This Row],[QTY]]*Table1[[#This Row],[S&L Price]]","v":0}]
[null,169,null,"Animal Attack!",1,"Hunting with Komodo Dragons","Library Bound Book",null,"978-1-4824-0497-5",2014,"January 2014","Library","8.500 X 8.500","Author","Max Q. Maimone",4.4000000000000004,0.5,24,20,"L",null,"Grade 2 - 3","Grade 2 - 5","With their round snouts, scaly green skin, and long tail, Komodo dragons really do look like a kind of dragon. These reptiles can't breathe fire, but they do have a venomous bite that kills animals much larger than themselves. Small animals aren't safe either. Baby Komodo dragons live in trees for the first few years of their lives to avoid being eaten by other Komodo dragons. Found only in some islands in Indonesia, these exotic lizards use their tongues to smell their prey. Readers will learn these fascinating facts and more as they join the hunt of a Komodo dragon.","English",22.6,16.95,"597.95","24 pp.",{"$f":"Table1[[#This Row],['# Books]]*Table1[[#This Row],[QTY]]","v":0},{"$f":"Table1[[#This Row],[QTY]]*Table1[[#This Row],[S&L Price]]","v":0}]
[null,169,null,"Animal Attack!",1,"Hunting with Komodo Dragons","eBook",null,"978-1-4824-6546-4",2014,"January 2014",null,null,"Author","Max Q. Maimone",4.4000000000000004,0.5,24,20,"L",null,"Grade 2 - 3","Grade 2 - 5","With their round snouts, scaly green skin, and long tail, Komodo dragons really do look like a kind of dragon. These reptiles can't breathe fire, but they do have a venomous bite that kills animals much larger than themselves. Small animals aren't safe either. Baby Komodo dragons live in trees for the first few years of their lives to avoid being eaten by other Komodo dragons. Found only in some islands in Indonesia, these exotic lizards use their tongues to smell their prey. Readers will learn these fascinating facts and more as they join the hunt of a Komodo dragon.","English",22.6,16.95,"597.95","24 pp.",{"$f":"Table1[[#This Row],['# Books]]*Table1[[#This Row],[QTY]]","v":0},{"$f":"Table1[[#This Row],[QTY]]*Table1[[#This Row],[S&L Price]]","v":0}]
[null,169,null,"Animal Attack!",1,"Hunting with Polar Bears","eBook",null,"978-1-4824-0528-6",2014,"January 2014",null,null,"Author","Maeve T. Sisk",4.0999999999999996,0.5,24,20,"L",null,"Grade 2 - 3","Grade 2 - 5","A polar bear must be patient to get its favorite meal: the ringed seal. It often lays besides a seal's breathing hole waiting for it to pop up for a breath. The tricky seal makes many breathing holes in the ice, though. Readers learn other ways that these big lumbering bears, the largest land predators, hunt for food in their frozen homes. A map, graphic organizer, and fact boxes make this book a valuable guide for future Arctic explorers.","English",22.6,16.95,"599.786","24 pp.",{"$f":"Table1[[#This Row],['# Books]]*Table1[[#This Row],[QTY]]","v":0},{"$f":"Table1[[#This Row],[QTY]]*Table1[[#This Row],[S&L Price]]","v":0}]
[null,169,null,"Animals at Risk",1,"Prairie Dogs in Danger","Library Bound Book",null,"978-1-4339-9164-6",2014,"August 2013","Library","8.500 X 8.500","Author","A. J. Grucella",4.3,0.5,24,20,"L",null,"Grade 2 - 3","Grade 2 - 5","Prairie dogs are often pictured \"kissing.\" They're actually touching teeth. It's how they recognize each other. These amazing animals also have a sophisticated kind of language. Unfortunately, intelligence isn't enough to save the five species of prairie dogs from extinction. Readers will find out why prairie dogs are disappearing and what they can do to help.","English",22.6,16.95,"599.367","24 pp.",{"$f":"Table1[[#This Row],['# Books]]*Table1[[#This Row],[QTY]]","v":0},{"$f":"Table1[[#This Row],[QTY]]*Table1[[#This Row],[S&L Price]]","v":0}]
[null,169,null,"Animals at Risk",1,"Sea Otters in Danger","eBook",null,"978-1-4339-9172-1",2014,"August 2013",null,null,"Author","Ella Mineo",4.3,0.5,24,20,"L",null,"Grade 2 - 3","Grade 2 - 5","Sea otters are perhaps the cutest animals in the ocean. Readers will agree when they set their eyes on photographs of these fascinating mammals trying to survive in the icy waters of the North Pacific Ocean. These friendly animals have the densest fur in the world, an adaptation that both helps them keep warm yet hurts them as fur traders overhunted them. Today, the sea otter population is fighting for its life. Readers will find out what people are doing to help them.","English",22.6,16.95,"599.7695","24 pp.",{"$f":"Table1[[#This Row],['# Books]]*Table1[[#This Row],[QTY]]","v":0},{"$f":"Table1[[#This Row],[QTY]]*Table1[[#This Row],[S&L Price]]","v":0}]
[null,169,null,"Animals at Risk",1,"Sea Turtles in Danger","Library Bound Book",null,"978-1-4339-5802-1",2012,"August 2011","Library","8.500 X 8.500","Author","Michael Portman",4.8,0.5,20,24,"L",null,"Grade 2 - 3","Grade 2 - 5","Sea turtles swim thousands of miles each year to lay eggs on the same beach where they themselves once hatched. Despite such tenacity, these reptiles face difficult odds to survive. In this book, readers will discover the many dangers facing sea turtles, including fishing, predators, and pollution. They’ll also learn of efforts to diminish these threats and what they can do to help. Vibrant photographs of these beautiful creatures emphasize their fascinating lives and behaviors.","English",22.6,16.95,"597.92","24 pp.",{"$f":"Table1[[#This Row],['# Books]]*Table1[[#This Row],[QTY]]","v":0},{"$f":"Table1[[#This Row],[QTY]]*Table1[[#This Row],[S&L Price]]","v":0}]
[null,169,null,"Animals at Risk",1,"Tasmanian Devils in Danger","eBook",null,"978-1-4339-5807-6",2012,"August 2011",null,null,"Author","Michael Portman",4.9000000000000004,0.5,20,24,"L",null,"Grade 2 - 3","Grade 2 - 5","Though many people are familiar with the cantankerous cartoon character, few people know much about the real-life Tasmanian devil. Tasmanian devils are found only on an island south of Australia. Though they are grouchy and feisty, they’d rather make a lot of noise than fight. Unfortunately, there is nothing comical about the current situation of this increasingly rare marsupial. After being hunted almost to extinction, the remaining population has been decimated by disease. Readers will learn what is being done to save the Tasmanian devils, and will grow a lasting appreciation for this unique animal.","English",22.6,16.95,"599.2","32 pp.",{"$f":"Table1[[#This Row],['# Books]]*Table1[[#This Row],[QTY]]","v":0},{"$f":"Table1[[#This Row],[QTY]]*Table1[[#This Row],[S&L Price]]","v":0}]
[null,169,null,"Can You Imagine?",1,"Being a Bullfrog","Library Bound Book",null,"978-1-4339-9858-4",2014,"January 2014","Library","8.500 X 8.500","Author","Jagger Youssef",null,null,24,20,"L","780L","Grade 2 - 3","Grade 2 - 5","A little imagination puts the reader in the body of a bullfrog in this fun and engaging book. They'll picture themselves capturing bugs for dinner with their sticky tongue and hibernating through winter at the bottom of a muddy pond. The stages of a bullfrog's life are highlighted in vivid photographs and colorful images in this fact-filled hop through the interesting days of a bullfrog.","English",25.25,18.95,"597.892","32 pp.",{"$f":"Table1[[#This Row],['# Books]]*Table1[[#This Row],[QTY]]","v":0},{"$f":"Table1[[#This Row],[QTY]]*Table1[[#This Row],[S&L Price]]","v":0}]
[null,169,null,"Can You Imagine?",1,"Being a Sloth","eBook",null,"978-1-4824-6499-3",2014,"January 2014",null,"8.500 X 8.500","Author","Julia McDonnell",null,null,24,20,"L","630L","Grade 2 - 3","Grade 2 - 5","Slow-moving, strange-looking sloths are only found in Central and South America. Readers are encouraged to learn about them while imagining themselves living the same arboreal life. With their algae-covered hair and hook-like claws, these mammals are presented in intriguing photographs and absorbing text. Readers will be astonished that giant sloths once roamed Earth. They'll also learn the differences between two- and three-toed sloths with the help of a graphic organizer.","English",25.25,18.95,"599.313","24 pp.",{"$f":"Table1[[#This Row],['# Books]]*Table1[[#This Row],[QTY]]","v":0},{"$f":"Table1[[#This Row],[QTY]]*Table1[[#This Row],[S&L Price]]","v":0}]
[null,169,null,"Can You Imagine?",1,"Being an Octopus","Library Bound Book",null,"978-1-4824-0136-3",2014,"January 2014","Library","8.500 X 8.500","Author","Kevin Pearce",4.5,0.5,24,20,"L","580L","Grade 2 - 3","Grade 2 - 5","Octopuses, with their boneless bodies and remarkable intelligence, are truly amazing creatures. Some even use tools to hide and protect themselves from predators. Many species of octopus are featured in this book that puts reader in the place of these mollusks. As an octopus, they'll imagine themselves camouflaged on the ocean floor, masking themselves in an ink cloud, and even wrestling a shark. Fun fact boxes and carefully chosen photographs add to the fascinating text.","English",25.25,18.95,"594.56","24 pp.",{"$f":"Table1[[#This Row],['# Books]]*Table1[[#This Row],[QTY]]","v":0},{"$f":"Table1[[#This Row],[QTY]]*Table1[[#This Row],[S&L Price]]","v":0}]
[null,169,null,"Electrified!",1,"Conductors and Insulators","Library Bound Book",null,"978-1-4339-8389-4",2013,"January 2013","Library","8.500 X 8.500","Author","C. O. Shea",null,null,34,28,"O",null,"Grade 2 - 3","Grade 2 - 5","Without conductors and insulators, we wouldn't have MP3 players, laptops, televisions, or any other kind of electrical device. Electricity needs conductors to travel and insulators to contain it. These materials are integral in the harnessing of electrical power. In this accessible text, readers will learn what materials can be classified as conductors and insulators, as well as how they work together in devices. Semiconductors, plasmas, and their applications are also introduced.","English",22.6,16.95,"621.3","24 pp.",{"$f":"Table1[[#This Row],['# Books]]*Table1[[#This Row],[QTY]]","v":0},{"$f":"Table1[[#This Row],[QTY]]*Table1[[#This Row],[S&L Price]]","v":0}]
[null,169,null,"Electrified!",1,"How Does a Battery Work?","eBook",null,"978-1-4339-8402-0",2013,"January 2013",null,null,"Author","Rosie Wilson",null,null,34,28,"O",null,"Grade 2 - 3","Grade 2 - 5","Batteries are amazing little bundles of energy. We rarely think about how they work when we use them in devices. This book explains how batteries convert chemical energy into electrical energy and how they power so many things in our world. Readers also learn, through this accessible text, about different types of batteries and the importance of recycling these energy sources.","English",22.6,16.95,"621.31","24 pp.",{"$f":"Table1[[#This Row],['# Books]]*Table1[[#This Row],[QTY]]","v":0},{"$f":"Table1[[#This Row],[QTY]]*Table1[[#This Row],[S&L Price]]","v":0}]
[null,169,null,"Electrified!",1,"What Is a Circuit?","Library Bound Book",null,"978-1-4339-8414-3",2013,"January 2013","Library","8.500 X 8.500","Author","E. T. Weingarten",null,null,34,28,"O",null,"Grade 2 - 3","Grade 2 - 5","One of the most essential concepts of physical science is the electrical circuit. Through accessible text, illustrations, and full-color photographs readers will learn about the key elements in a circuit, how electricity travels, and what happens when something goes wrong. They'll also discover that circuits are everywhere, including their MP3 players and their alarm clocks.","English",22.6,16.95,"621.319","24 pp.",{"$f":"Table1[[#This Row],['# Books]]*Table1[[#This Row],[QTY]]","v":0},{"$f":"Table1[[#This Row],[QTY]]*Table1[[#This Row],[S&L Price]]","v":0}]
[null,169,null,"Electrified!",1,"What Is a Circuit?","eBook",null,"978-1-4339-8417-4",2013,"January 2013",null,null,"Author","E. T. Weingarten",null,null,34,28,"O",null,"Grade 2 - 3","Grade 2 - 5","One of the most essential concepts of physical science is the electrical circuit. Through accessible text, illustrations, and full-color photographs readers will learn about the key elements in a circuit, how electricity travels, and what happens when something goes wrong. They'll also discover that circuits are everywhere, including their MP3 players and their alarm clocks.","English",22.6,16.95,"621.319","24 pp.",{"$f":"Table1[[#This Row],['# Books]]*Table1[[#This Row],[QTY]]","v":0},{"$f":"Table1[[#This Row],[QTY]]*Table1[[#This Row],[S&L Price]]","v":0}]
[null,169,null,"Fossilized!",1,"Insect Fossils","Library Bound Book",null,"978-1-4339-6416-9",2013,"August 2012","Library","8.500 X 8.500","Author","Kathleen Connors",5.6,0.5,30,26,"K","890L","Grade 2 - 3","Grade 2 - 5","Insect fossils are among the oldest animal fossils scientists have found. Ancient arthropod fossils found in the ocean and rare butterfly imprints are explored as well as the evolution of modern insects with easy-to-read explanations. Filled with detailed, colorful photographs of real insect fossils, this book will assist young readers in learning how insect fossils form and how old the ant really is.","English",22.6,16.95,"565","24 pp.",{"$f":"Table1[[#This Row],['# Books]]*Table1[[#This Row],[QTY]]","v":0},{"$f":"Table1[[#This Row],[QTY]]*Table1[[#This Row],[S&L Price]]","v":0}]
[null,169,null,"Fossilized!",1,"Plant Fossils","eBook",null,"978-1-4339-6425-1",2013,"August 2012",null,null,"Author","Kathleen Connors",5.3,0.5,30,26,"K","880L","Grade 2 - 3","Grade 2 - 5","Flowers, ferns, pollen, and permineralization, this book covers plant fossils. Colorful pictures and fun fact boxes will introduce readers to the exciting world of paleobotany. Fascinating facts such as plants are descendants of algae, even though algae aren’t plants, will capture readers attention and give a captivating look at how plant fossils formed and evolved into greenery we see all over the world.","English",22.6,16.95,"561","24 pp.",{"$f":"Table1[[#This Row],['# Books]]*Table1[[#This Row],[QTY]]","v":0},{"$f":"Table1[[#This Row],[QTY]]*Table1[[#This Row],[S&L Price]]","v":0}]
[null,169,null,"Fossilized!",1,"Sea Creature Fossils","eBook",null,"978-1-4339-6429-9",2013,"August 2012",null,null,"Author","Kathleen Connors",5.9,0.5,30,26,"K","940L","Grade 2 - 3","Grade 2 - 5","Trilobites and ammonites are two extinct ocean-dwelling creatures that have left their mark—in fossils. Readers will learn more about the animal group with the abundant fossil record presented in easy-to-read content. Detailed photographs of real sea creature fossils and fascinating content will capture young readers attention.","English",22.6,16.95,"567","24 pp.",{"$f":"Table1[[#This Row],['# Books]]*Table1[[#This Row],[QTY]]","v":0},{"$f":"Table1[[#This Row],[QTY]]*Table1[[#This Row],[S&L Price]]","v":0}]
[null,170,null,"Great Big Dogs",1,"Irish Wolfhounds","Library Bound Book",null,"978-1-4339-5778-9",2012,"August 2011","Library","8.500 X 8.500","Author","Kristen Rajczak Nelson",4,0.5,20,24,"L",null,"Grade 2 - 3","Grade 2 - 5","Because of the Irish Wolfhound’s hunting abilities, wolves became extinct in Ireland by the 1800s. Today, the Irish Wolfhound is a loyal pet for many families. In this book, readers will learn more about the fascinating history of these skilled hunters as well as valuable information about their care . With its brilliant photographs and fascinating information about the breed, this book is sure to charm dog lovers.","English",22.6,16.95,"636.753","24 pp.",{"$f":"Table1[[#This Row],['# Books]]*Table1[[#This Row],[QTY]]","v":0},{"$f":"Table1[[#This Row],[QTY]]*Table1[[#This Row],[S&L Price]]","v":0}]
[null,170,null,"Great Big Dogs",1,"Mastiffs","eBook",null,"978-1-4339-5787-1",2012,"August 2011",null,null,"Author","Maria Nelson",3.7,0.5,20,24,"L",null,"Grade 2 - 3","Grade 2 - 5","The mastiff is a very old breed. So old, that there are records of mastiffs dating back to 3000 BC. In this book, readers learn the long history of these big dogs while observing beautiful photographs of the breed. From how to care for a mastiff to its gentle personality, this book includes interesting information for dog lovers everywhere.","English",22.6,16.95,"636.73","24 pp.",{"$f":"Table1[[#This Row],['# Books]]*Table1[[#This Row],[QTY]]","v":0},{"$f":"Table1[[#This Row],[QTY]]*Table1[[#This Row],[S&L Price]]","v":0}]
[null,170,null,"Horsing Around",1,"Arabian Horses","Library Bound Book",null,"978-1-4339-6460-2",2012,"January 2012","Library","8.500 X 8.500","Author","Barbara M. Linde",4.3,0.5,28,24,"M",null,"Grade 2 - 3","Grade 2 - 5","The Arabian horse is known for its beauty. With its tail held high, it seems proud of its appearance. These horses hold a special place in the history of the Middle East. They were bred carefully for swiftness and endurance in a hot desert environment. Many years later, others discovered the value of the Arabian horse. Even George Washington had a prized Arabian. In this book, vivid photos and fun facts highlight the most admired features of this beloved breed.","English",22.6,16.95,"636.112","24 pp.",{"$f":"Table1[[#This Row],['# Books]]*Table1[[#This Row],[QTY]]","v":0},{"$f":"Table1[[#This Row],[QTY]]*Table1[[#This Row],[S&L Price]]","v":0}]
[null,170,null,"Horsing Around",1,"Quarter Horses","eBook",null,"978-1-4339-6469-5",2012,"January 2012",null,null,"Author","Barbara M. Linde",4.5,0.5,28,24,"L",null,"Grade 2 - 3","Grade 2 - 5","Quarter horses are one of the fastest breeds in the world, and they were bred in the American colonies. Even if the name is unfamiliar, quarter horses are one of the most popular breeds in North America today. They’re hardworking, gentle, and incredibly speedy. Horse lovers will enjoy reading about the history of these animals and love looking at action photographs. ","English",22.6,16.95,"636.133","24 pp.",{"$f":"Table1[[#This Row],['# Books]]*Table1[[#This Row],[QTY]]","v":0},{"$f":"Table1[[#This Row],[QTY]]*Table1[[#This Row],[S&L Price]]","v":0}]
[null,170,null,"Horsing Around",1,"Shetland Ponies","Library Bound Book",null,"978-1-4339-6472-5",2012,"January 2012","Library","8.500 X 8.500","Author","Kristen Rajczak Nelson",3.9,0.5,28,24,"L",null,"Grade 2 - 3","Grade 2 - 5","Shetland ponies are popular as pets and for use with beginning riders. These animals were originally bred for harsh weather and hard work on the Shetland Islands. Through the years, the ponies kept their shaggy coats and easy-to-train nature. Today’s Shetland ponies are even used as service animals. Pony lovers will find out how these small horses became the special breed they are today. Specially chosen photographs spotlight the Shetland pony’s unique qualities.","English",22.6,16.95,"636.1","24 pp.",{"$f":"Table1[[#This Row],['# Books]]*Table1[[#This Row],[QTY]]","v":0},{"$f":"Table1[[#This Row],[QTY]]*Table1[[#This Row],[S&L Price]]","v":0}]
[null,170,null,"Killer Cats",1,"Bobcats","eBook",null,"978-1-4339-6998-0",2013,"August 2012",null,null,"Author","A. J. Grucella",3.5,0.5,28,24,"L",null,"Grade 2 - 3","Grade 2 - 5","They may look like large house cats, but bobcats are really wild, carnivorous animals. There are approximately 1 million bobcats that live throughout North America, but they usually stay a good distance from humans. Readers get a chance to see these expert hunters in action, through eye-catching photographs taken in their native habitats. Engaging text supports elementary science curriculum. A graphic organizer is included to reinforce key concepts.","English",22.6,16.95,"599.75","24 pp.",{"$f":"Table1[[#This Row],['# Books]]*Table1[[#This Row],[QTY]]","v":0},{"$f":"Table1[[#This Row],[QTY]]*Table1[[#This Row],[S&L Price]]","v":0}]
[null,170,null,"Killer Cats",1,"Lions","eBook",null,"978-1-4339-7010-8",2013,"August 2012",null,null,"Author","Therese M. Shea",3.7,0.5,28,24,"L",null,"Grade 2 - 3","Grade 2 - 5","Lions have long held the title of the “king of beasts”. Readers will decide for themselves if these killer cats truly deserve the label after being presented with numerous facts and engaging information. In the action-packed photographs, lions look the part of mighty animals. They roam their habitats without fear, letting out impressive roars to caution their enemies and to celebrate a successful hunt. Readers will also examine the fascinating social lives of lions in their pride.","English",22.6,16.95,"599.757","24 pp.",{"$f":"Table1[[#This Row],['# Books]]*Table1[[#This Row],[QTY]]","v":0},{"$f":"Table1[[#This Row],[QTY]]*Table1[[#This Row],[S&L Price]]","v":0}]
[null,170,null,"Nature's Creepiest Creatures",1,"Creepy Amphibians","Library Bound Book",null,"978-1-4339-6481-7",2012,"January 2012","Library","8.500 X 8.500","Author","Nicole Shea",4,0.5,20,22,"L","570L","Grade 2 - 3","Grade 2 - 5","Readers will learn all about the weird things amphibians do, including how some mother frogs birth their babies from under the skin on their back and that a salamander can re-grow its tail.  In-depth descriptions of amphibious life and freaky fact boxes will engage young readers as detailed, colorful photographs creep around each page turn. A fun fact chart and helpful glossary will add to each reader’s experience.","English",22.6,16.95,"597.8","24 pp.",{"$f":"Table1[[#This Row],['# Books]]*Table1[[#This Row],[QTY]]","v":0},{"$f":"Table1[[#This Row],[QTY]]*Table1[[#This Row],[S&L Price]]","v":0}]
[null,170,null,"Nature's Creepiest Creatures",1,"Creepy Amphibians","eBook",null,"978-1-4339-6482-4",2012,"January 2012",null,null,"Author","Nicole Shea",4,0.5,20,22,"L","570L","Grade 2 - 3","Grade 2 - 5","Readers will learn all about the weird things amphibians do, including how some mother frogs birth their babies from under the skin on their back and that a salamander can re-grow its tail.  In-depth descriptions of amphibious life and freaky fact boxes will engage young readers as detailed, colorful photographs creep around each page turn. A fun fact chart and helpful glossary will add to each reader’s experience.","English",22.6,16.95,"597.8","24 pp.",{"$f":"Table1[[#This Row],['# Books]]*Table1[[#This Row],[QTY]]","v":0},{"$f":"Table1[[#This Row],[QTY]]*Table1[[#This Row],[S&L Price]]","v":0}]
[null,170,null,"Nature's Creepiest Creatures",1,"Creepy Mammals","Library Bound Book",null,"978-1-4339-6493-0",2012,"January 2012","Library","8.500 X 8.500","Author","Nicole Shea",4.5999999999999996,0.5,20,22,"L","620L","Grade 2 - 3","Grade 2 - 5","Tarsier. Vampire bat. Babirusa. Readers will meet these bizarre mammals and many more in this book filled with full-color photographs. Interesting content highlights the weirdest behaviors and features of these odd mammals. Fascinating fact boxes add even more eerie information for young readers. ","English",22.6,16.95,"599","24 pp.",{"$f":"Table1[[#This Row],['# Books]]*Table1[[#This Row],[QTY]]","v":0},{"$f":"Table1[[#This Row],[QTY]]*Table1[[#This Row],[S&L Price]]","v":0}]
[null,170,null,"Nature's Creepiest Creatures",1,"Creepy Sea Creatures","eBook",null,"978-1-4339-6502-9",2012,"January 2012",null,null,"Author","Nicole Shea",4.4000000000000004,0.5,20,22,"L","630L","Grade 2 - 3","Grade 2 - 5","The depths of the ocean are home to some creepy creatures that rarely see daylight. Packed with eerie information, this book will shed light on deep-sea life miles below the ocean’s surface. Detailed photographs of fish with dangling eyes and razor-sharp teeth will enhance the freaky fact boxes and accessible content.   ","English",22.6,16.95,"591.77","24 pp.",{"$f":"Table1[[#This Row],['# Books]]*Table1[[#This Row],[QTY]]","v":0},{"$f":"Table1[[#This Row],[QTY]]*Table1[[#This Row],[S&L Price]]","v":0}]
[null,170,null,"Nature's Light Show",1,"Rainbows","Library Bound Book",null,"978-1-4339-7031-3",2013,"August 2012","Library","8.500 X 8.500","Author","Kristen Rajczak Nelson",null,null,28,24,"L",null,"Grade 2 - 3","Grade 2 - 5","One of the best things about a rainy day is the possibility of a rainbow. Readers learn how rainbows form both through prisms and in the sky. With detailed diagrams to aid understanding, the text introduces important science concepts about light, refraction, and reflection. Beautiful photographs enhance exciting information and fascinating fact boxes.","English",22.6,16.95,"551.56","24 pp.",{"$f":"Table1[[#This Row],['# Books]]*Table1[[#This Row],[QTY]]","v":0},{"$f":"Table1[[#This Row],[QTY]]*Table1[[#This Row],[S&L Price]]","v":0}]
[null,170,null,"Nature's Light Show",1,"Rainbows","eBook",null,"978-1-4339-7034-4",2013,"August 2012",null,null,"Author","Kristen Rajczak Nelson",null,null,28,24,"L",null,"Grade 2 - 3","Grade 2 - 5","One of the best things about a rainy day is the possibility of a rainbow. Readers learn how rainbows form both through prisms and in the sky. With detailed diagrams to aid understanding, the text introduces important science concepts about light, refraction, and reflection. Beautiful photographs enhance exciting information and fascinating fact boxes.","English",22.6,16.95,"551.56","24 pp.",{"$f":"Table1[[#This Row],['# Books]]*Table1[[#This Row],[QTY]]","v":0},{"$f":"Table1[[#This Row],[QTY]]*Table1[[#This Row],[S&L Price]]","v":0}]
[null,170,null,"Rare and Precious Metals",1,"Chromium","eBook",null,"978-1-4824-0488-3",2014,"January 2014",null,null,"Author","Greg Roza",5.0999999999999996,0.5,30,22,"N",null,"Grade 2 - 3","Grade 2 - 5","Chromium isn't the most well-known metal, but it's very useful. In fact, chromium could even be called a supermetal. Chromium makes other metals better. From mining chromium to the making of chromium alloys, this book, a complement to any science curriculum, is a valuable look at this precious element. Vivid photographs, detailed captions, and \"Metal Mania\" fact boxes inform readers about the importance of chromium.","English",22.6,16.95,"546.532","24 pp.",{"$f":"Table1[[#This Row],['# Books]]*Table1[[#This Row],[QTY]]","v":0},{"$f":"Table1[[#This Row],[QTY]]*Table1[[#This Row],[S&L Price]]","v":0}]
[null,170,null,"Rare and Precious Metals",1,"Silver","Library Bound Book",null,"978-1-4824-0509-5",2014,"January 2014","Library","8.500 X 8.500","Author","Therese M. Shea",4.9000000000000004,0.5,30,22,"N",null,"Grade 2 - 3","Grade 2 - 5","Silver may seem to be everywhere, but it's actually only mined in very small amounts. The minerals from which silver can be extracted and its refining process are found in this look at one of Earth's most important metals. Silver alloys and their many uses are highlighted throughout the text, which includes a graphic organizer and numerous interesting fact boxes.","English",22.6,16.95,"669.23","24 pp.",{"$f":"Table1[[#This Row],['# Books]]*Table1[[#This Row],[QTY]]","v":0},{"$f":"Table1[[#This Row],[QTY]]*Table1[[#This Row],[S&L Price]]","v":0}]
[null,170,null,"Rare and Precious Metals",1,"Uranium","eBook",null,"978-1-4824-0532-3",2014,"January 2014",null,null,"Author","Tyrone Mineo",5.2,0.5,34,22,"O",null,"Grade 2 - 3","Grade 2 - 5","Uranium is a source of vast energy for our world. Learning how this metal is mined, milled, enriched, and finally put to use is essential to understanding both the appealing and controversial nature of uranium. Science terms such as fission, atom, and radiation are introduced to readers in an easy-to-understand way in this book. They'll also learn fascinating facts such as uranium's place as the heaviest element found in nature. Colorful photographs add further interest to an important science topic.     ","English",22.6,16.95,"546.431","24 pp.",{"$f":"Table1[[#This Row],['# Books]]*Table1[[#This Row],[QTY]]","v":0},{"$f":"Table1[[#This Row],[QTY]]*Table1[[#This Row],[S&L Price]]","v":0}]
[null,170,null,"Really Wild Reptiles",1,"Chameleons","Library Bound Book",null,"978-1-4339-8359-7",2013,"January 2013","Library","8.500 X 8.500","Author","Kathleen Connors",4.2,0.5,24,20,"L",null,"Grade 2 - 3","Grade 2 - 5","Known for their incredible color-changing abilities, chameleons seem to be an elusive lizard. However, these quick-change artists are also deadly predators with some amazing features. Readers will enter the world of the chameleon, discovering the secret of their color changes through accessible science content and fact boxes full of more wild information. Colorful photographs will give readers close-ups of the chameleon.","English",22.6,16.95,"597.95","24 pp.",{"$f":"Table1[[#This Row],['# Books]]*Table1[[#This Row],[QTY]]","v":0},{"$f":"Table1[[#This Row],[QTY]]*Table1[[#This Row],[S&L Price]]","v":0}]
[null,170,null,"Really Wild Reptiles",1,"Gila Monsters","eBook",null,"978-1-4339-8372-6",2013,"January 2013",null,null,"Author","Kathleen Connors",4.5,0.5,24,20,"L",null,"Grade 2 - 3","Grade 2 - 5","Large and lazy lizards aren’t quite the terrifying beasts an animal with “monster” in its name calls to mind; but Gila monsters have a deadly, venomous bite. Readers are introduced to a slow-moving reptile with a wild way of protecting itself from predators. Full-color photographs of brightly patterned Gila monsters will absorb readers as they learn all about a Gila monster’s life through accessible science content. Fun fact boxes add to the cool information readers will be excited to share.","English",22.6,16.95,"597.95","24 pp.",{"$f":"Table1[[#This Row],['# Books]]*Table1[[#This Row],[QTY]]","v":0},{"$f":"Table1[[#This Row],[QTY]]*Table1[[#This Row],[S&L Price]]","v":0}]
[null,170,null,"Really Wild Reptiles",1,"Snapping Turtles","Library Bound Book",null,"978-1-4339-8384-9",2013,"January 2013","Library","8.500 X 8.500","Author","Kathleen Connors",4.0999999999999996,0.5,24,20,"L",null,"Grade 2 - 3","Grade 2 - 5","When left alone, snapping turtles don’t do much except look for food and bask in shallow water. But if they feel threatened, these huge reptiles may snap—and they have a powerful bite. Including their commonly aggressive nature and the differences between the common snapper and the alligator snapper, readers are introduced to a wild animal they could actually encounter. Fun fact boxes add to achievable content, while colorful photographs help readers recognize the “dinosaur of the turtle world.”","English",22.6,16.95,"597.92","24 pp.",{"$f":"Table1[[#This Row],['# Books]]*Table1[[#This Row],[QTY]]","v":0},{"$f":"Table1[[#This Row],[QTY]]*Table1[[#This Row],[S&L Price]]","v":0}]
[null,170,null,"Small But Deadly",1,"Deadly Black Widows","eBook",null,"978-1-4339-5731-4",2012,"August 2011",null,null,"Author","Greg Roza",4.5,0.5,30,24,"M",null,"Grade 2 - 3","Grade 2 - 5","A female black widow spider is so small it could sit on a quarter, but don’t let its size fool you. These tiny spiders are producing a powerful venom inside their bodies. Just one bite packs enough venom to make a person really sick, and sometimes it’s enough to be deadly. Striking photographs allow readers to get up close to these dangerous creatures while also helping them to identify the spider it’s best to avoid at all costs. Fact boxes share additional information and the fun narrative will keep readers coming back for more.","English",22.6,16.95,"595.4","32 pp.",{"$f":"Table1[[#This Row],['# Books]]*Table1[[#This Row],[QTY]]","v":0},{"$f":"Table1[[#This Row],[QTY]]*Table1[[#This Row],[S&L Price]]","v":0}]
[null,170,null,"Small But Deadly",1,"Deadly Mosquitoes","eBook",null,"978-1-4339-5739-0",2012,"August 2011",null,null,"Author","Abigail Richter",5.3,0.5,30,28,"N",null,"Grade 2 - 3","Grade 2 - 5","Most people know mosquitoes are small, annoying bloodsuckers, but many children don’t know that they can also be deadly. One tiny mosquito can transport illnesses from person to person, making them one of the most dangerous insects in the world. This informative book explains how mosquitoes grow, how females find human blood to help lay their eggs, and the types of diseases they carry. Amazing close-up photographs take readers into the miniature world of the mosquito.","English",22.6,16.95,"614.4","32 pp.",{"$f":"Table1[[#This Row],['# Books]]*Table1[[#This Row],[QTY]]","v":0},{"$f":"Table1[[#This Row],[QTY]]*Table1[[#This Row],[S&L Price]]","v":0}]
[null,170,null,"Space Mysteries",1,"Are There Other Earths?","Library Bound Book",null,"978-1-4339-8257-6",2013,"January 2013","Library","8.500 X 8.500","Author","Michael Portman",null,null,30,22,"N",null,"Grade 2 - 3","Grade 2 - 5","Readers will find out about the other planets that scientists have discovered through accessible text, fun fact boxes, and amazing photographs. They will be introduced to amazing scientific tools including the Kepler telescope, which has assisted in locating many planets outside of our solar system. The question of other planets sustaining life, as it is on earth, has been plaguing scientists and curious minds for some time. Along with fuel scientists, readers will speculate whether there are habitable planets and if people could move to them or not.","English",25.25,18.95,"523.2","32 pp.",{"$f":"Table1[[#This Row],['# Books]]*Table1[[#This Row],[QTY]]","v":0},{"$f":"Table1[[#This Row],[QTY]]*Table1[[#This Row],[S&L Price]]","v":0}]
[null,170,null,"Space Mysteries",1,"Could an Asteroid Harm Earth?","eBook",null,"978-1-4339-8270-5",2013,"January 2013",null,null,"Author","Michael Portman",null,null,30,22,"N",null,"Grade 2 - 3","Grade 2 - 5","An asteroid plummeting to Earth seems extremely unlikely, no wonder several movies have used it as a plot. But asteroids, comets, and meteorites do fall to Earth every day. In recent years, none have been of a significant enough size to cause great damage. However, it is theorized that a space object was responsible for the extinction of dinosaurs 65 million years ago. Readers will explore whether or not such an event could threaten life on Earth again, learn how scientists monitor asteroids and other space objects, and learn some theoretical plans to avoid a global catastrophe.","English",25.25,18.95,"363.34","32 pp.",{"$f":"Table1[[#This Row],['# Books]]*Table1[[#This Row],[QTY]]","v":0},{"$f":"Table1[[#This Row],[QTY]]*Table1[[#This Row],[S&L Price]]","v":0}]
[null,170,null,"Space Mysteries",1,"How Long Will the Sun Last?","Library Bound Book",null,"978-1-4339-9223-0",2014,"August 2013","Library","8.500 X 8.500","Author","Michael Sabatino",null,null,30,22,"N",null,"Grade 2 - 3","Grade 2 - 5","Our sun is our constant companion, giving us a seemingly endless supply of light, heat, and energy. But it will have an end. Like all stars, the sun had a beginning, and it will die, too. This book details how this will happen and the likely effects the sun's end will have on Earth. Readers learn how gravity and nuclear fusion work together in the birth and death of stars. This captivating glimpse into the far, far future will awe enthusiasts of astronomy.","English",25.25,18.95,"523.7","32 pp.",{"$f":"Table1[[#This Row],['# Books]]*Table1[[#This Row],[QTY]]","v":0},{"$f":"Table1[[#This Row],[QTY]]*Table1[[#This Row],[S&L Price]]","v":0}]
[null,170,null,"Space Mysteries",1,"How Long Will the Sun Last?","eBook",null,"978-1-4339-9226-1",2014,"August 2013",null,null,"Author","Michael Sabatino",null,null,30,22,"N",null,"Grade 2 - 3","Grade 2 - 5","Our sun is our constant companion, giving us a seemingly endless supply of light, heat, and energy. But it will have an end. Like all stars, the sun had a beginning, and it will die, too. This book details how this will happen and the likely effects the sun's end will have on Earth. Readers learn how gravity and nuclear fusion work together in the birth and death of stars. This captivating glimpse into the far, far future will awe enthusiasts of astronomy.","English",25.25,18.95,"523.7","32 pp.",{"$f":"Table1[[#This Row],['# Books]]*Table1[[#This Row],[QTY]]","v":0},{"$f":"Table1[[#This Row],[QTY]]*Table1[[#This Row],[S&L Price]]","v":0}]
[null,171,null,"Space Mysteries",1,"What Is an Eclipse?","Library Bound Book",null,"978-1-4339-9233-9",2014,"August 2013","Library","8.500 X 8.500","Author","Michael Portman",null,null,30,22,"N",null,"Grade 2 - 3","Grade 2 - 5","When a solar or lunar eclipse is approaching, people excitedly prepare to watch the enthralling events. They're just small reminders that other celestial bodies are out there. In this book, readers will learn with the help of diagrams and key science vocabulary how eclipses happen, when they can expect them, and the differences between partial and full eclipses. Fun facts sprinkled throughout the text will encourage stargazers to mark their calendars for the next eclipse.","English",25.25,18.95,"523.7","24 pp.",{"$f":"Table1[[#This Row],['# Books]]*Table1[[#This Row],[QTY]]","v":0},{"$f":"Table1[[#This Row],[QTY]]*Table1[[#This Row],[S&L Price]]","v":0}]
[null,171,null,"Space Mysteries",1,"Where Did the Moon Come From?","eBook",null,"978-1-4339-8280-4",2013,"January 2013",null,null,"Author","Michael Portman",null,null,30,22,"N",null,"Grade 2 - 3","Grade 2 - 5","We see the moon waxing and waning every month, and we know it controls the tides. However, we rarely wonder how it got there in the first place and why it continues to accompany Earth around the sun. Readers will learn some fascinating theories about the moon's origin and decide for themselves if they agree with the current accepted explanation.","English",25.25,18.95,"523.3","24 pp.",{"$f":"Table1[[#This Row],['# Books]]*Table1[[#This Row],[QTY]]","v":0},{"$f":"Table1[[#This Row],[QTY]]*Table1[[#This Row],[S&L Price]]","v":0}]
[null,171,null,"Strange Life Cycles",1,"The Bizarre Life Cycle of a Cuckoo","eBook",null,"978-1-4339-7046-7",2013,"August 2012",null,null,"Author","Barbara M. Linde",4.3,0.5,28,24,"L",null,"Grade 2 - 3","Grade 2 - 5","Many species of cuckoo lay their eggs in the nests of other birds. After the young cuckoo hatches, it may eject the other babies from the nest so it can thrive. Readers learn these and other amazing facts about the life cycle of the cuckoo through engaging and information text. Colorful photographs engage readers in the easy-to-read explanations. Fact boxes add even more weird information about the cuckoo, and graphic organizers enhance readers’ understanding of science content.","English",22.6,16.95,"598.7","24 pp.",{"$f":"Table1[[#This Row],['# Books]]*Table1[[#This Row],[QTY]]","v":0},{"$f":"Table1[[#This Row],[QTY]]*Table1[[#This Row],[S&L Price]]","v":0}]
[null,171,null,"Strange Life Cycles",1,"The Bizarre Life Cycle of a Kangaroo","Library Bound Book",null,"978-1-4339-7047-4",2013,"August 2012","Library","8.500 X 8.500","Author","Barbara M. Linde",4.0999999999999996,0.5,28,26,"L",null,"Grade 2 - 3","Grade 2 - 5","Using age-appropriate language and accessible science content, readers are introduced to the unique lives of a beloved marsupial, the kangaroo. Baby kangaroos are born and climb into their mother’s pouch after just 33 days in utero. Using colorful photographs and fun fact boxes, readers learn bizarre information and use helpful graphic organizers to reinforce key information.","English",22.6,16.95,"599.2","24 pp.",{"$f":"Table1[[#This Row],['# Books]]*Table1[[#This Row],[QTY]]","v":0},{"$f":"Table1[[#This Row],[QTY]]*Table1[[#This Row],[S&L Price]]","v":0}]
[null,171,null,"Strange Life Cycles",1,"The Bizarre Life Cycle of a Salmon","eBook",null,"978-1-4339-7062-7",2013,"August 2012",null,null,"Author","Mark J. Harasymiw",4.9000000000000004,0.5,28,26,"L",null,"Grade 2 - 3","Grade 2 - 5","Only about 10 percent of salmon offspring live to the second stage of the fish’s life cycle. Even stranger, they sometimes develop a hump or large teeth before reproducing. Readers learn these bizarre facts and more with colorful photographs and fact boxes detailing other weird salmon information. Written in age-appropriate language, the engaging text introduces readers to important science concepts and includes graphic organizers to aid understanding. ","English",22.6,16.95,"597.5","24 pp.",{"$f":"Table1[[#This Row],['# Books]]*Table1[[#This Row],[QTY]]","v":0},{"$f":"Table1[[#This Row],[QTY]]*Table1[[#This Row],[S&L Price]]","v":0}]
[null,171,null,"That Rocks!",1,"Igneous Rocks","Library Bound Book",null,"978-1-4339-8313-9",2014,"August 2013","Library","8.500 X 8.500","Author","Maria Nelson",5.0999999999999996,0.5,24,20,"L",null,"Grade 2 - 3","Grade 2 - 5","Whether formed deep underground or created following a volcanic eruption, igneous rocks earn their nickname as “fire rocks.” Readers will learn exciting facts about the many kinds of rocks that emerge from the superhot melted rock found beneath Earth’s surface. This book includes age-appropriate content that will enhance the science curriculum through fascinating fact boxes, full-color photographs, and a graphic organizer detailing the process of igneous rock formation.","English",22.6,16.95,"552","24 pp.",{"$f":"Table1[[#This Row],['# Books]]*Table1[[#This Row],[QTY]]","v":0},{"$f":"Table1[[#This Row],[QTY]]*Table1[[#This Row],[S&L Price]]","v":0}]
[null,171,null,"That Rocks!",1,"Sedimentary Rocks","eBook",null,"978-1-4339-8324-5",2014,"August 2013",null,null,"Author","Maria Nelson",6,0.5,24,20,"L",null,"Grade 2 - 3","Grade 2 - 5","Sedimentary rocks are the most visible kind of rock on Earth. They are the pebbles on your favorite hiking trail and the sand on the beaches of Hawaii. Readers will enjoy learning about how these unique rocks form through accessible science content and a simple graphic organizer. Colorful photographs provide examples of sedimentary rocks around the world, while helpful fact boxes highlight even more interesting information.","English",22.6,16.95,"552","24 pp.",{"$f":"Table1[[#This Row],['# Books]]*Table1[[#This Row],[QTY]]","v":0},{"$f":"Table1[[#This Row],[QTY]]*Table1[[#This Row],[S&L Price]]","v":0}]
[null,171,null,"That Rocks!",1,"The Rock Cycle","Library Bound Book",null,"978-1-4339-8325-2",2014,"August 2013","Library","8.500 X 8.500","Author","Maria Nelson",5.2,0.5,24,20,"L",null,"Grade 2 - 3","Grade 2 - 5","Much of Earth is made up of rock, including the continents and even the melted rock of the planet’s core. Rock is present in all shapes, sizes, and compositions. Readers will learn about the natural processes involved in creating different kinds of rock. Accessible science content that supports the curriculum enhanced by colorful photographs will engage geology enthusiasts and curious minds alike. A simple graphic organizer and fact boxes full of more information add even more excitement for readers.","English",22.6,16.95,"552","24 pp.",{"$f":"Table1[[#This Row],['# Books]]*Table1[[#This Row],[QTY]]","v":0},{"$f":"Table1[[#This Row],[QTY]]*Table1[[#This Row],[S&L Price]]","v":0}]
[null,171,null,"That's Gross!",1,"Gross Things About Your Food","eBook",null,"978-1-4339-7118-1",2013,"August 2012",null,null,"Author","Maria Nelson",null,null,34,24,"N",null,"Grade 2 - 3","Grade 2 - 5","Fungi's role in making cheese is quite unsavory to think about, but the end result sure tastes good. Yeast, one fungus discussed, is the fungus that makes our bread light and airy. Readers will also learn about the gross things in food that are dangerous and how to keep safe from E. coli and other bacteria. They'll be surprised and grossed out, but ultimately enthralled as they learn about the foods they eat every day.","English",22.6,16.95,"363.19","24 pp.",{"$f":"Table1[[#This Row],['# Books]]*Table1[[#This Row],[QTY]]","v":0},{"$f":"Table1[[#This Row],[QTY]]*Table1[[#This Row],[S&L Price]]","v":0}]
[null,171,null,"That's Gross!",1,"Gross Things in Your House","eBook",null,"978-1-4339-7126-6",2013,"August 2012",null,null,"Author","Maria Nelson",null,null,34,24,"N",null,"Grade 2 - 3","Grade 2 - 5","Bugs in the wall, dead skin cells on the ground—bacteria is found everywhere. Yes, even the cleanest homes have some pretty gross things in them. Readers will learn about the places in a house where the most germs congregate and important ways to keep their own homes healthy places to live. Gross concepts are turned into cool science through accessible text and engaging facts.","English",22.6,16.95,"577.5","48 pp.",{"$f":"Table1[[#This Row],['# Books]]*Table1[[#This Row],[QTY]]","v":0},{"$f":"Table1[[#This Row],[QTY]]*Table1[[#This Row],[S&L Price]]","v":0}]
[null,171,null,"Machines in Motion",1,"Cars","Library Bound Book",null,"978-1-4339-9596-5",2014,"August 2013","Library","8.000 X 10.00","Author","Anne Flounders",null,null,24,20,"L",null,"Grade 3","Grade 3 - 5","Cars are everywhere, but how much do we really know about how they work? Readers learn more about not just the family car, but also about the thrill rides of sports cars and race cars.  Full-color photographs and fun facts enhance accessible yet exciting information about the many different vehicles we see on the roads--and on the racetrack--today. Readers discover the differences between a sedan and a coupe, the different \"boxes\" that make up cars, and much more. They're shown step-by-step how to draw their own car, and even how to write a report on what they've learned. A quiz at the end of the book will test readers on their newfound automobile knowledge.    • High-interest topic attracts reluctant readers • Reading level appropriate for many ages • Full-color photographs • Table of contents, glossary, and index guide readers through each book • Suggested books and websites provide additional learning opportunities  ","English",31.95,23.95,"629.2","48 pp.",{"$f":"Table1[[#This Row],['# Books]]*Table1[[#This Row],[QTY]]","v":0},{"$f":"Table1[[#This Row],[QTY]]*Table1[[#This Row],[S&L Price]]","v":0}]
[null,171,null,"Machines in Motion",1,"Cars","eBook",null,"978-1-4339-9599-6",2014,"August 2013",null,null,"Author","Anne Flounders",null,null,24,20,"L",null,"Grade 3","Grade 3 - 5","Cars are everywhere, but how much do we really know about how they work? Readers learn more about not just the family car, but also about the thrill rides of sports cars and race cars.  Full-color photographs and fun facts enhance accessible yet exciting information about the many different vehicles we see on the roads--and on the racetrack--today. Readers discover the differences between a sedan and a coupe, the different \"boxes\" that make up cars, and much more. They're shown step-by-step how to draw their own car, and even how to write a report on what they've learned. A quiz at the end of the book will test readers on their newfound automobile knowledge.    • High-interest topic attracts reluctant readers • Reading level appropriate for many ages • Full-color photographs • Table of contents, glossary, and index guide readers through each book • Suggested books and websites provide additional learning opportunities  ","English",31.95,23.95,"629.2","48 pp.",{"$f":"Table1[[#This Row],['# Books]]*Table1[[#This Row],[QTY]]","v":0},{"$f":"Table1[[#This Row],[QTY]]*Table1[[#This Row],[S&L Price]]","v":0}]
[null,171,null,"Machines in Motion",1,"Planes","Library Bound Book",null,"978-1-4339-9608-5",2014,"August 2013","Library","8.000 X 10.00","Author","John Perritano",null,null,24,20,"L",null,"Grade 3","Grade 3 - 5","Airplanes took the limits of machines to new heights, soaring through the skies and changing the way we travel. Readers learn about the first plane with a jet engine and the first big cargo carrier that moved people and supplies around the world in this amazing book full of vibrant photographs. Readers can take a concluding quiz to find out what they've learned, and even draw their own planes with easy-to-follow, step-by-step instructions. Life above the clouds has always been exciting, and this book will put young readers right into the high-flying action.    • High-interest topic attracts reluctant readers • Reading level appropriate for many ages • Full-color photographs • Table of contents, glossary, and index guide readers through each book • Suggested books and websites provide additional learning opportunities  ","English",31.95,23.95,"629.133","32 pp.",{"$f":"Table1[[#This Row],['# Books]]*Table1[[#This Row],[QTY]]","v":0},{"$f":"Table1[[#This Row],[QTY]]*Table1[[#This Row],[S&L Price]]","v":0}]
[null,171,null,"Machines in Motion",1,"Trucks","eBook",null,"978-1-4339-9619-1",2014,"August 2013",null,null,"Author","Jessica Cohn",null,null,24,20,"L",null,"Grade 3","Grade 3 - 5","The massive eighteen-wheel trucks that barrel past us on the highway are impressive vehicles, indeed, and we rely on them for our very way of life. Readers will learn more about these massive machines that help ship all kinds of packages and supplies across the country in this thrilling book. With the help of full-color photographs, readers discover the many different types of trucks, from enormous transport trucks to the pickup truck their family might own. A concluding quiz helps readers reinforce new terms and facts they've learned in the text, and a helpful guide to writing a book report gives readers the chance to apply their knowledge in a practical way. They can even draw their own truck with the help of easy-to-follow, step-by-step instructions.    • High-interest topic attracts reluctant readers • Reading level appropriate for many ages • Full-color photographs • Table of contents, glossary, and index guide readers through each book • Suggested books and websites provide additional learning opportunities","English",31.95,23.95,"629.224","32 pp.",{"$f":"Table1[[#This Row],['# Books]]*Table1[[#This Row],[QTY]]","v":0},{"$f":"Table1[[#This Row],[QTY]]*Table1[[#This Row],[S&L Price]]","v":0}]
[null,171,null,"Angry Earth",1,"Destructive Hurricanes","Library Bound Book",null,"978-1-4339-6537-1",2012,"January 2012","Library","7.750 X 10.00","Author","Michael Portman",5.5,0.5,38,32,"N",null,"Grade 3 - 4","Grade 3 - 6","Each year during hurricane season, people near “Hurricane Alley” in the Atlantic Ocean brace themselves. They watch weather reports tracking tropical storms and hope the storms don’t develop into full-blown hurricanes. With wind speeds often reaching more than 100 miles (161 km) per hour and carrying massive amounts of rain, hurricanes blow in windows, uproot trees, snap power lines, and cause massive flooding. In this book, readers will learn how hurricanes form and how to protect themselves from the many dangers.","English",26.6,19.95,"551.55","32 pp.",{"$f":"Table1[[#This Row],['# Books]]*Table1[[#This Row],[QTY]]","v":0},{"$f":"Table1[[#This Row],[QTY]]*Table1[[#This Row],[S&L Price]]","v":0}]
[null,171,null,"Angry Earth",1,"Powerful Earthquakes","Library Bound Book",null,"978-1-4339-6545-6",2012,"January 2012","Library","7.750 X 10.00","Author","Greg Roza",5.4,0.5,38,32,"N",null,"Grade 3 - 4","Grade 3 - 6","Some earthquakes are so powerful they change the landscape. Many are so weak people can’t feel them. Even with advances in science, seismologists still can’t accurately predict when an earthquake will strike. However, we now know a lot more about where an earthquake is likely to occur. In this book, readers will learn about plate tectonics, faults, and seismic waves. They’ll read about historic earthquakes, see photographs of the aftermath, and learn how to prepare for an earthquake’s mighty tremors.","English",26.6,19.95,"551.22","32 pp.",{"$f":"Table1[[#This Row],['# Books]]*Table1[[#This Row],[QTY]]","v":0},{"$f":"Table1[[#This Row],[QTY]]*Table1[[#This Row],[S&L Price]]","v":0}]
[null,171,null,"Angry Earth",1,"Terrifying Tornadoes","eBook",null,"978-1-4339-6542-5",2012,"January 2012",null,null,"Author","Kristen Rajczak Nelson",5.8,0.5,38,34,"O",null,"Grade 3 - 4","Grade 3 - 6","The terrible damage caused by tornadoes has been a focus of many newspapers and TV news programs. Tornadoes strike quickly, violently, and almost everywhere on Earth. The United States has more tornadoes each year than any other country. One part of the nation experiences tornadoes so often it’s called Tornado Alley. In this book, readers will learn how tornadoes are formed and what to do when a tornado warning is issued. They’ll see astonishing photographs of twisters and the destruction that these terrifying winds can cause.","English",26.6,19.95,"551.55","32 pp.",{"$f":"Table1[[#This Row],['# Books]]*Table1[[#This Row],[QTY]]","v":0},{"$f":"Table1[[#This Row],[QTY]]*Table1[[#This Row],[S&L Price]]","v":0}]
[null,171,null,"Animal Watch",1,"Focus on Mammals","Library Bound Book",null,"978-1-4339-5990-5",2012,"August 2011","Library","8.500 X 10.50","Author","Stephen Savage",4.5999999999999996,0.5,34,28,"O",null,"Grade 3 - 4","Grade 3 - 5","No two mammals are exactly alike, although they all share some very important qualities. Readers are introduced to the world’s extreme diversity of mammals in this book. Fun facts explain how mammals get their food, take care of their babies, and get around. Bright photographs depict mammals as varied as cats, whales, and humans. A detailed scale shows the size of mammals in relation to each other, helping readers grasp exactly how different in size these animals can be. Fun activities carry information from this book into other disciplines, from math to music.","English",26.6,19.95,"599","32 pp.",{"$f":"Table1[[#This Row],['# Books]]*Table1[[#This Row],[QTY]]","v":0},{"$f":"Table1[[#This Row],[QTY]]*Table1[[#This Row],[S&L Price]]","v":0}]
[null,171,null,"Cyberspace Survival Guide",1,"Combating Computer Viruses","eBook",null,"978-1-4339-7215-7",2013,"August 2012",null,null,"Author","John M. Shea",6.1,0.5,40,28,"R",null,"Grade 3 - 4","Grade 3 - 6","The word \"virus\" conjures up a scary image. Just as people don't want to be infected by a virus that might make them sick, they don't want their computers—and other electronic devices—infected by computer viruses. This must-read guide explains “electronic infections\" and viruses, including Trojan horses and worms. Readers can arm themselves using the safety guidelines in the text to help combat and prevent the spread of these damaging computer programs.","English",26.6,19.95,"005.8","32 pp.",{"$f":"Table1[[#This Row],['# Books]]*Table1[[#This Row],[QTY]]","v":0},{"$f":"Table1[[#This Row],[QTY]]*Table1[[#This Row],[S&L Price]]","v":0}]
[null,171,null,"Cyberspace Survival Guide",1,"Dealing with Cyberbullies","Library Bound Book",null,"978-1-4339-7220-1",2013,"August 2012","Library","7.750 X 10.00","Author","Drew Nelson",null,null,40,28,"R",null,"Grade 3 - 4","Grade 3 - 6","Bullying seems to be a part of growing up, and now cyberbullying is, too. Knowing how to deal with cyberbullies is essential for all young people. They need to know the many forms of cyberbullying, how to react to the behaviors, and when to ask for help. Recent headlines have shown that the consequences of cyberbullying are serious and far-reaching. Readers learn why cyberbullying is on the rise and how they, and their friends, can combat it.","English",26.6,19.95,"302.34","32 pp.",{"$f":"Table1[[#This Row],['# Books]]*Table1[[#This Row],[QTY]]","v":0},{"$f":"Table1[[#This Row],[QTY]]*Table1[[#This Row],[S&L Price]]","v":0}]
[null,171,null,"Cyberspace Survival Guide",1,"Safe Social Networking","eBook",null,"978-1-4339-7231-7",2013,"August 2012",null,null,"Author","Barbara M. Linde",null,null,40,28,"R",null,"Grade 3 - 4","Grade 3 - 6","The Internet has become the major channel of communication for young people. Social networking sites such as Facebook, Twitter, and MySpace are places where computer users can freely exchange ideas, build existing relationships, and forge new friendships. However, the anonymous nature of the Web has made it necessary to educate young people about the dangers of sharing personal information over the Internet. This vital guide teaches readers how to make their online profiles more private. It also stresses the importance of keeping information from users they don't know and highlights the many reasons to avoid \"friending\" a stranger on the Web.","English",26.6,19.95,"006.7","32 pp.",{"$f":"Table1[[#This Row],['# Books]]*Table1[[#This Row],[QTY]]","v":0},{"$f":"Table1[[#This Row],[QTY]]*Table1[[#This Row],[S&L Price]]","v":0}]
[null,171,null,"EcoWorks",1,"How Community Gardens Work","eBook",null,"978-1-4339-9559-0",2014,"August 2013",null,null,"Author","Louise Spilsbury",null,null,34,22,"O",null,"Grade 3 - 4","Grade 3 - 5","Some cities offer their residents lots of cool restaurants, arts activities, and business opportunities—but few green spaces. Poorer areas may have empty lots or abandoned buildings, and no nearby parks. Community gardens are a great idea for either of these scenarios—and so many more! Through inspiring descriptions of the benefits of community gardens, including their positive ecological impact, readers will run to the nearest plot of land to start a garden! From the science of composting and organic farming to health topics like fitness and healthy eating, the motivating content will introduce readers to the fun of community gardens, which can bring communities together, help the environment, and provide a good use for unused lots. Bright, colorful photographs and descriptive sidebars and fact boxes will draw readers in even more—that is, if they haven’t already started planting their garden!","English",26.6,19.95,"635","32 pp.",{"$f":"Table1[[#This Row],['# Books]]*Table1[[#This Row],[QTY]]","v":0},{"$f":"Table1[[#This Row],[QTY]]*Table1[[#This Row],[S&L Price]]","v":0}]
[null,172,null,"EcoWorks",1,"How Renewable Energy Works","Library Bound Book",null,"978-1-4339-9568-2",2014,"August 2013","Library","8.000 X 10.00","Author","Geoff Barker",null,null,34,22,"O",null,"Grade 3 - 4","Grade 3 - 5","Homes and businesses around the world have solar panels to harness the sun’s energy for electricity. But even more remarkably, NASA powered an airplane using solar power in 2001! Achievements in renewable energy are encouraging as the world’s reserves of oil, natural gas, and coal continue to be depleted. Readers will learn the state of nonrenewable resources on Earth in addition to information about the renewable energy technology that will power cars and homes in the future. Discussion of greenhouse gases and climate change provide readers with basic knowledge about the changing needs of Earth. Detailed sidebars and fact boxes augment science and social studies information, offering readers both pros and cons of solar, wind, and water energy, among others. Colorful photographs will further engage readers with these important topics as they begin to form opinions using their new knowledge.","English",26.6,19.95,"333.794","32 pp.",{"$f":"Table1[[#This Row],['# Books]]*Table1[[#This Row],[QTY]]","v":0},{"$f":"Table1[[#This Row],[QTY]]*Table1[[#This Row],[S&L Price]]","v":0}]
[null,172,null,"EcoWorks",1,"How Renewable Energy Works","eBook",null,"978-1-4339-9571-2",2014,"August 2013",null,null,"Author","Geoff Barker",null,null,34,22,"O",null,"Grade 3 - 4","Grade 3 - 5","Homes and businesses around the world have solar panels to harness the sun’s energy for electricity. But even more remarkably, NASA powered an airplane using solar power in 2001! Achievements in renewable energy are encouraging as the world’s reserves of oil, natural gas, and coal continue to be depleted. Readers will learn the state of nonrenewable resources on Earth in addition to information about the renewable energy technology that will power cars and homes in the future. Discussion of greenhouse gases and climate change provide readers with basic knowledge about the changing needs of Earth. Detailed sidebars and fact boxes augment science and social studies information, offering readers both pros and cons of solar, wind, and water energy, among others. Colorful photographs will further engage readers with these important topics as they begin to form opinions using their new knowledge.","English",26.6,19.95,"333.794","32 pp.",{"$f":"Table1[[#This Row],['# Books]]*Table1[[#This Row],[QTY]]","v":0},{"$f":"Table1[[#This Row],[QTY]]*Table1[[#This Row],[S&L Price]]","v":0}]
[null,172,null,"Habitat Havoc",1,"Overfishing","Library Bound Book",null,"978-1-4339-9925-3",2014,"January 2014","Library","7.750 X 10.00","Author","Therese M. Shea",null,null,38,24,"P",null,"Grade 3 - 4","Grade 3 - 6","In 1992, Canada had to stop the profitable northern cod fishing industry in Newfoundland. The fish were being harvested into extinction, and previous efforts to save the cod weren’t enough. Today, more than 20 years later, the ban on cod fishing remains! Readers will learn that overfishing is a real, tangible problem all around the world. Overfishing effects habitats and animals of all kinds, from the desirable bluefin tuna to the endangered sea turtles accidentally caught in nets. Detailed content introduces readers to a controversial conservation issue while sidebars add lots of fascinating social studies and science facts.","English",26.6,19.95,"338.3727","32 pp.",{"$f":"Table1[[#This Row],['# Books]]*Table1[[#This Row],[QTY]]","v":0},{"$f":"Table1[[#This Row],[QTY]]*Table1[[#This Row],[S&L Price]]","v":0}]
[null,172,null,"Habitat Havoc",1,"Strip Mining","eBook",null,"978-1-4339-9863-8",2014,"January 2014",null,null,"Author","Barbara M. Linde",null,null,38,24,"P",null,"Grade 3 - 4","Grade 3 - 6","Strip mines can be found everywhere from Appalachia to India, across China, and all the way to Australia. They may contain deposits of coal, copper, or gold. Readers will find out what strip mines are and how they are used, and discover some of the pros and cons about the operation of these mines. Full-color photographs and in-depth sidebars highlight some of the destruction that the mining practices cause and how some companies work to reclaim the land after the mines are closed.","English",26.6,19.95,"622.292","32 pp.",{"$f":"Table1[[#This Row],['# Books]]*Table1[[#This Row],[QTY]]","v":0},{"$f":"Table1[[#This Row],[QTY]]*Table1[[#This Row],[S&L Price]]","v":0}]
[null,172,null,"Life Science Stories",1,"Animal Classification","Library Bound Book",null,"978-1-4339-8703-8",2013,"January 2013","Library","8.000 X 10.00","Author","Angela Royston",null,null,30,22,"N",null,"Grade 3 - 4","Grade 3 - 5","Whether described as a vertebrate or reptile, Earth’s animals can be classified and divided in many ways. Readers are introduced to scientific classification in an easy-to-understand way, complete with fun fact boxes about cool animals such as kangaroos and crocodiles. Full-color photographs of these animals will draw readers in and help them learn about the similarities and differences between animals groups. With sidebars complementing the main science content, readers won’t be able to get enough of the animal kingdom.","English",26.6,19.95,"590.1","32 pp.",{"$f":"Table1[[#This Row],['# Books]]*Table1[[#This Row],[QTY]]","v":0},{"$f":"Table1[[#This Row],[QTY]]*Table1[[#This Row],[S&L Price]]","v":0}]
[null,172,null,"Life Science Stories",1,"Animal Classification","eBook",null,"978-1-4339-8706-9",2013,"January 2013",null,null,"Author","Angela Royston",null,null,30,22,"N",null,"Grade 3 - 4","Grade 3 - 5","Whether described as a vertebrate or reptile, Earth’s animals can be classified and divided in many ways. Readers are introduced to scientific classification in an easy-to-understand way, complete with fun fact boxes about cool animals such as kangaroos and crocodiles. Full-color photographs of these animals will draw readers in and help them learn about the similarities and differences between animals groups. With sidebars complementing the main science content, readers won’t be able to get enough of the animal kingdom.","English",26.6,19.95,"590.1","32 pp.",{"$f":"Table1[[#This Row],['# Books]]*Table1[[#This Row],[QTY]]","v":0},{"$f":"Table1[[#This Row],[QTY]]*Table1[[#This Row],[S&L Price]]","v":0}]
[null,172,null,"Life Science Stories",1,"Life in Extreme Places","Library Bound Book",null,"978-1-4339-8715-1",2013,"January 2013","Library","8.000 X 10.00","Author","Leon Gray",null,null,30,22,"N",null,"Grade 3 - 4","Grade 3 - 5","Readers will discover how plants and animals survive living in places as extreme as the bottom of an ocean, the edge of a cliff, and the slopes of a mountain. Readers journey through some of Earth’s harshest environments—including hot deserts and frozen polar lands—to explore the life that can be found there. Fascinating facts about how plants and animals have adapted to life in the most incredible places on Earth are presented through accessible text. Bright photographs accompany these facts, showcasing the exotic places and amazing animals that are highlighted throughout. Essential science concepts, such as biomes and adaptations, are detailed for readers on each page.","English",26.6,19.95,"578.4","32 pp.",{"$f":"Table1[[#This Row],['# Books]]*Table1[[#This Row],[QTY]]","v":0},{"$f":"Table1[[#This Row],[QTY]]*Table1[[#This Row],[S&L Price]]","v":0}]
[null,172,null,"When Pets Attack!",1,"Big Cats Are Not Pets!","Library Bound Book",null,"978-1-4339-9273-5",2014,"August 2013","Library","7.750 X 10.00","Author","Julie Marzolf",null,null,38,24,"P",null,"Grade 3 - 4","Grade 3 - 6","All cats are incredibly cute when they're kittens and cubs. But when they grow up, wild cats are not so cuddly. Yet, some people keep big cats such as lions, tigers, and leopards as pets. They think they can tame them, but a wild animal is always wild, and many big cats owners are responsible for the deaths of people when their pets attack. This book describes the attributes of big cats that make them unsuitable pets. Readers discover the reasons why it's more humane to leave these exotic animals in their native habitats than to cage them.","English",26.6,19.95,"599.75","32 pp.",{"$f":"Table1[[#This Row],['# Books]]*Table1[[#This Row],[QTY]]","v":0},{"$f":"Table1[[#This Row],[QTY]]*Table1[[#This Row],[S&L Price]]","v":0}]
[null,172,null,"When Pets Attack!",1,"Coyotes and Wolves Are Not Pets!","eBook",null,"978-1-4339-9296-4",2014,"August 2013",null,null,"Author","Barbara M. Linde",null,null,38,24,"P",null,"Grade 3 - 4","Grade 3 - 6","Coyotes and wolves may look like the neighbor's dogs, but don't be fooled. They're wild animals and are ruled by instinct. This book explains how dogs were domesticated over hundreds of years to be suitable companions for people. Readers come to know the differences between coyotes, wolves, and man's best friend. Real-life canine encounters underscore the issues and offer a persuasive viewpoint about the practice of keeping wild animals as pets.","English",26.6,19.95,"599.77","32 pp.",{"$f":"Table1[[#This Row],['# Books]]*Table1[[#This Row],[QTY]]","v":0},{"$f":"Table1[[#This Row],[QTY]]*Table1[[#This Row],[S&L Price]]","v":0}]
[null,172,null,"When Pets Attack!",1,"Ostriches Are Not Pets!","Library Bound Book",null,"978-1-4339-9283-4",2014,"August 2013","Library","7.750 X 10.00","Author","Heather Moore Niver",null,null,38,24,"P",null,"Grade 3 - 4","Grade 3 - 6","Ostriches are funny-looking birds with their long legs and huge, popping eyes. But don't get too close. An ostrich's huge talons are sharp enough to kill a lion. Ostriches also eat anything they can find, such as rocks, buttons, and even alarm clocks! Though these animals are increasingly raised on ranches, they're not domesticated, and should never be kept as pets. Readers will love learning about these odd, record-breaking birds.","English",26.6,19.95,"598.5","32 pp.",{"$f":"Table1[[#This Row],['# Books]]*Table1[[#This Row],[QTY]]","v":0},{"$f":"Table1[[#This Row],[QTY]]*Table1[[#This Row],[S&L Price]]","v":0}]
[null,172,null,"Dinosaurs!",1,"Allosaurus and Other Dinosaurs and Reptiles from the Upper Jurassic","eBook",null,"978-1-4339-6703-0",2012,"January 2012",null,null,"Author, Illustrated by","David West, David West",6.3,0.5,50,34,"P",null,"Grade 3 - 5","Grade 3 - 6","The dinosaurs of the Upper Jurassic were larger than ever before, including the first birds and incredible sea creatures. The most amazing dinosaurs and reptiles of this period are also revealed to readers, uncovering fascinating facts about the history along the way. Readers come face-to-face with the most ferocious predator of its time, Allosaurus, as well as other feared hunters and huge herbivores. Using cutting-edge technology and helpful scale renderings, the impressive artwork in this book takes readers into the prehistoric world in a fresh, captivating way.","English",26.6,19.95,"567.9","32 pp.",{"$f":"Table1[[#This Row],['# Books]]*Table1[[#This Row],[QTY]]","v":0},{"$f":"Table1[[#This Row],[QTY]]*Table1[[#This Row],[S&L Price]]","v":0}]
[null,172,null,"Dinosaurs!",1,"Lesothosaurus and Other Dinosaurs and Reptiles from the Lower Jurassic","Library Bound Book",null,"978-1-4339-6715-3",2012,"January 2012","Library","9.000 X 11.00","Author, Illustrated by","David West, David West",5.9,0.5,50,34,"Q",null,"Grade 3 - 5","Grade 3 - 6","Readers discover incredible dinosaurs and lush landscapes in this vibrant book. They experience the flourishing natural environments of the Lower Jurassic period including green jungles and vast oceans. Cutting-edge artwork brings new depth and detail to renderings of the most amazing creatures of the Lower Jurassic. Readers are introduced to fierce hunters, such as Lophostropheus, flying pterosaurs, and many more remarkable reptiles. They even see how these creatures would look next to humans with the help of a detailed scale.","English",26.6,19.95,"567.9","48 pp.",{"$f":"Table1[[#This Row],['# Books]]*Table1[[#This Row],[QTY]]","v":0},{"$f":"Table1[[#This Row],[QTY]]*Table1[[#This Row],[S&L Price]]","v":0}]
[null,172,null,"Dinosaurs!",1,"Utahraptor and Other Dinosaurs and Reptiles from the Lower Cretaceous","eBook",null,"978-1-4339-6724-5",2012,"January 2012",null,null,"Author, Illustrated by","David West, David West",6.4,0.5,50,32,"O",null,"Grade 3 - 5","Grade 3 - 6","Readers get a detailed look at the landscapes and creatures of  the Lower Cretaceous period and the dramatic changes of life on Earth during that time. They explore the incredibly varied environments of this period including the Asian river plains and African watering holes. Along the way, readers also discover early mammals, amazing reptiles, and some of the strangest dinosaurs to ever roam the planet, including huge raptors and the feathered Beipiaosaurus. Through the use of colorful, cutting-edge artwork and helpful scale renderings, the fascinating facts in this book are brought to life in a vibrant, captivating way.","English",26.6,19.95,"567.9","48 pp.",{"$f":"Table1[[#This Row],['# Books]]*Table1[[#This Row],[QTY]]","v":0},{"$f":"Table1[[#This Row],[QTY]]*Table1[[#This Row],[S&L Price]]","v":0}]
[null,172,null,"Animal 911: Environmental Threats",1,"Animals and Deforestation","eBook",null,"978-1-4339-9709-9",2014,"August 2013",null,null,"Author","Matteson Claus",null,null,40,26,"Q",null,"Grade 4","Grade 3 - 5","While animals are at risk because of poaching and pollution, the places they call home are also under constant attack. Readers discover what a shrinking rainforest means for the countless animals that call it home, and what human activities like logging and farming have done to forests in this book full of color photographs and stunning information. It takes thousands of years to grow a forest, but it’s often all too easy for humans to cut a forest down. Readers learn more about how they can protect the animals that call forests home.","English",31.95,23.95,"634.95","48 pp.",{"$f":"Table1[[#This Row],['# Books]]*Table1[[#This Row],[QTY]]","v":0},{"$f":"Table1[[#This Row],[QTY]]*Table1[[#This Row],[S&L Price]]","v":0}]
[null,172,null,"Animal 911: Environmental Threats",1,"Animals on the Verge of Extinction","Library Bound Book",null,"978-1-4339-9714-3",2014,"August 2013","Library","8.000 X 10.00","Author","Karen O'Connor",null,null,40,26,"Q",null,"Grade 4","Grade 3 - 5","It's a very sad truth, but some species of animals on the verge of disappearing from the planet forever. Some species only have a handful of animals left, and many more are at risk with less than 1,000 left in the world. Readers discover what people are doing to protect these animals through well-researched information and full-color photographs of some of the rarest animals on Earth. Readers learn about zoos with the last remaining animals in a species, and how some governments are helping protect the habitats of endangered species.","English",31.95,23.95,"591.68","48 pp.",{"$f":"Table1[[#This Row],['# Books]]*Table1[[#This Row],[QTY]]","v":0},{"$f":"Table1[[#This Row],[QTY]]*Table1[[#This Row],[S&L Price]]","v":0}]
[null,172,null,"Animal 911: Environmental Threats",1,"The Threat of Invasive Species","eBook",null,"978-1-4339-9725-9",2014,"August 2013",null,null,"Author","Karen O'Connor",null,null,40,26,"Q",null,"Grade 4","Grade 3 - 5","Chickens, horses, and many animals have spread around the world far from their ancient homes. But sometimes, new predators and plants can have a big impact on the ecosystems that balance life on our planet. Readers discover how humans' movements have impacted biomes, introducing invasive species that have brought some native species to the brink of extinction. This fascinating book gives readers a compelling look at the science and historical contexts behind invasive species, and shows them through detailed photographs and many vivid examples how plants and animals battle for resources against unwanted competition.","English",31.95,23.95,"577.18","48 pp.",{"$f":"Table1[[#This Row],['# Books]]*Table1[[#This Row],[QTY]]","v":0},{"$f":"Table1[[#This Row],[QTY]]*Table1[[#This Row],[S&L Price]]","v":0}]
[null,172,null,"Crime Science",1,"Cybercrime","Library Bound Book",null,"978-1-4339-9484-5",2014,"August 2013","Library","8.000 X 10.00","Author","Leon Gray",null,null,40,28,"S",null,"Grade 4 - 5","Grade 4 - 8","With the pervasiveness of technology, cybercrime is on the rise—at great cost to businesses and individuals. While high-profile cases hit the news, many more unreported and undetected cybercrimes take place each day. This timely book explains the many insidious areas of cybercrime, including worms, viruses, fraud, hacking, and even cyberbullying. But high-tech criminals are now facing innovative cybercrime prevention specialists—computer forensic scientists. Readers learn how these skilled professionals track down perpetrators, and more importantly, how all computer users can protect themselves from the omnipresent threat of cybercrime.","English",31.95,23.95,"364.16","48 pp.",{"$f":"Table1[[#This Row],['# Books]]*Table1[[#This Row],[QTY]]","v":0},{"$f":"Table1[[#This Row],[QTY]]*Table1[[#This Row],[S&L Price]]","v":0}]
[null,172,null,"Crime Science",1,"Cybercrime","eBook",null,"978-1-4339-9487-6",2014,"August 2013",null,null,"Author","Leon Gray",null,null,40,28,"S",null,"Grade 4 - 5","Grade 4 - 8","With the pervasiveness of technology, cybercrime is on the rise—at great cost to businesses and individuals. While high-profile cases hit the news, many more unreported and undetected cybercrimes take place each day. This timely book explains the many insidious areas of cybercrime, including worms, viruses, fraud, hacking, and even cyberbullying. But high-tech criminals are now facing innovative cybercrime prevention specialists—computer forensic scientists. Readers learn how these skilled professionals track down perpetrators, and more importantly, how all computer users can protect themselves from the omnipresent threat of cybercrime.","English",31.95,23.95,"364.16","48 pp.",{"$f":"Table1[[#This Row],['# Books]]*Table1[[#This Row],[QTY]]","v":0},{"$f":"Table1[[#This Row],[QTY]]*Table1[[#This Row],[S&L Price]]","v":0}]
[null,172,null,"Crime Science",1,"Terrorism","Library Bound Book",null,"978-1-4339-9496-8",2014,"August 2013","Library","8.000 X 10.00","Author","Matt Anniss",null,null,40,28,"S",null,"Grade 4 - 5","Grade 4 - 8","By its definition, terrorism is meant to inflict great fear into people through acts of mass destruction. September 11, 2001, is a day of infamy to Americans because of the terrorist attacks on the United States. But every year more than 300 terrorist acts take place around the globe. Counterterrorism has become a lasting issue of prime importance to the security of all nations. This book familiarizes readers with several counterterrorism technologies on constant guard, including satellites to track movement, biodetectors to expose chemical warfare, and biometrics to identify suspects. It also introduces readers to different organizations associated with terrorist activities, their motivations, and the challenges involved in protecting people from terrorist attacks.","English",31.95,23.95,"303.6","48 pp.",{"$f":"Table1[[#This Row],['# Books]]*Table1[[#This Row],[QTY]]","v":0},{"$f":"Table1[[#This Row],[QTY]]*Table1[[#This Row],[S&L Price]]","v":0}]
[null,172,null,"High-Tech Science",1,"How Does a Touch Screen Work?","eBook",null,"978-1-4824-6526-6",2014,"January 2014",null,null,"Author","Leon Gray",null,null,44,30,"V",null,"Grade 4 - 5","Grade 4 - 6","It seems simple: tap the screen of your smartphone to open an app, or swipe your finger across the screen to make the smartphone do something else. However, that touch screen has been years in the making and is a complex piece of what is now essential technology. Readers will find out how layers of glass, metal, and LEDs work together to make a touch screen work. Full-color images augment explanations of different kinds of touch screens. Readers will be captivated by the many uses touch screens have in the world today, from controlling machinery in a factory to helping surgeons perform medical procedures.","English",31.95,23.95,"600","48 pp.",{"$f":"Table1[[#This Row],['# Books]]*Table1[[#This Row],[QTY]]","v":0},{"$f":"Table1[[#This Row],[QTY]]*Table1[[#This Row],[S&L Price]]","v":0}]
[null,172,null,"High-Tech Science",1,"How Does GPS Work?","Library Bound Book",null,"978-1-4824-0393-0",2014,"January 2014","Library","8.500 X 11.00","Author","Leon Gray",null,null,44,30,"V",null,"Grade 4 - 5","Grade 4 - 6","When taking a road trip today, some sort of GPS device is essential. It may be built into the car’s dashboard, or perhaps it’s just an app on a smartphone. But GPS is used for more than just finding your way! Readers will be fascinated by its beginnings as a military system and its many modern uses, such as catching criminals, predicting earthquakes, and creating maps. Colorful photographs illustrate real-life examples of GPS technology, military and civilian, and informative text clearly explains the science and math concepts behind the satellites and receivers used all over the world.","English",31.95,23.95,"623.893","48 pp.",{"$f":"Table1[[#This Row],['# Books]]*Table1[[#This Row],[QTY]]","v":0},{"$f":"Table1[[#This Row],[QTY]]*Table1[[#This Row],[S&L Price]]","v":0}]
[null,172,null,"High-Tech Science",1,"How Does WiFi Work?","Library Bound Book",null,"978-1-4824-0399-2",2014,"January 2014","Library","8.500 X 11.00","Author","Matt Anniss",null,null,44,30,"V",null,"Grade 4 - 5","Grade 4 - 6","Even though computer wireless networks haven’t been around for very long, the basic technology used to create them is more than 100 years old. WiFi uses radio waves to send and receive data and connect smartphones, tablets, and computers to the Internet. Today, almost everywhere you go has WiFi, including schools, coffee shops, and the library. The inner workings of this ubiquitous technology will fascinate readers, who probably use it every day. Accompanied by full-color photos, the main content will introduce innovators like Nikola Tesla and other electronics history, as well as the future possibilities of wireless connection.","English",31.95,23.95,"621.384","48 pp.",{"$f":"Table1[[#This Row],['# Books]]*Table1[[#This Row],[QTY]]","v":0},{"$f":"Table1[[#This Row],[QTY]]*Table1[[#This Row],[S&L Price]]","v":0}]
[null,172,null,"Physical Science",1,"Forces and Motion","eBook",null,"978-1-4339-9507-1",2014,"August 2013",null,null,"Author","Leon Gray",null,null,40,28,"S",null,"Grade 4 - 5","Grade 4 - 6","Learning about forces and motion is thrilling! Cyclists battle gravity to climb steep hills. Fighter pilots wear special suits to combat incredible g-forces. Even simple machines have cool uses on construction sites! Readers will learn all about gravity, friction, and more through explanations using both familiar and extraordinary situations. Bright, colorful photographs will keep readers engaged as the forces are shown at work in exciting ways, such as in skydiving, rollercoaster construction, and super-fast cars. Incredible fact boxes add even more detail to the science curriculum-based main content, which includes famous discoveries such as Newton’s laws of motion. With all this new knowledge, readers will be in for quite a ride!","English",31.95,23.95,"531.6","48 pp.",{"$f":"Table1[[#This Row],['# Books]]*Table1[[#This Row],[QTY]]","v":0},{"$f":"Table1[[#This Row],[QTY]]*Table1[[#This Row],[S&L Price]]","v":0}]
[null,172,null,"Physical Science",1,"Sound","Library Bound Book",null,"978-1-4339-9520-0",2014,"August 2013","Library","8.000 X 10.00","Author","Anna Claybourne",null,null,40,28,"S",null,"Grade 4 - 5","Grade 4 - 6","At one time, fighter pilots thought they could never fly faster than the speed of sound. Now, many planes—and the people in them—hurdle through the sky at Mach 1! Readers will find sound a fascinating subject as they discover the many ways this form of energy is used today, including ultrasound machines that allow doctors to check on unborn babies and the various pitches of musical instruments used in music. Including information about how human and animal ears hear, the main science content will enhance physical science knowledge learned in the classroom. Fact boxes and colorful photographs help readers relate to the concepts of sound travel, echo, and sound pollution, among others. From beginning to end, the basics of sound come through loud and clear!","English",31.95,23.95,"534","48 pp.",{"$f":"Table1[[#This Row],['# Books]]*Table1[[#This Row],[QTY]]","v":0},{"$f":"Table1[[#This Row],[QTY]]*Table1[[#This Row],[S&L Price]]","v":0}]
[null,172,null,"Science Fights Back",1,"Science vs. Climate Change","eBook",null,"978-1-4339-8681-9",2013,"January 2013",null,null,"Author","Nick Hunter",null,null,44,30,"T",null,"Grade 4 - 5","Grade 4 - 6","It’s no secret that the Earth’s ecosystem is a delicate one. Readers will discover what science is doing to help keep our planet sustainable for the future. They will explore the science behind climate change and what we can do to prevent it. A ‘Winning or Losing?’ feature updates readers on the latest in man’s struggle with a warming planet, while ‘Breaking Through’ chronicles the cutting edge science that gives our smartest scholars the tools necessary for victory.","English",31.95,23.95,"551.6","48 pp.",{"$f":"Table1[[#This Row],['# Books]]*Table1[[#This Row],[QTY]]","v":0},{"$f":"Table1[[#This Row],[QTY]]*Table1[[#This Row],[S&L Price]]","v":0}]
[null,172,null,"Science Fights Back",1,"Science vs. Crime","Library Bound Book",null,"978-1-4339-8683-3",2013,"January 2013","Library","8.000 X 10.00","Author","Angela Royston",null,null,44,30,"T",null,"Grade 4 - 5","Grade 4 - 6","While the ever-evolving criminal mind continues to be a menace to society, science is on the case and is ready to track down the worst offenders. Readers explore the science behind combating crime and discover what science is doing to thwart the dishonest and immoral through high-tech lab work and the best thinkers in the world. A ‘Winning or Losing?’ feature updates readers on the latest in man’s struggle with crime, while ‘Breaking Through’ chronicles the cutting edge science that gives our smartest scholars the tools necessary for victory.","English",31.95,23.95,"363.25","32 pp.",{"$f":"Table1[[#This Row],['# Books]]*Table1[[#This Row],[QTY]]","v":0},{"$f":"Table1[[#This Row],[QTY]]*Table1[[#This Row],[S&L Price]]","v":0}]
[null,173,null,"Science Fights Back",1,"Science vs. Natural Disasters","eBook",null,"978-1-4339-8694-9",2013,"January 2013",null,null,"Author","Angela Royston",null,null,44,30,"T",null,"Grade 4 - 5","Grade 4 - 6","No one can outrun Mother Nature, but science is trying to fight the worst of Earth’s natural disasters as they happen. Readers explore the science behind combating the worst weather on Earth, including hurricanes, tornadoes, and even earthquakes. Readers will discover what science is doing to help keep humanity safe—a ‘Winning or Losing?’ feature updates readers on the latest in man’s struggle with Mother Nature, while ‘Breaking Through’ chronicles the cutting edge science that gives our smartest scholars the tools necessary for victory.","English",31.95,23.95,"363.34","32 pp.",{"$f":"Table1[[#This Row],['# Books]]*Table1[[#This Row],[QTY]]","v":0},{"$f":"Table1[[#This Row],[QTY]]*Table1[[#This Row],[S&L Price]]","v":0}]
[null,173,null,"The Human Body",1,"The Muscular System","Library Bound Book",null,"978-1-4339-6584-5",2012,"January 2012","Library","6.500 X 9.000","Author","Greg Roza",6.4,1,44,32,"S",null,"Grade 4 - 5","Grade 4 - 6","Inside this guidebook to the muscular system, readers will learn about the different kinds of muscles and how they function. From your eyes to your toes, muscles help you get things done every day. They help you grab, lift, push, pull, swing, and twist. The muscular system is made up of three different kinds of muscles. Many muscles move by thinking about the movement. Others work constantly without us thinking about them, and these muscles help keep us alive. Easy-to-follow, scientific text is paired with colorful photographs and diagrams to help readers learn about the muscular system.","English",26.6,19.95,"612.7","32 pp.",{"$f":"Table1[[#This Row],['# Books]]*Table1[[#This Row],[QTY]]","v":0},{"$f":"Table1[[#This Row],[QTY]]*Table1[[#This Row],[S&L Price]]","v":0}]
[null,173,null,"The Human Body",1,"The Respiratory System","Library Bound Book",null,"978-1-4339-6592-0",2012,"January 2012","Library","6.500 X 9.000","Author","John M. Shea",7.2,1,50,34,"T",null,"Grade 4 - 5","Grade 4 - 6","Your respiratory system is working with each breath in and out. But it’s more complex than just breathing. The information inside this book covers the structure and function of the respiratory system, as well as the importance of maintaining healthy lungs. The air that enters our lungs when we breathe in contains oxygen, which our bodies need to help turn food into energy. When we breathe out, carbon dioxide is removed from the body. Colorful photographs and in-depth diagrams display how this essential life process functions ceaselessly each day.","English",26.6,19.95,"612.2","32 pp.",{"$f":"Table1[[#This Row],['# Books]]*Table1[[#This Row],[QTY]]","v":0},{"$f":"Table1[[#This Row],[QTY]]*Table1[[#This Row],[S&L Price]]","v":0}]
[null,173,null,"The Human Body",1,"The Respiratory System","eBook",null,"978-1-4339-6593-7",2012,"January 2012",null,null,"Author","John M. Shea",7.2,1,50,34,"T",null,"Grade 4 - 5","Grade 4 - 6","Your respiratory system is working with each breath in and out. But it’s more complex than just breathing. The information inside this book covers the structure and function of the respiratory system, as well as the importance of maintaining healthy lungs. The air that enters our lungs when we breathe in contains oxygen, which our bodies need to help turn food into energy. When we breathe out, carbon dioxide is removed from the body. Colorful photographs and in-depth diagrams display how this essential life process functions ceaselessly each day.","English",26.6,19.95,"612.2","32 pp.",{"$f":"Table1[[#This Row],['# Books]]*Table1[[#This Row],[QTY]]","v":0},{"$f":"Table1[[#This Row],[QTY]]*Table1[[#This Row],[S&L Price]]","v":0}]
[null,173,null,"Under the Microscope",1,"Cells Up Close","Library Bound Book",null,"978-1-4339-8338-2",2014,"August 2013","Library","6.500 X 9.000","Author","Maria Nelson",null,null,44,30,"U",null,"Grade 4 - 5","Grade 4 - 6","Cells are the building blocks of life. It's amazing to think that life begins with a single cell. Readers will learn how cells multiply, differentiate, and construct the various organisms on Earth. They'll learn the difference between human, plant, and bacteria cells, and the structures within each that help it function. Remarkable photographs bring the text to life and further support key biology concepts.","English",26.6,19.95,"571.6","32 pp.",{"$f":"Table1[[#This Row],['# Books]]*Table1[[#This Row],[QTY]]","v":0},{"$f":"Table1[[#This Row],[QTY]]*Table1[[#This Row],[S&L Price]]","v":0}]
[null,173,null,"Under the Microscope",1,"Minerals Up Close","eBook",null,"978-1-4339-8349-8",2014,"August 2013",null,null,"Author","Jason Glaser",null,null,44,30,"U",null,"Grade 4 - 5","Grade 4 - 6","Minerals are amazing. Their beauty, variety, and many properties are fascinating to observe, especially under a microscope. Readers get a chance to see close-up photographs of many minerals as they learn what a mineral is and how it forms from various elements. They'll also learn why people need minerals for their bodies to function and how we can get them through the things we eat.","English",26.6,19.95,"549","48 pp.",{"$f":"Table1[[#This Row],['# Books]]*Table1[[#This Row],[QTY]]","v":0},{"$f":"Table1[[#This Row],[QTY]]*Table1[[#This Row],[S&L Price]]","v":0}]
[null,173,null,"Nature's Wrath: The Science Behind Natural Disasters",1,"The Science of Avalanches","Library Bound Book",null,"978-1-4339-8651-2",2013,"January 2013","Library","8.000 X 10.00","Author","Louise Spilsbury",null,null,50,30,"U",null,"Grade 5","Grade 4 - 6","Made of snow, ice, and rocks, avalanches can start in a variety of ways, including by people. Readers will explore the causes and effects of different kinds of avalanches through fact-filled and accessible content. Real-life photographs will engage readers while reinforcing the science concepts behind examples of modern, devastating avalanches. Enhanced by interesting fact boxes and timelines of real avalanches, readers will be guided through safety and disaster relief so they’ll be able to act if caught out in the cold when the snow starts to fall.","English",31.95,23.95,"551.3","48 pp.",{"$f":"Table1[[#This Row],['# Books]]*Table1[[#This Row],[QTY]]","v":0},{"$f":"Table1[[#This Row],[QTY]]*Table1[[#This Row],[S&L Price]]","v":0}]
[null,173,null,"Nature's Wrath: The Science Behind Natural Disasters",1,"The Science of Earthquakes","Library Bound Book",null,"978-1-4339-8655-0",2013,"January 2013","Library","8.000 X 10.00","Author","Matt Anniss",null,null,50,30,"U",null,"Grade 5","Grade 4 - 6","In January 1994, an earthquake shook a neighborhood in Los Angeles, California, so hard that highway overpasses immediately collapsed. Gas pipes burst and buildings caught on fire. Sixteen people died in a fallen apartment building. As one of the most common natural disasters in the world, earthquakes can be a terrifying force of nature. Readers will be introduced to the amazing science behind an earthquake occurrence in addition to modern examples of earthquakes from all over the world. Including seismology and disaster relief, accessible content will engage readers while full-color photographs augment detailed timelines of featured earthquakes. Powered by information, readers will be ready to do more than just duck and cover when an earthquake hits.","English",31.95,23.95,"511.22","48 pp.",{"$f":"Table1[[#This Row],['# Books]]*Table1[[#This Row],[QTY]]","v":0},{"$f":"Table1[[#This Row],[QTY]]*Table1[[#This Row],[S&L Price]]","v":0}]
[null,173,null,"Nature's Wrath: The Science Behind Natural Disasters",1,"The Science of Tornadoes","eBook",null,"978-1-4339-8666-6",2013,"January 2013",null,null,"Author","Matt Anniss",null,null,50,30,"U",null,"Grade 5","Grade 4 - 6","Hundred-mile winds and sky-high funnel clouds can mean only one thing: a tornado is coming. Readers will learn everything they need to know about tornadoes, from what they are and why and when they happen, to what remains after they rip through an area. Age-appropriate content thoroughly explains tornado activity in the United States and abroad, and real-life examples give readers insight into how communities cope with one of nature’s most destructive forces. The book includes fast facts about the biggest and most destructive tornadoes in history, and a section entitled “Survivors Speak” features survivors’ stories in their own words. Through stories about scientists and real-life storm chasers, readers will discover the fascination with tornadoes while also understanding the danger and destruction they bring. Stunning photographs and captions accompany the text, giving readers an eye-opening look at one of our world’s most incredible natural disasters.","English",31.95,23.95,"551.55","48 pp.",{"$f":"Table1[[#This Row],['# Books]]*Table1[[#This Row],[QTY]]","v":0},{"$f":"Table1[[#This Row],[QTY]]*Table1[[#This Row],[S&L Price]]","v":0}]
[null,173,null,"Machines That Won the War",1,"Machines and Weaponry of the Cold War","Library Bound Book",null,"978-1-4339-8591-1",2013,"January 2013","Library","8.000 X 10.00","Author","Charlie Samuels",null,null,50,30,"V",null,"Grade 5 - 6","Grade 5 - 8","The war that never saw a true battle had some of the most impressive weapons in military history—on both sides. In this exciting series, readers take a look at the science behind the United States’ Cold War with the Soviet Union, a decades-long buildup of warheads and weapons that ended without a battle fought. Full-color photographs will introduce readers to the tanks, missiles, and airplanes that Soviets and Americans amassed over the years. Firsthand accounts from soldiers who developed and operated these weapons will help readers understand how the development and application of technology can mean the difference between winning and losing the biggest battles in history.","English",31.95,23.95,"623.40973","48 pp.",{"$f":"Table1[[#This Row],['# Books]]*Table1[[#This Row],[QTY]]","v":0},{"$f":"Table1[[#This Row],[QTY]]*Table1[[#This Row],[S&L Price]]","v":0}]
[null,173,null,"Machines That Won the War",1,"Machines and Weaponry of the Vietnam War","eBook",null,"978-1-4339-8602-4",2013,"January 2013",null,null,"Author","Charlie Samuels",null,null,50,30,"V",null,"Grade 5 - 6","Grade 5 - 8","One of the longest and most controversial wars in American history, the Vietnam conflict, was a time of great advances in military technology. Readers explore the world of military machines and the science behind the United States’ battles in Vietnam. Full-color photographs will show readers the airplanes, artillery, and chemical weapons that powered the American attack. Firsthand accounts from soldiers who developed and operated these weapons will help readers understand how the development and application of technology can mean the difference between winning and losing the biggest battles in history.","English",31.95,23.95,"959.704","24 pp.",{"$f":"Table1[[#This Row],['# Books]]*Table1[[#This Row],[QTY]]","v":0},{"$f":"Table1[[#This Row],[QTY]]*Table1[[#This Row],[S&L Price]]","v":0}]
[null,173,null,"Machines That Won the War",1,"Machines and Weaponry of World War I","Library Bound Book",null,"978-1-4339-8603-1",2013,"January 2013","Library","8.000 X 10.00","Author","Charlie Samuels",null,null,50,30,"V",null,"Grade 5 - 6","Grade 5 - 8","It was the war to end all wars, one of the largest and deadliest conflicts in human history. Readers will find out how America used its brave men and military technology to come out on top in World War I. Readers will explore the world of military machines and the science behind the United States’ victories against the Germans. Full-color photographs will show readers the artillery, tanks, and guns that powered the American attack. Firsthand accounts from soldiers who developed and operated these weapons will help readers understand how the development and application of technology can mean the difference between winning and losing the biggest battles in history.","English",31.95,23.95,"940.4","24 pp.",{"$f":"Table1[[#This Row],['# Books]]*Table1[[#This Row],[QTY]]","v":0},{"$f":"Table1[[#This Row],[QTY]]*Table1[[#This Row],[S&L Price]]","v":0}]
[null,173,null,"Kids of Character",1,"I Am a Good Friend","eBook",null,"978-1-4339-9020-5",2014,"August 2013",null,null,"Author","Maria Nelson",2.2999999999999998,0.5,14,13,"H",null,"Grade 1 - 2","Grade 1 - 3","Friends help solve problems. They can pass on cool skills and fun information. And most importantly, they’re fun! Being a good friend can be tough, but readers will learn all about it through relatable examples and vivid accompanying photographs. Including sharing and listening skills, the main content enhances character education while instructing readers on being a good friend in different kinds of situations. Having friends is important, but being a friend is even more so!","English",22.6,16.95,"177.62","24 pp.",{"$f":"Table1[[#This Row],['# Books]]*Table1[[#This Row],[QTY]]","v":0},{"$f":"Table1[[#This Row],[QTY]]*Table1[[#This Row],[S&L Price]]","v":0}]
[null,173,null,"Kids of Character",1,"I Can Listen","Library Bound Book",null,"978-1-4339-9029-8",2014,"August 2013","Library","7.000 X 7.000","Author","Maria Nelson",2.6,0.5,14,13,"H","530L","Grade 1 - 2","Grade 1 - 3","Good listening skills help make communicating with others a better experience. Being quiet when another person is talking allows them to pass on information more easily. It implies that the listener respects the speaker. Nodding and smiling when someone speaks can help them know they are being listened to, as well. Readers will learn about these skills and more while navigating relatable situations. Vivid photographs will enhance the different ways listening skills are important and how to use them. Through achievable content and everyday settings, readers will learn how to become better listeners.","English",22.6,16.95,"153.68","32 pp.",{"$f":"Table1[[#This Row],['# Books]]*Table1[[#This Row],[QTY]]","v":0},{"$f":"Table1[[#This Row],[QTY]]*Table1[[#This Row],[S&L Price]]","v":0}]
[null,173,null,"The Student's Toolbox",1,"Tips for Better Listening","Library Bound Book",null,"978-1-4824-0174-5",2014,"January 2014","Library","7.750 X 10.00","Author","Robyn Hardyman",null,null,40,26,"Q",null,"Grade 4 - 5","Grade 4 - 6","Listening is a skill that's crucial for success in relationships, in school, and everyday life. Becoming a good active listener is possible even for the most easily distracted. Readers will learn how to become more focused, how to engage with a speaker, how to make connections that will lead to better learning experiences. Effective active listening is truly a skill that can be honed. Colorful photographs and lists of tips make this book an attractive addition to any classroom or library.","English",26.6,19.95,"371.30281","32 pp.",{"$f":"Table1[[#This Row],['# Books]]*Table1[[#This Row],[QTY]]","v":0},{"$f":"Table1[[#This Row],[QTY]]*Table1[[#This Row],[S&L Price]]","v":0}]
[null,173,null,"The Student's Toolbox",1,"Tips for Better Listening","eBook",null,"978-1-4824-6519-8",2014,"January 2014",null,null,"Author","Robyn Hardyman",null,null,40,26,"Q",null,"Grade 4 - 5","Grade 4 - 6","Listening is a skill that's crucial for success in relationships, in school, and everyday life. Becoming a good active listener is possible even for the most easily distracted. Readers will learn how to become more focused, how to engage with a speaker, how to make connections that will lead to better learning experiences. Effective active listening is truly a skill that can be honed. Colorful photographs and lists of tips make this book an attractive addition to any classroom or library.","English",26.6,19.95,"371.30281","32 pp.",{"$f":"Table1[[#This Row],['# Books]]*Table1[[#This Row],[QTY]]","v":0},{"$f":"Table1[[#This Row],[QTY]]*Table1[[#This Row],[S&L Price]]","v":0}]
[null,173,null,"The Student's Toolbox",1,"Tips for Better Writing","Library Bound Book",null,"978-1-4824-0154-7",2014,"January 2014","Library","7.750 X 10.00","Author","Louise Spilsbury",null,null,40,26,"Q",null,"Grade 4 - 5","Grade 4 - 6","The ingredients for a quality narrative, informational, or opinion piece of writing are found in this thorough guide to the world of writing. Readers will examine the steps of crafting a well-written report as well as learn how fiction writers construct believable characters and helpful dialogue to keep their stories flowing. \"Tips for Success\" boxes and plenty of examples make this book an accessible and valuable tool for any writer's toolbox.","English",26.6,19.95,"808.042","24 pp.",{"$f":"Table1[[#This Row],['# Books]]*Table1[[#This Row],[QTY]]","v":0},{"$f":"Table1[[#This Row],[QTY]]*Table1[[#This Row],[S&L Price]]","v":0}]
[null,173,null,"The Student's Toolbox",1,"Tips for Public Speaking","eBook",null,"978-1-4824-6510-5",2014,"January 2014",null,null,"Author","Louise Spilsbury",null,null,40,26,"Q",null,"Grade 4 - 5","Grade 4 - 6","The ability to speak in front of an audience is a crucial skill in school, career, and life. Both the content of a good speech and the ways to conquer stage fright are examined in this guide to public speaking. Helpful tips in fact boxes, bulleted lists, and a colorful design will appeal to readers. Whether brushing up on a skill or getting ready for a first oral report, this book contains the tools everyone needs to be an effective and engaging speaker.","English",26.6,19.95,"808.5","24 pp.",{"$f":"Table1[[#This Row],['# Books]]*Table1[[#This Row],[QTY]]","v":0},{"$f":"Table1[[#This Row],[QTY]]*Table1[[#This Row],[S&L Price]]","v":0}]
[null,173,null,"Culture in the Kitchen",1,"Foods of Italy","Library Bound Book",null,"978-1-4339-5710-9",2012,"August 2011","Library","8.500 X 8.500","Author","John Matthew",4.4000000000000004,0.5,20,24,"L",null,"Grade 2 - 3","Grade 2 - 5","Tomatoes, noodles, Parmesan cheese . . . it’s time to take a ravenous bite out of Italy! In this book, mouthwatering photos of Italy’s most beloved foods accompany the reader on their journey through the country’s diverse regions. Italy’s history, natural resources, and culture are highlighted through the tale of the first modern pizza, the origin of biscotti, and many more morsels of information. Young cooks will enjoy making their own Italian pasta using a recipe provided in the book.","English",22.6,16.95,"641.5945","24 pp.",{"$f":"Table1[[#This Row],['# Books]]*Table1[[#This Row],[QTY]]","v":0},{"$f":"Table1[[#This Row],[QTY]]*Table1[[#This Row],[S&L Price]]","v":0}]
[null,173,null,"Culture in the Kitchen",1,"Foods of Italy","eBook",null,"978-1-4339-5711-6",2012,"August 2011",null,null,"Author","John Matthew",4.4000000000000004,0.5,20,24,"L",null,"Grade 2 - 3","Grade 2 - 5","Tomatoes, noodles, Parmesan cheese . . . it’s time to take a ravenous bite out of Italy! In this book, mouthwatering photos of Italy’s most beloved foods accompany the reader on their journey through the country’s diverse regions. Italy’s history, natural resources, and culture are highlighted through the tale of the first modern pizza, the origin of biscotti, and many more morsels of information. Young cooks will enjoy making their own Italian pasta using a recipe provided in the book.","English",22.6,16.95,"641.5945","24 pp.",{"$f":"Table1[[#This Row],['# Books]]*Table1[[#This Row],[QTY]]","v":0},{"$f":"Table1[[#This Row],[QTY]]*Table1[[#This Row],[S&L Price]]","v":0}]
[null,173,null,"Culture in the Kitchen",1,"Foods of West Africa","Library Bound Book",null,"978-1-4339-5722-2",2012,"August 2011","Library","8.500 X 8.500","Author","Ethan Y. Garten",4.5999999999999996,0.5,30,24,"M",null,"Grade 2 - 3","Grade 2 - 5","Perhaps there’s no better—or more fun—way to learn about a place than to read about its cuisine while tasting it as well! West Africa is home to 20 countries and borders on both the Sahara Desert and the Atlantic Ocean. In modern times, Africans use the ingredients available to them for one-pot meals, while in earlier times cuisine was bound to the tragic history of slavery. Many of the traditional foods of the American South come from West Africa, such as okra and black-eyed peas. After readers take a tour of West Africa in the pages of this book, they can make a traditional West African sweet treat.","English",22.6,16.95,"394.1","24 pp.",{"$f":"Table1[[#This Row],['# Books]]*Table1[[#This Row],[QTY]]","v":0},{"$f":"Table1[[#This Row],[QTY]]*Table1[[#This Row],[S&L Price]]","v":0}]
[null,173,null,"Landmarks of Liberty",1,"Visit Mount Rushmore","Library Bound Book",null,"978-1-4339-6388-9",2012,"January 2012","Library","8.500 X 8.500","Author","Mary O'Mara",4.4000000000000004,0.5,28,26,"M",null,"Grade 2 - 3","Grade 2 - 5","Nestled in the Black Hills of South Dakota is one of the most striking monuments in the United States. The Mount Rushmore National Memorial displays the faces of four of the most beloved US presidents. Readers of this book will learn how and why Mount Rushmore was created. They’ll see remarkable photographs of drillers and carvers in action, dwarfed by their huge work of art. Most importantly, readers will realize why this amazing landmark has become a significant part of our nation’s history.","English",22.6,16.95,"917.83","24 pp.",{"$f":"Table1[[#This Row],['# Books]]*Table1[[#This Row],[QTY]]","v":0},{"$f":"Table1[[#This Row],[QTY]]*Table1[[#This Row],[S&L Price]]","v":0}]
[null,174,null,"Landmarks of Liberty",1,"Visit the Statue of Liberty","eBook",null,"978-1-4339-6401-5",2012,"January 2012",null,null,"Author","Siobhan Moriarty",5.5,0.5,28,26,"M",null,"Grade 2 - 3","Grade 2 - 5","The Statue of Liberty is an icon of the United States. The story of Lady Liberty is one of friendship, cooperation, and a firm belief in democracy. Readers will learn about the ingenious engineering within the statue. They’ll see vivid photographs showcasing her creation in France and her current watchful presence in New York Harbor. Readers will also learn why the statue has become a symbol of optimism and pride for many people.","English",22.6,16.95,"974.7","24 pp.",{"$f":"Table1[[#This Row],['# Books]]*Table1[[#This Row],[QTY]]","v":0},{"$f":"Table1[[#This Row],[QTY]]*Table1[[#This Row],[S&L Price]]","v":0}]
[null,174,null,"Landmarks of Liberty",1,"Visit the Washington Monument","Library Bound Book",null,"978-1-4339-6404-6",2012,"January 2012","Library","8.500 X 8.500","Author","Natalie Joseph",4.8,0.5,28,26,"M",null,"Grade 2 - 3","Grade 2 - 5","From the American Revolution to the Constitutional Convention to the presidency, George Washington’s steady leadership was a source of admiration around the globe. George Washington is our nation’s most celebrated leader, so it’s fitting that his monument towers over Washington, DC. Standing over 555 feet (169 m) tall, his monument is the tallest stone structure in the world. In this book, readers will learn how the architectural feat was achieved and enjoy photographs of Washington and the monument standing in his honor.","English",22.6,16.95,"975.3","24 pp.",{"$f":"Table1[[#This Row],['# Books]]*Table1[[#This Row],[QTY]]","v":0},{"$f":"Table1[[#This Row],[QTY]]*Table1[[#This Row],[S&L Price]]","v":0}]
[null,174,null,"Mapping the World",1,"Mapping Antarctica","eBook",null,"978-1-4339-9097-7",2014,"August 2013",null,null,"Author","Greg Roza",5,0.5,24,20,"L",null,"Grade 2 - 3","Grade 2 - 5","Even though explorers have been trekking to the far southern end of the globe for more than 200 years, there’s still a lot to discover on the icy continent of Antarctica. In fact, research stations across the continent teach us new things every year. Readers will learn about a great mountain range buried under ice, massive glaciers, and the wildlife that survives the cold. Majestic photographs and detailed maps will engage readers as geographical, historical, and weather information introduce them to the fifth-largest continent on Earth. Fact boxes enhance the main content to intrigue future explorers and scientists alike.","English",22.6,16.95,"526.09989","24 pp.",{"$f":"Table1[[#This Row],['# Books]]*Table1[[#This Row],[QTY]]","v":0},{"$f":"Table1[[#This Row],[QTY]]*Table1[[#This Row],[S&L Price]]","v":0}]
[null,174,null,"Mapping the World",1,"Mapping Europe","Library Bound Book",null,"978-1-4339-9109-7",2014,"August 2013","Library","8.500 X 8.500","Author","Barbara M. Linde",4.4000000000000004,0.5,24,20,"L",null,"Grade 2 - 3","Grade 2 - 5","Full of ancient ruins as well as modern marvels like the Chunnel, Europe is a continent bursting with old stories and history in the making. Readers will be introduced to some of the most famous places in Europe while learning mapping skills through discussion of climate, geography, and population. Colorful maps complement the main content, and brief fact boxes add even more detail. Readers will enjoy taking a tour of Europe through vivid photographs as they absorb exciting new knowledge about this continent.","English",22.6,16.95,"940","32 pp.",{"$f":"Table1[[#This Row],['# Books]]*Table1[[#This Row],[QTY]]","v":0},{"$f":"Table1[[#This Row],[QTY]]*Table1[[#This Row],[S&L Price]]","v":0}]
[null,174,null,"Mapping the World",1,"Mapping South America","eBook",null,"978-1-4339-9122-6",2014,"August 2013",null,null,"Author","Mark J. Harasymiw",5.3,0.5,24,20,"L",null,"Grade 2 - 3","Grade 2 - 5","About 140 million years ago, South America and Africa broke apart, eventually drifting to their current positions on Earth. But when looking at a map of the two, they still look like puzzle pieces! Readers will learn many fascinating facts about the geography of South America. Colorful photographs and detailed maps introduce them to a continent full of high mountains, bustling cities, and fertile grasslands. Fact boxes enhance the main content further as readers expand their knowledge of South America's diverse landforms and cultures, as well as their map skills!","English",22.6,16.95,"980","32 pp.",{"$f":"Table1[[#This Row],['# Books]]*Table1[[#This Row],[QTY]]","v":0},{"$f":"Table1[[#This Row],[QTY]]*Table1[[#This Row],[S&L Price]]","v":0}]
[null,174,null,"Exploring the Chesapeake Bay",1,"History of the Chesapeake Bay","Library Bound Book",null,"978-1-4339-9772-3",2014,"August 2013","Library","6.500 X 9.000","Author","Therese M. Shea",null,null,40,26,"R",null,"Grade 3 - 4","Grade 3 - 6","The historical significance of the Chesapeake Bay region stretches from the United States’ founding through the Civil War to the present day. Home to important research institutions, busy ports, and a growing population, the bay’s past has helped it build a bright future. Readers will follow the growth of Chesapeake Bay, beginning with its earliest settlements such as Jamestown. Sidebars add to the main content’s discussion of significant events, while readers travel through the bay’s past with the help of vivid photographs and historical images. Maps of the region will show readers where history happened and introduce the region’s major rivers, states, and landforms.","English",26.6,19.95,"975.2","32 pp.",{"$f":"Table1[[#This Row],['# Books]]*Table1[[#This Row],[QTY]]","v":0},{"$f":"Table1[[#This Row],[QTY]]*Table1[[#This Row],[S&L Price]]","v":0}]
[null,174,null,"Exploring the Chesapeake Bay",1,"Tributaries of the Chesapeake Bay","Library Bound Book",null,"978-1-4339-9792-1",2014,"August 2013","Library","6.500 X 9.000","Author","Heather Moore Niver",null,null,40,26,"R",null,"Grade 3 - 4","Grade 3 - 6","The many streams and rivers that are part of the Chesapeake Bay watershed provide the freshwater that helps make the bay such a unique ecosystem. The brackish waters are home to lots of plants and animals that are a factor in keeping the bay healthy. However, the tributaries of the Chesapeake Bay can also have negative effects on the health of the bay if the water they feed to the bay is polluted. Readers will learn about the interconnectedness of the bay watershed as well as the importance of this estuary’s tributaries. Including a map of the key rivers flowing into the Chesapeake Bay, the main content will engage readers with the conservation conversation surrounding the bay in addition to its geography. Vivid photographs and detailed sidebars will further draw readers into the growing region surrounding the Chesapeake Bay.","English",26.6,19.95,"577.7","32 pp.",{"$f":"Table1[[#This Row],['# Books]]*Table1[[#This Row],[QTY]]","v":0},{"$f":"Table1[[#This Row],[QTY]]*Table1[[#This Row],[S&L Price]]","v":0}]
[null,174,null,"Exploring the Chesapeake Bay",1,"Visiting the Chesapeake Bay","eBook",null,"978-1-4339-9791-4",2014,"August 2013",null,null,"Author","Kathleen Connors",null,null,40,26,"R",null,"Grade 3 - 4","Grade 3 - 6","The region around the Chesapeake Bay is growing every year. Industries such as seafood and manufacturing contribute to the economy, but tourism continues to be big business for cities near the bay. Readers will visit the active inner harbor of Baltimore, Maryland, and the beautiful beaches of Virginia through vivid photographs and concise descriptions of their famous landmarks and historic sites. With an introduction to the Chesapeake Bay through some of its biggest attractions, readers will encounter the region’s geography, wildlife, and history, adding to curriculum learning. Detailed sidebars will offer fun facts, population statistics, and present even more places to explore around the Chesapeake Bay.","English",26.6,19.95,"975.2","32 pp.",{"$f":"Table1[[#This Row],['# Books]]*Table1[[#This Row],[QTY]]","v":0},{"$f":"Table1[[#This Row],[QTY]]*Table1[[#This Row],[S&L Price]]","v":0}]
[null,174,null,"Heroes of the US Military",1,"Heroes of the US Coast Guard","Library Bound Book",null,"978-1-4339-7240-9",2013,"August 2012","Library","7.750 X 10.00","Author","John M. Shea",null,null,40,28,"R",null,"Grade 3 - 4","Grade 3 - 6","Peacetime duties make the US Coast Guard unique among the many branches of armed force units. This military branch has a broad mission that includes search-and-rescue operations, environmental safety patrols, and boat safety. This fascinating look at the Coast Guard reveals its history and includes some of the most riveting stories of our nation's finest men and women in uniform.","English",26.6,19.95,"363.28","32 pp.",{"$f":"Table1[[#This Row],['# Books]]*Table1[[#This Row],[QTY]]","v":0},{"$f":"Table1[[#This Row],[QTY]]*Table1[[#This Row],[S&L Price]]","v":0}]
[null,174,null,"Heroes of the US Military",1,"Heroes of the US Coast Guard","eBook",null,"978-1-4339-7243-0",2013,"August 2012",null,null,"Author","John M. Shea",null,null,40,28,"R",null,"Grade 3 - 4","Grade 3 - 6","Peacetime duties make the US Coast Guard unique among the many branches of armed force units. This military branch has a broad mission that includes search-and-rescue operations, environmental safety patrols, and boat safety. This fascinating look at the Coast Guard reveals its history and includes some of the most riveting stories of our nation's finest men and women in uniform.","English",26.6,19.95,"363.28","32 pp.",{"$f":"Table1[[#This Row],['# Books]]*Table1[[#This Row],[QTY]]","v":0},{"$f":"Table1[[#This Row],[QTY]]*Table1[[#This Row],[S&L Price]]","v":0}]
[null,174,null,"History's Most Haunted",1,"Haunted! Alcatraz","Library Bound Book",null,"978-1-4339-9243-8",2014,"August 2013","Library","7.750 X 10.00","Author","Ryan Nagelhout",null,null,34,22,"O","900L","Grade 3 - 4","Grade 3 - 6","Some of the most notorious criminals in US history were kept under lock and key on the foggy, craggy shores of Alcatraz Island. Al Capone, “Machine Gun” Kelly, and the “Birdman of Alcatraz” Robert Shroud all haunted the dank cells of the infamous prison while they were alive. But do their spirits still remain? Readers will be ferried across San Francisco Bay to explore the history—and hauntings—of Alcatraz. Including the deep historical past of the California prison, the main content will engage readers while creepy photographs will invite them into “the hole” and the prison's hidden tunnels. Detailed sidebars offer even more ghostly sightings to readers who dare probe the past of spooky Alcatraz.","English",26.6,19.95,"133.1","32 pp.",{"$f":"Table1[[#This Row],['# Books]]*Table1[[#This Row],[QTY]]","v":0},{"$f":"Table1[[#This Row],[QTY]]*Table1[[#This Row],[S&L Price]]","v":0}]
[null,174,null,"History's Most Haunted",1,"Haunted! Gettysburg","eBook",null,"978-1-4339-9251-3",2014,"August 2013",null,null,"Author","Michael Rajczak",null,null,34,22,"O","870L","Grade 3 - 4","Grade 3 - 6","Gettysburg Battlefield might be the most haunted place in the United States. As the site of the bloodiest battle ever fought on American soil, it seems likely. Accounts of ghostly soldiers roaming the cemetery and the appearance of streaks of light in photographs taken there are numerous—though the existence of restless spirits has never been proven. Readers will get chills learning about the many places near Gettysburg Battlefield where ghosts and hauntings have been reported. Including important historical context, detailed sidebars, and spooky photographs, the tales of wandering spirits will engage readers—but they may have to keep the light on!","English",26.6,19.95,"133.1","48 pp.",{"$f":"Table1[[#This Row],['# Books]]*Table1[[#This Row],[QTY]]","v":0},{"$f":"Table1[[#This Row],[QTY]]*Table1[[#This Row],[S&L Price]]","v":0}]
[null,174,null,"History's Most Haunted",1,"Haunted! The White House","Library Bound Book",null,"978-1-4339-9268-1",2014,"August 2013","Library","7.750 X 10.00","Author","Michael Rajczak",null,null,34,22,"O","960L","Grade 3 - 4","Grade 3 - 6","The smell of laundry wafting through the East Room. The sounds of cursing or laughter in the Rose Room. The ghostly figure of Abraham Lincoln standing before a fireplace. These and many more spooky stories about the White House await readers! Reported to be haunted as far back as the 1800s, the White House harbors mysteries like a beastly cat that foretells of national disasters. Eerie photographs of the best known home in America accompany ghost stories that engage readers with several US presidents and important events in the nation’s history. With sidebars to add historical and paranormal context, these tales will provide thrills and chills that even the Obamas believe!","English",26.6,19.95,"133.1","48 pp.",{"$f":"Table1[[#This Row],['# Books]]*Table1[[#This Row],[QTY]]","v":0},{"$f":"Table1[[#This Row],[QTY]]*Table1[[#This Row],[S&L Price]]","v":0}]
[null,174,null,"Native American Library",1,"Apache History and Culture","eBook",null,"978-1-4339-6684-2",2012,"January 2012",null,null,"Author, Author","D. L. Birchfield, Helen Dwyer",7.6,1,40,26,"O",null,"Grade 3 - 4","Grade 3 - 6","The story of the Apaches is a fascinating tale of courage, tradition, and adaptation. Readers discover the rich history of these people including journeys through harsh climates, battles for land, and modern economic difficulties, between areas such as the Great Plains and the deserts of the Southwest. What emerges is a portrait of a resilient people, and readers learn how the Apaches have been able to adapt to the many changes they have experienced throughout their history while still holding on to the traditions that define them. Historical artwork and captivating photographs are accompanied by facts and firsthand accounts about Apache life in both the past and the present.","English",31.95,23.95,"979.004","48 pp.",{"$f":"Table1[[#This Row],['# Books]]*Table1[[#This Row],[QTY]]","v":0},{"$f":"Table1[[#This Row],[QTY]]*Table1[[#This Row],[S&L Price]]","v":0}]
[null,174,null,"Native American Library",1,"Blackfoot History and Culture","eBook",null,"978-1-4339-5955-4",2012,"August 2011",null,null,"Author, Author","Mary A. Stout, Helen Dwyer",8,1,34,28,"O",null,"Grade 3 - 4","Grade 3 - 6","The Blackfoot people make up an international confederation of tribes from both the United States and Canada. Readers discover the deep history and rich traditions of the four tribes of the Blackfoot Confederacy in this engaging volume. They see the journey these people once took across North America as they hunted migratory buffalo as well as their struggles with the American and Canadian governments. The lively culture of the Blackfoot people is also detailed, examining their religion, social structure, and artistic endeavors. Historical artwork and captivating photographs highlight both the past and present of the Blackfoot Confederacy.","English",31.95,23.95,"978.004","48 pp.",{"$f":"Table1[[#This Row],['# Books]]*Table1[[#This Row],[QTY]]","v":0},{"$f":"Table1[[#This Row],[QTY]]*Table1[[#This Row],[S&L Price]]","v":0}]
[null,174,null,"Native American Library",1,"Comanche History and Culture","Library Bound Book",null,"978-1-4339-7413-7",2013,"August 2012","Library","7.750 X 10.00","Author, Author","D. L. Birchfield, Helen Dwyer",7.8,1,70,28,"W",null,"Grade 3 - 4","Grade 3 - 6","The vivid photographs and well-written text bring the history and culture of the Comanches to life for readers. The Comanche history is traced from the early period of their life in the northern Rocky Mountains through their strength and prosperity in the 21st century. It explores how their life changed after the acquisition of horses as well as their conflicts with other Native American tribes, the Spanish, and Americans. Readers learn of the Comanches' past suffering on reservations, and of their increasing strength since the late 20th century. The book also discusses their traditional way of life, including their nomadic lifestyle, arts, beliefs, and legends. A helpful timeline summarizes Comanche history, and additional resources and suggested activities offer readers the chance to learn more about this amazing culture.","English",31.95,23.95,"978.004","48 pp.",{"$f":"Table1[[#This Row],['# Books]]*Table1[[#This Row],[QTY]]","v":0},{"$f":"Table1[[#This Row],[QTY]]*Table1[[#This Row],[S&L Price]]","v":0}]
[null,174,null,"Native American Library",1,"Creek History and Culture","eBook",null,"978-1-4339-5963-9",2012,"August 2011",null,null,"Author, Author","Amy M. Stone, Helen Dwyer",7.6,1,34,28,"O",null,"Grade 3 - 4","Grade 3 - 6","The Creek Nation has undergone numerous changes since its ancestors began thriving along the Mississippi River around AD 800. Today, the Creeks are commonly referred to by their ancestral name, the Muscogees, and they continue to work hard to keep their rich traditions alive. In this book, readers discover the landmark events in the history of these proud people. They see how the Creeks battled to maintain their unique identity—from suffering along the Trail of Tears to taking important roles in the modern Native American activist movement. Fascinating facts are presented about Creek family life, mythology, and art, giving readers an informative look at this thriving culture. ","English",31.95,23.95,"975.004","48 pp.",{"$f":"Table1[[#This Row],['# Books]]*Table1[[#This Row],[QTY]]","v":0},{"$f":"Table1[[#This Row],[QTY]]*Table1[[#This Row],[S&L Price]]","v":0}]
[null,174,null,"Native American Library",1,"Hopi History and Culture","Library Bound Book",null,"978-1-4339-5966-0",2012,"August 2011","Library","7.750 X 10.00","Author, Author","Mary A. Stout, Helen Dwyer",8,1,38,28,"P",null,"Grade 3 - 4","Grade 3 - 6","The rich history of the Hopis is still being celebrated today throughout the Arizona lands they call home. In this book, readers explore the events that shaped the Hopis as a people—from their battles with the Spanish in the 1600s to their present-day struggles balancing tradition with economic growth through tourism. Readers discover the Hopi settlement of Oraibi, the oldest surviving settlement in the United States, and see what life is like on the desert mesas where the people of the Hopi Nation live today. Detailed photographs of Hopi artwork, homes, and ceremonies bring readers into the world of this unique culture. ","English",31.95,23.95,"979.1004","48 pp.",{"$f":"Table1[[#This Row],['# Books]]*Table1[[#This Row],[QTY]]","v":0},{"$f":"Table1[[#This Row],[QTY]]*Table1[[#This Row],[S&L Price]]","v":0}]
[null,174,null,"Native American Library",1,"Navajo History and Culture","eBook",null,"978-1-4339-6673-6",2012,"January 2012",null,null,"Author, Author","D. L. Birchfield, Helen Dwyer",7.8,1,40,26,"O",null,"Grade 3 - 4","Grade 3 - 6","The proud people of the Navajo Nation continue to keep their history alive, and readers learn about that rich history in this book. As the largest reservation-based nation in North America, the Navajo Nation is connected by a shared past and a collective hope for a brighter future. Readers explore how the Navajo have fought to maintain their unique identity in the face of many obstacles. Also discovering the wonders of Navajo culture including elaborate ceremonies, beautiful clothing, and jewelry. This detailed look at Navajo life includes firsthand accounts of Navajo history, modern challenges facing this proud nation, and striking images that bring life to these fascinating facts.","English",31.95,23.95,"979.1004","48 pp.",{"$f":"Table1[[#This Row],['# Books]]*Table1[[#This Row],[QTY]]","v":0},{"$f":"Table1[[#This Row],[QTY]]*Table1[[#This Row],[S&L Price]]","v":0}]
[null,174,null,"Native American Library",1,"Seminole History and Culture","Library Bound Book",null,"978-1-4339-7429-8",2013,"August 2012","Library","7.750 X 10.00","Author, Author","D. L. Birchfield, Helen Dwyer",7.9,1,70,28,"W",null,"Grade 3 - 4","Grade 3 - 6","Readers discover Seminole history and culture in this richly designed, and well-researched volume. Its in-depth exploration of Seminole history begins with prehistoric times and continues to the present. Among the topics examined are the Seminoles' arrival in Florida in the 1700s, the place of black Seminoles in their society, their struggles to protect their territory from land-hungry Americans, and 21st-century reservation life. The book’s exploration of traditional culture and beliefs includes discussion of the role of uncles in raising children and an account of their origin story. Useful features include a detailed timeline, a list of additional resources for readers interested in learning more, and activities designed to promote further thought.","English",31.95,23.95,"975.9004","32 pp.",{"$f":"Table1[[#This Row],['# Books]]*Table1[[#This Row],[QTY]]","v":0},{"$f":"Table1[[#This Row],[QTY]]*Table1[[#This Row],[S&L Price]]","v":0}]
[null,174,null,"Native American Library",1,"Sioux History and Culture","Library Bound Book",null,"978-1-4339-6680-4",2012,"January 2012","Library","7.750 X 10.00","Author, Author","D. L. Birchfield, Helen Dwyer",7.8,1,40,26,"O",null,"Grade 3 - 4","Grade 3 - 6","Readers take a detailed look at past and present of the Sioux Nation, one of the largest Native American nations. Readers learn about the famous battles between Sioux warriors and American troops, including the Battle of the Little Bighorn. They also explore the various ways a sense of tradition is maintained in the middle of a changing America.  Fighting for control of sacred ground and recording their history and ways of life in prominent works of literature are only a few ways they have tried to maintain traditions. Incredible facts about the history of these proud people are accompanied by historical artwork and detailed photographs, creating a reading experience that is captivating and enlightening.","English",31.95,23.95,"978.004","32 pp.",{"$f":"Table1[[#This Row],['# Books]]*Table1[[#This Row],[QTY]]","v":0},{"$f":"Table1[[#This Row],[QTY]]*Table1[[#This Row],[S&L Price]]","v":0}]
[null,174,null,"Native American Library",1,"Sioux History and Culture","eBook",null,"978-1-4339-6681-1",2012,"January 2012",null,null,"Author, Author","D. L. Birchfield, Helen Dwyer",7.8,1,40,26,"O",null,"Grade 3 - 4","Grade 3 - 6","Readers take a detailed look at past and present of the Sioux Nation, one of the largest Native American nations. Readers learn about the famous battles between Sioux warriors and American troops, including the Battle of the Little Bighorn. They also explore the various ways a sense of tradition is maintained in the middle of a changing America.  Fighting for control of sacred ground and recording their history and ways of life in prominent works of literature are only a few ways they have tried to maintain traditions. Incredible facts about the history of these proud people are accompanied by historical artwork and detailed photographs, creating a reading experience that is captivating and enlightening.","English",31.95,23.95,"978.004","32 pp.",{"$f":"Table1[[#This Row],['# Books]]*Table1[[#This Row],[QTY]]","v":0},{"$f":"Table1[[#This Row],[QTY]]*Table1[[#This Row],[S&L Price]]","v":0}]
[null,174,null,"A Guide to Your Government",1,"Meet the President's Cabinet","Library Bound Book",null,"978-1-4339-7260-7",2013,"August 2012","Library","6.500 X 9.000","Author","Michael Rajczak",null,null,44,28,"T",null,"Grade 4 - 5","Grade 4 - 6","The men and women who make up the cabinet are the president’s closest advisors. Readers find out what these special people do, including their role in the highest decisions. Fun fact boxes and in-depth sidebars accompany stories of influential cabinet members, and introduce readers to the inner workings of the president’s cabinet. Colorful photographs enhance social studies information and engage young historians learning about this fascinating part of US government for the first time.","English",26.6,19.95,"352.240973","32 pp.",{"$f":"Table1[[#This Row],['# Books]]*Table1[[#This Row],[QTY]]","v":0},{"$f":"Table1[[#This Row],[QTY]]*Table1[[#This Row],[S&L Price]]","v":0}]
[null,174,null,"A Guide to Your Government",1,"Meet the Supreme Court","eBook",null,"978-1-4339-7271-3",2013,"August 2012",null,null,"Author","Drew Nelson",null,null,44,28,"T",null,"Grade 4 - 5","Grade 4 - 6","The Supreme Court has an important role in American government, such as keeping lawmakers in check and passing down influential decisions. Readers are introduced to the history of the Supreme Court, including many landmark decisions that have shaped our nation. Fascinating fact boxes and detailed sidebars enhance important social studies content, and full-color photographs add to the interesting subject matter. The fun, in-depth approach to a common social studies topic engages budding lawyers, judges, and historians alike.","English",26.6,19.95,"347.73","32 pp.",{"$f":"Table1[[#This Row],['# Books]]*Table1[[#This Row],[QTY]]","v":0},{"$f":"Table1[[#This Row],[QTY]]*Table1[[#This Row],[S&L Price]]","v":0}]
[null,174,null,"Documents That Shaped America",1,"The Magna Carta","Library Bound Book",null,"978-1-4339-9001-4",2014,"August 2013","Library","6.500 X 9.000","Author","Janey Levy",null,null,44,28,"T",null,"Grade 4 - 5","Grade 4 - 6","The Magna Carta was an astonishing document in its time. As the first document to limit the power of the British monarchy, it also protected the rights of the individual. The Magna Carta's impact reverberated throughout history and was on the minds of the American colonists as they prepared to fight England. They believed that their rights, established by the Magna Carta, had been stripped from them by their mother country. This book explains what was happening in England in 1215 when the Magna Carta was forced into the hands of King John. Readers will come to understand how the Magna Carta is still relevant to our nation and world.","English",26.6,19.95,"942.033","48 pp.",{"$f":"Table1[[#This Row],['# Books]]*Table1[[#This Row],[QTY]]","v":0},{"$f":"Table1[[#This Row],[QTY]]*Table1[[#This Row],[S&L Price]]","v":0}]
[null,174,null,"Documents That Shaped America",1,"The Magna Carta","eBook",null,"978-1-4339-9004-5",2014,"August 2013",null,null,"Author","Janey Levy",null,null,44,28,"T",null,"Grade 4 - 5","Grade 4 - 6","The Magna Carta was an astonishing document in its time. As the first document to limit the power of the British monarchy, it also protected the rights of the individual. The Magna Carta's impact reverberated throughout history and was on the minds of the American colonists as they prepared to fight England. They believed that their rights, established by the Magna Carta, had been stripped from them by their mother country. This book explains what was happening in England in 1215 when the Magna Carta was forced into the hands of King John. Readers will come to understand how the Magna Carta is still relevant to our nation and world.","English",26.6,19.95,"942.033","48 pp.",{"$f":"Table1[[#This Row],['# Books]]*Table1[[#This Row],[QTY]]","v":0},{"$f":"Table1[[#This Row],[QTY]]*Table1[[#This Row],[S&L Price]]","v":0}]
[null,175,null,"Documents That Shaped America",1,"Thomas Paine's Common Sense","eBook",null,"978-1-4339-9016-8",2014,"August 2013",null,null,"Author","Ryan Nagelhout",null,null,44,28,"T",null,"Grade 4 - 5","Grade 4 - 6","If people ever doubt that the printed word can change the world, they should look to Common Sense, the pamphlet penned by Thomas Paine. Just paper and ink helped persuade American colonists that independence from England was imperative. The powerful piece is examined in this book in the context of the turbulent era in which it was written. Readers are provided a close look at the time period through relevant images and invited to imagine whether they, too, would have joined the cause of the Americans.","English",26.6,19.95,"973.3","48 pp.",{"$f":"Table1[[#This Row],['# Books]]*Table1[[#This Row],[QTY]]","v":0},{"$f":"Table1[[#This Row],[QTY]]*Table1[[#This Row],[S&L Price]]","v":0}]
[null,175,null,"Explorers Discovering the World",1,"The Exploration of Australasia and the Pacific","Library Bound Book",null,"978-1-4339-8619-2",2013,"January 2013","Library","8.000 X 10.00","General editor","Tim Cooke",null,null,50,30,"U",null,"Grade 4 - 5","Grade 4 - 6","Europe’s search for better trade routes led to explorers stumbling on an entire continent. Readers will learn how humanity pushed to the edges of the Earth in the quest for knowledge of the Pacific. Readers will learn the exploits of famous explorers such as James Cook and Friedrich Leichhardt while full-color photographs show the landscape in stunning detail. Fact boxes add depth to every expedition and journey, while glossary terms and further information give readers an in-depth examination of this exciting topic.","English",31.95,23.95,"919","48 pp.",{"$f":"Table1[[#This Row],['# Books]]*Table1[[#This Row],[QTY]]","v":0},{"$f":"Table1[[#This Row],[QTY]]*Table1[[#This Row],[S&L Price]]","v":0}]
[null,175,null,"Explorers Discovering the World",1,"The Exploration of South America","eBook",null,"978-1-4339-8630-7",2013,"January 2013",null,null,"General editor","Tim Cooke",null,null,50,30,"U",null,"Grade 4 - 5","Grade 4 - 6","Explorers searching for a “New World” found a continent teeming with life and opportunity. Readers will learn how humanity pushed to the edges of the Earth in the quest for knowledge. They will also learn about the exploits of famous explorers such as Francisco Pizarro and Americo Vespucci while full-color photographs show the continent in stunning detail. Fact boxes add depth to every expedition and journey, while glossary terms and further information give readers an in-depth examination of this exciting topic.","English",31.95,23.95,"980","48 pp.",{"$f":"Table1[[#This Row],['# Books]]*Table1[[#This Row],[QTY]]","v":0},{"$f":"Table1[[#This Row],[QTY]]*Table1[[#This Row],[S&L Price]]","v":0}]
[null,175,null,"Explorers Discovering the World",1,"The Exploration of the North and South Poles","Library Bound Book",null,"978-1-4339-8631-4",2013,"January 2013","Library","8.000 X 10.00","General editor","Tim Cooke",null,null,50,30,"U",null,"Grade 4 - 5","Grade 4 - 6","The last parts of the globe to be explored by man, the North and South Poles, offer endless fascination for explorers and readers alike. Readers will learn how humanity pushed to the edges of the Earth in the quest for knowledge and explore the exploits of famous explorers such as Robert E. Peary and John Franklin. Full-color photographs show the coldest parts of the globe in stunning detail. Fact boxes add depth to every expedition and journey, while glossary terms and further information give readers an in-depth examination of this exciting topic.","English",31.95,23.95,"910.911","48 pp.",{"$f":"Table1[[#This Row],['# Books]]*Table1[[#This Row],[QTY]]","v":0},{"$f":"Table1[[#This Row],[QTY]]*Table1[[#This Row],[S&L Price]]","v":0}]
[null,175,null,"Technology in the Ancient World",1,"Technology in Ancient Egypt","eBook",null,"978-1-4339-9631-3",2014,"August 2013",null,null,"Author","Charlie Samuels",null,null,44,28,"T",null,"Grade 4 - 5","Grade 4 - 6","Perhaps the most well known innovation of the ancient Egyptians is mummification—but they knew far more about the human body than just how to preserve it. There’s evidence that the ancient Egyptians knew how to set broken bones and that they knew a person’s pulse and heart were linked. Readers will learn about ancient Egypt’s earliest technology, from that used in medicine, to arts like pottery, glassmaking, and weaving. Through historical content and each section’s accompanying sidebar, readers also will have a strong introduction to a common social studies curriculum topic: the culture of the ancient Egyptians. Up-close photographs of artifacts as well as artistic renderings of Egyptian shipbuilding, architecture, and other activities will engage readers in the ancient world of Egypt while a detailed timeline highlights important events.  ","English",31.95,23.95,"932","48 pp.",{"$f":"Table1[[#This Row],['# Books]]*Table1[[#This Row],[QTY]]","v":0},{"$f":"Table1[[#This Row],[QTY]]*Table1[[#This Row],[S&L Price]]","v":0}]
[null,175,null,"Technology in the Ancient World",1,"Technology in Ancient Rome","Library Bound Book",null,"978-1-4339-9636-8",2014,"August 2013","Library","8.000 X 10.00","Author","Charlie Samuels",null,null,44,28,"T",null,"Grade 4 - 5","Grade 4 - 6","The ancient Romans’ road-building technology was so good, some of their roads are still being used! Considered in the context of their other famous construction triumphs—such as the Colosseum and Hadrian’s Wall—the Roman roads are just a small piece of their technological stamp on the world. Readers will be fascinated by the many modern innovations the Romans had a hand in developing, including running toilets and the 365-day calendar. As each section focuses on a new topic, such as the Romans’ farming technology, sidebars add fun facts and detail to flesh out knowledge readers encounter in the classroom. Present-day photographs of artifacts and existing structures enhance the main historical content while a timeline concisely summarizes the major events of ancient Rome. Readers will be immersed in ancient Roman culture—and want to know even more!","English",31.95,23.95,"937","32 pp.",{"$f":"Table1[[#This Row],['# Books]]*Table1[[#This Row],[QTY]]","v":0},{"$f":"Table1[[#This Row],[QTY]]*Table1[[#This Row],[S&L Price]]","v":0}]
[null,175,null,"Why'd They Do That? Strange Customs of the Past",1,"Body Snatching","eBook",null,"978-1-4339-9575-0",2014,"August 2013",null,null,"Author, Illustrated by","Alix Wood, Alix Wood",null,null,40,26,"R",null,"Grade 4 - 5","Grade 4 - 6","Body snatching is the act of digging up bodies from graveyards. This creepy practice was at its most prevalent in the 1800s, when doctors paid for bodies so that they could learn about human anatomy. Body snatching was so common that special coffins and even weapons were invented to protect graves. Readers will be amazed by bizarre accounts of famous body snatchers and how they were brought to justice. They will be astounded that body snatching still happens in modern times. Interesting fact boxes, helpful illustrations, and colorful photographs support this fascinating text.","English",26.6,19.95,"364.15","32 pp.",{"$f":"Table1[[#This Row],['# Books]]*Table1[[#This Row],[QTY]]","v":0},{"$f":"Table1[[#This Row],[QTY]]*Table1[[#This Row],[S&L Price]]","v":0}]
[null,175,null,"Why'd They Do That? Strange Customs of the Past",1,"Human Sacrifice","Library Bound Book",null,"978-1-4339-9584-2",2014,"August 2013","Library","7.750 X 10.00","Author, Illustrated by","Alix Wood, Alix Wood",null,null,40,26,"R",null,"Grade 4 - 5","Grade 4 - 6","Human sacrifice is a gruesome yet fascinating part of many cultures’ histories. While it’s well known that the ancient Aztecs practiced human sacrifice, many other peoples did as well, including the Thuggees, the Maya, and the ancient Egyptians. This compelling book relays the significance of such brutal acts and explains each culture’s devotion to their gods and the afterlife. Readers also learn about modern acts of sacrifice, such as the kamikaze pilots of World War II. Vibrant illustrations and eye-catching photographs enhance the engrossing information on each page.","English",26.6,19.95,"390","48 pp.",{"$f":"Table1[[#This Row],['# Books]]*Table1[[#This Row],[QTY]]","v":0},{"$f":"Table1[[#This Row],[QTY]]*Table1[[#This Row],[S&L Price]]","v":0}]
[null,175,null,"Why'd They Do That? Strange Customs of the Past",1,"Mummification","Library Bound Book",null,"978-1-4339-9588-0",2014,"August 2013","Library","7.750 X 10.00","Author, Illustrated by","Alix Wood, Alix Wood",null,null,40,26,"R",null,"Grade 4 - 5","Grade 4 - 6","Mummification was a complicated process. In Egypt, brains were dragged with a hook through the body’s nose, and organs were put in jars to bury alongside the body! Why would anyone want to do that? Many civilizations believed in an afterlife and thought that a body should remain in a good condition to travel there. Egyptians were well known for their mummies, but many other civilizations practiced the art, too. China, South America, Italy, and the Canary Islands all have mummies. Some mummies happened naturally, such as in extreme cold places or peat bogs. Some more modern famous people have been preserved, such as Russian premier Vladimir Lenin and the philosopher Jeremy Bentham, who still sits in a chair on display at a University in London, England! This fascinating book gives readers a compelling look at the science and historical contexts behind mummification, and shows them through detailed photographs and creative illustrations the world of mummies up close!","English",26.6,19.95,"390","48 pp.",{"$f":"Table1[[#This Row],['# Books]]*Table1[[#This Row],[QTY]]","v":0},{"$f":"Table1[[#This Row],[QTY]]*Table1[[#This Row],[S&L Price]]","v":0}]
[null,175,null,"Crafts from the Past",1,"The Ancient Chinese","eBook",null,"978-1-4339-7700-8",2013,"August 2012",null,null,"Author","Jessica Cohn",null,null,38,24,"P",null,"Grade 5","Grade 4 - 6","The ancient Chinese—the civilization that invented the compass, gunpowder, and paper, among other things—is incredibly rich in tradition and history. Readers will celebrate many facets of ancient Chinese culture, including its arts, foods, philosophies, and architecture through their reading of this educational volume. The beauty of Chinese calligraphy, sculpture, and painting is undeniable as presented in striking photographs throughout the text. Readers are invited to reproduce important Chinese symbols, such as lanterns and dragons, in the step-by-step art projects featured within. Other highlights include the fascinating beliefs of Chinese philosophers such as Confucius, as well as some fun Chinese puzzles and games that are still played today.","English",31.95,23.95,"931","48 pp.",{"$f":"Table1[[#This Row],['# Books]]*Table1[[#This Row],[QTY]]","v":0},{"$f":"Table1[[#This Row],[QTY]]*Table1[[#This Row],[S&L Price]]","v":0}]
[null,175,null,"Crafts from the Past",1,"The Ancient Indians","Library Bound Book",null,"978-1-4339-7718-3",2013,"August 2012","Library","8.000 X 10.00","Author","Jessica Cohn",null,null,38,24,"P",null,"Grade 5","Grade 4 - 6","The civilization that developed near the Indus River thousands of years ago was one of the first successful cultures. The people of India have always celebrated the rich history of their ancestors. Various religions like Buddhism, ancient texts such as the Vedas, and the natural environment including monsoons are still a major influence on the India of today. In this book, readers learn about some of the most important concepts surrounding Indian culture. They'll read about the caste system, the Sanskrit language, the significance of Indian dress, and more. They'll have the opportunity to reflect on essential ideas while completing engaging craft activities featured throughout the book. Fascinating photographs of India complement this valuable and accessible text.","English",31.95,23.95,"934","48 pp.",{"$f":"Table1[[#This Row],['# Books]]*Table1[[#This Row],[QTY]]","v":0},{"$f":"Table1[[#This Row],[QTY]]*Table1[[#This Row],[S&L Price]]","v":0}]
[null,175,null,"Crafts from the Past",1,"The Ancient Indians","eBook",null,"978-1-4339-7721-3",2013,"August 2012",null,null,"Author","Jessica Cohn",null,null,38,24,"P",null,"Grade 5","Grade 4 - 6","The civilization that developed near the Indus River thousands of years ago was one of the first successful cultures. The people of India have always celebrated the rich history of their ancestors. Various religions like Buddhism, ancient texts such as the Vedas, and the natural environment including monsoons are still a major influence on the India of today. In this book, readers learn about some of the most important concepts surrounding Indian culture. They'll read about the caste system, the Sanskrit language, the significance of Indian dress, and more. They'll have the opportunity to reflect on essential ideas while completing engaging craft activities featured throughout the book. Fascinating photographs of India complement this valuable and accessible text.","English",31.95,23.95,"934","48 pp.",{"$f":"Table1[[#This Row],['# Books]]*Table1[[#This Row],[QTY]]","v":0},{"$f":"Table1[[#This Row],[QTY]]*Table1[[#This Row],[S&L Price]]","v":0}]
[null,175,null,"History's Most Horrible Jobs",1,"Horrible Jobs in Ancient Egypt","Library Bound Book",null,"978-1-4824-0324-4",2014,"January 2014","Library","8.500 X 11.00","Author","Robyn Hardyman",null,null,44,28,"T","890L","Grade 5 - 6","Grade 5 - 8","What could be worse than embalming a dead body? Being buried with it! Some pharaohs and wealthy Egyptians insisted their servants be buried with them to serve in the afterlife. Other jobs of the time were less deadly, but smellier! Readers learn a lot about ancient Egyptian society as they’re introduced to the unsavory tasks of slaves, peasants, and others. Full-color images showcase archeological evidence of these gross jobs, and interesting sidebars and fact boxes add even more stinky detail. Candid examples—including the removal of a person’s guts during mummification—will stay with readers long after they’ve finished reading.","English",31.95,23.95,"932","48 pp.",{"$f":"Table1[[#This Row],['# Books]]*Table1[[#This Row],[QTY]]","v":0},{"$f":"Table1[[#This Row],[QTY]]*Table1[[#This Row],[S&L Price]]","v":0}]
[null,175,null,"History's Most Horrible Jobs",1,"Horrible Jobs in Colonial Times","eBook",null,"978-1-4824-0332-9",2014,"January 2014",null,null,"Author","Louise Spilsbury",null,null,44,28,"T","970L","Grade 5 - 6","Grade 5 - 8","As the 13 colonies grew, they prospered with new industries and trade. However, some of these trades, like tanning animal hides, were unpleasant. In fact, from slaves and indentured servants, to “mad hatters” and risk-taking whalers, jobs in the colonies could be downright horrible! Readers will delight in viewing the colonial world through a different lens while they continue to learn about life in early America. Enhanced by detailed images, the social studies content augments classroom learning through true—though sometimes disgusting—facts and examples of making a living in the 13 colonies.","English",31.95,23.95,"973.3","48 pp.",{"$f":"Table1[[#This Row],['# Books]]*Table1[[#This Row],[QTY]]","v":0},{"$f":"Table1[[#This Row],[QTY]]*Table1[[#This Row],[S&L Price]]","v":0}]
[null,175,null,"History's Most Horrible Jobs",1,"Horrible Jobs of the Industrial Revolution","eBook",null,"978-1-4824-6525-9",2014,"January 2014",null,null,"Author","Leon Gray",null,null,44,28,"T","1000L","Grade 5 - 6","Grade 5 - 8","The Industrial Revolution brought about great changes, but this was a time before many labor laws, and many children had to work from sunup to sundown. The poor had to work as rat catchers and coal miners! Readers will take in important historical context as they learn all about these and other horrible jobs of the era. Sidebars and fact boxes add further detail, including the grotesque “secret” to softening animal hides for leather goods. Historical images and colorful illustrations draw readers deeper into the harsh reality of a pivotal era full of terrible working conditions.","English",31.95,23.95,"909.81","48 pp.",{"$f":"Table1[[#This Row],['# Books]]*Table1[[#This Row],[QTY]]","v":0},{"$f":"Table1[[#This Row],[QTY]]*Table1[[#This Row],[S&L Price]]","v":0}]
[null,175,null,"Turning Points in US Military History",1,"D-Day","Library Bound Book",null,"978-1-4824-0432-6",2014,"January 2014","Library","8.000 X 10.00","Author","Charlie Samuels",null,null,44,30,"U",null,"Grade 5 - 6","Grade 5 - 8","On June 6, 1944, Allied forces led by the United States and England landed in German-occupied France. Years in the planning, more than 160,000 soldiers landed in Normandy. The fates of these forces, the key figures of leadership, and the adversity and triumphs of World War II is recounted in this fascinating volume, which includes an overview of many other significant military events. Readers will love the incredible wartime photographs and appreciate the detailed timeline concluding this important addition to any history collection.","English",31.95,23.95,"940.54","48 pp.",{"$f":"Table1[[#This Row],['# Books]]*Table1[[#This Row],[QTY]]","v":0},{"$f":"Table1[[#This Row],[QTY]]*Table1[[#This Row],[S&L Price]]","v":0}]
[null,175,null,"Turning Points in US Military History",1,"The Attack on Pearl Harbor","eBook",null,"978-1-4824-6530-3",2014,"January 2014",null,null,"Author","Charlie Samuels",null,null,44,30,"U",null,"Grade 5 - 6","Grade 5 - 8","Without the Japanese attack on the US fleet at Pearl Harbor in Hawaii, the United States might never have entered World War II. Instead, the American public clamored for a declaration of war against Japan, which soon led to combat with Italy and Germany as well. The motivations for Japan to attack the United States and the repercussions of the event, including the internment of Japanese-Americans, are thoroughly discussed in this valuable book. Actual wartime photographs and absorbing anecdotes will inspire history buffs and anyone interested in this time period.","English",31.95,23.95,"940.54","48 pp.",{"$f":"Table1[[#This Row],['# Books]]*Table1[[#This Row],[QTY]]","v":0},{"$f":"Table1[[#This Row],[QTY]]*Table1[[#This Row],[S&L Price]]","v":0}]
[null,175,null,"Turning Points in US Military History",1,"The Tet Offensive","Library Bound Book",null,"978-1-4824-0435-7",2014,"January 2014","Library","8.000 X 10.00","Author","Charlie Samuels",null,null,44,30,"U",null,"Grade 5 - 8","Grade 5 - 8"," The Tet Offensive of 1968 was the turning point of the Vietnam War. It convinced many Americans that the war could not be won. In this book, readers will learn about the different factions of the war: the North Vietnamese Army, the Viet Cong, the South Vietnamese, and the American military forces. They will learn about the strategies of each side that led to the eventual fall of South Vietnam in 1975. Stunning photographs, sidebars delving into various aspects of the war, and a detailed timeline make this book a valuable look into a complicated conflict. ","English",31.95,23.95,"959.704","48 pp.",{"$f":"Table1[[#This Row],['# Books]]*Table1[[#This Row],[QTY]]","v":0},{"$f":"Table1[[#This Row],[QTY]]*Table1[[#This Row],[S&L Price]]","v":0}]
[null,175,null,"Big-Buck Business",1,"Energy for Everyone? The Business of Energy","eBook",null,"978-1-4339-7754-1",2013,"August 2012",null,null,"Author","Nick Hunter",null,null,40,28,"R",null,"Grade 6","Grade 6 - 8","Energy is needed for homes, cars, businesses, and the tools that make our lives easier—such as cell phones. As the world’s population surpasses 7 billion, more people are worrying about the sustainability of fuels. A myriad of topics are introduced to readers, including the use of alternative energy sources, the dangers of nuclear power, and the costs of renewable and nonrenewable energy. Readers will examine many controversies of the energy industry and learn about the companies and organizations that are often in the news. Fascinating fact boxes add to the appeal of the text.","English",31.95,23.95,"333.79","48 pp.",{"$f":"Table1[[#This Row],['# Books]]*Table1[[#This Row],[QTY]]","v":0},{"$f":"Table1[[#This Row],[QTY]]*Table1[[#This Row],[S&L Price]]","v":0}]
[null,175,null,"Big-Buck Business",1,"Living Forever: The Pharmaceutical Industry","Library Bound Book",null,"978-1-4339-7755-8",2013,"August 2012","Library","8.000 X 10.00","Author","Catherine Chambers",null,null,40,28,"R",null,"Grade 6","Grade 6 - 8","Most people need medicine at some point in their lives. It’s this fact that drives the pharmaceutical industry and makes it one of the most profitable industries today. So much goes into the making of a single pharmaceutical product before it even goes on the shelves, including research, manufacturing, clinical trials, and marketing. Readers discover these stages of development and learn what happens when a wonder drug turns out to have deadly side effects. They’ll read facts and figures that will surprise them, such as the first drugstore dating back to the eighth century. Readers will also learn about the future of pharmaceuticals on the Internet and the effects of recent government guidelines. Business may be booming, but competition between pharmaceutical companies is fierce. They’re always on the lookout for the next product that may change our lives forever.","English",31.95,23.95,"615.1","48 pp.",{"$f":"Table1[[#This Row],['# Books]]*Table1[[#This Row],[QTY]]","v":0},{"$f":"Table1[[#This Row],[QTY]]*Table1[[#This Row],[S&L Price]]","v":0}]
[null,175,null,"Big-Buck Business",1,"Skin Deep: The Business of Beauty","eBook",null,"978-1-4339-7766-4",2013,"August 2012",null,null,"Author","Angela Royston",null,null,40,28,"R",null,"Grade 6","Grade 6 - 8","The business of beauty is a billion-dollar enterprise, evidenced by cosmetic advertisements displayed almost everywhere. The cultural obsession with beauty and body image has roots that reach back into history; in fact, Egyptian women used eyeliner more than 6,000 years ago. Historical information about makeup, hair, and cosmetic surgery for both women and men are just some of the topics waiting for readers to discover. The text examines the allure of many beauty products and highlights why some are more profitable than others. Recent beauty trends are discussed in fact boxes throughout the book, encouraging topic discussion and deeper evaluation among readers.","English",31.95,23.95,"646.7","48 pp.",{"$f":"Table1[[#This Row],['# Books]]*Table1[[#This Row],[QTY]]","v":0},{"$f":"Table1[[#This Row],[QTY]]*Table1[[#This Row],[S&L Price]]","v":0}]
[null,176,null,"Peace Pen Pals",1,"Hoping for Peace in Afghanistan","Library Bound Book",null,"978-1-4339-7723-7",2013,"August 2012","Library","8.000 X 10.00","Author","Nick Hunter",null,null,40,26,"V",null,"Grade 6","Grade 6 - 8","Our impressions of the War in Afghanistan usually consist of images we see on TV of soldiers, tanks, and debris. We hear numbers: of people dying, damaged buildings, and dates promising an end to the violence. However, in every war-torn country, there are ordinary people trying to live as normally as possible and survive amidst the danger, sadness, and chaos. Readers closely examine the war that has raged in Afghanistan since 2001—learning about the people on each side and the causes and consequences of the conflict. This account stands apart from other social studies texts with its inclusion of a fictional correspondence between two girls, one in Afghanistan and one in the United States. The captivating letters weaved throughout the nonfiction narrative bring to light the many commonalities between two young people who at first seem worlds apart.","English",31.95,23.95,"958.104","48 pp.",{"$f":"Table1[[#This Row],['# Books]]*Table1[[#This Row],[QTY]]","v":0},{"$f":"Table1[[#This Row],[QTY]]*Table1[[#This Row],[S&L Price]]","v":0}]
[null,176,null,"Peace Pen Pals",1,"Hoping for Peace in Sudan","Library Bound Book",null,"978-1-4339-7739-8",2013,"August 2012","Library","8.000 X 10.00","Author","Jim Pipe",null,null,40,26,"V",null,"Grade 6","Grade 6 - 8","Many people know that war has devastated Sudan’s people, killing millions over the past 30 years. However, they may not know the causes and motivations behind the many factions of Africa’s largest country. While these topics are discussed, a glimpse of the civil war through the eyes of a girl in northern Sudan and a boy in the south are also provided. As letters are exchanged between the two, one in the city of Khartoum and the other in a refugee camp, they relate how differently their lives are affected by the conflict. Readers will gain a thorough understanding of the profound cost of this war through age-appropriate language and striking photographs.","English",31.95,23.95,"962.404","48 pp.",{"$f":"Table1[[#This Row],['# Books]]*Table1[[#This Row],[QTY]]","v":0},{"$f":"Table1[[#This Row],[QTY]]*Table1[[#This Row],[S&L Price]]","v":0}]
[null,176,null,"Peace Pen Pals",1,"Hoping for Peace in Sudan","eBook",null,"978-1-4339-7742-8",2013,"August 2012",null,null,"Author","Jim Pipe",null,null,40,26,"V",null,"Grade 6","Grade 6 - 8","Many people know that war has devastated Sudan’s people, killing millions over the past 30 years. However, they may not know the causes and motivations behind the many factions of Africa’s largest country. While these topics are discussed, a glimpse of the civil war through the eyes of a girl in northern Sudan and a boy in the south are also provided. As letters are exchanged between the two, one in the city of Khartoum and the other in a refugee camp, they relate how differently their lives are affected by the conflict. Readers will gain a thorough understanding of the profound cost of this war through age-appropriate language and striking photographs.","English",31.95,23.95,"962.404","48 pp.",{"$f":"Table1[[#This Row],['# Books]]*Table1[[#This Row],[QTY]]","v":0},{"$f":"Table1[[#This Row],[QTY]]*Table1[[#This Row],[S&L Price]]","v":0}]
[null,176,null,"Americans at War: A Gareth Stevens Timeline Series",1,"Timeline of the Revolutionary War","Library Bound Book",null,"978-1-4339-5914-1",2012,"August 2011","Library","8.500 X 10.50","Author","Charlie Samuels",null,null,50,28,"U",null,"Grade 6 - 8","Grade 6 - 8","America emerged from the Revolutionary War as an independent nation, but it took many difficult battles over many years for independence to be achieved. Budding historians will discover the compelling stories behind the defining moments of the Revolutionary War—from Lexington and Concord to Yorktown. Readers are aided in their exploration by two distinct type of timelines. A general timeline outlines the major events in a comprehensive manner, and each chapter features a timeline to highlight the important dates covered within those pages. This gripping narrative about the people and places that played an important role in America’s fight for independence won’t easily be forgotten.","English",31.95,23.95,"973.3","48 pp.",{"$f":"Table1[[#This Row],['# Books]]*Table1[[#This Row],[QTY]]","v":0},{"$f":"Table1[[#This Row],[QTY]]*Table1[[#This Row],[S&L Price]]","v":0}]
[null,176,null,"Americans at War: A Gareth Stevens Timeline Series",1,"Timeline of the War on Terror","eBook",null,"978-1-4339-5923-3",2012,"August 2011",null,null,"Author","Charlie Samuels",null,null,50,28,"T",null,"Grade 6 - 8","Grade 6 - 8","The war on terror is a war that is far-reaching in its scope and complex in its tactics. In this book, readers discover the worldwide efforts being made to fight terrorism—from the caves of Afghanistan to the intelligence agencies of Europe and America. They see the chain of causes and effects connected to the terrorist attacks of 9/11 as well as the battles being fought around the world to ensure that another attack of that magnitude does not occur. With the help of both general and chapter-specific timelines, readers learn the details behind the major events that have shaped this global conflict. Striking photographs show firsthand the impact of the war on terror in America and abroad. ","English",31.95,23.95,"973.931","48 pp.",{"$f":"Table1[[#This Row],['# Books]]*Table1[[#This Row],[QTY]]","v":0},{"$f":"Table1[[#This Row],[QTY]]*Table1[[#This Row],[S&L Price]]","v":0}]
[null,176,null,"Americans at War: A Gareth Stevens Timeline Series",1,"Timeline of World War II: Pacific","Library Bound Book",null,"978-1-4339-5934-9",2012,"August 2011","Library","8.500 X 10.50","Author","Charlie Samuels",null,null,50,28,"U",null,"Grade 6 - 8","Grade 6 - 8","World War II was the largest war in history, with battles taking place throughout Europe, North Africa, and the islands of the Pacific Ocean. In this book, readers will learn about the varied military campaigns that took place in the Pacific, from Japan’s attack on Pearl Harbor to its surrender nearly 4 years later. The use of timelines effectively outlines the major events of World War II—both in the Pacific as well as in Europe and North Africa. Detailed text focuses on the battles that defined America’s involvement in the Pacific theater, while historical photographs help readers to visualize the events.","English",31.95,23.95,"940.54","48 pp.",{"$f":"Table1[[#This Row],['# Books]]*Table1[[#This Row],[QTY]]","v":0},{"$f":"Table1[[#This Row],[QTY]]*Table1[[#This Row],[S&L Price]]","v":0}]
[null,176,null,"Ask the Experts",1,"Genetic Modification: Should Humans Control Nature?","eBook",null,"978-1-4339-8638-3",2013,"January 2013",null,null,"Author","Leon Gray",null,null,60,32,"X",null,"Grade 6 - 8","Grade 6 - 8","The advances that have been made in the realm of genetics are astounding. Not only has the entire human genome been mapped, but scientists have also discovered methods of modifying genes in people as well as plants and animals. With this progress has come a great debate about the ethics of genetic modification. People wonder if there should be limits to altering nature. Readers explore basic concepts of cellular biology, including DNA and genes. Then they are guided though the differing sides of the genetics debate and encouraged to take their own informed stance on the issues.","English",31.95,23.95,"660.6","48 pp.",{"$f":"Table1[[#This Row],['# Books]]*Table1[[#This Row],[QTY]]","v":0},{"$f":"Table1[[#This Row],[QTY]]*Table1[[#This Row],[S&L Price]]","v":0}]
[null,176,null,"Ask the Experts",1,"Planet Under Pressure: Too Many People on Earth?","Library Bound Book",null,"978-1-4339-8643-7",2013,"January 2013","Library","8.000 X 10.00","Author","Matt Anniss",null,null,60,32,"X",null,"Grade 6 - 8","Grade 6 - 8","The population of Earth has exploded over the last 100 years. The planet now supports about 7 billion people, and this overwhelming number has many repercussions. Alternative energy resources and the costs of healthcare have become urgent matters. Questions about how to feed, clothe, and house a growing population demand answers. Poverty and overpopulation are no longer just problems for third-world countries but issues that need to be addressed in our own communities. Readers are presented with the many topics surrounding world population and the questions that experts are asking. Also highlighted are suggested solutions, some as radical as setting up colonies on other planets.","English",31.95,23.95,"363.9","48 pp.",{"$f":"Table1[[#This Row],['# Books]]*Table1[[#This Row],[QTY]]","v":0},{"$f":"Table1[[#This Row],[QTY]]*Table1[[#This Row],[S&L Price]]","v":0}]
[null,176,null,"Ask the Experts",1,"Planet Under Pressure: Too Many People on Earth?","eBook",null,"978-1-4339-8646-8",2013,"January 2013",null,null,"Author","Matt Anniss",null,null,60,32,"X",null,"Grade 6 - 8","Grade 6 - 8","The population of Earth has exploded over the last 100 years. The planet now supports about 7 billion people, and this overwhelming number has many repercussions. Alternative energy resources and the costs of healthcare have become urgent matters. Questions about how to feed, clothe, and house a growing population demand answers. Poverty and overpopulation are no longer just problems for third-world countries but issues that need to be addressed in our own communities. Readers are presented with the many topics surrounding world population and the questions that experts are asking. Also highlighted are suggested solutions, some as radical as setting up colonies on other planets.","English",31.95,23.95,"363.9","48 pp.",{"$f":"Table1[[#This Row],['# Books]]*Table1[[#This Row],[QTY]]","v":0},{"$f":"Table1[[#This Row],[QTY]]*Table1[[#This Row],[S&L Price]]","v":0}]
[null,176,null,"Ask the Experts",1,"World Economy: What's the Future?","Library Bound Book",null,"978-1-4339-8647-5",2013,"January 2013","Library","8.000 X 10.00","Author","Matt Anniss",null,null,60,32,"X",null,"Grade 6 - 8","Grade 6 - 8","The economy often seems like a complex subject. We know that much of the world is currently struggling with recession and its consequences. News headlines spotlight job gains and losses, rising debt, and every economic detail that may give us a clue about a full financial recovery. Meanwhile, frustrated people protest in streets and rail against institutions they blame for the current economic climate. Easy-to-understand terms explain what led to the economic crisis and what's being done to pull the United States and other countries out. While there are no easy answers, readers will be able to develop informed opinions about the issues.","English",31.95,23.95,"330.9","48 pp.",{"$f":"Table1[[#This Row],['# Books]]*Table1[[#This Row],[QTY]]","v":0},{"$f":"Table1[[#This Row],[QTY]]*Table1[[#This Row],[S&L Price]]","v":0}]
[null,176,null,"Ask the Experts",1,"World Economy: What's the Future?","eBook",null,"978-1-4339-8650-5",2013,"January 2013",null,null,"Author","Matt Anniss",null,null,60,32,"X",null,"Grade 6 - 8","Grade 6 - 8","The economy often seems like a complex subject. We know that much of the world is currently struggling with recession and its consequences. News headlines spotlight job gains and losses, rising debt, and every economic detail that may give us a clue about a full financial recovery. Meanwhile, frustrated people protest in streets and rail against institutions they blame for the current economic climate. Easy-to-understand terms explain what led to the economic crisis and what's being done to pull the United States and other countries out. While there are no easy answers, readers will be able to develop informed opinions about the issues.","English",31.95,23.95,"330.9","48 pp.",{"$f":"Table1[[#This Row],['# Books]]*Table1[[#This Row],[QTY]]","v":0},{"$f":"Table1[[#This Row],[QTY]]*Table1[[#This Row],[S&L Price]]","v":0}]
[null,176,null,"The American Civil War: The Right Answer",1,"After the War","Library Bound Book",null,"978-1-4339-7531-8",2013,"August 2012","Library","6.500 X 9.000","Author","Tim Cooke",null,null,70,28,"X",null,"Grade 6 - 8","Grade 6 - 8","Even though the Civil War kept the Union together, much work needed to be done once the North declared victory. From new rights for former slaves to rebuilding devastated areas of the South, this book covers many aspects of the Reconstruction era of the United States. Using accessible content and critical thinking questions, readers are encouraged to think about the outcomes of war from a variety of perspectives, including freed slaves, carpetbaggers, and even the US government. In-depth content will engage budding historians, while illustrations and bonus facts will reinforce readers’ new knowledge.","English",31.95,23.95,"973.7","48 pp.",{"$f":"Table1[[#This Row],['# Books]]*Table1[[#This Row],[QTY]]","v":0},{"$f":"Table1[[#This Row],[QTY]]*Table1[[#This Row],[S&L Price]]","v":0}]
[null,176,null,"The American Civil War: The Right Answer",1,"After the War","eBook",null,"978-1-4339-7534-9",2013,"August 2012",null,null,"Author","Tim Cooke",null,null,70,28,"X",null,"Grade 6 - 8","Grade 6 - 8","Even though the Civil War kept the Union together, much work needed to be done once the North declared victory. From new rights for former slaves to rebuilding devastated areas of the South, this book covers many aspects of the Reconstruction era of the United States. Using accessible content and critical thinking questions, readers are encouraged to think about the outcomes of war from a variety of perspectives, including freed slaves, carpetbaggers, and even the US government. In-depth content will engage budding historians, while illustrations and bonus facts will reinforce readers’ new knowledge.","English",31.95,23.95,"973.7","48 pp.",{"$f":"Table1[[#This Row],['# Books]]*Table1[[#This Row],[QTY]]","v":0},{"$f":"Table1[[#This Row],[QTY]]*Table1[[#This Row],[S&L Price]]","v":0}]
[null,176,null,"The American Civil War: The Right Answer",1,"Causes of the War","Library Bound Book",null,"978-1-4339-7535-6",2013,"August 2012","Library","6.500 X 9.000","Author","Tim Cooke",null,null,70,28,"X",null,"Grade 6 - 8","Grade 6 - 8","In 1807, it became illegal to import slaves to the United States. However, that didn’t put a stop to slavery in the South. While slavery wasn’t the only cause of the Civil War, it certainly was a big factor. Readers learn more about why the war started with detailed accounts of the abolitionist movement and the Kansas-Nebraska Act. Among other key events, this book features in-depth information budding historians are looking for, questions and comments in the margins that will engage readers’ critical thinking skills, and historical illustrations and end-of-chapter boxed insets will augment the curriculum-supporting text.","English",31.95,23.95,"973.7","48 pp.",{"$f":"Table1[[#This Row],['# Books]]*Table1[[#This Row],[QTY]]","v":0},{"$f":"Table1[[#This Row],[QTY]]*Table1[[#This Row],[S&L Price]]","v":0}]
[null,176,null,"The American Civil War: The Right Answer",1,"Causes of the War","eBook",null,"978-1-4339-7538-7",2013,"August 2012",null,null,"Author","Tim Cooke",null,null,70,28,"X",null,"Grade 6 - 8","Grade 6 - 8","In 1807, it became illegal to import slaves to the United States. However, that didn’t put a stop to slavery in the South. While slavery wasn’t the only cause of the Civil War, it certainly was a big factor. Readers learn more about why the war started with detailed accounts of the abolitionist movement and the Kansas-Nebraska Act. Among other key events, this book features in-depth information budding historians are looking for, questions and comments in the margins that will engage readers’ critical thinking skills, and historical illustrations and end-of-chapter boxed insets will augment the curriculum-supporting text.","English",31.95,23.95,"973.7","48 pp.",{"$f":"Table1[[#This Row],['# Books]]*Table1[[#This Row],[QTY]]","v":0},{"$f":"Table1[[#This Row],[QTY]]*Table1[[#This Row],[S&L Price]]","v":0}]
[null,176,null,"The American Civil War: The Right Answer",1,"Decisive Battles","Library Bound Book",null,"978-1-4339-7539-4",2013,"August 2012","Library","6.500 X 9.000","Author","Tim Cooke",null,null,70,28,"X",null,"Grade 6 - 8","Grade 6 - 8","The American Civil War was marked by bitter, bloody battles including the first battle of Bull Run and the Appomattox Campaign. Readers are given detailed accounts of the most famous and important battles of the war. Enhanced by historical illustrations of events and bonus facts in the margins, the accessible content introduces readers to important figures of the Civil War, such as Ulysses S. Grant and Thomas “Stonewall” Jackson. Helpful sidebars at the end of the each chapter will illustrate an event’s significance, and thoughtful questions throughout the book will give readers a chance to consider their own views of these momentous events.","English",31.95,23.95,"973.7","48 pp.",{"$f":"Table1[[#This Row],['# Books]]*Table1[[#This Row],[QTY]]","v":0},{"$f":"Table1[[#This Row],[QTY]]*Table1[[#This Row],[S&L Price]]","v":0}]
[null,176,null,"The American Civil War: The Right Answer",1,"Decisive Battles","eBook",null,"978-1-4339-7542-4",2013,"August 2012",null,null,"Author","Tim Cooke",null,null,70,28,"X",null,"Grade 6 - 8","Grade 6 - 8","The American Civil War was marked by bitter, bloody battles including the first battle of Bull Run and the Appomattox Campaign. Readers are given detailed accounts of the most famous and important battles of the war. Enhanced by historical illustrations of events and bonus facts in the margins, the accessible content introduces readers to important figures of the Civil War, such as Ulysses S. Grant and Thomas “Stonewall” Jackson. Helpful sidebars at the end of the each chapter will illustrate an event’s significance, and thoughtful questions throughout the book will give readers a chance to consider their own views of these momentous events.","English",31.95,23.95,"973.7","48 pp.",{"$f":"Table1[[#This Row],['# Books]]*Table1[[#This Row],[QTY]]","v":0},{"$f":"Table1[[#This Row],[QTY]]*Table1[[#This Row],[S&L Price]]","v":0}]
[null,176,null,"The American Civil War: The Right Answer",1,"Key Figures","Library Bound Book",null,"978-1-4339-7547-9",2013,"August 2012","Library","6.500 X 9.000","Author","Tim Cooke",null,null,70,28,"X",null,"Grade 6 - 8","Grade 6 - 8","Abraham Lincoln wasn’t the only president serving at the time of the Civil War. Readers will be introduced to Jefferson Davis, the president of the Confederate States of America, as well as other important people who determined the course of the American Civil War. The tactics of Ulysses S. Grant and the indefatigable Robert E. Lee are also covered. Knowledge of these key figures will enhance readers’ understanding of the war. Using end-of-chapter sidebars and marginal comments to prompt readers' critical thinking skills, this book will augment the social studies curriculum and engage readers with the complex story of leaders of the Civil War.","English",31.95,23.95,"973.7092","48 pp.",{"$f":"Table1[[#This Row],['# Books]]*Table1[[#This Row],[QTY]]","v":0},{"$f":"Table1[[#This Row],[QTY]]*Table1[[#This Row],[S&L Price]]","v":0}]
[null,176,null,"The American Civil War: The Right Answer",1,"Key Figures","eBook",null,"978-1-4339-7550-9",2013,"August 2012",null,null,"Author","Tim Cooke",null,null,70,28,"X",null,"Grade 6 - 8","Grade 6 - 8","Abraham Lincoln wasn’t the only president serving at the time of the Civil War. Readers will be introduced to Jefferson Davis, the president of the Confederate States of America, as well as other important people who determined the course of the American Civil War. The tactics of Ulysses S. Grant and the indefatigable Robert E. Lee are also covered. Knowledge of these key figures will enhance readers’ understanding of the war. Using end-of-chapter sidebars and marginal comments to prompt readers' critical thinking skills, this book will augment the social studies curriculum and engage readers with the complex story of leaders of the Civil War.","English",31.95,23.95,"973.7092","48 pp.",{"$f":"Table1[[#This Row],['# Books]]*Table1[[#This Row],[QTY]]","v":0},{"$f":"Table1[[#This Row],[QTY]]*Table1[[#This Row],[S&L Price]]","v":0}]
[null,176,null,"The American Civil War: The Right Answer",1,"The Home Front","Library Bound Book",null,"978-1-4339-7543-1",2013,"August 2012","Library","6.500 X 9.000","Author","Tim Cooke",null,null,70,28,"X",null,"Grade 6 - 8","Grade 6 - 8","The American Civil War affected more than just the soldiers on the battlefield—families, businesses, and schools all felt the influence of the terrible conflict. Using a variety of perspectives to introduce readers to a country at war, this volume will engage readers while providing essential, factual information. Readers will discover this often-overlooked side of war, including cities and farms, and the lives of those on the Union and those on the Confederate sides. Historical illustrations, maps, and critical thinking questions accompany detailed descriptions and bonus facts—the accessible content will fascinate readers with an in-depth look into US history.","English",31.95,23.95,"973.7","48 pp.",{"$f":"Table1[[#This Row],['# Books]]*Table1[[#This Row],[QTY]]","v":0},{"$f":"Table1[[#This Row],[QTY]]*Table1[[#This Row],[S&L Price]]","v":0}]
[null,176,null,"The American Civil War: The Right Answer",1,"The Home Front","eBook",null,"978-1-4339-7546-2",2013,"August 2012",null,null,"Author","Tim Cooke",null,null,70,28,"X",null,"Grade 6 - 8","Grade 6 - 8","The American Civil War affected more than just the soldiers on the battlefield—families, businesses, and schools all felt the influence of the terrible conflict. Using a variety of perspectives to introduce readers to a country at war, this volume will engage readers while providing essential, factual information. Readers will discover this often-overlooked side of war, including cities and farms, and the lives of those on the Union and those on the Confederate sides. Historical illustrations, maps, and critical thinking questions accompany detailed descriptions and bonus facts—the accessible content will fascinate readers with an in-depth look into US history.","English",31.95,23.95,"973.7","48 pp.",{"$f":"Table1[[#This Row],['# Books]]*Table1[[#This Row],[QTY]]","v":0},{"$f":"Table1[[#This Row],[QTY]]*Table1[[#This Row],[S&L Price]]","v":0}]
[null,176,null,"The American Civil War: The Right Answer",1,"Weapons and Tactics","Library Bound Book",null,"978-1-4339-7551-6",2013,"August 2012","Library","6.500 X 9.000","Author","Tim Cooke",null,null,70,28,"X",null,"Grade 6 - 8","Grade 6 - 8","Readers will discover interesting facts on the plans of attack used during the Civil war. Exciting illustrations of both battle and weapons will draw in readers while they encounter questions and sidebars that encourage them to use critical thinking skills. Readers find in-depth information about the actual fighting of the Civil War, including guerrilla warfare on land and bloody battles fought at sea, that will support and expand their knowledge of the conflict.","English",31.95,23.95,"973.7","48 pp.",{"$f":"Table1[[#This Row],['# Books]]*Table1[[#This Row],[QTY]]","v":0},{"$f":"Table1[[#This Row],[QTY]]*Table1[[#This Row],[S&L Price]]","v":0}]
[null,176,null,"The American Civil War: The Right Answer",1,"Weapons and Tactics","eBook",null,"978-1-4339-7554-7",2013,"August 2012",null,null,"Author","Tim Cooke",null,null,70,28,"X",null,"Grade 6 - 8","Grade 6 - 8","Readers will discover interesting facts on the plans of attack used during the Civil war. Exciting illustrations of both battle and weapons will draw in readers while they encounter questions and sidebars that encourage them to use critical thinking skills. Readers find in-depth information about the actual fighting of the Civil War, including guerrilla warfare on land and bloody battles fought at sea, that will support and expand their knowledge of the conflict.","English",31.95,23.95,"973.7","48 pp.",{"$f":"Table1[[#This Row],['# Books]]*Table1[[#This Row],[QTY]]","v":0},{"$f":"Table1[[#This Row],[QTY]]*Table1[[#This Row],[S&L Price]]","v":0}]
[null,176,null,"Understanding Political Systems",1,"What Is a Democracy?","Library Bound Book",null,"978-1-4824-0306-0",2014,"January 2014","Library","8.000 X 10.00","Author","Robyn Hardyman",null,null,60,null,"X",null,"Grade 6 - 8","Grade 6 - 8","If you live in the United States, you have a good idea of what a democracy is. However, there are many different kinds of democracy throughout the world. From the Roman republics to American democracy, this type of government has grown and changed for centuries. Find out more about democracy, which countries use it to govern, and learn some positives and negatives about this type of government.    • Accessible, \"in the news\", and relevant subject matter • Complements social studies curriculum • Sidebars, photographs, and captions clarify ideas within text • Conclusion summary chapter reinforces understanding of each ideology  ","English",31.95,23.95,"321.8","48 pp.",{"$f":"Table1[[#This Row],['# Books]]*Table1[[#This Row],[QTY]]","v":0},{"$f":"Table1[[#This Row],[QTY]]*Table1[[#This Row],[S&L Price]]","v":0}]
[null,176,null,"Understanding Political Systems",1,"What Is a Democracy?","eBook",null,"978-1-4824-0308-4",2014,"January 2014",null,null,"Author","Robyn Hardyman",null,null,60,null,"X",null,"Grade 6 - 8","Grade 6 - 8","If you live in the United States, you have a good idea of what a democracy is. However, there are many different kinds of democracy throughout the world. From the Roman republics to American democracy, this type of government has grown and changed for centuries. Find out more about democracy, which countries use it to govern, and learn some positives and negatives about this type of government.    • Accessible, \"in the news\", and relevant subject matter • Complements social studies curriculum • Sidebars, photographs, and captions clarify ideas within text • Conclusion summary chapter reinforces understanding of each ideology  ","English",31.95,23.95,"321.8","48 pp.",{"$f":"Table1[[#This Row],['# Books]]*Table1[[#This Row],[QTY]]","v":0},{"$f":"Table1[[#This Row],[QTY]]*Table1[[#This Row],[S&L Price]]","v":0}]
[null,176,null,"Understanding Political Systems",1,"What Is a Dictatorship?","Library Bound Book",null,"978-1-4824-0310-7",2014,"January 2014","Library","8.000 X 10.00","Author","Nick Hunter",null,null,60,null,"X",null,"Grade 6 - 8","Grade 6 - 8","The rise of a dictator never happens the same way. Dictators have absolute power over a country, but how they obtain that power and what they use it for makes this form of government one of the most interesting political systems in the world. Discover the harsh governments of dictators around the world and learn how ancient dictatorships have influenced modern leaders who rule with an iron fist.    • Accessible, \"in the news\", and relevant subject matter • Complements social studies curriculum • Sidebars, photographs, and captions clarify ideas within text • Conclusion summary chapter reinforces understanding of each ideology  ","English",31.95,23.95,"321.9","48 pp.",{"$f":"Table1[[#This Row],['# Books]]*Table1[[#This Row],[QTY]]","v":0},{"$f":"Table1[[#This Row],[QTY]]*Table1[[#This Row],[S&L Price]]","v":0}]
[null,176,null,"Understanding Political Systems",1,"What Is a Dictatorship?","eBook",null,"978-1-4824-0312-1",2014,"January 2014",null,null,"Author","Nick Hunter",null,null,60,null,"X",null,"Grade 6 - 8","Grade 6 - 8","The rise of a dictator never happens the same way. Dictators have absolute power over a country, but how they obtain that power and what they use it for makes this form of government one of the most interesting political systems in the world. Discover the harsh governments of dictators around the world and learn how ancient dictatorships have influenced modern leaders who rule with an iron fist.    • Accessible, \"in the news\", and relevant subject matter • Complements social studies curriculum • Sidebars, photographs, and captions clarify ideas within text • Conclusion summary chapter reinforces understanding of each ideology  ","English",31.95,23.95,"321.9","48 pp.",{"$f":"Table1[[#This Row],['# Books]]*Table1[[#This Row],[QTY]]","v":0},{"$f":"Table1[[#This Row],[QTY]]*Table1[[#This Row],[S&L Price]]","v":0}]
[null,176,null,"Understanding Political Systems",1,"What Is a Monarchy?","Library Bound Book",null,"978-1-4824-0314-5",2014,"January 2014","Library","8.000 X 10.00","Author","Robyn Hardyman",null,null,60,null,"X",null,"Grade 6 - 8","Grade 6 - 8","Monarchies have a king or a queen in charge of a country, but there’s much more to a monarchy than who is in charge. Find out which countries have a monarchy in place and how the system of government has evolved over time. Who once had a monarch in charge? How does power change hands? Who is eligible to be king or queen? All these questions and more are answered in this engaging book.    • Accessible, \"in the news\", and relevant subject matter • Complements social studies curriculum • Sidebars, photographs, and captions clarify ideas within text • Conclusion summary chapter reinforces understanding of each ideology  ","English",31.95,23.95,"321","24 pp.",{"$f":"Table1[[#This Row],['# Books]]*Table1[[#This Row],[QTY]]","v":0},{"$f":"Table1[[#This Row],[QTY]]*Table1[[#This Row],[S&L Price]]","v":0}]
[null,176,null,"Understanding Political Systems",1,"What Is a Monarchy?","eBook",null,"978-1-4824-6520-4",2014,"January 2014",null,null,"Author","Robyn Hardyman",null,null,60,null,"X",null,"Grade 6 - 8","Grade 6 - 8","Monarchies have a king or a queen in charge of a country, but there’s much more to a monarchy than who is in charge. Find out which countries have a monarchy in place and how the system of government has evolved over time. Who once had a monarch in charge? How does power change hands? Who is eligible to be king or queen? All these questions and more are answered in this engaging book.    • Accessible, \"in the news\", and relevant subject matter • Complements social studies curriculum • Sidebars, photographs, and captions clarify ideas within text • Conclusion summary chapter reinforces understanding of each ideology  ","English",31.95,23.95,"321","24 pp.",{"$f":"Table1[[#This Row],['# Books]]*Table1[[#This Row],[QTY]]","v":0},{"$f":"Table1[[#This Row],[QTY]]*Table1[[#This Row],[S&L Price]]","v":0}]
[null,176,null,"Understanding Political Systems",1,"What Is a Parliamentary Government?","Library Bound Book",null,"978-1-4824-0317-6",2014,"January 2014","Library","8.000 X 10.00","Author","Karen Latchana Kenney",null,null,60,null,"X",null,"Grade 6 - 8","Grade 6 - 8","Britain has a monarch and a prime minister. Who’s in charge of the island? A parliamentary system of government is both similar and very different from democracy in the United States. Using historical text and primary sources discover how governments around the world balance a king or queen with a legislative branch. Learn how the parliament is elected, and how a bill becomes a law in the UK. Readers will better understand world news after diving into the often-complex world of political systems.    • Accessible, \"in the news\", and relevant subject matter • Complements social studies curriculum • Sidebars, photographs, and captions clarify ideas within text • Conclusion summary chapter reinforces understanding of each ideology  ","English",31.95,23.95,"328","24 pp.",{"$f":"Table1[[#This Row],['# Books]]*Table1[[#This Row],[QTY]]","v":0},{"$f":"Table1[[#This Row],[QTY]]*Table1[[#This Row],[S&L Price]]","v":0}]
[null,176,null,"Understanding Political Systems",1,"What Is a Parliamentary Government?","eBook",null,"978-1-4824-6521-1",2014,"January 2014",null,null,"Author","Karen Latchana Kenney",null,null,60,null,"X",null,"Grade 6 - 8","Grade 6 - 8","Britain has a monarch and a prime minister. Who’s in charge of the island? A parliamentary system of government is both similar and very different from democracy in the United States. Using historical text and primary sources discover how governments around the world balance a king or queen with a legislative branch. Learn how the parliament is elected, and how a bill becomes a law in the UK. Readers will better understand world news after diving into the often-complex world of political systems.    • Accessible, \"in the news\", and relevant subject matter • Complements social studies curriculum • Sidebars, photographs, and captions clarify ideas within text • Conclusion summary chapter reinforces understanding of each ideology  ","English",31.95,23.95,"328","24 pp.",{"$f":"Table1[[#This Row],['# Books]]*Table1[[#This Row],[QTY]]","v":0},{"$f":"Table1[[#This Row],[QTY]]*Table1[[#This Row],[S&L Price]]","v":0}]
[null,176,null,"Understanding Political Systems",1,"What Is Communism?","Library Bound Book",null,"978-1-4824-0319-0",2014,"January 2014","Library","8.000 X 10.00","Author","Karen Latchana Kenney",null,null,60,null,"X",null,"Grade 6 - 8","Grade 6 - 8","When people think of communism, they think of the former Soviet Union. The Red Square is no longer the centerpiece for communism in the world, but its impact still looms large in global politics today. Find out about communism around the world, including what communists feel government should do and what countries use communism today. This book also explores the positive and negative impact communism has had on people around the world.    • Accessible, \"in the news\", and relevant subject matter • Complements social studies curriculum • Sidebars, photographs, and captions clarify ideas within text • Conclusion summary chapter reinforces understanding of each ideology  ","English",31.95,23.95,"321.9","24 pp.",{"$f":"Table1[[#This Row],['# Books]]*Table1[[#This Row],[QTY]]","v":0},{"$f":"Table1[[#This Row],[QTY]]*Table1[[#This Row],[S&L Price]]","v":0}]
[null,176,null,"Understanding Political Systems",1,"What Is Communism?","eBook",null,"978-1-4824-6522-8",2014,"January 2014",null,null,"Author","Karen Latchana Kenney",null,null,60,null,"X",null,"Grade 6 - 8","Grade 6 - 8","When people think of communism, they think of the former Soviet Union. The Red Square is no longer the centerpiece for communism in the world, but its impact still looms large in global politics today. Find out about communism around the world, including what communists feel government should do and what countries use communism today. This book also explores the positive and negative impact communism has had on people around the world.    • Accessible, \"in the news\", and relevant subject matter • Complements social studies curriculum • Sidebars, photographs, and captions clarify ideas within text • Conclusion summary chapter reinforces understanding of each ideology  ","English",31.95,23.95,"321.9","24 pp.",{"$f":"Table1[[#This Row],['# Books]]*Table1[[#This Row],[QTY]]","v":0},{"$f":"Table1[[#This Row],[QTY]]*Table1[[#This Row],[S&L Price]]","v":0}]
[null,176,null,"Understanding Political Systems",1,"What Is Socialism?","Library Bound Book",null,"978-1-4824-0321-3",2014,"January 2014","Library","8.000 X 10.00","Author","Nick Hunter",null,null,60,null,"X",null,"Grade 6 - 8","Grade 6 - 8","Socialism has its roots in ancient philosophy, but just what does a socialist want in a government? Learn more about socialism and its many forms while exploring the successes and failures of countries who have embraced socialism throughout history. Using various governments as examples, find out if you support socialist ideas and learn how socialism has impacted the United States and other countries such as Canada, Venezuela, and Poland.    • Accessible, \"in the news\", and relevant subject matter • Complements social studies curriculum • Sidebars, photographs, and captions clarify ideas within text • Conclusion summary chapter reinforces understanding of each ideology  ","English",31.95,23.95,"320.53","24 pp.",{"$f":"Table1[[#This Row],['# Books]]*Table1[[#This Row],[QTY]]","v":0},{"$f":"Table1[[#This Row],[QTY]]*Table1[[#This Row],[S&L Price]]","v":0}]
[null,176,null,"Understanding Political Systems",1,"What Is Socialism?","eBook",null,"978-1-4824-6523-5",2014,"January 2014",null,null,"Author","Nick Hunter",null,null,60,null,"X",null,"Grade 6 - 8","Grade 6 - 8","Socialism has its roots in ancient philosophy, but just what does a socialist want in a government? Learn more about socialism and its many forms while exploring the successes and failures of countries who have embraced socialism throughout history. Using various governments as examples, find out if you support socialist ideas and learn how socialism has impacted the United States and other countries such as Canada, Venezuela, and Poland.    • Accessible, \"in the news\", and relevant subject matter • Complements social studies curriculum • Sidebars, photographs, and captions clarify ideas within text • Conclusion summary chapter reinforces understanding of each ideology  ","English",31.95,23.95,"320.53","24 pp.",{"$f":"Table1[[#This Row],['# Books]]*Table1[[#This Row],[QTY]]","v":0},{"$f":"Table1[[#This Row],[QTY]]*Table1[[#This Row],[S&L Price]]","v":0}]
[null,176,null,"On the Team",1,"Baseball","Library Bound Book",null,"978-1-4339-6432-9",2012,"January 2012","Library","8.500 X 8.500","Author","Mason Burdick",4.2,0.5,18,20,"L",null,"Grade 2 - 3","Grade 2 - 5","As “America’s pastime,” baseball is played in towns and cities across the United States. It has even spread to countries around the globe. This book is a perfect resource for readers who want to learn to play this exciting game. Those who already play baseball are sure to love it, too. Colorful diagrams and images of kids playing baseball help readers understand this historic game.","English",22.6,16.95,"796.357","24 pp.",{"$f":"Table1[[#This Row],['# Books]]*Table1[[#This Row],[QTY]]","v":0},{"$f":"Table1[[#This Row],[QTY]]*Table1[[#This Row],[S&L Price]]","v":0}]
[null,176,null,"On the Team",1,"Baseball","eBook",null,"978-1-4339-6433-6",2012,"January 2012",null,null,"Author","Mason Burdick",4.2,0.5,18,20,"L",null,"Grade 2 - 3","Grade 2 - 5","As “America’s pastime,” baseball is played in towns and cities across the United States. It has even spread to countries around the globe. This book is a perfect resource for readers who want to learn to play this exciting game. Those who already play baseball are sure to love it, too. Colorful diagrams and images of kids playing baseball help readers understand this historic game.","English",22.6,16.95,"796.357","24 pp.",{"$f":"Table1[[#This Row],['# Books]]*Table1[[#This Row],[QTY]]","v":0},{"$f":"Table1[[#This Row],[QTY]]*Table1[[#This Row],[S&L Price]]","v":0}]
[null,176,null,"On the Team",1,"Basketball","Library Bound Book",null,"978-1-4339-6436-7",2012,"January 2012","Library","8.500 X 8.500","Author","James Wyatt",4.3,0.5,18,20,"L",null,"Grade 2 - 3","Grade 2 - 5","Basketball players make fast breaks, shoot three-pointers, grab rebounds, and slam dunk. It’s an exciting team sport, and just about anyone can play it. In this book, readers learn the basics of basketball and discover a little about its origins. Colorful photographs of kids on the court help readers get the most from this informative guidebook.","English",22.6,16.95,"796.323","24 pp.",{"$f":"Table1[[#This Row],['# Books]]*Table1[[#This Row],[QTY]]","v":0},{"$f":"Table1[[#This Row],[QTY]]*Table1[[#This Row],[S&L Price]]","v":0}]
[null,176,null,"On the Team",1,"Basketball","eBook",null,"978-1-4339-6437-4",2012,"January 2012",null,null,"Author","James Wyatt",4.3,0.5,18,20,"L",null,"Grade 2 - 3","Grade 2 - 5","Basketball players make fast breaks, shoot three-pointers, grab rebounds, and slam dunk. It’s an exciting team sport, and just about anyone can play it. In this book, readers learn the basics of basketball and discover a little about its origins. Colorful photographs of kids on the court help readers get the most from this informative guidebook.","English",22.6,16.95,"796.323","24 pp.",{"$f":"Table1[[#This Row],['# Books]]*Table1[[#This Row],[QTY]]","v":0},{"$f":"Table1[[#This Row],[QTY]]*Table1[[#This Row],[S&L Price]]","v":0}]
[null,176,null,"On the Team",1,"Football","Library Bound Book",null,"978-1-4339-6440-4",2012,"January 2012","Library","8.500 X 8.500","Author","James Wyatt",4.5,0.5,18,20,"L",null,"Grade 2 - 3","Grade 2 - 5","Whether you’re playing for your school or just enjoying a game with your friends, football requires teamwork. This book covers the basic positions and rules of football and a little about its history. Action photographs and informative diagrams take readers onto the gridiron, placing them in the middle of the action.","English",22.6,16.95,"796.332","24 pp.",{"$f":"Table1[[#This Row],['# Books]]*Table1[[#This Row],[QTY]]","v":0},{"$f":"Table1[[#This Row],[QTY]]*Table1[[#This Row],[S&L Price]]","v":0}]
[null,176,null,"On the Team",1,"Football","eBook",null,"978-1-4339-6441-1",2012,"January 2012",null,null,"Author","James Wyatt",4.5,0.5,18,20,"L",null,"Grade 2 - 3","Grade 2 - 5","Whether you’re playing for your school or just enjoying a game with your friends, football requires teamwork. This book covers the basic positions and rules of football and a little about its history. Action photographs and informative diagrams take readers onto the gridiron, placing them in the middle of the action.","English",22.6,16.95,"796.332","24 pp.",{"$f":"Table1[[#This Row],['# Books]]*Table1[[#This Row],[QTY]]","v":0},{"$f":"Table1[[#This Row],[QTY]]*Table1[[#This Row],[S&L Price]]","v":0}]
[null,176,null,"On the Team",1,"Hockey","Library Bound Book",null,"978-1-4339-6448-0",2012,"January 2012","Library","8.500 X 8.500","Author","Greg Roza",4.4000000000000004,0.5,18,20,"L",null,"Grade 2 - 3","Grade 2 - 5","Fast skating, quick passes, hard checks, and exciting goals—that’s what hockey is all about. Readers learn what it takes to make it on a hockey team, with information covering positions, offense, defense, and the rink itself. Action packed photographs and colorful diagrams help readers understand the basics of this sport.","English",22.6,16.95,"796.962","24 pp.",{"$f":"Table1[[#This Row],['# Books]]*Table1[[#This Row],[QTY]]","v":0},{"$f":"Table1[[#This Row],[QTY]]*Table1[[#This Row],[S&L Price]]","v":0}]
[null,176,null,"On the Team",1,"Hockey","eBook",null,"978-1-4339-6449-7",2012,"January 2012",null,null,"Author","Greg Roza",4.4000000000000004,0.5,18,20,"L",null,"Grade 2 - 3","Grade 2 - 5","Fast skating, quick passes, hard checks, and exciting goals—that’s what hockey is all about. Readers learn what it takes to make it on a hockey team, with information covering positions, offense, defense, and the rink itself. Action packed photographs and colorful diagrams help readers understand the basics of this sport.","English",22.6,16.95,"796.962","24 pp.",{"$f":"Table1[[#This Row],['# Books]]*Table1[[#This Row],[QTY]]","v":0},{"$f":"Table1[[#This Row],[QTY]]*Table1[[#This Row],[S&L Price]]","v":0}]
[null,176,null,"On the Team",1,"Soccer","Library Bound Book",null,"978-1-4339-6452-7",2012,"January 2012","Library","8.500 X 8.500","Author","Mason Burdick",4.5999999999999996,0.5,18,20,"L",null,"Grade 2 - 3","Grade 2 - 5","Soccer is one of the world’s most popular team sports for several reasons. These include skillful players, roaring crowds, and exciting goals. Open this volume and learn all about soccer, including its history, positions, skills, and rules. Readers are sure to be engaged by colorful photographs and diagrams that help fully understand this exciting team sport.","English",22.6,16.95,"796.334","24 pp.",{"$f":"Table1[[#This Row],['# Books]]*Table1[[#This Row],[QTY]]","v":0},{"$f":"Table1[[#This Row],[QTY]]*Table1[[#This Row],[S&L Price]]","v":0}]
[null,176,null,"On the Team",1,"Soccer","eBook",null,"978-1-4339-6453-4",2012,"January 2012",null,null,"Author","Mason Burdick",4.5999999999999996,0.5,18,20,"L",null,"Grade 2 - 3","Grade 2 - 5","Soccer is one of the world’s most popular team sports for several reasons. These include skillful players, roaring crowds, and exciting goals. Open this volume and learn all about soccer, including its history, positions, skills, and rules. Readers are sure to be engaged by colorful photographs and diagrams that help fully understand this exciting team sport.","English",22.6,16.95,"796.334","24 pp.",{"$f":"Table1[[#This Row],['# Books]]*Table1[[#This Row],[QTY]]","v":0},{"$f":"Table1[[#This Row],[QTY]]*Table1[[#This Row],[S&L Price]]","v":0}]
[null,176,null,"The Great Outdoors",1,"Camping","Library Bound Book",null,"978-1-4339-7087-0",2013,"August 2012","Library","8.500 X 8.500","Author","Adeline Snyder",4.2,0.5,34,26,"M","820L","Grade 2 - 3","Grade 2 - 5","When a person sleeps under the stars, away from city lights and noises, the world seems so much larger. Readers will discover the many benefits of camping and learn about outdoor skills, including observing different kinds of wildlife and cooking a meal over a fire. They will also read about a variety of equipment used for camping such as tents and sleeping bags. Readers will be prepared, and excited, for their own outdoor adventure—even if it takes place in their backyard.","English",22.6,16.95,"796.54","24 pp.",{"$f":"Table1[[#This Row],['# Books]]*Table1[[#This Row],[QTY]]","v":0},{"$f":"Table1[[#This Row],[QTY]]*Table1[[#This Row],[S&L Price]]","v":0}]
[null,176,null,"The Great Outdoors",1,"Camping","eBook",null,"978-1-4339-7090-0",2013,"August 2012",null,null,"Author","Adeline Snyder",4.2,0.5,34,26,"M","820L","Grade 2 - 3","Grade 2 - 5","When a person sleeps under the stars, away from city lights and noises, the world seems so much larger. Readers will discover the many benefits of camping and learn about outdoor skills, including observing different kinds of wildlife and cooking a meal over a fire. They will also read about a variety of equipment used for camping such as tents and sleeping bags. Readers will be prepared, and excited, for their own outdoor adventure—even if it takes place in their backyard.","English",22.6,16.95,"796.54","24 pp.",{"$f":"Table1[[#This Row],['# Books]]*Table1[[#This Row],[QTY]]","v":0},{"$f":"Table1[[#This Row],[QTY]]*Table1[[#This Row],[S&L Price]]","v":0}]
[null,176,null,"The Great Outdoors",1,"Caving","Library Bound Book",null,"978-1-4339-7091-7",2013,"August 2012","Library","8.500 X 8.500","Author","Maeve T. Sisk",4.5,0.5,34,26,"M","810L","Grade 2 - 3","Grade 2 - 5","Caves are one of the least explored places left on Earth, even though many caves are open to the public. Usually for a small fee, anyone can don a hardhat and step into an area that may be thousands of years in the making. Other caves are much harder to find and explore safely. Readers will learn about the adventure and danger involved in caving, and spelunking. They will also discover the science behind caves, including mineral formations and wildlife. Stunning photographs engage readers and provide a sense of what being a spelunker is like.","English",22.6,16.95,"796.52","24 pp.",{"$f":"Table1[[#This Row],['# Books]]*Table1[[#This Row],[QTY]]","v":0},{"$f":"Table1[[#This Row],[QTY]]*Table1[[#This Row],[S&L Price]]","v":0}]
[null,176,null,"The Great Outdoors",1,"Caving","eBook",null,"978-1-4339-7094-8",2013,"August 2012",null,null,"Author","Maeve T. Sisk",4.5,0.5,34,26,"M","810L","Grade 2 - 3","Grade 2 - 5","Caves are one of the least explored places left on Earth, even though many caves are open to the public. Usually for a small fee, anyone can don a hardhat and step into an area that may be thousands of years in the making. Other caves are much harder to find and explore safely. Readers will learn about the adventure and danger involved in caving, and spelunking. They will also discover the science behind caves, including mineral formations and wildlife. Stunning photographs engage readers and provide a sense of what being a spelunker is like.","English",22.6,16.95,"796.52","24 pp.",{"$f":"Table1[[#This Row],['# Books]]*Table1[[#This Row],[QTY]]","v":0},{"$f":"Table1[[#This Row],[QTY]]*Table1[[#This Row],[S&L Price]]","v":0}]
[null,176,null,"The Great Outdoors",1,"Fishing","Library Bound Book",null,"978-1-4339-7095-5",2013,"August 2012","Library","8.500 X 8.500","Author","E. T. Weingarten",4.2,0.5,34,26,"M","850L","Grade 2 - 3","Grade 2 - 5","Whether someone has been fishing for years or has just taken up the hobby, anyone can catch a fish with the right gear. Readers will learn about the variety of fishing tackle used for different types of fishing. They will also discover why fishing is such a popular sport all over the world. They will be introduced to the problem of overfishing and what is being done to combat it. Fun fact boxes add to the text, while vivid photographs support reader comprehension.","English",22.6,16.95,"639.2","32 pp.",{"$f":"Table1[[#This Row],['# Books]]*Table1[[#This Row],[QTY]]","v":0},{"$f":"Table1[[#This Row],[QTY]]*Table1[[#This Row],[S&L Price]]","v":0}]
[null,176,null,"The Great Outdoors",1,"Fishing","eBook",null,"978-1-4339-7098-6",2013,"August 2012",null,null,"Author","E. T. Weingarten",4.2,0.5,34,26,"M","850L","Grade 2 - 3","Grade 2 - 5","Whether someone has been fishing for years or has just taken up the hobby, anyone can catch a fish with the right gear. Readers will learn about the variety of fishing tackle used for different types of fishing. They will also discover why fishing is such a popular sport all over the world. They will be introduced to the problem of overfishing and what is being done to combat it. Fun fact boxes add to the text, while vivid photographs support reader comprehension.","English",22.6,16.95,"639.2","32 pp.",{"$f":"Table1[[#This Row],['# Books]]*Table1[[#This Row],[QTY]]","v":0},{"$f":"Table1[[#This Row],[QTY]]*Table1[[#This Row],[S&L Price]]","v":0}]
[null,176,null,"The Great Outdoors",1,"Hunting","Library Bound Book",null,"978-1-4339-7099-3",2013,"August 2012","Library","8.500 X 8.500","Author","Robert Kennedy Shea",4.3,0.5,34,26,"M","850L","Grade 2 - 3","Grade 2 - 5","For thousands of years, people had to hunt and gather their food for survival. Readers discover a variety of ways to hunt, along with the many kinds of game hunted. Readers will learn why rifles are used rather than shotguns in some instances, and why other hunters use bows and arrows. Readers will also learn the important steps hunters take to stay safe as well as to prevent the overhunting of animals. Though sometimes controversial, hunting will continue to be a pastime for years to come.","English",22.6,16.95,"799.2","32 pp.",{"$f":"Table1[[#This Row],['# Books]]*Table1[[#This Row],[QTY]]","v":0},{"$f":"Table1[[#This Row],[QTY]]*Table1[[#This Row],[S&L Price]]","v":0}]
[null,176,null,"The Great Outdoors",1,"Hunting","eBook",null,"978-1-4339-7102-0",2013,"August 2012",null,null,"Author","Robert Kennedy Shea",4.3,0.5,34,26,"M","850L","Grade 2 - 3","Grade 2 - 5","For thousands of years, people had to hunt and gather their food for survival. Readers discover a variety of ways to hunt, along with the many kinds of game hunted. Readers will learn why rifles are used rather than shotguns in some instances, and why other hunters use bows and arrows. Readers will also learn the important steps hunters take to stay safe as well as to prevent the overhunting of animals. Though sometimes controversial, hunting will continue to be a pastime for years to come.","English",22.6,16.95,"799.2","32 pp.",{"$f":"Table1[[#This Row],['# Books]]*Table1[[#This Row],[QTY]]","v":0},{"$f":"Table1[[#This Row],[QTY]]*Table1[[#This Row],[S&L Price]]","v":0}]
[null,176,null,"The Great Outdoors",1,"Kayaking and Rafting","Library Bound Book",null,"978-1-4339-7103-7",2013,"August 2012","Library","8.500 X 8.500","Author","R.P. Harasymiw",4.3,0.5,34,26,"M","880L","Grade 2 - 3","Grade 2 - 5","Readers will be constantly engaged as they uncover what it means to \"shoot the rapids.\" Kayaking and rafting may seem like simple activities, but it takes a lot of know-how to successfully navigate a river. Readers learn the to discern between a sea kayak and a whitewater kayak. Amidst the adventure, they review how to perform a roll, to regain safety, if they flip over.","English",22.6,16.95,"797.1","32 pp.",{"$f":"Table1[[#This Row],['# Books]]*Table1[[#This Row],[QTY]]","v":0},{"$f":"Table1[[#This Row],[QTY]]*Table1[[#This Row],[S&L Price]]","v":0}]
[null,176,null,"The Great Outdoors",1,"Kayaking and Rafting","eBook",null,"978-1-4339-7106-8",2013,"August 2012",null,null,"Author","R.P. Harasymiw",4.3,0.5,34,26,"M","880L","Grade 2 - 3","Grade 2 - 5","Readers will be constantly engaged as they uncover what it means to \"shoot the rapids.\" Kayaking and rafting may seem like simple activities, but it takes a lot of know-how to successfully navigate a river. Readers learn the to discern between a sea kayak and a whitewater kayak. Amidst the adventure, they review how to perform a roll, to regain safety, if they flip over.","English",22.6,16.95,"797.1","32 pp.",{"$f":"Table1[[#This Row],['# Books]]*Table1[[#This Row],[QTY]]","v":0},{"$f":"Table1[[#This Row],[QTY]]*Table1[[#This Row],[S&L Price]]","v":0}]
[null,176,null,"The Great Outdoors",1,"Rock Climbing","Library Bound Book",null,"978-1-4339-7107-5",2013,"August 2012","Library","8.500 X 8.500","Author","A. J. Weingarten",4.3,0.5,34,26,"M","800L","Grade 2 - 3","Grade 2 - 5","Rock climbers use every muscle in their body to inch their way to the top of cliffs and mountains. Some, more adventurous climbers do not even use a rope. Readers explore different kinds of rock climbing, both indoors and out. They learn about gear and methods that rock-climbing teams implement to complete a climb successfully. A graphic organizer explains how different climbing surfaces are rated according to their level of difficulty. The photographs that accompany the text inspire and engage readers at all levels.","English",22.6,16.95,"796.522","32 pp.",{"$f":"Table1[[#This Row],['# Books]]*Table1[[#This Row],[QTY]]","v":0},{"$f":"Table1[[#This Row],[QTY]]*Table1[[#This Row],[S&L Price]]","v":0}]
[null,176,null,"The Great Outdoors",1,"Rock Climbing","eBook",null,"978-1-4339-7110-5",2013,"August 2012",null,null,"Author","A. J. Weingarten",4.3,0.5,34,26,"M","800L","Grade 2 - 3","Grade 2 - 5","Rock climbers use every muscle in their body to inch their way to the top of cliffs and mountains. Some, more adventurous climbers do not even use a rope. Readers explore different kinds of rock climbing, both indoors and out. They learn about gear and methods that rock-climbing teams implement to complete a climb successfully. A graphic organizer explains how different climbing surfaces are rated according to their level of difficulty. The photographs that accompany the text inspire and engage readers at all levels.","English",22.6,16.95,"796.522","32 pp.",{"$f":"Table1[[#This Row],['# Books]]*Table1[[#This Row],[QTY]]","v":0},{"$f":"Table1[[#This Row],[QTY]]*Table1[[#This Row],[S&L Price]]","v":0}]
[null,176,null,"Let's Get Moving!",1,"You Can Be a Dancer","Library Bound Book",null,"978-1-4824-0271-1",2014,"January 2014","Library","8.000 X 10.00","Author","Alix Wood",null,null,38,24,"P",null,"Grade 3 - 4","Grade 3 - 5","Music videos, reality shows, and Broadway musicals all employ talented dancers that can move to the music. These dancers all spent many years practicing and perfecting good dance technique, and possibly took classes in many genres, including ballet, jazz, tap, and hip-hop. Through an introduction to each of the different styles of dance, readers can choose which they’d be most interested in. Then, they can follow full-color photographs and detailed explanations to learn a move or two! From a shuffle hop step to a demi-plié, readers will be ready to dance in no time!","English",26.6,19.95,"792.8","32 pp.",{"$f":"Table1[[#This Row],['# Books]]*Table1[[#This Row],[QTY]]","v":0},{"$f":"Table1[[#This Row],[QTY]]*Table1[[#This Row],[S&L Price]]","v":0}]
[null,176,null,"Let's Get Moving!",1,"You Can Be a Dancer","eBook",null,"978-1-4824-0273-5",2014,"January 2014",null,null,"Author","Alix Wood",null,null,38,24,"P",null,"Grade 3 - 4","Grade 3 - 5","Music videos, reality shows, and Broadway musicals all employ talented dancers that can move to the music. These dancers all spent many years practicing and perfecting good dance technique, and possibly took classes in many genres, including ballet, jazz, tap, and hip-hop. Through an introduction to each of the different styles of dance, readers can choose which they’d be most interested in. Then, they can follow full-color photographs and detailed explanations to learn a move or two! From a shuffle hop step to a demi-plié, readers will be ready to dance in no time!","English",26.6,19.95,"792.8","32 pp.",{"$f":"Table1[[#This Row],['# Books]]*Table1[[#This Row],[QTY]]","v":0},{"$f":"Table1[[#This Row],[QTY]]*Table1[[#This Row],[S&L Price]]","v":0}]
[null,176,null,"Let's Get Moving!",1,"You Can Be a Gymnast","Library Bound Book",null,"978-1-4824-0275-9",2014,"January 2014","Library","8.000 X 10.00","Author","Alix Wood",null,null,38,24,"P",null,"Grade 3 - 4","Grade 3 - 5","In order to compete high on the rings, flip through the air, and doing walking handstands on the beam, gymnasts have to be strong, flexible, and confident. With lots of practice and help from a coach and spotter, readers can learn to execute splits, L-sits, and other cool gymnastics moves by following an informative step-by-step guide. Colorful photos and helpful tips remind even seasoned gymnasts of important technical points. Readers new to the sport will see moves so cool, they’ll want to join a gym and try them right away!","English",26.6,19.95,"796.44","32 pp.",{"$f":"Table1[[#This Row],['# Books]]*Table1[[#This Row],[QTY]]","v":0},{"$f":"Table1[[#This Row],[QTY]]*Table1[[#This Row],[S&L Price]]","v":0}]
[null,176,null,"Let's Get Moving!",1,"You Can Be a Gymnast","eBook",null,"978-1-4824-0277-3",2014,"January 2014",null,null,"Author","Alix Wood",null,null,38,24,"P",null,"Grade 3 - 4","Grade 3 - 5","In order to compete high on the rings, flip through the air, and doing walking handstands on the beam, gymnasts have to be strong, flexible, and confident. With lots of practice and help from a coach and spotter, readers can learn to execute splits, L-sits, and other cool gymnastics moves by following an informative step-by-step guide. Colorful photos and helpful tips remind even seasoned gymnasts of important technical points. Readers new to the sport will see moves so cool, they’ll want to join a gym and try them right away!","English",26.6,19.95,"796.44","32 pp.",{"$f":"Table1[[#This Row],['# Books]]*Table1[[#This Row],[QTY]]","v":0},{"$f":"Table1[[#This Row],[QTY]]*Table1[[#This Row],[S&L Price]]","v":0}]
[null,176,null,"Let's Get Moving!",1,"You Can Be a Martial Artist","Library Bound Book",null,"978-1-4824-0279-7",2014,"January 2014","Library","8.000 X 10.00","Author","Alix Wood",null,null,38,24,"P",null,"Grade 3 - 4","Grade 3 - 5","Learning marital arts requires both mental and physical fitness. Those who practice karate, jujitsu, kung fu, and other martial arts spend time learning self-defense, but they also learn discipline, patience, and concentration. Full-color photographs and detailed explanations introduce readers to the basic principles behind several kinds of martial arts, including tae kwon do and judo. Step-by-step instructions teach simple moves, such as snap kicks and hammerfist strikes. Newcomers to martial arts will find the text informative and helpful while those already practicing can revisit important stances and moves to enhance their future performance.","English",26.6,19.95,"796.8","48 pp.",{"$f":"Table1[[#This Row],['# Books]]*Table1[[#This Row],[QTY]]","v":0},{"$f":"Table1[[#This Row],[QTY]]*Table1[[#This Row],[S&L Price]]","v":0}]
[null,176,null,"Let's Get Moving!",1,"You Can Be a Martial Artist","eBook",null,"978-1-4824-0281-0",2014,"January 2014",null,null,"Author","Alix Wood",null,null,38,24,"P",null,"Grade 3 - 4","Grade 3 - 5","Learning marital arts requires both mental and physical fitness. Those who practice karate, jujitsu, kung fu, and other martial arts spend time learning self-defense, but they also learn discipline, patience, and concentration. Full-color photographs and detailed explanations introduce readers to the basic principles behind several kinds of martial arts, including tae kwon do and judo. Step-by-step instructions teach simple moves, such as snap kicks and hammerfist strikes. Newcomers to martial arts will find the text informative and helpful while those already practicing can revisit important stances and moves to enhance their future performance.","English",26.6,19.95,"796.8","48 pp.",{"$f":"Table1[[#This Row],['# Books]]*Table1[[#This Row],[QTY]]","v":0},{"$f":"Table1[[#This Row],[QTY]]*Table1[[#This Row],[S&L Price]]","v":0}]
[null,176,null,"Let's Get Moving!",1,"You Can Be a Swimmer","Library Bound Book",null,"978-1-4824-0287-2",2014,"January 2014","Library","8.000 X 10.00","Author","Alix Wood",null,null,38,24,"P",null,"Grade 3 - 4","Grade 3 - 5","Swimming is a popular competitive sport and part of other competitive sports like diving, water polo, and synchronized swimming. In addition to being fun and a great way to keep fit, swimming is an important life skill. Good swimmers can help save lives as lifeguards and in water rescue situations! The main text takes readers through the motions of all the strokes, including the fast front crawl. Photographs accompany step-by-step instructions on how the arms and legs move and how to breathe while moving through the water. Tips and tricks to better flip turns and dives will help all swimmers, from experienced to novice.","English",26.6,19.95,"797.2","48 pp.",{"$f":"Table1[[#This Row],['# Books]]*Table1[[#This Row],[QTY]]","v":0},{"$f":"Table1[[#This Row],[QTY]]*Table1[[#This Row],[S&L Price]]","v":0}]
[null,176,null,"Let's Get Moving!",1,"You Can Be a Swimmer","eBook",null,"978-1-4824-0289-6",2014,"January 2014",null,null,"Author","Alix Wood",null,null,38,24,"P",null,"Grade 3 - 4","Grade 3 - 5","Swimming is a popular competitive sport and part of other competitive sports like diving, water polo, and synchronized swimming. In addition to being fun and a great way to keep fit, swimming is an important life skill. Good swimmers can help save lives as lifeguards and in water rescue situations! The main text takes readers through the motions of all the strokes, including the fast front crawl. Photographs accompany step-by-step instructions on how the arms and legs move and how to breathe while moving through the water. Tips and tricks to better flip turns and dives will help all swimmers, from experienced to novice.","English",26.6,19.95,"797.2","48 pp.",{"$f":"Table1[[#This Row],['# Books]]*Table1[[#This Row],[QTY]]","v":0},{"$f":"Table1[[#This Row],[QTY]]*Table1[[#This Row],[S&L Price]]","v":0}]
[null,176,null,"Let's Get Moving!",1,"You Can Be an Ice-Skater","Library Bound Book",null,"978-1-4824-0283-4",2014,"January 2014","Library","8.000 X 10.00","Author","Alix Wood",null,null,38,24,"P",null,"Grade 3 - 4","Grade 3 - 5","The Olympics are full of skating sports! Graceful figure skaters impress with jumps, speed skaters zoom around the icy track, and hockey players turn on a dime to chase down the puck. Readers will enjoy learning about different skills needed for each of these activities. With colorful photographs illustrating the postures, foot placement, and techniques needed to learn how to ice-skate, the main content shows readers what fun they can have on the ice. Ice-skating is a great way to get moving, whether in a figure 8 or guarding a hockey net!","English",26.6,19.95,"796.91","48 pp.",{"$f":"Table1[[#This Row],['# Books]]*Table1[[#This Row],[QTY]]","v":0},{"$f":"Table1[[#This Row],[QTY]]*Table1[[#This Row],[S&L Price]]","v":0}]
[null,176,null,"Let's Get Moving!",1,"You Can Be an Ice-Skater","eBook",null,"978-1-4824-0285-8",2014,"January 2014",null,null,"Author","Alix Wood",null,null,38,24,"P",null,"Grade 3 - 4","Grade 3 - 5","The Olympics are full of skating sports! Graceful figure skaters impress with jumps, speed skaters zoom around the icy track, and hockey players turn on a dime to chase down the puck. Readers will enjoy learning about different skills needed for each of these activities. With colorful photographs illustrating the postures, foot placement, and techniques needed to learn how to ice-skate, the main content shows readers what fun they can have on the ice. Ice-skating is a great way to get moving, whether in a figure 8 or guarding a hockey net!","English",26.6,19.95,"796.91","48 pp.",{"$f":"Table1[[#This Row],['# Books]]*Table1[[#This Row],[QTY]]","v":0},{"$f":"Table1[[#This Row],[QTY]]*Table1[[#This Row],[S&L Price]]","v":0}]
[null,176,null,"Let's Get Moving!",1,"You Can Do Yoga","Library Bound Book",null,"978-1-4824-0291-9",2014,"January 2014","Library","8.000 X 10.00","Author","Alix Wood",null,null,38,24,"P",null,"Grade 3 - 4","Grade 3 - 5","Regular yoga practice offers fitness benefits for the body and the mind. The meditation that’s commonly involved helps people to focus, feel calm, and even have lower blood pressure. Yoga poses increase strength, muscle tone, and flexibility. An introduction to common yoga poses will draw readers in through clear, step-by-step instructions and full-color, guiding photographs. Tips for bettering poses such as tree, cobra, and headstands offer those familiar with the practice a chance to improve and beginners an opportunity to start with good form.","English",26.6,19.95,"613.7","48 pp.",{"$f":"Table1[[#This Row],['# Books]]*Table1[[#This Row],[QTY]]","v":0},{"$f":"Table1[[#This Row],[QTY]]*Table1[[#This Row],[S&L Price]]","v":0}]
[null,176,null,"Let's Get Moving!",1,"You Can Do Yoga","eBook",null,"978-1-4824-0293-3",2014,"January 2014",null,null,"Author","Alix Wood",null,null,38,24,"P",null,"Grade 3 - 4","Grade 3 - 5","Regular yoga practice offers fitness benefits for the body and the mind. The meditation that’s commonly involved helps people to focus, feel calm, and even have lower blood pressure. Yoga poses increase strength, muscle tone, and flexibility. An introduction to common yoga poses will draw readers in through clear, step-by-step instructions and full-color, guiding photographs. Tips for bettering poses such as tree, cobra, and headstands offer those familiar with the practice a chance to improve and beginners an opportunity to start with good form.","English",26.6,19.95,"613.7","48 pp.",{"$f":"Table1[[#This Row],['# Books]]*Table1[[#This Row],[QTY]]","v":0},{"$f":"Table1[[#This Row],[QTY]]*Table1[[#This Row],[S&L Price]]","v":0}]
[null,176,null,"Incredibly Insane Sports",1,"BASE Jumping","Library Bound Book",null,"978-1-4339-8818-9",2013,"January 2013","Library","8.000 X 10.00","Author","Jessica Cohn",5.8,1,40,28,"Q",null,"Grade 4 - 5","Grade 4 - 6","BASE Jumping is the ultimate adrenaline rush. Leaping off a bridge or cliff with nothing but a parachute is thrilling, but a risk few are willing to take. Readers will dive headfirst into the world of BASE jumping through exciting and engaging text. Find out what surfaces BASE jumpers jump off of, and what risks they take for a thrill. Full-color photographs show the gravity-defying feats of BASE jumping while educating readers on the science of the sport. Interactive challenges to encourage exercise of both body and mind are also provided.","English",31.95,23.95,"796.43","48 pp.",{"$f":"Table1[[#This Row],['# Books]]*Table1[[#This Row],[QTY]]","v":0},{"$f":"Table1[[#This Row],[QTY]]*Table1[[#This Row],[S&L Price]]","v":0}]
[null,176,null,"Incredibly Insane Sports",1,"BASE Jumping","eBook",null,"978-1-4339-8821-9",2013,"January 2013",null,null,"Author","Jessica Cohn",5.8,1,40,28,"Q",null,"Grade 4 - 5","Grade 4 - 6","BASE Jumping is the ultimate adrenaline rush. Leaping off a bridge or cliff with nothing but a parachute is thrilling, but a risk few are willing to take. Readers will dive headfirst into the world of BASE jumping through exciting and engaging text. Find out what surfaces BASE jumpers jump off of, and what risks they take for a thrill. Full-color photographs show the gravity-defying feats of BASE jumping while educating readers on the science of the sport. Interactive challenges to encourage exercise of both body and mind are also provided.","English",31.95,23.95,"796.43","48 pp.",{"$f":"Table1[[#This Row],['# Books]]*Table1[[#This Row],[QTY]]","v":0},{"$f":"Table1[[#This Row],[QTY]]*Table1[[#This Row],[S&L Price]]","v":0}]
[null,176,null,"Incredibly Insane Sports",1,"BMX","Library Bound Book",null,"978-1-4339-8822-6",2013,"January 2013","Library","8.000 X 10.00","Author","Jessica Cohn",5.2,1,40,28,"Q",null,"Grade 4 - 5","Grade 4 - 6","Bicycles are a great way to get from place to place, but BMX riders are all about style. Readers will discover the high-flying world of BMX through exciting text. The history of the sport is on full display, along with its most exciting riders. Full-color photographs show the gravity-defying feats of BMX while educating readers on the science the sport. Interactive challenges, to encourage the exercise of both body and mind, are also provided.","English",31.95,23.95,"796.6","48 pp.",{"$f":"Table1[[#This Row],['# Books]]*Table1[[#This Row],[QTY]]","v":0},{"$f":"Table1[[#This Row],[QTY]]*Table1[[#This Row],[S&L Price]]","v":0}]
[null,176,null,"Incredibly Insane Sports",1,"BMX","eBook",null,"978-1-4339-8825-7",2013,"January 2013",null,null,"Author","Jessica Cohn",5.2,1,40,28,"Q",null,"Grade 4 - 5","Grade 4 - 6","Bicycles are a great way to get from place to place, but BMX riders are all about style. Readers will discover the high-flying world of BMX through exciting text. The history of the sport is on full display, along with its most exciting riders. Full-color photographs show the gravity-defying feats of BMX while educating readers on the science the sport. Interactive challenges, to encourage the exercise of both body and mind, are also provided.","English",31.95,23.95,"796.6","48 pp.",{"$f":"Table1[[#This Row],['# Books]]*Table1[[#This Row],[QTY]]","v":0},{"$f":"Table1[[#This Row],[QTY]]*Table1[[#This Row],[S&L Price]]","v":0}]
[null,176,null,"Incredibly Insane Sports",1,"Free Running","Library Bound Book",null,"978-1-4339-8826-4",2013,"January 2013","Library","8.000 X 10.00","Author","Jessica Cohn",5.5,1,40,28,"Q",null,"Grade 4 - 5","Grade 4 - 6","Where ordinary people see walls and railings, some athletes see a challenge. Readers will discover who those athletes are—free runners. Using a mix of gymnastics and running, these daring few will guide you through the history of this high-flying world. Full-color photographs show the gravity-defying feats of free running, while educating readers on the science the sport. Each book also provides interactive challenges to encourage the exercise of both body and mind.","English",31.95,23.95,"796.42","24 pp.",{"$f":"Table1[[#This Row],['# Books]]*Table1[[#This Row],[QTY]]","v":0},{"$f":"Table1[[#This Row],[QTY]]*Table1[[#This Row],[S&L Price]]","v":0}]
[null,176,null,"Incredibly Insane Sports",1,"Free Running","eBook",null,"978-1-4339-8829-5",2013,"January 2013",null,null,"Author","Jessica Cohn",5.5,1,40,28,"Q",null,"Grade 4 - 5","Grade 4 - 6","Where ordinary people see walls and railings, some athletes see a challenge. Readers will discover who those athletes are—free runners. Using a mix of gymnastics and running, these daring few will guide you through the history of this high-flying world. Full-color photographs show the gravity-defying feats of free running, while educating readers on the science the sport. Each book also provides interactive challenges to encourage the exercise of both body and mind.","English",31.95,23.95,"796.42","24 pp.",{"$f":"Table1[[#This Row],['# Books]]*Table1[[#This Row],[QTY]]","v":0},{"$f":"Table1[[#This Row],[QTY]]*Table1[[#This Row],[S&L Price]]","v":0}]
[null,176,null,"Incredibly Insane Sports",1,"Mountain Climbing","Library Bound Book",null,"978-1-4339-8830-1",2013,"January 2013","Library","8.000 X 10.00","Author","Jessica Cohn",5.7,1,40,28,"Q",null,"Grade 4 - 5","Grade 4 - 6","For a daring few, the tallest points on earth are a challenge to rise above. In this exciting book, readers will discover the breathtaking world of mountain climbing. Discover the stunning environments climbers have ascended to, and the history of mountain climbing. Full-color photographs show the gravity-defying feats of mountain climbing, while educating readers on the science the sport. Each book also provides interactive challenges to encourage the exercise of both body and mind.","English",31.95,23.95,"796.522","24 pp.",{"$f":"Table1[[#This Row],['# Books]]*Table1[[#This Row],[QTY]]","v":0},{"$f":"Table1[[#This Row],[QTY]]*Table1[[#This Row],[S&L Price]]","v":0}]
[null,176,null,"Incredibly Insane Sports",1,"Mountain Climbing","eBook",null,"978-1-4339-8833-2",2013,"January 2013",null,null,"Author","Jessica Cohn",5.7,1,40,28,"Q",null,"Grade 4 - 5","Grade 4 - 6","For a daring few, the tallest points on earth are a challenge to rise above. In this exciting book, readers will discover the breathtaking world of mountain climbing. Discover the stunning environments climbers have ascended to, and the history of mountain climbing. Full-color photographs show the gravity-defying feats of mountain climbing, while educating readers on the science the sport. Each book also provides interactive challenges to encourage the exercise of both body and mind.","English",31.95,23.95,"796.522","24 pp.",{"$f":"Table1[[#This Row],['# Books]]*Table1[[#This Row],[QTY]]","v":0},{"$f":"Table1[[#This Row],[QTY]]*Table1[[#This Row],[S&L Price]]","v":0}]
[null,177,null,"Incredibly Insane Sports",1,"Road Cycling","Library Bound Book",null,"978-1-4339-8834-9",2013,"January 2013","Library","8.000 X 10.00","Author","Jessica Cohn",4.8,1,40,28,"Q",null,"Grade 4 - 5","Grade 4 - 6","There are over a billion bicycles on the road worldwide, but only a select few push their bikes to the limit. Readers will explore the world of road cycling, and be provided with some of the most famous races and racers in the world. Full-color photographs show the gravity-defying feats of road cycling, while educating readers on the science the sport. Each book also provides interactive challenges to encourage the exercise of both body and mind.","English",31.95,23.95,"796.6","24 pp.",{"$f":"Table1[[#This Row],['# Books]]*Table1[[#This Row],[QTY]]","v":0},{"$f":"Table1[[#This Row],[QTY]]*Table1[[#This Row],[S&L Price]]","v":0}]
[null,177,null,"Incredibly Insane Sports",1,"Road Cycling","eBook",null,"978-1-4339-8837-0",2013,"January 2013",null,null,"Author","Jessica Cohn",4.8,1,40,28,"Q",null,"Grade 4 - 5","Grade 4 - 6","There are over a billion bicycles on the road worldwide, but only a select few push their bikes to the limit. Readers will explore the world of road cycling, and be provided with some of the most famous races and racers in the world. Full-color photographs show the gravity-defying feats of road cycling, while educating readers on the science the sport. Each book also provides interactive challenges to encourage the exercise of both body and mind.","English",31.95,23.95,"796.6","24 pp.",{"$f":"Table1[[#This Row],['# Books]]*Table1[[#This Row],[QTY]]","v":0},{"$f":"Table1[[#This Row],[QTY]]*Table1[[#This Row],[S&L Price]]","v":0}]
[null,177,null,"Incredibly Insane Sports",1,"Rodeo","Library Bound Book",null,"978-1-4339-8838-7",2013,"January 2013","Library","8.000 X 10.00","Author","Jessica Cohn",5.4,1,40,28,"Q",null,"Grade 4 - 5","Grade 4 - 6","Man has long tried to tame the wild of nature. At the rodeo, cowboys battle nature eight seconds at a time. Readers discover the history of the rodeo and its origins in the American West. Professional bull riders to the spectators that cheer them on, this book gives readers an in-depth look at all things rodeo. Full-color photographs show the gravity-defying feats of the rodeo, while educating readers on the science the sport. Interactive challenges to encourage the exercise of both body and mind are also provided.","English",31.95,23.95,"791.8","24 pp.",{"$f":"Table1[[#This Row],['# Books]]*Table1[[#This Row],[QTY]]","v":0},{"$f":"Table1[[#This Row],[QTY]]*Table1[[#This Row],[S&L Price]]","v":0}]
[null,177,null,"Incredibly Insane Sports",1,"Rodeo","eBook",null,"978-1-4339-8841-7",2013,"January 2013",null,null,"Author","Jessica Cohn",5.4,1,40,28,"Q",null,"Grade 4 - 5","Grade 4 - 6","Man has long tried to tame the wild of nature. At the rodeo, cowboys battle nature eight seconds at a time. Readers discover the history of the rodeo and its origins in the American West. Professional bull riders to the spectators that cheer them on, this book gives readers an in-depth look at all things rodeo. Full-color photographs show the gravity-defying feats of the rodeo, while educating readers on the science the sport. Interactive challenges to encourage the exercise of both body and mind are also provided.","English",31.95,23.95,"791.8","24 pp.",{"$f":"Table1[[#This Row],['# Books]]*Table1[[#This Row],[QTY]]","v":0},{"$f":"Table1[[#This Row],[QTY]]*Table1[[#This Row],[S&L Price]]","v":0}]
[null,177,null,"¡Felices fiestas! / Happy Holidays!",1,"¡Feliz Año Nuevo! / Happy New Year!","Library Bound Book",null,"978-1-4339-9966-6",2014,"January 2014","Library","7.625 X 7.125","Author","Alex Appleby",null,null,3,null,"C",null,"Grade K","Grade K - 2","The start of each year is a celebration, but why? In this great book, readers will learn all about the fun parties and gatherings we have to mark the end and beginning of every year. From ball drops to parties and even football games, everyone should learn how to have a happy new year! With accessible text presented in English and standard Latin-American Spanish, readers will learn all about the traditions and fun resolutions that each new year brings.    • Strong picture-text correlation aids in comprehension • Reading level supports beginning readers • Picture glossary helps develop vocabulary skills  ","Bilingual",22.6,16.95,"394.2614","24 pp.",{"$f":"Table1[[#This Row],['# Books]]*Table1[[#This Row],[QTY]]","v":0},{"$f":"Table1[[#This Row],[QTY]]*Table1[[#This Row],[S&L Price]]","v":0}]
[null,177,null,"¡Felices fiestas! / Happy Holidays!",1,"¡Feliz Año Nuevo! / Happy New Year!","eBook",null,"978-1-4339-9967-3",2014,"January 2014",null,null,"Author","Alex Appleby",null,null,3,null,"C",null,"Grade K","Grade K - 2","The start of each year is a celebration, but why? In this great book, readers will learn all about the fun parties and gatherings we have to mark the end and beginning of every year. From ball drops to parties and even football games, everyone should learn how to have a happy new year! With accessible text presented in English and standard Latin-American Spanish, readers will learn all about the traditions and fun resolutions that each new year brings.    • Strong picture-text correlation aids in comprehension • Reading level supports beginning readers • Picture glossary helps develop vocabulary skills  ","Bilingual",22.6,16.95,"394.2614","24 pp.",{"$f":"Table1[[#This Row],['# Books]]*Table1[[#This Row],[QTY]]","v":0},{"$f":"Table1[[#This Row],[QTY]]*Table1[[#This Row],[S&L Price]]","v":0}]
[null,177,null,"¡Felices fiestas! / Happy Holidays!",1,"¡Feliz Cuatro de Julio! / Happy Fourth of July!","Library Bound Book",null,"978-1-4339-9962-8",2014,"January 2014","Library","7.625 X 7.125","Author","Alex Appleby",null,null,3,null,"C",null,"Grade K","Grade K - 2","The Fourth of July is one of the most important holidays of the year. Readers will learn why we set off fireworks to celebrate America’s birthday and what other people do to honor the country on this fun holiday. From sparklers and hot dogs to parades and fun floats, readers will learn why the Fourth of July is a great holiday with the help of accessible text presented in both English and standard Latin-American Spanish.    • Strong picture-text correlation aids in comprehension • Reading level supports beginning readers • Picture glossary helps develop vocabulary skills  ","Bilingual",22.6,16.95,"394.263","24 pp.",{"$f":"Table1[[#This Row],['# Books]]*Table1[[#This Row],[QTY]]","v":0},{"$f":"Table1[[#This Row],[QTY]]*Table1[[#This Row],[S&L Price]]","v":0}]
[null,177,null,"¡Felices fiestas! / Happy Holidays!",1,"¡Feliz Cuatro de Julio! / Happy Fourth of July!","eBook",null,"978-1-4339-9963-5",2014,"January 2014",null,null,"Author","Alex Appleby",null,null,3,null,"C",null,"Grade K","Grade K - 2","The Fourth of July is one of the most important holidays of the year. Readers will learn why we set off fireworks to celebrate America’s birthday and what other people do to honor the country on this fun holiday. From sparklers and hot dogs to parades and fun floats, readers will learn why the Fourth of July is a great holiday with the help of accessible text presented in both English and standard Latin-American Spanish.    • Strong picture-text correlation aids in comprehension • Reading level supports beginning readers • Picture glossary helps develop vocabulary skills  ","Bilingual",22.6,16.95,"394.263","24 pp.",{"$f":"Table1[[#This Row],['# Books]]*Table1[[#This Row],[QTY]]","v":0},{"$f":"Table1[[#This Row],[QTY]]*Table1[[#This Row],[S&L Price]]","v":0}]
[null,177,null,"¡Felices fiestas! / Happy Holidays!",1,"¡Feliz Día de Acción de Gracias! / Happy Thanksgiving!","Library Bound Book",null,"978-1-4339-9968-0",2014,"January 2014","Library","7.625 X 7.125","Author","Alex Appleby",null,null,3,null,"C",null,"Grade K","Grade K - 2","Thanksgiving is a tradition passed down by people for hundreds of years. Through accessible text presented in both English and standard Latin-American Spanish, this great book explores why a day of thanks in November has become an American tradition. Why do we eat turkey on Thanksgiving? Why do we play football? Find out all this, and more about this great holiday while developing early reading skills and vocabulary thanks to a colorful picture glossary.    • Strong picture-text correlation aids in comprehension • Reading level supports beginning readers • Picture glossary helps develop vocabulary skills  ","Bilingual",22.6,16.95,"394.2649","24 pp.",{"$f":"Table1[[#This Row],['# Books]]*Table1[[#This Row],[QTY]]","v":0},{"$f":"Table1[[#This Row],[QTY]]*Table1[[#This Row],[S&L Price]]","v":0}]
[null,177,null,"¡Felices fiestas! / Happy Holidays!",1,"¡Feliz Día de Acción de Gracias! / Happy Thanksgiving!","eBook",null,"978-1-4339-9969-7",2014,"January 2014",null,null,"Author","Alex Appleby",null,null,3,null,"C",null,"Grade K","Grade K - 2","Thanksgiving is a tradition passed down by people for hundreds of years. Through accessible text presented in both English and standard Latin-American Spanish, this great book explores why a day of thanks in November has become an American tradition. Why do we eat turkey on Thanksgiving? Why do we play football? Find out all this, and more about this great holiday while developing early reading skills and vocabulary thanks to a colorful picture glossary.    • Strong picture-text correlation aids in comprehension • Reading level supports beginning readers • Picture glossary helps develop vocabulary skills  ","Bilingual",22.6,16.95,"394.2649","24 pp.",{"$f":"Table1[[#This Row],['# Books]]*Table1[[#This Row],[QTY]]","v":0},{"$f":"Table1[[#This Row],[QTY]]*Table1[[#This Row],[S&L Price]]","v":0}]
[null,177,null,"¡Felices fiestas! / Happy Holidays!",1,"¡Feliz Día de la Tierra! / Happy Earth Day!","Library Bound Book",null,"978-1-4339-9956-7",2014,"January 2014","Library","7.625 X 7.125","Author","Alex Appleby",null,null,3,null,"C",null,"Grade K","Grade K - 2","Some of our favorite days of the year are holidays. Earth Day was established to help people learn about conservation. With the help of accessible text presented in both English and standard Latin-American Spanish, this great book will teach readers how recycling can help save the Earth and what people do to celebrate Earth Day around the globe. A picture glossary will help readers develop vocabulary skills while learning early concepts and gaining a better understanding about holidays we celebrate every year.    • Strong picture-text correlation aids in comprehension • Reading level supports beginning readers • Picture glossary helps develop vocabulary skills  ","Bilingual",22.6,16.95,"394.262","24 pp.",{"$f":"Table1[[#This Row],['# Books]]*Table1[[#This Row],[QTY]]","v":0},{"$f":"Table1[[#This Row],[QTY]]*Table1[[#This Row],[S&L Price]]","v":0}]
[null,177,null,"¡Felices fiestas! / Happy Holidays!",1,"¡Feliz Día de la Tierra! / Happy Earth Day!","eBook",null,"978-1-4339-9961-1",2014,"January 2014",null,null,"Author","Alex Appleby",null,null,3,null,"C",null,"Grade K","Grade K - 2","Some of our favorite days of the year are holidays. Earth Day was established to help people learn about conservation. With the help of accessible text presented in both English and standard Latin-American Spanish, this great book will teach readers how recycling can help save the Earth and what people do to celebrate Earth Day around the globe. A picture glossary will help readers develop vocabulary skills while learning early concepts and gaining a better understanding about holidays we celebrate every year.    • Strong picture-text correlation aids in comprehension • Reading level supports beginning readers • Picture glossary helps develop vocabulary skills  ","Bilingual",22.6,16.95,"394.262","24 pp.",{"$f":"Table1[[#This Row],['# Books]]*Table1[[#This Row],[QTY]]","v":0},{"$f":"Table1[[#This Row],[QTY]]*Table1[[#This Row],[S&L Price]]","v":0}]
[null,177,null,"¡Felices fiestas! / Happy Holidays!",1,"¡Feliz Día de San Valentín! / Happy Valentine's Day!","Library Bound Book",null,"978-1-4339-9970-3",2014,"January 2014","Library","7.625 X 7.125","Author","Alex Appleby",null,null,3,null,"C",null,"Grade K","Grade K - 2","Valentine’s Day is a day of love. February 14 is a special day to celebrate the people you care about, but how did we pick that day? In this interesting book, learn about the history and traditions of Valentine’s Day around the world. From hearts and roses to eating lots of chocolate, there’s plenty to learn about Valentine’s Day. Through accessible text presented in both English and standard Latin-American Spanish, readers will fall in love with this great holiday!    • Strong picture-text correlation aids in comprehension • Reading level supports beginning readers • Picture glossary helps develop vocabulary skills  ","Bilingual",22.6,16.95,"394.2618","24 pp.",{"$f":"Table1[[#This Row],['# Books]]*Table1[[#This Row],[QTY]]","v":0},{"$f":"Table1[[#This Row],[QTY]]*Table1[[#This Row],[S&L Price]]","v":0}]
[null,177,null,"¡Felices fiestas! / Happy Holidays!",1,"¡Feliz Día de San Valentín! / Happy Valentine's Day!","eBook",null,"978-1-4339-9971-0",2014,"January 2014",null,null,"Author","Alex Appleby",null,null,3,null,"C",null,"Grade K","Grade K - 2","Valentine’s Day is a day of love. February 14 is a special day to celebrate the people you care about, but how did we pick that day? In this interesting book, learn about the history and traditions of Valentine’s Day around the world. From hearts and roses to eating lots of chocolate, there’s plenty to learn about Valentine’s Day. Through accessible text presented in both English and standard Latin-American Spanish, readers will fall in love with this great holiday!    • Strong picture-text correlation aids in comprehension • Reading level supports beginning readers • Picture glossary helps develop vocabulary skills  ","Bilingual",22.6,16.95,"394.2618","24 pp.",{"$f":"Table1[[#This Row],['# Books]]*Table1[[#This Row],[QTY]]","v":0},{"$f":"Table1[[#This Row],[QTY]]*Table1[[#This Row],[S&L Price]]","v":0}]
[null,177,null,"¡Felices fiestas! / Happy Holidays!",1,"¡Feliz Noche de Brujas! / Happy Halloween!","Library Bound Book",null,"978-1-4339-9964-2",2014,"January 2014","Library","7.625 X 7.125","Author","Alex Appleby",null,null,3,null,"C",null,"Grade K","Grade K - 2","Halloween is a spooky and fun holiday for people of all ages. From its roots as All Hallow’s Eve to its fun traditions today, readers will learn all about how Halloween makes the end of October one of the most fun times of the year. Through accessible text presented in both English and standard Latin-American Spanish, learn why people dress up in costumes and throw parties on October 31, and what trick or treating is all about with this great book.    • Strong picture-text correlation aids in comprehension • Reading level supports beginning readers • Picture glossary helps develop vocabulary skills  ","Bilingual",22.6,16.95,"394.2646","24 pp.",{"$f":"Table1[[#This Row],['# Books]]*Table1[[#This Row],[QTY]]","v":0},{"$f":"Table1[[#This Row],[QTY]]*Table1[[#This Row],[S&L Price]]","v":0}]
[null,177,null,"¡Felices fiestas! / Happy Holidays!",1,"¡Feliz Noche de Brujas! / Happy Halloween!","eBook",null,"978-1-4339-9965-9",2014,"January 2014",null,null,"Author","Alex Appleby",null,null,3,null,"C",null,"Grade K","Grade K - 2","Halloween is a spooky and fun holiday for people of all ages. From its roots as All Hallow’s Eve to its fun traditions today, readers will learn all about how Halloween makes the end of October one of the most fun times of the year. Through accessible text presented in both English and standard Latin-American Spanish, learn why people dress up in costumes and throw parties on October 31, and what trick or treating is all about with this great book.    • Strong picture-text correlation aids in comprehension • Reading level supports beginning readers • Picture glossary helps develop vocabulary skills  ","Bilingual",22.6,16.95,"394.2646","24 pp.",{"$f":"Table1[[#This Row],['# Books]]*Table1[[#This Row],[QTY]]","v":0},{"$f":"Table1[[#This Row],[QTY]]*Table1[[#This Row],[S&L Price]]","v":0}]
[null,177,null,"Big Machines / Grandes máquinas",1,"Bulldozers","Library Bound Book",null,"978-1-4339-5574-7",2012,"August 2011","Library","7.625 X 7.125","Author","Katie Kawa",null,null,3,4,"C",null,"Grade K","Grade K - 2","Bulldozers are very strong machines. They move big trees, push rocks away to make roads, and even dig deep into the dirt. English language learners discover these and many other fun facts about bulldozers in this bilingual book. With the help of simple text presented in both standard Latin American Spanish and English, they explore how bulldozers are able to do many important jobs. Detailed photographs show these machines hard at work.","Bilingual",22.6,16.95,"629.225","24 pp.",{"$f":"Table1[[#This Row],['# Books]]*Table1[[#This Row],[QTY]]","v":0},{"$f":"Table1[[#This Row],[QTY]]*Table1[[#This Row],[S&L Price]]","v":0}]
[null,177,null,"Big Machines / Grandes máquinas",1,"Bulldozers","eBook",null,"978-1-4339-5575-4",2012,"August 2011",null,null,"Author","Katie Kawa",null,null,3,4,"C",null,"Grade K","Grade K - 2","Bulldozers are very strong machines. They move big trees, push rocks away to make roads, and even dig deep into the dirt. English language learners discover these and many other fun facts about bulldozers in this bilingual book. With the help of simple text presented in both standard Latin American Spanish and English, they explore how bulldozers are able to do many important jobs. Detailed photographs show these machines hard at work.","Bilingual",22.6,16.95,"629.225","24 pp.",{"$f":"Table1[[#This Row],['# Books]]*Table1[[#This Row],[QTY]]","v":0},{"$f":"Table1[[#This Row],[QTY]]*Table1[[#This Row],[S&L Price]]","v":0}]
[null,177,null,"Cuatro estaciones estupendas / Four Super Seasons",1,"¿Qué sucede en invierno? / What Happens in Winter?","Library Bound Book",null,"978-1-4824-0132-5",2014,"January 2014","Library","7.625 X 7.125","Author","Alex Appleby",null,null,3,null,"C",null,"Grade K","Grade K - 2","Winter is a special season because the weather can be very different from the others. Whether it’s snow or just the cold that comes, it’s a very interesting season all over the world. Through the use of accessible text, presented in both English and standard Latin-American Spanish, and a great picture glossary, early readers will explore the super season of winter and learn the science behind Mother Nature’s coldest season.    • Strong picture-text correlation aids in comprehension • Reading level supports beginning readers • Picture glossary helps develop vocabulary skills   ","Bilingual",22.6,16.95,"508.2","24 pp.",{"$f":"Table1[[#This Row],['# Books]]*Table1[[#This Row],[QTY]]","v":0},{"$f":"Table1[[#This Row],[QTY]]*Table1[[#This Row],[S&L Price]]","v":0}]
[null,177,null,"Cuatro estaciones estupendas / Four Super Seasons",1,"¿Qué sucede en invierno? / What Happens in Winter?","eBook",null,"978-1-4824-0133-2",2014,"January 2014",null,null,"Author","Alex Appleby",null,null,3,null,"C",null,"Grade K","Grade K - 2","Winter is a special season because the weather can be very different from the others. Whether it’s snow or just the cold that comes, it’s a very interesting season all over the world. Through the use of accessible text, presented in both English and standard Latin-American Spanish, and a great picture glossary, early readers will explore the super season of winter and learn the science behind Mother Nature’s coldest season.    • Strong picture-text correlation aids in comprehension • Reading level supports beginning readers • Picture glossary helps develop vocabulary skills   ","Bilingual",22.6,16.95,"508.2","24 pp.",{"$f":"Table1[[#This Row],['# Books]]*Table1[[#This Row],[QTY]]","v":0},{"$f":"Table1[[#This Row],[QTY]]*Table1[[#This Row],[S&L Price]]","v":0}]
[null,177,null,"Cuatro estaciones estupendas / Four Super Seasons",1,"¿Qué sucede en otoño? / What Happens in Fall?","Library Bound Book",null,"978-1-4824-0101-1",2014,"January 2014","Library","7.625 X 7.125","Author","Alex Appleby",null,null,3,null,"C",null,"Grade K","Grade K - 2","Why do the leaves fall off trees in autumn? Through the use of accessible text, presented in both English and standard Latin-American Spanish, readers learn the basic science of fall and understand why the weather gets colder as the year goes on. Each season has its unique qualities, and this series explains to young readers what makes fall unique in its own way.    • Strong picture-text correlation aids in comprehension • Reading level supports beginning readers • Picture glossary helps develop vocabulary skills   ","Bilingual",22.6,16.95,"508.2","24 pp.",{"$f":"Table1[[#This Row],['# Books]]*Table1[[#This Row],[QTY]]","v":0},{"$f":"Table1[[#This Row],[QTY]]*Table1[[#This Row],[S&L Price]]","v":0}]
[null,177,null,"Cuatro estaciones estupendas / Four Super Seasons",1,"¿Qué sucede en otoño? / What Happens in Fall?","eBook",null,"978-1-4824-0102-8",2014,"January 2014",null,null,"Author","Alex Appleby",null,null,3,null,"C",null,"Grade K","Grade K - 2","Why do the leaves fall off trees in autumn? Through the use of accessible text, presented in both English and standard Latin-American Spanish, readers learn the basic science of fall and understand why the weather gets colder as the year goes on. Each season has its unique qualities, and this series explains to young readers what makes fall unique in its own way.    • Strong picture-text correlation aids in comprehension • Reading level supports beginning readers • Picture glossary helps develop vocabulary skills   ","Bilingual",22.6,16.95,"508.2","24 pp.",{"$f":"Table1[[#This Row],['# Books]]*Table1[[#This Row],[QTY]]","v":0},{"$f":"Table1[[#This Row],[QTY]]*Table1[[#This Row],[S&L Price]]","v":0}]
[null,177,null,"Cuatro estaciones estupendas / Four Super Seasons",1,"¿Qué sucede en primavera? / What Happens in Spring?","Library Bound Book",null,"978-1-4824-0119-6",2014,"January 2014","Library","7.625 X 7.125","Author","Alex Appleby",null,null,3,null,"C",null,"Grade K","Grade K - 2","After a cold winter, spring is an exciting season no matter where you live. Young readers learn about the science behind spring in simple, easily accessible text presented in both English and standard Latin-American Spanish. Readers will explore the growth of new plants, animals coming out of hibernation, and the regrowth of nature that occurs when the weather starts to get warmer in this fun book.    • Strong picture-text correlation aids in comprehension • Reading level supports beginning readers • Picture glossary helps develop vocabulary skills   ","Bilingual",22.6,16.95,"508.2","24 pp.",{"$f":"Table1[[#This Row],['# Books]]*Table1[[#This Row],[QTY]]","v":0},{"$f":"Table1[[#This Row],[QTY]]*Table1[[#This Row],[S&L Price]]","v":0}]
[null,177,null,"Cuatro estaciones estupendas / Four Super Seasons",1,"¿Qué sucede en primavera? / What Happens in Spring?","eBook",null,"978-1-4824-0121-9",2014,"January 2014",null,null,"Author","Alex Appleby",null,null,3,null,"C",null,"Grade K","Grade K - 2","After a cold winter, spring is an exciting season no matter where you live. Young readers learn about the science behind spring in simple, easily accessible text presented in both English and standard Latin-American Spanish. Readers will explore the growth of new plants, animals coming out of hibernation, and the regrowth of nature that occurs when the weather starts to get warmer in this fun book.    • Strong picture-text correlation aids in comprehension • Reading level supports beginning readers • Picture glossary helps develop vocabulary skills   ","Bilingual",22.6,16.95,"508.2","24 pp.",{"$f":"Table1[[#This Row],['# Books]]*Table1[[#This Row],[QTY]]","v":0},{"$f":"Table1[[#This Row],[QTY]]*Table1[[#This Row],[S&L Price]]","v":0}]
[null,177,null,"Cuatro estaciones estupendas / Four Super Seasons",1,"¿Qué sucede en verano? / What Happens in Summer?","Library Bound Book",null,"978-1-4824-0128-8",2014,"January 2014","Library","7.625 X 7.125","Author","Alex Appleby",null,null,3,null,"C",null,"Grade K","Grade K - 2","There’s lots to do when the weather is nice in summer. This book explores the warm weather that summer brings, including the activities of nature and fun ways to fill a summer day. Through the use of accessible text, presented in both English and standard Latin-American Spanish, and simple science content, readers will learn why summer is unique from the other seasons.    • Strong picture-text correlation aids in comprehension • Reading level supports beginning readers • Picture glossary helps develop vocabulary skills   ","Bilingual",22.6,16.95,"508.2","24 pp.",{"$f":"Table1[[#This Row],['# Books]]*Table1[[#This Row],[QTY]]","v":0},{"$f":"Table1[[#This Row],[QTY]]*Table1[[#This Row],[S&L Price]]","v":0}]
[null,177,null,"Cuatro estaciones estupendas / Four Super Seasons",1,"¿Qué sucede en verano? / What Happens in Summer?","eBook",null,"978-1-4824-0129-5",2014,"January 2014",null,null,"Author","Alex Appleby",null,null,3,null,"C",null,"Grade K","Grade K - 2","There’s lots to do when the weather is nice in summer. This book explores the warm weather that summer brings, including the activities of nature and fun ways to fill a summer day. Through the use of accessible text, presented in both English and standard Latin-American Spanish, and simple science content, readers will learn why summer is unique from the other seasons.    • Strong picture-text correlation aids in comprehension • Reading level supports beginning readers • Picture glossary helps develop vocabulary skills   ","Bilingual",22.6,16.95,"508.2","24 pp.",{"$f":"Table1[[#This Row],['# Books]]*Table1[[#This Row],[QTY]]","v":0},{"$f":"Table1[[#This Row],[QTY]]*Table1[[#This Row],[S&L Price]]","v":0}]
[null,177,null,"Farm Animals / Animales de granja",1,"Chickens on the Farm / Pollos de granja","Library Bound Book",null,"978-1-4339-7394-9",2013,"August 2012","Library","7.625 X 7.125","Author","Rose Carraway",null,null,3,4,"C",null,"Grade K","Grade K - 2","Chickens are popular farm animals, and English language learners discover fun facts about them through engaging bilingual text—presented in both English and standard Latin American Spanish. Readers see what life is like for chickens on a farm—including what they eat, how they sleep, and why they are important to farmers. A helpful picture glossary strengthens vocabulary skills, and colorful photographs give young readers a detailed look at a variety of chickens and the farms they call home.","Bilingual",22.6,16.95,"636.5","24 pp.",{"$f":"Table1[[#This Row],['# Books]]*Table1[[#This Row],[QTY]]","v":0},{"$f":"Table1[[#This Row],[QTY]]*Table1[[#This Row],[S&L Price]]","v":0}]
[null,177,null,"Farm Animals / Animales de granja",1,"Chickens on the Farm / Pollos de granja","eBook",null,"978-1-4339-7395-6",2013,"August 2012",null,null,"Author","Rose Carraway",null,null,3,4,"C",null,"Grade K","Grade K - 2","Chickens are popular farm animals, and English language learners discover fun facts about them through engaging bilingual text—presented in both English and standard Latin American Spanish. Readers see what life is like for chickens on a farm—including what they eat, how they sleep, and why they are important to farmers. A helpful picture glossary strengthens vocabulary skills, and colorful photographs give young readers a detailed look at a variety of chickens and the farms they call home.","Bilingual",22.6,16.95,"636.5","24 pp.",{"$f":"Table1[[#This Row],['# Books]]*Table1[[#This Row],[QTY]]","v":0},{"$f":"Table1[[#This Row],[QTY]]*Table1[[#This Row],[S&L Price]]","v":0}]
[null,177,null,"Farm Animals / Animales de granja",1,"Cows on the Farm / Vacas de granja\u2028","Library Bound Book",null,"978-1-4339-7396-3",2013,"August 2012","Library","7.625 X 7.125","Author","Rose Carraway",null,null,3,4,"C",null,"Grade K","Grade K - 2","English language learners discover fun facts about cows, including why their tails are very important to them, and which kind of cow produces milk. Accessible text, presented in both English and standard Latin American Spanish, allows beginning readers to see for themselves what life is like for these fascinating farm animals. A picture glossary is included to aid in vocabulary development and bright photographs feature a variety of cows.","Bilingual",22.6,16.95,"636.2","24 pp.",{"$f":"Table1[[#This Row],['# Books]]*Table1[[#This Row],[QTY]]","v":0},{"$f":"Table1[[#This Row],[QTY]]*Table1[[#This Row],[S&L Price]]","v":0}]
[null,177,null,"Farm Animals / Animales de granja",1,"Cows on the Farm / Vacas de granja\u2028","eBook",null,"978-1-4339-7397-0",2013,"August 2012",null,null,"Author","Rose Carraway",null,null,3,4,"C",null,"Grade K","Grade K - 2","English language learners discover fun facts about cows, including why their tails are very important to them, and which kind of cow produces milk. Accessible text, presented in both English and standard Latin American Spanish, allows beginning readers to see for themselves what life is like for these fascinating farm animals. A picture glossary is included to aid in vocabulary development and bright photographs feature a variety of cows.","Bilingual",22.6,16.95,"636.2","24 pp.",{"$f":"Table1[[#This Row],['# Books]]*Table1[[#This Row],[QTY]]","v":0},{"$f":"Table1[[#This Row],[QTY]]*Table1[[#This Row],[S&L Price]]","v":0}]
[null,177,null,"Farm Animals / Animales de granja",1,"Pigs on the Farm / Cerdos de granja","Library Bound Book",null,"978-1-4339-7402-1",2013,"August 2012","Library","7.625 X 7.125","Author","Rose Carraway",null,null,3,4,"C",null,"Grade K","Grade K - 2","Beginning readers and English language learners discover fun facts about pigs and the farms they call home. Bilingual text reveals fun pig facts, including how smart they are, what they eat, and how they communicate. Accessible text, presented in both English and standard Latin American Spanish, helps readers explore this information on their own, and a picture glossary aids in vocabulary development. Colorful photographs of a variety of pigs are included to make this an educational and enjoyable reading experience for early learners.","Bilingual",22.6,16.95,"599.63","24 pp.",{"$f":"Table1[[#This Row],['# Books]]*Table1[[#This Row],[QTY]]","v":0},{"$f":"Table1[[#This Row],[QTY]]*Table1[[#This Row],[S&L Price]]","v":0}]
[null,177,null,"Farm Animals / Animales de granja",1,"Pigs on the Farm / Cerdos de granja","eBook",null,"978-1-4339-7403-8",2013,"August 2012",null,null,"Author","Rose Carraway",null,null,3,4,"C",null,"Grade K","Grade K - 2","Beginning readers and English language learners discover fun facts about pigs and the farms they call home. Bilingual text reveals fun pig facts, including how smart they are, what they eat, and how they communicate. Accessible text, presented in both English and standard Latin American Spanish, helps readers explore this information on their own, and a picture glossary aids in vocabulary development. Colorful photographs of a variety of pigs are included to make this an educational and enjoyable reading experience for early learners.","Bilingual",22.6,16.95,"599.63","24 pp.",{"$f":"Table1[[#This Row],['# Books]]*Table1[[#This Row],[QTY]]","v":0},{"$f":"Table1[[#This Row],[QTY]]*Table1[[#This Row],[S&L Price]]","v":0}]
[null,177,null,"Farm Animals / Animales de granja",1,"Sheep on the Farm / Ovejas de granja","Library Bound Book",null,"978-1-4339-7404-5",2013,"August 2012","Library","7.625 X 7.125","Author","Rose Carraway",null,null,3,4,"C",null,"Grade K","Grade K - 2","Sheep are important farm animals. Their wool is used to make clothing; farmers also use their milk. Bilingual text presented in both English and standard Latin American Spanish assists English language learners discover what life is like on farms for these popular animals, including what they eat and why they stay in a flock. A picture glossary helps early learners build strong vocabularies, and colorful photographs give readers an up-close look at these farm animals.","Bilingual",22.6,16.95,"636.3","24 pp.",{"$f":"Table1[[#This Row],['# Books]]*Table1[[#This Row],[QTY]]","v":0},{"$f":"Table1[[#This Row],[QTY]]*Table1[[#This Row],[S&L Price]]","v":0}]
[null,177,null,"Farm Animals / Animales de granja",1,"Sheep on the Farm / Ovejas de granja","eBook",null,"978-1-4339-7405-2",2013,"August 2012",null,null,"Author","Rose Carraway",null,null,3,4,"C",null,"Grade K","Grade K - 2","Sheep are important farm animals. Their wool is used to make clothing; farmers also use their milk. Bilingual text presented in both English and standard Latin American Spanish assists English language learners discover what life is like on farms for these popular animals, including what they eat and why they stay in a flock. A picture glossary helps early learners build strong vocabularies, and colorful photographs give readers an up-close look at these farm animals.","Bilingual",22.6,16.95,"636.3","24 pp.",{"$f":"Table1[[#This Row],['# Books]]*Table1[[#This Row],[QTY]]","v":0},{"$f":"Table1[[#This Row],[QTY]]*Table1[[#This Row],[S&L Price]]","v":0}]
[null,177,null,"Great Big Animals / Superanimales",1,"Awesome Ostriches / Avestruces increíbles","Library Bound Book",null,"978-1-4339-9450-0",2014,"August 2013","Library","7.625 X 7.125","Author","Ryan Nagelhout",null,null,2,2,"B",null,"Grade K","Grade K - 2","Ostriches are the biggest birds on Earth, and they’re also some of the strangest. Early readers will learn more about a herd of ostrich with the help of full-color photographs and easy-to-read text. What does an ostrich eat? How many toes does it have? Why does it kick other animals? Readers discover what these flightless birds do with their wings and other facts that highlight early life science concepts. Accessible text presented in both English and standard Latin American Spanish gives early learners plenty of facts about these big birds, while a picture glossary reinforces vocabulary with colorful imagery.  • High-interest topic engages young readers • Strong picture-text correlation aids in comprehension • Reading level supports beginning readers • Picture glossary helps develop vocabulary skills • Comprehendible index guides readers through each book    ","Bilingual",22.6,16.95,"598.524","24 pp.",{"$f":"Table1[[#This Row],['# Books]]*Table1[[#This Row],[QTY]]","v":0},{"$f":"Table1[[#This Row],[QTY]]*Table1[[#This Row],[S&L Price]]","v":0}]
[null,177,null,"Great Big Animals / Superanimales",1,"Awesome Ostriches / Avestruces increíbles","eBook",null,"978-1-4339-9451-7",2014,"August 2013",null,null,"Author","Ryan Nagelhout",null,null,2,2,"B",null,"Grade K","Grade K - 2","Ostriches are the biggest birds on Earth, and they’re also some of the strangest. Early readers will learn more about a herd of ostrich with the help of full-color photographs and easy-to-read text. What does an ostrich eat? How many toes does it have? Why does it kick other animals? Readers discover what these flightless birds do with their wings and other facts that highlight early life science concepts. Accessible text presented in both English and standard Latin American Spanish gives early learners plenty of facts about these big birds, while a picture glossary reinforces vocabulary with colorful imagery.  • High-interest topic engages young readers • Strong picture-text correlation aids in comprehension • Reading level supports beginning readers • Picture glossary helps develop vocabulary skills • Comprehendible index guides readers through each book    ","Bilingual",22.6,16.95,"598.524","24 pp.",{"$f":"Table1[[#This Row],['# Books]]*Table1[[#This Row],[QTY]]","v":0},{"$f":"Table1[[#This Row],[QTY]]*Table1[[#This Row],[S&L Price]]","v":0}]
[null,177,null,"Great Big Animals / Superanimales",1,"Big Bison / Grandes bisontes","Library Bound Book",null,"978-1-4339-9448-7",2014,"August 2013","Library","7.625 X 7.125","Author","Ryan Nagelhout",null,null,3,4,"C",null,"Grade K","Grade K - 2","Bison are huge animals, but that doesn’t mean they are slow! Some bison run up to 40 miles per hour, and with sharp horns on their head they can be dangerous, too. Filled with full-color photographs and accessible text presented in both English and standard Latin American Spanish, early readers will be fascinated by the lives and habits of a bison herd. Facts and figures will captivate even the most reluctant of readers, as they discover where bison live, what they eat, and the special term for a female bison in this exciting book.  • High-interest topic engages young readers • Strong picture-text correlation aids in comprehension • Reading level supports beginning readers • Picture glossary helps develop vocabulary skills • Comprehendible index guides readers through each book    ","Bilingual",22.6,16.95,"599.643","24 pp.",{"$f":"Table1[[#This Row],['# Books]]*Table1[[#This Row],[QTY]]","v":0},{"$f":"Table1[[#This Row],[QTY]]*Table1[[#This Row],[S&L Price]]","v":0}]
[null,177,null,"Great Big Animals / Superanimales",1,"Big Bison / Grandes bisontes","eBook",null,"978-1-4339-9449-4",2014,"August 2013",null,null,"Author","Ryan Nagelhout",null,null,3,4,"C",null,"Grade K","Grade K - 2","Bison are huge animals, but that doesn’t mean they are slow! Some bison run up to 40 miles per hour, and with sharp horns on their head they can be dangerous, too. Filled with full-color photographs and accessible text presented in both English and standard Latin American Spanish, early readers will be fascinated by the lives and habits of a bison herd. Facts and figures will captivate even the most reluctant of readers, as they discover where bison live, what they eat, and the special term for a female bison in this exciting book.  • High-interest topic engages young readers • Strong picture-text correlation aids in comprehension • Reading level supports beginning readers • Picture glossary helps develop vocabulary skills • Comprehendible index guides readers through each book    ","Bilingual",22.6,16.95,"599.643","24 pp.",{"$f":"Table1[[#This Row],['# Books]]*Table1[[#This Row],[QTY]]","v":0},{"$f":"Table1[[#This Row],[QTY]]*Table1[[#This Row],[S&L Price]]","v":0}]
[null,177,null,"Great Big Animals / Superanimales",1,"Enormous Elephants / Elefantes enormes","Library Bound Book",null,"978-1-4339-9446-3",2014,"August 2013","Library","7.625 X 7.125","Author","Ryan Nagelhout",null,null,3,4,"C",null,"Grade K","Grade K - 2","Why are elephants’ ears so big? Early readers will learn that and more in this exciting first concepts book filled with fun information and full-color photographs. Through easy-to-read text presented in both English and standard Latin American Spanish, readers will discover the difference between African and Asian elephants, and what they do with their large trunks. The biggest land animals on Earth will captivate even the most reluctant of readers as they go on this exciting elephant adventure!    • High-interest topic engages young readers • Strong picture-text correlation aids in comprehension • Reading level supports beginning readers • Picture glossary helps develop vocabulary skills • Comprehendible index guides readers through each book  ","Bilingual",22.6,16.95,"599.61","24 pp.",{"$f":"Table1[[#This Row],['# Books]]*Table1[[#This Row],[QTY]]","v":0},{"$f":"Table1[[#This Row],[QTY]]*Table1[[#This Row],[S&L Price]]","v":0}]
[null,177,null,"Great Big Animals / Superanimales",1,"Enormous Elephants / Elefantes enormes","eBook",null,"978-1-4339-9447-0",2014,"August 2013",null,null,"Author","Ryan Nagelhout",null,null,3,4,"C",null,"Grade K","Grade K - 2","Why are elephants’ ears so big? Early readers will learn that and more in this exciting first concepts book filled with fun information and full-color photographs. Through easy-to-read text presented in both English and standard Latin American Spanish, readers will discover the difference between African and Asian elephants, and what they do with their large trunks. The biggest land animals on Earth will captivate even the most reluctant of readers as they go on this exciting elephant adventure!    • High-interest topic engages young readers • Strong picture-text correlation aids in comprehension • Reading level supports beginning readers • Picture glossary helps develop vocabulary skills • Comprehendible index guides readers through each book  ","Bilingual",22.6,16.95,"599.61","24 pp.",{"$f":"Table1[[#This Row],['# Books]]*Table1[[#This Row],[QTY]]","v":0},{"$f":"Table1[[#This Row],[QTY]]*Table1[[#This Row],[S&L Price]]","v":0}]
[null,177,null,"Great Big Animals / Superanimales",1,"Giant Giraffes / Jirafas gigantes","Library Bound Book",null,"978-1-4339-9444-9",2014,"August 2013","Library","7.625 X 7.125","Author","Ryan Nagelhout",null,null,3,4,"C",null,"Grade K","Grade K - 2","Giraffes are the tallest animals on Earth. Through the use of bright photographs and easy-to-read text presented in both English and standard Latin American Spanish, early readers will be fascinated by the lives of these big mammals. Readers will discover how giraffes use their long necks, and how they use their giant tongues to reach leaves on tall trees! The exciting lives of these giant animals will offer plenty of facts that highlight early life science concepts for beginning readers.   • High-interest topic engages young readers • Strong picture-text correlation aids in comprehension • Reading level supports beginning readers • Picture glossary helps develop vocabulary skills • Comprehendible index guides readers through each book  ","Bilingual",22.6,16.95,"599.638","24 pp.",{"$f":"Table1[[#This Row],['# Books]]*Table1[[#This Row],[QTY]]","v":0},{"$f":"Table1[[#This Row],[QTY]]*Table1[[#This Row],[S&L Price]]","v":0}]
[null,177,null,"Great Big Animals / Superanimales",1,"Giant Giraffes / Jirafas gigantes","eBook",null,"978-1-4339-9445-6",2014,"August 2013",null,null,"Author","Ryan Nagelhout",null,null,3,4,"C",null,"Grade K","Grade K - 2","Giraffes are the tallest animals on Earth. Through the use of bright photographs and easy-to-read text presented in both English and standard Latin American Spanish, early readers will be fascinated by the lives of these big mammals. Readers will discover how giraffes use their long necks, and how they use their giant tongues to reach leaves on tall trees! The exciting lives of these giant animals will offer plenty of facts that highlight early life science concepts for beginning readers.   • High-interest topic engages young readers • Strong picture-text correlation aids in comprehension • Reading level supports beginning readers • Picture glossary helps develop vocabulary skills • Comprehendible index guides readers through each book  ","Bilingual",22.6,16.95,"599.638","24 pp.",{"$f":"Table1[[#This Row],['# Books]]*Table1[[#This Row],[QTY]]","v":0},{"$f":"Table1[[#This Row],[QTY]]*Table1[[#This Row],[S&L Price]]","v":0}]
[null,177,null,"Great Big Animals / Superanimales",1,"Great Big Grizzlies / Enormes osos pardos","Library Bound Book",null,"978-1-4339-9442-5",2014,"August 2013","Library","7.625 X 7.125","Author","Ryan Nagelhout",null,null,3,3,"C",null,"Grade K","Grade K - 2","A great big grizzly is much different than your ordinary teddy bear! Grizzlies are huge and hungry. With the help of full-color photographs and easy-to-read text presented in both English and standard Latin American Spanish, early readers will be fascinated by the lives of these big bears, and will discover what they like to eat and what they like to do in winter when the weather gets cold. Accessible text gives early learners plenty of facts about these grizzlies while highlighting early life science concepts in a fun and engaging way.","Bilingual",22.6,16.95,"599.784","24 pp.",{"$f":"Table1[[#This Row],['# Books]]*Table1[[#This Row],[QTY]]","v":0},{"$f":"Table1[[#This Row],[QTY]]*Table1[[#This Row],[S&L Price]]","v":0}]
[null,177,null,"Great Big Animals / Superanimales",1,"Great Big Grizzlies / Enormes osos pardos","eBook",null,"978-1-4339-9443-2",2014,"August 2013",null,null,"Author","Ryan Nagelhout",null,null,3,3,"C",null,"Grade K","Grade K - 2","A great big grizzly is much different than your ordinary teddy bear! Grizzlies are huge and hungry. With the help of full-color photographs and easy-to-read text presented in both English and standard Latin American Spanish, early readers will be fascinated by the lives of these big bears, and will discover what they like to eat and what they like to do in winter when the weather gets cold. Accessible text gives early learners plenty of facts about these grizzlies while highlighting early life science concepts in a fun and engaging way.","Bilingual",22.6,16.95,"599.784","24 pp.",{"$f":"Table1[[#This Row],['# Books]]*Table1[[#This Row],[QTY]]","v":0},{"$f":"Table1[[#This Row],[QTY]]*Table1[[#This Row],[S&L Price]]","v":0}]
[null,177,null,"Great Big Animals / Superanimales",1,"Huge Hippos / Grandes hipopótamos","Library Bound Book",null,"978-1-4339-9440-1",2014,"August 2013","Library","7.625 X 7.125","Author","Ryan Nagelhout",null,null,3,4,"C",null,"Grade K","Grade K - 2","Hippos love to lie in the water, and they lounge for hours at a time! Through easy-to-read text and vivid full-color photographs, early readers will learn why these huge animals love to lounge as well as why they hunt at night, and just how much food can fill their big bellies! Accessible text presented in both English and standard Latin American Spanish offers facts that highlight early life science concepts for beginning readers, and make learning about these great big animals fun and educational. A picture glossary reinforces words with colorful photographs to further enhance reading comprehension.    • High-interest topic engages young readers • Strong picture-text correlation aids in comprehension • Reading level supports beginning readers • Picture glossary helps develop vocabulary skills • Comprehendible index guides readers through each book    ","Bilingual",22.6,16.95,"599.635","24 pp.",{"$f":"Table1[[#This Row],['# Books]]*Table1[[#This Row],[QTY]]","v":0},{"$f":"Table1[[#This Row],[QTY]]*Table1[[#This Row],[S&L Price]]","v":0}]
[null,177,null,"Great Big Animals / Superanimales",1,"Huge Hippos / Grandes hipopótamos","eBook",null,"978-1-4339-9441-8",2014,"August 2013",null,null,"Author","Ryan Nagelhout",null,null,3,4,"C",null,"Grade K","Grade K - 2","Hippos love to lie in the water, and they lounge for hours at a time! Through easy-to-read text and vivid full-color photographs, early readers will learn why these huge animals love to lounge as well as why they hunt at night, and just how much food can fill their big bellies! Accessible text presented in both English and standard Latin American Spanish offers facts that highlight early life science concepts for beginning readers, and make learning about these great big animals fun and educational. A picture glossary reinforces words with colorful photographs to further enhance reading comprehension.    • High-interest topic engages young readers • Strong picture-text correlation aids in comprehension • Reading level supports beginning readers • Picture glossary helps develop vocabulary skills • Comprehendible index guides readers through each book    ","Bilingual",22.6,16.95,"599.635","24 pp.",{"$f":"Table1[[#This Row],['# Books]]*Table1[[#This Row],[QTY]]","v":0},{"$f":"Table1[[#This Row],[QTY]]*Table1[[#This Row],[S&L Price]]","v":0}]
[null,177,null,"In My Backyard / En mi jardín",1,"I See a Bird / Puedo ver un pájaro","Library Bound Book",null,"978-1-4339-8790-8",2013,"January 2013","Library","7.625 X 7.125","Author","Alex Appleby",null,null,3,4,"C",null,"Grade K","Grade K - 2","Birds of every shape and color can soar through the sky, and many like to rest in backyards. Through the use of accessible text, presented in both English and standard Latin-American Spanish, readers take an exciting trip through the skies and into the lives of these bright creatures. A picture glossary helps beginning readers strengthen their vocabulary skills, and vibrant, full-color photographs show birds in flight and in the nest.","Bilingual",22.6,16.95,"598","24 pp.",{"$f":"Table1[[#This Row],['# Books]]*Table1[[#This Row],[QTY]]","v":0},{"$f":"Table1[[#This Row],[QTY]]*Table1[[#This Row],[S&L Price]]","v":0}]
[null,177,null,"In My Backyard / En mi jardín",1,"I See a Bird / Puedo ver un pájaro","eBook",null,"978-1-4339-8791-5",2013,"January 2013",null,null,"Author","Alex Appleby",null,null,3,4,"C",null,"Grade K","Grade K - 2","Birds of every shape and color can soar through the sky, and many like to rest in backyards. Through the use of accessible text, presented in both English and standard Latin-American Spanish, readers take an exciting trip through the skies and into the lives of these bright creatures. A picture glossary helps beginning readers strengthen their vocabulary skills, and vibrant, full-color photographs show birds in flight and in the nest.","Bilingual",22.6,16.95,"598","24 pp.",{"$f":"Table1[[#This Row],['# Books]]*Table1[[#This Row],[QTY]]","v":0},{"$f":"Table1[[#This Row],[QTY]]*Table1[[#This Row],[S&L Price]]","v":0}]
[null,177,null,"In My Backyard / En mi jardín",1,"I See a Butterfly / Puedo ver una mariposa","Library Bound Book",null,"978-1-4339-8792-2",2013,"January 2013","Library","7.625 X 7.125","Author","Alex Appleby",null,null,3,4,"C",null,"Grade K","Grade K - 2","If you look close enough, a butterfly can grow up right before your eyes. Through the use of accessible text, presented in both English and standard Latin-American Spanish, readers take an exciting look at the journey butterflies make. A picture glossary helps beginning readers strengthen their vocabulary skills, and vibrant, full-color photographs show caterpillars grow to adulthood, taking flight to travel around the world.","Bilingual",22.6,16.95,"595.78","24 pp.",{"$f":"Table1[[#This Row],['# Books]]*Table1[[#This Row],[QTY]]","v":0},{"$f":"Table1[[#This Row],[QTY]]*Table1[[#This Row],[S&L Price]]","v":0}]
[null,177,null,"In My Backyard / En mi jardín",1,"I See a Butterfly / Puedo ver una mariposa","eBook",null,"978-1-4339-8793-9",2013,"January 2013",null,null,"Author","Alex Appleby",null,null,3,4,"C",null,"Grade K","Grade K - 2","If you look close enough, a butterfly can grow up right before your eyes. Through the use of accessible text, presented in both English and standard Latin-American Spanish, readers take an exciting look at the journey butterflies make. A picture glossary helps beginning readers strengthen their vocabulary skills, and vibrant, full-color photographs show caterpillars grow to adulthood, taking flight to travel around the world.","Bilingual",22.6,16.95,"595.78","24 pp.",{"$f":"Table1[[#This Row],['# Books]]*Table1[[#This Row],[QTY]]","v":0},{"$f":"Table1[[#This Row],[QTY]]*Table1[[#This Row],[S&L Price]]","v":0}]
[null,177,null,"In My Backyard / En mi jardín",1,"I See a Chipmunk / Puedo ver una ardilla rayada","Library Bound Book",null,"978-1-4339-8794-6",2013,"January 2013","Library","7.625 X 7.125","Author","Alex Appleby",null,null,3,4,"C",null,"Grade K","Grade K - 2","Chipmunks know that winter is always right around the corner, and it’s never too early to start gathering food. Through the use of accessible text presented in both English and standard Latin-American Spanish, readers take an exciting look at the life of these cheerful animals in backyards. A picture glossary helps beginning readers strengthen their vocabulary skills, and vibrant, full-color photographs show chipmunks at home and abroad, filling their cheeks with nuts for a long winter of hibernation.","Bilingual",22.6,16.95,"599.36","24 pp.",{"$f":"Table1[[#This Row],['# Books]]*Table1[[#This Row],[QTY]]","v":0},{"$f":"Table1[[#This Row],[QTY]]*Table1[[#This Row],[S&L Price]]","v":0}]
[null,177,null,"In My Backyard / En mi jardín",1,"I See a Chipmunk / Puedo ver una ardilla rayada","eBook",null,"978-1-4339-8795-3",2013,"January 2013",null,null,"Author","Alex Appleby",null,null,3,4,"C",null,"Grade K","Grade K - 2","Chipmunks know that winter is always right around the corner, and it’s never too early to start gathering food. Through the use of accessible text presented in both English and standard Latin-American Spanish, readers take an exciting look at the life of these cheerful animals in backyards. A picture glossary helps beginning readers strengthen their vocabulary skills, and vibrant, full-color photographs show chipmunks at home and abroad, filling their cheeks with nuts for a long winter of hibernation.","Bilingual",22.6,16.95,"599.36","24 pp.",{"$f":"Table1[[#This Row],['# Books]]*Table1[[#This Row],[QTY]]","v":0},{"$f":"Table1[[#This Row],[QTY]]*Table1[[#This Row],[S&L Price]]","v":0}]
[null,177,null,"In My Backyard / En mi jardín",1,"I See a Ladybug / Puedo ver una mariquita","Library Bound Book",null,"978-1-4339-8798-4",2013,"January 2013","Library","7.625 X 7.125","Author","Alex Appleby",null,null,3,4,"C",null,"Grade K","Grade K - 2","One of the most colorful creatures in your backyard, ladybugs are full of mystery. Through the use of accessible text presented in both English and standard Latin-American Spanish, readers take an exciting look at the life of these little red and black creatures flitting behind a reader’s house. A picture glossary helps beginning readers strengthen their vocabulary skills, and vibrant, full-color photographs show the how ladybugs frolic in the summer and stay warm in the winter.","Bilingual",22.6,16.95,"595.76","24 pp.",{"$f":"Table1[[#This Row],['# Books]]*Table1[[#This Row],[QTY]]","v":0},{"$f":"Table1[[#This Row],[QTY]]*Table1[[#This Row],[S&L Price]]","v":0}]
[null,177,null,"In My Backyard / En mi jardín",1,"I See a Ladybug / Puedo ver una mariquita","eBook",null,"978-1-4339-8799-1",2013,"January 2013",null,null,"Author","Alex Appleby",null,null,3,4,"C",null,"Grade K","Grade K - 2","One of the most colorful creatures in your backyard, ladybugs are full of mystery. Through the use of accessible text presented in both English and standard Latin-American Spanish, readers take an exciting look at the life of these little red and black creatures flitting behind a reader’s house. A picture glossary helps beginning readers strengthen their vocabulary skills, and vibrant, full-color photographs show the how ladybugs frolic in the summer and stay warm in the winter.","Bilingual",22.6,16.95,"595.76","24 pp.",{"$f":"Table1[[#This Row],['# Books]]*Table1[[#This Row],[QTY]]","v":0},{"$f":"Table1[[#This Row],[QTY]]*Table1[[#This Row],[S&L Price]]","v":0}]
[null,177,null,"In My Backyard / En mi jardín",1,"I See a Squirrel / Puedo ver una ardilla","Library Bound Book",null,"978-1-4339-8800-4",2013,"January 2013","Library","7.625 X 7.125","Author","Alex Appleby",null,null,3,4,"C",null,"Grade K","Grade K - 2","Squirrels are some of the more versatile creatures you’ll find in your backyard. Through the use of accessible text presented in both English and standard Latin-American Spanish, readers take an exciting look at the life of these quick little rodents. A picture glossary helps beginning readers strengthen their vocabulary skills, and vibrant, full-color photographs show the many ways squirrels can live. From flying through trees to nursing their young in dens, this book is sure to educate and excite.","Bilingual",22.6,16.95,"599.36","24 pp.",{"$f":"Table1[[#This Row],['# Books]]*Table1[[#This Row],[QTY]]","v":0},{"$f":"Table1[[#This Row],[QTY]]*Table1[[#This Row],[S&L Price]]","v":0}]
[null,177,null,"In My Backyard / En mi jardín",1,"I See a Squirrel / Puedo ver una ardilla","eBook",null,"978-1-4339-8801-1",2013,"January 2013",null,null,"Author","Alex Appleby",null,null,3,4,"C",null,"Grade K","Grade K - 2","Squirrels are some of the more versatile creatures you’ll find in your backyard. Through the use of accessible text presented in both English and standard Latin-American Spanish, readers take an exciting look at the life of these quick little rodents. A picture glossary helps beginning readers strengthen their vocabulary skills, and vibrant, full-color photographs show the many ways squirrels can live. From flying through trees to nursing their young in dens, this book is sure to educate and excite.","Bilingual",22.6,16.95,"599.36","24 pp.",{"$f":"Table1[[#This Row],['# Books]]*Table1[[#This Row],[QTY]]","v":0},{"$f":"Table1[[#This Row],[QTY]]*Table1[[#This Row],[S&L Price]]","v":0}]
[null,177,null,"My First Adventures / Mis primeras aventuras",1,"My First Trip on an Airplane /Mi primer viaje en avión","Library Bound Book",null,"978-1-4339-7370-3",2013,"August 2012","Library","7.625 X 7.125","Author","Katie Kawa",null,null,3,4,"C",null,"Grade K","Grade K - 2","Using a fictionalized approach, this bilingual book allows beginning readers to follow along as one relatable family discovers the fun of flight. Through accessible text presented in both English and standard Latin American Spanish, readers are presented with a variety of fun facts about this common experience. A helpful picture glossary aids in vocabulary development, and colorful illustrations capture the excitement of a first airplane ride.","Bilingual",22.6,16.95,"387.7","24 pp.",{"$f":"Table1[[#This Row],['# Books]]*Table1[[#This Row],[QTY]]","v":0},{"$f":"Table1[[#This Row],[QTY]]*Table1[[#This Row],[S&L Price]]","v":0}]
[null,177,null,"My First Adventures / Mis primeras aventuras",1,"My First Trip on an Airplane /Mi primer viaje en avión","eBook",null,"978-1-4339-7371-0",2013,"August 2012",null,null,"Author","Katie Kawa",null,null,3,4,"C",null,"Grade K","Grade K - 2","Using a fictionalized approach, this bilingual book allows beginning readers to follow along as one relatable family discovers the fun of flight. Through accessible text presented in both English and standard Latin American Spanish, readers are presented with a variety of fun facts about this common experience. A helpful picture glossary aids in vocabulary development, and colorful illustrations capture the excitement of a first airplane ride.","Bilingual",22.6,16.95,"387.7","24 pp.",{"$f":"Table1[[#This Row],['# Books]]*Table1[[#This Row],[QTY]]","v":0},{"$f":"Table1[[#This Row],[QTY]]*Table1[[#This Row],[S&L Price]]","v":0}]
[null,177,null,"My First Adventures / Mis primeras aventuras",1,"My First Trip to a Baseball Game /Mi primer partido de béisbol","Library Bound Book",null,"978-1-4339-7374-1",2013,"August 2012","Library","7.625 X 7.125","Author","Katie Kawa",null,null,3,4,"C",null,"Grade K","Grade K - 2","Baseball is introduced to English language learners in way that is both educational and enjoyable. This fictionalized account allows readers to experience the thrills of an action-packed baseball game—from arriving at the baseball park to watching a batter hit a home run. Beginning readers discover fun facts about this common childhood experience with the help of accessible text presented in both English and standard Latin American Spanish. A helpful picture glossary aids in building a strong vocabulary by reinforcing the meanings of new words introduced in this engaging book. Bright illustrations bring the excitement of a baseball game to readers with every turn of the page.","Bilingual",22.6,16.95,"796.357","24 pp.",{"$f":"Table1[[#This Row],['# Books]]*Table1[[#This Row],[QTY]]","v":0},{"$f":"Table1[[#This Row],[QTY]]*Table1[[#This Row],[S&L Price]]","v":0}]
[null,177,null,"My First Adventures / Mis primeras aventuras",1,"My First Trip to a Baseball Game /Mi primer partido de béisbol","eBook",null,"978-1-4339-7375-8",2013,"August 2012",null,null,"Author","Katie Kawa",null,null,3,4,"C",null,"Grade K","Grade K - 2","Baseball is introduced to English language learners in way that is both educational and enjoyable. This fictionalized account allows readers to experience the thrills of an action-packed baseball game—from arriving at the baseball park to watching a batter hit a home run. Beginning readers discover fun facts about this common childhood experience with the help of accessible text presented in both English and standard Latin American Spanish. A helpful picture glossary aids in building a strong vocabulary by reinforcing the meanings of new words introduced in this engaging book. Bright illustrations bring the excitement of a baseball game to readers with every turn of the page.","Bilingual",22.6,16.95,"796.357","24 pp.",{"$f":"Table1[[#This Row],['# Books]]*Table1[[#This Row],[QTY]]","v":0},{"$f":"Table1[[#This Row],[QTY]]*Table1[[#This Row],[S&L Price]]","v":0}]
[null,177,null,"My First Adventures / Mis primeras aventuras",1,"My First Trip to the Aquarium /Mi primera visita al acuario","Library Bound Book",null,"978-1-4339-7372-7",2013,"August 2012","Library","7.625 X 7.125","Author","Katie Kawa",null,null,3,4,"C",null,"Grade K","Grade K - 2","Presented in both English and standard Latin American Spanish, this fictionalized approach to an aquarium visit allows beginning readers to discover for themselves fun facts about aquariums and the animals that live in them. They are introduced to a variety of amazing sea creatures—including colorful fish and playful dolphins. Featuring bright illustrations and a helpful picture glossary, designed to strengthen vocabulary skills, readers will be engaged throughout their reading.","Bilingual",22.6,16.95,"597.073","24 pp.",{"$f":"Table1[[#This Row],['# Books]]*Table1[[#This Row],[QTY]]","v":0},{"$f":"Table1[[#This Row],[QTY]]*Table1[[#This Row],[S&L Price]]","v":0}]
[null,177,null,"My First Adventures / Mis primeras aventuras",1,"My First Trip to the Aquarium /Mi primera visita al acuario","eBook",null,"978-1-4339-7373-4",2013,"August 2012",null,null,"Author","Katie Kawa",null,null,3,4,"C",null,"Grade K","Grade K - 2","Presented in both English and standard Latin American Spanish, this fictionalized approach to an aquarium visit allows beginning readers to discover for themselves fun facts about aquariums and the animals that live in them. They are introduced to a variety of amazing sea creatures—including colorful fish and playful dolphins. Featuring bright illustrations and a helpful picture glossary, designed to strengthen vocabulary skills, readers will be engaged throughout their reading.","Bilingual",22.6,16.95,"597.073","24 pp.",{"$f":"Table1[[#This Row],['# Books]]*Table1[[#This Row],[QTY]]","v":0},{"$f":"Table1[[#This Row],[QTY]]*Table1[[#This Row],[S&L Price]]","v":0}]
[null,177,null,"My First Adventures / Mis primeras aventuras",1,"My First Trip to the Bank / Mi primera visita al banco","Library Bound Book",null,"978-1-4339-6625-5",2012,"January 2012","Library","7.625 X 7.125","Author, Illustrated by","Katie Kawa, Jessica Livingston",null,null,3,4,"C",null,"Grade K","Grade K - 2","A bank is an important place in a community, and English language learners discover why in this bilingual book. Using a fictionalized approach, this book explains how banks work through the engaging story of one child’s visit. Easy-to-follow text presented in both English and standard Latin American Spanish helps beginning readers learn about saving their own money at their local bank. Colorful illustrations guide them through this fun and educational story, allowing them to see this familiar experience in an exciting new light.","Bilingual",22.6,16.95,"332.1","24 pp.",{"$f":"Table1[[#This Row],['# Books]]*Table1[[#This Row],[QTY]]","v":0},{"$f":"Table1[[#This Row],[QTY]]*Table1[[#This Row],[S&L Price]]","v":0}]
[null,177,null,"My First Adventures / Mis primeras aventuras",1,"My First Trip to the Bank / Mi primera visita al banco","eBook",null,"978-1-4339-6626-2",2012,"January 2012",null,null,"Author, Illustrated by","Katie Kawa, Jessica Livingston",null,null,3,4,"C",null,"Grade K","Grade K - 2","A bank is an important place in a community, and English language learners discover why in this bilingual book. Using a fictionalized approach, this book explains how banks work through the engaging story of one child’s visit. Easy-to-follow text presented in both English and standard Latin American Spanish helps beginning readers learn about saving their own money at their local bank. Colorful illustrations guide them through this fun and educational story, allowing them to see this familiar experience in an exciting new light.","Bilingual",22.6,16.95,"332.1","24 pp.",{"$f":"Table1[[#This Row],['# Books]]*Table1[[#This Row],[QTY]]","v":0},{"$f":"Table1[[#This Row],[QTY]]*Table1[[#This Row],[S&L Price]]","v":0}]
[null,177,null,"My First Adventures / Mis primeras aventuras",1,"My First Trip to the Beach /Mi primer viaje a la playa","Library Bound Book",null,"978-1-4339-7376-5",2013,"August 2012","Library","7.625 X 7.125","Author","Katie Kawa",null,null,3,4,"C",null,"Grade K","Grade K - 2","English language learners discover what fun can be had at the beach, including playing in the sand and jumping in the waves. A variety of exciting activities are presented to readers in this fictionalized account of a relatable childhood experience. Beginning readers learn interesting facts about the beach and the animals that live there through accessible text presented in both English and standard Latin American Spanish. A helpful picture glossary is included to aid in vocabulary development. Vibrant illustrations make this an educational and enjoyable reading experience for early learners.","Bilingual",22.6,16.95,"551.45","24 pp.",{"$f":"Table1[[#This Row],['# Books]]*Table1[[#This Row],[QTY]]","v":0},{"$f":"Table1[[#This Row],[QTY]]*Table1[[#This Row],[S&L Price]]","v":0}]
[null,177,null,"My First Adventures / Mis primeras aventuras",1,"My First Trip to the Beach /Mi primer viaje a la playa","eBook",null,"978-1-4339-7377-2",2013,"August 2012",null,null,"Author","Katie Kawa",null,null,3,4,"C",null,"Grade K","Grade K - 2","English language learners discover what fun can be had at the beach, including playing in the sand and jumping in the waves. A variety of exciting activities are presented to readers in this fictionalized account of a relatable childhood experience. Beginning readers learn interesting facts about the beach and the animals that live there through accessible text presented in both English and standard Latin American Spanish. A helpful picture glossary is included to aid in vocabulary development. Vibrant illustrations make this an educational and enjoyable reading experience for early learners.","Bilingual",22.6,16.95,"551.45","24 pp.",{"$f":"Table1[[#This Row],['# Books]]*Table1[[#This Row],[QTY]]","v":0},{"$f":"Table1[[#This Row],[QTY]]*Table1[[#This Row],[S&L Price]]","v":0}]
[null,177,null,"My First Adventures / Mis primeras aventuras",1,"My First Trip to the Dentist / Mi primera visita al dentista","Library Bound Book",null,"978-1-4339-6627-9",2012,"January 2012","Library","7.625 X 7.125","Author, Illustrated by","Katie Kawa, Jessica Livingston",null,null,3,4,"C",null,"Grade K","Grade K - 2","Using a fictionalized approach to this common childhood experience, beginning readers and English language learners are guided through a basic dental exam. Readers discover how dentists keep our teeth healthy and clean. Accessible text presented in both English and standard Latin American Spanish explains the process in a way that is both relatable and entertaining, and bright illustrations are sure to captivate young readers with every turn of the page.","Bilingual",22.6,16.95,"617.0083","24 pp.",{"$f":"Table1[[#This Row],['# Books]]*Table1[[#This Row],[QTY]]","v":0},{"$f":"Table1[[#This Row],[QTY]]*Table1[[#This Row],[S&L Price]]","v":0}]
[null,177,null,"My First Adventures / Mis primeras aventuras",1,"My First Trip to the Dentist / Mi primera visita al dentista","eBook",null,"978-1-4339-6628-6",2012,"January 2012",null,null,"Author, Illustrated by","Katie Kawa, Jessica Livingston",null,null,3,4,"C",null,"Grade K","Grade K - 2","Using a fictionalized approach to this common childhood experience, beginning readers and English language learners are guided through a basic dental exam. Readers discover how dentists keep our teeth healthy and clean. Accessible text presented in both English and standard Latin American Spanish explains the process in a way that is both relatable and entertaining, and bright illustrations are sure to captivate young readers with every turn of the page.","Bilingual",22.6,16.95,"617.0083","24 pp.",{"$f":"Table1[[#This Row],['# Books]]*Table1[[#This Row],[QTY]]","v":0},{"$f":"Table1[[#This Row],[QTY]]*Table1[[#This Row],[S&L Price]]","v":0}]
[null,177,null,"My First Adventures / Mis primeras aventuras",1,"My First Trip to the Doctor / Mi primera visita al médico","Library Bound Book",null,"978-1-4339-6629-3",2012,"January 2012","Library","7.625 X 7.125","Author, Illustrated by","Katie Kawa, Jessica Livingston",null,null,3,4,"C",null,"Grade K","Grade K - 2","Trips to the doctor help keep us healthy and strong, and English language learners see why in this engaging bilingual book. Readers meet the people who work in a doctor’s office and see what happens during an annual checkup as this fictionalized account allows them to follow along on one child’s visit. Through colorful illustrations and accessible text presented in both English and Latin American Spanish, beginning readers discover that going to the doctor can be both an educational and fun experience.","Bilingual",22.6,16.95,"618.92","24 pp.",{"$f":"Table1[[#This Row],['# Books]]*Table1[[#This Row],[QTY]]","v":0},{"$f":"Table1[[#This Row],[QTY]]*Table1[[#This Row],[S&L Price]]","v":0}]
[null,177,null,"My First Adventures / Mis primeras aventuras",1,"My First Trip to the Doctor / Mi primera visita al médico","eBook",null,"978-1-4339-6630-9",2012,"January 2012",null,null,"Author, Illustrated by","Katie Kawa, Jessica Livingston",null,null,3,4,"C",null,"Grade K","Grade K - 2","Trips to the doctor help keep us healthy and strong, and English language learners see why in this engaging bilingual book. Readers meet the people who work in a doctor’s office and see what happens during an annual checkup as this fictionalized account allows them to follow along on one child’s visit. Through colorful illustrations and accessible text presented in both English and Latin American Spanish, beginning readers discover that going to the doctor can be both an educational and fun experience.","Bilingual",22.6,16.95,"618.92","24 pp.",{"$f":"Table1[[#This Row],['# Books]]*Table1[[#This Row],[QTY]]","v":0},{"$f":"Table1[[#This Row],[QTY]]*Table1[[#This Row],[S&L Price]]","v":0}]
[null,177,null,"My First Adventures / Mis primeras aventuras",1,"My First Trip to the Farm /Mi primera visita a una granja","Library Bound Book",null,"978-1-4339-7378-9",2013,"August 2012","Library","7.625 X 7.125","Author","Katie Kawa",null,null,3,4,"C",null,"Grade K","Grade K - 2","English language learners discover a variety of popular farm animals, as well as the important foods that people get from farms. Using a fictionalized approach, the text allows readers to follow along as relatable children experience all of the excitement that farms have to offer. Readers will visit a pumpkin patch and go along for a hayride with colorful illustrations. Readers learn fun facts and improve their vocabulary skills with the help of a useful picture glossary and easy-to-follow text, presented in both English and standard Latin American Spanish.","Bilingual",22.6,16.95,"636","24 pp.",{"$f":"Table1[[#This Row],['# Books]]*Table1[[#This Row],[QTY]]","v":0},{"$f":"Table1[[#This Row],[QTY]]*Table1[[#This Row],[S&L Price]]","v":0}]
[null,177,null,"My First Adventures / Mis primeras aventuras",1,"My First Trip to the Farm /Mi primera visita a una granja","eBook",null,"978-1-4339-7379-6",2013,"August 2012",null,null,"Author","Katie Kawa",null,null,3,4,"C",null,"Grade K","Grade K - 2","English language learners discover a variety of popular farm animals, as well as the important foods that people get from farms. Using a fictionalized approach, the text allows readers to follow along as relatable children experience all of the excitement that farms have to offer. Readers will visit a pumpkin patch and go along for a hayride with colorful illustrations. Readers learn fun facts and improve their vocabulary skills with the help of a useful picture glossary and easy-to-follow text, presented in both English and standard Latin American Spanish.","Bilingual",22.6,16.95,"636","24 pp.",{"$f":"Table1[[#This Row],['# Books]]*Table1[[#This Row],[QTY]]","v":0},{"$f":"Table1[[#This Row],[QTY]]*Table1[[#This Row],[S&L Price]]","v":0}]
[null,177,null,"My First Adventures / Mis primeras aventuras",1,"My First Trip to the Fire Station /Mi primera visita a la estación de bomberos","Library Bound Book",null,"978-1-4339-7380-2",2013,"August 2012","Library","7.625 X 7.125","Author","Katie Kawa",null,null,3,4,"C",null,"Grade K","Grade K - 2","A fire station is the place where firefighters prepare to do their jobs, and beginning readers discover what this busy place is like through a fictionalized approach, presented in both English and standard Latin American Spanish. Early learners to follow along on one child’s visit to a fire station and discover fun facts about firefighters and the equipment they use to help keep people safe. Accessible bilingual text is accompanied by a helpful picture glossary and vibrant illustrations.","Bilingual",22.6,16.95,"628.9","24 pp.",{"$f":"Table1[[#This Row],['# Books]]*Table1[[#This Row],[QTY]]","v":0},{"$f":"Table1[[#This Row],[QTY]]*Table1[[#This Row],[S&L Price]]","v":0}]
[null,177,null,"My First Adventures / Mis primeras aventuras",1,"My First Trip to the Fire Station /Mi primera visita a la estación de bomberos","eBook",null,"978-1-4339-7381-9",2013,"August 2012",null,null,"Author","Katie Kawa",null,null,3,4,"C",null,"Grade K","Grade K - 2","A fire station is the place where firefighters prepare to do their jobs, and beginning readers discover what this busy place is like through a fictionalized approach, presented in both English and standard Latin American Spanish. Early learners to follow along on one child’s visit to a fire station and discover fun facts about firefighters and the equipment they use to help keep people safe. Accessible bilingual text is accompanied by a helpful picture glossary and vibrant illustrations.","Bilingual",22.6,16.95,"628.9","24 pp.",{"$f":"Table1[[#This Row],['# Books]]*Table1[[#This Row],[QTY]]","v":0},{"$f":"Table1[[#This Row],[QTY]]*Table1[[#This Row],[S&L Price]]","v":0}]
[null,177,null,"My First Adventures / Mis primeras aventuras",1,"My First Trip to the Library / Mi primera visita a la biblioteca","Library Bound Book",null,"978-1-4339-6631-6",2012,"January 2012","Library","7.625 X 7.125","Author, Illustrated by","Katie Kawa, Jessica Livingston",null,null,3,4,"C",null,"Grade K","Grade K - 2","English language learners will be eager to explore their libraries after reading this bilingual book. Using a fictionalized approach, this book allows beginning readers to discover the library through the eyes of a child, including meeting the librarian and using a library card. Bright illustrations and easy-to-follow text presented in both English and standard Latin American Spanish explains the most important parts of a visit to the library in an entertaining way.","Bilingual",22.6,16.95,"027","24 pp.",{"$f":"Table1[[#This Row],['# Books]]*Table1[[#This Row],[QTY]]","v":0},{"$f":"Table1[[#This Row],[QTY]]*Table1[[#This Row],[S&L Price]]","v":0}]
[null,177,null,"My First Adventures / Mis primeras aventuras",1,"My First Trip to the Library / Mi primera visita a la biblioteca","eBook",null,"978-1-4339-6632-3",2012,"January 2012",null,null,"Author, Illustrated by","Katie Kawa, Jessica Livingston",null,null,3,4,"C",null,"Grade K","Grade K - 2","English language learners will be eager to explore their libraries after reading this bilingual book. Using a fictionalized approach, this book allows beginning readers to discover the library through the eyes of a child, including meeting the librarian and using a library card. Bright illustrations and easy-to-follow text presented in both English and standard Latin American Spanish explains the most important parts of a visit to the library in an entertaining way.","Bilingual",22.6,16.95,"027","24 pp.",{"$f":"Table1[[#This Row],['# Books]]*Table1[[#This Row],[QTY]]","v":0},{"$f":"Table1[[#This Row],[QTY]]*Table1[[#This Row],[S&L Price]]","v":0}]
[null,177,null,"My First Adventures / Mis primeras aventuras",1,"My First Trip to the Post Office / Mi primera visita al correo","Library Bound Book",null,"978-1-4339-6633-0",2012,"January 2012","Library","7.625 X 7.125","Author, Illustrated by","Katie Kawa, Jessica Livingston",null,null,3,4,"C",null,"Grade K","Grade K - 2","Using a fictionalized approach, this bilingual book follows one child on a visit to the post office, making this easily relatable experience exciting for beginning readers to learn about and shows English language learners how mail gets from one person to another. The story tracks a letter through the postal system, showing the path of dropping the letter off the day it is written through the day it is delivered. Accessible text presented in both English and standard Latin American Spanish is accompanied by colorful illustrations, making this a trip to the post office that young readers will be sure to remember.","Bilingual",22.6,16.95,"383","24 pp.",{"$f":"Table1[[#This Row],['# Books]]*Table1[[#This Row],[QTY]]","v":0},{"$f":"Table1[[#This Row],[QTY]]*Table1[[#This Row],[S&L Price]]","v":0}]
[null,177,null,"My First Adventures / Mis primeras aventuras",1,"My First Trip to the Post Office / Mi primera visita al correo","eBook",null,"978-1-4339-6634-7",2012,"January 2012",null,null,"Author, Illustrated by","Katie Kawa, Jessica Livingston",null,null,3,4,"C",null,"Grade K","Grade K - 2","Using a fictionalized approach, this bilingual book follows one child on a visit to the post office, making this easily relatable experience exciting for beginning readers to learn about and shows English language learners how mail gets from one person to another. The story tracks a letter through the postal system, showing the path of dropping the letter off the day it is written through the day it is delivered. Accessible text presented in both English and standard Latin American Spanish is accompanied by colorful illustrations, making this a trip to the post office that young readers will be sure to remember.","Bilingual",22.6,16.95,"383","24 pp.",{"$f":"Table1[[#This Row],['# Books]]*Table1[[#This Row],[QTY]]","v":0},{"$f":"Table1[[#This Row],[QTY]]*Table1[[#This Row],[S&L Price]]","v":0}]
[null,177,null,"People Around Town / Gente de mi ciudad",1,"Meet the Baker / Te presento a los panaderos","Library Bound Book",null,"978-1-4339-7382-6",2013,"August 2012","Library","7.625 X 7.125","Author","Joyce Jeffries",null,null,3,4,"C",null,"Grade K","Grade K - 2","Using an easy-to-follow bilingual format, English language learners are introduced to the men and women who make the baked goods that people love to eat. Beginning readers discover why a baker’s job is both challenging and fun as they see the tasks that must be accomplished by bakers every day—including making batter and baking loaves of bread. Early learners are introduced to the tools bakers work with, including knives and ovens. Accessible text presented in both English and standard Latin American Spanish is accompanied by a picture glossary, helping young readers learn new facts and strengthen their vocabularies. Colorful photographs show hardworking bakers and the tasty treats they make.","Bilingual",22.6,16.95,"664","24 pp.",{"$f":"Table1[[#This Row],['# Books]]*Table1[[#This Row],[QTY]]","v":0},{"$f":"Table1[[#This Row],[QTY]]*Table1[[#This Row],[S&L Price]]","v":0}]
[null,177,null,"People Around Town / Gente de mi ciudad",1,"Meet the Baker / Te presento a los panaderos","eBook",null,"978-1-4339-7383-3",2013,"August 2012",null,null,"Author","Joyce Jeffries",null,null,3,4,"C",null,"Grade K","Grade K - 2","Using an easy-to-follow bilingual format, English language learners are introduced to the men and women who make the baked goods that people love to eat. Beginning readers discover why a baker’s job is both challenging and fun as they see the tasks that must be accomplished by bakers every day—including making batter and baking loaves of bread. Early learners are introduced to the tools bakers work with, including knives and ovens. Accessible text presented in both English and standard Latin American Spanish is accompanied by a picture glossary, helping young readers learn new facts and strengthen their vocabularies. Colorful photographs show hardworking bakers and the tasty treats they make.","Bilingual",22.6,16.95,"664","24 pp.",{"$f":"Table1[[#This Row],['# Books]]*Table1[[#This Row],[QTY]]","v":0},{"$f":"Table1[[#This Row],[QTY]]*Table1[[#This Row],[S&L Price]]","v":0}]
[null,177,null,"People Around Town / Gente de mi ciudad",1,"Meet the Bus Driver /Te presento a los conductores de autobús","Library Bound Book",null,"978-1-4339-7384-0",2013,"August 2012","Library","7.625 X 7.125","Author","Joyce Jeffries",null,null,3,4,"C",null,"Grade K","Grade K - 2","English language learners discover various types of bus drivers through accessible, bilingual text. They learn fun facts about bus drivers as well as the specific vehicles they drive. Easy-to-follow text, presented in both English and standard Latin American Spanish, introduces beginning readers to a variety of bus drivers, and a helpful picture glossary is included to strengthen vocabulary skills. Featuring bright photographs of bus drivers hard at work, this book is sure to provide an educational and enjoyable reading experience for learners.","Bilingual",22.6,16.95,"388.3","24 pp.",{"$f":"Table1[[#This Row],['# Books]]*Table1[[#This Row],[QTY]]","v":0},{"$f":"Table1[[#This Row],[QTY]]*Table1[[#This Row],[S&L Price]]","v":0}]
[null,177,null,"People Around Town / Gente de mi ciudad",1,"Meet the Bus Driver /Te presento a los conductores de autobús","eBook",null,"978-1-4339-7385-7",2013,"August 2012",null,null,"Author","Joyce Jeffries",null,null,3,4,"C",null,"Grade K","Grade K - 2","English language learners discover various types of bus drivers through accessible, bilingual text. They learn fun facts about bus drivers as well as the specific vehicles they drive. Easy-to-follow text, presented in both English and standard Latin American Spanish, introduces beginning readers to a variety of bus drivers, and a helpful picture glossary is included to strengthen vocabulary skills. Featuring bright photographs of bus drivers hard at work, this book is sure to provide an educational and enjoyable reading experience for learners.","Bilingual",22.6,16.95,"388.3","24 pp.",{"$f":"Table1[[#This Row],['# Books]]*Table1[[#This Row],[QTY]]","v":0},{"$f":"Table1[[#This Row],[QTY]]*Table1[[#This Row],[S&L Price]]","v":0}]
[null,177,null,"People Around Town / Gente de mi ciudad",1,"Meet the Construction Worker / Conoce a los trabajadores de la construcción","Library Bound Book",null,"978-1-4339-9464-7",2014,"August 2013","Library","7.625 X 7.125","Author","Joyce Jeffries",null,null,3,4,"C",null,"Grade K","Grade K - 2","Construction workers build our towns and cities! In this book, beginning readers will get to meet the community helpers who turn wood and metal into houses and schools. Through accessible text presented in both English and standard Latin American Spanish, readers will meet roofers, pipe fitters, and other essential builders that make the places we call home. Full-color photographs depict people hard at work, and a picture glossary reinforces vocabulary with colorful imagery of buildings and supplies, ready for work! • High-interest topic engages young readers • Strong picture-text correlation aids in comprehension • Reading level supports beginning readers • Picture glossary helps develop vocabulary skills • Comprehendible index guides readers through each book  ","Bilingual",22.6,16.95,"624","24 pp.",{"$f":"Table1[[#This Row],['# Books]]*Table1[[#This Row],[QTY]]","v":0},{"$f":"Table1[[#This Row],[QTY]]*Table1[[#This Row],[S&L Price]]","v":0}]
[null,177,null,"People Around Town / Gente de mi ciudad",1,"Meet the Construction Worker / Conoce a los trabajadores de la construcción","eBook",null,"978-1-4339-9465-4",2014,"August 2013",null,null,"Author","Joyce Jeffries",null,null,3,4,"C",null,"Grade K","Grade K - 2","Construction workers build our towns and cities! In this book, beginning readers will get to meet the community helpers who turn wood and metal into houses and schools. Through accessible text presented in both English and standard Latin American Spanish, readers will meet roofers, pipe fitters, and other essential builders that make the places we call home. Full-color photographs depict people hard at work, and a picture glossary reinforces vocabulary with colorful imagery of buildings and supplies, ready for work! • High-interest topic engages young readers • Strong picture-text correlation aids in comprehension • Reading level supports beginning readers • Picture glossary helps develop vocabulary skills • Comprehendible index guides readers through each book  ","Bilingual",22.6,16.95,"624","24 pp.",{"$f":"Table1[[#This Row],['# Books]]*Table1[[#This Row],[QTY]]","v":0},{"$f":"Table1[[#This Row],[QTY]]*Table1[[#This Row],[S&L Price]]","v":0}]
[null,177,null,"People Around Town / Gente de mi ciudad",1,"Meet the Farmer / Conoce a los granjeros","Library Bound Book",null,"978-1-4339-9466-1",2014,"August 2013","Library","7.625 X 7.125","Author","Joyce Jeffries",null,null,3,4,"C",null,"Grade K","Grade K - 2","Farmers know how to get the most out of the land, whether with crops or big farm animals. Readers learn more about the lives of these important community helpers with the help of full-color photographs and easy-to-read text. Readers discover how big tractors help farmers work quickly, and what kinds of animals call a farm home. Accessible text presented in both English and standard Latin American Spanish helps early readers grasp concepts, while a picture glossary pairs vocabulary with colorful imagery to help enhance comprehension.     • High-interest topic engages young readers • Strong picture-text correlation aids in comprehension • Reading level supports beginning readers • Picture glossary helps develop vocabulary skills • Comprehendible index guides readers through each book  ","Bilingual",22.6,16.95,"630","24 pp.",{"$f":"Table1[[#This Row],['# Books]]*Table1[[#This Row],[QTY]]","v":0},{"$f":"Table1[[#This Row],[QTY]]*Table1[[#This Row],[S&L Price]]","v":0}]
[null,177,null,"People Around Town / Gente de mi ciudad",1,"Meet the Farmer / Conoce a los granjeros","eBook",null,"978-1-4339-9467-8",2014,"August 2013",null,null,"Author","Joyce Jeffries",null,null,3,4,"C",null,"Grade K","Grade K - 2","Farmers know how to get the most out of the land, whether with crops or big farm animals. Readers learn more about the lives of these important community helpers with the help of full-color photographs and easy-to-read text. Readers discover how big tractors help farmers work quickly, and what kinds of animals call a farm home. Accessible text presented in both English and standard Latin American Spanish helps early readers grasp concepts, while a picture glossary pairs vocabulary with colorful imagery to help enhance comprehension.     • High-interest topic engages young readers • Strong picture-text correlation aids in comprehension • Reading level supports beginning readers • Picture glossary helps develop vocabulary skills • Comprehendible index guides readers through each book  ","Bilingual",22.6,16.95,"630","24 pp.",{"$f":"Table1[[#This Row],['# Books]]*Table1[[#This Row],[QTY]]","v":0},{"$f":"Table1[[#This Row],[QTY]]*Table1[[#This Row],[S&L Price]]","v":0}]
[null,177,null,"People Around Town / Gente de mi ciudad",1,"Meet the Fireman / Te presento a los bomberos","Library Bound Book",null,"978-1-4339-7386-4",2013,"August 2012","Library","7.625 X 7.125","Author","Joyce Jeffries",null,null,3,4,"C",null,"Grade K","Grade K - 2","English language learners discover how important a firefighter is to the community through exciting bilingual text. They learn the different ways firefighters work to keep people safe and get a detailed look at the equipment firefighters need to do their jobs properly. Accessible text is presented in English and standard Latin American Spanish, allowing beginning readers discover key facts about these life-saving heroes. A picture glossary aids in vocabulary development, and vivid photographs capture firefighters hard at work.","Bilingual",22.6,16.95,"363.37","24 pp.",{"$f":"Table1[[#This Row],['# Books]]*Table1[[#This Row],[QTY]]","v":0},{"$f":"Table1[[#This Row],[QTY]]*Table1[[#This Row],[S&L Price]]","v":0}]
[null,177,null,"People Around Town / Gente de mi ciudad",1,"Meet the Fireman / Te presento a los bomberos","eBook",null,"978-1-4339-7387-1",2013,"August 2012",null,null,"Author","Joyce Jeffries",null,null,3,4,"C",null,"Grade K","Grade K - 2","English language learners discover how important a firefighter is to the community through exciting bilingual text. They learn the different ways firefighters work to keep people safe and get a detailed look at the equipment firefighters need to do their jobs properly. Accessible text is presented in English and standard Latin American Spanish, allowing beginning readers discover key facts about these life-saving heroes. A picture glossary aids in vocabulary development, and vivid photographs capture firefighters hard at work.","Bilingual",22.6,16.95,"363.37","24 pp.",{"$f":"Table1[[#This Row],['# Books]]*Table1[[#This Row],[QTY]]","v":0},{"$f":"Table1[[#This Row],[QTY]]*Table1[[#This Row],[S&L Price]]","v":0}]
[null,177,null,"People Around Town / Gente de mi ciudad",1,"Meet the Librarian / Conoce a los bibliotecarios","Library Bound Book",null,"978-1-4339-9468-5",2014,"August 2013","Library","7.625 X 7.125","Author","Joyce Jeffries",null,null,3,4,"C",null,"Grade K","Grade K - 2","Librarians love working with books, but people can find all kinds of things at the library! Beginning readers will learn all about life among the stacks in this engaging first concepts book. Readers discover how a library is organized and what kind of things people can borrow from the library. They’ll also find out where the name “librarian” comes from and learn all about lending with the help of full-color photographs and accessible text presented in both English and standard Latin American Spanish. A picture glossary helps reinforce concepts and vocabulary with colorful imagery, while strong picture-text correlation aids in reading comprehension.    • High-interest topic engages young readers • Strong picture-text correlation aids in comprehension • Reading level supports beginning readers • Picture glossary helps develop vocabulary skills • Comprehendible index guides readers through each book    ","Bilingual",22.6,16.95,"371.425","24 pp.",{"$f":"Table1[[#This Row],['# Books]]*Table1[[#This Row],[QTY]]","v":0},{"$f":"Table1[[#This Row],[QTY]]*Table1[[#This Row],[S&L Price]]","v":0}]
[null,177,null,"People Around Town / Gente de mi ciudad",1,"Meet the Librarian / Conoce a los bibliotecarios","eBook",null,"978-1-4339-9469-2",2014,"August 2013",null,null,"Author","Joyce Jeffries",null,null,3,4,"C",null,"Grade K","Grade K - 2","Librarians love working with books, but people can find all kinds of things at the library! Beginning readers will learn all about life among the stacks in this engaging first concepts book. Readers discover how a library is organized and what kind of things people can borrow from the library. They’ll also find out where the name “librarian” comes from and learn all about lending with the help of full-color photographs and accessible text presented in both English and standard Latin American Spanish. A picture glossary helps reinforce concepts and vocabulary with colorful imagery, while strong picture-text correlation aids in reading comprehension.    • High-interest topic engages young readers • Strong picture-text correlation aids in comprehension • Reading level supports beginning readers • Picture glossary helps develop vocabulary skills • Comprehendible index guides readers through each book    ","Bilingual",22.6,16.95,"371.425","24 pp.",{"$f":"Table1[[#This Row],['# Books]]*Table1[[#This Row],[QTY]]","v":0},{"$f":"Table1[[#This Row],[QTY]]*Table1[[#This Row],[S&L Price]]","v":0}]
[null,177,null,"People Around Town / Gente de mi ciudad",1,"Meet the Mayor / Conoce a los alcaldes","Library Bound Book",null,"978-1-4339-9470-8",2014,"August 2013","Library","7.625 X 7.125","Author","Joyce Jeffries",null,null,3,4,"C",null,"Grade K","Grade K - 2","Every mayor is different, but they all want to help make towns and cities better places to live! Beginning readers learn what mayors can do to help everyday citizens with the help of full-color photographs and accessible text presented in both English and standard Latin American Spanish. They’ll discover how mayors help make laws, raise money for their towns and cities, and keep citizens safe. Strong picture-text correlation aids in reading comprehension, and a picture glossary reinforces vocabulary and concepts related to those important community leaders.    • High-interest topic engages young readers • Strong picture-text correlation aids in comprehension • Reading level supports beginning readers • Picture glossary helps develop vocabulary skills • Comprehendible index guides readers through each book    ","Bilingual",22.6,16.95,"352.23","24 pp.",{"$f":"Table1[[#This Row],['# Books]]*Table1[[#This Row],[QTY]]","v":0},{"$f":"Table1[[#This Row],[QTY]]*Table1[[#This Row],[S&L Price]]","v":0}]
[null,177,null,"People Around Town / Gente de mi ciudad",1,"Meet the Mayor / Conoce a los alcaldes","eBook",null,"978-1-4339-9471-5",2014,"August 2013",null,null,"Author","Joyce Jeffries",null,null,3,4,"C",null,"Grade K","Grade K - 2","Every mayor is different, but they all want to help make towns and cities better places to live! Beginning readers learn what mayors can do to help everyday citizens with the help of full-color photographs and accessible text presented in both English and standard Latin American Spanish. They’ll discover how mayors help make laws, raise money for their towns and cities, and keep citizens safe. Strong picture-text correlation aids in reading comprehension, and a picture glossary reinforces vocabulary and concepts related to those important community leaders.    • High-interest topic engages young readers • Strong picture-text correlation aids in comprehension • Reading level supports beginning readers • Picture glossary helps develop vocabulary skills • Comprehendible index guides readers through each book    ","Bilingual",22.6,16.95,"352.23","24 pp.",{"$f":"Table1[[#This Row],['# Books]]*Table1[[#This Row],[QTY]]","v":0},{"$f":"Table1[[#This Row],[QTY]]*Table1[[#This Row],[S&L Price]]","v":0}]
[null,177,null,"People Around Town / Gente de mi ciudad",1,"Meet the Nurse / Te presento a los enfermeros","Library Bound Book",null,"978-1-4339-7388-8",2013,"August 2012","Library","7.625 X 7.125","Author","Joyce Jeffries",null,null,3,4,"C",null,"Grade K","Grade K - 2","Nurses work very hard to help people stay healthy and get healthier. Through bilingual text, English language learners see how nurses work individually and with doctors to care for both sick and healthy patients. Beginning readers are introduced to a variety of tools that nurses use to do their jobs and learn fun facts about nurses through the use of accessible text presented in both English and standard Latin American Spanish. A picture glossary is included to strengthen vocabulary skills. Bright photographs show a variety of nurses doing important tasks, making this an enlightening reading experience for early learners.","Bilingual",22.6,16.95,"610.73","24 pp.",{"$f":"Table1[[#This Row],['# Books]]*Table1[[#This Row],[QTY]]","v":0},{"$f":"Table1[[#This Row],[QTY]]*Table1[[#This Row],[S&L Price]]","v":0}]
[null,177,null,"People Around Town / Gente de mi ciudad",1,"Meet the Nurse / Te presento a los enfermeros","eBook",null,"978-1-4339-7389-5",2013,"August 2012",null,null,"Author","Joyce Jeffries",null,null,3,4,"C",null,"Grade K","Grade K - 2","Nurses work very hard to help people stay healthy and get healthier. Through bilingual text, English language learners see how nurses work individually and with doctors to care for both sick and healthy patients. Beginning readers are introduced to a variety of tools that nurses use to do their jobs and learn fun facts about nurses through the use of accessible text presented in both English and standard Latin American Spanish. A picture glossary is included to strengthen vocabulary skills. Bright photographs show a variety of nurses doing important tasks, making this an enlightening reading experience for early learners.","Bilingual",22.6,16.95,"610.73","24 pp.",{"$f":"Table1[[#This Row],['# Books]]*Table1[[#This Row],[QTY]]","v":0},{"$f":"Table1[[#This Row],[QTY]]*Table1[[#This Row],[S&L Price]]","v":0}]
[null,177,null,"People Around Town / Gente de mi ciudad",1,"Meet the Pilot / Conoce a los pilotos","Library Bound Book",null,"978-1-4339-9472-2",2014,"August 2013","Library","7.625 X 7.125","Author","Joyce Jeffries",null,null,3,4,"C",null,"Grade K","Grade K - 2","Not many people know that the first pilots took to the skies in hot air balloons. Today, professional pilots use fast jets and helicopters to get from place to place in style.  Through the use of accessible text, presented in both English and standard Latin American Spanish, and colorful photographs, early readers will learn all about the people who soar high above their towns and cities every day, and will have fun exploring the cockpit of the world’s fastest vehicles. A picture glossary helps reinforce essential vocabulary related to these high-flying community helpers. • High-interest topic engages young readers • Strong picture-text correlation aids in comprehension • Reading level supports beginning readers • Picture glossary helps develop vocabulary skills • Comprehendible index guides readers through each book","Bilingual",22.6,16.95,"629.13","24 pp.",{"$f":"Table1[[#This Row],['# Books]]*Table1[[#This Row],[QTY]]","v":0},{"$f":"Table1[[#This Row],[QTY]]*Table1[[#This Row],[S&L Price]]","v":0}]
[null,177,null,"People Around Town / Gente de mi ciudad",1,"Meet the Pilot / Conoce a los pilotos","eBook",null,"978-1-4339-9473-9",2014,"August 2013",null,null,"Author","Joyce Jeffries",null,null,3,4,"C",null,"Grade K","Grade K - 2","Not many people know that the first pilots took to the skies in hot air balloons. Today, professional pilots use fast jets and helicopters to get from place to place in style.  Through the use of accessible text, presented in both English and standard Latin American Spanish, and colorful photographs, early readers will learn all about the people who soar high above their towns and cities every day, and will have fun exploring the cockpit of the world’s fastest vehicles. A picture glossary helps reinforce essential vocabulary related to these high-flying community helpers. • High-interest topic engages young readers • Strong picture-text correlation aids in comprehension • Reading level supports beginning readers • Picture glossary helps develop vocabulary skills • Comprehendible index guides readers through each book","Bilingual",22.6,16.95,"629.13","24 pp.",{"$f":"Table1[[#This Row],['# Books]]*Table1[[#This Row],[QTY]]","v":0},{"$f":"Table1[[#This Row],[QTY]]*Table1[[#This Row],[S&L Price]]","v":0}]
[null,177,null,"People Around Town / Gente de mi ciudad",1,"Meet the Policeman / Te presento a los policías","Library Bound Book",null,"978-1-4339-7390-1",2013,"August 2012","Library","7.625 X 7.125","Author","Joyce Jeffries",null,null,3,4,"C",null,"Grade K","Grade K - 2","English language learners discover how policemen work to keep people safe in this engaging bilingual book. They learn about the special things that help policemen do their jobs—including fast cars and smart dogs. Accessible text presented in both English and standard Latin American Spanish helps readers see for themselves what life is like inside a police station for the people who work there. Readers will be captivated by vibrant photographs of policemen on the job, and further their vocabulary skills with a helpful picture glossary.","Bilingual",22.6,16.95,"363.2","24 pp.",{"$f":"Table1[[#This Row],['# Books]]*Table1[[#This Row],[QTY]]","v":0},{"$f":"Table1[[#This Row],[QTY]]*Table1[[#This Row],[S&L Price]]","v":0}]
[null,177,null,"People Around Town / Gente de mi ciudad",1,"Meet the Policeman / Te presento a los policías","eBook",null,"978-1-4339-7391-8",2013,"August 2012",null,null,"Author","Joyce Jeffries",null,null,3,4,"C",null,"Grade K","Grade K - 2","English language learners discover how policemen work to keep people safe in this engaging bilingual book. They learn about the special things that help policemen do their jobs—including fast cars and smart dogs. Accessible text presented in both English and standard Latin American Spanish helps readers see for themselves what life is like inside a police station for the people who work there. Readers will be captivated by vibrant photographs of policemen on the job, and further their vocabulary skills with a helpful picture glossary.","Bilingual",22.6,16.95,"363.2","24 pp.",{"$f":"Table1[[#This Row],['# Books]]*Table1[[#This Row],[QTY]]","v":0},{"$f":"Table1[[#This Row],[QTY]]*Table1[[#This Row],[S&L Price]]","v":0}]
[null,177,null,"People Around Town / Gente de mi ciudad",1,"Meet the Teacher / Te presento a los maestros","Library Bound Book",null,"978-1-4339-7392-5",2013,"August 2012","Library","7.625 X 7.125","Author","Joyce Jeffries",null,null,3,4,"C",null,"Grade K","Grade K - 2","English language learners discover fun new facts about teachers and the work that they do. They get an up-close look at some of the important tools teachers use to help their students learn. With the help of accessible text presented in both English and standard Latin American Spanish, readers see for themselves what it is like to be a teacher. A picture glossary is included to help strengthen vocabulary skills. Colorful pictures show teachers hard at work in their classrooms, making this book one that beginning readers are sure to find relatable, educational, and enjoyable.","Bilingual",22.6,16.95,"371.1","24 pp.",{"$f":"Table1[[#This Row],['# Books]]*Table1[[#This Row],[QTY]]","v":0},{"$f":"Table1[[#This Row],[QTY]]*Table1[[#This Row],[S&L Price]]","v":0}]
[null,177,null,"People Around Town / Gente de mi ciudad",1,"Meet the Teacher / Te presento a los maestros","eBook",null,"978-1-4339-7393-2",2013,"August 2012",null,null,"Author","Joyce Jeffries",null,null,3,4,"C",null,"Grade K","Grade K - 2","English language learners discover fun new facts about teachers and the work that they do. They get an up-close look at some of the important tools teachers use to help their students learn. With the help of accessible text presented in both English and standard Latin American Spanish, readers see for themselves what it is like to be a teacher. A picture glossary is included to help strengthen vocabulary skills. Colorful pictures show teachers hard at work in their classrooms, making this book one that beginning readers are sure to find relatable, educational, and enjoyable.","Bilingual",22.6,16.95,"371.1","24 pp.",{"$f":"Table1[[#This Row],['# Books]]*Table1[[#This Row],[QTY]]","v":0},{"$f":"Table1[[#This Row],[QTY]]*Table1[[#This Row],[S&L Price]]","v":0}]
[null,178,null,"People Around Town / Gente de mi ciudad",1,"Meet the Vet / Conoce a los veterinarios","Library Bound Book",null,"978-1-4339-9474-6",2014,"August 2013","Library","7.625 X 7.125","Author","Joyce Jeffries",null,null,3,4,"C",null,"Grade K","Grade K - 2","When our pets are sick, we take them to the vet! Readers learn all about these helpful community heroes do each day to make sure our cats and dogs stay safe in this exciting book filled with full-color photographs. Through the use of accessible text presented in both English and standard Latin American Spanish, early readers are introduced to many types of vets. From horse vets to small animal vets that take care of cats and dogs, readers explore the lives of the professionals that help take care of our animal family members!   • High-interest topic engages young readers • Strong picture-text correlation aids in comprehension • Reading level supports beginning readers • Picture glossary helps develop vocabulary skills • Comprehendible index guides readers through each book  ","Bilingual",22.6,16.95,"636.089","24 pp.",{"$f":"Table1[[#This Row],['# Books]]*Table1[[#This Row],[QTY]]","v":0},{"$f":"Table1[[#This Row],[QTY]]*Table1[[#This Row],[S&L Price]]","v":0}]
[null,178,null,"People Around Town / Gente de mi ciudad",1,"Meet the Vet / Conoce a los veterinarios","eBook",null,"978-1-4339-9475-3",2014,"August 2013",null,null,"Author","Joyce Jeffries",null,null,3,4,"C",null,"Grade K","Grade K - 2","When our pets are sick, we take them to the vet! Readers learn all about these helpful community heroes do each day to make sure our cats and dogs stay safe in this exciting book filled with full-color photographs. Through the use of accessible text presented in both English and standard Latin American Spanish, early readers are introduced to many types of vets. From horse vets to small animal vets that take care of cats and dogs, readers explore the lives of the professionals that help take care of our animal family members!   • High-interest topic engages young readers • Strong picture-text correlation aids in comprehension • Reading level supports beginning readers • Picture glossary helps develop vocabulary skills • Comprehendible index guides readers through each book  ","Bilingual",22.6,16.95,"636.089","24 pp.",{"$f":"Table1[[#This Row],['# Books]]*Table1[[#This Row],[QTY]]","v":0},{"$f":"Table1[[#This Row],[QTY]]*Table1[[#This Row],[S&L Price]]","v":0}]
[null,178,null,"Pet Corner / Rincón de las mascotas",1,"Colorful Goldfish / Peces dorados brillantes","Library Bound Book",null,"978-1-4339-5601-0",2012,"August 2011","Library","7.625 X 7.125","Author","Katie Kawa",null,null,3,4,"C",null,"Grade K","Grade K - 2","Goldfish are some pretty incredible pets—they never stop growing and can sleep with their eyes open. English language learners read all about them in this fact-filled bilingual book. Simple text presented in both English and standard Latin American Spanish explains how to take care of these fun fish. Vibrant photographs bring readers into the watery world of goldfish. ","Bilingual",22.6,16.95,"639.3","24 pp.",{"$f":"Table1[[#This Row],['# Books]]*Table1[[#This Row],[QTY]]","v":0},{"$f":"Table1[[#This Row],[QTY]]*Table1[[#This Row],[S&L Price]]","v":0}]
[null,178,null,"Pet Corner / Rincón de las mascotas",1,"Colorful Goldfish / Peces dorados brillantes","eBook",null,"978-1-4339-5602-7",2012,"August 2011",null,null,"Author","Katie Kawa",null,null,3,4,"C",null,"Grade K","Grade K - 2","Goldfish are some pretty incredible pets—they never stop growing and can sleep with their eyes open. English language learners read all about them in this fact-filled bilingual book. Simple text presented in both English and standard Latin American Spanish explains how to take care of these fun fish. Vibrant photographs bring readers into the watery world of goldfish. ","Bilingual",22.6,16.95,"639.3","24 pp.",{"$f":"Table1[[#This Row],['# Books]]*Table1[[#This Row],[QTY]]","v":0},{"$f":"Table1[[#This Row],[QTY]]*Table1[[#This Row],[S&L Price]]","v":0}]
[null,178,null,"Pet Corner / Rincón de las mascotas",1,"Cuddly Rabbits / Conejos encantadores","Library Bound Book",null,"978-1-4339-5619-5",2012,"August 2011","Library","7.625 X 7.125","Author","Katie Kawa",null,null,3,4,"C",null,"Grade K","Grade K - 2","With their long ears and shy natures, hopping rabbits are uniquely cute creatures. In this bilingual book, English language learners discover fun facts about rabbits through the use of accessible text presented in both English and standard Latin American Spanish. Detailed photographs show these adorable animals doing everything from eating their favorite foods to playing with people.","Bilingual",22.6,16.95,"636.932","24 pp.",{"$f":"Table1[[#This Row],['# Books]]*Table1[[#This Row],[QTY]]","v":0},{"$f":"Table1[[#This Row],[QTY]]*Table1[[#This Row],[S&L Price]]","v":0}]
[null,178,null,"Pet Corner / Rincón de las mascotas",1,"Cuddly Rabbits / Conejos encantadores","eBook",null,"978-1-4339-5620-1",2012,"August 2011",null,null,"Author","Katie Kawa",null,null,3,4,"C",null,"Grade K","Grade K - 2","With their long ears and shy natures, hopping rabbits are uniquely cute creatures. In this bilingual book, English language learners discover fun facts about rabbits through the use of accessible text presented in both English and standard Latin American Spanish. Detailed photographs show these adorable animals doing everything from eating their favorite foods to playing with people.","Bilingual",22.6,16.95,"636.932","24 pp.",{"$f":"Table1[[#This Row],['# Books]]*Table1[[#This Row],[QTY]]","v":0},{"$f":"Table1[[#This Row],[QTY]]*Table1[[#This Row],[S&L Price]]","v":0}]
[null,178,null,"Pet Corner / Rincón de las mascotas",1,"Curious Cats / Gatos curiosos","Library Bound Book",null,"978-1-4339-5590-7",2012,"August 2011","Library","7.625 X 7.125","Author","Katie Kawa",null,null,3,4,"C",null,"Grade K","Grade K - 2","Cats are one of the most popular pets, and it’s easy to see why: they’re self-cleaning and they love to play. Through the use of simple text presented in both English and standard Latin American Spanish, English language learners discover fun facts about these popular pets. Colorful photographs show many varieties of cuddly felines at rest and at play. Readers learn how much fun it can be to take care of a pet cat in this book.","Bilingual",22.6,16.95,"636.8","24 pp.",{"$f":"Table1[[#This Row],['# Books]]*Table1[[#This Row],[QTY]]","v":0},{"$f":"Table1[[#This Row],[QTY]]*Table1[[#This Row],[S&L Price]]","v":0}]
[null,178,null,"Pet Corner / Rincón de las mascotas",1,"Curious Cats / Gatos curiosos","eBook",null,"978-1-4339-6061-1",2012,"August 2011",null,null,"Author","Katie Kawa",null,null,3,4,"C",null,"Grade K","Grade K - 2","Cats are one of the most popular pets, and it’s easy to see why: they’re self-cleaning and they love to play. Through the use of simple text presented in both English and standard Latin American Spanish, English language learners discover fun facts about these popular pets. Colorful photographs show many varieties of cuddly felines at rest and at play. Readers learn how much fun it can be to take care of a pet cat in this book.","Bilingual",22.6,16.95,"636.8","24 pp.",{"$f":"Table1[[#This Row],['# Books]]*Table1[[#This Row],[QTY]]","v":0},{"$f":"Table1[[#This Row],[QTY]]*Table1[[#This Row],[S&L Price]]","v":0}]
[null,178,null,"Pet Corner / Rincón de las mascotas",1,"Fun Frogs / Ranas saltarinas","Library Bound Book",null,"978-1-4339-6637-8",2012,"January 2012","Library","7.625 X 7.125","Author","Rose Carraway",null,null,3,4,"C",null,"Grade K","Grade K - 2","Readers explore fascinating facts about frogs with the easy-to-follow, bilingual text format this book provides. Beginning readers will learn how to take care of these lively pets with information about these amazing amphibians presented in both English and standard Latin American Spanish. Bright photographs of a variety of incredible pet frogs make this a reading experience that English language learners will truly enjoy.","Bilingual",22.6,16.95,"639.3","24 pp.",{"$f":"Table1[[#This Row],['# Books]]*Table1[[#This Row],[QTY]]","v":0},{"$f":"Table1[[#This Row],[QTY]]*Table1[[#This Row],[S&L Price]]","v":0}]
[null,178,null,"Pet Corner / Rincón de las mascotas",1,"Fun Frogs / Ranas saltarinas","eBook",null,"978-1-4339-6638-5",2012,"January 2012",null,null,"Author","Rose Carraway",null,null,3,4,"C",null,"Grade K","Grade K - 2","Readers explore fascinating facts about frogs with the easy-to-follow, bilingual text format this book provides. Beginning readers will learn how to take care of these lively pets with information about these amazing amphibians presented in both English and standard Latin American Spanish. Bright photographs of a variety of incredible pet frogs make this a reading experience that English language learners will truly enjoy.","Bilingual",22.6,16.95,"639.3","24 pp.",{"$f":"Table1[[#This Row],['# Books]]*Table1[[#This Row],[QTY]]","v":0},{"$f":"Table1[[#This Row],[QTY]]*Table1[[#This Row],[S&L Price]]","v":0}]
[null,178,null,"Pet Corner / Rincón de las mascotas",1,"Furry Hamsters / Hámsteres peludos","Library Bound Book",null,"978-1-4339-5607-2",2012,"August 2011","Library","7.625 X 7.125","Author","Katie Kawa",null,null,3,4,"C",null,"Grade K","Grade K - 2","Hamsters are very popular pets. English language learners discover how to take good care of them in this bilingual book. Accessible text presented in both English and standard Latin American Spanish allows readers to learn fun facts about hamsters—from what they eat to how they play. Bright photographs show a variety of hamsters in great detail, bringing readers into the world of these playful animals.","Bilingual",22.6,16.95,"636.935","24 pp.",{"$f":"Table1[[#This Row],['# Books]]*Table1[[#This Row],[QTY]]","v":0},{"$f":"Table1[[#This Row],[QTY]]*Table1[[#This Row],[S&L Price]]","v":0}]
[null,178,null,"Pet Corner / Rincón de las mascotas",1,"Furry Hamsters / Hámsteres peludos","eBook",null,"978-1-4339-5608-9",2012,"August 2011",null,null,"Author","Katie Kawa",null,null,3,4,"C",null,"Grade K","Grade K - 2","Hamsters are very popular pets. English language learners discover how to take good care of them in this bilingual book. Accessible text presented in both English and standard Latin American Spanish allows readers to learn fun facts about hamsters—from what they eat to how they play. Bright photographs show a variety of hamsters in great detail, bringing readers into the world of these playful animals.","Bilingual",22.6,16.95,"636.935","24 pp.",{"$f":"Table1[[#This Row],['# Books]]*Table1[[#This Row],[QTY]]","v":0},{"$f":"Table1[[#This Row],[QTY]]*Table1[[#This Row],[S&L Price]]","v":0}]
[null,178,null,"Pet Corner / Rincón de las mascotas",1,"Great Guinea Pigs / Cobayos extraordinarios","Library Bound Book",null,"978-1-4339-6639-2",2012,"January 2012","Library","7.625 X 7.125","Author","Rose Carraway",null,null,3,4,"C",null,"Grade K","Grade K - 2","Guinea pigs eat oranges, they have teeth that never stop growing, and hiding is their favorite way to play. English language learners explore many amazing facts about guinea pigs in this bilingual book and discover what they can do to be good guinea pig owners. Presented in both English and standard Latin American Spanish, easy-to-follow text is accompanied by colorful photographs to show these adorable animals in beautiful detail.","Bilingual",22.6,16.95,"636.935","24 pp.",{"$f":"Table1[[#This Row],['# Books]]*Table1[[#This Row],[QTY]]","v":0},{"$f":"Table1[[#This Row],[QTY]]*Table1[[#This Row],[S&L Price]]","v":0}]
[null,178,null,"Pet Corner / Rincón de las mascotas",1,"Great Guinea Pigs / Cobayos extraordinarios","eBook",null,"978-1-4339-6640-8",2012,"January 2012",null,null,"Author","Rose Carraway",null,null,3,4,"C",null,"Grade K","Grade K - 2","Guinea pigs eat oranges, they have teeth that never stop growing, and hiding is their favorite way to play. English language learners explore many amazing facts about guinea pigs in this bilingual book and discover what they can do to be good guinea pig owners. Presented in both English and standard Latin American Spanish, easy-to-follow text is accompanied by colorful photographs to show these adorable animals in beautiful detail.","Bilingual",22.6,16.95,"636.935","24 pp.",{"$f":"Table1[[#This Row],['# Books]]*Table1[[#This Row],[QTY]]","v":0},{"$f":"Table1[[#This Row],[QTY]]*Table1[[#This Row],[S&L Price]]","v":0}]
[null,178,null,"Pet Corner / Rincón de las mascotas",1,"Lovable Dogs / Perros adorables","Library Bound Book",null,"978-1-4339-5595-2",2012,"August 2011","Library","7.625 X 7.125","Author","Katie Kawa",null,null,2,2,"B",null,"Grade K","Grade K - 2","Dogs are called “man’s best friend” because of their famed loyalty. In this bilingual book, English language learners explore the daily lives of one of the world’s most beloved animals. Fun facts are presented in both English and standard Latin American Spanish, teaching readers how to care for a dog using simple text. Bright photographs of a variety of dog breeds accompany these facts, so readers can see exactly what they are learning about.","Bilingual",22.6,16.95,"636.7","24 pp.",{"$f":"Table1[[#This Row],['# Books]]*Table1[[#This Row],[QTY]]","v":0},{"$f":"Table1[[#This Row],[QTY]]*Table1[[#This Row],[S&L Price]]","v":0}]
[null,178,null,"Pet Corner / Rincón de las mascotas",1,"Lovable Dogs / Perros adorables","eBook",null,"978-1-4339-6062-8",2012,"August 2011",null,null,"Author","Katie Kawa",null,null,2,2,"B",null,"Grade K","Grade K - 2","Dogs are called “man’s best friend” because of their famed loyalty. In this bilingual book, English language learners explore the daily lives of one of the world’s most beloved animals. Fun facts are presented in both English and standard Latin American Spanish, teaching readers how to care for a dog using simple text. Bright photographs of a variety of dog breeds accompany these facts, so readers can see exactly what they are learning about.","Bilingual",22.6,16.95,"636.7","24 pp.",{"$f":"Table1[[#This Row],['# Books]]*Table1[[#This Row],[QTY]]","v":0},{"$f":"Table1[[#This Row],[QTY]]*Table1[[#This Row],[S&L Price]]","v":0}]
[null,178,null,"Pet Corner / Rincón de las mascotas",1,"Slithering Snakes / Serpientes resbaladizas","Library Bound Book",null,"978-1-4339-6645-3",2012,"January 2012","Library","7.625 X 7.125","Author","Rose Carraway",null,null,3,4,"C",null,"Grade K","Grade K - 2","English language learners find fun facts about snakes in this bilingual book, such as how they’re able to smell without a nose, that they have no legs, and that they eat mice for dinner. Through accessible text presented in both English and standard Latin American Spanish, readers also discover what they can do to keep a pet snake happy and healthy. Detailed photographs give beginning readers an up-close look at a colorful variety of pet snakes.","Bilingual",22.6,16.95,"639.3","24 pp.",{"$f":"Table1[[#This Row],['# Books]]*Table1[[#This Row],[QTY]]","v":0},{"$f":"Table1[[#This Row],[QTY]]*Table1[[#This Row],[S&L Price]]","v":0}]
[null,178,null,"Pet Corner / Rincón de las mascotas",1,"Slithering Snakes / Serpientes resbaladizas","eBook",null,"978-1-4339-6646-0",2012,"January 2012",null,null,"Author","Rose Carraway",null,null,3,4,"C",null,"Grade K","Grade K - 2","English language learners find fun facts about snakes in this bilingual book, such as how they’re able to smell without a nose, that they have no legs, and that they eat mice for dinner. Through accessible text presented in both English and standard Latin American Spanish, readers also discover what they can do to keep a pet snake happy and healthy. Detailed photographs give beginning readers an up-close look at a colorful variety of pet snakes.","Bilingual",22.6,16.95,"639.3","24 pp.",{"$f":"Table1[[#This Row],['# Books]]*Table1[[#This Row],[QTY]]","v":0},{"$f":"Table1[[#This Row],[QTY]]*Table1[[#This Row],[S&L Price]]","v":0}]
[null,178,null,"Pet Corner / Rincón de las mascotas",1,"Terrific Turtles / Tortugas asombrosas","Library Bound Book",null,"978-1-4339-6647-7",2012,"January 2012","Library","7.625 X 7.125","Author","Rose Carraway",null,null,3,4,"C",null,"Grade K","Grade K - 2","Turtles are amazing animals, and English language learners discover why they make great pets in this bilingual book. They learn how to take care of pet turtles, including where to keep them and what to feed them. Fascinating facts about turtles are presented to beginning readers in accessible text that is written in both English and standard Latin American Spanish. These facts are brought to life by colorful photographs of pet turtles in a variety of settings.","Bilingual",22.6,16.95,"639.3","24 pp.",{"$f":"Table1[[#This Row],['# Books]]*Table1[[#This Row],[QTY]]","v":0},{"$f":"Table1[[#This Row],[QTY]]*Table1[[#This Row],[S&L Price]]","v":0}]
[null,178,null,"Pet Corner / Rincón de las mascotas",1,"Terrific Turtles / Tortugas asombrosas","eBook",null,"978-1-4339-6648-4",2012,"January 2012",null,null,"Author","Rose Carraway",null,null,3,4,"C",null,"Grade K","Grade K - 2","Turtles are amazing animals, and English language learners discover why they make great pets in this bilingual book. They learn how to take care of pet turtles, including where to keep them and what to feed them. Fascinating facts about turtles are presented to beginning readers in accessible text that is written in both English and standard Latin American Spanish. These facts are brought to life by colorful photographs of pet turtles in a variety of settings.","Bilingual",22.6,16.95,"639.3","24 pp.",{"$f":"Table1[[#This Row],['# Books]]*Table1[[#This Row],[QTY]]","v":0},{"$f":"Table1[[#This Row],[QTY]]*Table1[[#This Row],[S&L Price]]","v":0}]
[null,178,null,"Underwater World / El mundo submarino",1,"Clownfish / Peces payaso","Library Bound Book",null,"978-1-4339-8778-6",2013,"January 2013","Library","7.625 X 7.125","Author","Ryan Nagelhout",null,null,3,4,"C",null,"Grade K","Grade K - 2","The bright and colorful clownfish lives an exciting life in the coral reef. Through the use of accessible text, presented in both English and standard Latin-American Spanish, readers take an exciting look at the world clownfish call home. A picture glossary helps beginning readers strengthen their vocabulary skills, and vibrant, full-color photographs shows how these stunning animals survive under the sea.","Bilingual",22.6,16.95,"596","24 pp.",{"$f":"Table1[[#This Row],['# Books]]*Table1[[#This Row],[QTY]]","v":0},{"$f":"Table1[[#This Row],[QTY]]*Table1[[#This Row],[S&L Price]]","v":0}]
[null,178,null,"Underwater World / El mundo submarino",1,"Clownfish / Peces payaso","eBook",null,"978-1-4339-8779-3",2013,"January 2013",null,null,"Author","Ryan Nagelhout",null,null,3,4,"C",null,"Grade K","Grade K - 2","The bright and colorful clownfish lives an exciting life in the coral reef. Through the use of accessible text, presented in both English and standard Latin-American Spanish, readers take an exciting look at the world clownfish call home. A picture glossary helps beginning readers strengthen their vocabulary skills, and vibrant, full-color photographs shows how these stunning animals survive under the sea.","Bilingual",22.6,16.95,"596","24 pp.",{"$f":"Table1[[#This Row],['# Books]]*Table1[[#This Row],[QTY]]","v":0},{"$f":"Table1[[#This Row],[QTY]]*Table1[[#This Row],[S&L Price]]","v":0}]
[null,178,null,"Underwater World / El mundo submarino",1,"Sea Stars / Estrellas de mar","Library Bound Book",null,"978-1-4339-8782-3",2013,"January 2013","Library","7.625 X 7.125","Author","Ryan Nagelhout",null,null,3,4,"C",null,"Grade K","Grade K - 2","A sea star is one of the most durable creatures in the world. Through the use of accessible text presented in both English and standard Latin-American Spanish, readers take an exciting look at the wet world these curious creatures call home. A picture glossary helps beginning readers strengthen their vocabulary skills, and vibrant, full-color photographs shows how these stunning animals survive under the waves.","Bilingual",22.6,16.95,"593.9","24 pp.",{"$f":"Table1[[#This Row],['# Books]]*Table1[[#This Row],[QTY]]","v":0},{"$f":"Table1[[#This Row],[QTY]]*Table1[[#This Row],[S&L Price]]","v":0}]
[null,178,null,"Underwater World / El mundo submarino",1,"Sea Stars / Estrellas de mar","eBook",null,"978-1-4339-8783-0",2013,"January 2013",null,null,"Author","Ryan Nagelhout",null,null,3,4,"C",null,"Grade K","Grade K - 2","A sea star is one of the most durable creatures in the world. Through the use of accessible text presented in both English and standard Latin-American Spanish, readers take an exciting look at the wet world these curious creatures call home. A picture glossary helps beginning readers strengthen their vocabulary skills, and vibrant, full-color photographs shows how these stunning animals survive under the waves.","Bilingual",22.6,16.95,"593.9","24 pp.",{"$f":"Table1[[#This Row],['# Books]]*Table1[[#This Row],[QTY]]","v":0},{"$f":"Table1[[#This Row],[QTY]]*Table1[[#This Row],[S&L Price]]","v":0}]
[null,178,null,"Underwater World / El mundo submarino",1,"Sharks / Tiburones","Library Bound Book",null,"978-1-4339-8784-7",2013,"January 2013","Library","7.625 X 7.125","Author","Ryan Nagelhout",null,null,3,4,"C",null,"Grade K","Grade K - 2","Sharks are famous for their bite, but there’s plenty of variety in these dangerous creatures. Through the use of accessible text presented in both English and standard Latin-American Spanish, readers take an exciting look at the wet world these toothy creatures call home. A picture glossary helps beginning readers strengthen their vocabulary skills, and vibrant, full-color photographs shows how these stunning animals make a home under the waves.","Bilingual",22.6,16.95,"597.3","24 pp.",{"$f":"Table1[[#This Row],['# Books]]*Table1[[#This Row],[QTY]]","v":0},{"$f":"Table1[[#This Row],[QTY]]*Table1[[#This Row],[S&L Price]]","v":0}]
[null,178,null,"Underwater World / El mundo submarino",1,"Sharks / Tiburones","eBook",null,"978-1-4339-8785-4",2013,"January 2013",null,null,"Author","Ryan Nagelhout",null,null,3,4,"C",null,"Grade K","Grade K - 2","Sharks are famous for their bite, but there’s plenty of variety in these dangerous creatures. Through the use of accessible text presented in both English and standard Latin-American Spanish, readers take an exciting look at the wet world these toothy creatures call home. A picture glossary helps beginning readers strengthen their vocabulary skills, and vibrant, full-color photographs shows how these stunning animals make a home under the waves.","Bilingual",22.6,16.95,"597.3","24 pp.",{"$f":"Table1[[#This Row],['# Books]]*Table1[[#This Row],[QTY]]","v":0},{"$f":"Table1[[#This Row],[QTY]]*Table1[[#This Row],[S&L Price]]","v":0}]
[null,178,null,"Underwater World / El mundo submarino",1,"Turtles / Tortugas","Library Bound Book",null,"978-1-4339-8786-1",2013,"January 2013","Library","7.625 X 7.125","Author","Ryan Nagelhout",null,null,3,4,"C",null,"Grade K","Grade K - 2","The most dangerous swim of a sea turtle’s life is its first, a race from egg to ocean that very few survive. Through the use of accessible text presented in both English and standard Latin-American Spanish, readers take an exciting look at the life cycle of the ocean’s most unique swimmer. A picture glossary helps beginning readers strengthen their vocabulary skills, and vibrant, full-color photographs shows how these animals make a home—both under and above—the waves.","Bilingual",22.6,16.95,"597.92","24 pp.",{"$f":"Table1[[#This Row],['# Books]]*Table1[[#This Row],[QTY]]","v":0},{"$f":"Table1[[#This Row],[QTY]]*Table1[[#This Row],[S&L Price]]","v":0}]
[null,178,null,"Underwater World / El mundo submarino",1,"Turtles / Tortugas","eBook",null,"978-1-4339-8787-8",2013,"January 2013",null,null,"Author","Ryan Nagelhout",null,null,3,4,"C",null,"Grade K","Grade K - 2","The most dangerous swim of a sea turtle’s life is its first, a race from egg to ocean that very few survive. Through the use of accessible text presented in both English and standard Latin-American Spanish, readers take an exciting look at the life cycle of the ocean’s most unique swimmer. A picture glossary helps beginning readers strengthen their vocabulary skills, and vibrant, full-color photographs shows how these animals make a home—both under and above—the waves.","Bilingual",22.6,16.95,"597.92","24 pp.",{"$f":"Table1[[#This Row],['# Books]]*Table1[[#This Row],[QTY]]","v":0},{"$f":"Table1[[#This Row],[QTY]]*Table1[[#This Row],[S&L Price]]","v":0}]
[null,178,null,"Underwater World / El mundo submarino",1,"Whales / Ballenas","Library Bound Book",null,"978-1-4339-8788-5",2013,"January 2013","Library","7.625 X 7.125","Author","Ryan Nagelhout",null,null,3,4,"C",null,"Grade K","Grade K - 2","Whales are some of the largest creatures on the planet, yet they eat some of the smallest creatures in the ocean. Through the use of accessible text presented in both English and standard Latin-American Spanish, readers take an exciting look at the life cycle of the ocean’s giants. A picture glossary helps beginning readers strengthen their vocabulary skills, and vibrant, full-color photographs shows how these spectacular animals call the ocean home.","Bilingual",22.6,16.95,"599.5","24 pp.",{"$f":"Table1[[#This Row],['# Books]]*Table1[[#This Row],[QTY]]","v":0},{"$f":"Table1[[#This Row],[QTY]]*Table1[[#This Row],[S&L Price]]","v":0}]
[null,178,null,"Underwater World / El mundo submarino",1,"Whales / Ballenas","eBook",null,"978-1-4339-8789-2",2013,"January 2013",null,null,"Author","Ryan Nagelhout",null,null,3,4,"C",null,"Grade K","Grade K - 2","Whales are some of the largest creatures on the planet, yet they eat some of the smallest creatures in the ocean. Through the use of accessible text presented in both English and standard Latin-American Spanish, readers take an exciting look at the life cycle of the ocean’s giants. A picture glossary helps beginning readers strengthen their vocabulary skills, and vibrant, full-color photographs shows how these spectacular animals call the ocean home.","Bilingual",22.6,16.95,"599.5","24 pp.",{"$f":"Table1[[#This Row],['# Books]]*Table1[[#This Row],[QTY]]","v":0},{"$f":"Table1[[#This Row],[QTY]]*Table1[[#This Row],[S&L Price]]","v":0}]
[null,178,null,"What's the Weather? / ¿Qué tiempo hace?",1,"It's Hailing! / ¡Está granizando!","Library Bound Book",null,"978-1-4339-9462-3",2014,"August 2013","Library","7.625 X 7.125","Author","Alex Appleby",null,null,2,1,"B",null,"Grade K","Grade K - 2","Rain and snow can be fun, but hail can be downright dangerous! Big balls of ice falling from the clouds onto your head means it’s time to get inside. Colorful illustrated characters show early readers what hail is made from, and what to do when the sky gets dark and golf ball-sized hail starts to fall. Presented in both English and standard Latin American Spanish, early readers will explore the sometimes-strange weather in the world around them.   • High-interest topic engages young readers • Strong picture-text correlation aids in comprehension • Reading level supports beginning readers • Picture glossary helps develop vocabulary skills • Comprehendible index guides readers through each book    ","Bilingual",22.6,16.95,"551.57","24 pp.",{"$f":"Table1[[#This Row],['# Books]]*Table1[[#This Row],[QTY]]","v":0},{"$f":"Table1[[#This Row],[QTY]]*Table1[[#This Row],[S&L Price]]","v":0}]
[null,178,null,"What's the Weather? / ¿Qué tiempo hace?",1,"It's Hailing! / ¡Está granizando!","eBook",null,"978-1-4339-9463-0",2014,"August 2013",null,null,"Author","Alex Appleby",null,null,2,1,"B",null,"Grade K","Grade K - 2","Rain and snow can be fun, but hail can be downright dangerous! Big balls of ice falling from the clouds onto your head means it’s time to get inside. Colorful illustrated characters show early readers what hail is made from, and what to do when the sky gets dark and golf ball-sized hail starts to fall. Presented in both English and standard Latin American Spanish, early readers will explore the sometimes-strange weather in the world around them.   • High-interest topic engages young readers • Strong picture-text correlation aids in comprehension • Reading level supports beginning readers • Picture glossary helps develop vocabulary skills • Comprehendible index guides readers through each book    ","Bilingual",22.6,16.95,"551.57","24 pp.",{"$f":"Table1[[#This Row],['# Books]]*Table1[[#This Row],[QTY]]","v":0},{"$f":"Table1[[#This Row],[QTY]]*Table1[[#This Row],[S&L Price]]","v":0}]
[null,178,null,"What's the Weather? / ¿Qué tiempo hace?",1,"It's Rainy! / ¡Está lloviendo!","Library Bound Book",null,"978-1-4339-9460-9",2014,"August 2013","Library","7.625 X 7.125","Author","Alex Appleby",null,null,3,3,"C",null,"Grade K","Grade K - 2","Dark skies usually mean bad weather is coming. When it’s warm out, that usually means rain! Early readers learn about rainstorms through colorful illustrated characters that splash through puddles and make the most out of a rainy afternoon. This exciting fictional approach to the topic of weather introduces the water cycle, and shows how rainwater makes flowers grow. Easy-to-read text presented in both English and standard Latin American Spanish helps early readers comprehend the sights and sounds of a rainstorm.  • High-interest topic engages young readers • Strong picture-text correlation aids in comprehension • Reading level supports beginning readers • Picture glossary helps develop vocabulary skills • Comprehendible index guides readers through each book  ","Bilingual",22.6,16.95,"551.577","24 pp.",{"$f":"Table1[[#This Row],['# Books]]*Table1[[#This Row],[QTY]]","v":0},{"$f":"Table1[[#This Row],[QTY]]*Table1[[#This Row],[S&L Price]]","v":0}]
[null,178,null,"What's the Weather? / ¿Qué tiempo hace?",1,"It's Rainy! / ¡Está lloviendo!","eBook",null,"978-1-4339-9461-6",2014,"August 2013",null,null,"Author","Alex Appleby",null,null,3,3,"C",null,"Grade K","Grade K - 2","Dark skies usually mean bad weather is coming. When it’s warm out, that usually means rain! Early readers learn about rainstorms through colorful illustrated characters that splash through puddles and make the most out of a rainy afternoon. This exciting fictional approach to the topic of weather introduces the water cycle, and shows how rainwater makes flowers grow. Easy-to-read text presented in both English and standard Latin American Spanish helps early readers comprehend the sights and sounds of a rainstorm.  • High-interest topic engages young readers • Strong picture-text correlation aids in comprehension • Reading level supports beginning readers • Picture glossary helps develop vocabulary skills • Comprehendible index guides readers through each book  ","Bilingual",22.6,16.95,"551.577","24 pp.",{"$f":"Table1[[#This Row],['# Books]]*Table1[[#This Row],[QTY]]","v":0},{"$f":"Table1[[#This Row],[QTY]]*Table1[[#This Row],[S&L Price]]","v":0}]
[null,178,null,"What's the Weather? / ¿Qué tiempo hace?",1,"It's Snowing! / ¡Está nevando!","Library Bound Book",null,"978-1-4339-9458-6",2014,"August 2013","Library","7.625 X 7.125","Author","Alex Appleby",null,null,3,4,null,null,"Grade K","Grade K - 2","What’s that fluffy stuff coming from the clouds? It’s snow! The first snowfall is always an exciting time. In this book, a colorful illustrated character bundles up to battle the cold weather before shoveling the fresh snow. With easy-to-read text presented in both English and standard Latin American Spanish, early readers will watch snow become a snowman with the help of some hard work and a big hat! The experience of a winter snowstorm is highlighted by bright illustrations of a child experiencing the weather patterns just outside his home.  • High-interest topic engages young readers • Strong picture-text correlation aids in comprehension • Reading level supports beginning readers • Picture glossary helps develop vocabulary skills • Comprehendible index guides readers through each book  ","Bilingual",22.6,16.95,"551.5784","24 pp.",{"$f":"Table1[[#This Row],['# Books]]*Table1[[#This Row],[QTY]]","v":0},{"$f":"Table1[[#This Row],[QTY]]*Table1[[#This Row],[S&L Price]]","v":0}]
[null,178,null,"What's the Weather? / ¿Qué tiempo hace?",1,"It's Snowing! / ¡Está nevando!","eBook",null,"978-1-4339-9459-3",2014,"August 2013",null,null,"Author","Alex Appleby",null,null,3,4,null,null,"Grade K","Grade K - 2","What’s that fluffy stuff coming from the clouds? It’s snow! The first snowfall is always an exciting time. In this book, a colorful illustrated character bundles up to battle the cold weather before shoveling the fresh snow. With easy-to-read text presented in both English and standard Latin American Spanish, early readers will watch snow become a snowman with the help of some hard work and a big hat! The experience of a winter snowstorm is highlighted by bright illustrations of a child experiencing the weather patterns just outside his home.  • High-interest topic engages young readers • Strong picture-text correlation aids in comprehension • Reading level supports beginning readers • Picture glossary helps develop vocabulary skills • Comprehendible index guides readers through each book  ","Bilingual",22.6,16.95,"551.5784","24 pp.",{"$f":"Table1[[#This Row],['# Books]]*Table1[[#This Row],[QTY]]","v":0},{"$f":"Table1[[#This Row],[QTY]]*Table1[[#This Row],[S&L Price]]","v":0}]
[null,178,null,"What's the Weather? / ¿Qué tiempo hace?",1,"It's Stormy! / ¡Es una tormenta!","Library Bound Book",null,"978-1-4339-9456-2",2014,"August 2013","Library","7.625 X 7.125","Author","Alex Appleby",null,null,3,3,"C",null,"Grade K","Grade K - 2","Some days it’s just not safe to go outside! Stormy weather is best enjoyed indoors, where we can watch the lightning, hear the thunder, and not get wet. Colorful illustrations and accessible text presented in English and standard Latin-American Spanish introduces early readers to the basics of stormy weather, showing a big storm in action. Readers learn that when dark clouds appear, it’s time to go inside!   • High-interest topic engages young readers • Strong picture-text correlation aids in comprehension • Reading level supports beginning readers • Picture glossary helps develop vocabulary skills • Comprehendible index guides readers through each book  ","Bilingual",22.6,16.95,"551.55","24 pp.",{"$f":"Table1[[#This Row],['# Books]]*Table1[[#This Row],[QTY]]","v":0},{"$f":"Table1[[#This Row],[QTY]]*Table1[[#This Row],[S&L Price]]","v":0}]
[null,178,null,"What's the Weather? / ¿Qué tiempo hace?",1,"It's Stormy! / ¡Es una tormenta!","eBook",null,"978-1-4339-9457-9",2014,"August 2013",null,null,"Author","Alex Appleby",null,null,3,3,"C",null,"Grade K","Grade K - 2","Some days it’s just not safe to go outside! Stormy weather is best enjoyed indoors, where we can watch the lightning, hear the thunder, and not get wet. Colorful illustrations and accessible text presented in English and standard Latin-American Spanish introduces early readers to the basics of stormy weather, showing a big storm in action. Readers learn that when dark clouds appear, it’s time to go inside!   • High-interest topic engages young readers • Strong picture-text correlation aids in comprehension • Reading level supports beginning readers • Picture glossary helps develop vocabulary skills • Comprehendible index guides readers through each book  ","Bilingual",22.6,16.95,"551.55","24 pp.",{"$f":"Table1[[#This Row],['# Books]]*Table1[[#This Row],[QTY]]","v":0},{"$f":"Table1[[#This Row],[QTY]]*Table1[[#This Row],[S&L Price]]","v":0}]
[null,178,null,"What's the Weather? / ¿Qué tiempo hace?",1,"It's Sunny! / ¡Está soleado!","Library Bound Book",null,"978-1-4339-9454-8",2014,"August 2013","Library","7.625 X 7.125","Author","Alex Appleby",null,null,3,4,"C",null,"Grade K","Grade K - 2","When the sun is out, it’s time to play outside! Sunny days are perfect for early readers to explore the world and weather outside their windows. In this book, bright, illustrated characters take a trip to the beach to play with crabs, make sand castles, and even search for shells! A picture glossary reinforces new vocabulary, and easy-to-read text presented in both English and standard Latin American Spanish offers readers the experience of a day of fun under the sun.  • High-interest topic engages young readers • Strong picture-text correlation aids in comprehension • Reading level supports beginning readers • Picture glossary helps develop vocabulary skills • Comprehendible index guides readers through each book  ","Bilingual",22.6,16.95,"551.5271","24 pp.",{"$f":"Table1[[#This Row],['# Books]]*Table1[[#This Row],[QTY]]","v":0},{"$f":"Table1[[#This Row],[QTY]]*Table1[[#This Row],[S&L Price]]","v":0}]
[null,178,null,"What's the Weather? / ¿Qué tiempo hace?",1,"It's Sunny! / ¡Está soleado!","eBook",null,"978-1-4339-9455-5",2014,"August 2013",null,null,"Author","Alex Appleby",null,null,3,4,"C",null,"Grade K","Grade K - 2","When the sun is out, it’s time to play outside! Sunny days are perfect for early readers to explore the world and weather outside their windows. In this book, bright, illustrated characters take a trip to the beach to play with crabs, make sand castles, and even search for shells! A picture glossary reinforces new vocabulary, and easy-to-read text presented in both English and standard Latin American Spanish offers readers the experience of a day of fun under the sun.  • High-interest topic engages young readers • Strong picture-text correlation aids in comprehension • Reading level supports beginning readers • Picture glossary helps develop vocabulary skills • Comprehendible index guides readers through each book  ","Bilingual",22.6,16.95,"551.5271","24 pp.",{"$f":"Table1[[#This Row],['# Books]]*Table1[[#This Row],[QTY]]","v":0},{"$f":"Table1[[#This Row],[QTY]]*Table1[[#This Row],[S&L Price]]","v":0}]
[null,178,null,"What's the Weather? / ¿Qué tiempo hace?",1,"It's Windy! / ¡Está ventoso!","Library Bound Book",null,"978-1-4339-9452-4",2014,"August 2013","Library","7.625 X 7.125","Author","Alex Appleby",null,null,3,4,"C",null,"Grade K","Grade K - 2","Wind may be invisible, but it can be a big part of the weather. Wind gusts can knock down trees and even blow the hat off your head. Through the use of colorful illustrations and easy-to-read text presented in both English and standard Latin American Spanish, early readers will explore what happens when the wind picks up in their neighborhood. The sights and sounds of a windstorm are highlighted by illustrations of a young girl experiencing a windy day just outside her home.  • High-interest topic engages young readers • Strong picture-text correlation aids in comprehension • Reading level supports beginning readers • Picture glossary helps develop vocabulary skills • Comprehendible index guides readers through each book  ","Bilingual",22.6,16.95,"551.518","24 pp.",{"$f":"Table1[[#This Row],['# Books]]*Table1[[#This Row],[QTY]]","v":0},{"$f":"Table1[[#This Row],[QTY]]*Table1[[#This Row],[S&L Price]]","v":0}]
[null,178,null,"What's the Weather? / ¿Qué tiempo hace?",1,"It's Windy! / ¡Está ventoso!","eBook",null,"978-1-4339-9453-1",2014,"August 2013",null,null,"Author","Alex Appleby",null,null,3,4,"C",null,"Grade K","Grade K - 2","Wind may be invisible, but it can be a big part of the weather. Wind gusts can knock down trees and even blow the hat off your head. Through the use of colorful illustrations and easy-to-read text presented in both English and standard Latin American Spanish, early readers will explore what happens when the wind picks up in their neighborhood. The sights and sounds of a windstorm are highlighted by illustrations of a young girl experiencing a windy day just outside her home.  • High-interest topic engages young readers • Strong picture-text correlation aids in comprehension • Reading level supports beginning readers • Picture glossary helps develop vocabulary skills • Comprehendible index guides readers through each book  ","Bilingual",22.6,16.95,"551.518","24 pp.",{"$f":"Table1[[#This Row],['# Books]]*Table1[[#This Row],[QTY]]","v":0},{"$f":"Table1[[#This Row],[QTY]]*Table1[[#This Row],[S&L Price]]","v":0}]
[null,178,null,"Animales pequeñitos / Itty Bitty Animals",1,"Colibríes pequeñitos / Itty Bitty Hummingbirds","Library Bound Book",null,"978-1-4339-9909-3",2014,"January 2014","Library","7.625 X 7.125","Author","Peter Griff",null,null,3,null,"C",null,"Grade K - 2","Grade K","Hummingbirds are some of the smallest and most interesting animals on the planet. With more than 300 kinds floating and fluttering, there’s lots to learn about these tiny birds. Learn what causes them to hum and what they like to eat. The smallest birds on earth are full of fun facts, and an awesome picture glossary will help young readers learn concepts and definitions with this great book through accessible text presented in both English and standard Latin-American Spanish.    • Strong picture-text correlation aids in comprehension • Reading level supports beginning readers • Picture glossary helps develop vocabulary skills • Comprehendible index guides readers through each book  ","Bilingual",22.6,16.95,"598.764","24 pp.",{"$f":"Table1[[#This Row],['# Books]]*Table1[[#This Row],[QTY]]","v":0},{"$f":"Table1[[#This Row],[QTY]]*Table1[[#This Row],[S&L Price]]","v":0}]
[null,178,null,"Animales pequeñitos / Itty Bitty Animals",1,"Colibríes pequeñitos / Itty Bitty Hummingbirds","eBook",null,"978-1-4339-9910-9",2014,"January 2014",null,null,"Author","Peter Griff",null,null,3,null,"C",null,"Grade K - 2","Grade K","Hummingbirds are some of the smallest and most interesting animals on the planet. With more than 300 kinds floating and fluttering, there’s lots to learn about these tiny birds. Learn what causes them to hum and what they like to eat. The smallest birds on earth are full of fun facts, and an awesome picture glossary will help young readers learn concepts and definitions with this great book through accessible text presented in both English and standard Latin-American Spanish.    • Strong picture-text correlation aids in comprehension • Reading level supports beginning readers • Picture glossary helps develop vocabulary skills • Comprehendible index guides readers through each book  ","Bilingual",22.6,16.95,"598.764","24 pp.",{"$f":"Table1[[#This Row],['# Books]]*Table1[[#This Row],[QTY]]","v":0},{"$f":"Table1[[#This Row],[QTY]]*Table1[[#This Row],[S&L Price]]","v":0}]
[null,178,null,"Animales pequeñitos / Itty Bitty Animals",1,"Guppies pequeñitas / Itty Bitty Guppies","Library Bound Book",null,"978-1-4339-9907-9",2014,"January 2014","Library","7.625 X 7.125","Author","Alex Lumpy",null,null,null,null,"C",null,"Grade K - 2","Grade K","Guppies are tiny little fish, but they have a big story to tell. These colorful creatures were discovered in 1866 and come in many shapes and sizes. Some have even become pets for people all over the world. Through accessible text presented in both English and standard Latin-American Spanish, this exciting book is filled with scientific facts and an awesome picture galler to help readers learn more about the tiny world of guppies.    • Strong picture-text correlation aids in comprehension • Reading level supports beginning readers • Picture glossary helps develop vocabulary skills • Comprehendible index guides readers through each book  ","Bilingual",22.6,16.95,"639.3757","24 pp.",{"$f":"Table1[[#This Row],['# Books]]*Table1[[#This Row],[QTY]]","v":0},{"$f":"Table1[[#This Row],[QTY]]*Table1[[#This Row],[S&L Price]]","v":0}]
[null,178,null,"Animales pequeñitos / Itty Bitty Animals",1,"Guppies pequeñitas / Itty Bitty Guppies","eBook",null,"978-1-4339-9908-6",2014,"January 2014",null,null,"Author","Alex Lumpy",null,null,null,null,"C",null,"Grade K - 2","Grade K","Guppies are tiny little fish, but they have a big story to tell. These colorful creatures were discovered in 1866 and come in many shapes and sizes. Some have even become pets for people all over the world. Through accessible text presented in both English and standard Latin-American Spanish, this exciting book is filled with scientific facts and an awesome picture galler to help readers learn more about the tiny world of guppies.    • Strong picture-text correlation aids in comprehension • Reading level supports beginning readers • Picture glossary helps develop vocabulary skills • Comprehendible index guides readers through each book  ","Bilingual",22.6,16.95,"639.3757","24 pp.",{"$f":"Table1[[#This Row],['# Books]]*Table1[[#This Row],[QTY]]","v":0},{"$f":"Table1[[#This Row],[QTY]]*Table1[[#This Row],[S&L Price]]","v":0}]
[null,178,null,"Animales pequeñitos / Itty Bitty Animals",1,"Hormiguitas pequeñitas / Itty Bitty Ants","Library Bound Book",null,"978-1-4339-9901-7",2014,"January 2014","Library","7.625 X 7.125","Author","Jasper Baer",null,null,3,null,"C",null,"Grade K - 2","Grade K","Ants are some of the most interesting—and bountiful—animals on the planet. With thousands of different kinds, there’s plenty to learn about these little insects. Learn how army ants work together to find food, how fire ants can float on water, and how these animals group together to survive in this engaging book for young readers. With great science content and a fun picture gallery presented in both English and standard Latin-American Spanish, early readers will love learning about the tiny world below their feet.    • Strong picture-text correlation aids in comprehension • Reading level supports beginning readers • Picture glossary helps develop vocabulary skills • Comprehendible index guides readers through each book  ","Bilingual",22.6,16.95,"595.796","24 pp.",{"$f":"Table1[[#This Row],['# Books]]*Table1[[#This Row],[QTY]]","v":0},{"$f":"Table1[[#This Row],[QTY]]*Table1[[#This Row],[S&L Price]]","v":0}]
[null,178,null,"Animales pequeñitos / Itty Bitty Animals",1,"Hormiguitas pequeñitas / Itty Bitty Ants","eBook",null,"978-1-4339-9903-1",2014,"January 2014",null,null,"Author","Jasper Baer",null,null,3,null,"C",null,"Grade K - 2","Grade K","Ants are some of the most interesting—and bountiful—animals on the planet. With thousands of different kinds, there’s plenty to learn about these little insects. Learn how army ants work together to find food, how fire ants can float on water, and how these animals group together to survive in this engaging book for young readers. With great science content and a fun picture gallery presented in both English and standard Latin-American Spanish, early readers will love learning about the tiny world below their feet.    • Strong picture-text correlation aids in comprehension • Reading level supports beginning readers • Picture glossary helps develop vocabulary skills • Comprehendible index guides readers through each book  ","Bilingual",22.6,16.95,"595.796","24 pp.",{"$f":"Table1[[#This Row],['# Books]]*Table1[[#This Row],[QTY]]","v":0},{"$f":"Table1[[#This Row],[QTY]]*Table1[[#This Row],[S&L Price]]","v":0}]
[null,178,null,"Animales pequeñitos / Itty Bitty Animals",1,"Lagartijas pequeñitas / Itty Bitty Geckos","Library Bound Book",null,"978-1-4339-9905-5",2014,"January 2014","Library","7.625 X 7.125","Author","T. H. Baer",null,null,3,null,"C",null,"Grade K - 2","Grade K","There are thousands of kinds of itty bitty geckos, and each one of them has a story behind their lives. In this awesome early concepts book presented in both English and standard Latin-American Spanish, learn how geckos stay safe thanks to their bright colors and use their amazing feet to climb all over the place. What happens when a gecko loses its tail? What if it gets something in its eye? This exciting book filled with scientific facts and a fun picture glossary has all the answers, and more!    • Strong picture-text correlation aids in comprehension • Reading level supports beginning readers • Picture glossary helps develop vocabulary skills • Comprehendible index guides readers through each book  ","Bilingual",22.6,16.95,"597.952","24 pp.",{"$f":"Table1[[#This Row],['# Books]]*Table1[[#This Row],[QTY]]","v":0},{"$f":"Table1[[#This Row],[QTY]]*Table1[[#This Row],[S&L Price]]","v":0}]
[null,178,null,"Animales pequeñitos / Itty Bitty Animals",1,"Lagartijas pequeñitas / Itty Bitty Geckos","eBook",null,"978-1-4339-9906-2",2014,"January 2014",null,null,"Author","T. H. Baer",null,null,3,null,"C",null,"Grade K - 2","Grade K","There are thousands of kinds of itty bitty geckos, and each one of them has a story behind their lives. In this awesome early concepts book presented in both English and standard Latin-American Spanish, learn how geckos stay safe thanks to their bright colors and use their amazing feet to climb all over the place. What happens when a gecko loses its tail? What if it gets something in its eye? This exciting book filled with scientific facts and a fun picture glossary has all the answers, and more!    • Strong picture-text correlation aids in comprehension • Reading level supports beginning readers • Picture glossary helps develop vocabulary skills • Comprehendible index guides readers through each book  ","Bilingual",22.6,16.95,"597.952","24 pp.",{"$f":"Table1[[#This Row],['# Books]]*Table1[[#This Row],[QTY]]","v":0},{"$f":"Table1[[#This Row],[QTY]]*Table1[[#This Row],[S&L Price]]","v":0}]
[null,178,null,"Animales pequeñitos / Itty Bitty Animals",1,"Ranitas pequeñitas / Itty Bitty Tree Frogs","Library Bound Book",null,"978-1-4339-9913-0",2014,"January 2014","Library","7.625 X 7.125","Author","Gunner Quick",null,null,3,null,"C",null,"Grade K - 2","Grade K","Tree frogs are some of the smallest—and most dangerous—animals in a rain forest.Through accessible text presented in both English and standard Latin-American Spanish, learn more about these bright creatures and how they use their long legs to leap all over the place. Toxic poison dart frogs are dangerous, but many of these itty bitty creatures are kept as pets and admired for their sticky feet and ability to change colors!    • Strong picture-text correlation aids in comprehension • Reading level supports beginning readers • Picture glossary helps develop vocabulary skills • Comprehendible index guides readers through each book  ","Bilingual",22.6,16.95,"597.878","24 pp.",{"$f":"Table1[[#This Row],['# Books]]*Table1[[#This Row],[QTY]]","v":0},{"$f":"Table1[[#This Row],[QTY]]*Table1[[#This Row],[S&L Price]]","v":0}]
[null,178,null,"Animales pequeñitos / Itty Bitty Animals",1,"Ranitas pequeñitas / Itty Bitty Tree Frogs","eBook",null,"978-1-4339-9914-7",2014,"January 2014",null,null,"Author","Gunner Quick",null,null,3,null,"C",null,"Grade K - 2","Grade K","Tree frogs are some of the smallest—and most dangerous—animals in a rain forest.Through accessible text presented in both English and standard Latin-American Spanish, learn more about these bright creatures and how they use their long legs to leap all over the place. Toxic poison dart frogs are dangerous, but many of these itty bitty creatures are kept as pets and admired for their sticky feet and ability to change colors!    • Strong picture-text correlation aids in comprehension • Reading level supports beginning readers • Picture glossary helps develop vocabulary skills • Comprehendible index guides readers through each book  ","Bilingual",22.6,16.95,"597.878","24 pp.",{"$f":"Table1[[#This Row],['# Books]]*Table1[[#This Row],[QTY]]","v":0},{"$f":"Table1[[#This Row],[QTY]]*Table1[[#This Row],[S&L Price]]","v":0}]
[null,178,null,"Animales pequeñitos / Itty Bitty Animals",1,"Ratoncitos pequeñitos / Itty Bitty Mice","Library Bound Book",null,"978-1-4339-9912-3",2014,"January 2014","Library","7.625 X 7.125","Author","Jay Moose",null,null,3,null,"C",null,"Grade K - 2","Grade K","Some people are afraid of mice, but these tiny critters are full of interesting facts. Through both English and standard Latin-American Spanish, learn how little mice are taken care of and how some of these itty bitty animals are even kept as pets or used to run tests. From tiny pink pups to wild mice invading your home, these animals will help readers learn definitions and early concepts with the use of full-color pictures and a great picture glossary.    • Strong picture-text correlation aids in comprehension • Reading level supports beginning readers • Picture glossary helps develop vocabulary skills • Comprehendible index guides readers through each book  ","Bilingual",22.6,16.95,"599.353","24 pp.",{"$f":"Table1[[#This Row],['# Books]]*Table1[[#This Row],[QTY]]","v":0},{"$f":"Table1[[#This Row],[QTY]]*Table1[[#This Row],[S&L Price]]","v":0}]
[null,178,null,"Animales pequeñitos / Itty Bitty Animals",1,"Ratoncitos pequeñitos / Itty Bitty Mice","eBook",null,"978-1-4339-9911-6",2014,"January 2014",null,null,"Author","Jay Moose",null,null,3,null,"C",null,"Grade K - 2","Grade K","Some people are afraid of mice, but these tiny critters are full of interesting facts. Through both English and standard Latin-American Spanish, learn how little mice are taken care of and how some of these itty bitty animals are even kept as pets or used to run tests. From tiny pink pups to wild mice invading your home, these animals will help readers learn definitions and early concepts with the use of full-color pictures and a great picture glossary.    • Strong picture-text correlation aids in comprehension • Reading level supports beginning readers • Picture glossary helps develop vocabulary skills • Comprehendible index guides readers through each book  ","Bilingual",22.6,16.95,"599.353","24 pp.",{"$f":"Table1[[#This Row],['# Books]]*Table1[[#This Row],[QTY]]","v":0},{"$f":"Table1[[#This Row],[QTY]]*Table1[[#This Row],[S&L Price]]","v":0}]
[null,178,null,"Animal Groups / Grupos de animales",1,"A Kangaroo Mob / Una manada de canguros","Library Bound Book",null,"978-1-4339-8804-2",2013,"January 2013","Library","7.000 X 7.000","Author","Juliet Burke",null,null,16,15,"I",null,"Grade 1 - 2","Grade 1 - 3","Bilingual readers discover engaging, fun, and fascinating facts about kangaroos. Kangaroos are social animals that live in groups called mobs. Except for an occasional boxing match, kangaroos live happily with each other. The vibrant photographs in this book show different species of kangaroos grazing, resting in the shade, and raising their young. Accessible text—with translation of English into standard Latin-American Spanish—and a detailed graphic organizer guide readers as they learn how kangaroos grow up and what life is like living in a mob, in Australia.","Bilingual",22.6,16.95,"599.2","24 pp.",{"$f":"Table1[[#This Row],['# Books]]*Table1[[#This Row],[QTY]]","v":0},{"$f":"Table1[[#This Row],[QTY]]*Table1[[#This Row],[S&L Price]]","v":0}]
[null,178,null,"Animal Groups / Grupos de animales",1,"A Kangaroo Mob / Una manada de canguros","eBook",null,"978-1-4339-8805-9",2013,"January 2013",null,null,"Author","Juliet Burke",null,null,16,15,"I",null,"Grade 1 - 2","Grade 1 - 3","Bilingual readers discover engaging, fun, and fascinating facts about kangaroos. Kangaroos are social animals that live in groups called mobs. Except for an occasional boxing match, kangaroos live happily with each other. The vibrant photographs in this book show different species of kangaroos grazing, resting in the shade, and raising their young. Accessible text—with translation of English into standard Latin-American Spanish—and a detailed graphic organizer guide readers as they learn how kangaroos grow up and what life is like living in a mob, in Australia.","Bilingual",22.6,16.95,"599.2","24 pp.",{"$f":"Table1[[#This Row],['# Books]]*Table1[[#This Row],[QTY]]","v":0},{"$f":"Table1[[#This Row],[QTY]]*Table1[[#This Row],[S&L Price]]","v":0}]
[null,178,null,"Animal Groups / Grupos de animales",1,"A Murder of Crows / Una bandada de cuervos","Library Bound Book",null,"978-1-4339-8806-6",2013,"January 2013","Library","7.000 X 7.000","Author","Greg Roza",null,null,18,17,"J",null,"Grade 1 - 2","Grade 1 - 3","English language learners find out what life is like for a murder of crows through the help of bilingual text and eye-catching photographs. Crows are some of the smartest animals on the planet. They can remember people’s faces and warn each other of danger. Some crows even know how to use simple tools. These fascinating facts and more are waiting to be discovered by readers. A useful graphic organizer provides additional information about these amazing animals.","Bilingual",22.6,16.95,"598.8","24 pp.",{"$f":"Table1[[#This Row],['# Books]]*Table1[[#This Row],[QTY]]","v":0},{"$f":"Table1[[#This Row],[QTY]]*Table1[[#This Row],[S&L Price]]","v":0}]
[null,178,null,"Animal Groups / Grupos de animales",1,"A Murder of Crows / Una bandada de cuervos","eBook",null,"978-1-4339-8807-3",2013,"January 2013",null,null,"Author","Greg Roza",null,null,18,17,"J",null,"Grade 1 - 2","Grade 1 - 3","English language learners find out what life is like for a murder of crows through the help of bilingual text and eye-catching photographs. Crows are some of the smartest animals on the planet. They can remember people’s faces and warn each other of danger. Some crows even know how to use simple tools. These fascinating facts and more are waiting to be discovered by readers. A useful graphic organizer provides additional information about these amazing animals.","Bilingual",22.6,16.95,"598.8","24 pp.",{"$f":"Table1[[#This Row],['# Books]]*Table1[[#This Row],[QTY]]","v":0},{"$f":"Table1[[#This Row],[QTY]]*Table1[[#This Row],[S&L Price]]","v":0}]
[null,178,null,"Animal Groups / Grupos de animales",1,"A Penguin Colony / Una colonia de Pingüinos","Library Bound Book",null,"978-1-4339-8808-0",2013,"January 2013","Library","7.000 X 7.000","Author","Autumn Leigh",null,null,16,15,"I",null,"Grade 1 - 2","Grade 1 - 3","Life in the Southern Hemisphere is bitterly cold for most penguins, but they don’t seem to mind. Most penguins live in large colonies on the coast of Antarctica or on nearby islands. English language learners explore penguin colonies for themselves, learning fun facts about these beautiful birds with the help of bilingual text. Readers learn how penguin families work together to feed their young and keep them warm. A helpful graphic organizer aids in reader understanding. Readers will enjoy detailed images of penguin species at home in the Antarctic with every turn of the page.","Bilingual",22.6,16.95,"598.47","24 pp.",{"$f":"Table1[[#This Row],['# Books]]*Table1[[#This Row],[QTY]]","v":0},{"$f":"Table1[[#This Row],[QTY]]*Table1[[#This Row],[S&L Price]]","v":0}]
[null,178,null,"Animal Groups / Grupos de animales",1,"A Penguin Colony / Una colonia de Pingüinos","eBook",null,"978-1-4339-8809-7",2013,"January 2013",null,null,"Author","Autumn Leigh",null,null,16,15,"I",null,"Grade 1 - 2","Grade 1 - 3","Life in the Southern Hemisphere is bitterly cold for most penguins, but they don’t seem to mind. Most penguins live in large colonies on the coast of Antarctica or on nearby islands. English language learners explore penguin colonies for themselves, learning fun facts about these beautiful birds with the help of bilingual text. Readers learn how penguin families work together to feed their young and keep them warm. A helpful graphic organizer aids in reader understanding. Readers will enjoy detailed images of penguin species at home in the Antarctic with every turn of the page.","Bilingual",22.6,16.95,"598.47","24 pp.",{"$f":"Table1[[#This Row],['# Books]]*Table1[[#This Row],[QTY]]","v":0},{"$f":"Table1[[#This Row],[QTY]]*Table1[[#This Row],[S&L Price]]","v":0}]
[null,178,null,"Animal Groups / Grupos de animales",1,"A Pod of Dolphins / Una manada de delfines","Library Bound Book",null,"978-1-4339-8810-3",2013,"January 2013","Library","7.000 X 7.000","Author","Matthew Fenner",null,null,16,15,"I",null,"Grade 1 - 2","Grade 1 - 3","Dolphins are one of Earth’s smartest and friendliest wild animals. They live together in groups called pods, which can include just two dolphins or hundreds of them. This bilingual narrative, in English and standard Latin-American Spanish, introduces what life in a pod is like through fun facts. Dolphins form friendships that last for a lifetime, and readers see bright photographs of dolphins in the water among their friends. Accessible text, colorful photographs, and an eye-catching graphic organizer guide readers as they independently explore exciting information about these popular animals.","Bilingual",22.6,16.95,"599.53","24 pp.",{"$f":"Table1[[#This Row],['# Books]]*Table1[[#This Row],[QTY]]","v":0},{"$f":"Table1[[#This Row],[QTY]]*Table1[[#This Row],[S&L Price]]","v":0}]
[null,178,null,"Animal Groups / Grupos de animales",1,"A Pod of Dolphins / Una manada de delfines","eBook",null,"978-1-4339-8811-0",2013,"January 2013",null,null,"Author","Matthew Fenner",null,null,16,15,"I",null,"Grade 1 - 2","Grade 1 - 3","Dolphins are one of Earth’s smartest and friendliest wild animals. They live together in groups called pods, which can include just two dolphins or hundreds of them. This bilingual narrative, in English and standard Latin-American Spanish, introduces what life in a pod is like through fun facts. Dolphins form friendships that last for a lifetime, and readers see bright photographs of dolphins in the water among their friends. Accessible text, colorful photographs, and an eye-catching graphic organizer guide readers as they independently explore exciting information about these popular animals.","Bilingual",22.6,16.95,"599.53","24 pp.",{"$f":"Table1[[#This Row],['# Books]]*Table1[[#This Row],[QTY]]","v":0},{"$f":"Table1[[#This Row],[QTY]]*Table1[[#This Row],[S&L Price]]","v":0}]
[null,178,null,"Animal Groups / Grupos de animales",1,"A Prickle of Porcupines / Una manada de puercoespines","Library Bound Book",null,"978-1-4339-8812-7",2013,"January 2013","Library","7.000 X 7.000","Author","Lincoln James",null,null,18,17,"J",null,"Grade 1 - 2","Grade 1 - 3","Porcupines are brown, prickly, and climb trees. English language learners explore life in a group of porcupines inside the pages of this educational and enjoyable book. When a group of porcupines gets together, they’re called a prickle. Porcupines often have a bad reputation as dangerous creatures, but they usually just want to be left alone. Thanks to numerous eye-catching photographs, readers get closer to porcupines than ever before. They also learn fascinating facts about porcupines through bilingual text and a helpful graphic organizer. Excellent Spanish translations provide engaging support for bilingual learners.","Bilingual",22.6,16.95,"599.35","24 pp.",{"$f":"Table1[[#This Row],['# Books]]*Table1[[#This Row],[QTY]]","v":0},{"$f":"Table1[[#This Row],[QTY]]*Table1[[#This Row],[S&L Price]]","v":0}]
[null,178,null,"Animal Groups / Grupos de animales",1,"A Prickle of Porcupines / Una manada de puercoespines","eBook",null,"978-1-4339-8813-4",2013,"January 2013",null,null,"Author","Lincoln James",null,null,18,17,"J",null,"Grade 1 - 2","Grade 1 - 3","Porcupines are brown, prickly, and climb trees. English language learners explore life in a group of porcupines inside the pages of this educational and enjoyable book. When a group of porcupines gets together, they’re called a prickle. Porcupines often have a bad reputation as dangerous creatures, but they usually just want to be left alone. Thanks to numerous eye-catching photographs, readers get closer to porcupines than ever before. They also learn fascinating facts about porcupines through bilingual text and a helpful graphic organizer. Excellent Spanish translations provide engaging support for bilingual learners.","Bilingual",22.6,16.95,"599.35","24 pp.",{"$f":"Table1[[#This Row],['# Books]]*Table1[[#This Row],[QTY]]","v":0},{"$f":"Table1[[#This Row],[QTY]]*Table1[[#This Row],[S&L Price]]","v":0}]
[null,178,null,"Famous Lives / Vidas extraordinarias",1,"The Life of Abraham Lincoln / La vida de Abraham Lincoln","Library Bound Book",null,"978-1-4339-6651-4",2012,"January 2012","Library","7.000 X 7.000","Author","Maria Nelson",null,null,20,20,"G",null,"Grade 1 - 2","Grade 1 - 4","Many consider Abraham Lincoln to be the greatest US president This book explores Lincoln’s early life, self-taught education, law career, and influential presidency. Through simple language translated into Latin-American Spanish, beginning readers will learn about the Civil War and Lincoln’s inspiring leadership. Historical images and a helpful timeline will enhance English language learners’ introduction to Lincoln’s extraordinary achievements and connect them to an important era in American history.","Bilingual",22.6,16.95,"973.7092","24 pp.",{"$f":"Table1[[#This Row],['# Books]]*Table1[[#This Row],[QTY]]","v":0},{"$f":"Table1[[#This Row],[QTY]]*Table1[[#This Row],[S&L Price]]","v":0}]
[null,178,null,"Famous Lives / Vidas extraordinarias",1,"The Life of Abraham Lincoln / La vida de Abraham Lincoln","eBook",null,"978-1-4339-6652-1",2012,"January 2012",null,null,"Author","Maria Nelson",null,null,20,20,"G",null,"Grade 1 - 2","Grade 1 - 4","Many consider Abraham Lincoln to be the greatest US president This book explores Lincoln’s early life, self-taught education, law career, and influential presidency. Through simple language translated into Latin-American Spanish, beginning readers will learn about the Civil War and Lincoln’s inspiring leadership. Historical images and a helpful timeline will enhance English language learners’ introduction to Lincoln’s extraordinary achievements and connect them to an important era in American history.","Bilingual",22.6,16.95,"973.7092","24 pp.",{"$f":"Table1[[#This Row],['# Books]]*Table1[[#This Row],[QTY]]","v":0},{"$f":"Table1[[#This Row],[QTY]]*Table1[[#This Row],[S&L Price]]","v":0}]
[null,178,null,"Famous Lives / Vidas extraordinarias",1,"The Life of Ben Franklin / La vida de Benjamín Franklin","Library Bound Book",null,"978-1-4339-6653-8",2012,"January 2012","Library","7.000 X 7.000","Author","Maria Nelson",null,null,20,20,"H",null,"Grade 1 - 2","Grade 1 - 4","Ben Franklin greatly influenced all Americans with his work as a diplomat, scientist, and inventor. He signed both the Declaration of Independence and the US Constitution. In this book, interesting biographical information translated into Latin-American Spanish will introduce English language learners to one of the most famous Founding Fathers. Fascinating images of Franklin's life and a helpful timeline of key events will connect young historians to his life and work.","Bilingual",22.6,16.95,"973.3092","24 pp.",{"$f":"Table1[[#This Row],['# Books]]*Table1[[#This Row],[QTY]]","v":0},{"$f":"Table1[[#This Row],[QTY]]*Table1[[#This Row],[S&L Price]]","v":0}]
[null,178,null,"Famous Lives / Vidas extraordinarias",1,"The Life of Ben Franklin / La vida de Benjamín Franklin","eBook",null,"978-1-4339-6654-5",2012,"January 2012",null,null,"Author","Maria Nelson",null,null,20,20,"H",null,"Grade 1 - 2","Grade 1 - 4","Ben Franklin greatly influenced all Americans with his work as a diplomat, scientist, and inventor. He signed both the Declaration of Independence and the US Constitution. In this book, interesting biographical information translated into Latin-American Spanish will introduce English language learners to one of the most famous Founding Fathers. Fascinating images of Franklin's life and a helpful timeline of key events will connect young historians to his life and work.","Bilingual",22.6,16.95,"973.3092","24 pp.",{"$f":"Table1[[#This Row],['# Books]]*Table1[[#This Row],[QTY]]","v":0},{"$f":"Table1[[#This Row],[QTY]]*Table1[[#This Row],[S&L Price]]","v":0}]
[null,178,null,"Famous Lives / Vidas extraordinarias",1,"The Life of George Washington / La vida de George Washington","Library Bound Book",null,"978-1-4339-6655-2",2012,"January 2012","Library","7.000 X 7.000","Author","Maria Nelson",null,null,18,20,"H",null,"Grade 1 - 2","Grade 1 - 4","George Washington wasn’t just the first US president. He was also the general who led the Continental army to victory over the British. English language learners will discover facts about Washington’s life in easy-to-follow language, including his role in the founding of the United States and his presidency. Historic images and age-appropriate content, translated into standard Latin American Spanish, will engage beginning readers who are learning about Washington’s impact on the nation for the first time.","Bilingual",22.6,16.95,"973.4","24 pp.",{"$f":"Table1[[#This Row],['# Books]]*Table1[[#This Row],[QTY]]","v":0},{"$f":"Table1[[#This Row],[QTY]]*Table1[[#This Row],[S&L Price]]","v":0}]
[null,178,null,"Famous Lives / Vidas extraordinarias",1,"The Life of George Washington / La vida de George Washington","eBook",null,"978-1-4339-6656-9",2012,"January 2012",null,null,"Author","Maria Nelson",null,null,18,20,"H",null,"Grade 1 - 2","Grade 1 - 4","George Washington wasn’t just the first US president. He was also the general who led the Continental army to victory over the British. English language learners will discover facts about Washington’s life in easy-to-follow language, including his role in the founding of the United States and his presidency. Historic images and age-appropriate content, translated into standard Latin American Spanish, will engage beginning readers who are learning about Washington’s impact on the nation for the first time.","Bilingual",22.6,16.95,"973.4","24 pp.",{"$f":"Table1[[#This Row],['# Books]]*Table1[[#This Row],[QTY]]","v":0},{"$f":"Table1[[#This Row],[QTY]]*Table1[[#This Row],[S&L Price]]","v":0}]
[null,178,null,"Killer Snakes / Serpientes asesinas",1,"Banded Sea Snake / Serpiente marina rayada","Library Bound Book",null,"978-1-4339-5625-6",2012,"August 2011","Library","7.000 X 7.000","Author","Juliet Figorito",null,null,16,17,"J",null,"Grade 2","Grade 1 - 3","The banded sea snake is one of the deadliest snakes on land and in the sea. In the water, it’s a swift serpentine swimmer that cunningly stalks its prey. On land, this snake hides among rocks and ground foliage to digest its food and lay eggs. In this bilingual book, English language learners will find English and authentic Latin-American Spanish text paired with colorful photographs of the banded sea snake in its natural habitat. A fact sheet is included to share quick facts for report writing and research.","Bilingual",22.6,16.95,"597.96","24 pp.",{"$f":"Table1[[#This Row],['# Books]]*Table1[[#This Row],[QTY]]","v":0},{"$f":"Table1[[#This Row],[QTY]]*Table1[[#This Row],[S&L Price]]","v":0}]
[null,178,null,"Killer Snakes / Serpientes asesinas",1,"Banded Sea Snake / Serpiente marina rayada","eBook",null,"978-1-4339-5626-3",2012,"August 2011",null,null,"Author","Juliet Figorito",null,null,16,17,"J",null,"Grade 2","Grade 1 - 3","The banded sea snake is one of the deadliest snakes on land and in the sea. In the water, it’s a swift serpentine swimmer that cunningly stalks its prey. On land, this snake hides among rocks and ground foliage to digest its food and lay eggs. In this bilingual book, English language learners will find English and authentic Latin-American Spanish text paired with colorful photographs of the banded sea snake in its natural habitat. A fact sheet is included to share quick facts for report writing and research.","Bilingual",22.6,16.95,"597.96","24 pp.",{"$f":"Table1[[#This Row],['# Books]]*Table1[[#This Row],[QTY]]","v":0},{"$f":"Table1[[#This Row],[QTY]]*Table1[[#This Row],[S&L Price]]","v":0}]
[null,178,null,"Killer Snakes / Serpientes asesinas",1,"Copperhead / Serpiente cabeza de cobre","Library Bound Book",null,"978-1-4339-5631-7",2012,"August 2011","Library","7.000 X 7.000","Author","Victoria Braidich",null,null,16,15,"I",null,"Grade 2","Grade 1 - 3","From Texas to Massachusetts, the deadly copperhead can be found hiding in dead trees, tall grass, under rocks, and sometimes in people’s backyards. This fascinating bilingual book lets readers know all about this venomous snake that is named for its reddish-brown head. Readers will be amazed by the stunning photographs of copperheads in their natural habitat. Fascinating facts translated into standard Latin American Spanish will make every reader a snake expert. ","Bilingual",22.6,16.95,"597.96",null,{"$f":"Table1[[#This Row],['# Books]]*Table1[[#This Row],[QTY]]","v":0},{"$f":"Table1[[#This Row],[QTY]]*Table1[[#This Row],[S&L Price]]","v":0}]
[null,178,null,"Killer Snakes / Serpientes asesinas",1,"Copperhead / Serpiente cabeza de cobre","eBook",null,"978-1-4339-6063-5",2012,"August 2011",null,null,"Author","Victoria Braidich",null,null,16,15,"I",null,"Grade 2","Grade 1 - 3","From Texas to Massachusetts, the deadly copperhead can be found hiding in dead trees, tall grass, under rocks, and sometimes in people’s backyards. This fascinating bilingual book lets readers know all about this venomous snake that is named for its reddish-brown head. Readers will be amazed by the stunning photographs of copperheads in their natural habitat. Fascinating facts translated into standard Latin American Spanish will make every reader a snake expert. ","Bilingual",22.6,16.95,"597.96",null,{"$f":"Table1[[#This Row],['# Books]]*Table1[[#This Row],[QTY]]","v":0},{"$f":"Table1[[#This Row],[QTY]]*Table1[[#This Row],[S&L Price]]","v":0}]
[null,178,null,"Killer Snakes / Serpientes asesinas",1,"Coral Snake / Serpiente coral","Library Bound Book",null,"978-1-4339-5636-2",2012,"August 2011","Library","7.000 X 7.000","Author","Jamie Honders",null,null,16,15,"I",null,"Grade 2","Grade 1 - 3","If the phrase “red on yellow will kill a fellow” means something to you, you’re in good standing; you know an important life-saving fact about deadly coral snakes. Many other snakes look much like them, but only the coral snake has red bands between yellow bands. Captivating text in English and Latin-American Spanish, paired with vibrant photographs of these colorful creatures, takes English language learners into the wild for a close-up view of this venomous serpent.","Bilingual",22.6,16.95,"597.96",null,{"$f":"Table1[[#This Row],['# Books]]*Table1[[#This Row],[QTY]]","v":0},{"$f":"Table1[[#This Row],[QTY]]*Table1[[#This Row],[S&L Price]]","v":0}]
[null,178,null,"Killer Snakes / Serpientes asesinas",1,"Coral Snake / Serpiente coral","eBook",null,"978-1-4339-5637-9",2012,"August 2011",null,null,"Author","Jamie Honders",null,null,16,15,"I",null,"Grade 2","Grade 1 - 3","If the phrase “red on yellow will kill a fellow” means something to you, you’re in good standing; you know an important life-saving fact about deadly coral snakes. Many other snakes look much like them, but only the coral snake has red bands between yellow bands. Captivating text in English and Latin-American Spanish, paired with vibrant photographs of these colorful creatures, takes English language learners into the wild for a close-up view of this venomous serpent.","Bilingual",22.6,16.95,"597.96",null,{"$f":"Table1[[#This Row],['# Books]]*Table1[[#This Row],[QTY]]","v":0},{"$f":"Table1[[#This Row],[QTY]]*Table1[[#This Row],[S&L Price]]","v":0}]
[null,178,null,"Killer Snakes / Serpientes asesinas",1,"Cottonmouth / Serpiente boca de algodón","Library Bound Book",null,"978-1-4339-5642-3",2012,"August 2011","Library","7.000 X 7.000","Author","Karlie Gambino",null,null,16,15,"I",null,"Grade 2","Grade 1 - 3","The cottonmouth snake gets its name from the cottony-white color inside its mouth. When angry or startled, the snake coils up, hisses, and shows this color to warn enemies to stay away. Those that don’t heed the warning put themselves in harm’s way of experiencing deadly venom. Exciting photographs enhance the English text that is translated into standard Latin-American Spanish, helping dual language learners to step into the world of the cottonmouth snake.","Bilingual",22.6,16.95,"597.96",null,{"$f":"Table1[[#This Row],['# Books]]*Table1[[#This Row],[QTY]]","v":0},{"$f":"Table1[[#This Row],[QTY]]*Table1[[#This Row],[S&L Price]]","v":0}]
[null,178,null,"Killer Snakes / Serpientes asesinas",1,"Cottonmouth / Serpiente boca de algodón","eBook",null,"978-1-4339-6064-2",2012,"August 2011",null,null,"Author","Karlie Gambino",null,null,16,15,"I",null,"Grade 2","Grade 1 - 3","The cottonmouth snake gets its name from the cottony-white color inside its mouth. When angry or startled, the snake coils up, hisses, and shows this color to warn enemies to stay away. Those that don’t heed the warning put themselves in harm’s way of experiencing deadly venom. Exciting photographs enhance the English text that is translated into standard Latin-American Spanish, helping dual language learners to step into the world of the cottonmouth snake.","Bilingual",22.6,16.95,"597.96",null,{"$f":"Table1[[#This Row],['# Books]]*Table1[[#This Row],[QTY]]","v":0},{"$f":"Table1[[#This Row],[QTY]]*Table1[[#This Row],[S&L Price]]","v":0}]
[null,178,null,"Killer Snakes / Serpientes asesinas",1,"Spitting Cobra / Cobra escupidora","Library Bound Book",null,"978-1-4339-5653-9",2012,"August 2011","Library","7.000 X 7.000","Author","Avery Willebrandt",null,null,16,15,"I",null,"Grade 2","Grade 1 - 3","Did you know that some cobras can spray their venom up to 10 feet and hit an enemy in the eyes? However, spitting cobras don’t actually spit their venom. They spray it out of tiny holes in their fangs. They use this unique talent to chase away much larger predators. English language learners will be amazed by the close-up photographs of one of the craziest snakes on Earth. Thrilling facts translated from English into standard Latin American Spanish make this a great bilingual resource.","Bilingual",22.6,16.95,"597.96",null,{"$f":"Table1[[#This Row],['# Books]]*Table1[[#This Row],[QTY]]","v":0},{"$f":"Table1[[#This Row],[QTY]]*Table1[[#This Row],[S&L Price]]","v":0}]
[null,178,null,"Killer Snakes / Serpientes asesinas",1,"Spitting Cobra / Cobra escupidora","eBook",null,"978-1-4339-6065-9",2012,"August 2011",null,null,"Author","Avery Willebrandt",null,null,16,15,"I",null,"Grade 2","Grade 1 - 3","Did you know that some cobras can spray their venom up to 10 feet and hit an enemy in the eyes? However, spitting cobras don’t actually spit their venom. They spray it out of tiny holes in their fangs. They use this unique talent to chase away much larger predators. English language learners will be amazed by the close-up photographs of one of the craziest snakes on Earth. Thrilling facts translated from English into standard Latin American Spanish make this a great bilingual resource.","Bilingual",22.6,16.95,"597.96",null,{"$f":"Table1[[#This Row],['# Books]]*Table1[[#This Row],[QTY]]","v":0},{"$f":"Table1[[#This Row],[QTY]]*Table1[[#This Row],[S&L Price]]","v":0}]

{"sheet":"Sheet2","index":1,"n_rows":27,"n_cols":10,"rows_kept":27,"cut":false,"hidden":false,"merged":[[21,5,21,6],[22,5,22,6],[24,5,24,6],[13,5,13,6],[15,1,15,2],[15,4,15,6],[16,5,16,6],[17,5,17,6],[18,5,18,6],[23,5,23,6],[12,5,12,6],[0,4,2,6],[4,1,4,2],[5,4,7,4],[10,5,10,6],[11,5,11,6]]}
[null,null,null,null,"Gareth Stevens Publishing\n111 East 14th Street, Suite 349 • New York, NY 10003\nPhone: 800-542-2595 • Fax: 877-542-2596\ngarethstevens.com"]
[]
[]
[]
[null,"BILL TO:",null,null,null,null,null,null,null,"Visa"]
[null,"School/Library",{"$f":"Sheet1!I8","v":0},null,"For Credit card orders \nselect one:",null,null,null,null,"Mastercard"]
[null,"Attention",{"$f":"Sheet1!I9","v":0},null,null,null,"Select Card Type",null,null,"AMEX"]
[null,"Address",{"$f":"Sheet1!I11","v":0}]
[null,"City",{"$f":"Sheet1!I12","v":0}]
[null,"State",{"$f":"Sheet1!I13","v":0}]
[null,"Zip",{"$f":"Sheet1!I14","v":0},null,"Card Number"]
[null,"Phone",{"$f":"Sheet1!I16","v":0},null,"Name on Card"]
[null,"Fax",{"$f":"Sheet1!I17","v":0},null,"Exp. Date"]
[null,"email",{"$f":"Sheet1!I18","v":0},null,"CVV Code"]
[]
[null,"SHIP TO:",null,null,"SUMMARY"]
[null,"School/Library",{"$f":"Sheet1!E8","v":0},null,"Book Subtotal",{"$f":"Sheet1!AA11","v":0}]
[null,"Attention",{"$f":"Sheet1!E9","v":0},null,"Library Processing",{"$f":"Sheet1!AA12","v":0}]
[null,"Address",{"$f":"Sheet1!E11","v":0},null,"S&H",{"$f":"Sheet1!AA13","v":0}]
[null,"City",{"$f":"Sheet1!E12","v":0}]
[null,"State",{"$f":"Sheet1!E13","v":0}]
[null,"Zip",{"$f":"Sheet1!E14","v":0},null,"Tax",{"$f":"Sheet1!AA14","v":0},null,"Notes"]
[null,"Phone",{"$f":"Sheet1!E16","v":0},null,"GRAND TOTAL",{"$f":"Sheet1!AA15","v":0}]
[null,"Fax",{"$f":"Sheet1!E17","v":0},null,"Total # of Books Ordered",{"$f":"Sheet1!U9+Sheet1!W9+Sheet1!Y9+Sheet1!AA9","v":0}]
[null,"email",{"$f":"Sheet1!E18","v":0},null,"Purchase Order #",{"$f":"Sheet1!E20","v":0}]
[]
["QTY","ISBN","Description",null,"Product Type","# of Books","© Date","Price (ea.)","Total"]